{"text_format":"3","workbook":"xlsx","n_sheets":7,"sheets":["Notes","Players","Sheet1","Score Cards","DRAW","Half Sheet","Sheet3"],"not_rendered":{"images":1,"macros":1,"defined_names":2},"read":"whole","date_system":"1900"}

{"sheet":"Notes","index":0,"n_rows":0,"n_cols":0,"rows_kept":0}

{"sheet":"Players","index":1,"n_rows":44,"n_cols":5,"rows_kept":44}
["Team No.","Lead","Second","Third","Skip"]
[]
[1]
[2]
[3]
[4]
[5]
[6]
[7]
[8]
[9]
[10]
[11]
[12]
[13]
[14]
[15]
[16]
[17]
[18]
[19]
[20]
[21]
[22]
[23]
[24]
[25]
[26]
[27]
[28]
[29]
[30]
[31]
[32]
[33]
[34]
[35]
[36]
[37]
[38]
[39]
[40]
[41]
[42]

{"sheet":"Sheet1","index":2,"n_rows":48,"n_cols":91,"rows_kept":48,"merged":[[0,1,0,88],[1,1,1,88],[2,5,2,7],[2,13,2,16],[2,20,2,25],[3,1,3,2],[3,3,3,8],[3,12,3,17],[3,21,3,26],[3,30,3,35],[3,39,3,44],[3,48,3,53],[3,57,3,62],[3,66,3,71],[3,82,4,87],[4,1,4,2],[4,75,4,81]]}
[null,"Tournament Name etc. Here."]
[null,"Other heading info"]
[{"$nulls":5},"No. of ends =",null,null,15,{"$nulls":4},"Points for a Win=",{"$nulls":3},1,null,null,"Points for Draw=",{"$nulls":5},0.5]
[{"$nulls":3},"ROUND 1",{"$nulls":8},"ROUND 2",{"$nulls":8},"ROUND 3",{"$nulls":8},"ROUND 4",{"$nulls":8},"ROUND 5",{"$nulls":8},"ROUND 6",{"$nulls":8},"ROUND 7",{"$nulls":8},"ROUND 8",{"$nulls":8},{"$f":"SUM(BX7:BX20)-SUM(BY7:BY20)","v":0},{"$f":"SUM(BY7:BY20)-SUM(BX7:BX20)","v":0},{"$f":"IF(MOD(SUM(BZ7:BZ20),$I$3)=0,0,MOD(SUM(BZ7:BZ20),$I$3))","v":0},{"$f":"SUM(CA7:CA20)","v":0},{"$nulls":3},"TOTALS"]
[{"$nulls":5},{"$f":"SUM(F7:F48)-SUM(G7:G48)","v":0},{"$f":"SUM(G7:G48)-SUM(F7:F48)","v":0},{"$f":"IF(MOD(SUM(H7:H48),$I$3)=0,0,MOD(SUM(H7:H48),$I$3))","v":0},{"$nulls":6},{"$f":"SUM(O7:O48)-SUM(P7:P48)","v":0},{"$f":"SUM(P7:P48)-SUM(O7:O48)","v":0},{"$f":"IF(MOD(SUM(Q7:Q48),$I$3)=0,0,MOD(SUM(Q7:Q48),$I$3))","v":0},{"$nulls":6},{"$f":"SUM(X7:X48)-SUM(Y7:Y48)","v":0},{"$f":"SUM(Y7:Y48)-SUM(X7:X48)","v":0},{"$f":"IF(MOD(SUM(Z7:Z48),$I$3)=0,0,MOD(SUM(Z7:Z48),$I$3))","v":0},{"$nulls":6},{"$f":"SUM(AG7:AG48)-SUM(AH7:AH48)","v":0},{"$f":"SUM(AH7:AH48)-SUM(AG7:AG48)","v":0},{"$f":"IF(MOD(SUM(AI7:AI48),$I$3)=0,0,MOD(SUM(AI7:AI48),$I$3))","v":0},{"$nulls":6},{"$f":"SUM(AP7:AP48)-SUM(AQ7:AQ48)","v":0},{"$f":"SUM(AQ7:AQ48)-SUM(AP7:AP48)","v":0},{"$f":"IF(MOD(SUM(AR7:AR48),$I$3)=0,0,MOD(SUM(AR7:AR48),$I$3))","v":0},{"$nulls":6},{"$f":"SUM(AY7:AY48)-SUM(AZ7:AZ48)","v":0},{"$f":"SUM(AZ7:AZ48)-SUM(AY7:AY48)","v":0},{"$f":"IF(MOD(SUM(BA7:BA48),$I$3)=0,0,MOD(SUM(BA7:BA48),$I$3))","v":0},{"$nulls":6},{"$f":"SUM(BH7:BH48)-SUM(BI7:BI48)","v":0},{"$f":"SUM(BI7:BI48)-SUM(BH7:BH48)","v":0},{"$f":"IF(MOD(SUM(BJ7:BJ48),$I$3)=0,0,MOD(SUM(BJ7:BJ48),$I$3))","v":0},{"$nulls":6},{"$f":"SUM(BQ7:BQ48)-SUM(BR7:BR48)","v":0},{"$f":"SUM(BR7:BR48)-SUM(BQ7:BQ48)","v":0},{"$f":"IF(MOD(SUM(BS7:BS48),$I$3)=0,0,MOD(SUM(BS7:BS48),$I$3))","v":0},{"$nulls":4},"ROUND 9",{"$nulls":14},"Total"]
[null,"Team","Skips Name","V's","Rink","F","A","Ends","M'gin",null,null,"W/D/L","V's","Rink","F","A","Ends","M'gin",null,null,"W/D/L","V's","Rink","F","A","Ends","M'gin",null,null,"W/D/L","V's","Rink","F","A","Ends","M'gin",null,null,"W/D/L","V's","Rink","F","A","Ends","M'gin",null,null,"W/D/L","V's","Rink","F","A","Ends","M'gin",null,null,"W/D/L","V's","Rink","F","A","Ends","M'gin",null,null,"W/D/L","V's","Rink","F","A","Ends","M'gin",null,null,"W/D/L","F","A","Ends","M'gin",null,null,"W/D/L","Wins","M'gin",null,null,"Ends","Points","Rank",null,"Margins"]
[null,1,null,2,1,{"$nulls":3},{"$f":"IF(L7=\"D\",\"D\",IF(L7=\"W\",J7,IF(L7=\"L\",J7,0)))","v":0},{"$f":"IF(F7+G7=0,0,IF(F7+G7>0.1,F7-G7,0))","v":0},{"$f":"IF(L7=\"W\",$R$3,IF(L7=\"D\",$AA$3,0))","v":{"v":0,"d":"0.0"}},{"$f":"IF(F7>G7,\"W\",IF(F7<G7,\"L\",IF(F7=0,\"\",IF(F7=G7,\"D\",0))))","v":""},3,13,{"$nulls":3},{"$f":"IF(U7=\"D\",\"D\",IF(U7=\"W\",S7,IF(U7=\"L\",S7,0)))","v":0},{"$f":"IF(O7+P7=0,0,IF(O7+P7>0.1,O7-P7,0))","v":0},{"$f":"IF(U7=\"W\",$R$3,IF(U7=\"D\",$AA$3,0))","v":{"v":0,"d":"0.0"}},{"$f":"IF(O7>P7,\"W\",IF(O7<P7,\"L\",IF(O7=0,\"\",IF(O7=P7,\"D\",0))))","v":""},5,19,{"$nulls":3},{"$f":"IF(AD7=\"D\",\"D\",IF(AD7=\"W\",AB7,IF(AD7=\"L\",AB7,0)))","v":0},{"$f":"IF(X7+Y7=0,0,IF(X7+Y7>0.1,X7-Y7,0))","v":0},{"$f":"IF(AD7=\"W\",$R$3,IF(AD7=\"D\",$AA$3,0))","v":{"v":0,"d":"0.0"}},{"$f":"IF(X7>Y7,\"W\",IF(X7<Y7,\"L\",IF(X7=0,\"\",IF(X7=Y7,\"D\",0))))","v":""},7,2,{"$nulls":3},{"$f":"IF(AM7=\"D\",\"D\",IF(AM7=\"W\",AK7,IF(AM7=\"L\",AK7,0)))","v":0},{"$f":"IF(AG7+AH7=0,0,IF(AG7+AH7>0.1,AG7-AH7,0))","v":0},{"$f":"IF(AM7=\"W\",$R$3,IF(AM7=\"D\",$AA$3,0))","v":{"v":0,"d":"0.0"}},{"$f":"IF(AG7>AH7,\"W\",IF(AG7<AH7,\"L\",IF(AG7=0,\"\",IF(AG7=AH7,\"D\",0))))","v":""},14,14,{"$nulls":3},{"$f":"IF(AV7=\"D\",\"D\",IF(AV7=\"W\",AT7,IF(AV7=\"L\",AT7,0)))","v":0},{"$f":"IF(AP7+AQ7=0,0,IF(AP7+AQ7>0.1,AP7-AQ7,0))","v":0},{"$f":"IF(AV7=\"W\",$R$3,IF(AV7=\"D\",$AA$3,0))","v":{"v":0,"d":"0.0"}},{"$f":"IF(AP7>AQ7,\"W\",IF(AP7<AQ7,\"L\",IF(AP7=0,\"\",IF(AP7=AQ7,\"D\",0))))","v":""},12,17,{"$nulls":3},{"$f":"IF(BE7=\"D\",\"D\",IF(BE7=\"W\",BC7,IF(BE7=\"L\",BC7,0)))","v":0},{"$f":"IF(AY7+AZ7=0,0,IF(AY7+AZ7>0.1,AY7-AZ7,0))","v":0},{"$f":"IF(BE7=\"W\",$R$3,IF(BE7=\"D\",$AA$3,0))","v":{"v":0,"d":"0.0"}},{"$f":"IF(AY7>AZ7,\"W\",IF(AY7<AZ7,\"L\",IF(AY7=0,\"\",IF(AY7=AZ7,\"D\",0))))","v":""},13,5,{"$nulls":3},{"$f":"IF(BN7=\"D\",\"D\",IF(BN7=\"W\",BL7,IF(BN7=\"L\",BL7,0)))","v":0},{"$f":"IF(BH7+BI7=0,0,IF(BH7+BI7>0.1,BH7-BI7,0))","v":0},{"$f":"IF(BN7=\"W\",$R$3,IF(BN7=\"D\",$AA$3,0))","v":{"v":0,"d":"0.0"}},{"$f":"IF(BH7>BI7,\"W\",IF(BH7<BI7,\"L\",IF(BH7=0,\"\",IF(BH7=BI7,\"D\",0))))","v":""},8,8,{"$nulls":3},{"$f":"IF(BW7=\"D\",\"D\",IF(BW7=\"W\",BU7,IF(BW7=\"L\",BU7,0)))","v":0},{"$f":"IF(BQ7+BR7=0,0,IF(BQ7+BR7>0.1,BQ7-BR7,0))","v":0},{"$f":"IF(BW7=\"W\",$R$3,IF(BW7=\"D\",$AA$3,0))","v":{"v":0,"d":"0.0"}},{"$f":"IF(BQ7>BR7,\"W\",IF(BQ7<BR7,\"L\",IF(BQ7=0,\"\",IF(BQ7=BR7,\"D\",0))))","v":""},{"$nulls":3},{"$f":"IF(CD7=\"D\",\"D\",IF(CD7=\"W\",CB7,IF(CD7=\"L\",CB7,0)))","v":0},{"$f":"IF(BX7+BY7=0,0,IF(BX7+BY7>0.1,BX7-BY7,0))","v":0},{"$f":"IF(CD7=\"W\",1,IF(CD7=\"D\",0.5,0))","v":{"v":0,"d":"0.0"}},{"$f":"IF(BX7>BY7,\"W\",IF(BX7<BY7,\"L\",IF(BX7=0,\"\",IF(BX7=BY7,\"D\",0))))","v":""},{"$f":"K7+T7+AC7+AL7+AU7+BD7+BM7+BV7+CC7","v":0},{"$f":"F7-G7+O7-P7+X7-Y7+AG7-AH7+AP7-AQ7+AY7-AZ7+BH7-BI7+BQ7-BR7","v":0},{"$f":"(CE7*1000000)+(CF7*100)+CI7","v":0},{"$f":"(CF7*10000)+(CF7*1000)+CI7","v":0},{"$f":"H7+Q7+Z7+AI7+AR7+BA7+BJ7+BS7+BZ7","v":0},{"$f":"(CE7*$R$3)+CI7","v":0},{"$f":"IF($CG$7:$CG$48=0,\"\",RANK(CG7,$CG$7:$CG$48))","v":""},null,{"$f":"J7+S7+AB7+AK7+AT7+BC7+BL7+BU7+CB7","v":0}]
[null,2,null,1,1,{"$nulls":3},0,0,{"v":0,"d":"0.0"},"",4,12,{"$nulls":3},0,0,{"v":0,"d":"0.0"},"",8,16,{"$nulls":3},0,0,{"v":0,"d":"0.0"},"",12,5,{"$nulls":3},0,0,{"v":0,"d":"0.0"},"",13,8,{"$nulls":3},0,0,{"v":0,"d":"0.0"},"",14,18,{"$nulls":3},0,0,{"v":0,"d":"0.0"},"",9,2,{"$nulls":3},0,0,{"v":0,"d":"0.0"},"",5,9,{"$nulls":3},0,0,{"v":0,"d":"0.0"},"",{"$nulls":3},0,0,{"v":0,"d":"0.0"},"",0,0,0,0,0,0,"",null,0]
[null,3,null,14,2,{"$nulls":3},0,0,{"v":0,"d":"0.0"},"",1,13,{"$nulls":3},0,0,{"v":0,"d":"0.0"},"",7,15,{"$nulls":3},0,0,{"v":0,"d":"0.0"},"",11,4,{"$nulls":3},0,0,{"v":0,"d":"0.0"},"",12,10,{"$nulls":3},0,0,{"v":0,"d":"0.0"},"",13,16,{"$nulls":3},0,0,{"v":0,"d":"0.0"},"",10,1,{"$nulls":3},0,0,{"v":0,"d":"0.0"},"",4,11,{"$nulls":3},0,0,{"v":0,"d":"0.0"},"",{"$nulls":3},0,0,{"v":0,"d":"0.0"},"",0,0,0,0,0,0,"",null,0]
[null,4,null,13,3,{"$nulls":3},0,0,{"v":0,"d":"0.0"},"",2,12,{"$nulls":3},0,0,{"v":0,"d":"0.0"},"",6,18,{"$nulls":3},0,0,{"v":0,"d":"0.0"},"",10,7,{"$nulls":3},0,0,{"v":0,"d":"0.0"},"",11,9,{"$nulls":3},0,0,{"v":0,"d":"0.0"},"",8,20,{"$nulls":3},0,0,{"v":0,"d":"0.0"},"",12,7,{"$nulls":3},0,0,{"v":0,"d":"0.0"},"",3,11,{"$nulls":3},0,0,{"v":0,"d":"0.0"},"",{"$nulls":3},0,0,{"v":0,"d":"0.0"},"",0,0,0,0,0,0,"",null,0]
[null,5,null,12,4,{"$nulls":3},0,0,{"v":0,"d":"0.0"},"",14,8,{"$nulls":3},0,0,{"v":0,"d":"0.0"},"",1,19,{"$nulls":3},0,0,{"v":0,"d":"0.0"},"",9,3,{"$nulls":3},0,0,{"v":0,"d":"0.0"},"",10,12,{"$nulls":3},0,0,{"v":0,"d":"0.0"},"",11,15,{"$nulls":3},0,0,{"v":0,"d":"0.0"},"",8,6,{"$nulls":3},0,0,{"v":0,"d":"0.0"},"",2,9,{"$nulls":3},0,0,{"v":0,"d":"0.0"},"",{"$nulls":3},0,0,{"v":0,"d":"0.0"},"",0,0,0,0,0,0,"",null,0]
[null,6,null,11,5,{"$nulls":3},0,0,{"v":0,"d":"0.0"},"",13,14,{"$nulls":3},0,0,{"v":0,"d":"0.0"},"",4,18,{"$nulls":3},0,0,{"v":0,"d":"0.0"},"",8,1,{"$nulls":3},0,0,{"v":0,"d":"0.0"},"",9,13,{"$nulls":3},0,0,{"v":0,"d":"0.0"},"",10,19,{"$nulls":3},0,0,{"v":0,"d":"0.0"},"",7,4,{"$nulls":3},0,0,{"v":0,"d":"0.0"},"",14,14,{"$nulls":3},0,0,{"v":0,"d":"0.0"},"",{"$nulls":3},0,0,{"v":0,"d":"0.0"},"",0,0,0,0,0,0,"",null,0]
[null,7,null,10,6,{"$nulls":3},0,0,{"v":0,"d":"0.0"},"",12,9,{"$nulls":3},0,0,{"v":0,"d":"0.0"},"",3,15,{"$nulls":3},0,0,{"v":0,"d":"0.0"},"",1,2,{"$nulls":3},0,0,{"v":0,"d":"0.0"},"",8,11,{"$nulls":3},0,0,{"v":0,"d":"0.0"},"",9,21,{"$nulls":3},0,0,{"v":0,"d":"0.0"},"",6,4,{"$nulls":3},0,0,{"v":0,"d":"0.0"},"",13,10,{"$nulls":3},0,0,{"v":0,"d":"0.0"},"",{"$nulls":3},0,0,{"v":0,"d":"0.0"},"",0,0,0,0,0,0,"",null,0]
[null,8,null,9,7,{"$nulls":3},0,0,{"v":0,"d":"0.0"},"",11,10,{"$nulls":3},0,0,{"v":0,"d":"0.0"},"",2,16,{"$nulls":3},0,0,{"v":0,"d":"0.0"},"",6,1,{"$nulls":3},0,0,{"v":0,"d":"0.0"},"",7,11,{"$nulls":3},0,0,{"v":0,"d":"0.0"},"",4,20,{"$nulls":3},0,0,{"v":0,"d":"0.0"},"",5,6,{"$nulls":3},0,0,{"v":0,"d":"0.0"},"",1,8,{"$nulls":3},0,0,{"v":0,"d":"0.0"},"",{"$nulls":3},0,0,{"v":0,"d":"0.0"},"",0,0,0,0,0,0,"",null,0]
[null,9,null,8,7,{"$nulls":3},0,0,{"v":0,"d":"0.0"},"",10,11,{"$nulls":3},0,0,{"v":0,"d":"0.0"},"",14,17,{"$nulls":3},0,0,{"v":0,"d":"0.0"},"",5,3,{"$nulls":3},0,0,{"v":0,"d":"0.0"},"",6,13,{"$nulls":3},0,0,{"v":0,"d":"0.0"},"",7,21,{"$nulls":3},0,0,{"v":0,"d":"0.0"},"",2,2,{"$nulls":3},0,0,{"v":0,"d":"0.0"},"",11,12,{"$nulls":3},0,0,{"v":0,"d":"0.0"},"",{"$nulls":3},0,0,{"v":0,"d":"0.0"},"",0,0,0,0,0,0,"",null,0]
[null,10,null,7,6,{"$nulls":3},0,0,{"v":0,"d":"0.0"},"",9,11,{"$nulls":3},0,0,{"v":0,"d":"0.0"},"",13,20,{"$nulls":3},0,0,{"v":0,"d":"0.0"},"",4,7,{"$nulls":3},0,0,{"v":0,"d":"0.0"},"",5,12,{"$nulls":3},0,0,{"v":0,"d":"0.0"},"",6,19,{"$nulls":3},0,0,{"v":0,"d":"0.0"},"",3,1,{"$nulls":3},0,0,{"v":0,"d":"0.0"},"",12,13,{"$nulls":3},0,0,{"v":0,"d":"0.0"},"",{"$nulls":3},0,0,{"v":0,"d":"0.0"},"",0,0,0,0,0,0,"",null,0]
[null,11,null,6,5,{"$nulls":3},0,0,{"v":0,"d":"0.0"},"",8,10,{"$nulls":3},0,0,{"v":0,"d":"0.0"},"",12,21,{"$nulls":3},0,0,{"v":0,"d":"0.0"},"",3,4,{"$nulls":3},0,0,{"v":0,"d":"0.0"},"",4,9,{"$nulls":3},0,0,{"v":0,"d":"0.0"},"",5,15,{"$nulls":3},0,0,{"v":0,"d":"0.0"},"",14,3,{"$nulls":3},0,0,{"v":0,"d":"0.0"},"",9,12,{"$nulls":3},0,0,{"v":0,"d":"0.0"},"",{"$nulls":3},0,0,{"v":0,"d":"0.0"},"",0,0,0,0,0,0,"",null,0]
[null,12,null,5,4,{"$nulls":3},0,0,{"v":0,"d":"0.0"},"",7,9,{"$nulls":3},0,0,{"v":0,"d":"0.0"},"",11,21,{"$nulls":3},0,0,{"v":0,"d":"0.0"},"",2,5,{"$nulls":3},0,0,{"v":0,"d":"0.0"},"",3,10,{"$nulls":3},0,0,{"v":0,"d":"0.0"},"",1,17,{"$nulls":3},0,0,{"v":0,"d":"0.0"},"",4,7,{"$nulls":3},0,0,{"v":0,"d":"0.0"},"",10,13,{"$nulls":3},0,0,{"v":0,"d":"0.0"},"",{"$nulls":3},0,0,{"v":0,"d":"0.0"},"",0,0,0,0,0,0,"",null,0]
[null,13,null,4,3,{"$nulls":3},0,0,{"v":0,"d":"0.0"},"",6,14,{"$nulls":3},0,0,{"v":0,"d":"0.0"},"",10,20,{"$nulls":3},0,0,{"v":0,"d":"0.0"},"",14,6,{"$nulls":3},0,0,{"v":0,"d":"0.0"},"",2,8,{"$nulls":3},0,0,{"v":0,"d":"0.0"},"",3,16,{"$nulls":3},0,0,{"v":0,"d":"0.0"},"",1,5,{"$nulls":3},0,0,{"v":0,"d":"0.0"},"",7,10,{"$nulls":3},0,0,{"v":0,"d":"0.0"},"",{"$nulls":3},0,0,{"v":0,"d":"0.0"},"",0,0,0,0,0,0,"",null,0]
[null,14,null,3,2,{"$nulls":3},0,0,{"v":0,"d":"0.0"},"",5,8,{"$nulls":3},0,0,{"v":0,"d":"0.0"},"",9,17,{"$nulls":3},0,0,{"v":0,"d":"0.0"},"",13,6,{"$nulls":3},0,0,{"v":0,"d":"0.0"},"",1,14,{"$nulls":3},0,0,{"v":0,"d":"0.0"},"",2,18,{"$nulls":3},0,0,{"v":0,"d":"0.0"},"",11,3,{"$nulls":3},0,0,{"v":0,"d":"0.0"},"",6,14,{"$nulls":3},0,0,{"v":0,"d":"0.0"},"",{"$nulls":3},0,0,{"v":0,"d":"0.0"},"",0,0,0,0,0,0,"",null,0]
[null,15,null,16,8,{"$nulls":3},0,0,{"v":0,"d":"0.0"},"",17,20,{"$nulls":3},0,0,{"v":0,"d":"0.0"},"",19,5,{"$nulls":3},0,0,{"v":0,"d":"0.0"},"",21,9,{"$nulls":3},0,0,{"v":0,"d":"0.0"},"",28,21,{"$nulls":3},0,0,{"v":0,"d":"0.0"},"",26,3,{"$nulls":3},0,0,{"v":0,"d":"0.0"},"",27,12,{"$nulls":3},0,0,{"v":0,"d":"0.0"},"",22,15,{"$nulls":3},0,0,{"v":0,"d":"0.0"},"",{"$nulls":3},0,0,{"v":0,"d":"0.0"},"",0,0,0,0,0,0,""]
[null,16,null,15,8,{"$nulls":3},0,0,{"v":0,"d":"0.0"},"",18,19,{"$nulls":3},0,0,{"v":0,"d":"0.0"},"",22,2,{"$nulls":3},0,0,{"v":0,"d":"0.0"},"",26,12,{"$nulls":3},0,0,{"v":0,"d":"0.0"},"",27,15,{"$nulls":3},0,0,{"v":0,"d":"0.0"},"",28,4,{"$nulls":3},0,0,{"v":0,"d":"0.0"},"",23,9,{"$nulls":3},0,0,{"v":0,"d":"0.0"},"",19,16,{"$nulls":3},0,0,{"v":0,"d":"0.0"},"",{"$nulls":3},0,0,{"v":0,"d":"0.0"},"",0,0,0,0,0,0,""]
[null,17,null,28,9,{"$nulls":3},0,0,{"v":0,"d":"0.0"},"",15,20,{"$nulls":3},0,0,{"v":0,"d":"0.0"},"",21,1,{"$nulls":3},0,0,{"v":0,"d":"0.0"},"",25,11,{"$nulls":3},0,0,{"v":0,"d":"0.0"},"",26,17,{"$nulls":3},0,0,{"v":0,"d":"0.0"},"",27,2,{"$nulls":3},0,0,{"v":0,"d":"0.0"},"",24,8,{"$nulls":3},0,0,{"v":0,"d":"0.0"},"",18,18,{"$nulls":3},0,0,{"v":0,"d":"0.0"},"",{"$nulls":3},0,0,{"v":0,"d":"0.0"},"",0,0,0,0,0,0,""]
[null,18,null,27,10,{"$nulls":3},0,0,{"v":0,"d":"0.0"},"",16,19,{"$nulls":3},0,0,{"v":0,"d":"0.0"},"",20,4,{"$nulls":3},0,0,{"v":0,"d":"0.0"},"",24,14,{"$nulls":3},0,0,{"v":0,"d":"0.0"},"",25,16,{"$nulls":3},0,0,{"v":0,"d":"0.0"},"",22,6,{"$nulls":3},0,0,{"v":0,"d":"0.0"},"",26,14,{"$nulls":3},0,0,{"v":0,"d":"0.0"},"",17,18,{"$nulls":3},0,0,{"v":0,"d":"0.0"},"",{"$nulls":3},0,0,{"v":0,"d":"0.0"},"",0,0,0,0,0,0,""]
[null,19,null,26,11,{"$nulls":3},0,0,{"v":0,"d":"0.0"},"",28,15,{"$nulls":3},0,0,{"v":0,"d":"0.0"},"",15,5,{"$nulls":3},0,0,{"v":0,"d":"0.0"},"",23,10,{"$nulls":3},0,0,{"v":0,"d":"0.0"},"",24,19,{"$nulls":3},0,0,{"v":0,"d":"0.0"},"",25,1,{"$nulls":3},0,0,{"v":0,"d":"0.0"},"",22,13,{"$nulls":3},0,0,{"v":0,"d":"0.0"},"",16,16,{"$nulls":3},0,0,{"v":0,"d":"0.0"},"",{"$nulls":3},0,0,{"v":0,"d":"0.0"},"",0,0,0,0,0,0,""]
[null,20,null,25,12,{"$nulls":3},0,0,{"v":0,"d":"0.0"},"",27,21,{"$nulls":3},0,0,{"v":0,"d":"0.0"},"",18,4,{"$nulls":3},0,0,{"v":0,"d":"0.0"},"",22,8,{"$nulls":3},0,0,{"v":0,"d":"0.0"},"",23,20,{"$nulls":3},0,0,{"v":0,"d":"0.0"},"",24,5,{"$nulls":3},0,0,{"v":0,"d":"0.0"},"",21,11,{"$nulls":3},0,0,{"v":0,"d":"0.0"},"",28,21,{"$nulls":3},0,0,{"v":0,"d":"0.0"},"",{"$nulls":3},0,0,{"v":0,"d":"0.0"},"",0,0,0,0,0,0,""]
[null,21,null,24,13,{"$nulls":3},0,0,{"v":0,"d":"0.0"},"",26,16,{"$nulls":3},0,0,{"v":0,"d":"0.0"},"",17,1,{"$nulls":3},0,0,{"v":0,"d":"0.0"},"",15,9,{"$nulls":3},0,0,{"v":0,"d":"0.0"},"",22,18,{"$nulls":3},0,0,{"v":0,"d":"0.0"},"",23,7,{"$nulls":3},0,0,{"v":0,"d":"0.0"},"",20,11,{"$nulls":3},0,0,{"v":0,"d":"0.0"},"",27,17,{"$nulls":3},0,0,{"v":0,"d":"0.0"},"",{"$nulls":3},0,0,{"v":0,"d":"0.0"},"",0,0,0,0,0,0,""]
[null,22,null,23,14,{"$nulls":3},0,0,{"v":0,"d":"0.0"},"",25,17,{"$nulls":3},0,0,{"v":0,"d":"0.0"},"",16,2,{"$nulls":3},0,0,{"v":0,"d":"0.0"},"",20,8,{"$nulls":3},0,0,{"v":0,"d":"0.0"},"",21,18,{"$nulls":3},0,0,{"v":0,"d":"0.0"},"",18,6,{"$nulls":3},0,0,{"v":0,"d":"0.0"},"",19,13,{"$nulls":3},0,0,{"v":0,"d":"0.0"},"",15,15,{"$nulls":3},0,0,{"v":0,"d":"0.0"},"",{"$nulls":3},0,0,{"v":0,"d":"0.0"},"",0,0,0,0,0,0,""]
[null,23,null,22,14,{"$nulls":3},0,0,{"v":0,"d":"0.0"},"",24,18,{"$nulls":3},0,0,{"v":0,"d":"0.0"},"",28,3,{"$nulls":3},0,0,{"v":0,"d":"0.0"},"",19,10,{"$nulls":3},0,0,{"v":0,"d":"0.0"},"",20,20,{"$nulls":3},0,0,{"v":0,"d":"0.0"},"",21,7,{"$nulls":3},0,0,{"v":0,"d":"0.0"},"",16,9,{"$nulls":3},0,0,{"v":0,"d":"0.0"},"",25,19,{"$nulls":3},0,0,{"v":0,"d":"0.0"},"",{"$nulls":3},0,0,{"v":0,"d":"0.0"},"",0,0,0,0,0,0,""]
[null,24,null,21,13,{"$nulls":3},0,0,{"v":0,"d":"0.0"},"",23,18,{"$nulls":3},0,0,{"v":0,"d":"0.0"},"",27,6,{"$nulls":3},0,0,{"v":0,"d":"0.0"},"",18,14,{"$nulls":3},0,0,{"v":0,"d":"0.0"},"",19,19,{"$nulls":3},0,0,{"v":0,"d":"0.0"},"",20,5,{"$nulls":3},0,0,{"v":0,"d":"0.0"},"",17,8,{"$nulls":3},0,0,{"v":0,"d":"0.0"},"",26,20,{"$nulls":3},0,0,{"v":0,"d":"0.0"},"",{"$nulls":3},0,0,{"v":0,"d":"0.0"},"",0,0,0,0,0,0,""]
[null,25,null,20,12,{"$nulls":3},0,0,{"v":0,"d":"0.0"},"",22,17,{"$nulls":3},0,0,{"v":0,"d":"0.0"},"",26,7,{"$nulls":3},0,0,{"v":0,"d":"0.0"},"",17,11,{"$nulls":3},0,0,{"v":0,"d":"0.0"},"",18,16,{"$nulls":3},0,0,{"v":0,"d":"0.0"},"",19,1,{"$nulls":3},0,0,{"v":0,"d":"0.0"},"",28,10,{"$nulls":3},0,0,{"v":0,"d":"0.0"},"",23,19,{"$nulls":3},0,0,{"v":0,"d":"0.0"},"",{"$nulls":3},0,0,{"v":0,"d":"0.0"},"",0,0,0,0,0,0,""]
[null,26,null,19,11,{"$nulls":3},0,0,{"v":0,"d":"0.0"},"",21,16,{"$nulls":3},0,0,{"v":0,"d":"0.0"},"",25,7,{"$nulls":3},0,0,{"v":0,"d":"0.0"},"",16,12,{"$nulls":3},0,0,{"v":0,"d":"0.0"},"",17,17,{"$nulls":3},0,0,{"v":0,"d":"0.0"},"",15,3,{"$nulls":3},0,0,{"v":0,"d":"0.0"},"",18,14,{"$nulls":3},0,0,{"v":0,"d":"0.0"},"",24,20,{"$nulls":3},0,0,{"v":0,"d":"0.0"},"",{"$nulls":3},0,0,{"v":0,"d":"0.0"},"",0,0,0,0,0,0,""]
[null,27,null,18,10,{"$nulls":3},0,0,{"v":0,"d":"0.0"},"",20,21,{"$nulls":3},0,0,{"v":0,"d":"0.0"},"",24,6,{"$nulls":3},0,0,{"v":0,"d":"0.0"},"",28,13,{"$nulls":3},0,0,{"v":0,"d":"0.0"},"",16,15,{"$nulls":3},0,0,{"v":0,"d":"0.0"},"",17,2,{"$nulls":3},0,0,{"v":0,"d":"0.0"},"",15,12,{"$nulls":3},0,0,{"v":0,"d":"0.0"},"",21,17,{"$nulls":3},0,0,{"v":0,"d":"0.0"},"",{"$nulls":3},0,0,{"v":0,"d":"0.0"},"",0,0,0,0,0,0,""]
[null,28,null,17,9,{"$nulls":3},0,0,{"v":0,"d":"0.0"},"",19,15,{"$nulls":3},0,0,{"v":0,"d":"0.0"},"",23,3,{"$nulls":3},0,0,{"v":0,"d":"0.0"},"",27,13,{"$nulls":3},0,0,{"v":0,"d":"0.0"},"",15,21,{"$nulls":3},0,0,{"v":0,"d":"0.0"},"",16,4,{"$nulls":3},0,0,{"v":0,"d":"0.0"},"",25,10,{"$nulls":3},0,0,{"v":0,"d":"0.0"},"",20,21,{"$nulls":3},0,0,{"v":0,"d":"0.0"},"",{"$nulls":3},0,0,{"v":0,"d":"0.0"},"",0,0,0,0,0,0,""]
[null,29,null,30,15,{"$nulls":3},0,0,{"v":0,"d":"0.0"},"",31,6,{"$nulls":3},0,0,{"v":0,"d":"0.0"},"",33,12,{"$nulls":3},0,0,{"v":0,"d":"0.0"},"",35,16,{"$nulls":3},0,0,{"v":0,"d":"0.0"},"",42,7,{"$nulls":3},0,0,{"v":0,"d":"0.0"},"",40,10,{"$nulls":3},0,0,{"v":0,"d":"0.0"},"",41,19,{"$nulls":3},0,0,{"v":0,"d":"0.0"},"",36,1,{"$nulls":3},0,0,{"v":0,"d":"0.0"},"",{"$nulls":3},0,0,{"v":0,"d":"0.0"},"",0,0,0,0,0,0,""]
[null,30,null,29,15,{"$nulls":3},0,0,{"v":0,"d":"0.0"},"",32,5,{"$nulls":3},0,0,{"v":0,"d":"0.0"},"",36,9,{"$nulls":3},0,0,{"v":0,"d":"0.0"},"",40,19,{"$nulls":3},0,0,{"v":0,"d":"0.0"},"",41,1,{"$nulls":3},0,0,{"v":0,"d":"0.0"},"",42,11,{"$nulls":3},0,0,{"v":0,"d":"0.0"},"",37,16,{"$nulls":3},0,0,{"v":0,"d":"0.0"},"",33,2,{"$nulls":3},0,0,{"v":0,"d":"0.0"},"",{"$nulls":3},0,0,{"v":0,"d":"0.0"},"",0,0,0,0,0,0,""]
[null,31,null,42,16,{"$nulls":3},0,0,{"v":0,"d":"0.0"},"",29,6,{"$nulls":3},0,0,{"v":0,"d":"0.0"},"",35,8,{"$nulls":3},0,0,{"v":0,"d":"0.0"},"",39,18,{"$nulls":3},0,0,{"v":0,"d":"0.0"},"",40,3,{"$nulls":3},0,0,{"v":0,"d":"0.0"},"",41,9,{"$nulls":3},0,0,{"v":0,"d":"0.0"},"",38,15,{"$nulls":3},0,0,{"v":0,"d":"0.0"},"",32,4,{"$nulls":3},0,0,{"v":0,"d":"0.0"},"",{"$nulls":3},0,0,{"v":0,"d":"0.0"},"",0,0,0,0,0,0,""]
[null,32,null,41,17,{"$nulls":3},0,0,{"v":0,"d":"0.0"},"",30,5,{"$nulls":3},0,0,{"v":0,"d":"0.0"},"",34,11,{"$nulls":3},0,0,{"v":0,"d":"0.0"},"",38,21,{"$nulls":3},0,0,{"v":0,"d":"0.0"},"",39,2,{"$nulls":3},0,0,{"v":0,"d":"0.0"},"",36,13,{"$nulls":3},0,0,{"v":0,"d":"0.0"},"",40,21,{"$nulls":3},0,0,{"v":0,"d":"0.0"},"",31,4,{"$nulls":3},0,0,{"v":0,"d":"0.0"},"",{"$nulls":3},0,0,{"v":0,"d":"0.0"},"",0,0,0,0,0,0,""]
[null,33,null,40,18,{"$nulls":3},0,0,{"v":0,"d":"0.0"},"",42,1,{"$nulls":3},0,0,{"v":0,"d":"0.0"},"",29,12,{"$nulls":3},0,0,{"v":0,"d":"0.0"},"",37,17,{"$nulls":3},0,0,{"v":0,"d":"0.0"},"",38,5,{"$nulls":3},0,0,{"v":0,"d":"0.0"},"",39,8,{"$nulls":3},0,0,{"v":0,"d":"0.0"},"",36,20,{"$nulls":3},0,0,{"v":0,"d":"0.0"},"",30,2,{"$nulls":3},0,0,{"v":0,"d":"0.0"},"",{"$nulls":3},0,0,{"v":0,"d":"0.0"},"",0,0,0,0,0,0,""]
[null,34,null,39,19,{"$nulls":3},0,0,{"v":0,"d":"0.0"},"",41,7,{"$nulls":3},0,0,{"v":0,"d":"0.0"},"",32,11,{"$nulls":3},0,0,{"v":0,"d":"0.0"},"",36,15,{"$nulls":3},0,0,{"v":0,"d":"0.0"},"",37,6,{"$nulls":3},0,0,{"v":0,"d":"0.0"},"",38,12,{"$nulls":3},0,0,{"v":0,"d":"0.0"},"",35,18,{"$nulls":3},0,0,{"v":0,"d":"0.0"},"",42,7,{"$nulls":3},0,0,{"v":0,"d":"0.0"},"",{"$nulls":3},0,0,{"v":0,"d":"0.0"},"",0,0,0,0,0,0,""]
[null,35,null,38,20,{"$nulls":3},0,0,{"v":0,"d":"0.0"},"",40,2,{"$nulls":3},0,0,{"v":0,"d":"0.0"},"",31,8,{"$nulls":3},0,0,{"v":0,"d":"0.0"},"",29,16,{"$nulls":3},0,0,{"v":0,"d":"0.0"},"",36,4,{"$nulls":3},0,0,{"v":0,"d":"0.0"},"",37,14,{"$nulls":3},0,0,{"v":0,"d":"0.0"},"",34,18,{"$nulls":3},0,0,{"v":0,"d":"0.0"},"",41,3,{"$nulls":3},0,0,{"v":0,"d":"0.0"},"",{"$nulls":3},0,0,{"v":0,"d":"0.0"},"",0,0,0,0,0,0,""]
[null,36,null,37,21,{"$nulls":3},0,0,{"v":0,"d":"0.0"},"",39,3,{"$nulls":3},0,0,{"v":0,"d":"0.0"},"",30,9,{"$nulls":3},0,0,{"v":0,"d":"0.0"},"",34,15,{"$nulls":3},0,0,{"v":0,"d":"0.0"},"",35,4,{"$nulls":3},0,0,{"v":0,"d":"0.0"},"",32,13,{"$nulls":3},0,0,{"v":0,"d":"0.0"},"",33,20,{"$nulls":3},0,0,{"v":0,"d":"0.0"},"",29,1,{"$nulls":3},0,0,{"v":0,"d":"0.0"},"",{"$nulls":3},0,0,{"v":0,"d":"0.0"},"",0,0,0,0,0,0,""]
[null,37,null,36,21,{"$nulls":3},0,0,{"v":0,"d":"0.0"},"",38,4,{"$nulls":3},0,0,{"v":0,"d":"0.0"},"",42,10,{"$nulls":3},0,0,{"v":0,"d":"0.0"},"",33,17,{"$nulls":3},0,0,{"v":0,"d":"0.0"},"",34,6,{"$nulls":3},0,0,{"v":0,"d":"0.0"},"",35,14,{"$nulls":3},0,0,{"v":0,"d":"0.0"},"",30,16,{"$nulls":3},0,0,{"v":0,"d":"0.0"},"",39,5,{"$nulls":3},0,0,{"v":0,"d":"0.0"},"",{"$nulls":3},0,0,{"v":0,"d":"0.0"},"",0,0,0,0,0,0,""]
[null,38,null,35,20,{"$nulls":3},0,0,{"v":0,"d":"0.0"},"",37,4,{"$nulls":3},0,0,{"v":0,"d":"0.0"},"",41,13,{"$nulls":3},0,0,{"v":0,"d":"0.0"},"",32,21,{"$nulls":3},0,0,{"v":0,"d":"0.0"},"",33,5,{"$nulls":3},0,0,{"v":0,"d":"0.0"},"",34,12,{"$nulls":3},0,0,{"v":0,"d":"0.0"},"",31,15,{"$nulls":3},0,0,{"v":0,"d":"0.0"},"",40,6,{"$nulls":3},0,0,{"v":0,"d":"0.0"},"",{"$nulls":3},0,0,{"v":0,"d":"0.0"},"",0,0,0,0,0,0,""]
[null,39,null,34,19,{"$nulls":3},0,0,{"v":0,"d":"0.0"},"",36,3,{"$nulls":3},0,0,{"v":0,"d":"0.0"},"",40,14,{"$nulls":3},0,0,{"v":0,"d":"0.0"},"",31,18,{"$nulls":3},0,0,{"v":0,"d":"0.0"},"",32,2,{"$nulls":3},0,0,{"v":0,"d":"0.0"},"",33,8,{"$nulls":3},0,0,{"v":0,"d":"0.0"},"",42,17,{"$nulls":3},0,0,{"v":0,"d":"0.0"},"",37,5,{"$nulls":3},0,0,{"v":0,"d":"0.0"},"",{"$nulls":3},0,0,{"v":0,"d":"0.0"},"",0,0,0,0,0,0,""]
[null,40,null,33,18,{"$nulls":3},0,0,{"v":0,"d":"0.0"},"",35,2,{"$nulls":3},0,0,{"v":0,"d":"0.0"},"",39,14,{"$nulls":3},0,0,{"v":0,"d":"0.0"},"",30,19,{"$nulls":3},0,0,{"v":0,"d":"0.0"},"",31,3,{"$nulls":3},0,0,{"v":0,"d":"0.0"},"",29,10,{"$nulls":3},0,0,{"v":0,"d":"0.0"},"",32,21,{"$nulls":3},0,0,{"v":0,"d":"0.0"},"",38,6,{"$nulls":3},0,0,{"v":0,"d":"0.0"},"",{"$nulls":3},0,0,{"v":0,"d":"0.0"},"",0,0,0,0,0,0,""]
[null,41,null,32,17,{"$nulls":3},0,0,{"v":0,"d":"0.0"},"",34,7,{"$nulls":3},0,0,{"v":0,"d":"0.0"},"",38,13,{"$nulls":3},0,0,{"v":0,"d":"0.0"},"",42,20,{"$nulls":3},0,0,{"v":0,"d":"0.0"},"",30,1,{"$nulls":3},0,0,{"v":0,"d":"0.0"},"",31,9,{"$nulls":3},0,0,{"v":0,"d":"0.0"},"",29,19,{"$nulls":3},0,0,{"v":0,"d":"0.0"},"",35,3,{"$nulls":3},0,0,{"v":0,"d":"0.0"},"",{"$nulls":3},0,0,{"v":0,"d":"0.0"},"",0,0,0,0,0,0,""]
[null,42,null,31,16,{"$nulls":3},0,0,{"v":0,"d":"0.0"},"",33,1,{"$nulls":3},0,0,{"v":0,"d":"0.0"},"",37,10,{"$nulls":3},0,0,{"v":0,"d":"0.0"},"",41,20,{"$nulls":3},0,0,{"v":0,"d":"0.0"},"",29,7,{"$nulls":3},0,0,{"v":0,"d":"0.0"},"",30,11,{"$nulls":3},0,0,{"v":0,"d":"0.0"},"",39,17,{"$nulls":3},0,0,{"v":0,"d":"0.0"},"",34,7,{"$nulls":3},0,0,{"v":0,"d":"0.0"},"",{"$nulls":3},0,0,{"v":0,"d":"0.0"},"",0,0,0,0,0,0,""]

{"sheet":"Score Cards","index":3,"n_rows":1134,"n_cols":53,"rows_kept":1134,"merged":[[622,34,622,39],[622,40,622,45],[622,47,622,52],[622,54,622,59],[623,30,624,32],[623,34,624,36],[623,37,624,39],[623,40,624,42],[623,57,624,59],[625,0,625,2],[625,3,625,5],[625,7,625,9],[625,10,625,12],[625,14,625,16],[625,17,625,19],[625,20,625,22],[625,23,625,25],[625,27,625,29],[625,30,625,32],[646,0,647,0],[646,7,647,7],[646,14,647,14],[646,20,647,20],[646,27,647,27],[646,34,647,34],[646,40,647,40],[646,47,647,47],[646,54,647,54],[648,0,648,5],[648,7,648,12],[648,14,648,19],[648,20,648,25],[648,27,648,32],[648,34,648,39],[648,40,648,45],[648,47,648,52],[648,54,648,59],[649,0,650,2],[649,3,650,5],[649,7,650,9],[649,10,650,12],[649,14,650,16],[649,17,650,19],[649,20,650,22],[649,23,650,25],[649,27,650,29],[649,30,650,32],[649,34,650,36],[649,37,650,39],[649,40,650,42],[649,43,650,45],[649,47,650,49],[649,50,650,52],[649,54,650,56],[649,57,650,59],[651,0,651,2],[651,3,651,5],[651,7,651,9],[651,10,651,12],[651,14,651,16],[651,17,651,19],[651,20,651,22],[651,23,651,25],[651,27,651,29],[651,30,651,32],[651,34,651,36],[651,37,651,39],[651,40,651,42],[651,43,651,45],[651,47,651,49],[651,50,651,52],[651,54,651,56],[651,57,651,59],[672,0,673,0],[672,7,673,7],[672,14,673,14],[672,20,673,20],[672,27,673,27],[672,34,673,34],[672,40,673,40],[672,47,673,47],[672,54,673,54],[676,0,676,5],[676,7,676,12],[676,14,676,19],[676,20,676,25],[676,27,676,32],[676,34,676,39],[676,40,676,45],[676,47,676,52],[676,54,676,59],[677,0,678,2],[677,3,678,5],[677,7,678,9],[677,10,678,12],[677,14,678,16],[677,17,678,19],[677,20,678,22],[677,23,678,25],[677,27,678,29],[677,30,678,32],[677,34,678,36],[677,37,678,39],[677,40,678,42],[677,43,678,45],[677,47,678,49],[677,50,678,52],[677,54,678,56],[677,57,678,59],[679,0,679,2],[679,3,679,5],[679,7,679,9],[679,10,679,12],[679,14,679,16],[679,17,679,19],[679,20,679,22],[679,23,679,25],[679,27,679,29],[679,30,679,32],[679,34,679,36],[679,37,679,39],[679,40,679,42],[679,43,679,45],[679,47,679,49],[679,50,679,52],[679,54,679,56],[679,57,679,59],[700,0,701,0],[700,7,701,7],[700,14,701,14],[700,20,701,20],[700,27,701,27],[700,34,701,34],[700,40,701,40],[700,47,701,47],[700,54,701,54],[702,0,702,5],[702,7,702,12],[702,14,702,19],[702,20,702,25],[702,27,702,32],[702,34,702,39],[702,40,702,45],[702,47,702,52],[702,54,702,59],[703,0,704,2],[703,3,704,5],[703,7,704,9],[703,10,704,12],[703,14,704,16],[703,17,704,19],[703,20,704,22],[703,23,704,25],[703,27,704,29],[703,30,704,32],[703,34,704,36],[703,37,704,39],[703,40,704,42],[703,43,704,45],[703,47,704,49],[703,50,704,52],[703,54,704,56],[703,57,704,59],[705,0,705,2],[705,3,705,5],[705,7,705,9],[705,10,705,12],[705,14,705,16],[705,17,705,19],[705,20,705,22],[705,23,705,25],[705,27,705,29],[705,30,705,32],[705,34,705,36],[705,37,705,39],[705,40,705,42],[705,43,705,45],[705,47,705,49],[705,50,705,52],[705,54,705,56],[705,57,705,59],[726,0,727,0],[726,7,727,7],[726,14,727,14],[726,20,727,20],[726,27,727,27],[726,34,727,34],[726,40,727,40],[726,47,727,47],[726,54,727,54],[730,0,730,5],[730,7,730,12],[730,14,730,19],[730,20,730,25],[730,27,730,32],[730,34,730,39],[730,40,730,45],[730,47,730,52],[730,54,730,59],[731,0,732,2],[731,3,732,5],[731,7,732,9],[731,10,732,12],[731,14,732,16],[731,17,732,19],[731,20,732,22],[731,23,732,25],[731,27,732,29],[731,30,732,32],[731,34,732,36],[731,37,732,39],[731,40,732,42],[731,43,732,45],[731,47,732,49],[731,50,732,52],[731,54,732,56],[731,57,732,59],[733,0,733,2],[733,3,733,5],[733,7,733,9],[733,10,733,12],[733,14,733,16],[733,17,733,19],[733,20,733,22],[733,23,733,25],[733,27,733,29],[733,30,733,32],[733,34,733,36],[733,37,733,39],[733,40,733,42],[733,43,733,45],[733,47,733,49],[733,50,733,52],[733,54,733,56],[733,57,733,59],[754,0,755,0],[754,7,755,7],[754,14,755,14],[754,20,755,20],[754,27,755,27],[754,34,755,34],[754,40,755,40],[754,47,755,47],[754,54,755,54],[756,0,756,5],[756,7,756,12],[756,14,756,19],[756,20,756,25],[756,27,756,32],[756,34,756,39],[756,40,756,45],[756,47,756,52],[756,54,756,59],[757,0,758,2],[757,3,758,5],[757,7,758,9],[757,10,758,12],[757,14,758,16],[757,17,758,19],[757,20,758,22],[757,23,758,25],[757,27,758,29],[757,30,758,32],[757,34,758,36],[757,37,758,39],[757,40,758,42],[757,43,758,45],[757,47,758,49],[757,50,758,52],[757,54,758,56],[757,57,758,59],[759,0,759,2],[759,3,759,5],[759,7,759,9],[759,10,759,12],[759,14,759,16],[759,17,759,19],[759,20,759,22],[759,23,759,25],[759,27,759,29],[759,30,759,32],[759,34,759,36],[759,37,759,39],[759,40,759,42],[759,43,759,45],[759,47,759,49],[759,50,759,52],[759,54,759,56],[759,57,759,59],[780,0,781,0],[780,7,781,7],[780,14,781,14],[780,20,781,20],[780,27,781,27],[780,34,781,34],[780,40,781,40],[780,47,781,47],[780,54,781,54],[784,0,784,5],[784,7,784,12],[784,14,784,19],[784,20,784,25],[784,27,784,32],[784,34,784,39],[784,40,784,45],[784,47,784,52],[784,54,784,59],[785,0,786,2],[785,3,786,5],[785,7,786,9],[785,10,786,12],[785,14,786,16],[785,17,786,19],[785,20,786,22],[785,23,786,25],[785,27,786,29],[785,30,786,32],[785,34,786,36],[785,37,786,39],[785,40,786,42],[785,43,786,45],[785,47,786,49],[785,50,786,52],[785,54,786,56],[785,57,786,59],[787,0,787,2],[787,3,787,5],[787,7,787,9],[787,10,787,12],[787,14,787,16],[787,17,787,19],[787,20,787,22],[787,23,787,25],[787,27,787,29],[787,30,787,32],[787,34,787,36],[787,37,787,39],[787,40,787,42],[787,43,787,45],[787,47,787,49],[787,50,787,52],[787,54,787,56],[787,57,787,59],[808,0,809,0],[808,7,809,7],[808,14,809,14],[808,20,809,20],[808,27,809,27],[808,34,809,34],[808,40,809,40],[808,47,809,47],[808,54,809,54],[810,0,810,5],[810,7,810,12],[810,14,810,19],[810,20,810,25],[810,27,810,32],[810,34,810,39],[810,40,810,45],[810,47,810,52],[810,54,810,59],[811,0,812,2],[811,3,812,5],[811,7,812,9],[811,10,812,12],[811,14,812,16],[811,17,812,19],[811,20,812,22],[811,23,812,25],[811,27,812,29],[811,30,812,32],[811,34,812,36],[811,37,812,39],[811,40,812,42],[811,43,812,45],[811,47,812,49],[811,50,812,52],[811,54,812,56],[811,57,812,59],[813,0,813,2],[813,3,813,5],[813,7,813,9],[813,10,813,12],[813,14,813,16],[813,17,813,19],[813,20,813,22],[813,23,813,25],[813,27,813,29],[813,30,813,32],[813,34,813,36],[813,37,813,39],[813,40,813,42],[813,43,813,45],[813,47,813,49],[813,50,813,52],[813,54,813,56],[813,57,813,59],[834,0,835,0],[834,7,835,7],[834,14,835,14],[834,20,835,20],[834,27,835,27],[834,34,835,34],[834,40,835,40],[834,47,835,47],[834,54,835,54],[838,0,838,5],[838,7,838,12],[838,14,838,19],[838,20,838,25],[838,27,838,32],[838,34,838,39],[838,40,838,45],[838,47,838,52],[838,54,838,59],[839,0,840,2],[839,3,840,5],[839,7,840,9],[839,10,840,12],[839,14,840,16],[839,17,840,19],[839,20,840,22],[839,23,840,25],[839,27,840,29],[839,30,840,32],[839,34,840,36],[839,37,840,39],[839,40,840,42],[839,43,840,45],[839,47,840,49],[839,50,840,52],[839,54,840,56],[839,57,840,59],[841,0,841,2],[841,3,841,5],[841,7,841,9],[841,10,841,12],[841,14,841,16],[841,17,841,19],[841,20,841,22],[841,23,841,25],[841,27,841,29],[841,30,841,32],[841,34,841,36],[841,37,841,39],[841,40,841,42],[841,43,841,45],[841,47,841,49],[841,50,841,52],[841,54,841,56],[841,57,841,59],[862,0,863,0],[862,7,863,7],[862,14,863,14],[862,20,863,20],[862,27,863,27],[862,34,863,34],[862,40,863,40],[862,47,863,47],[862,54,863,54],[864,0,864,5],[864,7,864,12],[864,14,864,19],[864,20,864,25],[864,27,864,32],[864,34,864,39],[864,40,864,45],[864,47,864,52],[864,54,864,59],[865,0,866,2],[865,3,866,5],[865,7,866,9],[865,10,866,12],[865,14,866,16],[865,17,866,19],[865,20,866,22],[865,23,866,25],[865,27,866,29],[865,30,866,32],[865,34,866,36],[865,37,866,39],[865,40,866,42],[865,43,866,45],[865,47,866,49],[865,50,866,52],[865,54,866,56],[865,57,866,59],[867,0,867,2],[867,3,867,5],[867,7,867,9],[867,10,867,12],[867,14,867,16],[867,17,867,19],[867,20,867,22],[867,23,867,25],[867,27,867,29],[867,30,867,32],[867,34,867,36],[867,37,867,39],[867,40,867,42],[867,43,867,45],[867,47,867,49],[867,50,867,52],[867,54,867,56],[867,57,867,59],[888,0,889,0],[888,7,889,7],[888,14,889,14],[888,20,889,20],[888,27,889,27],[888,34,889,34],[888,40,889,40],[888,47,889,47],[888,54,889,54],[892,0,892,5],[892,7,892,12],[892,14,892,19],[892,20,892,25],[892,27,892,32],[892,34,892,39],[892,40,892,45],[892,47,892,52],[892,54,892,59],[893,0,894,2],[893,3,894,5],[893,7,894,9],[893,10,894,12],[893,14,894,16],[893,17,894,19],[893,20,894,22],[893,23,894,25],[893,27,894,29],[893,30,894,32],[893,34,894,36],[893,37,894,39],[893,40,894,42],[893,43,894,45],[893,47,894,49],[893,50,894,52],[893,54,894,56],[893,57,894,59],[895,0,895,2],[895,3,895,5],[895,7,895,9],[895,10,895,12],[895,14,895,16],[895,17,895,19],[895,20,895,22],[895,23,895,25],[895,27,895,29],[895,30,895,32],[895,34,895,36],[895,37,895,39],[895,40,895,42],[895,43,895,45],[895,47,895,49],[895,50,895,52],[895,54,895,56],[895,57,895,59],[916,0,917,0],[916,7,917,7],[916,14,917,14],[916,20,917,20],[916,27,917,27],[916,34,917,34],[916,40,917,40],[916,47,917,47],[916,54,917,54],[918,0,918,5],[918,7,918,12],[918,14,918,19],[918,20,918,25],[918,27,918,32],[918,34,918,39],[918,40,918,45],[918,47,918,52],[918,54,918,59],[919,0,920,2],[919,3,920,5],[919,7,920,9],[919,10,920,12],[919,14,920,16],[919,17,920,19],[919,20,920,22],[919,23,920,25],[919,27,920,29],[919,30,920,32],[919,34,920,36],[919,37,920,39],[919,40,920,42],[919,43,920,45],[919,47,920,49],[919,50,920,52],[919,54,920,56],[919,57,920,59],[921,0,921,2],[921,3,921,5],[921,7,921,9],[921,10,921,12],[921,14,921,16],[921,17,921,19],[921,20,921,22],[921,23,921,25],[921,27,921,29],[921,30,921,32],[921,34,921,36],[921,37,921,39],[921,40,921,42],[921,43,921,45],[921,47,921,49],[921,50,921,52],[921,54,921,56],[921,57,921,59],[942,0,943,0],[942,7,943,7],[942,14,943,14],[942,20,943,20],[942,27,943,27],[942,34,943,34],[942,40,943,40],[942,47,943,47],[942,54,943,54],[946,0,946,5],[946,7,946,12],[946,14,946,19],[946,20,946,25],[946,27,946,32],[946,34,946,39],[946,40,946,45],[946,47,946,52],[946,54,946,59],[947,0,948,2],[947,3,948,5],[947,7,948,9],[947,10,948,12],[947,14,948,16],[947,17,948,19],[947,20,948,22],[947,23,948,25],[947,27,948,29],[947,30,948,32],[947,34,948,36],[947,37,948,39],[947,40,948,42],[947,43,948,45],[947,47,948,49],[947,50,948,52],[947,54,948,56],[947,57,948,59],[949,0,949,2],[949,3,949,5],[949,7,949,9],[949,10,949,12],[949,14,949,16],[949,17,949,19],[949,20,949,22],[949,23,949,25],[949,27,949,29],[949,30,949,32],[949,34,949,36],[949,37,949,39],[949,40,949,42],[949,43,949,45],[949,47,949,49],[949,50,949,52],[949,54,949,56],[949,57,949,59],[970,0,971,0],[970,7,971,7],[970,14,971,14],[970,20,971,20],[970,27,971,27],[970,34,971,34],[970,40,971,40],[970,47,971,47],[970,54,971,54],[972,0,972,5],[972,7,972,12],[972,14,972,19],[972,20,972,25],[972,27,972,32],[972,34,972,39],[972,40,972,45],[972,47,972,52],[972,54,972,59],[973,0,974,2],[973,3,974,5],[973,7,974,9],[973,10,974,12],[973,14,974,16],[973,17,974,19],[973,20,974,22],[973,23,974,25],[973,27,974,29],[973,30,974,32],[973,34,974,36],[973,37,974,39],[973,40,974,42],[973,43,974,45],[973,47,974,49],[973,50,974,52],[973,54,974,56],[973,57,974,59],[975,0,975,2],[975,3,975,5],[975,7,975,9],[975,10,975,12],[975,14,975,16],[975,17,975,19],[975,20,975,22],[975,23,975,25],[975,27,975,29],[975,30,975,32],[975,34,975,36],[975,37,975,39],[975,40,975,42],[975,43,975,45],[975,47,975,49],[975,50,975,52],[975,54,975,56],[975,57,975,59],[996,0,997,0],[996,7,997,7],[996,14,997,14],[996,20,997,20],[996,27,997,27],[996,34,997,34],[996,40,997,40],[996,47,997,47],[996,54,997,54],[1000,0,1000,5],[1000,7,1000,12],[1000,14,1000,19],[1000,20,1000,25],[1000,27,1000,32],[1000,34,1000,39],[1000,40,1000,45],[1000,47,1000,52],[1000,54,1000,59],[1001,0,1002,2],[1001,3,1002,5],[1001,7,1002,9],[1001,10,1002,12],[1001,14,1002,16],[1001,17,1002,19],[1001,20,1002,22],[1001,23,1002,25],[1001,27,1002,29],[1001,30,1002,32],[1001,34,1002,36],[1001,37,1002,39],[1001,40,1002,42],[1001,43,1002,45],[1001,47,1002,49],[1001,50,1002,52],[1001,54,1002,56],[1001,57,1002,59],[1003,0,1003,2],[1003,3,1003,5],[1003,7,1003,9],[1003,10,1003,12],[1003,14,1003,16],[1003,17,1003,19],[1003,20,1003,22],[1003,23,1003,25],[1003,27,1003,29],[1003,30,1003,32],[1003,34,1003,36],[1003,37,1003,39],[1003,40,1003,42],[1003,43,1003,45],[1003,47,1003,49],[1003,50,1003,52],[1003,54,1003,56],[1003,57,1003,59],[1024,0,1025,0],[1024,7,1025,7],[1024,14,1025,14],[1024,20,1025,20],[1024,27,1025,27],[1024,34,1025,34],[1024,40,1025,40],[1024,47,1025,47],[1024,54,1025,54],[1026,0,1026,5],[1026,7,1026,12],[1026,14,1026,19],[1026,20,1026,25],[1026,27,1026,32],[1026,34,1026,39],[1026,40,1026,45],[1026,47,1026,52],[1026,54,1026,59],[1027,0,1028,2],[1027,3,1028,5],[1027,7,1028,9],[1027,10,1028,12],[1027,14,1028,16],[1027,17,1028,19],[1027,20,1028,22],[1027,23,1028,25],[1027,27,1028,29],[1027,30,1028,32],[1027,34,1028,36],[1027,37,1028,39],[1027,40,1028,42],[1027,43,1028,45],[1027,47,1028,49],[1027,50,1028,52],[1027,54,1028,56],[1027,57,1028,59],[1029,0,1029,2],[1029,3,1029,5],[1029,7,1029,9],[1029,10,1029,12],[1029,14,1029,16],[1029,17,1029,19],[1029,20,1029,22],[1029,23,1029,25],[1029,27,1029,29],[1029,30,1029,32],[1029,34,1029,36],[1029,37,1029,39],[1029,40,1029,42],[1029,43,1029,45],[1029,47,1029,49],[1029,50,1029,52],[1029,54,1029,56],[1029,57,1029,59],[1050,0,1051,0],[1050,7,1051,7],[1050,14,1051,14],[1050,20,1051,20],[1050,27,1051,27],[1050,34,1051,34],[1050,40,1051,40],[1050,47,1051,47],[1050,54,1051,54],[1054,0,1054,5],[1054,7,1054,12],[1054,14,1054,19],[1054,20,1054,25],[1054,27,1054,32],[1054,34,1054,39],[1054,40,1054,45],[1054,47,1054,52],[1054,54,1054,59],[1055,0,1056,2],[1055,3,1056,5],[1055,7,1056,9],[1055,10,1056,12],[1055,14,1056,16],[1055,17,1056,19],[1055,20,1056,22],[1055,23,1056,25],[1055,27,1056,29],[1055,30,1056,32],[1055,34,1056,36],[1055,37,1056,39],[1055,40,1056,42],[1055,43,1056,45],[1055,47,1056,49],[1055,50,1056,52],[1055,54,1056,56],[1055,57,1056,59],[1057,0,1057,2],[1057,3,1057,5],[1057,7,1057,9],[1057,10,1057,12],[1057,14,1057,16],[1057,17,1057,19],[1057,20,1057,22],[1057,23,1057,25],[1057,27,1057,29],[1057,30,1057,32],[1057,34,1057,36],[1057,37,1057,39],[1057,40,1057,42],[1057,43,1057,45],[1057,47,1057,49],[1057,50,1057,52],[1057,54,1057,56],[1057,57,1057,59],[1078,0,1079,0],[1078,7,1079,7],[1078,14,1079,14],[1078,20,1079,20],[1078,27,1079,27],[1078,34,1079,34],[1078,40,1079,40],[1078,47,1079,47],[1078,54,1079,54],[1080,0,1080,5],[1080,7,1080,12],[1080,14,1080,19],[1080,20,1080,25],[1080,27,1080,32],[1080,34,1080,39],[1080,40,1080,45],[1080,47,1080,52],[1080,54,1080,59],[1081,0,1082,2],[1081,3,1082,5],[1081,7,1082,9],[1081,10,1082,12],[1081,14,1082,16],[1081,17,1082,19],[1081,20,1082,22],[1081,23,1082,25],[1081,27,1082,29],[1081,30,1082,32],[1081,34,1082,36],[1081,37,1082,39],[1081,40,1082,42],[1081,43,1082,45],[1081,47,1082,49],[1081,50,1082,52],[1081,54,1082,56],[1081,57,1082,59],[1083,0,1083,2],[1083,3,1083,5],[1083,7,1083,9],[1083,10,1083,12],[1083,14,1083,16],[1083,17,1083,19],[1083,20,1083,22],[1083,23,1083,25],[1083,27,1083,29],[1083,30,1083,32],[1083,34,1083,36],[1083,37,1083,39],[1083,40,1083,42],[1083,43,1083,45],[1083,47,1083,49],[1083,50,1083,52],[1083,54,1083,56],[1083,57,1083,59],[1104,0,1105,0],[1104,7,1105,7],[1104,14,1105,14],[1104,20,1105,20],[1104,27,1105,27],[1104,34,1105,34],[1104,40,1105,40],[1104,47,1105,47],[1104,54,1105,54],[1108,0,1108,5],[1108,7,1108,12],[1108,14,1108,19],[1108,20,1108,25],[1108,27,1108,32],[1108,34,1108,39],[1108,40,1108,45],[1108,47,1108,52],[1108,54,1108,59],[1109,0,1110,2],[1109,3,1110,5],[1109,7,1110,9],[1109,10,1110,12],[1109,14,1110,16],[1109,17,1110,19],[1109,20,1110,22],[1109,23,1110,25],[1109,27,1110,29],[1109,30,1110,32],[1109,34,1110,36],[1109,37,1110,39],[1109,40,1110,42],[1109,43,1110,45],[1109,47,1110,49],[1109,50,1110,52],[1109,54,1110,56],[1109,57,1110,59],[1111,0,1111,2],[1111,3,1111,5],[1111,7,1111,9],[1111,10,1111,12],[1111,14,1111,16],[1111,17,1111,19],[1111,20,1111,22],[1111,23,1111,25],[1111,27,1111,29],[1111,30,1111,32],[1111,34,1111,36],[1111,37,1111,39],[1111,40,1111,42],[1111,43,1111,45],[1111,47,1111,49],[1111,50,1111,52],[1111,54,1111,56],[1111,57,1111,59],[1132,0,1133,0],[1132,7,1133,7],[1132,14,1133,14],[1132,20,1133,20],[1132,27,1133,27],[1132,34,1133,34],[1132,40,1133,40],[1132,47,1133,47],[1132,54,1133,54]],"merged_total":2269,"flags":["merged_cut"]}
["1st Game ",{"$nulls":6},"2nd Game ",{"$nulls":6},"3rd Game ",{"$nulls":5},"4th Game",{"$nulls":6},"5th Game",{"$nulls":6},"6th Game",{"$nulls":5},"7th Game",{"$nulls":6},"8th Game"]
["Team No",null,null,"Rink No",{"$nulls":3},"Team No",null,null,"Rink No",{"$nulls":3},"Team No",null,null,"Rink No",null,null,"Team No",null,null,"Rink No",{"$nulls":3},"Team No",null,null,"Rink No",{"$nulls":3},"Team No",null,null,"Rink No",null,null,"Team No",null,null,"Rink No",{"$nulls":3},"Team No",null,null,"Rink No"]
[]
[{"$f":"DRAW!$B$7","v":1},null,null,{"$f":"DRAW!$E$7","v":1},{"$nulls":3},{"$f":"DRAW!$B$7","v":1},null,null,{"$f":"DRAW!$G$7","v":13},{"$nulls":3},{"$f":"DRAW!$B$7","v":1},null,null,{"$f":"DRAW!$I$7","v":19},null,null,{"$f":"DRAW!$B$7","v":1},null,null,{"$f":"DRAW!$K$7","v":2},{"$nulls":3},{"$f":"DRAW!$B$7","v":1},null,null,{"$f":"DRAW!$M$7","v":14},{"$nulls":3},{"$f":"DRAW!$B$7","v":1},null,null,{"$f":"DRAW!$O$7","v":17},null,null,{"$f":"DRAW!$B$7","v":1},null,null,{"$f":"DRAW!$Q$7","v":5},{"$nulls":3},{"$f":"DRAW!$B$7","v":1},null,null,{"$f":"DRAW!$S$7","v":8}]
[null,"Team",{"$f":"DRAW!$B$7","v":1},"V","Team",{"$f":"DRAW!$D$7","v":2},null,null,"Team",{"$f":"DRAW!$B$7","v":1},"V","Team",{"$f":"DRAW!$F$7","v":3},null,null,"Team",{"$f":"DRAW!$B$7","v":1},"V","Team",{"$f":"DRAW!$H$7","v":5},null,"Team",{"$f":"DRAW!$B$7","v":1},"V","Team",{"$f":"DRAW!$J$7","v":7},null,null,"Team",{"$f":"DRAW!$B$7","v":1},"V","Team",{"$f":"DRAW!$L$7","v":14},null,null,"Team",{"$f":"DRAW!$B$7","v":1},"V","Team",{"$f":"DRAW!$N$7","v":12},null,"Team",{"$f":"DRAW!$B$7","v":1},"V","Team",{"$f":"DRAW!$P$7","v":13},null,null,"Team",{"$f":"DRAW!$B$7","v":1},"V","Team",{"$f":"DRAW!$R$7","v":8}]
["Ends","Shots","Total",null,"Shots","Total",null,"Ends","Shots","Total",null,"Shots","Total",null,"Ends","Shots","Total",null,"Shots","Total","Ends","Shots","Total",null,"Shots","Total",null,"Ends","Shots","Total",null,"Shots","Total",null,"Ends","Shots","Total",null,"Shots","Total","Ends","Shots","Total",null,"Shots","Total",null,"Ends","Shots","Total",null,"shots","Totar"]
[1,{"$nulls":6},1,{"$nulls":6},1,{"$nulls":5},1,{"$nulls":6},1,{"$nulls":6},1,{"$nulls":5},1,{"$nulls":6},1]
[2,{"$nulls":6},2,{"$nulls":6},2,{"$nulls":5},2,{"$nulls":6},2,{"$nulls":6},2,{"$nulls":5},2,{"$nulls":6},2]
[3,{"$nulls":6},3,{"$nulls":6},3,{"$nulls":5},3,{"$nulls":6},3,{"$nulls":6},3,{"$nulls":5},3,{"$nulls":6},3]
[4,{"$nulls":6},4,{"$nulls":6},4,{"$nulls":5},4,{"$nulls":6},4,{"$nulls":6},4,{"$nulls":5},4,{"$nulls":6},4]
[5,{"$nulls":6},5,{"$nulls":6},5,{"$nulls":5},5,{"$nulls":6},5,{"$nulls":6},5,{"$nulls":5},5,{"$nulls":6},5]
[6,{"$nulls":6},6,{"$nulls":6},6,{"$nulls":5},6,{"$nulls":6},6,{"$nulls":6},6,{"$nulls":5},6,{"$nulls":6},6]
[7,{"$nulls":6},7,{"$nulls":6},7,{"$nulls":5},7,{"$nulls":6},7,{"$nulls":6},7,{"$nulls":5},7,{"$nulls":6},7]
[8,{"$nulls":6},8,{"$nulls":6},8,{"$nulls":5},8,{"$nulls":6},8,{"$nulls":6},8,{"$nulls":5},8,{"$nulls":6},8]
[9,{"$nulls":6},9,{"$nulls":6},9,{"$nulls":5},9,{"$nulls":6},9,{"$nulls":6},9,{"$nulls":5},9,{"$nulls":6},9]
[10,{"$nulls":6},10,{"$nulls":6},10,{"$nulls":5},10,{"$nulls":6},10,{"$nulls":6},10,{"$nulls":5},10,{"$nulls":6},10]
[11,{"$nulls":6},11,{"$nulls":6},11,{"$nulls":5},11,{"$nulls":6},11,{"$nulls":6},11,{"$nulls":5},11,{"$nulls":6},11]
[12,{"$nulls":6},12,{"$nulls":6},12,{"$nulls":5},12,{"$nulls":6},12,{"$nulls":6},12,{"$nulls":5},12,{"$nulls":6},12]
[13,{"$nulls":6},13,{"$nulls":6},13,{"$nulls":5},13,{"$nulls":6},13,{"$nulls":6},13,{"$nulls":5},13,{"$nulls":6},13]
[14,{"$nulls":6},14,{"$nulls":6},14,{"$nulls":5},14,{"$nulls":6},14,{"$nulls":6},14,{"$nulls":5},14,{"$nulls":6},14]
[15,{"$nulls":6},15,{"$nulls":6},15,{"$nulls":5},15,{"$nulls":6},15,{"$nulls":6},15,{"$nulls":5},15,{"$nulls":6},15]
[16,{"$nulls":6},16,{"$nulls":6},16,{"$nulls":5},16,{"$nulls":6},16,{"$nulls":6},16,{"$nulls":5},16,{"$nulls":6},16]
[17,{"$nulls":6},17,{"$nulls":6},17,{"$nulls":5},17,{"$nulls":6},17,{"$nulls":6},17,{"$nulls":5},17,{"$nulls":6},17]
[18,{"$nulls":6},18,{"$nulls":6},18,{"$nulls":5},18,{"$nulls":6},18,{"$nulls":6},18,{"$nulls":5},18,{"$nulls":6},18]
["Total","Shots",null,null,"Shots",null,null,"Total","Shots",null,null,"Shots",null,null,"Total","Shots",null,null,"Shots",null,"Total","Shots",null,null,"Shots",null,null,"Total","Shots",null,null,"Shots",null,null,"Total","Shots",null,null,"Shots",null,"Total","Shots",null,null,"Shots",null,null,"Total","Shots",null,null,"shots"]
[null,"Ends",null,null,"Ends",{"$nulls":3},"Ends",null,null,"Ends",{"$nulls":3},"Ends",null,null,"Ends",null,null,"Ends",null,null,"Ends",{"$nulls":3},"Ends",null,null,"Ends",{"$nulls":3},"Ends",null,null,"Ends",null,null,"Ends",null,null,"Ends",{"$nulls":3},"Ends",null,null,"Ends"]
[]
[]
["1st Game ",{"$nulls":6},"2nd Game ",{"$nulls":6},"3rd Game ",{"$nulls":5},"4th Game",{"$nulls":6},"5th Game",{"$nulls":6},"6th Game",{"$nulls":5},"7th Game",{"$nulls":6},"8th Game"]
["Team No",null,null,"Rink No",{"$nulls":3},"Team No",null,null,"Rink No",{"$nulls":3},"Team No",null,null,"Rink No",null,null,"Team No",null,null,"Rink No",{"$nulls":3},"Team No",null,null,"Rink No",{"$nulls":3},"Team No",null,null,"Rink No",null,null,"Team No",null,null,"Rink No",{"$nulls":3},"Team No",null,null,"Rink No"]
[]
[{"$f":"DRAW!$B$8","v":2},null,null,{"$f":"DRAW!$E$8","v":1},{"$nulls":3},{"$f":"DRAW!$B$8","v":2},null,null,{"$f":"DRAW!$G$8","v":12},{"$nulls":3},{"$f":"DRAW!$B$8","v":2},null,null,{"$f":"DRAW!$I$8","v":16},null,null,{"$f":"DRAW!$B$8","v":2},null,null,{"$f":"DRAW!$K$8","v":5},{"$nulls":3},{"$f":"DRAW!$B$8","v":2},null,null,{"$f":"DRAW!$M$8","v":8},{"$nulls":3},{"$f":"DRAW!$B$8","v":2},null,null,{"$f":"DRAW!$O$8","v":18},null,null,{"$f":"DRAW!$B$8","v":2},null,null,{"$f":"DRAW!$Q$8","v":2},{"$nulls":3},{"$f":"DRAW!$B$8","v":2},null,null,{"$f":"DRAW!$S$8","v":9}]
[null,"Team",{"$f":"DRAW!$B$8","v":2},"V","Team",{"$f":"DRAW!$D$8","v":1},null,null,"Team",{"$f":"DRAW!$B$8","v":2},"V","Team",{"$f":"DRAW!$F$8","v":4},null,null,"Team",{"$f":"DRAW!$B$8","v":2},"V","Team",{"$f":"DRAW!$H$8","v":8},null,"Team",{"$f":"DRAW!$B$8","v":2},"V","Team",{"$f":"DRAW!$J$8","v":12},null,null,"Team",{"$f":"DRAW!$B$8","v":2},"V","Team",{"$f":"DRAW!$L$8","v":13},null,null,"Team",{"$f":"DRAW!$B$8","v":2},"V","Team",{"$f":"DRAW!$N$8","v":14},null,"Team",{"$f":"DRAW!$B$8","v":2},"V","Team",{"$f":"DRAW!$P$8","v":9},null,null,"Team",{"$f":"DRAW!$B$8","v":2},"V","Team",{"$f":"DRAW!$R$8","v":5}]
["Ends","Shots","Total",null,"Shots","Total",null,"Ends","Shots","Total",null,"Shots","Total",null,"Ends","Shots","Total",null,"Shots","Total","Ends","Shots","Total",null,"Shots","Total",null,"Ends","Shots","Total",null,"Shots","Total",null,"Ends","Shots","Total",null,"Shots","Total","Ends","Shots","Total",null,"Shots","Total",null,"Ends","Shots","Total",null,"shots","Totar"]
[1,{"$nulls":6},1,{"$nulls":6},1,{"$nulls":5},1,{"$nulls":6},1,{"$nulls":6},1,{"$nulls":5},1,{"$nulls":6},1]
[2,{"$nulls":6},2,{"$nulls":6},2,{"$nulls":5},2,{"$nulls":6},2,{"$nulls":6},2,{"$nulls":5},2,{"$nulls":6},2]
[3,{"$nulls":6},3,{"$nulls":6},3,{"$nulls":5},3,{"$nulls":6},3,{"$nulls":6},3,{"$nulls":5},3,{"$nulls":6},3]
[4,{"$nulls":6},4,{"$nulls":6},4,{"$nulls":5},4,{"$nulls":6},4,{"$nulls":6},4,{"$nulls":5},4,{"$nulls":6},4]
[5,{"$nulls":6},5,{"$nulls":6},5,{"$nulls":5},5,{"$nulls":6},5,{"$nulls":6},5,{"$nulls":5},5,{"$nulls":6},5]
[6,{"$nulls":6},6,{"$nulls":6},6,{"$nulls":5},6,{"$nulls":6},6,{"$nulls":6},6,{"$nulls":5},6,{"$nulls":6},6]
[7,{"$nulls":6},7,{"$nulls":6},7,{"$nulls":5},7,{"$nulls":6},7,{"$nulls":6},7,{"$nulls":5},7,{"$nulls":6},7]
[8,{"$nulls":6},8,{"$nulls":6},8,{"$nulls":5},8,{"$nulls":6},8,{"$nulls":6},8,{"$nulls":5},8,{"$nulls":6},8]
[9,{"$nulls":6},9,{"$nulls":6},9,{"$nulls":5},9,{"$nulls":6},9,{"$nulls":6},9,{"$nulls":5},9,{"$nulls":6},9]
[10,{"$nulls":6},10,{"$nulls":6},10,{"$nulls":5},10,{"$nulls":6},10,{"$nulls":6},10,{"$nulls":5},10,{"$nulls":6},10]
[11,{"$nulls":6},11,{"$nulls":6},11,{"$nulls":5},11,{"$nulls":6},11,{"$nulls":6},11,{"$nulls":5},11,{"$nulls":6},11]
[12,{"$nulls":6},12,{"$nulls":6},12,{"$nulls":5},12,{"$nulls":6},12,{"$nulls":6},12,{"$nulls":5},12,{"$nulls":6},12]
[13,{"$nulls":6},13,{"$nulls":6},13,{"$nulls":5},13,{"$nulls":6},13,{"$nulls":6},13,{"$nulls":5},13,{"$nulls":6},13]
[14,{"$nulls":6},14,{"$nulls":6},14,{"$nulls":5},14,{"$nulls":6},14,{"$nulls":6},14,{"$nulls":5},14,{"$nulls":6},14]
[15,{"$nulls":6},15,{"$nulls":6},15,{"$nulls":5},15,{"$nulls":6},15,{"$nulls":6},15,{"$nulls":5},15,{"$nulls":6},15]
[16,{"$nulls":6},16,{"$nulls":6},16,{"$nulls":5},16,{"$nulls":6},16,{"$nulls":6},16,{"$nulls":5},16,{"$nulls":6},16]
[17,{"$nulls":6},17,{"$nulls":6},17,{"$nulls":5},17,{"$nulls":6},17,{"$nulls":6},17,{"$nulls":5},17,{"$nulls":6},17]
[18,{"$nulls":6},18,{"$nulls":6},18,{"$nulls":5},18,{"$nulls":6},18,{"$nulls":6},18,{"$nulls":5},18,{"$nulls":6},18]
["Total","Shots",null,null,"Shots",null,null,"Total","Shots",null,null,"Shots",null,null,"Total","Shots",null,null,"Shots",null,"Total","Shots",null,null,"Shots",null,null,"Total","Shots",null,null,"Shots",null,null,"Total","Shots",null,null,"Shots",null,"Total","Shots",null,null,"Shots",null,null,"Total","Shots",null,null,"shots"]
[null,"Ends",null,null,"Ends",{"$nulls":3},"Ends",null,null,"Ends",{"$nulls":3},"Ends",null,null,"Ends",null,null,"Ends",null,null,"Ends",{"$nulls":3},"Ends",null,null,"Ends",{"$nulls":3},"Ends",null,null,"Ends",null,null,"Ends",null,null,"Ends",{"$nulls":3},"Ends",null,null,"Ends"]
["1st Game ",{"$nulls":6},"2nd Game ",{"$nulls":6},"3rd Game ",{"$nulls":5},"4th Game",{"$nulls":6},"5th Game",{"$nulls":6},"6th Game",{"$nulls":5},"7th Game",{"$nulls":6},"8th Game"]
["Team No",null,null,"Rink No",{"$nulls":3},"Team No",null,null,"Rink No",{"$nulls":3},"Team No",null,null,"Rink No",null,null,"Team No",null,null,"Rink No",{"$nulls":3},"Team No",null,null,"Rink No",{"$nulls":3},"Team No",null,null,"Rink No",null,null,"Team No",null,null,"Rink No",{"$nulls":3},"Team No",null,null,"Rink No"]
[]
[{"$f":"DRAW!$B$9","v":3},null,null,{"$f":"DRAW!$E$9","v":2},{"$nulls":3},{"$f":"DRAW!$B$9","v":3},null,null,{"$f":"DRAW!$G$9","v":13},{"$nulls":3},{"$f":"DRAW!$B$9","v":3},null,null,{"$f":"DRAW!$I$9","v":15},null,null,{"$f":"DRAW!$B$9","v":3},null,null,{"$f":"DRAW!$K$9","v":4},{"$nulls":3},{"$f":"DRAW!$B$9","v":3},null,null,{"$f":"DRAW!$M$9","v":10},{"$nulls":3},{"$f":"DRAW!$B$9","v":3},null,null,{"$f":"DRAW!$O$9","v":16},null,null,{"$f":"DRAW!$B$9","v":3},null,null,{"$f":"DRAW!$Q$9","v":1},{"$nulls":3},{"$f":"DRAW!$B$9","v":3},null,null,{"$f":"DRAW!$S$9","v":11}]
[null,"Team",{"$f":"DRAW!$B$9","v":3},"V","Team",{"$f":"DRAW!$D$9","v":14},null,null,"Team",{"$f":"DRAW!$B$9","v":3},"V","Team",{"$f":"DRAW!$F$9","v":1},null,null,"Team",{"$f":"DRAW!$B$9","v":3},"V","Team",{"$f":"DRAW!$H$9","v":7},null,"Team",{"$f":"DRAW!$B$9","v":3},"V","Team",{"$f":"DRAW!$J$9","v":11},null,null,"Team",{"$f":"DRAW!$B$9","v":3},"V","Team",{"$f":"DRAW!$L$9","v":12},null,null,"Team",{"$f":"DRAW!$B$9","v":3},"V","Team",{"$f":"DRAW!$N$9","v":13},null,"Team",{"$f":"DRAW!$B$9","v":3},"V","Team",{"$f":"DRAW!$P$9","v":10},null,null,"Team",{"$f":"DRAW!$B$9","v":3},"V","Team",{"$f":"DRAW!$R$9","v":4}]
["Ends","Shots","Total",null,"Shots","Total",null,"Ends","Shots","Total",null,"Shots","Total",null,"Ends","Shots","Total",null,"Shots","Total","Ends","Shots","Total",null,"Shots","Total",null,"Ends","Shots","Total",null,"Shots","Total",null,"Ends","Shots","Total",null,"Shots","Total","Ends","Shots","Total",null,"Shots","Total",null,"Ends","Shots","Total",null,"shots","Totar"]
[1,{"$nulls":6},1,{"$nulls":6},1,{"$nulls":5},1,{"$nulls":6},1,{"$nulls":6},1,{"$nulls":5},1,{"$nulls":6},1]
[2,{"$nulls":6},2,{"$nulls":6},2,{"$nulls":5},2,{"$nulls":6},2,{"$nulls":6},2,{"$nulls":5},2,{"$nulls":6},2]
[3,{"$nulls":6},3,{"$nulls":6},3,{"$nulls":5},3,{"$nulls":6},3,{"$nulls":6},3,{"$nulls":5},3,{"$nulls":6},3]
[4,{"$nulls":6},4,{"$nulls":6},4,{"$nulls":5},4,{"$nulls":6},4,{"$nulls":6},4,{"$nulls":5},4,{"$nulls":6},4]
[5,{"$nulls":6},5,{"$nulls":6},5,{"$nulls":5},5,{"$nulls":6},5,{"$nulls":6},5,{"$nulls":5},5,{"$nulls":6},5]
[6,{"$nulls":6},6,{"$nulls":6},6,{"$nulls":5},6,{"$nulls":6},6,{"$nulls":6},6,{"$nulls":5},6,{"$nulls":6},6]
[7,{"$nulls":6},7,{"$nulls":6},7,{"$nulls":5},7,{"$nulls":6},7,{"$nulls":6},7,{"$nulls":5},7,{"$nulls":6},7]
[8,{"$nulls":6},8,{"$nulls":6},8,{"$nulls":5},8,{"$nulls":6},8,{"$nulls":6},8,{"$nulls":5},8,{"$nulls":6},8]
[9,{"$nulls":6},9,{"$nulls":6},9,{"$nulls":5},9,{"$nulls":6},9,{"$nulls":6},9,{"$nulls":5},9,{"$nulls":6},9]
[10,{"$nulls":6},10,{"$nulls":6},10,{"$nulls":5},10,{"$nulls":6},10,{"$nulls":6},10,{"$nulls":5},10,{"$nulls":6},10]
[11,{"$nulls":6},11,{"$nulls":6},11,{"$nulls":5},11,{"$nulls":6},11,{"$nulls":6},11,{"$nulls":5},11,{"$nulls":6},11]
[12,{"$nulls":6},12,{"$nulls":6},12,{"$nulls":5},12,{"$nulls":6},12,{"$nulls":6},12,{"$nulls":5},12,{"$nulls":6},12]
[13,{"$nulls":6},13,{"$nulls":6},13,{"$nulls":5},13,{"$nulls":6},13,{"$nulls":6},13,{"$nulls":5},13,{"$nulls":6},13]
[14,{"$nulls":6},14,{"$nulls":6},14,{"$nulls":5},14,{"$nulls":6},14,{"$nulls":6},14,{"$nulls":5},14,{"$nulls":6},14]
[15,{"$nulls":6},15,{"$nulls":6},15,{"$nulls":5},15,{"$nulls":6},15,{"$nulls":6},15,{"$nulls":5},15,{"$nulls":6},15]
[16,{"$nulls":6},16,{"$nulls":6},16,{"$nulls":5},16,{"$nulls":6},16,{"$nulls":6},16,{"$nulls":5},16,{"$nulls":6},16]
[17,{"$nulls":6},17,{"$nulls":6},17,{"$nulls":5},17,{"$nulls":6},17,{"$nulls":6},17,{"$nulls":5},17,{"$nulls":6},17]
[18,{"$nulls":6},18,{"$nulls":6},18,{"$nulls":5},18,{"$nulls":6},18,{"$nulls":6},18,{"$nulls":5},18,{"$nulls":6},18]
["Total","Shots",null,null,"Shots",null,null,"Total","Shots",null,null,"Shots",null,null,"Total","Shots",null,null,"Shots",null,"Total","Shots",null,null,"Shots",null,null,"Total","Shots",null,null,"Shots",null,null,"Total","Shots",null,null,"Shots",null,"Total","Shots",null,null,"Shots",null,null,"Total","Shots",null,null,"shots"]
[null,"Ends",null,null,"Ends",{"$nulls":3},"Ends",null,null,"Ends",{"$nulls":3},"Ends",null,null,"Ends",null,null,"Ends",null,null,"Ends",{"$nulls":3},"Ends",null,null,"Ends",{"$nulls":3},"Ends",null,null,"Ends",null,null,"Ends",null,null,"Ends",{"$nulls":3},"Ends",null,null,"Ends"]
[]
[]
["1st Game ",{"$nulls":6},"2nd Game ",{"$nulls":6},"3rd Game ",{"$nulls":5},"4th Game",{"$nulls":6},"5th Game",{"$nulls":6},"6th Game",{"$nulls":5},"7th Game",{"$nulls":6},"8th Game"]
["Team No",null,null,"Rink No",{"$nulls":3},"Team No",null,null,"Rink No",{"$nulls":3},"Team No",null,null,"Rink No",null,null,"Team No",null,null,"Rink No",{"$nulls":3},"Team No",null,null,"Rink No",{"$nulls":3},"Team No",null,null,"Rink No",null,null,"Team No",null,null,"Rink No",{"$nulls":3},"Team No",null,null,"Rink No"]
[]
[{"$f":"DRAW!$B$10","v":4},null,null,{"$f":"DRAW!$E$10","v":3},{"$nulls":3},{"$f":"DRAW!$B$10","v":4},null,null,{"$f":"DRAW!$G$10","v":12},{"$nulls":3},{"$f":"DRAW!$B$10","v":4},null,null,{"$f":"DRAW!$I$10","v":18},null,null,{"$f":"DRAW!$B$10","v":4},null,null,{"$f":"DRAW!$K$10","v":7},{"$nulls":3},{"$f":"DRAW!$B$10","v":4},null,null,{"$f":"DRAW!$M$10","v":9},{"$nulls":3},{"$f":"DRAW!$B$10","v":4},null,null,{"$f":"DRAW!$O$10","v":20},null,null,{"$f":"DRAW!$B$10","v":4},null,null,{"$f":"DRAW!$Q$10","v":7},{"$nulls":3},{"$f":"DRAW!$B$10","v":4},null,null,{"$f":"DRAW!$S$10","v":11}]
[null,"Team",{"$f":"DRAW!$B$10","v":4},"V","Team",{"$f":"DRAW!$D$10","v":13},null,null,"Team",{"$f":"DRAW!$B$10","v":4},"V","Team",{"$f":"DRAW!$F$10","v":2},null,null,"Team",{"$f":"DRAW!$B$10","v":4},"V","Team",{"$f":"DRAW!$H$10","v":6},null,"Team",{"$f":"DRAW!$B$10","v":4},"V","Team",{"$f":"DRAW!$J$10","v":10},null,null,"Team",{"$f":"DRAW!$B$10","v":4},"V","Team",{"$f":"DRAW!$L$10","v":11},null,null,"Team",{"$f":"DRAW!$B$10","v":4},"V","Team",{"$f":"DRAW!$N$10","v":8},null,"Team",{"$f":"DRAW!$B$10","v":4},"V","Team",{"$f":"DRAW!$P$10","v":12},null,null,"Team",{"$f":"DRAW!$B$10","v":4},"V","Team",{"$f":"DRAW!$R$10","v":3}]
["Ends","Shots","Total",null,"Shots","Total",null,"Ends","Shots","Total",null,"Shots","Total",null,"Ends","Shots","Total",null,"Shots","Total","Ends","Shots","Total",null,"Shots","Total",null,"Ends","Shots","Total",null,"Shots","Total",null,"Ends","Shots","Total",null,"Shots","Total","Ends","Shots","Total",null,"Shots","Total",null,"Ends","Shots","Total",null,"shots","Totar"]
[1,{"$nulls":6},1,{"$nulls":6},1,{"$nulls":5},1,{"$nulls":6},1,{"$nulls":6},1,{"$nulls":5},1,{"$nulls":6},1]
[2,{"$nulls":6},2,{"$nulls":6},2,{"$nulls":5},2,{"$nulls":6},2,{"$nulls":6},2,{"$nulls":5},2,{"$nulls":6},2]
[3,{"$nulls":6},3,{"$nulls":6},3,{"$nulls":5},3,{"$nulls":6},3,{"$nulls":6},3,{"$nulls":5},3,{"$nulls":6},3]
[4,{"$nulls":6},4,{"$nulls":6},4,{"$nulls":5},4,{"$nulls":6},4,{"$nulls":6},4,{"$nulls":5},4,{"$nulls":6},4]
[5,{"$nulls":6},5,{"$nulls":6},5,{"$nulls":5},5,{"$nulls":6},5,{"$nulls":6},5,{"$nulls":5},5,{"$nulls":6},5]
[6,{"$nulls":6},6,{"$nulls":6},6,{"$nulls":5},6,{"$nulls":6},6,{"$nulls":6},6,{"$nulls":5},6,{"$nulls":6},6]
[7,{"$nulls":6},7,{"$nulls":6},7,{"$nulls":5},7,{"$nulls":6},7,{"$nulls":6},7,{"$nulls":5},7,{"$nulls":6},7]
[8,{"$nulls":6},8,{"$nulls":6},8,{"$nulls":5},8,{"$nulls":6},8,{"$nulls":6},8,{"$nulls":5},8,{"$nulls":6},8]
[9,{"$nulls":6},9,{"$nulls":6},9,{"$nulls":5},9,{"$nulls":6},9,{"$nulls":6},9,{"$nulls":5},9,{"$nulls":6},9]
[10,{"$nulls":6},10,{"$nulls":6},10,{"$nulls":5},10,{"$nulls":6},10,{"$nulls":6},10,{"$nulls":5},10,{"$nulls":6},10]
[11,{"$nulls":6},11,{"$nulls":6},11,{"$nulls":5},11,{"$nulls":6},11,{"$nulls":6},11,{"$nulls":5},11,{"$nulls":6},11]
[12,{"$nulls":6},12,{"$nulls":6},12,{"$nulls":5},12,{"$nulls":6},12,{"$nulls":6},12,{"$nulls":5},12,{"$nulls":6},12]
[13,{"$nulls":6},13,{"$nulls":6},13,{"$nulls":5},13,{"$nulls":6},13,{"$nulls":6},13,{"$nulls":5},13,{"$nulls":6},13]
[14,{"$nulls":6},14,{"$nulls":6},14,{"$nulls":5},14,{"$nulls":6},14,{"$nulls":6},14,{"$nulls":5},14,{"$nulls":6},14]
[15,{"$nulls":6},15,{"$nulls":6},15,{"$nulls":5},15,{"$nulls":6},15,{"$nulls":6},15,{"$nulls":5},15,{"$nulls":6},15]
[16,{"$nulls":6},16,{"$nulls":6},16,{"$nulls":5},16,{"$nulls":6},16,{"$nulls":6},16,{"$nulls":5},16,{"$nulls":6},16]
[17,{"$nulls":6},17,{"$nulls":6},17,{"$nulls":5},17,{"$nulls":6},17,{"$nulls":6},17,{"$nulls":5},17,{"$nulls":6},17]
[18,{"$nulls":6},18,{"$nulls":6},18,{"$nulls":5},18,{"$nulls":6},18,{"$nulls":6},18,{"$nulls":5},18,{"$nulls":6},18]
["Total","Shots",null,null,"Shots",null,null,"Total","Shots",null,null,"Shots",null,null,"Total","Shots",null,null,"Shots",null,"Total","Shots",null,null,"Shots",null,null,"Total","Shots",null,null,"Shots",null,null,"Total","Shots",null,null,"Shots",null,"Total","Shots",null,null,"Shots",null,null,"Total","Shots",null,null,"shots"]
[null,"Ends",null,null,"Ends",{"$nulls":3},"Ends",null,null,"Ends",{"$nulls":3},"Ends",null,null,"Ends",null,null,"Ends",null,null,"Ends",{"$nulls":3},"Ends",null,null,"Ends",{"$nulls":3},"Ends",null,null,"Ends",null,null,"Ends",null,null,"Ends",{"$nulls":3},"Ends",null,null,"Ends"]
["1st Game ",{"$nulls":6},"2nd Game ",{"$nulls":6},"3rd Game ",{"$nulls":5},"4th Game",{"$nulls":6},"5th Game",{"$nulls":6},"6th Game",{"$nulls":5},"7th Game",{"$nulls":6},"8th Game"]
["Team No",null,null,"Rink No",{"$nulls":3},"Team No",null,null,"Rink No",{"$nulls":3},"Team No",null,null,"Rink No",null,null,"Team No",null,null,"Rink No",{"$nulls":3},"Team No",null,null,"Rink No",{"$nulls":3},"Team No",null,null,"Rink No",null,null,"Team No",null,null,"Rink No",{"$nulls":3},"Team No",null,null,"Rink No"]
[]
[{"$f":"DRAW!$B$11","v":5},null,null,{"$f":"DRAW!$E$11","v":4},{"$nulls":3},{"$f":"DRAW!$B$11","v":5},null,null,{"$f":"DRAW!$G$11","v":8},{"$nulls":3},{"$f":"DRAW!$B$11","v":5},null,null,{"$f":"DRAW!$I$11","v":19},null,null,{"$f":"DRAW!$B$11","v":5},null,null,{"$f":"DRAW!$K$11","v":3},{"$nulls":3},{"$f":"DRAW!$B$11","v":5},null,null,{"$f":"DRAW!$M$11","v":12},{"$nulls":3},{"$f":"DRAW!$B$11","v":5},null,null,{"$f":"DRAW!$O$11","v":15},null,null,{"$f":"DRAW!$B$11","v":5},null,null,{"$f":"DRAW!$Q$11","v":6},{"$nulls":3},{"$f":"DRAW!$B$11","v":5},null,null,{"$f":"DRAW!$S$11","v":9}]
[null,"Team",{"$f":"DRAW!$B$11","v":5},"V","Team",{"$f":"DRAW!$D$11","v":12},null,null,"Team",{"$f":"DRAW!$B$11","v":5},"V","Team",{"$f":"DRAW!$F$11","v":14},null,null,"Team",{"$f":"DRAW!$B$11","v":5},"V","Team",{"$f":"DRAW!$H$11","v":1},null,"Team",{"$f":"DRAW!$B$11","v":5},"V","Team",{"$f":"DRAW!$J$11","v":9},null,null,"Team",{"$f":"DRAW!$B$11","v":5},"V","Team",{"$f":"DRAW!$L$11","v":10},null,null,"Team",{"$f":"DRAW!$B$11","v":5},"V","Team",{"$f":"DRAW!$N$11","v":11},null,"Team",{"$f":"DRAW!$B$11","v":5},"V","Team",{"$f":"DRAW!$P$11","v":8},null,null,"Team",{"$f":"DRAW!$B$11","v":5},"V","Team",{"$f":"DRAW!$R$11","v":2}]
["Ends","Shots","Total",null,"Shots","Total",null,"Ends","Shots","Total",null,"Shots","Total",null,"Ends","Shots","Total",null,"Shots","Total","Ends","Shots","Total",null,"Shots","Total",null,"Ends","Shots","Total",null,"Shots","Total",null,"Ends","Shots","Total",null,"Shots","Total","Ends","Shots","Total",null,"Shots","Total",null,"Ends","Shots","Total",null,"shots","Totar"]
[1,{"$nulls":6},1,{"$nulls":6},1,{"$nulls":5},1,{"$nulls":6},1,{"$nulls":6},1,{"$nulls":5},1,{"$nulls":6},1]
[2,{"$nulls":6},2,{"$nulls":6},2,{"$nulls":5},2,{"$nulls":6},2,{"$nulls":6},2,{"$nulls":5},2,{"$nulls":6},2]
[3,{"$nulls":6},3,{"$nulls":6},3,{"$nulls":5},3,{"$nulls":6},3,{"$nulls":6},3,{"$nulls":5},3,{"$nulls":6},3]
[4,{"$nulls":6},4,{"$nulls":6},4,{"$nulls":5},4,{"$nulls":6},4,{"$nulls":6},4,{"$nulls":5},4,{"$nulls":6},4]
[5,{"$nulls":6},5,{"$nulls":6},5,{"$nulls":5},5,{"$nulls":6},5,{"$nulls":6},5,{"$nulls":5},5,{"$nulls":6},5]
[6,{"$nulls":6},6,{"$nulls":6},6,{"$nulls":5},6,{"$nulls":6},6,{"$nulls":6},6,{"$nulls":5},6,{"$nulls":6},6]
[7,{"$nulls":6},7,{"$nulls":6},7,{"$nulls":5},7,{"$nulls":6},7,{"$nulls":6},7,{"$nulls":5},7,{"$nulls":6},7]
[8,{"$nulls":6},8,{"$nulls":6},8,{"$nulls":5},8,{"$nulls":6},8,{"$nulls":6},8,{"$nulls":5},8,{"$nulls":6},8]
[9,{"$nulls":6},9,{"$nulls":6},9,{"$nulls":5},9,{"$nulls":6},9,{"$nulls":6},9,{"$nulls":5},9,{"$nulls":6},9]
[10,{"$nulls":6},10,{"$nulls":6},10,{"$nulls":5},10,{"$nulls":6},10,{"$nulls":6},10,{"$nulls":5},10,{"$nulls":6},10]
[11,{"$nulls":6},11,{"$nulls":6},11,{"$nulls":5},11,{"$nulls":6},11,{"$nulls":6},11,{"$nulls":5},11,{"$nulls":6},11]
[12,{"$nulls":6},12,{"$nulls":6},12,{"$nulls":5},12,{"$nulls":6},12,{"$nulls":6},12,{"$nulls":5},12,{"$nulls":6},12]
[13,{"$nulls":6},13,{"$nulls":6},13,{"$nulls":5},13,{"$nulls":6},13,{"$nulls":6},13,{"$nulls":5},13,{"$nulls":6},13]
[14,{"$nulls":6},14,{"$nulls":6},14,{"$nulls":5},14,{"$nulls":6},14,{"$nulls":6},14,{"$nulls":5},14,{"$nulls":6},14]
[15,{"$nulls":6},15,{"$nulls":6},15,{"$nulls":5},15,{"$nulls":6},15,{"$nulls":6},15,{"$nulls":5},15,{"$nulls":6},15]
[16,{"$nulls":6},16,{"$nulls":6},16,{"$nulls":5},16,{"$nulls":6},16,{"$nulls":6},16,{"$nulls":5},16,{"$nulls":6},16]
[17,{"$nulls":6},17,{"$nulls":6},17,{"$nulls":5},17,{"$nulls":6},17,{"$nulls":6},17,{"$nulls":5},17,{"$nulls":6},17]
[18,{"$nulls":6},18,{"$nulls":6},18,{"$nulls":5},18,{"$nulls":6},18,{"$nulls":6},18,{"$nulls":5},18,{"$nulls":6},18]
["Total","Shots",null,null,"Shots",null,null,"Total","Shots",null,null,"Shots",null,null,"Total","Shots",null,null,"Shots",null,"Total","Shots",null,null,"Shots",null,null,"Total","Shots",null,null,"Shots",null,null,"Total","Shots",null,null,"Shots",null,"Total","Shots",null,null,"Shots",null,null,"Total","Shots",null,null,"shots"]
[null,"Ends",null,null,"Ends",{"$nulls":3},"Ends",null,null,"Ends",{"$nulls":3},"Ends",null,null,"Ends",null,null,"Ends",null,null,"Ends",{"$nulls":3},"Ends",null,null,"Ends",{"$nulls":3},"Ends",null,null,"Ends",null,null,"Ends",null,null,"Ends",{"$nulls":3},"Ends",null,null,"Ends"]
[]
[]
["1st Game ",{"$nulls":6},"2nd Game ",{"$nulls":6},"3rd Game ",{"$nulls":5},"4th Game",{"$nulls":6},"5th Game",{"$nulls":6},"6th Game",{"$nulls":5},"7th Game",{"$nulls":6},"8th Game"]
["Team No",null,null,"Rink No",{"$nulls":3},"Team No",null,null,"Rink No",{"$nulls":3},"Team No",null,null,"Rink No",null,null,"Team No",null,null,"Rink No",{"$nulls":3},"Team No",null,null,"Rink No",{"$nulls":3},"Team No",null,null,"Rink No",null,null,"Team No",null,null,"Rink No",{"$nulls":3},"Team No",null,null,"Rink No"]
[]
[{"$f":"DRAW!$B$12","v":6},null,null,{"$f":"DRAW!$E$12","v":5},{"$nulls":3},{"$f":"DRAW!$B$12","v":6},null,null,{"$f":"DRAW!$G$12","v":14},{"$nulls":3},{"$f":"DRAW!$B$12","v":6},null,null,{"$f":"DRAW!$I$12","v":18},null,null,{"$f":"DRAW!$B$12","v":6},null,null,{"$f":"DRAW!$K$12","v":1},{"$nulls":3},{"$f":"DRAW!$B$12","v":6},null,null,{"$f":"DRAW!$M$12","v":13},{"$nulls":3},{"$f":"DRAW!$B$12","v":6},null,null,{"$f":"DRAW!$O$12","v":19},null,null,{"$f":"DRAW!$B$12","v":6},null,null,{"$f":"DRAW!$Q$12","v":4},{"$nulls":3},{"$f":"DRAW!$B$12","v":6},null,null,{"$f":"DRAW!$S$12","v":14}]
[null,"Team",{"$f":"DRAW!$B$12","v":6},"V","Team",{"$f":"DRAW!$D$12","v":11},null,null,"Team",{"$f":"DRAW!$B$12","v":6},"V","Team",{"$f":"DRAW!$F$12","v":13},null,null,"Team",{"$f":"DRAW!$B$12","v":6},"V","Team",{"$f":"DRAW!$H$12","v":4},null,"Team",{"$f":"DRAW!$B$12","v":6},"V","Team",{"$f":"DRAW!$J$12","v":8},null,null,"Team",{"$f":"DRAW!$B$12","v":6},"V","Team",{"$f":"DRAW!$L$12","v":9},null,null,"Team",{"$f":"DRAW!$B$12","v":6},"V","Team",{"$f":"DRAW!$N$12","v":10},null,"Team",{"$f":"DRAW!$B$12","v":6},"V","Team",{"$f":"DRAW!$P$12","v":7},null,null,"Team",{"$f":"DRAW!$B$12","v":6},"V","Team",{"$f":"DRAW!$R$12","v":14}]
["Ends","Shots","Total",null,"Shots","Total",null,"Ends","Shots","Total",null,"Shots","Total",null,"Ends","Shots","Total",null,"Shots","Total","Ends","Shots","Total",null,"Shots","Total",null,"Ends","Shots","Total",null,"Shots","Total",null,"Ends","Shots","Total",null,"Shots","Total","Ends","Shots","Total",null,"Shots","Total",null,"Ends","Shots","Total",null,"shots","Totar"]
[1,{"$nulls":6},1,{"$nulls":6},1,{"$nulls":5},1,{"$nulls":6},1,{"$nulls":6},1,{"$nulls":5},1,{"$nulls":6},1]
[2,{"$nulls":6},2,{"$nulls":6},2,{"$nulls":5},2,{"$nulls":6},2,{"$nulls":6},2,{"$nulls":5},2,{"$nulls":6},2]
[3,{"$nulls":6},3,{"$nulls":6},3,{"$nulls":5},3,{"$nulls":6},3,{"$nulls":6},3,{"$nulls":5},3,{"$nulls":6},3]
[4,{"$nulls":6},4,{"$nulls":6},4,{"$nulls":5},4,{"$nulls":6},4,{"$nulls":6},4,{"$nulls":5},4,{"$nulls":6},4]
[5,{"$nulls":6},5,{"$nulls":6},5,{"$nulls":5},5,{"$nulls":6},5,{"$nulls":6},5,{"$nulls":5},5,{"$nulls":6},5]
[6,{"$nulls":6},6,{"$nulls":6},6,{"$nulls":5},6,{"$nulls":6},6,{"$nulls":6},6,{"$nulls":5},6,{"$nulls":6},6]
[7,{"$nulls":6},7,{"$nulls":6},7,{"$nulls":5},7,{"$nulls":6},7,{"$nulls":6},7,{"$nulls":5},7,{"$nulls":6},7]
[8,{"$nulls":6},8,{"$nulls":6},8,{"$nulls":5},8,{"$nulls":6},8,{"$nulls":6},8,{"$nulls":5},8,{"$nulls":6},8]
[9,{"$nulls":6},9,{"$nulls":6},9,{"$nulls":5},9,{"$nulls":6},9,{"$nulls":6},9,{"$nulls":5},9,{"$nulls":6},9]
[10,{"$nulls":6},10,{"$nulls":6},10,{"$nulls":5},10,{"$nulls":6},10,{"$nulls":6},10,{"$nulls":5},10,{"$nulls":6},10]
[11,{"$nulls":6},11,{"$nulls":6},11,{"$nulls":5},11,{"$nulls":6},11,{"$nulls":6},11,{"$nulls":5},11,{"$nulls":6},11]
[12,{"$nulls":6},12,{"$nulls":6},12,{"$nulls":5},12,{"$nulls":6},12,{"$nulls":6},12,{"$nulls":5},12,{"$nulls":6},12]
[13,{"$nulls":6},13,{"$nulls":6},13,{"$nulls":5},13,{"$nulls":6},13,{"$nulls":6},13,{"$nulls":5},13,{"$nulls":6},13]
[14,{"$nulls":6},14,{"$nulls":6},14,{"$nulls":5},14,{"$nulls":6},14,{"$nulls":6},14,{"$nulls":5},14,{"$nulls":6},14]
[15,{"$nulls":6},15,{"$nulls":6},15,{"$nulls":5},15,{"$nulls":6},15,{"$nulls":6},15,{"$nulls":5},15,{"$nulls":6},15]
[16,{"$nulls":6},16,{"$nulls":6},16,{"$nulls":5},16,{"$nulls":6},16,{"$nulls":6},16,{"$nulls":5},16,{"$nulls":6},16]
[17,{"$nulls":6},17,{"$nulls":6},17,{"$nulls":5},17,{"$nulls":6},17,{"$nulls":6},17,{"$nulls":5},17,{"$nulls":6},17]
[18,{"$nulls":6},18,{"$nulls":6},18,{"$nulls":5},18,{"$nulls":6},18,{"$nulls":6},18,{"$nulls":5},18,{"$nulls":6},18]
["Total","Shots",null,null,"Shots",null,null,"Total","Shots",null,null,"Shots",null,null,"Total","Shots",null,null,"Shots",null,"Total","Shots",null,null,"Shots",null,null,"Total","Shots",null,null,"Shots",null,null,"Total","Shots",null,null,"Shots",null,"Total","Shots",null,null,"Shots",null,null,"Total","Shots",null,null,"shots"]
[null,"Ends",null,null,"Ends",{"$nulls":3},"Ends",null,null,"Ends",{"$nulls":3},"Ends",null,null,"Ends",null,null,"Ends",null,null,"Ends",{"$nulls":3},"Ends",null,null,"Ends",{"$nulls":3},"Ends",null,null,"Ends",null,null,"Ends",null,null,"Ends",{"$nulls":3},"Ends",null,null,"Ends"]
["1st Game ",{"$nulls":6},"2nd Game ",{"$nulls":6},"3rd Game ",{"$nulls":5},"4th Game",{"$nulls":6},"5th Game",{"$nulls":6},"6th Game",{"$nulls":5},"7th Game",{"$nulls":6},"8th Game"]
["Team No",null,null,"Rink No",{"$nulls":3},"Team No",null,null,"Rink No",{"$nulls":3},"Team No",null,null,"Rink No",null,null,"Team No",null,null,"Rink No",{"$nulls":3},"Team No",null,null,"Rink No",{"$nulls":3},"Team No",null,null,"Rink No",null,null,"Team No",null,null,"Rink No",{"$nulls":3},"Team No",null,null,"Rink No"]
[]
[{"$f":"DRAW!$B$13","v":7},null,null,{"$f":"DRAW!$E$13","v":6},{"$nulls":3},{"$f":"DRAW!$B$13","v":7},null,null,{"$f":"DRAW!$G$13","v":9},{"$nulls":3},{"$f":"DRAW!$B$13","v":7},null,null,{"$f":"DRAW!$I$13","v":15},null,null,{"$f":"DRAW!$B$13","v":7},null,null,{"$f":"DRAW!$K$13","v":2},{"$nulls":3},{"$f":"DRAW!$B$13","v":7},null,null,{"$f":"DRAW!$M$13","v":11},{"$nulls":3},{"$f":"DRAW!$B$13","v":7},null,null,{"$f":"DRAW!$O$13","v":21},null,null,{"$f":"DRAW!$B$13","v":7},null,null,{"$f":"DRAW!$Q$13","v":4},{"$nulls":3},{"$f":"DRAW!$B$13","v":7},null,null,{"$f":"DRAW!$S$13","v":10}]
[null,"Team",{"$f":"DRAW!$B$13","v":7},"V","Team",{"$f":"DRAW!$D$13","v":10},null,null,"Team",{"$f":"DRAW!$B$13","v":7},"V","Team",{"$f":"DRAW!$F$13","v":12},null,null,"Team",{"$f":"DRAW!$B$13","v":7},"V","Team",{"$f":"DRAW!$H$13","v":3},null,"Team",{"$f":"DRAW!$B$13","v":7},"V","Team",{"$f":"DRAW!$J$13","v":1},null,null,"Team",{"$f":"DRAW!$B$13","v":7},"V","Team",{"$f":"DRAW!$L$13","v":8},null,null,"Team",{"$f":"DRAW!$B$13","v":7},"V","Team",{"$f":"DRAW!$N$13","v":9},null,"Team",{"$f":"DRAW!$B$13","v":7},"V","Team",{"$f":"DRAW!$P$13","v":6},null,null,"Team",{"$f":"DRAW!$B$13","v":7},"V","Team",{"$f":"DRAW!$R$13","v":13}]
["Ends","Shots","Total",null,"Shots","Total",null,"Ends","Shots","Total",null,"Shots","Total",null,"Ends","Shots","Total",null,"Shots","Total","Ends","Shots","Total",null,"Shots","Total",null,"Ends","Shots","Total",null,"Shots","Total",null,"Ends","Shots","Total",null,"Shots","Total","Ends","Shots","Total",null,"Shots","Total",null,"Ends","Shots","Total",null,"shots","Totar"]
[1,{"$nulls":6},1,{"$nulls":6},1,{"$nulls":5},1,{"$nulls":6},1,{"$nulls":6},1,{"$nulls":5},1,{"$nulls":6},1]
[2,{"$nulls":6},2,{"$nulls":6},2,{"$nulls":5},2,{"$nulls":6},2,{"$nulls":6},2,{"$nulls":5},2,{"$nulls":6},2]
[3,{"$nulls":6},3,{"$nulls":6},3,{"$nulls":5},3,{"$nulls":6},3,{"$nulls":6},3,{"$nulls":5},3,{"$nulls":6},3]
[4,{"$nulls":6},4,{"$nulls":6},4,{"$nulls":5},4,{"$nulls":6},4,{"$nulls":6},4,{"$nulls":5},4,{"$nulls":6},4]
[5,{"$nulls":6},5,{"$nulls":6},5,{"$nulls":5},5,{"$nulls":6},5,{"$nulls":6},5,{"$nulls":5},5,{"$nulls":6},5]
[6,{"$nulls":6},6,{"$nulls":6},6,{"$nulls":5},6,{"$nulls":6},6,{"$nulls":6},6,{"$nulls":5},6,{"$nulls":6},6]
[7,{"$nulls":6},7,{"$nulls":6},7,{"$nulls":5},7,{"$nulls":6},7,{"$nulls":6},7,{"$nulls":5},7,{"$nulls":6},7]
[8,{"$nulls":6},8,{"$nulls":6},8,{"$nulls":5},8,{"$nulls":6},8,{"$nulls":6},8,{"$nulls":5},8,{"$nulls":6},8]
[9,{"$nulls":6},9,{"$nulls":6},9,{"$nulls":5},9,{"$nulls":6},9,{"$nulls":6},9,{"$nulls":5},9,{"$nulls":6},9]
[10,{"$nulls":6},10,{"$nulls":6},10,{"$nulls":5},10,{"$nulls":6},10,{"$nulls":6},10,{"$nulls":5},10,{"$nulls":6},10]
[11,{"$nulls":6},11,{"$nulls":6},11,{"$nulls":5},11,{"$nulls":6},11,{"$nulls":6},11,{"$nulls":5},11,{"$nulls":6},11]
[12,{"$nulls":6},12,{"$nulls":6},12,{"$nulls":5},12,{"$nulls":6},12,{"$nulls":6},12,{"$nulls":5},12,{"$nulls":6},12]
[13,{"$nulls":6},13,{"$nulls":6},13,{"$nulls":5},13,{"$nulls":6},13,{"$nulls":6},13,{"$nulls":5},13,{"$nulls":6},13]
[14,{"$nulls":6},14,{"$nulls":6},14,{"$nulls":5},14,{"$nulls":6},14,{"$nulls":6},14,{"$nulls":5},14,{"$nulls":6},14]
[15,{"$nulls":6},15,{"$nulls":6},15,{"$nulls":5},15,{"$nulls":6},15,{"$nulls":6},15,{"$nulls":5},15,{"$nulls":6},15]
[16,{"$nulls":6},16,{"$nulls":6},16,{"$nulls":5},16,{"$nulls":6},16,{"$nulls":6},16,{"$nulls":5},16,{"$nulls":6},16]
[17,{"$nulls":6},17,{"$nulls":6},17,{"$nulls":5},17,{"$nulls":6},17,{"$nulls":6},17,{"$nulls":5},17,{"$nulls":6},17]
[18,{"$nulls":6},18,{"$nulls":6},18,{"$nulls":5},18,{"$nulls":6},18,{"$nulls":6},18,{"$nulls":5},18,{"$nulls":6},18]
["Total","Shots",null,null,"Shots",null,null,"Total","Shots",null,null,"Shots",null,null,"Total","Shots",null,null,"Shots",null,"Total","Shots",null,null,"Shots",null,null,"Total","Shots",null,null,"Shots",null,null,"Total","Shots",null,null,"Shots",null,"Total","Shots",null,null,"Shots",null,null,"Total","Shots",null,null,"shots"]
[null,"Ends",null,null,"Ends",{"$nulls":3},"Ends",null,null,"Ends",{"$nulls":3},"Ends",null,null,"Ends",null,null,"Ends",null,null,"Ends",{"$nulls":3},"Ends",null,null,"Ends",{"$nulls":3},"Ends",null,null,"Ends",null,null,"Ends",null,null,"Ends",{"$nulls":3},"Ends",null,null,"Ends"]
[]
[]
["1st Game ",{"$nulls":6},"2nd Game ",{"$nulls":6},"3rd Game ",{"$nulls":5},"4th Game",{"$nulls":6},"5th Game",{"$nulls":6},"6th Game",{"$nulls":5},"7th Game",{"$nulls":6},"8th Game"]
["Team No",null,null,"Rink No",{"$nulls":3},"Team No",null,null,"Rink No",{"$nulls":3},"Team No",null,null,"Rink No",null,null,"Team No",null,null,"Rink No",{"$nulls":3},"Team No",null,null,"Rink No",{"$nulls":3},"Team No",null,null,"Rink No",null,null,"Team No",null,null,"Rink No",{"$nulls":3},"Team No",null,null,"Rink No"]
[]
[{"$f":"DRAW!$B$14","v":8},null,null,{"$f":"DRAW!$E$14","v":7},{"$nulls":3},{"$f":"DRAW!$B$14","v":8},null,null,{"$f":"DRAW!$G$14","v":10},{"$nulls":3},{"$f":"DRAW!$B$14","v":8},null,null,{"$f":"DRAW!$I$14","v":16},null,null,{"$f":"DRAW!$B$14","v":8},null,null,{"$f":"DRAW!$K$14","v":1},{"$nulls":3},{"$f":"DRAW!$B$14","v":8},null,null,{"$f":"DRAW!$M$14","v":11},{"$nulls":3},{"$f":"DRAW!$B$14","v":8},null,null,{"$f":"DRAW!$O$14","v":20},null,null,{"$f":"DRAW!$B$14","v":8},null,null,{"$f":"DRAW!$Q$14","v":6},{"$nulls":3},{"$f":"DRAW!$B$14","v":8},null,null,{"$f":"DRAW!$S$14","v":8}]
[null,"Team",{"$f":"DRAW!$B$14","v":8},"V","Team",{"$f":"DRAW!$D$14","v":9},null,null,"Team",{"$f":"DRAW!$B$14","v":8},"V","Team",{"$f":"DRAW!$F$14","v":11},null,null,"Team",{"$f":"DRAW!$B$14","v":8},"V","Team",{"$f":"DRAW!$H$14","v":2},null,"Team",{"$f":"DRAW!$B$14","v":8},"V","Team",{"$f":"DRAW!$J$14","v":6},null,null,"Team",{"$f":"DRAW!$B$14","v":8},"V","Team",{"$f":"DRAW!$L$14","v":7},null,null,"Team",{"$f":"DRAW!$B$14","v":8},"V","Team",{"$f":"DRAW!$N$14","v":4},null,"Team",{"$f":"DRAW!$B$14","v":8},"V","Team",{"$f":"DRAW!$P$14","v":5},null,null,"Team",{"$f":"DRAW!$B$14","v":8},"V","Team",{"$f":"DRAW!$R$14","v":1}]
["Ends","Shots","Total",null,"Shots","Total",null,"Ends","Shots","Total",null,"Shots","Total",null,"Ends","Shots","Total",null,"Shots","Total","Ends","Shots","Total",null,"Shots","Total",null,"Ends","Shots","Total",null,"Shots","Total",null,"Ends","Shots","Total",null,"Shots","Total","Ends","Shots","Total",null,"Shots","Total",null,"Ends","Shots","Total",null,"shots","Totar"]
[1,{"$nulls":6},1,{"$nulls":6},1,{"$nulls":5},1,{"$nulls":6},1,{"$nulls":6},1,{"$nulls":5},1,{"$nulls":6},1]
[2,{"$nulls":6},2,{"$nulls":6},2,{"$nulls":5},2,{"$nulls":6},2,{"$nulls":6},2,{"$nulls":5},2,{"$nulls":6},2]
[3,{"$nulls":6},3,{"$nulls":6},3,{"$nulls":5},3,{"$nulls":6},3,{"$nulls":6},3,{"$nulls":5},3,{"$nulls":6},3]
[4,{"$nulls":6},4,{"$nulls":6},4,{"$nulls":5},4,{"$nulls":6},4,{"$nulls":6},4,{"$nulls":5},4,{"$nulls":6},4]
[5,{"$nulls":6},5,{"$nulls":6},5,{"$nulls":5},5,{"$nulls":6},5,{"$nulls":6},5,{"$nulls":5},5,{"$nulls":6},5]
[6,{"$nulls":6},6,{"$nulls":6},6,{"$nulls":5},6,{"$nulls":6},6,{"$nulls":6},6,{"$nulls":5},6,{"$nulls":6},6]
[7,{"$nulls":6},7,{"$nulls":6},7,{"$nulls":5},7,{"$nulls":6},7,{"$nulls":6},7,{"$nulls":5},7,{"$nulls":6},7]
[8,{"$nulls":6},8,{"$nulls":6},8,{"$nulls":5},8,{"$nulls":6},8,{"$nulls":6},8,{"$nulls":5},8,{"$nulls":6},8]
[9,{"$nulls":6},9,{"$nulls":6},9,{"$nulls":5},9,{"$nulls":6},9,{"$nulls":6},9,{"$nulls":5},9,{"$nulls":6},9]
[10,{"$nulls":6},10,{"$nulls":6},10,{"$nulls":5},10,{"$nulls":6},10,{"$nulls":6},10,{"$nulls":5},10,{"$nulls":6},10]
[11,{"$nulls":6},11,{"$nulls":6},11,{"$nulls":5},11,{"$nulls":6},11,{"$nulls":6},11,{"$nulls":5},11,{"$nulls":6},11]
[12,{"$nulls":6},12,{"$nulls":6},12,{"$nulls":5},12,{"$nulls":6},12,{"$nulls":6},12,{"$nulls":5},12,{"$nulls":6},12]
[13,{"$nulls":6},13,{"$nulls":6},13,{"$nulls":5},13,{"$nulls":6},13,{"$nulls":6},13,{"$nulls":5},13,{"$nulls":6},13]
[14,{"$nulls":6},14,{"$nulls":6},14,{"$nulls":5},14,{"$nulls":6},14,{"$nulls":6},14,{"$nulls":5},14,{"$nulls":6},14]
[15,{"$nulls":6},15,{"$nulls":6},15,{"$nulls":5},15,{"$nulls":6},15,{"$nulls":6},15,{"$nulls":5},15,{"$nulls":6},15]
[16,{"$nulls":6},16,{"$nulls":6},16,{"$nulls":5},16,{"$nulls":6},16,{"$nulls":6},16,{"$nulls":5},16,{"$nulls":6},16]
[17,{"$nulls":6},17,{"$nulls":6},17,{"$nulls":5},17,{"$nulls":6},17,{"$nulls":6},17,{"$nulls":5},17,{"$nulls":6},17]
[18,{"$nulls":6},18,{"$nulls":6},18,{"$nulls":5},18,{"$nulls":6},18,{"$nulls":6},18,{"$nulls":5},18,{"$nulls":6},18]
["Total","Shots",null,null,"Shots",null,null,"Total","Shots",null,null,"Shots",null,null,"Total","Shots",null,null,"Shots",null,"Total","Shots",null,null,"Shots",null,null,"Total","Shots",null,null,"Shots",null,null,"Total","Shots",null,null,"Shots",null,"Total","Shots",null,null,"Shots",null,null,"Total","Shots",null,null,"shots"]
[null,"Ends",null,null,"Ends",{"$nulls":3},"Ends",null,null,"Ends",{"$nulls":3},"Ends",null,null,"Ends",null,null,"Ends",null,null,"Ends",{"$nulls":3},"Ends",null,null,"Ends",{"$nulls":3},"Ends",null,null,"Ends",null,null,"Ends",null,null,"Ends",{"$nulls":3},"Ends",null,null,"Ends"]
["1st Game ",{"$nulls":6},"2nd Game ",{"$nulls":6},"3rd Game ",{"$nulls":5},"4th Game",{"$nulls":6},"5th Game",{"$nulls":6},"6th Game",{"$nulls":5},"7th Game",{"$nulls":6},"8th Game"]
["Team No",null,null,"Rink No",{"$nulls":3},"Team No",null,null,"Rink No",{"$nulls":3},"Team No",null,null,"Rink No",null,null,"Team No",null,null,"Rink No",{"$nulls":3},"Team No",null,null,"Rink No",{"$nulls":3},"Team No",null,null,"Rink No",null,null,"Team No",null,null,"Rink No",{"$nulls":3},"Team No",null,null,"Rink No"]
[]
[{"$f":"DRAW!$B$15","v":9},null,null,{"$f":"DRAW!$E$15","v":7},{"$nulls":3},{"$f":"DRAW!$B$15","v":9},null,null,{"$f":"DRAW!$G$15","v":11},{"$nulls":3},{"$f":"DRAW!$B$15","v":9},null,null,{"$f":"DRAW!$I$15","v":17},null,null,{"$f":"DRAW!$B$15","v":9},null,null,{"$f":"DRAW!$K$15","v":3},{"$nulls":3},{"$f":"DRAW!$B$15","v":9},null,null,{"$f":"DRAW!$M$15","v":13},{"$nulls":3},{"$f":"DRAW!$B$15","v":9},null,null,{"$f":"DRAW!$O$15","v":21},null,null,{"$f":"DRAW!$B$15","v":9},null,null,{"$f":"DRAW!$Q$15","v":2},{"$nulls":3},{"$f":"DRAW!$B$15","v":9},null,null,{"$f":"DRAW!$S$15","v":12}]
[null,"Team",{"$f":"DRAW!$B$15","v":9},"V","Team",{"$f":"DRAW!$D$15","v":8},null,null,"Team",{"$f":"DRAW!$B$15","v":9},"V","Team",{"$f":"DRAW!$F$15","v":10},null,null,"Team",{"$f":"DRAW!$B$15","v":9},"V","Team",{"$f":"DRAW!$H$15","v":14},null,"Team",{"$f":"DRAW!$B$15","v":9},"V","Team",{"$f":"DRAW!$J$15","v":5},null,null,"Team",{"$f":"DRAW!$B$15","v":9},"V","Team",{"$f":"DRAW!$L$15","v":6},null,null,"Team",{"$f":"DRAW!$B$15","v":9},"V","Team",{"$f":"DRAW!$N$15","v":7},null,"Team",{"$f":"DRAW!$B$15","v":9},"V","Team",{"$f":"DRAW!$P$15","v":2},null,null,"Team",{"$f":"DRAW!$B$15","v":9},"V","Team",{"$f":"DRAW!$R$15","v":11}]
["Ends","Shots","Total",null,"Shots","Total",null,"Ends","Shots","Total",null,"Shots","Total",null,"Ends","Shots","Total",null,"Shots","Total","Ends","Shots","Total",null,"Shots","Total",null,"Ends","Shots","Total",null,"Shots","Total",null,"Ends","Shots","Total",null,"Shots","Total","Ends","Shots","Total",null,"Shots","Total",null,"Ends","Shots","Total",null,"shots","Totar"]
[1,{"$nulls":6},1,{"$nulls":6},1,{"$nulls":5},1,{"$nulls":6},1,{"$nulls":6},1,{"$nulls":5},1,{"$nulls":6},1]
[2,{"$nulls":6},2,{"$nulls":6},2,{"$nulls":5},2,{"$nulls":6},2,{"$nulls":6},2,{"$nulls":5},2,{"$nulls":6},2]
[3,{"$nulls":6},3,{"$nulls":6},3,{"$nulls":5},3,{"$nulls":6},3,{"$nulls":6},3,{"$nulls":5},3,{"$nulls":6},3]
[4,{"$nulls":6},4,{"$nulls":6},4,{"$nulls":5},4,{"$nulls":6},4,{"$nulls":6},4,{"$nulls":5},4,{"$nulls":6},4]
[5,{"$nulls":6},5,{"$nulls":6},5,{"$nulls":5},5,{"$nulls":6},5,{"$nulls":6},5,{"$nulls":5},5,{"$nulls":6},5]
[6,{"$nulls":6},6,{"$nulls":6},6,{"$nulls":5},6,{"$nulls":6},6,{"$nulls":6},6,{"$nulls":5},6,{"$nulls":6},6]
[7,{"$nulls":6},7,{"$nulls":6},7,{"$nulls":5},7,{"$nulls":6},7,{"$nulls":6},7,{"$nulls":5},7,{"$nulls":6},7]
[8,{"$nulls":6},8,{"$nulls":6},8,{"$nulls":5},8,{"$nulls":6},8,{"$nulls":6},8,{"$nulls":5},8,{"$nulls":6},8]
[9,{"$nulls":6},9,{"$nulls":6},9,{"$nulls":5},9,{"$nulls":6},9,{"$nulls":6},9,{"$nulls":5},9,{"$nulls":6},9]
[10,{"$nulls":6},10,{"$nulls":6},10,{"$nulls":5},10,{"$nulls":6},10,{"$nulls":6},10,{"$nulls":5},10,{"$nulls":6},10]
[11,{"$nulls":6},11,{"$nulls":6},11,{"$nulls":5},11,{"$nulls":6},11,{"$nulls":6},11,{"$nulls":5},11,{"$nulls":6},11]
[12,{"$nulls":6},12,{"$nulls":6},12,{"$nulls":5},12,{"$nulls":6},12,{"$nulls":6},12,{"$nulls":5},12,{"$nulls":6},12]
[13,{"$nulls":6},13,{"$nulls":6},13,{"$nulls":5},13,{"$nulls":6},13,{"$nulls":6},13,{"$nulls":5},13,{"$nulls":6},13]
[14,{"$nulls":6},14,{"$nulls":6},14,{"$nulls":5},14,{"$nulls":6},14,{"$nulls":6},14,{"$nulls":5},14,{"$nulls":6},14]
[15,{"$nulls":6},15,{"$nulls":6},15,{"$nulls":5},15,{"$nulls":6},15,{"$nulls":6},15,{"$nulls":5},15,{"$nulls":6},15]
[16,{"$nulls":6},16,{"$nulls":6},16,{"$nulls":5},16,{"$nulls":6},16,{"$nulls":6},16,{"$nulls":5},16,{"$nulls":6},16]
[17,{"$nulls":6},17,{"$nulls":6},17,{"$nulls":5},17,{"$nulls":6},17,{"$nulls":6},17,{"$nulls":5},17,{"$nulls":6},17]
[18,{"$nulls":6},18,{"$nulls":6},18,{"$nulls":5},18,{"$nulls":6},18,{"$nulls":6},18,{"$nulls":5},18,{"$nulls":6},18]
["Total","Shots",null,null,"Shots",null,null,"Total","Shots",null,null,"Shots",null,null,"Total","Shots",null,null,"Shots",null,"Total","Shots",null,null,"Shots",null,null,"Total","Shots",null,null,"Shots",null,null,"Total","Shots",null,null,"Shots",null,"Total","Shots",null,null,"Shots",null,null,"Total","Shots",null,null,"shots"]
[null,"Ends",null,null,"Ends",{"$nulls":3},"Ends",null,null,"Ends",{"$nulls":3},"Ends",null,null,"Ends",null,null,"Ends",null,null,"Ends",{"$nulls":3},"Ends",null,null,"Ends",{"$nulls":3},"Ends",null,null,"Ends",null,null,"Ends",null,null,"Ends",{"$nulls":3},"Ends",null,null,"Ends"]
[]
[]
["1st Game ",{"$nulls":6},"2nd Game ",{"$nulls":6},"3rd Game ",{"$nulls":5},"4th Game",{"$nulls":6},"5th Game",{"$nulls":6},"6th Game",{"$nulls":5},"7th Game",{"$nulls":6},"8th Game"]
["Team No",null,null,"Rink No",{"$nulls":3},"Team No",null,null,"Rink No",{"$nulls":3},"Team No",null,null,"Rink No",null,null,"Team No",null,null,"Rink No",{"$nulls":3},"Team No",null,null,"Rink No",{"$nulls":3},"Team No",null,null,"Rink No",null,null,"Team No",null,null,"Rink No",{"$nulls":3},"Team No",null,null,"Rink No"]
[]
[{"$f":"DRAW!$B$16","v":10},null,null,{"$f":"DRAW!$E$16","v":6},{"$nulls":3},{"$f":"DRAW!$B$16","v":10},null,null,{"$f":"DRAW!$G$16","v":11},{"$nulls":3},{"$f":"DRAW!$B$16","v":10},null,null,{"$f":"DRAW!$I$16","v":20},null,null,{"$f":"DRAW!$B$16","v":10},null,null,{"$f":"DRAW!$K$16","v":7},{"$nulls":3},{"$f":"DRAW!$B$16","v":10},null,null,{"$f":"DRAW!$M$16","v":12},{"$nulls":3},{"$f":"DRAW!$B$16","v":10},null,null,{"$f":"DRAW!$O$16","v":19},null,null,{"$f":"DRAW!$B$16","v":10},null,null,{"$f":"DRAW!$Q$16","v":1},{"$nulls":3},{"$f":"DRAW!$B$16","v":10},null,null,{"$f":"DRAW!$S$16","v":13}]
[null,"Team",{"$f":"DRAW!$B$16","v":10},"V","Team",{"$f":"DRAW!$D$16","v":7},null,null,"Team",{"$f":"DRAW!$B$16","v":10},"V","Team",{"$f":"DRAW!$F$16","v":9},null,null,"Team",{"$f":"DRAW!$B$16","v":10},"V","Team",{"$f":"DRAW!$H$16","v":13},null,"Team",{"$f":"DRAW!$B$16","v":10},"V","Team",{"$f":"DRAW!$J$16","v":4},null,null,"Team",{"$f":"DRAW!$B$16","v":10},"V","Team",{"$f":"DRAW!$L$16","v":5},null,null,"Team",{"$f":"DRAW!$B$16","v":10},"V","Team",{"$f":"DRAW!$N$16","v":6},null,"Team",{"$f":"DRAW!$B$16","v":10},"V","Team",{"$f":"DRAW!$P$16","v":3},null,null,"Team",{"$f":"DRAW!$B$16","v":10},"V","Team",{"$f":"DRAW!$R$16","v":12}]
["Ends","Shots","Total",null,"Shots","Total",null,"Ends","Shots","Total",null,"Shots","Total",null,"Ends","Shots","Total",null,"Shots","Total","Ends","Shots","Total",null,"Shots","Total",null,"Ends","Shots","Total",null,"Shots","Total",null,"Ends","Shots","Total",null,"Shots","Total","Ends","Shots","Total",null,"Shots","Total",null,"Ends","Shots","Total",null,"shots","Totar"]
[1,{"$nulls":6},1,{"$nulls":6},1,{"$nulls":5},1,{"$nulls":6},1,{"$nulls":6},1,{"$nulls":5},1,{"$nulls":6},1]
[2,{"$nulls":6},2,{"$nulls":6},2,{"$nulls":5},2,{"$nulls":6},2,{"$nulls":6},2,{"$nulls":5},2,{"$nulls":6},2]
[3,{"$nulls":6},3,{"$nulls":6},3,{"$nulls":5},3,{"$nulls":6},3,{"$nulls":6},3,{"$nulls":5},3,{"$nulls":6},3]
[4,{"$nulls":6},4,{"$nulls":6},4,{"$nulls":5},4,{"$nulls":6},4,{"$nulls":6},4,{"$nulls":5},4,{"$nulls":6},4]
[5,{"$nulls":6},5,{"$nulls":6},5,{"$nulls":5},5,{"$nulls":6},5,{"$nulls":6},5,{"$nulls":5},5,{"$nulls":6},5]
[6,{"$nulls":6},6,{"$nulls":6},6,{"$nulls":5},6,{"$nulls":6},6,{"$nulls":6},6,{"$nulls":5},6,{"$nulls":6},6]
[7,{"$nulls":6},7,{"$nulls":6},7,{"$nulls":5},7,{"$nulls":6},7,{"$nulls":6},7,{"$nulls":5},7,{"$nulls":6},7]
[8,{"$nulls":6},8,{"$nulls":6},8,{"$nulls":5},8,{"$nulls":6},8,{"$nulls":6},8,{"$nulls":5},8,{"$nulls":6},8]
[9,{"$nulls":6},9,{"$nulls":6},9,{"$nulls":5},9,{"$nulls":6},9,{"$nulls":6},9,{"$nulls":5},9,{"$nulls":6},9]
[10,{"$nulls":6},10,{"$nulls":6},10,{"$nulls":5},10,{"$nulls":6},10,{"$nulls":6},10,{"$nulls":5},10,{"$nulls":6},10]
[11,{"$nulls":6},11,{"$nulls":6},11,{"$nulls":5},11,{"$nulls":6},11,{"$nulls":6},11,{"$nulls":5},11,{"$nulls":6},11]
[12,{"$nulls":6},12,{"$nulls":6},12,{"$nulls":5},12,{"$nulls":6},12,{"$nulls":6},12,{"$nulls":5},12,{"$nulls":6},12]
[13,{"$nulls":6},13,{"$nulls":6},13,{"$nulls":5},13,{"$nulls":6},13,{"$nulls":6},13,{"$nulls":5},13,{"$nulls":6},13]
[14,{"$nulls":6},14,{"$nulls":6},14,{"$nulls":5},14,{"$nulls":6},14,{"$nulls":6},14,{"$nulls":5},14,{"$nulls":6},14]
[15,{"$nulls":6},15,{"$nulls":6},15,{"$nulls":5},15,{"$nulls":6},15,{"$nulls":6},15,{"$nulls":5},15,{"$nulls":6},15]
[16,{"$nulls":6},16,{"$nulls":6},16,{"$nulls":5},16,{"$nulls":6},16,{"$nulls":6},16,{"$nulls":5},16,{"$nulls":6},16]
[17,{"$nulls":6},17,{"$nulls":6},17,{"$nulls":5},17,{"$nulls":6},17,{"$nulls":6},17,{"$nulls":5},17,{"$nulls":6},17]
[18,{"$nulls":6},18,{"$nulls":6},18,{"$nulls":5},18,{"$nulls":6},18,{"$nulls":6},18,{"$nulls":5},18,{"$nulls":6},18]
["Total","Shots",null,null,"Shots",null,null,"Total","Shots",null,null,"Shots",null,null,"Total","Shots",null,null,"Shots",null,"Total","Shots",null,null,"Shots",null,null,"Total","Shots",null,null,"Shots",null,null,"Total","Shots",null,null,"Shots",null,"Total","Shots",null,null,"Shots",null,null,"Total","Shots",null,null,"shots"]
[null,"Ends",null,null,"Ends",{"$nulls":3},"Ends",null,null,"Ends",{"$nulls":3},"Ends",null,null,"Ends",null,null,"Ends",null,null,"Ends",{"$nulls":3},"Ends",null,null,"Ends",{"$nulls":3},"Ends",null,null,"Ends",null,null,"Ends",null,null,"Ends",{"$nulls":3},"Ends",null,null,"Ends"]
["1st Game ",{"$nulls":6},"2nd Game ",{"$nulls":6},"3rd Game ",{"$nulls":5},"4th Game",{"$nulls":6},"5th Game",{"$nulls":6},"6th Game",{"$nulls":5},"7th Game",{"$nulls":6},"8th Game"]
["Team No",null,null,"Rink No",{"$nulls":3},"Team No",null,null,"Rink No",{"$nulls":3},"Team No",null,null,"Rink No",null,null,"Team No",null,null,"Rink No",{"$nulls":3},"Team No",null,null,"Rink No",{"$nulls":3},"Team No",null,null,"Rink No",null,null,"Team No",null,null,"Rink No",{"$nulls":3},"Team No",null,null,"Rink No"]
[]
[{"$f":"DRAW!$B$17","v":11},null,null,{"$f":"DRAW!$E$17","v":5},{"$nulls":3},{"$f":"DRAW!$B$17","v":11},null,null,{"$f":"DRAW!$G$17","v":10},{"$nulls":3},{"$f":"DRAW!$B$17","v":11},null,null,{"$f":"DRAW!$I$17","v":21},null,null,{"$f":"DRAW!$B$17","v":11},null,null,{"$f":"DRAW!$K$17","v":4},{"$nulls":3},{"$f":"DRAW!$B$17","v":11},null,null,{"$f":"DRAW!$M$17","v":9},{"$nulls":3},{"$f":"DRAW!$B$17","v":11},null,null,{"$f":"DRAW!$O$17","v":15},null,null,{"$f":"DRAW!$B$17","v":11},null,null,{"$f":"DRAW!$Q$17","v":3},{"$nulls":3},{"$f":"DRAW!$B$17","v":11},null,null,{"$f":"DRAW!$S$17","v":12}]
[null,"Team",{"$f":"DRAW!$B$17","v":11},"V","Team",{"$f":"DRAW!$D$17","v":6},null,null,"Team",{"$f":"DRAW!$B$17","v":11},"V","Team",{"$f":"DRAW!$F$17","v":8},null,null,"Team",{"$f":"DRAW!$B$17","v":11},"V","Team",{"$f":"DRAW!$H$17","v":12},null,"Team",{"$f":"DRAW!$B$17","v":11},"V","Team",{"$f":"DRAW!$J$17","v":3},null,null,"Team",{"$f":"DRAW!$B$17","v":11},"V","Team",{"$f":"DRAW!$L$17","v":4},null,null,"Team",{"$f":"DRAW!$B$17","v":11},"V","Team",{"$f":"DRAW!$N$17","v":5},null,"Team",{"$f":"DRAW!$B$17","v":11},"V","Team",{"$f":"DRAW!$P$17","v":14},null,null,"Team",{"$f":"DRAW!$B$17","v":11},"V","Team",{"$f":"DRAW!$R$17","v":9}]
["Ends","Shots","Total",null,"Shots","Total",null,"Ends","Shots","Total",null,"Shots","Total",null,"Ends","Shots","Total",null,"Shots","Total","Ends","Shots","Total",null,"Shots","Total",null,"Ends","Shots","Total",null,"Shots","Total",null,"Ends","Shots","Total",null,"Shots","Total","Ends","Shots","Total",null,"Shots","Total",null,"Ends","Shots","Total",null,"shots","Totar"]
[1,{"$nulls":6},1,{"$nulls":6},1,{"$nulls":5},1,{"$nulls":6},1,{"$nulls":6},1,{"$nulls":5},1,{"$nulls":6},1]
[2,{"$nulls":6},2,{"$nulls":6},2,{"$nulls":5},2,{"$nulls":6},2,{"$nulls":6},2,{"$nulls":5},2,{"$nulls":6},2]
[3,{"$nulls":6},3,{"$nulls":6},3,{"$nulls":5},3,{"$nulls":6},3,{"$nulls":6},3,{"$nulls":5},3,{"$nulls":6},3]
[4,{"$nulls":6},4,{"$nulls":6},4,{"$nulls":5},4,{"$nulls":6},4,{"$nulls":6},4,{"$nulls":5},4,{"$nulls":6},4]
[5,{"$nulls":6},5,{"$nulls":6},5,{"$nulls":5},5,{"$nulls":6},5,{"$nulls":6},5,{"$nulls":5},5,{"$nulls":6},5]
[6,{"$nulls":6},6,{"$nulls":6},6,{"$nulls":5},6,{"$nulls":6},6,{"$nulls":6},6,{"$nulls":5},6,{"$nulls":6},6]
[7,{"$nulls":6},7,{"$nulls":6},7,{"$nulls":5},7,{"$nulls":6},7,{"$nulls":6},7,{"$nulls":5},7,{"$nulls":6},7]
[8,{"$nulls":6},8,{"$nulls":6},8,{"$nulls":5},8,{"$nulls":6},8,{"$nulls":6},8,{"$nulls":5},8,{"$nulls":6},8]
[9,{"$nulls":6},9,{"$nulls":6},9,{"$nulls":5},9,{"$nulls":6},9,{"$nulls":6},9,{"$nulls":5},9,{"$nulls":6},9]
[10,{"$nulls":6},10,{"$nulls":6},10,{"$nulls":5},10,{"$nulls":6},10,{"$nulls":6},10,{"$nulls":5},10,{"$nulls":6},10]
[11,{"$nulls":6},11,{"$nulls":6},11,{"$nulls":5},11,{"$nulls":6},11,{"$nulls":6},11,{"$nulls":5},11,{"$nulls":6},11]
[12,{"$nulls":6},12,{"$nulls":6},12,{"$nulls":5},12,{"$nulls":6},12,{"$nulls":6},12,{"$nulls":5},12,{"$nulls":6},12]
[13,{"$nulls":6},13,{"$nulls":6},13,{"$nulls":5},13,{"$nulls":6},13,{"$nulls":6},13,{"$nulls":5},13,{"$nulls":6},13]
[14,{"$nulls":6},14,{"$nulls":6},14,{"$nulls":5},14,{"$nulls":6},14,{"$nulls":6},14,{"$nulls":5},14,{"$nulls":6},14]
[15,{"$nulls":6},15,{"$nulls":6},15,{"$nulls":5},15,{"$nulls":6},15,{"$nulls":6},15,{"$nulls":5},15,{"$nulls":6},15]
[16,{"$nulls":6},16,{"$nulls":6},16,{"$nulls":5},16,{"$nulls":6},16,{"$nulls":6},16,{"$nulls":5},16,{"$nulls":6},16]
[17,{"$nulls":6},17,{"$nulls":6},17,{"$nulls":5},17,{"$nulls":6},17,{"$nulls":6},17,{"$nulls":5},17,{"$nulls":6},17]
[18,{"$nulls":6},18,{"$nulls":6},18,{"$nulls":5},18,{"$nulls":6},18,{"$nulls":6},18,{"$nulls":5},18,{"$nulls":6},18]
["Total","Shots",null,null,"Shots",null,null,"Total","Shots",null,null,"Shots",null,null,"Total","Shots",null,null,"Shots",null,"Total","Shots",null,null,"Shots",null,null,"Total","Shots",null,null,"Shots",null,null,"Total","Shots",null,null,"Shots",null,"Total","Shots",null,null,"Shots",null,null,"Total","Shots",null,null,"shots"]
[null,"Ends",null,null,"Ends",{"$nulls":3},"Ends",null,null,"Ends",{"$nulls":3},"Ends",null,null,"Ends",null,null,"Ends",null,null,"Ends",{"$nulls":3},"Ends",null,null,"Ends",{"$nulls":3},"Ends",null,null,"Ends",null,null,"Ends",null,null,"Ends",{"$nulls":3},"Ends",null,null,"Ends"]
[]
[]
["1st Game ",{"$nulls":6},"2nd Game ",{"$nulls":6},"3rd Game ",{"$nulls":5},"4th Game",{"$nulls":6},"5th Game",{"$nulls":6},"6th Game",{"$nulls":5},"7th Game",{"$nulls":6},"8th Game"]
["Team No",null,null,"Rink No",{"$nulls":3},"Team No",null,null,"Rink No",{"$nulls":3},"Team No",null,null,"Rink No",null,null,"Team No",null,null,"Rink No",{"$nulls":3},"Team No",null,null,"Rink No",{"$nulls":3},"Team No",null,null,"Rink No",null,null,"Team No",null,null,"Rink No",{"$nulls":3},"Team No",null,null,"Rink No"]
[]
[{"$f":"DRAW!$B$18","v":12},null,null,{"$f":"DRAW!$E$18","v":4},{"$nulls":3},{"$f":"DRAW!$B$18","v":12},null,null,{"$f":"DRAW!$G$18","v":9},{"$nulls":3},{"$f":"DRAW!$B$18","v":12},null,null,{"$f":"DRAW!$I$18","v":21},null,null,{"$f":"DRAW!$B$18","v":12},null,null,{"$f":"DRAW!$K$18","v":5},{"$nulls":3},{"$f":"DRAW!$B$18","v":12},null,null,{"$f":"DRAW!$M$18","v":10},{"$nulls":3},{"$f":"DRAW!$B$18","v":12},null,null,{"$f":"DRAW!$O$18","v":17},null,null,{"$f":"DRAW!$B$18","v":12},null,null,{"$f":"DRAW!$Q$18","v":7},{"$nulls":3},{"$f":"DRAW!$B$18","v":12},null,null,{"$f":"DRAW!$S$18","v":13}]
[null,"Team",{"$f":"DRAW!$B$18","v":12},"V","Team",{"$f":"DRAW!$D$18","v":5},null,null,"Team",{"$f":"DRAW!$B$18","v":12},"V","Team",{"$f":"DRAW!$F$18","v":7},null,null,"Team",{"$f":"DRAW!$B$18","v":12},"V","Team",{"$f":"DRAW!$H$18","v":11},null,"Team",{"$f":"DRAW!$B$18","v":12},"V","Team",{"$f":"DRAW!$J$18","v":2},null,null,"Team",{"$f":"DRAW!$B$18","v":12},"V","Team",{"$f":"DRAW!$L$18","v":3},null,null,"Team",{"$f":"DRAW!$B$18","v":12},"V","Team",{"$f":"DRAW!$N$18","v":1},null,"Team",{"$f":"DRAW!$B$18","v":12},"V","Team",{"$f":"DRAW!$P$18","v":4},null,null,"Team",{"$f":"DRAW!$B$18","v":12},"V","Team",{"$f":"DRAW!$R$18","v":10}]
["Ends","Shots","Total",null,"Shots","Total",null,"Ends","Shots","Total",null,"Shots","Total",null,"Ends","Shots","Total",null,"Shots","Total","Ends","Shots","Total",null,"Shots","Total",null,"Ends","Shots","Total",null,"Shots","Total",null,"Ends","Shots","Total",null,"Shots","Total","Ends","Shots","Total",null,"Shots","Total",null,"Ends","Shots","Total",null,"shots","Totar"]
[1,{"$nulls":6},1,{"$nulls":6},1,{"$nulls":5},1,{"$nulls":6},1,{"$nulls":6},1,{"$nulls":5},1,{"$nulls":6},1]
[2,{"$nulls":6},2,{"$nulls":6},2,{"$nulls":5},2,{"$nulls":6},2,{"$nulls":6},2,{"$nulls":5},2,{"$nulls":6},2]
[3,{"$nulls":6},3,{"$nulls":6},3,{"$nulls":5},3,{"$nulls":6},3,{"$nulls":6},3,{"$nulls":5},3,{"$nulls":6},3]
[4,{"$nulls":6},4,{"$nulls":6},4,{"$nulls":5},4,{"$nulls":6},4,{"$nulls":6},4,{"$nulls":5},4,{"$nulls":6},4]
[5,{"$nulls":6},5,{"$nulls":6},5,{"$nulls":5},5,{"$nulls":6},5,{"$nulls":6},5,{"$nulls":5},5,{"$nulls":6},5]
[6,{"$nulls":6},6,{"$nulls":6},6,{"$nulls":5},6,{"$nulls":6},6,{"$nulls":6},6,{"$nulls":5},6,{"$nulls":6},6]
[7,{"$nulls":6},7,{"$nulls":6},7,{"$nulls":5},7,{"$nulls":6},7,{"$nulls":6},7,{"$nulls":5},7,{"$nulls":6},7]
[8,{"$nulls":6},8,{"$nulls":6},8,{"$nulls":5},8,{"$nulls":6},8,{"$nulls":6},8,{"$nulls":5},8,{"$nulls":6},8]
[9,{"$nulls":6},9,{"$nulls":6},9,{"$nulls":5},9,{"$nulls":6},9,{"$nulls":6},9,{"$nulls":5},9,{"$nulls":6},9]
[10,{"$nulls":6},10,{"$nulls":6},10,{"$nulls":5},10,{"$nulls":6},10,{"$nulls":6},10,{"$nulls":5},10,{"$nulls":6},10]
[11,{"$nulls":6},11,{"$nulls":6},11,{"$nulls":5},11,{"$nulls":6},11,{"$nulls":6},11,{"$nulls":5},11,{"$nulls":6},11]
[12,{"$nulls":6},12,{"$nulls":6},12,{"$nulls":5},12,{"$nulls":6},12,{"$nulls":6},12,{"$nulls":5},12,{"$nulls":6},12]
[13,{"$nulls":6},13,{"$nulls":6},13,{"$nulls":5},13,{"$nulls":6},13,{"$nulls":6},13,{"$nulls":5},13,{"$nulls":6},13]
[14,{"$nulls":6},14,{"$nulls":6},14,{"$nulls":5},14,{"$nulls":6},14,{"$nulls":6},14,{"$nulls":5},14,{"$nulls":6},14]
[15,{"$nulls":6},15,{"$nulls":6},15,{"$nulls":5},15,{"$nulls":6},15,{"$nulls":6},15,{"$nulls":5},15,{"$nulls":6},15]
[16,{"$nulls":6},16,{"$nulls":6},16,{"$nulls":5},16,{"$nulls":6},16,{"$nulls":6},16,{"$nulls":5},16,{"$nulls":6},16]
[17,{"$nulls":6},17,{"$nulls":6},17,{"$nulls":5},17,{"$nulls":6},17,{"$nulls":6},17,{"$nulls":5},17,{"$nulls":6},17]
[18,{"$nulls":6},18,{"$nulls":6},18,{"$nulls":5},18,{"$nulls":6},18,{"$nulls":6},18,{"$nulls":5},18,{"$nulls":6},18]
["Total","Shots",null,null,"Shots",null,null,"Total","Shots",null,null,"Shots",null,null,"Total","Shots",null,null,"Shots",null,"Total","Shots",null,null,"Shots",null,null,"Total","Shots",null,null,"Shots",null,null,"Total","Shots",null,null,"Shots",null,"Total","Shots",null,null,"Shots",null,null,"Total","Shots",null,null,"shots"]
[null,"Ends",null,null,"Ends",{"$nulls":3},"Ends",null,null,"Ends",{"$nulls":3},"Ends",null,null,"Ends",null,null,"Ends",null,null,"Ends",{"$nulls":3},"Ends",null,null,"Ends",{"$nulls":3},"Ends",null,null,"Ends",null,null,"Ends",null,null,"Ends",{"$nulls":3},"Ends",null,null,"Ends"]
["1st Game ",{"$nulls":6},"2nd Game ",{"$nulls":6},"3rd Game ",{"$nulls":5},"4th Game",{"$nulls":6},"5th Game",{"$nulls":6},"6th Game",{"$nulls":5},"7th Game",{"$nulls":6},"8th Game"]
["Team No",null,null,"Rink No",{"$nulls":3},"Team No",null,null,"Rink No",{"$nulls":3},"Team No",null,null,"Rink No",null,null,"Team No",null,null,"Rink No",{"$nulls":3},"Team No",null,null,"Rink No",{"$nulls":3},"Team No",null,null,"Rink No",null,null,"Team No",null,null,"Rink No",{"$nulls":3},"Team No",null,null,"Rink No"]
[]
[{"$f":"DRAW!$B$19","v":13},null,null,{"$f":"DRAW!$E$19","v":3},{"$nulls":3},{"$f":"DRAW!$B$19","v":13},null,null,{"$f":"DRAW!$G$19","v":14},{"$nulls":3},{"$f":"DRAW!$B$19","v":13},null,null,{"$f":"DRAW!$I$19","v":20},null,null,{"$f":"DRAW!$B$19","v":13},null,null,{"$f":"DRAW!$K$19","v":6},{"$nulls":3},{"$f":"DRAW!$B$19","v":13},null,null,{"$f":"DRAW!$M$19","v":8},{"$nulls":3},{"$f":"DRAW!$B$19","v":13},null,null,{"$f":"DRAW!$O$19","v":16},null,null,{"$f":"DRAW!$B$19","v":13},null,null,{"$f":"DRAW!$Q$19","v":5},{"$nulls":3},{"$f":"DRAW!$B$19","v":13},null,null,{"$f":"DRAW!$S$19","v":10}]
[null,"Team",{"$f":"DRAW!$B$19","v":13},"V","Team",{"$f":"DRAW!$D$19","v":4},null,null,"Team",{"$f":"DRAW!$B$19","v":13},"V","Team",{"$f":"DRAW!$F$19","v":6},null,null,"Team",{"$f":"DRAW!$B$19","v":13},"V","Team",{"$f":"DRAW!$H$19","v":10},null,"Team",{"$f":"DRAW!$B$19","v":13},"V","Team",{"$f":"DRAW!$J$19","v":14},null,null,"Team",{"$f":"DRAW!$B$19","v":13},"V","Team",{"$f":"DRAW!$L$19","v":2},null,null,"Team",{"$f":"DRAW!$B$19","v":13},"V","Team",{"$f":"DRAW!$N$19","v":3},null,"Team",{"$f":"DRAW!$B$19","v":13},"V","Team",{"$f":"DRAW!$P$19","v":1},null,null,"Team",{"$f":"DRAW!$B$19","v":13},"V","Team",{"$f":"DRAW!$R$19","v":7}]
["Ends","Shots","Total",null,"Shots","Total",null,"Ends","Shots","Total",null,"Shots","Total",null,"Ends","Shots","Total",null,"Shots","Total","Ends","Shots","Total",null,"Shots","Total",null,"Ends","Shots","Total",null,"Shots","Total",null,"Ends","Shots","Total",null,"Shots","Total","Ends","Shots","Total",null,"Shots","Total",null,"Ends","Shots","Total",null,"shots","Totar"]
[1,{"$nulls":6},1,{"$nulls":6},1,{"$nulls":5},1,{"$nulls":6},1,{"$nulls":6},1,{"$nulls":5},1,{"$nulls":6},1]
[2,{"$nulls":6},2,{"$nulls":6},2,{"$nulls":5},2,{"$nulls":6},2,{"$nulls":6},2,{"$nulls":5},2,{"$nulls":6},2]
[3,{"$nulls":6},3,{"$nulls":6},3,{"$nulls":5},3,{"$nulls":6},3,{"$nulls":6},3,{"$nulls":5},3,{"$nulls":6},3]
[4,{"$nulls":6},4,{"$nulls":6},4,{"$nulls":5},4,{"$nulls":6},4,{"$nulls":6},4,{"$nulls":5},4,{"$nulls":6},4]
[5,{"$nulls":6},5,{"$nulls":6},5,{"$nulls":5},5,{"$nulls":6},5,{"$nulls":6},5,{"$nulls":5},5,{"$nulls":6},5]
[6,{"$nulls":6},6,{"$nulls":6},6,{"$nulls":5},6,{"$nulls":6},6,{"$nulls":6},6,{"$nulls":5},6,{"$nulls":6},6]
[7,{"$nulls":6},7,{"$nulls":6},7,{"$nulls":5},7,{"$nulls":6},7,{"$nulls":6},7,{"$nulls":5},7,{"$nulls":6},7]
[8,{"$nulls":6},8,{"$nulls":6},8,{"$nulls":5},8,{"$nulls":6},8,{"$nulls":6},8,{"$nulls":5},8,{"$nulls":6},8]
[9,{"$nulls":6},9,{"$nulls":6},9,{"$nulls":5},9,{"$nulls":6},9,{"$nulls":6},9,{"$nulls":5},9,{"$nulls":6},9]
[10,{"$nulls":6},10,{"$nulls":6},10,{"$nulls":5},10,{"$nulls":6},10,{"$nulls":6},10,{"$nulls":5},10,{"$nulls":6},10]
[11,{"$nulls":6},11,{"$nulls":6},11,{"$nulls":5},11,{"$nulls":6},11,{"$nulls":6},11,{"$nulls":5},11,{"$nulls":6},11]
[12,{"$nulls":6},12,{"$nulls":6},12,{"$nulls":5},12,{"$nulls":6},12,{"$nulls":6},12,{"$nulls":5},12,{"$nulls":6},12]
[13,{"$nulls":6},13,{"$nulls":6},13,{"$nulls":5},13,{"$nulls":6},13,{"$nulls":6},13,{"$nulls":5},13,{"$nulls":6},13]
[14,{"$nulls":6},14,{"$nulls":6},14,{"$nulls":5},14,{"$nulls":6},14,{"$nulls":6},14,{"$nulls":5},14,{"$nulls":6},14]
[15,{"$nulls":6},15,{"$nulls":6},15,{"$nulls":5},15,{"$nulls":6},15,{"$nulls":6},15,{"$nulls":5},15,{"$nulls":6},15]
[16,{"$nulls":6},16,{"$nulls":6},16,{"$nulls":5},16,{"$nulls":6},16,{"$nulls":6},16,{"$nulls":5},16,{"$nulls":6},16]
[17,{"$nulls":6},17,{"$nulls":6},17,{"$nulls":5},17,{"$nulls":6},17,{"$nulls":6},17,{"$nulls":5},17,{"$nulls":6},17]
[18,{"$nulls":6},18,{"$nulls":6},18,{"$nulls":5},18,{"$nulls":6},18,{"$nulls":6},18,{"$nulls":5},18,{"$nulls":6},18]
["Total","Shots",null,null,"Shots",null,null,"Total","Shots",null,null,"Shots",null,null,"Total","Shots",null,null,"Shots",null,"Total","Shots",null,null,"Shots",null,null,"Total","Shots",null,null,"Shots",null,null,"Total","Shots",null,null,"Shots",null,"Total","Shots",null,null,"Shots",null,null,"Total","Shots",null,null,"shots"]
[null,"Ends",null,null,"Ends",{"$nulls":3},"Ends",null,null,"Ends",{"$nulls":3},"Ends",null,null,"Ends",null,null,"Ends",null,null,"Ends",{"$nulls":3},"Ends",null,null,"Ends",{"$nulls":3},"Ends",null,null,"Ends",null,null,"Ends",null,null,"Ends",{"$nulls":3},"Ends",null,null,"Ends"]
[]
[]
["1st Game ",{"$nulls":6},"2nd Game ",{"$nulls":6},"3rd Game ",{"$nulls":5},"4th Game",{"$nulls":6},"5th Game",{"$nulls":6},"6th Game",{"$nulls":5},"7th Game",{"$nulls":6},"8th Game"]
["Team No",null,null,"Rink No",{"$nulls":3},"Team No",null,null,"Rink No",{"$nulls":3},"Team No",null,null,"Rink No",null,null,"Team No",null,null,"Rink No",{"$nulls":3},"Team No",null,null,"Rink No",{"$nulls":3},"Team No",null,null,"Rink No",null,null,"Team No",null,null,"Rink No",{"$nulls":3},"Team No",null,null,"Rink No"]
[]
[{"$f":"DRAW!$B$20","v":14},null,null,{"$f":"DRAW!$E$20","v":2},{"$nulls":3},{"$f":"DRAW!$B$20","v":14},null,null,{"$f":"DRAW!$G$20","v":8},{"$nulls":3},{"$f":"DRAW!$B$20","v":14},null,null,{"$f":"DRAW!$I$20","v":17},null,null,{"$f":"DRAW!$B$20","v":14},null,null,{"$f":"DRAW!$K$20","v":6},{"$nulls":3},{"$f":"DRAW!$B$20","v":14},null,null,{"$f":"DRAW!$M$20","v":14},{"$nulls":3},{"$f":"DRAW!$B$20","v":14},null,null,{"$f":"DRAW!$O$20","v":18},null,null,{"$f":"DRAW!$B$20","v":14},null,null,{"$f":"DRAW!$Q$20","v":3},{"$nulls":3},{"$f":"DRAW!$B$20","v":14},null,null,{"$f":"DRAW!$S$20","v":14}]
[null,"Team",{"$f":"DRAW!$B$20","v":14},"V","Team",{"$f":"DRAW!$D$20","v":3},null,null,"Team",{"$f":"DRAW!$B$20","v":14},"V","Team",{"$f":"DRAW!$F$20","v":5},null,null,"Team",{"$f":"DRAW!$B$20","v":14},"V","Team",{"$f":"DRAW!$H$20","v":9},null,"Team",{"$f":"DRAW!$B$20","v":14},"V","Team",{"$f":"DRAW!$J$20","v":13},null,null,"Team",{"$f":"DRAW!$B$20","v":14},"V","Team",{"$f":"DRAW!$L$20","v":1},null,null,"Team",{"$f":"DRAW!$B$20","v":14},"V","Team",{"$f":"DRAW!$N$20","v":2},null,"Team",{"$f":"DRAW!$B$20","v":14},"V","Team",{"$f":"DRAW!$P$20","v":11},null,null,"Team",{"$f":"DRAW!$B$20","v":14},"V","Team",{"$f":"DRAW!$R$20","v":6}]
["Ends","Shots","Total",null,"Shots","Total",null,"Ends","Shots","Total",null,"Shots","Total",null,"Ends","Shots","Total",null,"Shots","Total","Ends","Shots","Total",null,"Shots","Total",null,"Ends","Shots","Total",null,"Shots","Total",null,"Ends","Shots","Total",null,"Shots","Total","Ends","Shots","Total",null,"Shots","Total",null,"Ends","Shots","Total",null,"shots","Totar"]
[1,{"$nulls":6},1,{"$nulls":6},1,{"$nulls":5},1,{"$nulls":6},1,{"$nulls":6},1,{"$nulls":5},1,{"$nulls":6},1]
[2,{"$nulls":6},2,{"$nulls":6},2,{"$nulls":5},2,{"$nulls":6},2,{"$nulls":6},2,{"$nulls":5},2,{"$nulls":6},2]
[3,{"$nulls":6},3,{"$nulls":6},3,{"$nulls":5},3,{"$nulls":6},3,{"$nulls":6},3,{"$nulls":5},3,{"$nulls":6},3]
[4,{"$nulls":6},4,{"$nulls":6},4,{"$nulls":5},4,{"$nulls":6},4,{"$nulls":6},4,{"$nulls":5},4,{"$nulls":6},4]
[5,{"$nulls":6},5,{"$nulls":6},5,{"$nulls":5},5,{"$nulls":6},5,{"$nulls":6},5,{"$nulls":5},5,{"$nulls":6},5]
[6,{"$nulls":6},6,{"$nulls":6},6,{"$nulls":5},6,{"$nulls":6},6,{"$nulls":6},6,{"$nulls":5},6,{"$nulls":6},6]
[7,{"$nulls":6},7,{"$nulls":6},7,{"$nulls":5},7,{"$nulls":6},7,{"$nulls":6},7,{"$nulls":5},7,{"$nulls":6},7]
[8,{"$nulls":6},8,{"$nulls":6},8,{"$nulls":5},8,{"$nulls":6},8,{"$nulls":6},8,{"$nulls":5},8,{"$nulls":6},8]
[9,{"$nulls":6},9,{"$nulls":6},9,{"$nulls":5},9,{"$nulls":6},9,{"$nulls":6},9,{"$nulls":5},9,{"$nulls":6},9]
[10,{"$nulls":6},10,{"$nulls":6},10,{"$nulls":5},10,{"$nulls":6},10,{"$nulls":6},10,{"$nulls":5},10,{"$nulls":6},10]
[11,{"$nulls":6},11,{"$nulls":6},11,{"$nulls":5},11,{"$nulls":6},11,{"$nulls":6},11,{"$nulls":5},11,{"$nulls":6},11]
[12,{"$nulls":6},12,{"$nulls":6},12,{"$nulls":5},12,{"$nulls":6},12,{"$nulls":6},12,{"$nulls":5},12,{"$nulls":6},12]
[13,{"$nulls":6},13,{"$nulls":6},13,{"$nulls":5},13,{"$nulls":6},13,{"$nulls":6},13,{"$nulls":5},13,{"$nulls":6},13]
[14,{"$nulls":6},14,{"$nulls":6},14,{"$nulls":5},14,{"$nulls":6},14,{"$nulls":6},14,{"$nulls":5},14,{"$nulls":6},14]
[15,{"$nulls":6},15,{"$nulls":6},15,{"$nulls":5},15,{"$nulls":6},15,{"$nulls":6},15,{"$nulls":5},15,{"$nulls":6},15]
[16,{"$nulls":6},16,{"$nulls":6},16,{"$nulls":5},16,{"$nulls":6},16,{"$nulls":6},16,{"$nulls":5},16,{"$nulls":6},16]
[17,{"$nulls":6},17,{"$nulls":6},17,{"$nulls":5},17,{"$nulls":6},17,{"$nulls":6},17,{"$nulls":5},17,{"$nulls":6},17]
[18,{"$nulls":6},18,{"$nulls":6},18,{"$nulls":5},18,{"$nulls":6},18,{"$nulls":6},18,{"$nulls":5},18,{"$nulls":6},18]
["Total","Shots",null,null,"Shots",null,null,"Total","Shots",null,null,"Shots",null,null,"Total","Shots",null,null,"Shots",null,"Total","Shots",null,null,"Shots",null,null,"Total","Shots",null,null,"Shots",null,null,"Total","Shots",null,null,"Shots",null,"Total","Shots",null,null,"Shots",null,null,"Total","Shots",null,null,"shots"]
[null,"Ends",null,null,"Ends",{"$nulls":3},"Ends",null,null,"Ends",{"$nulls":3},"Ends",null,null,"Ends",null,null,"Ends",null,null,"Ends",{"$nulls":3},"Ends",null,null,"Ends",{"$nulls":3},"Ends",null,null,"Ends",null,null,"Ends",null,null,"Ends",{"$nulls":3},"Ends",null,null,"Ends"]
["1st Game ",{"$nulls":6},"2nd Game ",{"$nulls":6},"3rd Game ",{"$nulls":5},"4th Game",{"$nulls":6},"5th Game",{"$nulls":6},"6th Game",{"$nulls":5},"7th Game",{"$nulls":6},"8th Game"]
["Team No",null,null,"Rink No",{"$nulls":3},"Team No",null,null,"Rink No",{"$nulls":3},"Team No",null,null,"Rink No",null,null,"Team No",null,null,"Rink No",{"$nulls":3},"Team No",null,null,"Rink No",{"$nulls":3},"Team No",null,null,"Rink No",null,null,"Team No",null,null,"Rink No",{"$nulls":3},"Team No",null,null,"Rink No"]
[]
[{"$f":"DRAW!$B$21","v":15},null,null,{"$f":"DRAW!$E$21","v":8},{"$nulls":3},{"$f":"DRAW!$B$21","v":15},null,null,{"$f":"DRAW!$G$21","v":20},{"$nulls":3},{"$f":"DRAW!$B$21","v":15},null,null,{"$f":"DRAW!$I$21","v":5},null,null,{"$f":"DRAW!$B$21","v":15},null,null,{"$f":"DRAW!$K$21","v":9},{"$nulls":3},{"$f":"DRAW!$B$21","v":15},null,null,{"$f":"DRAW!$M$21","v":21},{"$nulls":3},{"$f":"DRAW!$B$21","v":15},null,null,{"$f":"DRAW!$O$21","v":3},null,null,{"$f":"DRAW!$B$21","v":15},null,null,{"$f":"DRAW!$Q$21","v":12},{"$nulls":3},{"$f":"DRAW!$B$21","v":15},null,null,{"$f":"DRAW!$S$21","v":15}]
[null,"Team",{"$f":"DRAW!$B$21","v":15},"V","Team",{"$f":"DRAW!$D$21","v":16},null,null,"Team",{"$f":"DRAW!$B$21","v":15},"V","Team",{"$f":"DRAW!$F$21","v":17},null,null,"Team",{"$f":"DRAW!$B$21","v":15},"V","Team",{"$f":"DRAW!$H$21","v":19},null,"Team",{"$f":"DRAW!$B$21","v":15},"V","Team",{"$f":"DRAW!$J$21","v":21},null,null,"Team",{"$f":"DRAW!$B$21","v":15},"V","Team",{"$f":"DRAW!$L$21","v":28},null,null,"Team",{"$f":"DRAW!$B$21","v":15},"V","Team",{"$f":"DRAW!$N$21","v":26},null,"Team",{"$f":"DRAW!$B$21","v":15},"V","Team",{"$f":"DRAW!$P$21","v":27},null,null,"Team",{"$f":"DRAW!$B$21","v":15},"V","Team",{"$f":"DRAW!$R$21","v":22}]
["Ends","Shots","Total",null,"Shots","Total",null,"Ends","Shots","Total",null,"Shots","Total",null,"Ends","Shots","Total",null,"Shots","Total","Ends","Shots","Total",null,"Shots","Total",null,"Ends","Shots","Total",null,"Shots","Total",null,"Ends","Shots","Total",null,"Shots","Total","Ends","Shots","Total",null,"Shots","Total",null,"Ends","Shots","Total",null,"shots","Totar"]
[1,{"$nulls":6},1,{"$nulls":6},1,{"$nulls":5},1,{"$nulls":6},1,{"$nulls":6},1,{"$nulls":5},1,{"$nulls":6},1]
[2,{"$nulls":6},2,{"$nulls":6},2,{"$nulls":5},2,{"$nulls":6},2,{"$nulls":6},2,{"$nulls":5},2,{"$nulls":6},2]
[3,{"$nulls":6},3,{"$nulls":6},3,{"$nulls":5},3,{"$nulls":6},3,{"$nulls":6},3,{"$nulls":5},3,{"$nulls":6},3]
[4,{"$nulls":6},4,{"$nulls":6},4,{"$nulls":5},4,{"$nulls":6},4,{"$nulls":6},4,{"$nulls":5},4,{"$nulls":6},4]
[5,{"$nulls":6},5,{"$nulls":6},5,{"$nulls":5},5,{"$nulls":6},5,{"$nulls":6},5,{"$nulls":5},5,{"$nulls":6},5]
[6,{"$nulls":6},6,{"$nulls":6},6,{"$nulls":5},6,{"$nulls":6},6,{"$nulls":6},6,{"$nulls":5},6,{"$nulls":6},6]
[7,{"$nulls":6},7,{"$nulls":6},7,{"$nulls":5},7,{"$nulls":6},7,{"$nulls":6},7,{"$nulls":5},7,{"$nulls":6},7]
[8,{"$nulls":6},8,{"$nulls":6},8,{"$nulls":5},8,{"$nulls":6},8,{"$nulls":6},8,{"$nulls":5},8,{"$nulls":6},8]
[9,{"$nulls":6},9,{"$nulls":6},9,{"$nulls":5},9,{"$nulls":6},9,{"$nulls":6},9,{"$nulls":5},9,{"$nulls":6},9]
[10,{"$nulls":6},10,{"$nulls":6},10,{"$nulls":5},10,{"$nulls":6},10,{"$nulls":6},10,{"$nulls":5},10,{"$nulls":6},10]
[11,{"$nulls":6},11,{"$nulls":6},11,{"$nulls":5},11,{"$nulls":6},11,{"$nulls":6},11,{"$nulls":5},11,{"$nulls":6},11]
[12,{"$nulls":6},12,{"$nulls":6},12,{"$nulls":5},12,{"$nulls":6},12,{"$nulls":6},12,{"$nulls":5},12,{"$nulls":6},12]
[13,{"$nulls":6},13,{"$nulls":6},13,{"$nulls":5},13,{"$nulls":6},13,{"$nulls":6},13,{"$nulls":5},13,{"$nulls":6},13]
[14,{"$nulls":6},14,{"$nulls":6},14,{"$nulls":5},14,{"$nulls":6},14,{"$nulls":6},14,{"$nulls":5},14,{"$nulls":6},14]
[15,{"$nulls":6},15,{"$nulls":6},15,{"$nulls":5},15,{"$nulls":6},15,{"$nulls":6},15,{"$nulls":5},15,{"$nulls":6},15]
[16,{"$nulls":6},16,{"$nulls":6},16,{"$nulls":5},16,{"$nulls":6},16,{"$nulls":6},16,{"$nulls":5},16,{"$nulls":6},16]
[17,{"$nulls":6},17,{"$nulls":6},17,{"$nulls":5},17,{"$nulls":6},17,{"$nulls":6},17,{"$nulls":5},17,{"$nulls":6},17]
[18,{"$nulls":6},18,{"$nulls":6},18,{"$nulls":5},18,{"$nulls":6},18,{"$nulls":6},18,{"$nulls":5},18,{"$nulls":6},18]
["Total","Shots",null,null,"Shots",null,null,"Total","Shots",null,null,"Shots",null,null,"Total","Shots",null,null,"Shots",null,"Total","Shots",null,null,"Shots",null,null,"Total","Shots",null,null,"Shots",null,null,"Total","Shots",null,null,"Shots",null,"Total","Shots",null,null,"Shots",null,null,"Total","Shots",null,null,"shots"]
[null,"Ends",null,null,"Ends",{"$nulls":3},"Ends",null,null,"Ends",{"$nulls":3},"Ends",null,null,"Ends",null,null,"Ends",null,null,"Ends",{"$nulls":3},"Ends",null,null,"Ends",{"$nulls":3},"Ends",null,null,"Ends",null,null,"Ends",null,null,"Ends",{"$nulls":3},"Ends",null,null,"Ends"]
[]
[]
["1st Game ",{"$nulls":6},"2nd Game ",{"$nulls":6},"3rd Game ",{"$nulls":5},"4th Game",{"$nulls":6},"5th Game",{"$nulls":6},"6th Game",{"$nulls":5},"7th Game",{"$nulls":6},"8th Game"]
["Team No",null,null,"Rink No",{"$nulls":3},"Team No",null,null,"Rink No",{"$nulls":3},"Team No",null,null,"Rink No",null,null,"Team No",null,null,"Rink No",{"$nulls":3},"Team No",null,null,"Rink No",{"$nulls":3},"Team No",null,null,"Rink No",null,null,"Team No",null,null,"Rink No",{"$nulls":3},"Team No",null,null,"Rink No"]
[]
[{"$f":"DRAW!$B$22","v":16},null,null,{"$f":"DRAW!$E$22","v":8},{"$nulls":3},{"$f":"DRAW!$B$22","v":16},null,null,{"$f":"DRAW!$G$22","v":19},{"$nulls":3},{"$f":"DRAW!$B$22","v":16},null,null,{"$f":"DRAW!$I$22","v":2},null,null,{"$f":"DRAW!$B$22","v":16},null,null,{"$f":"DRAW!$K$22","v":12},{"$nulls":3},{"$f":"DRAW!$B$22","v":16},null,null,{"$f":"DRAW!$M$22","v":15},{"$nulls":3},{"$f":"DRAW!$B$22","v":16},null,null,{"$f":"DRAW!$O$22","v":4},null,null,{"$f":"DRAW!$B$22","v":16},null,null,{"$f":"DRAW!$Q$22","v":9},{"$nulls":3},{"$f":"DRAW!$B$22","v":16},null,null,{"$f":"DRAW!$S$22","v":16}]
[null,"Team",{"$f":"DRAW!$B$22","v":16},"V","Team",{"$f":"DRAW!$D$22","v":15},null,null,"Team",{"$f":"DRAW!$B$22","v":16},"V","Team",{"$f":"DRAW!$F$22","v":18},null,null,"Team",{"$f":"DRAW!$B$22","v":16},"V","Team",{"$f":"DRAW!$H$22","v":22},null,"Team",{"$f":"DRAW!$B$22","v":16},"V","Team",{"$f":"DRAW!$J$22","v":26},null,null,"Team",{"$f":"DRAW!$B$22","v":16},"V","Team",{"$f":"DRAW!$L$22","v":27},null,null,"Team",{"$f":"DRAW!$B$22","v":16},"V","Team",{"$f":"DRAW!$N$22","v":28},null,"Team",{"$f":"DRAW!$B$22","v":16},"V","Team",{"$f":"DRAW!$P$22","v":23},null,null,"Team",{"$f":"DRAW!$B$22","v":16},"V","Team",{"$f":"DRAW!$R$22","v":19}]
["Ends","Shots","Total",null,"Shots","Total",null,"Ends","Shots","Total",null,"Shots","Total",null,"Ends","Shots","Total",null,"Shots","Total","Ends","Shots","Total",null,"Shots","Total",null,"Ends","Shots","Total",null,"Shots","Total",null,"Ends","Shots","Total",null,"Shots","Total","Ends","Shots","Total",null,"Shots","Total",null,"Ends","Shots","Total",null,"shots","Totar"]
[1,{"$nulls":6},1,{"$nulls":6},1,{"$nulls":5},1,{"$nulls":6},1,{"$nulls":6},1,{"$nulls":5},1,{"$nulls":6},1]
[2,{"$nulls":6},2,{"$nulls":6},2,{"$nulls":5},2,{"$nulls":6},2,{"$nulls":6},2,{"$nulls":5},2,{"$nulls":6},2]
[3,{"$nulls":6},3,{"$nulls":6},3,{"$nulls":5},3,{"$nulls":6},3,{"$nulls":6},3,{"$nulls":5},3,{"$nulls":6},3]
[4,{"$nulls":6},4,{"$nulls":6},4,{"$nulls":5},4,{"$nulls":6},4,{"$nulls":6},4,{"$nulls":5},4,{"$nulls":6},4]
[5,{"$nulls":6},5,{"$nulls":6},5,{"$nulls":5},5,{"$nulls":6},5,{"$nulls":6},5,{"$nulls":5},5,{"$nulls":6},5]
[6,{"$nulls":6},6,{"$nulls":6},6,{"$nulls":5},6,{"$nulls":6},6,{"$nulls":6},6,{"$nulls":5},6,{"$nulls":6},6]
[7,{"$nulls":6},7,{"$nulls":6},7,{"$nulls":5},7,{"$nulls":6},7,{"$nulls":6},7,{"$nulls":5},7,{"$nulls":6},7]
[8,{"$nulls":6},8,{"$nulls":6},8,{"$nulls":5},8,{"$nulls":6},8,{"$nulls":6},8,{"$nulls":5},8,{"$nulls":6},8]
[9,{"$nulls":6},9,{"$nulls":6},9,{"$nulls":5},9,{"$nulls":6},9,{"$nulls":6},9,{"$nulls":5},9,{"$nulls":6},9]
[10,{"$nulls":6},10,{"$nulls":6},10,{"$nulls":5},10,{"$nulls":6},10,{"$nulls":6},10,{"$nulls":5},10,{"$nulls":6},10]
[11,{"$nulls":6},11,{"$nulls":6},11,{"$nulls":5},11,{"$nulls":6},11,{"$nulls":6},11,{"$nulls":5},11,{"$nulls":6},11]
[12,{"$nulls":6},12,{"$nulls":6},12,{"$nulls":5},12,{"$nulls":6},12,{"$nulls":6},12,{"$nulls":5},12,{"$nulls":6},12]
[13,{"$nulls":6},13,{"$nulls":6},13,{"$nulls":5},13,{"$nulls":6},13,{"$nulls":6},13,{"$nulls":5},13,{"$nulls":6},13]
[14,{"$nulls":6},14,{"$nulls":6},14,{"$nulls":5},14,{"$nulls":6},14,{"$nulls":6},14,{"$nulls":5},14,{"$nulls":6},14]
[15,{"$nulls":6},15,{"$nulls":6},15,{"$nulls":5},15,{"$nulls":6},15,{"$nulls":6},15,{"$nulls":5},15,{"$nulls":6},15]
[16,{"$nulls":6},16,{"$nulls":6},16,{"$nulls":5},16,{"$nulls":6},16,{"$nulls":6},16,{"$nulls":5},16,{"$nulls":6},16]
[17,{"$nulls":6},17,{"$nulls":6},17,{"$nulls":5},17,{"$nulls":6},17,{"$nulls":6},17,{"$nulls":5},17,{"$nulls":6},17]
[18,{"$nulls":6},18,{"$nulls":6},18,{"$nulls":5},18,{"$nulls":6},18,{"$nulls":6},18,{"$nulls":5},18,{"$nulls":6},18]
["Total","Shots",null,null,"Shots",null,null,"Total","Shots",null,null,"Shots",null,null,"Total","Shots",null,null,"Shots",null,"Total","Shots",null,null,"Shots",null,null,"Total","Shots",null,null,"Shots",null,null,"Total","Shots",null,null,"Shots",null,"Total","Shots",null,null,"Shots",null,null,"Total","Shots",null,null,"shots"]
[null,"Ends",null,null,"Ends",{"$nulls":3},"Ends",null,null,"Ends",{"$nulls":3},"Ends",null,null,"Ends",null,null,"Ends",null,null,"Ends",{"$nulls":3},"Ends",null,null,"Ends",{"$nulls":3},"Ends",null,null,"Ends",null,null,"Ends",null,null,"Ends",{"$nulls":3},"Ends",null,null,"Ends"]
["1st Game ",{"$nulls":6},"2nd Game ",{"$nulls":6},"3rd Game ",{"$nulls":5},"4th Game",{"$nulls":6},"5th Game",{"$nulls":6},"6th Game",{"$nulls":5},"7th Game",{"$nulls":6},"8th Game"]
["Team No",null,null,"Rink No",{"$nulls":3},"Team No",null,null,"Rink No",{"$nulls":3},"Team No",null,null,"Rink No",null,null,"Team No",null,null,"Rink No",{"$nulls":3},"Team No",null,null,"Rink No",{"$nulls":3},"Team No",null,null,"Rink No",null,null,"Team No",null,null,"Rink No",{"$nulls":3},"Team No",null,null,"Rink No"]
[]
[{"$f":"DRAW!$B$23","v":17},null,null,{"$f":"DRAW!$E$23","v":9},{"$nulls":3},{"$f":"DRAW!$B$23","v":17},null,null,{"$f":"DRAW!$G$23","v":20},{"$nulls":3},{"$f":"DRAW!$B$23","v":17},null,null,{"$f":"DRAW!$I$23","v":1},null,null,{"$f":"DRAW!$B$23","v":17},null,null,{"$f":"DRAW!$K$23","v":11},{"$nulls":3},{"$f":"DRAW!$B$23","v":17},null,null,{"$f":"DRAW!$M$23","v":17},{"$nulls":3},{"$f":"DRAW!$B$23","v":17},null,null,{"$f":"DRAW!$O$23","v":2},null,null,{"$f":"DRAW!$B$23","v":17},null,null,{"$f":"DRAW!$Q$23","v":8},{"$nulls":3},{"$f":"DRAW!$B$23","v":17},null,null,{"$f":"DRAW!$S$23","v":18}]
[null,"Team",{"$f":"DRAW!$B$23","v":17},"V","Team",{"$f":"DRAW!$D$23","v":28},null,null,"Team",{"$f":"DRAW!$B$23","v":17},"V","Team",{"$f":"DRAW!$F$23","v":15},null,null,"Team",{"$f":"DRAW!$B$23","v":17},"V","Team",{"$f":"DRAW!$H$23","v":21},null,"Team",{"$f":"DRAW!$B$23","v":17},"V","Team",{"$f":"DRAW!$J$23","v":25},null,null,"Team",{"$f":"DRAW!$B$23","v":17},"V","Team",{"$f":"DRAW!$L$23","v":26},null,null,"Team",{"$f":"DRAW!$B$23","v":17},"V","Team",{"$f":"DRAW!$N$23","v":27},null,"Team",{"$f":"DRAW!$B$23","v":17},"V","Team",{"$f":"DRAW!$P$23","v":24},null,null,"Team",{"$f":"DRAW!$B$23","v":17},"V","Team",{"$f":"DRAW!$R$23","v":18}]
["Ends","Shots","Total",null,"Shots","Total",null,"Ends","Shots","Total",null,"Shots","Total",null,"Ends","Shots","Total",null,"Shots","Total","Ends","Shots","Total",null,"Shots","Total",null,"Ends","Shots","Total",null,"Shots","Total",null,"Ends","Shots","Total",null,"Shots","Total","Ends","Shots","Total",null,"Shots","Total",null,"Ends","Shots","Total",null,"shots","Totar"]
[1,{"$nulls":6},1,{"$nulls":6},1,{"$nulls":5},1,{"$nulls":6},1,{"$nulls":6},1,{"$nulls":5},1,{"$nulls":6},1]
[2,{"$nulls":6},2,{"$nulls":6},2,{"$nulls":5},2,{"$nulls":6},2,{"$nulls":6},2,{"$nulls":5},2,{"$nulls":6},2]
[3,{"$nulls":6},3,{"$nulls":6},3,{"$nulls":5},3,{"$nulls":6},3,{"$nulls":6},3,{"$nulls":5},3,{"$nulls":6},3]
[4,{"$nulls":6},4,{"$nulls":6},4,{"$nulls":5},4,{"$nulls":6},4,{"$nulls":6},4,{"$nulls":5},4,{"$nulls":6},4]
[5,{"$nulls":6},5,{"$nulls":6},5,{"$nulls":5},5,{"$nulls":6},5,{"$nulls":6},5,{"$nulls":5},5,{"$nulls":6},5]
[6,{"$nulls":6},6,{"$nulls":6},6,{"$nulls":5},6,{"$nulls":6},6,{"$nulls":6},6,{"$nulls":5},6,{"$nulls":6},6]
[7,{"$nulls":6},7,{"$nulls":6},7,{"$nulls":5},7,{"$nulls":6},7,{"$nulls":6},7,{"$nulls":5},7,{"$nulls":6},7]
[8,{"$nulls":6},8,{"$nulls":6},8,{"$nulls":5},8,{"$nulls":6},8,{"$nulls":6},8,{"$nulls":5},8,{"$nulls":6},8]
[9,{"$nulls":6},9,{"$nulls":6},9,{"$nulls":5},9,{"$nulls":6},9,{"$nulls":6},9,{"$nulls":5},9,{"$nulls":6},9]
[10,{"$nulls":6},10,{"$nulls":6},10,{"$nulls":5},10,{"$nulls":6},10,{"$nulls":6},10,{"$nulls":5},10,{"$nulls":6},10]
[11,{"$nulls":6},11,{"$nulls":6},11,{"$nulls":5},11,{"$nulls":6},11,{"$nulls":6},11,{"$nulls":5},11,{"$nulls":6},11]
[12,{"$nulls":6},12,{"$nulls":6},12,{"$nulls":5},12,{"$nulls":6},12,{"$nulls":6},12,{"$nulls":5},12,{"$nulls":6},12]
[13,{"$nulls":6},13,{"$nulls":6},13,{"$nulls":5},13,{"$nulls":6},13,{"$nulls":6},13,{"$nulls":5},13,{"$nulls":6},13]
[14,{"$nulls":6},14,{"$nulls":6},14,{"$nulls":5},14,{"$nulls":6},14,{"$nulls":6},14,{"$nulls":5},14,{"$nulls":6},14]
[15,{"$nulls":6},15,{"$nulls":6},15,{"$nulls":5},15,{"$nulls":6},15,{"$nulls":6},15,{"$nulls":5},15,{"$nulls":6},15]
[16,{"$nulls":6},16,{"$nulls":6},16,{"$nulls":5},16,{"$nulls":6},16,{"$nulls":6},16,{"$nulls":5},16,{"$nulls":6},16]
[17,{"$nulls":6},17,{"$nulls":6},17,{"$nulls":5},17,{"$nulls":6},17,{"$nulls":6},17,{"$nulls":5},17,{"$nulls":6},17]
[18,{"$nulls":6},18,{"$nulls":6},18,{"$nulls":5},18,{"$nulls":6},18,{"$nulls":6},18,{"$nulls":5},18,{"$nulls":6},18]
["Total","Shots",null,null,"Shots",null,null,"Total","Shots",null,null,"Shots",null,null,"Total","Shots",null,null,"Shots",null,"Total","Shots",null,null,"Shots",null,null,"Total","Shots",null,null,"Shots",null,null,"Total","Shots",null,null,"Shots",null,"Total","Shots",null,null,"Shots",null,null,"Total","Shots",null,null,"shots"]
[null,"Ends",null,null,"Ends",{"$nulls":3},"Ends",null,null,"Ends",{"$nulls":3},"Ends",null,null,"Ends",null,null,"Ends",null,null,"Ends",{"$nulls":3},"Ends",null,null,"Ends",{"$nulls":3},"Ends",null,null,"Ends",null,null,"Ends",null,null,"Ends",{"$nulls":3},"Ends",null,null,"Ends"]
[]
[]
["1st Game ",{"$nulls":6},"2nd Game ",{"$nulls":6},"3rd Game ",{"$nulls":5},"4th Game",{"$nulls":6},"5th Game",{"$nulls":6},"6th Game",{"$nulls":5},"7th Game",{"$nulls":6},"8th Game"]
["Team No",null,null,"Rink No",{"$nulls":3},"Team No",null,null,"Rink No",{"$nulls":3},"Team No",null,null,"Rink No",null,null,"Team No",null,null,"Rink No",{"$nulls":3},"Team No",null,null,"Rink No",{"$nulls":3},"Team No",null,null,"Rink No",null,null,"Team No",null,null,"Rink No",{"$nulls":3},"Team No",null,null,"Rink No"]
[]
[{"$f":"DRAW!$B$24","v":18},null,null,{"$f":"DRAW!$E$24","v":10},{"$nulls":3},{"$f":"DRAW!$B$24","v":18},null,null,{"$f":"DRAW!$G$24","v":19},{"$nulls":3},{"$f":"DRAW!$B$24","v":18},null,null,{"$f":"DRAW!$I$24","v":4},null,null,{"$f":"DRAW!$B$24","v":18},null,null,{"$f":"DRAW!$K$24","v":14},{"$nulls":3},{"$f":"DRAW!$B$24","v":18},null,null,{"$f":"DRAW!$M$24","v":16},{"$nulls":3},{"$f":"DRAW!$B$24","v":18},null,null,{"$f":"DRAW!$O$24","v":6},null,null,{"$f":"DRAW!$B$24","v":18},null,null,{"$f":"DRAW!$Q$24","v":14},{"$nulls":3},{"$f":"DRAW!$B$24","v":18},null,null,{"$f":"DRAW!$S$24","v":18}]
[null,"Team",{"$f":"DRAW!$B$24","v":18},"V","Team",{"$f":"DRAW!$D$24","v":27},null,null,"Team",{"$f":"DRAW!$B$24","v":18},"V","Team",{"$f":"DRAW!$F$24","v":16},null,null,"Team",{"$f":"DRAW!$B$24","v":18},"V","Team",{"$f":"DRAW!$H$24","v":20},null,"Team",{"$f":"DRAW!$B$24","v":18},"V","Team",{"$f":"DRAW!$J$24","v":24},null,null,"Team",{"$f":"DRAW!$B$24","v":18},"V","Team",{"$f":"DRAW!$L$24","v":25},null,null,"Team",{"$f":"DRAW!$B$24","v":18},"V","Team",{"$f":"DRAW!$N$24","v":22},null,"Team",{"$f":"DRAW!$B$24","v":18},"V","Team",{"$f":"DRAW!$P$24","v":26},null,null,"Team",{"$f":"DRAW!$B$24","v":18},"V","Team",{"$f":"DRAW!$R$24","v":17}]
["Ends","Shots","Total",null,"Shots","Total",null,"Ends","Shots","Total",null,"Shots","Total",null,"Ends","Shots","Total",null,"Shots","Total","Ends","Shots","Total",null,"Shots","Total",null,"Ends","Shots","Total",null,"Shots","Total",null,"Ends","Shots","Total",null,"Shots","Total","Ends","Shots","Total",null,"Shots","Total",null,"Ends","Shots","Total",null,"shots","Totar"]
[1,{"$nulls":6},1,{"$nulls":6},1,{"$nulls":5},1,{"$nulls":6},1,{"$nulls":6},1,{"$nulls":5},1,{"$nulls":6},1]
[2,{"$nulls":6},2,{"$nulls":6},2,{"$nulls":5},2,{"$nulls":6},2,{"$nulls":6},2,{"$nulls":5},2,{"$nulls":6},2]
[3,{"$nulls":6},3,{"$nulls":6},3,{"$nulls":5},3,{"$nulls":6},3,{"$nulls":6},3,{"$nulls":5},3,{"$nulls":6},3]
[4,{"$nulls":6},4,{"$nulls":6},4,{"$nulls":5},4,{"$nulls":6},4,{"$nulls":6},4,{"$nulls":5},4,{"$nulls":6},4]
[5,{"$nulls":6},5,{"$nulls":6},5,{"$nulls":5},5,{"$nulls":6},5,{"$nulls":6},5,{"$nulls":5},5,{"$nulls":6},5]
[6,{"$nulls":6},6,{"$nulls":6},6,{"$nulls":5},6,{"$nulls":6},6,{"$nulls":6},6,{"$nulls":5},6,{"$nulls":6},6]
[7,{"$nulls":6},7,{"$nulls":6},7,{"$nulls":5},7,{"$nulls":6},7,{"$nulls":6},7,{"$nulls":5},7,{"$nulls":6},7]
[8,{"$nulls":6},8,{"$nulls":6},8,{"$nulls":5},8,{"$nulls":6},8,{"$nulls":6},8,{"$nulls":5},8,{"$nulls":6},8]
[9,{"$nulls":6},9,{"$nulls":6},9,{"$nulls":5},9,{"$nulls":6},9,{"$nulls":6},9,{"$nulls":5},9,{"$nulls":6},9]
[10,{"$nulls":6},10,{"$nulls":6},10,{"$nulls":5},10,{"$nulls":6},10,{"$nulls":6},10,{"$nulls":5},10,{"$nulls":6},10]
[11,{"$nulls":6},11,{"$nulls":6},11,{"$nulls":5},11,{"$nulls":6},11,{"$nulls":6},11,{"$nulls":5},11,{"$nulls":6},11]
[12,{"$nulls":6},12,{"$nulls":6},12,{"$nulls":5},12,{"$nulls":6},12,{"$nulls":6},12,{"$nulls":5},12,{"$nulls":6},12]
[13,{"$nulls":6},13,{"$nulls":6},13,{"$nulls":5},13,{"$nulls":6},13,{"$nulls":6},13,{"$nulls":5},13,{"$nulls":6},13]
[14,{"$nulls":6},14,{"$nulls":6},14,{"$nulls":5},14,{"$nulls":6},14,{"$nulls":6},14,{"$nulls":5},14,{"$nulls":6},14]
[15,{"$nulls":6},15,{"$nulls":6},15,{"$nulls":5},15,{"$nulls":6},15,{"$nulls":6},15,{"$nulls":5},15,{"$nulls":6},15]
[16,{"$nulls":6},16,{"$nulls":6},16,{"$nulls":5},16,{"$nulls":6},16,{"$nulls":6},16,{"$nulls":5},16,{"$nulls":6},16]
[17,{"$nulls":6},17,{"$nulls":6},17,{"$nulls":5},17,{"$nulls":6},17,{"$nulls":6},17,{"$nulls":5},17,{"$nulls":6},17]
[18,{"$nulls":6},18,{"$nulls":6},18,{"$nulls":5},18,{"$nulls":6},18,{"$nulls":6},18,{"$nulls":5},18,{"$nulls":6},18]
["Total","Shots",null,null,"Shots",null,null,"Total","Shots",null,null,"Shots",null,null,"Total","Shots",null,null,"Shots",null,"Total","Shots",null,null,"Shots",null,null,"Total","Shots",null,null,"Shots",null,null,"Total","Shots",null,null,"Shots",null,"Total","Shots",null,null,"Shots",null,null,"Total","Shots",null,null,"shots"]
[null,"Ends",null,null,"Ends",{"$nulls":3},"Ends",null,null,"Ends",{"$nulls":3},"Ends",null,null,"Ends",null,null,"Ends",null,null,"Ends",{"$nulls":3},"Ends",null,null,"Ends",{"$nulls":3},"Ends",null,null,"Ends",null,null,"Ends",null,null,"Ends",{"$nulls":3},"Ends",null,null,"Ends"]
["1st Game ",{"$nulls":6},"2nd Game ",{"$nulls":6},"3rd Game ",{"$nulls":5},"4th Game",{"$nulls":6},"5th Game",{"$nulls":6},"6th Game",{"$nulls":5},"7th Game",{"$nulls":6},"8th Game"]
["Team No",null,null,"Rink No",{"$nulls":3},"Team No",null,null,"Rink No",{"$nulls":3},"Team No",null,null,"Rink No",null,null,"Team No",null,null,"Rink No",{"$nulls":3},"Team No",null,null,"Rink No",{"$nulls":3},"Team No",null,null,"Rink No",null,null,"Team No",null,null,"Rink No",{"$nulls":3},"Team No",null,null,"Rink No"]
[]
[{"$f":"DRAW!$B$25","v":19},null,null,{"$f":"DRAW!$E$25","v":11},{"$nulls":3},{"$f":"DRAW!$B$25","v":19},null,null,{"$f":"DRAW!$G$25","v":15},{"$nulls":3},{"$f":"DRAW!$B$25","v":19},null,null,{"$f":"DRAW!$I$25","v":5},null,null,{"$f":"DRAW!$B$25","v":19},null,null,{"$f":"DRAW!$K$25","v":10},{"$nulls":3},{"$f":"DRAW!$B$25","v":19},null,null,{"$f":"DRAW!$M$25","v":19},{"$nulls":3},{"$f":"DRAW!$B$25","v":19},null,null,{"$f":"DRAW!$O$25","v":1},null,null,{"$f":"DRAW!$B$25","v":19},null,null,{"$f":"DRAW!$Q$25","v":13},{"$nulls":3},{"$f":"DRAW!$B$25","v":19},null,null,{"$f":"DRAW!$S$25","v":16}]
[null,"Team",{"$f":"DRAW!$B$25","v":19},"V","Team",{"$f":"DRAW!$D$25","v":26},null,null,"Team",{"$f":"DRAW!$B$25","v":19},"V","Team",{"$f":"DRAW!$F$25","v":28},null,null,"Team",{"$f":"DRAW!$B$25","v":19},"V","Team",{"$f":"DRAW!$H$25","v":15},null,"Team",{"$f":"DRAW!$B$25","v":19},"V","Team",{"$f":"DRAW!$J$25","v":23},null,null,"Team",{"$f":"DRAW!$B$25","v":19},"V","Team",{"$f":"DRAW!$L$25","v":24},null,null,"Team",{"$f":"DRAW!$B$25","v":19},"V","Team",{"$f":"DRAW!$N$25","v":25},null,"Team",{"$f":"DRAW!$B$25","v":19},"V","Team",{"$f":"DRAW!$P$25","v":22},null,null,"Team",{"$f":"DRAW!$B$25","v":19},"V","Team",{"$f":"DRAW!$R$25","v":16}]
["Ends","Shots","Total",null,"Shots","Total",null,"Ends","Shots","Total",null,"Shots","Total",null,"Ends","Shots","Total",null,"Shots","Total","Ends","Shots","Total",null,"Shots","Total",null,"Ends","Shots","Total",null,"Shots","Total",null,"Ends","Shots","Total",null,"Shots","Total","Ends","Shots","Total",null,"Shots","Total",null,"Ends","Shots","Total",null,"shots","Totar"]
[1,{"$nulls":6},1,{"$nulls":6},1,{"$nulls":5},1,{"$nulls":6},1,{"$nulls":6},1,{"$nulls":5},1,{"$nulls":6},1]
[2,{"$nulls":6},2,{"$nulls":6},2,{"$nulls":5},2,{"$nulls":6},2,{"$nulls":6},2,{"$nulls":5},2,{"$nulls":6},2]
[3,{"$nulls":6},3,{"$nulls":6},3,{"$nulls":5},3,{"$nulls":6},3,{"$nulls":6},3,{"$nulls":5},3,{"$nulls":6},3]
[4,{"$nulls":6},4,{"$nulls":6},4,{"$nulls":5},4,{"$nulls":6},4,{"$nulls":6},4,{"$nulls":5},4,{"$nulls":6},4]
[5,{"$nulls":6},5,{"$nulls":6},5,{"$nulls":5},5,{"$nulls":6},5,{"$nulls":6},5,{"$nulls":5},5,{"$nulls":6},5]
[6,{"$nulls":6},6,{"$nulls":6},6,{"$nulls":5},6,{"$nulls":6},6,{"$nulls":6},6,{"$nulls":5},6,{"$nulls":6},6]
[7,{"$nulls":6},7,{"$nulls":6},7,{"$nulls":5},7,{"$nulls":6},7,{"$nulls":6},7,{"$nulls":5},7,{"$nulls":6},7]
[8,{"$nulls":6},8,{"$nulls":6},8,{"$nulls":5},8,{"$nulls":6},8,{"$nulls":6},8,{"$nulls":5},8,{"$nulls":6},8]
[9,{"$nulls":6},9,{"$nulls":6},9,{"$nulls":5},9,{"$nulls":6},9,{"$nulls":6},9,{"$nulls":5},9,{"$nulls":6},9]
[10,{"$nulls":6},10,{"$nulls":6},10,{"$nulls":5},10,{"$nulls":6},10,{"$nulls":6},10,{"$nulls":5},10,{"$nulls":6},10]
[11,{"$nulls":6},11,{"$nulls":6},11,{"$nulls":5},11,{"$nulls":6},11,{"$nulls":6},11,{"$nulls":5},11,{"$nulls":6},11]
[12,{"$nulls":6},12,{"$nulls":6},12,{"$nulls":5},12,{"$nulls":6},12,{"$nulls":6},12,{"$nulls":5},12,{"$nulls":6},12]
[13,{"$nulls":6},13,{"$nulls":6},13,{"$nulls":5},13,{"$nulls":6},13,{"$nulls":6},13,{"$nulls":5},13,{"$nulls":6},13]
[14,{"$nulls":6},14,{"$nulls":6},14,{"$nulls":5},14,{"$nulls":6},14,{"$nulls":6},14,{"$nulls":5},14,{"$nulls":6},14]
[15,{"$nulls":6},15,{"$nulls":6},15,{"$nulls":5},15,{"$nulls":6},15,{"$nulls":6},15,{"$nulls":5},15,{"$nulls":6},15]
[16,{"$nulls":6},16,{"$nulls":6},16,{"$nulls":5},16,{"$nulls":6},16,{"$nulls":6},16,{"$nulls":5},16,{"$nulls":6},16]
[17,{"$nulls":6},17,{"$nulls":6},17,{"$nulls":5},17,{"$nulls":6},17,{"$nulls":6},17,{"$nulls":5},17,{"$nulls":6},17]
[18,{"$nulls":6},18,{"$nulls":6},18,{"$nulls":5},18,{"$nulls":6},18,{"$nulls":6},18,{"$nulls":5},18,{"$nulls":6},18]
["Total","Shots",null,null,"Shots",null,null,"Total","Shots",null,null,"Shots",null,null,"Total","Shots",null,null,"Shots",null,"Total","Shots",null,null,"Shots",null,null,"Total","Shots",null,null,"Shots",null,null,"Total","Shots",null,null,"Shots",null,"Total","Shots",null,null,"Shots",null,null,"Total","Shots",null,null,"shots"]
[null,"Ends",null,null,"Ends",{"$nulls":3},"Ends",null,null,"Ends",{"$nulls":3},"Ends",null,null,"Ends",null,null,"Ends",null,null,"Ends",{"$nulls":3},"Ends",null,null,"Ends",{"$nulls":3},"Ends",null,null,"Ends",null,null,"Ends",null,null,"Ends",{"$nulls":3},"Ends",null,null,"Ends"]
[]
[]
["1st Game ",{"$nulls":6},"2nd Game ",{"$nulls":6},"3rd Game ",{"$nulls":5},"4th Game",{"$nulls":6},"5th Game",{"$nulls":6},"6th Game",{"$nulls":5},"7th Game",{"$nulls":6},"8th Game"]
["Team No",null,null,"Rink No",{"$nulls":3},"Team No",null,null,"Rink No",{"$nulls":3},"Team No",null,null,"Rink No",null,null,"Team No",null,null,"Rink No",{"$nulls":3},"Team No",null,null,"Rink No",{"$nulls":3},"Team No",null,null,"Rink No",null,null,"Team No",null,null,"Rink No",{"$nulls":3},"Team No",null,null,"Rink No"]
[]
[{"$f":"DRAW!$B$26","v":20},null,null,{"$f":"DRAW!$E$26","v":12},{"$nulls":3},{"$f":"DRAW!$B$26","v":20},null,null,{"$f":"DRAW!$G$26","v":21},{"$nulls":3},{"$f":"DRAW!$B$26","v":20},null,null,{"$f":"DRAW!$I$26","v":4},null,null,{"$f":"DRAW!$B$26","v":20},null,null,{"$f":"DRAW!$K$26","v":8},{"$nulls":3},{"$f":"DRAW!$B$26","v":20},null,null,{"$f":"DRAW!$M$26","v":20},{"$nulls":3},{"$f":"DRAW!$B$26","v":20},null,null,{"$f":"DRAW!$O$26","v":5},null,null,{"$f":"DRAW!$B$26","v":20},null,null,{"$f":"DRAW!$Q$26","v":11},{"$nulls":3},{"$f":"DRAW!$B$26","v":20},null,null,{"$f":"DRAW!$S$26","v":21}]
[null,"Team",{"$f":"DRAW!$B$26","v":20},"V","Team",{"$f":"DRAW!$D$26","v":25},null,null,"Team",{"$f":"DRAW!$B$26","v":20},"V","Team",{"$f":"DRAW!$F$26","v":27},null,null,"Team",{"$f":"DRAW!$B$26","v":20},"V","Team",{"$f":"DRAW!$H$26","v":18},null,"Team",{"$f":"DRAW!$B$26","v":20},"V","Team",{"$f":"DRAW!$J$26","v":22},null,null,"Team",{"$f":"DRAW!$B$26","v":20},"V","Team",{"$f":"DRAW!$L$26","v":23},null,null,"Team",{"$f":"DRAW!$B$26","v":20},"V","Team",{"$f":"DRAW!$N$26","v":24},null,"Team",{"$f":"DRAW!$B$26","v":20},"V","Team",{"$f":"DRAW!$P$26","v":21},null,null,"Team",{"$f":"DRAW!$B$26","v":20},"V","Team",{"$f":"DRAW!$R$26","v":28}]
["Ends","Shots","Total",null,"Shots","Total",null,"Ends","Shots","Total",null,"Shots","Total",null,"Ends","Shots","Total",null,"Shots","Total","Ends","Shots","Total",null,"Shots","Total",null,"Ends","Shots","Total",null,"Shots","Total",null,"Ends","Shots","Total",null,"Shots","Total","Ends","Shots","Total",null,"Shots","Total",null,"Ends","Shots","Total",null,"shots","Totar"]
[1,{"$nulls":6},1,{"$nulls":6},1,{"$nulls":5},1,{"$nulls":6},1,{"$nulls":6},1,{"$nulls":5},1,{"$nulls":6},1]
[2,{"$nulls":6},2,{"$nulls":6},2,{"$nulls":5},2,{"$nulls":6},2,{"$nulls":6},2,{"$nulls":5},2,{"$nulls":6},2]
[3,{"$nulls":6},3,{"$nulls":6},3,{"$nulls":5},3,{"$nulls":6},3,{"$nulls":6},3,{"$nulls":5},3,{"$nulls":6},3]
[4,{"$nulls":6},4,{"$nulls":6},4,{"$nulls":5},4,{"$nulls":6},4,{"$nulls":6},4,{"$nulls":5},4,{"$nulls":6},4]
[5,{"$nulls":6},5,{"$nulls":6},5,{"$nulls":5},5,{"$nulls":6},5,{"$nulls":6},5,{"$nulls":5},5,{"$nulls":6},5]
[6,{"$nulls":6},6,{"$nulls":6},6,{"$nulls":5},6,{"$nulls":6},6,{"$nulls":6},6,{"$nulls":5},6,{"$nulls":6},6]
[7,{"$nulls":6},7,{"$nulls":6},7,{"$nulls":5},7,{"$nulls":6},7,{"$nulls":6},7,{"$nulls":5},7,{"$nulls":6},7]
[8,{"$nulls":6},8,{"$nulls":6},8,{"$nulls":5},8,{"$nulls":6},8,{"$nulls":6},8,{"$nulls":5},8,{"$nulls":6},8]
[9,{"$nulls":6},9,{"$nulls":6},9,{"$nulls":5},9,{"$nulls":6},9,{"$nulls":6},9,{"$nulls":5},9,{"$nulls":6},9]
[10,{"$nulls":6},10,{"$nulls":6},10,{"$nulls":5},10,{"$nulls":6},10,{"$nulls":6},10,{"$nulls":5},10,{"$nulls":6},10]
[11,{"$nulls":6},11,{"$nulls":6},11,{"$nulls":5},11,{"$nulls":6},11,{"$nulls":6},11,{"$nulls":5},11,{"$nulls":6},11]
[12,{"$nulls":6},12,{"$nulls":6},12,{"$nulls":5},12,{"$nulls":6},12,{"$nulls":6},12,{"$nulls":5},12,{"$nulls":6},12]
[13,{"$nulls":6},13,{"$nulls":6},13,{"$nulls":5},13,{"$nulls":6},13,{"$nulls":6},13,{"$nulls":5},13,{"$nulls":6},13]
[14,{"$nulls":6},14,{"$nulls":6},14,{"$nulls":5},14,{"$nulls":6},14,{"$nulls":6},14,{"$nulls":5},14,{"$nulls":6},14]
[15,{"$nulls":6},15,{"$nulls":6},15,{"$nulls":5},15,{"$nulls":6},15,{"$nulls":6},15,{"$nulls":5},15,{"$nulls":6},15]
[16,{"$nulls":6},16,{"$nulls":6},16,{"$nulls":5},16,{"$nulls":6},16,{"$nulls":6},16,{"$nulls":5},16,{"$nulls":6},16]
[17,{"$nulls":6},17,{"$nulls":6},17,{"$nulls":5},17,{"$nulls":6},17,{"$nulls":6},17,{"$nulls":5},17,{"$nulls":6},17]
[18,{"$nulls":6},18,{"$nulls":6},18,{"$nulls":5},18,{"$nulls":6},18,{"$nulls":6},18,{"$nulls":5},18,{"$nulls":6},18]
["Total","Shots",null,null,"Shots",null,null,"Total","Shots",null,null,"Shots",null,null,"Total","Shots",null,null,"Shots",null,"Total","Shots",null,null,"Shots",null,null,"Total","Shots",null,null,"Shots",null,null,"Total","Shots",null,null,"Shots",null,"Total","Shots",null,null,"Shots",null,null,"Total","Shots",null,null,"shots"]
[null,"Ends",null,null,"Ends",{"$nulls":3},"Ends",null,null,"Ends",{"$nulls":3},"Ends",null,null,"Ends",null,null,"Ends",null,null,"Ends",{"$nulls":3},"Ends",null,null,"Ends",{"$nulls":3},"Ends",null,null,"Ends",null,null,"Ends",null,null,"Ends",{"$nulls":3},"Ends",null,null,"Ends"]
["1st Game ",{"$nulls":6},"2nd Game ",{"$nulls":6},"3rd Game ",{"$nulls":5},"4th Game",{"$nulls":6},"5th Game",{"$nulls":6},"6th Game",{"$nulls":5},"7th Game",{"$nulls":6},"8th Game"]
["Team No",null,null,"Rink No",{"$nulls":3},"Team No",null,null,"Rink No",{"$nulls":3},"Team No",null,null,"Rink No",null,null,"Team No",null,null,"Rink No",{"$nulls":3},"Team No",null,null,"Rink No",{"$nulls":3},"Team No",null,null,"Rink No",null,null,"Team No",null,null,"Rink No",{"$nulls":3},"Team No",null,null,"Rink No"]
[]
[{"$f":"DRAW!$B$27","v":21},null,null,{"$f":"DRAW!$E$27","v":13},{"$nulls":3},{"$f":"DRAW!$B$27","v":21},null,null,{"$f":"DRAW!$G$27","v":16},{"$nulls":3},{"$f":"DRAW!$B$27","v":21},null,null,{"$f":"DRAW!$I$27","v":1},null,null,{"$f":"DRAW!$B$27","v":21},null,null,{"$f":"DRAW!$K$27","v":9},{"$nulls":3},{"$f":"DRAW!$B$27","v":21},null,null,{"$f":"DRAW!$M$27","v":18},{"$nulls":3},{"$f":"DRAW!$B$27","v":21},null,null,{"$f":"DRAW!$O$27","v":7},null,null,{"$f":"DRAW!$B$27","v":21},null,null,{"$f":"DRAW!$Q$27","v":11},{"$nulls":3},{"$f":"DRAW!$B$27","v":21},null,null,{"$f":"DRAW!$S$27","v":17}]
[null,"Team",{"$f":"DRAW!$B$27","v":21},"V","Team",{"$f":"DRAW!$D$27","v":24},null,null,"Team",{"$f":"DRAW!$B$27","v":21},"V","Team",{"$f":"DRAW!$F$27","v":26},null,null,"Team",{"$f":"DRAW!$B$27","v":21},"V","Team",{"$f":"DRAW!$H$27","v":17},null,"Team",{"$f":"DRAW!$B$27","v":21},"V","Team",{"$f":"DRAW!$J$27","v":15},null,null,"Team",{"$f":"DRAW!$B$27","v":21},"V","Team",{"$f":"DRAW!$L$27","v":22},null,null,"Team",{"$f":"DRAW!$B$27","v":21},"V","Team",{"$f":"DRAW!$N$27","v":23},null,"Team",{"$f":"DRAW!$B$27","v":21},"V","Team",{"$f":"DRAW!$P$27","v":20},null,null,"Team",{"$f":"DRAW!$B$27","v":21},"V","Team",{"$f":"DRAW!$R$27","v":27}]
["Ends","Shots","Total",null,"Shots","Total",null,"Ends","Shots","Total",null,"Shots","Total",null,"Ends","Shots","Total",null,"Shots","Total","Ends","Shots","Total",null,"Shots","Total",null,"Ends","Shots","Total",null,"Shots","Total",null,"Ends","Shots","Total",null,"Shots","Total","Ends","Shots","Total",null,"Shots","Total",null,"Ends","Shots","Total",null,"shots","Totar"]
[1,{"$nulls":6},1,{"$nulls":6},1,{"$nulls":5},1,{"$nulls":6},1,{"$nulls":6},1,{"$nulls":5},1,{"$nulls":6},1]
[2,{"$nulls":6},2,{"$nulls":6},2,{"$nulls":5},2,{"$nulls":6},2,{"$nulls":6},2,{"$nulls":5},2,{"$nulls":6},2]
[3,{"$nulls":6},3,{"$nulls":6},3,{"$nulls":5},3,{"$nulls":6},3,{"$nulls":6},3,{"$nulls":5},3,{"$nulls":6},3]
[4,{"$nulls":6},4,{"$nulls":6},4,{"$nulls":5},4,{"$nulls":6},4,{"$nulls":6},4,{"$nulls":5},4,{"$nulls":6},4]
[5,{"$nulls":6},5,{"$nulls":6},5,{"$nulls":5},5,{"$nulls":6},5,{"$nulls":6},5,{"$nulls":5},5,{"$nulls":6},5]
[6,{"$nulls":6},6,{"$nulls":6},6,{"$nulls":5},6,{"$nulls":6},6,{"$nulls":6},6,{"$nulls":5},6,{"$nulls":6},6]
[7,{"$nulls":6},7,{"$nulls":6},7,{"$nulls":5},7,{"$nulls":6},7,{"$nulls":6},7,{"$nulls":5},7,{"$nulls":6},7]
[8,{"$nulls":6},8,{"$nulls":6},8,{"$nulls":5},8,{"$nulls":6},8,{"$nulls":6},8,{"$nulls":5},8,{"$nulls":6},8]
[9,{"$nulls":6},9,{"$nulls":6},9,{"$nulls":5},9,{"$nulls":6},9,{"$nulls":6},9,{"$nulls":5},9,{"$nulls":6},9]
[10,{"$nulls":6},10,{"$nulls":6},10,{"$nulls":5},10,{"$nulls":6},10,{"$nulls":6},10,{"$nulls":5},10,{"$nulls":6},10]
[11,{"$nulls":6},11,{"$nulls":6},11,{"$nulls":5},11,{"$nulls":6},11,{"$nulls":6},11,{"$nulls":5},11,{"$nulls":6},11]
[12,{"$nulls":6},12,{"$nulls":6},12,{"$nulls":5},12,{"$nulls":6},12,{"$nulls":6},12,{"$nulls":5},12,{"$nulls":6},12]
[13,{"$nulls":6},13,{"$nulls":6},13,{"$nulls":5},13,{"$nulls":6},13,{"$nulls":6},13,{"$nulls":5},13,{"$nulls":6},13]
[14,{"$nulls":6},14,{"$nulls":6},14,{"$nulls":5},14,{"$nulls":6},14,{"$nulls":6},14,{"$nulls":5},14,{"$nulls":6},14]
[15,{"$nulls":6},15,{"$nulls":6},15,{"$nulls":5},15,{"$nulls":6},15,{"$nulls":6},15,{"$nulls":5},15,{"$nulls":6},15]
[16,{"$nulls":6},16,{"$nulls":6},16,{"$nulls":5},16,{"$nulls":6},16,{"$nulls":6},16,{"$nulls":5},16,{"$nulls":6},16]
[17,{"$nulls":6},17,{"$nulls":6},17,{"$nulls":5},17,{"$nulls":6},17,{"$nulls":6},17,{"$nulls":5},17,{"$nulls":6},17]
[18,{"$nulls":6},18,{"$nulls":6},18,{"$nulls":5},18,{"$nulls":6},18,{"$nulls":6},18,{"$nulls":5},18,{"$nulls":6},18]
["Total","Shots",null,null,"Shots",null,null,"Total","Shots",null,null,"Shots",null,null,"Total","Shots",null,null,"Shots",null,"Total","Shots",null,null,"Shots",null,null,"Total","Shots",null,null,"Shots",null,null,"Total","Shots",null,null,"Shots",null,"Total","Shots",null,null,"Shots",null,null,"Total","Shots",null,null,"shots"]
[null,"Ends",null,null,"Ends",{"$nulls":3},"Ends",null,null,"Ends",{"$nulls":3},"Ends",null,null,"Ends",null,null,"Ends",null,null,"Ends",{"$nulls":3},"Ends",null,null,"Ends",{"$nulls":3},"Ends",null,null,"Ends",null,null,"Ends",null,null,"Ends",{"$nulls":3},"Ends",null,null,"Ends"]
[]
[]
["1st Game ",{"$nulls":6},"2nd Game ",{"$nulls":6},"3rd Game ",{"$nulls":5},"4th Game",{"$nulls":6},"5th Game",{"$nulls":6},"6th Game",{"$nulls":5},"7th Game",{"$nulls":6},"8th Game"]
["Team No",null,null,"Rink No",{"$nulls":3},"Team No",null,null,"Rink No",{"$nulls":3},"Team No",null,null,"Rink No",null,null,"Team No",null,null,"Rink No",{"$nulls":3},"Team No",null,null,"Rink No",{"$nulls":3},"Team No",null,null,"Rink No",null,null,"Team No",null,null,"Rink No",{"$nulls":3},"Team No",null,null,"Rink No"]
[]
[{"$f":"DRAW!$B$28","v":22},null,null,{"$f":"DRAW!$E$28","v":14},{"$nulls":3},{"$f":"DRAW!$B$28","v":22},null,null,{"$f":"DRAW!$G$28","v":17},{"$nulls":3},{"$f":"DRAW!$B$28","v":22},null,null,{"$f":"DRAW!$I$28","v":2},null,null,{"$f":"DRAW!$B$28","v":22},null,null,{"$f":"DRAW!$K$28","v":8},{"$nulls":3},{"$f":"DRAW!$B$28","v":22},null,null,{"$f":"DRAW!$M$28","v":18},{"$nulls":3},{"$f":"DRAW!$B$28","v":22},null,null,{"$f":"DRAW!$O$28","v":6},null,null,{"$f":"DRAW!$B$28","v":22},null,null,{"$f":"DRAW!$Q$28","v":13},{"$nulls":3},{"$f":"DRAW!$B$28","v":22},null,null,{"$f":"DRAW!$S$28","v":15}]
[null,"Team",{"$f":"DRAW!$B$28","v":22},"V","Team",{"$f":"DRAW!$D$28","v":23},null,null,"Team",{"$f":"DRAW!$B$28","v":22},"V","Team",{"$f":"DRAW!$F$28","v":25},null,null,"Team",{"$f":"DRAW!$B$28","v":22},"V","Team",{"$f":"DRAW!$H$28","v":16},null,"Team",{"$f":"DRAW!$B$28","v":22},"V","Team",{"$f":"DRAW!$J$28","v":20},null,null,"Team",{"$f":"DRAW!$B$28","v":22},"V","Team",{"$f":"DRAW!$L$28","v":21},null,null,"Team",{"$f":"DRAW!$B$28","v":22},"V","Team",{"$f":"DRAW!$N$28","v":18},null,"Team",{"$f":"DRAW!$B$28","v":22},"V","Team",{"$f":"DRAW!$P$28","v":19},null,null,"Team",{"$f":"DRAW!$B$28","v":22},"V","Team",{"$f":"DRAW!$R$28","v":15}]
["Ends","Shots","Total",null,"Shots","Total",null,"Ends","Shots","Total",null,"Shots","Total",null,"Ends","Shots","Total",null,"Shots","Total","Ends","Shots","Total",null,"Shots","Total",null,"Ends","Shots","Total",null,"Shots","Total",null,"Ends","Shots","Total",null,"Shots","Total","Ends","Shots","Total",null,"Shots","Total",null,"Ends","Shots","Total",null,"shots","Totar"]
[1,{"$nulls":6},1,{"$nulls":6},1,{"$nulls":5},1,{"$nulls":6},1,{"$nulls":6},1,{"$nulls":5},1,{"$nulls":6},1]
[2,{"$nulls":6},2,{"$nulls":6},2,{"$nulls":5},2,{"$nulls":6},2,{"$nulls":6},2,{"$nulls":5},2,{"$nulls":6},2]
[3,{"$nulls":6},3,{"$nulls":6},3,{"$nulls":5},3,{"$nulls":6},3,{"$nulls":6},3,{"$nulls":5},3,{"$nulls":6},3]
[4,{"$nulls":6},4,{"$nulls":6},4,{"$nulls":5},4,{"$nulls":6},4,{"$nulls":6},4,{"$nulls":5},4,{"$nulls":6},4]
[5,{"$nulls":6},5,{"$nulls":6},5,{"$nulls":5},5,{"$nulls":6},5,{"$nulls":6},5,{"$nulls":5},5,{"$nulls":6},5]
[6,{"$nulls":6},6,{"$nulls":6},6,{"$nulls":5},6,{"$nulls":6},6,{"$nulls":6},6,{"$nulls":5},6,{"$nulls":6},6]
[7,{"$nulls":6},7,{"$nulls":6},7,{"$nulls":5},7,{"$nulls":6},7,{"$nulls":6},7,{"$nulls":5},7,{"$nulls":6},7]
[8,{"$nulls":6},8,{"$nulls":6},8,{"$nulls":5},8,{"$nulls":6},8,{"$nulls":6},8,{"$nulls":5},8,{"$nulls":6},8]
[9,{"$nulls":6},9,{"$nulls":6},9,{"$nulls":5},9,{"$nulls":6},9,{"$nulls":6},9,{"$nulls":5},9,{"$nulls":6},9]
[10,{"$nulls":6},10,{"$nulls":6},10,{"$nulls":5},10,{"$nulls":6},10,{"$nulls":6},10,{"$nulls":5},10,{"$nulls":6},10]
[11,{"$nulls":6},11,{"$nulls":6},11,{"$nulls":5},11,{"$nulls":6},11,{"$nulls":6},11,{"$nulls":5},11,{"$nulls":6},11]
[12,{"$nulls":6},12,{"$nulls":6},12,{"$nulls":5},12,{"$nulls":6},12,{"$nulls":6},12,{"$nulls":5},12,{"$nulls":6},12]
[13,{"$nulls":6},13,{"$nulls":6},13,{"$nulls":5},13,{"$nulls":6},13,{"$nulls":6},13,{"$nulls":5},13,{"$nulls":6},13]
[14,{"$nulls":6},14,{"$nulls":6},14,{"$nulls":5},14,{"$nulls":6},14,{"$nulls":6},14,{"$nulls":5},14,{"$nulls":6},14]
[15,{"$nulls":6},15,{"$nulls":6},15,{"$nulls":5},15,{"$nulls":6},15,{"$nulls":6},15,{"$nulls":5},15,{"$nulls":6},15]
[16,{"$nulls":6},16,{"$nulls":6},16,{"$nulls":5},16,{"$nulls":6},16,{"$nulls":6},16,{"$nulls":5},16,{"$nulls":6},16]
[17,{"$nulls":6},17,{"$nulls":6},17,{"$nulls":5},17,{"$nulls":6},17,{"$nulls":6},17,{"$nulls":5},17,{"$nulls":6},17]
[18,{"$nulls":6},18,{"$nulls":6},18,{"$nulls":5},18,{"$nulls":6},18,{"$nulls":6},18,{"$nulls":5},18,{"$nulls":6},18]
["Total","Shots",null,null,"Shots",null,null,"Total","Shots",null,null,"Shots",null,null,"Total","Shots",null,null,"Shots",null,"Total","Shots",null,null,"Shots",null,null,"Total","Shots",null,null,"Shots",null,null,"Total","Shots",null,null,"Shots",null,"Total","Shots",null,null,"Shots",null,null,"Total","Shots",null,null,"shots"]
[null,"Ends",null,null,"Ends",{"$nulls":3},"Ends",null,null,"Ends",{"$nulls":3},"Ends",null,null,"Ends",null,null,"Ends",null,null,"Ends",{"$nulls":3},"Ends",null,null,"Ends",{"$nulls":3},"Ends",null,null,"Ends",null,null,"Ends",null,null,"Ends",{"$nulls":3},"Ends",null,null,"Ends"]
["1st Game ",{"$nulls":6},"2nd Game ",{"$nulls":6},"3rd Game ",{"$nulls":5},"4th Game",{"$nulls":6},"5th Game",{"$nulls":6},"6th Game",{"$nulls":5},"7th Game",{"$nulls":6},"8th Game"]
["Team No",null,null,"Rink No",{"$nulls":3},"Team No",null,null,"Rink No",{"$nulls":3},"Team No",null,null,"Rink No",null,null,"Team No",null,null,"Rink No",{"$nulls":3},"Team No",null,null,"Rink No",{"$nulls":3},"Team No",null,null,"Rink No",null,null,"Team No",null,null,"Rink No",{"$nulls":3},"Team No",null,null,"Rink No"]
[]
[{"$f":"DRAW!$B$29","v":23},null,null,{"$f":"DRAW!$E$29","v":14},{"$nulls":3},{"$f":"DRAW!$B$29","v":23},null,null,{"$f":"DRAW!$G$29","v":18},{"$nulls":3},{"$f":"DRAW!$B$29","v":23},null,null,{"$f":"DRAW!$I$29","v":3},null,null,{"$f":"DRAW!$B$29","v":23},null,null,{"$f":"DRAW!$K$29","v":10},{"$nulls":3},{"$f":"DRAW!$B$29","v":23},null,null,{"$f":"DRAW!$M$29","v":20},{"$nulls":3},{"$f":"DRAW!$B$29","v":23},null,null,{"$f":"DRAW!$O$29","v":7},null,null,{"$f":"DRAW!$B$29","v":23},null,null,{"$f":"DRAW!$Q$29","v":9},{"$nulls":3},{"$f":"DRAW!$B$29","v":23},null,null,{"$f":"DRAW!$S$29","v":19}]
[null,"Team",{"$f":"DRAW!$B$29","v":23},"V","Team",{"$f":"DRAW!$D$29","v":22},null,null,"Team",{"$f":"DRAW!$B$29","v":23},"V","Team",{"$f":"DRAW!$F$29","v":24},null,null,"Team",{"$f":"DRAW!$B$29","v":23},"V","Team",{"$f":"DRAW!$H$29","v":28},null,"Team",{"$f":"DRAW!$B$29","v":23},"V","Team",{"$f":"DRAW!$J$29","v":19},null,null,"Team",{"$f":"DRAW!$B$29","v":23},"V","Team",{"$f":"DRAW!$L$29","v":20},null,null,"Team",{"$f":"DRAW!$B$29","v":23},"V","Team",{"$f":"DRAW!$N$29","v":21},null,"Team",{"$f":"DRAW!$B$29","v":23},"V","Team",{"$f":"DRAW!$P$29","v":16},null,null,"Team",{"$f":"DRAW!$B$29","v":23},"V","Team",{"$f":"DRAW!$R$29","v":25}]
["Ends","Shots","Total",null,"Shots","Total",null,"Ends","Shots","Total",null,"Shots","Total",null,"Ends","Shots","Total",null,"Shots","Total","Ends","Shots","Total",null,"Shots","Total",null,"Ends","Shots","Total",null,"Shots","Total",null,"Ends","Shots","Total",null,"Shots","Total","Ends","Shots","Total",null,"Shots","Total",null,"Ends","Shots","Total",null,"shots","Totar"]
[1,{"$nulls":6},1,{"$nulls":6},1,{"$nulls":5},1,{"$nulls":6},1,{"$nulls":6},1,{"$nulls":5},1,{"$nulls":6},1]
[2,{"$nulls":6},2,{"$nulls":6},2,{"$nulls":5},2,{"$nulls":6},2,{"$nulls":6},2,{"$nulls":5},2,{"$nulls":6},2]
[3,{"$nulls":6},3,{"$nulls":6},3,{"$nulls":5},3,{"$nulls":6},3,{"$nulls":6},3,{"$nulls":5},3,{"$nulls":6},3]
[4,{"$nulls":6},4,{"$nulls":6},4,{"$nulls":5},4,{"$nulls":6},4,{"$nulls":6},4,{"$nulls":5},4,{"$nulls":6},4]
[5,{"$nulls":6},5,{"$nulls":6},5,{"$nulls":5},5,{"$nulls":6},5,{"$nulls":6},5,{"$nulls":5},5,{"$nulls":6},5]
[6,{"$nulls":6},6,{"$nulls":6},6,{"$nulls":5},6,{"$nulls":6},6,{"$nulls":6},6,{"$nulls":5},6,{"$nulls":6},6]
[7,{"$nulls":6},7,{"$nulls":6},7,{"$nulls":5},7,{"$nulls":6},7,{"$nulls":6},7,{"$nulls":5},7,{"$nulls":6},7]
[8,{"$nulls":6},8,{"$nulls":6},8,{"$nulls":5},8,{"$nulls":6},8,{"$nulls":6},8,{"$nulls":5},8,{"$nulls":6},8]
[9,{"$nulls":6},9,{"$nulls":6},9,{"$nulls":5},9,{"$nulls":6},9,{"$nulls":6},9,{"$nulls":5},9,{"$nulls":6},9]
[10,{"$nulls":6},10,{"$nulls":6},10,{"$nulls":5},10,{"$nulls":6},10,{"$nulls":6},10,{"$nulls":5},10,{"$nulls":6},10]
[11,{"$nulls":6},11,{"$nulls":6},11,{"$nulls":5},11,{"$nulls":6},11,{"$nulls":6},11,{"$nulls":5},11,{"$nulls":6},11]
[12,{"$nulls":6},12,{"$nulls":6},12,{"$nulls":5},12,{"$nulls":6},12,{"$nulls":6},12,{"$nulls":5},12,{"$nulls":6},12]
[13,{"$nulls":6},13,{"$nulls":6},13,{"$nulls":5},13,{"$nulls":6},13,{"$nulls":6},13,{"$nulls":5},13,{"$nulls":6},13]
[14,{"$nulls":6},14,{"$nulls":6},14,{"$nulls":5},14,{"$nulls":6},14,{"$nulls":6},14,{"$nulls":5},14,{"$nulls":6},14]
[15,{"$nulls":6},15,{"$nulls":6},15,{"$nulls":5},15,{"$nulls":6},15,{"$nulls":6},15,{"$nulls":5},15,{"$nulls":6},15]
[16,{"$nulls":6},16,{"$nulls":6},16,{"$nulls":5},16,{"$nulls":6},16,{"$nulls":6},16,{"$nulls":5},16,{"$nulls":6},16]
[17,{"$nulls":6},17,{"$nulls":6},17,{"$nulls":5},17,{"$nulls":6},17,{"$nulls":6},17,{"$nulls":5},17,{"$nulls":6},17]
[18,{"$nulls":6},18,{"$nulls":6},18,{"$nulls":5},18,{"$nulls":6},18,{"$nulls":6},18,{"$nulls":5},18,{"$nulls":6},18]
["Total","Shots",null,null,"Shots",null,null,"Total","Shots",null,null,"Shots",null,null,"Total","Shots",null,null,"Shots",null,"Total","Shots",null,null,"Shots",null,null,"Total","Shots",null,null,"Shots",null,null,"Total","Shots",null,null,"Shots",null,"Total","Shots",null,null,"Shots",null,null,"Total","Shots",null,null,"shots"]
[null,"Ends",null,null,"Ends",{"$nulls":3},"Ends",null,null,"Ends",{"$nulls":3},"Ends",null,null,"Ends",null,null,"Ends",null,null,"Ends",{"$nulls":3},"Ends",null,null,"Ends",{"$nulls":3},"Ends",null,null,"Ends",null,null,"Ends",null,null,"Ends",{"$nulls":3},"Ends",null,null,"Ends"]
[]
[]
["1st Game ",{"$nulls":6},"2nd Game ",{"$nulls":6},"3rd Game ",{"$nulls":5},"4th Game",{"$nulls":6},"5th Game",{"$nulls":6},"6th Game",{"$nulls":5},"7th Game",{"$nulls":6},"8th Game"]
["Team No",null,null,"Rink No",{"$nulls":3},"Team No",null,null,"Rink No",{"$nulls":3},"Team No",null,null,"Rink No",null,null,"Team No",null,null,"Rink No",{"$nulls":3},"Team No",null,null,"Rink No",{"$nulls":3},"Team No",null,null,"Rink No",null,null,"Team No",null,null,"Rink No",{"$nulls":3},"Team No",null,null,"Rink No"]
[]
[{"$f":"DRAW!$B$30","v":24},null,null,{"$f":"DRAW!$E$30","v":13},{"$nulls":3},{"$f":"DRAW!$B$30","v":24},null,null,{"$f":"DRAW!$G$30","v":18},{"$nulls":3},{"$f":"DRAW!$B$30","v":24},null,null,{"$f":"DRAW!$I$30","v":6},null,null,{"$f":"DRAW!$B$30","v":24},null,null,{"$f":"DRAW!$K$30","v":14},{"$nulls":3},{"$f":"DRAW!$B$30","v":24},null,null,{"$f":"DRAW!$M$30","v":19},{"$nulls":3},{"$f":"DRAW!$B$30","v":24},null,null,{"$f":"DRAW!$O$30","v":5},null,null,{"$f":"DRAW!$B$30","v":24},null,null,{"$f":"DRAW!$Q$30","v":8},{"$nulls":3},{"$f":"DRAW!$B$30","v":24},null,null,{"$f":"DRAW!$S$30","v":20}]
[null,"Team",{"$f":"DRAW!$B$30","v":24},"V","Team",{"$f":"DRAW!$D$30","v":21},null,null,"Team",{"$f":"DRAW!$B$30","v":24},"V","Team",{"$f":"DRAW!$F$30","v":23},null,null,"Team",{"$f":"DRAW!$B$30","v":24},"V","Team",{"$f":"DRAW!$H$30","v":27},null,"Team",{"$f":"DRAW!$B$30","v":24},"V","Team",{"$f":"DRAW!$J$30","v":18},null,null,"Team",{"$f":"DRAW!$B$30","v":24},"V","Team",{"$f":"DRAW!$L$30","v":19},null,null,"Team",{"$f":"DRAW!$B$30","v":24},"V","Team",{"$f":"DRAW!$N$30","v":20},null,"Team",{"$f":"DRAW!$B$30","v":24},"V","Team",{"$f":"DRAW!$P$30","v":17},null,null,"Team",{"$f":"DRAW!$B$30","v":24},"V","Team",{"$f":"DRAW!$R$30","v":26}]
["Ends","Shots","Total",null,"Shots","Total",null,"Ends","Shots","Total",null,"Shots","Total",null,"Ends","Shots","Total",null,"Shots","Total","Ends","Shots","Total",null,"Shots","Total",null,"Ends","Shots","Total",null,"Shots","Total",null,"Ends","Shots","Total",null,"Shots","Total","Ends","Shots","Total",null,"Shots","Total",null,"Ends","Shots","Total",null,"shots","Totar"]
[1,{"$nulls":6},1,{"$nulls":6},1,{"$nulls":5},1,{"$nulls":6},1,{"$nulls":6},1,{"$nulls":5},1,{"$nulls":6},1]
[2,{"$nulls":6},2,{"$nulls":6},2,{"$nulls":5},2,{"$nulls":6},2,{"$nulls":6},2,{"$nulls":5},2,{"$nulls":6},2]
[3,{"$nulls":6},3,{"$nulls":6},3,{"$nulls":5},3,{"$nulls":6},3,{"$nulls":6},3,{"$nulls":5},3,{"$nulls":6},3]
[4,{"$nulls":6},4,{"$nulls":6},4,{"$nulls":5},4,{"$nulls":6},4,{"$nulls":6},4,{"$nulls":5},4,{"$nulls":6},4]
[5,{"$nulls":6},5,{"$nulls":6},5,{"$nulls":5},5,{"$nulls":6},5,{"$nulls":6},5,{"$nulls":5},5,{"$nulls":6},5]
[6,{"$nulls":6},6,{"$nulls":6},6,{"$nulls":5},6,{"$nulls":6},6,{"$nulls":6},6,{"$nulls":5},6,{"$nulls":6},6]
[7,{"$nulls":6},7,{"$nulls":6},7,{"$nulls":5},7,{"$nulls":6},7,{"$nulls":6},7,{"$nulls":5},7,{"$nulls":6},7]
[8,{"$nulls":6},8,{"$nulls":6},8,{"$nulls":5},8,{"$nulls":6},8,{"$nulls":6},8,{"$nulls":5},8,{"$nulls":6},8]
[9,{"$nulls":6},9,{"$nulls":6},9,{"$nulls":5},9,{"$nulls":6},9,{"$nulls":6},9,{"$nulls":5},9,{"$nulls":6},9]
[10,{"$nulls":6},10,{"$nulls":6},10,{"$nulls":5},10,{"$nulls":6},10,{"$nulls":6},10,{"$nulls":5},10,{"$nulls":6},10]
[11,{"$nulls":6},11,{"$nulls":6},11,{"$nulls":5},11,{"$nulls":6},11,{"$nulls":6},11,{"$nulls":5},11,{"$nulls":6},11]
[12,{"$nulls":6},12,{"$nulls":6},12,{"$nulls":5},12,{"$nulls":6},12,{"$nulls":6},12,{"$nulls":5},12,{"$nulls":6},12]
[13,{"$nulls":6},13,{"$nulls":6},13,{"$nulls":5},13,{"$nulls":6},13,{"$nulls":6},13,{"$nulls":5},13,{"$nulls":6},13]
[14,{"$nulls":6},14,{"$nulls":6},14,{"$nulls":5},14,{"$nulls":6},14,{"$nulls":6},14,{"$nulls":5},14,{"$nulls":6},14]
[15,{"$nulls":6},15,{"$nulls":6},15,{"$nulls":5},15,{"$nulls":6},15,{"$nulls":6},15,{"$nulls":5},15,{"$nulls":6},15]
[16,{"$nulls":6},16,{"$nulls":6},16,{"$nulls":5},16,{"$nulls":6},16,{"$nulls":6},16,{"$nulls":5},16,{"$nulls":6},16]
[17,{"$nulls":6},17,{"$nulls":6},17,{"$nulls":5},17,{"$nulls":6},17,{"$nulls":6},17,{"$nulls":5},17,{"$nulls":6},17]
[18,{"$nulls":6},18,{"$nulls":6},18,{"$nulls":5},18,{"$nulls":6},18,{"$nulls":6},18,{"$nulls":5},18,{"$nulls":6},18]
["Total","Shots",null,null,"Shots",null,null,"Total","Shots",null,null,"Shots",null,null,"Total","Shots",null,null,"Shots",null,"Total","Shots",null,null,"Shots",null,null,"Total","Shots",null,null,"Shots",null,null,"Total","Shots",null,null,"Shots",null,"Total","Shots",null,null,"Shots",null,null,"Total","Shots",null,null,"shots"]
[null,"Ends",null,null,"Ends",{"$nulls":3},"Ends",null,null,"Ends",{"$nulls":3},"Ends",null,null,"Ends",null,null,"Ends",null,null,"Ends",{"$nulls":3},"Ends",null,null,"Ends",{"$nulls":3},"Ends",null,null,"Ends",null,null,"Ends",null,null,"Ends",{"$nulls":3},"Ends",null,null,"Ends"]
["1st Game ",{"$nulls":6},"2nd Game ",{"$nulls":6},"3rd Game ",{"$nulls":5},"4th Game",{"$nulls":6},"5th Game",{"$nulls":6},"6th Game",{"$nulls":5},"7th Game",{"$nulls":6},"8th Game"]
["Team No",null,null,"Rink No",{"$nulls":3},"Team No",null,null,"Rink No",{"$nulls":3},"Team No",null,null,"Rink No",null,null,"Team No",null,null,"Rink No",{"$nulls":3},"Team No",null,null,"Rink No",{"$nulls":3},"Team No",null,null,"Rink No",null,null,"Team No",null,null,"Rink No",{"$nulls":3},"Team No",null,null,"Rink No"]
[]
[{"$f":"DRAW!$B$31","v":25},null,null,{"$f":"DRAW!$E$31","v":12},{"$nulls":3},{"$f":"DRAW!$B$31","v":25},null,null,{"$f":"DRAW!$G$31","v":17},{"$nulls":3},{"$f":"DRAW!$B$31","v":25},null,null,{"$f":"DRAW!$I$31","v":7},null,null,{"$f":"DRAW!$B$31","v":25},null,null,{"$f":"DRAW!$K$31","v":11},{"$nulls":3},{"$f":"DRAW!$B$31","v":25},null,null,{"$f":"DRAW!$M$31","v":16},{"$nulls":3},{"$f":"DRAW!$B$31","v":25},null,null,{"$f":"DRAW!$O$31","v":1},null,null,{"$f":"DRAW!$B$31","v":25},null,null,{"$f":"DRAW!$Q$31","v":10},{"$nulls":3},{"$f":"DRAW!$B$31","v":25},null,null,{"$f":"DRAW!$S$31","v":19}]
[null,"Team",{"$f":"DRAW!$B$31","v":25},"V","Team",{"$f":"DRAW!$D$31","v":20},null,null,"Team",{"$f":"DRAW!$B$31","v":25},"V","Team",{"$f":"DRAW!$F$31","v":22},null,null,"Team",{"$f":"DRAW!$B$31","v":25},"V","Team",{"$f":"DRAW!$H$31","v":26},null,"Team",{"$f":"DRAW!$B$31","v":25},"V","Team",{"$f":"DRAW!$J$31","v":17},null,null,"Team",{"$f":"DRAW!$B$31","v":25},"V","Team",{"$f":"DRAW!$L$31","v":18},null,null,"Team",{"$f":"DRAW!$B$31","v":25},"V","Team",{"$f":"DRAW!$N$31","v":19},null,"Team",{"$f":"DRAW!$B$31","v":25},"V","Team",{"$f":"DRAW!$P$31","v":28},null,null,"Team",{"$f":"DRAW!$B$31","v":25},"V","Team",{"$f":"DRAW!$R$31","v":23}]
["Ends","Shots","Total",null,"Shots","Total",null,"Ends","Shots","Total",null,"Shots","Total",null,"Ends","Shots","Total",null,"Shots","Total","Ends","Shots","Total",null,"Shots","Total",null,"Ends","Shots","Total",null,"Shots","Total",null,"Ends","Shots","Total",null,"Shots","Total","Ends","Shots","Total",null,"Shots","Total",null,"Ends","Shots","Total",null,"shots","Totar"]
[1,{"$nulls":6},1,{"$nulls":6},1,{"$nulls":5},1,{"$nulls":6},1,{"$nulls":6},1,{"$nulls":5},1,{"$nulls":6},1]
[2,{"$nulls":6},2,{"$nulls":6},2,{"$nulls":5},2,{"$nulls":6},2,{"$nulls":6},2,{"$nulls":5},2,{"$nulls":6},2]
[3,{"$nulls":6},3,{"$nulls":6},3,{"$nulls":5},3,{"$nulls":6},3,{"$nulls":6},3,{"$nulls":5},3,{"$nulls":6},3]
[4,{"$nulls":6},4,{"$nulls":6},4,{"$nulls":5},4,{"$nulls":6},4,{"$nulls":6},4,{"$nulls":5},4,{"$nulls":6},4]
[5,{"$nulls":6},5,{"$nulls":6},5,{"$nulls":5},5,{"$nulls":6},5,{"$nulls":6},5,{"$nulls":5},5,{"$nulls":6},5]
[6,{"$nulls":6},6,{"$nulls":6},6,{"$nulls":5},6,{"$nulls":6},6,{"$nulls":6},6,{"$nulls":5},6,{"$nulls":6},6]
[7,{"$nulls":6},7,{"$nulls":6},7,{"$nulls":5},7,{"$nulls":6},7,{"$nulls":6},7,{"$nulls":5},7,{"$nulls":6},7]
[8,{"$nulls":6},8,{"$nulls":6},8,{"$nulls":5},8,{"$nulls":6},8,{"$nulls":6},8,{"$nulls":5},8,{"$nulls":6},8]
[9,{"$nulls":6},9,{"$nulls":6},9,{"$nulls":5},9,{"$nulls":6},9,{"$nulls":6},9,{"$nulls":5},9,{"$nulls":6},9]
[10,{"$nulls":6},10,{"$nulls":6},10,{"$nulls":5},10,{"$nulls":6},10,{"$nulls":6},10,{"$nulls":5},10,{"$nulls":6},10]
[11,{"$nulls":6},11,{"$nulls":6},11,{"$nulls":5},11,{"$nulls":6},11,{"$nulls":6},11,{"$nulls":5},11,{"$nulls":6},11]
[12,{"$nulls":6},12,{"$nulls":6},12,{"$nulls":5},12,{"$nulls":6},12,{"$nulls":6},12,{"$nulls":5},12,{"$nulls":6},12]
[13,{"$nulls":6},13,{"$nulls":6},13,{"$nulls":5},13,{"$nulls":6},13,{"$nulls":6},13,{"$nulls":5},13,{"$nulls":6},13]
[14,{"$nulls":6},14,{"$nulls":6},14,{"$nulls":5},14,{"$nulls":6},14,{"$nulls":6},14,{"$nulls":5},14,{"$nulls":6},14]
[15,{"$nulls":6},15,{"$nulls":6},15,{"$nulls":5},15,{"$nulls":6},15,{"$nulls":6},15,{"$nulls":5},15,{"$nulls":6},15]
[16,{"$nulls":6},16,{"$nulls":6},16,{"$nulls":5},16,{"$nulls":6},16,{"$nulls":6},16,{"$nulls":5},16,{"$nulls":6},16]
[17,{"$nulls":6},17,{"$nulls":6},17,{"$nulls":5},17,{"$nulls":6},17,{"$nulls":6},17,{"$nulls":5},17,{"$nulls":6},17]
[18,{"$nulls":6},18,{"$nulls":6},18,{"$nulls":5},18,{"$nulls":6},18,{"$nulls":6},18,{"$nulls":5},18,{"$nulls":6},18]
["Total","Shots",null,null,"Shots",null,null,"Total","Shots",null,null,"Shots",null,null,"Total","Shots",null,null,"Shots",null,"Total","Shots",null,null,"Shots",null,null,"Total","Shots",null,null,"Shots",null,null,"Total","Shots",null,null,"Shots",null,"Total","Shots",null,null,"Shots",null,null,"Total","Shots",null,null,"shots"]
[null,"Ends",null,null,"Ends",{"$nulls":3},"Ends",null,null,"Ends",{"$nulls":3},"Ends",null,null,"Ends",null,null,"Ends",null,null,"Ends",{"$nulls":3},"Ends",null,null,"Ends",{"$nulls":3},"Ends",null,null,"Ends",null,null,"Ends",null,null,"Ends",{"$nulls":3},"Ends",null,null,"Ends"]
[]
[]
["1st Game ",{"$nulls":6},"2nd Game ",{"$nulls":6},"3rd Game ",{"$nulls":5},"4th Game",{"$nulls":6},"5th Game",{"$nulls":6},"6th Game",{"$nulls":5},"7th Game",{"$nulls":6},"8th Game"]
["Team No",null,null,"Rink No",{"$nulls":3},"Team No",null,null,"Rink No",{"$nulls":3},"Team No",null,null,"Rink No",null,null,"Team No",null,null,"Rink No",{"$nulls":3},"Team No",null,null,"Rink No",{"$nulls":3},"Team No",null,null,"Rink No",null,null,"Team No",null,null,"Rink No",{"$nulls":3},"Team No",null,null,"Rink No"]
[]
[{"$f":"DRAW!$B$32","v":26},null,null,{"$f":"DRAW!$E$32","v":11},{"$nulls":3},{"$f":"DRAW!$B$32","v":26},null,null,{"$f":"DRAW!$G$32","v":16},{"$nulls":3},{"$f":"DRAW!$B$32","v":26},null,null,{"$f":"DRAW!$I$32","v":7},null,null,{"$f":"DRAW!$B$32","v":26},null,null,{"$f":"DRAW!$K$32","v":12},{"$nulls":3},{"$f":"DRAW!$B$32","v":26},null,null,{"$f":"DRAW!$M$32","v":17},{"$nulls":3},{"$f":"DRAW!$B$32","v":26},null,null,{"$f":"DRAW!$O$32","v":3},null,null,{"$f":"DRAW!$B$32","v":26},null,null,{"$f":"DRAW!$Q$32","v":14},{"$nulls":3},{"$f":"DRAW!$B$32","v":26},null,null,{"$f":"DRAW!$S$32","v":20}]
[null,"Team",{"$f":"DRAW!$B$32","v":26},"V","Team",{"$f":"DRAW!$D$32","v":19},null,null,"Team",{"$f":"DRAW!$B$32","v":26},"V","Team",{"$f":"DRAW!$F$32","v":21},null,null,"Team",{"$f":"DRAW!$B$32","v":26},"V","Team",{"$f":"DRAW!$H$32","v":25},null,"Team",{"$f":"DRAW!$B$32","v":26},"V","Team",{"$f":"DRAW!$J$32","v":16},null,null,"Team",{"$f":"DRAW!$B$32","v":26},"V","Team",{"$f":"DRAW!$L$32","v":17},null,null,"Team",{"$f":"DRAW!$B$32","v":26},"V","Team",{"$f":"DRAW!$N$32","v":15},null,"Team",{"$f":"DRAW!$B$32","v":26},"V","Team",{"$f":"DRAW!$P$32","v":18},null,null,"Team",{"$f":"DRAW!$B$32","v":26},"V","Team",{"$f":"DRAW!$R$32","v":24}]
["Ends","Shots","Total",null,"Shots","Total",null,"Ends","Shots","Total",null,"Shots","Total",null,"Ends","Shots","Total",null,"Shots","Total","Ends","Shots","Total",null,"Shots","Total",null,"Ends","Shots","Total",null,"Shots","Total",null,"Ends","Shots","Total",null,"Shots","Total","Ends","Shots","Total",null,"Shots","Total",null,"Ends","Shots","Total",null,"shots","Totar"]
[1,{"$nulls":6},1,{"$nulls":6},1,{"$nulls":5},1,{"$nulls":6},1,{"$nulls":6},1,{"$nulls":5},1,{"$nulls":6},1]
[2,{"$nulls":6},2,{"$nulls":6},2,{"$nulls":5},2,{"$nulls":6},2,{"$nulls":6},2,{"$nulls":5},2,{"$nulls":6},2]
[3,{"$nulls":6},3,{"$nulls":6},3,{"$nulls":5},3,{"$nulls":6},3,{"$nulls":6},3,{"$nulls":5},3,{"$nulls":6},3]
[4,{"$nulls":6},4,{"$nulls":6},4,{"$nulls":5},4,{"$nulls":6},4,{"$nulls":6},4,{"$nulls":5},4,{"$nulls":6},4]
[5,{"$nulls":6},5,{"$nulls":6},5,{"$nulls":5},5,{"$nulls":6},5,{"$nulls":6},5,{"$nulls":5},5,{"$nulls":6},5]
[6,{"$nulls":6},6,{"$nulls":6},6,{"$nulls":5},6,{"$nulls":6},6,{"$nulls":6},6,{"$nulls":5},6,{"$nulls":6},6]
[7,{"$nulls":6},7,{"$nulls":6},7,{"$nulls":5},7,{"$nulls":6},7,{"$nulls":6},7,{"$nulls":5},7,{"$nulls":6},7]
[8,{"$nulls":6},8,{"$nulls":6},8,{"$nulls":5},8,{"$nulls":6},8,{"$nulls":6},8,{"$nulls":5},8,{"$nulls":6},8]
[9,{"$nulls":6},9,{"$nulls":6},9,{"$nulls":5},9,{"$nulls":6},9,{"$nulls":6},9,{"$nulls":5},9,{"$nulls":6},9]
[10,{"$nulls":6},10,{"$nulls":6},10,{"$nulls":5},10,{"$nulls":6},10,{"$nulls":6},10,{"$nulls":5},10,{"$nulls":6},10]
[11,{"$nulls":6},11,{"$nulls":6},11,{"$nulls":5},11,{"$nulls":6},11,{"$nulls":6},11,{"$nulls":5},11,{"$nulls":6},11]
[12,{"$nulls":6},12,{"$nulls":6},12,{"$nulls":5},12,{"$nulls":6},12,{"$nulls":6},12,{"$nulls":5},12,{"$nulls":6},12]
[13,{"$nulls":6},13,{"$nulls":6},13,{"$nulls":5},13,{"$nulls":6},13,{"$nulls":6},13,{"$nulls":5},13,{"$nulls":6},13]
[14,{"$nulls":6},14,{"$nulls":6},14,{"$nulls":5},14,{"$nulls":6},14,{"$nulls":6},14,{"$nulls":5},14,{"$nulls":6},14]
[15,{"$nulls":6},15,{"$nulls":6},15,{"$nulls":5},15,{"$nulls":6},15,{"$nulls":6},15,{"$nulls":5},15,{"$nulls":6},15]
[16,{"$nulls":6},16,{"$nulls":6},16,{"$nulls":5},16,{"$nulls":6},16,{"$nulls":6},16,{"$nulls":5},16,{"$nulls":6},16]
[17,{"$nulls":6},17,{"$nulls":6},17,{"$nulls":5},17,{"$nulls":6},17,{"$nulls":6},17,{"$nulls":5},17,{"$nulls":6},17]
[18,{"$nulls":6},18,{"$nulls":6},18,{"$nulls":5},18,{"$nulls":6},18,{"$nulls":6},18,{"$nulls":5},18,{"$nulls":6},18]
["Total","Shots",null,null,"Shots",null,null,"Total","Shots",null,null,"Shots",null,null,"Total","Shots",null,null,"Shots",null,"Total","Shots",null,null,"Shots",null,null,"Total","Shots",null,null,"Shots",null,null,"Total","Shots",null,null,"Shots",null,"Total","Shots",null,null,"Shots",null,null,"Total","Shots",null,null,"shots"]
[null,"Ends",null,null,"Ends",{"$nulls":3},"Ends",null,null,"Ends",{"$nulls":3},"Ends",null,null,"Ends",null,null,"Ends",null,null,"Ends",{"$nulls":3},"Ends",null,null,"Ends",{"$nulls":3},"Ends",null,null,"Ends",null,null,"Ends",null,null,"Ends",{"$nulls":3},"Ends",null,null,"Ends"]
["1st Game ",{"$nulls":6},"2nd Game ",{"$nulls":6},"3rd Game ",{"$nulls":5},"4th Game",{"$nulls":6},"5th Game",{"$nulls":6},"6th Game",{"$nulls":5},"7th Game",{"$nulls":6},"8th Game"]
["Team No",null,null,"Rink No",{"$nulls":3},"Team No",null,null,"Rink No",{"$nulls":3},"Team No",null,null,"Rink No",null,null,"Team No",null,null,"Rink No",{"$nulls":3},"Team No",null,null,"Rink No",{"$nulls":3},"Team No",null,null,"Rink No",null,null,"Team No",null,null,"Rink No",{"$nulls":3},"Team No",null,null,"Rink No"]
[]
[{"$f":"DRAW!$B$33","v":27},null,null,{"$f":"DRAW!$E$33","v":10},{"$nulls":3},{"$f":"DRAW!$B$33","v":27},null,null,{"$f":"DRAW!$G$33","v":21},{"$nulls":3},{"$f":"DRAW!$B$33","v":27},null,null,{"$f":"DRAW!$I$33","v":6},null,null,{"$f":"DRAW!$B$33","v":27},null,null,{"$f":"DRAW!$K$33","v":13},{"$nulls":3},{"$f":"DRAW!$B$33","v":27},null,null,{"$f":"DRAW!$M$33","v":15},{"$nulls":3},{"$f":"DRAW!$B$33","v":27},null,null,{"$f":"DRAW!$O$33","v":2},null,null,{"$f":"DRAW!$B$33","v":27},null,null,{"$f":"DRAW!$Q$33","v":12},{"$nulls":3},{"$f":"DRAW!$B$33","v":27},null,null,{"$f":"DRAW!$S$33","v":17}]
[null,"Team",{"$f":"DRAW!$B$33","v":27},"V","Team",{"$f":"DRAW!$D$33","v":18},null,null,"Team",{"$f":"DRAW!$B$33","v":27},"V","Team",{"$f":"DRAW!$F$33","v":20},null,null,"Team",{"$f":"DRAW!$B$33","v":27},"V","Team",{"$f":"DRAW!$H$33","v":24},null,"Team",{"$f":"DRAW!$B$33","v":27},null,null,{"$f":"DRAW!$J$33","v":28},null,null,"Team",{"$f":"DRAW!$B$33","v":27},"V","Team",{"$f":"DRAW!$L$33","v":16},null,null,"Team",{"$f":"DRAW!$B$33","v":27},"V","Team",{"$f":"DRAW!$N$33","v":17},null,"Team",{"$f":"DRAW!$B$33","v":27},"V","Team",{"$f":"DRAW!$P$33","v":15},null,null,"Team",{"$f":"DRAW!$B$33","v":27},"V","Team",{"$f":"DRAW!$R$33","v":21}]
["Ends","Shots","Total",null,"Shots","Total",null,"Ends","Shots","Total",null,"Shots","Total",null,"Ends","Shots","Total",null,"Shots","Total","Ends","Shots","Total",null,"Shots","Total",null,"Ends","Shots","Total",null,"Shots","Total",null,"Ends","Shots","Total",null,"Shots","Total","Ends","Shots","Total",null,"Shots","Total",null,"Ends","Shots","Total",null,"shots","Totar"]
[1,{"$nulls":6},1,{"$nulls":6},1,{"$nulls":5},1,{"$nulls":6},1,{"$nulls":6},1,{"$nulls":5},1,{"$nulls":6},1]
[2,{"$nulls":6},2,{"$nulls":6},2,{"$nulls":5},2,{"$nulls":6},2,{"$nulls":6},2,{"$nulls":5},2,{"$nulls":6},2]
[3,{"$nulls":6},3,{"$nulls":6},3,{"$nulls":5},3,{"$nulls":6},3,{"$nulls":6},3,{"$nulls":5},3,{"$nulls":6},3]
[4,{"$nulls":6},4,{"$nulls":6},4,{"$nulls":5},4,{"$nulls":6},4,{"$nulls":6},4,{"$nulls":5},4,{"$nulls":6},4]
[5,{"$nulls":6},5,{"$nulls":6},5,{"$nulls":5},5,{"$nulls":6},5,{"$nulls":6},5,{"$nulls":5},5,{"$nulls":6},5]
[6,{"$nulls":6},6,{"$nulls":6},6,{"$nulls":5},6,{"$nulls":6},6,{"$nulls":6},6,{"$nulls":5},6,{"$nulls":6},6]
[7,{"$nulls":6},7,{"$nulls":6},7,{"$nulls":5},7,{"$nulls":6},7,{"$nulls":6},7,{"$nulls":5},7,{"$nulls":6},7]
[8,{"$nulls":6},8,{"$nulls":6},8,{"$nulls":5},8,{"$nulls":6},8,{"$nulls":6},8,{"$nulls":5},8,{"$nulls":6},8]
[9,{"$nulls":6},9,{"$nulls":6},9,{"$nulls":5},9,{"$nulls":6},9,{"$nulls":6},9,{"$nulls":5},9,{"$nulls":6},9]
[10,{"$nulls":6},10,{"$nulls":6},10,{"$nulls":5},10,{"$nulls":6},10,{"$nulls":6},10,{"$nulls":5},10,{"$nulls":6},10]
[11,{"$nulls":6},11,{"$nulls":6},11,{"$nulls":5},11,{"$nulls":6},11,{"$nulls":6},11,{"$nulls":5},11,{"$nulls":6},11]
[12,{"$nulls":6},12,{"$nulls":6},12,{"$nulls":5},12,{"$nulls":6},12,{"$nulls":6},12,{"$nulls":5},12,{"$nulls":6},12]
[13,{"$nulls":6},13,{"$nulls":6},13,{"$nulls":5},13,{"$nulls":6},13,{"$nulls":6},13,{"$nulls":5},13,{"$nulls":6},13]
[14,{"$nulls":6},14,{"$nulls":6},14,{"$nulls":5},14,{"$nulls":6},14,{"$nulls":6},14,{"$nulls":5},14,{"$nulls":6},14]
[15,{"$nulls":6},15,{"$nulls":6},15,{"$nulls":5},15,{"$nulls":6},15,{"$nulls":6},15,{"$nulls":5},15,{"$nulls":6},15]
[16,{"$nulls":6},16,{"$nulls":6},16,{"$nulls":5},16,{"$nulls":6},16,{"$nulls":6},16,{"$nulls":5},16,{"$nulls":6},16]
[17,{"$nulls":6},17,{"$nulls":6},17,{"$nulls":5},17,{"$nulls":6},17,{"$nulls":6},17,{"$nulls":5},17,{"$nulls":6},17]
[18,{"$nulls":6},18,{"$nulls":6},18,{"$nulls":5},18,{"$nulls":6},18,{"$nulls":6},18,{"$nulls":5},18,{"$nulls":6},18]
["Total","Shots",null,null,"Shots",null,null,"Total","Shots",null,null,"Shots",null,null,"Total","Shots",null,null,"Shots",null,"Total","Shots",null,null,"Shots",null,null,"Total","Shots",null,null,"Shots",null,null,"Total","Shots",null,null,"Shots",null,"Total","Shots",null,null,"Shots",null,null,"Total","Shots",null,null,"shots"]
[null,"Ends",null,null,"Ends",{"$nulls":3},"Ends",null,null,"Ends",{"$nulls":3},"Ends",null,null,"Ends",null,null,"Ends",null,null,"Ends",{"$nulls":3},"Ends",null,null,"Ends",{"$nulls":3},"Ends",null,null,"Ends",null,null,"Ends",null,null,"Ends",{"$nulls":3},"Ends",null,null,"Ends"]
[]
[]
["1st Game ",{"$nulls":6},"2nd Game ",{"$nulls":6},"3rd Game ",{"$nulls":5},"4th Game",{"$nulls":6},"5th Game",{"$nulls":6},"6th Game",{"$nulls":5},"7th Game",{"$nulls":6},"8th Game"]
["Team No",null,null,"Rink No",{"$nulls":3},"Team No",null,null,"Rink No",{"$nulls":3},"Team No",null,null,"Rink No",null,null,"Team No",null,null,"Rink No",{"$nulls":3},"Team No",null,null,"Rink No",{"$nulls":3},"Team No",null,null,"Rink No",null,null,"Team No",null,null,"Rink No",{"$nulls":3},"Team No",null,null,"Rink No"]
[]
[{"$f":"DRAW!$B$34","v":28},null,null,{"$f":"DRAW!$E$34","v":9},{"$nulls":3},{"$f":"DRAW!$B$34","v":28},null,null,{"$f":"DRAW!$G$34","v":15},{"$nulls":3},{"$f":"DRAW!$B$34","v":28},null,null,{"$f":"DRAW!$I$34","v":3},null,null,{"$f":"DRAW!$B$34","v":28},null,null,{"$f":"DRAW!$K$34","v":13},{"$nulls":3},{"$f":"DRAW!$B$34","v":28},null,null,{"$f":"DRAW!$M$34","v":21},{"$nulls":3},{"$f":"DRAW!$B$34","v":28},null,null,{"$f":"DRAW!$O$34","v":4},null,null,{"$f":"DRAW!$B$34","v":28},null,null,{"$f":"DRAW!$Q$34","v":10},{"$nulls":3},{"$f":"DRAW!$B$34","v":28},null,null,{"$f":"DRAW!$S$34","v":21}]
[null,"Team",{"$f":"DRAW!$B$34","v":28},"V","Team",{"$f":"DRAW!$D$34","v":17},null,null,"Team",{"$f":"DRAW!$B$34","v":28},"V","Team",{"$f":"DRAW!$F$34","v":19},null,null,"Team",{"$f":"DRAW!$B$34","v":28},"V","Team",{"$f":"DRAW!$H$34","v":23},null,"Team",{"$f":"DRAW!$B$34","v":28},"V","Team",{"$f":"DRAW!$J$34","v":27},null,null,"Team",{"$f":"DRAW!$B$34","v":28},"V","Team",{"$f":"DRAW!$L$34","v":15},null,null,"Team",{"$f":"DRAW!$B$34","v":28},"V","Team",{"$f":"DRAW!$N$34","v":16},null,"Team",{"$f":"DRAW!$B$34","v":28},"V","Team",{"$f":"DRAW!$P$34","v":25},null,null,"Team",{"$f":"DRAW!$B$34","v":28},"V","Team",{"$f":"DRAW!$R$34","v":20}]
["Ends","Shots","Total",null,"Shots","Total",null,"Ends","Shots","Total",null,"Shots","Total",null,"Ends","Shots","Total",null,"Shots","Total","Ends","Shots","Total",null,"Shots","Total",null,"Ends","Shots","Total",null,"Shots","Total",null,"Ends","Shots","Total",null,"Shots","Total","Ends","Shots","Total",null,"Shots","Total",null,"Ends","Shots","Total",null,"shots","Totar"]
[1,{"$nulls":6},1,{"$nulls":6},1,{"$nulls":5},1,{"$nulls":6},1,{"$nulls":6},1,{"$nulls":5},1,{"$nulls":6},1]
[2,{"$nulls":6},2,{"$nulls":6},2,{"$nulls":5},2,{"$nulls":6},2,{"$nulls":6},2,{"$nulls":5},2,{"$nulls":6},2]
[3,{"$nulls":6},3,{"$nulls":6},3,{"$nulls":5},3,{"$nulls":6},3,{"$nulls":6},3,{"$nulls":5},3,{"$nulls":6},3]
[4,{"$nulls":6},4,{"$nulls":6},4,{"$nulls":5},4,{"$nulls":6},4,{"$nulls":6},4,{"$nulls":5},4,{"$nulls":6},4]
[5,{"$nulls":6},5,{"$nulls":6},5,{"$nulls":5},5,{"$nulls":6},5,{"$nulls":6},5,{"$nulls":5},5,{"$nulls":6},5]
[6,{"$nulls":6},6,{"$nulls":6},6,{"$nulls":5},6,{"$nulls":6},6,{"$nulls":6},6,{"$nulls":5},6,{"$nulls":6},6]
[7,{"$nulls":6},7,{"$nulls":6},7,{"$nulls":5},7,{"$nulls":6},7,{"$nulls":6},7,{"$nulls":5},7,{"$nulls":6},7]
[8,{"$nulls":6},8,{"$nulls":6},8,{"$nulls":5},8,{"$nulls":6},8,{"$nulls":6},8,{"$nulls":5},8,{"$nulls":6},8]
[9,{"$nulls":6},9,{"$nulls":6},9,{"$nulls":5},9,{"$nulls":6},9,{"$nulls":6},9,{"$nulls":5},9,{"$nulls":6},9]
[10,{"$nulls":6},10,{"$nulls":6},10,{"$nulls":5},10,{"$nulls":6},10,{"$nulls":6},10,{"$nulls":5},10,{"$nulls":6},10]
[11,{"$nulls":6},11,{"$nulls":6},11,{"$nulls":5},11,{"$nulls":6},11,{"$nulls":6},11,{"$nulls":5},11,{"$nulls":6},11]
[12,{"$nulls":6},12,{"$nulls":6},12,{"$nulls":5},12,{"$nulls":6},12,{"$nulls":6},12,{"$nulls":5},12,{"$nulls":6},12]
[13,{"$nulls":6},13,{"$nulls":6},13,{"$nulls":5},13,{"$nulls":6},13,{"$nulls":6},13,{"$nulls":5},13,{"$nulls":6},13]
[14,{"$nulls":6},14,{"$nulls":6},14,{"$nulls":5},14,{"$nulls":6},14,{"$nulls":6},14,{"$nulls":5},14,{"$nulls":6},14]
[15,{"$nulls":6},15,{"$nulls":6},15,{"$nulls":5},15,{"$nulls":6},15,{"$nulls":6},15,{"$nulls":5},15,{"$nulls":6},15]
[16,{"$nulls":6},16,{"$nulls":6},16,{"$nulls":5},16,{"$nulls":6},16,{"$nulls":6},16,{"$nulls":5},16,{"$nulls":6},16]
[17,{"$nulls":6},17,{"$nulls":6},17,{"$nulls":5},17,{"$nulls":6},17,{"$nulls":6},17,{"$nulls":5},17,{"$nulls":6},17]
[18,{"$nulls":6},18,{"$nulls":6},18,{"$nulls":5},18,{"$nulls":6},18,{"$nulls":6},18,{"$nulls":5},18,{"$nulls":6},18]
["Total","Shots",null,null,"Shots",null,null,"Total","Shots",null,null,"Shots",null,null,"Total","Shots",null,null,"Shots",null,"Total","Shots",null,null,"Shots",null,null,"Total","Shots",null,null,"Shots",null,null,"Total","Shots",null,null,"Shots",null,"Total","Shots",null,null,"Shots",null,null,"Total","Shots",null,null,"shots"]
[null,"Ends",null,null,"Ends",{"$nulls":3},"Ends",null,null,"Ends",{"$nulls":3},"Ends",null,null,"Ends",null,null,"Ends",null,null,"Ends",{"$nulls":3},"Ends",null,null,"Ends",{"$nulls":3},"Ends",null,null,"Ends",null,null,"Ends",null,null,"Ends",{"$nulls":3},"Ends",null,null,"Ends"]
["1st Game ",{"$nulls":6},"2nd Game ",{"$nulls":6},"3rd Game ",{"$nulls":5},"4th Game",{"$nulls":6},"5th Game",{"$nulls":6},"6th Game",{"$nulls":5},"7th Game",{"$nulls":6},"8th Game"]
["Team No",null,null,"Rink No",{"$nulls":3},"Team No",null,null,"Rink No",{"$nulls":3},"Team No",null,null,"Rink No",null,null,"Team No",null,null,"Rink No",{"$nulls":3},"Team No",null,null,"Rink No",{"$nulls":3},"Team No",null,null,"Rink No",null,null,"Team No",null,null,"Rink No",{"$nulls":3},"Team No",null,null,"Rink No"]
[]
[{"$f":"DRAW!$B$35","v":29},null,null,{"$f":"DRAW!$E$35","v":15},{"$nulls":3},{"$f":"DRAW!$B$35","v":29},null,null,{"$f":"DRAW!$G$35","v":6},{"$nulls":3},{"$f":"DRAW!$B$35","v":29},null,null,{"$f":"DRAW!$I$35","v":12},null,null,{"$f":"DRAW!$B$35","v":29},null,null,{"$f":"DRAW!$K$35","v":16},{"$nulls":3},{"$f":"DRAW!$B$35","v":29},null,null,{"$f":"DRAW!$M$35","v":7},{"$nulls":3},{"$f":"DRAW!$B$35","v":29},null,null,{"$f":"DRAW!$O$35","v":10},null,null,{"$f":"DRAW!$B$35","v":29},null,null,{"$f":"DRAW!$Q$35","v":19},{"$nulls":3},{"$f":"DRAW!$B$35","v":29},null,null,{"$f":"DRAW!$S$35","v":1}]
[null,"Team",{"$f":"DRAW!$B$35","v":29},"V","Team",{"$f":"DRAW!$D$35","v":30},null,null,"Team",{"$f":"DRAW!$B$35","v":29},"V","Team",{"$f":"DRAW!$F$35","v":31},null,null,"Team",{"$f":"DRAW!$B$35","v":29},"V","Team",{"$f":"DRAW!$H$35","v":33},null,"Team",{"$f":"DRAW!$B$35","v":29},"V","Team",{"$f":"DRAW!$J$35","v":35},null,null,"Team",{"$f":"DRAW!$B$35","v":29},"V","Team",{"$f":"DRAW!$L$35","v":42},null,null,"Team",{"$f":"DRAW!$B$35","v":29},"V","Team",{"$f":"DRAW!$N$35","v":40},null,"Team",{"$f":"DRAW!$B$35","v":29},"V","Team",{"$f":"DRAW!$P$35","v":41},null,null,"Team",{"$f":"DRAW!$B$35","v":29},"V","Team",{"$f":"DRAW!$R$35","v":36}]
["Ends","Shots","Total",null,"Shots","Total",null,"Ends","Shots","Total",null,"Shots","Total",null,"Ends","Shots","Total",null,"Shots","Total","Ends","Shots","Total",null,"Shots","Total",null,"Ends","Shots","Total",null,"Shots","Total",null,"Ends","Shots","Total",null,"Shots","Total","Ends","Shots","Total",null,"Shots","Total",null,"Ends","Shots","Total",null,"shots","Totar"]
[1,{"$nulls":6},1,{"$nulls":6},1,{"$nulls":5},1,{"$nulls":6},1,{"$nulls":6},1,{"$nulls":5},1,{"$nulls":6},1]
[2,{"$nulls":6},2,{"$nulls":6},2,{"$nulls":5},2,{"$nulls":6},2,{"$nulls":6},2,{"$nulls":5},2,{"$nulls":6},2]
[3,{"$nulls":6},3,{"$nulls":6},3,{"$nulls":5},3,{"$nulls":6},3,{"$nulls":6},3,{"$nulls":5},3,{"$nulls":6},3]
[4,{"$nulls":6},4,{"$nulls":6},4,{"$nulls":5},4,{"$nulls":6},4,{"$nulls":6},4,{"$nulls":5},4,{"$nulls":6},4]
[5,{"$nulls":6},5,{"$nulls":6},5,{"$nulls":5},5,{"$nulls":6},5,{"$nulls":6},5,{"$nulls":5},5,{"$nulls":6},5]
[6,{"$nulls":6},6,{"$nulls":6},6,{"$nulls":5},6,{"$nulls":6},6,{"$nulls":6},6,{"$nulls":5},6,{"$nulls":6},6]
[7,{"$nulls":6},7,{"$nulls":6},7,{"$nulls":5},7,{"$nulls":6},7,{"$nulls":6},7,{"$nulls":5},7,{"$nulls":6},7]
[8,{"$nulls":6},8,{"$nulls":6},8,{"$nulls":5},8,{"$nulls":6},8,{"$nulls":6},8,{"$nulls":5},8,{"$nulls":6},8]
[9,{"$nulls":6},9,{"$nulls":6},9,{"$nulls":5},9,{"$nulls":6},9,{"$nulls":6},9,{"$nulls":5},9,{"$nulls":6},9]
[10,{"$nulls":6},10,{"$nulls":6},10,{"$nulls":5},10,{"$nulls":6},10,{"$nulls":6},10,{"$nulls":5},10,{"$nulls":6},10]
[11,{"$nulls":6},11,{"$nulls":6},11,{"$nulls":5},11,{"$nulls":6},11,{"$nulls":6},11,{"$nulls":5},11,{"$nulls":6},11]
[12,{"$nulls":6},12,{"$nulls":6},12,{"$nulls":5},12,{"$nulls":6},12,{"$nulls":6},12,{"$nulls":5},12,{"$nulls":6},12]
[13,{"$nulls":6},13,{"$nulls":6},13,{"$nulls":5},13,{"$nulls":6},13,{"$nulls":6},13,{"$nulls":5},13,{"$nulls":6},13]
[14,{"$nulls":6},14,{"$nulls":6},14,{"$nulls":5},14,{"$nulls":6},14,{"$nulls":6},14,{"$nulls":5},14,{"$nulls":6},14]
[15,{"$nulls":6},15,{"$nulls":6},15,{"$nulls":5},15,{"$nulls":6},15,{"$nulls":6},15,{"$nulls":5},15,{"$nulls":6},15]
[16,{"$nulls":6},16,{"$nulls":6},16,{"$nulls":5},16,{"$nulls":6},16,{"$nulls":6},16,{"$nulls":5},16,{"$nulls":6},16]
[17,{"$nulls":6},17,{"$nulls":6},17,{"$nulls":5},17,{"$nulls":6},17,{"$nulls":6},17,{"$nulls":5},17,{"$nulls":6},17]
[18,{"$nulls":6},18,{"$nulls":6},18,{"$nulls":5},18,{"$nulls":6},18,{"$nulls":6},18,{"$nulls":5},18,{"$nulls":6},18]
["Total","Shots",null,null,"Shots",null,null,"Total","Shots",null,null,"Shots",null,null,"Total","Shots",null,null,"Shots",null,"Total","Shots",null,null,"Shots",null,null,"Total","Shots",null,null,"Shots",null,null,"Total","Shots",null,null,"Shots",null,"Total","Shots",null,null,"Shots",null,null,"Total","Shots",null,null,"shots"]
[null,"Ends",null,null,"Ends",{"$nulls":3},"Ends",null,null,"Ends",{"$nulls":3},"Ends",null,null,"Ends",null,null,"Ends",null,null,"Ends",{"$nulls":3},"Ends",null,null,"Ends",{"$nulls":3},"Ends",null,null,"Ends",null,null,"Ends",null,null,"Ends",{"$nulls":3},"Ends",null,null,"Ends"]
[]
[]
["1st Game ",{"$nulls":6},"2nd Game ",{"$nulls":6},"3rd Game ",{"$nulls":5},"4th Game",{"$nulls":6},"5th Game",{"$nulls":6},"6th Game",{"$nulls":5},"7th Game",{"$nulls":6},"8th Game"]
["Team No",null,null,"Rink No",{"$nulls":3},"Team No",null,null,"Rink No",{"$nulls":3},"Team No",null,null,"Rink No",null,null,"Team No",null,null,"Rink No",{"$nulls":3},"Team No",null,null,"Rink No",{"$nulls":3},"Team No",null,null,"Rink No",null,null,"Team No",null,null,"Rink No",{"$nulls":3},"Team No",null,null,"Rink No"]
[]
[{"$f":"DRAW!$B$36","v":30},null,null,{"$f":"DRAW!$E$36","v":15},{"$nulls":3},{"$f":"DRAW!$B$36","v":30},null,null,{"$f":"DRAW!$G$36","v":5},{"$nulls":3},{"$f":"DRAW!$B$36","v":30},null,null,{"$f":"DRAW!$I$36","v":9},null,null,{"$f":"DRAW!$B$36","v":30},null,null,{"$f":"DRAW!$K$36","v":19},{"$nulls":3},{"$f":"DRAW!$B$36","v":30},null,null,{"$f":"DRAW!$M$36","v":1},{"$nulls":3},{"$f":"DRAW!$B$36","v":30},null,null,{"$f":"DRAW!$O$36","v":11},null,null,{"$f":"DRAW!$B$36","v":30},null,null,{"$f":"DRAW!$Q$36","v":16},{"$nulls":3},{"$f":"DRAW!$B$36","v":30},null,null,{"$f":"DRAW!$S$36","v":2}]
[null,"Team",{"$f":"DRAW!$B$36","v":30},"V","Team",{"$f":"DRAW!$D$36","v":29},null,null,"Team",{"$f":"DRAW!$B$36","v":30},"V","Team",{"$f":"DRAW!$F$36","v":32},null,null,"Team",{"$f":"DRAW!$B$36","v":30},"V","Team",{"$f":"DRAW!$H$36","v":36},null,"Team",{"$f":"DRAW!$B$36","v":30},"V","Team",{"$f":"DRAW!$J$36","v":40},null,null,"Team",{"$f":"DRAW!$B$36","v":30},"V","Team",{"$f":"DRAW!$L$36","v":41},null,null,"Team",{"$f":"DRAW!$B$36","v":30},"V","Team",{"$f":"DRAW!$N$36","v":42},null,"Team",{"$f":"DRAW!$B$36","v":30},"V","Team",{"$f":"DRAW!$P$36","v":37},null,null,"Team",{"$f":"DRAW!$B$36","v":30},"V","Team",{"$f":"DRAW!$R$36","v":33}]
["Ends","Shots","Total",null,"Shots","Total",null,"Ends","Shots","Total",null,"Shots","Total",null,"Ends","Shots","Total",null,"Shots","Total","Ends","Shots","Total",null,"Shots","Total",null,"Ends","Shots","Total",null,"Shots","Total",null,"Ends","Shots","Total",null,"Shots","Total","Ends","Shots","Total",null,"Shots","Total",null,"Ends","Shots","Total",null,"shots","Totar"]
[1,{"$nulls":6},1,{"$nulls":6},1,{"$nulls":5},1,{"$nulls":6},1,{"$nulls":6},1,{"$nulls":5},1,{"$nulls":6},1]
[2,{"$nulls":6},2,{"$nulls":6},2,{"$nulls":5},2,{"$nulls":6},2,{"$nulls":6},2,{"$nulls":5},2,{"$nulls":6},2]
[3,{"$nulls":6},3,{"$nulls":6},3,{"$nulls":5},3,{"$nulls":6},3,{"$nulls":6},3,{"$nulls":5},3,{"$nulls":6},3]
[4,{"$nulls":6},4,{"$nulls":6},4,{"$nulls":5},4,{"$nulls":6},4,{"$nulls":6},4,{"$nulls":5},4,{"$nulls":6},4]
[5,{"$nulls":6},5,{"$nulls":6},5,{"$nulls":5},5,{"$nulls":6},5,{"$nulls":6},5,{"$nulls":5},5,{"$nulls":6},5]
[6,{"$nulls":6},6,{"$nulls":6},6,{"$nulls":5},6,{"$nulls":6},6,{"$nulls":6},6,{"$nulls":5},6,{"$nulls":6},6]
[7,{"$nulls":6},7,{"$nulls":6},7,{"$nulls":5},7,{"$nulls":6},7,{"$nulls":6},7,{"$nulls":5},7,{"$nulls":6},7]
[8,{"$nulls":6},8,{"$nulls":6},8,{"$nulls":5},8,{"$nulls":6},8,{"$nulls":6},8,{"$nulls":5},8,{"$nulls":6},8]
[9,{"$nulls":6},9,{"$nulls":6},9,{"$nulls":5},9,{"$nulls":6},9,{"$nulls":6},9,{"$nulls":5},9,{"$nulls":6},9]
[10,{"$nulls":6},10,{"$nulls":6},10,{"$nulls":5},10,{"$nulls":6},10,{"$nulls":6},10,{"$nulls":5},10,{"$nulls":6},10]
[11,{"$nulls":6},11,{"$nulls":6},11,{"$nulls":5},11,{"$nulls":6},11,{"$nulls":6},11,{"$nulls":5},11,{"$nulls":6},11]
[12,{"$nulls":6},12,{"$nulls":6},12,{"$nulls":5},12,{"$nulls":6},12,{"$nulls":6},12,{"$nulls":5},12,{"$nulls":6},12]
[13,{"$nulls":6},13,{"$nulls":6},13,{"$nulls":5},13,{"$nulls":6},13,{"$nulls":6},13,{"$nulls":5},13,{"$nulls":6},13]
[14,{"$nulls":6},14,{"$nulls":6},14,{"$nulls":5},14,{"$nulls":6},14,{"$nulls":6},14,{"$nulls":5},14,{"$nulls":6},14]
[15,{"$nulls":6},15,{"$nulls":6},15,{"$nulls":5},15,{"$nulls":6},15,{"$nulls":6},15,{"$nulls":5},15,{"$nulls":6},15]
[16,{"$nulls":6},16,{"$nulls":6},16,{"$nulls":5},16,{"$nulls":6},16,{"$nulls":6},16,{"$nulls":5},16,{"$nulls":6},16]
[17,{"$nulls":6},17,{"$nulls":6},17,{"$nulls":5},17,{"$nulls":6},17,{"$nulls":6},17,{"$nulls":5},17,{"$nulls":6},17]
[18,{"$nulls":6},18,{"$nulls":6},18,{"$nulls":5},18,{"$nulls":6},18,{"$nulls":6},18,{"$nulls":5},18,{"$nulls":6},18]
["Total","Shots",null,null,"Shots",null,null,"Total","Shots",null,null,"Shots",null,null,"Total","Shots",null,null,"Shots",null,"Total","Shots",null,null,"Shots",null,null,"Total","Shots",null,null,"Shots",null,null,"Total","Shots",null,null,"Shots",null,"Total","Shots",null,null,"Shots",null,null,"Total","Shots",null,null,"shots"]
[null,"Ends",null,null,"Ends",{"$nulls":3},"Ends",null,null,"Ends",{"$nulls":3},"Ends",null,null,"Ends",null,null,"Ends",null,null,"Ends",{"$nulls":3},"Ends",null,null,"Ends",{"$nulls":3},"Ends",null,null,"Ends",null,null,"Ends",null,null,"Ends",{"$nulls":3},"Ends",null,null,"Ends"]
["1st Game ",{"$nulls":6},"2nd Game ",{"$nulls":6},"3rd Game ",{"$nulls":5},"4th Game",{"$nulls":6},"5th Game",{"$nulls":6},"6th Game",{"$nulls":5},"7th Game",{"$nulls":6},"8th Game"]
["Team No",null,null,"Rink No",{"$nulls":3},"Team No",null,null,"Rink No",{"$nulls":3},"Team No",null,null,"Rink No",null,null,"Team No",null,null,"Rink No",{"$nulls":3},"Team No",null,null,"Rink No",{"$nulls":3},"Team No",null,null,"Rink No",null,null,"Team No",null,null,"Rink No",{"$nulls":3},"Team No",null,null,"Rink No"]
[]
[{"$f":"DRAW!$B$37","v":31},null,null,{"$f":"DRAW!$E$37","v":16},{"$nulls":3},{"$f":"DRAW!$B$37","v":31},null,null,{"$f":"DRAW!$G$37","v":6},{"$nulls":3},{"$f":"DRAW!$B$37","v":31},null,null,{"$f":"DRAW!$I$37","v":8},null,null,{"$f":"DRAW!$B$37","v":31},null,null,{"$f":"DRAW!$K$37","v":18},{"$nulls":3},{"$f":"DRAW!$B$37","v":31},null,null,{"$f":"DRAW!$M$37","v":3},{"$nulls":3},{"$f":"DRAW!$B$37","v":31},null,null,{"$f":"DRAW!$O$37","v":9},null,null,{"$f":"DRAW!$B$37","v":31},null,null,{"$f":"DRAW!$Q$37","v":15},{"$nulls":3},{"$f":"DRAW!$B$37","v":31},null,null,{"$f":"DRAW!$S$37","v":4}]
[null,"Team",{"$f":"DRAW!$B$37","v":31},"V","Team",{"$f":"DRAW!$D$37","v":42},null,null,"Team",{"$f":"DRAW!$B$37","v":31},"V","Team",{"$f":"DRAW!$F$37","v":29},null,null,"Team",{"$f":"DRAW!$B$37","v":31},"V","Team",{"$f":"DRAW!$H$37","v":35},null,"Team",{"$f":"DRAW!$B$37","v":31},"V","Team",{"$f":"DRAW!$J$37","v":39},null,null,"Team",{"$f":"DRAW!$B$37","v":31},"V","Team",{"$f":"DRAW!$L$37","v":40},null,null,"Team",{"$f":"DRAW!$B$37","v":31},"V","Team",{"$f":"DRAW!$N$37","v":41},null,"Team",{"$f":"DRAW!$B$37","v":31},"V","Team",{"$f":"DRAW!$P$37","v":38},null,null,"Team",{"$f":"DRAW!$B$37","v":31},"V","Team",{"$f":"DRAW!$R$37","v":32}]
["Ends","Shots","Total",null,"Shots","Total",null,"Ends","Shots","Total",null,"Shots","Total",null,"Ends","Shots","Total",null,"Shots","Total","Ends","Shots","Total",null,"Shots","Total",null,"Ends","Shots","Total",null,"Shots","Total",null,"Ends","Shots","Total",null,"Shots","Total","Ends","Shots","Total",null,"Shots","Total",null,"Ends","Shots","Total",null,"shots","Totar"]
[1,{"$nulls":6},1,{"$nulls":6},1,{"$nulls":5},1,{"$nulls":6},1,{"$nulls":6},1,{"$nulls":5},1,{"$nulls":6},1]
[2,{"$nulls":6},2,{"$nulls":6},2,{"$nulls":5},2,{"$nulls":6},2,{"$nulls":6},2,{"$nulls":5},2,{"$nulls":6},2]
[3,{"$nulls":6},3,{"$nulls":6},3,{"$nulls":5},3,{"$nulls":6},3,{"$nulls":6},3,{"$nulls":5},3,{"$nulls":6},3]
[4,{"$nulls":6},4,{"$nulls":6},4,{"$nulls":5},4,{"$nulls":6},4,{"$nulls":6},4,{"$nulls":5},4,{"$nulls":6},4]
[5,{"$nulls":6},5,{"$nulls":6},5,{"$nulls":5},5,{"$nulls":6},5,{"$nulls":6},5,{"$nulls":5},5,{"$nulls":6},5]
[6,{"$nulls":6},6,{"$nulls":6},6,{"$nulls":5},6,{"$nulls":6},6,{"$nulls":6},6,{"$nulls":5},6,{"$nulls":6},6]
[7,{"$nulls":6},7,{"$nulls":6},7,{"$nulls":5},7,{"$nulls":6},7,{"$nulls":6},7,{"$nulls":5},7,{"$nulls":6},7]
[8,{"$nulls":6},8,{"$nulls":6},8,{"$nulls":5},8,{"$nulls":6},8,{"$nulls":6},8,{"$nulls":5},8,{"$nulls":6},8]
[9,{"$nulls":6},9,{"$nulls":6},9,{"$nulls":5},9,{"$nulls":6},9,{"$nulls":6},9,{"$nulls":5},9,{"$nulls":6},9]
[10,{"$nulls":6},10,{"$nulls":6},10,{"$nulls":5},10,{"$nulls":6},10,{"$nulls":6},10,{"$nulls":5},10,{"$nulls":6},10]
[11,{"$nulls":6},11,{"$nulls":6},11,{"$nulls":5},11,{"$nulls":6},11,{"$nulls":6},11,{"$nulls":5},11,{"$nulls":6},11]
[12,{"$nulls":6},12,{"$nulls":6},12,{"$nulls":5},12,{"$nulls":6},12,{"$nulls":6},12,{"$nulls":5},12,{"$nulls":6},12]
[13,{"$nulls":6},13,{"$nulls":6},13,{"$nulls":5},13,{"$nulls":6},13,{"$nulls":6},13,{"$nulls":5},13,{"$nulls":6},13]
[14,{"$nulls":6},14,{"$nulls":6},14,{"$nulls":5},14,{"$nulls":6},14,{"$nulls":6},14,{"$nulls":5},14,{"$nulls":6},14]
[15,{"$nulls":6},15,{"$nulls":6},15,{"$nulls":5},15,{"$nulls":6},15,{"$nulls":6},15,{"$nulls":5},15,{"$nulls":6},15]
[16,{"$nulls":6},16,{"$nulls":6},16,{"$nulls":5},16,{"$nulls":6},16,{"$nulls":6},16,{"$nulls":5},16,{"$nulls":6},16]
[17,{"$nulls":6},17,{"$nulls":6},17,{"$nulls":5},17,{"$nulls":6},17,{"$nulls":6},17,{"$nulls":5},17,{"$nulls":6},17]
[18,{"$nulls":6},18,{"$nulls":6},18,{"$nulls":5},18,{"$nulls":6},18,{"$nulls":6},18,{"$nulls":5},18,{"$nulls":6},18]
["Total","Shots",null,null,"Shots",null,null,"Total","Shots",null,null,"Shots",null,null,"Total","Shots",null,null,"Shots",null,"Total","Shots",null,null,"Shots",null,null,"Total","Shots",null,null,"Shots",null,null,"Total","Shots",null,null,"Shots",null,"Total","Shots",null,null,"Shots",null,null,"Total","Shots",null,null,"shots"]
[null,"Ends",null,null,"Ends",{"$nulls":3},"Ends",null,null,"Ends",{"$nulls":3},"Ends",null,null,"Ends",null,null,"Ends",null,null,"Ends",{"$nulls":3},"Ends",null,null,"Ends",{"$nulls":3},"Ends",null,null,"Ends",null,null,"Ends",null,null,"Ends",{"$nulls":3},"Ends",null,null,"Ends"]
[]
[]
["1st Game ",{"$nulls":6},"2nd Game ",{"$nulls":6},"3rd Game ",{"$nulls":5},"4th Game",{"$nulls":6},"5th Game",{"$nulls":6},"6th Game",{"$nulls":5},"7th Game",{"$nulls":6},"8th Game"]
["Team No",null,null,"Rink No",{"$nulls":3},"Team No",null,null,"Rink No",{"$nulls":3},"Team No",null,null,"Rink No",null,null,"Team No",null,null,"Rink No",{"$nulls":3},"Team No",null,null,"Rink No",{"$nulls":3},"Team No",null,null,"Rink No",null,null,"Team No",null,null,"Rink No",{"$nulls":3},"Team No",null,null,"Rink No"]
[]
[{"$f":"DRAW!$B$38","v":32},null,null,{"$f":"DRAW!$E$38","v":17},{"$nulls":3},{"$f":"DRAW!$B$38","v":32},null,null,{"$f":"DRAW!$G$38","v":5},{"$nulls":3},{"$f":"DRAW!$B$38","v":32},null,null,{"$f":"DRAW!$I$38","v":11},null,null,{"$f":"DRAW!$B$38","v":32},null,null,{"$f":"DRAW!$K$38","v":21},{"$nulls":3},{"$f":"DRAW!$B$38","v":32},null,null,{"$f":"DRAW!$M$38","v":2},{"$nulls":3},{"$f":"DRAW!$B$38","v":32},null,null,{"$f":"DRAW!$O$38","v":13},null,null,{"$f":"DRAW!$B$38","v":32},null,null,{"$f":"DRAW!$Q$38","v":21},{"$nulls":3},{"$f":"DRAW!$B$38","v":32},null,null,{"$f":"DRAW!$S$38","v":4}]
[null,"Team",{"$f":"DRAW!$B$38","v":32},"V","Team",{"$f":"DRAW!$D$38","v":41},null,null,"Team",{"$f":"DRAW!$B$38","v":32},"V","Team",{"$f":"DRAW!$F$38","v":30},null,null,"Team",{"$f":"DRAW!$B$38","v":32},"V","Team",{"$f":"DRAW!$H$38","v":34},null,"Team",{"$f":"DRAW!$B$38","v":32},"V","Team",{"$f":"DRAW!$J$38","v":38},null,null,"Team",{"$f":"DRAW!$B$38","v":32},"V","Team",{"$f":"DRAW!$L$38","v":39},null,null,"Team",{"$f":"DRAW!$B$38","v":32},"V","Team",{"$f":"DRAW!$N$38","v":36},null,"Team",{"$f":"DRAW!$B$38","v":32},"V","Team",{"$f":"DRAW!$P$38","v":40},null,null,"Team",{"$f":"DRAW!$B$38","v":32},"V","Team",{"$f":"DRAW!$R$38","v":31}]
["Ends","Shots","Total",null,"Shots","Total",null,"Ends","Shots","Total",null,"Shots","Total",null,"Ends","Shots","Total",null,"Shots","Total","Ends","Shots","Total",null,"Shots","Total",null,"Ends","Shots","Total",null,"Shots","Total",null,"Ends","Shots","Total",null,"Shots","Total","Ends","Shots","Total",null,"Shots","Total",null,"Ends","Shots","Total",null,"shots","Totar"]
[1,{"$nulls":6},1,{"$nulls":6},1,{"$nulls":5},1,{"$nulls":6},1,{"$nulls":6},1,{"$nulls":5},1,{"$nulls":6},1]
[2,{"$nulls":6},2,{"$nulls":6},2,{"$nulls":5},2,{"$nulls":6},2,{"$nulls":6},2,{"$nulls":5},2,{"$nulls":6},2]
[3,{"$nulls":6},3,{"$nulls":6},3,{"$nulls":5},3,{"$nulls":6},3,{"$nulls":6},3,{"$nulls":5},3,{"$nulls":6},3]
[4,{"$nulls":6},4,{"$nulls":6},4,{"$nulls":5},4,{"$nulls":6},4,{"$nulls":6},4,{"$nulls":5},4,{"$nulls":6},4]
[5,{"$nulls":6},5,{"$nulls":6},5,{"$nulls":5},5,{"$nulls":6},5,{"$nulls":6},5,{"$nulls":5},5,{"$nulls":6},5]
[6,{"$nulls":6},6,{"$nulls":6},6,{"$nulls":5},6,{"$nulls":6},6,{"$nulls":6},6,{"$nulls":5},6,{"$nulls":6},6]
[7,{"$nulls":6},7,{"$nulls":6},7,{"$nulls":5},7,{"$nulls":6},7,{"$nulls":6},7,{"$nulls":5},7,{"$nulls":6},7]
[8,{"$nulls":6},8,{"$nulls":6},8,{"$nulls":5},8,{"$nulls":6},8,{"$nulls":6},8,{"$nulls":5},8,{"$nulls":6},8]
[9,{"$nulls":6},9,{"$nulls":6},9,{"$nulls":5},9,{"$nulls":6},9,{"$nulls":6},9,{"$nulls":5},9,{"$nulls":6},9]
[10,{"$nulls":6},10,{"$nulls":6},10,{"$nulls":5},10,{"$nulls":6},10,{"$nulls":6},10,{"$nulls":5},10,{"$nulls":6},10]
[11,{"$nulls":6},11,{"$nulls":6},11,{"$nulls":5},11,{"$nulls":6},11,{"$nulls":6},11,{"$nulls":5},11,{"$nulls":6},11]
[12,{"$nulls":6},12,{"$nulls":6},12,{"$nulls":5},12,{"$nulls":6},12,{"$nulls":6},12,{"$nulls":5},12,{"$nulls":6},12]
[13,{"$nulls":6},13,{"$nulls":6},13,{"$nulls":5},13,{"$nulls":6},13,{"$nulls":6},13,{"$nulls":5},13,{"$nulls":6},13]
[14,{"$nulls":6},14,{"$nulls":6},14,{"$nulls":5},14,{"$nulls":6},14,{"$nulls":6},14,{"$nulls":5},14,{"$nulls":6},14]
[15,{"$nulls":6},15,{"$nulls":6},15,{"$nulls":5},15,{"$nulls":6},15,{"$nulls":6},15,{"$nulls":5},15,{"$nulls":6},15]
[16,{"$nulls":6},16,{"$nulls":6},16,{"$nulls":5},16,{"$nulls":6},16,{"$nulls":6},16,{"$nulls":5},16,{"$nulls":6},16]
[17,{"$nulls":6},17,{"$nulls":6},17,{"$nulls":5},17,{"$nulls":6},17,{"$nulls":6},17,{"$nulls":5},17,{"$nulls":6},17]
[18,{"$nulls":6},18,{"$nulls":6},18,{"$nulls":5},18,{"$nulls":6},18,{"$nulls":6},18,{"$nulls":5},18,{"$nulls":6},18]
["Total","Shots",null,null,"Shots",null,null,"Total","Shots",null,null,"Shots",null,null,"Total","Shots",null,null,"Shots",null,"Total","Shots",null,null,"Shots",null,null,"Total","Shots",null,null,"Shots",null,null,"Total","Shots",null,null,"Shots",null,"Total","Shots",null,null,"Shots",null,null,"Total","Shots",null,null,"shots"]
[null,"Ends",null,null,"Ends",{"$nulls":3},"Ends",null,null,"Ends",{"$nulls":3},"Ends",null,null,"Ends",null,null,"Ends",null,null,"Ends",{"$nulls":3},"Ends",null,null,"Ends",{"$nulls":3},"Ends",null,null,"Ends",null,null,"Ends",null,null,"Ends",{"$nulls":3},"Ends",null,null,"Ends"]
["1st Game ",{"$nulls":6},"2nd Game ",{"$nulls":6},"3rd Game ",{"$nulls":5},"4th Game",{"$nulls":6},"5th Game",{"$nulls":6},"6th Game",{"$nulls":5},"7th Game",{"$nulls":6},"8th Game"]
["Team No",null,null,"Rink No",{"$nulls":3},"Team No",null,null,"Rink No",{"$nulls":3},"Team No",null,null,"Rink No",null,null,"Team No",null,null,"Rink No",{"$nulls":3},"Team No",null,null,"Rink No",{"$nulls":3},"Team No",null,null,"Rink No",null,null,"Team No",null,null,"Rink No",{"$nulls":3},"Team No",null,null,"Rink No"]
[]
[{"$f":"DRAW!$B$39","v":33},null,null,{"$f":"DRAW!$E$39","v":18},{"$nulls":3},{"$f":"DRAW!$B$39","v":33},null,null,{"$f":"DRAW!$G$39","v":1},{"$nulls":3},{"$f":"DRAW!$B$39","v":33},null,null,{"$f":"DRAW!$I$39","v":12},null,null,{"$f":"DRAW!$B$39","v":33},null,null,{"$f":"DRAW!$K$39","v":17},{"$nulls":3},{"$f":"DRAW!$B$39","v":33},null,null,{"$f":"DRAW!$M$39","v":5},{"$nulls":3},{"$f":"DRAW!$B$39","v":33},null,null,{"$f":"DRAW!$O$39","v":8},null,null,{"$f":"DRAW!$B$39","v":33},null,null,{"$f":"DRAW!$Q$39","v":20},{"$nulls":3},{"$f":"DRAW!$B$39","v":33},null,null,{"$f":"DRAW!$S$39","v":2}]
[null,"Team",{"$f":"DRAW!$B$39","v":33},"V","Team",{"$f":"DRAW!$D$39","v":40},null,null,"Team",{"$f":"DRAW!$B$39","v":33},"V","Team",{"$f":"DRAW!$F$39","v":42},null,null,"Team",{"$f":"DRAW!$B$39","v":33},"V","Team",{"$f":"DRAW!$H$39","v":29},null,"Team",{"$f":"DRAW!$B$39","v":33},"V","Team",{"$f":"DRAW!$J$39","v":37},null,null,"Team",{"$f":"DRAW!$B$39","v":33},"V","Team",{"$f":"DRAW!$L$39","v":38},null,null,"Team",{"$f":"DRAW!$B$39","v":33},"V","Team",{"$f":"DRAW!$N$39","v":39},null,"Team",{"$f":"DRAW!$B$39","v":33},"V","Team",{"$f":"DRAW!$P$39","v":36},null,null,"Team",{"$f":"DRAW!$B$39","v":33},"V","Team",{"$f":"DRAW!$R$39","v":30}]
["Ends","Shots","Total",null,"Shots","Total",null,"Ends","Shots","Total",null,"Shots","Total",null,"Ends","Shots","Total",null,"Shots","Total","Ends","Shots","Total",null,"Shots","Total",null,"Ends","Shots","Total",null,"Shots","Total",null,"Ends","Shots","Total",null,"Shots","Total","Ends","Shots","Total",null,"Shots","Total",null,"Ends","Shots","Total",null,"shots","Totar"]
[1,{"$nulls":6},1,{"$nulls":6},1,{"$nulls":5},1,{"$nulls":6},1,{"$nulls":6},1,{"$nulls":5},1,{"$nulls":6},1]
[2,{"$nulls":6},2,{"$nulls":6},2,{"$nulls":5},2,{"$nulls":6},2,{"$nulls":6},2,{"$nulls":5},2,{"$nulls":6},2]
[3,{"$nulls":6},3,{"$nulls":6},3,{"$nulls":5},3,{"$nulls":6},3,{"$nulls":6},3,{"$nulls":5},3,{"$nulls":6},3]
[4,{"$nulls":6},4,{"$nulls":6},4,{"$nulls":5},4,{"$nulls":6},4,{"$nulls":6},4,{"$nulls":5},4,{"$nulls":6},4]
[5,{"$nulls":6},5,{"$nulls":6},5,{"$nulls":5},5,{"$nulls":6},5,{"$nulls":6},5,{"$nulls":5},5,{"$nulls":6},5]
[6,{"$nulls":6},6,{"$nulls":6},6,{"$nulls":5},6,{"$nulls":6},6,{"$nulls":6},6,{"$nulls":5},6,{"$nulls":6},6]
[7,{"$nulls":6},7,{"$nulls":6},7,{"$nulls":5},7,{"$nulls":6},7,{"$nulls":6},7,{"$nulls":5},7,{"$nulls":6},7]
[8,{"$nulls":6},8,{"$nulls":6},8,{"$nulls":5},8,{"$nulls":6},8,{"$nulls":6},8,{"$nulls":5},8,{"$nulls":6},8]
[9,{"$nulls":6},9,{"$nulls":6},9,{"$nulls":5},9,{"$nulls":6},9,{"$nulls":6},9,{"$nulls":5},9,{"$nulls":6},9]
[10,{"$nulls":6},10,{"$nulls":6},10,{"$nulls":5},10,{"$nulls":6},10,{"$nulls":6},10,{"$nulls":5},10,{"$nulls":6},10]
[11,{"$nulls":6},11,{"$nulls":6},11,{"$nulls":5},11,{"$nulls":6},11,{"$nulls":6},11,{"$nulls":5},11,{"$nulls":6},11]
[12,{"$nulls":6},12,{"$nulls":6},12,{"$nulls":5},12,{"$nulls":6},12,{"$nulls":6},12,{"$nulls":5},12,{"$nulls":6},12]
[13,{"$nulls":6},13,{"$nulls":6},13,{"$nulls":5},13,{"$nulls":6},13,{"$nulls":6},13,{"$nulls":5},13,{"$nulls":6},13]
[14,{"$nulls":6},14,{"$nulls":6},14,{"$nulls":5},14,{"$nulls":6},14,{"$nulls":6},14,{"$nulls":5},14,{"$nulls":6},14]
[15,{"$nulls":6},15,{"$nulls":6},15,{"$nulls":5},15,{"$nulls":6},15,{"$nulls":6},15,{"$nulls":5},15,{"$nulls":6},15]
[16,{"$nulls":6},16,{"$nulls":6},16,{"$nulls":5},16,{"$nulls":6},16,{"$nulls":6},16,{"$nulls":5},16,{"$nulls":6},16]
[17,{"$nulls":6},17,{"$nulls":6},17,{"$nulls":5},17,{"$nulls":6},17,{"$nulls":6},17,{"$nulls":5},17,{"$nulls":6},17]
[18,{"$nulls":6},18,{"$nulls":6},18,{"$nulls":5},18,{"$nulls":6},18,{"$nulls":6},18,{"$nulls":5},18,{"$nulls":6},18]
["Total","Shots",null,null,"Shots",null,null,"Total","Shots",null,null,"Shots",null,null,"Total","Shots",null,null,"Shots",null,"Total","Shots",null,null,"Shots",null,null,"Total","Shots",null,null,"Shots",null,null,"Total","Shots",null,null,"Shots",null,"Total","Shots",null,null,"Shots",null,null,"Total","Shots",null,null,"shots"]
[null,"Ends",null,null,"Ends",{"$nulls":3},"Ends",null,null,"Ends",{"$nulls":3},"Ends",null,null,"Ends",null,null,"Ends",null,null,"Ends",{"$nulls":3},"Ends",null,null,"Ends",{"$nulls":3},"Ends",null,null,"Ends",null,null,"Ends",null,null,"Ends",{"$nulls":3},"Ends",null,null,"Ends"]
[]
[]
["1st Game ",{"$nulls":6},"2nd Game ",{"$nulls":6},"3rd Game ",{"$nulls":5},"4th Game",{"$nulls":6},"5th Game",{"$nulls":6},"6th Game",{"$nulls":5},"7th Game",{"$nulls":6},"8th Game"]
["Team No",null,null,"Rink No",{"$nulls":3},"Team No",null,null,"Rink No",{"$nulls":3},"Team No",null,null,"Rink No",null,null,"Team No",null,null,"Rink No",{"$nulls":3},"Team No",null,null,"Rink No",{"$nulls":3},"Team No",null,null,"Rink No",null,null,"Team No",null,null,"Rink No",{"$nulls":3},"Team No",null,null,"Rink No"]
[]
[{"$f":"DRAW!$B$40","v":34},null,null,{"$f":"DRAW!$E$40","v":19},{"$nulls":3},{"$f":"DRAW!$B$40","v":34},null,null,{"$f":"DRAW!$G$40","v":7},{"$nulls":3},{"$f":"DRAW!$B$40","v":34},null,null,{"$f":"DRAW!$I$40","v":11},null,null,{"$f":"DRAW!$B$40","v":34},null,null,{"$f":"DRAW!$K$40","v":15},{"$nulls":3},{"$f":"DRAW!$B$40","v":34},null,null,{"$f":"DRAW!$M$40","v":6},{"$nulls":3},{"$f":"DRAW!$B$40","v":34},null,null,{"$f":"DRAW!$O$40","v":12},null,null,{"$f":"DRAW!$B$40","v":34},null,null,{"$f":"DRAW!$Q$40","v":18},{"$nulls":3},{"$f":"DRAW!$B$40","v":34},null,null,{"$f":"DRAW!$S$40","v":7}]
[null,"Team",{"$f":"DRAW!$B$40","v":34},"V","Team",{"$f":"DRAW!$D$40","v":39},null,null,"Team",{"$f":"DRAW!$B$40","v":34},"V","Team",{"$f":"DRAW!$F$40","v":41},null,null,"Team",{"$f":"DRAW!$B$40","v":34},"V","Team",{"$f":"DRAW!$H$40","v":32},null,"Team",{"$f":"DRAW!$B$40","v":34},"V","Team",{"$f":"DRAW!$J$40","v":36},null,null,"Team",{"$f":"DRAW!$B$40","v":34},"V","Team",{"$f":"DRAW!$L$40","v":37},null,null,"Team",{"$f":"DRAW!$B$40","v":34},"V","Team",{"$f":"DRAW!$N$40","v":38},null,"Team",{"$f":"DRAW!$B$40","v":34},"V","Team",{"$f":"DRAW!$P$40","v":35},null,null,"Team",{"$f":"DRAW!$B$40","v":34},"V","Team",{"$f":"DRAW!$R$40","v":42}]
["Ends","Shots","Total",null,"Shots","Total",null,"Ends","Shots","Total",null,"Shots","Total",null,"Ends","Shots","Total",null,"Shots","Total","Ends","Shots","Total",null,"Shots","Total",null,"Ends","Shots","Total",null,"Shots","Total",null,"Ends","Shots","Total",null,"Shots","Total","Ends","Shots","Total",null,"Shots","Total",null,"Ends","Shots","Total",null,"shots","Totar"]
[1,{"$nulls":6},1,{"$nulls":6},1,{"$nulls":5},1,{"$nulls":6},1,{"$nulls":6},1,{"$nulls":5},1,{"$nulls":6},1]
[2,{"$nulls":6},2,{"$nulls":6},2,{"$nulls":5},2,{"$nulls":6},2,{"$nulls":6},2,{"$nulls":5},2,{"$nulls":6},2]
[3,{"$nulls":6},3,{"$nulls":6},3,{"$nulls":5},3,{"$nulls":6},3,{"$nulls":6},3,{"$nulls":5},3,{"$nulls":6},3]
[4,{"$nulls":6},4,{"$nulls":6},4,{"$nulls":5},4,{"$nulls":6},4,{"$nulls":6},4,{"$nulls":5},4,{"$nulls":6},4]
[5,{"$nulls":6},5,{"$nulls":6},5,{"$nulls":5},5,{"$nulls":6},5,{"$nulls":6},5,{"$nulls":5},5,{"$nulls":6},5]
[6,{"$nulls":6},6,{"$nulls":6},6,{"$nulls":5},6,{"$nulls":6},6,{"$nulls":6},6,{"$nulls":5},6,{"$nulls":6},6]
[7,{"$nulls":6},7,{"$nulls":6},7,{"$nulls":5},7,{"$nulls":6},7,{"$nulls":6},7,{"$nulls":5},7,{"$nulls":6},7]
[8,{"$nulls":6},8,{"$nulls":6},8,{"$nulls":5},8,{"$nulls":6},8,{"$nulls":6},8,{"$nulls":5},8,{"$nulls":6},8]
[9,{"$nulls":6},9,{"$nulls":6},9,{"$nulls":5},9,{"$nulls":6},9,{"$nulls":6},9,{"$nulls":5},9,{"$nulls":6},9]
[10,{"$nulls":6},10,{"$nulls":6},10,{"$nulls":5},10,{"$nulls":6},10,{"$nulls":6},10,{"$nulls":5},10,{"$nulls":6},10]
[11,{"$nulls":6},11,{"$nulls":6},11,{"$nulls":5},11,{"$nulls":6},11,{"$nulls":6},11,{"$nulls":5},11,{"$nulls":6},11]
[12,{"$nulls":6},12,{"$nulls":6},12,{"$nulls":5},12,{"$nulls":6},12,{"$nulls":6},12,{"$nulls":5},12,{"$nulls":6},12]
[13,{"$nulls":6},13,{"$nulls":6},13,{"$nulls":5},13,{"$nulls":6},13,{"$nulls":6},13,{"$nulls":5},13,{"$nulls":6},13]
[14,{"$nulls":6},14,{"$nulls":6},14,{"$nulls":5},14,{"$nulls":6},14,{"$nulls":6},14,{"$nulls":5},14,{"$nulls":6},14]
[15,{"$nulls":6},15,{"$nulls":6},15,{"$nulls":5},15,{"$nulls":6},15,{"$nulls":6},15,{"$nulls":5},15,{"$nulls":6},15]
[16,{"$nulls":6},16,{"$nulls":6},16,{"$nulls":5},16,{"$nulls":6},16,{"$nulls":6},16,{"$nulls":5},16,{"$nulls":6},16]
[17,{"$nulls":6},17,{"$nulls":6},17,{"$nulls":5},17,{"$nulls":6},17,{"$nulls":6},17,{"$nulls":5},17,{"$nulls":6},17]
[18,{"$nulls":6},18,{"$nulls":6},18,{"$nulls":5},18,{"$nulls":6},18,{"$nulls":6},18,{"$nulls":5},18,{"$nulls":6},18]
["Total","Shots",null,null,"Shots",null,null,"Total","Shots",null,null,"Shots",null,null,"Total","Shots",null,null,"Shots",null,"Total","Shots",null,null,"Shots",null,null,"Total","Shots",null,null,"Shots",null,null,"Total","Shots",null,null,"Shots",null,"Total","Shots",null,null,"Shots",null,null,"Total","Shots",null,null,"shots"]
[null,"Ends",null,null,"Ends",{"$nulls":3},"Ends",null,null,"Ends",{"$nulls":3},"Ends",null,null,"Ends",null,null,"Ends",null,null,"Ends",{"$nulls":3},"Ends",null,null,"Ends",{"$nulls":3},"Ends",null,null,"Ends",null,null,"Ends",null,null,"Ends",{"$nulls":3},"Ends",null,null,"Ends"]
["1st Game ",{"$nulls":6},"2nd Game ",{"$nulls":6},"3rd Game ",{"$nulls":5},"4th Game",{"$nulls":6},"5th Game",{"$nulls":6},"6th Game",{"$nulls":5},"7th Game",{"$nulls":6},"8th Game"]
["Team No",null,null,"Rink No",{"$nulls":3},"Team No",null,null,"Rink No",{"$nulls":3},"Team No",null,null,"Rink No",null,null,"Team No",null,null,"Rink No",{"$nulls":3},"Team No",null,null,"Rink No",{"$nulls":3},"Team No",null,null,"Rink No",null,null,"Team No",null,null,"Rink No",{"$nulls":3},"Team No",null,null,"Rink No"]
[]
[{"$f":"DRAW!$B$41","v":35},null,null,{"$f":"DRAW!$E$41","v":20},{"$nulls":3},{"$f":"DRAW!$B$41","v":35},null,null,{"$f":"DRAW!$G$41","v":2},{"$nulls":3},{"$f":"DRAW!$B$41","v":35},null,null,{"$f":"DRAW!$I$41","v":8},null,null,{"$f":"DRAW!$B$41","v":35},null,null,{"$f":"DRAW!$K$41","v":16},{"$nulls":3},{"$f":"DRAW!$B$41","v":35},null,null,{"$f":"DRAW!$M$41","v":4},{"$nulls":3},{"$f":"DRAW!$B$41","v":35},null,null,{"$f":"DRAW!$O$41","v":14},null,null,{"$f":"DRAW!$B$41","v":35},null,null,{"$f":"DRAW!$Q$41","v":18},{"$nulls":3},{"$f":"DRAW!$B$41","v":35},null,null,{"$f":"DRAW!$S$41","v":3}]
[null,"Team",{"$f":"DRAW!$B$41","v":35},"V","Team",{"$f":"DRAW!$D$41","v":38},null,null,"Team",{"$f":"DRAW!$B$41","v":35},"V","Team",{"$f":"DRAW!$F$41","v":40},null,null,"Team",{"$f":"DRAW!$B$41","v":35},"V","Team",{"$f":"DRAW!$H$41","v":31},null,"Team",{"$f":"DRAW!$B$41","v":35},"V","Team",{"$f":"DRAW!$J$41","v":29},null,null,"Team",{"$f":"DRAW!$B$41","v":35},"V","Team",{"$f":"DRAW!$L$41","v":36},null,null,"Team",{"$f":"DRAW!$B$41","v":35},"V","Team",{"$f":"DRAW!$N$41","v":37},null,"Team",{"$f":"DRAW!$B$41","v":35},"V","Team",{"$f":"DRAW!$P$41","v":34},null,null,"Team",{"$f":"DRAW!$B$41","v":35},"V","Team",{"$f":"DRAW!$R$41","v":41}]
["Ends","Shots","Total",null,"Shots","Total",null,"Ends","Shots","Total",null,"Shots","Total",null,"Ends","Shots","Total",null,"Shots","Total","Ends","Shots","Total",null,"Shots","Total",null,"Ends","Shots","Total",null,"Shots","Total",null,"Ends","Shots","Total",null,"Shots","Total","Ends","Shots","Total",null,"Shots","Total",null,"Ends","Shots","Total",null,"shots","Totar"]
[1,{"$nulls":6},1,{"$nulls":6},1,{"$nulls":5},1,{"$nulls":6},1,{"$nulls":6},1,{"$nulls":5},1,{"$nulls":6},1]
[2,{"$nulls":6},2,{"$nulls":6},2,{"$nulls":5},2,{"$nulls":6},2,{"$nulls":6},2,{"$nulls":5},2,{"$nulls":6},2]
[3,{"$nulls":6},3,{"$nulls":6},3,{"$nulls":5},3,{"$nulls":6},3,{"$nulls":6},3,{"$nulls":5},3,{"$nulls":6},3]
[4,{"$nulls":6},4,{"$nulls":6},4,{"$nulls":5},4,{"$nulls":6},4,{"$nulls":6},4,{"$nulls":5},4,{"$nulls":6},4]
[5,{"$nulls":6},5,{"$nulls":6},5,{"$nulls":5},5,{"$nulls":6},5,{"$nulls":6},5,{"$nulls":5},5,{"$nulls":6},5]
[6,{"$nulls":6},6,{"$nulls":6},6,{"$nulls":5},6,{"$nulls":6},6,{"$nulls":6},6,{"$nulls":5},6,{"$nulls":6},6]
[7,{"$nulls":6},7,{"$nulls":6},7,{"$nulls":5},7,{"$nulls":6},7,{"$nulls":6},7,{"$nulls":5},7,{"$nulls":6},7]
[8,{"$nulls":6},8,{"$nulls":6},8,{"$nulls":5},8,{"$nulls":6},8,{"$nulls":6},8,{"$nulls":5},8,{"$nulls":6},8]
[9,{"$nulls":6},9,{"$nulls":6},9,{"$nulls":5},9,{"$nulls":6},9,{"$nulls":6},9,{"$nulls":5},9,{"$nulls":6},9]
[10,{"$nulls":6},10,{"$nulls":6},10,{"$nulls":5},10,{"$nulls":6},10,{"$nulls":6},10,{"$nulls":5},10,{"$nulls":6},10]
[11,{"$nulls":6},11,{"$nulls":6},11,{"$nulls":5},11,{"$nulls":6},11,{"$nulls":6},11,{"$nulls":5},11,{"$nulls":6},11]
[12,{"$nulls":6},12,{"$nulls":6},12,{"$nulls":5},12,{"$nulls":6},12,{"$nulls":6},12,{"$nulls":5},12,{"$nulls":6},12]
[13,{"$nulls":6},13,{"$nulls":6},13,{"$nulls":5},13,{"$nulls":6},13,{"$nulls":6},13,{"$nulls":5},13,{"$nulls":6},13]
[14,{"$nulls":6},14,{"$nulls":6},14,{"$nulls":5},14,{"$nulls":6},14,{"$nulls":6},14,{"$nulls":5},14,{"$nulls":6},14]
[15,{"$nulls":6},15,{"$nulls":6},15,{"$nulls":5},15,{"$nulls":6},15,{"$nulls":6},15,{"$nulls":5},15,{"$nulls":6},15]
[16,{"$nulls":6},16,{"$nulls":6},16,{"$nulls":5},16,{"$nulls":6},16,{"$nulls":6},16,{"$nulls":5},16,{"$nulls":6},16]
[17,{"$nulls":6},17,{"$nulls":6},17,{"$nulls":5},17,{"$nulls":6},17,{"$nulls":6},17,{"$nulls":5},17,{"$nulls":6},17]
[18,{"$nulls":6},18,{"$nulls":6},18,{"$nulls":5},18,{"$nulls":6},18,{"$nulls":6},18,{"$nulls":5},18,{"$nulls":6},18]
["Total","Shots",null,null,"Shots",null,null,"Total","Shots",null,null,"Shots",null,null,"Total","Shots",null,null,"Shots",null,"Total","Shots",null,null,"Shots",null,null,"Total","Shots",null,null,"Shots",null,null,"Total","Shots",null,null,"Shots",null,"Total","Shots",null,null,"Shots",null,null,"Total","Shots",null,null,"shots"]
[null,"Ends",null,null,"Ends",{"$nulls":3},"Ends",null,null,"Ends",{"$nulls":3},"Ends",null,null,"Ends",null,null,"Ends",null,null,"Ends",{"$nulls":3},"Ends",null,null,"Ends",{"$nulls":3},"Ends",null,null,"Ends",null,null,"Ends",null,null,"Ends",{"$nulls":3},"Ends",null,null,"Ends"]
[]
[]
["1st Game ",{"$nulls":6},"2nd Game ",{"$nulls":6},"3rd Game ",{"$nulls":5},"4th Game",{"$nulls":6},"5th Game",{"$nulls":6},"6th Game",{"$nulls":5},"7th Game",{"$nulls":6},"8th Game"]
["Team No",null,null,"Rink No",{"$nulls":3},"Team No",null,null,"Rink No",{"$nulls":3},"Team No",null,null,"Rink No",null,null,"Team No",null,null,"Rink No",{"$nulls":3},"Team No",null,null,"Rink No",{"$nulls":3},"Team No",null,null,"Rink No",null,null,"Team No",null,null,"Rink No",{"$nulls":3},"Team No",null,null,"Rink No"]
[]
[{"$f":"DRAW!$B$42","v":36},null,null,{"$f":"DRAW!$E$42","v":21},{"$nulls":3},{"$f":"DRAW!$B$42","v":36},null,null,{"$f":"DRAW!$G$42","v":3},{"$nulls":3},{"$f":"DRAW!$B$42","v":36},null,null,{"$f":"DRAW!$I$42","v":9},null,null,{"$f":"DRAW!$B$42","v":36},null,null,{"$f":"DRAW!$K$42","v":15},{"$nulls":3},{"$f":"DRAW!$B$42","v":36},null,null,{"$f":"DRAW!$M$42","v":4},{"$nulls":3},{"$f":"DRAW!$B$42","v":36},null,null,{"$f":"DRAW!$O$42","v":13},null,null,{"$f":"DRAW!$B$42","v":36},null,null,{"$f":"DRAW!$Q$42","v":20},{"$nulls":3},{"$f":"DRAW!$B$42","v":36},null,null,{"$f":"DRAW!$S$42","v":1}]
[null,"Team",{"$f":"DRAW!$B$42","v":36},"V","Team",{"$f":"DRAW!$D$42","v":37},null,null,"Team",{"$f":"DRAW!$B$42","v":36},"V","Team",{"$f":"DRAW!$F$42","v":39},null,null,"Team",{"$f":"DRAW!$B$42","v":36},"V","Team",{"$f":"DRAW!$H$42","v":30},null,"Team",{"$f":"DRAW!$B$42","v":36},"V","Team",{"$f":"DRAW!$J$42","v":34},null,null,"Team",{"$f":"DRAW!$B$42","v":36},"V","Team",{"$f":"DRAW!$L$42","v":35},null,null,"Team",{"$f":"DRAW!$B$42","v":36},"V","Team",{"$f":"DRAW!$N$42","v":32},null,"Team",{"$f":"DRAW!$B$42","v":36},"V","Team",{"$f":"DRAW!$P$42","v":33},null,null,"Team",{"$f":"DRAW!$B$42","v":36},"V","Team",{"$f":"DRAW!$R$42","v":29}]
["Ends","Shots","Total",null,"Shots","Total",null,"Ends","Shots","Total",null,"Shots","Total",null,"Ends","Shots","Total",null,"Shots","Total","Ends","Shots","Total",null,"Shots","Total",null,"Ends","Shots","Total",null,"Shots","Total",null,"Ends","Shots","Total",null,"Shots","Total","Ends","Shots","Total",null,"Shots","Total",null,"Ends","Shots","Total",null,"shots","Totar"]
[1,{"$nulls":6},1,{"$nulls":6},1,{"$nulls":5},1,{"$nulls":6},1,{"$nulls":6},1,{"$nulls":5},1,{"$nulls":6},1]
[2,{"$nulls":6},2,{"$nulls":6},2,{"$nulls":5},2,{"$nulls":6},2,{"$nulls":6},2,{"$nulls":5},2,{"$nulls":6},2]
[3,{"$nulls":6},3,{"$nulls":6},3,{"$nulls":5},3,{"$nulls":6},3,{"$nulls":6},3,{"$nulls":5},3,{"$nulls":6},3]
[4,{"$nulls":6},4,{"$nulls":6},4,{"$nulls":5},4,{"$nulls":6},4,{"$nulls":6},4,{"$nulls":5},4,{"$nulls":6},4]
[5,{"$nulls":6},5,{"$nulls":6},5,{"$nulls":5},5,{"$nulls":6},5,{"$nulls":6},5,{"$nulls":5},5,{"$nulls":6},5]
[6,{"$nulls":6},6,{"$nulls":6},6,{"$nulls":5},6,{"$nulls":6},6,{"$nulls":6},6,{"$nulls":5},6,{"$nulls":6},6]
[7,{"$nulls":6},7,{"$nulls":6},7,{"$nulls":5},7,{"$nulls":6},7,{"$nulls":6},7,{"$nulls":5},7,{"$nulls":6},7]
[8,{"$nulls":6},8,{"$nulls":6},8,{"$nulls":5},8,{"$nulls":6},8,{"$nulls":6},8,{"$nulls":5},8,{"$nulls":6},8]
[9,{"$nulls":6},9,{"$nulls":6},9,{"$nulls":5},9,{"$nulls":6},9,{"$nulls":6},9,{"$nulls":5},9,{"$nulls":6},9]
[10,{"$nulls":6},10,{"$nulls":6},10,{"$nulls":5},10,{"$nulls":6},10,{"$nulls":6},10,{"$nulls":5},10,{"$nulls":6},10]
[11,{"$nulls":6},11,{"$nulls":6},11,{"$nulls":5},11,{"$nulls":6},11,{"$nulls":6},11,{"$nulls":5},11,{"$nulls":6},11]
[12,{"$nulls":6},12,{"$nulls":6},12,{"$nulls":5},12,{"$nulls":6},12,{"$nulls":6},12,{"$nulls":5},12,{"$nulls":6},12]
[13,{"$nulls":6},13,{"$nulls":6},13,{"$nulls":5},13,{"$nulls":6},13,{"$nulls":6},13,{"$nulls":5},13,{"$nulls":6},13]
[14,{"$nulls":6},14,{"$nulls":6},14,{"$nulls":5},14,{"$nulls":6},14,{"$nulls":6},14,{"$nulls":5},14,{"$nulls":6},14]
[15,{"$nulls":6},15,{"$nulls":6},15,{"$nulls":5},15,{"$nulls":6},15,{"$nulls":6},15,{"$nulls":5},15,{"$nulls":6},15]
[16,{"$nulls":6},16,{"$nulls":6},16,{"$nulls":5},16,{"$nulls":6},16,{"$nulls":6},16,{"$nulls":5},16,{"$nulls":6},16]
[17,{"$nulls":6},17,{"$nulls":6},17,{"$nulls":5},17,{"$nulls":6},17,{"$nulls":6},17,{"$nulls":5},17,{"$nulls":6},17]
[18,{"$nulls":6},18,{"$nulls":6},18,{"$nulls":5},18,{"$nulls":6},18,{"$nulls":6},18,{"$nulls":5},18,{"$nulls":6},18]
["Total","Shots",null,null,"Shots",null,null,"Total","Shots",null,null,"Shots",null,null,"Total","Shots",null,null,"Shots",null,"Total","Shots",null,null,"Shots",null,null,"Total","Shots",null,null,"Shots",null,null,"Total","Shots",null,null,"Shots",null,"Total","Shots",null,null,"Shots",null,null,"Total","Shots",null,null,"shots"]
[null,"Ends",null,null,"Ends",{"$nulls":3},"Ends",null,null,"Ends",{"$nulls":3},"Ends",null,null,"Ends",null,null,"Ends",null,null,"Ends",{"$nulls":3},"Ends",null,null,"Ends",{"$nulls":3},"Ends",null,null,"Ends",null,null,"Ends",null,null,"Ends",{"$nulls":3},"Ends",null,null,"Ends"]
["1st Game ",{"$nulls":6},"2nd Game ",{"$nulls":6},"3rd Game ",{"$nulls":5},"4th Game",{"$nulls":6},"5th Game",{"$nulls":6},"6th Game",{"$nulls":5},"7th Game",{"$nulls":6},"8th Game"]
["Team No",null,null,"Rink No",{"$nulls":3},"Team No",null,null,"Rink No",{"$nulls":3},"Team No",null,null,"Rink No",null,null,"Team No",null,null,"Rink No",{"$nulls":3},"Team No",null,null,"Rink No",{"$nulls":3},"Team No",null,null,"Rink No",null,null,"Team No",null,null,"Rink No",{"$nulls":3},"Team No",null,null,"Rink No"]
[]
[{"$f":"DRAW!$B$43","v":37},null,null,{"$f":"DRAW!$E$43","v":21},{"$nulls":3},{"$f":"DRAW!$B$43","v":37},null,null,{"$f":"DRAW!$G$43","v":4},{"$nulls":3},{"$f":"DRAW!$B$43","v":37},null,null,{"$f":"DRAW!$I$43","v":10},null,null,{"$f":"DRAW!$B$43","v":37},null,null,{"$f":"DRAW!$K$43","v":17},{"$nulls":3},{"$f":"DRAW!$B$43","v":37},null,null,{"$f":"DRAW!$M$43","v":6},{"$nulls":3},{"$f":"DRAW!$B$43","v":37},null,null,{"$f":"DRAW!$O$43","v":14},null,null,{"$f":"DRAW!$B$43","v":37},null,null,{"$f":"DRAW!$Q$43","v":16},{"$nulls":3},{"$f":"DRAW!$B$43","v":37},null,null,{"$f":"DRAW!$S$43","v":5}]
[null,"Team",{"$f":"DRAW!$B$43","v":37},"V","Team",{"$f":"DRAW!$D$43","v":36},null,null,"Team",{"$f":"DRAW!$B$43","v":37},"V","Team",{"$f":"DRAW!$F$43","v":38},null,null,"Team",{"$f":"DRAW!$B$43","v":37},"V","Team",{"$f":"DRAW!$H$43","v":42},null,"Team",{"$f":"DRAW!$B$43","v":37},"V","Team",{"$f":"DRAW!$J$43","v":33},null,null,"Team",{"$f":"DRAW!$B$43","v":37},"V","Team",{"$f":"DRAW!$L$43","v":34},null,null,"Team",{"$f":"DRAW!$B$43","v":37},"V","Team",{"$f":"DRAW!$N$43","v":35},null,"Team",{"$f":"DRAW!$B$43","v":37},"V","Team",{"$f":"DRAW!$P$43","v":30},null,null,"Team",{"$f":"DRAW!$B$43","v":37},"V","Team",{"$f":"DRAW!$R$43","v":39}]
["Ends","Shots","Total",null,"Shots","Total",null,"Ends","Shots","Total",null,"Shots","Total",null,"Ends","Shots","Total",null,"Shots","Total","Ends","Shots","Total",null,"Shots","Total",null,"Ends","Shots","Total",null,"Shots","Total",null,"Ends","Shots","Total",null,"Shots","Total","Ends","Shots","Total",null,"Shots","Total",null,"Ends","Shots","Total",null,"shots","Totar"]
[1,{"$nulls":6},1,{"$nulls":6},1,{"$nulls":5},1,{"$nulls":6},1,{"$nulls":6},1,{"$nulls":5},1,{"$nulls":6},1]
[2,{"$nulls":6},2,{"$nulls":6},2,{"$nulls":5},2,{"$nulls":6},2,{"$nulls":6},2,{"$nulls":5},2,{"$nulls":6},2]
[3,{"$nulls":6},3,{"$nulls":6},3,{"$nulls":5},3,{"$nulls":6},3,{"$nulls":6},3,{"$nulls":5},3,{"$nulls":6},3]
[4,{"$nulls":6},4,{"$nulls":6},4,{"$nulls":5},4,{"$nulls":6},4,{"$nulls":6},4,{"$nulls":5},4,{"$nulls":6},4]
[5,{"$nulls":6},5,{"$nulls":6},5,{"$nulls":5},5,{"$nulls":6},5,{"$nulls":6},5,{"$nulls":5},5,{"$nulls":6},5]
[6,{"$nulls":6},6,{"$nulls":6},6,{"$nulls":5},6,{"$nulls":6},6,{"$nulls":6},6,{"$nulls":5},6,{"$nulls":6},6]
[7,{"$nulls":6},7,{"$nulls":6},7,{"$nulls":5},7,{"$nulls":6},7,{"$nulls":6},7,{"$nulls":5},7,{"$nulls":6},7]
[8,{"$nulls":6},8,{"$nulls":6},8,{"$nulls":5},8,{"$nulls":6},8,{"$nulls":6},8,{"$nulls":5},8,{"$nulls":6},8]
[9,{"$nulls":6},9,{"$nulls":6},9,{"$nulls":5},9,{"$nulls":6},9,{"$nulls":6},9,{"$nulls":5},9,{"$nulls":6},9]
[10,{"$nulls":6},10,{"$nulls":6},10,{"$nulls":5},10,{"$nulls":6},10,{"$nulls":6},10,{"$nulls":5},10,{"$nulls":6},10]
[11,{"$nulls":6},11,{"$nulls":6},11,{"$nulls":5},11,{"$nulls":6},11,{"$nulls":6},11,{"$nulls":5},11,{"$nulls":6},11]
[12,{"$nulls":6},12,{"$nulls":6},12,{"$nulls":5},12,{"$nulls":6},12,{"$nulls":6},12,{"$nulls":5},12,{"$nulls":6},12]
[13,{"$nulls":6},13,{"$nulls":6},13,{"$nulls":5},13,{"$nulls":6},13,{"$nulls":6},13,{"$nulls":5},13,{"$nulls":6},13]
[14,{"$nulls":6},14,{"$nulls":6},14,{"$nulls":5},14,{"$nulls":6},14,{"$nulls":6},14,{"$nulls":5},14,{"$nulls":6},14]
[15,{"$nulls":6},15,{"$nulls":6},15,{"$nulls":5},15,{"$nulls":6},15,{"$nulls":6},15,{"$nulls":5},15,{"$nulls":6},15]
[16,{"$nulls":6},16,{"$nulls":6},16,{"$nulls":5},16,{"$nulls":6},16,{"$nulls":6},16,{"$nulls":5},16,{"$nulls":6},16]
[17,{"$nulls":6},17,{"$nulls":6},17,{"$nulls":5},17,{"$nulls":6},17,{"$nulls":6},17,{"$nulls":5},17,{"$nulls":6},17]
[18,{"$nulls":6},18,{"$nulls":6},18,{"$nulls":5},18,{"$nulls":6},18,{"$nulls":6},18,{"$nulls":5},18,{"$nulls":6},18]
["Total","Shots",null,null,"Shots",null,null,"Total","Shots",null,null,"Shots",null,null,"Total","Shots",null,null,"Shots",null,"Total","Shots",null,null,"Shots",null,null,"Total","Shots",null,null,"Shots",null,null,"Total","Shots",null,null,"Shots",null,"Total","Shots",null,null,"Shots",null,null,"Total","Shots",null,null,"shots"]
[null,"Ends",null,null,"Ends",{"$nulls":3},"Ends",null,null,"Ends",{"$nulls":3},"Ends",null,null,"Ends",null,null,"Ends",null,null,"Ends",{"$nulls":3},"Ends",null,null,"Ends",{"$nulls":3},"Ends",null,null,"Ends",null,null,"Ends",null,null,"Ends",{"$nulls":3},"Ends",null,null,"Ends"]
[]
[]
["1st Game ",{"$nulls":6},"2nd Game ",{"$nulls":6},"3rd Game ",{"$nulls":5},"4th Game",{"$nulls":6},"5th Game",{"$nulls":6},"6th Game",{"$nulls":5},"7th Game",{"$nulls":6},"8th Game"]
["Team No",null,null,"Rink No",{"$nulls":3},"Team No",null,null,"Rink No",{"$nulls":3},"Team No",null,null,"Rink No",null,null,"Team No",null,null,"Rink No",{"$nulls":3},"Team No",null,null,"Rink No",{"$nulls":3},"Team No",null,null,"Rink No",null,null,"Team No",null,null,"Rink No",{"$nulls":3},"Team No",null,null,"Rink No"]
[]
[{"$f":"DRAW!$B$44","v":38},null,null,{"$f":"DRAW!$E$44","v":20},{"$nulls":3},{"$f":"DRAW!$B$44","v":38},null,null,{"$f":"DRAW!$G$44","v":4},{"$nulls":3},{"$f":"DRAW!$B$44","v":38},null,null,{"$f":"DRAW!$I$44","v":13},null,null,{"$f":"DRAW!$B$44","v":38},null,null,{"$f":"DRAW!$K$44","v":21},{"$nulls":3},{"$f":"DRAW!$B$44","v":38},null,null,{"$f":"DRAW!$M$44","v":5},{"$nulls":3},{"$f":"DRAW!$B$44","v":38},null,null,{"$f":"DRAW!$O$44","v":12},null,null,{"$f":"DRAW!$B$44","v":38},null,null,{"$f":"DRAW!$Q$44","v":15},{"$nulls":3},{"$f":"DRAW!$B$44","v":38},null,null,{"$f":"DRAW!$S$44","v":6}]
[null,"Team",{"$f":"DRAW!$B$44","v":38},"V","Team",{"$f":"DRAW!$D$44","v":35},null,null,"Team",{"$f":"DRAW!$B$44","v":38},"V","Team",{"$f":"DRAW!$F$44","v":37},null,null,"Team",{"$f":"DRAW!$B$44","v":38},"V","Team",{"$f":"DRAW!$H$44","v":41},null,"Team",{"$f":"DRAW!$B$44","v":38},"V","Team",{"$f":"DRAW!$J$44","v":32},null,null,"Team",{"$f":"DRAW!$B$44","v":38},"V","Team",{"$f":"DRAW!$L$44","v":33},null,null,"Team",{"$f":"DRAW!$B$44","v":38},"V","Team",{"$f":"DRAW!$N$44","v":34},null,"Team",{"$f":"DRAW!$B$44","v":38},"V","Team",{"$f":"DRAW!$P$44","v":31},null,null,"Team",{"$f":"DRAW!$B$44","v":38},"V","Team",{"$f":"DRAW!$R$44","v":40}]
["Ends","Shots","Total",null,"Shots","Total",null,"Ends","Shots","Total",null,"Shots","Total",null,"Ends","Shots","Total",null,"Shots","Total","Ends","Shots","Total",null,"Shots","Total",null,"Ends","Shots","Total",null,"Shots","Total",null,"Ends","Shots","Total",null,"Shots","Total","Ends","Shots","Total",null,"Shots","Total",null,"Ends","Shots","Total",null,"shots","Totar"]
[1,{"$nulls":6},1,{"$nulls":6},1,{"$nulls":5},1,{"$nulls":6},1,{"$nulls":6},1,{"$nulls":5},1,{"$nulls":6},1]
[2,{"$nulls":6},2,{"$nulls":6},2,{"$nulls":5},2,{"$nulls":6},2,{"$nulls":6},2,{"$nulls":5},2,{"$nulls":6},2]
[3,{"$nulls":6},3,{"$nulls":6},3,{"$nulls":5},3,{"$nulls":6},3,{"$nulls":6},3,{"$nulls":5},3,{"$nulls":6},3]
[4,{"$nulls":6},4,{"$nulls":6},4,{"$nulls":5},4,{"$nulls":6},4,{"$nulls":6},4,{"$nulls":5},4,{"$nulls":6},4]
[5,{"$nulls":6},5,{"$nulls":6},5,{"$nulls":5},5,{"$nulls":6},5,{"$nulls":6},5,{"$nulls":5},5,{"$nulls":6},5]
[6,{"$nulls":6},6,{"$nulls":6},6,{"$nulls":5},6,{"$nulls":6},6,{"$nulls":6},6,{"$nulls":5},6,{"$nulls":6},6]
[7,{"$nulls":6},7,{"$nulls":6},7,{"$nulls":5},7,{"$nulls":6},7,{"$nulls":6},7,{"$nulls":5},7,{"$nulls":6},7]
[8,{"$nulls":6},8,{"$nulls":6},8,{"$nulls":5},8,{"$nulls":6},8,{"$nulls":6},8,{"$nulls":5},8,{"$nulls":6},8]
[9,{"$nulls":6},9,{"$nulls":6},9,{"$nulls":5},9,{"$nulls":6},9,{"$nulls":6},9,{"$nulls":5},9,{"$nulls":6},9]
[10,{"$nulls":6},10,{"$nulls":6},10,{"$nulls":5},10,{"$nulls":6},10,{"$nulls":6},10,{"$nulls":5},10,{"$nulls":6},10]
[11,{"$nulls":6},11,{"$nulls":6},11,{"$nulls":5},11,{"$nulls":6},11,{"$nulls":6},11,{"$nulls":5},11,{"$nulls":6},11]
[12,{"$nulls":6},12,{"$nulls":6},12,{"$nulls":5},12,{"$nulls":6},12,{"$nulls":6},12,{"$nulls":5},12,{"$nulls":6},12]
[13,{"$nulls":6},13,{"$nulls":6},13,{"$nulls":5},13,{"$nulls":6},13,{"$nulls":6},13,{"$nulls":5},13,{"$nulls":6},13]
[14,{"$nulls":6},14,{"$nulls":6},14,{"$nulls":5},14,{"$nulls":6},14,{"$nulls":6},14,{"$nulls":5},14,{"$nulls":6},14]
[15,{"$nulls":6},15,{"$nulls":6},15,{"$nulls":5},15,{"$nulls":6},15,{"$nulls":6},15,{"$nulls":5},15,{"$nulls":6},15]
[16,{"$nulls":6},16,{"$nulls":6},16,{"$nulls":5},16,{"$nulls":6},16,{"$nulls":6},16,{"$nulls":5},16,{"$nulls":6},16]
[17,{"$nulls":6},17,{"$nulls":6},17,{"$nulls":5},17,{"$nulls":6},17,{"$nulls":6},17,{"$nulls":5},17,{"$nulls":6},17]
[18,{"$nulls":6},18,{"$nulls":6},18,{"$nulls":5},18,{"$nulls":6},18,{"$nulls":6},18,{"$nulls":5},18,{"$nulls":6},18]
["Total","Shots",null,null,"Shots",null,null,"Total","Shots",null,null,"Shots",null,null,"Total","Shots",null,null,"Shots",null,"Total","Shots",null,null,"Shots",null,null,"Total","Shots",null,null,"Shots",null,null,"Total","Shots",null,null,"Shots",null,"Total","Shots",null,null,"Shots",null,null,"Total","Shots",null,null,"shots"]
[null,"Ends",null,null,"Ends",{"$nulls":3},"Ends",null,null,"Ends",{"$nulls":3},"Ends",null,null,"Ends",null,null,"Ends",null,null,"Ends",{"$nulls":3},"Ends",null,null,"Ends",{"$nulls":3},"Ends",null,null,"Ends",null,null,"Ends",null,null,"Ends",{"$nulls":3},"Ends",null,null,"Ends"]
["1st Game ",{"$nulls":6},"2nd Game ",{"$nulls":6},"3rd Game ",{"$nulls":5},"4th Game",{"$nulls":6},"5th Game",{"$nulls":6},"6th Game",{"$nulls":5},"7th Game",{"$nulls":6},"8th Game"]
["Team No",null,null,"Rink No",{"$nulls":3},"Team No",null,null,"Rink No",{"$nulls":3},"Team No",null,null,"Rink No",null,null,"Team No",null,null,"Rink No",{"$nulls":3},"Team No",null,null,"Rink No",{"$nulls":3},"Team No",null,null,"Rink No",null,null,"Team No",null,null,"Rink No",{"$nulls":3},"Team No",null,null,"Rink No"]
[]
[{"$f":"DRAW!$B$45","v":39},null,null,{"$f":"DRAW!$E$45","v":19},{"$nulls":3},{"$f":"DRAW!$B$45","v":39},null,null,{"$f":"DRAW!$G$45","v":3},{"$nulls":3},{"$f":"DRAW!$B$45","v":39},null,null,{"$f":"DRAW!$I$45","v":14},null,null,{"$f":"DRAW!$B$45","v":39},null,null,{"$f":"DRAW!$K$45","v":18},{"$nulls":3},{"$f":"DRAW!$B$45","v":39},null,null,{"$f":"DRAW!$M$45","v":2},{"$nulls":3},{"$f":"DRAW!$B$45","v":39},null,null,{"$f":"DRAW!$O$45","v":8},null,null,{"$f":"DRAW!$B$45","v":39},null,null,{"$f":"DRAW!$Q$45","v":17},{"$nulls":3},{"$f":"DRAW!$B$45","v":39},null,null,{"$f":"DRAW!$S$45","v":5}]
[null,"Team",{"$f":"DRAW!$B$45","v":39},"V","Team",{"$f":"DRAW!$D$45","v":34},null,null,"Team",{"$f":"DRAW!$B$45","v":39},"V","Team",{"$f":"DRAW!$F$45","v":36},null,null,"Team",{"$f":"DRAW!$B$45","v":39},"V","Team",{"$f":"DRAW!$H$45","v":40},null,"Team",{"$f":"DRAW!$B$45","v":39},"V","Team",{"$f":"DRAW!$J$45","v":31},null,null,"Team",{"$f":"DRAW!$B$45","v":39},"V","Team",{"$f":"DRAW!$L$45","v":32},null,null,"Team",{"$f":"DRAW!$B$45","v":39},"V","Team",{"$f":"DRAW!$N$45","v":33},null,"Team",{"$f":"DRAW!$B$45","v":39},"V","Team",{"$f":"DRAW!$P$45","v":42},null,null,"Team",{"$f":"DRAW!$B$45","v":39},"V","Team",{"$f":"DRAW!$R$45","v":37}]
["Ends","Shots","Total",null,"Shots","Total",null,"Ends","Shots","Total",null,"Shots","Total",null,"Ends","Shots","Total",null,"Shots","Total","Ends","Shots","Total",null,"Shots","Total",null,"Ends","Shots","Total",null,"Shots","Total",null,"Ends","Shots","Total",null,"Shots","Total","Ends","Shots","Total",null,"Shots","Total",null,"Ends","Shots","Total",null,"shots","Totar"]
[1,{"$nulls":6},1,{"$nulls":6},1,{"$nulls":5},1,{"$nulls":6},1,{"$nulls":6},1,{"$nulls":5},1,{"$nulls":6},1]
[2,{"$nulls":6},2,{"$nulls":6},2,{"$nulls":5},2,{"$nulls":6},2,{"$nulls":6},2,{"$nulls":5},2,{"$nulls":6},2]
[3,{"$nulls":6},3,{"$nulls":6},3,{"$nulls":5},3,{"$nulls":6},3,{"$nulls":6},3,{"$nulls":5},3,{"$nulls":6},3]
[4,{"$nulls":6},4,{"$nulls":6},4,{"$nulls":5},4,{"$nulls":6},4,{"$nulls":6},4,{"$nulls":5},4,{"$nulls":6},4]
[5,{"$nulls":6},5,{"$nulls":6},5,{"$nulls":5},5,{"$nulls":6},5,{"$nulls":6},5,{"$nulls":5},5,{"$nulls":6},5]
[6,{"$nulls":6},6,{"$nulls":6},6,{"$nulls":5},6,{"$nulls":6},6,{"$nulls":6},6,{"$nulls":5},6,{"$nulls":6},6]
[7,{"$nulls":6},7,{"$nulls":6},7,{"$nulls":5},7,{"$nulls":6},7,{"$nulls":6},7,{"$nulls":5},7,{"$nulls":6},7]
[8,{"$nulls":6},8,{"$nulls":6},8,{"$nulls":5},8,{"$nulls":6},8,{"$nulls":6},8,{"$nulls":5},8,{"$nulls":6},8]
[9,{"$nulls":6},9,{"$nulls":6},9,{"$nulls":5},9,{"$nulls":6},9,{"$nulls":6},9,{"$nulls":5},9,{"$nulls":6},9]
[10,{"$nulls":6},10,{"$nulls":6},10,{"$nulls":5},10,{"$nulls":6},10,{"$nulls":6},10,{"$nulls":5},10,{"$nulls":6},10]
[11,{"$nulls":6},11,{"$nulls":6},11,{"$nulls":5},11,{"$nulls":6},11,{"$nulls":6},11,{"$nulls":5},11,{"$nulls":6},11]
[12,{"$nulls":6},12,{"$nulls":6},12,{"$nulls":5},12,{"$nulls":6},12,{"$nulls":6},12,{"$nulls":5},12,{"$nulls":6},12]
[13,{"$nulls":6},13,{"$nulls":6},13,{"$nulls":5},13,{"$nulls":6},13,{"$nulls":6},13,{"$nulls":5},13,{"$nulls":6},13]
[14,{"$nulls":6},14,{"$nulls":6},14,{"$nulls":5},14,{"$nulls":6},14,{"$nulls":6},14,{"$nulls":5},14,{"$nulls":6},14]
[15,{"$nulls":6},15,{"$nulls":6},15,{"$nulls":5},15,{"$nulls":6},15,{"$nulls":6},15,{"$nulls":5},15,{"$nulls":6},15]
[16,{"$nulls":6},16,{"$nulls":6},16,{"$nulls":5},16,{"$nulls":6},16,{"$nulls":6},16,{"$nulls":5},16,{"$nulls":6},16]
[17,{"$nulls":6},17,{"$nulls":6},17,{"$nulls":5},17,{"$nulls":6},17,{"$nulls":6},17,{"$nulls":5},17,{"$nulls":6},17]
[18,{"$nulls":6},18,{"$nulls":6},18,{"$nulls":5},18,{"$nulls":6},18,{"$nulls":6},18,{"$nulls":5},18,{"$nulls":6},18]
["Total","Shots",null,null,"Shots",null,null,"Total","Shots",null,null,"Shots",null,null,"Total","Shots",null,null,"Shots",null,"Total","Shots",null,null,"Shots",null,null,"Total","Shots",null,null,"Shots",null,null,"Total","Shots",null,null,"Shots",null,"Total","Shots",null,null,"Shots",null,null,"Total","Shots",null,null,"shots"]
[null,"Ends",null,null,"Ends",{"$nulls":3},"Ends",null,null,"Ends",{"$nulls":3},"Ends",null,null,"Ends",null,null,"Ends",null,null,"Ends",{"$nulls":3},"Ends",null,null,"Ends",{"$nulls":3},"Ends",null,null,"Ends",null,null,"Ends",null,null,"Ends",{"$nulls":3},"Ends",null,null,"Ends"]
[]
[]
["1st Game ",{"$nulls":6},"2nd Game ",{"$nulls":6},"3rd Game ",{"$nulls":5},"4th Game",{"$nulls":6},"5th Game",{"$nulls":6},"6th Game",{"$nulls":5},"7th Game",{"$nulls":6},"8th Game"]
["Team No",null,null,"Rink No",{"$nulls":3},"Team No",null,null,"Rink No",{"$nulls":3},"Team No",null,null,"Rink No",null,null,"Team No",null,null,"Rink No",{"$nulls":3},"Team No",null,null,"Rink No",{"$nulls":3},"Team No",null,null,"Rink No",null,null,"Team No",null,null,"Rink No",{"$nulls":3},"Team No",null,null,"Rink No"]
[]
[{"$f":"DRAW!$B$46","v":40},null,null,{"$f":"DRAW!$E$46","v":18},{"$nulls":3},{"$f":"DRAW!$B$46","v":40},null,null,{"$f":"DRAW!$G$46","v":2},{"$nulls":3},{"$f":"DRAW!$B$46","v":40},null,null,{"$f":"DRAW!$I$46","v":14},null,null,{"$f":"DRAW!$B$46","v":40},null,null,{"$f":"DRAW!$K$46","v":19},{"$nulls":3},{"$f":"DRAW!$B$46","v":40},null,null,{"$f":"DRAW!$M$46","v":3},{"$nulls":3},{"$f":"DRAW!$B$46","v":40},null,null,{"$f":"DRAW!$O$46","v":10},null,null,{"$f":"DRAW!$B$46","v":40},null,null,{"$f":"DRAW!$Q$46","v":21},{"$nulls":3},{"$f":"DRAW!$B$46","v":40},null,null,{"$f":"DRAW!$S$46","v":6}]
[null,"Team",{"$f":"DRAW!$B$46","v":40},"V","Team",{"$f":"DRAW!$D$46","v":33},null,null,"Team",{"$f":"DRAW!$B$46","v":40},"V","Team",{"$f":"DRAW!$F$46","v":35},null,null,"Team",{"$f":"DRAW!$B$46","v":40},"V","Team",{"$f":"DRAW!$H$46","v":39},null,"Team",{"$f":"DRAW!$B$46","v":40},"V","Team",{"$f":"DRAW!$J$46","v":30},null,null,"Team",{"$f":"DRAW!$B$46","v":40},"V","Team",{"$f":"DRAW!$L$46","v":31},null,null,"Team",{"$f":"DRAW!$B$46","v":40},"V","Team",{"$f":"DRAW!$N$46","v":29},null,"Team",{"$f":"DRAW!$B$46","v":40},"V","Team",{"$f":"DRAW!$P$46","v":32},null,null,"Team",{"$f":"DRAW!$B$46","v":40},"V","Team",{"$f":"DRAW!$R$46","v":38}]
["Ends","Shots","Total",null,"Shots","Total",null,"Ends","Shots","Total",null,"Shots","Total",null,"Ends","Shots","Total",null,"Shots","Total","Ends","Shots","Total",null,"Shots","Total",null,"Ends","Shots","Total",null,"Shots","Total",null,"Ends","Shots","Total",null,"Shots","Total","Ends","Shots","Total",null,"Shots","Total",null,"Ends","Shots","Total",null,"shots","Totar"]
[1,{"$nulls":6},1,{"$nulls":6},1,{"$nulls":5},1,{"$nulls":6},1,{"$nulls":6},1,{"$nulls":5},1,{"$nulls":6},1]
[2,{"$nulls":6},2,{"$nulls":6},2,{"$nulls":5},2,{"$nulls":6},2,{"$nulls":6},2,{"$nulls":5},2,{"$nulls":6},2]
[3,{"$nulls":6},3,{"$nulls":6},3,{"$nulls":5},3,{"$nulls":6},3,{"$nulls":6},3,{"$nulls":5},3,{"$nulls":6},3]
[4,{"$nulls":6},4,{"$nulls":6},4,{"$nulls":5},4,{"$nulls":6},4,{"$nulls":6},4,{"$nulls":5},4,{"$nulls":6},4]
[5,{"$nulls":6},5,{"$nulls":6},5,{"$nulls":5},5,{"$nulls":6},5,{"$nulls":6},5,{"$nulls":5},5,{"$nulls":6},5]
[6,{"$nulls":6},6,{"$nulls":6},6,{"$nulls":5},6,{"$nulls":6},6,{"$nulls":6},6,{"$nulls":5},6,{"$nulls":6},6]
[7,{"$nulls":6},7,{"$nulls":6},7,{"$nulls":5},7,{"$nulls":6},7,{"$nulls":6},7,{"$nulls":5},7,{"$nulls":6},7]
[8,{"$nulls":6},8,{"$nulls":6},8,{"$nulls":5},8,{"$nulls":6},8,{"$nulls":6},8,{"$nulls":5},8,{"$nulls":6},8]
[9,{"$nulls":6},9,{"$nulls":6},9,{"$nulls":5},9,{"$nulls":6},9,{"$nulls":6},9,{"$nulls":5},9,{"$nulls":6},9]
[10,{"$nulls":6},10,{"$nulls":6},10,{"$nulls":5},10,{"$nulls":6},10,{"$nulls":6},10,{"$nulls":5},10,{"$nulls":6},10]
[11,{"$nulls":6},11,{"$nulls":6},11,{"$nulls":5},11,{"$nulls":6},11,{"$nulls":6},11,{"$nulls":5},11,{"$nulls":6},11]
[12,{"$nulls":6},12,{"$nulls":6},12,{"$nulls":5},12,{"$nulls":6},12,{"$nulls":6},12,{"$nulls":5},12,{"$nulls":6},12]
[13,{"$nulls":6},13,{"$nulls":6},13,{"$nulls":5},13,{"$nulls":6},13,{"$nulls":6},13,{"$nulls":5},13,{"$nulls":6},13]
[14,{"$nulls":6},14,{"$nulls":6},14,{"$nulls":5},14,{"$nulls":6},14,{"$nulls":6},14,{"$nulls":5},14,{"$nulls":6},14]
[15,{"$nulls":6},15,{"$nulls":6},15,{"$nulls":5},15,{"$nulls":6},15,{"$nulls":6},15,{"$nulls":5},15,{"$nulls":6},15]
[16,{"$nulls":6},16,{"$nulls":6},16,{"$nulls":5},16,{"$nulls":6},16,{"$nulls":6},16,{"$nulls":5},16,{"$nulls":6},16]
[17,{"$nulls":6},17,{"$nulls":6},17,{"$nulls":5},17,{"$nulls":6},17,{"$nulls":6},17,{"$nulls":5},17,{"$nulls":6},17]
[18,{"$nulls":6},18,{"$nulls":6},18,{"$nulls":5},18,{"$nulls":6},18,{"$nulls":6},18,{"$nulls":5},18,{"$nulls":6},18]
["Total","Shots",null,null,"Shots",null,null,"Total","Shots",null,null,"Shots",null,null,"Total","Shots",null,null,"Shots",null,"Total","Shots",null,null,"Shots",null,null,"Total","Shots",null,null,"Shots",null,null,"Total","Shots",null,null,"Shots",null,"Total","Shots",null,null,"Shots",null,null,"Total","Shots",null,null,"shots"]
[null,"Ends",null,null,"Ends",{"$nulls":3},"Ends",null,null,"Ends",{"$nulls":3},"Ends",null,null,"Ends",null,null,"Ends",null,null,"Ends",{"$nulls":3},"Ends",null,null,"Ends",{"$nulls":3},"Ends",null,null,"Ends",null,null,"Ends",null,null,"Ends",{"$nulls":3},"Ends",null,null,"Ends"]
["1st Game ",{"$nulls":6},"2nd Game ",{"$nulls":6},"3rd Game ",{"$nulls":5},"4th Game",{"$nulls":6},"5th Game",{"$nulls":6},"6th Game",{"$nulls":5},"7th Game",{"$nulls":6},"8th Game"]
["Team No",null,null,"Rink No",{"$nulls":3},"Team No",null,null,"Rink No",{"$nulls":3},"Team No",null,null,"Rink No",null,null,"Team No",null,null,"Rink No",{"$nulls":3},"Team No",null,null,"Rink No",{"$nulls":3},"Team No",null,null,"Rink No",null,null,"Team No",null,null,"Rink No",{"$nulls":3},"Team No",null,null,"Rink No"]
[]
[{"$f":"DRAW!$B$47","v":41},null,null,{"$f":"DRAW!$E$47","v":17},{"$nulls":3},{"$f":"DRAW!$B$47","v":41},null,null,{"$f":"DRAW!$G$47","v":7},{"$nulls":3},{"$f":"DRAW!$B$47","v":41},null,null,{"$f":"DRAW!$I$431","v":0},null,null,{"$f":"DRAW!$B$47","v":41},null,null,{"$f":"DRAW!$K$47","v":20},{"$nulls":3},{"$f":"DRAW!$B$47","v":41},null,null,{"$f":"DRAW!$M$47","v":1},{"$nulls":3},{"$f":"DRAW!$B$47","v":41},null,null,{"$f":"DRAW!$O$47","v":9},null,null,{"$f":"DRAW!$B$47","v":41},null,null,{"$f":"DRAW!$Q$47","v":19},{"$nulls":3},{"$f":"DRAW!$B$47","v":41},null,null,{"$f":"DRAW!$S$47","v":3}]
[null,"Team",{"$f":"DRAW!$B$47","v":41},"V","Team",{"$f":"DRAW!$D$47","v":32},null,null,"Team",{"$f":"DRAW!$B$47","v":41},"V","Team",{"$f":"DRAW!$F$47","v":34},null,null,"Team",{"$f":"DRAW!$B$47","v":41},"V","Team",{"$f":"DRAW!$H$431","v":0},null,"Team",{"$f":"DRAW!$B$47","v":41},"V","Team",{"$f":"DRAW!$J$47","v":42},null,null,"Team",{"$f":"DRAW!$B$47","v":41},"V","Team",{"$f":"DRAW!$L$47","v":30},null,null,"Team",{"$f":"DRAW!$B$47","v":41},"V","Team",{"$f":"DRAW!$N$47","v":31},null,"Team",{"$f":"DRAW!$B$47","v":41},"V","Team",{"$f":"DRAW!$P$47","v":29},null,null,"Team",{"$f":"DRAW!$B$47","v":41},"V","Team",{"$f":"DRAW!$R$47","v":35}]
["Ends","Shots","Total",null,"Shots","Total",null,"Ends","Shots","Total",null,"Shots","Total",null,"Ends","Shots","Total",null,"Shots","Total","Ends","Shots","Total",null,"Shots","Total",null,"Ends","Shots","Total",null,"Shots","Total",null,"Ends","Shots","Total",null,"Shots","Total","Ends","Shots","Total",null,"Shots","Total",null,"Ends","Shots","Total",null,"shots","Totar"]
[1,{"$nulls":6},1,{"$nulls":6},1,{"$nulls":5},1,{"$nulls":6},1,{"$nulls":6},1,{"$nulls":5},1,{"$nulls":6},1]
[2,{"$nulls":6},2,{"$nulls":6},2,{"$nulls":5},2,{"$nulls":6},2,{"$nulls":6},2,{"$nulls":5},2,{"$nulls":6},2]
[3,{"$nulls":6},3,{"$nulls":6},3,{"$nulls":5},3,{"$nulls":6},3,{"$nulls":6},3,{"$nulls":5},3,{"$nulls":6},3]
[4,{"$nulls":6},4,{"$nulls":6},4,{"$nulls":5},4,{"$nulls":6},4,{"$nulls":6},4,{"$nulls":5},4,{"$nulls":6},4]
[5,{"$nulls":6},5,{"$nulls":6},5,{"$nulls":5},5,{"$nulls":6},5,{"$nulls":6},5,{"$nulls":5},5,{"$nulls":6},5]
[6,{"$nulls":6},6,{"$nulls":6},6,{"$nulls":5},6,{"$nulls":6},6,{"$nulls":6},6,{"$nulls":5},6,{"$nulls":6},6]
[7,{"$nulls":6},7,{"$nulls":6},7,{"$nulls":5},7,{"$nulls":6},7,{"$nulls":6},7,{"$nulls":5},7,{"$nulls":6},7]
[8,{"$nulls":6},8,{"$nulls":6},8,{"$nulls":5},8,{"$nulls":6},8,{"$nulls":6},8,{"$nulls":5},8,{"$nulls":6},8]
[9,{"$nulls":6},9,{"$nulls":6},9,{"$nulls":5},9,{"$nulls":6},9,{"$nulls":6},9,{"$nulls":5},9,{"$nulls":6},9]
[10,{"$nulls":6},10,{"$nulls":6},10,{"$nulls":5},10,{"$nulls":6},10,{"$nulls":6},10,{"$nulls":5},10,{"$nulls":6},10]
[11,{"$nulls":6},11,{"$nulls":6},11,{"$nulls":5},11,{"$nulls":6},11,{"$nulls":6},11,{"$nulls":5},11,{"$nulls":6},11]
[12,{"$nulls":6},12,{"$nulls":6},12,{"$nulls":5},12,{"$nulls":6},12,{"$nulls":6},12,{"$nulls":5},12,{"$nulls":6},12]
[13,{"$nulls":6},13,{"$nulls":6},13,{"$nulls":5},13,{"$nulls":6},13,{"$nulls":6},13,{"$nulls":5},13,{"$nulls":6},13]
[14,{"$nulls":6},14,{"$nulls":6},14,{"$nulls":5},14,{"$nulls":6},14,{"$nulls":6},14,{"$nulls":5},14,{"$nulls":6},14]
[15,{"$nulls":6},15,{"$nulls":6},15,{"$nulls":5},15,{"$nulls":6},15,{"$nulls":6},15,{"$nulls":5},15,{"$nulls":6},15]
[16,{"$nulls":6},16,{"$nulls":6},16,{"$nulls":5},16,{"$nulls":6},16,{"$nulls":6},16,{"$nulls":5},16,{"$nulls":6},16]
[17,{"$nulls":6},17,{"$nulls":6},17,{"$nulls":5},17,{"$nulls":6},17,{"$nulls":6},17,{"$nulls":5},17,{"$nulls":6},17]
[18,{"$nulls":6},18,{"$nulls":6},18,{"$nulls":5},18,{"$nulls":6},18,{"$nulls":6},18,{"$nulls":5},18,{"$nulls":6},18]
["Total","Shots",null,null,"Shots",null,null,"Total","Shots",null,null,"Shots",null,null,"Total","Shots",null,null,"Shots",null,"Total","Shots",null,null,"Shots",null,null,"Total","Shots",null,null,"Shots",null,null,"Total","Shots",null,null,"Shots",null,"Total","Shots",null,null,"Shots",null,null,"Total","Shots",null,null,"shots"]
[null,"Ends",null,null,"Ends",{"$nulls":3},"Ends",null,null,"Ends",{"$nulls":3},"Ends",null,null,"Ends",null,null,"Ends",null,null,"Ends",{"$nulls":3},"Ends",null,null,"Ends",{"$nulls":3},"Ends",null,null,"Ends",null,null,"Ends",null,null,"Ends",{"$nulls":3},"Ends",null,null,"Ends"]
[]
[]
["1st Game ",{"$nulls":6},"2nd Game ",{"$nulls":6},"3rd Game ",{"$nulls":5},"4th Game",{"$nulls":6},"5th Game",{"$nulls":6},"6th Game",{"$nulls":5},"7th Game",{"$nulls":6},"8th Game"]
["Team No",null,null,"Rink No",{"$nulls":3},"Team No",null,null,"Rink No",{"$nulls":3},"Team No",null,null,"Rink No",null,null,"Team No",null,null,"Rink No",{"$nulls":3},"Team No",null,null,"Rink No",{"$nulls":3},"Team No",null,null,"Rink No",null,null,"Team No",null,null,"Rink No",{"$nulls":3},"Team No",null,null,"Rink No"]
[]
[{"$f":"DRAW!$B$48","v":42},null,null,{"$f":"DRAW!$E$48","v":16},{"$nulls":3},{"$f":"DRAW!$B$48","v":42},null,null,{"$f":"DRAW!$G$48","v":1},{"$nulls":3},{"$f":"DRAW!$B$48","v":42},null,null,{"$f":"DRAW!$I$48","v":10},null,null,{"$f":"DRAW!$B$48","v":42},null,null,{"$f":"DRAW!$K$48","v":20},{"$nulls":3},{"$f":"DRAW!$B$48","v":42},null,null,{"$f":"DRAW!$M$48","v":7},{"$nulls":3},{"$f":"DRAW!$B$48","v":42},null,null,{"$f":"DRAW!$O$48","v":11},null,null,{"$f":"DRAW!$B$48","v":42},null,null,{"$f":"DRAW!$Q$48","v":17},{"$nulls":3},{"$f":"DRAW!$B$48","v":42},null,null,{"$f":"DRAW!$S$48","v":7}]
[null,"Team",{"$f":"DRAW!$B$48","v":42},"V","Team",{"$f":"DRAW!$D$48","v":31},null,null,"Team",{"$f":"DRAW!$B$48","v":42},"V","Team",{"$f":"DRAW!$F$48","v":33},null,null,"Team",{"$f":"DRAW!$B$48","v":42},"V","Team",{"$f":"DRAW!$H$48","v":37},null,"Team",{"$f":"DRAW!$B$48","v":42},"V","Team",{"$f":"DRAW!$J$48","v":41},null,null,"Team",{"$f":"DRAW!$B$48","v":42},"V","Team",{"$f":"DRAW!$L$48","v":29},null,null,"Team",{"$f":"DRAW!$B$48","v":42},"V","Team",{"$f":"DRAW!$N$48","v":30},null,"Team",{"$f":"DRAW!$B$48","v":42},"V","Team",{"$f":"DRAW!$P$48","v":39},null,null,"Team",{"$f":"DRAW!$B$48","v":42},"V","Team",{"$f":"DRAW!$R$48","v":34}]
["Ends","Shots","Total",null,"Shots","Total",null,"Ends","Shots","Total",null,"Shots","Total",null,"Ends","Shots","Total",null,"Shots","Total","Ends","Shots","Total",null,"Shots","Total",null,"Ends","Shots","Total",null,"Shots","Total",null,"Ends","Shots","Total",null,"Shots","Total","Ends","Shots","Total",null,"Shots","Total",null,"Ends","Shots","Total",null,"shots","Totar"]
[1,{"$nulls":6},1,{"$nulls":6},1,{"$nulls":5},1,{"$nulls":6},1,{"$nulls":6},1,{"$nulls":5},1,{"$nulls":6},1]
[2,{"$nulls":6},2,{"$nulls":6},2,{"$nulls":5},2,{"$nulls":6},2,{"$nulls":6},2,{"$nulls":5},2,{"$nulls":6},2]
[3,{"$nulls":6},3,{"$nulls":6},3,{"$nulls":5},3,{"$nulls":6},3,{"$nulls":6},3,{"$nulls":5},3,{"$nulls":6},3]
[4,{"$nulls":6},4,{"$nulls":6},4,{"$nulls":5},4,{"$nulls":6},4,{"$nulls":6},4,{"$nulls":5},4,{"$nulls":6},4]
[5,{"$nulls":6},5,{"$nulls":6},5,{"$nulls":5},5,{"$nulls":6},5,{"$nulls":6},5,{"$nulls":5},5,{"$nulls":6},5]
[6,{"$nulls":6},6,{"$nulls":6},6,{"$nulls":5},6,{"$nulls":6},6,{"$nulls":6},6,{"$nulls":5},6,{"$nulls":6},6]
[7,{"$nulls":6},7,{"$nulls":6},7,{"$nulls":5},7,{"$nulls":6},7,{"$nulls":6},7,{"$nulls":5},7,{"$nulls":6},7]
[8,{"$nulls":6},8,{"$nulls":6},8,{"$nulls":5},8,{"$nulls":6},8,{"$nulls":6},8,{"$nulls":5},8,{"$nulls":6},8]
[9,{"$nulls":6},9,{"$nulls":6},9,{"$nulls":5},9,{"$nulls":6},9,{"$nulls":6},9,{"$nulls":5},9,{"$nulls":6},9]
[10,{"$nulls":6},10,{"$nulls":6},10,{"$nulls":5},10,{"$nulls":6},10,{"$nulls":6},10,{"$nulls":5},10,{"$nulls":6},10]
[11,{"$nulls":6},11,{"$nulls":6},11,{"$nulls":5},11,{"$nulls":6},11,{"$nulls":6},11,{"$nulls":5},11,{"$nulls":6},11]
[12,{"$nulls":6},12,{"$nulls":6},12,{"$nulls":5},12,{"$nulls":6},12,{"$nulls":6},12,{"$nulls":5},12,{"$nulls":6},12]
[13,{"$nulls":6},13,{"$nulls":6},13,{"$nulls":5},13,{"$nulls":6},13,{"$nulls":6},13,{"$nulls":5},13,{"$nulls":6},13]
[14,{"$nulls":6},14,{"$nulls":6},14,{"$nulls":5},14,{"$nulls":6},14,{"$nulls":6},14,{"$nulls":5},14,{"$nulls":6},14]
[15,{"$nulls":6},15,{"$nulls":6},15,{"$nulls":5},15,{"$nulls":6},15,{"$nulls":6},15,{"$nulls":5},15,{"$nulls":6},15]
[16,{"$nulls":6},16,{"$nulls":6},16,{"$nulls":5},16,{"$nulls":6},16,{"$nulls":6},16,{"$nulls":5},16,{"$nulls":6},16]
[17,{"$nulls":6},17,{"$nulls":6},17,{"$nulls":5},17,{"$nulls":6},17,{"$nulls":6},17,{"$nulls":5},17,{"$nulls":6},17]
[18,{"$nulls":6},18,{"$nulls":6},18,{"$nulls":5},18,{"$nulls":6},18,{"$nulls":6},18,{"$nulls":5},18,{"$nulls":6},18]
["Total","Shots",null,null,"Shots",null,null,"Total","Shots",null,null,"Shots",null,null,"Total","Shots",null,null,"Shots",null,"Total","Shots",null,null,"Shots",null,null,"Total","Shots",null,null,"Shots",null,null,"Total","Shots",null,null,"Shots",null,"Total","Shots",null,null,"Shots",null,null,"Total","Shots",null,null,"shots"]
[null,"Ends",null,null,"Ends",{"$nulls":3},"Ends",null,null,"Ends",{"$nulls":3},"Ends",null,null,"Ends",null,null,"Ends",null,null,"Ends",{"$nulls":3},"Ends",null,null,"Ends",{"$nulls":3},"Ends",null,null,"Ends",null,null,"Ends",null,null,"Ends",{"$nulls":3},"Ends",null,null,"Ends"]

{"sheet":"DRAW","index":4,"n_rows":48,"n_cols":19,"rows_kept":48,"merged":[[0,1,0,18],[1,1,1,18],[4,1,4,2],[4,3,4,4],[4,5,4,6],[4,7,4,8],[4,9,4,10],[4,11,4,12],[4,13,4,14],[4,15,4,16],[4,17,4,18]]}
[null,"Tournament Name etc. Here."]
[null,"Other heading info"]
[]
[]
[null,"RINK DRAW",null,"Round 1",null,"Round 2",null,"Round 3",null,"Round 4",null,"Round 5",null,"Round 6",null,"Round 7",null,"Round 8"]
[null,"Team","Skips Name","vs","Rink","vs","Rink","vs","Rink","vs","Rink","vs","Rink","vs","Rink","vs","Rink","vs","Rink"]
[null,1,null,2,1,3,13,5,19,7,2,14,14,12,17,13,5,8,8]
[null,2,null,1,1,4,12,8,16,12,5,13,8,14,18,9,2,5,9]
[null,3,null,14,2,1,13,7,15,11,4,12,10,13,16,10,1,4,11]
[null,4,null,13,3,2,12,6,18,10,7,11,9,8,20,12,7,3,11]
[null,5,null,12,4,14,8,1,19,9,3,10,12,11,15,8,6,2,9]
[null,6,null,11,5,13,14,4,18,8,1,9,13,10,19,7,4,14,14]
[null,7,null,10,6,12,9,3,15,1,2,8,11,9,21,6,4,13,10]
[null,8,null,9,7,11,10,2,16,6,1,7,11,4,20,5,6,1,8]
[null,9,null,8,7,10,11,14,17,5,3,6,13,7,21,2,2,11,12]
[null,10,null,7,6,9,11,13,20,4,7,5,12,6,19,3,1,12,13]
[null,11,null,6,5,8,10,12,21,3,4,4,9,5,15,14,3,9,12]
[null,12,null,5,4,7,9,11,21,2,5,3,10,1,17,4,7,10,13]
[null,13,null,4,3,6,14,10,20,14,6,2,8,3,16,1,5,7,10]
[null,14,null,3,2,5,8,9,17,13,6,1,14,2,18,11,3,6,14]
[null,15,null,16,8,17,20,19,5,21,9,28,21,26,3,27,12,22,15]
[null,16,null,15,8,18,19,22,2,26,12,27,15,28,4,23,9,19,16]
[null,17,null,28,9,15,20,21,1,25,11,26,17,27,2,24,8,18,18]
[null,18,null,27,10,16,19,20,4,24,14,25,16,22,6,26,14,17,18]
[null,19,null,26,11,28,15,15,5,23,10,24,19,25,1,22,13,16,16]
[null,20,null,25,12,27,21,18,4,22,8,23,20,24,5,21,11,28,21]
[null,21,null,24,13,26,16,17,1,15,9,22,18,23,7,20,11,27,17]
[null,22,null,23,14,25,17,16,2,20,8,21,18,18,6,19,13,15,15]
[null,23,null,22,14,24,18,28,3,19,10,20,20,21,7,16,9,25,19]
[null,24,null,21,13,23,18,27,6,18,14,19,19,20,5,17,8,26,20]
[null,25,null,20,12,22,17,26,7,17,11,18,16,19,1,28,10,23,19]
[null,26,null,19,11,21,16,25,7,16,12,17,17,15,3,18,14,24,20]
[null,27,null,18,10,20,21,24,6,28,13,16,15,17,2,15,12,21,17]
[null,28,null,17,9,19,15,23,3,27,13,15,21,16,4,25,10,20,21]
[null,29,null,30,15,31,6,33,12,35,16,42,7,40,10,41,19,36,1]
[null,30,null,29,15,32,5,36,9,40,19,41,1,42,11,37,16,33,2]
[null,31,null,42,16,29,6,35,8,39,18,40,3,41,9,38,15,32,4]
[null,32,null,41,17,30,5,34,11,38,21,39,2,36,13,40,21,31,4]
[null,33,null,40,18,42,1,29,12,37,17,38,5,39,8,36,20,30,2]
[null,34,null,39,19,41,7,32,11,36,15,37,6,38,12,35,18,42,7]
[null,35,null,38,20,40,2,31,8,29,16,36,4,37,14,34,18,41,3]
[null,36,null,37,21,39,3,30,9,34,15,35,4,32,13,33,20,29,1]
[null,37,null,36,21,38,4,42,10,33,17,34,6,35,14,30,16,39,5]
[null,38,null,35,20,37,4,41,13,32,21,33,5,34,12,31,15,40,6]
[null,39,null,34,19,36,3,40,14,31,18,32,2,33,8,42,17,37,5]
[null,40,null,33,18,35,2,39,14,30,19,31,3,29,10,32,21,38,6]
[null,41,null,32,17,34,7,38,13,42,20,30,1,31,9,29,19,35,3]
[null,42,null,31,16,33,1,37,10,41,20,29,7,30,11,39,17,34,7]

{"sheet":"Half Sheet","index":5,"n_rows":28,"n_cols":14,"rows_kept":28,"merged":[[0,0,0,5],[0,7,0,12],[0,14,0,19],[1,0,2,2],[1,3,2,5],[1,7,2,9],[1,10,2,12],[1,14,2,16],[1,17,2,19],[3,0,3,2],[3,3,3,5],[3,7,3,9],[3,10,3,12],[3,14,3,16],[3,17,3,19],[24,0,25,0],[24,7,25,7],[24,14,25,14]]}
["Half Sheet"]
{"$rows_empty":25}
[{"$nulls":6},".",{"$nulls":6},"."]
[{"$nulls":6},".",{"$nulls":6},"."]

{"sheet":"Sheet3","index":6,"n_rows":579,"n_cols":18,"rows_kept":579,"hidden":true,"merged":[[1,2,1,3],[2,2,2,3],[2,4,2,5],[2,6,2,7],[2,8,2,9],[2,10,2,11],[2,12,2,13],[2,14,2,15],[2,16,2,17],[51,2,51,3],[52,2,52,3],[52,4,52,5],[52,6,52,7],[52,8,52,9],[52,10,52,11],[52,12,52,13],[52,14,52,15],[52,16,52,17],[99,2,99,3],[100,2,100,3],[100,4,100,5],[100,6,100,7],[100,8,100,9],[100,10,100,11],[100,12,100,13],[100,14,100,15],[100,16,100,17],[145,2,145,3],[146,2,146,3],[146,4,146,5],[146,6,146,7],[146,8,146,9],[146,10,146,11],[146,12,146,13],[146,14,146,15],[146,16,146,17],[189,2,189,3],[190,2,190,3],[190,4,190,5],[190,6,190,7],[190,8,190,9],[190,10,190,11],[190,12,190,13],[190,14,190,15],[190,16,190,17],[231,2,231,3],[232,2,232,3],[232,4,232,5],[232,6,232,7],[232,8,232,9],[232,10,232,11],[232,12,232,13],[232,14,232,15],[232,16,232,17],[271,2,271,3],[272,2,272,3],[272,4,272,5],[272,6,272,7],[272,8,272,9],[272,10,272,11],[272,12,272,13],[272,14,272,15],[272,16,272,17],[310,2,310,3],[311,2,311,3],[311,4,311,5],[311,6,311,7],[311,8,311,9],[311,10,311,11],[311,12,311,13],[311,14,311,15],[311,16,311,17],[346,2,346,3],[347,2,347,3],[347,4,347,5],[347,6,347,7],[347,8,347,9],[347,10,347,11],[347,12,347,13],[347,14,347,15],[347,16,347,17],[380,2,380,3],[381,2,381,3],[381,4,381,5],[381,6,381,7],[381,8,381,9],[381,10,381,11],[381,12,381,13],[381,14,381,15],[381,16,381,17],[412,2,412,3],[413,2,413,3],[413,4,413,5],[413,6,413,7],[413,8,413,9],[413,10,413,11],[413,12,413,13],[413,14,413,15],[413,16,413,17],[442,2,442,3],[443,2,443,3],[443,4,443,5],[443,6,443,7],[443,8,443,9],[443,10,443,11],[443,12,443,13],[443,14,443,15],[443,16,443,17],[470,2,470,3],[471,2,471,3],[471,4,471,5],[471,6,471,7],[471,8,471,9],[471,10,471,11],[471,12,471,13],[471,14,471,15],[471,16,471,17],[496,2,496,3],[497,2,497,3],[497,4,497,5],[497,6,497,7],[497,8,497,9],[497,10,497,11],[497,12,497,13],[497,14,497,15],[497,16,497,17],[520,2,520,3],[521,2,521,3],[521,4,521,5],[521,6,521,7],[521,8,521,9],[521,10,521,11],[521,12,521,13],[521,14,521,15],[521,16,521,17],[542,2,542,3],[543,2,543,3],[543,4,543,5],[543,6,543,7],[543,8,543,9],[543,10,543,11],[543,12,543,13],[543,14,543,15],[543,16,543,17],[562,2,562,3],[563,2,563,3],[563,4,563,5],[563,6,563,7],[563,8,563,9],[563,10,563,11],[563,12,563,13],[563,14,563,15],[563,16,563,17]]}
[]
[null,"n","46 STARTERS"]
[null,null,"Round 1",null,"round 2",null,"round 3",null,"round 4",null,"round 5",null,"round 6",null,"round 7",null,"round 8"]
[null,null,"Vs","Rink","Vs","Rink","Vs","Rink","Vs","Rink","Vs","Rink","Vs","Rink","Vs","Rink","Vs","Rink"]
[null,1,29,22,31,2,43,9,30,15,3,4,12,16,32,14,21,26]
[null,2,11,15,41,24,39,11,15,2,8,23,16,1,13,12,26,21]
[null,3,17,12,27,15,11,5,42,28,1,4,26,10,43,20,16,23]
[null,4,32,6,26,28,19,15,25,12,42,19,10,27,11,8,46,2]
[null,5,13,3,39,21,8,24,26,14,25,16,23,7,12,25,22,13]
[null,6,42,14,23,5,34,23,31,18,39,15,22,24,9,4,14,8]
[null,7,19,23,20,14,29,3,36,16,13,28,44,6,37,9,31,17]
[null,8,34,20,33,7,5,24,13,10,2,23,38,8,45,15,35,3]
[null,9,12,13,24,17,21,28,19,1,44,27,18,18,6,4,10,9]
[null,10,45,4,13,20,15,14,16,25,11,21,4,27,27,2,9,9]
[null,11,2,15,16,9,3,5,14,24,10,21,32,23,4,8,45,6]
[null,12,9,13,17,18,13,22,39,3,37,7,1,16,5,25,18,12]
[null,13,5,3,10,20,12,22,8,10,7,28,24,4,2,12,37,15]
[null,14,46,11,34,1,20,17,11,24,29,25,28,15,18,3,6,8]
[null,15,26,17,46,26,10,14,2,2,36,9,17,21,25,6,34,24]
[null,16,41,21,11,9,22,4,10,25,28,13,2,1,33,17,3,23]
[null,17,3,12,12,18,46,7,23,23,40,3,15,21,26,24,39,14]
[null,18,38,2,19,10,25,21,45,27,23,22,9,18,14,3,12,12]
[null,19,7,23,18,10,4,15,9,1,26,6,43,11,24,28,32,16]
[null,20,27,5,7,14,14,17,24,22,46,10,34,3,44,21,38,25]
[null,21,24,10,45,16,9,28,44,7,22,17,42,9,41,1,1,26]
[null,22,44,16,38,22,16,4,34,8,21,17,6,24,39,5,5,13]
[null,23,37,8,6,5,42,16,17,23,18,22,5,7,35,18,44,11]
[null,24,21,10,9,17,35,1,20,22,34,11,13,4,19,28,30,18]
[null,25,36,1,43,27,18,21,4,12,5,16,35,28,15,6,41,10]
[null,26,15,17,4,28,41,2,5,14,19,6,3,10,17,24,2,21]
[null,27,20,5,3,15,33,25,35,9,45,14,46,17,10,2,43,22]
[null,28,31,28,29,12,30,6,40,17,16,13,14,15,42,23,36,7]
[null,29,1,22,28,12,7,3,32,20,14,25,40,14,36,19,42,1]
[null,30,39,27,32,8,28,6,1,15,43,2,33,12,46,22,24,18]
[null,31,28,28,1,2,36,10,6,18,35,8,45,26,38,7,7,17]
[null,32,4,6,30,8,37,27,29,20,33,1,11,23,1,14,19,16]
[null,33,35,19,8,7,27,25,41,11,32,1,30,12,16,17,40,28]
[null,34,8,20,14,1,6,23,22,8,24,11,20,3,40,16,15,24]
[null,35,33,19,44,23,24,1,27,9,31,8,25,28,23,18,8,3]
[null,36,25,1,40,25,31,10,7,16,15,9,41,22,29,19,28,7]
[null,37,23,8,42,3,32,27,38,19,12,7,39,25,7,9,13,15]
[null,38,18,2,22,22,40,13,37,19,41,20,8,8,31,7,20,25]
[null,39,30,27,5,21,2,11,12,3,6,15,37,25,22,5,17,14]
[null,40,43,7,36,25,38,13,28,17,17,3,29,14,34,16,33,28]
[null,41,16,21,2,24,26,2,33,11,38,20,36,22,21,1,25,10]
[null,42,6,14,37,3,23,16,3,28,4,19,21,9,28,23,29,1]
[null,43,40,7,25,27,1,9,46,21,30,2,19,11,3,20,27,22]
[null,44,22,16,35,23,45,8,21,7,9,27,7,6,20,21,23,11]
[null,45,10,4,21,16,44,8,18,27,27,14,31,26,8,15,11,6]
[null,46,14,11,15,26,17,7,43,21,20,10,27,17,30,22,4,2]
[]
[null,null,"44 STARTERS"]
[null,null,"Round 1",null,"round 2",null,"round 3",null,"round 4",null,"round 5",null,"round 6",null,"round 7",null,"round 8"]
[null,null,"Vs","Rink","Vs","Rink","Vs","Rink","Vs","Rink","Vs","Rink","Vs","Rink","Vs","Rink","Vs","Rink"]
[null,1,10,16,9,14,16,23,32,3,33,15,23,24,11,10,6,7]
[null,2,31,22,34,9,4,1,8,20,19,3,29,8,37,19,36,25]
[null,3,18,10,6,15,26,26,7,4,13,8,10,7,19,23,24,16]
[null,4,11,14,8,24,2,1,44,18,9,11,19,15,20,2,29,26]
[null,5,36,2,42,8,18,16,12,28,8,25,14,3,28,14,20,18]
[null,6,14,27,3,15,10,5,13,9,31,10,44,21,9,26,1,7]
[null,7,23,9,19,16,15,22,3,4,16,20,31,1,32,24,22,8]
[null,8,16,8,4,24,27,7,2,20,5,25,12,11,25,15,13,3]
[null,9,30,25,1,14,31,2,35,15,4,11,32,17,6,26,38,1]
[null,10,1,16,44,22,6,5,36,14,17,9,3,7,29,17,27,24]
[null,11,4,14,16,17,42,24,19,7,38,27,22,18,1,10,32,2]
[null,12,26,3,15,12,33,21,5,28,28,23,8,11,16,6,34,15]
[null,13,33,26,30,1,38,19,6,9,3,8,43,23,17,16,8,3]
[null,14,6,27,26,21,28,12,16,5,20,22,5,3,38,9,15,17]
[null,15,44,6,12,12,7,22,43,16,25,4,16,28,34,13,14,17]
[null,16,8,8,11,17,1,23,14,5,7,20,15,28,12,6,19,9]
[null,17,25,19,41,6,35,14,37,22,10,9,18,26,13,16,28,5]
[null,18,3,10,24,7,5,16,20,23,34,1,17,26,21,21,25,12]
[null,19,22,13,7,16,25,28,11,7,2,3,4,15,3,23,16,9]
[null,20,39,1,21,20,29,13,18,23,14,22,37,14,4,2,5,18]
[null,21,38,7,20,20,37,11,41,24,44,2,25,22,18,21,42,10]
[null,22,19,13,35,4,32,15,29,25,41,28,11,18,40,3,7,8]
[null,23,7,9,36,28,34,3,31,17,40,21,1,24,30,11,41,4]
[null,24,43,24,18,7,44,10,39,21,35,5,34,27,36,8,3,16]
[null,25,17,19,43,3,19,28,27,11,15,4,21,22,8,15,18,12]
[null,26,12,3,14,21,3,26,38,8,36,18,33,13,39,7,31,23]
[null,27,37,21,28,25,8,7,25,11,42,19,40,12,43,1,10,24]
[null,28,29,15,27,25,14,12,42,1,12,23,38,20,5,14,17,5]
[null,29,28,15,37,2,20,13,22,25,30,7,2,8,10,17,4,26]
[null,30,9,25,13,1,39,9,34,19,29,7,35,16,23,11,40,22]
[null,31,2,22,40,13,9,2,23,17,6,10,7,1,41,18,26,23]
[null,32,35,23,33,10,22,15,1,3,43,14,9,17,7,24,11,2]
[null,33,13,26,32,10,12,21,40,2,1,15,26,13,44,28,37,6]
[null,34,40,28,2,9,23,3,30,19,18,1,24,27,15,13,12,15]
[null,35,32,23,22,4,17,14,9,15,24,5,30,16,42,22,44,11]
[null,36,5,2,23,28,40,17,10,14,26,18,42,4,24,8,2,25]
[null,37,27,21,29,2,21,11,17,22,39,26,20,14,2,19,33,6]
[null,38,21,7,39,23,13,19,26,8,11,27,28,20,14,9,9,1]
[null,39,20,1,38,23,30,9,24,21,37,26,41,10,26,7,43,20]
[null,40,34,28,31,13,36,17,33,2,23,21,27,12,22,3,30,22]
[null,41,42,17,17,6,43,8,21,24,22,28,39,10,31,18,23,4]
[null,42,41,17,5,8,11,24,28,1,27,19,36,4,35,22,21,10]
[null,43,24,24,25,3,41,8,15,16,32,14,13,23,27,1,39,20]
[null,44,15,6,10,22,24,10,4,18,21,2,6,21,33,28,35,11]
[]
[null,null,"42 STARTERS"]
[null,null,"Round 1",null,"round 2",null,"round 3",null,"round 4",null,"round 5",null,"round 6",null,"round 7",null,"round 8"]
[null,null,"Vs","Rink","Vs","Rink","Vs","Rink","Vs","Rink","Vs","Rink","Vs","Rink","Vs","Rink","Vs","Rink"]
[null,1,2,1,3,13,5,19,7,2,14,14,12,17,13,5,8,8]
[null,2,1,1,4,12,8,16,12,5,13,8,14,18,9,2,5,9]
[null,3,14,2,1,13,7,15,11,4,12,10,13,16,10,1,4,11]
[null,4,13,3,2,12,6,18,10,7,11,9,8,20,12,7,3,11]
[null,5,12,4,14,8,1,19,9,3,10,12,11,15,8,6,2,9]
[null,6,11,5,13,14,4,18,8,1,9,13,10,19,7,4,14,14]
[null,7,10,6,12,9,3,15,1,2,8,11,9,21,6,4,13,10]
[null,8,9,7,11,10,2,16,6,1,7,11,4,20,5,6,1,8]
[null,9,8,7,10,11,14,17,5,3,6,13,7,21,2,2,11,12]
[null,10,7,6,9,11,13,20,4,7,5,12,6,19,3,1,12,13]
[null,11,6,5,8,10,12,21,3,4,4,9,5,15,14,3,9,12]
[null,12,5,4,7,9,11,21,2,5,3,10,1,17,4,7,10,13]
[null,13,4,3,6,14,10,20,14,6,2,8,3,16,1,5,7,10]
[null,14,3,2,5,8,9,17,13,6,1,14,2,18,11,3,6,14]
[null,15,16,8,17,20,19,5,21,9,28,21,26,3,27,12,22,15]
[null,16,15,8,18,19,22,2,26,12,27,15,28,4,23,9,19,16]
[null,17,28,9,15,20,21,1,25,11,26,17,27,2,24,8,18,18]
[null,18,27,10,16,19,20,4,24,14,25,16,22,6,26,14,17,18]
[null,19,26,11,28,15,15,5,23,10,24,19,25,1,22,13,16,16]
[null,20,25,12,27,21,18,4,22,8,23,20,24,5,21,11,28,21]
[null,21,24,13,26,16,17,1,15,9,22,18,23,7,20,11,27,17]
[null,22,23,14,25,17,16,2,20,8,21,18,18,6,19,13,15,15]
[null,23,22,14,24,18,28,3,19,10,20,20,21,7,16,9,25,19]
[null,24,21,13,23,18,27,6,18,14,19,19,20,5,17,8,26,20]
[null,25,20,12,22,17,26,7,17,11,18,16,19,1,28,10,23,19]
[null,26,19,11,21,16,25,7,16,12,17,17,15,3,18,14,24,20]
[null,27,18,10,20,21,24,6,28,13,16,15,17,2,15,12,21,17]
[null,28,17,9,19,15,23,3,27,13,15,21,16,4,25,10,20,21]
[null,29,30,15,31,6,33,12,35,16,42,7,40,10,41,19,36,1]
[null,30,29,15,32,5,36,9,40,19,41,1,42,11,37,16,33,2]
[null,31,42,16,29,6,35,8,39,18,40,3,41,9,38,15,32,4]
[null,32,41,17,30,5,34,11,38,21,39,2,36,13,40,21,31,4]
[null,33,40,18,42,1,29,12,37,17,38,5,39,8,36,20,30,2]
[null,34,39,19,41,7,32,11,36,15,37,6,38,12,35,18,42,7]
[null,35,38,20,40,2,31,8,29,16,36,4,37,14,34,18,41,3]
[null,36,37,21,39,3,30,9,34,15,35,4,32,13,33,20,29,1]
[null,37,36,21,38,4,42,10,33,17,34,6,35,14,30,16,39,5]
[null,38,35,20,37,4,41,13,32,21,33,5,34,12,31,15,40,6]
[null,39,34,19,36,3,40,14,31,18,32,2,33,8,42,17,37,5]
[null,40,33,18,35,2,39,14,30,19,31,3,29,10,32,21,38,6]
[null,41,32,17,34,7,38,13,42,20,30,1,31,9,29,19,35,3]
[null,42,31,16,33,1,37,10,41,20,29,7,30,11,39,17,34,7]
[]
[null,null,"40 STARTERS"]
[null,null,"Round 1",null,"round 2",null,"round 3",null,"round 4",null,"round 5",null,"round 6",null,"round 7",null,"round 8"]
[null,null,"Vs","Rink","Vs","Rink","Vs","Rink","Vs","Rink","Vs","Rink","Vs","Rink","Vs","Rink","Vs","Rink"]
[null,1,2,1,3,13,5,19,7,2,14,14,12,17,13,5,8,8]
[null,2,1,1,4,12,8,16,12,5,13,8,14,18,9,2,5,9]
[null,3,14,2,1,13,7,15,11,4,12,10,13,16,10,1,4,11]
[null,4,13,3,2,12,6,18,10,7,11,9,8,20,12,7,3,11]
[null,5,12,4,14,8,1,19,9,3,10,12,11,15,8,6,2,9]
[null,6,11,5,13,14,4,18,8,1,9,13,10,19,7,4,14,14]
[null,7,10,6,12,9,3,15,1,2,8,11,9,21,6,4,13,10]
[null,8,9,7,11,10,2,16,6,1,7,11,4,20,5,6,1,8]
[null,9,8,7,10,11,14,17,5,3,6,13,7,21,2,2,11,12]
[null,10,7,6,9,11,13,20,4,7,5,12,6,19,3,1,12,13]
[null,11,6,5,8,10,12,21,3,4,4,9,5,15,14,3,9,12]
[null,12,5,4,7,9,11,21,2,5,3,10,1,17,4,7,10,13]
[null,13,4,3,6,14,10,20,14,6,2,8,3,16,1,5,7,10]
[null,14,3,2,5,8,9,17,13,6,1,14,2,18,11,3,6,14]
[null,15,16,8,17,20,19,5,21,9,28,21,26,3,27,12,22,15]
[null,16,15,8,18,19,22,2,26,12,27,15,28,4,23,9,19,16]
[null,17,28,9,15,20,21,1,25,11,26,17,27,2,24,8,18,18]
[null,18,27,10,16,19,20,4,24,14,25,16,22,6,26,14,17,18]
[null,19,26,11,28,15,15,5,23,10,24,19,25,1,22,13,16,16]
[null,20,25,12,27,21,18,4,22,8,23,20,24,5,21,11,28,21]
[null,21,24,13,26,16,17,1,15,9,22,18,23,7,20,11,27,17]
[null,22,23,14,25,17,16,2,20,8,21,18,18,6,19,13,15,15]
[null,23,22,14,24,18,28,3,19,10,20,20,21,7,16,9,25,19]
[null,24,21,13,23,18,27,6,18,14,19,19,20,5,17,8,26,20]
[null,25,20,12,22,17,26,7,17,11,18,16,19,1,28,10,23,19]
[null,26,19,11,21,16,25,7,16,12,17,17,15,3,18,14,24,20]
[null,27,18,10,20,21,24,6,28,13,16,15,17,2,15,12,21,17]
[null,28,17,9,19,15,23,3,27,13,15,21,16,4,25,10,20,21]
[null,29,30,15,31,6,32,11,33,16,35,5,34,8,39,18,36,3]
[null,30,29,15,32,5,34,9,36,17,40,3,38,10,37,21,31,4]
[null,31,40,16,29,6,33,10,35,15,39,2,37,9,36,19,30,4]
[null,32,39,17,30,5,29,11,34,18,38,1,36,12,35,16,40,2]
[null,33,38,18,40,1,31,10,29,16,37,4,35,13,34,20,39,7]
[null,34,37,19,39,4,30,9,32,18,36,6,29,8,33,20,38,5]
[null,35,36,20,38,3,40,12,31,15,29,5,33,13,32,16,37,6]
[null,36,35,20,37,2,39,8,30,17,34,6,32,12,31,19,29,3]
[null,37,34,19,36,2,38,13,40,20,33,4,31,9,30,21,35,6]
[null,38,33,18,35,3,37,13,39,19,32,1,30,10,40,17,34,5]
[null,39,32,17,34,4,36,8,38,19,31,2,40,11,29,18,33,7]
[null,40,31,16,33,1,35,12,37,20,30,3,39,11,38,17,32,2]
[]
[null,null,"38 STARTERS"]
[null,null,"Round 1",null,"round 2",null,"round 3",null,"round 4",null,"round 5",null,"round 6",null,"round 7",null,"round 8"]
[null,null,"Vs","Rink","Vs","Rink","Vs","Rink","Vs","Rink","Vs","Rink","Vs","Rink","Vs","Rink","Vs","Rink"]
[null,1,2,1,3,13,5,19,7,2,14,14,12,17,13,5,8,8]
[null,2,1,1,4,12,8,16,12,5,13,8,14,18,9,2,5,9]
[null,3,14,2,1,13,7,15,11,4,12,10,13,16,10,1,4,11]
[null,4,13,3,2,12,6,18,10,7,11,9,8,20,12,7,3,11]
[null,5,12,4,14,8,1,19,9,3,10,12,11,15,8,6,2,9]
[null,6,11,5,13,14,4,18,8,1,9,13,10,19,7,4,14,14]
[null,7,10,6,12,9,3,15,1,2,8,11,9,21,6,4,13,10]
[null,8,9,7,11,10,2,16,6,1,7,11,4,20,5,6,1,8]
[null,9,8,7,10,11,14,17,5,3,6,13,7,21,2,2,11,12]
[null,10,7,6,9,11,13,20,4,7,5,12,6,19,3,1,12,13]
[null,11,6,5,8,10,12,21,3,4,4,9,5,15,14,3,9,12]
[null,12,5,4,7,9,11,21,2,5,3,10,1,17,4,7,10,13]
[null,13,4,3,6,14,10,20,14,6,2,8,3,16,1,5,7,10]
[null,14,3,2,5,8,9,17,13,6,1,14,2,18,11,3,6,14]
[null,15,16,8,17,20,18,4,19,9,21,19,20,1,25,11,22,17]
[null,16,15,8,18,19,20,2,22,10,26,17,24,3,23,14,17,18]
[null,17,26,9,15,20,19,3,21,8,25,16,23,2,22,12,16,18]
[null,18,25,10,16,19,15,4,20,11,24,15,22,5,21,9,26,16]
[null,19,24,11,26,15,17,3,15,9,23,18,21,6,20,13,25,21]
[null,20,23,12,25,18,16,2,18,11,22,20,15,1,19,13,24,19]
[null,21,22,13,24,17,26,5,17,8,15,19,19,6,18,9,23,20]
[null,22,21,13,23,16,25,1,16,10,20,20,18,5,17,12,15,17]
[null,23,20,12,22,16,24,6,26,13,19,18,17,2,16,14,21,20]
[null,24,19,11,21,17,23,6,25,12,18,15,16,3,26,10,20,19]
[null,25,18,10,20,18,22,1,24,12,17,16,26,4,15,11,19,21]
[null,26,17,9,19,15,21,5,23,13,16,17,25,4,24,10,18,16]
[null,27,28,15,29,6,30,11,31,16,33,5,32,8,37,18,34,3]
[null,28,27,15,30,5,32,9,34,17,38,3,36,10,35,21,29,4]
[null,29,38,16,27,6,31,10,33,15,37,2,35,9,34,19,28,4]
[null,30,37,17,28,5,27,11,32,18,36,1,34,12,33,16,38,2]
[null,31,36,18,38,1,29,10,27,16,35,4,33,13,32,20,37,7]
[null,32,35,19,37,4,28,9,30,18,34,6,27,8,31,20,36,5]
[null,33,34,20,36,3,38,12,29,15,27,5,31,13,30,16,35,6]
[null,34,33,20,35,2,37,8,28,17,32,6,30,12,29,19,27,3]
[null,35,32,19,34,2,36,13,38,20,31,4,29,9,28,21,33,6]
[null,36,31,18,33,3,35,13,37,19,30,1,28,10,38,17,32,5]
[null,37,30,17,32,4,34,8,36,19,29,2,38,11,27,18,31,7]
[null,38,29,16,31,1,33,12,35,20,28,3,37,11,36,17,30,2]
[]
[null,null,"36 STARTERS"]
[null,null,"Round 1",null,"round 2",null,"round 3",null,"round 4",null,"round 5",null,"round 6",null,"round 7",null,"round 8"]
[null,null,"Vs","Rink","Vs","Rink","Vs","Rink","Vs","Rink","Vs","Rink","Vs","Rink","Vs","Rink","Vs","Rink"]
[null,1,2,1,3,13,4,18,5,2,7,12,6,15,11,4,8,10]
[null,2,1,1,4,12,6,16,8,3,12,10,10,17,9,7,3,11]
[null,3,12,2,1,13,5,17,7,1,11,9,9,16,8,5,2,11]
[null,4,11,3,2,12,1,18,6,4,10,8,8,19,7,2,12,9]
[null,5,10,4,12,8,3,17,1,2,9,11,7,20,6,6,11,14]
[null,6,9,5,11,11,2,16,4,4,8,13,1,15,5,6,10,12]
[null,7,8,6,10,10,12,19,3,1,1,12,5,20,4,2,9,13]
[null,8,7,6,9,9,11,15,2,3,6,13,4,19,3,5,1,10]
[null,9,6,5,8,9,10,20,12,6,5,11,3,16,2,7,7,13]
[null,10,5,4,7,10,9,20,11,5,4,8,2,17,12,3,6,12]
[null,11,4,3,6,11,8,15,10,5,3,9,12,18,1,4,5,14]
[null,12,3,2,5,8,7,19,9,6,2,10,11,18,10,3,4,9]
[null,13,14,8,15,20,16,4,17,9,19,19,18,1,23,11,20,17]
[null,14,13,8,16,19,18,2,20,10,24,17,22,3,21,14,15,18]
[null,15,24,9,13,20,17,3,19,8,23,16,21,2,20,12,14,18]
[null,16,23,10,14,19,13,4,18,11,22,15,20,5,19,9,24,16]
[null,17,22,11,24,15,15,3,13,9,21,18,19,6,18,13,23,21]
[null,18,21,12,23,18,14,2,16,11,20,20,13,1,17,13,22,19]
[null,19,20,13,22,17,24,5,15,8,13,19,17,6,16,9,21,20]
[null,20,19,13,21,16,23,1,14,10,18,20,16,5,15,12,13,17]
[null,21,18,12,20,16,22,6,24,13,17,18,15,2,14,14,19,20]
[null,22,17,11,19,17,21,6,23,12,16,15,14,3,24,10,18,19]
[null,23,16,10,18,18,20,1,22,12,15,16,24,4,13,11,17,21]
[null,24,15,9,17,15,19,5,21,13,14,17,23,4,22,10,16,16]
[null,25,26,15,27,6,28,11,29,16,31,5,30,8,35,18,32,3]
[null,26,25,15,28,5,30,9,32,17,36,3,34,10,33,21,27,4]
[null,27,36,16,25,6,29,10,31,15,35,2,33,9,32,19,26,4]
[null,28,35,17,26,5,25,11,30,18,34,1,32,12,31,16,36,2]
[null,29,34,18,36,1,27,10,25,16,33,4,31,13,30,20,35,7]
[null,30,33,19,35,4,26,9,28,18,32,6,25,8,29,20,34,5]
[null,31,32,20,34,3,36,12,27,15,25,5,29,13,28,16,33,6]
[null,32,31,20,33,2,35,8,26,17,30,6,28,12,27,19,25,3]
[null,33,30,19,32,2,34,13,36,20,29,4,27,9,26,21,31,6]
[null,34,29,18,31,3,33,13,35,19,28,1,26,10,36,17,30,5]
[null,35,28,17,30,4,32,8,34,19,27,2,36,11,25,18,29,7]
[null,36,27,16,29,1,31,12,33,20,26,3,35,11,34,17,28,2]
[]
[null,null,"34 STARTERS"]
[null,null,"Round 1",null,"round 2",null,"round 3",null,"round 4",null,"round 5",null,"round 6",null,"round 7",null,"round 8"]
[null,null,"Vs","Rink","Vs","Rink","Vs","Rink","Vs","Rink","Vs","Rink","Vs","Rink","Vs","Rink","Vs","Rink"]
[null,1,2,1,3,13,4,18,5,2,7,12,6,15,11,4,8,10]
[null,2,1,1,4,12,6,16,8,3,12,10,10,17,9,7,3,11]
[null,3,12,2,1,13,5,17,7,1,11,9,9,16,8,5,2,11]
[null,4,11,3,2,12,1,18,6,4,10,8,8,19,7,2,12,9]
[null,5,10,4,12,8,3,17,1,2,9,11,7,20,6,6,11,14]
[null,6,9,5,11,11,2,16,4,4,8,13,1,15,5,6,10,12]
[null,7,8,6,10,10,12,19,3,1,1,12,5,20,4,2,9,13]
[null,8,7,6,9,9,11,15,2,3,6,13,4,19,3,5,1,10]
[null,9,6,5,8,9,10,20,12,6,5,11,3,16,2,7,7,13]
[null,10,5,4,7,10,9,20,11,5,4,8,2,17,12,3,6,12]
[null,11,4,3,6,11,8,15,10,5,3,9,12,18,1,4,5,14]
[null,12,3,2,5,8,7,19,9,6,2,10,11,18,10,3,4,9]
[null,13,14,8,15,20,16,4,17,9,19,19,18,1,23,11,20,17]
[null,14,13,8,16,19,18,2,20,10,24,17,22,3,21,14,15,18]
[null,15,24,9,13,20,17,3,19,8,23,16,21,2,20,12,14,18]
[null,16,23,10,14,19,13,4,18,11,22,15,20,5,19,9,24,16]
[null,17,22,11,24,15,15,3,13,9,21,18,19,6,18,13,23,21]
[null,18,21,12,23,18,14,2,16,11,20,20,13,1,17,13,22,19]
[null,19,20,13,22,17,24,5,15,8,13,19,17,6,16,9,21,20]
[null,20,19,13,21,16,23,1,14,10,18,20,16,5,15,12,13,17]
[null,21,18,12,20,16,22,6,24,13,17,18,15,2,14,14,19,20]
[null,22,17,11,19,17,21,6,23,12,16,15,14,3,24,10,18,19]
[null,23,16,10,18,18,20,1,22,12,15,16,24,4,13,11,17,21]
[null,24,15,9,17,15,19,5,21,13,14,17,23,4,22,10,16,16]
[null,25,26,16,27,6,28,11,29,17,30,2,31,9,32,18,33,4]
[null,26,25,16,28,5,30,9,32,20,34,6,27,13,29,19,31,5]
[null,27,34,17,25,6,29,12,31,18,33,5,26,13,28,20,30,6]
[null,28,33,18,26,5,25,11,30,16,32,4,34,12,27,20,29,2]
[null,29,32,19,34,4,27,12,25,17,31,3,33,11,26,19,28,2]
[null,30,31,20,33,3,26,9,28,16,25,2,32,10,34,17,27,6]
[null,31,30,20,32,2,34,10,27,18,29,3,25,9,33,16,26,5]
[null,32,29,19,31,2,33,13,26,20,28,4,30,10,25,18,34,3]
[null,33,28,18,30,3,32,13,34,19,27,5,29,11,31,16,25,4]
[null,34,27,17,29,4,31,10,33,19,26,6,28,12,30,17,32,3]
[]
[]
[null,null,"32 STARTERS"]
[null,null,"Round 1",null,"round 2",null,"round 3",null,"round 4",null,"round 5",null,"round 6",null,"round 7",null,"round 8"]
[null,null,"Vs","Rink","Vs","Rink","Vs","Rink","Vs","Rink","Vs","Rink","Vs","Rink","Vs","Rink","Vs","Rink"]
[null,1,2,1,3,13,4,18,5,2,7,12,6,15,11,4,8,10]
[null,2,1,1,4,12,6,16,8,3,12,10,10,17,9,7,3,11]
[null,3,12,2,1,13,5,17,7,1,11,9,9,16,8,5,2,11]
[null,4,11,3,2,12,1,18,6,4,10,8,8,19,7,2,12,9]
[null,5,10,4,12,8,3,17,1,2,9,11,7,20,6,6,11,14]
[null,6,9,5,11,11,2,16,4,4,8,13,1,15,5,6,10,12]
[null,7,8,6,10,10,12,19,3,1,1,12,5,20,4,2,9,13]
[null,8,7,6,9,9,11,15,2,3,6,13,4,19,3,5,1,10]
[null,9,6,5,8,9,10,20,12,6,5,11,3,16,2,7,7,13]
[null,10,5,4,7,10,9,20,11,5,4,8,2,17,12,3,6,12]
[null,11,4,3,6,11,8,15,10,5,3,9,12,18,1,4,5,14]
[null,12,3,2,5,8,7,19,9,6,2,10,11,18,10,3,4,9]
[null,13,14,9,15,20,16,4,17,10,18,16,19,2,20,11,21,18]
[null,14,13,9,16,19,18,2,20,13,22,20,15,6,17,12,19,19]
[null,15,22,10,13,20,17,5,19,11,21,19,14,6,16,13,18,20]
[null,16,21,11,14,19,13,4,18,9,20,18,22,5,15,13,17,16]
[null,17,20,12,22,18,15,5,13,10,19,17,21,4,14,12,16,16]
[null,18,19,13,21,17,14,2,16,9,13,16,20,3,22,10,15,20]
[null,19,18,13,20,16,22,3,15,11,17,17,13,2,21,9,14,19]
[null,20,17,12,19,16,21,6,14,13,16,18,18,3,13,11,22,17]
[null,21,16,11,18,17,20,6,22,12,15,19,17,4,19,9,13,18]
[null,22,15,10,17,18,19,3,21,12,14,20,16,5,18,10,20,17]
[null,23,24,16,25,6,26,11,27,17,28,2,29,9,30,18,31,4]
[null,24,23,16,26,5,28,9,30,20,32,6,25,13,27,19,29,5]
[null,25,32,17,23,6,27,12,29,18,31,5,24,13,26,20,28,6]
[null,26,31,18,24,5,23,11,28,16,30,4,32,12,25,20,27,2]
[null,27,30,19,32,4,25,12,23,17,29,3,31,11,24,19,26,2]
[null,28,29,20,31,3,24,9,26,16,23,2,30,10,32,17,25,6]
[null,29,28,20,30,2,32,10,25,18,27,3,23,9,31,16,24,5]
[null,30,27,19,29,2,31,13,24,20,26,4,28,10,23,18,32,3]
[null,31,26,18,28,3,30,13,32,19,25,5,27,11,29,16,23,4]
[null,32,25,17,27,4,29,10,31,19,24,6,26,12,28,17,30,3]
[]
[null,null,"30 STARTERS"]
[null,null,"Round 1",null,"round 2",null,"round 3",null,"round 4",null,"round 5",null,"round 6",null,"round 7",null,"round 8"]
[null,null,"Vs","Rink","Vs","Rink","Vs","Rink","Vs","Rink","Vs","Rink","Vs","Rink","Vs","Rink","Vs","Rink"]
[null,1,2,2,3,13,4,18,5,3,6,9,7,16,8,4,9,11]
[null,2,1,2,4,12,6,16,8,6,10,13,3,20,5,5,7,12]
[null,3,10,3,1,13,5,19,7,4,9,12,2,20,4,6,6,13]
[null,4,9,4,2,12,1,18,6,2,8,11,10,19,3,6,5,9]
[null,5,8,5,10,11,3,19,1,3,7,10,9,18,2,5,4,9]
[null,6,7,6,9,10,2,16,4,2,1,9,8,17,10,3,3,13]
[null,7,6,6,8,9,10,17,3,4,5,10,1,16,9,2,2,12]
[null,8,5,5,7,9,9,20,2,6,4,11,6,17,1,4,10,10]
[null,9,4,4,6,10,8,20,10,5,3,12,5,18,7,2,1,11]
[null,10,3,3,5,11,7,17,9,5,2,13,4,19,6,3,8,10]
[null,11,12,9,13,20,14,4,15,10,16,16,17,2,18,11,19,18]
[null,12,11,9,14,19,16,2,18,13,20,20,13,6,15,12,17,19]
[null,13,20,10,11,20,15,5,17,11,19,19,12,6,14,13,16,20]
[null,14,19,11,12,19,11,4,16,9,18,18,20,5,13,13,15,16]
[null,15,18,12,20,18,13,5,11,10,17,17,19,4,12,12,14,16]
[null,16,17,13,19,17,12,2,14,9,11,16,18,3,20,10,13,20]
[null,17,16,13,18,16,20,3,13,11,15,17,11,2,19,9,12,19]
[null,18,15,12,17,16,19,6,12,13,14,18,16,3,11,11,20,17]
[null,19,14,11,16,17,18,6,20,12,13,19,15,4,17,9,11,18]
[null,20,13,10,15,18,17,3,19,12,12,20,14,5,16,10,18,17]
[null,21,22,16,23,6,24,11,25,17,26,2,27,9,28,18,29,4]
[null,22,21,16,24,5,26,9,28,20,30,6,23,13,25,19,27,5]
[null,23,30,17,21,6,25,12,27,18,29,5,22,13,24,20,26,6]
[null,24,29,18,22,5,21,11,26,16,28,4,30,12,23,20,25,2]
[null,25,28,19,30,4,23,12,21,17,27,3,29,11,22,19,24,2]
[null,26,27,20,29,3,22,9,24,16,21,2,28,10,30,17,23,6]
[null,27,26,20,28,2,30,10,23,18,25,3,21,9,29,16,22,5]
[null,28,25,19,27,2,29,13,22,20,24,4,26,10,21,18,30,3]
[null,29,24,18,26,3,28,13,30,19,23,5,25,11,27,16,21,4]
[null,30,23,17,25,4,27,10,29,19,22,6,24,12,26,17,28,3]
[]
[null,null,"28 STARTERS"]
[null,null,"Round 1",null,"round 2",null,"round 3",null,"round 4",null,"round 5",null,"round 6",null,"round 7",null,"round 8"]
[null,null,"Vs","Rink","Vs","Rink","Vs","Rink","Vs","Rink","Vs","Rink","Vs","Rink","Vs","Rink","Vs","Rink"]
[null,1,2,1,3,13,5,6,6,8,11,3,7,9,14,5,8,12]
[null,2,1,1,4,12,8,3,10,10,7,5,12,13,13,1,14,9]
[null,3,14,2,1,13,7,1,9,11,6,4,11,12,12,3,13,14]
[null,4,13,3,2,12,6,2,8,9,5,7,10,8,11,4,12,10]
[null,5,12,4,14,8,1,6,7,13,4,7,9,14,10,2,11,11]
[null,6,11,5,13,14,4,2,1,8,3,4,8,11,9,6,10,13]
[null,7,10,6,12,11,3,1,5,13,2,5,1,9,8,7,9,8]
[null,8,9,7,11,10,2,3,4,9,14,6,6,11,7,7,1,12]
[null,9,8,7,10,9,14,4,3,11,13,2,5,14,6,6,7,8]
[null,10,7,6,9,9,13,5,2,10,12,1,4,8,5,2,6,13]
[null,11,6,5,8,10,12,7,14,14,1,3,3,12,4,4,5,11]
[null,12,5,4,7,11,11,7,13,12,10,1,2,13,3,3,4,10]
[null,13,4,3,6,14,10,5,12,12,9,2,14,10,2,1,3,14]
[null,14,3,2,5,8,9,4,11,14,8,6,13,10,1,5,2,9]
[null,15,16,8,17,6,19,13,20,1,25,10,21,2,28,12,22,5]
[null,16,15,8,18,5,22,10,24,3,21,12,26,6,27,8,28,2]
[null,17,28,9,15,6,21,8,23,4,20,11,25,5,26,10,27,7]
[null,18,27,10,16,5,20,9,22,2,19,14,24,1,25,11,26,3]
[null,19,26,11,28,1,15,13,21,6,18,14,23,7,24,9,25,4]
[null,20,25,12,27,7,18,9,15,1,17,11,22,4,23,13,24,6]
[null,21,24,13,26,4,17,8,19,6,16,12,15,2,22,14,23,1]
[null,22,23,14,25,3,16,10,18,2,28,13,20,4,21,14,15,5]
[null,23,22,14,24,2,28,11,17,4,27,9,19,7,20,13,21,1]
[null,24,21,13,23,2,27,12,16,3,26,8,18,1,19,9,20,6]
[null,25,20,12,22,3,26,14,28,7,15,10,17,5,18,11,19,4]
[null,26,19,11,21,4,25,14,27,5,24,8,16,6,17,10,18,3]
[null,27,18,10,20,7,24,12,26,5,23,9,28,3,16,8,17,7]
[null,28,17,9,19,1,23,11,25,7,22,13,27,3,15,12,16,2]
[]
[null,null,"26  STARTERS"]
[null,null,"Round 1",null,"round 2",null,"round 3",null,"round 4",null,"round 5",null,"round 6",null,"round 7",null,"round 8"]
[null,null,"Vs","Rink","Vs","Rink","Vs","Rink","Vs","Rink","Vs","Rink","Vs","Rink","Vs","Rink","Vs","Rink"]
[null,1,2,1,3,13,5,6,6,8,11,3,7,9,14,5,8,12]
[null,2,1,1,4,12,8,3,10,10,7,5,12,13,13,1,14,9]
[null,3,14,2,1,13,7,1,9,11,6,4,11,12,12,3,13,14]
[null,4,13,3,2,12,6,2,8,9,5,7,10,8,11,4,12,10]
[null,5,12,4,14,8,1,6,7,13,4,7,9,14,10,2,11,11]
[null,6,11,5,13,14,4,2,1,8,3,4,8,11,9,6,10,13]
[null,7,10,6,12,11,3,1,5,13,2,5,1,9,8,7,9,8]
[null,8,9,7,11,10,2,3,4,9,14,6,6,11,7,7,1,12]
[null,9,8,7,10,9,14,4,3,11,13,2,5,14,6,6,7,8]
[null,10,7,6,9,9,13,5,2,10,12,1,4,8,5,2,6,13]
[null,11,6,5,8,10,12,7,14,14,1,3,3,12,4,4,5,11]
[null,12,5,4,7,11,11,7,13,12,10,1,2,13,3,3,4,10]
[null,13,4,3,6,14,10,5,12,12,9,2,14,10,2,1,3,14]
[null,14,3,2,5,8,9,4,11,14,8,6,13,10,1,5,2,9]
[null,15,16,9,17,6,18,8,21,5,24,10,23,3,20,8,19,2]
[null,16,15,9,18,5,20,10,26,2,21,8,19,6,24,12,22,5]
[null,17,26,8,15,6,19,9,25,3,20,13,18,4,23,10,21,6]
[null,18,25,10,16,5,15,8,24,6,19,12,17,4,22,11,20,3]
[null,19,24,11,26,4,17,9,23,1,18,12,16,6,21,14,15,2]
[null,20,23,12,25,1,16,10,22,4,17,13,26,5,15,8,18,3]
[null,21,22,13,24,3,26,11,15,5,16,8,25,2,19,14,17,6]
[null,22,21,13,23,2,25,12,20,4,26,9,24,1,18,11,16,5]
[null,23,20,12,22,2,24,13,19,1,25,11,15,3,17,10,26,7]
[null,24,19,11,21,3,23,13,18,6,15,10,22,1,16,12,25,4]
[null,25,18,10,20,1,22,12,17,3,23,11,21,2,26,13,24,4]
[null,26,17,8,19,4,21,11,16,2,22,9,20,5,25,13,23,7]
[]
[null,null,"24 STARTERS"]
[null,null,"Round 1",null,"round 2",null,"round 3",null,"round 4",null,"round 5",null,"round 6",null,"round 7",null,"round 8"]
[null,null,"Vs","Rink","Vs","Rink","Vs","Rink","Vs","Rink","Vs","Rink","Vs","Rink","Vs","Rink","Vs","Rink"]
[null,1,2,2,3,13,4,1,7,12,10,3,9,10,6,1,5,9]
[null,2,1,2,4,12,6,3,12,9,7,1,5,13,10,5,8,12]
[null,3,12,1,1,13,5,2,11,10,6,6,4,11,9,3,7,13]
[null,4,11,3,2,12,1,1,10,13,5,5,3,11,8,4,6,10]
[null,5,10,4,12,11,3,2,9,8,4,5,2,13,7,7,1,9]
[null,6,9,5,11,8,2,3,8,11,3,6,12,12,1,1,4,10]
[null,7,8,6,10,10,12,4,1,12,2,1,11,9,5,7,3,13]
[null,8,7,6,9,9,11,5,6,11,12,2,10,8,4,4,2,12]
[null,9,6,5,8,9,10,6,5,8,11,4,1,10,3,3,12,14]
[null,10,5,4,7,10,9,6,4,13,1,3,8,8,2,5,11,11]
[null,11,4,3,6,8,8,5,3,10,9,4,7,9,12,6,10,11]
[null,12,3,1,5,11,7,4,2,9,8,2,6,12,11,6,9,14]
[null,13,14,9,15,6,16,8,19,5,22,10,21,3,18,8,17,2]
[null,14,13,9,16,5,18,10,24,2,19,8,17,6,22,12,20,5]
[null,15,24,8,13,6,17,9,23,3,18,13,16,4,21,10,19,6]
[null,16,23,10,14,5,13,8,22,6,17,12,15,4,20,11,18,3]
[null,17,22,11,24,4,15,9,21,1,16,12,14,6,19,14,13,2]
[null,18,21,12,23,1,14,10,20,4,15,13,24,5,13,8,16,3]
[null,19,20,13,22,3,24,11,13,5,14,8,23,2,17,14,15,6]
[null,20,19,13,21,2,23,12,18,4,24,9,22,1,16,11,14,5]
[null,21,18,12,20,2,22,13,17,1,23,11,13,3,15,10,24,7]
[null,22,17,11,19,3,21,13,16,6,13,10,20,1,14,12,23,4]
[null,23,16,10,18,1,20,12,15,3,21,11,19,2,24,13,22,4]
[null,24,15,8,17,4,19,11,14,2,20,9,18,5,23,13,21,7]
[]
[null,null,"22 STARTERS"]
[null,null,"Round 1",null,"round 2",null,"round 3",null,"round 4",null,"round 5",null,"round 6",null,"round 7",null,"round 8"]
[null,null,"Vs","Rink","Vs","Rink","Vs","Rink","Vs","Rink","Vs","Rink","Vs","Rink","Vs","Rink","Vs","Rink"]
[null,1,2,2,3,13,4,1,7,12,10,3,9,10,6,1,5,9]
[null,2,1,2,4,12,6,3,12,9,7,1,5,13,10,5,8,12]
[null,3,12,1,1,13,5,2,11,10,6,6,4,11,9,3,7,13]
[null,4,11,3,2,12,1,1,10,13,5,5,3,11,8,4,6,10]
[null,5,10,4,12,11,3,2,9,8,4,5,2,13,7,7,1,9]
[null,6,9,5,11,8,2,3,8,11,3,6,12,12,1,1,4,10]
[null,7,8,6,10,10,12,4,1,12,2,1,11,9,5,7,3,13]
[null,8,7,6,9,9,11,5,6,11,12,2,10,8,4,4,2,12]
[null,9,6,5,8,9,10,6,5,8,11,4,1,10,3,3,12,14]
[null,10,5,4,7,10,9,6,4,13,1,3,8,8,2,5,11,11]
[null,11,4,3,6,8,8,5,3,10,9,4,7,9,12,6,10,11]
[null,12,3,1,5,11,7,4,2,9,8,2,6,12,11,6,9,14]
[null,13,14,9,15,6,16,10,17,2,18,11,22,3,20,12,21,4]
[null,14,13,9,16,5,18,12,20,6,22,13,21,2,17,10,19,5]
[null,15,22,10,13,6,17,11,19,3,21,12,20,4,16,13,18,2]
[null,16,21,11,14,5,13,10,18,4,20,9,19,6,15,13,17,3]
[null,17,20,12,22,4,15,11,13,2,19,10,18,5,14,10,16,3]
[null,18,19,13,21,3,14,12,16,4,13,11,17,5,22,9,15,2]
[null,19,18,13,20,2,22,9,15,3,17,10,16,6,21,11,14,5]
[null,20,17,12,19,2,21,13,14,6,16,9,15,4,13,12,22,6]
[null,21,16,11,18,3,20,13,22,5,15,12,14,2,19,11,13,4]
[null,22,15,10,17,4,19,9,21,5,14,13,13,3,18,9,20,6]
[]
[null,null,"20 STARTERS"]
[null,null,"Round 1",null,"round 2",null,"round 3",null,"round 4",null,"round 5",null,"round 6",null,"round 7",null,"round 8"]
[null,null,"Vs","Rink","Vs","Rink","Vs","Rink","Vs","Rink","Vs","Rink","Vs","Rink","Vs","Rink","Vs","Rink"]
[null,1,2,2,3,13,4,3,5,9,6,4,10,10,8,5,9,11]
[null,2,1,2,4,12,6,5,8,13,10,6,9,9,5,3,7,12]
[null,3,10,3,1,13,5,4,7,10,9,5,8,11,4,6,6,9]
[null,4,9,4,2,12,1,3,6,11,8,2,7,13,3,6,5,10]
[null,5,8,5,10,11,3,4,1,9,7,3,6,12,2,3,4,10]
[null,6,7,6,9,10,2,5,4,11,1,4,5,12,10,2,3,9]
[null,7,6,6,8,9,10,2,3,10,5,3,4,13,9,4,2,12]
[null,8,5,5,7,9,9,6,2,13,4,2,3,11,1,5,10,13]
[null,9,4,4,6,10,8,6,10,12,3,5,2,9,7,4,1,11]
[null,10,3,3,5,11,7,2,9,12,2,6,1,10,6,2,8,13]
[null,11,12,9,13,6,14,10,15,2,16,11,20,3,18,12,19,4]
[null,12,11,9,14,5,16,12,18,6,20,13,19,2,15,10,17,5]
[null,13,20,10,11,6,15,11,17,3,19,12,18,4,14,13,16,2]
[null,14,19,11,12,5,11,10,16,4,18,9,17,6,13,13,15,3]
[null,15,18,12,20,4,13,11,11,2,17,10,16,5,12,10,14,3]
[null,16,17,13,19,3,12,12,14,4,11,11,15,5,20,9,13,2]
[null,17,16,13,18,2,20,9,13,3,15,10,14,6,19,11,12,5]
[null,18,15,12,17,2,19,13,12,6,14,9,13,4,11,12,20,6]
[null,19,14,11,16,3,18,13,20,5,13,12,12,2,17,11,11,4]
[null,20,13,10,15,4,17,9,19,5,12,13,11,3,16,9,18,6]
[]
[null,null,"18 STARTERS"]
[null,null,"Round 1",null,"round 2",null,"round 3",null,"round 4",null,"round 5",null,"round 6",null,"round 7",null,"round 8"]
[null,null,"Vs","Rink","Vs","Rink","Vs","Rink","Vs","Rink","Vs","Rink","Vs","Rink","Vs","Rink","Vs","Rink"]
[null,1,2,2,3,13,4,3,5,9,6,4,10,10,8,5,11,2]
[null,2,1,2,4,12,6,5,8,13,10,6,9,9,5,3,7,12]
[null,3,10,3,1,13,5,4,7,10,9,5,8,11,4,6,12,4]
[null,4,9,4,2,12,1,3,6,11,8,2,7,13,3,6,13,10]
[null,5,8,5,10,11,3,4,1,9,7,3,6,12,2,3,14,6]
[null,6,7,6,9,10,2,5,4,11,1,4,5,12,10,2,15,9]
[null,7,6,6,8,9,10,2,3,10,5,3,4,13,9,4,2,12]
[null,8,5,5,7,9,9,6,2,13,4,2,3,11,1,5,16,3]
[null,9,4,4,6,10,8,6,10,12,3,5,2,9,7,4,17,11]
[null,10,3,3,5,11,7,2,9,12,2,6,1,10,6,2,18,13]
[null,11,12,9,13,5,14,10,15,2,16,13,17,3,18,11,1,2]
[null,12,11,9,14,4,16,11,18,5,13,12,15,6,17,12,3,4]
[null,13,18,10,11,5,15,9,17,4,12,12,14,2,16,9,4,10]
[null,14,17,11,12,4,11,10,16,3,18,9,13,2,15,13,5,6]
[null,15,16,12,18,3,13,9,11,2,17,10,12,6,14,13,6,9]
[null,16,15,12,17,2,12,11,14,3,11,13,18,4,13,9,8,3]
[null,17,14,11,16,2,18,12,13,4,15,10,11,3,12,12,9,11]
[null,18,13,10,15,3,17,12,12,5,14,9,16,4,11,11,10,13]
[]
[null,null,"16 STARTERS"]
[null,null,"Round 1",null,"round 2",null,"round 3",null,"round 4",null,"round 5",null,"round 6",null,"round 7",null,"round 8"]
[null,null,"Vs","Rink","Vs","Rink","Vs","Rink","Vs","Rink","Vs","Rink","Vs","Rink","Vs","Rink","Vs","Rink"]
[null,1,2,2,3,12,4,3,5,9,6,6,7,10,8,4,9,12]
[null,2,1,2,4,11,6,4,8,12,3,5,5,13,7,6,10,5]
[null,3,8,3,1,12,5,2,7,11,2,5,4,9,6,2,11,13]
[null,4,7,4,2,11,1,3,6,10,8,2,3,9,5,5,12,9]
[null,5,6,5,8,10,3,2,1,9,7,3,2,13,4,5,13,10]
[null,6,5,5,7,9,2,4,4,10,1,6,8,11,3,2,14,3]
[null,7,4,4,6,9,8,5,3,11,5,3,1,10,2,6,15,2]
[null,8,3,3,5,10,7,5,2,12,4,2,6,11,1,4,16,6]
[null,9,10,9,11,5,12,10,13,2,14,13,15,3,16,11,1,12]
[null,10,9,9,12,4,14,11,16,5,11,12,13,6,15,12,2,5]
[null,11,16,10,9,5,13,9,15,4,10,12,12,2,14,9,3,13]
[null,12,15,11,10,4,9,10,14,3,16,9,11,2,13,13,4,9]
[null,13,14,12,16,3,11,9,9,2,15,10,10,6,12,13,5,10]
[null,14,13,12,15,2,10,11,12,3,9,13,16,4,11,9,6,3]
[null,15,12,11,14,2,16,12,11,4,13,10,9,3,10,12,7,2]
[null,16,11,10,13,3,15,12,10,5,12,9,14,4,9,11,8,6]
[]
[null,null,"14 STARTERS"]
[null,null,"Round 1",null,"round 2",null,"round 3",null,"round 4",null,"round 5",null,"round 6",null,"round 7",null,"round 8"]
[null,null,"Vs","Rink","Vs","Rink","Vs","Rink","Vs","Rink","Vs","Rink","Vs","Rink","Vs","Rink","Vs","Rink"]
[null,1,2,2,8,1,3,6,4,5,13,6,14,3,6,7,5,2]
[null,2,1,2,14,6,4,7,6,4,11,3,13,1,10,2,8,5]
[null,3,14,1,13,4,1,6,5,3,10,1,12,2,9,5,7,6]
[null,4,13,3,12,5,2,7,1,5,9,4,11,7,8,6,6,3]
[null,5,12,4,11,7,14,2,3,3,8,7,10,5,7,1,1,2]
[null,6,11,5,10,3,13,1,2,4,7,2,9,6,1,7,4,3]
[null,7,10,7,9,2,12,3,14,7,6,2,8,4,5,1,3,6]
[null,8,9,6,1,1,11,4,13,2,5,7,7,4,4,6,2,5]
[null,9,8,6,7,2,10,5,12,1,4,4,6,6,3,5,14,7]
[null,10,7,7,6,3,9,5,11,6,3,1,5,5,2,2,13,4]
[null,11,6,5,5,7,8,4,10,6,2,3,4,7,14,4,12,1]
[null,12,5,4,4,5,7,3,9,1,14,5,3,2,13,3,11,1]
[null,13,4,3,3,4,6,1,8,2,1,6,2,1,12,3,10,4]
[null,14,3,1,2,6,5,2,7,7,12,5,1,3,11,4,9,7]