{"text_format":"1","workbook":"xlsx","n_sheets":21,"sheets":["Notes","Starters","Results","12","14","16","18","20","22","24","26","28","30","32","34","36","38","40","42","DRAWS","Score Cards"],"not_rendered":{"charts":0,"images":14,"macros":1,"external_links":0,"defined_names":1,"comments":0,"pivot_tables":0},"unopened":[],"bounds":{"document_bytes":16777216,"sheet_cells":100000,"rows_first":2000,"rows_last":500,"rows_between":2000,"halvings":0,"cell_chars":16384,"cell_head_chars":4096},"cells_cut":0,"cells_raw":0,"read":"whole","date_system":"1900"}

{"sheet":"Notes","index":0,"n_rows":16,"n_cols":17,"rows_kept":16,"cut":false,"hidden":false,"merged":[[0,13,0,16]]}
[null,null,null,null,null,null,null,null,null,null,null,null,"Starters","GREEN 1"]
[null,null,null,null,null,null,null,null,null,null,null,null,14,"2xPairs","8","1XTriples","6"]
[null,null,null,null,null,null,null,null,null,null,null,null,16,"4XPairs","16"]
[null,null,null,null,null,null,null,null,null,null,null,null,18,"3XPairs","12","1XTriples","6"]
[null,null,null,null,null,null,null,null,null,null,null,null,20,"5XPairs","20"]
[null,null,null,null,null,null,null,null,null,null,null,null,22,"4XPairs","16","1XTriples","6"]
[null,null,null,null,null,null,null,null,null,null,null,null,24,"6XPairs","24"]
[null,null,null,null,null,null,null,null,null,null,null,null,26,"5XPairs","20","1XTriples","6"]
[null,null,null,null,null,null,null,null,null,null,null,null,28,"7XPairs","28"]
[null,null,null,null,null,null,null,null,null,null,null,null,30,"6XPairs","24","1XTriples","6"]
[null,null,null,null,null,null,null,null,null,null,null,null,32,"5XPairs","20","2XTriples","12"]
[null,null,null,null,null,null,null,null,null,null,null,null,34,"4XPairs","16","3XTriples","18"]
[null,null,null,null,null,null,null,null,null,null,null,null,36,"3XPairs","12","4XTriples","24"]
[null,null,null,null,null,null,null,null,null,null,null,null,38,"2xPairs","8","5XTriples","30"]
[null,null,null,null,null,null,null,null,null,null,null,null,40,"1XPairs","4","6xTriples","36"]
[null,null,null,null,null,null,null,null,null,null,null,null,42,null,null,"7xTriples","42"]

{"sheet":"Starters","index":1,"n_rows":19,"n_cols":3,"rows_kept":19,"cut":false,"hidden":false,"merged":[[16,2,16,18],[14,2,14,18],[1,0,1,18],[17,2,17,18],[13,2,13,18]]}
[]
["PLEASE CLICK THE BUTTON BELOW REPRESENTING THE NUMBER OF ENTRIES"]
[]
[]
[]
[]
[]
[]
[]
[]
[]
[]
[]
[null,null,"To print the score cards you will need 250gsm paper cut to 8.5cm X 13.5cm & this paper is available at Office Works."]
[null,null,"The placings will be decided as follows. Most wins then highest margin and finally least shots scored against. These"]
[null,null,"calculations will all be done automatically as the scores are entered on the result sheet. A draw = half a win"]
[null,null,"Pairs will be played as 3 bowl pairs. Triples will be played as 2 bowl triples."]
[null,null,"The rink numbers will be shown at the top of the draw which will appear after you select one of the boxes above."]
[null,null," If you wish to change them please do so before printing cards."]

{"sheet":"Results","index":2,"n_rows":48,"n_cols":78,"rows_kept":48,"cut":false,"hidden":true,"merged":[[3,3,3,7],[3,11,3,15],[3,19,3,23],[3,27,3,31],[3,35,3,39],[0,1,0,77],[1,1,1,77],[2,0,2,1],[2,3,2,6],[2,11,2,14],[3,43,3,47],[3,51,3,55],[3,59,3,63],[3,74,4,75],[4,68,4,70]]}
[null,"Tournament Name etc. Here."]
[null,"Other heading info"]
[null,null,null,"win =",null,null,null,1,null,null,null,"draw=",null,null,null,0.5]
[null,null,null,"ROUND 1",null,null,null,null,null,null,null,"ROUND 2",null,null,null,null,null,null,null,"ROUND 3",null,null,null,null,null,null,null,"ROUND 4",null,null,null,null,null,null,null,"ROUND 5",null,null,null,null,null,null,null,"ROUND 6",null,null,null,null,null,null,null,"ROUND 7",null,null,null,null,null,null,null,"ROUND 8",null,null,null,null,null,null,null,null,{"$f":"SUM(BQ7:BQ20)-SUM(BR7:BR20)","v":0},{"$f":"SUM(BR7:BR20)-SUM(BQ7:BQ20)","v":0},{"$f":"SUM(BS7:BS20)","v":0},null,null,null,"TOTALS"]
[null,"CLICK to SORT TEAM No.",null,null,null,{"$f":"SUM(F7:F48)-SUM(G7:G48)","v":0},{"$f":"SUM(G7:G48)-SUM(F7:F48)","v":0},null,null,null,null,null,null,{"$f":"SUM(N7:N48)-SUM(O7:O48)","v":0},{"$f":"SUM(O7:O48)-SUM(N7:N48)","v":0},null,null,null,null,null,null,{"$f":"SUM(V7:V48)-SUM(W7:W48)","v":0},{"$f":"SUM(W7:W48)-SUM(V7:V48)","v":0},null,null,null,null,null,null,{"$f":"SUM(AD7:AD48)-SUM(AE7:AE48)","v":0},{"$f":"SUM(AE7:AE48)-SUM(AD7:AD48)","v":0},null,null,null,null,null,null,{"$f":"SUM(AL7:AL48)-SUM(AM7:AM48)","v":0},{"$f":"SUM(AM7:AM48)-SUM(AL7:AL48)","v":0},null,null,null,null,null,null,{"$f":"SUM(AT7:AT48)-SUM(AU7:AU48)","v":0},{"$f":"SUM(AU7:AU48)-SUM(AT7:AT48)","v":0},null,null,null,null,null,null,{"$f":"SUM(BB7:BB48)-SUM(BC7:BC48)","v":0},{"$f":"SUM(BC7:BC48)-SUM(BB7:BB48)","v":0},null,null,null,null,null,null,{"$f":"SUM(BJ7:BJ48)-SUM(BK7:BK48)","v":0},{"$f":"SUM(BK7:BK48)-SUM(BJ7:BJ48)","v":0},null,null,null,null,null,"ROUND 9",null,null,null,null,null,null,null,null,"CLICK to SORT RANKINGS"]
[null,"Team #","Name","V's","Rink","F","A","M'gin",null,null,null,"V's","Rink","F","A","M'gin",null,null,null,"V's","Rink","F","A","M'gin",null,null,null,"V's","Rink","F","A","M'gin",null,null,null,"V's","Rink","F","A","M'gin",null,null,null,"V's","Rink","F","A","M'gin",null,null,null,"V's","Rink","F","A","M'gin",null,null,null,"V's","Rink","F","A","M'gin",null,null,null,"shots against","F","A","M'gin",null,null,null,"Wins","Margin",null,"Rank"]
[null,1,null,2,1,null,null,{"$f":"IF(K7=\"D\",\"D\",IF(K7=\"W\",I7,IF(K7=\"L\",I7,0)))","v":0},{"$f":"IF(F7+G7=0,0,IF(F7+G7>0.1,F7-G7,0))","v":0},{"$f":"IF(K7=\"W\",$H$3,IF(K7=\"D\",$P$3,0))","v":0},{"$f":"IF(F7>G7,\"W\",IF(F7<G7,\"L\",IF(F7+G7=0,\"\",IF(F7=G7,\"D\",0))))","v":""},3,13,null,null,{"$f":"IF(S7=\"D\",\"D\",IF(S7=\"W\",Q7,IF(S7=\"L\",Q7,0)))","v":0},{"$f":"IF(N7+O7=0,0,IF(N7+O7>0.1,N7-O7,0))","v":0},{"$f":"IF(S7=\"W\",$H$3,IF(S7=\"D\",$P$3,0))","v":0},{"$f":"IF(N7>O7,\"W\",IF(N7<O7,\"L\",IF(N7+O7=0,\"\",IF(N7=O7,\"D\",0))))","v":""},5,19,null,null,{"$f":"IF(AA7=\"D\",\"D\",IF(AA7=\"W\",Y7,IF(AA7=\"L\",Y7,0)))","v":0},{"$f":"IF(V7+W7=0,0,IF(V7+W7>0.1,V7-W7,0))","v":0},{"$f":"IF(AA7=\"W\",$H$3,IF(AA7=\"D\",$P$3,0))","v":0},{"$f":"IF(V7>W7,\"W\",IF(V7<W7,\"L\",IF(V7+W7=0,\"\",IF(V7=W7,\"D\",0))))","v":""},7,2,null,null,{"$f":"IF(AI7=\"D\",\"D\",IF(AI7=\"W\",AG7,IF(AI7=\"L\",AG7,0)))","v":0},{"$f":"IF(AD7+AE7=0,0,IF(AD7+AE7>0.1,AD7-AE7,0))","v":0},{"$f":"IF(AI7=\"W\",$H$3,IF(AI7=\"D\",$P$3,0))","v":0},{"$f":"IF(AD7>AE7,\"W\",IF(AD7<AE7,\"L\",IF(AD7+AE7=0,\"\",IF(AD7=AE7,\"D\",0))))","v":""},14,14,null,null,{"$f":"IF(AQ7=\"D\",\"D\",IF(AQ7=\"W\",AO7,IF(AQ7=\"L\",AO7,0)))","v":0},{"$f":"IF(AL7+AM7=0,0,IF(AL7+AM7>0.1,AL7-AM7,0))","v":0},{"$f":"IF(AQ7=\"W\",$H$3,IF(AQ7=\"D\",$P$3,0))","v":0},{"$f":"IF(AL7>AM7,\"W\",IF(AL7<AM7,\"L\",IF(AL7+AM7=0,\"\",IF(AL7=AM7,\"D\",0))))","v":""},12,17,null,null,{"$f":"IF(AY7=\"D\",\"D\",IF(AY7=\"W\",AW7,IF(AY7=\"L\",AW7,0)))","v":0},{"$f":"IF(AT7+AU7=0,0,IF(AT7+AU7>0.1,AT7-AU7,0))","v":0},{"$f":"IF(AY7=\"W\",$H$3,IF(AY7=\"D\",$P$3,0))","v":0},{"$f":"IF(AT7>AU7,\"W\",IF(AT7<AU7,\"L\",IF(AT7+AU7=0,\"\",IF(AT7=AU7,\"D\",0))))","v":""},13,5,null,null,{"$f":"IF(BG7=\"D\",\"D\",IF(BG7=\"W\",BE7,IF(BG7=\"L\",BE7,0)))","v":0},{"$f":"IF(BB7+BC7=0,0,IF(BB7+BC7>0.1,BB7-BC7,0))","v":0},{"$f":"IF(BG7=\"W\",$H$3,IF(BG7=\"D\",$P$3,0))","v":0},{"$f":"IF(BB7>BC7,\"W\",IF(BB7<BC7,\"L\",IF(BB7+BC7=0,\"\",IF(BB7=BC7,\"D\",0))))","v":""},8,8,null,null,{"$f":"IF(BO7=\"D\",\"D\",IF(BO7=\"W\",BM7,IF(BO7=\"L\",BM7,0)))","v":0},{"$f":"IF(BJ7+BK7=0,0,IF(BJ7+BK7>0.1,BJ7-BK7,0))","v":0},{"$f":"IF(BO7=\"W\",$H$3,IF(BO7=\"D\",$P$3,0))","v":0},{"$f":"IF(BJ7>BK7,\"W\",IF(BJ7<BK7,\"L\",IF(BJ7+BK7=0,\"\",IF(BJ7=BK7,\"D\",0))))","v":""},{"$f":"G7+O7+W7+AE7+AM7+AU7+BC7+BK7","v":0},null,null,{"$f":"IF(BV7=\"D\",\"D\",IF(BV7=\"W\",BT7,IF(BV7=\"L\",BT7,0)))","v":0},{"$f":"IF(BQ7+BR7=0,0,IF(BQ7+BR7>0.1,BQ7-BR7,0))","v":0},{"$f":"IF(BV7=\"W\",1,IF(BV7=\"D\",0.5,0))","v":0},{"$f":"IF(BQ7>BR7,\"W\",IF(BQ7<BR7,\"L\",IF(BQ7=0,\"\",IF(BQ7=BR7,\"D\",0))))","v":""},{"$f":"(J7+R7+Z7+AH7+AP7+AX7+BF7+BN7+BU7)","v":0},{"$f":"I7+Q7+Y7+AG7+AO7+AW7+BE7+BM7+BT7","v":0},{"$f":"(BW7*1000000)+(BX7*100)-BP7","v":0},{"$f":"IF($BY$7:$BY$48=0,\"\",RANK(BY7,$BY$7:$BY$48))","v":""}]
[null,2,null,1,1,null,null,0,0,0,"",4,12,null,null,0,0,0,"",8,16,null,null,0,0,0,"",12,5,null,null,0,0,0,"",13,8,null,null,0,0,0,"",14,18,null,null,0,0,0,"",9,2,null,null,0,0,0,"",5,9,null,null,0,0,0,"",0,null,null,0,0,0,"",0,0,0,""]
[null,3,null,14,2,null,null,0,0,0,"",1,13,null,null,0,0,0,"",7,15,null,null,0,0,0,"",11,4,null,null,0,0,0,"",12,10,null,null,0,0,0,"",13,16,null,null,0,0,0,"",10,1,null,null,0,0,0,"",4,11,null,null,0,0,0,"",0,null,null,0,0,0,"",0,0,0,""]
[null,4,null,13,3,null,null,0,0,0,"",2,12,null,null,0,0,0,"",6,18,null,null,0,0,0,"",10,7,null,null,0,0,0,"",11,9,null,null,0,0,0,"",8,20,null,null,0,0,0,"",12,7,null,null,0,0,0,"",3,11,null,null,0,0,0,"",0,null,null,0,0,0,"",0,0,0,""]
[null,5,null,12,4,null,null,0,0,0,"",14,8,null,null,0,0,0,"",1,19,null,null,0,0,0,"",9,3,null,null,0,0,0,"",10,12,null,null,0,0,0,"",11,15,null,null,0,0,0,"",8,6,null,null,0,0,0,"",2,9,null,null,0,0,0,"",0,null,null,0,0,0,"",0,0,0,""]
[null,6,null,11,5,null,null,0,0,0,"",13,14,null,null,0,0,0,"",4,18,null,null,0,0,0,"",8,1,null,null,0,0,0,"",9,13,null,null,0,0,0,"",10,19,null,null,0,0,0,"",7,4,null,null,0,0,0,"",14,14,null,null,0,0,0,"",0,null,null,0,0,0,"",0,0,0,""]
[null,7,null,10,6,null,null,0,0,0,"",12,9,null,null,0,0,0,"",3,15,null,null,0,0,0,"",1,2,null,null,0,0,0,"",8,11,null,null,0,0,0,"",9,21,null,null,0,0,0,"",6,4,null,null,0,0,0,"",13,10,null,null,0,0,0,"",0,null,null,0,0,0,"",0,0,0,""]
[null,8,null,9,7,null,null,0,0,0,"",11,10,null,null,0,0,0,"",2,16,null,null,0,0,0,"",6,1,null,null,0,0,0,"",7,11,null,null,0,0,0,"",4,20,null,null,0,0,0,"",5,6,null,null,0,0,0,"",1,8,null,null,0,0,0,"",0,null,null,0,0,0,"",0,0,0,""]
[null,9,null,8,7,null,null,0,0,0,"",10,11,null,null,0,0,0,"",14,17,null,null,0,0,0,"",5,3,null,null,0,0,0,"",6,13,null,null,0,0,0,"",7,21,null,null,0,0,0,"",2,2,null,null,0,0,0,"",11,12,null,null,0,0,0,"",0,null,null,0,0,0,"",0,0,0,""]
[null,10,null,7,6,null,null,0,0,0,"",9,11,null,null,0,0,0,"",13,20,null,null,0,0,0,"",4,7,null,null,0,0,0,"",5,12,null,null,0,0,0,"",6,19,null,null,0,0,0,"",3,1,null,null,0,0,0,"",12,13,null,null,0,0,0,"",0,null,null,0,0,0,"",0,0,0,""]
[null,11,null,6,5,null,null,0,0,0,"",8,10,null,null,0,0,0,"",12,21,null,null,0,0,0,"",3,4,null,null,0,0,0,"",4,9,null,null,0,0,0,"",5,15,null,null,0,0,0,"",14,3,null,null,0,0,0,"",9,12,null,null,0,0,0,"",0,null,null,0,0,0,"",0,0,0,""]
[null,12,null,5,4,null,null,0,0,0,"",7,9,null,null,0,0,0,"",11,21,null,null,0,0,0,"",2,5,null,null,0,0,0,"",3,10,null,null,0,0,0,"",1,17,null,null,0,0,0,"",4,7,null,null,0,0,0,"",10,13,null,null,0,0,0,"",0,null,null,0,0,0,"",0,0,0,""]
[null,13,null,4,3,null,null,0,0,0,"",6,14,null,null,0,0,0,"",10,20,null,null,0,0,0,"",14,6,null,null,0,0,0,"",2,8,null,null,0,0,0,"",3,16,null,null,0,0,0,"",1,5,null,null,0,0,0,"",7,10,null,null,0,0,0,"",0,null,null,0,0,0,"",0,0,0,""]
[null,14,null,3,2,null,null,0,0,0,"",5,8,null,null,0,0,0,"",9,17,null,null,0,0,0,"",13,6,null,null,0,0,0,"",1,14,null,null,0,0,0,"",2,18,null,null,0,0,0,"",11,3,null,null,0,0,0,"",6,14,null,null,0,0,0,"",0,null,null,0,0,0,"",0,0,0,""]
[null,15,null,16,8,null,null,0,0,0,"",17,20,null,null,0,0,0,"",19,5,null,null,0,0,0,"",21,9,null,null,0,0,0,"",28,21,null,null,0,0,0,"",26,3,null,null,0,0,0,"",27,12,null,null,0,0,0,"",22,15,null,null,0,0,0,"",0,null,null,0,0,0,"",0,0,0,""]
[null,16,null,15,8,null,null,0,0,0,"",18,19,null,null,0,0,0,"",22,2,null,null,0,0,0,"",26,12,null,null,0,0,0,"",27,15,null,null,0,0,0,"",28,4,null,null,0,0,0,"",23,9,null,null,0,0,0,"",19,16,null,null,0,0,0,"",0,null,null,0,0,0,"",0,0,0,""]
[null,17,null,28,9,null,null,0,0,0,"",15,20,null,null,0,0,0,"",21,1,null,null,0,0,0,"",25,11,null,null,0,0,0,"",26,17,null,null,0,0,0,"",27,2,null,null,0,0,0,"",24,8,null,null,0,0,0,"",18,18,null,null,0,0,0,"",0,null,null,0,0,0,"",0,0,0,""]
[null,18,null,27,10,null,null,0,0,0,"",16,19,null,null,0,0,0,"",20,4,null,null,0,0,0,"",24,14,null,null,0,0,0,"",25,16,null,null,0,0,0,"",22,6,null,null,0,0,0,"",26,14,null,null,0,0,0,"",17,18,null,null,0,0,0,"",0,null,null,0,0,0,"",0,0,0,""]
[null,19,null,26,11,null,null,0,0,0,"",28,15,null,null,0,0,0,"",15,5,null,null,0,0,0,"",23,10,null,null,0,0,0,"",24,19,null,null,0,0,0,"",25,1,null,null,0,0,0,"",22,13,null,null,0,0,0,"",16,16,null,null,0,0,0,"",0,null,null,0,0,0,"",0,0,0,""]
[null,20,null,25,12,null,null,0,0,0,"",27,21,null,null,0,0,0,"",18,4,null,null,0,0,0,"",22,8,null,null,0,0,0,"",23,20,null,null,0,0,0,"",24,5,null,null,0,0,0,"",21,11,null,null,0,0,0,"",28,21,null,null,0,0,0,"",0,null,null,0,0,0,"",0,0,0,""]
[null,21,null,24,13,null,null,0,0,0,"",26,16,null,null,0,0,0,"",17,1,null,null,0,0,0,"",15,9,null,null,0,0,0,"",22,18,null,null,0,0,0,"",23,7,null,null,0,0,0,"",20,11,null,null,0,0,0,"",27,17,null,null,0,0,0,"",0,null,null,0,0,0,"",0,0,0,""]
[null,22,null,23,14,null,null,0,0,0,"",25,17,null,null,0,0,0,"",16,2,null,null,0,0,0,"",20,8,null,null,0,0,0,"",21,18,null,null,0,0,0,"",18,6,null,null,0,0,0,"",19,13,null,null,0,0,0,"",15,15,null,null,0,0,0,"",0,null,null,0,0,0,"",0,0,0,""]
[null,23,null,22,14,null,null,0,0,0,"",24,18,null,null,0,0,0,"",28,3,null,null,0,0,0,"",19,10,null,null,0,0,0,"",20,20,null,null,0,0,0,"",21,7,null,null,0,0,0,"",16,9,null,null,0,0,0,"",25,19,null,null,0,0,0,"",0,null,null,0,0,0,"",0,0,0,""]
[null,24,null,21,13,null,null,0,0,0,"",23,18,null,null,0,0,0,"",27,6,null,null,0,0,0,"",18,14,null,null,0,0,0,"",19,19,null,null,0,0,0,"",20,5,null,null,0,0,0,"",17,8,null,null,0,0,0,"",26,20,null,null,0,0,0,"",0,null,null,0,0,0,"",0,0,0,""]
[null,25,null,20,12,null,null,0,0,0,"",22,17,null,null,0,0,0,"",26,7,null,null,0,0,0,"",17,11,null,null,0,0,0,"",18,16,null,null,0,0,0,"",19,1,null,null,0,0,0,"",28,10,null,null,0,0,0,"",23,19,null,null,0,0,0,"",0,null,null,0,0,0,"",0,0,0,""]
[null,26,null,19,11,null,null,0,0,0,"",21,16,null,null,0,0,0,"",25,7,null,null,0,0,0,"",16,12,null,null,0,0,0,"",17,17,null,null,0,0,0,"",15,3,null,null,0,0,0,"",18,14,null,null,0,0,0,"",24,20,null,null,0,0,0,"",0,null,null,0,0,0,"",0,0,0,""]
[null,27,null,18,10,null,null,0,0,0,"",20,21,null,null,0,0,0,"",24,6,null,null,0,0,0,"",28,13,null,null,0,0,0,"",16,15,null,null,0,0,0,"",17,2,null,null,0,0,0,"",15,12,null,null,0,0,0,"",21,17,null,null,0,0,0,"",0,null,null,0,0,0,"",0,0,0,""]
[null,28,null,17,9,null,null,0,0,0,"",19,15,null,null,0,0,0,"",23,3,null,null,0,0,0,"",27,13,null,null,0,0,0,"",15,21,null,null,0,0,0,"",16,4,null,null,0,0,0,"",25,10,null,null,0,0,0,"",20,21,null,null,0,0,0,"",0,null,null,0,0,0,"",0,0,0,""]
[null,29,null,30,15,null,null,0,0,0,"",31,6,null,null,0,0,0,"",33,12,null,null,0,0,0,"",35,16,null,null,0,0,0,"",42,7,null,null,0,0,0,"",40,10,null,null,0,0,0,"",41,19,null,null,0,0,0,"",36,1,null,null,0,0,0,"",0,null,null,0,0,0,"",0,0,0,""]
[null,30,null,29,15,null,null,0,0,0,"",32,5,null,null,0,0,0,"",36,9,null,null,0,0,0,"",40,19,null,null,0,0,0,"",41,1,null,null,0,0,0,"",42,11,null,null,0,0,0,"",37,16,null,null,0,0,0,"",33,2,null,null,0,0,0,"",0,null,null,0,0,0,"",0,0,0,""]
[null,31,null,42,16,null,null,0,0,0,"",29,6,null,null,0,0,0,"",35,8,null,null,0,0,0,"",39,18,null,null,0,0,0,"",40,3,null,null,0,0,0,"",41,9,null,null,0,0,0,"",38,15,null,null,0,0,0,"",32,4,null,null,0,0,0,"",0,null,null,0,0,0,"",0,0,0,""]
[null,32,null,41,17,null,null,0,0,0,"",30,5,null,null,0,0,0,"",34,11,null,null,0,0,0,"",38,21,null,null,0,0,0,"",39,2,null,null,0,0,0,"",36,13,null,null,0,0,0,"",40,21,null,null,0,0,0,"",31,4,null,null,0,0,0,"",0,null,null,0,0,0,"",0,0,0,""]
[null,33,null,40,18,null,null,0,0,0,"",42,1,null,null,0,0,0,"",29,12,null,null,0,0,0,"",37,17,null,null,0,0,0,"",38,5,null,null,0,0,0,"",39,8,null,null,0,0,0,"",36,20,null,null,0,0,0,"",30,2,null,null,0,0,0,"",0,null,null,0,0,0,"",0,0,0,""]
[null,34,null,39,19,null,null,0,0,0,"",41,7,null,null,0,0,0,"",32,11,null,null,0,0,0,"",36,15,null,null,0,0,0,"",37,6,null,null,0,0,0,"",38,12,null,null,0,0,0,"",35,18,null,null,0,0,0,"",42,7,null,null,0,0,0,"",0,null,null,0,0,0,"",0,0,0,""]
[null,35,null,38,20,null,null,0,0,0,"",40,2,null,null,0,0,0,"",31,8,null,null,0,0,0,"",29,16,null,null,0,0,0,"",36,4,null,null,0,0,0,"",37,14,null,null,0,0,0,"",34,18,null,null,0,0,0,"",41,3,null,null,0,0,0,"",0,null,null,0,0,0,"",0,0,0,""]
[null,36,null,37,21,null,null,0,0,0,"",39,3,null,null,0,0,0,"",30,9,null,null,0,0,0,"",34,15,null,null,0,0,0,"",35,4,null,null,0,0,0,"",32,13,null,null,0,0,0,"",33,20,null,null,0,0,0,"",29,1,null,null,0,0,0,"",0,null,null,0,0,0,"",0,0,0,""]
[null,37,null,36,21,null,null,0,0,0,"",38,4,null,null,0,0,0,"",42,10,null,null,0,0,0,"",33,17,null,null,0,0,0,"",34,6,null,null,0,0,0,"",35,14,null,null,0,0,0,"",30,16,null,null,0,0,0,"",39,5,null,null,0,0,0,"",0,null,null,0,0,0,"",0,0,0,""]
[null,38,null,35,20,null,null,0,0,0,"",37,4,null,null,0,0,0,"",41,13,null,null,0,0,0,"",32,21,null,null,0,0,0,"",33,5,null,null,0,0,0,"",34,12,null,null,0,0,0,"",31,15,null,null,0,0,0,"",40,6,null,null,0,0,0,"",0,null,null,0,0,0,"",0,0,0,""]
[null,39,null,34,19,null,null,0,0,0,"",36,3,null,null,0,0,0,"",40,14,null,null,0,0,0,"",31,18,null,null,0,0,0,"",32,2,null,null,0,0,0,"",33,8,null,null,0,0,0,"",42,17,null,null,0,0,0,"",37,5,null,null,0,0,0,"",0,null,null,0,0,0,"",0,0,0,""]
[null,40,null,33,18,null,null,0,0,0,"",35,2,null,null,0,0,0,"",39,14,null,null,0,0,0,"",30,19,null,null,0,0,0,"",31,3,null,null,0,0,0,"",29,10,null,null,0,0,0,"",32,21,null,null,0,0,0,"",38,6,null,null,0,0,0,"",0,null,null,0,0,0,"",0,0,0,""]
[null,41,null,32,17,null,null,0,0,0,"",34,7,null,null,0,0,0,"",38,13,null,null,0,0,0,"",42,20,null,null,0,0,0,"",30,1,null,null,0,0,0,"",31,9,null,null,0,0,0,"",29,19,null,null,0,0,0,"",35,3,null,null,0,0,0,"",0,null,null,0,0,0,"",0,0,0,""]
[null,42,null,31,16,null,null,0,0,0,"",33,1,null,null,0,0,0,"",37,10,null,null,0,0,0,"",41,20,null,null,0,0,0,"",29,7,null,null,0,0,0,"",30,11,null,null,0,0,0,"",39,17,null,null,0,0,0,"",34,7,null,null,0,0,0,"",0,null,null,0,0,0,"",0,0,0,""]

{"sheet":"12","index":3,"n_rows":101,"n_cols":45,"rows_kept":101,"cut":false,"hidden":true,"merged":[[0,1,0,6],[16,37,16,38],[16,39,16,40],[16,41,16,42],[16,43,16,44],[15,28,15,33],[6,0,7,0],[8,0,9,0],[15,1,15,6],[15,10,15,15],[15,19,15,24],[10,1,10,6],[4,0,5,0],[1,1,1,2],[1,3,1,4],[1,5,1,6],[2,0,3,0]]}
[null,"YOU MAY CHANGE THESE RINK NUMBERS IF YOU WISH"]
["Round",2,null,3,null,4]
[1,1,3,5,7,9,11]
[null,2,4,6,8,10,12]
[2,5,9,1,10,2,6]
[null,7,11,3,12,4,8]
[3,2,8,6,9,11,5]
[null,3,1,7,4,10,12]
[4,6,4,2,8,1,3]
[null,10,5,11,12,7,9]
[null,"12 on 1 green"]
[]
[]
[]
[]
[null,1,null,null,null,null,null,null,null,null,2,null,null,null,null,null,null,null,null,3,null,null,null,null,null,null,null,null,4]
[null,"no","Left","rink","no","Right","rink","L","R",null,"no","Left","rink","no","Right","rink","L","R",null,"no","Left","rink","no","Right","rink","L","R",null,"no","Left","rink","no","Right","rink","L","R",null,1,null,2,null,3,null,4]
[null,1,"Left",{"$f":"$B$2","v":2},3,"Right",{"$f":"$B$2","v":2},{"$f":"(D18&\" \"&C18)","v":"2 Left"},{"$f":"(G18&\" \"&F18)","v":"2 Right"},null,5,"Left",{"$f":"$B$2","v":2},9,"Right",{"$f":"$B$2","v":2},{"$f":"(M18&\" \"&L18)","v":"2 Left"},{"$f":"(P18&\" \"&O18)","v":"2 Right"},null,2,"Left",{"$f":"$B$2","v":2},8,"Right",{"$f":"$B$2","v":2},{"$f":"(V18&\" \"&U18)","v":"2 Left"},{"$f":"(Y18&\" \"&X18)","v":"2 Right"},null,6,"Left",{"$f":"$B$2","v":2},4,"Right",{"$f":"$B$2","v":2},{"$f":"(AE18&\" \"&AD18)","v":"2 Left"},{"$f":"(AH18&\" \"&AG18)","v":"2 Right"}]
[null,2,"Left",{"$f":"$B$2","v":2},4,"Right",{"$f":"$B$2","v":2},{"$f":"(D19&\" \"&C19)","v":"2 Left"},{"$f":"(G19&\" \"&F19)","v":"2 Right"},null,7,"Left",{"$f":"$B$2","v":2},11,"Right",{"$f":"$B$2","v":2},{"$f":"(M19&\" \"&L19)","v":"2 Left"},{"$f":"(P19&\" \"&O19)","v":"2 Right"},null,3,"Left",{"$f":"$B$2","v":2},1,"Right",{"$f":"$B$2","v":2},{"$f":"(V19&\" \"&U19)","v":"2 Left"},{"$f":"(Y19&\" \"&X19)","v":"2 Right"},null,10,"Left",{"$f":"$B$2","v":2},5,"Right",{"$f":"$B$2","v":2},{"$f":"(AE19&\" \"&AD19)","v":"2 Left"},{"$f":"(AH19&\" \"&AG19)","v":"2 Right"}]
[null,null,"Left",{"$f":"$B$2","v":2},null,"Right",{"$f":"$B$2","v":2},"2 Left","2 Right",null,null,"Left",{"$f":"$B$2","v":2},null,"Right",{"$f":"$B$2","v":2},"2 Left","2 Right",null,null,"Left",{"$f":"$B$2","v":2},null,"Right",{"$f":"$B$2","v":2},"2 Left","2 Right",null,null,"Left",{"$f":"$B$2","v":2},null,"Right",{"$f":"$B$2","v":2},"2 Left","2 Right"]
[null,5,"Left",{"$f":"$D$2","v":3},7,"Right",{"$f":"$D$2","v":3},"3 Left","3 Right",null,1,"Left",{"$f":"$D$2","v":3},10,"Right",{"$f":"$D$2","v":3},"3 Left","3 Right",null,6,"Left",{"$f":"$D$2","v":3},9,"Right",{"$f":"$D$2","v":3},"3 Left","3 Right",null,2,"Left",{"$f":"$D$2","v":3},8,"Right",{"$f":"$D$2","v":3},"3 Left","3 Right"]
[null,6,"Left",{"$f":"$D$2","v":3},8,"Right",{"$f":"$D$2","v":3},"3 Left","3 Right",null,3,"Left",{"$f":"$D$2","v":3},12,"Right",{"$f":"$D$2","v":3},"3 Left","3 Right",null,7,"Left",{"$f":"$D$2","v":3},4,"Right",{"$f":"$D$2","v":3},"3 Left","3 Right",null,11,"Left",{"$f":"$D$2","v":3},12,"Right",{"$f":"$D$2","v":3},"3 Left","3 Right"]
[null,null,"Left",{"$f":"$D$2","v":3},null,"Right",{"$f":"$D$2","v":3},"3 Left","3 Right",null,null,"Left",{"$f":"$D$2","v":3},null,"Right",{"$f":"$D$2","v":3},"3 Left","3 Right",null,null,"Left",{"$f":"$D$2","v":3},null,"Right",{"$f":"$D$2","v":3},"3 Left","3 Right",null,null,"Left",{"$f":"$D$2","v":3},null,"Right",{"$f":"$D$2","v":3},"3 Left","3 Right"]
[null,9,"Left",{"$f":"$F$2","v":4},11,"Right",{"$f":"$F$2","v":4},"4 Left","4 Right",null,2,"Left",{"$f":"$F$2","v":4},6,"Right",{"$f":"$F$2","v":4},"4 Left","4 Right",null,11,"Left",{"$f":"$F$2","v":4},5,"Right",{"$f":"$F$2","v":4},"4 Left","4 Right",null,1,"Left",{"$f":"$F$2","v":4},3,"Right",{"$f":"$F$2","v":4},"4 Left","4 Right"]
[null,10,"Left",{"$f":"$F$2","v":4},12,"Right",{"$f":"$F$2","v":4},"4 Left","4 Right",null,4,"Left",{"$f":"$F$2","v":4},8,"Right",{"$f":"$F$2","v":4},"4 Left","4 Right",null,10,"Left",{"$f":"$F$2","v":4},12,"Right",{"$f":"$F$2","v":4},"4 Left","4 Right",null,7,"Left",{"$f":"$F$2","v":4},9,"Right",{"$f":"$F$2","v":4},"4 Left","4 Right"]
[null,null,"Left",{"$f":"$F$2","v":4},null,"Right",{"$f":"$F$2","v":4},"4 Left","4 Right",null,null,"Left",{"$f":"$F$2","v":4},null,"Right",{"$f":"$F$2","v":4},"4 Left","4 Right",null,null,"Left",{"$f":"$F$2","v":4},null,"Right",{"$f":"$F$2","v":4},"4 Left","4 Right",null,null,"Left",{"$f":"$F$2","v":4},null,"Right",{"$f":"$F$2","v":4},"4 Left","4 Right"]
[null,null,"Left",{"$f":"$H$2","v":0},null,"Right",{"$f":"$H$2","v":0},"0 Left","0 Right",null,null,"Left",{"$f":"$H$2","v":0},null,"Right",{"$f":"$H$2","v":0},"0 Left","0 Right",null,null,"Left",{"$f":"$H$2","v":0},null,"Right",{"$f":"$H$2","v":0},"0 Left","0 Right",null,null,"Left",{"$f":"$H$2","v":0},null,"Right",{"$f":"$H$2","v":0},"0 Left","0 Right"]
[null,null,"Left",{"$f":"$H$2","v":0},null,"Right",{"$f":"$H$2","v":0},"0 Left","0 Right",null,null,"Left",{"$f":"$H$2","v":0},null,"Right",{"$f":"$H$2","v":0},"0 Left","0 Right",null,null,"Left",{"$f":"$H$2","v":0},null,"Right",{"$f":"$H$2","v":0},"0 Left","0 Right",null,null,"Left",{"$f":"$H$2","v":0},null,"Right",{"$f":"$H$2","v":0},"0 Left","0 Right"]
[null,null,"Left",0,null,"Right",0,"0 Left","0 Right",null,null,"Left",0,null,"Right",0,"0 Left","0 Right",null,null,"Left",0,null,"Right",0,"0 Left","0 Right",null,null,"Left",0,null,"Right",0,"0 Left","0 Right"]
[null,null,"Left",{"$f":"$J$2","v":0},null,"Right",{"$f":"$J$2","v":0},"0 Left","0 Right",null,null,"Left",{"$f":"$J$2","v":0},null,"Right",{"$f":"$J$2","v":0},"0 Left","0 Right",null,null,"Left",{"$f":"$J$2","v":0},null,"Right",{"$f":"$J$2","v":0},"0 Left","0 Right",null,null,"Left",{"$f":"$J$2","v":0},null,"Right",{"$f":"$J$2","v":0},"0 Left","0 Right",null,{"$f":"$B$27","v":0},{"$f":"$H$27","v":"0 Left"},{"$f":"$K$20","v":0},{"$f":"$Q$20","v":"2 Left"},{"$f":"$T$20","v":0},{"$f":"$Z$20","v":"2 Left"},{"$f":"$AC$20","v":0},{"$f":"$AI$20","v":"2 Left"}]
[null,null,"Left",{"$f":"$J$2","v":0},null,"Right",{"$f":"$J$2","v":0},"0 Left","0 Right",null,null,"Left",{"$f":"$J$2","v":0},null,"Right",{"$f":"$J$2","v":0},"0 Left","0 Right",null,null,"Left",{"$f":"$J$2","v":0},null,"Right",{"$f":"$J$2","v":0},"0 Left","0 Right",null,null,"Left",{"$f":"$J$2","v":0},null,"Right",{"$f":"$J$2","v":0},"0 Left","0 Right",null,{"$f":"$E$27","v":0},{"$f":"$I$27","v":"0 Right"},{"$f":"$K$23","v":0},{"$f":"$Q$23","v":"3 Left"},{"$f":"$T$23","v":0},{"$f":"$Z$23","v":"3 Left"},{"$f":"$AC$23","v":0},{"$f":"$AI$23","v":"3 Left"}]
[null,null,"Left",0,null,"Right",0,"0 Left","0 Right",null,null,"Left",0,null,"Right",0,"0 Left","0 Right",null,null,"Left",0,null,"Right",0,"0 Left","0 Right",null,null,"Left",0,null,"Right",0,"0 Left","0 Right",null,{"$f":"$B$30","v":0},{"$f":"$H$30","v":"0 Left"},{"$f":"$K$26","v":0},{"$f":"$Q$26","v":"4 Left"},{"$f":"$T$26","v":0},{"$f":"$Z$26","v":"4 Left"},{"$f":"$AC$26","v":0},{"$f":"$AI$26","v":"4 Left"}]
[null,null,"Left",{"$f":"$L$2","v":0},null,"Right",{"$f":"$L$2","v":0},"0 Left","0 Right",null,null,"Left",{"$f":"$L$2","v":0},null,"Right",{"$f":"$L$2","v":0},"0 Left","0 Right",null,null,"Left",{"$f":"$L$2","v":0},null,"Right",{"$f":"$L$2","v":0},"0 Left","0 Right",null,null,"Left",{"$f":"$L$2","v":0},null,"Right",{"$f":"$L$2","v":0},"0 Left","0 Right",null,{"$f":"$E$30","v":0},{"$f":"$I$30","v":"0 Right"},{"$f":"$K$27","v":0},{"$f":"$Q$27","v":"0 Left"},{"$f":"$T$27","v":0},{"$f":"$Z$27","v":"0 Left"},{"$f":"$AC$27","v":0},{"$f":"$AI$27","v":"0 Left"}]
[null,null,"Left",{"$f":"$L$2","v":0},null,"Right",{"$f":"$L$2","v":0},"0 Left","0 Right",null,null,"Left",{"$f":"$L$2","v":0},null,"Right",{"$f":"$L$2","v":0},"0 Left","0 Right",null,null,"Left",{"$f":"$L$2","v":0},null,"Right",{"$f":"$L$2","v":0},"0 Left","0 Right",null,null,"Left",{"$f":"$L$2","v":0},null,"Right",{"$f":"$L$2","v":0},"0 Left","0 Right",null,{"$f":"$B$28","v":0},{"$f":"$H$28","v":"0 Left"},{"$f":"$K$28","v":0},{"$f":"$Q$28","v":"0 Left"},{"$f":"$T$28","v":0},{"$f":"$Z$28","v":"0 Left"},{"$f":"$AC$28","v":0},{"$f":"$AI$28","v":"0 Left"}]
[null,null,"Left",0,null,"Right",0,"0 Left","0 Right",null,null,"Left",0,null,"Right",0,"0 Left","0 Right",null,null,"Left",0,null,"Right",0,"0 Left","0 Right",null,null,"Left",0,null,"Right",0,"0 Left","0 Right",null,{"$f":"$E$28","v":0},{"$f":"$I$28","v":"0 Right"},{"$f":"$K$29","v":0},{"$f":"$Q$29","v":"0 Left"},{"$f":"$T$29","v":0},{"$f":"$Z$29","v":"0 Left"},{"$f":"$AC$29","v":0},{"$f":"$AI$29","v":"0 Left"}]
[null,null,"Left",{"$f":"$N$2","v":0},null,"Right",{"$f":"$N$2","v":0},"0 Left","0 Right",null,null,"Left",{"$f":"$N$2","v":0},null,"Right",{"$f":"$N$2","v":0},"0 Left","0 Right",null,null,"Left",{"$f":"$N$2","v":0},null,"Right",{"$f":"$N$2","v":0},"0 Left","0 Right",null,null,"Left",{"$f":"$N$2","v":0},null,"Right",{"$f":"$N$2","v":0},"0 Left","0 Right",null,{"$f":"$B$31","v":0},{"$f":"$H$31","v":"0 Left"},{"$f":"$K$30","v":0},{"$f":"$Q$30","v":"0 Left"},{"$f":"$T$30","v":0},{"$f":"$Z$30","v":"0 Left"},{"$f":"$AC$30","v":0},{"$f":"$AI$30","v":"0 Left"}]
[null,null,"Left",{"$f":"$N$2","v":0},null,"Right",{"$f":"$N$2","v":0},"0 Left","0 Right",null,null,"Left",{"$f":"$N$2","v":0},null,"Right",{"$f":"$N$2","v":0},"0 Left","0 Right",null,null,"Left",{"$f":"$N$2","v":0},null,"Right",{"$f":"$N$2","v":0},"0 Left","0 Right",null,null,"Left",{"$f":"$N$2","v":0},null,"Right",{"$f":"$N$2","v":0},"0 Left","0 Right",null,{"$f":"$E$31","v":0},{"$f":"$I$31","v":"0 Right"},{"$f":"$K$31","v":0},{"$f":"$Q$31","v":"0 Left"},{"$f":"$T$31","v":0},{"$f":"$Z$31","v":"0 Left"},{"$f":"$AC$31","v":0},{"$f":"$AI$31","v":"0 Left"}]
[null,null,"Left",0,null,"Right",0,"0 Left","0 Right",null,null,"Left",0,null,"Right",0,"0 Left","0 Right",null,null,"Left",0,null,"Right",0,"0 Left","0 Right",null,null,"Left",0,null,"Right",0,"0 Left","0 Right",null,{"$f":"$B$20","v":0},{"$f":"$H$20","v":"2 Left"},{"$f":"$K$32","v":0},{"$f":"$Q$32","v":"0 Left"},{"$f":"$T$32","v":0},{"$f":"$Z$32","v":"0 Left"},{"$f":"$AC$32","v":0},{"$f":"$AI$32","v":"0 Left"}]
[null,null,"Left",{"$f":"$P$2","v":0},null,"Right",{"$f":"$P$2","v":0},"0 Left","0 Right",null,null,"Left",{"$f":"$P$2","v":0},null,"Right",{"$f":"$P$2","v":0},"0 Left","0 Right",null,null,"Left",{"$f":"$P$2","v":0},null,"Right",{"$f":"$P$2","v":0},"0 Left","0 Right",null,null,"Left",{"$f":"$P$2","v":0},null,"Right",{"$f":"$P$2","v":0},"0 Left","0 Right",null,{"$f":"$E$20","v":0},{"$f":"$I$20","v":"2 Right"},{"$f":"$K$33","v":0},{"$f":"$Q$33","v":"0 Left"},{"$f":"$T$33","v":0},{"$f":"$Z$33","v":"0 Left"},{"$f":"$AC$33","v":0},{"$f":"$AI$33","v":"0 Left"}]
[null,null,"Left",{"$f":"$P$2","v":0},null,"Right",{"$f":"$P$2","v":0},"0 Left","0 Right",null,null,"Left",{"$f":"$P$2","v":0},null,"Right",{"$f":"$P$2","v":0},"0 Left","0 Right",null,null,"Left",{"$f":"$P$2","v":0},null,"Right",{"$f":"$P$2","v":0},"0 Left","0 Right",null,null,"Left",{"$f":"$P$2","v":0},null,"Right",{"$f":"$P$2","v":0},"0 Left","0 Right",null,{"$f":"$B$33","v":0},{"$f":"$H$33","v":"0 Left"},{"$f":"$K$34","v":0},{"$f":"$Q$34","v":"0 Left"},{"$f":"$T$34","v":0},{"$f":"$Z$34","v":"0 Left"},{"$f":"$AC$34","v":0},{"$f":"$AI$34","v":"0 Left"}]
[null,null,"Left",0,null,"Right",0,"0 Left","0 Right",null,null,"Left",0,null,"Right",0,"0 Left","0 Right",null,null,"Left",0,null,"Right",0,"0 Left","0 Right",null,null,"Left",0,null,"Right",0,"0 Left","0 Right",null,{"$f":"$E$33","v":0},{"$f":"$I$33","v":"0 Right"},{"$f":"$K$35","v":0},{"$f":"$Q$35","v":"0 Left"},{"$f":"$T$35","v":0},{"$f":"$Z$35","v":"0 Left"},{"$f":"$AC$35","v":0},{"$f":"$AI$35","v":"0 Left"}]
[null,null,"Left",{"$f":"$R$2","v":0},null,"Right",{"$f":"$R$2","v":0},"0 Left","0 Right",null,null,"Left",{"$f":"$R$2","v":0},null,"Right",{"$f":"$R$2","v":0},"0 Left","0 Right",null,null,"Left",{"$f":"$R$2","v":0},null,"Right",{"$f":"$R$2","v":0},"0 Left","0 Right",null,null,"Left",{"$f":"$R$2","v":0},null,"Right",{"$f":"$R$2","v":0},"0 Left","0 Right",null,{"$f":"$B$36","v":0},{"$f":"$H$36","v":"0 Left"},{"$f":"$K$36","v":0},{"$f":"$Q$36","v":"0 Left"},{"$f":"$T$36","v":0},{"$f":"$Z$36","v":"0 Left"},{"$f":"$AC$36","v":0},{"$f":"$AI$36","v":"0 Left"}]
[null,null,"Left",{"$f":"$R$2","v":0},null,"Right",{"$f":"$R$2","v":0},"0 Left","0 Right",null,null,"Left",{"$f":"$R$2","v":0},null,"Right",{"$f":"$R$2","v":0},"0 Left","0 Right",null,null,"Left",{"$f":"$R$2","v":0},null,"Right",{"$f":"$R$2","v":0},"0 Left","0 Right",null,null,"Left",{"$f":"$R$2","v":0},null,"Right",{"$f":"$R$2","v":0},"0 Left","0 Right",null,{"$f":"$E$36","v":0},{"$f":"$I$36","v":"0 Right"},{"$f":"$K$37","v":0},{"$f":"$Q$37","v":"0 Left"},{"$f":"$T$37","v":0},{"$f":"$Z$37","v":"0 Left"},{"$f":"$AC$37","v":0},{"$f":"$AI$37","v":"0 Left"}]
[null,null,"Left",0,null,"Right",0,"0 Left","0 Right",null,null,"Left",0,null,"Right",0,"0 Left","0 Right",null,null,"Left",0,null,"Right",0,"0 Left","0 Right",null,null,"Left",0,null,"Right",0,"0 Left","0 Right",null,{"$f":"$B$39","v":0},{"$f":"$H$39","v":"0 Left"},{"$f":"$K$38","v":0},{"$f":"$Q$38","v":"0 Left"},{"$f":"$T$38","v":0},{"$f":"$Z$38","v":"0 Left"},{"$f":"$AC$38","v":0},{"$f":"$AI$38","v":"0 Left"}]
[null,null,"Left",{"$f":"$T$2","v":0},null,"Right",{"$f":"$T$2","v":0},"0 Left","0 Right",null,null,"Left",{"$f":"$T$2","v":0},null,"Right",{"$f":"$T$2","v":0},"0 Left","0 Right",null,null,"Left",{"$f":"$T$2","v":0},null,"Right",{"$f":"$T$2","v":0},"0 Left","0 Right",null,null,"Left",{"$f":"$T$2","v":0},null,"Right",{"$f":"$T$2","v":0},"0 Left","0 Right",null,{"$f":"$E$39","v":0},{"$f":"$I$39","v":"0 Right"},{"$f":"$K$39","v":0},{"$f":"$Q$39","v":"0 Left"},{"$f":"$T$39","v":0},{"$f":"$Z$39","v":"0 Left"},{"$f":"$AC$39","v":0},{"$f":"$AI$39","v":"0 Left"}]
[null,null,"Left",{"$f":"$T$2","v":0},null,"Right",{"$f":"$T$2","v":0},"0 Left","0 Right",null,null,"Left",{"$f":"$T$2","v":0},null,"Right",{"$f":"$T$2","v":0},"0 Left","0 Right",null,null,"Left",{"$f":"$T$2","v":0},null,"Right",{"$f":"$T$2","v":0},"0 Left","0 Right",null,null,"Left",{"$f":"$T$2","v":0},null,"Right",{"$f":"$T$2","v":0},"0 Left","0 Right",null,{"$f":"$B$42","v":0},{"$f":"$H$42","v":"0 Left"},{"$f":"$K$40","v":0},{"$f":"$Q$40","v":"0 Left"},{"$f":"$T$40","v":0},{"$f":"$Z$40","v":"0 Left"},{"$f":"$AC$40","v":0},{"$f":"$AI$40","v":"0 Left"}]
[null,null,"Left",0,null,"Right",0,"0 Left","0 Right",null,null,"Left",0,null,"Right",0,"0 Left","0 Right",null,null,"Left",0,null,"Right",0,"0 Left","0 Right",null,null,"Left",0,null,"Right",0,"0 Left","0 Right",null,{"$f":"$E$42","v":0},{"$f":"$I$42","v":"0 Right"},{"$f":"$K$41","v":0},{"$f":"$Q$41","v":"0 Left"},{"$f":"$T$41","v":0},{"$f":"$Z$41","v":"0 Left"},{"$f":"$AC$41","v":0},{"$f":"$AI$41","v":"0 Left"}]
[null,null,"Left",{"$f":"$V$2","v":0},null,"Right",{"$f":"$V$2","v":0},"0 Left","0 Right",null,null,"Left",{"$f":"$V$2","v":0},null,"Right",{"$f":"$V$2","v":0},"0 Left","0 Right",null,null,"Left",{"$f":"$V$2","v":0},null,"Right",{"$f":"$V$2","v":0},"0 Left","0 Right",null,null,"Left",{"$f":"$V$2","v":0},null,"Right",{"$f":"$V$2","v":0},"0 Left","0 Right",null,{"$f":"$B$45","v":0},{"$f":"$H$45","v":"0 Left"},{"$f":"$K$42","v":0},{"$f":"$Q$42","v":"0 Left"},{"$f":"$T$42","v":0},{"$f":"$Z$42","v":"0 Left"},{"$f":"$AC$42","v":0},{"$f":"$AI$42","v":"0 Left"}]
[null,null,"Left",{"$f":"$V$2","v":0},null,"Right",{"$f":"$V$2","v":0},"0 Left","0 Right",null,null,"Left",{"$f":"$V$2","v":0},null,"Right",{"$f":"$V$2","v":0},"0 Left","0 Right",null,null,"Left",{"$f":"$V$2","v":0},null,"Right",{"$f":"$V$2","v":0},"0 Left","0 Right",null,null,"Left",{"$f":"$V$2","v":0},null,"Right",{"$f":"$V$2","v":0},"0 Left","0 Right",null,{"$f":"$E$45","v":0},{"$f":"$I$45","v":"0 Right"},{"$f":"$K$43","v":0},{"$f":"$Q$43","v":"0 Left"},{"$f":"$T$43","v":0},{"$f":"$Z$43","v":"0 Left"},{"$f":"$AC$43","v":0},{"$f":"$AI$43","v":"0 Left"}]
[null,null,"Left",0,null,"Right",0,"0 Left","0 Right",null,null,"Left",0,null,"Right",0,"0 Left","0 Right",null,null,"Left",0,null,"Right",0,"0 Left","0 Right",null,null,"Left",0,null,"Right",0,"0 Left","0 Right",null,{"$f":"$B$34","v":0},{"$f":"$H$34","v":"0 Left"},{"$f":"$K$44","v":0},{"$f":"$Q$44","v":"0 Left"},{"$f":"$T$44","v":0},{"$f":"$Z$44","v":"0 Left"},{"$f":"$AC$44","v":0},{"$f":"$AI$44","v":"0 Left"}]
[null,null,"Left",{"$f":"$X$2","v":0},null,"Right",{"$f":"$X$2","v":0},"0 Left","0 Right",null,null,"Left",{"$f":"$X$2","v":0},null,"Right",{"$f":"$X$2","v":0},"0 Left","0 Right",null,null,"Left",{"$f":"$X$2","v":0},null,"Right",{"$f":"$X$2","v":0},"0 Left","0 Right",null,null,"Left",{"$f":"$X$2","v":0},null,"Right",{"$f":"$X$2","v":0},"0 Left","0 Right",null,{"$f":"$E$34","v":0},{"$f":"$I$34","v":"0 Right"},{"$f":"$K$45","v":0},{"$f":"$Q$45","v":"0 Left"},{"$f":"$T$45","v":0},{"$f":"$Z$45","v":"0 Left"},{"$f":"$AC$45","v":0},{"$f":"$AI$45","v":"0 Left"}]
[null,null,"Left",{"$f":"$X$2","v":0},null,"Right",{"$f":"$X$2","v":0},"0 Left","0 Right",null,null,"Left",{"$f":"$X$2","v":0},null,"Right",{"$f":"$X$2","v":0},"0 Left","0 Right",null,null,"Left",{"$f":"$X$2","v":0},null,"Right",{"$f":"$X$2","v":0},"0 Left","0 Right",null,null,"Left",{"$f":"$X$2","v":0},null,"Right",{"$f":"$X$2","v":0},"0 Left","0 Right",null,{"$f":"$B$37","v":0},{"$f":"$H$37","v":"0 Left"},{"$f":"$K$46","v":0},{"$f":"$Q$46","v":"0 Left"},{"$f":"$T$46","v":0},{"$f":"$Z$46","v":"0 Left"},{"$f":"$AC$46","v":0},{"$f":"$AI$46","v":"0 Left"}]
[null,null,"Left",0,null,"Right",0,"0 Left","0 Right",null,null,"Left",0,null,"Right",0,"0 Left","0 Right",null,null,"Left",0,null,"Right",0,"0 Left","0 Right",null,null,"Left",0,null,"Right",0,"0 Left","0 Right",null,{"$f":"$E$37","v":0},{"$f":"$I$37","v":"0 Right"},{"$f":"$K$47","v":0},{"$f":"$Q$47","v":"0 Left"},{"$f":"$T$47","v":0},{"$f":"$Z$47","v":"0 Left"},{"$f":"$AC$47","v":0},{"$f":"$AI$47","v":"0 Left"}]
[null,null,"Left",{"$f":"$Z$2","v":0},null,"Right",{"$f":"$Z$2","v":0},"0 Left","0 Right",null,null,"Left",{"$f":"$Z$2","v":0},null,"Right",{"$f":"$Z$2","v":0},"0 Left","0 Right",null,null,"Left",{"$f":"$Z$2","v":0},null,"Right",{"$f":"$Z$2","v":0},"0 Left","0 Right",null,null,"Left",{"$f":"$Z$2","v":0},null,"Right",{"$f":"$Z$2","v":0},"0 Left","0 Right",null,{"$f":"$B$40","v":0},{"$f":"$H$40","v":"0 Left"},{"$f":"$K$48","v":0},{"$f":"$Q$48","v":"0 Left"},{"$f":"$T$48","v":0},{"$f":"$Z$48","v":"0 Left"},{"$f":"$AC$48","v":0},{"$f":"$AI$48","v":"0 Left"}]
[null,null,"Left",{"$f":"$Z$2","v":0},null,"Right",{"$f":"$Z$2","v":0},"0 Left","0 Right",null,null,"Left",{"$f":"$Z$2","v":0},null,"Right",{"$f":"$Z$2","v":0},"0 Left","0 Right",null,null,"Left",{"$f":"$Z$2","v":0},null,"Right",{"$f":"$Z$2","v":0},"0 Left","0 Right",null,null,"Left",{"$f":"$Z$2","v":0},null,"Right",{"$f":"$Z$2","v":0},"0 Left","0 Right",null,{"$f":"$E$40","v":0},{"$f":"$I$40","v":"0 Right"},{"$f":"$K$49","v":0},{"$f":"$Q$49","v":"0 Left"},{"$f":"$T$49","v":0},{"$f":"$Z$49","v":"0 Left"},{"$f":"$AC$49","v":0},{"$f":"$AI$49","v":"0 Left"}]
[null,null,"Left",0,null,"Right",0,"0 Left","0 Right",null,null,"Left",0,null,"Right",0,"0 Left","0 Right",null,null,"Left",0,null,"Right",0,"0 Left","0 Right",null,null,"Left",0,null,"Right",0,"0 Left","0 Right",null,{"$f":"$B$43","v":0},{"$f":"$H$43","v":"0 Left"},{"$f":"$K$50","v":0},{"$f":"$Q$50","v":"0 Left"},{"$f":"$T$50","v":0},{"$f":"$Z$50","v":"0 Left"},{"$f":"$AC$50","v":0},{"$f":"$AI$50","v":"0 Left"}]
[null,null,"Left",{"$f":"$AB$2","v":0},null,"Right",{"$f":"$AB$2","v":0},"0 Left","0 Right",null,null,"Left",{"$f":"$AB$2","v":0},null,"Right",{"$f":"$AB$2","v":0},"0 Left","0 Right",null,null,"Left",{"$f":"$AB$2","v":0},null,"Right",{"$f":"$AB$2","v":0},"0 Left","0 Right",null,null,"Left",{"$f":"$AB$2","v":0},null,"Right",{"$f":"$AB$2","v":0},"0 Left","0 Right",null,{"$f":"$E$43","v":0},{"$f":"$I$43","v":"0 Right"},{"$f":"$K$51","v":0},{"$f":"$Q$51","v":"0 Left"},{"$f":"$T$51","v":0},{"$f":"$Z$51","v":"0 Left"},{"$f":"$AC$51","v":0},{"$f":"$AI$51","v":"0 Left"}]
[null,null,"Left",{"$f":"$AB$2","v":0},null,"Right",{"$f":"$AB$2","v":0},"0 Left","0 Right",null,null,"Left",{"$f":"$AB$2","v":0},null,"Right",{"$f":"$AB$2","v":0},"0 Left","0 Right",null,null,"Left",{"$f":"$AB$2","v":0},null,"Right",{"$f":"$AB$2","v":0},"0 Left","0 Right",null,null,"Left",{"$f":"$AB$2","v":0},null,"Right",{"$f":"$AB$2","v":0},"0 Left","0 Right",null,{"$f":"$B$46","v":0},{"$f":"$H$46","v":"0 Left"},{"$f":"$K$52","v":0},{"$f":"$Q$52","v":"0 Left"},{"$f":"$T$52","v":0},{"$f":"$Z$52","v":"0 Left"},{"$f":"$AC$52","v":0},{"$f":"$AI$52","v":"0 Left"}]
[null,null,"Left",0,null,"Right",0,"0 Left","0 Right",null,null,"Left",0,null,"Right",0,"0 Left","0 Right",null,null,"Left",0,null,"Right",0,"0 Left","0 Right",null,null,"Left",0,null,"Right",0,"0 Left","0 Right",null,{"$f":"$E$46","v":0},{"$f":"$I$46","v":"0 Right"},{"$f":"$K$53","v":0},{"$f":"$Q$53","v":"0 Left"},{"$f":"$T$53","v":0},{"$f":"$Z$53","v":"0 Left"},{"$f":"$AC$53","v":0},{"$f":"$AI$53","v":"0 Left"}]
[null,null,null,null,null,null,null,null,null,null,null,null,null,null,null,null,null,null,null,null,null,null,null,null,null,null,null,null,null,null,null,null,null,null,null,null,null,{"$f":"$B$23","v":0},{"$f":"$H$23","v":"3 Left"},{"$f":"$K$54","v":0},{"$f":"$Q$54","v":"0 Left"},{"$f":"$T$54","v":0},{"$f":"$Z$54","v":"0 Left"},{"$f":"$AC$54","v":0},{"$f":"$AI$54","v":"0 Left"}]
[null,null,null,null,null,null,null,null,null,null,null,null,null,null,null,null,null,null,null,null,null,null,null,null,null,null,null,null,null,null,null,null,null,null,null,null,null,{"$f":"$B$26","v":0},{"$f":"$H$26","v":"4 Left"},{"$f":"$K$55","v":0},{"$f":"$Q$55","v":"0 Left"},{"$f":"$T$55","v":0},{"$f":"$Z$55","v":"0 Left"},{"$f":"$AC$55","v":0},{"$f":"$AI$55","v":"0 Left"}]
[null,null,null,null,null,null,null,null,null,null,null,null,null,null,null,null,null,null,null,null,null,null,null,null,null,null,null,null,null,null,null,null,null,null,null,null,null,{"$f":"$B$29","v":0},{"$f":"$H$29","v":"0 Left"},{"$f":"$K$56","v":0},{"$f":"$Q$56","v":"0 Left"},{"$f":"$T$56","v":0},{"$f":"$Z$56","v":"0 Left"},{"$f":"$AC$56","v":0},{"$f":"$AI$56","v":"0 Left"}]
[null,null,null,null,null,null,null,null,null,null,null,null,null,null,null,null,null,null,null,null,null,null,null,null,null,null,null,null,null,null,null,null,null,null,null,null,null,{"$f":"$B$32","v":0},{"$f":"$H$32","v":"0 Left"},{"$f":"$K$57","v":0},{"$f":"$Q$57","v":"0 Left"},{"$f":"$T$57","v":0},{"$f":"$Z$57","v":"0 Left"},{"$f":"$AC$57","v":0},{"$f":"$AI$57","v":"0 Left"}]
[null,null,null,null,null,null,null,null,null,null,null,null,null,null,null,null,null,null,null,null,null,null,null,null,null,null,null,null,null,null,null,null,null,null,null,null,null,{"$f":"$B$35","v":0},{"$f":"$H$35","v":"0 Left"},{"$f":"$K$58","v":0},{"$f":"$Q$58","v":"0 Left"},{"$f":"$T$58","v":0},{"$f":"$Z$58","v":"0 Left"},{"$f":"$AC$58","v":0},{"$f":"$AI$58","v":"0 Left"}]
[null,null,null,null,null,null,null,null,null,null,null,null,null,null,null,null,null,null,null,null,null,null,null,null,null,null,null,null,null,null,null,null,null,null,null,null,null,{"$f":"$B$38","v":0},{"$f":"$H$38","v":"0 Left"},{"$f":"$K$59","v":0},{"$f":"$Q$59","v":"0 Left"},{"$f":"$T$59","v":0},{"$f":"$Z$59","v":"0 Left"},{"$f":"$AC$59","v":0},{"$f":"$AI$59","v":"0 Left"}]
[null,null,null,null,null,null,null,null,null,null,null,null,null,null,null,null,null,null,null,null,null,null,null,null,null,null,null,null,null,null,null,null,null,null,null,null,null,{"$f":"$B$41","v":0},{"$f":"$H$41","v":"0 Left"},{"$f":"$N$20","v":0},{"$f":"$R$20","v":"2 Right"},{"$f":"$W$20","v":0},{"$f":"$AA$20","v":"2 Right"},{"$f":"$AF$20","v":0},{"$f":"$AJ$20","v":"2 Right"}]
[null,null,null,null,null,null,null,null,null,null,null,null,null,null,null,null,null,null,null,null,null,null,null,null,null,null,null,null,null,null,null,null,null,null,null,null,null,{"$f":"$B$44","v":0},{"$f":"$H$44","v":"0 Left"},{"$f":"$N$23","v":0},{"$f":"$R$23","v":"3 Right"},{"$f":"$W$23","v":0},{"$f":"$AA$23","v":"3 Right"},{"$f":"$AF$23","v":0},{"$f":"$AJ$23","v":"3 Right"}]
[null,null,null,null,null,null,null,null,null,null,null,null,null,null,null,null,null,null,null,null,null,null,null,null,null,null,null,null,null,null,null,null,null,null,null,null,null,{"$f":"$B$47","v":0},{"$f":"$H$47","v":"0 Left"},{"$f":"$N$26","v":0},{"$f":"$R$26","v":"4 Right"},{"$f":"$W$26","v":0},{"$f":"$AA$26","v":"4 Right"},{"$f":"$AF$26","v":0},{"$f":"$AJ$26","v":"4 Right"}]
[null,null,null,null,null,null,null,null,null,null,null,null,null,null,null,null,null,null,null,null,null,null,null,null,null,null,null,null,null,null,null,null,null,null,null,null,null,{"$f":"$B$48","v":0},{"$f":"$H$48","v":"0 Left"},{"$f":"$N$27","v":0},{"$f":"$R$27","v":"0 Right"},{"$f":"$W$27","v":0},{"$f":"$AA$27","v":"0 Right"},{"$f":"$AF$27","v":0},{"$f":"$AJ$27","v":"0 Right"}]
[null,null,null,null,null,null,null,null,null,null,null,null,null,null,null,null,null,null,null,null,null,null,null,null,null,null,null,null,null,null,null,null,null,null,null,null,null,{"$f":"$B$49","v":0},{"$f":"$H$49","v":"0 Left"},{"$f":"$N$28","v":0},{"$f":"$R$28","v":"0 Right"},{"$f":"$W$28","v":0},{"$f":"$AA$28","v":"0 Right"},{"$f":"$AF$28","v":0},{"$f":"$AJ$28","v":"0 Right"}]
[null,null,null,null,null,null,null,null,null,null,null,null,null,null,null,null,null,null,null,null,null,null,null,null,null,null,null,null,null,null,null,null,null,null,null,null,null,{"$f":"$B$50","v":0},{"$f":"$H$50","v":"0 Left"},{"$f":"$N$29","v":0},{"$f":"$R$29","v":"0 Right"},{"$f":"$W$29","v":0},{"$f":"$AA$29","v":"0 Right"},{"$f":"$AF$29","v":0},{"$f":"$AJ$29","v":"0 Right"}]
[null,null,null,null,null,null,null,null,null,null,null,null,null,null,null,null,null,null,null,null,null,null,null,null,null,null,null,null,null,null,null,null,null,null,null,null,null,{"$f":"$B$51","v":0},{"$f":"$H$51","v":"0 Left"},{"$f":"$N$30","v":0},{"$f":"$R$30","v":"0 Right"},{"$f":"$W$30","v":0},{"$f":"$AA$30","v":"0 Right"},{"$f":"$AF$30","v":0},{"$f":"$AJ$30","v":"0 Right"}]
[null,null,null,null,null,null,null,null,null,null,null,null,null,null,null,null,null,null,null,null,null,null,null,null,null,null,null,null,null,null,null,null,null,null,null,null,null,{"$f":"$B$52","v":0},{"$f":"$H$52","v":"0 Left"},{"$f":"$N$31","v":0},{"$f":"$R$31","v":"0 Right"},{"$f":"$W$31","v":0},{"$f":"$AA$31","v":"0 Right"},{"$f":"$AF$31","v":0},{"$f":"$AJ$31","v":"0 Right"}]
[null,null,null,null,null,null,null,null,null,null,null,null,null,null,null,null,null,null,null,null,null,null,null,null,null,null,null,null,null,null,null,null,null,null,null,null,null,{"$f":"$B$53","v":0},{"$f":"$H$53","v":"0 Left"},{"$f":"$N$32","v":0},{"$f":"$R$32","v":"0 Right"},{"$f":"$W$32","v":0},{"$f":"$AA$32","v":"0 Right"},{"$f":"$AF$32","v":0},{"$f":"$AJ$32","v":"0 Right"}]
[null,null,null,null,null,null,null,null,null,null,null,null,null,null,null,null,null,null,null,null,null,null,null,null,null,null,null,null,null,null,null,null,null,null,null,null,null,{"$f":"$B$54","v":0},{"$f":"$H$54","v":"0 Left"},{"$f":"$N$33","v":0},{"$f":"$R$33","v":"0 Right"},{"$f":"$W$33","v":0},{"$f":"$AA$33","v":"0 Right"},{"$f":"$AF$33","v":0},{"$f":"$AJ$33","v":"0 Right"}]
[null,null,null,null,null,null,null,null,null,null,null,null,null,null,null,null,null,null,null,null,null,null,null,null,null,null,null,null,null,null,null,null,null,null,null,null,null,{"$f":"$B$55","v":0},{"$f":"$H$55","v":"0 Left"},{"$f":"$N$34","v":0},{"$f":"$R$34","v":"0 Right"},{"$f":"$W$34","v":0},{"$f":"$AA$34","v":"0 Right"},{"$f":"$AF$34","v":0},{"$f":"$AJ$34","v":"0 Right"}]
[null,null,null,null,null,null,null,null,null,null,null,null,null,null,null,null,null,null,null,null,null,null,null,null,null,null,null,null,null,null,null,null,null,null,null,null,null,{"$f":"$B$56","v":0},{"$f":"$H$56","v":"0 Left"},{"$f":"$N$35","v":0},{"$f":"$R$35","v":"0 Right"},{"$f":"$W$35","v":0},{"$f":"$AA$35","v":"0 Right"},{"$f":"$AF$35","v":0},{"$f":"$AJ$35","v":"0 Right"}]
[null,null,null,null,null,null,null,null,null,null,null,null,null,null,null,null,null,null,null,null,null,null,null,null,null,null,null,null,null,null,null,null,null,null,null,null,null,{"$f":"$B$57","v":0},{"$f":"$H$57","v":"0 Left"},{"$f":"$N$36","v":0},{"$f":"$R$36","v":"0 Right"},{"$f":"$W$36","v":0},{"$f":"$AA$36","v":"0 Right"},{"$f":"$AF$36","v":0},{"$f":"$AJ$36","v":"0 Right"}]
[null,null,null,null,null,null,null,null,null,null,null,null,null,null,null,null,null,null,null,null,null,null,null,null,null,null,null,null,null,null,null,null,null,null,null,null,null,{"$f":"$B$58","v":0},{"$f":"$H$58","v":"0 Left"},{"$f":"$N$37","v":0},{"$f":"$R$37","v":"0 Right"},{"$f":"$W$37","v":0},{"$f":"$AA$37","v":"0 Right"},{"$f":"$AF$37","v":0},{"$f":"$AJ$37","v":"0 Right"}]
[null,null,null,null,null,null,null,null,null,null,null,null,null,null,null,null,null,null,null,null,null,null,null,null,null,null,null,null,null,null,null,null,null,null,null,null,null,{"$f":"$B$59","v":0},{"$f":"$H$59","v":"0 Left"},{"$f":"$N$38","v":0},{"$f":"$R$38","v":"0 Right"},{"$f":"$W$38","v":0},{"$f":"$AA$38","v":"0 Right"},{"$f":"$AF$38","v":0},{"$f":"$AJ$38","v":"0 Right"}]
[null,null,null,null,null,null,null,null,null,null,null,null,null,null,null,null,null,null,null,null,null,null,null,null,null,null,null,null,null,null,null,null,null,null,null,null,null,{"$f":"$E$23","v":0},{"$f":"$I$23","v":"3 Right"},{"$f":"$N$39","v":0},{"$f":"$R$39","v":"0 Right"},{"$f":"$W$39","v":0},{"$f":"$AA$39","v":"0 Right"},{"$f":"$AF$39","v":0},{"$f":"$AJ$39","v":"0 Right"}]
[null,null,null,null,null,null,null,null,null,null,null,null,null,null,null,null,null,null,null,null,null,null,null,null,null,null,null,null,null,null,null,null,null,null,null,null,null,{"$f":"$E$26","v":0},{"$f":"$I$26","v":"4 Right"},{"$f":"$N$40","v":0},{"$f":"$R$40","v":"0 Right"},{"$f":"$W$40","v":0},{"$f":"$AA$40","v":"0 Right"},{"$f":"$AF$40","v":0},{"$f":"$AJ$40","v":"0 Right"}]
[null,null,null,null,null,null,null,null,null,null,null,null,null,null,null,null,null,null,null,null,null,null,null,null,null,null,null,null,null,null,null,null,null,null,null,null,null,{"$f":"$E$29","v":0},{"$f":"$I$29","v":"0 Right"},{"$f":"$N$41","v":0},{"$f":"$R$41","v":"0 Right"},{"$f":"$W$41","v":0},{"$f":"$AA$41","v":"0 Right"},{"$f":"$AF$41","v":0},{"$f":"$AJ$41","v":"0 Right"}]
[null,null,null,null,null,null,null,null,null,null,null,null,null,null,null,null,null,null,null,null,null,null,null,null,null,null,null,null,null,null,null,null,null,null,null,null,null,{"$f":"$E$32","v":0},{"$f":"$I$32","v":"0 Right"},{"$f":"$N$42","v":0},{"$f":"$R$42","v":"0 Right"},{"$f":"$W$42","v":0},{"$f":"$AA$42","v":"0 Right"},{"$f":"$AF$42","v":0},{"$f":"$AJ$42","v":"0 Right"}]
[null,null,null,null,null,null,null,null,null,null,null,null,null,null,null,null,null,null,null,null,null,null,null,null,null,null,null,null,null,null,null,null,null,null,null,null,null,{"$f":"$E$35","v":0},{"$f":"$I$35","v":"0 Right"},{"$f":"$N$43","v":0},{"$f":"$R$43","v":"0 Right"},{"$f":"$W$43","v":0},{"$f":"$AA$43","v":"0 Right"},{"$f":"$AF$43","v":0},{"$f":"$AJ$43","v":"0 Right"}]
[null,null,null,null,null,null,null,null,null,null,null,null,null,null,null,null,null,null,null,null,null,null,null,null,null,null,null,null,null,null,null,null,null,null,null,null,null,{"$f":"$E$38","v":0},{"$f":"$I$38","v":"0 Right"},{"$f":"$N$44","v":0},{"$f":"$R$44","v":"0 Right"},{"$f":"$W$44","v":0},{"$f":"$AA$44","v":"0 Right"},{"$f":"$AF$44","v":0},{"$f":"$AJ$44","v":"0 Right"}]
[null,null,null,null,null,null,null,null,null,null,null,null,null,null,null,null,null,null,null,null,null,null,null,null,null,null,null,null,null,null,null,null,null,null,null,null,null,{"$f":"$E$41","v":0},{"$f":"$I$41","v":"0 Right"},{"$f":"$N$45","v":0},{"$f":"$R$45","v":"0 Right"},{"$f":"$W$45","v":0},{"$f":"$AA$45","v":"0 Right"},{"$f":"$AF$45","v":0},{"$f":"$AJ$45","v":"0 Right"}]
[null,null,null,null,null,null,null,null,null,null,null,null,null,null,null,null,null,null,null,null,null,null,null,null,null,null,null,null,null,null,null,null,null,null,null,null,null,{"$f":"$E$44","v":0},{"$f":"$I$44","v":"0 Right"},{"$f":"$N$46","v":0},{"$f":"$R$46","v":"0 Right"},{"$f":"$W$46","v":0},{"$f":"$AA$46","v":"0 Right"},{"$f":"$AF$46","v":0},{"$f":"$AJ$46","v":"0 Right"}]
[null,null,null,null,null,null,null,null,null,null,null,null,null,null,null,null,null,null,null,null,null,null,null,null,null,null,null,null,null,null,null,null,null,null,null,null,null,{"$f":"$E$47","v":0},{"$f":"$I$47","v":"0 Right"},{"$f":"$N$47","v":0},{"$f":"$R$47","v":"0 Right"},{"$f":"$W$47","v":0},{"$f":"$AA$47","v":"0 Right"},{"$f":"$AF$47","v":0},{"$f":"$AJ$47","v":"0 Right"}]
[null,null,null,null,null,null,null,null,null,null,null,null,null,null,null,null,null,null,null,null,null,null,null,null,null,null,null,null,null,null,null,null,null,null,null,null,null,{"$f":"$E$48","v":0},{"$f":"$I$48","v":"0 Right"},{"$f":"$N$48","v":0},{"$f":"$R$48","v":"0 Right"},{"$f":"$W$48","v":0},{"$f":"$AA$48","v":"0 Right"},{"$f":"$AF$48","v":0},{"$f":"$AJ$48","v":"0 Right"}]
[null,null,null,null,null,null,null,null,null,null,null,null,null,null,null,null,null,null,null,null,null,null,null,null,null,null,null,null,null,null,null,null,null,null,null,null,null,{"$f":"$E$49","v":0},{"$f":"$I$49","v":"0 Right"},{"$f":"$N$49","v":0},{"$f":"$R$49","v":"0 Right"},{"$f":"$W$49","v":0},{"$f":"$AA$49","v":"0 Right"},{"$f":"$AF$49","v":0},{"$f":"$AJ$49","v":"0 Right"}]
[null,null,null,null,null,null,null,null,null,null,null,null,null,null,null,null,null,null,null,null,null,null,null,null,null,null,null,null,null,null,null,null,null,null,null,null,null,{"$f":"$E$50","v":0},{"$f":"$I$50","v":"0 Right"},{"$f":"$N$50","v":0},{"$f":"$R$50","v":"0 Right"},{"$f":"$W$50","v":0},{"$f":"$AA$50","v":"0 Right"},{"$f":"$AF$50","v":0},{"$f":"$AJ$50","v":"0 Right"}]
[null,null,null,null,null,null,null,null,null,null,null,null,null,null,null,null,null,null,null,null,null,null,null,null,null,null,null,null,null,null,null,null,null,null,null,null,null,{"$f":"$E$51","v":0},{"$f":"$I$51","v":"0 Right"},{"$f":"$N$51","v":0},{"$f":"$R$51","v":"0 Right"},{"$f":"$W$51","v":0},{"$f":"$AA$51","v":"0 Right"},{"$f":"$AF$51","v":0},{"$f":"$AJ$51","v":"0 Right"}]
[null,null,null,null,null,null,null,null,null,null,null,null,null,null,null,null,null,null,null,null,null,null,null,null,null,null,null,null,null,null,null,null,null,null,null,null,null,{"$f":"$E$52","v":0},{"$f":"$I$52","v":"0 Right"},{"$f":"$N$52","v":0},{"$f":"$R$52","v":"0 Right"},{"$f":"$W$52","v":0},{"$f":"$AA$52","v":"0 Right"},{"$f":"$AF$52","v":0},{"$f":"$AJ$52","v":"0 Right"}]
[null,null,null,null,null,null,null,null,null,null,null,null,null,null,null,null,null,null,null,null,null,null,null,null,null,null,null,null,null,null,null,null,null,null,null,null,null,{"$f":"$E$53","v":0},{"$f":"$I$53","v":"0 Right"},{"$f":"$N$53","v":0},{"$f":"$R$53","v":"0 Right"},{"$f":"$W$53","v":0},{"$f":"$AA$53","v":"0 Right"},{"$f":"$AF$53","v":0},{"$f":"$AJ$53","v":"0 Right"}]
[null,null,null,null,null,null,null,null,null,null,null,null,null,null,null,null,null,null,null,null,null,null,null,null,null,null,null,null,null,null,null,null,null,null,null,null,null,{"$f":"$E$54","v":0},{"$f":"$I$54","v":"0 Right"},{"$f":"$N$54","v":0},{"$f":"$R$54","v":"0 Right"},{"$f":"$W$54","v":0},{"$f":"$AA$54","v":"0 Right"},{"$f":"$AF$54","v":0},{"$f":"$AJ$54","v":"0 Right"}]
[null,null,null,null,null,null,null,null,null,null,null,null,null,null,null,null,null,null,null,null,null,null,null,null,null,null,null,null,null,null,null,null,null,null,null,null,null,{"$f":"$E$55","v":0},{"$f":"$I$55","v":"0 Right"},{"$f":"$N$55","v":0},{"$f":"$R$55","v":"0 Right"},{"$f":"$W$55","v":0},{"$f":"$AA$55","v":"0 Right"},{"$f":"$AF$55","v":0},{"$f":"$AJ$55","v":"0 Right"}]
[null,null,null,null,null,null,null,null,null,null,null,null,null,null,null,null,null,null,null,null,null,null,null,null,null,null,null,null,null,null,null,null,null,null,null,null,null,{"$f":"$E$56","v":0},{"$f":"$I$56","v":"0 Right"},{"$f":"$N$56","v":0},{"$f":"$R$56","v":"0 Right"},{"$f":"$W$56","v":0},{"$f":"$AA$56","v":"0 Right"},{"$f":"$AF$56","v":0},{"$f":"$AJ$56","v":"0 Right"}]
[null,null,null,null,null,null,null,null,null,null,null,null,null,null,null,null,null,null,null,null,null,null,null,null,null,null,null,null,null,null,null,null,null,null,null,null,null,{"$f":"$E$57","v":0},{"$f":"$I$57","v":"0 Right"},{"$f":"$N$57","v":0},{"$f":"$R$57","v":"0 Right"},{"$f":"$W$57","v":0},{"$f":"$AA$57","v":"0 Right"},{"$f":"$AF$57","v":0},{"$f":"$AJ$57","v":"0 Right"}]
[null,null,null,null,null,null,null,null,null,null,null,null,null,null,null,null,null,null,null,null,null,null,null,null,null,null,null,null,null,null,null,null,null,null,null,null,null,{"$f":"$E$58","v":0},{"$f":"$I$58","v":"0 Right"},{"$f":"$N$58","v":0},{"$f":"$R$58","v":"0 Right"},{"$f":"$W$58","v":0},{"$f":"$AA$58","v":"0 Right"},{"$f":"$AF$58","v":0},{"$f":"$AJ$58","v":"0 Right"}]
[null,null,null,null,null,null,null,null,null,null,null,null,null,null,null,null,null,null,null,null,null,null,null,null,null,null,null,null,null,null,null,null,null,null,null,null,null,{"$f":"$E$59","v":0},{"$f":"$I$59","v":"0 Right"},{"$f":"$N$59","v":0},{"$f":"$R$59","v":"0 Right"},{"$f":"$W$59","v":0},{"$f":"$AA$59","v":"0 Right"},{"$f":"$AF$59","v":0},{"$f":"$AJ$59","v":"0 Right"}]

{"sheet":"14","index":4,"n_rows":101,"n_cols":42,"rows_kept":101,"cut":false,"hidden":true,"merged":[[16,37,16,38],[15,1,15,6],[15,10,15,15],[15,19,15,24],[15,28,15,33],[0,1,0,6],[8,0,10,0],[11,0,13,0],[14,1,14,6],[1,1,1,2],[1,3,1,4],[1,5,1,6],[2,0,4,0],[5,0,7,0]]}
[null,"YOU MAY CHANGE THESE RINK NUMBERS IF YOU WISH"]
["Round",1,1,2,2,3,3]
[1,1,2,3,4,5,13]
[null,6,7,8,9,14,10]
[null,11,12]
[2,4,3,2,5,1,6]
[null,8,9,10,11,7,12]
[null,13,14]
[3,5,10,6,7,4,3]
[null,1,11,8,9,14,13]
[null,2,12]
[4,6,13,2,5,8,1]
[null,3,7,11,10,12,9]
[null,4,14]
[null,"14 on 1 green"]
[null,1,null,null,null,null,null,null,null,null,2,null,null,null,null,null,null,null,null,3,null,null,null,null,null,null,null,null,4]
[null,"no","Left","rink","no","Right","rink","L","R",null,"no","Left","rink","no","Right","rink","L","R",null,"no","Left","rink","no","Right","rink","L","R",null,"no","Left","rink","no","Right","rink","L","R",null,1]
[null,1,"Left",{"$f":"$B$2","v":1},2,"Right",{"$f":"$B$2","v":1},{"$f":"(D18&\" \"&C18)","v":"1 Left"},{"$f":"(G18&\" \"&F18)","v":"1 Right"},null,4,"Left",{"$f":"$B$2","v":1},3,"Right",{"$f":"$B$2","v":1},{"$f":"(M18&\" \"&L18)","v":"1 Left"},{"$f":"(P18&\" \"&O18)","v":"1 Right"},null,5,"Left",{"$f":"$B$2","v":1},10,"Right",{"$f":"$B$2","v":1},{"$f":"(V18&\" \"&U18)","v":"1 Left"},{"$f":"(Y18&\" \"&X18)","v":"1 Right"},null,6,"Left",{"$f":"$B$2","v":1},13,"Right",{"$f":"$B$2","v":1},{"$f":"(AE18&\" \"&AD18)","v":"1 Left"},{"$f":"(AH18&\" \"&AG18)","v":"1 Right"},null,1,{"$f":"$H$18","v":"1 Left"},{"$f":"$Q$24","v":"3 Left"},{"$f":"$Z$19","v":"1 Left"},{"$f":"$AJ$24","v":"3 Right"}]
[null,6,"Left",{"$f":"$B$2","v":1},7,"Right",{"$f":"$B$2","v":1},{"$f":"(D19&\" \"&C19)","v":"1 Left"},{"$f":"(G19&\" \"&F19)","v":"1 Right"},null,8,"Left",{"$f":"$B$2","v":1},9,"Right",{"$f":"$B$2","v":1},{"$f":"(M19&\" \"&L19)","v":"1 Left"},{"$f":"(P19&\" \"&O19)","v":"1 Right"},null,1,"Left",{"$f":"$B$2","v":1},11,"Right",{"$f":"$B$2","v":1},{"$f":"(V19&\" \"&U19)","v":"1 Left"},{"$f":"(Y19&\" \"&X19)","v":"1 Right"},null,3,"Left",{"$f":"$B$2","v":1},7,"Right",{"$f":"$B$2","v":1},{"$f":"(AE19&\" \"&AD19)","v":"1 Left"},{"$f":"(AH19&\" \"&AG19)","v":"1 Right"},null,2,{"$f":"$I$18","v":"1 Right"},{"$f":"$Q$21","v":"2 Left"},{"$f":"$Z$20","v":"1 Left"},{"$f":"$AI$21","v":"2 Left"}]
[null,11,"Left",{"$f":"$B$2","v":1},12,"Right",{"$f":"$B$2","v":1},"1 Left","1 Right",null,13,"Left",{"$f":"$B$2","v":1},14,"Right",{"$f":"$B$2","v":1},"1 Left","1 Right",null,2,"Left",{"$f":"$B$2","v":1},12,"Right",{"$f":"$B$2","v":1},"1 Left","1 Right",null,4,"Left",{"$f":"$B$2","v":1},14,"Right",{"$f":"$B$2","v":1},"1 Left","1 Right",null,3,{"$f":"$H$21","v":"2 Left"},{"$f":"$R$18","v":"1 Right"},{"$f":"$AA$24","v":"3 Right"},{"$f":"$AI$19","v":"1 Left"}]
[null,3,"Left",{"$f":"$D$2","v":2},4,"Right",{"$f":"$D$2","v":2},"2 Left","2 Right",null,2,"Left",{"$f":"$D$2","v":2},5,"Right",{"$f":"$D$2","v":2},"2 Left","2 Right",null,6,"Left",{"$f":"$D$2","v":2},7,"Right",{"$f":"$D$2","v":2},"2 Left","2 Right",null,2,"Left",{"$f":"$D$2","v":2},5,"Right",{"$f":"$D$2","v":2},"2 Left","2 Right",null,4,{"$f":"$I$21","v":"2 Right"},{"$f":"$Q$18","v":"1 Left"},{"$f":"$Z$24","v":"3 Left"},{"$f":"$AI$20","v":"1 Left"}]
[null,8,"Left",{"$f":"$D$2","v":2},9,"Right",{"$f":"$D$2","v":2},"2 Left","2 Right",null,10,"Left",{"$f":"$D$2","v":2},11,"Right",{"$f":"$D$2","v":2},"2 Left","2 Right",null,8,"Left",{"$f":"$D$2","v":2},9,"Right",{"$f":"$D$2","v":2},"2 Left","2 Right",null,11,"Left",{"$f":"$D$2","v":2},10,"Right",{"$f":"$D$2","v":2},"2 Left","2 Right",null,5,{"$f":"$H$24","v":"3 Left"},{"$f":"$R$21","v":"2 Right"},{"$f":"$Z$18","v":"1 Left"},{"$f":"$AJ$21","v":"2 Right"}]
[null,null,"Left",{"$f":"$D$2","v":2},null,"Right",{"$f":"$D$2","v":2},"2 Left","2 Right",null,null,"Left",{"$f":"$D$2","v":2},null,"Right",{"$f":"$D$2","v":2},"2 Left","2 Right",null,null,"Left",{"$f":"$D$2","v":2},null,"Right",{"$f":"$D$2","v":2},"2 Left","2 Right",null,null,"Left",{"$f":"$D$2","v":2},null,"Right",{"$f":"$D$2","v":2},"2 Left","2 Right",null,6,{"$f":"$H$19","v":"1 Left"},{"$f":"$R$24","v":"3 Right"},{"$f":"$Z$21","v":"2 Left"},{"$f":"$AI$18","v":"1 Left"}]
[null,5,"Left",{"$f":"$F$2","v":3},13,"Right",{"$f":"$F$2","v":3},"3 Left","3 Right",null,1,"Left",{"$f":"$F$2","v":3},6,"Right",{"$f":"$F$2","v":3},"3 Left","3 Right",null,4,"Left",{"$f":"$F$2","v":3},3,"Right",{"$f":"$F$2","v":3},"3 Left","3 Right",null,8,"Left",{"$f":"$F$2","v":3},1,"Right",{"$f":"$F$2","v":3},"3 Left","3 Right",null,7,{"$f":"$I$19","v":"1 Right"},{"$f":"$Q$24","v":"3 Left"},{"$f":"$AA$21","v":"2 Right"},{"$f":"$AJ$19","v":"1 Right"}]
[null,14,"Left",{"$f":"$F$2","v":3},10,"Right",{"$f":"$F$2","v":3},"3 Left","3 Right",null,7,"Left",{"$f":"$F$2","v":3},12,"Right",{"$f":"$F$2","v":3},"3 Left","3 Right",null,14,"Left",{"$f":"$F$2","v":3},13,"Right",{"$f":"$F$2","v":3},"3 Left","3 Right",null,12,"Left",{"$f":"$F$2","v":3},9,"Right",{"$f":"$F$2","v":3},"3 Left","3 Right",null,8,{"$f":"$H$21","v":"2 Left"},{"$f":"$Q$19","v":"1 Left"},{"$f":"$Z$21","v":"2 Left"},{"$f":"$AI$24","v":"3 Left"}]
[null,null,"Left",{"$f":"$F$2","v":3},null,"Right",{"$f":"$F$2","v":3},"3 Left","3 Right",null,null,"Left",{"$f":"$F$2","v":3},null,"Right",{"$f":"$F$2","v":3},"3 Left","3 Right",null,null,"Left",{"$f":"$F$2","v":3},null,"Right",{"$f":"$F$2","v":3},"3 Left","3 Right",null,null,"Left",{"$f":"$F$2","v":3},null,"Right",{"$f":"$F$2","v":3},"3 Left","3 Right",null,9,{"$f":"$I$21","v":"2 Right"},{"$f":"$R$19","v":"1 Right"},{"$f":"$AA$21","v":"2 Right"},{"$f":"$AJ$24","v":"3 Right"}]
[null,null,"Left",{"$f":"$H$2","v":0},null,"Right",{"$f":"$H$2","v":0},"0 Left","0 Right",null,null,"Left",{"$f":"$H$2","v":0},null,"Right",{"$f":"$H$2","v":0},"0 Left","0 Right",null,null,"Left",{"$f":"$H$2","v":0},null,"Right",{"$f":"$H$2","v":0},"0 Left","0 Right",null,null,"Left",{"$f":"$H$2","v":0},null,"Right",{"$f":"$H$2","v":0},"0 Left","0 Right",null,10,{"$f":"$I$24","v":"3 Right"},{"$f":"$Q$21","v":"2 Left"},{"$f":"$AA$18","v":"1 Right"},{"$f":"$AJ$21","v":"2 Right"}]
[null,null,"Left",{"$f":"$H$2","v":0},null,"Right",{"$f":"$H$2","v":0},"0 Left","0 Right",null,null,"Left",{"$f":"$H$2","v":0},null,"Right",{"$f":"$H$2","v":0},"0 Left","0 Right",null,null,"Left",{"$f":"$H$2","v":0},null,"Right",{"$f":"$H$2","v":0},"0 Left","0 Right",null,null,"Left",{"$f":"$H$2","v":0},null,"Right",{"$f":"$H$2","v":0},"0 Left","0 Right",null,11,{"$f":"$H$20","v":"1 Left"},{"$f":"$R$21","v":"2 Right"},{"$f":"$AA$19","v":"1 Right"},{"$f":"$AI$21","v":"2 Left"}]
[null,null,"Left",0,null,"Right",0,"0 Left","0 Right",null,null,"Left",0,null,"Right",0,"0 Left","0 Right",null,null,"Left",0,null,"Right",0,"0 Left","0 Right",null,null,"Left",0,null,"Right",0,"0 Left","0 Right",null,12,{"$f":"$I$20","v":"1 Right"},{"$f":"$R$24","v":"3 Right"},{"$f":"$AA$20","v":"1 Right"},{"$f":"$AI$24","v":"3 Left"}]
[null,null,"Left",{"$f":"$J$2","v":0},null,"Right",{"$f":"$J$2","v":0},"0 Left","0 Right",null,null,"Left",{"$f":"$J$2","v":0},null,"Right",{"$f":"$J$2","v":0},"0 Left","0 Right",null,null,"Left",{"$f":"$J$2","v":0},null,"Right",{"$f":"$J$2","v":0},"0 Left","0 Right",null,null,"Left",{"$f":"$J$2","v":0},null,"Right",{"$f":"$J$2","v":0},"0 Left","0 Right",null,13,{"$f":"$I$24","v":"3 Right"},{"$f":"$Q$20","v":"1 Left"},{"$f":"$AA$24","v":"3 Right"},{"$f":"$AJ$18","v":"1 Right"}]
[null,null,"Left",{"$f":"$J$2","v":0},null,"Right",{"$f":"$J$2","v":0},"0 Left","0 Right",null,null,"Left",{"$f":"$J$2","v":0},null,"Right",{"$f":"$J$2","v":0},"0 Left","0 Right",null,null,"Left",{"$f":"$J$2","v":0},null,"Right",{"$f":"$J$2","v":0},"0 Left","0 Right",null,null,"Left",{"$f":"$J$2","v":0},null,"Right",{"$f":"$J$2","v":0},"0 Left","0 Right",null,14,{"$f":"$H$24","v":"3 Left"},{"$f":"$R$20","v":"1 Right"},{"$f":"$Z$24","v":"3 Left"},{"$f":"$AJ$20","v":"1 Right"}]
[null,null,"Left",0,null,"Right",0,"0 Left","0 Right",null,null,"Left",0,null,"Right",0,"0 Left","0 Right",null,null,"Left",0,null,"Right",0,"0 Left","0 Right",null,null,"Left",0,null,"Right",0,"0 Left","0 Right",null,null,{"$f":"$H$21","v":"2 Left"},{"$f":"$Q$21","v":"2 Left"},{"$f":"$Z$21","v":"2 Left"},{"$f":"$AI$21","v":"2 Left"}]
[null,null,"Left",{"$f":"$L$2","v":0},null,"Right",{"$f":"$L$2","v":0},"0 Left","0 Right",null,null,"Left",{"$f":"$L$2","v":0},null,"Right",{"$f":"$L$2","v":0},"0 Left","0 Right",null,null,"Left",{"$f":"$L$2","v":0},null,"Right",{"$f":"$L$2","v":0},"0 Left","0 Right",null,null,"Left",{"$f":"$L$2","v":0},null,"Right",{"$f":"$L$2","v":0},"0 Left","0 Right",null,null,{"$f":"$H$24","v":"3 Left"},{"$f":"$Q$24","v":"3 Left"},{"$f":"$Z$24","v":"3 Left"},{"$f":"$AI$24","v":"3 Left"}]
[null,null,"Left",{"$f":"$L$2","v":0},null,"Right",{"$f":"$L$2","v":0},"0 Left","0 Right",null,null,"Left",{"$f":"$L$2","v":0},null,"Right",{"$f":"$L$2","v":0},"0 Left","0 Right",null,null,"Left",{"$f":"$L$2","v":0},null,"Right",{"$f":"$L$2","v":0},"0 Left","0 Right",null,null,"Left",{"$f":"$L$2","v":0},null,"Right",{"$f":"$L$2","v":0},"0 Left","0 Right",null,null,{"$f":"$H$27","v":"0 Left"},{"$f":"$Q$27","v":"0 Left"},{"$f":"$Z$27","v":"0 Left"},{"$f":"$AI$27","v":"0 Left"}]
[null,null,"Left",0,null,"Right",0,"0 Left","0 Right",null,null,"Left",0,null,"Right",0,"0 Left","0 Right",null,null,"Left",0,null,"Right",0,"0 Left","0 Right",null,null,"Left",0,null,"Right",0,"0 Left","0 Right",null,null,{"$f":"$H$27","v":"0 Left"},{"$f":"$Q$27","v":"0 Left"},{"$f":"$Z$27","v":"0 Left"},{"$f":"$AI$27","v":"0 Left"}]
[null,null,"Left",{"$f":"$N$2","v":0},null,"Right",{"$f":"$N$2","v":0},"0 Left","0 Right",null,null,"Left",{"$f":"$N$2","v":0},null,"Right",{"$f":"$N$2","v":0},"0 Left","0 Right",null,null,"Left",{"$f":"$N$2","v":0},null,"Right",{"$f":"$N$2","v":0},"0 Left","0 Right",null,null,"Left",{"$f":"$N$2","v":0},null,"Right",{"$f":"$N$2","v":0},"0 Left","0 Right",null,null,{"$f":"$H$27","v":"0 Left"},{"$f":"$Q$27","v":"0 Left"},{"$f":"$Z$27","v":"0 Left"},{"$f":"$AI$27","v":"0 Left"}]
[null,null,"Left",{"$f":"$N$2","v":0},null,"Right",{"$f":"$N$2","v":0},"0 Left","0 Right",null,null,"Left",{"$f":"$N$2","v":0},null,"Right",{"$f":"$N$2","v":0},"0 Left","0 Right",null,null,"Left",{"$f":"$N$2","v":0},null,"Right",{"$f":"$N$2","v":0},"0 Left","0 Right",null,null,"Left",{"$f":"$N$2","v":0},null,"Right",{"$f":"$N$2","v":0},"0 Left","0 Right",null,null,{"$f":"$I$21","v":"2 Right"},{"$f":"$R$21","v":"2 Right"},{"$f":"$AA$21","v":"2 Right"},{"$f":"$AJ$21","v":"2 Right"}]
[null,null,"Left",0,null,"Right",0,"0 Left","0 Right",null,null,"Left",0,null,"Right",0,"0 Left","0 Right",null,null,"Left",0,null,"Right",0,"0 Left","0 Right",null,null,"Left",0,null,"Right",0,"0 Left","0 Right",null,null,{"$f":"$I$24","v":"3 Right"},{"$f":"$R$24","v":"3 Right"},{"$f":"$AA$24","v":"3 Right"},{"$f":"$AJ$24","v":"3 Right"}]
[null,null,"Left",{"$f":"$P$2","v":0},null,"Right",{"$f":"$P$2","v":0},"0 Left","0 Right",null,null,"Left",{"$f":"$P$2","v":0},null,"Right",{"$f":"$P$2","v":0},"0 Left","0 Right",null,null,"Left",{"$f":"$P$2","v":0},null,"Right",{"$f":"$P$2","v":0},"0 Left","0 Right",null,null,"Left",{"$f":"$P$2","v":0},null,"Right",{"$f":"$P$2","v":0},"0 Left","0 Right",null,null,{"$f":"$I$27","v":"0 Right"},{"$f":"$R$27","v":"0 Right"},{"$f":"$AA$27","v":"0 Right"},{"$f":"$AJ$27","v":"0 Right"}]
[null,null,"Left",{"$f":"$P$2","v":0},null,"Right",{"$f":"$P$2","v":0},"0 Left","0 Right",null,null,"Left",{"$f":"$P$2","v":0},null,"Right",{"$f":"$P$2","v":0},"0 Left","0 Right",null,null,"Left",{"$f":"$P$2","v":0},null,"Right",{"$f":"$P$2","v":0},"0 Left","0 Right",null,null,"Left",{"$f":"$P$2","v":0},null,"Right",{"$f":"$P$2","v":0},"0 Left","0 Right",null,null,{"$f":"$I$27","v":"0 Right"},{"$f":"$R$27","v":"0 Right"},{"$f":"$AA$27","v":"0 Right"},{"$f":"$AJ$27","v":"0 Right"}]
[null,null,"Left",0,null,"Right",0,"0 Left","0 Right",null,null,"Left",0,null,"Right",0,"0 Left","0 Right",null,null,"Left",0,null,"Right",0,"0 Left","0 Right",null,null,"Left",0,null,"Right",0,"0 Left","0 Right",null,null,{"$f":"$I$27","v":"0 Right"},{"$f":"$R$27","v":"0 Right"},{"$f":"$AA$27","v":"0 Right"},{"$f":"$AJ$27","v":"0 Right"}]
[null,null,"Left",{"$f":"$R$2","v":0},null,"Right",{"$f":"$R$2","v":0},"0 Left","0 Right",null,null,"Left",{"$f":"$R$2","v":0},null,"Right",{"$f":"$R$2","v":0},"0 Left","0 Right",null,null,"Left",{"$f":"$R$2","v":0},null,"Right",{"$f":"$R$2","v":0},"0 Left","0 Right",null,null,"Left",{"$f":"$R$2","v":0},null,"Right",{"$f":"$R$2","v":0},"0 Left","0 Right",null,{"$f":"$B$36","v":0},{"$f":"$H$36","v":"0 Left"},{"$f":"$Q$35","v":"0 Left"},{"$f":"$Z$35","v":"0 Left"},{"$f":"$AI$35","v":"0 Left"}]
[null,null,"Left",{"$f":"$R$2","v":0},null,"Right",{"$f":"$R$2","v":0},"0 Left","0 Right",null,null,"Left",{"$f":"$R$2","v":0},null,"Right",{"$f":"$R$2","v":0},"0 Left","0 Right",null,null,"Left",{"$f":"$R$2","v":0},null,"Right",{"$f":"$R$2","v":0},"0 Left","0 Right",null,null,"Left",{"$f":"$R$2","v":0},null,"Right",{"$f":"$R$2","v":0},"0 Left","0 Right",null,{"$f":"$E$36","v":0},{"$f":"$I$36","v":"0 Right"},{"$f":"$Q$36","v":"0 Left"},{"$f":"$Z$36","v":"0 Left"},{"$f":"$AI$36","v":"0 Left"}]
[null,null,"Left",0,null,"Right",0,"0 Left","0 Right",null,null,"Left",0,null,"Right",0,"0 Left","0 Right",null,null,"Left",0,null,"Right",0,"0 Left","0 Right",null,null,"Left",0,null,"Right",0,"0 Left","0 Right",null,{"$f":"$B$39","v":0},{"$f":"$H$39","v":"0 Left"},{"$f":"$Q$37","v":"0 Left"},{"$f":"$Z$37","v":"0 Left"},{"$f":"$AI$37","v":"0 Left"}]
[null,null,"Left",{"$f":"$T$2","v":0},null,"Right",{"$f":"$T$2","v":0},"0 Left","0 Right",null,null,"Left",{"$f":"$T$2","v":0},null,"Right",{"$f":"$T$2","v":0},"0 Left","0 Right",null,null,"Left",{"$f":"$T$2","v":0},null,"Right",{"$f":"$T$2","v":0},"0 Left","0 Right",null,null,"Left",{"$f":"$T$2","v":0},null,"Right",{"$f":"$T$2","v":0},"0 Left","0 Right",null,{"$f":"$E$39","v":0},{"$f":"$I$39","v":"0 Right"},{"$f":"$Q$38","v":"0 Left"},{"$f":"$Z$38","v":"0 Left"},{"$f":"$AI$38","v":"0 Left"}]
[null,null,"Left",{"$f":"$T$2","v":0},null,"Right",{"$f":"$T$2","v":0},"0 Left","0 Right",null,null,"Left",{"$f":"$T$2","v":0},null,"Right",{"$f":"$T$2","v":0},"0 Left","0 Right",null,null,"Left",{"$f":"$T$2","v":0},null,"Right",{"$f":"$T$2","v":0},"0 Left","0 Right",null,null,"Left",{"$f":"$T$2","v":0},null,"Right",{"$f":"$T$2","v":0},"0 Left","0 Right",null,{"$f":"$B$42","v":0},{"$f":"$H$42","v":"0 Left"},{"$f":"$Q$39","v":"0 Left"},{"$f":"$Z$39","v":"0 Left"},{"$f":"$AI$39","v":"0 Left"}]
[null,null,"Left",0,null,"Right",0,"0 Left","0 Right",null,null,"Left",0,null,"Right",0,"0 Left","0 Right",null,null,"Left",0,null,"Right",0,"0 Left","0 Right",null,null,"Left",0,null,"Right",0,"0 Left","0 Right",null,{"$f":"$E$42","v":0},{"$f":"$I$42","v":"0 Right"},{"$f":"$Q$40","v":"0 Left"},{"$f":"$Z$40","v":"0 Left"},{"$f":"$AI$40","v":"0 Left"}]
[null,null,"Left",{"$f":"$V$2","v":0},null,"Right",{"$f":"$V$2","v":0},"0 Left","0 Right",null,null,"Left",{"$f":"$V$2","v":0},null,"Right",{"$f":"$V$2","v":0},"0 Left","0 Right",null,null,"Left",{"$f":"$V$2","v":0},null,"Right",{"$f":"$V$2","v":0},"0 Left","0 Right",null,null,"Left",{"$f":"$V$2","v":0},null,"Right",{"$f":"$V$2","v":0},"0 Left","0 Right",null,{"$f":"$B$45","v":0},{"$f":"$H$45","v":"0 Left"},{"$f":"$Q$41","v":"0 Left"},{"$f":"$Z$41","v":"0 Left"},{"$f":"$AI$41","v":"0 Left"}]
[null,null,"Left",{"$f":"$V$2","v":0},null,"Right",{"$f":"$V$2","v":0},"0 Left","0 Right",null,null,"Left",{"$f":"$V$2","v":0},null,"Right",{"$f":"$V$2","v":0},"0 Left","0 Right",null,null,"Left",{"$f":"$V$2","v":0},null,"Right",{"$f":"$V$2","v":0},"0 Left","0 Right",null,null,"Left",{"$f":"$V$2","v":0},null,"Right",{"$f":"$V$2","v":0},"0 Left","0 Right",null,{"$f":"$E$45","v":0},{"$f":"$I$45","v":"0 Right"},{"$f":"$Q$42","v":"0 Left"},{"$f":"$Z$42","v":"0 Left"},{"$f":"$AI$42","v":"0 Left"}]
[null,null,"Left",0,null,"Right",0,"0 Left","0 Right",null,null,"Left",0,null,"Right",0,"0 Left","0 Right",null,null,"Left",0,null,"Right",0,"0 Left","0 Right",null,null,"Left",0,null,"Right",0,"0 Left","0 Right",null,{"$f":"$B$34","v":0},{"$f":"$H$34","v":"0 Left"},{"$f":"$Q$43","v":"0 Left"},{"$f":"$Z$43","v":"0 Left"},{"$f":"$AI$43","v":"0 Left"}]
[null,null,"Left",{"$f":"$X$2","v":0},null,"Right",{"$f":"$X$2","v":0},"0 Left","0 Right",null,null,"Left",{"$f":"$X$2","v":0},null,"Right",{"$f":"$X$2","v":0},"0 Left","0 Right",null,null,"Left",{"$f":"$X$2","v":0},null,"Right",{"$f":"$X$2","v":0},"0 Left","0 Right",null,null,"Left",{"$f":"$X$2","v":0},null,"Right",{"$f":"$X$2","v":0},"0 Left","0 Right",null,{"$f":"$E$34","v":0},{"$f":"$I$34","v":"0 Right"},{"$f":"$Q$44","v":"0 Left"},{"$f":"$Z$44","v":"0 Left"},{"$f":"$AI$44","v":"0 Left"}]
[null,null,"Left",{"$f":"$X$2","v":0},null,"Right",{"$f":"$X$2","v":0},"0 Left","0 Right",null,null,"Left",{"$f":"$X$2","v":0},null,"Right",{"$f":"$X$2","v":0},"0 Left","0 Right",null,null,"Left",{"$f":"$X$2","v":0},null,"Right",{"$f":"$X$2","v":0},"0 Left","0 Right",null,null,"Left",{"$f":"$X$2","v":0},null,"Right",{"$f":"$X$2","v":0},"0 Left","0 Right",null,{"$f":"$B$37","v":0},{"$f":"$H$37","v":"0 Left"},{"$f":"$Q$45","v":"0 Left"},{"$f":"$Z$45","v":"0 Left"},{"$f":"$AI$45","v":"0 Left"}]
[null,null,"Left",0,null,"Right",0,"0 Left","0 Right",null,null,"Left",0,null,"Right",0,"0 Left","0 Right",null,null,"Left",0,null,"Right",0,"0 Left","0 Right",null,null,"Left",0,null,"Right",0,"0 Left","0 Right",null,{"$f":"$E$37","v":0},{"$f":"$I$37","v":"0 Right"},{"$f":"$Q$46","v":"0 Left"},{"$f":"$Z$46","v":"0 Left"},{"$f":"$AI$46","v":"0 Left"}]
[null,null,"Left",{"$f":"$Z$2","v":0},null,"Right",{"$f":"$Z$2","v":0},"0 Left","0 Right",null,null,"Left",{"$f":"$Z$2","v":0},null,"Right",{"$f":"$Z$2","v":0},"0 Left","0 Right",null,null,"Left",{"$f":"$Z$2","v":0},null,"Right",{"$f":"$Z$2","v":0},"0 Left","0 Right",null,null,"Left",{"$f":"$Z$2","v":0},null,"Right",{"$f":"$Z$2","v":0},"0 Left","0 Right",null,{"$f":"$B$40","v":0},{"$f":"$H$40","v":"0 Left"},{"$f":"$Q$47","v":"0 Left"},{"$f":"$Z$47","v":"0 Left"},{"$f":"$AI$47","v":"0 Left"}]
[null,null,"Left",{"$f":"$Z$2","v":0},null,"Right",{"$f":"$Z$2","v":0},"0 Left","0 Right",null,null,"Left",{"$f":"$Z$2","v":0},null,"Right",{"$f":"$Z$2","v":0},"0 Left","0 Right",null,null,"Left",{"$f":"$Z$2","v":0},null,"Right",{"$f":"$Z$2","v":0},"0 Left","0 Right",null,null,"Left",{"$f":"$Z$2","v":0},null,"Right",{"$f":"$Z$2","v":0},"0 Left","0 Right",null,{"$f":"$E$40","v":0},{"$f":"$I$40","v":"0 Right"},{"$f":"$Q$48","v":"0 Left"},{"$f":"$Z$48","v":"0 Left"},{"$f":"$AI$48","v":"0 Left"}]
[null,null,"Left",0,null,"Right",0,"0 Left","0 Right",null,null,"Left",0,null,"Right",0,"0 Left","0 Right",null,null,"Left",0,null,"Right",0,"0 Left","0 Right",null,null,"Left",0,null,"Right",0,"0 Left","0 Right",null,{"$f":"$B$43","v":0},{"$f":"$H$43","v":"0 Left"},{"$f":"$Q$49","v":"0 Left"},{"$f":"$Z$49","v":"0 Left"},{"$f":"$AI$49","v":"0 Left"}]
[null,null,"Left",{"$f":"$AB$2","v":0},null,"Right",{"$f":"$AB$2","v":0},"0 Left","0 Right",null,null,"Left",{"$f":"$AB$2","v":0},null,"Right",{"$f":"$AB$2","v":0},"0 Left","0 Right",null,null,"Left",{"$f":"$AB$2","v":0},null,"Right",{"$f":"$AB$2","v":0},"0 Left","0 Right",null,null,"Left",{"$f":"$AB$2","v":0},null,"Right",{"$f":"$AB$2","v":0},"0 Left","0 Right",null,{"$f":"$E$43","v":0},{"$f":"$I$43","v":"0 Right"},{"$f":"$Q$50","v":"0 Left"},{"$f":"$Z$50","v":"0 Left"},{"$f":"$AI$50","v":"0 Left"}]
[null,null,"Left",{"$f":"$AB$2","v":0},null,"Right",{"$f":"$AB$2","v":0},"0 Left","0 Right",null,null,"Left",{"$f":"$AB$2","v":0},null,"Right",{"$f":"$AB$2","v":0},"0 Left","0 Right",null,null,"Left",{"$f":"$AB$2","v":0},null,"Right",{"$f":"$AB$2","v":0},"0 Left","0 Right",null,null,"Left",{"$f":"$AB$2","v":0},null,"Right",{"$f":"$AB$2","v":0},"0 Left","0 Right",null,{"$f":"$B$46","v":0},{"$f":"$H$46","v":"0 Left"},{"$f":"$Q$51","v":"0 Left"},{"$f":"$Z$51","v":"0 Left"},{"$f":"$AI$51","v":"0 Left"}]
[null,null,"Left",0,null,"Right",0,"0 Left","0 Right",null,null,"Left",0,null,"Right",0,"0 Left","0 Right",null,null,"Left",0,null,"Right",0,"0 Left","0 Right",null,null,"Left",0,null,"Right",0,"0 Left","0 Right",null,{"$f":"$E$46","v":0},{"$f":"$I$46","v":"0 Right"},{"$f":"$Q$52","v":"0 Left"},{"$f":"$Z$52","v":"0 Left"},{"$f":"$AI$52","v":"0 Left"}]
[null,null,null,null,null,null,null,null,null,null,null,null,null,null,null,null,null,null,null,null,null,null,null,null,null,null,null,null,null,null,null,null,null,null,null,null,null,{"$f":"$B$23","v":0},{"$f":"$H$23","v":"2 Left"},{"$f":"$Q$53","v":"0 Left"},{"$f":"$Z$53","v":"0 Left"},{"$f":"$AI$53","v":"0 Left"}]
[null,null,null,null,null,null,null,null,null,null,null,null,null,null,null,null,null,null,null,null,null,null,null,null,null,null,null,null,null,null,null,null,null,null,null,null,null,{"$f":"$B$26","v":0},{"$f":"$H$26","v":"3 Left"},{"$f":"$Q$54","v":"0 Left"},{"$f":"$Z$54","v":"0 Left"},{"$f":"$AI$54","v":"0 Left"}]
[null,null,null,null,null,null,null,null,null,null,null,null,null,null,null,null,null,null,null,null,null,null,null,null,null,null,null,null,null,null,null,null,null,null,null,null,null,{"$f":"$B$29","v":0},{"$f":"$H$29","v":"0 Left"},{"$f":"$Q$55","v":"0 Left"},{"$f":"$Z$55","v":"0 Left"},{"$f":"$AI$55","v":"0 Left"}]
[null,null,null,null,null,null,null,null,null,null,null,null,null,null,null,null,null,null,null,null,null,null,null,null,null,null,null,null,null,null,null,null,null,null,null,null,null,{"$f":"$B$32","v":0},{"$f":"$H$32","v":"0 Left"},{"$f":"$Q$56","v":"0 Left"},{"$f":"$Z$56","v":"0 Left"},{"$f":"$AI$56","v":"0 Left"}]
[null,null,null,null,null,null,null,null,null,null,null,null,null,null,null,null,null,null,null,null,null,null,null,null,null,null,null,null,null,null,null,null,null,null,null,null,null,{"$f":"$B$35","v":0},{"$f":"$H$35","v":"0 Left"},{"$f":"$Q$57","v":"0 Left"},{"$f":"$Z$57","v":"0 Left"},{"$f":"$AI$57","v":"0 Left"}]
[null,null,null,null,null,null,null,null,null,null,null,null,null,null,null,null,null,null,null,null,null,null,null,null,null,null,null,null,null,null,null,null,null,null,null,null,null,{"$f":"$B$38","v":0},{"$f":"$H$38","v":"0 Left"},{"$f":"$Q$58","v":"0 Left"},{"$f":"$Z$58","v":"0 Left"},{"$f":"$AI$58","v":"0 Left"}]
[null,null,null,null,null,null,null,null,null,null,null,null,null,null,null,null,null,null,null,null,null,null,null,null,null,null,null,null,null,null,null,null,null,null,null,null,null,{"$f":"$B$41","v":0},{"$f":"$H$41","v":"0 Left"},{"$f":"$Q$59","v":"0 Left"},{"$f":"$Z$59","v":"0 Left"},{"$f":"$AI$59","v":"0 Left"}]
[null,null,null,null,null,null,null,null,null,null,null,null,null,null,null,null,null,null,null,null,null,null,null,null,null,null,null,null,null,null,null,null,null,null,null,null,null,{"$f":"$B$44","v":0},{"$f":"$H$44","v":"0 Left"},{"$f":"$R$23","v":"2 Right"},{"$f":"$AA$23","v":"2 Right"},{"$f":"$AJ$23","v":"2 Right"}]
[null,null,null,null,null,null,null,null,null,null,null,null,null,null,null,null,null,null,null,null,null,null,null,null,null,null,null,null,null,null,null,null,null,null,null,null,null,{"$f":"$B$47","v":0},{"$f":"$H$47","v":"0 Left"},{"$f":"$R$26","v":"3 Right"},{"$f":"$AA$26","v":"3 Right"},{"$f":"$AJ$26","v":"3 Right"}]
[null,null,null,null,null,null,null,null,null,null,null,null,null,null,null,null,null,null,null,null,null,null,null,null,null,null,null,null,null,null,null,null,null,null,null,null,null,{"$f":"$B$48","v":0},{"$f":"$H$48","v":"0 Left"},{"$f":"$R$27","v":"0 Right"},{"$f":"$AA$27","v":"0 Right"},{"$f":"$AJ$27","v":"0 Right"}]
[null,null,null,null,null,null,null,null,null,null,null,null,null,null,null,null,null,null,null,null,null,null,null,null,null,null,null,null,null,null,null,null,null,null,null,null,null,{"$f":"$B$49","v":0},{"$f":"$H$49","v":"0 Left"},{"$f":"$R$28","v":"0 Right"},{"$f":"$AA$28","v":"0 Right"},{"$f":"$AJ$28","v":"0 Right"}]
[null,null,null,null,null,null,null,null,null,null,null,null,null,null,null,null,null,null,null,null,null,null,null,null,null,null,null,null,null,null,null,null,null,null,null,null,null,{"$f":"$B$50","v":0},{"$f":"$H$50","v":"0 Left"},{"$f":"$R$29","v":"0 Right"},{"$f":"$AA$29","v":"0 Right"},{"$f":"$AJ$29","v":"0 Right"}]
[null,null,null,null,null,null,null,null,null,null,null,null,null,null,null,null,null,null,null,null,null,null,null,null,null,null,null,null,null,null,null,null,null,null,null,null,null,{"$f":"$B$51","v":0},{"$f":"$H$51","v":"0 Left"},{"$f":"$R$30","v":"0 Right"},{"$f":"$AA$30","v":"0 Right"},{"$f":"$AJ$30","v":"0 Right"}]
[null,null,null,null,null,null,null,null,null,null,null,null,null,null,null,null,null,null,null,null,null,null,null,null,null,null,null,null,null,null,null,null,null,null,null,null,null,{"$f":"$B$52","v":0},{"$f":"$H$52","v":"0 Left"},{"$f":"$R$31","v":"0 Right"},{"$f":"$AA$31","v":"0 Right"},{"$f":"$AJ$31","v":"0 Right"}]
[null,null,null,null,null,null,null,null,null,null,null,null,null,null,null,null,null,null,null,null,null,null,null,null,null,null,null,null,null,null,null,null,null,null,null,null,null,{"$f":"$B$53","v":0},{"$f":"$H$53","v":"0 Left"},{"$f":"$R$32","v":"0 Right"},{"$f":"$AA$32","v":"0 Right"},{"$f":"$AJ$32","v":"0 Right"}]
[null,null,null,null,null,null,null,null,null,null,null,null,null,null,null,null,null,null,null,null,null,null,null,null,null,null,null,null,null,null,null,null,null,null,null,null,null,{"$f":"$B$54","v":0},{"$f":"$H$54","v":"0 Left"},{"$f":"$R$33","v":"0 Right"},{"$f":"$AA$33","v":"0 Right"},{"$f":"$AJ$33","v":"0 Right"}]
[null,null,null,null,null,null,null,null,null,null,null,null,null,null,null,null,null,null,null,null,null,null,null,null,null,null,null,null,null,null,null,null,null,null,null,null,null,{"$f":"$B$55","v":0},{"$f":"$H$55","v":"0 Left"},{"$f":"$R$34","v":"0 Right"},{"$f":"$AA$34","v":"0 Right"},{"$f":"$AJ$34","v":"0 Right"}]
[null,null,null,null,null,null,null,null,null,null,null,null,null,null,null,null,null,null,null,null,null,null,null,null,null,null,null,null,null,null,null,null,null,null,null,null,null,{"$f":"$B$56","v":0},{"$f":"$H$56","v":"0 Left"},{"$f":"$R$35","v":"0 Right"},{"$f":"$AA$35","v":"0 Right"},{"$f":"$AJ$35","v":"0 Right"}]
[null,null,null,null,null,null,null,null,null,null,null,null,null,null,null,null,null,null,null,null,null,null,null,null,null,null,null,null,null,null,null,null,null,null,null,null,null,{"$f":"$B$57","v":0},{"$f":"$H$57","v":"0 Left"},{"$f":"$R$36","v":"0 Right"},{"$f":"$AA$36","v":"0 Right"},{"$f":"$AJ$36","v":"0 Right"}]
[null,null,null,null,null,null,null,null,null,null,null,null,null,null,null,null,null,null,null,null,null,null,null,null,null,null,null,null,null,null,null,null,null,null,null,null,null,{"$f":"$B$58","v":0},{"$f":"$H$58","v":"0 Left"},{"$f":"$R$37","v":"0 Right"},{"$f":"$AA$37","v":"0 Right"},{"$f":"$AJ$37","v":"0 Right"}]
[null,null,null,null,null,null,null,null,null,null,null,null,null,null,null,null,null,null,null,null,null,null,null,null,null,null,null,null,null,null,null,null,null,null,null,null,null,{"$f":"$B$59","v":0},{"$f":"$H$59","v":"0 Left"},{"$f":"$R$38","v":"0 Right"},{"$f":"$AA$38","v":"0 Right"},{"$f":"$AJ$38","v":"0 Right"}]
[null,null,null,null,null,null,null,null,null,null,null,null,null,null,null,null,null,null,null,null,null,null,null,null,null,null,null,null,null,null,null,null,null,null,null,null,null,{"$f":"$E$23","v":0},{"$f":"$I$23","v":"2 Right"},{"$f":"$R$39","v":"0 Right"},{"$f":"$AA$39","v":"0 Right"},{"$f":"$AJ$39","v":"0 Right"}]
[null,null,null,null,null,null,null,null,null,null,null,null,null,null,null,null,null,null,null,null,null,null,null,null,null,null,null,null,null,null,null,null,null,null,null,null,null,{"$f":"$E$26","v":0},{"$f":"$I$26","v":"3 Right"},{"$f":"$R$40","v":"0 Right"},{"$f":"$AA$40","v":"0 Right"},{"$f":"$AJ$40","v":"0 Right"}]
[null,null,null,null,null,null,null,null,null,null,null,null,null,null,null,null,null,null,null,null,null,null,null,null,null,null,null,null,null,null,null,null,null,null,null,null,null,{"$f":"$E$29","v":0},{"$f":"$I$29","v":"0 Right"},{"$f":"$R$41","v":"0 Right"},{"$f":"$AA$41","v":"0 Right"},{"$f":"$AJ$41","v":"0 Right"}]
[null,null,null,null,null,null,null,null,null,null,null,null,null,null,null,null,null,null,null,null,null,null,null,null,null,null,null,null,null,null,null,null,null,null,null,null,null,{"$f":"$E$32","v":0},{"$f":"$I$32","v":"0 Right"},{"$f":"$R$42","v":"0 Right"},{"$f":"$AA$42","v":"0 Right"},{"$f":"$AJ$42","v":"0 Right"}]
[null,null,null,null,null,null,null,null,null,null,null,null,null,null,null,null,null,null,null,null,null,null,null,null,null,null,null,null,null,null,null,null,null,null,null,null,null,{"$f":"$E$35","v":0},{"$f":"$I$35","v":"0 Right"},{"$f":"$R$43","v":"0 Right"},{"$f":"$AA$43","v":"0 Right"},{"$f":"$AJ$43","v":"0 Right"}]
[null,null,null,null,null,null,null,null,null,null,null,null,null,null,null,null,null,null,null,null,null,null,null,null,null,null,null,null,null,null,null,null,null,null,null,null,null,{"$f":"$E$38","v":0},{"$f":"$I$38","v":"0 Right"},{"$f":"$R$44","v":"0 Right"},{"$f":"$AA$44","v":"0 Right"},{"$f":"$AJ$44","v":"0 Right"}]
[null,null,null,null,null,null,null,null,null,null,null,null,null,null,null,null,null,null,null,null,null,null,null,null,null,null,null,null,null,null,null,null,null,null,null,null,null,{"$f":"$E$41","v":0},{"$f":"$I$41","v":"0 Right"},{"$f":"$R$45","v":"0 Right"},{"$f":"$AA$45","v":"0 Right"},{"$f":"$AJ$45","v":"0 Right"}]
[null,null,null,null,null,null,null,null,null,null,null,null,null,null,null,null,null,null,null,null,null,null,null,null,null,null,null,null,null,null,null,null,null,null,null,null,null,{"$f":"$E$44","v":0},{"$f":"$I$44","v":"0 Right"},{"$f":"$R$46","v":"0 Right"},{"$f":"$AA$46","v":"0 Right"},{"$f":"$AJ$46","v":"0 Right"}]
[null,null,null,null,null,null,null,null,null,null,null,null,null,null,null,null,null,null,null,null,null,null,null,null,null,null,null,null,null,null,null,null,null,null,null,null,null,{"$f":"$E$47","v":0},{"$f":"$I$47","v":"0 Right"},{"$f":"$R$47","v":"0 Right"},{"$f":"$AA$47","v":"0 Right"},{"$f":"$AJ$47","v":"0 Right"}]
[null,null,null,null,null,null,null,null,null,null,null,null,null,null,null,null,null,null,null,null,null,null,null,null,null,null,null,null,null,null,null,null,null,null,null,null,null,{"$f":"$E$48","v":0},{"$f":"$I$48","v":"0 Right"},{"$f":"$R$48","v":"0 Right"},{"$f":"$AA$48","v":"0 Right"},{"$f":"$AJ$48","v":"0 Right"}]
[null,null,null,null,null,null,null,null,null,null,null,null,null,null,null,null,null,null,null,null,null,null,null,null,null,null,null,null,null,null,null,null,null,null,null,null,null,{"$f":"$E$49","v":0},{"$f":"$I$49","v":"0 Right"},{"$f":"$R$49","v":"0 Right"},{"$f":"$AA$49","v":"0 Right"},{"$f":"$AJ$49","v":"0 Right"}]
[null,null,null,null,null,null,null,null,null,null,null,null,null,null,null,null,null,null,null,null,null,null,null,null,null,null,null,null,null,null,null,null,null,null,null,null,null,{"$f":"$E$50","v":0},{"$f":"$I$50","v":"0 Right"},{"$f":"$R$50","v":"0 Right"},{"$f":"$AA$50","v":"0 Right"},{"$f":"$AJ$50","v":"0 Right"}]
[null,null,null,null,null,null,null,null,null,null,null,null,null,null,null,null,null,null,null,null,null,null,null,null,null,null,null,null,null,null,null,null,null,null,null,null,null,{"$f":"$E$51","v":0},{"$f":"$I$51","v":"0 Right"},{"$f":"$R$51","v":"0 Right"},{"$f":"$AA$51","v":"0 Right"},{"$f":"$AJ$51","v":"0 Right"}]
[null,null,null,null,null,null,null,null,null,null,null,null,null,null,null,null,null,null,null,null,null,null,null,null,null,null,null,null,null,null,null,null,null,null,null,null,null,{"$f":"$E$52","v":0},{"$f":"$I$52","v":"0 Right"},{"$f":"$R$52","v":"0 Right"},{"$f":"$AA$52","v":"0 Right"},{"$f":"$AJ$52","v":"0 Right"}]
[null,null,null,null,null,null,null,null,null,null,null,null,null,null,null,null,null,null,null,null,null,null,null,null,null,null,null,null,null,null,null,null,null,null,null,null,null,{"$f":"$E$53","v":0},{"$f":"$I$53","v":"0 Right"},{"$f":"$R$53","v":"0 Right"},{"$f":"$AA$53","v":"0 Right"},{"$f":"$AJ$53","v":"0 Right"}]
[null,null,null,null,null,null,null,null,null,null,null,null,null,null,null,null,null,null,null,null,null,null,null,null,null,null,null,null,null,null,null,null,null,null,null,null,null,{"$f":"$E$54","v":0},{"$f":"$I$54","v":"0 Right"},{"$f":"$R$54","v":"0 Right"},{"$f":"$AA$54","v":"0 Right"},{"$f":"$AJ$54","v":"0 Right"}]
[null,null,null,null,null,null,null,null,null,null,null,null,null,null,null,null,null,null,null,null,null,null,null,null,null,null,null,null,null,null,null,null,null,null,null,null,null,{"$f":"$E$55","v":0},{"$f":"$I$55","v":"0 Right"},{"$f":"$R$55","v":"0 Right"},{"$f":"$AA$55","v":"0 Right"},{"$f":"$AJ$55","v":"0 Right"}]
[null,null,null,null,null,null,null,null,null,null,null,null,null,null,null,null,null,null,null,null,null,null,null,null,null,null,null,null,null,null,null,null,null,null,null,null,null,{"$f":"$E$56","v":0},{"$f":"$I$56","v":"0 Right"},{"$f":"$R$56","v":"0 Right"},{"$f":"$AA$56","v":"0 Right"},{"$f":"$AJ$56","v":"0 Right"}]
[null,null,null,null,null,null,null,null,null,null,null,null,null,null,null,null,null,null,null,null,null,null,null,null,null,null,null,null,null,null,null,null,null,null,null,null,null,{"$f":"$E$57","v":0},{"$f":"$I$57","v":"0 Right"},{"$f":"$R$57","v":"0 Right"},{"$f":"$AA$57","v":"0 Right"},{"$f":"$AJ$57","v":"0 Right"}]
[null,null,null,null,null,null,null,null,null,null,null,null,null,null,null,null,null,null,null,null,null,null,null,null,null,null,null,null,null,null,null,null,null,null,null,null,null,{"$f":"$E$58","v":0},{"$f":"$I$58","v":"0 Right"},{"$f":"$R$58","v":"0 Right"},{"$f":"$AA$58","v":"0 Right"},{"$f":"$AJ$58","v":"0 Right"}]
[null,null,null,null,null,null,null,null,null,null,null,null,null,null,null,null,null,null,null,null,null,null,null,null,null,null,null,null,null,null,null,null,null,null,null,null,null,{"$f":"$E$59","v":0},{"$f":"$I$59","v":"0 Right"},{"$f":"$R$59","v":"0 Right"},{"$f":"$AA$59","v":"0 Right"},{"$f":"$AJ$59","v":"0 Right"}]

{"sheet":"16","index":5,"n_rows":101,"n_cols":42,"rows_kept":101,"cut":false,"hidden":true,"merged":[[15,28,15,33],[16,37,16,38],[2,0,3,0],[15,19,15,24],[4,0,5,0],[6,0,7,0],[8,0,9,0],[15,1,15,6],[15,10,15,15],[10,1,10,8],[0,1,0,8],[1,1,1,2],[1,3,1,4],[1,5,1,6],[1,7,1,8]]}
[null,"YOU MAY CHANGE THESE RINK NUMBERS IF YOU WISH"]
["Round",2,null,3,2,4,3,5,4]
[1,1,2,3,4,5,6,7,8]
[null,9,10,11,12,13,14,15,16]
[2,6,8,1,7,2,3,4,5]
[null,12,14,15,13,16,9,10,11]
[3,3,5,4,6,1,8,2,7]
[null,13,15,14,16,11,10,12,9]
[4,7,6,5,8,2,4,1,3]
[null,12,11,10,13,15,9,14,16]
[null,"16 on 1 green"]
[]
[]
[]
[]
[null,1,null,null,null,null,null,null,null,null,2,null,null,null,null,null,null,null,null,3,null,null,null,null,null,null,null,null,4]
[null,"no","Left","rink","no","Right","rink","L","R",null,"no","Left","rink","no","Right","rink","L","R",null,"no","Left","rink","no","Right","rink","L","R",null,"no","Left","rink","no","Right","rink","L","R",null,1]
[null,1,"Left",{"$f":"$B$2","v":2},2,"Right",{"$f":"$B$2","v":2},{"$f":"(D18&\" \"&C18)","v":"2 Left"},{"$f":"(G18&\" \"&F18)","v":"2 Right"},null,6,"Left",{"$f":"$B$2","v":2},8,"Right",{"$f":"$B$2","v":2},{"$f":"(M18&\" \"&L18)","v":"2 Left"},{"$f":"(P18&\" \"&O18)","v":"2 Right"},null,3,"Left",{"$f":"$B$2","v":2},5,"Right",{"$f":"$B$2","v":2},{"$f":"(V18&\" \"&U18)","v":"2 Left"},{"$f":"(Y18&\" \"&X18)","v":"2 Right"},null,7,"Left",{"$f":"$B$2","v":2},6,"Right",{"$f":"$B$2","v":2},{"$f":"(AE18&\" \"&AD18)","v":"2 Left"},{"$f":"(AH18&\" \"&AG18)","v":"2 Right"},null,1,{"$f":"$H$18","v":"2 Left"},{"$f":"$Q$21","v":"3 Left"},{"$f":"$Z$24","v":"4 Left"},{"$f":"$AI$27","v":"5 Left"}]
[null,9,"Left",{"$f":"$B$2","v":2},10,"Right",{"$f":"$B$2","v":2},{"$f":"(D19&\" \"&C19)","v":"2 Left"},{"$f":"(G19&\" \"&F19)","v":"2 Right"},null,12,"Left",{"$f":"$B$2","v":2},14,"Right",{"$f":"$B$2","v":2},{"$f":"(M19&\" \"&L19)","v":"2 Left"},{"$f":"(P19&\" \"&O19)","v":"2 Right"},null,13,"Left",{"$f":"$B$2","v":2},15,"Right",{"$f":"$B$2","v":2},{"$f":"(V19&\" \"&U19)","v":"2 Left"},{"$f":"(Y19&\" \"&X19)","v":"2 Right"},null,12,"Left",{"$f":"$B$2","v":2},11,"Right",{"$f":"$B$2","v":2},{"$f":"(AE19&\" \"&AD19)","v":"2 Left"},{"$f":"(AH19&\" \"&AG19)","v":"2 Right"},null,2,{"$f":"$I$18","v":"2 Right"},{"$f":"$Q$24","v":"4 Left"},{"$f":"$Z$27","v":"5 Left"},{"$f":"$AI$24","v":"4 Left"}]
[null,null,"Left",{"$f":"$B$2","v":2},null,"Right",{"$f":"$B$2","v":2},"2 Left","2 Right",null,null,"Left",{"$f":"$B$2","v":2},null,"Right",{"$f":"$B$2","v":2},"2 Left","2 Right",null,null,"Left",{"$f":"$B$2","v":2},null,"Right",{"$f":"$B$2","v":2},"2 Left","2 Right",null,null,"Left",{"$f":"$B$2","v":2},null,"Right",{"$f":"$B$2","v":2},"2 Left","2 Right",null,3,{"$f":"$H$21","v":"3 Left"},{"$f":"$R$24","v":"4 Right"},{"$f":"$Z$18","v":"2 Left"},{"$f":"$AJ$27","v":"5 Right"}]
[null,3,"Left",{"$f":"$D$2","v":3},4,"Right",{"$f":"$D$2","v":3},"3 Left","3 Right",null,1,"Left",{"$f":"$D$2","v":3},7,"Right",{"$f":"$D$2","v":3},"3 Left","3 Right",null,4,"Left",{"$f":"$D$2","v":3},6,"Right",{"$f":"$D$2","v":3},"3 Left","3 Right",null,5,"Left",{"$f":"$D$2","v":3},8,"Right",{"$f":"$D$2","v":3},"3 Left","3 Right",null,4,{"$f":"$I$21","v":"3 Right"},{"$f":"$Q$27","v":"5 Left"},{"$f":"$Z$21","v":"3 Left"},{"$f":"$AJ$24","v":"4 Right"}]
[null,11,"Left",{"$f":"$D$2","v":3},12,"Right",{"$f":"$D$2","v":3},"3 Left","3 Right",null,15,"Left",{"$f":"$D$2","v":3},13,"Right",{"$f":"$D$2","v":3},"3 Left","3 Right",null,14,"Left",{"$f":"$D$2","v":3},16,"Right",{"$f":"$D$2","v":3},"3 Left","3 Right",null,10,"Left",{"$f":"$D$2","v":3},13,"Right",{"$f":"$D$2","v":3},"3 Left","3 Right",null,5,{"$f":"$H$24","v":"4 Left"},{"$f":"$R$27","v":"5 Right"},{"$f":"$AA$18","v":"2 Right"},{"$f":"$AI$21","v":"3 Left"}]
[null,null,"Left",{"$f":"$D$2","v":3},null,"Right",{"$f":"$D$2","v":3},"3 Left","3 Right",null,null,"Left",{"$f":"$D$2","v":3},null,"Right",{"$f":"$D$2","v":3},"3 Left","3 Right",null,null,"Left",{"$f":"$D$2","v":3},null,"Right",{"$f":"$D$2","v":3},"3 Left","3 Right",null,null,"Left",{"$f":"$D$2","v":3},null,"Right",{"$f":"$D$2","v":3},"3 Left","3 Right",null,6,{"$f":"$I$24","v":"4 Right"},{"$f":"$Q$18","v":"2 Left"},{"$f":"$AA$21","v":"3 Right"},{"$f":"$AJ$18","v":"2 Right"}]
[null,5,"Left",{"$f":"$F$2","v":4},6,"Right",{"$f":"$F$2","v":4},"4 Left","4 Right",null,2,"Left",{"$f":"$F$2","v":4},3,"Right",{"$f":"$F$2","v":4},"4 Left","4 Right",null,1,"Left",{"$f":"$F$2","v":4},8,"Right",{"$f":"$F$2","v":4},"4 Left","4 Right",null,2,"Left",{"$f":"$F$2","v":4},4,"Right",{"$f":"$F$2","v":4},"4 Left","4 Right",null,7,{"$f":"$H$27","v":"5 Left"},{"$f":"$R$21","v":"3 Right"},{"$f":"$AA$27","v":"5 Right"},{"$f":"$AI$18","v":"2 Left"}]
[null,13,"Left",{"$f":"$F$2","v":4},14,"Right",{"$f":"$F$2","v":4},"4 Left","4 Right",null,16,"Left",{"$f":"$F$2","v":4},9,"Right",{"$f":"$F$2","v":4},"4 Left","4 Right",null,11,"Left",{"$f":"$F$2","v":4},10,"Right",{"$f":"$F$2","v":4},"4 Left","4 Right",null,15,"Left",{"$f":"$F$2","v":4},9,"Right",{"$f":"$F$2","v":4},"4 Left","4 Right",null,8,{"$f":"$I$27","v":"5 Right"},{"$f":"$R$18","v":"2 Right"},{"$f":"$AA$24","v":"4 Right"},{"$f":"$AJ$21","v":"3 Right"}]
[null,null,"Left",{"$f":"$F$2","v":4},null,"Right",{"$f":"$F$2","v":4},"4 Left","4 Right",null,null,"Left",{"$f":"$F$2","v":4},null,"Right",{"$f":"$F$2","v":4},"4 Left","4 Right",null,null,"Left",{"$f":"$F$2","v":4},null,"Right",{"$f":"$F$2","v":4},"4 Left","4 Right",null,null,"Left",{"$f":"$F$2","v":4},null,"Right",{"$f":"$F$2","v":4},"4 Left","4 Right",null,9,{"$f":"$H$19","v":"2 Left"},{"$f":"$R$24","v":"4 Right"},{"$f":"$AA$27","v":"5 Right"},{"$f":"$AJ$24","v":"4 Right"}]
[null,7,"Left",{"$f":"$H$2","v":5},8,"Right",{"$f":"$H$2","v":5},"5 Left","5 Right",null,4,"Left",{"$f":"$H$2","v":5},5,"Right",{"$f":"$H$2","v":5},"5 Left","5 Right",null,2,"Left",{"$f":"$H$2","v":5},7,"Right",{"$f":"$H$2","v":5},"5 Left","5 Right",null,1,"Left",{"$f":"$H$2","v":5},3,"Right",{"$f":"$H$2","v":5},"5 Left","5 Right",null,10,{"$f":"$I$19","v":"2 Right"},{"$f":"$Q$27","v":"5 Left"},{"$f":"$AA$24","v":"4 Right"},{"$f":"$AI$21","v":"3 Left"}]
[null,15,"Left",{"$f":"$H$2","v":5},16,"Right",{"$f":"$H$2","v":5},"5 Left","5 Right",null,10,"Left",{"$f":"$H$2","v":5},11,"Right",{"$f":"$H$2","v":5},"5 Left","5 Right",null,12,"Left",{"$f":"$H$2","v":5},9,"Right",{"$f":"$H$2","v":5},"5 Left","5 Right",null,14,"Left",{"$f":"$H$2","v":5},16,"Right",{"$f":"$H$2","v":5},"5 Left","5 Right",null,11,{"$f":"$H$21","v":"3 Left"},{"$f":"$R$27","v":"5 Right"},{"$f":"$Z$24","v":"4 Left"},{"$f":"$AJ$19","v":"2 Right"}]
[null,null,"Left",5,null,"Right",5,"5 Left","5 Right",null,null,"Left",5,null,"Right",5,"5 Left","5 Right",null,null,"Left",5,null,"Right",5,"5 Left","5 Right",null,null,"Left",5,null,"Right",5,"5 Left","5 Right",null,12,{"$f":"$I$21","v":"3 Right"},{"$f":"$Q$19","v":"2 Left"},{"$f":"$Z$27","v":"5 Left"},{"$f":"$AI$19","v":"2 Left"}]
[null,null,"Left",{"$f":"$J$2","v":0},null,"Right",{"$f":"$J$2","v":0},"0 Left","0 Right",null,null,"Left",{"$f":"$J$2","v":0},null,"Right",{"$f":"$J$2","v":0},"0 Left","0 Right",null,null,"Left",{"$f":"$J$2","v":0},null,"Right",{"$f":"$J$2","v":0},"0 Left","0 Right",null,null,"Left",{"$f":"$J$2","v":0},null,"Right",{"$f":"$J$2","v":0},"0 Left","0 Right",null,13,{"$f":"$H$24","v":"4 Left"},{"$f":"$R$21","v":"3 Right"},{"$f":"$Z$19","v":"2 Left"},{"$f":"$AJ$21","v":"3 Right"}]
[null,null,"Left",{"$f":"$J$2","v":0},null,"Right",{"$f":"$J$2","v":0},"0 Left","0 Right",null,null,"Left",{"$f":"$J$2","v":0},null,"Right",{"$f":"$J$2","v":0},"0 Left","0 Right",null,null,"Left",{"$f":"$J$2","v":0},null,"Right",{"$f":"$J$2","v":0},"0 Left","0 Right",null,null,"Left",{"$f":"$J$2","v":0},null,"Right",{"$f":"$J$2","v":0},"0 Left","0 Right",null,14,{"$f":"$I$24","v":"4 Right"},{"$f":"$R$19","v":"2 Right"},{"$f":"$Z$21","v":"3 Left"},{"$f":"$AI$27","v":"5 Left"}]
[null,null,"Left",0,null,"Right",0,"0 Left","0 Right",null,null,"Left",0,null,"Right",0,"0 Left","0 Right",null,null,"Left",0,null,"Right",0,"0 Left","0 Right",null,null,"Left",0,null,"Right",0,"0 Left","0 Right",null,15,{"$f":"$H$27","v":"5 Left"},{"$f":"$Q$21","v":"3 Left"},{"$f":"$AA$19","v":"2 Right"},{"$f":"$AI$24","v":"4 Left"}]
[null,null,"Left",{"$f":"$L$2","v":0},null,"Right",{"$f":"$L$2","v":0},"0 Left","0 Right",null,null,"Left",{"$f":"$L$2","v":0},null,"Right",{"$f":"$L$2","v":0},"0 Left","0 Right",null,null,"Left",{"$f":"$L$2","v":0},null,"Right",{"$f":"$L$2","v":0},"0 Left","0 Right",null,null,"Left",{"$f":"$L$2","v":0},null,"Right",{"$f":"$L$2","v":0},"0 Left","0 Right",null,16,{"$f":"$I$27","v":"5 Right"},{"$f":"$Q$24","v":"4 Left"},{"$f":"$AA$21","v":"3 Right"},{"$f":"$AJ$27","v":"5 Right"}]
[null,null,"Left",{"$f":"$L$2","v":0},null,"Right",{"$f":"$L$2","v":0},"0 Left","0 Right",null,null,"Left",{"$f":"$L$2","v":0},null,"Right",{"$f":"$L$2","v":0},"0 Left","0 Right",null,null,"Left",{"$f":"$L$2","v":0},null,"Right",{"$f":"$L$2","v":0},"0 Left","0 Right",null,null,"Left",{"$f":"$L$2","v":0},null,"Right",{"$f":"$L$2","v":0},"0 Left","0 Right",null,null,{"$f":"$H$20","v":"2 Left"},{"$f":"$Q$20","v":"2 Left"},{"$f":"$Z$20","v":"2 Left"},{"$f":"$AI$20","v":"2 Left"}]
[null,null,"Left",0,null,"Right",0,"0 Left","0 Right",null,null,"Left",0,null,"Right",0,"0 Left","0 Right",null,null,"Left",0,null,"Right",0,"0 Left","0 Right",null,null,"Left",0,null,"Right",0,"0 Left","0 Right",null,null,{"$f":"$H$21","v":"3 Left"},{"$f":"$Q$21","v":"3 Left"},{"$f":"$Z$21","v":"3 Left"},{"$f":"$AI$21","v":"3 Left"}]
[null,null,"Left",{"$f":"$N$2","v":0},null,"Right",{"$f":"$N$2","v":0},"0 Left","0 Right",null,null,"Left",{"$f":"$N$2","v":0},null,"Right",{"$f":"$N$2","v":0},"0 Left","0 Right",null,null,"Left",{"$f":"$N$2","v":0},null,"Right",{"$f":"$N$2","v":0},"0 Left","0 Right",null,null,"Left",{"$f":"$N$2","v":0},null,"Right",{"$f":"$N$2","v":0},"0 Left","0 Right",null,null,{"$f":"$H$24","v":"4 Left"},{"$f":"$Q$24","v":"4 Left"},{"$f":"$Z$24","v":"4 Left"},{"$f":"$AI$24","v":"4 Left"}]
[null,null,"Left",{"$f":"$N$2","v":0},null,"Right",{"$f":"$N$2","v":0},"0 Left","0 Right",null,null,"Left",{"$f":"$N$2","v":0},null,"Right",{"$f":"$N$2","v":0},"0 Left","0 Right",null,null,"Left",{"$f":"$N$2","v":0},null,"Right",{"$f":"$N$2","v":0},"0 Left","0 Right",null,null,"Left",{"$f":"$N$2","v":0},null,"Right",{"$f":"$N$2","v":0},"0 Left","0 Right",null,null,{"$f":"$H$27","v":"5 Left"},{"$f":"$Q$27","v":"5 Left"},{"$f":"$Z$27","v":"5 Left"},{"$f":"$AI$27","v":"5 Left"}]
[null,null,"Left",0,null,"Right",0,"0 Left","0 Right",null,null,"Left",0,null,"Right",0,"0 Left","0 Right",null,null,"Left",0,null,"Right",0,"0 Left","0 Right",null,null,"Left",0,null,"Right",0,"0 Left","0 Right",null,null,{"$f":"$I$20","v":"2 Right"},{"$f":"$R$20","v":"2 Right"},{"$f":"$AA$20","v":"2 Right"},{"$f":"$AJ$20","v":"2 Right"}]
[null,null,"Left",{"$f":"$P$2","v":0},null,"Right",{"$f":"$P$2","v":0},"0 Left","0 Right",null,null,"Left",{"$f":"$P$2","v":0},null,"Right",{"$f":"$P$2","v":0},"0 Left","0 Right",null,null,"Left",{"$f":"$P$2","v":0},null,"Right",{"$f":"$P$2","v":0},"0 Left","0 Right",null,null,"Left",{"$f":"$P$2","v":0},null,"Right",{"$f":"$P$2","v":0},"0 Left","0 Right",null,null,{"$f":"$I$21","v":"3 Right"},{"$f":"$R$21","v":"3 Right"},{"$f":"$AA$21","v":"3 Right"},{"$f":"$AJ$21","v":"3 Right"}]
[null,null,"Left",{"$f":"$P$2","v":0},null,"Right",{"$f":"$P$2","v":0},"0 Left","0 Right",null,null,"Left",{"$f":"$P$2","v":0},null,"Right",{"$f":"$P$2","v":0},"0 Left","0 Right",null,null,"Left",{"$f":"$P$2","v":0},null,"Right",{"$f":"$P$2","v":0},"0 Left","0 Right",null,null,"Left",{"$f":"$P$2","v":0},null,"Right",{"$f":"$P$2","v":0},"0 Left","0 Right",null,null,{"$f":"$I$24","v":"4 Right"},{"$f":"$R$24","v":"4 Right"},{"$f":"$AA$24","v":"4 Right"},{"$f":"$AJ$24","v":"4 Right"}]
[null,null,"Left",0,null,"Right",0,"0 Left","0 Right",null,null,"Left",0,null,"Right",0,"0 Left","0 Right",null,null,"Left",0,null,"Right",0,"0 Left","0 Right",null,null,"Left",0,null,"Right",0,"0 Left","0 Right",null,null,{"$f":"$I$27","v":"5 Right"},{"$f":"$R$27","v":"5 Right"},{"$f":"$AA$27","v":"5 Right"},{"$f":"$AJ$27","v":"5 Right"}]
[null,null,"Left",{"$f":"$R$2","v":0},null,"Right",{"$f":"$R$2","v":0},"0 Left","0 Right",null,null,"Left",{"$f":"$R$2","v":0},null,"Right",{"$f":"$R$2","v":0},"0 Left","0 Right",null,null,"Left",{"$f":"$R$2","v":0},null,"Right",{"$f":"$R$2","v":0},"0 Left","0 Right",null,null,"Left",{"$f":"$R$2","v":0},null,"Right",{"$f":"$R$2","v":0},"0 Left","0 Right",null,{"$f":"$B$36","v":0},{"$f":"$H$36","v":"0 Left"},{"$f":"$Q$34","v":"0 Left"},{"$f":"$Z$34","v":"0 Left"},{"$f":"$AI$34","v":"0 Left"}]
[null,null,"Left",{"$f":"$R$2","v":0},null,"Right",{"$f":"$R$2","v":0},"0 Left","0 Right",null,null,"Left",{"$f":"$R$2","v":0},null,"Right",{"$f":"$R$2","v":0},"0 Left","0 Right",null,null,"Left",{"$f":"$R$2","v":0},null,"Right",{"$f":"$R$2","v":0},"0 Left","0 Right",null,null,"Left",{"$f":"$R$2","v":0},null,"Right",{"$f":"$R$2","v":0},"0 Left","0 Right",null,{"$f":"$E$36","v":0},{"$f":"$I$36","v":"0 Right"},{"$f":"$Q$35","v":"0 Left"},{"$f":"$Z$35","v":"0 Left"},{"$f":"$AI$35","v":"0 Left"}]
[null,null,"Left",0,null,"Right",0,"0 Left","0 Right",null,null,"Left",0,null,"Right",0,"0 Left","0 Right",null,null,"Left",0,null,"Right",0,"0 Left","0 Right",null,null,"Left",0,null,"Right",0,"0 Left","0 Right",null,{"$f":"$B$39","v":0},{"$f":"$H$39","v":"0 Left"},{"$f":"$Q$36","v":"0 Left"},{"$f":"$Z$36","v":"0 Left"},{"$f":"$AI$36","v":"0 Left"}]
[null,null,"Left",{"$f":"$T$2","v":0},null,"Right",{"$f":"$T$2","v":0},"0 Left","0 Right",null,null,"Left",{"$f":"$T$2","v":0},null,"Right",{"$f":"$T$2","v":0},"0 Left","0 Right",null,null,"Left",{"$f":"$T$2","v":0},null,"Right",{"$f":"$T$2","v":0},"0 Left","0 Right",null,null,"Left",{"$f":"$T$2","v":0},null,"Right",{"$f":"$T$2","v":0},"0 Left","0 Right",null,{"$f":"$E$39","v":0},{"$f":"$I$39","v":"0 Right"},{"$f":"$Q$37","v":"0 Left"},{"$f":"$Z$37","v":"0 Left"},{"$f":"$AI$37","v":"0 Left"}]
[null,null,"Left",{"$f":"$T$2","v":0},null,"Right",{"$f":"$T$2","v":0},"0 Left","0 Right",null,null,"Left",{"$f":"$T$2","v":0},null,"Right",{"$f":"$T$2","v":0},"0 Left","0 Right",null,null,"Left",{"$f":"$T$2","v":0},null,"Right",{"$f":"$T$2","v":0},"0 Left","0 Right",null,null,"Left",{"$f":"$T$2","v":0},null,"Right",{"$f":"$T$2","v":0},"0 Left","0 Right",null,{"$f":"$B$42","v":0},{"$f":"$H$42","v":"0 Left"},{"$f":"$Q$38","v":"0 Left"},{"$f":"$Z$38","v":"0 Left"},{"$f":"$AI$38","v":"0 Left"}]
[null,null,"Left",0,null,"Right",0,"0 Left","0 Right",null,null,"Left",0,null,"Right",0,"0 Left","0 Right",null,null,"Left",0,null,"Right",0,"0 Left","0 Right",null,null,"Left",0,null,"Right",0,"0 Left","0 Right",null,{"$f":"$E$42","v":0},{"$f":"$I$42","v":"0 Right"},{"$f":"$Q$39","v":"0 Left"},{"$f":"$Z$39","v":"0 Left"},{"$f":"$AI$39","v":"0 Left"}]
[null,null,"Left",{"$f":"$V$2","v":0},null,"Right",{"$f":"$V$2","v":0},"0 Left","0 Right",null,null,"Left",{"$f":"$V$2","v":0},null,"Right",{"$f":"$V$2","v":0},"0 Left","0 Right",null,null,"Left",{"$f":"$V$2","v":0},null,"Right",{"$f":"$V$2","v":0},"0 Left","0 Right",null,null,"Left",{"$f":"$V$2","v":0},null,"Right",{"$f":"$V$2","v":0},"0 Left","0 Right",null,{"$f":"$B$45","v":0},{"$f":"$H$45","v":"0 Left"},{"$f":"$Q$40","v":"0 Left"},{"$f":"$Z$40","v":"0 Left"},{"$f":"$AI$40","v":"0 Left"}]
[null,null,"Left",{"$f":"$V$2","v":0},null,"Right",{"$f":"$V$2","v":0},"0 Left","0 Right",null,null,"Left",{"$f":"$V$2","v":0},null,"Right",{"$f":"$V$2","v":0},"0 Left","0 Right",null,null,"Left",{"$f":"$V$2","v":0},null,"Right",{"$f":"$V$2","v":0},"0 Left","0 Right",null,null,"Left",{"$f":"$V$2","v":0},null,"Right",{"$f":"$V$2","v":0},"0 Left","0 Right",null,{"$f":"$E$45","v":0},{"$f":"$I$45","v":"0 Right"},{"$f":"$Q$41","v":"0 Left"},{"$f":"$Z$41","v":"0 Left"},{"$f":"$AI$41","v":"0 Left"}]
[null,null,"Left",0,null,"Right",0,"0 Left","0 Right",null,null,"Left",0,null,"Right",0,"0 Left","0 Right",null,null,"Left",0,null,"Right",0,"0 Left","0 Right",null,null,"Left",0,null,"Right",0,"0 Left","0 Right",null,{"$f":"$B$34","v":0},{"$f":"$H$34","v":"0 Left"},{"$f":"$Q$42","v":"0 Left"},{"$f":"$Z$42","v":"0 Left"},{"$f":"$AI$42","v":"0 Left"}]
[null,null,"Left",{"$f":"$X$2","v":0},null,"Right",{"$f":"$X$2","v":0},"0 Left","0 Right",null,null,"Left",{"$f":"$X$2","v":0},null,"Right",{"$f":"$X$2","v":0},"0 Left","0 Right",null,null,"Left",{"$f":"$X$2","v":0},null,"Right",{"$f":"$X$2","v":0},"0 Left","0 Right",null,null,"Left",{"$f":"$X$2","v":0},null,"Right",{"$f":"$X$2","v":0},"0 Left","0 Right",null,{"$f":"$E$34","v":0},{"$f":"$I$34","v":"0 Right"},{"$f":"$Q$43","v":"0 Left"},{"$f":"$Z$43","v":"0 Left"},{"$f":"$AI$43","v":"0 Left"}]
[null,null,"Left",{"$f":"$X$2","v":0},null,"Right",{"$f":"$X$2","v":0},"0 Left","0 Right",null,null,"Left",{"$f":"$X$2","v":0},null,"Right",{"$f":"$X$2","v":0},"0 Left","0 Right",null,null,"Left",{"$f":"$X$2","v":0},null,"Right",{"$f":"$X$2","v":0},"0 Left","0 Right",null,null,"Left",{"$f":"$X$2","v":0},null,"Right",{"$f":"$X$2","v":0},"0 Left","0 Right",null,{"$f":"$B$37","v":0},{"$f":"$H$37","v":"0 Left"},{"$f":"$Q$44","v":"0 Left"},{"$f":"$Z$44","v":"0 Left"},{"$f":"$AI$44","v":"0 Left"}]
[null,null,"Left",0,null,"Right",0,"0 Left","0 Right",null,null,"Left",0,null,"Right",0,"0 Left","0 Right",null,null,"Left",0,null,"Right",0,"0 Left","0 Right",null,null,"Left",0,null,"Right",0,"0 Left","0 Right",null,{"$f":"$E$37","v":0},{"$f":"$I$37","v":"0 Right"},{"$f":"$Q$45","v":"0 Left"},{"$f":"$Z$45","v":"0 Left"},{"$f":"$AI$45","v":"0 Left"}]
[null,null,"Left",{"$f":"$Z$2","v":0},null,"Right",{"$f":"$Z$2","v":0},"0 Left","0 Right",null,null,"Left",{"$f":"$Z$2","v":0},null,"Right",{"$f":"$Z$2","v":0},"0 Left","0 Right",null,null,"Left",{"$f":"$Z$2","v":0},null,"Right",{"$f":"$Z$2","v":0},"0 Left","0 Right",null,null,"Left",{"$f":"$Z$2","v":0},null,"Right",{"$f":"$Z$2","v":0},"0 Left","0 Right",null,{"$f":"$B$40","v":0},{"$f":"$H$40","v":"0 Left"},{"$f":"$Q$46","v":"0 Left"},{"$f":"$Z$46","v":"0 Left"},{"$f":"$AI$46","v":"0 Left"}]
[null,null,"Left",{"$f":"$Z$2","v":0},null,"Right",{"$f":"$Z$2","v":0},"0 Left","0 Right",null,null,"Left",{"$f":"$Z$2","v":0},null,"Right",{"$f":"$Z$2","v":0},"0 Left","0 Right",null,null,"Left",{"$f":"$Z$2","v":0},null,"Right",{"$f":"$Z$2","v":0},"0 Left","0 Right",null,null,"Left",{"$f":"$Z$2","v":0},null,"Right",{"$f":"$Z$2","v":0},"0 Left","0 Right",null,{"$f":"$E$40","v":0},{"$f":"$I$40","v":"0 Right"},{"$f":"$Q$47","v":"0 Left"},{"$f":"$Z$47","v":"0 Left"},{"$f":"$AI$47","v":"0 Left"}]
[null,null,"Left",0,null,"Right",0,"0 Left","0 Right",null,null,"Left",0,null,"Right",0,"0 Left","0 Right",null,null,"Left",0,null,"Right",0,"0 Left","0 Right",null,null,"Left",0,null,"Right",0,"0 Left","0 Right",null,{"$f":"$B$43","v":0},{"$f":"$H$43","v":"0 Left"},{"$f":"$Q$48","v":"0 Left"},{"$f":"$Z$48","v":"0 Left"},{"$f":"$AI$48","v":"0 Left"}]
[null,null,"Left",{"$f":"$AB$2","v":0},null,"Right",{"$f":"$AB$2","v":0},"0 Left","0 Right",null,null,"Left",{"$f":"$AB$2","v":0},null,"Right",{"$f":"$AB$2","v":0},"0 Left","0 Right",null,null,"Left",{"$f":"$AB$2","v":0},null,"Right",{"$f":"$AB$2","v":0},"0 Left","0 Right",null,null,"Left",{"$f":"$AB$2","v":0},null,"Right",{"$f":"$AB$2","v":0},"0 Left","0 Right",null,{"$f":"$E$43","v":0},{"$f":"$I$43","v":"0 Right"},{"$f":"$Q$49","v":"0 Left"},{"$f":"$Z$49","v":"0 Left"},{"$f":"$AI$49","v":"0 Left"}]
[null,null,"Left",{"$f":"$AB$2","v":0},null,"Right",{"$f":"$AB$2","v":0},"0 Left","0 Right",null,null,"Left",{"$f":"$AB$2","v":0},null,"Right",{"$f":"$AB$2","v":0},"0 Left","0 Right",null,null,"Left",{"$f":"$AB$2","v":0},null,"Right",{"$f":"$AB$2","v":0},"0 Left","0 Right",null,null,"Left",{"$f":"$AB$2","v":0},null,"Right",{"$f":"$AB$2","v":0},"0 Left","0 Right",null,{"$f":"$B$46","v":0},{"$f":"$H$46","v":"0 Left"},{"$f":"$Q$50","v":"0 Left"},{"$f":"$Z$50","v":"0 Left"},{"$f":"$AI$50","v":"0 Left"}]
[null,null,"Left",0,null,"Right",0,"0 Left","0 Right",null,null,"Left",0,null,"Right",0,"0 Left","0 Right",null,null,"Left",0,null,"Right",0,"0 Left","0 Right",null,null,"Left",0,null,"Right",0,"0 Left","0 Right",null,{"$f":"$E$46","v":0},{"$f":"$I$46","v":"0 Right"},{"$f":"$Q$51","v":"0 Left"},{"$f":"$Z$51","v":"0 Left"},{"$f":"$AI$51","v":"0 Left"}]
[null,null,null,null,null,null,null,null,null,null,null,null,null,null,null,null,null,null,null,null,null,null,null,null,null,null,null,null,null,null,null,null,null,null,null,null,null,{"$f":"$B$23","v":0},{"$f":"$H$23","v":"3 Left"},{"$f":"$Q$52","v":"0 Left"},{"$f":"$Z$52","v":"0 Left"},{"$f":"$AI$52","v":"0 Left"}]
[null,null,null,null,null,null,null,null,null,null,null,null,null,null,null,null,null,null,null,null,null,null,null,null,null,null,null,null,null,null,null,null,null,null,null,null,null,{"$f":"$B$26","v":0},{"$f":"$H$26","v":"4 Left"},{"$f":"$Q$53","v":"0 Left"},{"$f":"$Z$53","v":"0 Left"},{"$f":"$AI$53","v":"0 Left"}]
[null,null,null,null,null,null,null,null,null,null,null,null,null,null,null,null,null,null,null,null,null,null,null,null,null,null,null,null,null,null,null,null,null,null,null,null,null,{"$f":"$B$29","v":0},{"$f":"$H$29","v":"5 Left"},{"$f":"$Q$54","v":"0 Left"},{"$f":"$Z$54","v":"0 Left"},{"$f":"$AI$54","v":"0 Left"}]
[null,null,null,null,null,null,null,null,null,null,null,null,null,null,null,null,null,null,null,null,null,null,null,null,null,null,null,null,null,null,null,null,null,null,null,null,null,{"$f":"$B$32","v":0},{"$f":"$H$32","v":"0 Left"},{"$f":"$Q$55","v":"0 Left"},{"$f":"$Z$55","v":"0 Left"},{"$f":"$AI$55","v":"0 Left"}]
[null,null,null,null,null,null,null,null,null,null,null,null,null,null,null,null,null,null,null,null,null,null,null,null,null,null,null,null,null,null,null,null,null,null,null,null,null,{"$f":"$B$35","v":0},{"$f":"$H$35","v":"0 Left"},{"$f":"$Q$56","v":"0 Left"},{"$f":"$Z$56","v":"0 Left"},{"$f":"$AI$56","v":"0 Left"}]
[null,null,null,null,null,null,null,null,null,null,null,null,null,null,null,null,null,null,null,null,null,null,null,null,null,null,null,null,null,null,null,null,null,null,null,null,null,{"$f":"$B$38","v":0},{"$f":"$H$38","v":"0 Left"},{"$f":"$Q$57","v":"0 Left"},{"$f":"$Z$57","v":"0 Left"},{"$f":"$AI$57","v":"0 Left"}]
[null,null,null,null,null,null,null,null,null,null,null,null,null,null,null,null,null,null,null,null,null,null,null,null,null,null,null,null,null,null,null,null,null,null,null,null,null,{"$f":"$B$41","v":0},{"$f":"$H$41","v":"0 Left"},{"$f":"$Q$58","v":"0 Left"},{"$f":"$Z$58","v":"0 Left"},{"$f":"$AI$58","v":"0 Left"}]
[null,null,null,null,null,null,null,null,null,null,null,null,null,null,null,null,null,null,null,null,null,null,null,null,null,null,null,null,null,null,null,null,null,null,null,null,null,{"$f":"$B$44","v":0},{"$f":"$H$44","v":"0 Left"},{"$f":"$Q$59","v":"0 Left"},{"$f":"$Z$59","v":"0 Left"},{"$f":"$AI$59","v":"0 Left"}]
[null,null,null,null,null,null,null,null,null,null,null,null,null,null,null,null,null,null,null,null,null,null,null,null,null,null,null,null,null,null,null,null,null,null,null,null,null,{"$f":"$B$47","v":0},{"$f":"$H$47","v":"0 Left"},{"$f":"$R$20","v":"2 Right"},{"$f":"$AA$20","v":"2 Right"},{"$f":"$AJ$20","v":"2 Right"}]
[null,null,null,null,null,null,null,null,null,null,null,null,null,null,null,null,null,null,null,null,null,null,null,null,null,null,null,null,null,null,null,null,null,null,null,null,null,{"$f":"$B$48","v":0},{"$f":"$H$48","v":"0 Left"},{"$f":"$R$23","v":"3 Right"},{"$f":"$AA$23","v":"3 Right"},{"$f":"$AJ$23","v":"3 Right"}]
[null,null,null,null,null,null,null,null,null,null,null,null,null,null,null,null,null,null,null,null,null,null,null,null,null,null,null,null,null,null,null,null,null,null,null,null,null,{"$f":"$B$49","v":0},{"$f":"$H$49","v":"0 Left"},{"$f":"$R$26","v":"4 Right"},{"$f":"$AA$26","v":"4 Right"},{"$f":"$AJ$26","v":"4 Right"}]
[null,null,null,null,null,null,null,null,null,null,null,null,null,null,null,null,null,null,null,null,null,null,null,null,null,null,null,null,null,null,null,null,null,null,null,null,null,{"$f":"$B$50","v":0},{"$f":"$H$50","v":"0 Left"},{"$f":"$R$29","v":"5 Right"},{"$f":"$AA$29","v":"5 Right"},{"$f":"$AJ$29","v":"5 Right"}]
[null,null,null,null,null,null,null,null,null,null,null,null,null,null,null,null,null,null,null,null,null,null,null,null,null,null,null,null,null,null,null,null,null,null,null,null,null,{"$f":"$B$51","v":0},{"$f":"$H$51","v":"0 Left"},{"$f":"$R$30","v":"0 Right"},{"$f":"$AA$30","v":"0 Right"},{"$f":"$AJ$30","v":"0 Right"}]
[null,null,null,null,null,null,null,null,null,null,null,null,null,null,null,null,null,null,null,null,null,null,null,null,null,null,null,null,null,null,null,null,null,null,null,null,null,{"$f":"$B$52","v":0},{"$f":"$H$52","v":"0 Left"},{"$f":"$R$31","v":"0 Right"},{"$f":"$AA$31","v":"0 Right"},{"$f":"$AJ$31","v":"0 Right"}]
[null,null,null,null,null,null,null,null,null,null,null,null,null,null,null,null,null,null,null,null,null,null,null,null,null,null,null,null,null,null,null,null,null,null,null,null,null,{"$f":"$B$53","v":0},{"$f":"$H$53","v":"0 Left"},{"$f":"$R$32","v":"0 Right"},{"$f":"$AA$32","v":"0 Right"},{"$f":"$AJ$32","v":"0 Right"}]
[null,null,null,null,null,null,null,null,null,null,null,null,null,null,null,null,null,null,null,null,null,null,null,null,null,null,null,null,null,null,null,null,null,null,null,null,null,{"$f":"$B$54","v":0},{"$f":"$H$54","v":"0 Left"},{"$f":"$R$33","v":"0 Right"},{"$f":"$AA$33","v":"0 Right"},{"$f":"$AJ$33","v":"0 Right"}]
[null,null,null,null,null,null,null,null,null,null,null,null,null,null,null,null,null,null,null,null,null,null,null,null,null,null,null,null,null,null,null,null,null,null,null,null,null,{"$f":"$B$55","v":0},{"$f":"$H$55","v":"0 Left"},{"$f":"$R$34","v":"0 Right"},{"$f":"$AA$34","v":"0 Right"},{"$f":"$AJ$34","v":"0 Right"}]
[null,null,null,null,null,null,null,null,null,null,null,null,null,null,null,null,null,null,null,null,null,null,null,null,null,null,null,null,null,null,null,null,null,null,null,null,null,{"$f":"$B$56","v":0},{"$f":"$H$56","v":"0 Left"},{"$f":"$R$35","v":"0 Right"},{"$f":"$AA$35","v":"0 Right"},{"$f":"$AJ$35","v":"0 Right"}]
[null,null,null,null,null,null,null,null,null,null,null,null,null,null,null,null,null,null,null,null,null,null,null,null,null,null,null,null,null,null,null,null,null,null,null,null,null,{"$f":"$B$57","v":0},{"$f":"$H$57","v":"0 Left"},{"$f":"$R$36","v":"0 Right"},{"$f":"$AA$36","v":"0 Right"},{"$f":"$AJ$36","v":"0 Right"}]
[null,null,null,null,null,null,null,null,null,null,null,null,null,null,null,null,null,null,null,null,null,null,null,null,null,null,null,null,null,null,null,null,null,null,null,null,null,{"$f":"$B$58","v":0},{"$f":"$H$58","v":"0 Left"},{"$f":"$R$37","v":"0 Right"},{"$f":"$AA$37","v":"0 Right"},{"$f":"$AJ$37","v":"0 Right"}]
[null,null,null,null,null,null,null,null,null,null,null,null,null,null,null,null,null,null,null,null,null,null,null,null,null,null,null,null,null,null,null,null,null,null,null,null,null,{"$f":"$B$59","v":0},{"$f":"$H$59","v":"0 Left"},{"$f":"$R$38","v":"0 Right"},{"$f":"$AA$38","v":"0 Right"},{"$f":"$AJ$38","v":"0 Right"}]
[null,null,null,null,null,null,null,null,null,null,null,null,null,null,null,null,null,null,null,null,null,null,null,null,null,null,null,null,null,null,null,null,null,null,null,null,null,{"$f":"$E$23","v":0},{"$f":"$I$23","v":"3 Right"},{"$f":"$R$39","v":"0 Right"},{"$f":"$AA$39","v":"0 Right"},{"$f":"$AJ$39","v":"0 Right"}]
[null,null,null,null,null,null,null,null,null,null,null,null,null,null,null,null,null,null,null,null,null,null,null,null,null,null,null,null,null,null,null,null,null,null,null,null,null,{"$f":"$E$26","v":0},{"$f":"$I$26","v":"4 Right"},{"$f":"$R$40","v":"0 Right"},{"$f":"$AA$40","v":"0 Right"},{"$f":"$AJ$40","v":"0 Right"}]
[null,null,null,null,null,null,null,null,null,null,null,null,null,null,null,null,null,null,null,null,null,null,null,null,null,null,null,null,null,null,null,null,null,null,null,null,null,{"$f":"$E$29","v":0},{"$f":"$I$29","v":"5 Right"},{"$f":"$R$41","v":"0 Right"},{"$f":"$AA$41","v":"0 Right"},{"$f":"$AJ$41","v":"0 Right"}]
[null,null,null,null,null,null,null,null,null,null,null,null,null,null,null,null,null,null,null,null,null,null,null,null,null,null,null,null,null,null,null,null,null,null,null,null,null,{"$f":"$E$32","v":0},{"$f":"$I$32","v":"0 Right"},{"$f":"$R$42","v":"0 Right"},{"$f":"$AA$42","v":"0 Right"},{"$f":"$AJ$42","v":"0 Right"}]
[null,null,null,null,null,null,null,null,null,null,null,null,null,null,null,null,null,null,null,null,null,null,null,null,null,null,null,null,null,null,null,null,null,null,null,null,null,{"$f":"$E$35","v":0},{"$f":"$I$35","v":"0 Right"},{"$f":"$R$43","v":"0 Right"},{"$f":"$AA$43","v":"0 Right"},{"$f":"$AJ$43","v":"0 Right"}]
[null,null,null,null,null,null,null,null,null,null,null,null,null,null,null,null,null,null,null,null,null,null,null,null,null,null,null,null,null,null,null,null,null,null,null,null,null,{"$f":"$E$38","v":0},{"$f":"$I$38","v":"0 Right"},{"$f":"$R$44","v":"0 Right"},{"$f":"$AA$44","v":"0 Right"},{"$f":"$AJ$44","v":"0 Right"}]
[null,null,null,null,null,null,null,null,null,null,null,null,null,null,null,null,null,null,null,null,null,null,null,null,null,null,null,null,null,null,null,null,null,null,null,null,null,{"$f":"$E$41","v":0},{"$f":"$I$41","v":"0 Right"},{"$f":"$R$45","v":"0 Right"},{"$f":"$AA$45","v":"0 Right"},{"$f":"$AJ$45","v":"0 Right"}]
[null,null,null,null,null,null,null,null,null,null,null,null,null,null,null,null,null,null,null,null,null,null,null,null,null,null,null,null,null,null,null,null,null,null,null,null,null,{"$f":"$E$44","v":0},{"$f":"$I$44","v":"0 Right"},{"$f":"$R$46","v":"0 Right"},{"$f":"$AA$46","v":"0 Right"},{"$f":"$AJ$46","v":"0 Right"}]
[null,null,null,null,null,null,null,null,null,null,null,null,null,null,null,null,null,null,null,null,null,null,null,null,null,null,null,null,null,null,null,null,null,null,null,null,null,{"$f":"$E$47","v":0},{"$f":"$I$47","v":"0 Right"},{"$f":"$R$47","v":"0 Right"},{"$f":"$AA$47","v":"0 Right"},{"$f":"$AJ$47","v":"0 Right"}]
[null,null,null,null,null,null,null,null,null,null,null,null,null,null,null,null,null,null,null,null,null,null,null,null,null,null,null,null,null,null,null,null,null,null,null,null,null,{"$f":"$E$48","v":0},{"$f":"$I$48","v":"0 Right"},{"$f":"$R$48","v":"0 Right"},{"$f":"$AA$48","v":"0 Right"},{"$f":"$AJ$48","v":"0 Right"}]
[null,null,null,null,null,null,null,null,null,null,null,null,null,null,null,null,null,null,null,null,null,null,null,null,null,null,null,null,null,null,null,null,null,null,null,null,null,{"$f":"$E$49","v":0},{"$f":"$I$49","v":"0 Right"},{"$f":"$R$49","v":"0 Right"},{"$f":"$AA$49","v":"0 Right"},{"$f":"$AJ$49","v":"0 Right"}]
[null,null,null,null,null,null,null,null,null,null,null,null,null,null,null,null,null,null,null,null,null,null,null,null,null,null,null,null,null,null,null,null,null,null,null,null,null,{"$f":"$E$50","v":0},{"$f":"$I$50","v":"0 Right"},{"$f":"$R$50","v":"0 Right"},{"$f":"$AA$50","v":"0 Right"},{"$f":"$AJ$50","v":"0 Right"}]
[null,null,null,null,null,null,null,null,null,null,null,null,null,null,null,null,null,null,null,null,null,null,null,null,null,null,null,null,null,null,null,null,null,null,null,null,null,{"$f":"$E$51","v":0},{"$f":"$I$51","v":"0 Right"},{"$f":"$R$51","v":"0 Right"},{"$f":"$AA$51","v":"0 Right"},{"$f":"$AJ$51","v":"0 Right"}]
[null,null,null,null,null,null,null,null,null,null,null,null,null,null,null,null,null,null,null,null,null,null,null,null,null,null,null,null,null,null,null,null,null,null,null,null,null,{"$f":"$E$52","v":0},{"$f":"$I$52","v":"0 Right"},{"$f":"$R$52","v":"0 Right"},{"$f":"$AA$52","v":"0 Right"},{"$f":"$AJ$52","v":"0 Right"}]
[null,null,null,null,null,null,null,null,null,null,null,null,null,null,null,null,null,null,null,null,null,null,null,null,null,null,null,null,null,null,null,null,null,null,null,null,null,{"$f":"$E$53","v":0},{"$f":"$I$53","v":"0 Right"},{"$f":"$R$53","v":"0 Right"},{"$f":"$AA$53","v":"0 Right"},{"$f":"$AJ$53","v":"0 Right"}]
[null,null,null,null,null,null,null,null,null,null,null,null,null,null,null,null,null,null,null,null,null,null,null,null,null,null,null,null,null,null,null,null,null,null,null,null,null,{"$f":"$E$54","v":0},{"$f":"$I$54","v":"0 Right"},{"$f":"$R$54","v":"0 Right"},{"$f":"$AA$54","v":"0 Right"},{"$f":"$AJ$54","v":"0 Right"}]
[null,null,null,null,null,null,null,null,null,null,null,null,null,null,null,null,null,null,null,null,null,null,null,null,null,null,null,null,null,null,null,null,null,null,null,null,null,{"$f":"$E$55","v":0},{"$f":"$I$55","v":"0 Right"},{"$f":"$R$55","v":"0 Right"},{"$f":"$AA$55","v":"0 Right"},{"$f":"$AJ$55","v":"0 Right"}]
[null,null,null,null,null,null,null,null,null,null,null,null,null,null,null,null,null,null,null,null,null,null,null,null,null,null,null,null,null,null,null,null,null,null,null,null,null,{"$f":"$E$56","v":0},{"$f":"$I$56","v":"0 Right"},{"$f":"$R$56","v":"0 Right"},{"$f":"$AA$56","v":"0 Right"},{"$f":"$AJ$56","v":"0 Right"}]
[null,null,null,null,null,null,null,null,null,null,null,null,null,null,null,null,null,null,null,null,null,null,null,null,null,null,null,null,null,null,null,null,null,null,null,null,null,{"$f":"$E$57","v":0},{"$f":"$I$57","v":"0 Right"},{"$f":"$R$57","v":"0 Right"},{"$f":"$AA$57","v":"0 Right"},{"$f":"$AJ$57","v":"0 Right"}]
[null,null,null,null,null,null,null,null,null,null,null,null,null,null,null,null,null,null,null,null,null,null,null,null,null,null,null,null,null,null,null,null,null,null,null,null,null,{"$f":"$E$58","v":0},{"$f":"$I$58","v":"0 Right"},{"$f":"$R$58","v":"0 Right"},{"$f":"$AA$58","v":"0 Right"},{"$f":"$AJ$58","v":"0 Right"}]
[null,null,null,null,null,null,null,null,null,null,null,null,null,null,null,null,null,null,null,null,null,null,null,null,null,null,null,null,null,null,null,null,null,null,null,null,null,{"$f":"$E$59","v":0},{"$f":"$I$59","v":"0 Right"},{"$f":"$R$59","v":"0 Right"},{"$f":"$AA$59","v":"0 Right"},{"$f":"$AJ$59","v":"0 Right"}]

{"sheet":"18","index":6,"n_rows":59,"n_cols":42,"rows_kept":59,"cut":false,"hidden":true,"merged":[[15,28,15,33],[16,37,16,38],[2,0,4,0],[15,19,15,24],[0,1,0,8],[1,1,1,2],[1,3,1,4],[1,5,1,6],[1,7,1,8],[5,0,7,0],[8,0,10,0],[11,0,13,0],[15,1,15,6],[15,10,15,15],[14,1,14,8]]}
[null,"YOU MAY CHANGE THESE RINK NUMBERS IF YOU WISH"]
["Round",1,1,2,2,3,3,4,4]
[1,1,2,6,5,7,3,4,8]
[null,10,11,15,14,16,12,17,13]
[null,9,18]
[2,3,7,2,4,1,6,5,9]
[null,17,12,16,18,15,11,10,14]
[null,8,13]
[3,4,5,1,3,8,9,2,7]
[null,14,15,11,13,10,18,12,17]
[null,6,16]
[4,1,7,6,4,2,5,9,3]
[null,12,18,17,15,14,13,11,16]
[null,8,10]
[null,"18 on 1 green"]
[null,1,null,null,null,null,null,null,null,null,2,null,null,null,null,null,null,null,null,3,null,null,null,null,null,null,null,null,4]
[null,"no","Left","rink","no","Right","rink","L","R",null,"no","Left","rink","no","Right","rink","L","R",null,"no","Left","rink","no","Right","rink","L","R",null,"no","Left","rink","no","Right","rink","L","R",null,1]
[null,1,"Left",{"$f":"$B$2","v":1},2,"Right",{"$f":"$B$2","v":1},{"$f":"(D18&\" \"&C18)","v":"1 Left"},{"$f":"(G18&\" \"&F18)","v":"1 Right"},null,3,"Left",{"$f":"$B$2","v":1},7,"Right",{"$f":"$B$2","v":1},{"$f":"(M18&\" \"&L18)","v":"1 Left"},{"$f":"(P18&\" \"&O18)","v":"1 Right"},null,4,"Left",{"$f":"$B$2","v":1},5,"Right",{"$f":"$B$2","v":1},{"$f":"(V18&\" \"&U18)","v":"1 Left"},{"$f":"(Y18&\" \"&X18)","v":"1 Right"},null,1,"Left",{"$f":"$B$2","v":1},7,"Right",{"$f":"$B$2","v":1},{"$f":"(AE18&\" \"&AD18)","v":"1 Left"},{"$f":"(AH18&\" \"&AG18)","v":"1 Right"},null,1,{"$f":"$H$18","v":"1 Left"},{"$f":"$Q$24","v":"3 Left"},{"$f":"$Z$21","v":"2 Left"},{"$f":"$AI$18","v":"1 Left"}]
[null,10,"Left",{"$f":"$B$2","v":1},11,"Right",{"$f":"$B$2","v":1},{"$f":"(D19&\" \"&C19)","v":"1 Left"},{"$f":"(G19&\" \"&F19)","v":"1 Right"},null,17,"Left",{"$f":"$B$2","v":1},12,"Right",{"$f":"$B$2","v":1},{"$f":"(M19&\" \"&L19)","v":"1 Left"},{"$f":"(P19&\" \"&O19)","v":"1 Right"},null,14,"Left",{"$f":"$B$2","v":1},15,"Right",{"$f":"$B$2","v":1},{"$f":"(V19&\" \"&U19)","v":"1 Left"},{"$f":"(Y19&\" \"&X19)","v":"1 Right"},null,12,"Left",{"$f":"$B$2","v":1},18,"Right",{"$f":"$B$2","v":1},{"$f":"(AE19&\" \"&AD19)","v":"1 Left"},{"$f":"(AH19&\" \"&AG19)","v":"1 Right"},null,2,{"$f":"$I$18","v":"1 Right"},{"$f":"$Q$21","v":"2 Left"},{"$f":"$Z$27","v":"4 Left"},{"$f":"$AI$24","v":"3 Left"}]
[null,9,"Left",{"$f":"$B$2","v":1},18,"Right",{"$f":"$B$2","v":1},"1 Left","1 Right",null,8,"Left",{"$f":"$B$2","v":1},13,"Right",{"$f":"$B$2","v":1},"1 Left","1 Right",null,6,"Left",{"$f":"$B$2","v":1},16,"Right",{"$f":"$B$2","v":1},"1 Left","1 Right",null,8,"Left",{"$f":"$B$2","v":1},10,"Right",{"$f":"$B$2","v":1},"1 Left","1 Right",null,3,{"$f":"$I$24","v":"3 Right"},{"$f":"$Q$18","v":"1 Left"},{"$f":"$AA$21","v":"2 Right"},{"$f":"$AJ$27","v":"4 Right"}]
[null,6,"Left",{"$f":"$D$2","v":2},5,"Right",{"$f":"$D$2","v":2},"2 Left","2 Right",null,2,"Left",{"$f":"$D$2","v":2},4,"Right",{"$f":"$D$2","v":2},"2 Left","2 Right",null,1,"Left",{"$f":"$D$2","v":2},3,"Right",{"$f":"$D$2","v":2},"2 Left","2 Right",null,6,"Left",{"$f":"$D$2","v":2},4,"Right",{"$f":"$D$2","v":2},"2 Left","2 Right",null,4,{"$f":"$H$27","v":"4 Left"},{"$f":"$R$21","v":"2 Right"},{"$f":"$Z$18","v":"1 Left"},{"$f":"$AJ$21","v":"2 Right"}]
[null,15,"Left",{"$f":"$D$2","v":2},14,"Right",{"$f":"$D$2","v":2},"2 Left","2 Right",null,16,"Left",{"$f":"$D$2","v":2},18,"Right",{"$f":"$D$2","v":2},"2 Left","2 Right",null,11,"Left",{"$f":"$D$2","v":2},13,"Right",{"$f":"$D$2","v":2},"2 Left","2 Right",null,17,"Left",{"$f":"$D$2","v":2},15,"Right",{"$f":"$D$2","v":2},"2 Left","2 Right",null,5,{"$f":"$I$21","v":"2 Right"},{"$f":"$Q$27","v":"4 Left"},{"$f":"$AA$18","v":"1 Right"},{"$f":"$AJ$24","v":"3 Right"}]
[null,null,"Left",{"$f":"$D$2","v":2},null,"Right",{"$f":"$D$2","v":2},"2 Left","2 Right",null,null,"Left",{"$f":"$D$2","v":2},null,"Right",{"$f":"$D$2","v":2},"2 Left","2 Right",null,null,"Left",{"$f":"$D$2","v":2},null,"Right",{"$f":"$D$2","v":2},"2 Left","2 Right",null,null,"Left",{"$f":"$D$2","v":2},null,"Right",{"$f":"$D$2","v":2},"2 Left","2 Right",null,6,{"$f":"$H$21","v":"2 Left"},{"$f":"$R$24","v":"3 Right"},{"$f":"$Z$20","v":"1 Left"},{"$f":"$AI$21","v":"2 Left"}]
[null,7,"Left",{"$f":"$F$2","v":3},3,"Right",{"$f":"$F$2","v":3},"3 Left","3 Right",null,1,"Left",{"$f":"$F$2","v":3},6,"Right",{"$f":"$F$2","v":3},"3 Left","3 Right",null,8,"Left",{"$f":"$F$2","v":3},9,"Right",{"$f":"$F$2","v":3},"3 Left","3 Right",null,2,"Left",{"$f":"$F$2","v":3},5,"Right",{"$f":"$F$2","v":3},"3 Left","3 Right",null,7,{"$f":"$H$24","v":"3 Left"},{"$f":"$R$18","v":"1 Right"},{"$f":"$AA$27","v":"4 Right"},{"$f":"$AJ$18","v":"1 Right"}]
[null,16,"Left",{"$f":"$F$2","v":3},12,"Right",{"$f":"$F$2","v":3},"3 Left","3 Right",null,15,"Left",{"$f":"$F$2","v":3},11,"Right",{"$f":"$F$2","v":3},"3 Left","3 Right",null,10,"Left",{"$f":"$F$2","v":3},18,"Right",{"$f":"$F$2","v":3},"3 Left","3 Right",null,14,"Left",{"$f":"$F$2","v":3},13,"Right",{"$f":"$F$2","v":3},"3 Left","3 Right",null,8,{"$f":"$I$27","v":"4 Right"},{"$f":"$Q$20","v":"1 Left"},{"$f":"$Z$24","v":"3 Left"},{"$f":"$AI$20","v":"1 Left"}]
[null,null,"Left",{"$f":"$F$2","v":3},null,"Right",{"$f":"$F$2","v":3},"3 Left","3 Right",null,null,"Left",{"$f":"$F$2","v":3},null,"Right",{"$f":"$F$2","v":3},"3 Left","3 Right",null,null,"Left",{"$f":"$F$2","v":3},null,"Right",{"$f":"$F$2","v":3},"3 Left","3 Right",null,null,"Left",{"$f":"$F$2","v":3},null,"Right",{"$f":"$F$2","v":3},"3 Left","3 Right",null,9,{"$f":"$H$20","v":"1 Left"},{"$f":"$R$27","v":"4 Right"},{"$f":"$AA$24","v":"3 Right"},{"$f":"$AI$27","v":"4 Left"}]
[null,4,"Left",{"$f":"$H$2","v":4},8,"Right",{"$f":"$H$2","v":4},"4 Left","4 Right",null,5,"Left",{"$f":"$H$2","v":4},9,"Right",{"$f":"$H$2","v":4},"4 Left","4 Right",null,2,"Left",{"$f":"$H$2","v":4},7,"Right",{"$f":"$H$2","v":4},"4 Left","4 Right",null,9,"Left",{"$f":"$H$2","v":4},3,"Right",{"$f":"$H$2","v":4},"4 Left","4 Right",null,10,{"$f":"$H$19","v":"1 Left"},{"$f":"$Q$27","v":"4 Left"},{"$f":"$Z$24","v":"3 Left"},{"$f":"$AJ$20","v":"1 Right"}]
[null,17,"Left",{"$f":"$H$2","v":4},13,"Right",{"$f":"$H$2","v":4},"4 Left","4 Right",null,10,"Left",{"$f":"$H$2","v":4},14,"Right",{"$f":"$H$2","v":4},"4 Left","4 Right",null,12,"Left",{"$f":"$H$2","v":4},17,"Right",{"$f":"$H$2","v":4},"4 Left","4 Right",null,11,"Left",{"$f":"$H$2","v":4},16,"Right",{"$f":"$H$2","v":4},"4 Left","4 Right",null,11,{"$f":"$I$19","v":"1 Right"},{"$f":"$R$24","v":"3 Right"},{"$f":"$Z$21","v":"2 Left"},{"$f":"$AI$27","v":"4 Left"}]
[null,null,"Left",4,null,"Right",4,"4 Left","4 Right",null,null,"Left",4,null,"Right",4,"4 Left","4 Right",null,null,"Left",4,null,"Right",4,"4 Left","4 Right",null,null,"Left",4,null,"Right",4,"4 Left","4 Right",null,12,{"$f":"$I$24","v":"3 Right"},{"$f":"$R$19","v":"1 Right"},{"$f":"$Z$27","v":"4 Left"},{"$f":"$AI$19","v":"1 Left"}]
[null,null,"Left",{"$f":"$J$2","v":0},null,"Right",{"$f":"$J$2","v":0},"0 Left","0 Right",null,null,"Left",{"$f":"$J$2","v":0},null,"Right",{"$f":"$J$2","v":0},"0 Left","0 Right",null,null,"Left",{"$f":"$J$2","v":0},null,"Right",{"$f":"$J$2","v":0},"0 Left","0 Right",null,null,"Left",{"$f":"$J$2","v":0},null,"Right",{"$f":"$J$2","v":0},"0 Left","0 Right",null,13,{"$f":"$I$27","v":"4 Right"},{"$f":"$R$20","v":"1 Right"},{"$f":"$AA$21","v":"2 Right"},{"$f":"$AJ$24","v":"3 Right"}]
[null,null,"Left",{"$f":"$J$2","v":0},null,"Right",{"$f":"$J$2","v":0},"0 Left","0 Right",null,null,"Left",{"$f":"$J$2","v":0},null,"Right",{"$f":"$J$2","v":0},"0 Left","0 Right",null,null,"Left",{"$f":"$J$2","v":0},null,"Right",{"$f":"$J$2","v":0},"0 Left","0 Right",null,null,"Left",{"$f":"$J$2","v":0},null,"Right",{"$f":"$J$2","v":0},"0 Left","0 Right",null,14,{"$f":"$I$21","v":"2 Right"},{"$f":"$R$27","v":"4 Right"},{"$f":"$Z$19","v":"1 Left"},{"$f":"$AI$24","v":"3 Left"}]
[null,null,"Left",0,null,"Right",0,"0 Left","0 Right",null,null,"Left",0,null,"Right",0,"0 Left","0 Right",null,null,"Left",0,null,"Right",0,"0 Left","0 Right",null,null,"Left",0,null,"Right",0,"0 Left","0 Right",null,15,{"$f":"$H$21","v":"2 Left"},{"$f":"$Q$24","v":"3 Left"},{"$f":"$AA$19","v":"1 Right"},{"$f":"$AJ$21","v":"2 Right"}]
[null,null,"Left",{"$f":"$L$2","v":0},null,"Right",{"$f":"$L$2","v":0},"0 Left","0 Right",null,null,"Left",{"$f":"$L$2","v":0},null,"Right",{"$f":"$L$2","v":0},"0 Left","0 Right",null,null,"Left",{"$f":"$L$2","v":0},null,"Right",{"$f":"$L$2","v":0},"0 Left","0 Right",null,null,"Left",{"$f":"$L$2","v":0},null,"Right",{"$f":"$L$2","v":0},"0 Left","0 Right",null,16,{"$f":"$H$24","v":"3 Left"},{"$f":"$Q$21","v":"2 Left"},{"$f":"$AA$20","v":"1 Right"},{"$f":"$AJ$27","v":"4 Right"}]
[null,null,"Left",{"$f":"$L$2","v":0},null,"Right",{"$f":"$L$2","v":0},"0 Left","0 Right",null,null,"Left",{"$f":"$L$2","v":0},null,"Right",{"$f":"$L$2","v":0},"0 Left","0 Right",null,null,"Left",{"$f":"$L$2","v":0},null,"Right",{"$f":"$L$2","v":0},"0 Left","0 Right",null,null,"Left",{"$f":"$L$2","v":0},null,"Right",{"$f":"$L$2","v":0},"0 Left","0 Right",null,17,{"$f":"$H$27","v":"4 Left"},{"$f":"$Q$19","v":"1 Left"},{"$f":"$AA$27","v":"4 Right"},{"$f":"$AI$21","v":"2 Left"}]
[null,null,"Left",0,null,"Right",0,"0 Left","0 Right",null,null,"Left",0,null,"Right",0,"0 Left","0 Right",null,null,"Left",0,null,"Right",0,"0 Left","0 Right",null,null,"Left",0,null,"Right",0,"0 Left","0 Right",null,18,{"$f":"$I$20","v":"1 Right"},{"$f":"$R$21","v":"2 Right"},{"$f":"$AA$24","v":"3 Right"},{"$f":"$AJ$19","v":"1 Right"}]
[null,null,"Left",{"$f":"$N$2","v":0},null,"Right",{"$f":"$N$2","v":0},"0 Left","0 Right",null,null,"Left",{"$f":"$N$2","v":0},null,"Right",{"$f":"$N$2","v":0},"0 Left","0 Right",null,null,"Left",{"$f":"$N$2","v":0},null,"Right",{"$f":"$N$2","v":0},"0 Left","0 Right",null,null,"Left",{"$f":"$N$2","v":0},null,"Right",{"$f":"$N$2","v":0},"0 Left","0 Right",null,null,{"$f":"$H$21","v":"2 Left"},{"$f":"$Q$21","v":"2 Left"},{"$f":"$Z$21","v":"2 Left"},{"$f":"$AI$21","v":"2 Left"}]
[null,null,"Left",{"$f":"$N$2","v":0},null,"Right",{"$f":"$N$2","v":0},"0 Left","0 Right",null,null,"Left",{"$f":"$N$2","v":0},null,"Right",{"$f":"$N$2","v":0},"0 Left","0 Right",null,null,"Left",{"$f":"$N$2","v":0},null,"Right",{"$f":"$N$2","v":0},"0 Left","0 Right",null,null,"Left",{"$f":"$N$2","v":0},null,"Right",{"$f":"$N$2","v":0},"0 Left","0 Right",null,null,{"$f":"$H$24","v":"3 Left"},{"$f":"$Q$24","v":"3 Left"},{"$f":"$Z$24","v":"3 Left"},{"$f":"$AI$24","v":"3 Left"}]
[null,null,"Left",0,null,"Right",0,"0 Left","0 Right",null,null,"Left",0,null,"Right",0,"0 Left","0 Right",null,null,"Left",0,null,"Right",0,"0 Left","0 Right",null,null,"Left",0,null,"Right",0,"0 Left","0 Right",null,null,{"$f":"$H$27","v":"4 Left"},{"$f":"$Q$27","v":"4 Left"},{"$f":"$Z$27","v":"4 Left"},{"$f":"$AI$27","v":"4 Left"}]
[null,null,"Left",{"$f":"$P$2","v":0},null,"Right",{"$f":"$P$2","v":0},"0 Left","0 Right",null,null,"Left",{"$f":"$P$2","v":0},null,"Right",{"$f":"$P$2","v":0},"0 Left","0 Right",null,null,"Left",{"$f":"$P$2","v":0},null,"Right",{"$f":"$P$2","v":0},"0 Left","0 Right",null,null,"Left",{"$f":"$P$2","v":0},null,"Right",{"$f":"$P$2","v":0},"0 Left","0 Right",null,null,{"$f":"$I$21","v":"2 Right"},{"$f":"$R$21","v":"2 Right"},{"$f":"$AA$21","v":"2 Right"},{"$f":"$AJ$21","v":"2 Right"}]
[null,null,"Left",{"$f":"$P$2","v":0},null,"Right",{"$f":"$P$2","v":0},"0 Left","0 Right",null,null,"Left",{"$f":"$P$2","v":0},null,"Right",{"$f":"$P$2","v":0},"0 Left","0 Right",null,null,"Left",{"$f":"$P$2","v":0},null,"Right",{"$f":"$P$2","v":0},"0 Left","0 Right",null,null,"Left",{"$f":"$P$2","v":0},null,"Right",{"$f":"$P$2","v":0},"0 Left","0 Right",null,null,{"$f":"$I$24","v":"3 Right"},{"$f":"$R$24","v":"3 Right"},{"$f":"$AA$24","v":"3 Right"},{"$f":"$AJ$24","v":"3 Right"}]
[null,null,"Left",0,null,"Right",0,"0 Left","0 Right",null,null,"Left",0,null,"Right",0,"0 Left","0 Right",null,null,"Left",0,null,"Right",0,"0 Left","0 Right",null,null,"Left",0,null,"Right",0,"0 Left","0 Right",null,null,{"$f":"$I$27","v":"4 Right"},{"$f":"$R$27","v":"4 Right"},{"$f":"$AA$27","v":"4 Right"},{"$f":"$AJ$27","v":"4 Right"}]
[null,null,"Left",{"$f":"$R$2","v":0},null,"Right",{"$f":"$R$2","v":0},"0 Left","0 Right",null,null,"Left",{"$f":"$R$2","v":0},null,"Right",{"$f":"$R$2","v":0},"0 Left","0 Right",null,null,"Left",{"$f":"$R$2","v":0},null,"Right",{"$f":"$R$2","v":0},"0 Left","0 Right",null,null,"Left",{"$f":"$R$2","v":0},null,"Right",{"$f":"$R$2","v":0},"0 Left","0 Right"]
[null,null,"Left",{"$f":"$R$2","v":0},null,"Right",{"$f":"$R$2","v":0},"0 Left","0 Right",null,null,"Left",{"$f":"$R$2","v":0},null,"Right",{"$f":"$R$2","v":0},"0 Left","0 Right",null,null,"Left",{"$f":"$R$2","v":0},null,"Right",{"$f":"$R$2","v":0},"0 Left","0 Right",null,null,"Left",{"$f":"$R$2","v":0},null,"Right",{"$f":"$R$2","v":0},"0 Left","0 Right"]
[null,null,"Left",0,null,"Right",0,"0 Left","0 Right",null,null,"Left",0,null,"Right",0,"0 Left","0 Right",null,null,"Left",0,null,"Right",0,"0 Left","0 Right",null,null,"Left",0,null,"Right",0,"0 Left","0 Right"]
[null,null,"Left",{"$f":"$T$2","v":0},null,"Right",{"$f":"$T$2","v":0},"0 Left","0 Right",null,null,"Left",{"$f":"$T$2","v":0},null,"Right",{"$f":"$T$2","v":0},"0 Left","0 Right",null,null,"Left",{"$f":"$T$2","v":0},null,"Right",{"$f":"$T$2","v":0},"0 Left","0 Right",null,null,"Left",{"$f":"$T$2","v":0},null,"Right",{"$f":"$T$2","v":0},"0 Left","0 Right"]
[null,null,"Left",{"$f":"$T$2","v":0},null,"Right",{"$f":"$T$2","v":0},"0 Left","0 Right",null,null,"Left",{"$f":"$T$2","v":0},null,"Right",{"$f":"$T$2","v":0},"0 Left","0 Right",null,null,"Left",{"$f":"$T$2","v":0},null,"Right",{"$f":"$T$2","v":0},"0 Left","0 Right",null,null,"Left",{"$f":"$T$2","v":0},null,"Right",{"$f":"$T$2","v":0},"0 Left","0 Right"]
[null,null,"Left",0,null,"Right",0,"0 Left","0 Right",null,null,"Left",0,null,"Right",0,"0 Left","0 Right",null,null,"Left",0,null,"Right",0,"0 Left","0 Right",null,null,"Left",0,null,"Right",0,"0 Left","0 Right"]
[null,null,"Left",{"$f":"$V$2","v":0},null,"Right",{"$f":"$V$2","v":0},"0 Left","0 Right",null,null,"Left",{"$f":"$V$2","v":0},null,"Right",{"$f":"$V$2","v":0},"0 Left","0 Right",null,null,"Left",{"$f":"$V$2","v":0},null,"Right",{"$f":"$V$2","v":0},"0 Left","0 Right",null,null,"Left",{"$f":"$V$2","v":0},null,"Right",{"$f":"$V$2","v":0},"0 Left","0 Right"]
[null,null,"Left",{"$f":"$V$2","v":0},null,"Right",{"$f":"$V$2","v":0},"0 Left","0 Right",null,null,"Left",{"$f":"$V$2","v":0},null,"Right",{"$f":"$V$2","v":0},"0 Left","0 Right",null,null,"Left",{"$f":"$V$2","v":0},null,"Right",{"$f":"$V$2","v":0},"0 Left","0 Right",null,null,"Left",{"$f":"$V$2","v":0},null,"Right",{"$f":"$V$2","v":0},"0 Left","0 Right"]
[null,null,"Left",0,null,"Right",0,"0 Left","0 Right",null,null,"Left",0,null,"Right",0,"0 Left","0 Right",null,null,"Left",0,null,"Right",0,"0 Left","0 Right",null,null,"Left",0,null,"Right",0,"0 Left","0 Right"]
[null,null,"Left",{"$f":"$X$2","v":0},null,"Right",{"$f":"$X$2","v":0},"0 Left","0 Right",null,null,"Left",{"$f":"$X$2","v":0},null,"Right",{"$f":"$X$2","v":0},"0 Left","0 Right",null,null,"Left",{"$f":"$X$2","v":0},null,"Right",{"$f":"$X$2","v":0},"0 Left","0 Right",null,null,"Left",{"$f":"$X$2","v":0},null,"Right",{"$f":"$X$2","v":0},"0 Left","0 Right"]
[null,null,"Left",{"$f":"$X$2","v":0},null,"Right",{"$f":"$X$2","v":0},"0 Left","0 Right",null,null,"Left",{"$f":"$X$2","v":0},null,"Right",{"$f":"$X$2","v":0},"0 Left","0 Right",null,null,"Left",{"$f":"$X$2","v":0},null,"Right",{"$f":"$X$2","v":0},"0 Left","0 Right",null,null,"Left",{"$f":"$X$2","v":0},null,"Right",{"$f":"$X$2","v":0},"0 Left","0 Right"]
[null,null,"Left",0,null,"Right",0,"0 Left","0 Right",null,null,"Left",0,null,"Right",0,"0 Left","0 Right",null,null,"Left",0,null,"Right",0,"0 Left","0 Right",null,null,"Left",0,null,"Right",0,"0 Left","0 Right"]
[null,null,"Left",{"$f":"$Z$2","v":0},null,"Right",{"$f":"$Z$2","v":0},"0 Left","0 Right",null,null,"Left",{"$f":"$Z$2","v":0},null,"Right",{"$f":"$Z$2","v":0},"0 Left","0 Right",null,null,"Left",{"$f":"$Z$2","v":0},null,"Right",{"$f":"$Z$2","v":0},"0 Left","0 Right",null,null,"Left",{"$f":"$Z$2","v":0},null,"Right",{"$f":"$Z$2","v":0},"0 Left","0 Right"]
[null,null,"Left",{"$f":"$Z$2","v":0},null,"Right",{"$f":"$Z$2","v":0},"0 Left","0 Right",null,null,"Left",{"$f":"$Z$2","v":0},null,"Right",{"$f":"$Z$2","v":0},"0 Left","0 Right",null,null,"Left",{"$f":"$Z$2","v":0},null,"Right",{"$f":"$Z$2","v":0},"0 Left","0 Right",null,null,"Left",{"$f":"$Z$2","v":0},null,"Right",{"$f":"$Z$2","v":0},"0 Left","0 Right"]
[null,null,"Left",0,null,"Right",0,"0 Left","0 Right",null,null,"Left",0,null,"Right",0,"0 Left","0 Right",null,null,"Left",0,null,"Right",0,"0 Left","0 Right",null,null,"Left",0,null,"Right",0,"0 Left","0 Right"]
[null,null,"Left",{"$f":"$AB$2","v":0},null,"Right",{"$f":"$AB$2","v":0},"0 Left","0 Right",null,null,"Left",{"$f":"$AB$2","v":0},null,"Right",{"$f":"$AB$2","v":0},"0 Left","0 Right",null,null,"Left",{"$f":"$AB$2","v":0},null,"Right",{"$f":"$AB$2","v":0},"0 Left","0 Right",null,null,"Left",{"$f":"$AB$2","v":0},null,"Right",{"$f":"$AB$2","v":0},"0 Left","0 Right"]
[null,null,"Left",{"$f":"$AB$2","v":0},null,"Right",{"$f":"$AB$2","v":0},"0 Left","0 Right",null,null,"Left",{"$f":"$AB$2","v":0},null,"Right",{"$f":"$AB$2","v":0},"0 Left","0 Right",null,null,"Left",{"$f":"$AB$2","v":0},null,"Right",{"$f":"$AB$2","v":0},"0 Left","0 Right",null,null,"Left",{"$f":"$AB$2","v":0},null,"Right",{"$f":"$AB$2","v":0},"0 Left","0 Right"]
[null,null,"Left",0,null,"Right",0,"0 Left","0 Right",null,null,"Left",0,null,"Right",0,"0 Left","0 Right",null,null,"Left",0,null,"Right",0,"0 Left","0 Right",null,null,"Left",0,null,"Right",0,"0 Left","0 Right"]

{"sheet":"20","index":7,"n_rows":101,"n_cols":45,"rows_kept":101,"cut":false,"hidden":true,"merged":[[16,43,16,44],[2,0,4,0],[5,0,7,0],[8,0,10,0],[11,0,13,0],[15,1,15,6],[15,10,15,15],[15,19,15,24],[15,28,15,33],[16,37,16,38],[16,39,16,40],[16,41,16,42],[14,1,14,10],[0,1,0,10],[1,1,1,2],[1,3,1,4],[1,5,1,6],[1,7,1,8],[1,9,1,10]]}
[null,"YOU MAY CHANGE THESE RINK NUMBERS IF YOU WISH"]
["Round",2,null,3,2,4,3,5,4,6,5]
[1,1,2,3,4,5,6,7,8,9,10]
[null,11,12,13,14,15,16,17,18,19,20]
[]
[2,5,10,1,8,2,9,3,6,4,7]
[null,13,18,19,16,20,17,11,14,12,15]
[]
[3,3,9,2,6,7,8,4,10,1,5]
[null,19,15,18,12,13,14,20,16,17,11]
[]
[4,6,8,10,7,4,5,3,1,2,9]
[null,20,12,14,11,18,19,17,15,16,13]
[]
[null,"20 on 1 green"]
[null,1,null,null,null,null,null,null,null,null,2,null,null,null,null,null,null,null,null,3,null,null,null,null,null,null,null,null,4]
[null,"no","Left","rink","no","Right","rink","L","R",null,"no","Left","rink","no","Right","rink","L","R",null,"no","Left","rink","no","Right","rink","L","R",null,"no","Left","rink","no","Right","rink","L","R",null,1,null,2,null,3,null,4]
[null,1,"Left",{"$f":"$B$2","v":2},2,"Right",{"$f":"$B$2","v":2},{"$f":"(D18&\" \"&C18)","v":"2 Left"},{"$f":"(G18&\" \"&F18)","v":"2 Right"},null,5,"Left",{"$f":"$B$2","v":2},10,"Right",{"$f":"$B$2","v":2},{"$f":"(M18&\" \"&L18)","v":"2 Left"},{"$f":"(P18&\" \"&O18)","v":"2 Right"},null,3,"Left",{"$f":"$B$2","v":2},9,"Right",{"$f":"$B$2","v":2},{"$f":"(V18&\" \"&U18)","v":"2 Left"},{"$f":"(Y18&\" \"&X18)","v":"2 Right"},null,6,"Left",{"$f":"$B$2","v":2},8,"Right",{"$f":"$B$2","v":2},{"$f":"(AE18&\" \"&AD18)","v":"2 Left"},{"$f":"(AH18&\" \"&AG18)","v":"2 Right"}]
[null,11,"Left",{"$f":"$B$2","v":2},12,"Right",{"$f":"$B$2","v":2},"2 Left","2 Right",null,13,"Left",{"$f":"$B$2","v":2},18,"Right",{"$f":"$B$2","v":2},"2 Left","2 Right",null,19,"Left",{"$f":"$B$2","v":2},15,"Right",{"$f":"$B$2","v":2},"2 Left","2 Right",null,20,"Left",{"$f":"$B$2","v":2},12,"Right",{"$f":"$B$2","v":2},"2 Left","2 Right"]
[null,null,"Left",{"$f":"$B$2","v":2},null,"Right",{"$f":"$B$2","v":2},"2 Left","2 Right",null,null,"Left",{"$f":"$B$2","v":2},null,"Right",{"$f":"$B$2","v":2},"2 Left","2 Right",null,null,"Left",{"$f":"$B$2","v":2},null,"Right",{"$f":"$B$2","v":2},"2 Left","2 Right",null,null,"Left",{"$f":"$B$2","v":2},null,"Right",{"$f":"$B$2","v":2},"2 Left","2 Right"]
[null,3,"Left",{"$f":"$D$2","v":3},4,"Right",{"$f":"$D$2","v":3},"3 Left","3 Right",null,1,"Left",{"$f":"$D$2","v":3},8,"Right",{"$f":"$D$2","v":3},"3 Left","3 Right",null,2,"Left",{"$f":"$D$2","v":3},6,"Right",{"$f":"$D$2","v":3},"3 Left","3 Right",null,10,"Left",{"$f":"$D$2","v":3},7,"Right",{"$f":"$D$2","v":3},"3 Left","3 Right"]
[null,13,"Left",{"$f":"$D$2","v":3},14,"Right",{"$f":"$D$2","v":3},"3 Left","3 Right",null,19,"Left",{"$f":"$D$2","v":3},16,"Right",{"$f":"$D$2","v":3},"3 Left","3 Right",null,18,"Left",{"$f":"$D$2","v":3},12,"Right",{"$f":"$D$2","v":3},"3 Left","3 Right",null,14,"Left",{"$f":"$D$2","v":3},11,"Right",{"$f":"$D$2","v":3},"3 Left","3 Right"]
[null,null,"Left",{"$f":"$D$2","v":3},null,"Right",{"$f":"$D$2","v":3},"3 Left","3 Right",null,null,"Left",{"$f":"$D$2","v":3},null,"Right",{"$f":"$D$2","v":3},"3 Left","3 Right",null,null,"Left",{"$f":"$D$2","v":3},null,"Right",{"$f":"$D$2","v":3},"3 Left","3 Right",null,null,"Left",{"$f":"$D$2","v":3},null,"Right",{"$f":"$D$2","v":3},"3 Left","3 Right"]
[null,5,"Left",{"$f":"$F$2","v":4},6,"Right",{"$f":"$F$2","v":4},"4 Left","4 Right",null,2,"Left",{"$f":"$F$2","v":4},9,"Right",{"$f":"$F$2","v":4},"4 Left","4 Right",null,7,"Left",{"$f":"$F$2","v":4},8,"Right",{"$f":"$F$2","v":4},"4 Left","4 Right",null,4,"Left",{"$f":"$F$2","v":4},5,"Right",{"$f":"$F$2","v":4},"4 Left","4 Right"]
[null,15,"Left",{"$f":"$F$2","v":4},16,"Right",{"$f":"$F$2","v":4},"4 Left","4 Right",null,20,"Left",{"$f":"$F$2","v":4},17,"Right",{"$f":"$F$2","v":4},"4 Left","4 Right",null,13,"Left",{"$f":"$F$2","v":4},14,"Right",{"$f":"$F$2","v":4},"4 Left","4 Right",null,18,"Left",{"$f":"$F$2","v":4},19,"Right",{"$f":"$F$2","v":4},"4 Left","4 Right"]
[null,null,"Left",{"$f":"$F$2","v":4},null,"Right",{"$f":"$F$2","v":4},"4 Left","4 Right",null,null,"Left",{"$f":"$F$2","v":4},null,"Right",{"$f":"$F$2","v":4},"4 Left","4 Right",null,null,"Left",{"$f":"$F$2","v":4},null,"Right",{"$f":"$F$2","v":4},"4 Left","4 Right",null,null,"Left",{"$f":"$F$2","v":4},null,"Right",{"$f":"$F$2","v":4},"4 Left","4 Right"]
[null,7,"Left",{"$f":"$H$2","v":5},8,"Right",{"$f":"$H$2","v":5},"5 Left","5 Right",null,3,"Left",{"$f":"$H$2","v":5},6,"Right",{"$f":"$H$2","v":5},"5 Left","5 Right",null,4,"Left",{"$f":"$H$2","v":5},10,"Right",{"$f":"$H$2","v":5},"5 Left","5 Right",null,3,"Left",{"$f":"$H$2","v":5},1,"Right",{"$f":"$H$2","v":5},"5 Left","5 Right"]
[null,17,"Left",{"$f":"$H$2","v":5},18,"Right",{"$f":"$H$2","v":5},"5 Left","5 Right",null,11,"Left",{"$f":"$H$2","v":5},14,"Right",{"$f":"$H$2","v":5},"5 Left","5 Right",null,20,"Left",{"$f":"$H$2","v":5},16,"Right",{"$f":"$H$2","v":5},"5 Left","5 Right",null,17,"Left",{"$f":"$H$2","v":5},15,"Right",{"$f":"$H$2","v":5},"5 Left","5 Right"]
[null,null,"Left",{"$f":"$H$2","v":5},null,"Right",{"$f":"$H$2","v":5},"5 Left","5 Right",null,null,"Left",{"$f":"$H$2","v":5},null,"Right",{"$f":"$H$2","v":5},"5 Left","5 Right",null,null,"Left",{"$f":"$H$2","v":5},null,"Right",{"$f":"$H$2","v":5},"5 Left","5 Right",null,null,"Left",{"$f":"$H$2","v":5},null,"Right",{"$f":"$H$2","v":5},"5 Left","5 Right"]
[null,9,"Left",{"$f":"$J$2","v":6},10,"Right",{"$f":"$J$2","v":6},"6 Left","6 Right",null,4,"Left",{"$f":"$J$2","v":6},7,"Right",{"$f":"$J$2","v":6},"6 Left","6 Right",null,1,"Left",{"$f":"$J$2","v":6},5,"Right",{"$f":"$J$2","v":6},"6 Left","6 Right",null,2,"Left",{"$f":"$J$2","v":6},9,"Right",{"$f":"$J$2","v":6},"6 Left","6 Right"]
[null,19,"Left",{"$f":"$J$2","v":6},20,"Right",{"$f":"$J$2","v":6},"6 Left","6 Right",null,12,"Left",{"$f":"$J$2","v":6},15,"Right",{"$f":"$J$2","v":6},"6 Left","6 Right",null,17,"Left",{"$f":"$J$2","v":6},11,"Right",{"$f":"$J$2","v":6},"6 Left","6 Right",null,16,"Left",{"$f":"$J$2","v":6},13,"Right",{"$f":"$J$2","v":6},"6 Left","6 Right"]
[null,null,"Left",{"$f":"$J$2","v":6},null,"Right",{"$f":"$J$2","v":6},"6 Left","6 Right",null,null,"Left",{"$f":"$J$2","v":6},null,"Right",{"$f":"$J$2","v":6},"6 Left","6 Right",null,null,"Left",{"$f":"$J$2","v":6},null,"Right",{"$f":"$J$2","v":6},"6 Left","6 Right",null,null,"Left",{"$f":"$J$2","v":6},null,"Right",{"$f":"$J$2","v":6},"6 Left","6 Right"]
[null,null,"Left",{"$f":"$L$2","v":0},null,"Right",{"$f":"$L$2","v":0},"0 Left","0 Right",null,null,"Left",{"$f":"$L$2","v":0},null,"Right",{"$f":"$L$2","v":0},"0 Left","0 Right",null,null,"Left",{"$f":"$L$2","v":0},null,"Right",{"$f":"$L$2","v":0},"0 Left","0 Right",null,null,"Left",{"$f":"$L$2","v":0},null,"Right",{"$f":"$L$2","v":0},"0 Left","0 Right"]
[null,null,"Left",{"$f":"$L$2","v":0},null,"Right",{"$f":"$L$2","v":0},"0 Left","0 Right",null,null,"Left",{"$f":"$L$2","v":0},null,"Right",{"$f":"$L$2","v":0},"0 Left","0 Right",null,null,"Left",{"$f":"$L$2","v":0},null,"Right",{"$f":"$L$2","v":0},"0 Left","0 Right",null,null,"Left",{"$f":"$L$2","v":0},null,"Right",{"$f":"$L$2","v":0},"0 Left","0 Right"]
[null,null,"Left",{"$f":"$L$2","v":0},null,"Right",{"$f":"$L$2","v":0},"0 Left","0 Right",null,null,"Left",{"$f":"$L$2","v":0},null,"Right",{"$f":"$L$2","v":0},"0 Left","0 Right",null,null,"Left",{"$f":"$L$2","v":0},null,"Right",{"$f":"$L$2","v":0},"0 Left","0 Right",null,null,"Left",{"$f":"$L$2","v":0},null,"Right",{"$f":"$L$2","v":0},"0 Left","0 Right"]
[null,null,"Left",{"$f":"$N$2","v":0},null,"Right",{"$f":"$N$2","v":0},"0 Left","0 Right",null,null,"Left",{"$f":"$N$2","v":0},null,"Right",{"$f":"$N$2","v":0},"0 Left","0 Right",null,null,"Left",{"$f":"$N$2","v":0},null,"Right",{"$f":"$N$2","v":0},"0 Left","0 Right",null,null,"Left",{"$f":"$N$2","v":0},null,"Right",{"$f":"$N$2","v":0},"0 Left","0 Right"]
[null,null,"Left",{"$f":"$N$2","v":0},null,"Right",{"$f":"$N$2","v":0},"0 Left","0 Right",null,null,"Left",{"$f":"$N$2","v":0},null,"Right",{"$f":"$N$2","v":0},"0 Left","0 Right",null,null,"Left",{"$f":"$N$2","v":0},null,"Right",{"$f":"$N$2","v":0},"0 Left","0 Right",null,null,"Left",{"$f":"$N$2","v":0},null,"Right",{"$f":"$N$2","v":0},"0 Left","0 Right"]
[null,null,"Left",{"$f":"$N$2","v":0},null,"Right",{"$f":"$N$2","v":0},"0 Left","0 Right",null,null,"Left",{"$f":"$N$2","v":0},null,"Right",{"$f":"$N$2","v":0},"0 Left","0 Right",null,null,"Left",{"$f":"$N$2","v":0},null,"Right",{"$f":"$N$2","v":0},"0 Left","0 Right",null,null,"Left",{"$f":"$N$2","v":0},null,"Right",{"$f":"$N$2","v":0},"0 Left","0 Right",null,{"$f":"$B$20","v":0},{"$f":"$H$20","v":"2 Left"},{"$f":"$K$20","v":0},{"$f":"$Q$20","v":"2 Left"},{"$f":"$T$20","v":0},{"$f":"$Z$20","v":"2 Left"},{"$f":"$AC$20","v":0},{"$f":"$AI$20","v":"2 Left"}]
[null,null,"Left",{"$f":"$P$2","v":0},null,"Right",{"$f":"$P$2","v":0},"0 Left","0 Right",null,null,"Left",{"$f":"$P$2","v":0},null,"Right",{"$f":"$P$2","v":0},"0 Left","0 Right",null,null,"Left",{"$f":"$P$2","v":0},null,"Right",{"$f":"$P$2","v":0},"0 Left","0 Right",null,null,"Left",{"$f":"$P$2","v":0},null,"Right",{"$f":"$P$2","v":0},"0 Left","0 Right",null,{"$f":"$E$20","v":0},{"$f":"$I$20","v":"2 Right"},{"$f":"$K$23","v":0},{"$f":"$Q$23","v":"3 Left"},{"$f":"$T$23","v":0},{"$f":"$Z$23","v":"3 Left"},{"$f":"$AC$23","v":0},{"$f":"$AI$23","v":"3 Left"}]
[null,null,"Left",{"$f":"$P$2","v":0},null,"Right",{"$f":"$P$2","v":0},"0 Left","0 Right",null,null,"Left",{"$f":"$P$2","v":0},null,"Right",{"$f":"$P$2","v":0},"0 Left","0 Right",null,null,"Left",{"$f":"$P$2","v":0},null,"Right",{"$f":"$P$2","v":0},"0 Left","0 Right",null,null,"Left",{"$f":"$P$2","v":0},null,"Right",{"$f":"$P$2","v":0},"0 Left","0 Right",null,{"$f":"$B$33","v":0},{"$f":"$H$33","v":"0 Left"},{"$f":"$K$26","v":0},{"$f":"$Q$26","v":"4 Left"},{"$f":"$T$26","v":0},{"$f":"$Z$26","v":"4 Left"},{"$f":"$AC$26","v":0},{"$f":"$AI$26","v":"4 Left"}]
[null,null,"Left",{"$f":"$P$2","v":0},null,"Right",{"$f":"$P$2","v":0},"0 Left","0 Right",null,null,"Left",{"$f":"$P$2","v":0},null,"Right",{"$f":"$P$2","v":0},"0 Left","0 Right",null,null,"Left",{"$f":"$P$2","v":0},null,"Right",{"$f":"$P$2","v":0},"0 Left","0 Right",null,null,"Left",{"$f":"$P$2","v":0},null,"Right",{"$f":"$P$2","v":0},"0 Left","0 Right",null,{"$f":"$E$33","v":0},{"$f":"$I$33","v":"0 Right"},{"$f":"$K$29","v":0},{"$f":"$Q$29","v":"5 Left"},{"$f":"$T$29","v":0},{"$f":"$Z$29","v":"5 Left"},{"$f":"$AC$29","v":0},{"$f":"$AI$29","v":"5 Left"}]
[null,null,"Left",{"$f":"$R$2","v":0},null,"Right",{"$f":"$R$2","v":0},"0 Left","0 Right",null,null,"Left",{"$f":"$R$2","v":0},null,"Right",{"$f":"$R$2","v":0},"0 Left","0 Right",null,null,"Left",{"$f":"$R$2","v":0},null,"Right",{"$f":"$R$2","v":0},"0 Left","0 Right",null,null,"Left",{"$f":"$R$2","v":0},null,"Right",{"$f":"$R$2","v":0},"0 Left","0 Right",null,{"$f":"$B$36","v":0},{"$f":"$H$36","v":"0 Left"},{"$f":"$K$32","v":0},{"$f":"$Q$32","v":"6 Left"},{"$f":"$T$32","v":0},{"$f":"$Z$32","v":"6 Left"},{"$f":"$AC$32","v":0},{"$f":"$AI$32","v":"6 Left"}]
[null,null,"Left",{"$f":"$R$2","v":0},null,"Right",{"$f":"$R$2","v":0},"0 Left","0 Right",null,null,"Left",{"$f":"$R$2","v":0},null,"Right",{"$f":"$R$2","v":0},"0 Left","0 Right",null,null,"Left",{"$f":"$R$2","v":0},null,"Right",{"$f":"$R$2","v":0},"0 Left","0 Right",null,null,"Left",{"$f":"$R$2","v":0},null,"Right",{"$f":"$R$2","v":0},"0 Left","0 Right",null,{"$f":"$E$36","v":0},{"$f":"$I$36","v":"0 Right"},{"$f":"$K$33","v":0},{"$f":"$Q$33","v":"0 Left"},{"$f":"$T$33","v":0},{"$f":"$Z$33","v":"0 Left"},{"$f":"$AC$33","v":0},{"$f":"$AI$33","v":"0 Left"}]
[null,null,"Left",{"$f":"$R$2","v":0},null,"Right",{"$f":"$R$2","v":0},"0 Left","0 Right",null,null,"Left",{"$f":"$R$2","v":0},null,"Right",{"$f":"$R$2","v":0},"0 Left","0 Right",null,null,"Left",{"$f":"$R$2","v":0},null,"Right",{"$f":"$R$2","v":0},"0 Left","0 Right",null,null,"Left",{"$f":"$R$2","v":0},null,"Right",{"$f":"$R$2","v":0},"0 Left","0 Right",null,{"$f":"$B$39","v":0},{"$f":"$H$39","v":"0 Left"},{"$f":"$K$34","v":0},{"$f":"$Q$34","v":"0 Left"},{"$f":"$T$34","v":0},{"$f":"$Z$34","v":"0 Left"},{"$f":"$AC$34","v":0},{"$f":"$AI$34","v":"0 Left"}]
[null,null,"Left",{"$f":"$T$2","v":0},null,"Right",{"$f":"$T$2","v":0},"0 Left","0 Right",null,null,"Left",{"$f":"$T$2","v":0},null,"Right",{"$f":"$T$2","v":0},"0 Left","0 Right",null,null,"Left",{"$f":"$T$2","v":0},null,"Right",{"$f":"$T$2","v":0},"0 Left","0 Right",null,null,"Left",{"$f":"$T$2","v":0},null,"Right",{"$f":"$T$2","v":0},"0 Left","0 Right",null,{"$f":"$E$39","v":0},{"$f":"$I$39","v":"0 Right"},{"$f":"$K$35","v":0},{"$f":"$Q$35","v":"0 Left"},{"$f":"$T$35","v":0},{"$f":"$Z$35","v":"0 Left"},{"$f":"$AC$35","v":0},{"$f":"$AI$35","v":"0 Left"}]
[null,null,"Left",{"$f":"$T$2","v":0},null,"Right",{"$f":"$T$2","v":0},"0 Left","0 Right",null,null,"Left",{"$f":"$T$2","v":0},null,"Right",{"$f":"$T$2","v":0},"0 Left","0 Right",null,null,"Left",{"$f":"$T$2","v":0},null,"Right",{"$f":"$T$2","v":0},"0 Left","0 Right",null,null,"Left",{"$f":"$T$2","v":0},null,"Right",{"$f":"$T$2","v":0},"0 Left","0 Right",null,{"$f":"$B$42","v":0},{"$f":"$H$42","v":"0 Left"},{"$f":"$K$36","v":0},{"$f":"$Q$36","v":"0 Left"},{"$f":"$T$36","v":0},{"$f":"$Z$36","v":"0 Left"},{"$f":"$AC$36","v":0},{"$f":"$AI$36","v":"0 Left"}]
[null,null,"Left",{"$f":"$T$2","v":0},null,"Right",{"$f":"$T$2","v":0},"0 Left","0 Right",null,null,"Left",{"$f":"$T$2","v":0},null,"Right",{"$f":"$T$2","v":0},"0 Left","0 Right",null,null,"Left",{"$f":"$T$2","v":0},null,"Right",{"$f":"$T$2","v":0},"0 Left","0 Right",null,null,"Left",{"$f":"$T$2","v":0},null,"Right",{"$f":"$T$2","v":0},"0 Left","0 Right",null,{"$f":"$E$42","v":0},{"$f":"$I$42","v":"0 Right"},{"$f":"$K$37","v":0},{"$f":"$Q$37","v":"0 Left"},{"$f":"$T$37","v":0},{"$f":"$Z$37","v":"0 Left"},{"$f":"$AC$37","v":0},{"$f":"$AI$37","v":"0 Left"}]
[null,null,"Left",{"$f":"$V$2","v":0},null,"Right",{"$f":"$V$2","v":0},"0 Left","0 Right",null,null,"Left",{"$f":"$V$2","v":0},null,"Right",{"$f":"$V$2","v":0},"0 Left","0 Right",null,null,"Left",{"$f":"$V$2","v":0},null,"Right",{"$f":"$V$2","v":0},"0 Left","0 Right",null,null,"Left",{"$f":"$V$2","v":0},null,"Right",{"$f":"$V$2","v":0},"0 Left","0 Right",null,{"$f":"$B$45","v":0},{"$f":"$H$45","v":"0 Left"},{"$f":"$K$38","v":0},{"$f":"$Q$38","v":"0 Left"},{"$f":"$T$38","v":0},{"$f":"$Z$38","v":"0 Left"},{"$f":"$AC$38","v":0},{"$f":"$AI$38","v":"0 Left"}]
[null,null,"Left",{"$f":"$V$2","v":0},null,"Right",{"$f":"$V$2","v":0},"0 Left","0 Right",null,null,"Left",{"$f":"$V$2","v":0},null,"Right",{"$f":"$V$2","v":0},"0 Left","0 Right",null,null,"Left",{"$f":"$V$2","v":0},null,"Right",{"$f":"$V$2","v":0},"0 Left","0 Right",null,null,"Left",{"$f":"$V$2","v":0},null,"Right",{"$f":"$V$2","v":0},"0 Left","0 Right",null,{"$f":"$E$45","v":0},{"$f":"$I$45","v":"0 Right"},{"$f":"$K$39","v":0},{"$f":"$Q$39","v":"0 Left"},{"$f":"$T$39","v":0},{"$f":"$Z$39","v":"0 Left"},{"$f":"$AC$39","v":0},{"$f":"$AI$39","v":"0 Left"}]
[null,null,"Left",{"$f":"$V$2","v":0},null,"Right",{"$f":"$V$2","v":0},"0 Left","0 Right",null,null,"Left",{"$f":"$V$2","v":0},null,"Right",{"$f":"$V$2","v":0},"0 Left","0 Right",null,null,"Left",{"$f":"$V$2","v":0},null,"Right",{"$f":"$V$2","v":0},"0 Left","0 Right",null,null,"Left",{"$f":"$V$2","v":0},null,"Right",{"$f":"$V$2","v":0},"0 Left","0 Right",null,{"$f":"$B$34","v":0},{"$f":"$H$34","v":"0 Left"},{"$f":"$K$40","v":0},{"$f":"$Q$40","v":"0 Left"},{"$f":"$T$40","v":0},{"$f":"$Z$40","v":"0 Left"},{"$f":"$AC$40","v":0},{"$f":"$AI$40","v":"0 Left"}]
[null,null,"Left",{"$f":"$X$2","v":0},null,"Right",{"$f":"$X$2","v":0},"0 Left","0 Right",null,null,"Left",{"$f":"$X$2","v":0},null,"Right",{"$f":"$X$2","v":0},"0 Left","0 Right",null,null,"Left",{"$f":"$X$2","v":0},null,"Right",{"$f":"$X$2","v":0},"0 Left","0 Right",null,null,"Left",{"$f":"$X$2","v":0},null,"Right",{"$f":"$X$2","v":0},"0 Left","0 Right",null,{"$f":"$E$34","v":0},{"$f":"$I$34","v":"0 Right"},{"$f":"$K$41","v":0},{"$f":"$Q$41","v":"0 Left"},{"$f":"$T$41","v":0},{"$f":"$Z$41","v":"0 Left"},{"$f":"$AC$41","v":0},{"$f":"$AI$41","v":"0 Left"}]
[null,null,"Left",{"$f":"$X$2","v":0},null,"Right",{"$f":"$X$2","v":0},"0 Left","0 Right",null,null,"Left",{"$f":"$X$2","v":0},null,"Right",{"$f":"$X$2","v":0},"0 Left","0 Right",null,null,"Left",{"$f":"$X$2","v":0},null,"Right",{"$f":"$X$2","v":0},"0 Left","0 Right",null,null,"Left",{"$f":"$X$2","v":0},null,"Right",{"$f":"$X$2","v":0},"0 Left","0 Right",null,{"$f":"$B$37","v":0},{"$f":"$H$37","v":"0 Left"},{"$f":"$K$42","v":0},{"$f":"$Q$42","v":"0 Left"},{"$f":"$T$42","v":0},{"$f":"$Z$42","v":"0 Left"},{"$f":"$AC$42","v":0},{"$f":"$AI$42","v":"0 Left"}]
[null,null,"Left",{"$f":"$X$2","v":0},null,"Right",{"$f":"$X$2","v":0},"0 Left","0 Right",null,null,"Left",{"$f":"$X$2","v":0},null,"Right",{"$f":"$X$2","v":0},"0 Left","0 Right",null,null,"Left",{"$f":"$X$2","v":0},null,"Right",{"$f":"$X$2","v":0},"0 Left","0 Right",null,null,"Left",{"$f":"$X$2","v":0},null,"Right",{"$f":"$X$2","v":0},"0 Left","0 Right",null,{"$f":"$E$37","v":0},{"$f":"$I$37","v":"0 Right"},{"$f":"$K$43","v":0},{"$f":"$Q$43","v":"0 Left"},{"$f":"$T$43","v":0},{"$f":"$Z$43","v":"0 Left"},{"$f":"$AC$43","v":0},{"$f":"$AI$43","v":"0 Left"}]
[null,null,"Left",{"$f":"$Z$2","v":0},null,"Right",{"$f":"$Z$2","v":0},"0 Left","0 Right",null,null,"Left",{"$f":"$Z$2","v":0},null,"Right",{"$f":"$Z$2","v":0},"0 Left","0 Right",null,null,"Left",{"$f":"$Z$2","v":0},null,"Right",{"$f":"$Z$2","v":0},"0 Left","0 Right",null,null,"Left",{"$f":"$Z$2","v":0},null,"Right",{"$f":"$Z$2","v":0},"0 Left","0 Right",null,{"$f":"$B$40","v":0},{"$f":"$H$40","v":"0 Left"},{"$f":"$K$44","v":0},{"$f":"$Q$44","v":"0 Left"},{"$f":"$T$44","v":0},{"$f":"$Z$44","v":"0 Left"},{"$f":"$AC$44","v":0},{"$f":"$AI$44","v":"0 Left"}]
[null,null,"Left",{"$f":"$Z$2","v":0},null,"Right",{"$f":"$Z$2","v":0},"0 Left","0 Right",null,null,"Left",{"$f":"$Z$2","v":0},null,"Right",{"$f":"$Z$2","v":0},"0 Left","0 Right",null,null,"Left",{"$f":"$Z$2","v":0},null,"Right",{"$f":"$Z$2","v":0},"0 Left","0 Right",null,null,"Left",{"$f":"$Z$2","v":0},null,"Right",{"$f":"$Z$2","v":0},"0 Left","0 Right",null,{"$f":"$E$40","v":0},{"$f":"$I$40","v":"0 Right"},{"$f":"$K$45","v":0},{"$f":"$Q$45","v":"0 Left"},{"$f":"$T$45","v":0},{"$f":"$Z$45","v":"0 Left"},{"$f":"$AC$45","v":0},{"$f":"$AI$45","v":"0 Left"}]
[null,null,"Left",{"$f":"$Z$2","v":0},null,"Right",{"$f":"$Z$2","v":0},"0 Left","0 Right",null,null,"Left",{"$f":"$Z$2","v":0},null,"Right",{"$f":"$Z$2","v":0},"0 Left","0 Right",null,null,"Left",{"$f":"$Z$2","v":0},null,"Right",{"$f":"$Z$2","v":0},"0 Left","0 Right",null,null,"Left",{"$f":"$Z$2","v":0},null,"Right",{"$f":"$Z$2","v":0},"0 Left","0 Right",null,{"$f":"$B$43","v":0},{"$f":"$H$43","v":"0 Left"},{"$f":"$K$46","v":0},{"$f":"$Q$46","v":"0 Left"},{"$f":"$T$46","v":0},{"$f":"$Z$46","v":"0 Left"},{"$f":"$AC$46","v":0},{"$f":"$AI$46","v":"0 Left"}]
[null,null,"Left",{"$f":"$AB$2","v":0},null,"Right",{"$f":"$AB$2","v":0},"0 Left","0 Right",null,null,"Left",{"$f":"$AB$2","v":0},null,"Right",{"$f":"$AB$2","v":0},"0 Left","0 Right",null,null,"Left",{"$f":"$AB$2","v":0},null,"Right",{"$f":"$AB$2","v":0},"0 Left","0 Right",null,null,"Left",{"$f":"$AB$2","v":0},null,"Right",{"$f":"$AB$2","v":0},"0 Left","0 Right",null,{"$f":"$E$43","v":0},{"$f":"$I$43","v":"0 Right"},{"$f":"$K$47","v":0},{"$f":"$Q$47","v":"0 Left"},{"$f":"$T$47","v":0},{"$f":"$Z$47","v":"0 Left"},{"$f":"$AC$47","v":0},{"$f":"$AI$47","v":"0 Left"}]
[null,null,"Left",{"$f":"$AB$2","v":0},null,"Right",{"$f":"$AB$2","v":0},"0 Left","0 Right",null,null,"Left",{"$f":"$AB$2","v":0},null,"Right",{"$f":"$AB$2","v":0},"0 Left","0 Right",null,null,"Left",{"$f":"$AB$2","v":0},null,"Right",{"$f":"$AB$2","v":0},"0 Left","0 Right",null,null,"Left",{"$f":"$AB$2","v":0},null,"Right",{"$f":"$AB$2","v":0},"0 Left","0 Right",null,{"$f":"$B$46","v":0},{"$f":"$H$46","v":"0 Left"},{"$f":"$K$48","v":0},{"$f":"$Q$48","v":"0 Left"},{"$f":"$T$48","v":0},{"$f":"$Z$48","v":"0 Left"},{"$f":"$AC$48","v":0},{"$f":"$AI$48","v":"0 Left"}]
[null,null,"Left",{"$f":"$AB$2","v":0},null,"Right",{"$f":"$AB$2","v":0},"0 Left","0 Right",null,null,"Left",{"$f":"$AB$2","v":0},null,"Right",{"$f":"$AB$2","v":0},"0 Left","0 Right",null,null,"Left",{"$f":"$AB$2","v":0},null,"Right",{"$f":"$AB$2","v":0},"0 Left","0 Right",null,null,"Left",{"$f":"$AB$2","v":0},null,"Right",{"$f":"$AB$2","v":0},"0 Left","0 Right",null,{"$f":"$E$46","v":0},{"$f":"$I$46","v":"0 Right"},{"$f":"$K$49","v":0},{"$f":"$Q$49","v":"0 Left"},{"$f":"$T$49","v":0},{"$f":"$Z$49","v":"0 Left"},{"$f":"$AC$49","v":0},{"$f":"$AI$49","v":"0 Left"}]
[null,null,null,null,null,null,null,null,null,null,null,null,null,null,null,null,null,null,null,null,null,null,null,null,null,null,null,null,null,null,null,null,null,null,null,null,null,{"$f":"$B$23","v":0},{"$f":"$H$23","v":"3 Left"},{"$f":"$K$50","v":0},{"$f":"$Q$50","v":"0 Left"},{"$f":"$T$50","v":0},{"$f":"$Z$50","v":"0 Left"},{"$f":"$AC$50","v":0},{"$f":"$AI$50","v":"0 Left"}]
[null,null,null,null,null,null,null,null,null,null,null,null,null,null,null,null,null,null,null,null,null,null,null,null,null,null,null,null,null,null,null,null,null,null,null,null,null,{"$f":"$B$26","v":0},{"$f":"$H$26","v":"4 Left"},{"$f":"$K$51","v":0},{"$f":"$Q$51","v":"0 Left"},{"$f":"$T$51","v":0},{"$f":"$Z$51","v":"0 Left"},{"$f":"$AC$51","v":0},{"$f":"$AI$51","v":"0 Left"}]
[null,null,null,null,null,null,null,null,null,null,null,null,null,null,null,null,null,null,null,null,null,null,null,null,null,null,null,null,null,null,null,null,null,null,null,null,null,{"$f":"$B$29","v":0},{"$f":"$H$29","v":"5 Left"},{"$f":"$K$52","v":0},{"$f":"$Q$52","v":"0 Left"},{"$f":"$T$52","v":0},{"$f":"$Z$52","v":"0 Left"},{"$f":"$AC$52","v":0},{"$f":"$AI$52","v":"0 Left"}]
[null,null,null,null,null,null,null,null,null,null,null,null,null,null,null,null,null,null,null,null,null,null,null,null,null,null,null,null,null,null,null,null,null,null,null,null,null,{"$f":"$B$32","v":0},{"$f":"$H$32","v":"6 Left"},{"$f":"$K$53","v":0},{"$f":"$Q$53","v":"0 Left"},{"$f":"$T$53","v":0},{"$f":"$Z$53","v":"0 Left"},{"$f":"$AC$53","v":0},{"$f":"$AI$53","v":"0 Left"}]
[null,null,null,null,null,null,null,null,null,null,null,null,null,null,null,null,null,null,null,null,null,null,null,null,null,null,null,null,null,null,null,null,null,null,null,null,null,{"$f":"$B$35","v":0},{"$f":"$H$35","v":"0 Left"},{"$f":"$K$54","v":0},{"$f":"$Q$54","v":"0 Left"},{"$f":"$T$54","v":0},{"$f":"$Z$54","v":"0 Left"},{"$f":"$AC$54","v":0},{"$f":"$AI$54","v":"0 Left"}]
[null,null,null,null,null,null,null,null,null,null,null,null,null,null,null,null,null,null,null,null,null,null,null,null,null,null,null,null,null,null,null,null,null,null,null,null,null,{"$f":"$B$38","v":0},{"$f":"$H$38","v":"0 Left"},{"$f":"$K$55","v":0},{"$f":"$Q$55","v":"0 Left"},{"$f":"$T$55","v":0},{"$f":"$Z$55","v":"0 Left"},{"$f":"$AC$55","v":0},{"$f":"$AI$55","v":"0 Left"}]
[null,null,null,null,null,null,null,null,null,null,null,null,null,null,null,null,null,null,null,null,null,null,null,null,null,null,null,null,null,null,null,null,null,null,null,null,null,{"$f":"$B$41","v":0},{"$f":"$H$41","v":"0 Left"},{"$f":"$K$56","v":0},{"$f":"$Q$56","v":"0 Left"},{"$f":"$T$56","v":0},{"$f":"$Z$56","v":"0 Left"},{"$f":"$AC$56","v":0},{"$f":"$AI$56","v":"0 Left"}]
[null,null,null,null,null,null,null,null,null,null,null,null,null,null,null,null,null,null,null,null,null,null,null,null,null,null,null,null,null,null,null,null,null,null,null,null,null,{"$f":"$B$44","v":0},{"$f":"$H$44","v":"0 Left"},{"$f":"$K$57","v":0},{"$f":"$Q$57","v":"0 Left"},{"$f":"$T$57","v":0},{"$f":"$Z$57","v":"0 Left"},{"$f":"$AC$57","v":0},{"$f":"$AI$57","v":"0 Left"}]
[null,null,null,null,null,null,null,null,null,null,null,null,null,null,null,null,null,null,null,null,null,null,null,null,null,null,null,null,null,null,null,null,null,null,null,null,null,{"$f":"$B$47","v":0},{"$f":"$H$47","v":"0 Left"},{"$f":"$K$58","v":0},{"$f":"$Q$58","v":"0 Left"},{"$f":"$T$58","v":0},{"$f":"$Z$58","v":"0 Left"},{"$f":"$AC$58","v":0},{"$f":"$AI$58","v":"0 Left"}]
[null,null,null,null,null,null,null,null,null,null,null,null,null,null,null,null,null,null,null,null,null,null,null,null,null,null,null,null,null,null,null,null,null,null,null,null,null,{"$f":"$B$48","v":0},{"$f":"$H$48","v":"0 Left"},{"$f":"$K$59","v":0},{"$f":"$Q$59","v":"0 Left"},{"$f":"$T$59","v":0},{"$f":"$Z$59","v":"0 Left"},{"$f":"$AC$59","v":0},{"$f":"$AI$59","v":"0 Left"}]
[null,null,null,null,null,null,null,null,null,null,null,null,null,null,null,null,null,null,null,null,null,null,null,null,null,null,null,null,null,null,null,null,null,null,null,null,null,{"$f":"$B$49","v":0},{"$f":"$H$49","v":"0 Left"},{"$f":"$N$20","v":0},{"$f":"$R$20","v":"2 Right"},{"$f":"$W$20","v":0},{"$f":"$AA$20","v":"2 Right"},{"$f":"$AF$20","v":0},{"$f":"$AJ$20","v":"2 Right"}]
[null,null,null,null,null,null,null,null,null,null,null,null,null,null,null,null,null,null,null,null,null,null,null,null,null,null,null,null,null,null,null,null,null,null,null,null,null,{"$f":"$B$50","v":0},{"$f":"$H$50","v":"0 Left"},{"$f":"$N$23","v":0},{"$f":"$R$23","v":"3 Right"},{"$f":"$W$23","v":0},{"$f":"$AA$23","v":"3 Right"},{"$f":"$AF$23","v":0},{"$f":"$AJ$23","v":"3 Right"}]
[null,null,null,null,null,null,null,null,null,null,null,null,null,null,null,null,null,null,null,null,null,null,null,null,null,null,null,null,null,null,null,null,null,null,null,null,null,{"$f":"$B$51","v":0},{"$f":"$H$51","v":"0 Left"},{"$f":"$N$26","v":0},{"$f":"$R$26","v":"4 Right"},{"$f":"$W$26","v":0},{"$f":"$AA$26","v":"4 Right"},{"$f":"$AF$26","v":0},{"$f":"$AJ$26","v":"4 Right"}]
[null,null,null,null,null,null,null,null,null,null,null,null,null,null,null,null,null,null,null,null,null,null,null,null,null,null,null,null,null,null,null,null,null,null,null,null,null,{"$f":"$B$52","v":0},{"$f":"$H$52","v":"0 Left"},{"$f":"$N$29","v":0},{"$f":"$R$29","v":"5 Right"},{"$f":"$W$29","v":0},{"$f":"$AA$29","v":"5 Right"},{"$f":"$AF$29","v":0},{"$f":"$AJ$29","v":"5 Right"}]
[null,null,null,null,null,null,null,null,null,null,null,null,null,null,null,null,null,null,null,null,null,null,null,null,null,null,null,null,null,null,null,null,null,null,null,null,null,{"$f":"$B$53","v":0},{"$f":"$H$53","v":"0 Left"},{"$f":"$N$32","v":0},{"$f":"$R$32","v":"6 Right"},{"$f":"$W$32","v":0},{"$f":"$AA$32","v":"6 Right"},{"$f":"$AF$32","v":0},{"$f":"$AJ$32","v":"6 Right"}]
[null,null,null,null,null,null,null,null,null,null,null,null,null,null,null,null,null,null,null,null,null,null,null,null,null,null,null,null,null,null,null,null,null,null,null,null,null,{"$f":"$B$54","v":0},{"$f":"$H$54","v":"0 Left"},{"$f":"$N$33","v":0},{"$f":"$R$33","v":"0 Right"},{"$f":"$W$33","v":0},{"$f":"$AA$33","v":"0 Right"},{"$f":"$AF$33","v":0},{"$f":"$AJ$33","v":"0 Right"}]
[null,null,null,null,null,null,null,null,null,null,null,null,null,null,null,null,null,null,null,null,null,null,null,null,null,null,null,null,null,null,null,null,null,null,null,null,null,{"$f":"$B$55","v":0},{"$f":"$H$55","v":"0 Left"},{"$f":"$N$34","v":0},{"$f":"$R$34","v":"0 Right"},{"$f":"$W$34","v":0},{"$f":"$AA$34","v":"0 Right"},{"$f":"$AF$34","v":0},{"$f":"$AJ$34","v":"0 Right"}]
[null,null,null,null,null,null,null,null,null,null,null,null,null,null,null,null,null,null,null,null,null,null,null,null,null,null,null,null,null,null,null,null,null,null,null,null,null,{"$f":"$B$56","v":0},{"$f":"$H$56","v":"0 Left"},{"$f":"$N$35","v":0},{"$f":"$R$35","v":"0 Right"},{"$f":"$W$35","v":0},{"$f":"$AA$35","v":"0 Right"},{"$f":"$AF$35","v":0},{"$f":"$AJ$35","v":"0 Right"}]
[null,null,null,null,null,null,null,null,null,null,null,null,null,null,null,null,null,null,null,null,null,null,null,null,null,null,null,null,null,null,null,null,null,null,null,null,null,{"$f":"$B$57","v":0},{"$f":"$H$57","v":"0 Left"},{"$f":"$N$36","v":0},{"$f":"$R$36","v":"0 Right"},{"$f":"$W$36","v":0},{"$f":"$AA$36","v":"0 Right"},{"$f":"$AF$36","v":0},{"$f":"$AJ$36","v":"0 Right"}]
[null,null,null,null,null,null,null,null,null,null,null,null,null,null,null,null,null,null,null,null,null,null,null,null,null,null,null,null,null,null,null,null,null,null,null,null,null,{"$f":"$B$58","v":0},{"$f":"$H$58","v":"0 Left"},{"$f":"$N$37","v":0},{"$f":"$R$37","v":"0 Right"},{"$f":"$W$37","v":0},{"$f":"$AA$37","v":"0 Right"},{"$f":"$AF$37","v":0},{"$f":"$AJ$37","v":"0 Right"}]
[null,null,null,null,null,null,null,null,null,null,null,null,null,null,null,null,null,null,null,null,null,null,null,null,null,null,null,null,null,null,null,null,null,null,null,null,null,{"$f":"$B$59","v":0},{"$f":"$H$59","v":"0 Left"},{"$f":"$N$38","v":0},{"$f":"$R$38","v":"0 Right"},{"$f":"$W$38","v":0},{"$f":"$AA$38","v":"0 Right"},{"$f":"$AF$38","v":0},{"$f":"$AJ$38","v":"0 Right"}]
[null,null,null,null,null,null,null,null,null,null,null,null,null,null,null,null,null,null,null,null,null,null,null,null,null,null,null,null,null,null,null,null,null,null,null,null,null,{"$f":"$E$23","v":0},{"$f":"$I$23","v":"3 Right"},{"$f":"$N$39","v":0},{"$f":"$R$39","v":"0 Right"},{"$f":"$W$39","v":0},{"$f":"$AA$39","v":"0 Right"},{"$f":"$AF$39","v":0},{"$f":"$AJ$39","v":"0 Right"}]
[null,null,null,null,null,null,null,null,null,null,null,null,null,null,null,null,null,null,null,null,null,null,null,null,null,null,null,null,null,null,null,null,null,null,null,null,null,{"$f":"$E$26","v":0},{"$f":"$I$26","v":"4 Right"},{"$f":"$N$40","v":0},{"$f":"$R$40","v":"0 Right"},{"$f":"$W$40","v":0},{"$f":"$AA$40","v":"0 Right"},{"$f":"$AF$40","v":0},{"$f":"$AJ$40","v":"0 Right"}]
[null,null,null,null,null,null,null,null,null,null,null,null,null,null,null,null,null,null,null,null,null,null,null,null,null,null,null,null,null,null,null,null,null,null,null,null,null,{"$f":"$E$29","v":0},{"$f":"$I$29","v":"5 Right"},{"$f":"$N$41","v":0},{"$f":"$R$41","v":"0 Right"},{"$f":"$W$41","v":0},{"$f":"$AA$41","v":"0 Right"},{"$f":"$AF$41","v":0},{"$f":"$AJ$41","v":"0 Right"}]
[null,null,null,null,null,null,null,null,null,null,null,null,null,null,null,null,null,null,null,null,null,null,null,null,null,null,null,null,null,null,null,null,null,null,null,null,null,{"$f":"$E$32","v":0},{"$f":"$I$32","v":"6 Right"},{"$f":"$N$42","v":0},{"$f":"$R$42","v":"0 Right"},{"$f":"$W$42","v":0},{"$f":"$AA$42","v":"0 Right"},{"$f":"$AF$42","v":0},{"$f":"$AJ$42","v":"0 Right"}]
[null,null,null,null,null,null,null,null,null,null,null,null,null,null,null,null,null,null,null,null,null,null,null,null,null,null,null,null,null,null,null,null,null,null,null,null,null,{"$f":"$E$35","v":0},{"$f":"$I$35","v":"0 Right"},{"$f":"$N$43","v":0},{"$f":"$R$43","v":"0 Right"},{"$f":"$W$43","v":0},{"$f":"$AA$43","v":"0 Right"},{"$f":"$AF$43","v":0},{"$f":"$AJ$43","v":"0 Right"}]
[null,null,null,null,null,null,null,null,null,null,null,null,null,null,null,null,null,null,null,null,null,null,null,null,null,null,null,null,null,null,null,null,null,null,null,null,null,{"$f":"$E$38","v":0},{"$f":"$I$38","v":"0 Right"},{"$f":"$N$44","v":0},{"$f":"$R$44","v":"0 Right"},{"$f":"$W$44","v":0},{"$f":"$AA$44","v":"0 Right"},{"$f":"$AF$44","v":0},{"$f":"$AJ$44","v":"0 Right"}]
[null,null,null,null,null,null,null,null,null,null,null,null,null,null,null,null,null,null,null,null,null,null,null,null,null,null,null,null,null,null,null,null,null,null,null,null,null,{"$f":"$E$41","v":0},{"$f":"$I$41","v":"0 Right"},{"$f":"$N$45","v":0},{"$f":"$R$45","v":"0 Right"},{"$f":"$W$45","v":0},{"$f":"$AA$45","v":"0 Right"},{"$f":"$AF$45","v":0},{"$f":"$AJ$45","v":"0 Right"}]
[null,null,null,null,null,null,null,null,null,null,null,null,null,null,null,null,null,null,null,null,null,null,null,null,null,null,null,null,null,null,null,null,null,null,null,null,null,{"$f":"$E$44","v":0},{"$f":"$I$44","v":"0 Right"},{"$f":"$N$46","v":0},{"$f":"$R$46","v":"0 Right"},{"$f":"$W$46","v":0},{"$f":"$AA$46","v":"0 Right"},{"$f":"$AF$46","v":0},{"$f":"$AJ$46","v":"0 Right"}]
[null,null,null,null,null,null,null,null,null,null,null,null,null,null,null,null,null,null,null,null,null,null,null,null,null,null,null,null,null,null,null,null,null,null,null,null,null,{"$f":"$E$47","v":0},{"$f":"$I$47","v":"0 Right"},{"$f":"$N$47","v":0},{"$f":"$R$47","v":"0 Right"},{"$f":"$W$47","v":0},{"$f":"$AA$47","v":"0 Right"},{"$f":"$AF$47","v":0},{"$f":"$AJ$47","v":"0 Right"}]
[null,null,null,null,null,null,null,null,null,null,null,null,null,null,null,null,null,null,null,null,null,null,null,null,null,null,null,null,null,null,null,null,null,null,null,null,null,{"$f":"$E$48","v":0},{"$f":"$I$48","v":"0 Right"},{"$f":"$N$48","v":0},{"$f":"$R$48","v":"0 Right"},{"$f":"$W$48","v":0},{"$f":"$AA$48","v":"0 Right"},{"$f":"$AF$48","v":0},{"$f":"$AJ$48","v":"0 Right"}]
[null,null,null,null,null,null,null,null,null,null,null,null,null,null,null,null,null,null,null,null,null,null,null,null,null,null,null,null,null,null,null,null,null,null,null,null,null,{"$f":"$E$49","v":0},{"$f":"$I$49","v":"0 Right"},{"$f":"$N$49","v":0},{"$f":"$R$49","v":"0 Right"},{"$f":"$W$49","v":0},{"$f":"$AA$49","v":"0 Right"},{"$f":"$AF$49","v":0},{"$f":"$AJ$49","v":"0 Right"}]
[null,null,null,null,null,null,null,null,null,null,null,null,null,null,null,null,null,null,null,null,null,null,null,null,null,null,null,null,null,null,null,null,null,null,null,null,null,{"$f":"$E$50","v":0},{"$f":"$I$50","v":"0 Right"},{"$f":"$N$50","v":0},{"$f":"$R$50","v":"0 Right"},{"$f":"$W$50","v":0},{"$f":"$AA$50","v":"0 Right"},{"$f":"$AF$50","v":0},{"$f":"$AJ$50","v":"0 Right"}]
[null,null,null,null,null,null,null,null,null,null,null,null,null,null,null,null,null,null,null,null,null,null,null,null,null,null,null,null,null,null,null,null,null,null,null,null,null,{"$f":"$E$51","v":0},{"$f":"$I$51","v":"0 Right"},{"$f":"$N$51","v":0},{"$f":"$R$51","v":"0 Right"},{"$f":"$W$51","v":0},{"$f":"$AA$51","v":"0 Right"},{"$f":"$AF$51","v":0},{"$f":"$AJ$51","v":"0 Right"}]
[null,null,null,null,null,null,null,null,null,null,null,null,null,null,null,null,null,null,null,null,null,null,null,null,null,null,null,null,null,null,null,null,null,null,null,null,null,{"$f":"$E$52","v":0},{"$f":"$I$52","v":"0 Right"},{"$f":"$N$52","v":0},{"$f":"$R$52","v":"0 Right"},{"$f":"$W$52","v":0},{"$f":"$AA$52","v":"0 Right"},{"$f":"$AF$52","v":0},{"$f":"$AJ$52","v":"0 Right"}]
[null,null,null,null,null,null,null,null,null,null,null,null,null,null,null,null,null,null,null,null,null,null,null,null,null,null,null,null,null,null,null,null,null,null,null,null,null,{"$f":"$E$53","v":0},{"$f":"$I$53","v":"0 Right"},{"$f":"$N$53","v":0},{"$f":"$R$53","v":"0 Right"},{"$f":"$W$53","v":0},{"$f":"$AA$53","v":"0 Right"},{"$f":"$AF$53","v":0},{"$f":"$AJ$53","v":"0 Right"}]
[null,null,null,null,null,null,null,null,null,null,null,null,null,null,null,null,null,null,null,null,null,null,null,null,null,null,null,null,null,null,null,null,null,null,null,null,null,{"$f":"$E$54","v":0},{"$f":"$I$54","v":"0 Right"},{"$f":"$N$54","v":0},{"$f":"$R$54","v":"0 Right"},{"$f":"$W$54","v":0},{"$f":"$AA$54","v":"0 Right"},{"$f":"$AF$54","v":0},{"$f":"$AJ$54","v":"0 Right"}]
[null,null,null,null,null,null,null,null,null,null,null,null,null,null,null,null,null,null,null,null,null,null,null,null,null,null,null,null,null,null,null,null,null,null,null,null,null,{"$f":"$E$55","v":0},{"$f":"$I$55","v":"0 Right"},{"$f":"$N$55","v":0},{"$f":"$R$55","v":"0 Right"},{"$f":"$W$55","v":0},{"$f":"$AA$55","v":"0 Right"},{"$f":"$AF$55","v":0},{"$f":"$AJ$55","v":"0 Right"}]
[null,null,null,null,null,null,null,null,null,null,null,null,null,null,null,null,null,null,null,null,null,null,null,null,null,null,null,null,null,null,null,null,null,null,null,null,null,{"$f":"$E$56","v":0},{"$f":"$I$56","v":"0 Right"},{"$f":"$N$56","v":0},{"$f":"$R$56","v":"0 Right"},{"$f":"$W$56","v":0},{"$f":"$AA$56","v":"0 Right"},{"$f":"$AF$56","v":0},{"$f":"$AJ$56","v":"0 Right"}]
[null,null,null,null,null,null,null,null,null,null,null,null,null,null,null,null,null,null,null,null,null,null,null,null,null,null,null,null,null,null,null,null,null,null,null,null,null,{"$f":"$E$57","v":0},{"$f":"$I$57","v":"0 Right"},{"$f":"$N$57","v":0},{"$f":"$R$57","v":"0 Right"},{"$f":"$W$57","v":0},{"$f":"$AA$57","v":"0 Right"},{"$f":"$AF$57","v":0},{"$f":"$AJ$57","v":"0 Right"}]
[null,null,null,null,null,null,null,null,null,null,null,null,null,null,null,null,null,null,null,null,null,null,null,null,null,null,null,null,null,null,null,null,null,null,null,null,null,{"$f":"$E$58","v":0},{"$f":"$I$58","v":"0 Right"},{"$f":"$N$58","v":0},{"$f":"$R$58","v":"0 Right"},{"$f":"$W$58","v":0},{"$f":"$AA$58","v":"0 Right"},{"$f":"$AF$58","v":0},{"$f":"$AJ$58","v":"0 Right"}]
[null,null,null,null,null,null,null,null,null,null,null,null,null,null,null,null,null,null,null,null,null,null,null,null,null,null,null,null,null,null,null,null,null,null,null,null,null,{"$f":"$E$59","v":0},{"$f":"$I$59","v":"0 Right"},{"$f":"$N$59","v":0},{"$f":"$R$59","v":"0 Right"},{"$f":"$W$59","v":0},{"$f":"$AA$59","v":"0 Right"},{"$f":"$AF$59","v":0},{"$f":"$AJ$59","v":"0 Right"}]

{"sheet":"22","index":8,"n_rows":101,"n_cols":45,"rows_kept":101,"cut":false,"hidden":true,"merged":[[16,43,16,44],[2,0,4,0],[5,0,7,0],[8,0,10,0],[11,0,13,0],[15,1,15,6],[15,10,15,15],[15,19,15,24],[15,28,15,33],[16,37,16,38],[16,39,16,40],[16,41,16,42],[14,1,14,10],[0,1,0,10],[1,1,1,2],[1,3,1,4],[1,5,1,6],[1,7,1,8],[1,9,1,10]]}
[null,"YOU MAY CHANGE THESE RINK NUMBERS IF YOU WISH"]
["Round",2,1,3,2,4,3,5,4,6,5]
[1,1,2,3,4,5,6,7,8,9,10]
[null,11,12,13,14,15,16,17,18,19,20]
[null,21,22]
[2,3,5,1,8,2,9,4,10,6,11]
[null,14,16,12,19,13,20,15,21,17,22]
[null,7,18]
[3,6,8,2,11,4,3,1,9,7,5]
[null,13,15,20,18,22,21,19,14,16,12]
[null,10,17]
[4,4,1,7,9,8,10,2,11,3,6]
[null,19,16,22,13,12,14,17,15,18,21]
[null,5,20]
[null,"22 on 1 green"]
[null,1,null,null,null,null,null,null,null,null,2,null,null,null,null,null,null,null,null,3,null,null,null,null,null,null,null,null,4]
[null,"no","Left","rink","no","Right","rink","L","R",null,"no","Left","rink","no","Right","rink","L","R",null,"no","Left","rink","no","Right","rink","L","R",null,"no","Left","rink","no","Right","rink","L","R",null,1,null,2,null,3,null,4]
[null,1,"Left",{"$f":"$B$2","v":2},2,"Right",{"$f":"$B$2","v":2},{"$f":"(D18&\" \"&C18)","v":"2 Left"},{"$f":"(G18&\" \"&F18)","v":"2 Right"},null,3,"Left",{"$f":"$B$2","v":2},5,"Right",{"$f":"$B$2","v":2},{"$f":"(M18&\" \"&L18)","v":"2 Left"},{"$f":"(P18&\" \"&O18)","v":"2 Right"},null,6,"Left",{"$f":"$B$2","v":2},8,"Right",{"$f":"$B$2","v":2},{"$f":"(V18&\" \"&U18)","v":"2 Left"},{"$f":"(Y18&\" \"&X18)","v":"2 Right"},null,4,"Left",{"$f":"$B$2","v":2},1,"Right",{"$f":"$B$2","v":2},{"$f":"(AE18&\" \"&AD18)","v":"2 Left"},{"$f":"(AH18&\" \"&AG18)","v":"2 Right"}]
[null,11,"Left",{"$f":"$B$2","v":2},12,"Right",{"$f":"$B$2","v":2},{"$f":"(D19&\" \"&C19)","v":"2 Left"},{"$f":"(G19&\" \"&F19)","v":"2 Right"},null,14,"Left",{"$f":"$B$2","v":2},16,"Right",{"$f":"$B$2","v":2},{"$f":"(M19&\" \"&L19)","v":"2 Left"},{"$f":"(P19&\" \"&O19)","v":"2 Right"},null,13,"Left",{"$f":"$B$2","v":2},15,"Right",{"$f":"$B$2","v":2},{"$f":"(V19&\" \"&U19)","v":"2 Left"},{"$f":"(Y19&\" \"&X19)","v":"2 Right"},null,19,"Left",{"$f":"$B$2","v":2},16,"Right",{"$f":"$B$2","v":2},{"$f":"(AE19&\" \"&AD19)","v":"2 Left"},{"$f":"(AH19&\" \"&AG19)","v":"2 Right"}]
[null,21,"Left",{"$f":"$B$2","v":2},22,"Right",{"$f":"$B$2","v":2},"2 Left","2 Right",null,7,"Left",{"$f":"$B$2","v":2},18,"Right",{"$f":"$B$2","v":2},"2 Left","2 Right",null,10,"Left",{"$f":"$B$2","v":2},17,"Right",{"$f":"$B$2","v":2},"2 Left","2 Right",null,5,"Left",{"$f":"$B$2","v":2},20,"Right",{"$f":"$B$2","v":2},"2 Left","2 Right"]
[null,3,"Left",{"$f":"$D$2","v":3},4,"Right",{"$f":"$D$2","v":3},"3 Left","3 Right",null,1,"Left",{"$f":"$D$2","v":3},8,"Right",{"$f":"$D$2","v":3},"3 Left","3 Right",null,2,"Left",{"$f":"$D$2","v":3},11,"Right",{"$f":"$D$2","v":3},"3 Left","3 Right",null,7,"Left",{"$f":"$D$2","v":3},9,"Right",{"$f":"$D$2","v":3},"3 Left","3 Right"]
[null,13,"Left",{"$f":"$D$2","v":3},14,"Right",{"$f":"$D$2","v":3},"3 Left","3 Right",null,12,"Left",{"$f":"$D$2","v":3},19,"Right",{"$f":"$D$2","v":3},"3 Left","3 Right",null,20,"Left",{"$f":"$D$2","v":3},18,"Right",{"$f":"$D$2","v":3},"3 Left","3 Right",null,22,"Left",{"$f":"$D$2","v":3},13,"Right",{"$f":"$D$2","v":3},"3 Left","3 Right"]
[null,null,"Left",{"$f":"$D$2","v":3},null,"Right",{"$f":"$D$2","v":3},"3 Left","3 Right",null,null,"Left",{"$f":"$D$2","v":3},null,"Right",{"$f":"$D$2","v":3},"3 Left","3 Right",null,null,"Left",{"$f":"$D$2","v":3},null,"Right",{"$f":"$D$2","v":3},"3 Left","3 Right",null,null,"Left",{"$f":"$D$2","v":3},null,"Right",{"$f":"$D$2","v":3},"3 Left","3 Right"]
[null,5,"Left",{"$f":"$F$2","v":4},6,"Right",{"$f":"$F$2","v":4},"4 Left","4 Right",null,2,"Left",{"$f":"$F$2","v":4},9,"Right",{"$f":"$F$2","v":4},"4 Left","4 Right",null,4,"Left",{"$f":"$F$2","v":4},3,"Right",{"$f":"$F$2","v":4},"4 Left","4 Right",null,8,"Left",{"$f":"$F$2","v":4},10,"Right",{"$f":"$F$2","v":4},"4 Left","4 Right"]
[null,15,"Left",{"$f":"$F$2","v":4},16,"Right",{"$f":"$F$2","v":4},"4 Left","4 Right",null,13,"Left",{"$f":"$F$2","v":4},20,"Right",{"$f":"$F$2","v":4},"4 Left","4 Right",null,22,"Left",{"$f":"$F$2","v":4},21,"Right",{"$f":"$F$2","v":4},"4 Left","4 Right",null,12,"Left",{"$f":"$F$2","v":4},14,"Right",{"$f":"$F$2","v":4},"4 Left","4 Right"]
[null,null,"Left",{"$f":"$F$2","v":4},null,"Right",{"$f":"$F$2","v":4},"4 Left","4 Right",null,null,"Left",{"$f":"$F$2","v":4},null,"Right",{"$f":"$F$2","v":4},"4 Left","4 Right",null,null,"Left",{"$f":"$F$2","v":4},null,"Right",{"$f":"$F$2","v":4},"4 Left","4 Right",null,null,"Left",{"$f":"$F$2","v":4},null,"Right",{"$f":"$F$2","v":4},"4 Left","4 Right"]
[null,7,"Left",{"$f":"$H$2","v":5},8,"Right",{"$f":"$H$2","v":5},"5 Left","5 Right",null,4,"Left",{"$f":"$H$2","v":5},10,"Right",{"$f":"$H$2","v":5},"5 Left","5 Right",null,1,"Left",{"$f":"$H$2","v":5},9,"Right",{"$f":"$H$2","v":5},"5 Left","5 Right",null,2,"Left",{"$f":"$H$2","v":5},11,"Right",{"$f":"$H$2","v":5},"5 Left","5 Right"]
[null,17,"Left",{"$f":"$H$2","v":5},18,"Right",{"$f":"$H$2","v":5},"5 Left","5 Right",null,15,"Left",{"$f":"$H$2","v":5},21,"Right",{"$f":"$H$2","v":5},"5 Left","5 Right",null,19,"Left",{"$f":"$H$2","v":5},14,"Right",{"$f":"$H$2","v":5},"5 Left","5 Right",null,17,"Left",{"$f":"$H$2","v":5},15,"Right",{"$f":"$H$2","v":5},"5 Left","5 Right"]
[null,null,"Left",5,null,"Right",5,"5 Left","5 Right",null,null,"Left",5,null,"Right",5,"5 Left","5 Right",null,null,"Left",5,null,"Right",5,"5 Left","5 Right",null,null,"Left",5,null,"Right",5,"5 Left","5 Right"]
[null,9,"Left",{"$f":"$J$2","v":6},10,"Right",{"$f":"$J$2","v":6},"6 Left","6 Right",null,6,"Left",{"$f":"$J$2","v":6},11,"Right",{"$f":"$J$2","v":6},"6 Left","6 Right",null,7,"Left",{"$f":"$J$2","v":6},5,"Right",{"$f":"$J$2","v":6},"6 Left","6 Right",null,3,"Left",{"$f":"$J$2","v":6},6,"Right",{"$f":"$J$2","v":6},"6 Left","6 Right"]
[null,19,"Left",{"$f":"$J$2","v":6},20,"Right",{"$f":"$J$2","v":6},"6 Left","6 Right",null,17,"Left",{"$f":"$J$2","v":6},22,"Right",{"$f":"$J$2","v":6},"6 Left","6 Right",null,16,"Left",{"$f":"$J$2","v":6},12,"Right",{"$f":"$J$2","v":6},"6 Left","6 Right",null,18,"Left",{"$f":"$J$2","v":6},21,"Right",{"$f":"$J$2","v":6},"6 Left","6 Right"]
[null,null,"Left",6,null,"Right",6,"6 Left","6 Right",null,null,"Left",6,null,"Right",6,"6 Left","6 Right",null,null,"Left",6,null,"Right",6,"6 Left","6 Right",null,null,"Left",6,null,"Right",6,"6 Left","6 Right"]
[null,null,"Left",{"$f":"$L$2","v":0},null,"Right",{"$f":"$L$2","v":0},"0 Left","0 Right",null,null,"Left",{"$f":"$L$2","v":0},null,"Right",{"$f":"$L$2","v":0},"0 Left","0 Right",null,null,"Left",{"$f":"$L$2","v":0},null,"Right",{"$f":"$L$2","v":0},"0 Left","0 Right",null,null,"Left",{"$f":"$L$2","v":0},null,"Right",{"$f":"$L$2","v":0},"0 Left","0 Right"]
[null,null,"Left",{"$f":"$L$2","v":0},null,"Right",{"$f":"$L$2","v":0},"0 Left","0 Right",null,null,"Left",{"$f":"$L$2","v":0},null,"Right",{"$f":"$L$2","v":0},"0 Left","0 Right",null,null,"Left",{"$f":"$L$2","v":0},null,"Right",{"$f":"$L$2","v":0},"0 Left","0 Right",null,null,"Left",{"$f":"$L$2","v":0},null,"Right",{"$f":"$L$2","v":0},"0 Left","0 Right"]
[null,null,"Left",0,null,"Right",0,"0 Left","0 Right",null,null,"Left",0,null,"Right",0,"0 Left","0 Right",null,null,"Left",0,null,"Right",0,"0 Left","0 Right",null,null,"Left",0,null,"Right",0,"0 Left","0 Right"]
[null,null,"Left",{"$f":"$N$2","v":0},null,"Right",{"$f":"$N$2","v":0},"0 Left","0 Right",null,null,"Left",{"$f":"$N$2","v":0},null,"Right",{"$f":"$N$2","v":0},"0 Left","0 Right",null,null,"Left",{"$f":"$N$2","v":0},null,"Right",{"$f":"$N$2","v":0},"0 Left","0 Right",null,null,"Left",{"$f":"$N$2","v":0},null,"Right",{"$f":"$N$2","v":0},"0 Left","0 Right"]
[null,null,"Left",{"$f":"$N$2","v":0},null,"Right",{"$f":"$N$2","v":0},"0 Left","0 Right",null,null,"Left",{"$f":"$N$2","v":0},null,"Right",{"$f":"$N$2","v":0},"0 Left","0 Right",null,null,"Left",{"$f":"$N$2","v":0},null,"Right",{"$f":"$N$2","v":0},"0 Left","0 Right",null,null,"Left",{"$f":"$N$2","v":0},null,"Right",{"$f":"$N$2","v":0},"0 Left","0 Right"]
[null,null,"Left",0,null,"Right",0,"0 Left","0 Right",null,null,"Left",0,null,"Right",0,"0 Left","0 Right",null,null,"Left",0,null,"Right",0,"0 Left","0 Right",null,null,"Left",0,null,"Right",0,"0 Left","0 Right"]
[null,null,"Left",{"$f":"$P$2","v":0},null,"Right",{"$f":"$P$2","v":0},"0 Left","0 Right",null,null,"Left",{"$f":"$P$2","v":0},null,"Right",{"$f":"$P$2","v":0},"0 Left","0 Right",null,null,"Left",{"$f":"$P$2","v":0},null,"Right",{"$f":"$P$2","v":0},"0 Left","0 Right",null,null,"Left",{"$f":"$P$2","v":0},null,"Right",{"$f":"$P$2","v":0},"0 Left","0 Right"]
[null,null,"Left",{"$f":"$P$2","v":0},null,"Right",{"$f":"$P$2","v":0},"0 Left","0 Right",null,null,"Left",{"$f":"$P$2","v":0},null,"Right",{"$f":"$P$2","v":0},"0 Left","0 Right",null,null,"Left",{"$f":"$P$2","v":0},null,"Right",{"$f":"$P$2","v":0},"0 Left","0 Right",null,null,"Left",{"$f":"$P$2","v":0},null,"Right",{"$f":"$P$2","v":0},"0 Left","0 Right",null,{"$f":"$B$33","v":0},{"$f":"$H$33","v":"0 Left"},{"$f":"$K$23","v":0},{"$f":"$Q$23","v":"3 Left"},{"$f":"$T$23","v":0},{"$f":"$Z$23","v":"3 Left"},{"$f":"$AC$23","v":0},{"$f":"$AI$23","v":"3 Left"}]
[null,null,"Left",0,null,"Right",0,"0 Left","0 Right",null,null,"Left",0,null,"Right",0,"0 Left","0 Right",null,null,"Left",0,null,"Right",0,"0 Left","0 Right",null,null,"Left",0,null,"Right",0,"0 Left","0 Right",null,{"$f":"$E$33","v":0},{"$f":"$I$33","v":"0 Right"},{"$f":"$K$26","v":0},{"$f":"$Q$26","v":"4 Left"},{"$f":"$T$26","v":0},{"$f":"$Z$26","v":"4 Left"},{"$f":"$AC$26","v":0},{"$f":"$AI$26","v":"4 Left"}]
[null,null,"Left",{"$f":"$R$2","v":0},null,"Right",{"$f":"$R$2","v":0},"0 Left","0 Right",null,null,"Left",{"$f":"$R$2","v":0},null,"Right",{"$f":"$R$2","v":0},"0 Left","0 Right",null,null,"Left",{"$f":"$R$2","v":0},null,"Right",{"$f":"$R$2","v":0},"0 Left","0 Right",null,null,"Left",{"$f":"$R$2","v":0},null,"Right",{"$f":"$R$2","v":0},"0 Left","0 Right",null,{"$f":"$B$36","v":0},{"$f":"$H$36","v":"0 Left"},{"$f":"$K$29","v":0},{"$f":"$Q$29","v":"5 Left"},{"$f":"$T$29","v":0},{"$f":"$Z$29","v":"5 Left"},{"$f":"$AC$29","v":0},{"$f":"$AI$29","v":"5 Left"}]
[null,null,"Left",{"$f":"$R$2","v":0},null,"Right",{"$f":"$R$2","v":0},"0 Left","0 Right",null,null,"Left",{"$f":"$R$2","v":0},null,"Right",{"$f":"$R$2","v":0},"0 Left","0 Right",null,null,"Left",{"$f":"$R$2","v":0},null,"Right",{"$f":"$R$2","v":0},"0 Left","0 Right",null,null,"Left",{"$f":"$R$2","v":0},null,"Right",{"$f":"$R$2","v":0},"0 Left","0 Right",null,{"$f":"$E$36","v":0},{"$f":"$I$36","v":"0 Right"},{"$f":"$K$32","v":0},{"$f":"$Q$32","v":"6 Left"},{"$f":"$T$32","v":0},{"$f":"$Z$32","v":"6 Left"},{"$f":"$AC$32","v":0},{"$f":"$AI$32","v":"6 Left"}]
[null,null,"Left",0,null,"Right",0,"0 Left","0 Right",null,null,"Left",0,null,"Right",0,"0 Left","0 Right",null,null,"Left",0,null,"Right",0,"0 Left","0 Right",null,null,"Left",0,null,"Right",0,"0 Left","0 Right",null,{"$f":"$B$39","v":0},{"$f":"$H$39","v":"0 Left"},{"$f":"$K$33","v":0},{"$f":"$Q$33","v":"0 Left"},{"$f":"$T$33","v":0},{"$f":"$Z$33","v":"0 Left"},{"$f":"$AC$33","v":0},{"$f":"$AI$33","v":"0 Left"}]
[null,null,"Left",{"$f":"$T$2","v":0},null,"Right",{"$f":"$T$2","v":0},"0 Left","0 Right",null,null,"Left",{"$f":"$T$2","v":0},null,"Right",{"$f":"$T$2","v":0},"0 Left","0 Right",null,null,"Left",{"$f":"$T$2","v":0},null,"Right",{"$f":"$T$2","v":0},"0 Left","0 Right",null,null,"Left",{"$f":"$T$2","v":0},null,"Right",{"$f":"$T$2","v":0},"0 Left","0 Right",null,{"$f":"$E$39","v":0},{"$f":"$I$39","v":"0 Right"},{"$f":"$K$34","v":0},{"$f":"$Q$34","v":"0 Left"},{"$f":"$T$34","v":0},{"$f":"$Z$34","v":"0 Left"},{"$f":"$AC$34","v":0},{"$f":"$AI$34","v":"0 Left"}]
[null,null,"Left",{"$f":"$T$2","v":0},null,"Right",{"$f":"$T$2","v":0},"0 Left","0 Right",null,null,"Left",{"$f":"$T$2","v":0},null,"Right",{"$f":"$T$2","v":0},"0 Left","0 Right",null,null,"Left",{"$f":"$T$2","v":0},null,"Right",{"$f":"$T$2","v":0},"0 Left","0 Right",null,null,"Left",{"$f":"$T$2","v":0},null,"Right",{"$f":"$T$2","v":0},"0 Left","0 Right",null,{"$f":"$B$42","v":0},{"$f":"$H$42","v":"0 Left"},{"$f":"$K$35","v":0},{"$f":"$Q$35","v":"0 Left"},{"$f":"$T$35","v":0},{"$f":"$Z$35","v":"0 Left"},{"$f":"$AC$35","v":0},{"$f":"$AI$35","v":"0 Left"}]
[null,null,"Left",0,null,"Right",0,"0 Left","0 Right",null,null,"Left",0,null,"Right",0,"0 Left","0 Right",null,null,"Left",0,null,"Right",0,"0 Left","0 Right",null,null,"Left",0,null,"Right",0,"0 Left","0 Right",null,{"$f":"$E$42","v":0},{"$f":"$I$42","v":"0 Right"},{"$f":"$K$36","v":0},{"$f":"$Q$36","v":"0 Left"},{"$f":"$T$36","v":0},{"$f":"$Z$36","v":"0 Left"},{"$f":"$AC$36","v":0},{"$f":"$AI$36","v":"0 Left"}]
[null,null,"Left",{"$f":"$V$2","v":0},null,"Right",{"$f":"$V$2","v":0},"0 Left","0 Right",null,null,"Left",{"$f":"$V$2","v":0},null,"Right",{"$f":"$V$2","v":0},"0 Left","0 Right",null,null,"Left",{"$f":"$V$2","v":0},null,"Right",{"$f":"$V$2","v":0},"0 Left","0 Right",null,null,"Left",{"$f":"$V$2","v":0},null,"Right",{"$f":"$V$2","v":0},"0 Left","0 Right",null,{"$f":"$B$45","v":0},{"$f":"$H$45","v":"0 Left"},{"$f":"$K$37","v":0},{"$f":"$Q$37","v":"0 Left"},{"$f":"$T$37","v":0},{"$f":"$Z$37","v":"0 Left"},{"$f":"$AC$37","v":0},{"$f":"$AI$37","v":"0 Left"}]
[null,null,"Left",{"$f":"$V$2","v":0},null,"Right",{"$f":"$V$2","v":0},"0 Left","0 Right",null,null,"Left",{"$f":"$V$2","v":0},null,"Right",{"$f":"$V$2","v":0},"0 Left","0 Right",null,null,"Left",{"$f":"$V$2","v":0},null,"Right",{"$f":"$V$2","v":0},"0 Left","0 Right",null,null,"Left",{"$f":"$V$2","v":0},null,"Right",{"$f":"$V$2","v":0},"0 Left","0 Right",null,{"$f":"$E$45","v":0},{"$f":"$I$45","v":"0 Right"},{"$f":"$K$38","v":0},{"$f":"$Q$38","v":"0 Left"},{"$f":"$T$38","v":0},{"$f":"$Z$38","v":"0 Left"},{"$f":"$AC$38","v":0},{"$f":"$AI$38","v":"0 Left"}]
[null,null,"Left",0,null,"Right",0,"0 Left","0 Right",null,null,"Left",0,null,"Right",0,"0 Left","0 Right",null,null,"Left",0,null,"Right",0,"0 Left","0 Right",null,null,"Left",0,null,"Right",0,"0 Left","0 Right",null,{"$f":"$B$34","v":0},{"$f":"$H$34","v":"0 Left"},{"$f":"$K$39","v":0},{"$f":"$Q$39","v":"0 Left"},{"$f":"$T$39","v":0},{"$f":"$Z$39","v":"0 Left"},{"$f":"$AC$39","v":0},{"$f":"$AI$39","v":"0 Left"}]
[null,null,"Left",{"$f":"$X$2","v":0},null,"Right",{"$f":"$X$2","v":0},"0 Left","0 Right",null,null,"Left",{"$f":"$X$2","v":0},null,"Right",{"$f":"$X$2","v":0},"0 Left","0 Right",null,null,"Left",{"$f":"$X$2","v":0},null,"Right",{"$f":"$X$2","v":0},"0 Left","0 Right",null,null,"Left",{"$f":"$X$2","v":0},null,"Right",{"$f":"$X$2","v":0},"0 Left","0 Right",null,{"$f":"$E$34","v":0},{"$f":"$I$34","v":"0 Right"},{"$f":"$K$40","v":0},{"$f":"$Q$40","v":"0 Left"},{"$f":"$T$40","v":0},{"$f":"$Z$40","v":"0 Left"},{"$f":"$AC$40","v":0},{"$f":"$AI$40","v":"0 Left"}]
[null,null,"Left",{"$f":"$X$2","v":0},null,"Right",{"$f":"$X$2","v":0},"0 Left","0 Right",null,null,"Left",{"$f":"$X$2","v":0},null,"Right",{"$f":"$X$2","v":0},"0 Left","0 Right",null,null,"Left",{"$f":"$X$2","v":0},null,"Right",{"$f":"$X$2","v":0},"0 Left","0 Right",null,null,"Left",{"$f":"$X$2","v":0},null,"Right",{"$f":"$X$2","v":0},"0 Left","0 Right",null,{"$f":"$B$37","v":0},{"$f":"$H$37","v":"0 Left"},{"$f":"$K$41","v":0},{"$f":"$Q$41","v":"0 Left"},{"$f":"$T$41","v":0},{"$f":"$Z$41","v":"0 Left"},{"$f":"$AC$41","v":0},{"$f":"$AI$41","v":"0 Left"}]
[null,null,"Left",0,null,"Right",0,"0 Left","0 Right",null,null,"Left",0,null,"Right",0,"0 Left","0 Right",null,null,"Left",0,null,"Right",0,"0 Left","0 Right",null,null,"Left",0,null,"Right",0,"0 Left","0 Right",null,{"$f":"$E$37","v":0},{"$f":"$I$37","v":"0 Right"},{"$f":"$K$42","v":0},{"$f":"$Q$42","v":"0 Left"},{"$f":"$T$42","v":0},{"$f":"$Z$42","v":"0 Left"},{"$f":"$AC$42","v":0},{"$f":"$AI$42","v":"0 Left"}]
[null,null,"Left",{"$f":"$Z$2","v":0},null,"Right",{"$f":"$Z$2","v":0},"0 Left","0 Right",null,null,"Left",{"$f":"$Z$2","v":0},null,"Right",{"$f":"$Z$2","v":0},"0 Left","0 Right",null,null,"Left",{"$f":"$Z$2","v":0},null,"Right",{"$f":"$Z$2","v":0},"0 Left","0 Right",null,null,"Left",{"$f":"$Z$2","v":0},null,"Right",{"$f":"$Z$2","v":0},"0 Left","0 Right",null,{"$f":"$B$40","v":0},{"$f":"$H$40","v":"0 Left"},{"$f":"$K$43","v":0},{"$f":"$Q$43","v":"0 Left"},{"$f":"$T$43","v":0},{"$f":"$Z$43","v":"0 Left"},{"$f":"$AC$43","v":0},{"$f":"$AI$43","v":"0 Left"}]
[null,null,"Left",{"$f":"$Z$2","v":0},null,"Right",{"$f":"$Z$2","v":0},"0 Left","0 Right",null,null,"Left",{"$f":"$Z$2","v":0},null,"Right",{"$f":"$Z$2","v":0},"0 Left","0 Right",null,null,"Left",{"$f":"$Z$2","v":0},null,"Right",{"$f":"$Z$2","v":0},"0 Left","0 Right",null,null,"Left",{"$f":"$Z$2","v":0},null,"Right",{"$f":"$Z$2","v":0},"0 Left","0 Right",null,{"$f":"$E$40","v":0},{"$f":"$I$40","v":"0 Right"},{"$f":"$K$44","v":0},{"$f":"$Q$44","v":"0 Left"},{"$f":"$T$44","v":0},{"$f":"$Z$44","v":"0 Left"},{"$f":"$AC$44","v":0},{"$f":"$AI$44","v":"0 Left"}]
[null,null,"Left",0,null,"Right",0,"0 Left","0 Right",null,null,"Left",0,null,"Right",0,"0 Left","0 Right",null,null,"Left",0,null,"Right",0,"0 Left","0 Right",null,null,"Left",0,null,"Right",0,"0 Left","0 Right",null,{"$f":"$B$43","v":0},{"$f":"$H$43","v":"0 Left"},{"$f":"$K$45","v":0},{"$f":"$Q$45","v":"0 Left"},{"$f":"$T$45","v":0},{"$f":"$Z$45","v":"0 Left"},{"$f":"$AC$45","v":0},{"$f":"$AI$45","v":"0 Left"}]
[null,null,"Left",{"$f":"$AB$2","v":0},null,"Right",{"$f":"$AB$2","v":0},"0 Left","0 Right",null,null,"Left",{"$f":"$AB$2","v":0},null,"Right",{"$f":"$AB$2","v":0},"0 Left","0 Right",null,null,"Left",{"$f":"$AB$2","v":0},null,"Right",{"$f":"$AB$2","v":0},"0 Left","0 Right",null,null,"Left",{"$f":"$AB$2","v":0},null,"Right",{"$f":"$AB$2","v":0},"0 Left","0 Right",null,{"$f":"$E$43","v":0},{"$f":"$I$43","v":"0 Right"},{"$f":"$K$46","v":0},{"$f":"$Q$46","v":"0 Left"},{"$f":"$T$46","v":0},{"$f":"$Z$46","v":"0 Left"},{"$f":"$AC$46","v":0},{"$f":"$AI$46","v":"0 Left"}]
[null,null,"Left",{"$f":"$AB$2","v":0},null,"Right",{"$f":"$AB$2","v":0},"0 Left","0 Right",null,null,"Left",{"$f":"$AB$2","v":0},null,"Right",{"$f":"$AB$2","v":0},"0 Left","0 Right",null,null,"Left",{"$f":"$AB$2","v":0},null,"Right",{"$f":"$AB$2","v":0},"0 Left","0 Right",null,null,"Left",{"$f":"$AB$2","v":0},null,"Right",{"$f":"$AB$2","v":0},"0 Left","0 Right",null,{"$f":"$B$46","v":0},{"$f":"$H$46","v":"0 Left"},{"$f":"$K$47","v":0},{"$f":"$Q$47","v":"0 Left"},{"$f":"$T$47","v":0},{"$f":"$Z$47","v":"0 Left"},{"$f":"$AC$47","v":0},{"$f":"$AI$47","v":"0 Left"}]
[null,null,"Left",0,null,"Right",0,"0 Left","0 Right",null,null,"Left",0,null,"Right",0,"0 Left","0 Right",null,null,"Left",0,null,"Right",0,"0 Left","0 Right",null,null,"Left",0,null,"Right",0,"0 Left","0 Right",null,{"$f":"$E$46","v":0},{"$f":"$I$46","v":"0 Right"},{"$f":"$K$48","v":0},{"$f":"$Q$48","v":"0 Left"},{"$f":"$T$48","v":0},{"$f":"$Z$48","v":"0 Left"},{"$f":"$AC$48","v":0},{"$f":"$AI$48","v":"0 Left"}]
[null,null,null,null,null,null,null,null,null,null,null,null,null,null,null,null,null,null,null,null,null,null,null,null,null,null,null,null,null,null,null,null,null,null,null,null,null,{"$f":"$B$23","v":0},{"$f":"$H$23","v":"3 Left"},{"$f":"$K$49","v":0},{"$f":"$Q$49","v":"0 Left"},{"$f":"$T$49","v":0},{"$f":"$Z$49","v":"0 Left"},{"$f":"$AC$49","v":0},{"$f":"$AI$49","v":"0 Left"}]
[null,null,null,null,null,null,null,null,null,null,null,null,null,null,null,null,null,null,null,null,null,null,null,null,null,null,null,null,null,null,null,null,null,null,null,null,null,{"$f":"$B$26","v":0},{"$f":"$H$26","v":"4 Left"},{"$f":"$K$50","v":0},{"$f":"$Q$50","v":"0 Left"},{"$f":"$T$50","v":0},{"$f":"$Z$50","v":"0 Left"},{"$f":"$AC$50","v":0},{"$f":"$AI$50","v":"0 Left"}]
[null,null,null,null,null,null,null,null,null,null,null,null,null,null,null,null,null,null,null,null,null,null,null,null,null,null,null,null,null,null,null,null,null,null,null,null,null,{"$f":"$B$29","v":0},{"$f":"$H$29","v":"5 Left"},{"$f":"$K$51","v":0},{"$f":"$Q$51","v":"0 Left"},{"$f":"$T$51","v":0},{"$f":"$Z$51","v":"0 Left"},{"$f":"$AC$51","v":0},{"$f":"$AI$51","v":"0 Left"}]
[null,null,null,null,null,null,null,null,null,null,null,null,null,null,null,null,null,null,null,null,null,null,null,null,null,null,null,null,null,null,null,null,null,null,null,null,null,{"$f":"$B$32","v":0},{"$f":"$H$32","v":"6 Left"},{"$f":"$K$52","v":0},{"$f":"$Q$52","v":"0 Left"},{"$f":"$T$52","v":0},{"$f":"$Z$52","v":"0 Left"},{"$f":"$AC$52","v":0},{"$f":"$AI$52","v":"0 Left"}]
[null,null,null,null,null,null,null,null,null,null,null,null,null,null,null,null,null,null,null,null,null,null,null,null,null,null,null,null,null,null,null,null,null,null,null,null,null,{"$f":"$B$35","v":0},{"$f":"$H$35","v":"0 Left"},{"$f":"$K$53","v":0},{"$f":"$Q$53","v":"0 Left"},{"$f":"$T$53","v":0},{"$f":"$Z$53","v":"0 Left"},{"$f":"$AC$53","v":0},{"$f":"$AI$53","v":"0 Left"}]
[null,null,null,null,null,null,null,null,null,null,null,null,null,null,null,null,null,null,null,null,null,null,null,null,null,null,null,null,null,null,null,null,null,null,null,null,null,{"$f":"$B$38","v":0},{"$f":"$H$38","v":"0 Left"},{"$f":"$K$54","v":0},{"$f":"$Q$54","v":"0 Left"},{"$f":"$T$54","v":0},{"$f":"$Z$54","v":"0 Left"},{"$f":"$AC$54","v":0},{"$f":"$AI$54","v":"0 Left"}]
[null,null,null,null,null,null,null,null,null,null,null,null,null,null,null,null,null,null,null,null,null,null,null,null,null,null,null,null,null,null,null,null,null,null,null,null,null,{"$f":"$B$41","v":0},{"$f":"$H$41","v":"0 Left"},{"$f":"$K$55","v":0},{"$f":"$Q$55","v":"0 Left"},{"$f":"$T$55","v":0},{"$f":"$Z$55","v":"0 Left"},{"$f":"$AC$55","v":0},{"$f":"$AI$55","v":"0 Left"}]
[null,null,null,null,null,null,null,null,null,null,null,null,null,null,null,null,null,null,null,null,null,null,null,null,null,null,null,null,null,null,null,null,null,null,null,null,null,{"$f":"$B$44","v":0},{"$f":"$H$44","v":"0 Left"},{"$f":"$K$56","v":0},{"$f":"$Q$56","v":"0 Left"},{"$f":"$T$56","v":0},{"$f":"$Z$56","v":"0 Left"},{"$f":"$AC$56","v":0},{"$f":"$AI$56","v":"0 Left"}]
[null,null,null,null,null,null,null,null,null,null,null,null,null,null,null,null,null,null,null,null,null,null,null,null,null,null,null,null,null,null,null,null,null,null,null,null,null,{"$f":"$B$47","v":0},{"$f":"$H$47","v":"0 Left"},{"$f":"$K$57","v":0},{"$f":"$Q$57","v":"0 Left"},{"$f":"$T$57","v":0},{"$f":"$Z$57","v":"0 Left"},{"$f":"$AC$57","v":0},{"$f":"$AI$57","v":"0 Left"}]
[null,null,null,null,null,null,null,null,null,null,null,null,null,null,null,null,null,null,null,null,null,null,null,null,null,null,null,null,null,null,null,null,null,null,null,null,null,{"$f":"$B$48","v":0},{"$f":"$H$48","v":"0 Left"},{"$f":"$K$58","v":0},{"$f":"$Q$58","v":"0 Left"},{"$f":"$T$58","v":0},{"$f":"$Z$58","v":"0 Left"},{"$f":"$AC$58","v":0},{"$f":"$AI$58","v":"0 Left"}]
[null,null,null,null,null,null,null,null,null,null,null,null,null,null,null,null,null,null,null,null,null,null,null,null,null,null,null,null,null,null,null,null,null,null,null,null,null,{"$f":"$B$49","v":0},{"$f":"$H$49","v":"0 Left"},{"$f":"$K$59","v":0},{"$f":"$Q$59","v":"0 Left"},{"$f":"$T$59","v":0},{"$f":"$Z$59","v":"0 Left"},{"$f":"$AC$59","v":0},{"$f":"$AI$59","v":"0 Left"}]
[null,null,null,null,null,null,null,null,null,null,null,null,null,null,null,null,null,null,null,null,null,null,null,null,null,null,null,null,null,null,null,null,null,null,null,null,null,{"$f":"$B$50","v":0},{"$f":"$H$50","v":"0 Left"},{"$f":"$N$23","v":0},{"$f":"$R$23","v":"3 Right"},{"$f":"$W$23","v":0},{"$f":"$AA$23","v":"3 Right"},{"$f":"$AF$23","v":0},{"$f":"$AJ$23","v":"3 Right"}]
[null,null,null,null,null,null,null,null,null,null,null,null,null,null,null,null,null,null,null,null,null,null,null,null,null,null,null,null,null,null,null,null,null,null,null,null,null,{"$f":"$B$51","v":0},{"$f":"$H$51","v":"0 Left"},{"$f":"$N$26","v":0},{"$f":"$R$26","v":"4 Right"},{"$f":"$W$26","v":0},{"$f":"$AA$26","v":"4 Right"},{"$f":"$AF$26","v":0},{"$f":"$AJ$26","v":"4 Right"}]
[null,null,null,null,null,null,null,null,null,null,null,null,null,null,null,null,null,null,null,null,null,null,null,null,null,null,null,null,null,null,null,null,null,null,null,null,null,{"$f":"$B$52","v":0},{"$f":"$H$52","v":"0 Left"},{"$f":"$N$29","v":0},{"$f":"$R$29","v":"5 Right"},{"$f":"$W$29","v":0},{"$f":"$AA$29","v":"5 Right"},{"$f":"$AF$29","v":0},{"$f":"$AJ$29","v":"5 Right"}]
[null,null,null,null,null,null,null,null,null,null,null,null,null,null,null,null,null,null,null,null,null,null,null,null,null,null,null,null,null,null,null,null,null,null,null,null,null,{"$f":"$B$53","v":0},{"$f":"$H$53","v":"0 Left"},{"$f":"$N$32","v":0},{"$f":"$R$32","v":"6 Right"},{"$f":"$W$32","v":0},{"$f":"$AA$32","v":"6 Right"},{"$f":"$AF$32","v":0},{"$f":"$AJ$32","v":"6 Right"}]
[null,null,null,null,null,null,null,null,null,null,null,null,null,null,null,null,null,null,null,null,null,null,null,null,null,null,null,null,null,null,null,null,null,null,null,null,null,{"$f":"$B$54","v":0},{"$f":"$H$54","v":"0 Left"},{"$f":"$N$33","v":0},{"$f":"$R$33","v":"0 Right"},{"$f":"$W$33","v":0},{"$f":"$AA$33","v":"0 Right"},{"$f":"$AF$33","v":0},{"$f":"$AJ$33","v":"0 Right"}]
[null,null,null,null,null,null,null,null,null,null,null,null,null,null,null,null,null,null,null,null,null,null,null,null,null,null,null,null,null,null,null,null,null,null,null,null,null,{"$f":"$B$55","v":0},{"$f":"$H$55","v":"0 Left"},{"$f":"$N$34","v":0},{"$f":"$R$34","v":"0 Right"},{"$f":"$W$34","v":0},{"$f":"$AA$34","v":"0 Right"},{"$f":"$AF$34","v":0},{"$f":"$AJ$34","v":"0 Right"}]
[null,null,null,null,null,null,null,null,null,null,null,null,null,null,null,null,null,null,null,null,null,null,null,null,null,null,null,null,null,null,null,null,null,null,null,null,null,{"$f":"$B$56","v":0},{"$f":"$H$56","v":"0 Left"},{"$f":"$N$35","v":0},{"$f":"$R$35","v":"0 Right"},{"$f":"$W$35","v":0},{"$f":"$AA$35","v":"0 Right"},{"$f":"$AF$35","v":0},{"$f":"$AJ$35","v":"0 Right"}]
[null,null,null,null,null,null,null,null,null,null,null,null,null,null,null,null,null,null,null,null,null,null,null,null,null,null,null,null,null,null,null,null,null,null,null,null,null,{"$f":"$B$57","v":0},{"$f":"$H$57","v":"0 Left"},{"$f":"$N$36","v":0},{"$f":"$R$36","v":"0 Right"},{"$f":"$W$36","v":0},{"$f":"$AA$36","v":"0 Right"},{"$f":"$AF$36","v":0},{"$f":"$AJ$36","v":"0 Right"}]
[null,null,null,null,null,null,null,null,null,null,null,null,null,null,null,null,null,null,null,null,null,null,null,null,null,null,null,null,null,null,null,null,null,null,null,null,null,{"$f":"$B$58","v":0},{"$f":"$H$58","v":"0 Left"},{"$f":"$N$37","v":0},{"$f":"$R$37","v":"0 Right"},{"$f":"$W$37","v":0},{"$f":"$AA$37","v":"0 Right"},{"$f":"$AF$37","v":0},{"$f":"$AJ$37","v":"0 Right"}]
[null,null,null,null,null,null,null,null,null,null,null,null,null,null,null,null,null,null,null,null,null,null,null,null,null,null,null,null,null,null,null,null,null,null,null,null,null,{"$f":"$B$59","v":0},{"$f":"$H$59","v":"0 Left"},{"$f":"$N$38","v":0},{"$f":"$R$38","v":"0 Right"},{"$f":"$W$38","v":0},{"$f":"$AA$38","v":"0 Right"},{"$f":"$AF$38","v":0},{"$f":"$AJ$38","v":"0 Right"}]
[null,null,null,null,null,null,null,null,null,null,null,null,null,null,null,null,null,null,null,null,null,null,null,null,null,null,null,null,null,null,null,null,null,null,null,null,null,{"$f":"$E$23","v":0},{"$f":"$I$23","v":"3 Right"},{"$f":"$N$39","v":0},{"$f":"$R$39","v":"0 Right"},{"$f":"$W$39","v":0},{"$f":"$AA$39","v":"0 Right"},{"$f":"$AF$39","v":0},{"$f":"$AJ$39","v":"0 Right"}]
[null,null,null,null,null,null,null,null,null,null,null,null,null,null,null,null,null,null,null,null,null,null,null,null,null,null,null,null,null,null,null,null,null,null,null,null,null,{"$f":"$E$26","v":0},{"$f":"$I$26","v":"4 Right"},{"$f":"$N$40","v":0},{"$f":"$R$40","v":"0 Right"},{"$f":"$W$40","v":0},{"$f":"$AA$40","v":"0 Right"},{"$f":"$AF$40","v":0},{"$f":"$AJ$40","v":"0 Right"}]
[null,null,null,null,null,null,null,null,null,null,null,null,null,null,null,null,null,null,null,null,null,null,null,null,null,null,null,null,null,null,null,null,null,null,null,null,null,{"$f":"$E$29","v":0},{"$f":"$I$29","v":"5 Right"},{"$f":"$N$41","v":0},{"$f":"$R$41","v":"0 Right"},{"$f":"$W$41","v":0},{"$f":"$AA$41","v":"0 Right"},{"$f":"$AF$41","v":0},{"$f":"$AJ$41","v":"0 Right"}]
[null,null,null,null,null,null,null,null,null,null,null,null,null,null,null,null,null,null,null,null,null,null,null,null,null,null,null,null,null,null,null,null,null,null,null,null,null,{"$f":"$E$32","v":0},{"$f":"$I$32","v":"6 Right"},{"$f":"$N$42","v":0},{"$f":"$R$42","v":"0 Right"},{"$f":"$W$42","v":0},{"$f":"$AA$42","v":"0 Right"},{"$f":"$AF$42","v":0},{"$f":"$AJ$42","v":"0 Right"}]
[null,null,null,null,null,null,null,null,null,null,null,null,null,null,null,null,null,null,null,null,null,null,null,null,null,null,null,null,null,null,null,null,null,null,null,null,null,{"$f":"$E$35","v":0},{"$f":"$I$35","v":"0 Right"},{"$f":"$N$43","v":0},{"$f":"$R$43","v":"0 Right"},{"$f":"$W$43","v":0},{"$f":"$AA$43","v":"0 Right"},{"$f":"$AF$43","v":0},{"$f":"$AJ$43","v":"0 Right"}]
[null,null,null,null,null,null,null,null,null,null,null,null,null,null,null,null,null,null,null,null,null,null,null,null,null,null,null,null,null,null,null,null,null,null,null,null,null,{"$f":"$E$38","v":0},{"$f":"$I$38","v":"0 Right"},{"$f":"$N$44","v":0},{"$f":"$R$44","v":"0 Right"},{"$f":"$W$44","v":0},{"$f":"$AA$44","v":"0 Right"},{"$f":"$AF$44","v":0},{"$f":"$AJ$44","v":"0 Right"}]
[null,null,null,null,null,null,null,null,null,null,null,null,null,null,null,null,null,null,null,null,null,null,null,null,null,null,null,null,null,null,null,null,null,null,null,null,null,{"$f":"$E$41","v":0},{"$f":"$I$41","v":"0 Right"},{"$f":"$N$45","v":0},{"$f":"$R$45","v":"0 Right"},{"$f":"$W$45","v":0},{"$f":"$AA$45","v":"0 Right"},{"$f":"$AF$45","v":0},{"$f":"$AJ$45","v":"0 Right"}]
[null,null,null,null,null,null,null,null,null,null,null,null,null,null,null,null,null,null,null,null,null,null,null,null,null,null,null,null,null,null,null,null,null,null,null,null,null,{"$f":"$E$44","v":0},{"$f":"$I$44","v":"0 Right"},{"$f":"$N$46","v":0},{"$f":"$R$46","v":"0 Right"},{"$f":"$W$46","v":0},{"$f":"$AA$46","v":"0 Right"},{"$f":"$AF$46","v":0},{"$f":"$AJ$46","v":"0 Right"}]
[null,null,null,null,null,null,null,null,null,null,null,null,null,null,null,null,null,null,null,null,null,null,null,null,null,null,null,null,null,null,null,null,null,null,null,null,null,{"$f":"$E$47","v":0},{"$f":"$I$47","v":"0 Right"},{"$f":"$N$47","v":0},{"$f":"$R$47","v":"0 Right"},{"$f":"$W$47","v":0},{"$f":"$AA$47","v":"0 Right"},{"$f":"$AF$47","v":0},{"$f":"$AJ$47","v":"0 Right"}]
[null,null,null,null,null,null,null,null,null,null,null,null,null,null,null,null,null,null,null,null,null,null,null,null,null,null,null,null,null,null,null,null,null,null,null,null,null,{"$f":"$E$48","v":0},{"$f":"$I$48","v":"0 Right"},{"$f":"$N$48","v":0},{"$f":"$R$48","v":"0 Right"},{"$f":"$W$48","v":0},{"$f":"$AA$48","v":"0 Right"},{"$f":"$AF$48","v":0},{"$f":"$AJ$48","v":"0 Right"}]
[null,null,null,null,null,null,null,null,null,null,null,null,null,null,null,null,null,null,null,null,null,null,null,null,null,null,null,null,null,null,null,null,null,null,null,null,null,{"$f":"$E$49","v":0},{"$f":"$I$49","v":"0 Right"},{"$f":"$N$49","v":0},{"$f":"$R$49","v":"0 Right"},{"$f":"$W$49","v":0},{"$f":"$AA$49","v":"0 Right"},{"$f":"$AF$49","v":0},{"$f":"$AJ$49","v":"0 Right"}]
[null,null,null,null,null,null,null,null,null,null,null,null,null,null,null,null,null,null,null,null,null,null,null,null,null,null,null,null,null,null,null,null,null,null,null,null,null,{"$f":"$E$50","v":0},{"$f":"$I$50","v":"0 Right"},{"$f":"$N$50","v":0},{"$f":"$R$50","v":"0 Right"},{"$f":"$W$50","v":0},{"$f":"$AA$50","v":"0 Right"},{"$f":"$AF$50","v":0},{"$f":"$AJ$50","v":"0 Right"}]
[null,null,null,null,null,null,null,null,null,null,null,null,null,null,null,null,null,null,null,null,null,null,null,null,null,null,null,null,null,null,null,null,null,null,null,null,null,{"$f":"$E$51","v":0},{"$f":"$I$51","v":"0 Right"},{"$f":"$N$51","v":0},{"$f":"$R$51","v":"0 Right"},{"$f":"$W$51","v":0},{"$f":"$AA$51","v":"0 Right"},{"$f":"$AF$51","v":0},{"$f":"$AJ$51","v":"0 Right"}]
[null,null,null,null,null,null,null,null,null,null,null,null,null,null,null,null,null,null,null,null,null,null,null,null,null,null,null,null,null,null,null,null,null,null,null,null,null,{"$f":"$E$52","v":0},{"$f":"$I$52","v":"0 Right"},{"$f":"$N$52","v":0},{"$f":"$R$52","v":"0 Right"},{"$f":"$W$52","v":0},{"$f":"$AA$52","v":"0 Right"},{"$f":"$AF$52","v":0},{"$f":"$AJ$52","v":"0 Right"}]
[null,null,null,null,null,null,null,null,null,null,null,null,null,null,null,null,null,null,null,null,null,null,null,null,null,null,null,null,null,null,null,null,null,null,null,null,null,{"$f":"$E$53","v":0},{"$f":"$I$53","v":"0 Right"},{"$f":"$N$53","v":0},{"$f":"$R$53","v":"0 Right"},{"$f":"$W$53","v":0},{"$f":"$AA$53","v":"0 Right"},{"$f":"$AF$53","v":0},{"$f":"$AJ$53","v":"0 Right"}]
[null,null,null,null,null,null,null,null,null,null,null,null,null,null,null,null,null,null,null,null,null,null,null,null,null,null,null,null,null,null,null,null,null,null,null,null,null,{"$f":"$E$54","v":0},{"$f":"$I$54","v":"0 Right"},{"$f":"$N$54","v":0},{"$f":"$R$54","v":"0 Right"},{"$f":"$W$54","v":0},{"$f":"$AA$54","v":"0 Right"},{"$f":"$AF$54","v":0},{"$f":"$AJ$54","v":"0 Right"}]
[null,null,null,null,null,null,null,null,null,null,null,null,null,null,null,null,null,null,null,null,null,null,null,null,null,null,null,null,null,null,null,null,null,null,null,null,null,{"$f":"$E$55","v":0},{"$f":"$I$55","v":"0 Right"},{"$f":"$N$55","v":0},{"$f":"$R$55","v":"0 Right"},{"$f":"$W$55","v":0},{"$f":"$AA$55","v":"0 Right"},{"$f":"$AF$55","v":0},{"$f":"$AJ$55","v":"0 Right"}]
[null,null,null,null,null,null,null,null,null,null,null,null,null,null,null,null,null,null,null,null,null,null,null,null,null,null,null,null,null,null,null,null,null,null,null,null,null,{"$f":"$E$56","v":0},{"$f":"$I$56","v":"0 Right"},{"$f":"$N$56","v":0},{"$f":"$R$56","v":"0 Right"},{"$f":"$W$56","v":0},{"$f":"$AA$56","v":"0 Right"},{"$f":"$AF$56","v":0},{"$f":"$AJ$56","v":"0 Right"}]
[null,null,null,null,null,null,null,null,null,null,null,null,null,null,null,null,null,null,null,null,null,null,null,null,null,null,null,null,null,null,null,null,null,null,null,null,null,{"$f":"$E$57","v":0},{"$f":"$I$57","v":"0 Right"},{"$f":"$N$57","v":0},{"$f":"$R$57","v":"0 Right"},{"$f":"$W$57","v":0},{"$f":"$AA$57","v":"0 Right"},{"$f":"$AF$57","v":0},{"$f":"$AJ$57","v":"0 Right"}]
[null,null,null,null,null,null,null,null,null,null,null,null,null,null,null,null,null,null,null,null,null,null,null,null,null,null,null,null,null,null,null,null,null,null,null,null,null,{"$f":"$E$58","v":0},{"$f":"$I$58","v":"0 Right"},{"$f":"$N$58","v":0},{"$f":"$R$58","v":"0 Right"},{"$f":"$W$58","v":0},{"$f":"$AA$58","v":"0 Right"},{"$f":"$AF$58","v":0},{"$f":"$AJ$58","v":"0 Right"}]
[null,null,null,null,null,null,null,null,null,null,null,null,null,null,null,null,null,null,null,null,null,null,null,null,null,null,null,null,null,null,null,null,null,null,null,null,null,{"$f":"$E$59","v":0},{"$f":"$I$59","v":"0 Right"},{"$f":"$N$59","v":0},{"$f":"$R$59","v":"0 Right"},{"$f":"$W$59","v":0},{"$f":"$AA$59","v":"0 Right"},{"$f":"$AF$59","v":0},{"$f":"$AJ$59","v":"0 Right"}]

{"sheet":"24","index":9,"n_rows":101,"n_cols":45,"rows_kept":101,"cut":false,"hidden":true,"merged":[[2,0,4,0],[5,0,7,0],[8,0,10,0],[11,0,13,0],[15,1,15,6],[14,1,14,12],[1,5,1,6],[1,7,1,8],[1,9,1,10],[0,1,0,12],[16,43,16,44],[1,11,1,12],[15,10,15,15],[15,19,15,24],[15,28,15,33],[16,37,16,38],[16,39,16,40],[16,41,16,42],[1,1,1,2],[1,3,1,4]]}
[null,"YOU MAY CHANGE THESE RINK NUMBERS IF YOU WISH"]
["Round",1,null,2,2,3,3,4,4,5,5,6,6]
[1,1,2,3,4,5,6,7,8,9,10,11,12]
[null,13,14,15,16,17,18,19,20,21,22,23,24]
[]
[2,6,9,1,10,2,11,3,12,4,8,5,7]
[null,16,19,23,20,24,21,13,22,14,18,15,17]
[]
[3,3,4,2,5,12,8,1,9,7,11,6,10]
[null,23,24,22,13,20,16,21,17,15,19,14,18]
[]
[4,12,7,8,11,1,9,6,10,2,5,3,4]
[null,18,13,14,17,19,15,24,16,20,23,21,22]
[]
[null,"24 on 1 green"]
[null,1,null,null,null,null,null,null,null,null,2,null,null,null,null,null,null,null,null,3,null,null,null,null,null,null,null,null,4]
[null,"no","Left","rink","no","Right","rink","L","R",null,"no","Left","rink","no","Right","rink","L","R",null,"no","Left","rink","no","Right","rink","L","R",null,"no","Left","rink","no","Right","rink","L","R",null,1,null,2,null,3,null,4]
[null,1,"Left",{"$f":"$B$2","v":1},2,"Right",{"$f":"$B$2","v":1},{"$f":"(D18&\" \"&C18)","v":"1 Left"},{"$f":"(G18&\" \"&F18)","v":"1 Right"},null,6,"Left",{"$f":"$B$2","v":1},9,"Right",{"$f":"$B$2","v":1},{"$f":"(M18&\" \"&L18)","v":"1 Left"},{"$f":"(P18&\" \"&O18)","v":"1 Right"},null,3,"Left",{"$f":"$B$2","v":1},4,"Right",{"$f":"$B$2","v":1},{"$f":"(V18&\" \"&U18)","v":"1 Left"},{"$f":"(Y18&\" \"&X18)","v":"1 Right"},null,12,"Left",{"$f":"$B$2","v":1},7,"Right",{"$f":"$B$2","v":1},{"$f":"(AE18&\" \"&AD18)","v":"1 Left"},{"$f":"(AH18&\" \"&AG18)","v":"1 Right"}]
[null,13,"Left",{"$f":"$B$2","v":1},14,"Right",{"$f":"$B$2","v":1},{"$f":"(D19&\" \"&C19)","v":"1 Left"},{"$f":"(G19&\" \"&F19)","v":"1 Right"},null,16,"Left",{"$f":"$B$2","v":1},19,"Right",{"$f":"$B$2","v":1},{"$f":"(M19&\" \"&L19)","v":"1 Left"},{"$f":"(P19&\" \"&O19)","v":"1 Right"},null,23,"Left",{"$f":"$B$2","v":1},24,"Right",{"$f":"$B$2","v":1},{"$f":"(V19&\" \"&U19)","v":"1 Left"},{"$f":"(Y19&\" \"&X19)","v":"1 Right"},null,18,"Left",{"$f":"$B$2","v":1},13,"Right",{"$f":"$B$2","v":1},{"$f":"(AE19&\" \"&AD19)","v":"1 Left"},{"$f":"(AH19&\" \"&AG19)","v":"1 Right"}]
[null,null,"Left",{"$f":"$B$2","v":1},null,"Right",{"$f":"$B$2","v":1},"1 Left","1 Right",null,null,"Left",{"$f":"$B$2","v":1},null,"Right",{"$f":"$B$2","v":1},"1 Left","1 Right",null,null,"Left",{"$f":"$B$2","v":1},null,"Right",{"$f":"$B$2","v":1},"1 Left","1 Right",null,null,"Left",{"$f":"$B$2","v":1},null,"Right",{"$f":"$B$2","v":1},"1 Left","1 Right"]
[null,3,"Left",{"$f":"$D$2","v":2},4,"Right",{"$f":"$D$2","v":2},"2 Left","2 Right",null,1,"Left",{"$f":"$D$2","v":2},10,"Right",{"$f":"$D$2","v":2},"2 Left","2 Right",null,2,"Left",{"$f":"$D$2","v":2},5,"Right",{"$f":"$D$2","v":2},"2 Left","2 Right",null,8,"Left",{"$f":"$D$2","v":2},11,"Right",{"$f":"$D$2","v":2},"2 Left","2 Right"]
[null,15,"Left",{"$f":"$D$2","v":2},16,"Right",{"$f":"$D$2","v":2},"2 Left","2 Right",null,23,"Left",{"$f":"$D$2","v":2},20,"Right",{"$f":"$D$2","v":2},"2 Left","2 Right",null,22,"Left",{"$f":"$D$2","v":2},13,"Right",{"$f":"$D$2","v":2},"2 Left","2 Right",null,14,"Left",{"$f":"$D$2","v":2},17,"Right",{"$f":"$D$2","v":2},"2 Left","2 Right"]
[null,null,"Left",{"$f":"$D$2","v":2},null,"Right",{"$f":"$D$2","v":2},"2 Left","2 Right",null,null,"Left",{"$f":"$D$2","v":2},null,"Right",{"$f":"$D$2","v":2},"2 Left","2 Right",null,null,"Left",{"$f":"$D$2","v":2},null,"Right",{"$f":"$D$2","v":2},"2 Left","2 Right",null,null,"Left",{"$f":"$D$2","v":2},null,"Right",{"$f":"$D$2","v":2},"2 Left","2 Right"]
[null,5,"Left",{"$f":"$F$2","v":3},6,"Right",{"$f":"$F$2","v":3},"3 Left","3 Right",null,2,"Left",{"$f":"$F$2","v":3},11,"Right",{"$f":"$F$2","v":3},"3 Left","3 Right",null,12,"Left",{"$f":"$F$2","v":3},8,"Right",{"$f":"$F$2","v":3},"3 Left","3 Right",null,1,"Left",{"$f":"$F$2","v":3},9,"Right",{"$f":"$F$2","v":3},"3 Left","3 Right"]
[null,17,"Left",{"$f":"$F$2","v":3},18,"Right",{"$f":"$F$2","v":3},"3 Left","3 Right",null,24,"Left",{"$f":"$F$2","v":3},21,"Right",{"$f":"$F$2","v":3},"3 Left","3 Right",null,20,"Left",{"$f":"$F$2","v":3},16,"Right",{"$f":"$F$2","v":3},"3 Left","3 Right",null,19,"Left",{"$f":"$F$2","v":3},15,"Right",{"$f":"$F$2","v":3},"3 Left","3 Right"]
[null,null,"Left",{"$f":"$F$2","v":3},null,"Right",{"$f":"$F$2","v":3},"3 Left","3 Right",null,null,"Left",{"$f":"$F$2","v":3},null,"Right",{"$f":"$F$2","v":3},"3 Left","3 Right",null,null,"Left",{"$f":"$F$2","v":3},null,"Right",{"$f":"$F$2","v":3},"3 Left","3 Right",null,null,"Left",{"$f":"$F$2","v":3},null,"Right",{"$f":"$F$2","v":3},"3 Left","3 Right"]
[null,7,"Left",{"$f":"$H$2","v":4},8,"Right",{"$f":"$H$2","v":4},"4 Left","4 Right",null,3,"Left",{"$f":"$H$2","v":4},12,"Right",{"$f":"$H$2","v":4},"4 Left","4 Right",null,1,"Left",{"$f":"$H$2","v":4},9,"Right",{"$f":"$H$2","v":4},"4 Left","4 Right",null,6,"Left",{"$f":"$H$2","v":4},10,"Right",{"$f":"$H$2","v":4},"4 Left","4 Right"]
[null,19,"Left",{"$f":"$H$2","v":4},20,"Right",{"$f":"$H$2","v":4},"4 Left","4 Right",null,13,"Left",{"$f":"$H$2","v":4},22,"Right",{"$f":"$H$2","v":4},"4 Left","4 Right",null,21,"Left",{"$f":"$H$2","v":4},17,"Right",{"$f":"$H$2","v":4},"4 Left","4 Right",null,24,"Left",{"$f":"$H$2","v":4},16,"Right",{"$f":"$H$2","v":4},"4 Left","4 Right"]
[null,null,"Left",4,null,"Right",4,"4 Left","4 Right",null,null,"Left",4,null,"Right",4,"4 Left","4 Right",null,null,"Left",4,null,"Right",4,"4 Left","4 Right",null,null,"Left",4,null,"Right",4,"4 Left","4 Right"]
[null,9,"Left",{"$f":"$J$2","v":5},10,"Right",{"$f":"$J$2","v":5},"5 Left","5 Right",null,4,"Left",{"$f":"$J$2","v":5},8,"Right",{"$f":"$J$2","v":5},"5 Left","5 Right",null,7,"Left",{"$f":"$J$2","v":5},11,"Right",{"$f":"$J$2","v":5},"5 Left","5 Right",null,2,"Left",{"$f":"$J$2","v":5},5,"Right",{"$f":"$J$2","v":5},"5 Left","5 Right"]
[null,21,"Left",{"$f":"$J$2","v":5},22,"Right",{"$f":"$J$2","v":5},"5 Left","5 Right",null,14,"Left",{"$f":"$J$2","v":5},18,"Right",{"$f":"$J$2","v":5},"5 Left","5 Right",null,15,"Left",{"$f":"$J$2","v":5},19,"Right",{"$f":"$J$2","v":5},"5 Left","5 Right",null,20,"Left",{"$f":"$J$2","v":5},23,"Right",{"$f":"$J$2","v":5},"5 Left","5 Right"]
[null,null,"Left",5,null,"Right",5,"5 Left","5 Right",null,null,"Left",5,null,"Right",5,"5 Left","5 Right",null,null,"Left",5,null,"Right",5,"5 Left","5 Right",null,null,"Left",5,null,"Right",5,"5 Left","5 Right"]
[null,11,"Left",{"$f":"$L$2","v":6},12,"Right",{"$f":"$L$2","v":6},"6 Left","6 Right",null,5,"Left",{"$f":"$L$2","v":6},7,"Right",{"$f":"$L$2","v":6},"6 Left","6 Right",null,6,"Left",{"$f":"$L$2","v":6},10,"Right",{"$f":"$L$2","v":6},"6 Left","6 Right",null,3,"Left",{"$f":"$L$2","v":6},4,"Right",{"$f":"$L$2","v":6},"6 Left","6 Right"]
[null,23,"Left",{"$f":"$L$2","v":6},24,"Right",{"$f":"$L$2","v":6},"6 Left","6 Right",null,15,"Left",{"$f":"$L$2","v":6},17,"Right",{"$f":"$L$2","v":6},"6 Left","6 Right",null,14,"Left",{"$f":"$L$2","v":6},18,"Right",{"$f":"$L$2","v":6},"6 Left","6 Right",null,21,"Left",{"$f":"$L$2","v":6},22,"Right",{"$f":"$L$2","v":6},"6 Left","6 Right"]
[null,null,"Left",6,null,"Right",6,"6 Left","6 Right",null,null,"Left",6,null,"Right",6,"6 Left","6 Right",null,null,"Left",6,null,"Right",6,"6 Left","6 Right",null,null,"Left",6,null,"Right",6,"6 Left","6 Right"]
[null,null,"Left",{"$f":"$N$2","v":0},null,"Right",{"$f":"$N$2","v":0},"0 Left","0 Right",null,null,"Left",{"$f":"$N$2","v":0},null,"Right",{"$f":"$N$2","v":0},"0 Left","0 Right",null,null,"Left",{"$f":"$N$2","v":0},null,"Right",{"$f":"$N$2","v":0},"0 Left","0 Right",null,null,"Left",{"$f":"$N$2","v":0},null,"Right",{"$f":"$N$2","v":0},"0 Left","0 Right"]
[null,null,"Left",{"$f":"$N$2","v":0},null,"Right",{"$f":"$N$2","v":0},"0 Left","0 Right",null,null,"Left",{"$f":"$N$2","v":0},null,"Right",{"$f":"$N$2","v":0},"0 Left","0 Right",null,null,"Left",{"$f":"$N$2","v":0},null,"Right",{"$f":"$N$2","v":0},"0 Left","0 Right",null,null,"Left",{"$f":"$N$2","v":0},null,"Right",{"$f":"$N$2","v":0},"0 Left","0 Right"]
[null,null,"Left",0,null,"Right",0,"0 Left","0 Right",null,null,"Left",0,null,"Right",0,"0 Left","0 Right",null,null,"Left",0,null,"Right",0,"0 Left","0 Right",null,null,"Left",0,null,"Right",0,"0 Left","0 Right"]
[null,null,"Left",{"$f":"$P$2","v":0},null,"Right",{"$f":"$P$2","v":0},"0 Left","0 Right",null,null,"Left",{"$f":"$P$2","v":0},null,"Right",{"$f":"$P$2","v":0},"0 Left","0 Right",null,null,"Left",{"$f":"$P$2","v":0},null,"Right",{"$f":"$P$2","v":0},"0 Left","0 Right",null,null,"Left",{"$f":"$P$2","v":0},null,"Right",{"$f":"$P$2","v":0},"0 Left","0 Right"]
[null,null,"Left",{"$f":"$P$2","v":0},null,"Right",{"$f":"$P$2","v":0},"0 Left","0 Right",null,null,"Left",{"$f":"$P$2","v":0},null,"Right",{"$f":"$P$2","v":0},"0 Left","0 Right",null,null,"Left",{"$f":"$P$2","v":0},null,"Right",{"$f":"$P$2","v":0},"0 Left","0 Right",null,null,"Left",{"$f":"$P$2","v":0},null,"Right",{"$f":"$P$2","v":0},"0 Left","0 Right"]
[null,null,"Left",0,null,"Right",0,"0 Left","0 Right",null,null,"Left",0,null,"Right",0,"0 Left","0 Right",null,null,"Left",0,null,"Right",0,"0 Left","0 Right",null,null,"Left",0,null,"Right",0,"0 Left","0 Right"]
[null,null,"Left",{"$f":"$R$2","v":0},null,"Right",{"$f":"$R$2","v":0},"0 Left","0 Right",null,null,"Left",{"$f":"$R$2","v":0},null,"Right",{"$f":"$R$2","v":0},"0 Left","0 Right",null,null,"Left",{"$f":"$R$2","v":0},null,"Right",{"$f":"$R$2","v":0},"0 Left","0 Right",null,null,"Left",{"$f":"$R$2","v":0},null,"Right",{"$f":"$R$2","v":0},"0 Left","0 Right",null,{"$f":"$B$20","v":0},{"$f":"$H$20","v":"1 Left"},{"$f":"$K$20","v":0},{"$f":"$Q$20","v":"1 Left"},{"$f":"$T$20","v":0},{"$f":"$Z$20","v":"1 Left"},{"$f":"$AC$20","v":0},{"$f":"$AI$20","v":"1 Left"}]
[null,null,"Left",{"$f":"$R$2","v":0},null,"Right",{"$f":"$R$2","v":0},"0 Left","0 Right",null,null,"Left",{"$f":"$R$2","v":0},null,"Right",{"$f":"$R$2","v":0},"0 Left","0 Right",null,null,"Left",{"$f":"$R$2","v":0},null,"Right",{"$f":"$R$2","v":0},"0 Left","0 Right",null,null,"Left",{"$f":"$R$2","v":0},null,"Right",{"$f":"$R$2","v":0},"0 Left","0 Right",null,{"$f":"$E$20","v":0},{"$f":"$I$20","v":"1 Right"},{"$f":"$K$23","v":0},{"$f":"$Q$23","v":"2 Left"},{"$f":"$T$23","v":0},{"$f":"$Z$23","v":"2 Left"},{"$f":"$AC$23","v":0},{"$f":"$AI$23","v":"2 Left"}]
[null,null,"Left",0,null,"Right",0,"0 Left","0 Right",null,null,"Left",0,null,"Right",0,"0 Left","0 Right",null,null,"Left",0,null,"Right",0,"0 Left","0 Right",null,null,"Left",0,null,"Right",0,"0 Left","0 Right",null,{"$f":"$B$36","v":0},{"$f":"$H$36","v":"0 Left"},{"$f":"$K$26","v":0},{"$f":"$Q$26","v":"3 Left"},{"$f":"$T$26","v":0},{"$f":"$Z$26","v":"3 Left"},{"$f":"$AC$26","v":0},{"$f":"$AI$26","v":"3 Left"}]
[null,null,"Left",{"$f":"$T$2","v":0},null,"Right",{"$f":"$T$2","v":0},"0 Left","0 Right",null,null,"Left",{"$f":"$T$2","v":0},null,"Right",{"$f":"$T$2","v":0},"0 Left","0 Right",null,null,"Left",{"$f":"$T$2","v":0},null,"Right",{"$f":"$T$2","v":0},"0 Left","0 Right",null,null,"Left",{"$f":"$T$2","v":0},null,"Right",{"$f":"$T$2","v":0},"0 Left","0 Right",null,{"$f":"$E$36","v":0},{"$f":"$I$36","v":"0 Right"},{"$f":"$K$29","v":0},{"$f":"$Q$29","v":"4 Left"},{"$f":"$T$29","v":0},{"$f":"$Z$29","v":"4 Left"},{"$f":"$AC$29","v":0},{"$f":"$AI$29","v":"4 Left"}]
[null,null,"Left",{"$f":"$T$2","v":0},null,"Right",{"$f":"$T$2","v":0},"0 Left","0 Right",null,null,"Left",{"$f":"$T$2","v":0},null,"Right",{"$f":"$T$2","v":0},"0 Left","0 Right",null,null,"Left",{"$f":"$T$2","v":0},null,"Right",{"$f":"$T$2","v":0},"0 Left","0 Right",null,null,"Left",{"$f":"$T$2","v":0},null,"Right",{"$f":"$T$2","v":0},"0 Left","0 Right",null,{"$f":"$B$39","v":0},{"$f":"$H$39","v":"0 Left"},{"$f":"$K$32","v":0},{"$f":"$Q$32","v":"5 Left"},{"$f":"$T$32","v":0},{"$f":"$Z$32","v":"5 Left"},{"$f":"$AC$32","v":0},{"$f":"$AI$32","v":"5 Left"}]
[null,null,"Left",0,null,"Right",0,"0 Left","0 Right",null,null,"Left",0,null,"Right",0,"0 Left","0 Right",null,null,"Left",0,null,"Right",0,"0 Left","0 Right",null,null,"Left",0,null,"Right",0,"0 Left","0 Right",null,{"$f":"$E$39","v":0},{"$f":"$I$39","v":"0 Right"},{"$f":"$K$35","v":0},{"$f":"$Q$35","v":"6 Left"},{"$f":"$T$35","v":0},{"$f":"$Z$35","v":"6 Left"},{"$f":"$AC$35","v":0},{"$f":"$AI$35","v":"6 Left"}]
[null,null,"Left",{"$f":"$V$2","v":0},null,"Right",{"$f":"$V$2","v":0},"0 Left","0 Right",null,null,"Left",{"$f":"$V$2","v":0},null,"Right",{"$f":"$V$2","v":0},"0 Left","0 Right",null,null,"Left",{"$f":"$V$2","v":0},null,"Right",{"$f":"$V$2","v":0},"0 Left","0 Right",null,null,"Left",{"$f":"$V$2","v":0},null,"Right",{"$f":"$V$2","v":0},"0 Left","0 Right",null,{"$f":"$B$42","v":0},{"$f":"$H$42","v":"0 Left"},{"$f":"$K$36","v":0},{"$f":"$Q$36","v":"0 Left"},{"$f":"$T$36","v":0},{"$f":"$Z$36","v":"0 Left"},{"$f":"$AC$36","v":0},{"$f":"$AI$36","v":"0 Left"}]
[null,null,"Left",{"$f":"$V$2","v":0},null,"Right",{"$f":"$V$2","v":0},"0 Left","0 Right",null,null,"Left",{"$f":"$V$2","v":0},null,"Right",{"$f":"$V$2","v":0},"0 Left","0 Right",null,null,"Left",{"$f":"$V$2","v":0},null,"Right",{"$f":"$V$2","v":0},"0 Left","0 Right",null,null,"Left",{"$f":"$V$2","v":0},null,"Right",{"$f":"$V$2","v":0},"0 Left","0 Right",null,{"$f":"$E$42","v":0},{"$f":"$I$42","v":"0 Right"},{"$f":"$K$37","v":0},{"$f":"$Q$37","v":"0 Left"},{"$f":"$T$37","v":0},{"$f":"$Z$37","v":"0 Left"},{"$f":"$AC$37","v":0},{"$f":"$AI$37","v":"0 Left"}]
[null,null,"Left",0,null,"Right",0,"0 Left","0 Right",null,null,"Left",0,null,"Right",0,"0 Left","0 Right",null,null,"Left",0,null,"Right",0,"0 Left","0 Right",null,null,"Left",0,null,"Right",0,"0 Left","0 Right",null,{"$f":"$B$45","v":0},{"$f":"$H$45","v":"0 Left"},{"$f":"$K$38","v":0},{"$f":"$Q$38","v":"0 Left"},{"$f":"$T$38","v":0},{"$f":"$Z$38","v":"0 Left"},{"$f":"$AC$38","v":0},{"$f":"$AI$38","v":"0 Left"}]
[null,null,"Left",{"$f":"$X$2","v":0},null,"Right",{"$f":"$X$2","v":0},"0 Left","0 Right",null,null,"Left",{"$f":"$X$2","v":0},null,"Right",{"$f":"$X$2","v":0},"0 Left","0 Right",null,null,"Left",{"$f":"$X$2","v":0},null,"Right",{"$f":"$X$2","v":0},"0 Left","0 Right",null,null,"Left",{"$f":"$X$2","v":0},null,"Right",{"$f":"$X$2","v":0},"0 Left","0 Right",null,{"$f":"$E$45","v":0},{"$f":"$I$45","v":"0 Right"},{"$f":"$K$39","v":0},{"$f":"$Q$39","v":"0 Left"},{"$f":"$T$39","v":0},{"$f":"$Z$39","v":"0 Left"},{"$f":"$AC$39","v":0},{"$f":"$AI$39","v":"0 Left"}]
[null,null,"Left",{"$f":"$X$2","v":0},null,"Right",{"$f":"$X$2","v":0},"0 Left","0 Right",null,null,"Left",{"$f":"$X$2","v":0},null,"Right",{"$f":"$X$2","v":0},"0 Left","0 Right",null,null,"Left",{"$f":"$X$2","v":0},null,"Right",{"$f":"$X$2","v":0},"0 Left","0 Right",null,null,"Left",{"$f":"$X$2","v":0},null,"Right",{"$f":"$X$2","v":0},"0 Left","0 Right",null,{"$f":"$B$37","v":0},{"$f":"$H$37","v":"0 Left"},{"$f":"$K$40","v":0},{"$f":"$Q$40","v":"0 Left"},{"$f":"$T$40","v":0},{"$f":"$Z$40","v":"0 Left"},{"$f":"$AC$40","v":0},{"$f":"$AI$40","v":"0 Left"}]
[null,null,"Left",0,null,"Right",0,"0 Left","0 Right",null,null,"Left",0,null,"Right",0,"0 Left","0 Right",null,null,"Left",0,null,"Right",0,"0 Left","0 Right",null,null,"Left",0,null,"Right",0,"0 Left","0 Right",null,{"$f":"$E$37","v":0},{"$f":"$I$37","v":"0 Right"},{"$f":"$K$41","v":0},{"$f":"$Q$41","v":"0 Left"},{"$f":"$T$41","v":0},{"$f":"$Z$41","v":"0 Left"},{"$f":"$AC$41","v":0},{"$f":"$AI$41","v":"0 Left"}]
[null,null,"Left",{"$f":"$Z$2","v":0},null,"Right",{"$f":"$Z$2","v":0},"0 Left","0 Right",null,null,"Left",{"$f":"$Z$2","v":0},null,"Right",{"$f":"$Z$2","v":0},"0 Left","0 Right",null,null,"Left",{"$f":"$Z$2","v":0},null,"Right",{"$f":"$Z$2","v":0},"0 Left","0 Right",null,null,"Left",{"$f":"$Z$2","v":0},null,"Right",{"$f":"$Z$2","v":0},"0 Left","0 Right",null,{"$f":"$B$40","v":0},{"$f":"$H$40","v":"0 Left"},{"$f":"$K$42","v":0},{"$f":"$Q$42","v":"0 Left"},{"$f":"$T$42","v":0},{"$f":"$Z$42","v":"0 Left"},{"$f":"$AC$42","v":0},{"$f":"$AI$42","v":"0 Left"}]
[null,null,"Left",{"$f":"$Z$2","v":0},null,"Right",{"$f":"$Z$2","v":0},"0 Left","0 Right",null,null,"Left",{"$f":"$Z$2","v":0},null,"Right",{"$f":"$Z$2","v":0},"0 Left","0 Right",null,null,"Left",{"$f":"$Z$2","v":0},null,"Right",{"$f":"$Z$2","v":0},"0 Left","0 Right",null,null,"Left",{"$f":"$Z$2","v":0},null,"Right",{"$f":"$Z$2","v":0},"0 Left","0 Right",null,{"$f":"$E$40","v":0},{"$f":"$I$40","v":"0 Right"},{"$f":"$K$43","v":0},{"$f":"$Q$43","v":"0 Left"},{"$f":"$T$43","v":0},{"$f":"$Z$43","v":"0 Left"},{"$f":"$AC$43","v":0},{"$f":"$AI$43","v":"0 Left"}]
[null,null,"Left",0,null,"Right",0,"0 Left","0 Right",null,null,"Left",0,null,"Right",0,"0 Left","0 Right",null,null,"Left",0,null,"Right",0,"0 Left","0 Right",null,null,"Left",0,null,"Right",0,"0 Left","0 Right",null,{"$f":"$B$43","v":0},{"$f":"$H$43","v":"0 Left"},{"$f":"$K$44","v":0},{"$f":"$Q$44","v":"0 Left"},{"$f":"$T$44","v":0},{"$f":"$Z$44","v":"0 Left"},{"$f":"$AC$44","v":0},{"$f":"$AI$44","v":"0 Left"}]
[null,null,"Left",{"$f":"$AB$2","v":0},null,"Right",{"$f":"$AB$2","v":0},"0 Left","0 Right",null,null,"Left",{"$f":"$AB$2","v":0},null,"Right",{"$f":"$AB$2","v":0},"0 Left","0 Right",null,null,"Left",{"$f":"$AB$2","v":0},null,"Right",{"$f":"$AB$2","v":0},"0 Left","0 Right",null,null,"Left",{"$f":"$AB$2","v":0},null,"Right",{"$f":"$AB$2","v":0},"0 Left","0 Right",null,{"$f":"$E$43","v":0},{"$f":"$I$43","v":"0 Right"},{"$f":"$K$45","v":0},{"$f":"$Q$45","v":"0 Left"},{"$f":"$T$45","v":0},{"$f":"$Z$45","v":"0 Left"},{"$f":"$AC$45","v":0},{"$f":"$AI$45","v":"0 Left"}]
[null,null,"Left",{"$f":"$AB$2","v":0},null,"Right",{"$f":"$AB$2","v":0},"0 Left","0 Right",null,null,"Left",{"$f":"$AB$2","v":0},null,"Right",{"$f":"$AB$2","v":0},"0 Left","0 Right",null,null,"Left",{"$f":"$AB$2","v":0},null,"Right",{"$f":"$AB$2","v":0},"0 Left","0 Right",null,null,"Left",{"$f":"$AB$2","v":0},null,"Right",{"$f":"$AB$2","v":0},"0 Left","0 Right",null,{"$f":"$B$46","v":0},{"$f":"$H$46","v":"0 Left"},{"$f":"$K$46","v":0},{"$f":"$Q$46","v":"0 Left"},{"$f":"$T$46","v":0},{"$f":"$Z$46","v":"0 Left"},{"$f":"$AC$46","v":0},{"$f":"$AI$46","v":"0 Left"}]
[null,null,"Left",0,null,"Right",0,"0 Left","0 Right",null,null,"Left",0,null,"Right",0,"0 Left","0 Right",null,null,"Left",0,null,"Right",0,"0 Left","0 Right",null,null,"Left",0,null,"Right",0,"0 Left","0 Right",null,{"$f":"$E$46","v":0},{"$f":"$I$46","v":"0 Right"},{"$f":"$K$47","v":0},{"$f":"$Q$47","v":"0 Left"},{"$f":"$T$47","v":0},{"$f":"$Z$47","v":"0 Left"},{"$f":"$AC$47","v":0},{"$f":"$AI$47","v":"0 Left"}]
[null,null,null,null,null,null,null,null,null,null,null,null,null,null,null,null,null,null,null,null,null,null,null,null,null,null,null,null,null,null,null,null,null,null,null,null,null,{"$f":"$B$23","v":0},{"$f":"$H$23","v":"2 Left"},{"$f":"$K$48","v":0},{"$f":"$Q$48","v":"0 Left"},{"$f":"$T$48","v":0},{"$f":"$Z$48","v":"0 Left"},{"$f":"$AC$48","v":0},{"$f":"$AI$48","v":"0 Left"}]
[null,null,null,null,null,null,null,null,null,null,null,null,null,null,null,null,null,null,null,null,null,null,null,null,null,null,null,null,null,null,null,null,null,null,null,null,null,{"$f":"$B$26","v":0},{"$f":"$H$26","v":"3 Left"},{"$f":"$K$49","v":0},{"$f":"$Q$49","v":"0 Left"},{"$f":"$T$49","v":0},{"$f":"$Z$49","v":"0 Left"},{"$f":"$AC$49","v":0},{"$f":"$AI$49","v":"0 Left"}]
[null,null,null,null,null,null,null,null,null,null,null,null,null,null,null,null,null,null,null,null,null,null,null,null,null,null,null,null,null,null,null,null,null,null,null,null,null,{"$f":"$B$29","v":0},{"$f":"$H$29","v":"4 Left"},{"$f":"$K$50","v":0},{"$f":"$Q$50","v":"0 Left"},{"$f":"$T$50","v":0},{"$f":"$Z$50","v":"0 Left"},{"$f":"$AC$50","v":0},{"$f":"$AI$50","v":"0 Left"}]
[null,null,null,null,null,null,null,null,null,null,null,null,null,null,null,null,null,null,null,null,null,null,null,null,null,null,null,null,null,null,null,null,null,null,null,null,null,{"$f":"$B$32","v":0},{"$f":"$H$32","v":"5 Left"},{"$f":"$K$51","v":0},{"$f":"$Q$51","v":"0 Left"},{"$f":"$T$51","v":0},{"$f":"$Z$51","v":"0 Left"},{"$f":"$AC$51","v":0},{"$f":"$AI$51","v":"0 Left"}]
[null,null,null,null,null,null,null,null,null,null,null,null,null,null,null,null,null,null,null,null,null,null,null,null,null,null,null,null,null,null,null,null,null,null,null,null,null,{"$f":"$B$35","v":0},{"$f":"$H$35","v":"6 Left"},{"$f":"$K$52","v":0},{"$f":"$Q$52","v":"0 Left"},{"$f":"$T$52","v":0},{"$f":"$Z$52","v":"0 Left"},{"$f":"$AC$52","v":0},{"$f":"$AI$52","v":"0 Left"}]
[null,null,null,null,null,null,null,null,null,null,null,null,null,null,null,null,null,null,null,null,null,null,null,null,null,null,null,null,null,null,null,null,null,null,null,null,null,{"$f":"$B$38","v":0},{"$f":"$H$38","v":"0 Left"},{"$f":"$K$53","v":0},{"$f":"$Q$53","v":"0 Left"},{"$f":"$T$53","v":0},{"$f":"$Z$53","v":"0 Left"},{"$f":"$AC$53","v":0},{"$f":"$AI$53","v":"0 Left"}]
[null,null,null,null,null,null,null,null,null,null,null,null,null,null,null,null,null,null,null,null,null,null,null,null,null,null,null,null,null,null,null,null,null,null,null,null,null,{"$f":"$B$41","v":0},{"$f":"$H$41","v":"0 Left"},{"$f":"$K$54","v":0},{"$f":"$Q$54","v":"0 Left"},{"$f":"$T$54","v":0},{"$f":"$Z$54","v":"0 Left"},{"$f":"$AC$54","v":0},{"$f":"$AI$54","v":"0 Left"}]
[null,null,null,null,null,null,null,null,null,null,null,null,null,null,null,null,null,null,null,null,null,null,null,null,null,null,null,null,null,null,null,null,null,null,null,null,null,{"$f":"$B$44","v":0},{"$f":"$H$44","v":"0 Left"},{"$f":"$K$55","v":0},{"$f":"$Q$55","v":"0 Left"},{"$f":"$T$55","v":0},{"$f":"$Z$55","v":"0 Left"},{"$f":"$AC$55","v":0},{"$f":"$AI$55","v":"0 Left"}]
[null,null,null,null,null,null,null,null,null,null,null,null,null,null,null,null,null,null,null,null,null,null,null,null,null,null,null,null,null,null,null,null,null,null,null,null,null,{"$f":"$B$47","v":0},{"$f":"$H$47","v":"0 Left"},{"$f":"$K$56","v":0},{"$f":"$Q$56","v":"0 Left"},{"$f":"$T$56","v":0},{"$f":"$Z$56","v":"0 Left"},{"$f":"$AC$56","v":0},{"$f":"$AI$56","v":"0 Left"}]
[null,null,null,null,null,null,null,null,null,null,null,null,null,null,null,null,null,null,null,null,null,null,null,null,null,null,null,null,null,null,null,null,null,null,null,null,null,{"$f":"$B$48","v":0},{"$f":"$H$48","v":"0 Left"},{"$f":"$K$57","v":0},{"$f":"$Q$57","v":"0 Left"},{"$f":"$T$57","v":0},{"$f":"$Z$57","v":"0 Left"},{"$f":"$AC$57","v":0},{"$f":"$AI$57","v":"0 Left"}]
[null,null,null,null,null,null,null,null,null,null,null,null,null,null,null,null,null,null,null,null,null,null,null,null,null,null,null,null,null,null,null,null,null,null,null,null,null,{"$f":"$B$49","v":0},{"$f":"$H$49","v":"0 Left"},{"$f":"$K$58","v":0},{"$f":"$Q$58","v":"0 Left"},{"$f":"$T$58","v":0},{"$f":"$Z$58","v":"0 Left"},{"$f":"$AC$58","v":0},{"$f":"$AI$58","v":"0 Left"}]
[null,null,null,null,null,null,null,null,null,null,null,null,null,null,null,null,null,null,null,null,null,null,null,null,null,null,null,null,null,null,null,null,null,null,null,null,null,{"$f":"$B$50","v":0},{"$f":"$H$50","v":"0 Left"},{"$f":"$K$59","v":0},{"$f":"$Q$59","v":"0 Left"},{"$f":"$T$59","v":0},{"$f":"$Z$59","v":"0 Left"},{"$f":"$AC$59","v":0},{"$f":"$AI$59","v":"0 Left"}]
[null,null,null,null,null,null,null,null,null,null,null,null,null,null,null,null,null,null,null,null,null,null,null,null,null,null,null,null,null,null,null,null,null,null,null,null,null,{"$f":"$B$51","v":0},{"$f":"$H$51","v":"0 Left"},{"$f":"$N$20","v":0},{"$f":"$R$20","v":"1 Right"},{"$f":"$W$20","v":0},{"$f":"$AA$20","v":"1 Right"},{"$f":"$AF$20","v":0},{"$f":"$AJ$20","v":"1 Right"}]
[null,null,null,null,null,null,null,null,null,null,null,null,null,null,null,null,null,null,null,null,null,null,null,null,null,null,null,null,null,null,null,null,null,null,null,null,null,{"$f":"$B$52","v":0},{"$f":"$H$52","v":"0 Left"},{"$f":"$N$23","v":0},{"$f":"$R$23","v":"2 Right"},{"$f":"$W$23","v":0},{"$f":"$AA$23","v":"2 Right"},{"$f":"$AF$23","v":0},{"$f":"$AJ$23","v":"2 Right"}]
[null,null,null,null,null,null,null,null,null,null,null,null,null,null,null,null,null,null,null,null,null,null,null,null,null,null,null,null,null,null,null,null,null,null,null,null,null,{"$f":"$B$53","v":0},{"$f":"$H$53","v":"0 Left"},{"$f":"$N$26","v":0},{"$f":"$R$26","v":"3 Right"},{"$f":"$W$26","v":0},{"$f":"$AA$26","v":"3 Right"},{"$f":"$AF$26","v":0},{"$f":"$AJ$26","v":"3 Right"}]
[null,null,null,null,null,null,null,null,null,null,null,null,null,null,null,null,null,null,null,null,null,null,null,null,null,null,null,null,null,null,null,null,null,null,null,null,null,{"$f":"$B$54","v":0},{"$f":"$H$54","v":"0 Left"},{"$f":"$N$29","v":0},{"$f":"$R$29","v":"4 Right"},{"$f":"$W$29","v":0},{"$f":"$AA$29","v":"4 Right"},{"$f":"$AF$29","v":0},{"$f":"$AJ$29","v":"4 Right"}]
[null,null,null,null,null,null,null,null,null,null,null,null,null,null,null,null,null,null,null,null,null,null,null,null,null,null,null,null,null,null,null,null,null,null,null,null,null,{"$f":"$B$55","v":0},{"$f":"$H$55","v":"0 Left"},{"$f":"$N$32","v":0},{"$f":"$R$32","v":"5 Right"},{"$f":"$W$32","v":0},{"$f":"$AA$32","v":"5 Right"},{"$f":"$AF$32","v":0},{"$f":"$AJ$32","v":"5 Right"}]
[null,null,null,null,null,null,null,null,null,null,null,null,null,null,null,null,null,null,null,null,null,null,null,null,null,null,null,null,null,null,null,null,null,null,null,null,null,{"$f":"$B$56","v":0},{"$f":"$H$56","v":"0 Left"},{"$f":"$N$35","v":0},{"$f":"$R$35","v":"6 Right"},{"$f":"$W$35","v":0},{"$f":"$AA$35","v":"6 Right"},{"$f":"$AF$35","v":0},{"$f":"$AJ$35","v":"6 Right"}]
[null,null,null,null,null,null,null,null,null,null,null,null,null,null,null,null,null,null,null,null,null,null,null,null,null,null,null,null,null,null,null,null,null,null,null,null,null,{"$f":"$B$57","v":0},{"$f":"$H$57","v":"0 Left"},{"$f":"$N$36","v":0},{"$f":"$R$36","v":"0 Right"},{"$f":"$W$36","v":0},{"$f":"$AA$36","v":"0 Right"},{"$f":"$AF$36","v":0},{"$f":"$AJ$36","v":"0 Right"}]
[null,null,null,null,null,null,null,null,null,null,null,null,null,null,null,null,null,null,null,null,null,null,null,null,null,null,null,null,null,null,null,null,null,null,null,null,null,{"$f":"$B$58","v":0},{"$f":"$H$58","v":"0 Left"},{"$f":"$N$37","v":0},{"$f":"$R$37","v":"0 Right"},{"$f":"$W$37","v":0},{"$f":"$AA$37","v":"0 Right"},{"$f":"$AF$37","v":0},{"$f":"$AJ$37","v":"0 Right"}]
[null,null,null,null,null,null,null,null,null,null,null,null,null,null,null,null,null,null,null,null,null,null,null,null,null,null,null,null,null,null,null,null,null,null,null,null,null,{"$f":"$B$59","v":0},{"$f":"$H$59","v":"0 Left"},{"$f":"$N$38","v":0},{"$f":"$R$38","v":"0 Right"},{"$f":"$W$38","v":0},{"$f":"$AA$38","v":"0 Right"},{"$f":"$AF$38","v":0},{"$f":"$AJ$38","v":"0 Right"}]
[null,null,null,null,null,null,null,null,null,null,null,null,null,null,null,null,null,null,null,null,null,null,null,null,null,null,null,null,null,null,null,null,null,null,null,null,null,{"$f":"$E$23","v":0},{"$f":"$I$23","v":"2 Right"},{"$f":"$N$39","v":0},{"$f":"$R$39","v":"0 Right"},{"$f":"$W$39","v":0},{"$f":"$AA$39","v":"0 Right"},{"$f":"$AF$39","v":0},{"$f":"$AJ$39","v":"0 Right"}]
[null,null,null,null,null,null,null,null,null,null,null,null,null,null,null,null,null,null,null,null,null,null,null,null,null,null,null,null,null,null,null,null,null,null,null,null,null,{"$f":"$E$26","v":0},{"$f":"$I$26","v":"3 Right"},{"$f":"$N$40","v":0},{"$f":"$R$40","v":"0 Right"},{"$f":"$W$40","v":0},{"$f":"$AA$40","v":"0 Right"},{"$f":"$AF$40","v":0},{"$f":"$AJ$40","v":"0 Right"}]
[null,null,null,null,null,null,null,null,null,null,null,null,null,null,null,null,null,null,null,null,null,null,null,null,null,null,null,null,null,null,null,null,null,null,null,null,null,{"$f":"$E$29","v":0},{"$f":"$I$29","v":"4 Right"},{"$f":"$N$41","v":0},{"$f":"$R$41","v":"0 Right"},{"$f":"$W$41","v":0},{"$f":"$AA$41","v":"0 Right"},{"$f":"$AF$41","v":0},{"$f":"$AJ$41","v":"0 Right"}]
[null,null,null,null,null,null,null,null,null,null,null,null,null,null,null,null,null,null,null,null,null,null,null,null,null,null,null,null,null,null,null,null,null,null,null,null,null,{"$f":"$E$32","v":0},{"$f":"$I$32","v":"5 Right"},{"$f":"$N$42","v":0},{"$f":"$R$42","v":"0 Right"},{"$f":"$W$42","v":0},{"$f":"$AA$42","v":"0 Right"},{"$f":"$AF$42","v":0},{"$f":"$AJ$42","v":"0 Right"}]
[null,null,null,null,null,null,null,null,null,null,null,null,null,null,null,null,null,null,null,null,null,null,null,null,null,null,null,null,null,null,null,null,null,null,null,null,null,{"$f":"$E$35","v":0},{"$f":"$I$35","v":"6 Right"},{"$f":"$N$43","v":0},{"$f":"$R$43","v":"0 Right"},{"$f":"$W$43","v":0},{"$f":"$AA$43","v":"0 Right"},{"$f":"$AF$43","v":0},{"$f":"$AJ$43","v":"0 Right"}]
[null,null,null,null,null,null,null,null,null,null,null,null,null,null,null,null,null,null,null,null,null,null,null,null,null,null,null,null,null,null,null,null,null,null,null,null,null,{"$f":"$E$38","v":0},{"$f":"$I$38","v":"0 Right"},{"$f":"$N$44","v":0},{"$f":"$R$44","v":"0 Right"},{"$f":"$W$44","v":0},{"$f":"$AA$44","v":"0 Right"},{"$f":"$AF$44","v":0},{"$f":"$AJ$44","v":"0 Right"}]
[null,null,null,null,null,null,null,null,null,null,null,null,null,null,null,null,null,null,null,null,null,null,null,null,null,null,null,null,null,null,null,null,null,null,null,null,null,{"$f":"$E$41","v":0},{"$f":"$I$41","v":"0 Right"},{"$f":"$N$45","v":0},{"$f":"$R$45","v":"0 Right"},{"$f":"$W$45","v":0},{"$f":"$AA$45","v":"0 Right"},{"$f":"$AF$45","v":0},{"$f":"$AJ$45","v":"0 Right"}]
[null,null,null,null,null,null,null,null,null,null,null,null,null,null,null,null,null,null,null,null,null,null,null,null,null,null,null,null,null,null,null,null,null,null,null,null,null,{"$f":"$E$44","v":0},{"$f":"$I$44","v":"0 Right"},{"$f":"$N$46","v":0},{"$f":"$R$46","v":"0 Right"},{"$f":"$W$46","v":0},{"$f":"$AA$46","v":"0 Right"},{"$f":"$AF$46","v":0},{"$f":"$AJ$46","v":"0 Right"}]
[null,null,null,null,null,null,null,null,null,null,null,null,null,null,null,null,null,null,null,null,null,null,null,null,null,null,null,null,null,null,null,null,null,null,null,null,null,{"$f":"$E$47","v":0},{"$f":"$I$47","v":"0 Right"},{"$f":"$N$47","v":0},{"$f":"$R$47","v":"0 Right"},{"$f":"$W$47","v":0},{"$f":"$AA$47","v":"0 Right"},{"$f":"$AF$47","v":0},{"$f":"$AJ$47","v":"0 Right"}]
[null,null,null,null,null,null,null,null,null,null,null,null,null,null,null,null,null,null,null,null,null,null,null,null,null,null,null,null,null,null,null,null,null,null,null,null,null,{"$f":"$E$48","v":0},{"$f":"$I$48","v":"0 Right"},{"$f":"$N$48","v":0},{"$f":"$R$48","v":"0 Right"},{"$f":"$W$48","v":0},{"$f":"$AA$48","v":"0 Right"},{"$f":"$AF$48","v":0},{"$f":"$AJ$48","v":"0 Right"}]
[null,null,null,null,null,null,null,null,null,null,null,null,null,null,null,null,null,null,null,null,null,null,null,null,null,null,null,null,null,null,null,null,null,null,null,null,null,{"$f":"$E$49","v":0},{"$f":"$I$49","v":"0 Right"},{"$f":"$N$49","v":0},{"$f":"$R$49","v":"0 Right"},{"$f":"$W$49","v":0},{"$f":"$AA$49","v":"0 Right"},{"$f":"$AF$49","v":0},{"$f":"$AJ$49","v":"0 Right"}]
[null,null,null,null,null,null,null,null,null,null,null,null,null,null,null,null,null,null,null,null,null,null,null,null,null,null,null,null,null,null,null,null,null,null,null,null,null,{"$f":"$E$50","v":0},{"$f":"$I$50","v":"0 Right"},{"$f":"$N$50","v":0},{"$f":"$R$50","v":"0 Right"},{"$f":"$W$50","v":0},{"$f":"$AA$50","v":"0 Right"},{"$f":"$AF$50","v":0},{"$f":"$AJ$50","v":"0 Right"}]
[null,null,null,null,null,null,null,null,null,null,null,null,null,null,null,null,null,null,null,null,null,null,null,null,null,null,null,null,null,null,null,null,null,null,null,null,null,{"$f":"$E$51","v":0},{"$f":"$I$51","v":"0 Right"},{"$f":"$N$51","v":0},{"$f":"$R$51","v":"0 Right"},{"$f":"$W$51","v":0},{"$f":"$AA$51","v":"0 Right"},{"$f":"$AF$51","v":0},{"$f":"$AJ$51","v":"0 Right"}]
[null,null,null,null,null,null,null,null,null,null,null,null,null,null,null,null,null,null,null,null,null,null,null,null,null,null,null,null,null,null,null,null,null,null,null,null,null,{"$f":"$E$52","v":0},{"$f":"$I$52","v":"0 Right"},{"$f":"$N$52","v":0},{"$f":"$R$52","v":"0 Right"},{"$f":"$W$52","v":0},{"$f":"$AA$52","v":"0 Right"},{"$f":"$AF$52","v":0},{"$f":"$AJ$52","v":"0 Right"}]
[null,null,null,null,null,null,null,null,null,null,null,null,null,null,null,null,null,null,null,null,null,null,null,null,null,null,null,null,null,null,null,null,null,null,null,null,null,{"$f":"$E$53","v":0},{"$f":"$I$53","v":"0 Right"},{"$f":"$N$53","v":0},{"$f":"$R$53","v":"0 Right"},{"$f":"$W$53","v":0},{"$f":"$AA$53","v":"0 Right"},{"$f":"$AF$53","v":0},{"$f":"$AJ$53","v":"0 Right"}]
[null,null,null,null,null,null,null,null,null,null,null,null,null,null,null,null,null,null,null,null,null,null,null,null,null,null,null,null,null,null,null,null,null,null,null,null,null,{"$f":"$E$54","v":0},{"$f":"$I$54","v":"0 Right"},{"$f":"$N$54","v":0},{"$f":"$R$54","v":"0 Right"},{"$f":"$W$54","v":0},{"$f":"$AA$54","v":"0 Right"},{"$f":"$AF$54","v":0},{"$f":"$AJ$54","v":"0 Right"}]
[null,null,null,null,null,null,null,null,null,null,null,null,null,null,null,null,null,null,null,null,null,null,null,null,null,null,null,null,null,null,null,null,null,null,null,null,null,{"$f":"$E$55","v":0},{"$f":"$I$55","v":"0 Right"},{"$f":"$N$55","v":0},{"$f":"$R$55","v":"0 Right"},{"$f":"$W$55","v":0},{"$f":"$AA$55","v":"0 Right"},{"$f":"$AF$55","v":0},{"$f":"$AJ$55","v":"0 Right"}]
[null,null,null,null,null,null,null,null,null,null,null,null,null,null,null,null,null,null,null,null,null,null,null,null,null,null,null,null,null,null,null,null,null,null,null,null,null,{"$f":"$E$56","v":0},{"$f":"$I$56","v":"0 Right"},{"$f":"$N$56","v":0},{"$f":"$R$56","v":"0 Right"},{"$f":"$W$56","v":0},{"$f":"$AA$56","v":"0 Right"},{"$f":"$AF$56","v":0},{"$f":"$AJ$56","v":"0 Right"}]
[null,null,null,null,null,null,null,null,null,null,null,null,null,null,null,null,null,null,null,null,null,null,null,null,null,null,null,null,null,null,null,null,null,null,null,null,null,{"$f":"$E$57","v":0},{"$f":"$I$57","v":"0 Right"},{"$f":"$N$57","v":0},{"$f":"$R$57","v":"0 Right"},{"$f":"$W$57","v":0},{"$f":"$AA$57","v":"0 Right"},{"$f":"$AF$57","v":0},{"$f":"$AJ$57","v":"0 Right"}]
[null,null,null,null,null,null,null,null,null,null,null,null,null,null,null,null,null,null,null,null,null,null,null,null,null,null,null,null,null,null,null,null,null,null,null,null,null,{"$f":"$E$58","v":0},{"$f":"$I$58","v":"0 Right"},{"$f":"$N$58","v":0},{"$f":"$R$58","v":"0 Right"},{"$f":"$W$58","v":0},{"$f":"$AA$58","v":"0 Right"},{"$f":"$AF$58","v":0},{"$f":"$AJ$58","v":"0 Right"}]
[null,null,null,null,null,null,null,null,null,null,null,null,null,null,null,null,null,null,null,null,null,null,null,null,null,null,null,null,null,null,null,null,null,null,null,null,null,{"$f":"$E$59","v":0},{"$f":"$I$59","v":"0 Right"},{"$f":"$N$59","v":0},{"$f":"$R$59","v":"0 Right"},{"$f":"$W$59","v":0},{"$f":"$AA$59","v":"0 Right"},{"$f":"$AF$59","v":0},{"$f":"$AJ$59","v":"0 Right"}]

{"sheet":"26","index":10,"n_rows":101,"n_cols":45,"rows_kept":101,"cut":false,"hidden":true,"merged":[[16,43,16,44],[2,0,4,0],[5,0,7,0],[8,0,10,0],[11,0,13,0],[15,1,15,6],[15,10,15,15],[15,19,15,24],[15,28,15,33],[16,37,16,38],[16,39,16,40],[16,41,16,42],[14,1,14,12],[1,11,1,12],[0,1,0,14],[1,1,1,2],[1,3,1,4],[1,5,1,6],[1,7,1,8],[1,9,1,10]]}
[null,"YOU MAY CHANGE THESE RINK NUMBERS IF YOU WISH"]
["Round",1,1,2,2,3,3,4,4,5,5,6,6]
[1,1,2,3,4,5,6,7,8,9,10,11,12]
[null,14,15,16,17,18,19,20,21,22,23,24,25]
[null,13,26]
[2,5,7,1,10,2,11,3,12,4,13,6,9]
[null,16,18,26,21,25,22,14,23,15,24,17,20]
[null,8,19]
[3,3,6,5,13,1,10,2,11,7,12,4,8]
[null,17,20,19,25,15,24,16,26,21,14,18,22]
[null,9,23]
[4,10,11,6,9,3,8,1,12,2,5,7,13]
[null,22,21,14,16,20,17,18,24,19,26,15,23]
[null,4,25]
[null,"26 on 1 green"]
[null,1,null,null,null,null,null,null,null,null,2,null,null,null,null,null,null,null,null,3,null,null,null,null,null,null,null,null,4]
[null,"no","Left","rink","no","Right","rink","L","R",null,"no","Left","rink","no","Right","rink","L","R",null,"no","Left","rink","no","Right","rink","L","R",null,"no","Left","rink","no","Right","rink","L","R",null,1,null,2,null,3,null,4]
[null,1,"Left",{"$f":"$B$2","v":1},2,"Right",{"$f":"$B$2","v":1},{"$f":"(D18&\" \"&C18)","v":"1 Left"},{"$f":"(G18&\" \"&F18)","v":"1 Right"},null,5,"Left",{"$f":"$B$2","v":1},7,"Right",{"$f":"$B$2","v":1},{"$f":"(M18&\" \"&L18)","v":"1 Left"},{"$f":"(P18&\" \"&O18)","v":"1 Right"},null,3,"Left",{"$f":"$B$2","v":1},6,"Right",{"$f":"$B$2","v":1},{"$f":"(V18&\" \"&U18)","v":"1 Left"},{"$f":"(Y18&\" \"&X18)","v":"1 Right"},null,10,"Left",{"$f":"$B$2","v":1},11,"Right",{"$f":"$B$2","v":1},{"$f":"(AE18&\" \"&AD18)","v":"1 Left"},{"$f":"(AH18&\" \"&AG18)","v":"1 Right"}]
[null,14,"Left",{"$f":"$B$2","v":1},15,"Right",{"$f":"$B$2","v":1},{"$f":"(D19&\" \"&C19)","v":"1 Left"},{"$f":"(G19&\" \"&F19)","v":"1 Right"},null,16,"Left",{"$f":"$B$2","v":1},18,"Right",{"$f":"$B$2","v":1},{"$f":"(M19&\" \"&L19)","v":"1 Left"},{"$f":"(P19&\" \"&O19)","v":"1 Right"},null,17,"Left",{"$f":"$B$2","v":1},20,"Right",{"$f":"$B$2","v":1},{"$f":"(V19&\" \"&U19)","v":"1 Left"},{"$f":"(Y19&\" \"&X19)","v":"1 Right"},null,22,"Left",{"$f":"$B$2","v":1},21,"Right",{"$f":"$B$2","v":1},{"$f":"(AE19&\" \"&AD19)","v":"1 Left"},{"$f":"(AH19&\" \"&AG19)","v":"1 Right"}]
[null,13,"Left",{"$f":"$B$2","v":1},26,"Right",{"$f":"$B$2","v":1},"1 Left","1 Right",null,8,"Left",{"$f":"$B$2","v":1},19,"Right",{"$f":"$B$2","v":1},"1 Left","1 Right",null,9,"Left",{"$f":"$B$2","v":1},23,"Right",{"$f":"$B$2","v":1},"1 Left","1 Right",null,4,"Left",{"$f":"$B$2","v":1},25,"Right",{"$f":"$B$2","v":1},"1 Left","1 Right"]
[null,3,"Left",{"$f":"$D$2","v":2},4,"Right",{"$f":"$D$2","v":2},"2 Left","2 Right",null,1,"Left",{"$f":"$D$2","v":2},10,"Right",{"$f":"$D$2","v":2},"2 Left","2 Right",null,5,"Left",{"$f":"$D$2","v":2},13,"Right",{"$f":"$D$2","v":2},"2 Left","2 Right",null,6,"Left",{"$f":"$D$2","v":2},9,"Right",{"$f":"$D$2","v":2},"2 Left","2 Right"]
[null,16,"Left",{"$f":"$D$2","v":2},17,"Right",{"$f":"$D$2","v":2},"2 Left","2 Right",null,26,"Left",{"$f":"$D$2","v":2},21,"Right",{"$f":"$D$2","v":2},"2 Left","2 Right",null,19,"Left",{"$f":"$D$2","v":2},25,"Right",{"$f":"$D$2","v":2},"2 Left","2 Right",null,14,"Left",{"$f":"$D$2","v":2},16,"Right",{"$f":"$D$2","v":2},"2 Left","2 Right"]
[null,null,"Left",{"$f":"$D$2","v":2},null,"Right",{"$f":"$D$2","v":2},"2 Left","2 Right",null,null,"Left",{"$f":"$D$2","v":2},null,"Right",{"$f":"$D$2","v":2},"2 Left","2 Right",null,null,"Left",{"$f":"$D$2","v":2},null,"Right",{"$f":"$D$2","v":2},"2 Left","2 Right",null,null,"Left",{"$f":"$D$2","v":2},null,"Right",{"$f":"$D$2","v":2},"2 Left","2 Right"]
[null,5,"Left",{"$f":"$F$2","v":3},6,"Right",{"$f":"$F$2","v":3},"3 Left","3 Right",null,2,"Left",{"$f":"$F$2","v":3},11,"Right",{"$f":"$F$2","v":3},"3 Left","3 Right",null,1,"Left",{"$f":"$F$2","v":3},10,"Right",{"$f":"$F$2","v":3},"3 Left","3 Right",null,3,"Left",{"$f":"$F$2","v":3},8,"Right",{"$f":"$F$2","v":3},"3 Left","3 Right"]
[null,18,"Left",{"$f":"$F$2","v":3},19,"Right",{"$f":"$F$2","v":3},"3 Left","3 Right",null,25,"Left",{"$f":"$F$2","v":3},22,"Right",{"$f":"$F$2","v":3},"3 Left","3 Right",null,15,"Left",{"$f":"$F$2","v":3},24,"Right",{"$f":"$F$2","v":3},"3 Left","3 Right",null,20,"Left",{"$f":"$F$2","v":3},17,"Right",{"$f":"$F$2","v":3},"3 Left","3 Right"]
[null,null,"Left",{"$f":"$F$2","v":3},null,"Right",{"$f":"$F$2","v":3},"3 Left","3 Right",null,null,"Left",{"$f":"$F$2","v":3},null,"Right",{"$f":"$F$2","v":3},"3 Left","3 Right",null,null,"Left",{"$f":"$F$2","v":3},null,"Right",{"$f":"$F$2","v":3},"3 Left","3 Right",null,null,"Left",{"$f":"$F$2","v":3},null,"Right",{"$f":"$F$2","v":3},"3 Left","3 Right"]
[null,7,"Left",{"$f":"$H$2","v":4},8,"Right",{"$f":"$H$2","v":4},"4 Left","4 Right",null,3,"Left",{"$f":"$H$2","v":4},12,"Right",{"$f":"$H$2","v":4},"4 Left","4 Right",null,2,"Left",{"$f":"$H$2","v":4},11,"Right",{"$f":"$H$2","v":4},"4 Left","4 Right",null,1,"Left",{"$f":"$H$2","v":4},12,"Right",{"$f":"$H$2","v":4},"4 Left","4 Right"]
[null,20,"Left",{"$f":"$H$2","v":4},21,"Right",{"$f":"$H$2","v":4},"4 Left","4 Right",null,14,"Left",{"$f":"$H$2","v":4},23,"Right",{"$f":"$H$2","v":4},"4 Left","4 Right",null,16,"Left",{"$f":"$H$2","v":4},26,"Right",{"$f":"$H$2","v":4},"4 Left","4 Right",null,18,"Left",{"$f":"$H$2","v":4},24,"Right",{"$f":"$H$2","v":4},"4 Left","4 Right"]
[null,null,"Left",4,null,"Right",4,"4 Left","4 Right",null,null,"Left",4,null,"Right",4,"4 Left","4 Right",null,null,"Left",4,null,"Right",4,"4 Left","4 Right",null,null,"Left",4,null,"Right",4,"4 Left","4 Right"]
[null,9,"Left",{"$f":"$J$2","v":5},10,"Right",{"$f":"$J$2","v":5},"5 Left","5 Right",null,4,"Left",{"$f":"$J$2","v":5},13,"Right",{"$f":"$J$2","v":5},"5 Left","5 Right",null,7,"Left",{"$f":"$J$2","v":5},12,"Right",{"$f":"$J$2","v":5},"5 Left","5 Right",null,2,"Left",{"$f":"$J$2","v":5},5,"Right",{"$f":"$J$2","v":5},"5 Left","5 Right"]
[null,22,"Left",{"$f":"$J$2","v":5},23,"Right",{"$f":"$J$2","v":5},"5 Left","5 Right",null,15,"Left",{"$f":"$J$2","v":5},24,"Right",{"$f":"$J$2","v":5},"5 Left","5 Right",null,21,"Left",{"$f":"$J$2","v":5},14,"Right",{"$f":"$J$2","v":5},"5 Left","5 Right",null,19,"Left",{"$f":"$J$2","v":5},26,"Right",{"$f":"$J$2","v":5},"5 Left","5 Right"]
[null,null,"Left",5,null,"Right",5,"5 Left","5 Right",null,null,"Left",5,null,"Right",5,"5 Left","5 Right",null,null,"Left",5,null,"Right",5,"5 Left","5 Right",null,null,"Left",5,null,"Right",5,"5 Left","5 Right"]
[null,11,"Left",{"$f":"$L$2","v":6},12,"Right",{"$f":"$L$2","v":6},"6 Left","6 Right",null,6,"Left",{"$f":"$L$2","v":6},9,"Right",{"$f":"$L$2","v":6},"6 Left","6 Right",null,4,"Left",{"$f":"$L$2","v":6},8,"Right",{"$f":"$L$2","v":6},"6 Left","6 Right",null,7,"Left",{"$f":"$L$2","v":6},13,"Right",{"$f":"$L$2","v":6},"6 Left","6 Right"]
[null,24,"Left",{"$f":"$L$2","v":6},25,"Right",{"$f":"$L$2","v":6},"6 Left","6 Right",null,17,"Left",{"$f":"$L$2","v":6},20,"Right",{"$f":"$L$2","v":6},"6 Left","6 Right",null,18,"Left",{"$f":"$L$2","v":6},22,"Right",{"$f":"$L$2","v":6},"6 Left","6 Right",null,15,"Left",{"$f":"$L$2","v":6},23,"Right",{"$f":"$L$2","v":6},"6 Left","6 Right"]
[null,null,"Left",6,null,"Right",6,"6 Left","6 Right",null,null,"Left",6,null,"Right",6,"6 Left","6 Right",null,null,"Left",6,null,"Right",6,"6 Left","6 Right",null,null,"Left",6,null,"Right",6,"6 Left","6 Right"]
[null,null,"Left",{"$f":"$N$2","v":0},null,"Right",{"$f":"$N$2","v":0},"0 Left","0 Right",null,null,"Left",{"$f":"$N$2","v":0},null,"Right",{"$f":"$N$2","v":0},"0 Left","0 Right",null,null,"Left",{"$f":"$N$2","v":0},null,"Right",{"$f":"$N$2","v":0},"0 Left","0 Right",null,null,"Left",{"$f":"$N$2","v":0},null,"Right",{"$f":"$N$2","v":0},"0 Left","0 Right"]
[null,null,"Left",{"$f":"$N$2","v":0},null,"Right",{"$f":"$N$2","v":0},"0 Left","0 Right",null,null,"Left",{"$f":"$N$2","v":0},null,"Right",{"$f":"$N$2","v":0},"0 Left","0 Right",null,null,"Left",{"$f":"$N$2","v":0},null,"Right",{"$f":"$N$2","v":0},"0 Left","0 Right",null,null,"Left",{"$f":"$N$2","v":0},null,"Right",{"$f":"$N$2","v":0},"0 Left","0 Right"]
[null,null,"Left",0,null,"Right",0,"0 Left","0 Right",null,null,"Left",0,null,"Right",0,"0 Left","0 Right",null,null,"Left",0,null,"Right",0,"0 Left","0 Right",null,null,"Left",0,null,"Right",0,"0 Left","0 Right"]
[null,null,"Left",{"$f":"$P$2","v":0},null,"Right",{"$f":"$P$2","v":0},"0 Left","0 Right",null,null,"Left",{"$f":"$P$2","v":0},null,"Right",{"$f":"$P$2","v":0},"0 Left","0 Right",null,null,"Left",{"$f":"$P$2","v":0},null,"Right",{"$f":"$P$2","v":0},"0 Left","0 Right",null,null,"Left",{"$f":"$P$2","v":0},null,"Right",{"$f":"$P$2","v":0},"0 Left","0 Right"]
[null,null,"Left",{"$f":"$P$2","v":0},null,"Right",{"$f":"$P$2","v":0},"0 Left","0 Right",null,null,"Left",{"$f":"$P$2","v":0},null,"Right",{"$f":"$P$2","v":0},"0 Left","0 Right",null,null,"Left",{"$f":"$P$2","v":0},null,"Right",{"$f":"$P$2","v":0},"0 Left","0 Right",null,null,"Left",{"$f":"$P$2","v":0},null,"Right",{"$f":"$P$2","v":0},"0 Left","0 Right"]
[null,null,"Left",0,null,"Right",0,"0 Left","0 Right",null,null,"Left",0,null,"Right",0,"0 Left","0 Right",null,null,"Left",0,null,"Right",0,"0 Left","0 Right",null,null,"Left",0,null,"Right",0,"0 Left","0 Right"]
[null,null,"Left",{"$f":"$R$2","v":0},null,"Right",{"$f":"$R$2","v":0},"0 Left","0 Right",null,null,"Left",{"$f":"$R$2","v":0},null,"Right",{"$f":"$R$2","v":0},"0 Left","0 Right",null,null,"Left",{"$f":"$R$2","v":0},null,"Right",{"$f":"$R$2","v":0},"0 Left","0 Right",null,null,"Left",{"$f":"$R$2","v":0},null,"Right",{"$f":"$R$2","v":0},"0 Left","0 Right"]
[null,null,"Left",{"$f":"$R$2","v":0},null,"Right",{"$f":"$R$2","v":0},"0 Left","0 Right",null,null,"Left",{"$f":"$R$2","v":0},null,"Right",{"$f":"$R$2","v":0},"0 Left","0 Right",null,null,"Left",{"$f":"$R$2","v":0},null,"Right",{"$f":"$R$2","v":0},"0 Left","0 Right",null,null,"Left",{"$f":"$R$2","v":0},null,"Right",{"$f":"$R$2","v":0},"0 Left","0 Right"]
[null,null,"Left",0,null,"Right",0,"0 Left","0 Right",null,null,"Left",0,null,"Right",0,"0 Left","0 Right",null,null,"Left",0,null,"Right",0,"0 Left","0 Right",null,null,"Left",0,null,"Right",0,"0 Left","0 Right",null,{"$f":"$B$36","v":0},{"$f":"$H$36","v":"0 Left"},{"$f":"$K$23","v":0},{"$f":"$Q$23","v":"2 Left"},{"$f":"$T$23","v":0},{"$f":"$Z$23","v":"2 Left"},{"$f":"$AC$23","v":0},{"$f":"$AI$23","v":"2 Left"}]
[null,null,"Left",{"$f":"$T$2","v":0},null,"Right",{"$f":"$T$2","v":0},"0 Left","0 Right",null,null,"Left",{"$f":"$T$2","v":0},null,"Right",{"$f":"$T$2","v":0},"0 Left","0 Right",null,null,"Left",{"$f":"$T$2","v":0},null,"Right",{"$f":"$T$2","v":0},"0 Left","0 Right",null,null,"Left",{"$f":"$T$2","v":0},null,"Right",{"$f":"$T$2","v":0},"0 Left","0 Right",null,{"$f":"$E$36","v":0},{"$f":"$I$36","v":"0 Right"},{"$f":"$K$26","v":0},{"$f":"$Q$26","v":"3 Left"},{"$f":"$T$26","v":0},{"$f":"$Z$26","v":"3 Left"},{"$f":"$AC$26","v":0},{"$f":"$AI$26","v":"3 Left"}]
[null,null,"Left",{"$f":"$T$2","v":0},null,"Right",{"$f":"$T$2","v":0},"0 Left","0 Right",null,null,"Left",{"$f":"$T$2","v":0},null,"Right",{"$f":"$T$2","v":0},"0 Left","0 Right",null,null,"Left",{"$f":"$T$2","v":0},null,"Right",{"$f":"$T$2","v":0},"0 Left","0 Right",null,null,"Left",{"$f":"$T$2","v":0},null,"Right",{"$f":"$T$2","v":0},"0 Left","0 Right",null,{"$f":"$B$39","v":0},{"$f":"$H$39","v":"0 Left"},{"$f":"$K$29","v":0},{"$f":"$Q$29","v":"4 Left"},{"$f":"$T$29","v":0},{"$f":"$Z$29","v":"4 Left"},{"$f":"$AC$29","v":0},{"$f":"$AI$29","v":"4 Left"}]
[null,null,"Left",0,null,"Right",0,"0 Left","0 Right",null,null,"Left",0,null,"Right",0,"0 Left","0 Right",null,null,"Left",0,null,"Right",0,"0 Left","0 Right",null,null,"Left",0,null,"Right",0,"0 Left","0 Right",null,{"$f":"$E$39","v":0},{"$f":"$I$39","v":"0 Right"},{"$f":"$K$32","v":0},{"$f":"$Q$32","v":"5 Left"},{"$f":"$T$32","v":0},{"$f":"$Z$32","v":"5 Left"},{"$f":"$AC$32","v":0},{"$f":"$AI$32","v":"5 Left"}]
[null,null,"Left",{"$f":"$V$2","v":0},null,"Right",{"$f":"$V$2","v":0},"0 Left","0 Right",null,null,"Left",{"$f":"$V$2","v":0},null,"Right",{"$f":"$V$2","v":0},"0 Left","0 Right",null,null,"Left",{"$f":"$V$2","v":0},null,"Right",{"$f":"$V$2","v":0},"0 Left","0 Right",null,null,"Left",{"$f":"$V$2","v":0},null,"Right",{"$f":"$V$2","v":0},"0 Left","0 Right",null,{"$f":"$B$42","v":0},{"$f":"$H$42","v":"0 Left"},{"$f":"$K$35","v":0},{"$f":"$Q$35","v":"6 Left"},{"$f":"$T$35","v":0},{"$f":"$Z$35","v":"6 Left"},{"$f":"$AC$35","v":0},{"$f":"$AI$35","v":"6 Left"}]
[null,null,"Left",{"$f":"$V$2","v":0},null,"Right",{"$f":"$V$2","v":0},"0 Left","0 Right",null,null,"Left",{"$f":"$V$2","v":0},null,"Right",{"$f":"$V$2","v":0},"0 Left","0 Right",null,null,"Left",{"$f":"$V$2","v":0},null,"Right",{"$f":"$V$2","v":0},"0 Left","0 Right",null,null,"Left",{"$f":"$V$2","v":0},null,"Right",{"$f":"$V$2","v":0},"0 Left","0 Right",null,{"$f":"$E$42","v":0},{"$f":"$I$42","v":"0 Right"},{"$f":"$K$36","v":0},{"$f":"$Q$36","v":"0 Left"},{"$f":"$T$36","v":0},{"$f":"$Z$36","v":"0 Left"},{"$f":"$AC$36","v":0},{"$f":"$AI$36","v":"0 Left"}]
[null,null,"Left",0,null,"Right",0,"0 Left","0 Right",null,null,"Left",0,null,"Right",0,"0 Left","0 Right",null,null,"Left",0,null,"Right",0,"0 Left","0 Right",null,null,"Left",0,null,"Right",0,"0 Left","0 Right",null,{"$f":"$B$45","v":0},{"$f":"$H$45","v":"0 Left"},{"$f":"$K$37","v":0},{"$f":"$Q$37","v":"0 Left"},{"$f":"$T$37","v":0},{"$f":"$Z$37","v":"0 Left"},{"$f":"$AC$37","v":0},{"$f":"$AI$37","v":"0 Left"}]
[null,null,"Left",{"$f":"$X$2","v":0},null,"Right",{"$f":"$X$2","v":0},"0 Left","0 Right",null,null,"Left",{"$f":"$X$2","v":0},null,"Right",{"$f":"$X$2","v":0},"0 Left","0 Right",null,null,"Left",{"$f":"$X$2","v":0},null,"Right",{"$f":"$X$2","v":0},"0 Left","0 Right",null,null,"Left",{"$f":"$X$2","v":0},null,"Right",{"$f":"$X$2","v":0},"0 Left","0 Right",null,{"$f":"$E$45","v":0},{"$f":"$I$45","v":"0 Right"},{"$f":"$K$38","v":0},{"$f":"$Q$38","v":"0 Left"},{"$f":"$T$38","v":0},{"$f":"$Z$38","v":"0 Left"},{"$f":"$AC$38","v":0},{"$f":"$AI$38","v":"0 Left"}]
[null,null,"Left",{"$f":"$X$2","v":0},null,"Right",{"$f":"$X$2","v":0},"0 Left","0 Right",null,null,"Left",{"$f":"$X$2","v":0},null,"Right",{"$f":"$X$2","v":0},"0 Left","0 Right",null,null,"Left",{"$f":"$X$2","v":0},null,"Right",{"$f":"$X$2","v":0},"0 Left","0 Right",null,null,"Left",{"$f":"$X$2","v":0},null,"Right",{"$f":"$X$2","v":0},"0 Left","0 Right",null,{"$f":"$B$37","v":0},{"$f":"$H$37","v":"0 Left"},{"$f":"$K$39","v":0},{"$f":"$Q$39","v":"0 Left"},{"$f":"$T$39","v":0},{"$f":"$Z$39","v":"0 Left"},{"$f":"$AC$39","v":0},{"$f":"$AI$39","v":"0 Left"}]
[null,null,"Left",0,null,"Right",0,"0 Left","0 Right",null,null,"Left",0,null,"Right",0,"0 Left","0 Right",null,null,"Left",0,null,"Right",0,"0 Left","0 Right",null,null,"Left",0,null,"Right",0,"0 Left","0 Right",null,{"$f":"$E$37","v":0},{"$f":"$I$37","v":"0 Right"},{"$f":"$K$40","v":0},{"$f":"$Q$40","v":"0 Left"},{"$f":"$T$40","v":0},{"$f":"$Z$40","v":"0 Left"},{"$f":"$AC$40","v":0},{"$f":"$AI$40","v":"0 Left"}]
[null,null,"Left",{"$f":"$Z$2","v":0},null,"Right",{"$f":"$Z$2","v":0},"0 Left","0 Right",null,null,"Left",{"$f":"$Z$2","v":0},null,"Right",{"$f":"$Z$2","v":0},"0 Left","0 Right",null,null,"Left",{"$f":"$Z$2","v":0},null,"Right",{"$f":"$Z$2","v":0},"0 Left","0 Right",null,null,"Left",{"$f":"$Z$2","v":0},null,"Right",{"$f":"$Z$2","v":0},"0 Left","0 Right",null,{"$f":"$B$40","v":0},{"$f":"$H$40","v":"0 Left"},{"$f":"$K$41","v":0},{"$f":"$Q$41","v":"0 Left"},{"$f":"$T$41","v":0},{"$f":"$Z$41","v":"0 Left"},{"$f":"$AC$41","v":0},{"$f":"$AI$41","v":"0 Left"}]
[null,null,"Left",{"$f":"$Z$2","v":0},null,"Right",{"$f":"$Z$2","v":0},"0 Left","0 Right",null,null,"Left",{"$f":"$Z$2","v":0},null,"Right",{"$f":"$Z$2","v":0},"0 Left","0 Right",null,null,"Left",{"$f":"$Z$2","v":0},null,"Right",{"$f":"$Z$2","v":0},"0 Left","0 Right",null,null,"Left",{"$f":"$Z$2","v":0},null,"Right",{"$f":"$Z$2","v":0},"0 Left","0 Right",null,{"$f":"$E$40","v":0},{"$f":"$I$40","v":"0 Right"},{"$f":"$K$42","v":0},{"$f":"$Q$42","v":"0 Left"},{"$f":"$T$42","v":0},{"$f":"$Z$42","v":"0 Left"},{"$f":"$AC$42","v":0},{"$f":"$AI$42","v":"0 Left"}]
[null,null,"Left",0,null,"Right",0,"0 Left","0 Right",null,null,"Left",0,null,"Right",0,"0 Left","0 Right",null,null,"Left",0,null,"Right",0,"0 Left","0 Right",null,null,"Left",0,null,"Right",0,"0 Left","0 Right",null,{"$f":"$B$43","v":0},{"$f":"$H$43","v":"0 Left"},{"$f":"$K$43","v":0},{"$f":"$Q$43","v":"0 Left"},{"$f":"$T$43","v":0},{"$f":"$Z$43","v":"0 Left"},{"$f":"$AC$43","v":0},{"$f":"$AI$43","v":"0 Left"}]
[null,null,"Left",{"$f":"$AB$2","v":0},null,"Right",{"$f":"$AB$2","v":0},"0 Left","0 Right",null,null,"Left",{"$f":"$AB$2","v":0},null,"Right",{"$f":"$AB$2","v":0},"0 Left","0 Right",null,null,"Left",{"$f":"$AB$2","v":0},null,"Right",{"$f":"$AB$2","v":0},"0 Left","0 Right",null,null,"Left",{"$f":"$AB$2","v":0},null,"Right",{"$f":"$AB$2","v":0},"0 Left","0 Right",null,{"$f":"$E$43","v":0},{"$f":"$I$43","v":"0 Right"},{"$f":"$K$44","v":0},{"$f":"$Q$44","v":"0 Left"},{"$f":"$T$44","v":0},{"$f":"$Z$44","v":"0 Left"},{"$f":"$AC$44","v":0},{"$f":"$AI$44","v":"0 Left"}]
[null,null,"Left",{"$f":"$AB$2","v":0},null,"Right",{"$f":"$AB$2","v":0},"0 Left","0 Right",null,null,"Left",{"$f":"$AB$2","v":0},null,"Right",{"$f":"$AB$2","v":0},"0 Left","0 Right",null,null,"Left",{"$f":"$AB$2","v":0},null,"Right",{"$f":"$AB$2","v":0},"0 Left","0 Right",null,null,"Left",{"$f":"$AB$2","v":0},null,"Right",{"$f":"$AB$2","v":0},"0 Left","0 Right",null,{"$f":"$B$46","v":0},{"$f":"$H$46","v":"0 Left"},{"$f":"$K$45","v":0},{"$f":"$Q$45","v":"0 Left"},{"$f":"$T$45","v":0},{"$f":"$Z$45","v":"0 Left"},{"$f":"$AC$45","v":0},{"$f":"$AI$45","v":"0 Left"}]
[null,null,"Left",0,null,"Right",0,"0 Left","0 Right",null,null,"Left",0,null,"Right",0,"0 Left","0 Right",null,null,"Left",0,null,"Right",0,"0 Left","0 Right",null,null,"Left",0,null,"Right",0,"0 Left","0 Right",null,{"$f":"$E$46","v":0},{"$f":"$I$46","v":"0 Right"},{"$f":"$K$46","v":0},{"$f":"$Q$46","v":"0 Left"},{"$f":"$T$46","v":0},{"$f":"$Z$46","v":"0 Left"},{"$f":"$AC$46","v":0},{"$f":"$AI$46","v":"0 Left"}]
[null,null,null,null,null,null,null,null,null,null,null,null,null,null,null,null,null,null,null,null,null,null,null,null,null,null,null,null,null,null,null,null,null,null,null,null,null,{"$f":"$B$23","v":0},{"$f":"$H$23","v":"2 Left"},{"$f":"$K$47","v":0},{"$f":"$Q$47","v":"0 Left"},{"$f":"$T$47","v":0},{"$f":"$Z$47","v":"0 Left"},{"$f":"$AC$47","v":0},{"$f":"$AI$47","v":"0 Left"}]
[null,null,null,null,null,null,null,null,null,null,null,null,null,null,null,null,null,null,null,null,null,null,null,null,null,null,null,null,null,null,null,null,null,null,null,null,null,{"$f":"$B$26","v":0},{"$f":"$H$26","v":"3 Left"},{"$f":"$K$48","v":0},{"$f":"$Q$48","v":"0 Left"},{"$f":"$T$48","v":0},{"$f":"$Z$48","v":"0 Left"},{"$f":"$AC$48","v":0},{"$f":"$AI$48","v":"0 Left"}]
[null,null,null,null,null,null,null,null,null,null,null,null,null,null,null,null,null,null,null,null,null,null,null,null,null,null,null,null,null,null,null,null,null,null,null,null,null,{"$f":"$B$29","v":0},{"$f":"$H$29","v":"4 Left"},{"$f":"$K$49","v":0},{"$f":"$Q$49","v":"0 Left"},{"$f":"$T$49","v":0},{"$f":"$Z$49","v":"0 Left"},{"$f":"$AC$49","v":0},{"$f":"$AI$49","v":"0 Left"}]
[null,null,null,null,null,null,null,null,null,null,null,null,null,null,null,null,null,null,null,null,null,null,null,null,null,null,null,null,null,null,null,null,null,null,null,null,null,{"$f":"$B$32","v":0},{"$f":"$H$32","v":"5 Left"},{"$f":"$K$50","v":0},{"$f":"$Q$50","v":"0 Left"},{"$f":"$T$50","v":0},{"$f":"$Z$50","v":"0 Left"},{"$f":"$AC$50","v":0},{"$f":"$AI$50","v":"0 Left"}]
[null,null,null,null,null,null,null,null,null,null,null,null,null,null,null,null,null,null,null,null,null,null,null,null,null,null,null,null,null,null,null,null,null,null,null,null,null,{"$f":"$B$35","v":0},{"$f":"$H$35","v":"6 Left"},{"$f":"$K$51","v":0},{"$f":"$Q$51","v":"0 Left"},{"$f":"$T$51","v":0},{"$f":"$Z$51","v":"0 Left"},{"$f":"$AC$51","v":0},{"$f":"$AI$51","v":"0 Left"}]
[null,null,null,null,null,null,null,null,null,null,null,null,null,null,null,null,null,null,null,null,null,null,null,null,null,null,null,null,null,null,null,null,null,null,null,null,null,{"$f":"$B$38","v":0},{"$f":"$H$38","v":"0 Left"},{"$f":"$K$52","v":0},{"$f":"$Q$52","v":"0 Left"},{"$f":"$T$52","v":0},{"$f":"$Z$52","v":"0 Left"},{"$f":"$AC$52","v":0},{"$f":"$AI$52","v":"0 Left"}]
[null,null,null,null,null,null,null,null,null,null,null,null,null,null,null,null,null,null,null,null,null,null,null,null,null,null,null,null,null,null,null,null,null,null,null,null,null,{"$f":"$B$41","v":0},{"$f":"$H$41","v":"0 Left"},{"$f":"$K$53","v":0},{"$f":"$Q$53","v":"0 Left"},{"$f":"$T$53","v":0},{"$f":"$Z$53","v":"0 Left"},{"$f":"$AC$53","v":0},{"$f":"$AI$53","v":"0 Left"}]
[null,null,null,null,null,null,null,null,null,null,null,null,null,null,null,null,null,null,null,null,null,null,null,null,null,null,null,null,null,null,null,null,null,null,null,null,null,{"$f":"$B$44","v":0},{"$f":"$H$44","v":"0 Left"},{"$f":"$K$54","v":0},{"$f":"$Q$54","v":"0 Left"},{"$f":"$T$54","v":0},{"$f":"$Z$54","v":"0 Left"},{"$f":"$AC$54","v":0},{"$f":"$AI$54","v":"0 Left"}]
[null,null,null,null,null,null,null,null,null,null,null,null,null,null,null,null,null,null,null,null,null,null,null,null,null,null,null,null,null,null,null,null,null,null,null,null,null,{"$f":"$B$47","v":0},{"$f":"$H$47","v":"0 Left"},{"$f":"$K$55","v":0},{"$f":"$Q$55","v":"0 Left"},{"$f":"$T$55","v":0},{"$f":"$Z$55","v":"0 Left"},{"$f":"$AC$55","v":0},{"$f":"$AI$55","v":"0 Left"}]
[null,null,null,null,null,null,null,null,null,null,null,null,null,null,null,null,null,null,null,null,null,null,null,null,null,null,null,null,null,null,null,null,null,null,null,null,null,{"$f":"$B$48","v":0},{"$f":"$H$48","v":"0 Left"},{"$f":"$K$56","v":0},{"$f":"$Q$56","v":"0 Left"},{"$f":"$T$56","v":0},{"$f":"$Z$56","v":"0 Left"},{"$f":"$AC$56","v":0},{"$f":"$AI$56","v":"0 Left"}]
[null,null,null,null,null,null,null,null,null,null,null,null,null,null,null,null,null,null,null,null,null,null,null,null,null,null,null,null,null,null,null,null,null,null,null,null,null,{"$f":"$B$49","v":0},{"$f":"$H$49","v":"0 Left"},{"$f":"$K$57","v":0},{"$f":"$Q$57","v":"0 Left"},{"$f":"$T$57","v":0},{"$f":"$Z$57","v":"0 Left"},{"$f":"$AC$57","v":0},{"$f":"$AI$57","v":"0 Left"}]
[null,null,null,null,null,null,null,null,null,null,null,null,null,null,null,null,null,null,null,null,null,null,null,null,null,null,null,null,null,null,null,null,null,null,null,null,null,{"$f":"$B$50","v":0},{"$f":"$H$50","v":"0 Left"},{"$f":"$K$58","v":0},{"$f":"$Q$58","v":"0 Left"},{"$f":"$T$58","v":0},{"$f":"$Z$58","v":"0 Left"},{"$f":"$AC$58","v":0},{"$f":"$AI$58","v":"0 Left"}]
[null,null,null,null,null,null,null,null,null,null,null,null,null,null,null,null,null,null,null,null,null,null,null,null,null,null,null,null,null,null,null,null,null,null,null,null,null,{"$f":"$B$51","v":0},{"$f":"$H$51","v":"0 Left"},{"$f":"$K$59","v":0},{"$f":"$Q$59","v":"0 Left"},{"$f":"$T$59","v":0},{"$f":"$Z$59","v":"0 Left"},{"$f":"$AC$59","v":0},{"$f":"$AI$59","v":"0 Left"}]
[null,null,null,null,null,null,null,null,null,null,null,null,null,null,null,null,null,null,null,null,null,null,null,null,null,null,null,null,null,null,null,null,null,null,null,null,null,{"$f":"$B$52","v":0},{"$f":"$H$52","v":"0 Left"},{"$f":"$N$23","v":0},{"$f":"$R$23","v":"2 Right"},{"$f":"$W$23","v":0},{"$f":"$AA$23","v":"2 Right"},{"$f":"$AF$23","v":0},{"$f":"$AJ$23","v":"2 Right"}]
[null,null,null,null,null,null,null,null,null,null,null,null,null,null,null,null,null,null,null,null,null,null,null,null,null,null,null,null,null,null,null,null,null,null,null,null,null,{"$f":"$B$53","v":0},{"$f":"$H$53","v":"0 Left"},{"$f":"$N$26","v":0},{"$f":"$R$26","v":"3 Right"},{"$f":"$W$26","v":0},{"$f":"$AA$26","v":"3 Right"},{"$f":"$AF$26","v":0},{"$f":"$AJ$26","v":"3 Right"}]
[null,null,null,null,null,null,null,null,null,null,null,null,null,null,null,null,null,null,null,null,null,null,null,null,null,null,null,null,null,null,null,null,null,null,null,null,null,{"$f":"$B$54","v":0},{"$f":"$H$54","v":"0 Left"},{"$f":"$N$29","v":0},{"$f":"$R$29","v":"4 Right"},{"$f":"$W$29","v":0},{"$f":"$AA$29","v":"4 Right"},{"$f":"$AF$29","v":0},{"$f":"$AJ$29","v":"4 Right"}]
[null,null,null,null,null,null,null,null,null,null,null,null,null,null,null,null,null,null,null,null,null,null,null,null,null,null,null,null,null,null,null,null,null,null,null,null,null,{"$f":"$B$55","v":0},{"$f":"$H$55","v":"0 Left"},{"$f":"$N$32","v":0},{"$f":"$R$32","v":"5 Right"},{"$f":"$W$32","v":0},{"$f":"$AA$32","v":"5 Right"},{"$f":"$AF$32","v":0},{"$f":"$AJ$32","v":"5 Right"}]
[null,null,null,null,null,null,null,null,null,null,null,null,null,null,null,null,null,null,null,null,null,null,null,null,null,null,null,null,null,null,null,null,null,null,null,null,null,{"$f":"$B$56","v":0},{"$f":"$H$56","v":"0 Left"},{"$f":"$N$35","v":0},{"$f":"$R$35","v":"6 Right"},{"$f":"$W$35","v":0},{"$f":"$AA$35","v":"6 Right"},{"$f":"$AF$35","v":0},{"$f":"$AJ$35","v":"6 Right"}]
[null,null,null,null,null,null,null,null,null,null,null,null,null,null,null,null,null,null,null,null,null,null,null,null,null,null,null,null,null,null,null,null,null,null,null,null,null,{"$f":"$B$57","v":0},{"$f":"$H$57","v":"0 Left"},{"$f":"$N$36","v":0},{"$f":"$R$36","v":"0 Right"},{"$f":"$W$36","v":0},{"$f":"$AA$36","v":"0 Right"},{"$f":"$AF$36","v":0},{"$f":"$AJ$36","v":"0 Right"}]
[null,null,null,null,null,null,null,null,null,null,null,null,null,null,null,null,null,null,null,null,null,null,null,null,null,null,null,null,null,null,null,null,null,null,null,null,null,{"$f":"$B$58","v":0},{"$f":"$H$58","v":"0 Left"},{"$f":"$N$37","v":0},{"$f":"$R$37","v":"0 Right"},{"$f":"$W$37","v":0},{"$f":"$AA$37","v":"0 Right"},{"$f":"$AF$37","v":0},{"$f":"$AJ$37","v":"0 Right"}]
[null,null,null,null,null,null,null,null,null,null,null,null,null,null,null,null,null,null,null,null,null,null,null,null,null,null,null,null,null,null,null,null,null,null,null,null,null,{"$f":"$B$59","v":0},{"$f":"$H$59","v":"0 Left"},{"$f":"$N$38","v":0},{"$f":"$R$38","v":"0 Right"},{"$f":"$W$38","v":0},{"$f":"$AA$38","v":"0 Right"},{"$f":"$AF$38","v":0},{"$f":"$AJ$38","v":"0 Right"}]
[null,null,null,null,null,null,null,null,null,null,null,null,null,null,null,null,null,null,null,null,null,null,null,null,null,null,null,null,null,null,null,null,null,null,null,null,null,{"$f":"$E$23","v":0},{"$f":"$I$23","v":"2 Right"},{"$f":"$N$39","v":0},{"$f":"$R$39","v":"0 Right"},{"$f":"$W$39","v":0},{"$f":"$AA$39","v":"0 Right"},{"$f":"$AF$39","v":0},{"$f":"$AJ$39","v":"0 Right"}]
[null,null,null,null,null,null,null,null,null,null,null,null,null,null,null,null,null,null,null,null,null,null,null,null,null,null,null,null,null,null,null,null,null,null,null,null,null,{"$f":"$E$26","v":0},{"$f":"$I$26","v":"3 Right"},{"$f":"$N$40","v":0},{"$f":"$R$40","v":"0 Right"},{"$f":"$W$40","v":0},{"$f":"$AA$40","v":"0 Right"},{"$f":"$AF$40","v":0},{"$f":"$AJ$40","v":"0 Right"}]
[null,null,null,null,null,null,null,null,null,null,null,null,null,null,null,null,null,null,null,null,null,null,null,null,null,null,null,null,null,null,null,null,null,null,null,null,null,{"$f":"$E$29","v":0},{"$f":"$I$29","v":"4 Right"},{"$f":"$N$41","v":0},{"$f":"$R$41","v":"0 Right"},{"$f":"$W$41","v":0},{"$f":"$AA$41","v":"0 Right"},{"$f":"$AF$41","v":0},{"$f":"$AJ$41","v":"0 Right"}]
[null,null,null,null,null,null,null,null,null,null,null,null,null,null,null,null,null,null,null,null,null,null,null,null,null,null,null,null,null,null,null,null,null,null,null,null,null,{"$f":"$E$32","v":0},{"$f":"$I$32","v":"5 Right"},{"$f":"$N$42","v":0},{"$f":"$R$42","v":"0 Right"},{"$f":"$W$42","v":0},{"$f":"$AA$42","v":"0 Right"},{"$f":"$AF$42","v":0},{"$f":"$AJ$42","v":"0 Right"}]
[null,null,null,null,null,null,null,null,null,null,null,null,null,null,null,null,null,null,null,null,null,null,null,null,null,null,null,null,null,null,null,null,null,null,null,null,null,{"$f":"$E$35","v":0},{"$f":"$I$35","v":"6 Right"},{"$f":"$N$43","v":0},{"$f":"$R$43","v":"0 Right"},{"$f":"$W$43","v":0},{"$f":"$AA$43","v":"0 Right"},{"$f":"$AF$43","v":0},{"$f":"$AJ$43","v":"0 Right"}]
[null,null,null,null,null,null,null,null,null,null,null,null,null,null,null,null,null,null,null,null,null,null,null,null,null,null,null,null,null,null,null,null,null,null,null,null,null,{"$f":"$E$38","v":0},{"$f":"$I$38","v":"0 Right"},{"$f":"$N$44","v":0},{"$f":"$R$44","v":"0 Right"},{"$f":"$W$44","v":0},{"$f":"$AA$44","v":"0 Right"},{"$f":"$AF$44","v":0},{"$f":"$AJ$44","v":"0 Right"}]
[null,null,null,null,null,null,null,null,null,null,null,null,null,null,null,null,null,null,null,null,null,null,null,null,null,null,null,null,null,null,null,null,null,null,null,null,null,{"$f":"$E$41","v":0},{"$f":"$I$41","v":"0 Right"},{"$f":"$N$45","v":0},{"$f":"$R$45","v":"0 Right"},{"$f":"$W$45","v":0},{"$f":"$AA$45","v":"0 Right"},{"$f":"$AF$45","v":0},{"$f":"$AJ$45","v":"0 Right"}]
[null,null,null,null,null,null,null,null,null,null,null,null,null,null,null,null,null,null,null,null,null,null,null,null,null,null,null,null,null,null,null,null,null,null,null,null,null,{"$f":"$E$44","v":0},{"$f":"$I$44","v":"0 Right"},{"$f":"$N$46","v":0},{"$f":"$R$46","v":"0 Right"},{"$f":"$W$46","v":0},{"$f":"$AA$46","v":"0 Right"},{"$f":"$AF$46","v":0},{"$f":"$AJ$46","v":"0 Right"}]
[null,null,null,null,null,null,null,null,null,null,null,null,null,null,null,null,null,null,null,null,null,null,null,null,null,null,null,null,null,null,null,null,null,null,null,null,null,{"$f":"$E$47","v":0},{"$f":"$I$47","v":"0 Right"},{"$f":"$N$47","v":0},{"$f":"$R$47","v":"0 Right"},{"$f":"$W$47","v":0},{"$f":"$AA$47","v":"0 Right"},{"$f":"$AF$47","v":0},{"$f":"$AJ$47","v":"0 Right"}]
[null,null,null,null,null,null,null,null,null,null,null,null,null,null,null,null,null,null,null,null,null,null,null,null,null,null,null,null,null,null,null,null,null,null,null,null,null,{"$f":"$E$48","v":0},{"$f":"$I$48","v":"0 Right"},{"$f":"$N$48","v":0},{"$f":"$R$48","v":"0 Right"},{"$f":"$W$48","v":0},{"$f":"$AA$48","v":"0 Right"},{"$f":"$AF$48","v":0},{"$f":"$AJ$48","v":"0 Right"}]
[null,null,null,null,null,null,null,null,null,null,null,null,null,null,null,null,null,null,null,null,null,null,null,null,null,null,null,null,null,null,null,null,null,null,null,null,null,{"$f":"$E$49","v":0},{"$f":"$I$49","v":"0 Right"},{"$f":"$N$49","v":0},{"$f":"$R$49","v":"0 Right"},{"$f":"$W$49","v":0},{"$f":"$AA$49","v":"0 Right"},{"$f":"$AF$49","v":0},{"$f":"$AJ$49","v":"0 Right"}]
[null,null,null,null,null,null,null,null,null,null,null,null,null,null,null,null,null,null,null,null,null,null,null,null,null,null,null,null,null,null,null,null,null,null,null,null,null,{"$f":"$E$50","v":0},{"$f":"$I$50","v":"0 Right"},{"$f":"$N$50","v":0},{"$f":"$R$50","v":"0 Right"},{"$f":"$W$50","v":0},{"$f":"$AA$50","v":"0 Right"},{"$f":"$AF$50","v":0},{"$f":"$AJ$50","v":"0 Right"}]
[null,null,null,null,null,null,null,null,null,null,null,null,null,null,null,null,null,null,null,null,null,null,null,null,null,null,null,null,null,null,null,null,null,null,null,null,null,{"$f":"$E$51","v":0},{"$f":"$I$51","v":"0 Right"},{"$f":"$N$51","v":0},{"$f":"$R$51","v":"0 Right"},{"$f":"$W$51","v":0},{"$f":"$AA$51","v":"0 Right"},{"$f":"$AF$51","v":0},{"$f":"$AJ$51","v":"0 Right"}]
[null,null,null,null,null,null,null,null,null,null,null,null,null,null,null,null,null,null,null,null,null,null,null,null,null,null,null,null,null,null,null,null,null,null,null,null,null,{"$f":"$E$52","v":0},{"$f":"$I$52","v":"0 Right"},{"$f":"$N$52","v":0},{"$f":"$R$52","v":"0 Right"},{"$f":"$W$52","v":0},{"$f":"$AA$52","v":"0 Right"},{"$f":"$AF$52","v":0},{"$f":"$AJ$52","v":"0 Right"}]
[null,null,null,null,null,null,null,null,null,null,null,null,null,null,null,null,null,null,null,null,null,null,null,null,null,null,null,null,null,null,null,null,null,null,null,null,null,{"$f":"$E$53","v":0},{"$f":"$I$53","v":"0 Right"},{"$f":"$N$53","v":0},{"$f":"$R$53","v":"0 Right"},{"$f":"$W$53","v":0},{"$f":"$AA$53","v":"0 Right"},{"$f":"$AF$53","v":0},{"$f":"$AJ$53","v":"0 Right"}]
[null,null,null,null,null,null,null,null,null,null,null,null,null,null,null,null,null,null,null,null,null,null,null,null,null,null,null,null,null,null,null,null,null,null,null,null,null,{"$f":"$E$54","v":0},{"$f":"$I$54","v":"0 Right"},{"$f":"$N$54","v":0},{"$f":"$R$54","v":"0 Right"},{"$f":"$W$54","v":0},{"$f":"$AA$54","v":"0 Right"},{"$f":"$AF$54","v":0},{"$f":"$AJ$54","v":"0 Right"}]
[null,null,null,null,null,null,null,null,null,null,null,null,null,null,null,null,null,null,null,null,null,null,null,null,null,null,null,null,null,null,null,null,null,null,null,null,null,{"$f":"$E$55","v":0},{"$f":"$I$55","v":"0 Right"},{"$f":"$N$55","v":0},{"$f":"$R$55","v":"0 Right"},{"$f":"$W$55","v":0},{"$f":"$AA$55","v":"0 Right"},{"$f":"$AF$55","v":0},{"$f":"$AJ$55","v":"0 Right"}]
[null,null,null,null,null,null,null,null,null,null,null,null,null,null,null,null,null,null,null,null,null,null,null,null,null,null,null,null,null,null,null,null,null,null,null,null,null,{"$f":"$E$56","v":0},{"$f":"$I$56","v":"0 Right"},{"$f":"$N$56","v":0},{"$f":"$R$56","v":"0 Right"},{"$f":"$W$56","v":0},{"$f":"$AA$56","v":"0 Right"},{"$f":"$AF$56","v":0},{"$f":"$AJ$56","v":"0 Right"}]
[null,null,null,null,null,null,null,null,null,null,null,null,null,null,null,null,null,null,null,null,null,null,null,null,null,null,null,null,null,null,null,null,null,null,null,null,null,{"$f":"$E$57","v":0},{"$f":"$I$57","v":"0 Right"},{"$f":"$N$57","v":0},{"$f":"$R$57","v":"0 Right"},{"$f":"$W$57","v":0},{"$f":"$AA$57","v":"0 Right"},{"$f":"$AF$57","v":0},{"$f":"$AJ$57","v":"0 Right"}]
[null,null,null,null,null,null,null,null,null,null,null,null,null,null,null,null,null,null,null,null,null,null,null,null,null,null,null,null,null,null,null,null,null,null,null,null,null,{"$f":"$E$58","v":0},{"$f":"$I$58","v":"0 Right"},{"$f":"$N$58","v":0},{"$f":"$R$58","v":"0 Right"},{"$f":"$W$58","v":0},{"$f":"$AA$58","v":"0 Right"},{"$f":"$AF$58","v":0},{"$f":"$AJ$58","v":"0 Right"}]
[null,null,null,null,null,null,null,null,null,null,null,null,null,null,null,null,null,null,null,null,null,null,null,null,null,null,null,null,null,null,null,null,null,null,null,null,null,{"$f":"$E$59","v":0},{"$f":"$I$59","v":"0 Right"},{"$f":"$N$59","v":0},{"$f":"$R$59","v":"0 Right"},{"$f":"$W$59","v":0},{"$f":"$AA$59","v":"0 Right"},{"$f":"$AF$59","v":0},{"$f":"$AJ$59","v":"0 Right"}]

{"sheet":"28","index":11,"n_rows":101,"n_cols":45,"rows_kept":101,"cut":false,"hidden":true,"merged":[[16,43,16,44],[2,0,4,0],[5,0,7,0],[8,0,10,0],[11,0,13,0],[15,1,15,6],[15,10,15,15],[15,19,15,24],[15,28,15,33],[16,37,16,38],[16,39,16,40],[16,41,16,42],[14,1,14,14],[0,1,0,14],[1,1,1,2],[1,3,1,4],[1,5,1,6],[1,7,1,8],[1,9,1,10],[1,11,1,12],[1,13,1,14]]}
[null,"YOU MAY CHANGE THESE RINK NUMBERS IF YOU WISH"]
["Round",1,null,2,2,3,3,4,4,5,5,6,6,7,7]
[1,1,2,3,4,5,6,7,8,9,10,11,12,13,14]
[null,15,16,17,18,19,20,21,22,23,24,25,26,27,28]
[]
[2,9,14,1,10,2,11,3,12,4,13,5,8,6,7]
[null,21,26,27,22,28,23,15,24,16,25,17,20,18,19]
[]
[3,7,10,6,14,1,12,2,13,3,8,4,9,5,11]
[null,17,20,16,24,25,22,26,23,27,18,28,19,15,21]
[]
[4,3,11,7,12,4,8,5,9,6,14,13,10,2,1]
[null,25,19,15,20,26,16,27,17,28,22,21,18,24,23]
[]
[null,"28 on 1 green"]
[null,1,null,null,null,null,null,null,null,null,2,null,null,null,null,null,null,null,null,3,null,null,null,null,null,null,null,null,4]
[null,"no","Left","rink","no","Right","rink","L","R",null,"no","Left","rink","no","Right","rink","L","R",null,"no","Left","rink","no","Right","rink","L","R",null,"no","Left","rink","no","Right","rink","L","R",null,1,null,2,null,3,null,4]
[null,1,"Left",{"$f":"$B$2","v":1},2,"Right",{"$f":"$B$2","v":1},{"$f":"(D18&\" \"&C18)","v":"1 Left"},{"$f":"(G18&\" \"&F18)","v":"1 Right"},null,9,"Left",{"$f":"$B$2","v":1},14,"Right",{"$f":"$B$2","v":1},{"$f":"(M18&\" \"&L18)","v":"1 Left"},{"$f":"(P18&\" \"&O18)","v":"1 Right"},null,7,"Left",{"$f":"$B$2","v":1},10,"Right",{"$f":"$B$2","v":1},{"$f":"(V18&\" \"&U18)","v":"1 Left"},{"$f":"(Y18&\" \"&X18)","v":"1 Right"},null,3,"Left",{"$f":"$B$2","v":1},11,"Right",{"$f":"$B$2","v":1},{"$f":"(AE18&\" \"&AD18)","v":"1 Left"},{"$f":"(AH18&\" \"&AG18)","v":"1 Right"}]
[null,15,"Left",{"$f":"$B$2","v":1},16,"Right",{"$f":"$B$2","v":1},"1 Left","1 Right",null,21,"Left",{"$f":"$B$2","v":1},26,"Right",{"$f":"$B$2","v":1},"1 Left","1 Right",null,17,"Left",{"$f":"$B$2","v":1},20,"Right",{"$f":"$B$2","v":1},"1 Left","1 Right",null,25,"Left",{"$f":"$B$2","v":1},19,"Right",{"$f":"$B$2","v":1},"1 Left","1 Right"]
[null,null,"Left",{"$f":"$B$2","v":1},null,"Right",{"$f":"$B$2","v":1},"1 Left","1 Right",null,null,"Left",{"$f":"$B$2","v":1},null,"Right",{"$f":"$B$2","v":1},"1 Left","1 Right",null,null,"Left",{"$f":"$B$2","v":1},null,"Right",{"$f":"$B$2","v":1},"1 Left","1 Right",null,null,"Left",{"$f":"$B$2","v":1},null,"Right",{"$f":"$B$2","v":1},"1 Left","1 Right"]
[null,3,"Left",{"$f":"$D$2","v":2},4,"Right",{"$f":"$D$2","v":2},"2 Left","2 Right",null,1,"Left",{"$f":"$D$2","v":2},10,"Right",{"$f":"$D$2","v":2},"2 Left","2 Right",null,6,"Left",{"$f":"$D$2","v":2},14,"Right",{"$f":"$D$2","v":2},"2 Left","2 Right",null,7,"Left",{"$f":"$D$2","v":2},12,"Right",{"$f":"$D$2","v":2},"2 Left","2 Right"]
[null,17,"Left",{"$f":"$D$2","v":2},18,"Right",{"$f":"$D$2","v":2},"2 Left","2 Right",null,27,"Left",{"$f":"$D$2","v":2},22,"Right",{"$f":"$D$2","v":2},"2 Left","2 Right",null,16,"Left",{"$f":"$D$2","v":2},24,"Right",{"$f":"$D$2","v":2},"2 Left","2 Right",null,15,"Left",{"$f":"$D$2","v":2},20,"Right",{"$f":"$D$2","v":2},"2 Left","2 Right"]
[null,null,"Left",{"$f":"$D$2","v":2},null,"Right",{"$f":"$D$2","v":2},"2 Left","2 Right",null,null,"Left",{"$f":"$D$2","v":2},null,"Right",{"$f":"$D$2","v":2},"2 Left","2 Right",null,null,"Left",{"$f":"$D$2","v":2},null,"Right",{"$f":"$D$2","v":2},"2 Left","2 Right",null,null,"Left",{"$f":"$D$2","v":2},null,"Right",{"$f":"$D$2","v":2},"2 Left","2 Right"]
[null,5,"Left",{"$f":"$F$2","v":3},6,"Right",{"$f":"$F$2","v":3},"3 Left","3 Right",null,2,"Left",{"$f":"$F$2","v":3},11,"Right",{"$f":"$F$2","v":3},"3 Left","3 Right",null,1,"Left",{"$f":"$F$2","v":3},12,"Right",{"$f":"$F$2","v":3},"3 Left","3 Right",null,4,"Left",{"$f":"$F$2","v":3},8,"Right",{"$f":"$F$2","v":3},"3 Left","3 Right"]
[null,19,"Left",{"$f":"$F$2","v":3},20,"Right",{"$f":"$F$2","v":3},"3 Left","3 Right",null,28,"Left",{"$f":"$F$2","v":3},23,"Right",{"$f":"$F$2","v":3},"3 Left","3 Right",null,25,"Left",{"$f":"$F$2","v":3},22,"Right",{"$f":"$F$2","v":3},"3 Left","3 Right",null,26,"Left",{"$f":"$F$2","v":3},16,"Right",{"$f":"$F$2","v":3},"3 Left","3 Right"]
[null,null,"Left",{"$f":"$F$2","v":3},null,"Right",{"$f":"$F$2","v":3},"3 Left","3 Right",null,null,"Left",{"$f":"$F$2","v":3},null,"Right",{"$f":"$F$2","v":3},"3 Left","3 Right",null,null,"Left",{"$f":"$F$2","v":3},null,"Right",{"$f":"$F$2","v":3},"3 Left","3 Right",null,null,"Left",{"$f":"$F$2","v":3},null,"Right",{"$f":"$F$2","v":3},"3 Left","3 Right"]
[null,7,"Left",{"$f":"$H$2","v":4},8,"Right",{"$f":"$H$2","v":4},"4 Left","4 Right",null,3,"Left",{"$f":"$H$2","v":4},12,"Right",{"$f":"$H$2","v":4},"4 Left","4 Right",null,2,"Left",{"$f":"$H$2","v":4},13,"Right",{"$f":"$H$2","v":4},"4 Left","4 Right",null,5,"Left",{"$f":"$H$2","v":4},9,"Right",{"$f":"$H$2","v":4},"4 Left","4 Right"]
[null,21,"Left",{"$f":"$H$2","v":4},22,"Right",{"$f":"$H$2","v":4},"4 Left","4 Right",null,15,"Left",{"$f":"$H$2","v":4},24,"Right",{"$f":"$H$2","v":4},"4 Left","4 Right",null,26,"Left",{"$f":"$H$2","v":4},23,"Right",{"$f":"$H$2","v":4},"4 Left","4 Right",null,27,"Left",{"$f":"$H$2","v":4},17,"Right",{"$f":"$H$2","v":4},"4 Left","4 Right"]
[null,null,"Left",{"$f":"$H$2","v":4},null,"Right",{"$f":"$H$2","v":4},"4 Left","4 Right",null,null,"Left",{"$f":"$H$2","v":4},null,"Right",{"$f":"$H$2","v":4},"4 Left","4 Right",null,null,"Left",{"$f":"$H$2","v":4},null,"Right",{"$f":"$H$2","v":4},"4 Left","4 Right",null,null,"Left",{"$f":"$H$2","v":4},null,"Right",{"$f":"$H$2","v":4},"4 Left","4 Right"]
[null,9,"Left",{"$f":"$J$2","v":5},10,"Right",{"$f":"$J$2","v":5},"5 Left","5 Right",null,4,"Left",{"$f":"$J$2","v":5},13,"Right",{"$f":"$J$2","v":5},"5 Left","5 Right",null,3,"Left",{"$f":"$J$2","v":5},8,"Right",{"$f":"$J$2","v":5},"5 Left","5 Right",null,6,"Left",{"$f":"$J$2","v":5},14,"Right",{"$f":"$J$2","v":5},"5 Left","5 Right"]
[null,23,"Left",{"$f":"$J$2","v":5},24,"Right",{"$f":"$J$2","v":5},"5 Left","5 Right",null,16,"Left",{"$f":"$J$2","v":5},25,"Right",{"$f":"$J$2","v":5},"5 Left","5 Right",null,27,"Left",{"$f":"$J$2","v":5},18,"Right",{"$f":"$J$2","v":5},"5 Left","5 Right",null,28,"Left",{"$f":"$J$2","v":5},22,"Right",{"$f":"$J$2","v":5},"5 Left","5 Right"]
[null,null,"Left",{"$f":"$J$2","v":5},null,"Right",{"$f":"$J$2","v":5},"5 Left","5 Right",null,null,"Left",{"$f":"$J$2","v":5},null,"Right",{"$f":"$J$2","v":5},"5 Left","5 Right",null,null,"Left",{"$f":"$J$2","v":5},null,"Right",{"$f":"$J$2","v":5},"5 Left","5 Right",null,null,"Left",{"$f":"$J$2","v":5},null,"Right",{"$f":"$J$2","v":5},"5 Left","5 Right"]
[null,11,"Left",{"$f":"$L$2","v":6},12,"Right",{"$f":"$L$2","v":6},"6 Left","6 Right",null,5,"Left",{"$f":"$L$2","v":6},8,"Right",{"$f":"$L$2","v":6},"6 Left","6 Right",null,4,"Left",{"$f":"$L$2","v":6},9,"Right",{"$f":"$L$2","v":6},"6 Left","6 Right",null,13,"Left",{"$f":"$L$2","v":6},10,"Right",{"$f":"$L$2","v":6},"6 Left","6 Right"]
[null,25,"Left",{"$f":"$L$2","v":6},26,"Right",{"$f":"$L$2","v":6},"6 Left","6 Right",null,17,"Left",{"$f":"$L$2","v":6},20,"Right",{"$f":"$L$2","v":6},"6 Left","6 Right",null,28,"Left",{"$f":"$L$2","v":6},19,"Right",{"$f":"$L$2","v":6},"6 Left","6 Right",null,21,"Left",{"$f":"$L$2","v":6},18,"Right",{"$f":"$L$2","v":6},"6 Left","6 Right"]
[null,null,"Left",{"$f":"$L$2","v":6},null,"Right",{"$f":"$L$2","v":6},"6 Left","6 Right",null,null,"Left",{"$f":"$L$2","v":6},null,"Right",{"$f":"$L$2","v":6},"6 Left","6 Right",null,null,"Left",{"$f":"$L$2","v":6},null,"Right",{"$f":"$L$2","v":6},"6 Left","6 Right",null,null,"Left",{"$f":"$L$2","v":6},null,"Right",{"$f":"$L$2","v":6},"6 Left","6 Right"]
[null,13,"Left",{"$f":"$N$2","v":7},14,"Right",{"$f":"$N$2","v":7},"7 Left","7 Right",null,6,"Left",{"$f":"$N$2","v":7},7,"Right",{"$f":"$N$2","v":7},"7 Left","7 Right",null,5,"Left",{"$f":"$N$2","v":7},11,"Right",{"$f":"$N$2","v":7},"7 Left","7 Right",null,2,"Left",{"$f":"$N$2","v":7},1,"Right",{"$f":"$N$2","v":7},"7 Left","7 Right"]
[null,27,"Left",{"$f":"$N$2","v":7},28,"Right",{"$f":"$N$2","v":7},"7 Left","7 Right",null,18,"Left",{"$f":"$N$2","v":7},19,"Right",{"$f":"$N$2","v":7},"7 Left","7 Right",null,15,"Left",{"$f":"$N$2","v":7},21,"Right",{"$f":"$N$2","v":7},"7 Left","7 Right",null,24,"Left",{"$f":"$N$2","v":7},23,"Right",{"$f":"$N$2","v":7},"7 Left","7 Right"]
[null,null,"Left",{"$f":"$N$2","v":7},null,"Right",{"$f":"$N$2","v":7},"7 Left","7 Right",null,null,"Left",{"$f":"$N$2","v":7},null,"Right",{"$f":"$N$2","v":7},"7 Left","7 Right",null,null,"Left",{"$f":"$N$2","v":7},null,"Right",{"$f":"$N$2","v":7},"7 Left","7 Right",null,null,"Left",{"$f":"$N$2","v":7},null,"Right",{"$f":"$N$2","v":7},"7 Left","7 Right"]
[null,null,"Left",{"$f":"$P$2","v":0},null,"Right",{"$f":"$P$2","v":0},"0 Left","0 Right",null,null,"Left",{"$f":"$P$2","v":0},null,"Right",{"$f":"$P$2","v":0},"0 Left","0 Right",null,null,"Left",{"$f":"$P$2","v":0},null,"Right",{"$f":"$P$2","v":0},"0 Left","0 Right",null,null,"Left",{"$f":"$P$2","v":0},null,"Right",{"$f":"$P$2","v":0},"0 Left","0 Right"]
[null,null,"Left",{"$f":"$P$2","v":0},null,"Right",{"$f":"$P$2","v":0},"0 Left","0 Right",null,null,"Left",{"$f":"$P$2","v":0},null,"Right",{"$f":"$P$2","v":0},"0 Left","0 Right",null,null,"Left",{"$f":"$P$2","v":0},null,"Right",{"$f":"$P$2","v":0},"0 Left","0 Right",null,null,"Left",{"$f":"$P$2","v":0},null,"Right",{"$f":"$P$2","v":0},"0 Left","0 Right"]
[null,null,"Left",{"$f":"$P$2","v":0},null,"Right",{"$f":"$P$2","v":0},"0 Left","0 Right",null,null,"Left",{"$f":"$P$2","v":0},null,"Right",{"$f":"$P$2","v":0},"0 Left","0 Right",null,null,"Left",{"$f":"$P$2","v":0},null,"Right",{"$f":"$P$2","v":0},"0 Left","0 Right",null,null,"Left",{"$f":"$P$2","v":0},null,"Right",{"$f":"$P$2","v":0},"0 Left","0 Right"]
[null,null,"Left",{"$f":"$R$2","v":0},null,"Right",{"$f":"$R$2","v":0},"0 Left","0 Right",null,null,"Left",{"$f":"$R$2","v":0},null,"Right",{"$f":"$R$2","v":0},"0 Left","0 Right",null,null,"Left",{"$f":"$R$2","v":0},null,"Right",{"$f":"$R$2","v":0},"0 Left","0 Right",null,null,"Left",{"$f":"$R$2","v":0},null,"Right",{"$f":"$R$2","v":0},"0 Left","0 Right"]
[null,null,"Left",{"$f":"$R$2","v":0},null,"Right",{"$f":"$R$2","v":0},"0 Left","0 Right",null,null,"Left",{"$f":"$R$2","v":0},null,"Right",{"$f":"$R$2","v":0},"0 Left","0 Right",null,null,"Left",{"$f":"$R$2","v":0},null,"Right",{"$f":"$R$2","v":0},"0 Left","0 Right",null,null,"Left",{"$f":"$R$2","v":0},null,"Right",{"$f":"$R$2","v":0},"0 Left","0 Right"]
[null,null,"Left",{"$f":"$R$2","v":0},null,"Right",{"$f":"$R$2","v":0},"0 Left","0 Right",null,null,"Left",{"$f":"$R$2","v":0},null,"Right",{"$f":"$R$2","v":0},"0 Left","0 Right",null,null,"Left",{"$f":"$R$2","v":0},null,"Right",{"$f":"$R$2","v":0},"0 Left","0 Right",null,null,"Left",{"$f":"$R$2","v":0},null,"Right",{"$f":"$R$2","v":0},"0 Left","0 Right"]
[null,null,"Left",{"$f":"$T$2","v":0},null,"Right",{"$f":"$T$2","v":0},"0 Left","0 Right",null,null,"Left",{"$f":"$T$2","v":0},null,"Right",{"$f":"$T$2","v":0},"0 Left","0 Right",null,null,"Left",{"$f":"$T$2","v":0},null,"Right",{"$f":"$T$2","v":0},"0 Left","0 Right",null,null,"Left",{"$f":"$T$2","v":0},null,"Right",{"$f":"$T$2","v":0},"0 Left","0 Right"]
[null,null,"Left",{"$f":"$T$2","v":0},null,"Right",{"$f":"$T$2","v":0},"0 Left","0 Right",null,null,"Left",{"$f":"$T$2","v":0},null,"Right",{"$f":"$T$2","v":0},"0 Left","0 Right",null,null,"Left",{"$f":"$T$2","v":0},null,"Right",{"$f":"$T$2","v":0},"0 Left","0 Right",null,null,"Left",{"$f":"$T$2","v":0},null,"Right",{"$f":"$T$2","v":0},"0 Left","0 Right",null,{"$f":"$B$20","v":0},{"$f":"$H$20","v":"1 Left"},{"$f":"$K$20","v":0},{"$f":"$Q$20","v":"1 Left"},{"$f":"$T$20","v":0},{"$f":"$Z$20","v":"1 Left"},{"$f":"$AC$20","v":0},{"$f":"$AI$20","v":"1 Left"}]
[null,null,"Left",{"$f":"$T$2","v":0},null,"Right",{"$f":"$T$2","v":0},"0 Left","0 Right",null,null,"Left",{"$f":"$T$2","v":0},null,"Right",{"$f":"$T$2","v":0},"0 Left","0 Right",null,null,"Left",{"$f":"$T$2","v":0},null,"Right",{"$f":"$T$2","v":0},"0 Left","0 Right",null,null,"Left",{"$f":"$T$2","v":0},null,"Right",{"$f":"$T$2","v":0},"0 Left","0 Right",null,{"$f":"$E$20","v":0},{"$f":"$I$20","v":"1 Right"},{"$f":"$K$23","v":0},{"$f":"$Q$23","v":"2 Left"},{"$f":"$T$23","v":0},{"$f":"$Z$23","v":"2 Left"},{"$f":"$AC$23","v":0},{"$f":"$AI$23","v":"2 Left"}]
[null,null,"Left",{"$f":"$V$2","v":0},null,"Right",{"$f":"$V$2","v":0},"0 Left","0 Right",null,null,"Left",{"$f":"$V$2","v":0},null,"Right",{"$f":"$V$2","v":0},"0 Left","0 Right",null,null,"Left",{"$f":"$V$2","v":0},null,"Right",{"$f":"$V$2","v":0},"0 Left","0 Right",null,null,"Left",{"$f":"$V$2","v":0},null,"Right",{"$f":"$V$2","v":0},"0 Left","0 Right",null,{"$f":"$B$39","v":0},{"$f":"$H$39","v":"0 Left"},{"$f":"$K$26","v":0},{"$f":"$Q$26","v":"3 Left"},{"$f":"$T$26","v":0},{"$f":"$Z$26","v":"3 Left"},{"$f":"$AC$26","v":0},{"$f":"$AI$26","v":"3 Left"}]
[null,null,"Left",{"$f":"$V$2","v":0},null,"Right",{"$f":"$V$2","v":0},"0 Left","0 Right",null,null,"Left",{"$f":"$V$2","v":0},null,"Right",{"$f":"$V$2","v":0},"0 Left","0 Right",null,null,"Left",{"$f":"$V$2","v":0},null,"Right",{"$f":"$V$2","v":0},"0 Left","0 Right",null,null,"Left",{"$f":"$V$2","v":0},null,"Right",{"$f":"$V$2","v":0},"0 Left","0 Right",null,{"$f":"$E$39","v":0},{"$f":"$I$39","v":"0 Right"},{"$f":"$K$29","v":0},{"$f":"$Q$29","v":"4 Left"},{"$f":"$T$29","v":0},{"$f":"$Z$29","v":"4 Left"},{"$f":"$AC$29","v":0},{"$f":"$AI$29","v":"4 Left"}]
[null,null,"Left",{"$f":"$V$2","v":0},null,"Right",{"$f":"$V$2","v":0},"0 Left","0 Right",null,null,"Left",{"$f":"$V$2","v":0},null,"Right",{"$f":"$V$2","v":0},"0 Left","0 Right",null,null,"Left",{"$f":"$V$2","v":0},null,"Right",{"$f":"$V$2","v":0},"0 Left","0 Right",null,null,"Left",{"$f":"$V$2","v":0},null,"Right",{"$f":"$V$2","v":0},"0 Left","0 Right",null,{"$f":"$B$42","v":0},{"$f":"$H$42","v":"0 Left"},{"$f":"$K$32","v":0},{"$f":"$Q$32","v":"5 Left"},{"$f":"$T$32","v":0},{"$f":"$Z$32","v":"5 Left"},{"$f":"$AC$32","v":0},{"$f":"$AI$32","v":"5 Left"}]
[null,null,"Left",{"$f":"$X$2","v":0},null,"Right",{"$f":"$X$2","v":0},"0 Left","0 Right",null,null,"Left",{"$f":"$X$2","v":0},null,"Right",{"$f":"$X$2","v":0},"0 Left","0 Right",null,null,"Left",{"$f":"$X$2","v":0},null,"Right",{"$f":"$X$2","v":0},"0 Left","0 Right",null,null,"Left",{"$f":"$X$2","v":0},null,"Right",{"$f":"$X$2","v":0},"0 Left","0 Right",null,{"$f":"$E$42","v":0},{"$f":"$I$42","v":"0 Right"},{"$f":"$K$35","v":0},{"$f":"$Q$35","v":"6 Left"},{"$f":"$T$35","v":0},{"$f":"$Z$35","v":"6 Left"},{"$f":"$AC$35","v":0},{"$f":"$AI$35","v":"6 Left"}]
[null,null,"Left",{"$f":"$X$2","v":0},null,"Right",{"$f":"$X$2","v":0},"0 Left","0 Right",null,null,"Left",{"$f":"$X$2","v":0},null,"Right",{"$f":"$X$2","v":0},"0 Left","0 Right",null,null,"Left",{"$f":"$X$2","v":0},null,"Right",{"$f":"$X$2","v":0},"0 Left","0 Right",null,null,"Left",{"$f":"$X$2","v":0},null,"Right",{"$f":"$X$2","v":0},"0 Left","0 Right",null,{"$f":"$B$45","v":0},{"$f":"$H$45","v":"0 Left"},{"$f":"$K$38","v":0},{"$f":"$Q$38","v":"7 Left"},{"$f":"$T$38","v":0},{"$f":"$Z$38","v":"7 Left"},{"$f":"$AC$38","v":0},{"$f":"$AI$38","v":"7 Left"}]
[null,null,"Left",{"$f":"$X$2","v":0},null,"Right",{"$f":"$X$2","v":0},"0 Left","0 Right",null,null,"Left",{"$f":"$X$2","v":0},null,"Right",{"$f":"$X$2","v":0},"0 Left","0 Right",null,null,"Left",{"$f":"$X$2","v":0},null,"Right",{"$f":"$X$2","v":0},"0 Left","0 Right",null,null,"Left",{"$f":"$X$2","v":0},null,"Right",{"$f":"$X$2","v":0},"0 Left","0 Right",null,{"$f":"$E$45","v":0},{"$f":"$I$45","v":"0 Right"},{"$f":"$K$39","v":0},{"$f":"$Q$39","v":"0 Left"},{"$f":"$T$39","v":0},{"$f":"$Z$39","v":"0 Left"},{"$f":"$AC$39","v":0},{"$f":"$AI$39","v":"0 Left"}]
[null,null,"Left",{"$f":"$Z$2","v":0},null,"Right",{"$f":"$Z$2","v":0},"0 Left","0 Right",null,null,"Left",{"$f":"$Z$2","v":0},null,"Right",{"$f":"$Z$2","v":0},"0 Left","0 Right",null,null,"Left",{"$f":"$Z$2","v":0},null,"Right",{"$f":"$Z$2","v":0},"0 Left","0 Right",null,null,"Left",{"$f":"$Z$2","v":0},null,"Right",{"$f":"$Z$2","v":0},"0 Left","0 Right",null,{"$f":"$B$40","v":0},{"$f":"$H$40","v":"0 Left"},{"$f":"$K$40","v":0},{"$f":"$Q$40","v":"0 Left"},{"$f":"$T$40","v":0},{"$f":"$Z$40","v":"0 Left"},{"$f":"$AC$40","v":0},{"$f":"$AI$40","v":"0 Left"}]
[null,null,"Left",{"$f":"$Z$2","v":0},null,"Right",{"$f":"$Z$2","v":0},"0 Left","0 Right",null,null,"Left",{"$f":"$Z$2","v":0},null,"Right",{"$f":"$Z$2","v":0},"0 Left","0 Right",null,null,"Left",{"$f":"$Z$2","v":0},null,"Right",{"$f":"$Z$2","v":0},"0 Left","0 Right",null,null,"Left",{"$f":"$Z$2","v":0},null,"Right",{"$f":"$Z$2","v":0},"0 Left","0 Right",null,{"$f":"$E$40","v":0},{"$f":"$I$40","v":"0 Right"},{"$f":"$K$41","v":0},{"$f":"$Q$41","v":"0 Left"},{"$f":"$T$41","v":0},{"$f":"$Z$41","v":"0 Left"},{"$f":"$AC$41","v":0},{"$f":"$AI$41","v":"0 Left"}]
[null,null,"Left",{"$f":"$Z$2","v":0},null,"Right",{"$f":"$Z$2","v":0},"0 Left","0 Right",null,null,"Left",{"$f":"$Z$2","v":0},null,"Right",{"$f":"$Z$2","v":0},"0 Left","0 Right",null,null,"Left",{"$f":"$Z$2","v":0},null,"Right",{"$f":"$Z$2","v":0},"0 Left","0 Right",null,null,"Left",{"$f":"$Z$2","v":0},null,"Right",{"$f":"$Z$2","v":0},"0 Left","0 Right",null,{"$f":"$B$43","v":0},{"$f":"$H$43","v":"0 Left"},{"$f":"$K$42","v":0},{"$f":"$Q$42","v":"0 Left"},{"$f":"$T$42","v":0},{"$f":"$Z$42","v":"0 Left"},{"$f":"$AC$42","v":0},{"$f":"$AI$42","v":"0 Left"}]
[null,null,"Left",{"$f":"$AB$2","v":0},null,"Right",{"$f":"$AB$2","v":0},"0 Left","0 Right",null,null,"Left",{"$f":"$AB$2","v":0},null,"Right",{"$f":"$AB$2","v":0},"0 Left","0 Right",null,null,"Left",{"$f":"$AB$2","v":0},null,"Right",{"$f":"$AB$2","v":0},"0 Left","0 Right",null,null,"Left",{"$f":"$AB$2","v":0},null,"Right",{"$f":"$AB$2","v":0},"0 Left","0 Right",null,{"$f":"$E$43","v":0},{"$f":"$I$43","v":"0 Right"},{"$f":"$K$43","v":0},{"$f":"$Q$43","v":"0 Left"},{"$f":"$T$43","v":0},{"$f":"$Z$43","v":"0 Left"},{"$f":"$AC$43","v":0},{"$f":"$AI$43","v":"0 Left"}]
[null,null,"Left",{"$f":"$AB$2","v":0},null,"Right",{"$f":"$AB$2","v":0},"0 Left","0 Right",null,null,"Left",{"$f":"$AB$2","v":0},null,"Right",{"$f":"$AB$2","v":0},"0 Left","0 Right",null,null,"Left",{"$f":"$AB$2","v":0},null,"Right",{"$f":"$AB$2","v":0},"0 Left","0 Right",null,null,"Left",{"$f":"$AB$2","v":0},null,"Right",{"$f":"$AB$2","v":0},"0 Left","0 Right",null,{"$f":"$B$46","v":0},{"$f":"$H$46","v":"0 Left"},{"$f":"$K$44","v":0},{"$f":"$Q$44","v":"0 Left"},{"$f":"$T$44","v":0},{"$f":"$Z$44","v":"0 Left"},{"$f":"$AC$44","v":0},{"$f":"$AI$44","v":"0 Left"}]
[null,null,"Left",{"$f":"$AB$2","v":0},null,"Right",{"$f":"$AB$2","v":0},"0 Left","0 Right",null,null,"Left",{"$f":"$AB$2","v":0},null,"Right",{"$f":"$AB$2","v":0},"0 Left","0 Right",null,null,"Left",{"$f":"$AB$2","v":0},null,"Right",{"$f":"$AB$2","v":0},"0 Left","0 Right",null,null,"Left",{"$f":"$AB$2","v":0},null,"Right",{"$f":"$AB$2","v":0},"0 Left","0 Right",null,{"$f":"$E$46","v":0},{"$f":"$I$46","v":"0 Right"},{"$f":"$K$45","v":0},{"$f":"$Q$45","v":"0 Left"},{"$f":"$T$45","v":0},{"$f":"$Z$45","v":"0 Left"},{"$f":"$AC$45","v":0},{"$f":"$AI$45","v":"0 Left"}]
[null,null,null,null,null,null,null,null,null,null,null,null,null,null,null,null,null,null,null,null,null,null,null,null,null,null,null,null,null,null,null,null,null,null,null,null,null,{"$f":"$B$23","v":0},{"$f":"$H$23","v":"2 Left"},{"$f":"$K$46","v":0},{"$f":"$Q$46","v":"0 Left"},{"$f":"$T$46","v":0},{"$f":"$Z$46","v":"0 Left"},{"$f":"$AC$46","v":0},{"$f":"$AI$46","v":"0 Left"}]
[null,null,null,null,null,null,null,null,null,null,null,null,null,null,null,null,null,null,null,null,null,null,null,null,null,null,null,null,null,null,null,null,null,null,null,null,null,{"$f":"$B$26","v":0},{"$f":"$H$26","v":"3 Left"},{"$f":"$K$47","v":0},{"$f":"$Q$47","v":"0 Left"},{"$f":"$T$47","v":0},{"$f":"$Z$47","v":"0 Left"},{"$f":"$AC$47","v":0},{"$f":"$AI$47","v":"0 Left"}]
[null,null,null,null,null,null,null,null,null,null,null,null,null,null,null,null,null,null,null,null,null,null,null,null,null,null,null,null,null,null,null,null,null,null,null,null,null,{"$f":"$B$29","v":0},{"$f":"$H$29","v":"4 Left"},{"$f":"$K$48","v":0},{"$f":"$Q$48","v":"0 Left"},{"$f":"$T$48","v":0},{"$f":"$Z$48","v":"0 Left"},{"$f":"$AC$48","v":0},{"$f":"$AI$48","v":"0 Left"}]
[null,null,null,null,null,null,null,null,null,null,null,null,null,null,null,null,null,null,null,null,null,null,null,null,null,null,null,null,null,null,null,null,null,null,null,null,null,{"$f":"$B$32","v":0},{"$f":"$H$32","v":"5 Left"},{"$f":"$K$49","v":0},{"$f":"$Q$49","v":"0 Left"},{"$f":"$T$49","v":0},{"$f":"$Z$49","v":"0 Left"},{"$f":"$AC$49","v":0},{"$f":"$AI$49","v":"0 Left"}]
[null,null,null,null,null,null,null,null,null,null,null,null,null,null,null,null,null,null,null,null,null,null,null,null,null,null,null,null,null,null,null,null,null,null,null,null,null,{"$f":"$B$35","v":0},{"$f":"$H$35","v":"6 Left"},{"$f":"$K$50","v":0},{"$f":"$Q$50","v":"0 Left"},{"$f":"$T$50","v":0},{"$f":"$Z$50","v":"0 Left"},{"$f":"$AC$50","v":0},{"$f":"$AI$50","v":"0 Left"}]
[null,null,null,null,null,null,null,null,null,null,null,null,null,null,null,null,null,null,null,null,null,null,null,null,null,null,null,null,null,null,null,null,null,null,null,null,null,{"$f":"$B$38","v":0},{"$f":"$H$38","v":"7 Left"},{"$f":"$K$51","v":0},{"$f":"$Q$51","v":"0 Left"},{"$f":"$T$51","v":0},{"$f":"$Z$51","v":"0 Left"},{"$f":"$AC$51","v":0},{"$f":"$AI$51","v":"0 Left"}]
[null,null,null,null,null,null,null,null,null,null,null,null,null,null,null,null,null,null,null,null,null,null,null,null,null,null,null,null,null,null,null,null,null,null,null,null,null,{"$f":"$B$41","v":0},{"$f":"$H$41","v":"0 Left"},{"$f":"$K$52","v":0},{"$f":"$Q$52","v":"0 Left"},{"$f":"$T$52","v":0},{"$f":"$Z$52","v":"0 Left"},{"$f":"$AC$52","v":0},{"$f":"$AI$52","v":"0 Left"}]
[null,null,null,null,null,null,null,null,null,null,null,null,null,null,null,null,null,null,null,null,null,null,null,null,null,null,null,null,null,null,null,null,null,null,null,null,null,{"$f":"$B$44","v":0},{"$f":"$H$44","v":"0 Left"},{"$f":"$K$53","v":0},{"$f":"$Q$53","v":"0 Left"},{"$f":"$T$53","v":0},{"$f":"$Z$53","v":"0 Left"},{"$f":"$AC$53","v":0},{"$f":"$AI$53","v":"0 Left"}]
[null,null,null,null,null,null,null,null,null,null,null,null,null,null,null,null,null,null,null,null,null,null,null,null,null,null,null,null,null,null,null,null,null,null,null,null,null,{"$f":"$B$47","v":0},{"$f":"$H$47","v":"0 Left"},{"$f":"$K$54","v":0},{"$f":"$Q$54","v":"0 Left"},{"$f":"$T$54","v":0},{"$f":"$Z$54","v":"0 Left"},{"$f":"$AC$54","v":0},{"$f":"$AI$54","v":"0 Left"}]
[null,null,null,null,null,null,null,null,null,null,null,null,null,null,null,null,null,null,null,null,null,null,null,null,null,null,null,null,null,null,null,null,null,null,null,null,null,{"$f":"$B$48","v":0},{"$f":"$H$48","v":"0 Left"},{"$f":"$K$55","v":0},{"$f":"$Q$55","v":"0 Left"},{"$f":"$T$55","v":0},{"$f":"$Z$55","v":"0 Left"},{"$f":"$AC$55","v":0},{"$f":"$AI$55","v":"0 Left"}]
[null,null,null,null,null,null,null,null,null,null,null,null,null,null,null,null,null,null,null,null,null,null,null,null,null,null,null,null,null,null,null,null,null,null,null,null,null,{"$f":"$B$49","v":0},{"$f":"$H$49","v":"0 Left"},{"$f":"$K$56","v":0},{"$f":"$Q$56","v":"0 Left"},{"$f":"$T$56","v":0},{"$f":"$Z$56","v":"0 Left"},{"$f":"$AC$56","v":0},{"$f":"$AI$56","v":"0 Left"}]
[null,null,null,null,null,null,null,null,null,null,null,null,null,null,null,null,null,null,null,null,null,null,null,null,null,null,null,null,null,null,null,null,null,null,null,null,null,{"$f":"$B$50","v":0},{"$f":"$H$50","v":"0 Left"},{"$f":"$K$57","v":0},{"$f":"$Q$57","v":"0 Left"},{"$f":"$T$57","v":0},{"$f":"$Z$57","v":"0 Left"},{"$f":"$AC$57","v":0},{"$f":"$AI$57","v":"0 Left"}]
[null,null,null,null,null,null,null,null,null,null,null,null,null,null,null,null,null,null,null,null,null,null,null,null,null,null,null,null,null,null,null,null,null,null,null,null,null,{"$f":"$B$51","v":0},{"$f":"$H$51","v":"0 Left"},{"$f":"$K$58","v":0},{"$f":"$Q$58","v":"0 Left"},{"$f":"$T$58","v":0},{"$f":"$Z$58","v":"0 Left"},{"$f":"$AC$58","v":0},{"$f":"$AI$58","v":"0 Left"}]
[null,null,null,null,null,null,null,null,null,null,null,null,null,null,null,null,null,null,null,null,null,null,null,null,null,null,null,null,null,null,null,null,null,null,null,null,null,{"$f":"$B$52","v":0},{"$f":"$H$52","v":"0 Left"},{"$f":"$K$59","v":0},{"$f":"$Q$59","v":"0 Left"},{"$f":"$T$59","v":0},{"$f":"$Z$59","v":"0 Left"},{"$f":"$AC$59","v":0},{"$f":"$AI$59","v":"0 Left"}]
[null,null,null,null,null,null,null,null,null,null,null,null,null,null,null,null,null,null,null,null,null,null,null,null,null,null,null,null,null,null,null,null,null,null,null,null,null,{"$f":"$B$53","v":0},{"$f":"$H$53","v":"0 Left"},{"$f":"$N$20","v":0},{"$f":"$R$20","v":"1 Right"},{"$f":"$W$20","v":0},{"$f":"$AA$20","v":"1 Right"},{"$f":"$AF$20","v":0},{"$f":"$AJ$20","v":"1 Right"}]
[null,null,null,null,null,null,null,null,null,null,null,null,null,null,null,null,null,null,null,null,null,null,null,null,null,null,null,null,null,null,null,null,null,null,null,null,null,{"$f":"$B$54","v":0},{"$f":"$H$54","v":"0 Left"},{"$f":"$N$23","v":0},{"$f":"$R$23","v":"2 Right"},{"$f":"$W$23","v":0},{"$f":"$AA$23","v":"2 Right"},{"$f":"$AF$23","v":0},{"$f":"$AJ$23","v":"2 Right"}]
[null,null,null,null,null,null,null,null,null,null,null,null,null,null,null,null,null,null,null,null,null,null,null,null,null,null,null,null,null,null,null,null,null,null,null,null,null,{"$f":"$B$55","v":0},{"$f":"$H$55","v":"0 Left"},{"$f":"$N$26","v":0},{"$f":"$R$26","v":"3 Right"},{"$f":"$W$26","v":0},{"$f":"$AA$26","v":"3 Right"},{"$f":"$AF$26","v":0},{"$f":"$AJ$26","v":"3 Right"}]
[null,null,null,null,null,null,null,null,null,null,null,null,null,null,null,null,null,null,null,null,null,null,null,null,null,null,null,null,null,null,null,null,null,null,null,null,null,{"$f":"$B$56","v":0},{"$f":"$H$56","v":"0 Left"},{"$f":"$N$29","v":0},{"$f":"$R$29","v":"4 Right"},{"$f":"$W$29","v":0},{"$f":"$AA$29","v":"4 Right"},{"$f":"$AF$29","v":0},{"$f":"$AJ$29","v":"4 Right"}]
[null,null,null,null,null,null,null,null,null,null,null,null,null,null,null,null,null,null,null,null,null,null,null,null,null,null,null,null,null,null,null,null,null,null,null,null,null,{"$f":"$B$57","v":0},{"$f":"$H$57","v":"0 Left"},{"$f":"$N$32","v":0},{"$f":"$R$32","v":"5 Right"},{"$f":"$W$32","v":0},{"$f":"$AA$32","v":"5 Right"},{"$f":"$AF$32","v":0},{"$f":"$AJ$32","v":"5 Right"}]
[null,null,null,null,null,null,null,null,null,null,null,null,null,null,null,null,null,null,null,null,null,null,null,null,null,null,null,null,null,null,null,null,null,null,null,null,null,{"$f":"$B$58","v":0},{"$f":"$H$58","v":"0 Left"},{"$f":"$N$35","v":0},{"$f":"$R$35","v":"6 Right"},{"$f":"$W$35","v":0},{"$f":"$AA$35","v":"6 Right"},{"$f":"$AF$35","v":0},{"$f":"$AJ$35","v":"6 Right"}]
[null,null,null,null,null,null,null,null,null,null,null,null,null,null,null,null,null,null,null,null,null,null,null,null,null,null,null,null,null,null,null,null,null,null,null,null,null,{"$f":"$B$59","v":0},{"$f":"$H$59","v":"0 Left"},{"$f":"$N$38","v":0},{"$f":"$R$38","v":"7 Right"},{"$f":"$W$38","v":0},{"$f":"$AA$38","v":"7 Right"},{"$f":"$AF$38","v":0},{"$f":"$AJ$38","v":"7 Right"}]
[null,null,null,null,null,null,null,null,null,null,null,null,null,null,null,null,null,null,null,null,null,null,null,null,null,null,null,null,null,null,null,null,null,null,null,null,null,{"$f":"$E$23","v":0},{"$f":"$I$23","v":"2 Right"},{"$f":"$N$39","v":0},{"$f":"$R$39","v":"0 Right"},{"$f":"$W$39","v":0},{"$f":"$AA$39","v":"0 Right"},{"$f":"$AF$39","v":0},{"$f":"$AJ$39","v":"0 Right"}]
[null,null,null,null,null,null,null,null,null,null,null,null,null,null,null,null,null,null,null,null,null,null,null,null,null,null,null,null,null,null,null,null,null,null,null,null,null,{"$f":"$E$26","v":0},{"$f":"$I$26","v":"3 Right"},{"$f":"$N$40","v":0},{"$f":"$R$40","v":"0 Right"},{"$f":"$W$40","v":0},{"$f":"$AA$40","v":"0 Right"},{"$f":"$AF$40","v":0},{"$f":"$AJ$40","v":"0 Right"}]
[null,null,null,null,null,null,null,null,null,null,null,null,null,null,null,null,null,null,null,null,null,null,null,null,null,null,null,null,null,null,null,null,null,null,null,null,null,{"$f":"$E$29","v":0},{"$f":"$I$29","v":"4 Right"},{"$f":"$N$41","v":0},{"$f":"$R$41","v":"0 Right"},{"$f":"$W$41","v":0},{"$f":"$AA$41","v":"0 Right"},{"$f":"$AF$41","v":0},{"$f":"$AJ$41","v":"0 Right"}]
[null,null,null,null,null,null,null,null,null,null,null,null,null,null,null,null,null,null,null,null,null,null,null,null,null,null,null,null,null,null,null,null,null,null,null,null,null,{"$f":"$E$32","v":0},{"$f":"$I$32","v":"5 Right"},{"$f":"$N$42","v":0},{"$f":"$R$42","v":"0 Right"},{"$f":"$W$42","v":0},{"$f":"$AA$42","v":"0 Right"},{"$f":"$AF$42","v":0},{"$f":"$AJ$42","v":"0 Right"}]
[null,null,null,null,null,null,null,null,null,null,null,null,null,null,null,null,null,null,null,null,null,null,null,null,null,null,null,null,null,null,null,null,null,null,null,null,null,{"$f":"$E$35","v":0},{"$f":"$I$35","v":"6 Right"},{"$f":"$N$43","v":0},{"$f":"$R$43","v":"0 Right"},{"$f":"$W$43","v":0},{"$f":"$AA$43","v":"0 Right"},{"$f":"$AF$43","v":0},{"$f":"$AJ$43","v":"0 Right"}]
[null,null,null,null,null,null,null,null,null,null,null,null,null,null,null,null,null,null,null,null,null,null,null,null,null,null,null,null,null,null,null,null,null,null,null,null,null,{"$f":"$E$38","v":0},{"$f":"$I$38","v":"7 Right"},{"$f":"$N$44","v":0},{"$f":"$R$44","v":"0 Right"},{"$f":"$W$44","v":0},{"$f":"$AA$44","v":"0 Right"},{"$f":"$AF$44","v":0},{"$f":"$AJ$44","v":"0 Right"}]
[null,null,null,null,null,null,null,null,null,null,null,null,null,null,null,null,null,null,null,null,null,null,null,null,null,null,null,null,null,null,null,null,null,null,null,null,null,{"$f":"$E$41","v":0},{"$f":"$I$41","v":"0 Right"},{"$f":"$N$45","v":0},{"$f":"$R$45","v":"0 Right"},{"$f":"$W$45","v":0},{"$f":"$AA$45","v":"0 Right"},{"$f":"$AF$45","v":0},{"$f":"$AJ$45","v":"0 Right"}]
[null,null,null,null,null,null,null,null,null,null,null,null,null,null,null,null,null,null,null,null,null,null,null,null,null,null,null,null,null,null,null,null,null,null,null,null,null,{"$f":"$E$44","v":0},{"$f":"$I$44","v":"0 Right"},{"$f":"$N$46","v":0},{"$f":"$R$46","v":"0 Right"},{"$f":"$W$46","v":0},{"$f":"$AA$46","v":"0 Right"},{"$f":"$AF$46","v":0},{"$f":"$AJ$46","v":"0 Right"}]
[null,null,null,null,null,null,null,null,null,null,null,null,null,null,null,null,null,null,null,null,null,null,null,null,null,null,null,null,null,null,null,null,null,null,null,null,null,{"$f":"$E$47","v":0},{"$f":"$I$47","v":"0 Right"},{"$f":"$N$47","v":0},{"$f":"$R$47","v":"0 Right"},{"$f":"$W$47","v":0},{"$f":"$AA$47","v":"0 Right"},{"$f":"$AF$47","v":0},{"$f":"$AJ$47","v":"0 Right"}]
[null,null,null,null,null,null,null,null,null,null,null,null,null,null,null,null,null,null,null,null,null,null,null,null,null,null,null,null,null,null,null,null,null,null,null,null,null,{"$f":"$E$48","v":0},{"$f":"$I$48","v":"0 Right"},{"$f":"$N$48","v":0},{"$f":"$R$48","v":"0 Right"},{"$f":"$W$48","v":0},{"$f":"$AA$48","v":"0 Right"},{"$f":"$AF$48","v":0},{"$f":"$AJ$48","v":"0 Right"}]
[null,null,null,null,null,null,null,null,null,null,null,null,null,null,null,null,null,null,null,null,null,null,null,null,null,null,null,null,null,null,null,null,null,null,null,null,null,{"$f":"$E$49","v":0},{"$f":"$I$49","v":"0 Right"},{"$f":"$N$49","v":0},{"$f":"$R$49","v":"0 Right"},{"$f":"$W$49","v":0},{"$f":"$AA$49","v":"0 Right"},{"$f":"$AF$49","v":0},{"$f":"$AJ$49","v":"0 Right"}]
[null,null,null,null,null,null,null,null,null,null,null,null,null,null,null,null,null,null,null,null,null,null,null,null,null,null,null,null,null,null,null,null,null,null,null,null,null,{"$f":"$E$50","v":0},{"$f":"$I$50","v":"0 Right"},{"$f":"$N$50","v":0},{"$f":"$R$50","v":"0 Right"},{"$f":"$W$50","v":0},{"$f":"$AA$50","v":"0 Right"},{"$f":"$AF$50","v":0},{"$f":"$AJ$50","v":"0 Right"}]
[null,null,null,null,null,null,null,null,null,null,null,null,null,null,null,null,null,null,null,null,null,null,null,null,null,null,null,null,null,null,null,null,null,null,null,null,null,{"$f":"$E$51","v":0},{"$f":"$I$51","v":"0 Right"},{"$f":"$N$51","v":0},{"$f":"$R$51","v":"0 Right"},{"$f":"$W$51","v":0},{"$f":"$AA$51","v":"0 Right"},{"$f":"$AF$51","v":0},{"$f":"$AJ$51","v":"0 Right"}]
[null,null,null,null,null,null,null,null,null,null,null,null,null,null,null,null,null,null,null,null,null,null,null,null,null,null,null,null,null,null,null,null,null,null,null,null,null,{"$f":"$E$52","v":0},{"$f":"$I$52","v":"0 Right"},{"$f":"$N$52","v":0},{"$f":"$R$52","v":"0 Right"},{"$f":"$W$52","v":0},{"$f":"$AA$52","v":"0 Right"},{"$f":"$AF$52","v":0},{"$f":"$AJ$52","v":"0 Right"}]
[null,null,null,null,null,null,null,null,null,null,null,null,null,null,null,null,null,null,null,null,null,null,null,null,null,null,null,null,null,null,null,null,null,null,null,null,null,{"$f":"$E$53","v":0},{"$f":"$I$53","v":"0 Right"},{"$f":"$N$53","v":0},{"$f":"$R$53","v":"0 Right"},{"$f":"$W$53","v":0},{"$f":"$AA$53","v":"0 Right"},{"$f":"$AF$53","v":0},{"$f":"$AJ$53","v":"0 Right"}]
[null,null,null,null,null,null,null,null,null,null,null,null,null,null,null,null,null,null,null,null,null,null,null,null,null,null,null,null,null,null,null,null,null,null,null,null,null,{"$f":"$E$54","v":0},{"$f":"$I$54","v":"0 Right"},{"$f":"$N$54","v":0},{"$f":"$R$54","v":"0 Right"},{"$f":"$W$54","v":0},{"$f":"$AA$54","v":"0 Right"},{"$f":"$AF$54","v":0},{"$f":"$AJ$54","v":"0 Right"}]
[null,null,null,null,null,null,null,null,null,null,null,null,null,null,null,null,null,null,null,null,null,null,null,null,null,null,null,null,null,null,null,null,null,null,null,null,null,{"$f":"$E$55","v":0},{"$f":"$I$55","v":"0 Right"},{"$f":"$N$55","v":0},{"$f":"$R$55","v":"0 Right"},{"$f":"$W$55","v":0},{"$f":"$AA$55","v":"0 Right"},{"$f":"$AF$55","v":0},{"$f":"$AJ$55","v":"0 Right"}]
[null,null,null,null,null,null,null,null,null,null,null,null,null,null,null,null,null,null,null,null,null,null,null,null,null,null,null,null,null,null,null,null,null,null,null,null,null,{"$f":"$E$56","v":0},{"$f":"$I$56","v":"0 Right"},{"$f":"$N$56","v":0},{"$f":"$R$56","v":"0 Right"},{"$f":"$W$56","v":0},{"$f":"$AA$56","v":"0 Right"},{"$f":"$AF$56","v":0},{"$f":"$AJ$56","v":"0 Right"}]
[null,null,null,null,null,null,null,null,null,null,null,null,null,null,null,null,null,null,null,null,null,null,null,null,null,null,null,null,null,null,null,null,null,null,null,null,null,{"$f":"$E$57","v":0},{"$f":"$I$57","v":"0 Right"},{"$f":"$N$57","v":0},{"$f":"$R$57","v":"0 Right"},{"$f":"$W$57","v":0},{"$f":"$AA$57","v":"0 Right"},{"$f":"$AF$57","v":0},{"$f":"$AJ$57","v":"0 Right"}]
[null,null,null,null,null,null,null,null,null,null,null,null,null,null,null,null,null,null,null,null,null,null,null,null,null,null,null,null,null,null,null,null,null,null,null,null,null,{"$f":"$E$58","v":0},{"$f":"$I$58","v":"0 Right"},{"$f":"$N$58","v":0},{"$f":"$R$58","v":"0 Right"},{"$f":"$W$58","v":0},{"$f":"$AA$58","v":"0 Right"},{"$f":"$AF$58","v":0},{"$f":"$AJ$58","v":"0 Right"}]
[null,null,null,null,null,null,null,null,null,null,null,null,null,null,null,null,null,null,null,null,null,null,null,null,null,null,null,null,null,null,null,null,null,null,null,null,null,{"$f":"$E$59","v":0},{"$f":"$I$59","v":"0 Right"},{"$f":"$N$59","v":0},{"$f":"$R$59","v":"0 Right"},{"$f":"$W$59","v":0},{"$f":"$AA$59","v":"0 Right"},{"$f":"$AF$59","v":0},{"$f":"$AJ$59","v":"0 Right"}]

{"sheet":"30","index":12,"n_rows":101,"n_cols":45,"rows_kept":101,"cut":false,"hidden":true,"merged":[[16,39,16,40],[16,41,16,42],[16,43,16,44],[11,0,13,0],[15,1,15,6],[15,10,15,15],[15,19,15,24],[15,28,15,33],[16,37,16,38],[14,1,14,14],[0,1,0,14],[1,7,1,8],[1,9,1,10],[1,11,1,12],[1,13,1,14],[1,5,1,6],[2,0,4,0],[5,0,7,0],[8,0,10,0],[1,1,1,2],[1,3,1,4]]}
[null,"YOU MAY CHANGE THESE RINK NUMBERS IF YOU WISH"]
["Round",1,null,2,2,3,3,4,4,5,5,6,6,7,7]
[1,1,2,3,4,5,6,7,8,9,10,11,12,13,14]
[null,16,17,18,19,20,21,22,23,24,25,26,27,28,29]
[null,15,30]
[2,5,7,1,13,2,14,3,12,4,15,6,10,9,11]
[null,18,20,30,26,29,27,16,25,17,28,19,23,22,24]
[null,8,21]
[3,3,11,2,14,7,15,1,10,5,8,13,9,4,6]
[null,29,22,28,25,18,26,27,21,16,19,24,20,30,17]
[null,12,23]
[4,4,10,15,11,8,3,14,13,12,6,1,5,7,2]
[null,28,26,24,27,16,19,30,29,20,22,17,21,23,18]
[null,25,9]
[null,"30 on 1 green"]
[null,1,null,null,null,null,null,null,null,null,2,null,null,null,null,null,null,null,null,3,null,null,null,null,null,null,null,null,4]
[null,"no","Left","rink","no","Right","rink","L","R",null,"no","Left","rink","no","Right","rink","L","R",null,"no","Left","rink","no","Right","rink","L","R",null,"no","Left","rink","no","Right","rink","L","R",null,1,null,2,null,3,null,4]
[null,1,"Left",{"$f":"$B$2","v":1},2,"Right",{"$f":"$B$2","v":1},{"$f":"(D18&\" \"&C18)","v":"1 Left"},{"$f":"(G18&\" \"&F18)","v":"1 Right"},null,5,"Left",{"$f":"$B$2","v":1},7,"Right",{"$f":"$B$2","v":1},{"$f":"(M18&\" \"&L18)","v":"1 Left"},{"$f":"(P18&\" \"&O18)","v":"1 Right"},null,3,"Left",{"$f":"$B$2","v":1},11,"Right",{"$f":"$B$2","v":1},{"$f":"(V18&\" \"&U18)","v":"1 Left"},{"$f":"(Y18&\" \"&X18)","v":"1 Right"},null,4,"Left",{"$f":"$B$2","v":1},10,"Right",{"$f":"$B$2","v":1},{"$f":"(AE18&\" \"&AD18)","v":"1 Left"},{"$f":"(AH18&\" \"&AG18)","v":"1 Right"}]
[null,16,"Left",{"$f":"$B$2","v":1},17,"Right",{"$f":"$B$2","v":1},{"$f":"(D19&\" \"&C19)","v":"1 Left"},{"$f":"(G19&\" \"&F19)","v":"1 Right"},null,18,"Left",{"$f":"$B$2","v":1},20,"Right",{"$f":"$B$2","v":1},{"$f":"(M19&\" \"&L19)","v":"1 Left"},{"$f":"(P19&\" \"&O19)","v":"1 Right"},null,29,"Left",{"$f":"$B$2","v":1},22,"Right",{"$f":"$B$2","v":1},{"$f":"(V19&\" \"&U19)","v":"1 Left"},{"$f":"(Y19&\" \"&X19)","v":"1 Right"},null,28,"Left",{"$f":"$B$2","v":1},26,"Right",{"$f":"$B$2","v":1},{"$f":"(AE19&\" \"&AD19)","v":"1 Left"},{"$f":"(AH19&\" \"&AG19)","v":"1 Right"}]
[null,15,"Left",{"$f":"$B$2","v":1},30,"Right",{"$f":"$B$2","v":1},"1 Left","1 Right",null,8,"Left",{"$f":"$B$2","v":1},21,"Right",{"$f":"$B$2","v":1},"1 Left","1 Right",null,12,"Left",{"$f":"$B$2","v":1},23,"Right",{"$f":"$B$2","v":1},"1 Left","1 Right",null,25,"Left",{"$f":"$B$2","v":1},9,"Right",{"$f":"$B$2","v":1},"1 Left","1 Right"]
[null,3,"Left",{"$f":"$D$2","v":2},4,"Right",{"$f":"$D$2","v":2},"2 Left","2 Right",null,1,"Left",{"$f":"$D$2","v":2},13,"Right",{"$f":"$D$2","v":2},"2 Left","2 Right",null,2,"Left",{"$f":"$D$2","v":2},14,"Right",{"$f":"$D$2","v":2},"2 Left","2 Right",null,15,"Left",{"$f":"$D$2","v":2},11,"Right",{"$f":"$D$2","v":2},"2 Left","2 Right"]
[null,18,"Left",{"$f":"$D$2","v":2},19,"Right",{"$f":"$D$2","v":2},"2 Left","2 Right",null,30,"Left",{"$f":"$D$2","v":2},26,"Right",{"$f":"$D$2","v":2},"2 Left","2 Right",null,28,"Left",{"$f":"$D$2","v":2},25,"Right",{"$f":"$D$2","v":2},"2 Left","2 Right",null,24,"Left",{"$f":"$D$2","v":2},27,"Right",{"$f":"$D$2","v":2},"2 Left","2 Right"]
[null,null,"Left",{"$f":"$D$2","v":2},null,"Right",{"$f":"$D$2","v":2},"2 Left","2 Right",null,null,"Left",{"$f":"$D$2","v":2},null,"Right",{"$f":"$D$2","v":2},"2 Left","2 Right",null,null,"Left",{"$f":"$D$2","v":2},null,"Right",{"$f":"$D$2","v":2},"2 Left","2 Right",null,null,"Left",{"$f":"$D$2","v":2},null,"Right",{"$f":"$D$2","v":2},"2 Left","2 Right"]
[null,5,"Left",{"$f":"$F$2","v":3},6,"Right",{"$f":"$F$2","v":3},"3 Left","3 Right",null,2,"Left",{"$f":"$F$2","v":3},14,"Right",{"$f":"$F$2","v":3},"3 Left","3 Right",null,7,"Left",{"$f":"$F$2","v":3},15,"Right",{"$f":"$F$2","v":3},"3 Left","3 Right",null,8,"Left",{"$f":"$F$2","v":3},3,"Right",{"$f":"$F$2","v":3},"3 Left","3 Right"]
[null,20,"Left",{"$f":"$F$2","v":3},21,"Right",{"$f":"$F$2","v":3},"3 Left","3 Right",null,29,"Left",{"$f":"$F$2","v":3},27,"Right",{"$f":"$F$2","v":3},"3 Left","3 Right",null,18,"Left",{"$f":"$F$2","v":3},26,"Right",{"$f":"$F$2","v":3},"3 Left","3 Right",null,16,"Left",{"$f":"$F$2","v":3},19,"Right",{"$f":"$F$2","v":3},"3 Left","3 Right"]
[null,null,"Left",{"$f":"$F$2","v":3},null,"Right",{"$f":"$F$2","v":3},"3 Left","3 Right",null,null,"Left",{"$f":"$F$2","v":3},null,"Right",{"$f":"$F$2","v":3},"3 Left","3 Right",null,null,"Left",{"$f":"$F$2","v":3},null,"Right",{"$f":"$F$2","v":3},"3 Left","3 Right",null,null,"Left",{"$f":"$F$2","v":3},null,"Right",{"$f":"$F$2","v":3},"3 Left","3 Right"]
[null,7,"Left",{"$f":"$H$2","v":4},8,"Right",{"$f":"$H$2","v":4},"4 Left","4 Right",null,3,"Left",{"$f":"$H$2","v":4},12,"Right",{"$f":"$H$2","v":4},"4 Left","4 Right",null,1,"Left",{"$f":"$H$2","v":4},10,"Right",{"$f":"$H$2","v":4},"4 Left","4 Right",null,14,"Left",{"$f":"$H$2","v":4},13,"Right",{"$f":"$H$2","v":4},"4 Left","4 Right"]
[null,22,"Left",{"$f":"$H$2","v":4},23,"Right",{"$f":"$H$2","v":4},"4 Left","4 Right",null,16,"Left",{"$f":"$H$2","v":4},25,"Right",{"$f":"$H$2","v":4},"4 Left","4 Right",null,27,"Left",{"$f":"$H$2","v":4},21,"Right",{"$f":"$H$2","v":4},"4 Left","4 Right",null,30,"Left",{"$f":"$H$2","v":4},29,"Right",{"$f":"$H$2","v":4},"4 Left","4 Right"]
[null,null,"Left",4,null,"Right",4,"4 Left","4 Right",null,null,"Left",4,null,"Right",4,"4 Left","4 Right",null,null,"Left",4,null,"Right",4,"4 Left","4 Right",null,null,"Left",4,null,"Right",4,"4 Left","4 Right"]
[null,9,"Left",{"$f":"$J$2","v":5},10,"Right",{"$f":"$J$2","v":5},"5 Left","5 Right",null,4,"Left",{"$f":"$J$2","v":5},15,"Right",{"$f":"$J$2","v":5},"5 Left","5 Right",null,5,"Left",{"$f":"$J$2","v":5},8,"Right",{"$f":"$J$2","v":5},"5 Left","5 Right",null,12,"Left",{"$f":"$J$2","v":5},6,"Right",{"$f":"$J$2","v":5},"5 Left","5 Right"]
[null,24,"Left",{"$f":"$J$2","v":5},25,"Right",{"$f":"$J$2","v":5},"5 Left","5 Right",null,17,"Left",{"$f":"$J$2","v":5},28,"Right",{"$f":"$J$2","v":5},"5 Left","5 Right",null,16,"Left",{"$f":"$J$2","v":5},19,"Right",{"$f":"$J$2","v":5},"5 Left","5 Right",null,20,"Left",{"$f":"$J$2","v":5},22,"Right",{"$f":"$J$2","v":5},"5 Left","5 Right"]
[null,null,"Left",5,null,"Right",5,"5 Left","5 Right",null,null,"Left",5,null,"Right",5,"5 Left","5 Right",null,null,"Left",5,null,"Right",5,"5 Left","5 Right",null,null,"Left",5,null,"Right",5,"5 Left","5 Right"]
[null,11,"Left",{"$f":"$L$2","v":6},12,"Right",{"$f":"$L$2","v":6},"6 Left","6 Right",null,6,"Left",{"$f":"$L$2","v":6},10,"Right",{"$f":"$L$2","v":6},"6 Left","6 Right",null,13,"Left",{"$f":"$L$2","v":6},9,"Right",{"$f":"$L$2","v":6},"6 Left","6 Right",null,1,"Left",{"$f":"$L$2","v":6},5,"Right",{"$f":"$L$2","v":6},"6 Left","6 Right"]
[null,26,"Left",{"$f":"$L$2","v":6},27,"Right",{"$f":"$L$2","v":6},"6 Left","6 Right",null,19,"Left",{"$f":"$L$2","v":6},23,"Right",{"$f":"$L$2","v":6},"6 Left","6 Right",null,24,"Left",{"$f":"$L$2","v":6},20,"Right",{"$f":"$L$2","v":6},"6 Left","6 Right",null,17,"Left",{"$f":"$L$2","v":6},21,"Right",{"$f":"$L$2","v":6},"6 Left","6 Right"]
[null,null,"Left",6,null,"Right",6,"6 Left","6 Right",null,null,"Left",6,null,"Right",6,"6 Left","6 Right",null,null,"Left",6,null,"Right",6,"6 Left","6 Right",null,null,"Left",6,null,"Right",6,"6 Left","6 Right"]
[null,13,"Left",{"$f":"$N$2","v":7},14,"Right",{"$f":"$N$2","v":7},"7 Left","7 Right",null,9,"Left",{"$f":"$N$2","v":7},11,"Right",{"$f":"$N$2","v":7},"7 Left","7 Right",null,4,"Left",{"$f":"$N$2","v":7},6,"Right",{"$f":"$N$2","v":7},"7 Left","7 Right",null,7,"Left",{"$f":"$N$2","v":7},2,"Right",{"$f":"$N$2","v":7},"7 Left","7 Right"]
[null,28,"Left",{"$f":"$N$2","v":7},29,"Right",{"$f":"$N$2","v":7},"7 Left","7 Right",null,22,"Left",{"$f":"$N$2","v":7},24,"Right",{"$f":"$N$2","v":7},"7 Left","7 Right",null,30,"Left",{"$f":"$N$2","v":7},17,"Right",{"$f":"$N$2","v":7},"7 Left","7 Right",null,23,"Left",{"$f":"$N$2","v":7},18,"Right",{"$f":"$N$2","v":7},"7 Left","7 Right"]
[null,null,"Left",7,null,"Right",7,"7 Left","7 Right",null,null,"Left",7,null,"Right",7,"7 Left","7 Right",null,null,"Left",7,null,"Right",7,"7 Left","7 Right",null,null,"Left",7,null,"Right",7,"7 Left","7 Right"]
[null,null,"Left",{"$f":"$P$2","v":0},null,"Right",{"$f":"$P$2","v":0},"0 Left","0 Right",null,null,"Left",{"$f":"$P$2","v":0},null,"Right",{"$f":"$P$2","v":0},"0 Left","0 Right",null,null,"Left",{"$f":"$P$2","v":0},null,"Right",{"$f":"$P$2","v":0},"0 Left","0 Right",null,null,"Left",{"$f":"$P$2","v":0},null,"Right",{"$f":"$P$2","v":0},"0 Left","0 Right"]
[null,null,"Left",{"$f":"$P$2","v":0},null,"Right",{"$f":"$P$2","v":0},"0 Left","0 Right",null,null,"Left",{"$f":"$P$2","v":0},null,"Right",{"$f":"$P$2","v":0},"0 Left","0 Right",null,null,"Left",{"$f":"$P$2","v":0},null,"Right",{"$f":"$P$2","v":0},"0 Left","0 Right",null,null,"Left",{"$f":"$P$2","v":0},null,"Right",{"$f":"$P$2","v":0},"0 Left","0 Right"]
[null,null,"Left",0,null,"Right",0,"0 Left","0 Right",null,null,"Left",0,null,"Right",0,"0 Left","0 Right",null,null,"Left",0,null,"Right",0,"0 Left","0 Right",null,null,"Left",0,null,"Right",0,"0 Left","0 Right"]
[null,null,"Left",{"$f":"$R$2","v":0},null,"Right",{"$f":"$R$2","v":0},"0 Left","0 Right",null,null,"Left",{"$f":"$R$2","v":0},null,"Right",{"$f":"$R$2","v":0},"0 Left","0 Right",null,null,"Left",{"$f":"$R$2","v":0},null,"Right",{"$f":"$R$2","v":0},"0 Left","0 Right",null,null,"Left",{"$f":"$R$2","v":0},null,"Right",{"$f":"$R$2","v":0},"0 Left","0 Right"]
[null,null,"Left",{"$f":"$R$2","v":0},null,"Right",{"$f":"$R$2","v":0},"0 Left","0 Right",null,null,"Left",{"$f":"$R$2","v":0},null,"Right",{"$f":"$R$2","v":0},"0 Left","0 Right",null,null,"Left",{"$f":"$R$2","v":0},null,"Right",{"$f":"$R$2","v":0},"0 Left","0 Right",null,null,"Left",{"$f":"$R$2","v":0},null,"Right",{"$f":"$R$2","v":0},"0 Left","0 Right"]
[null,null,"Left",0,null,"Right",0,"0 Left","0 Right",null,null,"Left",0,null,"Right",0,"0 Left","0 Right",null,null,"Left",0,null,"Right",0,"0 Left","0 Right",null,null,"Left",0,null,"Right",0,"0 Left","0 Right"]
[null,null,"Left",{"$f":"$T$2","v":0},null,"Right",{"$f":"$T$2","v":0},"0 Left","0 Right",null,null,"Left",{"$f":"$T$2","v":0},null,"Right",{"$f":"$T$2","v":0},"0 Left","0 Right",null,null,"Left",{"$f":"$T$2","v":0},null,"Right",{"$f":"$T$2","v":0},"0 Left","0 Right",null,null,"Left",{"$f":"$T$2","v":0},null,"Right",{"$f":"$T$2","v":0},"0 Left","0 Right"]
[null,null,"Left",{"$f":"$T$2","v":0},null,"Right",{"$f":"$T$2","v":0},"0 Left","0 Right",null,null,"Left",{"$f":"$T$2","v":0},null,"Right",{"$f":"$T$2","v":0},"0 Left","0 Right",null,null,"Left",{"$f":"$T$2","v":0},null,"Right",{"$f":"$T$2","v":0},"0 Left","0 Right",null,null,"Left",{"$f":"$T$2","v":0},null,"Right",{"$f":"$T$2","v":0},"0 Left","0 Right"]
[null,null,"Left",0,null,"Right",0,"0 Left","0 Right",null,null,"Left",0,null,"Right",0,"0 Left","0 Right",null,null,"Left",0,null,"Right",0,"0 Left","0 Right",null,null,"Left",0,null,"Right",0,"0 Left","0 Right"]
[null,null,"Left",{"$f":"$V$2","v":0},null,"Right",{"$f":"$V$2","v":0},"0 Left","0 Right",null,null,"Left",{"$f":"$V$2","v":0},null,"Right",{"$f":"$V$2","v":0},"0 Left","0 Right",null,null,"Left",{"$f":"$V$2","v":0},null,"Right",{"$f":"$V$2","v":0},"0 Left","0 Right",null,null,"Left",{"$f":"$V$2","v":0},null,"Right",{"$f":"$V$2","v":0},"0 Left","0 Right",null,{"$f":"$B$39","v":0},{"$f":"$H$39","v":"0 Left"},{"$f":"$K$23","v":0},{"$f":"$Q$23","v":"2 Left"},{"$f":"$T$23","v":0},{"$f":"$Z$23","v":"2 Left"},{"$f":"$AC$23","v":0},{"$f":"$AI$23","v":"2 Left"}]
[null,null,"Left",{"$f":"$V$2","v":0},null,"Right",{"$f":"$V$2","v":0},"0 Left","0 Right",null,null,"Left",{"$f":"$V$2","v":0},null,"Right",{"$f":"$V$2","v":0},"0 Left","0 Right",null,null,"Left",{"$f":"$V$2","v":0},null,"Right",{"$f":"$V$2","v":0},"0 Left","0 Right",null,null,"Left",{"$f":"$V$2","v":0},null,"Right",{"$f":"$V$2","v":0},"0 Left","0 Right",null,{"$f":"$E$39","v":0},{"$f":"$I$39","v":"0 Right"},{"$f":"$K$26","v":0},{"$f":"$Q$26","v":"3 Left"},{"$f":"$T$26","v":0},{"$f":"$Z$26","v":"3 Left"},{"$f":"$AC$26","v":0},{"$f":"$AI$26","v":"3 Left"}]
[null,null,"Left",0,null,"Right",0,"0 Left","0 Right",null,null,"Left",0,null,"Right",0,"0 Left","0 Right",null,null,"Left",0,null,"Right",0,"0 Left","0 Right",null,null,"Left",0,null,"Right",0,"0 Left","0 Right",null,{"$f":"$B$42","v":0},{"$f":"$H$42","v":"0 Left"},{"$f":"$K$29","v":0},{"$f":"$Q$29","v":"4 Left"},{"$f":"$T$29","v":0},{"$f":"$Z$29","v":"4 Left"},{"$f":"$AC$29","v":0},{"$f":"$AI$29","v":"4 Left"}]
[null,null,"Left",{"$f":"$X$2","v":0},null,"Right",{"$f":"$X$2","v":0},"0 Left","0 Right",null,null,"Left",{"$f":"$X$2","v":0},null,"Right",{"$f":"$X$2","v":0},"0 Left","0 Right",null,null,"Left",{"$f":"$X$2","v":0},null,"Right",{"$f":"$X$2","v":0},"0 Left","0 Right",null,null,"Left",{"$f":"$X$2","v":0},null,"Right",{"$f":"$X$2","v":0},"0 Left","0 Right",null,{"$f":"$E$42","v":0},{"$f":"$I$42","v":"0 Right"},{"$f":"$K$32","v":0},{"$f":"$Q$32","v":"5 Left"},{"$f":"$T$32","v":0},{"$f":"$Z$32","v":"5 Left"},{"$f":"$AC$32","v":0},{"$f":"$AI$32","v":"5 Left"}]
[null,null,"Left",{"$f":"$X$2","v":0},null,"Right",{"$f":"$X$2","v":0},"0 Left","0 Right",null,null,"Left",{"$f":"$X$2","v":0},null,"Right",{"$f":"$X$2","v":0},"0 Left","0 Right",null,null,"Left",{"$f":"$X$2","v":0},null,"Right",{"$f":"$X$2","v":0},"0 Left","0 Right",null,null,"Left",{"$f":"$X$2","v":0},null,"Right",{"$f":"$X$2","v":0},"0 Left","0 Right",null,{"$f":"$B$45","v":0},{"$f":"$H$45","v":"0 Left"},{"$f":"$K$35","v":0},{"$f":"$Q$35","v":"6 Left"},{"$f":"$T$35","v":0},{"$f":"$Z$35","v":"6 Left"},{"$f":"$AC$35","v":0},{"$f":"$AI$35","v":"6 Left"}]
[null,null,"Left",0,null,"Right",0,"0 Left","0 Right",null,null,"Left",0,null,"Right",0,"0 Left","0 Right",null,null,"Left",0,null,"Right",0,"0 Left","0 Right",null,null,"Left",0,null,"Right",0,"0 Left","0 Right",null,{"$f":"$E$45","v":0},{"$f":"$I$45","v":"0 Right"},{"$f":"$K$38","v":0},{"$f":"$Q$38","v":"7 Left"},{"$f":"$T$38","v":0},{"$f":"$Z$38","v":"7 Left"},{"$f":"$AC$38","v":0},{"$f":"$AI$38","v":"7 Left"}]
[null,null,"Left",{"$f":"$Z$2","v":0},null,"Right",{"$f":"$Z$2","v":0},"0 Left","0 Right",null,null,"Left",{"$f":"$Z$2","v":0},null,"Right",{"$f":"$Z$2","v":0},"0 Left","0 Right",null,null,"Left",{"$f":"$Z$2","v":0},null,"Right",{"$f":"$Z$2","v":0},"0 Left","0 Right",null,null,"Left",{"$f":"$Z$2","v":0},null,"Right",{"$f":"$Z$2","v":0},"0 Left","0 Right",null,{"$f":"$B$40","v":0},{"$f":"$H$40","v":"0 Left"},{"$f":"$K$39","v":0},{"$f":"$Q$39","v":"0 Left"},{"$f":"$T$39","v":0},{"$f":"$Z$39","v":"0 Left"},{"$f":"$AC$39","v":0},{"$f":"$AI$39","v":"0 Left"}]
[null,null,"Left",{"$f":"$Z$2","v":0},null,"Right",{"$f":"$Z$2","v":0},"0 Left","0 Right",null,null,"Left",{"$f":"$Z$2","v":0},null,"Right",{"$f":"$Z$2","v":0},"0 Left","0 Right",null,null,"Left",{"$f":"$Z$2","v":0},null,"Right",{"$f":"$Z$2","v":0},"0 Left","0 Right",null,null,"Left",{"$f":"$Z$2","v":0},null,"Right",{"$f":"$Z$2","v":0},"0 Left","0 Right",null,{"$f":"$E$40","v":0},{"$f":"$I$40","v":"0 Right"},{"$f":"$K$40","v":0},{"$f":"$Q$40","v":"0 Left"},{"$f":"$T$40","v":0},{"$f":"$Z$40","v":"0 Left"},{"$f":"$AC$40","v":0},{"$f":"$AI$40","v":"0 Left"}]
[null,null,"Left",0,null,"Right",0,"0 Left","0 Right",null,null,"Left",0,null,"Right",0,"0 Left","0 Right",null,null,"Left",0,null,"Right",0,"0 Left","0 Right",null,null,"Left",0,null,"Right",0,"0 Left","0 Right",null,{"$f":"$B$43","v":0},{"$f":"$H$43","v":"0 Left"},{"$f":"$K$41","v":0},{"$f":"$Q$41","v":"0 Left"},{"$f":"$T$41","v":0},{"$f":"$Z$41","v":"0 Left"},{"$f":"$AC$41","v":0},{"$f":"$AI$41","v":"0 Left"}]
[null,null,"Left",{"$f":"$AB$2","v":0},null,"Right",{"$f":"$AB$2","v":0},"0 Left","0 Right",null,null,"Left",{"$f":"$AB$2","v":0},null,"Right",{"$f":"$AB$2","v":0},"0 Left","0 Right",null,null,"Left",{"$f":"$AB$2","v":0},null,"Right",{"$f":"$AB$2","v":0},"0 Left","0 Right",null,null,"Left",{"$f":"$AB$2","v":0},null,"Right",{"$f":"$AB$2","v":0},"0 Left","0 Right",null,{"$f":"$E$43","v":0},{"$f":"$I$43","v":"0 Right"},{"$f":"$K$42","v":0},{"$f":"$Q$42","v":"0 Left"},{"$f":"$T$42","v":0},{"$f":"$Z$42","v":"0 Left"},{"$f":"$AC$42","v":0},{"$f":"$AI$42","v":"0 Left"}]
[null,null,"Left",{"$f":"$AB$2","v":0},null,"Right",{"$f":"$AB$2","v":0},"0 Left","0 Right",null,null,"Left",{"$f":"$AB$2","v":0},null,"Right",{"$f":"$AB$2","v":0},"0 Left","0 Right",null,null,"Left",{"$f":"$AB$2","v":0},null,"Right",{"$f":"$AB$2","v":0},"0 Left","0 Right",null,null,"Left",{"$f":"$AB$2","v":0},null,"Right",{"$f":"$AB$2","v":0},"0 Left","0 Right",null,{"$f":"$B$46","v":0},{"$f":"$H$46","v":"0 Left"},{"$f":"$K$43","v":0},{"$f":"$Q$43","v":"0 Left"},{"$f":"$T$43","v":0},{"$f":"$Z$43","v":"0 Left"},{"$f":"$AC$43","v":0},{"$f":"$AI$43","v":"0 Left"}]
[null,null,"Left",0,null,"Right",0,"0 Left","0 Right",null,null,"Left",0,null,"Right",0,"0 Left","0 Right",null,null,"Left",0,null,"Right",0,"0 Left","0 Right",null,null,"Left",0,null,"Right",0,"0 Left","0 Right",null,{"$f":"$E$46","v":0},{"$f":"$I$46","v":"0 Right"},{"$f":"$K$44","v":0},{"$f":"$Q$44","v":"0 Left"},{"$f":"$T$44","v":0},{"$f":"$Z$44","v":"0 Left"},{"$f":"$AC$44","v":0},{"$f":"$AI$44","v":"0 Left"}]
[null,null,null,null,null,null,null,null,null,null,null,null,null,null,null,null,null,null,null,null,null,null,null,null,null,null,null,null,null,null,null,null,null,null,null,null,null,{"$f":"$B$23","v":0},{"$f":"$H$23","v":"2 Left"},{"$f":"$K$45","v":0},{"$f":"$Q$45","v":"0 Left"},{"$f":"$T$45","v":0},{"$f":"$Z$45","v":"0 Left"},{"$f":"$AC$45","v":0},{"$f":"$AI$45","v":"0 Left"}]
[null,null,null,null,null,null,null,null,null,null,null,null,null,null,null,null,null,null,null,null,null,null,null,null,null,null,null,null,null,null,null,null,null,null,null,null,null,{"$f":"$B$26","v":0},{"$f":"$H$26","v":"3 Left"},{"$f":"$K$46","v":0},{"$f":"$Q$46","v":"0 Left"},{"$f":"$T$46","v":0},{"$f":"$Z$46","v":"0 Left"},{"$f":"$AC$46","v":0},{"$f":"$AI$46","v":"0 Left"}]
[null,null,null,null,null,null,null,null,null,null,null,null,null,null,null,null,null,null,null,null,null,null,null,null,null,null,null,null,null,null,null,null,null,null,null,null,null,{"$f":"$B$29","v":0},{"$f":"$H$29","v":"4 Left"},{"$f":"$K$47","v":0},{"$f":"$Q$47","v":"0 Left"},{"$f":"$T$47","v":0},{"$f":"$Z$47","v":"0 Left"},{"$f":"$AC$47","v":0},{"$f":"$AI$47","v":"0 Left"}]
[null,null,null,null,null,null,null,null,null,null,null,null,null,null,null,null,null,null,null,null,null,null,null,null,null,null,null,null,null,null,null,null,null,null,null,null,null,{"$f":"$B$32","v":0},{"$f":"$H$32","v":"5 Left"},{"$f":"$K$48","v":0},{"$f":"$Q$48","v":"0 Left"},{"$f":"$T$48","v":0},{"$f":"$Z$48","v":"0 Left"},{"$f":"$AC$48","v":0},{"$f":"$AI$48","v":"0 Left"}]
[null,null,null,null,null,null,null,null,null,null,null,null,null,null,null,null,null,null,null,null,null,null,null,null,null,null,null,null,null,null,null,null,null,null,null,null,null,{"$f":"$B$35","v":0},{"$f":"$H$35","v":"6 Left"},{"$f":"$K$49","v":0},{"$f":"$Q$49","v":"0 Left"},{"$f":"$T$49","v":0},{"$f":"$Z$49","v":"0 Left"},{"$f":"$AC$49","v":0},{"$f":"$AI$49","v":"0 Left"}]
[null,null,null,null,null,null,null,null,null,null,null,null,null,null,null,null,null,null,null,null,null,null,null,null,null,null,null,null,null,null,null,null,null,null,null,null,null,{"$f":"$B$38","v":0},{"$f":"$H$38","v":"7 Left"},{"$f":"$K$50","v":0},{"$f":"$Q$50","v":"0 Left"},{"$f":"$T$50","v":0},{"$f":"$Z$50","v":"0 Left"},{"$f":"$AC$50","v":0},{"$f":"$AI$50","v":"0 Left"}]
[null,null,null,null,null,null,null,null,null,null,null,null,null,null,null,null,null,null,null,null,null,null,null,null,null,null,null,null,null,null,null,null,null,null,null,null,null,{"$f":"$B$41","v":0},{"$f":"$H$41","v":"0 Left"},{"$f":"$K$51","v":0},{"$f":"$Q$51","v":"0 Left"},{"$f":"$T$51","v":0},{"$f":"$Z$51","v":"0 Left"},{"$f":"$AC$51","v":0},{"$f":"$AI$51","v":"0 Left"}]
[null,null,null,null,null,null,null,null,null,null,null,null,null,null,null,null,null,null,null,null,null,null,null,null,null,null,null,null,null,null,null,null,null,null,null,null,null,{"$f":"$B$44","v":0},{"$f":"$H$44","v":"0 Left"},{"$f":"$K$52","v":0},{"$f":"$Q$52","v":"0 Left"},{"$f":"$T$52","v":0},{"$f":"$Z$52","v":"0 Left"},{"$f":"$AC$52","v":0},{"$f":"$AI$52","v":"0 Left"}]
[null,null,null,null,null,null,null,null,null,null,null,null,null,null,null,null,null,null,null,null,null,null,null,null,null,null,null,null,null,null,null,null,null,null,null,null,null,{"$f":"$B$47","v":0},{"$f":"$H$47","v":"0 Left"},{"$f":"$K$53","v":0},{"$f":"$Q$53","v":"0 Left"},{"$f":"$T$53","v":0},{"$f":"$Z$53","v":"0 Left"},{"$f":"$AC$53","v":0},{"$f":"$AI$53","v":"0 Left"}]
[null,null,null,null,null,null,null,null,null,null,null,null,null,null,null,null,null,null,null,null,null,null,null,null,null,null,null,null,null,null,null,null,null,null,null,null,null,{"$f":"$B$48","v":0},{"$f":"$H$48","v":"0 Left"},{"$f":"$K$54","v":0},{"$f":"$Q$54","v":"0 Left"},{"$f":"$T$54","v":0},{"$f":"$Z$54","v":"0 Left"},{"$f":"$AC$54","v":0},{"$f":"$AI$54","v":"0 Left"}]
[null,null,null,null,null,null,null,null,null,null,null,null,null,null,null,null,null,null,null,null,null,null,null,null,null,null,null,null,null,null,null,null,null,null,null,null,null,{"$f":"$B$49","v":0},{"$f":"$H$49","v":"0 Left"},{"$f":"$K$55","v":0},{"$f":"$Q$55","v":"0 Left"},{"$f":"$T$55","v":0},{"$f":"$Z$55","v":"0 Left"},{"$f":"$AC$55","v":0},{"$f":"$AI$55","v":"0 Left"}]
[null,null,null,null,null,null,null,null,null,null,null,null,null,null,null,null,null,null,null,null,null,null,null,null,null,null,null,null,null,null,null,null,null,null,null,null,null,{"$f":"$B$50","v":0},{"$f":"$H$50","v":"0 Left"},{"$f":"$K$56","v":0},{"$f":"$Q$56","v":"0 Left"},{"$f":"$T$56","v":0},{"$f":"$Z$56","v":"0 Left"},{"$f":"$AC$56","v":0},{"$f":"$AI$56","v":"0 Left"}]
[null,null,null,null,null,null,null,null,null,null,null,null,null,null,null,null,null,null,null,null,null,null,null,null,null,null,null,null,null,null,null,null,null,null,null,null,null,{"$f":"$B$51","v":0},{"$f":"$H$51","v":"0 Left"},{"$f":"$K$57","v":0},{"$f":"$Q$57","v":"0 Left"},{"$f":"$T$57","v":0},{"$f":"$Z$57","v":"0 Left"},{"$f":"$AC$57","v":0},{"$f":"$AI$57","v":"0 Left"}]
[null,null,null,null,null,null,null,null,null,null,null,null,null,null,null,null,null,null,null,null,null,null,null,null,null,null,null,null,null,null,null,null,null,null,null,null,null,{"$f":"$B$52","v":0},{"$f":"$H$52","v":"0 Left"},{"$f":"$K$58","v":0},{"$f":"$Q$58","v":"0 Left"},{"$f":"$T$58","v":0},{"$f":"$Z$58","v":"0 Left"},{"$f":"$AC$58","v":0},{"$f":"$AI$58","v":"0 Left"}]
[null,null,null,null,null,null,null,null,null,null,null,null,null,null,null,null,null,null,null,null,null,null,null,null,null,null,null,null,null,null,null,null,null,null,null,null,null,{"$f":"$B$53","v":0},{"$f":"$H$53","v":"0 Left"},{"$f":"$K$59","v":0},{"$f":"$Q$59","v":"0 Left"},{"$f":"$T$59","v":0},{"$f":"$Z$59","v":"0 Left"},{"$f":"$AC$59","v":0},{"$f":"$AI$59","v":"0 Left"}]
[null,null,null,null,null,null,null,null,null,null,null,null,null,null,null,null,null,null,null,null,null,null,null,null,null,null,null,null,null,null,null,null,null,null,null,null,null,{"$f":"$B$54","v":0},{"$f":"$H$54","v":"0 Left"},{"$f":"$N$23","v":0},{"$f":"$R$23","v":"2 Right"},{"$f":"$W$23","v":0},{"$f":"$AA$23","v":"2 Right"},{"$f":"$AF$23","v":0},{"$f":"$AJ$23","v":"2 Right"}]
[null,null,null,null,null,null,null,null,null,null,null,null,null,null,null,null,null,null,null,null,null,null,null,null,null,null,null,null,null,null,null,null,null,null,null,null,null,{"$f":"$B$55","v":0},{"$f":"$H$55","v":"0 Left"},{"$f":"$N$26","v":0},{"$f":"$R$26","v":"3 Right"},{"$f":"$W$26","v":0},{"$f":"$AA$26","v":"3 Right"},{"$f":"$AF$26","v":0},{"$f":"$AJ$26","v":"3 Right"}]
[null,null,null,null,null,null,null,null,null,null,null,null,null,null,null,null,null,null,null,null,null,null,null,null,null,null,null,null,null,null,null,null,null,null,null,null,null,{"$f":"$B$56","v":0},{"$f":"$H$56","v":"0 Left"},{"$f":"$N$29","v":0},{"$f":"$R$29","v":"4 Right"},{"$f":"$W$29","v":0},{"$f":"$AA$29","v":"4 Right"},{"$f":"$AF$29","v":0},{"$f":"$AJ$29","v":"4 Right"}]
[null,null,null,null,null,null,null,null,null,null,null,null,null,null,null,null,null,null,null,null,null,null,null,null,null,null,null,null,null,null,null,null,null,null,null,null,null,{"$f":"$B$57","v":0},{"$f":"$H$57","v":"0 Left"},{"$f":"$N$32","v":0},{"$f":"$R$32","v":"5 Right"},{"$f":"$W$32","v":0},{"$f":"$AA$32","v":"5 Right"},{"$f":"$AF$32","v":0},{"$f":"$AJ$32","v":"5 Right"}]
[null,null,null,null,null,null,null,null,null,null,null,null,null,null,null,null,null,null,null,null,null,null,null,null,null,null,null,null,null,null,null,null,null,null,null,null,null,{"$f":"$B$58","v":0},{"$f":"$H$58","v":"0 Left"},{"$f":"$N$35","v":0},{"$f":"$R$35","v":"6 Right"},{"$f":"$W$35","v":0},{"$f":"$AA$35","v":"6 Right"},{"$f":"$AF$35","v":0},{"$f":"$AJ$35","v":"6 Right"}]
[null,null,null,null,null,null,null,null,null,null,null,null,null,null,null,null,null,null,null,null,null,null,null,null,null,null,null,null,null,null,null,null,null,null,null,null,null,{"$f":"$B$59","v":0},{"$f":"$H$59","v":"0 Left"},{"$f":"$N$38","v":0},{"$f":"$R$38","v":"7 Right"},{"$f":"$W$38","v":0},{"$f":"$AA$38","v":"7 Right"},{"$f":"$AF$38","v":0},{"$f":"$AJ$38","v":"7 Right"}]
[null,null,null,null,null,null,null,null,null,null,null,null,null,null,null,null,null,null,null,null,null,null,null,null,null,null,null,null,null,null,null,null,null,null,null,null,null,{"$f":"$E$23","v":0},{"$f":"$I$23","v":"2 Right"},{"$f":"$N$39","v":0},{"$f":"$R$39","v":"0 Right"},{"$f":"$W$39","v":0},{"$f":"$AA$39","v":"0 Right"},{"$f":"$AF$39","v":0},{"$f":"$AJ$39","v":"0 Right"}]
[null,null,null,null,null,null,null,null,null,null,null,null,null,null,null,null,null,null,null,null,null,null,null,null,null,null,null,null,null,null,null,null,null,null,null,null,null,{"$f":"$E$26","v":0},{"$f":"$I$26","v":"3 Right"},{"$f":"$N$40","v":0},{"$f":"$R$40","v":"0 Right"},{"$f":"$W$40","v":0},{"$f":"$AA$40","v":"0 Right"},{"$f":"$AF$40","v":0},{"$f":"$AJ$40","v":"0 Right"}]
[null,null,null,null,null,null,null,null,null,null,null,null,null,null,null,null,null,null,null,null,null,null,null,null,null,null,null,null,null,null,null,null,null,null,null,null,null,{"$f":"$E$29","v":0},{"$f":"$I$29","v":"4 Right"},{"$f":"$N$41","v":0},{"$f":"$R$41","v":"0 Right"},{"$f":"$W$41","v":0},{"$f":"$AA$41","v":"0 Right"},{"$f":"$AF$41","v":0},{"$f":"$AJ$41","v":"0 Right"}]
[null,null,null,null,null,null,null,null,null,null,null,null,null,null,null,null,null,null,null,null,null,null,null,null,null,null,null,null,null,null,null,null,null,null,null,null,null,{"$f":"$E$32","v":0},{"$f":"$I$32","v":"5 Right"},{"$f":"$N$42","v":0},{"$f":"$R$42","v":"0 Right"},{"$f":"$W$42","v":0},{"$f":"$AA$42","v":"0 Right"},{"$f":"$AF$42","v":0},{"$f":"$AJ$42","v":"0 Right"}]
[null,null,null,null,null,null,null,null,null,null,null,null,null,null,null,null,null,null,null,null,null,null,null,null,null,null,null,null,null,null,null,null,null,null,null,null,null,{"$f":"$E$35","v":0},{"$f":"$I$35","v":"6 Right"},{"$f":"$N$43","v":0},{"$f":"$R$43","v":"0 Right"},{"$f":"$W$43","v":0},{"$f":"$AA$43","v":"0 Right"},{"$f":"$AF$43","v":0},{"$f":"$AJ$43","v":"0 Right"}]
[null,null,null,null,null,null,null,null,null,null,null,null,null,null,null,null,null,null,null,null,null,null,null,null,null,null,null,null,null,null,null,null,null,null,null,null,null,{"$f":"$E$38","v":0},{"$f":"$I$38","v":"7 Right"},{"$f":"$N$44","v":0},{"$f":"$R$44","v":"0 Right"},{"$f":"$W$44","v":0},{"$f":"$AA$44","v":"0 Right"},{"$f":"$AF$44","v":0},{"$f":"$AJ$44","v":"0 Right"}]
[null,null,null,null,null,null,null,null,null,null,null,null,null,null,null,null,null,null,null,null,null,null,null,null,null,null,null,null,null,null,null,null,null,null,null,null,null,{"$f":"$E$41","v":0},{"$f":"$I$41","v":"0 Right"},{"$f":"$N$45","v":0},{"$f":"$R$45","v":"0 Right"},{"$f":"$W$45","v":0},{"$f":"$AA$45","v":"0 Right"},{"$f":"$AF$45","v":0},{"$f":"$AJ$45","v":"0 Right"}]
[null,null,null,null,null,null,null,null,null,null,null,null,null,null,null,null,null,null,null,null,null,null,null,null,null,null,null,null,null,null,null,null,null,null,null,null,null,{"$f":"$E$44","v":0},{"$f":"$I$44","v":"0 Right"},{"$f":"$N$46","v":0},{"$f":"$R$46","v":"0 Right"},{"$f":"$W$46","v":0},{"$f":"$AA$46","v":"0 Right"},{"$f":"$AF$46","v":0},{"$f":"$AJ$46","v":"0 Right"}]
[null,null,null,null,null,null,null,null,null,null,null,null,null,null,null,null,null,null,null,null,null,null,null,null,null,null,null,null,null,null,null,null,null,null,null,null,null,{"$f":"$E$47","v":0},{"$f":"$I$47","v":"0 Right"},{"$f":"$N$47","v":0},{"$f":"$R$47","v":"0 Right"},{"$f":"$W$47","v":0},{"$f":"$AA$47","v":"0 Right"},{"$f":"$AF$47","v":0},{"$f":"$AJ$47","v":"0 Right"}]
[null,null,null,null,null,null,null,null,null,null,null,null,null,null,null,null,null,null,null,null,null,null,null,null,null,null,null,null,null,null,null,null,null,null,null,null,null,{"$f":"$E$48","v":0},{"$f":"$I$48","v":"0 Right"},{"$f":"$N$48","v":0},{"$f":"$R$48","v":"0 Right"},{"$f":"$W$48","v":0},{"$f":"$AA$48","v":"0 Right"},{"$f":"$AF$48","v":0},{"$f":"$AJ$48","v":"0 Right"}]
[null,null,null,null,null,null,null,null,null,null,null,null,null,null,null,null,null,null,null,null,null,null,null,null,null,null,null,null,null,null,null,null,null,null,null,null,null,{"$f":"$E$49","v":0},{"$f":"$I$49","v":"0 Right"},{"$f":"$N$49","v":0},{"$f":"$R$49","v":"0 Right"},{"$f":"$W$49","v":0},{"$f":"$AA$49","v":"0 Right"},{"$f":"$AF$49","v":0},{"$f":"$AJ$49","v":"0 Right"}]
[null,null,null,null,null,null,null,null,null,null,null,null,null,null,null,null,null,null,null,null,null,null,null,null,null,null,null,null,null,null,null,null,null,null,null,null,null,{"$f":"$E$50","v":0},{"$f":"$I$50","v":"0 Right"},{"$f":"$N$50","v":0},{"$f":"$R$50","v":"0 Right"},{"$f":"$W$50","v":0},{"$f":"$AA$50","v":"0 Right"},{"$f":"$AF$50","v":0},{"$f":"$AJ$50","v":"0 Right"}]
[null,null,null,null,null,null,null,null,null,null,null,null,null,null,null,null,null,null,null,null,null,null,null,null,null,null,null,null,null,null,null,null,null,null,null,null,null,{"$f":"$E$51","v":0},{"$f":"$I$51","v":"0 Right"},{"$f":"$N$51","v":0},{"$f":"$R$51","v":"0 Right"},{"$f":"$W$51","v":0},{"$f":"$AA$51","v":"0 Right"},{"$f":"$AF$51","v":0},{"$f":"$AJ$51","v":"0 Right"}]
[null,null,null,null,null,null,null,null,null,null,null,null,null,null,null,null,null,null,null,null,null,null,null,null,null,null,null,null,null,null,null,null,null,null,null,null,null,{"$f":"$E$52","v":0},{"$f":"$I$52","v":"0 Right"},{"$f":"$N$52","v":0},{"$f":"$R$52","v":"0 Right"},{"$f":"$W$52","v":0},{"$f":"$AA$52","v":"0 Right"},{"$f":"$AF$52","v":0},{"$f":"$AJ$52","v":"0 Right"}]
[null,null,null,null,null,null,null,null,null,null,null,null,null,null,null,null,null,null,null,null,null,null,null,null,null,null,null,null,null,null,null,null,null,null,null,null,null,{"$f":"$E$53","v":0},{"$f":"$I$53","v":"0 Right"},{"$f":"$N$53","v":0},{"$f":"$R$53","v":"0 Right"},{"$f":"$W$53","v":0},{"$f":"$AA$53","v":"0 Right"},{"$f":"$AF$53","v":0},{"$f":"$AJ$53","v":"0 Right"}]
[null,null,null,null,null,null,null,null,null,null,null,null,null,null,null,null,null,null,null,null,null,null,null,null,null,null,null,null,null,null,null,null,null,null,null,null,null,{"$f":"$E$54","v":0},{"$f":"$I$54","v":"0 Right"},{"$f":"$N$54","v":0},{"$f":"$R$54","v":"0 Right"},{"$f":"$W$54","v":0},{"$f":"$AA$54","v":"0 Right"},{"$f":"$AF$54","v":0},{"$f":"$AJ$54","v":"0 Right"}]
[null,null,null,null,null,null,null,null,null,null,null,null,null,null,null,null,null,null,null,null,null,null,null,null,null,null,null,null,null,null,null,null,null,null,null,null,null,{"$f":"$E$55","v":0},{"$f":"$I$55","v":"0 Right"},{"$f":"$N$55","v":0},{"$f":"$R$55","v":"0 Right"},{"$f":"$W$55","v":0},{"$f":"$AA$55","v":"0 Right"},{"$f":"$AF$55","v":0},{"$f":"$AJ$55","v":"0 Right"}]
[null,null,null,null,null,null,null,null,null,null,null,null,null,null,null,null,null,null,null,null,null,null,null,null,null,null,null,null,null,null,null,null,null,null,null,null,null,{"$f":"$E$56","v":0},{"$f":"$I$56","v":"0 Right"},{"$f":"$N$56","v":0},{"$f":"$R$56","v":"0 Right"},{"$f":"$W$56","v":0},{"$f":"$AA$56","v":"0 Right"},{"$f":"$AF$56","v":0},{"$f":"$AJ$56","v":"0 Right"}]
[null,null,null,null,null,null,null,null,null,null,null,null,null,null,null,null,null,null,null,null,null,null,null,null,null,null,null,null,null,null,null,null,null,null,null,null,null,{"$f":"$E$57","v":0},{"$f":"$I$57","v":"0 Right"},{"$f":"$N$57","v":0},{"$f":"$R$57","v":"0 Right"},{"$f":"$W$57","v":0},{"$f":"$AA$57","v":"0 Right"},{"$f":"$AF$57","v":0},{"$f":"$AJ$57","v":"0 Right"}]
[null,null,null,null,null,null,null,null,null,null,null,null,null,null,null,null,null,null,null,null,null,null,null,null,null,null,null,null,null,null,null,null,null,null,null,null,null,{"$f":"$E$58","v":0},{"$f":"$I$58","v":"0 Right"},{"$f":"$N$58","v":0},{"$f":"$R$58","v":"0 Right"},{"$f":"$W$58","v":0},{"$f":"$AA$58","v":"0 Right"},{"$f":"$AF$58","v":0},{"$f":"$AJ$58","v":"0 Right"}]
[null,null,null,null,null,null,null,null,null,null,null,null,null,null,null,null,null,null,null,null,null,null,null,null,null,null,null,null,null,null,null,null,null,null,null,null,null,{"$f":"$E$59","v":0},{"$f":"$I$59","v":"0 Right"},{"$f":"$N$59","v":0},{"$f":"$R$59","v":"0 Right"},{"$f":"$W$59","v":0},{"$f":"$AA$59","v":"0 Right"},{"$f":"$AF$59","v":0},{"$f":"$AJ$59","v":"0 Right"}]

{"sheet":"32","index":13,"n_rows":106,"n_cols":41,"rows_kept":106,"cut":false,"hidden":true,"merged":[[11,0,13,0],[14,1,14,14],[2,0,4,0],[5,0,7,0],[8,0,10,0],[0,1,0,14],[1,9,1,10],[1,11,1,12],[1,13,1,14],[1,1,1,2],[1,3,1,4],[1,5,1,6],[1,7,1,8]]}
[null,"YOU MAY CHANGE THESE RINK NUMBERS IF YOU WISH"]
["RINKS",1,null,2,2,3,3,4,4,5,5,6,6,7,7]
[1,1,2,3,4,13,14,15,17,16,18,19,20,21,22]
[null,5,6,7,8,23,24,25,27,26,28,29,30,31,32]
[null,9,10,11,12]
[2,13,16,15,14,2,27,26,28,29,31,1,32,30,25]
[null,17,20,19,18,12,5,4,6,7,9,11,10,8,3]
[null,21,24,23,22]
[3,26,27,25,28,9,11,10,12,5,6,7,8,13,14]
[null,30,31,29,32,19,21,23,24,15,16,17,18,22,20]
[null,2,3,1,4]
[4,6,7,5,8,26,20,18,19,23,22,25,21,17,24]
[null,11,10,12,9,28,32,30,31,3,2,27,1,29,4]
[null,14,15,13,16]
[null,"32 on 1 green"]
[]
[null,null,null,null,null,null,null,null,null,null,null,null,null,null,null,null,null,null,null,null,null,null,null,null,null,null,null,null,null,null,null,null,null,null,null,null,1]
[null,1,{"$f":"$B$2","v":1},"Left",2,{"$f":"$B$2","v":1},"Right",{"$f":"(C18&\" \"&D18)","v":"1 Left"},{"$f":"(F18&\" \"&G18)","v":"1 Right"},null,13,{"$f":"$B$2","v":1},"Left",16,{"$f":"$B$2","v":1},"Right",{"$f":"(L18&\" \"&M18)","v":"1 Left"},{"$f":"(O18&\" \"&P18)","v":"1 Right"},null,26,{"$f":"$B$2","v":1},"Left",27,{"$f":"$B$2","v":1},"Right",{"$f":"(U18&\" \"&V18)","v":"1 Left"},{"$f":"(X18&\" \"&Y18)","v":"1 Right"},null,6,{"$f":"$B$2","v":1},"Left",7,{"$f":"$B$2","v":1},"Right",{"$f":"(AD18&\" \"&AE18)","v":"1 Left"},{"$f":"(AG18&\" \"&AH18)","v":"1 Right"},1,{"$f":"$H$18","v":"1 Left"},{"$f":"$Q$33","v":"6 Left"},{"$f":"$Z$23","v":"2 Left"},{"$f":"$AJ$33","v":"6 Right"}]
[null,5,{"$f":"$B$2","v":1},"Left",6,{"$f":"$B$2","v":1},"Right",{"$f":"(C19&\" \"&D19)","v":"1 Left"},{"$f":"(F19&\" \"&G19)","v":"1 Right"},null,17,{"$f":"$B$2","v":1},"Left",20,{"$f":"$B$2","v":1},"Right",{"$f":"(L19&\" \"&M19)","v":"1 Left"},{"$f":"(O19&\" \"&P19)","v":"1 Right"},null,30,{"$f":"$B$2","v":1},"Left",31,{"$f":"$B$2","v":1},"Right",{"$f":"(U19&\" \"&V19)","v":"1 Left"},{"$f":"(X19&\" \"&Y19)","v":"1 Right"},null,11,{"$f":"$B$2","v":1},"Left",10,{"$f":"$B$2","v":1},"Right",{"$f":"(AD19&\" \"&AE19)","v":"1 Left"},{"$f":"(AG19&\" \"&AH19)","v":"1 Right"},2,{"$f":"$I$18","v":"1 Right"},{"$f":"$Q$24","v":"3 Left"},{"$f":"$Z$20","v":"1 Left"},{"$f":"$AJ$30","v":"5 Right"}]
[null,9,1,"Left",10,1,"Right","1 Left","1 Right",null,21,1,"Left",24,1,"Right","1 Left","1 Right",null,2,1,"Left",3,1,"Right","1 Left","1 Right",null,14,1,"Left",15,1,"Right","1 Left","1 Right",3,{"$f":"$H$21","v":"2 Left"},{"$f":"$H$36","v":"7 Left"},{"$f":"$AA$20","v":"1 Right"},{"$f":"$AI$30","v":"5 Left"}]
[null,3,{"$f":"$D$2","v":2},"Left",4,{"$f":"$D$2","v":2},"Right","2 Left","2 Right",null,15,{"$f":"$D$2","v":2},"Left",14,{"$f":"$D$2","v":2},"Right","2 Left","2 Right",null,25,{"$f":"$D$2","v":2},"Left",28,{"$f":"$D$2","v":2},"Right","2 Left","2 Right",null,5,{"$f":"$D$2","v":2},"Left",8,{"$f":"$D$2","v":2},"Right","2 Left","2 Right",4,{"$f":"$I$21","v":"2 Right"},{"$f":"$Q$28","v":"4 Left"},{"$f":"$AA$23","v":"2 Right"},{"$f":"$H$36","v":"7 Left"}]
[null,7,{"$f":"$D$2","v":2},"Left",8,{"$f":"$D$2","v":2},"Right","2 Left","2 Right",null,19,{"$f":"$D$2","v":2},"Left",18,{"$f":"$D$2","v":2},"Right","2 Left","2 Right",null,29,{"$f":"$D$2","v":2},"Left",32,{"$f":"$D$2","v":2},"Right","2 Left","2 Right",null,12,{"$f":"$D$2","v":2},"Left",9,{"$f":"$D$2","v":2},"Right","2 Left","2 Right",5,{"$f":"$H$19","v":"1 Left"},{"$f":"$R$25","v":"3 Right"},{"$f":"$Z$30","v":"5 Left"},{"$f":"$AI$21","v":"2 Left"}]
[null,11,2,"Left",12,2,"Right","2 Left","2 Right",null,23,2,"Left",22,2,"Right","2 Left","2 Right",null,1,2,"Left",4,2,"Right","2 Left","2 Right",null,13,2,"Left",16,2,"Right","2 Left","2 Right",6,{"$f":"$I$19","v":"1 Right"},{"$f":"$R$28","v":"4 Right"},{"$f":"$AA$30","v":"5 Right"},{"$f":"$AI$18","v":"1 Left"}]
[null,13,{"$f":"$F$2","v":3},"Left",14,{"$f":"$F$2","v":3},"Right","3 Left","3 Right",null,2,{"$f":"$F$2","v":3},"Left",27,{"$f":"$F$2","v":3},"Right","3 Left","3 Right",null,9,{"$f":"$F$2","v":3},"Left",11,{"$f":"$F$2","v":3},"Right","3 Left","3 Right",null,26,{"$f":"$F$2","v":3},"Left",20,{"$f":"$F$2","v":3},"Right","3 Left","3 Right",7,{"$f":"$H$22","v":"2 Left"},{"$f":"$Q$30","v":"5 Left"},{"$f":"$Z$33","v":"6 Left"},{"$f":"$AJ$18","v":"1 Right"}]
[null,23,{"$f":"$F$2","v":3},"Left",24,{"$f":"$F$2","v":3},"Right","3 Left","3 Right",null,12,{"$f":"$F$2","v":3},"Left",5,{"$f":"$F$2","v":3},"Right","3 Left","3 Right",null,19,{"$f":"$F$2","v":3},"Left",21,{"$f":"$F$2","v":3},"Right","3 Left","3 Right",null,28,{"$f":"$F$2","v":3},"Left",32,{"$f":"$F$2","v":3},"Right","3 Left","3 Right",8,{"$f":"$I$22","v":"2 Right"},{"$f":"$Q$36","v":"7 Left"},{"$f":"$AA$33","v":"6 Right"},{"$f":"$AJ$21","v":"2 Right"}]
[null,null,3,"Left",null,3,"Right","3 Left","3 Right",null,null,3,"Left",null,3,"Right","3 Left","3 Right",null,null,3,"Left",null,3,"Right","3 Left","3 Right",null,null,3,"Left",null,3,"Right","3 Left","3 Right",9,{"$f":"$H$20","v":"1 Left"},{"$f":"$R$30","v":"5 Right"},{"$f":"$Z$24","v":"3 Left"},{"$f":"$AJ$22","v":"2 Right"}]
[null,15,{"$f":"$H$2","v":4},"Left",17,{"$f":"$H$2","v":4},"Right","4 Left","4 Right",null,26,{"$f":"$H$2","v":4},"Left",28,{"$f":"$H$2","v":4},"Right","4 Left","4 Right",null,10,{"$f":"$H$2","v":4},"Left",12,{"$f":"$H$2","v":4},"Right","4 Left","4 Right",null,18,{"$f":"$H$2","v":4},"Left",19,{"$f":"$H$2","v":4},"Right","4 Left","4 Right",10,{"$f":"$I$20","v":"1 Right"},{"$f":"$R$33","v":"6 Right"},{"$f":"$Z$27","v":"4 Left"},{"$f":"$AJ$19","v":"1 Right"}]
[null,25,{"$f":"$H$2","v":4},"Left",27,{"$f":"$H$2","v":4},"Right","4 Left","4 Right",null,4,{"$f":"$H$2","v":4},"Left",6,{"$f":"$H$2","v":4},"Right","4 Left","4 Right",null,23,{"$f":"$H$2","v":4},"Left",24,{"$f":"$H$2","v":4},"Right","4 Left","4 Right",null,30,{"$f":"$H$2","v":4},"Left",31,{"$f":"$H$2","v":4},"Right","4 Left","4 Right",11,{"$f":"$H$23","v":"2 Left"},{"$f":"$Q$33","v":"6 Left"},{"$f":"$AA$24","v":"3 Right"},{"$f":"$AI$19","v":"1 Left"}]
[null,null,4,"Left",null,4,"Right","4 Left","4 Right",null,null,4,"Left",null,4,"Right","4 Left","4 Right",null,null,4,"Left",null,4,"Right","4 Left","4 Right",null,null,4,"Left",null,4,"Right","4 Left","4 Right",12,{"$f":"$I$23","v":"2 Right"},{"$f":"$Q$25","v":"3 Left"},{"$f":"$AA$27","v":"4 Right"},{"$f":"$AI$22","v":"2 Left"}]
[null,16,{"$f":"$J$2","v":5},"Left",18,{"$f":"$J$2","v":5},"Right","5 Left","5 Right",null,29,{"$f":"$J$2","v":5},"Left",31,{"$f":"$J$2","v":5},"Right","5 Left","5 Right",null,5,{"$f":"$J$2","v":5},"Left",6,{"$f":"$J$2","v":5},"Right","5 Left","5 Right",null,23,{"$f":"$J$2","v":5},"Left",22,{"$f":"$J$2","v":5},"Right","5 Left","5 Right",13,{"$f":"$H$24","v":"3 Left"},{"$f":"$Q$18","v":"1 Left"},{"$f":"$Z$36","v":"7 Left"},{"$f":"$AI$23","v":"2 Left"}]
[null,26,{"$f":"$J$2","v":5},"Left",28,{"$f":"$J$2","v":5},"Right","5 Left","5 Right",null,7,{"$f":"$J$2","v":5},"Left",9,{"$f":"$J$2","v":5},"Right","5 Left","5 Right",null,15,{"$f":"$J$2","v":5},"Left",16,{"$f":"$J$2","v":5},"Right","5 Left","5 Right",null,3,{"$f":"$J$2","v":5},"Left",2,{"$f":"$J$2","v":5},"Right","5 Left","5 Right",14,{"$f":"$I$24","v":"3 Right"},{"$f":"$R$21","v":"2 Right"},{"$f":"$H$36","v":"7 Left"},{"$f":"$AI$20","v":"1 Left"}]
[null,null,5,"Left",null,5,"Right","5 Left","5 Right",null,null,5,"Left",null,5,"Right","5 Left","5 Right",null,null,5,"Left",null,5,"Right","5 Left","5 Right",null,null,5,"Left",null,5,"Right","5 Left","5 Right",15,{"$f":"$H$27","v":"4 Left"},{"$f":"$Q$21","v":"2 Left"},{"$f":"$Z$30","v":"5 Left"},{"$f":"$AJ$20","v":"1 Right"}]
[null,19,{"$f":"$L$2","v":6},"Left",20,{"$f":"$L$2","v":6},"Right","6 Left","6 Right",null,1,{"$f":"$L$2","v":6},"Left",32,{"$f":"$L$2","v":6},"Right","6 Left","6 Right",null,7,{"$f":"$L$2","v":6},"Left",8,{"$f":"$L$2","v":6},"Right","6 Left","6 Right",null,25,{"$f":"$L$2","v":6},"Left",21,{"$f":"$L$2","v":6},"Right","6 Left","6 Right",16,{"$f":"$H$30","v":"5 Left"},{"$f":"$R$18","v":"1 Right"},{"$f":"$AA$30","v":"5 Right"},{"$f":"$AJ$23","v":"2 Right"}]
[null,29,{"$f":"$C$33","v":6},"Left",30,{"$f":"$C$33","v":6},"Right","6 Left","6 Right",null,11,{"$f":"$C$33","v":6},"Left",10,{"$f":"$C$33","v":6},"Right","6 Left","6 Right",null,17,{"$f":"$C$33","v":6},"Left",18,{"$f":"$C$33","v":6},"Right","6 Left","6 Right",null,27,{"$f":"$C$33","v":6},"Left",1,{"$f":"$C$33","v":6},"Right","6 Left","6 Right",17,{"$f":"$I$27","v":"4 Right"},{"$f":"$Q$19","v":"1 Left"},{"$f":"$Z$33","v":"6 Left"},{"$f":"$AI$36","v":"7 Left"}]
[null,null,6,"Left",null,6,"Right","6 Left","6 Right",null,null,6,"Left",null,6,"Right","6 Left","6 Right",null,null,6,"Left",null,6,"Right","6 Left","6 Right",null,null,6,"Left",null,6,"Right","6 Left","6 Right",18,{"$f":"$I$30","v":"5 Right"},{"$f":"$R$22","v":"2 Right"},{"$f":"$AA$33","v":"6 Right"},{"$f":"$AI$27","v":"4 Left"}]
[null,21,{"$f":"$N$2","v":7},"Left",22,{"$f":"$N$2","v":7},"Right","7 Left","7 Right",null,30,{"$f":"$N$2","v":7},"Left",25,{"$f":"$N$2","v":7},"Right","7 Left","7 Right",null,13,{"$f":"$N$2","v":7},"Left",14,{"$f":"$N$2","v":7},"Right","7 Left","7 Right",null,17,{"$f":"$N$2","v":7},"Left",24,{"$f":"$N$2","v":7},"Right","7 Left","7 Right",19,{"$f":"$H$33","v":"6 Left"},{"$f":"$Q$22","v":"2 Left"},{"$f":"$Z$25","v":"3 Left"},{"$f":"$AJ$27","v":"4 Right"}]
[null,31,{"$f":"$N$2","v":7},"Left",32,{"$f":"$N$2","v":7},"Right","7 Left","7 Right",null,8,{"$f":"$N$2","v":7},"Left",3,{"$f":"$N$2","v":7},"Right","7 Left","7 Right",null,22,{"$f":"$N$2","v":7},"Left",20,{"$f":"$N$2","v":7},"Right","7 Left","7 Right",null,29,{"$f":"$N$2","v":7},"Left",4,{"$f":"$N$2","v":7},"Right","7 Left","7 Right",20,{"$f":"$I$33","v":"6 Right"},{"$f":"$R$19","v":"1 Right"},{"$f":"$H$36","v":"7 Left"},{"$f":"$AJ$24","v":"3 Right"}]
[null,null,7,"Left",null,7,"Right","7 Left","7 Right",null,null,7,"Left",null,7,"Right","7 Left","7 Right",null,null,7,"Left",null,7,"Right","7 Left","7 Right",null,null,7,"Left",null,7,"Right","7 Left","7 Right",21,{"$f":"$H$36","v":"7 Left"},{"$f":"$Q$20","v":"1 Left"},{"$f":"$AA$25","v":"3 Right"},{"$f":"$AJ$33","v":"6 Right"}]
[null,null,null,null,null,null,null,null,null,null,null,null,null,null,null,null,null,null,null,null,null,null,null,null,null,null,null,null,null,null,null,null,null,null,null,null,22,{"$f":"$H$36","v":"7 Left"},{"$f":"$R$23","v":"2 Right"},{"$f":"$Z$36","v":"7 Left"},{"$f":"$AJ$30","v":"5 Right"}]
[null,null,null,null,null,null,null,null,null,null,null,null,null,null,null,null,null,null,null,null,null,null,null,null,null,null,null,null,null,null,null,null,null,null,null,null,23,{"$f":"$H$25","v":"3 Left"},{"$f":"$Q$23","v":"2 Left"},{"$f":"$Z$28","v":"4 Left"},{"$f":"$AI$30","v":"5 Left"}]
[null,null,null,null,null,null,null,null,null,null,null,null,null,null,null,null,null,null,null,null,null,null,null,null,null,null,null,null,null,null,null,null,null,null,null,null,24,{"$f":"$I$25","v":"3 Right"},{"$f":"$R$20","v":"1 Right"},{"$f":"$AA$28","v":"4 Right"},{"$f":"$H$36","v":"7 Left"}]
[null,null,null,null,null,null,null,null,null,null,null,null,null,null,null,null,null,null,null,null,null,null,null,null,null,null,null,null,null,null,null,null,null,null,null,null,25,{"$f":"$H$28","v":"4 Left"},{"$f":"$H$36","v":"7 Left"},{"$f":"$Z$21","v":"2 Left"},{"$f":"$AI$33","v":"6 Left"}]
[null,null,null,null,null,null,null,null,null,null,null,null,null,null,null,null,null,null,null,null,null,null,null,null,null,null,null,null,null,null,null,null,null,null,null,null,26,{"$f":"$H$30","v":"5 Left"},{"$f":"$Q$27","v":"4 Left"},{"$f":"$Z$18","v":"1 Left"},{"$f":"$AI$24","v":"3 Left"}]
[null,null,null,null,null,null,null,null,null,null,null,null,null,null,null,null,null,null,null,null,null,null,null,null,null,null,null,null,null,null,null,null,null,null,null,null,27,{"$f":"$I$28","v":"4 Right"},{"$f":"$R$24","v":"3 Right"},{"$f":"$AA$18","v":"1 Right"},{"$f":"$AI$33","v":"6 Left"}]
[null,null,null,null,null,null,null,null,null,null,null,null,null,null,null,null,null,null,null,null,null,null,null,null,null,null,null,null,null,null,null,null,null,null,null,null,28,{"$f":"$I$30","v":"5 Right"},{"$f":"$R$27","v":"4 Right"},{"$f":"$AA$21","v":"2 Right"},{"$f":"$AI$25","v":"3 Left"}]
[null,null,null,null,null,null,null,null,null,null,null,null,null,null,null,null,null,null,null,null,null,null,null,null,null,null,null,null,null,null,null,null,null,null,null,null,29,{"$f":"$H$33","v":"6 Left"},{"$f":"$Q$30","v":"5 Left"},{"$f":"$Z$22","v":"2 Left"},{"$f":"$AI$36","v":"7 Left"}]
[null,null,null,null,null,null,null,null,null,null,null,null,null,null,null,null,null,null,null,null,null,null,null,null,null,null,null,null,null,null,null,null,null,null,null,null,30,{"$f":"$I$33","v":"6 Right"},{"$f":"$Q$36","v":"7 Left"},{"$f":"$Z$19","v":"1 Left"},{"$f":"$AI$28","v":"4 Left"}]
[null,null,null,null,null,null,null,null,null,null,null,null,null,null,null,null,null,null,null,null,null,null,null,null,null,null,null,null,null,null,null,null,null,null,null,null,31,{"$f":"$H$36","v":"7 Left"},{"$f":"$R$30","v":"5 Right"},{"$f":"$AA$19","v":"1 Right"},{"$f":"$AJ$28","v":"4 Right"}]
[null,null,null,null,null,null,null,null,null,null,null,null,null,null,null,null,null,null,null,null,null,null,null,null,null,null,null,null,null,null,null,null,null,null,null,null,32,{"$f":"$H$36","v":"7 Left"},{"$f":"$R$33","v":"6 Right"},{"$f":"$AA$22","v":"2 Right"},{"$f":"$AJ$25","v":"3 Right"}]
[null,null,null,null,null,null,null,null,null,null,null,null,null,null,null,null,null,null,null,null,null,null,null,null,null,null,null,null,null,null,null,null,null,null,null,null,null,{"$f":"$H$26","v":"3 Left"},{"$f":"$Q$26","v":"3 Left"},{"$f":"$Z$26","v":"3 Left"},{"$f":"$AI$26","v":"3 Left"}]
[null,null,null,null,null,null,null,null,null,null,null,null,null,null,null,null,null,null,null,null,null,null,null,null,null,null,null,null,null,null,null,null,null,null,null,null,null,{"$f":"$H$29","v":"4 Left"},{"$f":"$Q$29","v":"4 Left"},{"$f":"$Z$29","v":"4 Left"},{"$f":"$AI$29","v":"4 Left"}]
[null,null,null,null,null,null,null,null,null,null,null,null,null,null,null,null,null,null,null,null,null,null,null,null,null,null,null,null,null,null,null,null,null,null,null,null,null,{"$f":"$H$30","v":"5 Left"},{"$f":"$Q$30","v":"5 Left"},{"$f":"$Z$30","v":"5 Left"},{"$f":"$AI$30","v":"5 Left"}]
[null,null,null,null,null,null,null,null,null,null,null,null,null,null,null,null,null,null,null,null,null,null,null,null,null,null,null,null,null,null,null,null,null,null,null,null,null,{"$f":"$H$33","v":"6 Left"},{"$f":"$Q$33","v":"6 Left"},{"$f":"$Z$33","v":"6 Left"},{"$f":"$AI$33","v":"6 Left"}]
[null,null,null,null,null,null,null,null,null,null,null,null,null,null,null,null,null,null,null,null,null,null,null,null,null,null,null,null,null,null,null,null,null,null,null,null,null,{"$f":"$H$36","v":"7 Left"},{"$f":"$Q$36","v":"7 Left"},{"$f":"$Z$36","v":"7 Left"},{"$f":"$AI$36","v":"7 Left"}]
[null,null,null,null,null,null,null,null,null,null,null,null,null,null,null,null,null,null,null,null,null,null,null,null,null,null,null,null,null,null,null,null,null,null,null,null,null,{"$f":"$I$26","v":"3 Right"},{"$f":"$R$26","v":"3 Right"},{"$f":"$AA$26","v":"3 Right"},{"$f":"$AJ$26","v":"3 Right"}]
[null,null,null,null,null,null,null,null,null,null,null,null,null,null,null,null,null,null,null,null,null,null,null,null,null,null,null,null,null,null,null,null,null,null,null,null,null,{"$f":"$I$29","v":"4 Right"},{"$f":"$R$29","v":"4 Right"},{"$f":"$AA$29","v":"4 Right"},{"$f":"$AJ$29","v":"4 Right"}]
[null,null,null,null,null,null,null,null,null,null,null,null,null,null,null,null,null,null,null,null,null,null,null,null,null,null,null,null,null,null,null,null,null,null,null,null,null,{"$f":"$I$30","v":"5 Right"},{"$f":"$R$30","v":"5 Right"},{"$f":"$AA$30","v":"5 Right"},{"$f":"$AJ$30","v":"5 Right"}]
[null,null,null,null,null,null,null,null,null,null,null,null,null,null,null,null,null,null,null,null,null,null,null,null,null,null,null,null,null,null,null,null,null,null,null,null,null,{"$f":"$I$33","v":"6 Right"},{"$f":"$R$33","v":"6 Right"},{"$f":"$AA$33","v":"6 Right"},{"$f":"$AJ$33","v":"6 Right"}]
[null,null,null,null,null,null,null,null,null,null,null,null,null,null,null,null,null,null,null,null,null,null,null,null,null,null,null,null,null,null,null,null,null,null,null,null,null,{"$f":"$H$36","v":"7 Left"},{"$f":"$H$36","v":"7 Left"},{"$f":"$H$36","v":"7 Left"},{"$f":"$H$36","v":"7 Left"}]
[]
[]
[]
[]
[]
[]
[]
[]
[]
[]
[]
[]
[]
[]
[]
[]
[]
[]
[]
[]
[]
[]
[]
[]
[]
[]
[]
[]
[]
[]
[]
[]
[]
[]
[]
[]
[]
[]
[]
[]
[]
[]
[]
[]
[null,null,null,null,null,null,null,null,null,null,null,null,null,null,null,null,null,null,null,null,null,null,null,null,null,null,null,null,null,null,null,null,null,null,null,null,22,{"$f":"$I$36","v":"7 Right"},{"$f":"$R$36","v":"7 Right"},{"$f":"$AA$36","v":"7 Right"},{"$f":"$AJ$36","v":"7 Right"}]
[null,null,null,null,null,null,null,null,null,null,null,null,null,null,null,null,null,null,null,null,null,null,null,null,null,null,null,null,null,null,null,null,null,null,null,null,32,{"$f":"$I$36","v":"7 Right"},{"$f":"$R$36","v":"7 Right"},{"$f":"$AA$36","v":"7 Right"},{"$f":"$AJ$36","v":"7 Right"}]
[null,null,null,null,null,null,null,null,null,null,null,null,null,null,null,null,null,null,null,null,null,null,null,null,null,null,null,null,null,null,null,null,null,null,null,null,null,{"$f":"$I$36","v":"7 Right"},{"$f":"$R$36","v":"7 Right"},{"$f":"$AA$36","v":"7 Right"},{"$f":"$AJ$36","v":"7 Right"}]

{"sheet":"34","index":14,"n_rows":106,"n_cols":41,"rows_kept":106,"cut":false,"hidden":true,"merged":[[0,1,0,14],[14,1,14,14],[5,0,7,0],[8,0,10,0],[11,0,13,0],[1,9,1,10],[1,11,1,12],[1,13,1,14],[1,1,1,2],[1,3,1,4],[1,5,1,6],[1,7,1,8],[2,0,4,0]]}
[null,"YOU MAY CHANGE THESE RINK NUMBERS IF YOU WISH"]
["RINKS",1,null,2,2,3,3,4,4,5,5,6,6,7,7]
[1,1,2,4,5,7,8,10,11,12,13,14,15,16,17]
[null,18,19,21,22,24,25,27,28,29,30,31,32,33,34]
[null,3,20,6,23,9,26]
[2,10,12,11,13,14,16,1,3,2,8,4,7,5,6]
[null,28,30,29,31,32,34,19,21,22,23,20,26,24,25]
[null,15,33,9,27,17,18]
[3,1,3,2,5,4,8,12,14,7,16,11,17,9,13]
[null,20,22,21,25,23,24,31,33,27,19,30,18,28,32]
[null,6,26,15,34,10,29]
[4,13,16,12,14,11,17,2,6,1,9,5,8,4,10]
[null,29,32,28,30,27,33,18,22,34,25,21,24,20,26]
[null,7,23,3,19,15,31]
[null,"34 on 1 green"]
[]
[" ",null,null,null,null,null,null,null,null,null,null,null,null,null,null,null,null,null,null,null,null,null,null,null,null,null,null,null,null,null,null,null,null,null,null,null,1]
[null,1,{"$f":"$B$2","v":1},"Left",2,{"$f":"$B$2","v":1},"Right",{"$f":"(C18&\" \"&D18)","v":"1 Left"},{"$f":"(F18&\" \"&G18)","v":"1 Right"},null,10,{"$f":"$B$2","v":1},"Left",12,{"$f":"$B$2","v":1},"Right",{"$f":"(L18&\" \"&M18)","v":"1 Left"},{"$f":"(O18&\" \"&P18)","v":"1 Right"},null,1,{"$f":"$B$2","v":1},"Left",3,{"$f":"$B$2","v":1},"Right",{"$f":"(U18&\" \"&V18)","v":"1 Left"},{"$f":"(X18&\" \"&Y18)","v":"1 Right"},null,13,{"$f":"$B$2","v":1},"Left",16,{"$f":"$B$2","v":1},"Right",{"$f":"(AD18&\" \"&AE18)","v":"1 Left"},{"$f":"(AG18&\" \"&AH18)","v":"1 Right"},1,{"$f":"$H$18","v":"1 Left"},{"$f":"$Q$27","v":"4 Left"},{"$f":"$Z$18","v":"1 Left"},{"$f":"$AI$30","v":"5 Left"}]
[null,18,{"$f":"$B$2","v":1},"Left",19,{"$f":"$B$2","v":1},"Right",{"$f":"(C19&\" \"&D19)","v":"1 Left"},{"$f":"(F19&\" \"&G19)","v":"1 Right"},null,28,{"$f":"$B$2","v":1},"Left",30,{"$f":"$B$2","v":1},"Right",{"$f":"(L19&\" \"&M19)","v":"1 Left"},{"$f":"(O19&\" \"&P19)","v":"1 Right"},null,20,{"$f":"$B$2","v":1},"Left",22,{"$f":"$B$2","v":1},"Right",{"$f":"(U19&\" \"&V19)","v":"1 Left"},{"$f":"(X19&\" \"&Y19)","v":"1 Right"},null,29,{"$f":"$B$2","v":1},"Left",32,{"$f":"$B$2","v":1},"Right",{"$f":"(AD19&\" \"&AE19)","v":"1 Left"},{"$f":"(AG19&\" \"&AH19)","v":"1 Right"},2,{"$f":"$I$18","v":"1 Right"},{"$f":"$Q$30","v":"5 Left"},{"$f":"$Z$21","v":"2 Left"},{"$f":"$AI$27","v":"4 Left"}]
[null,3,1,"Left",20,1,"Right","1 Left","1 Right",null,15,1,"Left",33,1,"Right","1 Left","1 Right",null,6,1,"Left",26,1,"Right","1 Left","1 Right",null,7,1,"Left",23,1,"Right","1 Left","1 Right",3,{"$f":"$H$20","v":"1 Left"},{"$f":"$R$27","v":"4 Right"},{"$f":"$AA$18","v":"1 Right"},{"$f":"$AI$23","v":"2 Left"}]
[null,4,{"$f":"$D$2","v":2},"Left",5,{"$f":"$D$2","v":2},"Right","2 Left","2 Right",null,11,{"$f":"$D$2","v":2},"Left",13,{"$f":"$D$2","v":2},"Right","2 Left","2 Right",null,2,{"$f":"$D$2","v":2},"Left",5,{"$f":"$D$2","v":2},"Right","2 Left","2 Right",null,12,{"$f":"$D$2","v":2},"Left",14,{"$f":"$D$2","v":2},"Right","2 Left","2 Right",4,{"$f":"$H$21","v":"2 Left"},{"$f":"$Q$33","v":"6 Left"},{"$f":"$Z$24","v":"3 Left"},{"$f":"$AI$36","v":"7 Left"}]
[null,21,{"$f":"$D$2","v":2},"Left",22,{"$f":"$D$2","v":2},"Right","2 Left","2 Right",null,29,{"$f":"$D$2","v":2},"Left",31,{"$f":"$D$2","v":2},"Right","2 Left","2 Right",null,21,{"$f":"$D$2","v":2},"Left",25,{"$f":"$D$2","v":2},"Right","2 Left","2 Right",null,28,{"$f":"$D$2","v":2},"Left",30,{"$f":"$D$2","v":2},"Right","2 Left","2 Right",5,{"$f":"$I$21","v":"2 Right"},{"$f":"$Q$36","v":"7 Left"},{"$f":"$AA$21","v":"2 Right"},{"$f":"$AI$33","v":"6 Left"}]
[null,6,2,"Left",23,2,"Right","2 Left","2 Right",null,9,2,"Left",27,2,"Right","2 Left","2 Right",null,15,2,"Left",34,2,"Right","2 Left","2 Right",null,3,2,"Left",19,2,"Right","2 Left","2 Right",6,{"$f":"$H$23","v":"2 Left"},{"$f":"$H$36","v":"7 Left"},{"$f":"$Z$20","v":"1 Left"},{"$f":"$AJ$27","v":"4 Right"}]
[null,7,{"$f":"$F$2","v":3},"Left",8,{"$f":"$F$2","v":3},"Right","3 Left","3 Right",null,14,{"$f":"$F$2","v":3},"Left",16,{"$f":"$F$2","v":3},"Right","3 Left","3 Right",null,4,{"$f":"$F$2","v":3},"Left",8,{"$f":"$F$2","v":3},"Right","3 Left","3 Right",null,11,{"$f":"$F$2","v":3},"Left",17,{"$f":"$F$2","v":3},"Right","3 Left","3 Right",7,{"$f":"$H$24","v":"3 Left"},{"$f":"$R$33","v":"6 Right"},{"$f":"$Z$30","v":"5 Left"},{"$f":"$AI$20","v":"1 Left"}]
[null,24,{"$f":"$F$2","v":3},"Left",25,{"$f":"$F$2","v":3},"Right","3 Left","3 Right",null,32,{"$f":"$F$2","v":3},"Left",34,{"$f":"$F$2","v":3},"Right","3 Left","3 Right",null,23,{"$f":"$F$2","v":3},"Left",24,{"$f":"$F$2","v":3},"Right","3 Left","3 Right",null,27,{"$f":"$F$2","v":3},"Left",33,{"$f":"$F$2","v":3},"Right","3 Left","3 Right",8,{"$f":"$I$24","v":"3 Right"},{"$f":"$R$30","v":"5 Right"},{"$f":"$AA$24","v":"3 Right"},{"$f":"$AJ$33","v":"6 Right"}]
[null,9,3,"Left",26,3,"Right","3 Left","3 Right",null,17,3,"Left",18,3,"Right","3 Left","3 Right",null,10,3,"Left",29,3,"Right","3 Left","3 Right",null,15,3,"Left",31,3,"Right","3 Left","3 Right",9,{"$f":"$H$26","v":"3 Left"},{"$f":"$Q$23","v":"2 Left"},{"$f":"$Z$36","v":"7 Left"},{"$f":"$AJ$30","v":"5 Right"}]
[null,10,{"$f":"$H$2","v":4},"Left",11,{"$f":"$H$2","v":4},"Right","4 Left","4 Right",null,1,{"$f":"$H$2","v":4},"Left",3,{"$f":"$H$2","v":4},"Right","4 Left","4 Right",null,12,{"$f":"$H$2","v":4},"Left",14,{"$f":"$H$2","v":4},"Right","4 Left","4 Right",null,2,{"$f":"$H$2","v":4},"Left",6,{"$f":"$H$2","v":4},"Right","4 Left","4 Right",10,{"$f":"$H$27","v":"4 Left"},{"$f":"$Q$18","v":"1 Left"},{"$f":"$Z$26","v":"3 Left"},{"$f":"$H$36","v":"7 Left"}]
[null,27,{"$f":"$H$2","v":4},"Left",28,{"$f":"$H$2","v":4},"Right","4 Left","4 Right",null,19,{"$f":"$H$2","v":4},"Left",21,{"$f":"$H$2","v":4},"Right","4 Left","4 Right",null,31,{"$f":"$H$2","v":4},"Left",33,{"$f":"$H$2","v":4},"Right","4 Left","4 Right",null,18,{"$f":"$H$2","v":4},"Left",22,{"$f":"$H$2","v":4},"Right","4 Left","4 Right",11,{"$f":"$I$27","v":"4 Right"},{"$f":"$Q$21","v":"2 Left"},{"$f":"$Z$33","v":"6 Left"},{"$f":"$AI$24","v":"3 Left"}]
[null,null,4,"Left",null,4,"Right","4 Left","4 Right",null,null,4,"Left",null,4,"Right","4 Left","4 Right",null,null,4,"Left",null,4,"Right","4 Left","4 Right",null,null,4,"Left",null,4,"Right","4 Left","4 Right",12,{"$f":"$H$30","v":"5 Left"},{"$f":"$R$18","v":"1 Right"},{"$f":"$Z$27","v":"4 Left"},{"$f":"$AI$21","v":"2 Left"}]
[null,12,{"$f":"$J$2","v":5},"Left",13,{"$f":"$J$2","v":5},"Right","5 Left","5 Right",null,2,{"$f":"$J$2","v":5},"Left",8,{"$f":"$J$2","v":5},"Right","5 Left","5 Right",null,7,{"$f":"$J$2","v":5},"Left",16,{"$f":"$J$2","v":5},"Right","5 Left","5 Right",null,1,{"$f":"$J$2","v":5},"Left",9,{"$f":"$J$2","v":5},"Right","5 Left","5 Right",13,{"$f":"$I$30","v":"5 Right"},{"$f":"$R$21","v":"2 Right"},{"$f":"$H$36","v":"7 Left"},{"$f":"$AI$18","v":"1 Left"}]
[null,29,{"$f":"$J$2","v":5},"Left",30,{"$f":"$J$2","v":5},"Right","5 Left","5 Right",null,22,{"$f":"$J$2","v":5},"Left",23,{"$f":"$J$2","v":5},"Right","5 Left","5 Right",null,27,{"$f":"$J$2","v":5},"Left",19,{"$f":"$J$2","v":5},"Right","5 Left","5 Right",null,34,{"$f":"$J$2","v":5},"Left",25,{"$f":"$J$2","v":5},"Right","5 Left","5 Right",14,{"$f":"$H$33","v":"6 Left"},{"$f":"$Q$24","v":"3 Left"},{"$f":"$AA$27","v":"4 Right"},{"$f":"$AJ$21","v":"2 Right"}]
[null,null,5,"Left",null,5,"Right","5 Left","5 Right",null,null,5,"Left",null,5,"Right","5 Left","5 Right",null,null,5,"Left",null,5,"Right","5 Left","5 Right",null,null,5,"Left",null,5,"Right","5 Left","5 Right",15,{"$f":"$I$33","v":"6 Right"},{"$f":"$Q$20","v":"1 Left"},{"$f":"$Z$23","v":"2 Left"},{"$f":"$AI$26","v":"3 Left"}]
[null,14,{"$f":"$L$2","v":6},"Left",15,{"$f":"$L$2","v":6},"Right","6 Left","6 Right",null,4,{"$f":"$L$2","v":6},"Left",7,{"$f":"$L$2","v":6},"Right","6 Left","6 Right",null,11,{"$f":"$L$2","v":6},"Left",17,{"$f":"$L$2","v":6},"Right","6 Left","6 Right",null,5,{"$f":"$L$2","v":6},"Left",8,{"$f":"$L$2","v":6},"Right","6 Left","6 Right",16,{"$f":"$H$36","v":"7 Left"},{"$f":"$R$24","v":"3 Right"},{"$f":"$AA$30","v":"5 Right"},{"$f":"$AJ$18","v":"1 Right"}]
[null,31,{"$f":"$C$33","v":6},"Left",32,{"$f":"$C$33","v":6},"Right","6 Left","6 Right",null,20,{"$f":"$C$33","v":6},"Left",26,{"$f":"$C$33","v":6},"Right","6 Left","6 Right",null,30,{"$f":"$C$33","v":6},"Left",18,{"$f":"$C$33","v":6},"Right","6 Left","6 Right",null,21,{"$f":"$C$33","v":6},"Left",24,{"$f":"$C$33","v":6},"Right","6 Left","6 Right",17,{"$f":"$H$36","v":"7 Left"},{"$f":"$Q$26","v":"3 Left"},{"$f":"$AA$33","v":"6 Right"},{"$f":"$AJ$24","v":"3 Right"}]
[null,null,6,"Left",null,6,"Right","6 Left","6 Right",null,null,6,"Left",null,6,"Right","6 Left","6 Right",null,null,6,"Left",null,6,"Right","6 Left","6 Right",null,null,6,"Left",null,6,"Right","6 Left","6 Right",18,{"$f":"$H$19","v":"1 Left"},{"$f":"$R$26","v":"3 Right"},{"$f":"$AA$33","v":"6 Right"},{"$f":"$AI$28","v":"4 Left"}]
[null,16,{"$f":"$N$2","v":7},"Left",17,{"$f":"$N$2","v":7},"Right","7 Left","7 Right",null,5,{"$f":"$N$2","v":7},"Left",6,{"$f":"$N$2","v":7},"Right","7 Left","7 Right",null,9,{"$f":"$N$2","v":7},"Left",13,{"$f":"$N$2","v":7},"Right","7 Left","7 Right",null,4,{"$f":"$N$2","v":7},"Left",10,{"$f":"$N$2","v":7},"Right","7 Left","7 Right",19,{"$f":"$I$19","v":"1 Right"},{"$f":"$Q$28","v":"4 Left"},{"$f":"$AA$30","v":"5 Right"},{"$f":"$AJ$23","v":"2 Right"}]
[null,33,{"$f":"$N$2","v":7},"Left",34,{"$f":"$N$2","v":7},"Right","7 Left","7 Right",null,24,{"$f":"$N$2","v":7},"Left",25,{"$f":"$N$2","v":7},"Right","7 Left","7 Right",null,28,{"$f":"$N$2","v":7},"Left",32,{"$f":"$N$2","v":7},"Right","7 Left","7 Right",null,20,{"$f":"$N$2","v":7},"Left",26,{"$f":"$N$2","v":7},"Right","7 Left","7 Right",20,{"$f":"$I$20","v":"1 Right"},{"$f":"$Q$33","v":"6 Left"},{"$f":"$Z$19","v":"1 Left"},{"$f":"$AI$36","v":"7 Left"}]
[null,null,7,"Left",null,7,"Right","7 Left","7 Right",null,null,7,"Left",null,7,"Right","7 Left","7 Right",null,null,7,"Left",null,7,"Right","7 Left","7 Right",null,null,7,"Left",null,7,"Right","7 Left","7 Right",21,{"$f":"$H$22","v":"2 Left"},{"$f":"$R$28","v":"4 Right"},{"$f":"$Z$22","v":"2 Left"},{"$f":"$AI$33","v":"6 Left"}]
[null,null,null,null,null,null,null,null,null,null,null,null,null,null,null,null,null,null,null,null,null,null,null,null,null,null,null,null,null,null,null,null,null,null,null,null,22,{"$f":"$I$22","v":"2 Right"},{"$f":"$Q$30","v":"5 Left"},{"$f":"$AA$19","v":"1 Right"},{"$f":"$AJ$28","v":"4 Right"}]
[null,null,null,null,null,null,null,null,null,null,null,null,null,null,null,null,null,null,null,null,null,null,null,null,null,null,null,null,null,null,null,null,null,null,null,null,23,{"$f":"$I$23","v":"2 Right"},{"$f":"$R$30","v":"5 Right"},{"$f":"$Z$25","v":"3 Left"},{"$f":"$AJ$20","v":"1 Right"}]
[null,null,null,null,null,null,null,null,null,null,null,null,null,null,null,null,null,null,null,null,null,null,null,null,null,null,null,null,null,null,null,null,null,null,null,null,24,{"$f":"$H$25","v":"3 Left"},{"$f":"$Q$36","v":"7 Left"},{"$f":"$AA$25","v":"3 Right"},{"$f":"$AJ$33","v":"6 Right"}]
[null,null,null,null,null,null,null,null,null,null,null,null,null,null,null,null,null,null,null,null,null,null,null,null,null,null,null,null,null,null,null,null,null,null,null,null,25,{"$f":"$I$25","v":"3 Right"},{"$f":"$H$36","v":"7 Left"},{"$f":"$AA$22","v":"2 Right"},{"$f":"$AJ$30","v":"5 Right"}]
[null,null,null,null,null,null,null,null,null,null,null,null,null,null,null,null,null,null,null,null,null,null,null,null,null,null,null,null,null,null,null,null,null,null,null,null,26,{"$f":"$I$26","v":"3 Right"},{"$f":"$R$33","v":"6 Right"},{"$f":"$AA$20","v":"1 Right"},{"$f":"$H$36","v":"7 Left"}]
[null,null,null,null,null,null,null,null,null,null,null,null,null,null,null,null,null,null,null,null,null,null,null,null,null,null,null,null,null,null,null,null,null,null,null,null,27,{"$f":"$H$28","v":"4 Left"},{"$f":"$R$23","v":"2 Right"},{"$f":"$Z$30","v":"5 Left"},{"$f":"$AI$25","v":"3 Left"}]
[null,null,null,null,null,null,null,null,null,null,null,null,null,null,null,null,null,null,null,null,null,null,null,null,null,null,null,null,null,null,null,null,null,null,null,null,28,{"$f":"$I$28","v":"4 Right"},{"$f":"$Q$19","v":"1 Left"},{"$f":"$Z$36","v":"7 Left"},{"$f":"$AI$22","v":"2 Left"}]
[null,null,null,null,null,null,null,null,null,null,null,null,null,null,null,null,null,null,null,null,null,null,null,null,null,null,null,null,null,null,null,null,null,null,null,null,29,{"$f":"$H$30","v":"5 Left"},{"$f":"$Q$22","v":"2 Left"},{"$f":"$AA$26","v":"3 Right"},{"$f":"$AI$19","v":"1 Left"}]
[null,null,null,null,null,null,null,null,null,null,null,null,null,null,null,null,null,null,null,null,null,null,null,null,null,null,null,null,null,null,null,null,null,null,null,null,30,{"$f":"$I$30","v":"5 Right"},{"$f":"$R$19","v":"1 Right"},{"$f":"$Z$33","v":"6 Left"},{"$f":"$AJ$22","v":"2 Right"}]
[null,null,null,null,null,null,null,null,null,null,null,null,null,null,null,null,null,null,null,null,null,null,null,null,null,null,null,null,null,null,null,null,null,null,null,null,31,{"$f":"$H$33","v":"6 Left"},{"$f":"$R$22","v":"2 Right"},{"$f":"$Z$28","v":"4 Left"},{"$f":"$AJ$26","v":"3 Right"}]
[null,null,null,null,null,null,null,null,null,null,null,null,null,null,null,null,null,null,null,null,null,null,null,null,null,null,null,null,null,null,null,null,null,null,null,null,32,{"$f":"$I$33","v":"6 Right"},{"$f":"$Q$25","v":"3 Left"},{"$f":"$H$36","v":"7 Left"},{"$f":"$AJ$19","v":"1 Right"}]
[null,null,null,null,null,null,null,null,null,null,null,null,null,null,null,null,null,null,null,null,null,null,null,null,null,null,null,null,null,null,null,null,null,null,null,null,33,{"$f":"$H$36","v":"7 Left"},{"$f":"$R$20","v":"1 Right"},{"$f":"$AA$28","v":"4 Right"},{"$f":"$AJ$25","v":"3 Right"}]
[null,null,null,null,null,null,null,null,null,null,null,null,null,null,null,null,null,null,null,null,null,null,null,null,null,null,null,null,null,null,null,null,null,null,null,null,34,{"$f":"$H$36","v":"7 Left"},{"$f":"$R$25","v":"3 Right"},{"$f":"$AA$23","v":"2 Right"},{"$f":"$AI$30","v":"5 Left"}]
[null,null,null,null,null,null,null,null,null,null,null,null,null,null,null,null,null,null,null,null,null,null,null,null,null,null,null,null,null,null,null,null,null,null,null,null,null,{"$f":"$H$29","v":"4 Left"},{"$f":"$Q$29","v":"4 Left"},{"$f":"$Z$29","v":"4 Left"},{"$f":"$AI$29","v":"4 Left"}]
[null,null,null,null,null,null,null,null,null,null,null,null,null,null,null,null,null,null,null,null,null,null,null,null,null,null,null,null,null,null,null,null,null,null,null,null,null,{"$f":"$H$30","v":"5 Left"},{"$f":"$Q$30","v":"5 Left"},{"$f":"$Z$30","v":"5 Left"},{"$f":"$AI$30","v":"5 Left"}]
[null,null,null,null,null,null,null,null,null,null,null,null,null,null,null,null,null,null,null,null,null,null,null,null,null,null,null,null,null,null,null,null,null,null,null,null,null,{"$f":"$H$33","v":"6 Left"},{"$f":"$Q$33","v":"6 Left"},{"$f":"$Z$33","v":"6 Left"},{"$f":"$AI$33","v":"6 Left"}]
[null,null,null,null,null,null,null,null,null,null,null,null,null,null,null,null,null,null,null,null,null,null,null,null,null,null,null,null,null,null,null,null,null,null,null,null,null,{"$f":"$H$36","v":"7 Left"},{"$f":"$Q$36","v":"7 Left"},{"$f":"$Z$36","v":"7 Left"},{"$f":"$AI$36","v":"7 Left"}]
[null,null,null,null,null,null,null,null,null,null,null,null,null,null,null,null,null,null,null,null,null,null,null,null,null,null,null,null,null,null,null,null,null,null,null,null,null,{"$f":"$I$29","v":"4 Right"},{"$f":"$R$29","v":"4 Right"},{"$f":"$AA$29","v":"4 Right"},{"$f":"$AJ$29","v":"4 Right"}]
[null,null,null,null,null,null,null,null,null,null,null,null,null,null,null,null,null,null,null,null,null,null,null,null,null,null,null,null,null,null,null,null,null,null,null,null,null,{"$f":"$I$30","v":"5 Right"},{"$f":"$R$30","v":"5 Right"},{"$f":"$AA$30","v":"5 Right"},{"$f":"$AJ$30","v":"5 Right"}]
[null,null,null,null,null,null,null,null,null,null,null,null,null,null,null,null,null,null,null,null,null,null,null,null,null,null,null,null,null,null,null,null,null,null,null,null,null,{"$f":"$I$33","v":"6 Right"},{"$f":"$R$33","v":"6 Right"},{"$f":"$AA$33","v":"6 Right"},{"$f":"$AJ$33","v":"6 Right"}]
[null,null,null,null,null,null,null,null,null,null,null,null,null,null,null,null,null,null,null,null,null,null,null,null,null,null,null,null,null,null,null,null,null,null,null,null,null,{"$f":"$H$36","v":"7 Left"},{"$f":"$H$36","v":"7 Left"},{"$f":"$H$36","v":"7 Left"},{"$f":"$H$36","v":"7 Left"}]
[]
[]
[]
[]
[]
[]
[]
[]
[]
[]
[]
[]
[]
[]
[]
[]
[]
[]
[]
[]
[]
[]
[]
[]
[]
[]
[]
[]
[]
[]
[]
[]
[]
[]
[]
[]
[]
[]
[]
[]
[]
[]
[]
[]
[null,null,null,null,null,null,null,null,null,null,null,null,null,null,null,null,null,null,null,null,null,null,null,null,null,null,null,null,null,null,null,null,null,null,null,null,17,{"$f":"$I$36","v":"7 Right"},{"$f":"$R$36","v":"7 Right"},{"$f":"$AA$36","v":"7 Right"},{"$f":"$AJ$36","v":"7 Right"}]
[null,null,null,null,null,null,null,null,null,null,null,null,null,null,null,null,null,null,null,null,null,null,null,null,null,null,null,null,null,null,null,null,null,null,null,null,34,{"$f":"$I$36","v":"7 Right"},{"$f":"$R$36","v":"7 Right"},{"$f":"$AA$36","v":"7 Right"},{"$f":"$AJ$36","v":"7 Right"}]
[null,null,null,null,null,null,null,null,null,null,null,null,null,null,null,null,null,null,null,null,null,null,null,null,null,null,null,null,null,null,null,null,null,null,null,null,null,{"$f":"$I$36","v":"7 Right"},{"$f":"$R$36","v":"7 Right"},{"$f":"$AA$36","v":"7 Right"},{"$f":"$AJ$36","v":"7 Right"}]

{"sheet":"36","index":15,"n_rows":106,"n_cols":41,"rows_kept":106,"cut":false,"hidden":true,"merged":[[14,1,14,14],[2,0,4,0],[5,0,7,0],[0,1,0,14],[8,0,10,0],[11,0,13,0],[1,11,1,12],[1,13,1,14],[1,1,1,2],[1,3,1,4],[1,5,1,6],[1,7,1,8],[1,9,1,10]]}
[null,"YOU MAY CHANGE THESE RINK NUMBERS IF YOU WISH"]
["RINKS",1,null,2,2,3,3,4,4,5,5,6,6,7,7]
[1,3,2,6,4,5,1,7,8,25,26,27,28,29,30]
[null,11,10,14,12,13,9,15,16,31,32,33,34,35,36]
[null,19,18,22,20,21,17,23,24]
[2,25,29,26,30,27,32,28,31,13,16,14,17,15,18]
[null,33,1,36,2,35,4,34,3,19,22,20,23,21,24]
[null,8,12,9,5,10,7,11,6]
[3,14,20,17,15,19,16,18,13,1,5,2,4,3,6]
[null,26,24,21,27,23,28,22,25,7,11,8,10,9,12]
[null,35,32,29,34,31,33,30,36]
[4,6,9,11,12,7,8,5,10,3,36,1,30,2,4]
[null,13,16,18,19,14,15,20,17,33,29,31,35,32,34]
[null,28,23,25,26,21,22,27,24]
[null,"36 on 1 green"]
[]
[null,null,null,null,null,null,null,null,null,null,null,null,null,null,null,null,null,null,null,null,null,null,null,null,null,null,null,null,null,null,null,null,null,null,null,null,1]
[null,3,{"$f":"$B$2","v":1},"Left",2,{"$f":"$B$2","v":1},"Right",{"$f":"(C18&\" \"&D18)","v":"1 Left"},{"$f":"(F18&\" \"&G18)","v":"1 Right"},null,25,{"$f":"$B$2","v":1},"Left",29,{"$f":"$B$2","v":1},"Right",{"$f":"(L18&\" \"&M18)","v":"1 Left"},{"$f":"(O18&\" \"&P18)","v":"1 Right"},null,14,{"$f":"$B$2","v":1},"Left",20,{"$f":"$B$2","v":1},"Right",{"$f":"(U18&\" \"&V18)","v":"1 Left"},{"$f":"(X18&\" \"&Y18)","v":"1 Right"},null,6,{"$f":"$B$2","v":1},"Left",9,{"$f":"$B$2","v":1},"Right",{"$f":"(AD18&\" \"&AE18)","v":"1 Left"},{"$f":"(AG18&\" \"&AH18)","v":"1 Right"},1,{"$f":"$I$24","v":"3 Right"},{"$f":"$R$19","v":"1 Right"},{"$f":"$Z$30","v":"5 Left"},{"$f":"$AI$33","v":"6 Left"}]
[null,11,{"$f":"$B$2","v":1},"Left",10,{"$f":"$B$2","v":1},"Right",{"$f":"(C19&\" \"&D19)","v":"1 Left"},{"$f":"(F19&\" \"&G19)","v":"1 Right"},null,33,{"$f":"$B$2","v":1},"Left",1,{"$f":"$B$2","v":1},"Right",{"$f":"(L19&\" \"&M19)","v":"1 Left"},{"$f":"(O19&\" \"&P19)","v":"1 Right"},null,26,{"$f":"$B$2","v":1},"Left",24,{"$f":"$B$2","v":1},"Right",{"$f":"(U19&\" \"&V19)","v":"1 Left"},{"$f":"(X19&\" \"&Y19)","v":"1 Right"},null,13,{"$f":"$B$2","v":1},"Left",16,{"$f":"$B$2","v":1},"Right",{"$f":"(AD19&\" \"&AE19)","v":"1 Left"},{"$f":"(AG19&\" \"&AH19)","v":"1 Right"},2,{"$f":"$I$18","v":"1 Right"},{"$f":"$R$22","v":"2 Right"},{"$f":"$Z$33","v":"6 Left"},{"$f":"$AI$36","v":"7 Left"}]
[null,19,1,"Left",18,1,"Right","1 Left","1 Right",null,8,1,"Left",12,1,"Right","1 Left","1 Right",null,35,1,"Left",32,1,"Right","1 Left","1 Right",null,28,1,"Left",23,1,"Right","1 Left","1 Right",3,{"$f":"$H$18","v":"1 Left"},{"$f":"$R$28","v":"4 Right"},{"$f":"$Z$36","v":"7 Left"},{"$f":"$AI$30","v":"5 Left"}]
[null,6,{"$f":"$D$2","v":2},"Left",4,{"$f":"$D$2","v":2},"Right","2 Left","2 Right",null,26.34,{"$f":"$D$2","v":2},"Left",30,{"$f":"$D$2","v":2},"Right","2 Left","2 Right",null,17,{"$f":"$D$2","v":2},"Left",15,{"$f":"$D$2","v":2},"Right","2 Left","2 Right",null,11,{"$f":"$D$2","v":2},"Left",12,{"$f":"$D$2","v":2},"Right","2 Left","2 Right",4,{"$f":"$I$21","v":"2 Right"},{"$f":"$R$25","v":"3 Right"},{"$f":"$AA$33","v":"6 Right"},{"$f":"$H$36","v":"7 Left"}]
[null,14,{"$f":"$D$2","v":2},"Left",12,{"$f":"$D$2","v":2},"Right","2 Left","2 Right",null,36,{"$f":"$D$2","v":2},"Left",2,{"$f":"$D$2","v":2},"Right","2 Left","2 Right",null,21,{"$f":"$D$2","v":2},"Left",27,{"$f":"$D$2","v":2},"Right","2 Left","2 Right",null,18,{"$f":"$D$2","v":2},"Left",19,{"$f":"$D$2","v":2},"Right","2 Left","2 Right",5,{"$f":"$H$24","v":"3 Left"},{"$f":"$R$23","v":"2 Right"},{"$f":"$AA$30","v":"5 Right"},{"$f":"$AI$27","v":"4 Left"}]
[null,22,2,"Left",20,2,"Right","2 Left","2 Right",null,9,2,"Left",5,2,"Right","2 Left","2 Right",null,29,2,"Left",34,2,"Right","2 Left","2 Right",null,25,2,"Left",26,2,"Right","2 Left","2 Right",6,{"$f":"$H$21","v":"2 Left"},{"$f":"$R$29","v":"4 Right"},{"$f":"$H$36","v":"7 Left"},{"$f":"$AI$18","v":"1 Left"}]
[null,5,{"$f":"$F$2","v":3},"Left",1,{"$f":"$F$2","v":3},"Right","3 Left","3 Right",null,27,{"$f":"$F$2","v":3},"Left",32,{"$f":"$F$2","v":3},"Right","3 Left","3 Right",null,19,{"$f":"$F$2","v":3},"Left",16,{"$f":"$F$2","v":3},"Right","3 Left","3 Right",null,7,{"$f":"$F$2","v":3},"Left",8,{"$f":"$F$2","v":3},"Right","3 Left","3 Right",7,{"$f":"$H$27","v":"4 Left"},{"$f":"$R$26","v":"3 Right"},{"$f":"$Z$30","v":"5 Left"},{"$f":"$AI$24","v":"3 Left"}]
[null,13,{"$f":"$F$2","v":3},"Left",9,{"$f":"$F$2","v":3},"Right","3 Left","3 Right",null,35,{"$f":"$F$2","v":3},"Left",4,{"$f":"$F$2","v":3},"Right","3 Left","3 Right",null,23,{"$f":"$F$2","v":3},"Left",28,{"$f":"$F$2","v":3},"Right","3 Left","3 Right",null,14,{"$f":"$F$2","v":3},"Left",15,{"$f":"$F$2","v":3},"Right","3 Left","3 Right",8,{"$f":"$I$27","v":"4 Right"},{"$f":"$Q$20","v":"1 Left"},{"$f":"$Z$33","v":"6 Left"},{"$f":"$AJ$24","v":"3 Right"}]
[null,21,3,"Left",17,3,"Right","3 Left","3 Right",null,10,3,"Left",7,3,"Right","3 Left","3 Right",null,31,3,"Left",33,3,"Right","3 Left","3 Right",null,21,3,"Left",22,3,"Right","3 Left","3 Right",9,{"$f":"$I$25","v":"3 Right"},{"$f":"$Q$23","v":"2 Left"},{"$f":"$Z$36","v":"7 Left"},{"$f":"$AJ$18","v":"1 Right"}]
[null,7,{"$f":"$H$2","v":4},"Left",8,{"$f":"$H$2","v":4},"Right","4 Left","4 Right",null,28,{"$f":"$H$2","v":4},"Left",31,{"$f":"$H$2","v":4},"Right","4 Left","4 Right",null,18,{"$f":"$H$2","v":4},"Left",13,{"$f":"$H$2","v":4},"Right","4 Left","4 Right",null,5,{"$f":"$H$2","v":4},"Left",10,{"$f":"$H$2","v":4},"Right","4 Left","4 Right",10,{"$f":"$I$19","v":"1 Right"},{"$f":"$Q$26","v":"3 Left"},{"$f":"$AA$33","v":"6 Right"},{"$f":"$AJ$27","v":"4 Right"}]
[null,15,{"$f":"$H$2","v":4},"Left",16,{"$f":"$H$2","v":4},"Right","4 Left","4 Right",null,34,{"$f":"$H$2","v":4},"Left",3,{"$f":"$H$2","v":4},"Right","4 Left","4 Right",null,22,{"$f":"$H$2","v":4},"Left",25,{"$f":"$H$2","v":4},"Right","4 Left","4 Right",null,20,{"$f":"$H$2","v":4},"Left",17,{"$f":"$H$2","v":4},"Right","4 Left","4 Right",11,{"$f":"$H$19","v":"1 Left"},{"$f":"$Q$29","v":"4 Left"},{"$f":"$AA$30","v":"5 Right"},{"$f":"$AI$21","v":"2 Left"}]
[null,23,4,"Left",24,4,"Right","4 Left","4 Right",null,11,4,"Left",6,4,"Right","4 Left","4 Right",null,30,4,"Left",36,4,"Right","4 Left","4 Right",null,27,4,"Left",24,4,"Right","4 Left","4 Right",12,{"$f":"$I$22","v":"2 Right"},{"$f":"$R$20","v":"1 Right"},{"$f":"$H$36","v":"7 Left"},{"$f":"$AJ$21","v":"2 Right"}]
[null,25,{"$f":"$J$2","v":5},"Left",26,{"$f":"$J$2","v":5},"Right","5 Left","5 Right",null,13,{"$f":"$J$2","v":5},"Left",16,{"$f":"$J$2","v":5},"Right","5 Left","5 Right",null,1,{"$f":"$J$2","v":5},"Left",5,{"$f":"$J$2","v":5},"Right","5 Left","5 Right",null,3,{"$f":"$J$2","v":5},"Left",36,{"$f":"$J$2","v":5},"Right","5 Left","5 Right",13,{"$f":"$H$25","v":"3 Left"},{"$f":"$Q$30","v":"5 Left"},{"$f":"$AA$27","v":"4 Right"},{"$f":"$AI$19","v":"1 Left"}]
[null,31,{"$f":"$J$2","v":5},"Left",32,{"$f":"$J$2","v":5},"Right","5 Left","5 Right",null,19,{"$f":"$J$2","v":5},"Left",22,{"$f":"$J$2","v":5},"Right","5 Left","5 Right",null,7,{"$f":"$J$2","v":5},"Left",11,{"$f":"$J$2","v":5},"Right","5 Left","5 Right",null,33,{"$f":"$J$2","v":5},"Left",29,{"$f":"$J$2","v":5},"Right","5 Left","5 Right",14,{"$f":"$H$22","v":"2 Left"},{"$f":"$Q$33","v":"6 Left"},{"$f":"$Z$18","v":"1 Left"},{"$f":"$AI$25","v":"3 Left"}]
[null,null,5,"Left",null,5,"Right","5 Left","5 Right",null,null,5,"Left",null,5,"Right","5 Left","5 Right",null,null,5,"Left",null,5,"Right","5 Left","5 Right",null,null,5,"Left",null,5,"Right","5 Left","5 Right",15,{"$f":"$H$28","v":"4 Left"},{"$f":"$Q$36","v":"7 Left"},{"$f":"$AA$21","v":"2 Right"},{"$f":"$AJ$25","v":"3 Right"}]
[null,27,{"$f":"$L$2","v":6},"Left",28,{"$f":"$L$2","v":6},"Right","6 Left","6 Right",null,14,{"$f":"$L$2","v":6},"Left",17,{"$f":"$L$2","v":6},"Right","6 Left","6 Right",null,2,{"$f":"$L$2","v":6},"Left",4,{"$f":"$L$2","v":6},"Right","6 Left","6 Right",null,1,{"$f":"$L$2","v":6},"Left",30,{"$f":"$L$2","v":6},"Right","6 Left","6 Right",16,{"$f":"$I$28","v":"4 Right"},{"$f":"$R$30","v":"5 Right"},{"$f":"$AA$24","v":"3 Right"},{"$f":"$AJ$19","v":"1 Right"}]
[null,33,{"$f":"$C$33","v":6},"Left",34,{"$f":"$C$33","v":6},"Right","6 Left","6 Right",null,20,{"$f":"$C$33","v":6},"Left",23,{"$f":"$C$33","v":6},"Right","6 Left","6 Right",null,8,{"$f":"$C$33","v":6},"Left",10,{"$f":"$C$33","v":6},"Right","6 Left","6 Right",null,31,{"$f":"$C$33","v":6},"Left",35,{"$f":"$C$33","v":6},"Right","6 Left","6 Right",17,{"$f":"$I$26","v":"3 Right"},{"$f":"$R$33","v":"6 Right"},{"$f":"$Z$21","v":"2 Left"},{"$f":"$AJ$28","v":"4 Right"}]
[null,null,6,"Left",null,6,"Right","6 Left","6 Right",null,null,6,"Left",null,6,"Right","6 Left","6 Right",null,null,6,"Left",null,6,"Right","6 Left","6 Right",null,null,6,"Left",null,6,"Right","6 Left","6 Right",18,{"$f":"$I$20","v":"1 Right"},{"$f":"$H$36","v":"7 Left"},{"$f":"$Z$27","v":"4 Left"},{"$f":"$AI$22","v":"2 Left"}]
[null,29,{"$f":"$N$2","v":7},"Left",30,{"$f":"$N$2","v":7},"Right","7 Left","7 Right",null,15,{"$f":"$N$2","v":7},"Left",18,{"$f":"$N$2","v":7},"Right","7 Left","7 Right",null,3,{"$f":"$N$2","v":7},"Left",6,{"$f":"$N$2","v":7},"Right","7 Left","7 Right",null,2,{"$f":"$N$2","v":7},"Left",4,{"$f":"$N$2","v":7},"Right","7 Left","7 Right",19,{"$f":"$H$20","v":"1 Left"},{"$f":"$Q$30","v":"5 Left"},{"$f":"$Z$24","v":"3 Left"},{"$f":"$AJ$22","v":"2 Right"}]
[null,35,{"$f":"$N$2","v":7},"Left",36,{"$f":"$N$2","v":7},"Right","7 Left","7 Right",null,21,{"$f":"$N$2","v":7},"Left",24,{"$f":"$N$2","v":7},"Right","7 Left","7 Right",null,9,{"$f":"$N$2","v":7},"Left",12,{"$f":"$N$2","v":7},"Right","7 Left","7 Right",null,32,{"$f":"$N$2","v":7},"Left",34,{"$f":"$N$2","v":7},"Right","7 Left","7 Right",20,{"$f":"$I$23","v":"2 Right"},{"$f":"$Q$33","v":"6 Left"},{"$f":"$AA$18","v":"1 Right"},{"$f":"$AI$28","v":"4 Left"}]
[null,null,7,"Left",null,7,"Right","7 Left","7 Right",null,null,7,"Left",null,7,"Right","7 Left","7 Right",null,null,7,"Left",null,7,"Right","7 Left","7 Right",null,null,7,"Left",null,7,"Right","7 Left","7 Right",21,{"$f":"$H$26","v":"3 Left"},{"$f":"$Q$36","v":"7 Left"},{"$f":"$Z$22","v":"2 Left"},{"$f":"$AI$26","v":"3 Left"}]
[null,null,null,null,null,null,null,null,null,null,null,null,null,null,null,null,null,null,null,null,null,null,null,null,null,null,null,null,null,null,null,null,null,null,null,null,22,{"$f":"$H$23","v":"2 Left"},{"$f":"$R$30","v":"5 Right"},{"$f":"$Z$28","v":"4 Left"},{"$f":"$AJ$26","v":"3 Right"}]
[null,null,null,null,null,null,null,null,null,null,null,null,null,null,null,null,null,null,null,null,null,null,null,null,null,null,null,null,null,null,null,null,null,null,null,null,23,{"$f":"$H$29","v":"4 Left"},{"$f":"$R$33","v":"6 Right"},{"$f":"$Z$25","v":"3 Left"},{"$f":"$AJ$20","v":"1 Right"}]
[null,null,null,null,null,null,null,null,null,null,null,null,null,null,null,null,null,null,null,null,null,null,null,null,null,null,null,null,null,null,null,null,null,null,null,null,24,{"$f":"$I$29","v":"4 Right"},{"$f":"$H$36","v":"7 Left"},{"$f":"$AA$19","v":"1 Right"},{"$f":"$AJ$29","v":"4 Right"}]
[null,null,null,null,null,null,null,null,null,null,null,null,null,null,null,null,null,null,null,null,null,null,null,null,null,null,null,null,null,null,null,null,null,null,null,null,25,{"$f":"$H$30","v":"5 Left"},{"$f":"$Q$18","v":"1 Left"},{"$f":"$AA$28","v":"4 Right"},{"$f":"$AI$23","v":"2 Left"}]
[null,null,null,null,null,null,null,null,null,null,null,null,null,null,null,null,null,null,null,null,null,null,null,null,null,null,null,null,null,null,null,null,null,null,null,null,26,{"$f":"$I$30","v":"5 Right"},{"$f":"$Q$21","v":"2 Left"},{"$f":"$Z$19","v":"1 Left"},{"$f":"$AJ$23","v":"2 Right"}]
[null,null,null,null,null,null,null,null,null,null,null,null,null,null,null,null,null,null,null,null,null,null,null,null,null,null,null,null,null,null,null,null,null,null,null,null,27,{"$f":"$H$33","v":"6 Left"},{"$f":"$Q$24","v":"3 Left"},{"$f":"$AA$22","v":"2 Right"},{"$f":"$AI$29","v":"4 Left"}]
[null,null,null,null,null,null,null,null,null,null,null,null,null,null,null,null,null,null,null,null,null,null,null,null,null,null,null,null,null,null,null,null,null,null,null,null,28,{"$f":"$I$33","v":"6 Right"},{"$f":"$Q$27","v":"4 Left"},{"$f":"$AA$25","v":"3 Right"},{"$f":"$AI$20","v":"1 Left"}]
[null,null,null,null,null,null,null,null,null,null,null,null,null,null,null,null,null,null,null,null,null,null,null,null,null,null,null,null,null,null,null,null,null,null,null,null,29,{"$f":"$H$36","v":"7 Left"},{"$f":"$R$18","v":"1 Right"},{"$f":"$Z$23","v":"2 Left"},{"$f":"$AJ$30","v":"5 Right"}]
[null,null,null,null,null,null,null,null,null,null,null,null,null,null,null,null,null,null,null,null,null,null,null,null,null,null,null,null,null,null,null,null,null,null,null,null,30,{"$f":"$H$36","v":"7 Left"},{"$f":"$R$21","v":"2 Right"},{"$f":"$Z$29","v":"4 Left"},{"$f":"$AJ$33","v":"6 Right"}]
[null,null,null,null,null,null,null,null,null,null,null,null,null,null,null,null,null,null,null,null,null,null,null,null,null,null,null,null,null,null,null,null,null,null,null,null,31,{"$f":"$H$30","v":"5 Left"},{"$f":"$R$27","v":"4 Right"},{"$f":"$Z$26","v":"3 Left"},{"$f":"$AI$33","v":"6 Left"}]
[null,null,null,null,null,null,null,null,null,null,null,null,null,null,null,null,null,null,null,null,null,null,null,null,null,null,null,null,null,null,null,null,null,null,null,null,32,{"$f":"$I$30","v":"5 Right"},{"$f":"$R$24","v":"3 Right"},{"$f":"$AA$20","v":"1 Right"},{"$f":"$AI$36","v":"7 Left"}]
[null,null,null,null,null,null,null,null,null,null,null,null,null,null,null,null,null,null,null,null,null,null,null,null,null,null,null,null,null,null,null,null,null,null,null,null,33,{"$f":"$H$33","v":"6 Left"},{"$f":"$Q$19","v":"1 Left"},{"$f":"$AA$26","v":"3 Right"},{"$f":"$AI$30","v":"5 Left"}]
[null,null,null,null,null,null,null,null,null,null,null,null,null,null,null,null,null,null,null,null,null,null,null,null,null,null,null,null,null,null,null,null,null,null,null,null,34,{"$f":"$I$33","v":"6 Right"},{"$f":"$Q$28","v":"4 Left"},{"$f":"$AA$23","v":"2 Right"},{"$f":"$H$36","v":"7 Left"}]
[null,null,null,null,null,null,null,null,null,null,null,null,null,null,null,null,null,null,null,null,null,null,null,null,null,null,null,null,null,null,null,null,null,null,null,null,35,{"$f":"$H$36","v":"7 Left"},{"$f":"$Q$25","v":"3 Left"},{"$f":"$Z$20","v":"1 Left"},{"$f":"$AJ$33","v":"6 Right"}]
[null,null,null,null,null,null,null,null,null,null,null,null,null,null,null,null,null,null,null,null,null,null,null,null,null,null,null,null,null,null,null,null,null,null,null,null,36,{"$f":"$H$36","v":"7 Left"},{"$f":"$Q$22","v":"2 Left"},{"$f":"$AA$29","v":"4 Right"},{"$f":"$AJ$30","v":"5 Right"}]
[null,null,null,null,null,null,null,null,null,null,null,null,null,null,null,null,null,null,null,null,null,null,null,null,null,null,null,null,null,null,null,null,null,null,null,null,null,{"$f":"$H$30","v":"5 Left"},{"$f":"$Q$30","v":"5 Left"},{"$f":"$Z$30","v":"5 Left"},{"$f":"$AI$30","v":"5 Left"}]
[null,null,null,null,null,null,null,null,null,null,null,null,null,null,null,null,null,null,null,null,null,null,null,null,null,null,null,null,null,null,null,null,null,null,null,null,null,{"$f":"$H$33","v":"6 Left"},{"$f":"$Q$33","v":"6 Left"},{"$f":"$Z$33","v":"6 Left"},{"$f":"$AI$33","v":"6 Left"}]
[null,null,null,null,null,null,null,null,null,null,null,null,null,null,null,null,null,null,null,null,null,null,null,null,null,null,null,null,null,null,null,null,null,null,null,null,null,{"$f":"$H$36","v":"7 Left"},{"$f":"$Q$36","v":"7 Left"},{"$f":"$Z$36","v":"7 Left"},{"$f":"$AI$36","v":"7 Left"}]
[null,null,null,null,null,null,null,null,null,null,null,null,null,null,null,null,null,null,null,null,null,null,null,null,null,null,null,null,null,null,null,null,null,null,null,null,null,{"$f":"$I$30","v":"5 Right"},{"$f":"$R$30","v":"5 Right"},{"$f":"$AA$30","v":"5 Right"},{"$f":"$AJ$30","v":"5 Right"}]
[null,null,null,null,null,null,null,null,null,null,null,null,null,null,null,null,null,null,null,null,null,null,null,null,null,null,null,null,null,null,null,null,null,null,null,null,null,{"$f":"$I$33","v":"6 Right"},{"$f":"$R$33","v":"6 Right"},{"$f":"$AA$33","v":"6 Right"},{"$f":"$AJ$33","v":"6 Right"}]
[null,null,null,null,null,null,null,null,null,null,null,null,null,null,null,null,null,null,null,null,null,null,null,null,null,null,null,null,null,null,null,null,null,null,null,null,null,{"$f":"$H$36","v":"7 Left"},{"$f":"$H$36","v":"7 Left"},{"$f":"$H$36","v":"7 Left"},{"$f":"$H$36","v":"7 Left"}]
[]
[]
[]
[]
[]
[]
[]
[]
[]
[]
[]
[]
[]
[]
[]
[]
[]
[]
[]
[]
[]
[]
[]
[]
[]
[]
[]
[]
[]
[]
[]
[]
[]
[]
[]
[]
[]
[]
[]
[]
[]
[]
[]
[]
[null,null,null,null,null,null,null,null,null,null,null,null,null,null,null,null,null,null,null,null,null,null,null,null,null,null,null,null,null,null,null,null,null,null,null,null,30,{"$f":"$I$36","v":"7 Right"},{"$f":"$R$36","v":"7 Right"},{"$f":"$AA$36","v":"7 Right"},{"$f":"$AJ$36","v":"7 Right"}]
[null,null,null,null,null,null,null,null,null,null,null,null,null,null,null,null,null,null,null,null,null,null,null,null,null,null,null,null,null,null,null,null,null,null,null,null,36,{"$f":"$I$36","v":"7 Right"},{"$f":"$R$36","v":"7 Right"},{"$f":"$AA$36","v":"7 Right"},{"$f":"$AJ$36","v":"7 Right"}]
[null,null,null,null,null,null,null,null,null,null,null,null,null,null,null,null,null,null,null,null,null,null,null,null,null,null,null,null,null,null,null,null,null,null,null,null,null,{"$f":"$I$36","v":"7 Right"},{"$f":"$R$36","v":"7 Right"},{"$f":"$AA$36","v":"7 Right"},{"$f":"$AJ$36","v":"7 Right"}]

{"sheet":"38","index":16,"n_rows":106,"n_cols":41,"rows_kept":106,"cut":false,"hidden":true,"merged":[[14,1,14,14],[1,11,1,12],[1,13,1,14],[1,5,1,6],[1,7,1,8],[1,9,1,10],[0,1,0,14],[5,0,7,0],[8,0,10,0],[11,0,13,0],[1,1,1,2],[1,3,1,4],[2,0,4,0]]}
[null,"YOU MAY CHANGE THESE RINK NUMBERS IF YOU WISH"]
["RINKS",1,null,2,2,3,3,4,4,5,5,6,6,7,7]
[1,1,2,3,4,5,7,6,8,9,10,31,32,33,34]
[null,11,12,13,14,15,17,16,18,19,20,35,36,37,38]
[null,21,22,23,24,25,27,26,28,29,30]
[2,34,35,31,36,30,38,32,1,33,37,22,23,24,25]
[null,5,6,11,7,2,9,3,10,4,8,26,27,28,29]
[null,14,15,20,16,21,18,12,19,13,17]
[3,1,3,15,29,4,6,5,7,28,14,20,21,18,19]
[null,8,9,27,2,10,12,11,13,38,26,24,25,22,23]
[null,30,31,37,17,32,34,33,35,16,36]
[4,27,5,4,6,1,8,9,2,3,7,10,11,12,13]
[null,29,20,19,21,25,23,24,26,30,22,14,15,16,17]
[null,38,32,31,33,37,35,36,28,18,34]
[null,"38 on 1 green"]
[]
[null,null,null,null,null,null,null,null,null,null,null,null,null,null,null,null,null,null,null,null,null,null,null,null,null,null,null,null,null,null,null,null,null,null,null,null,1]
[null,1,{"$f":"$B$2","v":1},"Left",2,{"$f":"$B$2","v":1},"Right",{"$f":"(C18&\" \"&D18)","v":"1 Left"},{"$f":"(F18&\" \"&G18)","v":"1 Right"},null,34,{"$f":"$B$2","v":1},"Left",35,{"$f":"$B$2","v":1},"Right",{"$f":"(L18&\" \"&M18)","v":"1 Left"},{"$f":"(O18&\" \"&P18)","v":"1 Right"},null,1,{"$f":"$B$2","v":1},"Left",3,{"$f":"$B$2","v":1},"Right",{"$f":"(U18&\" \"&V18)","v":"1 Left"},{"$f":"(X18&\" \"&Y18)","v":"1 Right"},null,27,{"$f":"$B$2","v":1},"Left",5,{"$f":"$B$2","v":1},"Right",{"$f":"(AD18&\" \"&AE18)","v":"1 Left"},{"$f":"(AG18&\" \"&AH18)","v":"1 Right"},1,{"$f":"$H$18","v":"1 Left"},{"$f":"$R$27","v":"4 Right"},{"$f":"$Z$18","v":"1 Left"},{"$f":"$AI$24","v":"3 Left"}]
[null,11,{"$f":"$B$2","v":1},"Left",12,{"$f":"$B$2","v":1},"Right",{"$f":"(C19&\" \"&D19)","v":"1 Left"},{"$f":"(F19&\" \"&G19)","v":"1 Right"},null,5,{"$f":"$B$2","v":1},"Left",6,{"$f":"$B$2","v":1},"Right",{"$f":"(L19&\" \"&M19)","v":"1 Left"},{"$f":"(O19&\" \"&P19)","v":"1 Right"},null,8,{"$f":"$B$2","v":1},"Left",9,{"$f":"$B$2","v":1},"Right",{"$f":"(U19&\" \"&V19)","v":"1 Left"},{"$f":"(X19&\" \"&Y19)","v":"1 Right"},null,29,{"$f":"$B$2","v":1},"Left",20,{"$f":"$B$2","v":1},"Right",{"$f":"(AD19&\" \"&AE19)","v":"1 Left"},{"$f":"(AG19&\" \"&AH19)","v":"1 Right"},2,{"$f":"$I$18","v":"1 Right"},{"$f":"$Q$25","v":"3 Left"},{"$f":"$AA$22","v":"2 Right"},{"$f":"$AJ$27","v":"4 Right"}]
[null,21,1,"Left",22,1,"Right","1 Left","1 Right",null,14,1,"Left",15,1,"Right","1 Left","1 Right",null,30,1,"Left",31,1,"Right","1 Left","1 Right",null,38,1,"Left",32,1,"Right","1 Left","1 Right",3,{"$f":"$H$21","v":"2 Left"},{"$f":"$Q$28","v":"4 Left"},{"$f":"$AA$18","v":"1 Right"},{"$f":"$AI$30","v":"5 Left"}]
[null,3,{"$f":"$D$2","v":2},"Left",4,{"$f":"$D$2","v":2},"Right","2 Left","2 Right",null,31,{"$f":"$D$2","v":2},"Left",36,{"$f":"$D$2","v":2},"Right","2 Left","2 Right",null,15,{"$f":"$D$2","v":2},"Left",29,{"$f":"$D$2","v":2},"Right","2 Left","2 Right",null,4,{"$f":"$D$2","v":2},"Left",6,{"$f":"$D$2","v":2},"Right","2 Left","2 Right",4,{"$f":"$I$21","v":"2 Right"},{"$f":"$Q$30","v":"5 Left"},{"$f":"$Z$24","v":"3 Left"},{"$f":"$AI$21","v":"2 Left"}]
[null,13,{"$f":"$D$2","v":2},"Left",14,{"$f":"$D$2","v":2},"Right","2 Left","2 Right",null,11,{"$f":"$D$2","v":2},"Left",7,{"$f":"$D$2","v":2},"Right","2 Left","2 Right",null,27,{"$f":"$D$2","v":2},"Left",2,{"$f":"$D$2","v":2},"Right","2 Left","2 Right",null,19,{"$f":"$D$2","v":2},"Left",21,{"$f":"$D$2","v":2},"Right","2 Left","2 Right",5,{"$f":"$H$24","v":"3 Left"},{"$f":"$Q$19","v":"1 Left"},{"$f":"$Z$27","v":"4 Left"},{"$f":"$AJ$18","v":"1 Right"}]
[null,23,2,"Left",24,2,"Right","2 Left","2 Right",null,20,2,"Left",16,2,"Right","2 Left","2 Right",null,37,2,"Left",17,2,"Right","2 Left","2 Right",null,31,2,"Left",33,2,"Right","2 Left","2 Right",6,{"$f":"$H$27","v":"4 Left"},{"$f":"$R$19","v":"1 Right"},{"$f":"$AA$24","v":"3 Right"},{"$f":"$AJ$21","v":"2 Right"}]
[null,5,{"$f":"$F$2","v":3},"Left",7,{"$f":"$F$2","v":3},"Right","3 Left","3 Right",null,30,{"$f":"$F$2","v":3},"Left",38,{"$f":"$F$2","v":3},"Right","3 Left","3 Right",null,4,{"$f":"$F$2","v":3},"Left",6,{"$f":"$F$2","v":3},"Right","3 Left","3 Right",null,1,{"$f":"$F$2","v":3},"Left",8,{"$f":"$F$2","v":3},"Right","3 Left","3 Right",7,{"$f":"$I$24","v":"3 Right"},{"$f":"$R$22","v":"2 Right"},{"$f":"$AA$27","v":"4 Right"},{"$f":"$AJ$30","v":"5 Right"}]
[null,15,{"$f":"$F$2","v":3},"Left",17,{"$f":"$F$2","v":3},"Right","3 Left","3 Right",null,2,{"$f":"$F$2","v":3},"Left",9,{"$f":"$F$2","v":3},"Right","3 Left","3 Right",null,10,{"$f":"$F$2","v":3},"Left",12,{"$f":"$F$2","v":3},"Right","3 Left","3 Right",null,25,{"$f":"$F$2","v":3},"Left",23,{"$f":"$F$2","v":3},"Right","3 Left","3 Right",8,{"$f":"$I$27","v":"4 Right"},{"$f":"$R$30","v":"5 Right"},{"$f":"$Z$19","v":"1 Left"},{"$f":"$AJ$24","v":"3 Right"}]
[null,25,3,"Left",27,3,"Right","3 Left","3 Right",null,21,3,"Left",18,3,"Right","3 Left","3 Right",null,32,3,"Left",34,3,"Right","3 Left","3 Right",null,37,3,"Left",35,3,"Right","3 Left","3 Right",9,{"$f":"$H$30","v":"5 Left"},{"$f":"$R$25","v":"3 Right"},{"$f":"$AA$19","v":"1 Right"},{"$f":"$AI$27","v":"4 Left"}]
[null,6,{"$f":"$H$2","v":4},"Left",8,{"$f":"$H$2","v":4},"Right","4 Left","4 Right",null,32,{"$f":"$H$2","v":4},"Left",1,{"$f":"$H$2","v":4},"Right","4 Left","4 Right",null,5,{"$f":"$H$2","v":4},"Left",7,{"$f":"$H$2","v":4},"Right","4 Left","4 Right",null,9,{"$f":"$H$2","v":4},"Left",2,{"$f":"$H$2","v":4},"Right","4 Left","4 Right",10,{"$f":"$I$30","v":"5 Right"},{"$f":"$R$28","v":"4 Right"},{"$f":"$Z$25","v":"3 Left"},{"$f":"$AI$33","v":"6 Left"}]
[null,16,{"$f":"$H$2","v":4},"Left",18,{"$f":"$H$2","v":4},"Right","4 Left","4 Right",null,3,{"$f":"$H$2","v":4},"Left",10,{"$f":"$H$2","v":4},"Right","4 Left","4 Right",null,11,{"$f":"$H$2","v":4},"Left",13,{"$f":"$H$2","v":4},"Right","4 Left","4 Right",null,24,{"$f":"$H$2","v":4},"Left",26,{"$f":"$H$2","v":4},"Right","4 Left","4 Right",11,{"$f":"$H$19","v":"1 Left"},{"$f":"$Q$22","v":"2 Left"},{"$f":"$Z$28","v":"4 Left"},{"$f":"$AJ$33","v":"6 Right"}]
[null,26,4,"Left",28,4,"Right","4 Left","4 Right",null,12,4,"Left",19,4,"Right","4 Left","4 Right",null,33,4,"Left",35,4,"Right","4 Left","4 Right",null,36,4,"Left",28,4,"Right","4 Left","4 Right",12,{"$f":"$I$19","v":"1 Right"},{"$f":"$Q$29","v":"4 Left"},{"$f":"$AA$25","v":"3 Right"},{"$f":"$AI$36","v":"7 Left"}]
[null,9,{"$f":"$J$2","v":5},"Left",10,{"$f":"$J$2","v":5},"Right","5 Left","5 Right",null,33,{"$f":"$J$2","v":5},"Left",37,{"$f":"$J$2","v":5},"Right","5 Left","5 Right",null,28,{"$f":"$J$2","v":5},"Left",14,{"$f":"$J$2","v":5},"Right","5 Left","5 Right",null,3,{"$f":"$J$2","v":5},"Left",7,{"$f":"$J$2","v":5},"Right","5 Left","5 Right",13,{"$f":"$H$22","v":"2 Left"},{"$f":"$Q$30","v":"5 Left"},{"$f":"$AA$28","v":"4 Right"},{"$f":"$H$36","v":"7 Left"}]
[null,19,{"$f":"$J$2","v":5},"Left",20,{"$f":"$J$2","v":5},"Right","5 Left","5 Right",null,4,{"$f":"$J$2","v":5},"Left",8,{"$f":"$J$2","v":5},"Right","5 Left","5 Right",null,38,{"$f":"$J$2","v":5},"Left",26,{"$f":"$J$2","v":5},"Right","5 Left","5 Right",null,30,{"$f":"$J$2","v":5},"Left",22,{"$f":"$J$2","v":5},"Right","5 Left","5 Right",14,{"$f":"$I$22","v":"2 Right"},{"$f":"$Q$20","v":"1 Left"},{"$f":"$AA$30","v":"5 Right"},{"$f":"$AI$33","v":"6 Left"}]
[null,29,5,"Left",30,5,"Right","5 Left","5 Right",null,13,5,"Left",17,5,"Right","5 Left","5 Right",null,16,5,"Left",36,5,"Right","5 Left","5 Right",null,18,5,"Left",34,5,"Right","5 Left","5 Right",15,{"$f":"$H$25","v":"3 Left"},{"$f":"$R$20","v":"1 Right"},{"$f":"$Z$21","v":"2 Left"},{"$f":"$AJ$33","v":"6 Right"}]
[null,31,{"$f":"$L$2","v":6},"Left",32,{"$f":"$L$2","v":6},"Right","6 Left","6 Right",null,22,{"$f":"$L$2","v":6},"Left",23,{"$f":"$L$2","v":6},"Right","6 Left","6 Right",null,20,{"$f":"$L$2","v":6},"Left",21,{"$f":"$L$2","v":6},"Right","6 Left","6 Right",null,10,{"$f":"$L$2","v":6},"Left",11,{"$f":"$L$2","v":6},"Right","6 Left","6 Right",16,{"$f":"$H$28","v":"4 Left"},{"$f":"$R$23","v":"2 Right"},{"$f":"$Z$30","v":"5 Left"},{"$f":"$AI$36","v":"7 Left"}]
[null,35,{"$f":"$C$33","v":6},"Left",36,{"$f":"$C$33","v":6},"Right","6 Left","6 Right",null,26,{"$f":"$C$33","v":6},"Left",27,{"$f":"$C$33","v":6},"Right","6 Left","6 Right",null,24,{"$f":"$C$33","v":6},"Left",25,{"$f":"$C$33","v":6},"Right","6 Left","6 Right",null,14,{"$f":"$C$33","v":6},"Left",15,{"$f":"$C$33","v":6},"Right","6 Left","6 Right",17,{"$f":"$I$25","v":"3 Right"},{"$f":"$R$30","v":"5 Right"},{"$f":"$AA$23","v":"2 Right"},{"$f":"$H$36","v":"7 Left"}]
[null,null,6,"Left",null,6,"Right","6 Left","6 Right",null,null,6,"Left",null,6,"Right","6 Left","6 Right",null,null,6,"Left",null,6,"Right","6 Left","6 Right",null,null,6,"Left",null,6,"Right","6 Left","6 Right",18,{"$f":"$I$28","v":"4 Right"},{"$f":"$R$26","v":"3 Right"},{"$f":"$Z$36","v":"7 Left"},{"$f":"$AI$30","v":"5 Left"}]
[null,33,{"$f":"$N$2","v":7},"Left",34,{"$f":"$N$2","v":7},"Right","7 Left","7 Right",null,24,{"$f":"$N$2","v":7},"Left",25,{"$f":"$N$2","v":7},"Right","7 Left","7 Right",null,18,{"$f":"$N$2","v":7},"Left",19,{"$f":"$N$2","v":7},"Right","7 Left","7 Right",null,12,{"$f":"$N$2","v":7},"Left",13,{"$f":"$N$2","v":7},"Right","7 Left","7 Right",19,{"$f":"$H$30","v":"5 Left"},{"$f":"$R$29","v":"4 Right"},{"$f":"$H$36","v":"7 Left"},{"$f":"$AI$22","v":"2 Left"}]
[null,37,{"$f":"$N$2","v":7},"Left",38,{"$f":"$N$2","v":7},"Right","7 Left","7 Right",null,28,{"$f":"$N$2","v":7},"Left",29,{"$f":"$N$2","v":7},"Right","7 Left","7 Right",null,22,{"$f":"$N$2","v":7},"Left",23,{"$f":"$N$2","v":7},"Right","7 Left","7 Right",null,16,{"$f":"$N$2","v":7},"Left",17,{"$f":"$N$2","v":7},"Right","7 Left","7 Right",20,{"$f":"$I$30","v":"5 Right"},{"$f":"$Q$23","v":"2 Left"},{"$f":"$Z$33","v":"6 Left"},{"$f":"$AJ$19","v":"1 Right"}]
[null,null,7,"Left",null,7,"Right","7 Left","7 Right",null,null,7,"Left",null,7,"Right","7 Left","7 Right",null,null,7,"Left",null,7,"Right","7 Left","7 Right",null,null,7,"Left",null,7,"Right","7 Left","7 Right",21,{"$f":"$H$20","v":"1 Left"},{"$f":"$Q$26","v":"3 Left"},{"$f":"$AA$33","v":"6 Right"},{"$f":"$AJ$22","v":"2 Right"}]
[null,null,null,null,null,null,null,null,null,null,null,null,null,null,null,null,null,null,null,null,null,null,null,null,null,null,null,null,null,null,null,null,null,null,null,null,22,{"$f":"$I$20","v":"1 Right"},{"$f":"$Q$33","v":"6 Left"},{"$f":"$Z$36","v":"7 Left"},{"$f":"$AJ$30","v":"5 Right"}]
[null,null,null,null,null,null,null,null,null,null,null,null,null,null,null,null,null,null,null,null,null,null,null,null,null,null,null,null,null,null,null,null,null,null,null,null,23,{"$f":"$H$23","v":"2 Left"},{"$f":"$R$33","v":"6 Right"},{"$f":"$H$36","v":"7 Left"},{"$f":"$AJ$25","v":"3 Right"}]
[null,null,null,null,null,null,null,null,null,null,null,null,null,null,null,null,null,null,null,null,null,null,null,null,null,null,null,null,null,null,null,null,null,null,null,null,24,{"$f":"$I$23","v":"2 Right"},{"$f":"$Q$36","v":"7 Left"},{"$f":"$Z$33","v":"6 Left"},{"$f":"$AI$28","v":"4 Left"}]
[null,null,null,null,null,null,null,null,null,null,null,null,null,null,null,null,null,null,null,null,null,null,null,null,null,null,null,null,null,null,null,null,null,null,null,null,25,{"$f":"$H$26","v":"3 Left"},{"$f":"$H$36","v":"7 Left"},{"$f":"$AA$33","v":"6 Right"},{"$f":"$AI$25","v":"3 Left"}]
[null,null,null,null,null,null,null,null,null,null,null,null,null,null,null,null,null,null,null,null,null,null,null,null,null,null,null,null,null,null,null,null,null,null,null,null,26,{"$f":"$H$29","v":"4 Left"},{"$f":"$Q$33","v":"6 Left"},{"$f":"$AA$30","v":"5 Right"},{"$f":"$AJ$28","v":"4 Right"}]
[null,null,null,null,null,null,null,null,null,null,null,null,null,null,null,null,null,null,null,null,null,null,null,null,null,null,null,null,null,null,null,null,null,null,null,null,27,{"$f":"$I$26","v":"3 Right"},{"$f":"$R$33","v":"6 Right"},{"$f":"$Z$22","v":"2 Left"},{"$f":"$AI$18","v":"1 Left"}]
[null,null,null,null,null,null,null,null,null,null,null,null,null,null,null,null,null,null,null,null,null,null,null,null,null,null,null,null,null,null,null,null,null,null,null,null,28,{"$f":"$I$29","v":"4 Right"},{"$f":"$Q$36","v":"7 Left"},{"$f":"$Z$30","v":"5 Left"},{"$f":"$AJ$29","v":"4 Right"}]
[null,null,null,null,null,null,null,null,null,null,null,null,null,null,null,null,null,null,null,null,null,null,null,null,null,null,null,null,null,null,null,null,null,null,null,null,29,{"$f":"$H$30","v":"5 Left"},{"$f":"$H$36","v":"7 Left"},{"$f":"$AA$21","v":"2 Right"},{"$f":"$AI$19","v":"1 Left"}]
[null,null,null,null,null,null,null,null,null,null,null,null,null,null,null,null,null,null,null,null,null,null,null,null,null,null,null,null,null,null,null,null,null,null,null,null,30,{"$f":"$I$30","v":"5 Right"},{"$f":"$Q$24","v":"3 Left"},{"$f":"$Z$20","v":"1 Left"},{"$f":"$AI$30","v":"5 Left"}]
[null,null,null,null,null,null,null,null,null,null,null,null,null,null,null,null,null,null,null,null,null,null,null,null,null,null,null,null,null,null,null,null,null,null,null,null,31,{"$f":"$H$33","v":"6 Left"},{"$f":"$Q$21","v":"2 Left"},{"$f":"$AA$20","v":"1 Right"},{"$f":"$AI$23","v":"2 Left"}]
[null,null,null,null,null,null,null,null,null,null,null,null,null,null,null,null,null,null,null,null,null,null,null,null,null,null,null,null,null,null,null,null,null,null,null,null,32,{"$f":"$I$33","v":"6 Right"},{"$f":"$Q$27","v":"4 Left"},{"$f":"$Z$26","v":"3 Left"},{"$f":"$AJ$20","v":"1 Right"}]
[null,null,null,null,null,null,null,null,null,null,null,null,null,null,null,null,null,null,null,null,null,null,null,null,null,null,null,null,null,null,null,null,null,null,null,null,33,{"$f":"$H$36","v":"7 Left"},{"$f":"$Q$30","v":"5 Left"},{"$f":"$Z$29","v":"4 Left"},{"$f":"$AJ$23","v":"2 Right"}]
[null,null,null,null,null,null,null,null,null,null,null,null,null,null,null,null,null,null,null,null,null,null,null,null,null,null,null,null,null,null,null,null,null,null,null,null,34,{"$f":"$H$36","v":"7 Left"},{"$f":"$Q$18","v":"1 Left"},{"$f":"$AA$26","v":"3 Right"},{"$f":"$AJ$30","v":"5 Right"}]
[null,null,null,null,null,null,null,null,null,null,null,null,null,null,null,null,null,null,null,null,null,null,null,null,null,null,null,null,null,null,null,null,null,null,null,null,35,{"$f":"$H$33","v":"6 Left"},{"$f":"$R$18","v":"1 Right"},{"$f":"$AA$29","v":"4 Right"},{"$f":"$AJ$26","v":"3 Right"}]
[null,null,null,null,null,null,null,null,null,null,null,null,null,null,null,null,null,null,null,null,null,null,null,null,null,null,null,null,null,null,null,null,null,null,null,null,36,{"$f":"$I$33","v":"6 Right"},{"$f":"$R$21","v":"2 Right"},{"$f":"$AA$30","v":"5 Right"},{"$f":"$AI$29","v":"4 Left"}]
[null,null,null,null,null,null,null,null,null,null,null,null,null,null,null,null,null,null,null,null,null,null,null,null,null,null,null,null,null,null,null,null,null,null,null,null,37,{"$f":"$H$36","v":"7 Left"},{"$f":"$R$30","v":"5 Right"},{"$f":"$Z$23","v":"2 Left"},{"$f":"$AI$26","v":"3 Left"}]
[null,null,null,null,null,null,null,null,null,null,null,null,null,null,null,null,null,null,null,null,null,null,null,null,null,null,null,null,null,null,null,null,null,null,null,null,38,{"$f":"$H$36","v":"7 Left"},{"$f":"$R$24","v":"3 Right"},{"$f":"$Z$30","v":"5 Left"},{"$f":"$AI$20","v":"1 Left"}]
[null,null,null,null,null,null,null,null,null,null,null,null,null,null,null,null,null,null,null,null,null,null,null,null,null,null,null,null,null,null,null,null,null,null,null,null,null,{"$f":"$H$33","v":"6 Left"},{"$f":"$Q$33","v":"6 Left"},{"$f":"$Z$33","v":"6 Left"},{"$f":"$AI$33","v":"6 Left"}]
[null,null,null,null,null,null,null,null,null,null,null,null,null,null,null,null,null,null,null,null,null,null,null,null,null,null,null,null,null,null,null,null,null,null,null,null,null,{"$f":"$H$36","v":"7 Left"},{"$f":"$Q$36","v":"7 Left"},{"$f":"$Z$36","v":"7 Left"},{"$f":"$AI$36","v":"7 Left"}]
[null,null,null,null,null,null,null,null,null,null,null,null,null,null,null,null,null,null,null,null,null,null,null,null,null,null,null,null,null,null,null,null,null,null,null,null,null,{"$f":"$I$33","v":"6 Right"},{"$f":"$R$33","v":"6 Right"},{"$f":"$AA$33","v":"6 Right"},{"$f":"$AJ$33","v":"6 Right"}]
[null,null,null,null,null,null,null,null,null,null,null,null,null,null,null,null,null,null,null,null,null,null,null,null,null,null,null,null,null,null,null,null,null,null,null,null,null,{"$f":"$H$36","v":"7 Left"},{"$f":"$H$36","v":"7 Left"},{"$f":"$H$36","v":"7 Left"},{"$f":"$H$36","v":"7 Left"}]
[]
[]
[]
[]
[]
[]
[]
[]
[]
[]
[]
[]
[]
[]
[]
[]
[]
[]
[]
[]
[]
[]
[]
[]
[]
[]
[]
[]
[]
[]
[]
[]
[]
[]
[]
[]
[]
[]
[]
[]
[]
[]
[]
[]
[null,null,null,null,null,null,null,null,null,null,null,null,null,null,null,null,null,null,null,null,null,null,null,null,null,null,null,null,null,null,null,null,null,null,null,null,34,{"$f":"$I$36","v":"7 Right"},{"$f":"$R$36","v":"7 Right"},{"$f":"$AA$36","v":"7 Right"},{"$f":"$AJ$36","v":"7 Right"}]
[null,null,null,null,null,null,null,null,null,null,null,null,null,null,null,null,null,null,null,null,null,null,null,null,null,null,null,null,null,null,null,null,null,null,null,null,38,{"$f":"$I$36","v":"7 Right"},{"$f":"$R$36","v":"7 Right"},{"$f":"$AA$36","v":"7 Right"},{"$f":"$AJ$36","v":"7 Right"}]
[null,null,null,null,null,null,null,null,null,null,null,null,null,null,null,null,null,null,null,null,null,null,null,null,null,null,null,null,null,null,null,null,null,null,null,null,null,{"$f":"$I$36","v":"7 Right"},{"$f":"$R$36","v":"7 Right"},{"$f":"$AA$36","v":"7 Right"},{"$f":"$AJ$36","v":"7 Right"}]

{"sheet":"40","index":17,"n_rows":106,"n_cols":41,"rows_kept":106,"cut":false,"hidden":true,"merged":[[14,1,14,14],[5,0,7,0],[8,0,10,0],[0,1,0,14],[11,0,13,0],[1,11,1,12],[1,13,1,14],[1,1,1,2],[1,3,1,4],[1,5,1,6],[1,7,1,8],[1,9,1,10],[2,0,4,0]]}
[null,"YOU MAY CHANGE THESE RINK NUMBERS IF YOU WISH"]
["RINKS",1,null,2,2,3,3,4,4,5,5,6,6,7,7]
[1,1,7,3,8,2,9,4,10,5,11,6,12,37,38]
[null,13,19,15,20,14,21,16,22,17,23,18,24,39,40]
[null,25,31,27,32,26,33,28,34,29,35,30,36]
[2,10,11,5,12,6,16,7,13,8,14,9,15,1,2]
[null,23,24,18,25,19,17,20,26,21,27,22,28,3,4]
[null,36,37,31,38,32,30,33,39,34,40,35,29]
[3,28,21,26,24,27,20,25,18,19,22,23,17,13,14]
[null,39,32,37,35,38,31,36,29,30,33,34,40,15,16]
[null,12,5,10,8,11,4,9,2,3,6,7,1]
[4,10,7,34,14,8,37,12,1,31,32,33,2,27,28]
[null,20,17,6,23,18,9,22,11,13,4,5,3,29,30]
[null,38,35,16,39,36,19,40,21,24,26,15,25]
[null,"40 on 1 green"]
[]
[null,null,null,null,null,null,null,null,null,null,null,null,null,null,null,null,null,null,null,null,null,null,null,null,null,null,null,null,null,null,null,null,null,null,null,null,1]
[null,1,{"$f":"$B$2","v":1},"Left",7,{"$f":"$B$2","v":1},"Right",{"$f":"(C18&\" \"&D18)","v":"1 Left"},{"$f":"(F18&\" \"&G18)","v":"1 Right"},null,10,{"$f":"$B$2","v":1},"Left",11,{"$f":"$B$2","v":1},"Right",{"$f":"(L18&\" \"&M18)","v":"1 Left"},{"$f":"(O18&\" \"&P18)","v":"1 Right"},null,28,{"$f":"$B$2","v":1},"Left",21,{"$f":"$B$2","v":1},"Right",{"$f":"(U18&\" \"&V18)","v":"1 Left"},{"$f":"(X18&\" \"&Y18)","v":"1 Right"},null,10,{"$f":"$B$2","v":1},"Left",7,{"$f":"$B$2","v":1},"Right",{"$f":"(AD18&\" \"&AE18)","v":"1 Left"},{"$f":"(AG18&\" \"&AH18)","v":"1 Right"},1,{"$f":"$H$18","v":"1 Left"},{"$f":"$Q$36","v":"7 Left"},{"$f":"$AA$33","v":"6 Right"},{"$f":"$AJ$27","v":"4 Right"}]
[null,13,{"$f":"$B$2","v":1},"Left",19,{"$f":"$B$2","v":1},"Right",{"$f":"(C19&\" \"&D19)","v":"1 Left"},{"$f":"(F19&\" \"&G19)","v":"1 Right"},null,23,{"$f":"$B$2","v":1},"Left",24,{"$f":"$B$2","v":1},"Right",{"$f":"(L19&\" \"&M19)","v":"1 Left"},{"$f":"(O19&\" \"&P19)","v":"1 Right"},null,39,{"$f":"$B$2","v":1},"Left",32,{"$f":"$B$2","v":1},"Right",{"$f":"(U19&\" \"&V19)","v":"1 Left"},{"$f":"(X19&\" \"&Y19)","v":"1 Right"},null,20,{"$f":"$B$2","v":1},"Left",17,{"$f":"$B$2","v":1},"Right",{"$f":"(AD19&\" \"&AE19)","v":"1 Left"},{"$f":"(AG19&\" \"&AH19)","v":"1 Right"},2,{"$f":"$H$24","v":"3 Left"},{"$f":"$H$36","v":"7 Left"},{"$f":"$AA$29","v":"4 Right"},{"$f":"$AJ$33","v":"6 Right"}]
[null,25,1,"Left",31,1,"Right","1 Left","1 Right",null,36,1,"Left",37,1,"Right","1 Left","1 Right",null,12,1,"Left",5,1,"Right","1 Left","1 Right",null,38,1,"Left",35,1,"Right","1 Left","1 Right",3,{"$f":"$H$21","v":"2 Left"},{"$f":"$Q$36","v":"7 Left"},{"$f":"$Z$30","v":"5 Left"},{"$f":"$AJ$33","v":"6 Right"}]
[null,3,{"$f":"$D$2","v":2},"Left",8,{"$f":"$D$2","v":2},"Right","2 Left","2 Right",null,5,{"$f":"$D$2","v":2},"Left",12,{"$f":"$D$2","v":2},"Right","2 Left","2 Right",null,26,{"$f":"$D$2","v":2},"Left",24,{"$f":"$D$2","v":2},"Right","2 Left","2 Right",null,34,{"$f":"$D$2","v":2},"Left",14,{"$f":"$D$2","v":2},"Right","2 Left","2 Right",4,{"$f":"$H$27","v":"4 Left"},{"$f":"$H$36","v":"7 Left"},{"$f":"$AA$26","v":"3 Right"},{"$f":"$AJ$30","v":"5 Right"}]
[null,15,{"$f":"$D$2","v":2},"Left",20,{"$f":"$D$2","v":2},"Right","2 Left","2 Right",null,18,{"$f":"$D$2","v":2},"Left",25,{"$f":"$D$2","v":2},"Right","2 Left","2 Right",null,37,{"$f":"$D$2","v":2},"Left",35,{"$f":"$D$2","v":2},"Right","2 Left","2 Right",null,6,{"$f":"$D$2","v":2},"Left",23,{"$f":"$D$2","v":2},"Right","2 Left","2 Right",5,{"$f":"$H$30","v":"5 Left"},{"$f":"$Q$21","v":"2 Left"},{"$f":"$AA$20","v":"1 Right"},{"$f":"$AI$33","v":"6 Left"}]
[null,27,2,"Left",32,2,"Right","2 Left","2 Right",null,31,2,"Left",38,2,"Right","2 Left","2 Right",null,10,2,"Left",8,2,"Right","2 Left","2 Right",null,16,2,"Left",39,2,"Right","2 Left","2 Right",6,{"$f":"$H$33","v":"6 Left"},{"$f":"$Q$24","v":"3 Left"},{"$f":"$AA$30","v":"5 Right"},{"$f":"$AI$22","v":"2 Left"}]
[null,2,{"$f":"$F$2","v":3},"Left",9,{"$f":"$F$2","v":3},"Right","3 Left","3 Right",null,6,{"$f":"$F$2","v":3},"Left",16,{"$f":"$F$2","v":3},"Right","3 Left","3 Right",null,27,{"$f":"$F$2","v":3},"Left",20,{"$f":"$F$2","v":3},"Right","3 Left","3 Right",null,8,{"$f":"$F$2","v":3},"Left",37,{"$f":"$F$2","v":3},"Right","3 Left","3 Right",7,{"$f":"$I$18","v":"1 Right"},{"$f":"$Q$27","v":"4 Left"},{"$f":"$Z$33","v":"6 Left"},{"$f":"$AJ$18","v":"1 Right"}]
[null,14,{"$f":"$F$2","v":3},"Left",21,{"$f":"$F$2","v":3},"Right","3 Left","3 Right",null,19,{"$f":"$F$2","v":3},"Left",17,{"$f":"$F$2","v":3},"Right","3 Left","3 Right",null,38,{"$f":"$F$2","v":3},"Left",31,{"$f":"$F$2","v":3},"Right","3 Left","3 Right",null,18,{"$f":"$F$2","v":3},"Left",9,{"$f":"$F$2","v":3},"Right","3 Left","3 Right",8,{"$f":"$I$21","v":"2 Right"},{"$f":"$Q$30","v":"5 Left"},{"$f":"$AA$23","v":"2 Right"},{"$f":"$AI$24","v":"3 Left"}]
[null,26,3,"Left",33,3,"Right","3 Left","3 Right",null,32,3,"Left",30,3,"Right","3 Left","3 Right",null,11,3,"Left",4,3,"Right","3 Left","3 Right",null,36,3,"Left",19,3,"Right","3 Left","3 Right",9,{"$f":"$I$24","v":"3 Right"},{"$f":"$Q$33","v":"6 Left"},{"$f":"$Z$29","v":"4 Left"},{"$f":"$AJ$25","v":"3 Right"}]
[null,4,{"$f":"$H$2","v":4},"Left",10,{"$f":"$H$2","v":4},"Right","4 Left","4 Right",null,7,{"$f":"$H$2","v":4},"Left",13,{"$f":"$H$2","v":4},"Right","4 Left","4 Right",null,25,{"$f":"$H$2","v":4},"Left",18,{"$f":"$H$2","v":4},"Right","4 Left","4 Right",null,12,{"$f":"$H$2","v":4},"Left",1,{"$f":"$H$2","v":4},"Right","4 Left","4 Right",10,{"$f":"$I$27","v":"4 Right"},{"$f":"$Q$18","v":"1 Left"},{"$f":"$Z$23","v":"2 Left"},{"$f":"$AI$18","v":"1 Left"}]
[null,16,{"$f":"$H$2","v":4},"Left",22,{"$f":"$H$2","v":4},"Right","4 Left","4 Right",null,20,{"$f":"$H$2","v":4},"Left",26,{"$f":"$H$2","v":4},"Right","4 Left","4 Right",null,36,{"$f":"$H$2","v":4},"Left",29,{"$f":"$H$2","v":4},"Right","4 Left","4 Right",null,22,{"$f":"$H$2","v":4},"Left",11,{"$f":"$H$2","v":4},"Right","4 Left","4 Right",11,{"$f":"$I$30","v":"5 Right"},{"$f":"$R$18","v":"1 Right"},{"$f":"$Z$26","v":"3 Left"},{"$f":"$AJ$28","v":"4 Right"}]
[null,28,4,"Left",34,4,"Right","4 Left","4 Right",null,33,4,"Left",39,4,"Right","4 Left","4 Right",null,9,4,"Left",2,4,"Right","4 Left","4 Right",null,40,4,"Left",21,4,"Right","4 Left","4 Right",12,{"$f":"$I$33","v":"6 Right"},{"$f":"$R$21","v":"2 Right"},{"$f":"$Z$20","v":"1 Left"},{"$f":"$AI$27","v":"4 Left"}]
[null,5,{"$f":"$J$2","v":5},"Left",11,{"$f":"$J$2","v":5},"Right","5 Left","5 Right",null,8,{"$f":"$J$2","v":5},"Left",14,{"$f":"$J$2","v":5},"Right","5 Left","5 Right",null,19,{"$f":"$J$2","v":5},"Left",22,{"$f":"$J$2","v":5},"Right","5 Left","5 Right",null,31,{"$f":"$J$2","v":5},"Left",32,{"$f":"$J$2","v":5},"Right","5 Left","5 Right",13,{"$f":"$H$19","v":"1 Left"},{"$f":"$R$27","v":"4 Right"},{"$f":"$Z$36","v":"7 Left"},{"$f":"$AI$30","v":"5 Left"}]
[null,17,{"$f":"$J$2","v":5},"Left",23,{"$f":"$J$2","v":5},"Right","5 Left","5 Right",null,21,{"$f":"$J$2","v":5},"Left",27,{"$f":"$J$2","v":5},"Right","5 Left","5 Right",null,30,{"$f":"$J$2","v":5},"Left",33,{"$f":"$J$2","v":5},"Right","5 Left","5 Right",null,13,{"$f":"$J$2","v":5},"Left",4,{"$f":"$J$2","v":5},"Right","5 Left","5 Right",14,{"$f":"$H$25","v":"3 Left"},{"$f":"$R$30","v":"5 Right"},{"$f":"$H$36","v":"7 Left"},{"$f":"$AJ$21","v":"2 Right"}]
[null,29,5,"Left",35,5,"Right","5 Left","5 Right",null,34,5,"Left",40,5,"Right","5 Left","5 Right",null,3,5,"Left",6,5,"Right","5 Left","5 Right",null,24,5,"Left",26,5,"Right","5 Left","5 Right",15,{"$f":"$H$22","v":"2 Left"},{"$f":"$R$33","v":"6 Right"},{"$f":"$Z$36","v":"7 Left"},{"$f":"$AI$33","v":"6 Left"}]
[null,6,{"$f":"$L$2","v":6},"Left",12,{"$f":"$L$2","v":6},"Right","6 Left","6 Right",null,9,{"$f":"$L$2","v":6},"Left",15,{"$f":"$L$2","v":6},"Right","6 Left","6 Right",null,23,{"$f":"$L$2","v":6},"Left",17,{"$f":"$L$2","v":6},"Right","6 Left","6 Right",null,33,{"$f":"$L$2","v":6},"Left",2,{"$f":"$L$2","v":6},"Right","6 Left","6 Right",16,{"$f":"$H$28","v":"4 Left"},{"$f":"$R$24","v":"3 Right"},{"$f":"$H$36","v":"7 Left"},{"$f":"$AI$23","v":"2 Left"}]
[null,18,{"$f":"$C$33","v":6},"Left",24,{"$f":"$C$33","v":6},"Right","6 Left","6 Right",null,22,{"$f":"$C$33","v":6},"Left",28,{"$f":"$C$33","v":6},"Right","6 Left","6 Right",null,34,{"$f":"$C$33","v":6},"Left",40,{"$f":"$C$33","v":6},"Right","6 Left","6 Right",null,5,{"$f":"$C$33","v":6},"Left",3,{"$f":"$C$33","v":6},"Right","6 Left","6 Right",17,{"$f":"$H$30","v":"5 Left"},{"$f":"$R$25","v":"3 Right"},{"$f":"$AA$33","v":"6 Right"},{"$f":"$AJ$19","v":"1 Right"}]
[null,30,6,"Left",36,6,"Right","6 Left","6 Right",null,35,6,"Left",29,6,"Right","6 Left","6 Right",null,7,6,"Left",1,6,"Right","6 Left","6 Right",null,15,6,"Left",25,6,"Right","6 Left","6 Right",18,{"$f":"$H$33","v":"6 Left"},{"$f":"$Q$22","v":"2 Left"},{"$f":"$AA$27","v":"4 Right"},{"$f":"$AI$25","v":"3 Left"}]
[null,37,{"$f":"$N$2","v":7},"Left",38,{"$f":"$N$2","v":7},"Right","7 Left","7 Right",null,1,{"$f":"$N$2","v":7},"Left",2,{"$f":"$N$2","v":7},"Right","7 Left","7 Right",null,13,{"$f":"$N$2","v":7},"Left",14,{"$f":"$N$2","v":7},"Right","7 Left","7 Right",null,27,{"$f":"$N$2","v":7},"Left",28,{"$f":"$N$2","v":7},"Right","7 Left","7 Right",19,{"$f":"$I$19","v":"1 Right"},{"$f":"$Q$25","v":"3 Left"},{"$f":"$Z$30","v":"5 Left"},{"$f":"$AJ$26","v":"3 Right"}]
[null,39,{"$f":"$N$2","v":7},"Left",40,{"$f":"$N$2","v":7},"Right","7 Left","7 Right",null,3,{"$f":"$N$2","v":7},"Left",4,{"$f":"$N$2","v":7},"Right","7 Left","7 Right",null,15,{"$f":"$N$2","v":7},"Left",16,{"$f":"$N$2","v":7},"Right","7 Left","7 Right",null,29,{"$f":"$N$2","v":7},"Left",30,{"$f":"$N$2","v":7},"Right","7 Left","7 Right",20,{"$f":"$I$22","v":"2 Right"},{"$f":"$Q$28","v":"4 Left"},{"$f":"$AA$24","v":"3 Right"},{"$f":"$AI$19","v":"1 Left"}]
[null,null,7,"Left",null,7,"Right","7 Left","7 Right",null,null,7,"Left",null,7,"Right","7 Left","7 Right",null,null,7,"Left",null,7,"Right","7 Left","7 Right",null,null,7,"Left",null,7,"Right","7 Left","7 Right",21,{"$f":"$I$25","v":"3 Right"},{"$f":"$Q$30","v":"5 Left"},{"$f":"$AA$18","v":"1 Right"},{"$f":"$AJ$29","v":"4 Right"}]
[null,null,null,null,null,null,null,null,null,null,null,null,null,null,null,null,null,null,null,null,null,null,null,null,null,null,null,null,null,null,null,null,null,null,null,null,22,{"$f":"$I$28","v":"4 Right"},{"$f":"$Q$33","v":"6 Left"},{"$f":"$AA$30","v":"5 Right"},{"$f":"$AI$28","v":"4 Left"}]
[null,null,null,null,null,null,null,null,null,null,null,null,null,null,null,null,null,null,null,null,null,null,null,null,null,null,null,null,null,null,null,null,null,null,null,null,23,{"$f":"$I$30","v":"5 Right"},{"$f":"$Q$19","v":"1 Left"},{"$f":"$Z$33","v":"6 Left"},{"$f":"$AJ$22","v":"2 Right"}]
[null,null,null,null,null,null,null,null,null,null,null,null,null,null,null,null,null,null,null,null,null,null,null,null,null,null,null,null,null,null,null,null,null,null,null,null,24,{"$f":"$I$33","v":"6 Right"},{"$f":"$R$19","v":"1 Right"},{"$f":"$AA$21","v":"2 Right"},{"$f":"$AI$30","v":"5 Left"}]
[null,null,null,null,null,null,null,null,null,null,null,null,null,null,null,null,null,null,null,null,null,null,null,null,null,null,null,null,null,null,null,null,null,null,null,null,25,{"$f":"$H$20","v":"1 Left"},{"$f":"$R$22","v":"2 Right"},{"$f":"$Z$27","v":"4 Left"},{"$f":"$AJ$33","v":"6 Right"}]
[null,null,null,null,null,null,null,null,null,null,null,null,null,null,null,null,null,null,null,null,null,null,null,null,null,null,null,null,null,null,null,null,null,null,null,null,26,{"$f":"$H$26","v":"3 Left"},{"$f":"$R$28","v":"4 Right"},{"$f":"$Z$21","v":"2 Left"},{"$f":"$AJ$30","v":"5 Right"}]
[null,null,null,null,null,null,null,null,null,null,null,null,null,null,null,null,null,null,null,null,null,null,null,null,null,null,null,null,null,null,null,null,null,null,null,null,27,{"$f":"$H$23","v":"2 Left"},{"$f":"$R$30","v":"5 Right"},{"$f":"$Z$24","v":"3 Left"},{"$f":"$AI$36","v":"7 Left"}]
[null,null,null,null,null,null,null,null,null,null,null,null,null,null,null,null,null,null,null,null,null,null,null,null,null,null,null,null,null,null,null,null,null,null,null,null,28,{"$f":"$H$29","v":"4 Left"},{"$f":"$R$33","v":"6 Right"},{"$f":"$Z$18","v":"1 Left"},{"$f":"$H$36","v":"7 Left"}]
[null,null,null,null,null,null,null,null,null,null,null,null,null,null,null,null,null,null,null,null,null,null,null,null,null,null,null,null,null,null,null,null,null,null,null,null,29,{"$f":"$H$30","v":"5 Left"},{"$f":"$R$33","v":"6 Right"},{"$f":"$AA$28","v":"4 Right"},{"$f":"$AI$36","v":"7 Left"}]
[null,null,null,null,null,null,null,null,null,null,null,null,null,null,null,null,null,null,null,null,null,null,null,null,null,null,null,null,null,null,null,null,null,null,null,null,30,{"$f":"$H$33","v":"6 Left"},{"$f":"$R$26","v":"3 Right"},{"$f":"$Z$30","v":"5 Left"},{"$f":"$H$36","v":"7 Left"}]
[null,null,null,null,null,null,null,null,null,null,null,null,null,null,null,null,null,null,null,null,null,null,null,null,null,null,null,null,null,null,null,null,null,null,null,null,31,{"$f":"$I$20","v":"1 Right"},{"$f":"$Q$23","v":"2 Left"},{"$f":"$AA$25","v":"3 Right"},{"$f":"$AI$30","v":"5 Left"}]
[null,null,null,null,null,null,null,null,null,null,null,null,null,null,null,null,null,null,null,null,null,null,null,null,null,null,null,null,null,null,null,null,null,null,null,null,32,{"$f":"$I$23","v":"2 Right"},{"$f":"$Q$26","v":"3 Left"},{"$f":"$AA$19","v":"1 Right"},{"$f":"$AJ$30","v":"5 Right"}]
[null,null,null,null,null,null,null,null,null,null,null,null,null,null,null,null,null,null,null,null,null,null,null,null,null,null,null,null,null,null,null,null,null,null,null,null,33,{"$f":"$I$26","v":"3 Right"},{"$f":"$Q$29","v":"4 Left"},{"$f":"$AA$30","v":"5 Right"},{"$f":"$AI$33","v":"6 Left"}]
[null,null,null,null,null,null,null,null,null,null,null,null,null,null,null,null,null,null,null,null,null,null,null,null,null,null,null,null,null,null,null,null,null,null,null,null,34,{"$f":"$I$29","v":"4 Right"},{"$f":"$Q$30","v":"5 Left"},{"$f":"$Z$33","v":"6 Left"},{"$f":"$AI$21","v":"2 Left"}]
[null,null,null,null,null,null,null,null,null,null,null,null,null,null,null,null,null,null,null,null,null,null,null,null,null,null,null,null,null,null,null,null,null,null,null,null,35,{"$f":"$I$30","v":"5 Right"},{"$f":"$Q$33","v":"6 Left"},{"$f":"$AA$22","v":"2 Right"},{"$f":"$AJ$20","v":"1 Right"}]
[null,null,null,null,null,null,null,null,null,null,null,null,null,null,null,null,null,null,null,null,null,null,null,null,null,null,null,null,null,null,null,null,null,null,null,null,36,{"$f":"$I$33","v":"6 Right"},{"$f":"$Q$20","v":"1 Left"},{"$f":"$Z$28","v":"4 Left"},{"$f":"$AI$26","v":"3 Left"}]
[null,null,null,null,null,null,null,null,null,null,null,null,null,null,null,null,null,null,null,null,null,null,null,null,null,null,null,null,null,null,null,null,null,null,null,null,37,{"$f":"$H$36","v":"7 Left"},{"$f":"$R$20","v":"1 Right"},{"$f":"$Z$22","v":"2 Left"},{"$f":"$AJ$24","v":"3 Right"}]
[null,null,null,null,null,null,null,null,null,null,null,null,null,null,null,null,null,null,null,null,null,null,null,null,null,null,null,null,null,null,null,null,null,null,null,null,38,"7 Left",{"$f":"$R$23","v":"2 Right"},{"$f":"$Z$25","v":"3 Left"},{"$f":"$AI$20","v":"1 Left"}]
[null,null,null,null,null,null,null,null,null,null,null,null,null,null,null,null,null,null,null,null,null,null,null,null,null,null,null,null,null,null,null,null,null,null,null,null,39,"7 Left",{"$f":"$R$29","v":"4 Right"},{"$f":"$Z$19","v":"1 Left"},{"$f":"$AJ$23","v":"2 Right"}]
[null,null,null,null,null,null,null,null,null,null,null,null,null,null,null,null,null,null,null,null,null,null,null,null,null,null,null,null,null,null,null,null,null,null,null,null,40,"7 Left",{"$f":"$R$30","v":"5 Right"},{"$f":"$AA$33","v":"6 Right"},{"$f":"$AI$29","v":"4 Left"}]
[null,null,null,null,null,null,null,null,null,null,null,null,null,null,null,null,null,null,null,null,null,null,null,null,null,null,null,null,null,null,null,null,null,null,null,null,null,"7 Left",{"$f":"$Q$36","v":"7 Left"},{"$f":"$Z$36","v":"7 Left"},{"$f":"$AI$36","v":"7 Left"}]
[null,null,null,null,null,null,null,null,null,null,null,null,null,null,null,null,null,null,null,null,null,null,null,null,null,null,null,null,null,null,null,null,null,null,null,null,null,"7 Left",{"$f":"$H$36","v":"7 Left"},{"$f":"$H$36","v":"7 Left"},{"$f":"$H$36","v":"7 Left"}]
[]
[]
[]
[]
[]
[]
[]
[]
[]
[]
[]
[]
[]
[]
[]
[]
[]
[]
[]
[]
[]
[]
[]
[]
[]
[]
[]
[]
[]
[]
[]
[]
[]
[]
[]
[]
[]
[]
[]
[]
[]
[]
[]
[]
[null,null,null,null,null,null,null,null,null,null,null,null,null,null,null,null,null,null,null,null,null,null,null,null,null,null,null,null,null,null,null,null,null,null,null,null,38,{"$f":"$I$36","v":"7 Right"},{"$f":"$R$36","v":"7 Right"},{"$f":"$AA$36","v":"7 Right"},{"$f":"$AJ$36","v":"7 Right"}]
[null,null,null,null,null,null,null,null,null,null,null,null,null,null,null,null,null,null,null,null,null,null,null,null,null,null,null,null,null,null,null,null,null,null,null,null,40,{"$f":"$I$36","v":"7 Right"},{"$f":"$R$36","v":"7 Right"},{"$f":"$AA$36","v":"7 Right"},{"$f":"$AJ$36","v":"7 Right"}]
[null,null,null,null,null,null,null,null,null,null,null,null,null,null,null,null,null,null,null,null,null,null,null,null,null,null,null,null,null,null,null,null,null,null,null,null,null,{"$f":"$I$36","v":"7 Right"},{"$f":"$R$36","v":"7 Right"},{"$f":"$AA$36","v":"7 Right"},{"$f":"$AJ$36","v":"7 Right"}]

{"sheet":"42","index":18,"n_rows":106,"n_cols":41,"rows_kept":106,"cut":false,"hidden":true,"merged":[[14,1,14,14],[5,0,7,0],[0,1,0,14],[8,0,10,0],[11,0,13,0],[2,0,4,0],[1,1,1,2],[1,3,1,4],[1,5,1,6],[1,7,1,8],[1,9,1,10],[1,11,1,12],[1,13,1,14]]}
[null,"YOU MAY CHANGE THESE RINK NUMBERS IF YOU WISH"]
["Rinks",1,null,2,null,3,null,4,null,5,null,6,null,7]
[1,1,2,3,4,5,6,7,8,9,10,11,12,13,14]
[null,15,16,17,18,19,20,21,22,23,24,25,26,27,28]
[null,29,30,31,32,33,34,35,36,37,38,39,40,41,42]
[2,7,14,1,13,2,11,3,10,29,12,5,9,6,8]
[null,20,27,28,26,15,24,16,23,17,25,18,22,19,21]
[null,36,4,30,42,31,40,32,39,33,41,34,38,35,37]
[3,5,11,8,10,9,13,14,1,4,6,7,2,12,3]
[null,17,23,20,22,21,25,26,27,16,18,19,28,24,15]
[null,35,41,38,40,39,29,30,31,34,36,37,32,42,33]
[4,3,8,2,12,1,7,6,9,11,13,4,10,5,14]
[null,28,19,27,23,26,18,17,20,22,24,15,21,16,25]
[null,34,39,33,29,32,38,37,40,42,30,35,41,36,31]
[null,"42 on 1 green"]
[]
[null,null,null,null,null,null,null,null,null,null,null,null,null,null,null,null,null,null,null,null,null,null,null,null,null,null,null,null,null,null,null,null,null,null,null,null,1]
[null,1,{"$f":"$B$2","v":1},"Left",2,{"$f":"$B$2","v":1},"Right",{"$f":"(C18&\" \"&D18)","v":"1 Left"},{"$f":"(F18&\" \"&G18)","v":"1 Right"},null,7,{"$f":"$B$2","v":1},"Left",14,{"$f":"$B$2","v":1},"Right",{"$f":"(L18&\" \"&M18)","v":"1 Left"},{"$f":"(O18&\" \"&P18)","v":"1 Right"},null,5,{"$f":"$B$2","v":1},"Left",11,{"$f":"$B$2","v":1},"Right",{"$f":"(U18&\" \"&V18)","v":"1 Left"},{"$f":"(X18&\" \"&Y18)","v":"1 Right"},null,3,{"$f":"$B$2","v":1},"Left",8,{"$f":"$B$2","v":1},"Right",{"$f":"(AD18&\" \"&AE18)","v":"1 Left"},{"$f":"(AG18&\" \"&AH18)","v":"1 Right"},1,{"$f":"$H$18","v":"1 Left"},{"$f":"$Q$21","v":"2 Left"},{"$f":"$AA$27","v":"4 Right"},{"$f":"$AI$24","v":"3 Left"}]
[null,15,{"$f":"$B$2","v":1},"Left",16,{"$f":"$B$2","v":1},"Right",{"$f":"(C19&\" \"&D19)","v":"1 Left"},{"$f":"(F19&\" \"&G19)","v":"1 Right"},null,20,{"$f":"$B$2","v":1},"Left",27,{"$f":"$B$2","v":1},"Right",{"$f":"(L19&\" \"&M19)","v":"1 Left"},{"$f":"(O19&\" \"&P19)","v":"1 Right"},null,17,{"$f":"$B$2","v":1},"Left",23,{"$f":"$B$2","v":1},"Right",{"$f":"(U19&\" \"&V19)","v":"1 Left"},{"$f":"(X19&\" \"&Y19)","v":"1 Right"},null,28,{"$f":"$B$2","v":1},"Left",19,{"$f":"$B$2","v":1},"Right",{"$f":"(AD19&\" \"&AE19)","v":"1 Left"},{"$f":"(AG19&\" \"&AH19)","v":"1 Right"},2,{"$f":"$I$18","v":"1 Right"},{"$f":"$Q$24","v":"3 Left"},{"$f":"$AA$33","v":"6 Right"},{"$f":"$AI$21","v":"2 Left"}]
[null,29,1,"Left",30,1,"Right","1 Left","1 Right",null,36,1,"Left",4,1,"Right","1 Left","1 Right",null,35,1,"Left",41,1,"Right","1 Left","1 Right",null,34,1,"Left",39,1,"Right","1 Left","1 Right",3,{"$f":"$H$21","v":"2 Left"},{"$f":"$Q$27","v":"4 Left"},{"$f":"$AA$36","v":"7 Right"},{"$f":"$AI$18","v":"1 Left"}]
[null,3,{"$f":"$D$2","v":2},"Left",4,{"$f":"$D$2","v":2},"Right","2 Left","2 Right",null,1,{"$f":"$D$2","v":2},"Left",13,{"$f":"$D$2","v":2},"Right","2 Left","2 Right",null,8,{"$f":"$D$2","v":2},"Left",10,{"$f":"$D$2","v":2},"Right","2 Left","2 Right",null,2,{"$f":"$D$2","v":2},"Left",12,{"$f":"$D$2","v":2},"Right","2 Left","2 Right",4,{"$f":"$I$21","v":"2 Right"},{"$f":"$R$20","v":"1 Right"},{"$f":"$Z$30","v":"5 Left"},{"$f":"$AI$33","v":"6 Left"}]
[null,17,{"$f":"$D$2","v":2},"Left",18,{"$f":"$D$2","v":2},"Right","2 Left","2 Right",null,28,{"$f":"$D$2","v":2},"Left",26,{"$f":"$D$2","v":2},"Right","2 Left","2 Right",null,20,{"$f":"$D$2","v":2},"Left",22,{"$f":"$D$2","v":2},"Right","2 Left","2 Right",null,27,{"$f":"$D$2","v":2},"Left",23,{"$f":"$D$2","v":2},"Right","2 Left","2 Right",5,{"$f":"$H$24","v":"3 Left"},{"$f":"$Q$33","v":"6 Left"},{"$f":"$Z$18","v":"1 Left"},{"$f":"$AI$36","v":"7 Left"}]
[null,31,2,"Left",32,2,"Right","2 Left","2 Right",null,30,2,"Left",42,2,"Right","2 Left","2 Right",null,38,2,"Left",40,2,"Right","2 Left","2 Right",null,33,2,"Left",29,2,"Right","2 Left","2 Right",6,{"$f":"$I$24","v":"3 Right"},{"$f":"$Q$36","v":"7 Left"},{"$f":"$AA$30","v":"5 Right"},{"$f":"$AI$27","v":"4 Left"}]
[null,5,{"$f":"$F$2","v":3},"Left",6,{"$f":"$F$2","v":3},"Right","3 Left","3 Right",null,2,{"$f":"$F$2","v":3},"Left",11,{"$f":"$F$2","v":3},"Right","3 Left","3 Right",null,9,{"$f":"$F$2","v":3},"Left",13,{"$f":"$F$2","v":3},"Right","3 Left","3 Right",null,1,{"$f":"$F$2","v":3},"Left",7,{"$f":"$F$2","v":3},"Right","3 Left","3 Right",7,{"$f":"$H$27","v":"4 Left"},{"$f":"$Q$18","v":"1 Left"},{"$f":"$Z$33","v":"6 Left"},{"$f":"$AJ$24","v":"3 Right"}]
[null,19,{"$f":"$F$2","v":3},"Left",20,{"$f":"$F$2","v":3},"Right","3 Left","3 Right",null,15,{"$f":"$F$2","v":3},"Left",24,{"$f":"$F$2","v":3},"Right","3 Left","3 Right",null,21,{"$f":"$F$2","v":3},"Left",25,{"$f":"$F$2","v":3},"Right","3 Left","3 Right",null,26,{"$f":"$F$2","v":3},"Left",18,{"$f":"$F$2","v":3},"Right","3 Left","3 Right",8,{"$f":"$I$27","v":"4 Right"},{"$f":"$R$36","v":"7 Right"},{"$f":"$Z$21","v":"2 Left"},{"$f":"$AJ$18","v":"1 Right"}]
[null,33,3,"Left",34,3,"Right","3 Left","3 Right",null,31,3,"Left",40,3,"Right","3 Left","3 Right",null,39,3,"Left",29,3,"Right","3 Left","3 Right",null,32,3,"Left",38,3,"Right","3 Left","3 Right",9,{"$f":"$H$30","v":"5 Left"},{"$f":"$R$33","v":"6 Right"},{"$f":"$Z$24","v":"3 Left"},{"$f":"$AJ$27","v":"4 Right"}]
[null,7,{"$f":"$H$2","v":4},"Left",8,{"$f":"$H$2","v":4},"Right","4 Left","4 Right",null,3,{"$f":"$H$2","v":4},"Left",10,{"$f":"$H$2","v":4},"Right","4 Left","4 Right",null,14,{"$f":"$H$2","v":4},"Left",1,{"$f":"$H$2","v":4},"Right","4 Left","4 Right",null,6,{"$f":"$H$2","v":4},"Left",9,{"$f":"$H$2","v":4},"Right","4 Left","4 Right",10,{"$f":"$I$30","v":"5 Right"},{"$f":"$R$27","v":"4 Right"},{"$f":"$AA$21","v":"2 Right"},{"$f":"$AJ$33","v":"6 Right"}]
[null,21,{"$f":"$H$2","v":4},"Left",22,{"$f":"$H$2","v":4},"Right","4 Left","4 Right",null,16,{"$f":"$H$2","v":4},"Left",23,{"$f":"$H$2","v":4},"Right","4 Left","4 Right",null,26,{"$f":"$H$2","v":4},"Left",27,{"$f":"$H$2","v":4},"Right","4 Left","4 Right",null,17,{"$f":"$H$2","v":4},"Left",20,{"$f":"$H$2","v":4},"Right","4 Left","4 Right",11,{"$f":"$H$33","v":"6 Left"},{"$f":"$R$24","v":"3 Right"},{"$f":"$AA$18","v":"1 Right"},{"$f":"$AI$30","v":"5 Left"}]
[null,35,4,"Left",36,4,"Right","4 Left","4 Right",null,32,4,"Left",39,4,"Right","4 Left","4 Right",null,30,4,"Left",31,4,"Right","4 Left","4 Right",null,37,4,"Left",40,4,"Right","4 Left","4 Right",12,{"$f":"$I$33","v":"6 Right"},{"$f":"$R$30","v":"5 Right"},{"$f":"$Z$36","v":"7 Left"},{"$f":"$AJ$21","v":"2 Right"}]
[null,9,{"$f":"$J$2","v":5},"Left",10,{"$f":"$J$2","v":5},"Right","5 Left","5 Right",null,29,{"$f":"$J$2","v":5},"Left",12,{"$f":"$J$2","v":5},"Right","5 Left","5 Right",null,4,{"$f":"$J$2","v":5},"Left",6,{"$f":"$J$2","v":5},"Right","5 Left","5 Right",null,11,{"$f":"$J$2","v":5},"Left",13,{"$f":"$J$2","v":5},"Right","5 Left","5 Right",13,{"$f":"$H$36","v":"7 Left"},{"$f":"$R$21","v":"2 Right"},{"$f":"$AA$24","v":"3 Right"},{"$f":"$AJ$30","v":"5 Right"}]
[null,23,{"$f":"$J$2","v":5},"Left",24,{"$f":"$J$2","v":5},"Right","5 Left","5 Right",null,17,{"$f":"$J$2","v":5},"Left",25,{"$f":"$J$2","v":5},"Right","5 Left","5 Right",null,16,{"$f":"$J$2","v":5},"Left",18,{"$f":"$J$2","v":5},"Right","5 Left","5 Right",null,22,{"$f":"$J$2","v":5},"Left",24,{"$f":"$J$2","v":5},"Right","5 Left","5 Right",14,{"$f":"$I$36","v":"7 Right"},{"$f":"$R$18","v":"1 Right"},{"$f":"$Z$27","v":"4 Left"},{"$f":"$AJ$36","v":"7 Right"}]
[null,37,5,"Left",38,5,"Right","5 Left","5 Right",null,33,5,"Left",41,5,"Right","5 Left","5 Right",null,34,5,"Left",36,5,"Right","5 Left","5 Right",null,42,5,"Left",30,5,"Right","5 Left","5 Right",15,{"$f":"$H$19","v":"1 Left"},{"$f":"$Q$25","v":"3 Left"},{"$f":"$AA$36","v":"7 Right"},{"$f":"$AI$33","v":"6 Left"}]
[null,11,{"$f":"$L$2","v":6},"Left",12,{"$f":"$L$2","v":6},"Right","6 Left","6 Right",null,5,{"$f":"$L$2","v":6},"Left",9,{"$f":"$L$2","v":6},"Right","6 Left","6 Right",null,7,{"$f":"$L$2","v":6},"Left",2,{"$f":"$L$2","v":6},"Right","6 Left","6 Right",null,4,{"$f":"$L$2","v":6},"Left",10,{"$f":"$L$2","v":6},"Right","6 Left","6 Right",16,{"$f":"$I$19","v":"1 Right"},{"$f":"$Q$28","v":"4 Left"},{"$f":"$Z$30","v":"5 Left"},{"$f":"$AI$36","v":"7 Left"}]
[null,25,{"$f":"$C$33","v":6},"Left",26,{"$f":"$C$33","v":6},"Right","6 Left","6 Right",null,18,{"$f":"$C$33","v":6},"Left",22,{"$f":"$C$33","v":6},"Right","6 Left","6 Right",null,19,{"$f":"$C$33","v":6},"Left",28,{"$f":"$C$33","v":6},"Right","6 Left","6 Right",null,15,{"$f":"$C$33","v":6},"Left",21,{"$f":"$C$33","v":6},"Right","6 Left","6 Right",17,{"$f":"$H$22","v":"2 Left"},{"$f":"$Q$30","v":"5 Left"},{"$f":"$Z$19","v":"1 Left"},{"$f":"$AI$28","v":"4 Left"}]
[null,39,6,"Left",40,6,"Right","6 Left","6 Right",null,34,6,"Left",38,6,"Right","6 Left","6 Right",null,37,6,"Left",32,6,"Right","6 Left","6 Right",null,35,6,"Left",41,6,"Right","6 Left","6 Right",18,{"$f":"$I$22","v":"2 Right"},{"$f":"$Q$33","v":"6 Left"},{"$f":"$AA$30","v":"5 Right"},{"$f":"$AJ$25","v":"3 Right"}]
[null,13,{"$f":"$N$2","v":7},"Left",14,{"$f":"$N$2","v":7},"Right","7 Left","7 Right",null,6,{"$f":"$N$2","v":7},"Left",8,{"$f":"$N$2","v":7},"Right","7 Left","7 Right",null,12,{"$f":"$N$2","v":7},"Left",3,{"$f":"$N$2","v":7},"Right","7 Left","7 Right",null,5,{"$f":"$N$2","v":7},"Left",14,{"$f":"$N$2","v":7},"Right","7 Left","7 Right",19,{"$f":"$H$25","v":"3 Left"},{"$f":"$Q$36","v":"7 Left"},{"$f":"$Z$33","v":"6 Left"},{"$f":"$AJ$19","v":"1 Right"}]
[null,27,{"$f":"$N$2","v":7},"Left",28,{"$f":"$N$2","v":7},"Right","7 Left","7 Right",null,19,{"$f":"$N$2","v":7},"Left",21,{"$f":"$N$2","v":7},"Right","7 Left","7 Right",null,24,{"$f":"$N$2","v":7},"Left",15,{"$f":"$N$2","v":7},"Right","7 Left","7 Right",null,16,{"$f":"$N$2","v":7},"Left",25,{"$f":"$N$2","v":7},"Right","7 Left","7 Right",20,{"$f":"$I$25","v":"3 Right"},{"$f":"$Q$19","v":"1 Left"},{"$f":"$Z$22","v":"2 Left"},{"$f":"$AJ$28","v":"4 Right"}]
[null,41,7,"Left",42,7,"Right","7 Left","7 Right",null,35,7,"Left",37,7,"Right","7 Left","7 Right",null,42,7,"Left",33,7,"Right","7 Left","7 Right",null,36,7,"Left",31,7,"Right","7 Left","7 Right",21,{"$f":"$H$28","v":"4 Left"},{"$f":"$R$36","v":"7 Right"},{"$f":"$Z$25","v":"3 Left"},{"$f":"$AJ$33","v":"6 Right"}]
[null,null,null,null,null,null,null,null,null,null,null,null,null,null,null,null,null,null,null,null,null,null,null,null,null,null,null,null,null,null,null,null,null,null,null,null,22,{"$f":"$I$28","v":"4 Right"},{"$f":"$R$33","v":"6 Right"},{"$f":"$AA$22","v":"2 Right"},{"$f":"$AI$30","v":"5 Left"}]
[null,null,null,null,null,null,null,null,null,null,null,null,null,null,null,null,null,null,null,null,null,null,null,null,null,null,null,null,null,null,null,null,null,null,null,null,23,{"$f":"$H$30","v":"5 Left"},{"$f":"$R$28","v":"4 Right"},{"$f":"$AA$19","v":"1 Right"},{"$f":"$AJ$22","v":"2 Right"}]
[null,null,null,null,null,null,null,null,null,null,null,null,null,null,null,null,null,null,null,null,null,null,null,null,null,null,null,null,null,null,null,null,null,null,null,null,24,{"$f":"$I$30","v":"5 Right"},{"$f":"$R$25","v":"3 Right"},{"$f":"$Z$36","v":"7 Left"},{"$f":"$AJ$30","v":"5 Right"}]
[null,null,null,null,null,null,null,null,null,null,null,null,null,null,null,null,null,null,null,null,null,null,null,null,null,null,null,null,null,null,null,null,null,null,null,null,25,{"$f":"$H$33","v":"6 Left"},{"$f":"$R$30","v":"5 Right"},{"$f":"$AA$25","v":"3 Right"},{"$f":"$AJ$36","v":"7 Right"}]
[null,null,null,null,null,null,null,null,null,null,null,null,null,null,null,null,null,null,null,null,null,null,null,null,null,null,null,null,null,null,null,null,null,null,null,null,26,{"$f":"$I$33","v":"6 Right"},{"$f":"$R$22","v":"2 Right"},{"$f":"$Z$28","v":"4 Left"},{"$f":"$AI$25","v":"3 Left"}]
[null,null,null,null,null,null,null,null,null,null,null,null,null,null,null,null,null,null,null,null,null,null,null,null,null,null,null,null,null,null,null,null,null,null,null,null,27,{"$f":"$H$36","v":"7 Left"},{"$f":"$R$19","v":"1 Right"},{"$f":"$AA$28","v":"4 Right"},{"$f":"$AI$22","v":"2 Left"}]
[null,null,null,null,null,null,null,null,null,null,null,null,null,null,null,null,null,null,null,null,null,null,null,null,null,null,null,null,null,null,null,null,null,null,null,null,28,{"$f":"$I$36","v":"7 Right"},{"$f":"$Q$22","v":"2 Left"},{"$f":"$AA$33","v":"6 Right"},{"$f":"$AI$19","v":"1 Left"}]
[null,null,null,null,null,null,null,null,null,null,null,null,null,null,null,null,null,null,null,null,null,null,null,null,null,null,null,null,null,null,null,null,null,null,null,null,29,{"$f":"$H$20","v":"1 Left"},{"$f":"$Q$30","v":"5 Left"},{"$f":"$AA$26","v":"3 Right"},{"$f":"$AJ$23","v":"2 Right"}]
[null,null,null,null,null,null,null,null,null,null,null,null,null,null,null,null,null,null,null,null,null,null,null,null,null,null,null,null,null,null,null,null,null,null,null,null,30,{"$f":"$I$20","v":"1 Right"},{"$f":"$Q$23","v":"2 Left"},{"$f":"$Z$29","v":"4 Left"},{"$f":"$AJ$30","v":"5 Right"}]
[null,null,null,null,null,null,null,null,null,null,null,null,null,null,null,null,null,null,null,null,null,null,null,null,null,null,null,null,null,null,null,null,null,null,null,null,31,{"$f":"$H$23","v":"2 Left"},{"$f":"$Q$26","v":"3 Left"},{"$f":"$AA$29","v":"4 Right"},{"$f":"$AJ$36","v":"7 Right"}]
[null,null,null,null,null,null,null,null,null,null,null,null,null,null,null,null,null,null,null,null,null,null,null,null,null,null,null,null,null,null,null,null,null,null,null,null,32,{"$f":"$I$23","v":"2 Right"},{"$f":"$Q$29","v":"4 Left"},{"$f":"$AA$33","v":"6 Right"},{"$f":"$AI$26","v":"3 Left"}]
[null,null,null,null,null,null,null,null,null,null,null,null,null,null,null,null,null,null,null,null,null,null,null,null,null,null,null,null,null,null,null,null,null,null,null,null,33,{"$f":"$H$26","v":"3 Left"},{"$f":"$Q$30","v":"5 Left"},{"$f":"$AA$36","v":"7 Right"},{"$f":"$AI$23","v":"2 Left"}]
[null,null,null,null,null,null,null,null,null,null,null,null,null,null,null,null,null,null,null,null,null,null,null,null,null,null,null,null,null,null,null,null,null,null,null,null,34,{"$f":"$I$26","v":"3 Right"},{"$f":"$Q$33","v":"6 Left"},{"$f":"$Z$30","v":"5 Left"},{"$f":"$AI$20","v":"1 Left"}]
[null,null,null,null,null,null,null,null,null,null,null,null,null,null,null,null,null,null,null,null,null,null,null,null,null,null,null,null,null,null,null,null,null,null,null,null,35,{"$f":"$H$29","v":"4 Left"},{"$f":"$Q$36","v":"7 Left"},{"$f":"$Z$20","v":"1 Left"},{"$f":"$AI$33","v":"6 Left"}]
[null,null,null,null,null,null,null,null,null,null,null,null,null,null,null,null,null,null,null,null,null,null,null,null,null,null,null,null,null,null,null,null,null,null,null,null,36,{"$f":"$I$29","v":"4 Right"},{"$f":"$Q$20","v":"1 Left"},{"$f":"$AA$30","v":"5 Right"},{"$f":"$AI$36","v":"7 Left"}]
[null,null,null,null,null,null,null,null,null,null,null,null,null,null,null,null,null,null,null,null,null,null,null,null,null,null,null,null,null,null,null,null,null,null,null,null,37,{"$f":"$H$30","v":"5 Left"},{"$f":"$R$36","v":"7 Right"},{"$f":"$Z$33","v":"6 Left"},{"$f":"$AI$29","v":"4 Left"}]
[null,null,null,null,null,null,null,null,null,null,null,null,null,null,null,null,null,null,null,null,null,null,null,null,null,null,null,null,null,null,null,null,null,null,null,null,38,{"$f":"$I$30","v":"5 Right"},{"$f":"$R$33","v":"6 Right"},{"$f":"$Z$23","v":"2 Left"},{"$f":"$AJ$26","v":"3 Right"}]
[null,null,null,null,null,null,null,null,null,null,null,null,null,null,null,null,null,null,null,null,null,null,null,null,null,null,null,null,null,null,null,null,null,null,null,null,39,{"$f":"$H$33","v":"6 Left"},{"$f":"$R$29","v":"4 Right"},{"$f":"$Z$26","v":"3 Left"},{"$f":"$AJ$20","v":"1 Right"}]
[null,null,null,null,null,null,null,null,null,null,null,null,null,null,null,null,null,null,null,null,null,null,null,null,null,null,null,null,null,null,null,null,null,null,null,null,14,{"$f":"$H$36","v":"7 Left"},"7 Left","7 Left","7 Left"]
[null,null,null,null,null,null,null,null,null,null,null,null,null,null,null,null,null,null,null,null,null,null,null,null,null,null,null,null,null,null,null,null,null,null,null,null,28,"7 Left","7 Left","7 Left","7 Left"]
[null,null,null,null,null,null,null,null,null,null,null,null,null,null,null,null,null,null,null,null,null,null,null,null,null,null,null,null,null,null,null,null,null,null,null,null,42,"7 Left","7 Left","7 Left","7 Left"]
[]
[]
[]
[]
[]
[]
[]
[]
[]
[]
[]
[]
[]
[]
[]
[]
[]
[]
[]
[]
[]
[]
[]
[]
[]
[]
[]
[]
[]
[]
[]
[]
[]
[]
[]
[]
[]
[]
[]
[]
[]
[]
[]
[]
[null,null,null,null,null,null,null,null,null,null,null,null,null,null,null,null,null,null,null,null,null,null,null,null,null,null,null,null,null,null,null,null,null,null,null,null,40,{"$f":"$I$33","v":"6 Right"},{"$f":"$R$26","v":"3 Right"},{"$f":"$AA$23","v":"2 Right"},{"$f":"$AJ$29","v":"4 Right"}]
[null,null,null,null,null,null,null,null,null,null,null,null,null,null,null,null,null,null,null,null,null,null,null,null,null,null,null,null,null,null,null,null,null,null,null,null,41,{"$f":"$H$36","v":"7 Left"},{"$f":"$R$30","v":"5 Right"},{"$f":"$AA$20","v":"1 Right"},{"$f":"$AJ$33","v":"6 Right"}]
[null,null,null,null,null,null,null,null,null,null,null,null,null,null,null,null,null,null,null,null,null,null,null,null,null,null,null,null,null,null,null,null,null,null,null,null,42,{"$f":"$I$36","v":"7 Right"},{"$f":"$R$23","v":"2 Right"},{"$f":"$Z$36","v":"7 Left"},{"$f":"$AI$30","v":"5 Left"}]

{"sheet":"DRAWS","index":19,"n_rows":2164,"n_cols":12,"rows_kept":2164,"cut":false,"hidden":true,"merged":[]}
[null,null,null,null,null,"Team #","Round 1","Round 2","Round 3","Round 4"]
[null,null,null,null,null,1,{"$f":"B1367","v":"1 Left"},{"$f":"C1367","v":"2 Left"},{"$f":"D1367","v":"4 Right"},{"$f":"E1367","v":"3 Left"}]
[null,null,null,null,null,2,"1 Right","3 Left","6 Right","2 Left"]
[null,null,null,null,null,3,"2 Left","4 Left","7 Right","1 Left"]
[null,null,null,null,null,4,"2 Right","1 Right","5 Left","6 Left"]
[null,null,null,null,null,5,"3 Left","6 Left","1 Left","7 Left"]
[null,null,null,null,null,6,"3 Right","7 Left","5 Right","4 Left"]
[null,null,null,null,null,7,"4 Left","1 Left","6 Left","3 Right"]
[null,null,null,null,null,8,"4 Right","7 Right","2 Left","1 Right"]
[null,null,null,null,null,9,"5 Left","6 Right","3 Left","4 Right"]
[null,null,null,null,null,10,"5 Right","4 Right","2 Right","6 Right"]
[null,null,null,null,null,11,"6 Left","3 Right","1 Right","5 Left"]
[null,null,null,null,null,12,"6 Right","5 Right","7 Left","2 Right"]
[null,null,null,null,null,13,"7 Left","2 Right","3 Right","5 Right"]
[null,null,null,null,null,14,"7 Right","1 Right","4 Left","7 Right"]
[null,null,null,null,null,15,"1 Left","3 Left","7 Right","6 Left"]
[null,null,null,null,null,16,"1 Right","4 Left","5 Left","7 Left"]
[null,null,null,null,null,17,"2 Left","5 Left","1 Left","4 Left"]
[null,null,null,null,null,18,"2 Right","6 Left","5 Right","3 Right"]
[null,null,null,null,null,19,"3 Left","7 Left","6 Left","1 Right"]
[null,null,null,null,null,20,"3 Right","1 Left","2 Left","4 Right"]
[null,null,null,null,null,21,"4 Left","7 Right","3 Left","6 Right"]
[null,null,null,null,null,22,"4 Right","6 Right","2 Right","5 Left"]
[null,null,null,null,null,23,"5 Left","4 Right","1 Right","2 Right"]
[null,null,null,null,null,24,"5 Right","3 Right","7 Left","5 Right"]
[null,null,null,null,null,25,"6 Left","5 Right","3 Right","7 Right"]
[null,null,null,null,null,26,"6 Right","2 Right","4 Left","3 Left"]
[null,null,null,null,null,27,"7 Left","1 Right","4 Right","2 Left"]
[null,null,null,null,null,28,"7 Right","2 Left","6 Right","1 Left"]
[null,null,null,null,null,29,"1 Left","5 Left","3 Right","2 Right"]
[null,null,null,null,null,30,"1 Right","2 Left","4 Left","5 Right"]
[null,null,null,null,null,31,"2 Left","3 Left","4 Right","7 Right"]
[null,null,null,null,null,32,"2 Right","4 Left","6 Right","3 Left"]
[null,null,null,null,null,33,"3 Left","5 Left","7 Right","2 Left"]
[null,null,null,null,null,34,"3 Right","6 Left","5 Left","1 Left"]
[null,null,null,null,null,35,"4 Left","7 Left","1 Left","6 Left"]
[null,null,null,null,null,36,"4 Right","1 Left","5 Right","7 Left"]
[null,null,null,null,null,37,"5 Left","7 Right","6 Left","4 Left"]
[null,null,null,null,null,38,"5 Right","6 Right","2 Left","3 Right"]
[null,null,null,null,null,39,"6 Left","4 Right","3 Left","1 Right"]
[null,null,null,null,null,40,"7 Left","7 Left","7 Left","7 Left"]
[null,null,null,null,null,41,"7 Left","7 Left","7 Left","7 Left"]
[null,null,null,null,null,42,"7 Left","7 Left","7 Left","7 Left"]
[null,null,null,null,null,43]
[null,null,null,null,null,44]
[null,null,null,null,null,45]
[null,null,null,null,null,46]
[null,null,null,null,null,47]
[null,null,null,null,null,48]
[null,null,null,null,null,49]
[null,null,null,null,null,50]
[null,null,null,null,null,51]
[null,null,null,null,null,52]
[null,null,null,null,null,53]
[null,null,null,null,null,54]
[null,null,null,null,null,55]
[null,null,null,null,null,56]
[null,null,null,null,null,57]
[null,null,null,null,null,58]
[null,null,null,null,null,59]
[null,null,null,null,null,60]
[null,null,null,null,null,61]
[null,null,null,null,null,62]
[null,null,null,null,null,63]
[null,null,null,null,null,64]
[null,null,null,null,null,65]
[null,null,null,null,null,66]
[null,null,null,null,null,67]
[null,null,null,null,null,68]
[null,null,null,null,null,69]
[null,null,null,null,null,70]
[null,null,null,null,null,71]
[null,null,null,null,null,72]
[null,null,null,null,null,73]
[null,null,null,null,null,74]
[null,null,null,null,null,75]
[null,null,null,null,null,76]
[null,null,null,null,null,77]
[null,null,null,null,null,78]
[null,null,null,null,null,79]
[null,null,null,null,null,80]
[null,null,null,null,null,81]
[null,null,null,null,null,82]
[null,null,null,null,null,83]
[null,null,null,null,null,84]
[]
[null,null,null,null,null,null,null,null,null,null,null,82]
[]
[]
[]
[]
[]
[]
[]
[]
[]
[]
[]
[]
[]
[]
[]
[]
[]
[]
[]
[]
[]
[]
[]
[]
[]
[]
[]
[]
[]
[]
[]
[]
[]
[]
[]
[]
[]
[]
[]
[]
[]
[]
[]
[]
[]
[]
[]
[]
[]
[]
[]
[]
[]
[]
[]
[]
[]
[]
[]
[]
[]
[]
[]
[]
[]
[]
[]
[]
[]
[]
[]
[]
[]
[]
[]
[]
[]
[]
[]
[]
[]
[]
[null,null,null,null,null,null,null,null,null,null,null,80]
[]
[]
[]
[]
[]
[]
[]
[]
[]
[]
[]
[]
[]
[]
[]
[]
[]
[]
[]
[]
[]
[]
[]
[]
[]
[]
[]
[]
[]
[]
[]
[]
[]
[]
[]
[]
[]
[]
[]
[]
[]
[]
[]
[]
[]
[]
[]
[]
[]
[]
[]
[]
[]
[]
[]
[]
[]
[]
[]
[]
[]
[]
[]
[]
[]
[]
[]
[]
[]
[]
[]
[]
[]
[]
[]
[]
[]
[]
[]
[]
[null,null,null,null,null,null,null,null,null,null,null,78]
[]
[]
[]
[]
[]
[]
[]
[]
[]
[]
[]
[]
[]
[]
[]
[]
[]
[]
[]
[]
[]
[]
[]
[]
[]
[]
[]
[]
[]
[]
[]
[]
[]
[]
[]
[]
[]
[]
[]
[]
[]
[]
[]
[]
[]
[]
[]
[]
[]
[]
[]
[]
[]
[]
[]
[]
[]
[]
[]
[]
[]
[]
[]
[]
[]
[]
[]
[]
[]
[]
[]
[]
[]
[]
[]
[]
[]
[]
[null,null,null,null,null,null,null,null,null,null,null,76]
[]
[]
[]
[]
[]
[]
[]
[]
[]
[]
[]
[]
[]
[]
[]
[]
[]
[]
[]
[]
[]
[]
[]
[]
[]
[]
[]
[]
[]
[]
[]
[]
[]
[]
[]
[]
[]
[]
[]
[]
[]
[]
[]
[]
[]
[]
[]
[]
[]
[]
[]
[]
[]
[]
[]
[]
[]
[]
[]
[]
[]
[]
[]
[]
[]
[]
[]
[]
[]
[]
[]
[]
[]
[]
[]
[]
[null,null,null,null,null,null,null,null,null,null,null,74]
[]
[]
[]
[]
[]
[]
[]
[]
[]
[]
[]
[]
[]
[]
[]
[]
[]
[]
[]
[]
[]
[]
[]
[]
[]
[]
[]
[]
[]
[]
[]
[]
[]
[]
[]
[]
[]
[]
[]
[]
[]
[]
[]
[]
[]
[]
[]
[]
[]
[]
[]
[]
[]
[]
[]
[]
[]
[]
[]
[]
[]
[]
[]
[]
[]
[]
[]
[]
[]
[]
[]
[]
[]
[]
[null,null,null,null,null,null,null,null,null,null,null,72]
[]
[]
[]
[]
[]
[]
[]
[]
[]
[]
[]
[]
[]
[]
[]
[]
[]
[]
[]
[]
[]
[]
[]
[]
[]
[]
[]
[]
[]
[]
[]
[]
[]
[]
[]
[]
[]
[]
[]
[]
[]
[]
[]
[]
[]
[]
[]
[]
[]
[]
[]
[]
[]
[]
[]
[]
[]
[]
[]
[]
[]
[]
[]
[]
[]
[]
[]
[]
[]
[]
[]
[]
[null,null,null,null,null,null,null,null,null,null,null,70]
[]
[]
[]
[]
[]
[]
[]
[]
[]
[]
[]
[]
[]
[]
[]
[]
[]
[]
[]
[]
[]
[]
[]
[]
[]
[]
[]
[]
[]
[]
[]
[]
[]
[]
[]
[]
[]
[]
[]
[]
[]
[]
[]
[]
[]
[]
[]
[]
[]
[]
[]
[]
[]
[]
[]
[]
[]
[]
[]
[]
[]
[]
[]
[]
[]
[]
[]
[]
[]
[]
[null,null,null,null,null,null,null,null,null,null,null,68]
[]
[]
[]
[]
[]
[]
[]
[]
[]
[]
[]
[]
[]
[]
[]
[]
[]
[]
[]
[]
[]
[]
[]
[]
[]
[]
[]
[]
[]
[]
[]
[]
[]
[]
[]
[]
[]
[]
[]
[]
[]
[]
[]
[]
[]
[]
[]
[]
[]
[]
[]
[]
[]
[]
[]
[]
[]
[]
[]
[]
[]
[]
[]
[]
[]
[]
[]
[]
[null,null,null,null,null,null,null,null,null,null,null,66]
[]
[]
[]
[]
[]
[]
[]
[]
[]
[]
[]
[]
[]
[]
[]
[]
[]
[]
[]
[]
[]
[]
[]
[]
[]
[]
[]
[]
[]
[]
[]
[]
[]
[]
[]
[]
[]
[]
[]
[]
[]
[]
[]
[]
[]
[]
[]
[]
[]
[]
[]
[]
[]
[]
[]
[]
[]
[]
[]
[]
[]
[]
[]
[]
[]
[]
[null,null,null,null,null,null,null,null,null,null,null,64]
[]
[]
[]
[]
[]
[]
[]
[]
[]
[]
[]
[]
[]
[]
[]
[]
[]
[]
[]
[]
[]
[]
[]
[]
[]
[]
[]
[]
[]
[]
[]
[]
[]
[]
[]
[]
[]
[]
[]
[]
[]
[]
[]
[]
[]
[]
[]
[]
[]
[]
[]
[]
[]
[]
[]
[]
[]
[]
[]
[]
[]
[]
[]
[]
[null,null,null,null,null,null,null,null,null,null,null,62]
[]
[]
[]
[]
[]
[]
[]
[]
[]
[]
[]
[]
[]
[]
[]
[]
[]
[]
[]
[]
[]
[]
[]
[]
[]
[]
[]
[]
[]
[]
[]
[]
[]
[]
[]
[]
[]
[]
[]
[]
[]
[]
[]
[]
[]
[]
[]
[]
[]
[]
[]
[]
[]
[]
[]
[]
[]
[]
[]
[]
[]
[]
[null,null,null,null,null,null,null,null,null,null,null,60]
[]
[]
[]
[]
[]
[]
[]
[]
[]
[]
[]
[]
[]
[]
[]
[]
[]
[]
[]
[]
[]
[]
[]
[]
[]
[]
[]
[]
[]
[]
[]
[]
[]
[]
[]
[]
[]
[]
[]
[]
[]
[]
[]
[]
[]
[]
[]
[]
[]
[]
[]
[]
[]
[]
[]
[]
[]
[]
[]
[]
[null,null,null,null,null,null,null,null,null,null,null,58]
[]
[]
[]
[]
[]
[]
[]
[]
[]
[]
[]
[]
[]
[]
[]
[]
[]
[]
[]
[]
[]
[]
[]
[]
[]
[]
[]
[]
[]
[]
[]
[]
[]
[]
[]
[]
[]
[]
[]
[]
[]
[]
[]
[]
[]
[]
[]
[]
[]
[]
[]
[]
[]
[]
[]
[]
[]
[]
[null,null,null,null,null,null,null,null,null,null,null,56]
[]
[]
[]
[]
[]
[]
[]
[]
[]
[]
[]
[]
[]
[]
[]
[]
[]
[]
[]
[]
[]
[]
[]
[]
[]
[]
[]
[]
[]
[]
[]
[]
[]
[]
[]
[]
[]
[]
[]
[]
[]
[]
[]
[]
[]
[]
[]
[]
[]
[]
[]
[]
[]
[]
[]
[]
[null,null,null,null,null,null,null,null,null,null,null,54]
[]
[]
[]
[]
[]
[]
[]
[]
[]
[]
[]
[]
[]
[]
[]
[]
[]
[]
[]
[]
[]
[]
[]
[]
[]
[]
[]
[]
[]
[]
[]
[]
[]
[]
[]
[]
[]
[]
[]
[]
[]
[]
[]
[]
[]
[]
[]
[]
[]
[]
[]
[]
[]
[]
[null,null,null,null,null,null,null,null,null,null,null,52]
[]
[]
[]
[]
[]
[]
[]
[]
[]
[]
[]
[]
[]
[]
[]
[]
[]
[]
[]
[]
[]
[]
[]
[]
[]
[]
[]
[]
[]
[]
[]
[]
[]
[]
[]
[]
[]
[]
[]
[]
[]
[]
[]
[]
[]
[]
[]
[]
[]
[]
[]
[]
[null,null,null,null,null,null,null,null,null,null,null,50]
[]
[]
[]
[]
[]
[]
[]
[]
[]
[]
[]
[]
[]
[]
[]
[]
[]
[]
[]
[]
[]
[]
[]
[]
[]
[]
[]
[]
[]
[]
[]
[]
[]
[]
[]
[]
[]
[]
[]
[]
[]
[]
[]
[]
[]
[]
[]
[]
[]
[]
[null,null,null,null,null,null,null,null,null,null,null,48]
[]
[]
[]
[]
[]
[]
[]
[]
[]
[]
[]
[]
[]
[]
[]
[]
[]
[]
[]
[]
[]
[]
[]
[]
[]
[]
[]
[]
[]
[]
[]
[]
[]
[]
[]
[]
[]
[]
[]
[]
[]
[]
[]
[]
[]
[]
[]
[]
[null,null,null,null,null,null,null,null,null,null,null,46]
[]
[]
[]
[]
[]
[]
[]
[]
[]
[]
[]
[]
[]
[]
[]
[]
[]
[]
[]
[]
[]
[]
[]
[]
[]
[]
[]
[]
[]
[]
[]
[]
[]
[]
[]
[]
[]
[]
[]
[]
[]
[]
[]
[]
[]
[]
[null,null,null,null,null,null,null,null,null,null,null,44]
[]
[]
[]
[]
[]
[]
[]
[]
[]
[]
[]
[]
[]
[]
[]
[]
[]
[]
[]
[]
[]
[]
[]
[]
[]
[]
[]
[]
[]
[]
[]
[]
[]
[]
[]
[]
[]
[]
[]
[]
[]
[]
[]
[]
[{"$f":"'42'!AK18","v":1},{"$f":"'42'!AL18","v":"1 Left"},{"$f":"'42'!AM18","v":"2 Left"},{"$f":"'42'!AN18","v":"4 Right"},{"$f":"'42'!AO18","v":"3 Left"},null,null,null,null,null,null,42]
[{"$f":"'42'!AK19","v":2},{"$f":"'42'!AL19","v":"1 Right"},{"$f":"'42'!AM19","v":"3 Left"},{"$f":"'42'!AN19","v":"6 Right"},{"$f":"'42'!AO19","v":"2 Left"}]
[{"$f":"'42'!AK20","v":3},{"$f":"'42'!AL20","v":"2 Left"},{"$f":"'42'!AM20","v":"4 Left"},{"$f":"'42'!AN20","v":"7 Right"},{"$f":"'42'!AO20","v":"1 Left"}]
[{"$f":"'42'!AK21","v":4},{"$f":"'42'!AL21","v":"2 Right"},{"$f":"'42'!AM21","v":"1 Right"},{"$f":"'42'!AN21","v":"5 Left"},{"$f":"'42'!AO21","v":"6 Left"}]
[{"$f":"'42'!AK22","v":5},{"$f":"'42'!AL22","v":"3 Left"},{"$f":"'42'!AM22","v":"6 Left"},{"$f":"'42'!AN22","v":"1 Left"},{"$f":"'42'!AO22","v":"7 Left"}]
[{"$f":"'42'!AK23","v":6},{"$f":"'42'!AL23","v":"3 Right"},{"$f":"'42'!AM23","v":"7 Left"},{"$f":"'42'!AN23","v":"5 Right"},{"$f":"'42'!AO23","v":"4 Left"}]
[{"$f":"'42'!AK24","v":7},{"$f":"'42'!AL24","v":"4 Left"},{"$f":"'42'!AM24","v":"1 Left"},{"$f":"'42'!AN24","v":"6 Left"},{"$f":"'42'!AO24","v":"3 Right"}]
[{"$f":"'42'!AK25","v":8},{"$f":"'42'!AL25","v":"4 Right"},{"$f":"'42'!AM25","v":"7 Right"},{"$f":"'42'!AN25","v":"2 Left"},{"$f":"'42'!AO25","v":"1 Right"}]
[{"$f":"'42'!AK26","v":9},{"$f":"'42'!AL26","v":"5 Left"},{"$f":"'42'!AM26","v":"6 Right"},{"$f":"'42'!AN26","v":"3 Left"},{"$f":"'42'!AO26","v":"4 Right"}]
[{"$f":"'42'!AK27","v":10},{"$f":"'42'!AL27","v":"5 Right"},{"$f":"'42'!AM27","v":"4 Right"},{"$f":"'42'!AN27","v":"2 Right"},{"$f":"'42'!AO27","v":"6 Right"}]
[{"$f":"'42'!AK28","v":11},{"$f":"'42'!AL28","v":"6 Left"},{"$f":"'42'!AM28","v":"3 Right"},{"$f":"'42'!AN28","v":"1 Right"},{"$f":"'42'!AO28","v":"5 Left"}]
[{"$f":"'42'!AK29","v":12},{"$f":"'42'!AL29","v":"6 Right"},{"$f":"'42'!AM29","v":"5 Right"},{"$f":"'42'!AN29","v":"7 Left"},{"$f":"'42'!AO29","v":"2 Right"}]
[{"$f":"'42'!AK30","v":13},{"$f":"'42'!AL30","v":"7 Left"},{"$f":"'42'!AM30","v":"2 Right"},{"$f":"'42'!AN30","v":"3 Right"},{"$f":"'42'!AO30","v":"5 Right"}]
[{"$f":"'42'!AK31","v":14},{"$f":"'42'!AL31","v":"7 Right"},{"$f":"'42'!AM31","v":"1 Right"},{"$f":"'42'!AN31","v":"4 Left"},{"$f":"'42'!AO31","v":"7 Right"}]
[{"$f":"'42'!AK32","v":15},{"$f":"'42'!AL32","v":"1 Left"},{"$f":"'42'!AM32","v":"3 Left"},{"$f":"'42'!AN32","v":"7 Right"},{"$f":"'42'!AO32","v":"6 Left"}]
[{"$f":"'42'!AK33","v":16},{"$f":"'42'!AL33","v":"1 Right"},{"$f":"'42'!AM33","v":"4 Left"},{"$f":"'42'!AN33","v":"5 Left"},{"$f":"'42'!AO33","v":"7 Left"}]
[{"$f":"'42'!AK34","v":17},{"$f":"'42'!AL34","v":"2 Left"},{"$f":"'42'!AM34","v":"5 Left"},{"$f":"'42'!AN34","v":"1 Left"},{"$f":"'42'!AO34","v":"4 Left"}]
[{"$f":"'42'!AK35","v":18},{"$f":"'42'!AL35","v":"2 Right"},{"$f":"'42'!AM35","v":"6 Left"},{"$f":"'42'!AN35","v":"5 Right"},{"$f":"'42'!AO35","v":"3 Right"}]
[{"$f":"'42'!AK36","v":19},{"$f":"'42'!AL36","v":"3 Left"},{"$f":"'42'!AM36","v":"7 Left"},{"$f":"'42'!AN36","v":"6 Left"},{"$f":"'42'!AO36","v":"1 Right"}]
[{"$f":"'42'!AK37","v":20},{"$f":"'42'!AL37","v":"3 Right"},{"$f":"'42'!AM37","v":"1 Left"},{"$f":"'42'!AN37","v":"2 Left"},{"$f":"'42'!AO37","v":"4 Right"}]
[{"$f":"'42'!AK38","v":21},{"$f":"'42'!AL38","v":"4 Left"},{"$f":"'42'!AM38","v":"7 Right"},{"$f":"'42'!AN38","v":"3 Left"},{"$f":"'42'!AO38","v":"6 Right"}]
[{"$f":"'42'!AK39","v":22},{"$f":"'42'!AL39","v":"4 Right"},{"$f":"'42'!AM39","v":"6 Right"},{"$f":"'42'!AN39","v":"2 Right"},{"$f":"'42'!AO39","v":"5 Left"}]
[{"$f":"'42'!AK40","v":23},{"$f":"'42'!AL40","v":"5 Left"},{"$f":"'42'!AM40","v":"4 Right"},{"$f":"'42'!AN40","v":"1 Right"},{"$f":"'42'!AO40","v":"2 Right"}]
[{"$f":"'42'!AK41","v":24},{"$f":"'42'!AL41","v":"5 Right"},{"$f":"'42'!AM41","v":"3 Right"},{"$f":"'42'!AN41","v":"7 Left"},{"$f":"'42'!AO41","v":"5 Right"}]
[{"$f":"'42'!AK42","v":25},{"$f":"'42'!AL42","v":"6 Left"},{"$f":"'42'!AM42","v":"5 Right"},{"$f":"'42'!AN42","v":"3 Right"},{"$f":"'42'!AO42","v":"7 Right"}]
[{"$f":"'42'!AK43","v":26},{"$f":"'42'!AL43","v":"6 Right"},{"$f":"'42'!AM43","v":"2 Right"},{"$f":"'42'!AN43","v":"4 Left"},{"$f":"'42'!AO43","v":"3 Left"}]
[{"$f":"'42'!AK44","v":27},{"$f":"'42'!AL44","v":"7 Left"},{"$f":"'42'!AM44","v":"1 Right"},{"$f":"'42'!AN44","v":"4 Right"},{"$f":"'42'!AO44","v":"2 Left"}]
[{"$f":"'42'!AK45","v":28},{"$f":"'42'!AL45","v":"7 Right"},{"$f":"'42'!AM45","v":"2 Left"},{"$f":"'42'!AN45","v":"6 Right"},{"$f":"'42'!AO45","v":"1 Left"}]
[{"$f":"'42'!AK46","v":29},{"$f":"'42'!AL46","v":"1 Left"},{"$f":"'42'!AM46","v":"5 Left"},{"$f":"'42'!AN46","v":"3 Right"},{"$f":"'42'!AO46","v":"2 Right"}]
[{"$f":"'42'!AK47","v":30},{"$f":"'42'!AL47","v":"1 Right"},{"$f":"'42'!AM47","v":"2 Left"},{"$f":"'42'!AN47","v":"4 Left"},{"$f":"'42'!AO47","v":"5 Right"}]
[{"$f":"'42'!AK48","v":31},{"$f":"'42'!AL48","v":"2 Left"},{"$f":"'42'!AM48","v":"3 Left"},{"$f":"'42'!AN48","v":"4 Right"},{"$f":"'42'!AO48","v":"7 Right"}]
[{"$f":"'42'!AK49","v":32},{"$f":"'42'!AL49","v":"2 Right"},{"$f":"'42'!AM49","v":"4 Left"},{"$f":"'42'!AN49","v":"6 Right"},{"$f":"'42'!AO49","v":"3 Left"}]
[{"$f":"'42'!AK50","v":33},{"$f":"'42'!AL50","v":"3 Left"},{"$f":"'42'!AM50","v":"5 Left"},{"$f":"'42'!AN50","v":"7 Right"},{"$f":"'42'!AO50","v":"2 Left"}]
[{"$f":"'42'!AK51","v":34},{"$f":"'42'!AL51","v":"3 Right"},{"$f":"'42'!AM51","v":"6 Left"},{"$f":"'42'!AN51","v":"5 Left"},{"$f":"'42'!AO51","v":"1 Left"}]
[{"$f":"'42'!AK52","v":35},{"$f":"'42'!AL52","v":"4 Left"},{"$f":"'42'!AM52","v":"7 Left"},{"$f":"'42'!AN52","v":"1 Left"},{"$f":"'42'!AO52","v":"6 Left"}]
[{"$f":"'42'!AK53","v":36},{"$f":"'42'!AL53","v":"4 Right"},{"$f":"'42'!AM53","v":"1 Left"},{"$f":"'42'!AN53","v":"5 Right"},{"$f":"'42'!AO53","v":"7 Left"}]
[{"$f":"'42'!AK54","v":37},{"$f":"'42'!AL54","v":"5 Left"},{"$f":"'42'!AM54","v":"7 Right"},{"$f":"'42'!AN54","v":"6 Left"},{"$f":"'42'!AO54","v":"4 Left"}]
[{"$f":"'42'!AK55","v":38},{"$f":"'42'!AL55","v":"5 Right"},{"$f":"'42'!AM55","v":"6 Right"},{"$f":"'42'!AN55","v":"2 Left"},{"$f":"'42'!AO55","v":"3 Right"}]
[{"$f":"'42'!AK56","v":39},{"$f":"'42'!AL56","v":"6 Left"},{"$f":"'42'!AM56","v":"4 Right"},{"$f":"'42'!AN56","v":"3 Left"},{"$f":"'42'!AO56","v":"1 Right"}]
[{"$f":"'42'!AK57","v":14},{"$f":"'42'!AL57","v":"7 Left"},{"$f":"'42'!AM57","v":"7 Left"},{"$f":"'42'!AN57","v":"7 Left"},{"$f":"'42'!AO57","v":"7 Left"}]
[{"$f":"'42'!AK58","v":28},{"$f":"'42'!AL58","v":"7 Left"},{"$f":"'42'!AM58","v":"7 Left"},{"$f":"'42'!AN58","v":"7 Left"},{"$f":"'42'!AO58","v":"7 Left"}]
[{"$f":"'42'!AK59","v":42},{"$f":"'42'!AL59","v":"7 Left"},{"$f":"'42'!AM59","v":"7 Left"},{"$f":"'42'!AN59","v":"7 Left"},{"$f":"'42'!AO59","v":"7 Left"}]
[]
[{"$f":"'40'!AK18","v":1},{"$f":"'40'!AL18","v":"1 Left"},{"$f":"'40'!AM18","v":"7 Left"},{"$f":"'40'!AN18","v":"6 Right"},{"$f":"'40'!AO18","v":"4 Right"},null,null,null,null,null,null,40]
[{"$f":"'40'!AK19","v":2},{"$f":"'40'!AL19","v":"3 Left"},{"$f":"'40'!AM19","v":"7 Left"},{"$f":"'40'!AN19","v":"4 Right"},{"$f":"'40'!AO19","v":"6 Right"}]
[{"$f":"'40'!AK20","v":3},{"$f":"'40'!AL20","v":"2 Left"},{"$f":"'40'!AM20","v":"7 Left"},{"$f":"'40'!AN20","v":"5 Left"},{"$f":"'40'!AO20","v":"6 Right"}]
[{"$f":"'40'!AK21","v":4},{"$f":"'40'!AL21","v":"4 Left"},{"$f":"'40'!AM21","v":"7 Left"},{"$f":"'40'!AN21","v":"3 Right"},{"$f":"'40'!AO21","v":"5 Right"}]
[{"$f":"'40'!AK22","v":5},{"$f":"'40'!AL22","v":"5 Left"},{"$f":"'40'!AM22","v":"2 Left"},{"$f":"'40'!AN22","v":"1 Right"},{"$f":"'40'!AO22","v":"6 Left"}]
[{"$f":"'40'!AK23","v":6},{"$f":"'40'!AL23","v":"6 Left"},{"$f":"'40'!AM23","v":"3 Left"},{"$f":"'40'!AN23","v":"5 Right"},{"$f":"'40'!AO23","v":"2 Left"}]
[{"$f":"'40'!AK24","v":7},{"$f":"'40'!AL24","v":"1 Right"},{"$f":"'40'!AM24","v":"4 Left"},{"$f":"'40'!AN24","v":"6 Left"},{"$f":"'40'!AO24","v":"1 Right"}]
[{"$f":"'40'!AK25","v":8},{"$f":"'40'!AL25","v":"2 Right"},{"$f":"'40'!AM25","v":"5 Left"},{"$f":"'40'!AN25","v":"2 Right"},{"$f":"'40'!AO25","v":"3 Left"}]
[{"$f":"'40'!AK26","v":9},{"$f":"'40'!AL26","v":"3 Right"},{"$f":"'40'!AM26","v":"6 Left"},{"$f":"'40'!AN26","v":"4 Left"},{"$f":"'40'!AO26","v":"3 Right"}]
[{"$f":"'40'!AK27","v":10},{"$f":"'40'!AL27","v":"4 Right"},{"$f":"'40'!AM27","v":"1 Left"},{"$f":"'40'!AN27","v":"2 Left"},{"$f":"'40'!AO27","v":"1 Left"}]
[{"$f":"'40'!AK28","v":11},{"$f":"'40'!AL28","v":"5 Right"},{"$f":"'40'!AM28","v":"1 Right"},{"$f":"'40'!AN28","v":"3 Left"},{"$f":"'40'!AO28","v":"4 Right"}]
[{"$f":"'40'!AK29","v":12},{"$f":"'40'!AL29","v":"6 Right"},{"$f":"'40'!AM29","v":"2 Right"},{"$f":"'40'!AN29","v":"1 Left"},{"$f":"'40'!AO29","v":"4 Left"}]
[{"$f":"'40'!AK30","v":13},{"$f":"'40'!AL30","v":"1 Left"},{"$f":"'40'!AM30","v":"4 Right"},{"$f":"'40'!AN30","v":"7 Left"},{"$f":"'40'!AO30","v":"5 Left"}]
[{"$f":"'40'!AK31","v":14},{"$f":"'40'!AL31","v":"3 Left"},{"$f":"'40'!AM31","v":"5 Right"},{"$f":"'40'!AN31","v":"7 Left"},{"$f":"'40'!AO31","v":"2 Right"}]
[{"$f":"'40'!AK32","v":15},{"$f":"'40'!AL32","v":"2 Left"},{"$f":"'40'!AM32","v":"6 Right"},{"$f":"'40'!AN32","v":"7 Left"},{"$f":"'40'!AO32","v":"6 Left"}]
[{"$f":"'40'!AK33","v":16},{"$f":"'40'!AL33","v":"4 Left"},{"$f":"'40'!AM33","v":"3 Right"},{"$f":"'40'!AN33","v":"7 Left"},{"$f":"'40'!AO33","v":"2 Left"}]
[{"$f":"'40'!AK34","v":17},{"$f":"'40'!AL34","v":"5 Left"},{"$f":"'40'!AM34","v":"3 Right"},{"$f":"'40'!AN34","v":"6 Right"},{"$f":"'40'!AO34","v":"1 Right"}]
[{"$f":"'40'!AK35","v":18},{"$f":"'40'!AL35","v":"6 Left"},{"$f":"'40'!AM35","v":"2 Left"},{"$f":"'40'!AN35","v":"4 Right"},{"$f":"'40'!AO35","v":"3 Left"}]
[{"$f":"'40'!AK36","v":19},{"$f":"'40'!AL36","v":"1 Right"},{"$f":"'40'!AM36","v":"3 Left"},{"$f":"'40'!AN36","v":"5 Left"},{"$f":"'40'!AO36","v":"3 Right"}]
[{"$f":"'40'!AK37","v":20},{"$f":"'40'!AL37","v":"2 Right"},{"$f":"'40'!AM37","v":"4 Left"},{"$f":"'40'!AN37","v":"3 Right"},{"$f":"'40'!AO37","v":"1 Left"}]
[{"$f":"'40'!AK38","v":21},{"$f":"'40'!AL38","v":"3 Right"},{"$f":"'40'!AM38","v":"5 Left"},{"$f":"'40'!AN38","v":"1 Right"},{"$f":"'40'!AO38","v":"4 Right"}]
[{"$f":"'40'!AK39","v":22},{"$f":"'40'!AL39","v":"4 Right"},{"$f":"'40'!AM39","v":"6 Left"},{"$f":"'40'!AN39","v":"5 Right"},{"$f":"'40'!AO39","v":"4 Left"}]
[{"$f":"'40'!AK40","v":23},{"$f":"'40'!AL40","v":"5 Right"},{"$f":"'40'!AM40","v":"1 Left"},{"$f":"'40'!AN40","v":"6 Left"},{"$f":"'40'!AO40","v":"2 Right"}]
[{"$f":"'40'!AK41","v":24},{"$f":"'40'!AL41","v":"6 Right"},{"$f":"'40'!AM41","v":"1 Right"},{"$f":"'40'!AN41","v":"2 Right"},{"$f":"'40'!AO41","v":"5 Left"}]
[{"$f":"'40'!AK42","v":25},{"$f":"'40'!AL42","v":"1 Left"},{"$f":"'40'!AM42","v":"2 Right"},{"$f":"'40'!AN42","v":"4 Left"},{"$f":"'40'!AO42","v":"6 Right"}]
[{"$f":"'40'!AK43","v":26},{"$f":"'40'!AL43","v":"3 Left"},{"$f":"'40'!AM43","v":"4 Right"},{"$f":"'40'!AN43","v":"2 Left"},{"$f":"'40'!AO43","v":"5 Right"}]
[{"$f":"'40'!AK44","v":27},{"$f":"'40'!AL44","v":"2 Left"},{"$f":"'40'!AM44","v":"5 Right"},{"$f":"'40'!AN44","v":"3 Left"},{"$f":"'40'!AO44","v":"7 Left"}]
[{"$f":"'40'!AK45","v":28},{"$f":"'40'!AL45","v":"4 Left"},{"$f":"'40'!AM45","v":"6 Right"},{"$f":"'40'!AN45","v":"1 Left"},{"$f":"'40'!AO45","v":"7 Left"}]
[{"$f":"'40'!AK46","v":29},{"$f":"'40'!AL46","v":"5 Left"},{"$f":"'40'!AM46","v":"6 Right"},{"$f":"'40'!AN46","v":"4 Right"},{"$f":"'40'!AO46","v":"7 Left"}]
[{"$f":"'40'!AK47","v":30},{"$f":"'40'!AL47","v":"6 Left"},{"$f":"'40'!AM47","v":"3 Right"},{"$f":"'40'!AN47","v":"5 Left"},{"$f":"'40'!AO47","v":"7 Left"}]
[{"$f":"'40'!AK48","v":31},{"$f":"'40'!AL48","v":"1 Right"},{"$f":"'40'!AM48","v":"2 Left"},{"$f":"'40'!AN48","v":"3 Right"},{"$f":"'40'!AO48","v":"5 Left"}]
[{"$f":"'40'!AK49","v":32},{"$f":"'40'!AL49","v":"2 Right"},{"$f":"'40'!AM49","v":"3 Left"},{"$f":"'40'!AN49","v":"1 Right"},{"$f":"'40'!AO49","v":"5 Right"}]
[{"$f":"'40'!AK50","v":33},{"$f":"'40'!AL50","v":"3 Right"},{"$f":"'40'!AM50","v":"4 Left"},{"$f":"'40'!AN50","v":"5 Right"},{"$f":"'40'!AO50","v":"6 Left"}]
[{"$f":"'40'!AK51","v":34},{"$f":"'40'!AL51","v":"4 Right"},{"$f":"'40'!AM51","v":"5 Left"},{"$f":"'40'!AN51","v":"6 Left"},{"$f":"'40'!AO51","v":"2 Left"}]
[{"$f":"'40'!AK52","v":35},{"$f":"'40'!AL52","v":"5 Right"},{"$f":"'40'!AM52","v":"6 Left"},{"$f":"'40'!AN52","v":"2 Right"},{"$f":"'40'!AO52","v":"1 Right"}]
[{"$f":"'40'!AK53","v":36},{"$f":"'40'!AL53","v":"6 Right"},{"$f":"'40'!AM53","v":"1 Left"},{"$f":"'40'!AN53","v":"4 Left"},{"$f":"'40'!AO53","v":"3 Left"}]
[{"$f":"'40'!AK54","v":37},{"$f":"'40'!AL54","v":"7 Left"},{"$f":"'40'!AM54","v":"1 Right"},{"$f":"'40'!AN54","v":"2 Left"},{"$f":"'40'!AO54","v":"3 Right"}]
[{"$f":"'40'!AK55","v":38},{"$f":"'40'!AL55","v":"7 Left"},{"$f":"'40'!AM55","v":"2 Right"},{"$f":"'40'!AN55","v":"3 Left"},{"$f":"'40'!AO55","v":"1 Left"}]
[{"$f":"'40'!AK56","v":39},{"$f":"'40'!AL56","v":"7 Left"},{"$f":"'40'!AM56","v":"4 Right"},{"$f":"'40'!AN56","v":"1 Left"},{"$f":"'40'!AO56","v":"2 Right"}]
[{"$f":"'40'!AK57","v":40},{"$f":"'40'!AL57","v":"7 Left"},{"$f":"'40'!AM57","v":"5 Right"},{"$f":"'40'!AN57","v":"6 Right"},{"$f":"'40'!AO57","v":"4 Left"}]
[]
[{"$f":"'38'!AK18","v":1},{"$f":"'38'!AL18","v":"1 Left"},{"$f":"'38'!AM18","v":"4 Right"},{"$f":"'38'!AN18","v":"1 Left"},{"$f":"'38'!AO18","v":"3 Left"},null,null,null,null,null,null,38]
[{"$f":"'38'!AK19","v":2},{"$f":"'38'!AL19","v":"1 Right"},{"$f":"'38'!AM19","v":"3 Left"},{"$f":"'38'!AN19","v":"2 Right"},{"$f":"'38'!AO19","v":"4 Right"}]
[{"$f":"'38'!AK20","v":3},{"$f":"'38'!AL20","v":"2 Left"},{"$f":"'38'!AM20","v":"4 Left"},{"$f":"'38'!AN20","v":"1 Right"},{"$f":"'38'!AO20","v":"5 Left"}]
[{"$f":"'38'!AK21","v":4},{"$f":"'38'!AL21","v":"2 Right"},{"$f":"'38'!AM21","v":"5 Left"},{"$f":"'38'!AN21","v":"3 Left"},{"$f":"'38'!AO21","v":"2 Left"}]
[{"$f":"'38'!AK22","v":5},{"$f":"'38'!AL22","v":"3 Left"},{"$f":"'38'!AM22","v":"1 Left"},{"$f":"'38'!AN22","v":"4 Left"},{"$f":"'38'!AO22","v":"1 Right"}]
[{"$f":"'38'!AK23","v":6},{"$f":"'38'!AL23","v":"4 Left"},{"$f":"'38'!AM23","v":"1 Right"},{"$f":"'38'!AN23","v":"3 Right"},{"$f":"'38'!AO23","v":"2 Right"}]
[{"$f":"'38'!AK24","v":7},{"$f":"'38'!AL24","v":"3 Right"},{"$f":"'38'!AM24","v":"2 Right"},{"$f":"'38'!AN24","v":"4 Right"},{"$f":"'38'!AO24","v":"5 Right"}]
[{"$f":"'38'!AK25","v":8},{"$f":"'38'!AL25","v":"4 Right"},{"$f":"'38'!AM25","v":"5 Right"},{"$f":"'38'!AN25","v":"1 Left"},{"$f":"'38'!AO25","v":"3 Right"}]
[{"$f":"'38'!AK26","v":9},{"$f":"'38'!AL26","v":"5 Left"},{"$f":"'38'!AM26","v":"3 Right"},{"$f":"'38'!AN26","v":"1 Right"},{"$f":"'38'!AO26","v":"4 Left"}]
[{"$f":"'38'!AK27","v":10},{"$f":"'38'!AL27","v":"5 Right"},{"$f":"'38'!AM27","v":"4 Right"},{"$f":"'38'!AN27","v":"3 Left"},{"$f":"'38'!AO27","v":"6 Left"}]
[{"$f":"'38'!AK28","v":11},{"$f":"'38'!AL28","v":"1 Left"},{"$f":"'38'!AM28","v":"2 Left"},{"$f":"'38'!AN28","v":"4 Left"},{"$f":"'38'!AO28","v":"6 Right"}]
[{"$f":"'38'!AK29","v":12},{"$f":"'38'!AL29","v":"1 Right"},{"$f":"'38'!AM29","v":"4 Left"},{"$f":"'38'!AN29","v":"3 Right"},{"$f":"'38'!AO29","v":"7 Left"}]
[{"$f":"'38'!AK30","v":13},{"$f":"'38'!AL30","v":"2 Left"},{"$f":"'38'!AM30","v":"5 Left"},{"$f":"'38'!AN30","v":"4 Right"},{"$f":"'38'!AO30","v":"7 Left"}]
[{"$f":"'38'!AK31","v":14},{"$f":"'38'!AL31","v":"2 Right"},{"$f":"'38'!AM31","v":"1 Left"},{"$f":"'38'!AN31","v":"5 Right"},{"$f":"'38'!AO31","v":"6 Left"}]
[{"$f":"'38'!AK32","v":15},{"$f":"'38'!AL32","v":"3 Left"},{"$f":"'38'!AM32","v":"1 Right"},{"$f":"'38'!AN32","v":"2 Left"},{"$f":"'38'!AO32","v":"6 Right"}]
[{"$f":"'38'!AK33","v":16},{"$f":"'38'!AL33","v":"4 Left"},{"$f":"'38'!AM33","v":"2 Right"},{"$f":"'38'!AN33","v":"5 Left"},{"$f":"'38'!AO33","v":"7 Left"}]
[{"$f":"'38'!AK34","v":17},{"$f":"'38'!AL34","v":"3 Right"},{"$f":"'38'!AM34","v":"5 Right"},{"$f":"'38'!AN34","v":"2 Right"},{"$f":"'38'!AO34","v":"7 Left"}]
[{"$f":"'38'!AK35","v":18},{"$f":"'38'!AL35","v":"4 Right"},{"$f":"'38'!AM35","v":"3 Right"},{"$f":"'38'!AN35","v":"7 Left"},{"$f":"'38'!AO35","v":"5 Left"}]
[{"$f":"'38'!AK36","v":19},{"$f":"'38'!AL36","v":"5 Left"},{"$f":"'38'!AM36","v":"4 Right"},{"$f":"'38'!AN36","v":"7 Left"},{"$f":"'38'!AO36","v":"2 Left"}]
[{"$f":"'38'!AK37","v":20},{"$f":"'38'!AL37","v":"5 Right"},{"$f":"'38'!AM37","v":"2 Left"},{"$f":"'38'!AN37","v":"6 Left"},{"$f":"'38'!AO37","v":"1 Right"}]
[{"$f":"'38'!AK38","v":21},{"$f":"'38'!AL38","v":"1 Left"},{"$f":"'38'!AM38","v":"3 Left"},{"$f":"'38'!AN38","v":"6 Right"},{"$f":"'38'!AO38","v":"2 Right"}]
[{"$f":"'38'!AK39","v":22},{"$f":"'38'!AL39","v":"1 Right"},{"$f":"'38'!AM39","v":"6 Left"},{"$f":"'38'!AN39","v":"7 Left"},{"$f":"'38'!AO39","v":"5 Right"}]
[{"$f":"'38'!AK40","v":23},{"$f":"'38'!AL40","v":"2 Left"},{"$f":"'38'!AM40","v":"6 Right"},{"$f":"'38'!AN40","v":"7 Left"},{"$f":"'38'!AO40","v":"3 Right"}]
[{"$f":"'38'!AK41","v":24},{"$f":"'38'!AL41","v":"2 Right"},{"$f":"'38'!AM41","v":"7 Left"},{"$f":"'38'!AN41","v":"6 Left"},{"$f":"'38'!AO41","v":"4 Left"}]
[{"$f":"'38'!AK42","v":25},{"$f":"'38'!AL42","v":"3 Left"},{"$f":"'38'!AM42","v":"7 Left"},{"$f":"'38'!AN42","v":"6 Right"},{"$f":"'38'!AO42","v":"3 Left"}]
[{"$f":"'38'!AK43","v":26},{"$f":"'38'!AL43","v":"4 Left"},{"$f":"'38'!AM43","v":"6 Left"},{"$f":"'38'!AN43","v":"5 Right"},{"$f":"'38'!AO43","v":"4 Right"}]
[{"$f":"'38'!AK44","v":27},{"$f":"'38'!AL44","v":"3 Right"},{"$f":"'38'!AM44","v":"6 Right"},{"$f":"'38'!AN44","v":"2 Left"},{"$f":"'38'!AO44","v":"1 Left"}]
[{"$f":"'38'!AK45","v":28},{"$f":"'38'!AL45","v":"4 Right"},{"$f":"'38'!AM45","v":"7 Left"},{"$f":"'38'!AN45","v":"5 Left"},{"$f":"'38'!AO45","v":"4 Right"}]
[{"$f":"'38'!AK46","v":29},{"$f":"'38'!AL46","v":"5 Left"},{"$f":"'38'!AM46","v":"7 Left"},{"$f":"'38'!AN46","v":"2 Right"},{"$f":"'38'!AO46","v":"1 Left"}]
[{"$f":"'38'!AK47","v":30},{"$f":"'38'!AL47","v":"5 Right"},{"$f":"'38'!AM47","v":"3 Left"},{"$f":"'38'!AN47","v":"1 Left"},{"$f":"'38'!AO47","v":"5 Left"}]
[{"$f":"'38'!AK48","v":31},{"$f":"'38'!AL48","v":"6 Left"},{"$f":"'38'!AM48","v":"2 Left"},{"$f":"'38'!AN48","v":"1 Right"},{"$f":"'38'!AO48","v":"2 Left"}]
[{"$f":"'38'!AK49","v":32},{"$f":"'38'!AL49","v":"6 Right"},{"$f":"'38'!AM49","v":"4 Left"},{"$f":"'38'!AN49","v":"3 Left"},{"$f":"'38'!AO49","v":"1 Right"}]
[{"$f":"'38'!AK50","v":33},{"$f":"'38'!AL50","v":"7 Left"},{"$f":"'38'!AM50","v":"5 Left"},{"$f":"'38'!AN50","v":"4 Left"},{"$f":"'38'!AO50","v":"2 Right"}]
[{"$f":"'38'!AK51","v":34},{"$f":"'38'!AL51","v":"7 Left"},{"$f":"'38'!AM51","v":"1 Left"},{"$f":"'38'!AN51","v":"3 Right"},{"$f":"'38'!AO51","v":"5 Right"}]
[{"$f":"'38'!AK52","v":35},{"$f":"'38'!AL52","v":"6 Left"},{"$f":"'38'!AM52","v":"1 Right"},{"$f":"'38'!AN52","v":"4 Right"},{"$f":"'38'!AO52","v":"3 Right"}]
[{"$f":"'38'!AK53","v":36},{"$f":"'38'!AL53","v":"6 Right"},{"$f":"'38'!AM53","v":"2 Right"},{"$f":"'38'!AN53","v":"5 Right"},{"$f":"'38'!AO53","v":"4 Left"}]
[{"$f":"'38'!AK54","v":37},{"$f":"'38'!AL54","v":"7 Left"},{"$f":"'38'!AM54","v":"5 Right"},{"$f":"'38'!AN54","v":"2 Left"},{"$f":"'38'!AO54","v":"3 Left"}]
[{"$f":"'38'!AK55","v":38},{"$f":"'38'!AL55","v":"7 Left"},{"$f":"'38'!AM55","v":"3 Right"},{"$f":"'38'!AN55","v":"5 Left"},{"$f":"'38'!AO55","v":"1 Left"}]
[]
[{"$f":"'36'!AK18","v":1},{"$f":"'36'!AL18","v":"3 Right"},{"$f":"'36'!AM18","v":"1 Right"},{"$f":"'36'!AN18","v":"5 Left"},{"$f":"'36'!AO18","v":"6 Left"},null,null,null,null,null,null,36]
[{"$f":"'36'!AK19","v":2},{"$f":"'36'!AL19","v":"1 Right"},{"$f":"'36'!AM19","v":"2 Right"},{"$f":"'36'!AN19","v":"6 Left"},{"$f":"'36'!AO19","v":"7 Left"}]
[{"$f":"'36'!AK20","v":3},{"$f":"'36'!AL20","v":"1 Left"},{"$f":"'36'!AM20","v":"4 Right"},{"$f":"'36'!AN20","v":"7 Left"},{"$f":"'36'!AO20","v":"5 Left"}]
[{"$f":"'36'!AK21","v":4},{"$f":"'36'!AL21","v":"2 Right"},{"$f":"'36'!AM21","v":"3 Right"},{"$f":"'36'!AN21","v":"6 Right"},{"$f":"'36'!AO21","v":"7 Left"}]
[{"$f":"'36'!AK22","v":5},{"$f":"'36'!AL22","v":"3 Left"},{"$f":"'36'!AM22","v":"2 Right"},{"$f":"'36'!AN22","v":"5 Right"},{"$f":"'36'!AO22","v":"4 Left"}]
[{"$f":"'36'!AK23","v":6},{"$f":"'36'!AL23","v":"2 Left"},{"$f":"'36'!AM23","v":"4 Right"},{"$f":"'36'!AN23","v":"7 Left"},{"$f":"'36'!AO23","v":"1 Left"}]
[{"$f":"'36'!AK24","v":7},{"$f":"'36'!AL24","v":"4 Left"},{"$f":"'36'!AM24","v":"3 Right"},{"$f":"'36'!AN24","v":"5 Left"},{"$f":"'36'!AO24","v":"3 Left"}]
[{"$f":"'36'!AK25","v":8},{"$f":"'36'!AL25","v":"4 Right"},{"$f":"'36'!AM25","v":"1 Left"},{"$f":"'36'!AN25","v":"6 Left"},{"$f":"'36'!AO25","v":"3 Right"}]
[{"$f":"'36'!AK26","v":9},{"$f":"'36'!AL26","v":"3 Right"},{"$f":"'36'!AM26","v":"2 Left"},{"$f":"'36'!AN26","v":"7 Left"},{"$f":"'36'!AO26","v":"1 Right"}]
[{"$f":"'36'!AK27","v":10},{"$f":"'36'!AL27","v":"1 Right"},{"$f":"'36'!AM27","v":"3 Left"},{"$f":"'36'!AN27","v":"6 Right"},{"$f":"'36'!AO27","v":"4 Right"}]
[{"$f":"'36'!AK28","v":11},{"$f":"'36'!AL28","v":"1 Left"},{"$f":"'36'!AM28","v":"4 Left"},{"$f":"'36'!AN28","v":"5 Right"},{"$f":"'36'!AO28","v":"2 Left"}]
[{"$f":"'36'!AK29","v":12},{"$f":"'36'!AL29","v":"2 Right"},{"$f":"'36'!AM29","v":"1 Right"},{"$f":"'36'!AN29","v":"7 Left"},{"$f":"'36'!AO29","v":"2 Right"}]
[{"$f":"'36'!AK30","v":13},{"$f":"'36'!AL30","v":"3 Left"},{"$f":"'36'!AM30","v":"5 Left"},{"$f":"'36'!AN30","v":"4 Right"},{"$f":"'36'!AO30","v":"1 Left"}]
[{"$f":"'36'!AK31","v":14},{"$f":"'36'!AL31","v":"2 Left"},{"$f":"'36'!AM31","v":"6 Left"},{"$f":"'36'!AN31","v":"1 Left"},{"$f":"'36'!AO31","v":"3 Left"}]
[{"$f":"'36'!AK32","v":15},{"$f":"'36'!AL32","v":"4 Left"},{"$f":"'36'!AM32","v":"7 Left"},{"$f":"'36'!AN32","v":"2 Right"},{"$f":"'36'!AO32","v":"3 Right"}]
[{"$f":"'36'!AK33","v":16},{"$f":"'36'!AL33","v":"4 Right"},{"$f":"'36'!AM33","v":"5 Right"},{"$f":"'36'!AN33","v":"3 Right"},{"$f":"'36'!AO33","v":"1 Right"}]
[{"$f":"'36'!AK34","v":17},{"$f":"'36'!AL34","v":"3 Right"},{"$f":"'36'!AM34","v":"6 Right"},{"$f":"'36'!AN34","v":"2 Left"},{"$f":"'36'!AO34","v":"4 Right"}]
[{"$f":"'36'!AK35","v":18},{"$f":"'36'!AL35","v":"1 Right"},{"$f":"'36'!AM35","v":"7 Left"},{"$f":"'36'!AN35","v":"4 Left"},{"$f":"'36'!AO35","v":"2 Left"}]
[{"$f":"'36'!AK36","v":19},{"$f":"'36'!AL36","v":"1 Left"},{"$f":"'36'!AM36","v":"5 Left"},{"$f":"'36'!AN36","v":"3 Left"},{"$f":"'36'!AO36","v":"2 Right"}]
[{"$f":"'36'!AK37","v":20},{"$f":"'36'!AL37","v":"2 Right"},{"$f":"'36'!AM37","v":"6 Left"},{"$f":"'36'!AN37","v":"1 Right"},{"$f":"'36'!AO37","v":"4 Left"}]
[{"$f":"'36'!AK38","v":21},{"$f":"'36'!AL38","v":"3 Left"},{"$f":"'36'!AM38","v":"7 Left"},{"$f":"'36'!AN38","v":"2 Left"},{"$f":"'36'!AO38","v":"3 Left"}]
[{"$f":"'36'!AK39","v":22},{"$f":"'36'!AL39","v":"2 Left"},{"$f":"'36'!AM39","v":"5 Right"},{"$f":"'36'!AN39","v":"4 Left"},{"$f":"'36'!AO39","v":"3 Right"}]
[{"$f":"'36'!AK40","v":23},{"$f":"'36'!AL40","v":"4 Left"},{"$f":"'36'!AM40","v":"6 Right"},{"$f":"'36'!AN40","v":"3 Left"},{"$f":"'36'!AO40","v":"1 Right"}]
[{"$f":"'36'!AK41","v":24},{"$f":"'36'!AL41","v":"4 Right"},{"$f":"'36'!AM41","v":"7 Left"},{"$f":"'36'!AN41","v":"1 Right"},{"$f":"'36'!AO41","v":"4 Right"}]
[{"$f":"'36'!AK42","v":25},{"$f":"'36'!AL42","v":"5 Left"},{"$f":"'36'!AM42","v":"1 Left"},{"$f":"'36'!AN42","v":"4 Right"},{"$f":"'36'!AO42","v":"2 Left"}]
[{"$f":"'36'!AK43","v":26},{"$f":"'36'!AL43","v":"5 Right"},{"$f":"'36'!AM43","v":"2 Left"},{"$f":"'36'!AN43","v":"1 Left"},{"$f":"'36'!AO43","v":"2 Right"}]
[{"$f":"'36'!AK44","v":27},{"$f":"'36'!AL44","v":"6 Left"},{"$f":"'36'!AM44","v":"3 Left"},{"$f":"'36'!AN44","v":"2 Right"},{"$f":"'36'!AO44","v":"4 Left"}]
[{"$f":"'36'!AK45","v":28},{"$f":"'36'!AL45","v":"6 Right"},{"$f":"'36'!AM45","v":"4 Left"},{"$f":"'36'!AN45","v":"3 Right"},{"$f":"'36'!AO45","v":"1 Left"}]
[{"$f":"'36'!AK46","v":29},{"$f":"'36'!AL46","v":"7 Left"},{"$f":"'36'!AM46","v":"1 Right"},{"$f":"'36'!AN46","v":"2 Left"},{"$f":"'36'!AO46","v":"5 Right"}]
[{"$f":"'36'!AK47","v":30},{"$f":"'36'!AL47","v":"7 Left"},{"$f":"'36'!AM47","v":"2 Right"},{"$f":"'36'!AN47","v":"4 Left"},{"$f":"'36'!AO47","v":"6 Right"}]
[{"$f":"'36'!AK48","v":31},{"$f":"'36'!AL48","v":"5 Left"},{"$f":"'36'!AM48","v":"4 Right"},{"$f":"'36'!AN48","v":"3 Left"},{"$f":"'36'!AO48","v":"6 Left"}]
[{"$f":"'36'!AK49","v":32},{"$f":"'36'!AL49","v":"5 Right"},{"$f":"'36'!AM49","v":"3 Right"},{"$f":"'36'!AN49","v":"1 Right"},{"$f":"'36'!AO49","v":"7 Left"}]
[{"$f":"'36'!AK50","v":33},{"$f":"'36'!AL50","v":"6 Left"},{"$f":"'36'!AM50","v":"1 Left"},{"$f":"'36'!AN50","v":"3 Right"},{"$f":"'36'!AO50","v":"5 Left"}]
[{"$f":"'36'!AK51","v":34},{"$f":"'36'!AL51","v":"6 Right"},{"$f":"'36'!AM51","v":"4 Left"},{"$f":"'36'!AN51","v":"2 Right"},{"$f":"'36'!AO51","v":"7 Left"}]
[{"$f":"'36'!AK52","v":35},{"$f":"'36'!AL52","v":"7 Left"},{"$f":"'36'!AM52","v":"3 Left"},{"$f":"'36'!AN52","v":"1 Left"},{"$f":"'36'!AO52","v":"6 Right"}]
[{"$f":"'36'!AK53","v":36},{"$f":"'36'!AL53","v":"7 Left"},{"$f":"'36'!AM53","v":"2 Left"},{"$f":"'36'!AN53","v":"4 Right"},{"$f":"'36'!AO53","v":"5 Right"}]
[]
[{"$f":"'34'!AK18","v":1},{"$f":"'34'!AL18","v":"1 Left"},{"$f":"'34'!AM18","v":"4 Left"},{"$f":"'34'!AN18","v":"1 Left"},{"$f":"'34'!AO18","v":"5 Left"},null,null,null,null,null,null,34]
[{"$f":"'34'!AK19","v":2},{"$f":"'34'!AL19","v":"1 Right"},{"$f":"'34'!AM19","v":"5 Left"},{"$f":"'34'!AN19","v":"2 Left"},{"$f":"'34'!AO19","v":"4 Left"}]
[{"$f":"'34'!AK20","v":3},{"$f":"'34'!AL20","v":"1 Left"},{"$f":"'34'!AM20","v":"4 Right"},{"$f":"'34'!AN20","v":"1 Right"},{"$f":"'34'!AO20","v":"2 Left"}]
[{"$f":"'34'!AK21","v":4},{"$f":"'34'!AL21","v":"2 Left"},{"$f":"'34'!AM21","v":"6 Left"},{"$f":"'34'!AN21","v":"3 Left"},{"$f":"'34'!AO21","v":"7 Left"}]
[{"$f":"'34'!AK22","v":5},{"$f":"'34'!AL22","v":"2 Right"},{"$f":"'34'!AM22","v":"7 Left"},{"$f":"'34'!AN22","v":"2 Right"},{"$f":"'34'!AO22","v":"6 Left"}]
[{"$f":"'34'!AK23","v":6},{"$f":"'34'!AL23","v":"2 Left"},{"$f":"'34'!AM23","v":"7 Left"},{"$f":"'34'!AN23","v":"1 Left"},{"$f":"'34'!AO23","v":"4 Right"}]
[{"$f":"'34'!AK24","v":7},{"$f":"'34'!AL24","v":"3 Left"},{"$f":"'34'!AM24","v":"6 Right"},{"$f":"'34'!AN24","v":"5 Left"},{"$f":"'34'!AO24","v":"1 Left"}]
[{"$f":"'34'!AK25","v":8},{"$f":"'34'!AL25","v":"3 Right"},{"$f":"'34'!AM25","v":"5 Right"},{"$f":"'34'!AN25","v":"3 Right"},{"$f":"'34'!AO25","v":"6 Right"}]
[{"$f":"'34'!AK26","v":9},{"$f":"'34'!AL26","v":"3 Left"},{"$f":"'34'!AM26","v":"2 Left"},{"$f":"'34'!AN26","v":"7 Left"},{"$f":"'34'!AO26","v":"5 Right"}]
[{"$f":"'34'!AK27","v":10},{"$f":"'34'!AL27","v":"4 Left"},{"$f":"'34'!AM27","v":"1 Left"},{"$f":"'34'!AN27","v":"3 Left"},{"$f":"'34'!AO27","v":"7 Left"}]
[{"$f":"'34'!AK28","v":11},{"$f":"'34'!AL28","v":"4 Right"},{"$f":"'34'!AM28","v":"2 Left"},{"$f":"'34'!AN28","v":"6 Left"},{"$f":"'34'!AO28","v":"3 Left"}]
[{"$f":"'34'!AK29","v":12},{"$f":"'34'!AL29","v":"5 Left"},{"$f":"'34'!AM29","v":"1 Right"},{"$f":"'34'!AN29","v":"4 Left"},{"$f":"'34'!AO29","v":"2 Left"}]
[{"$f":"'34'!AK30","v":13},{"$f":"'34'!AL30","v":"5 Right"},{"$f":"'34'!AM30","v":"2 Right"},{"$f":"'34'!AN30","v":"7 Left"},{"$f":"'34'!AO30","v":"1 Left"}]
[{"$f":"'34'!AK31","v":14},{"$f":"'34'!AL31","v":"6 Left"},{"$f":"'34'!AM31","v":"3 Left"},{"$f":"'34'!AN31","v":"4 Right"},{"$f":"'34'!AO31","v":"2 Right"}]
[{"$f":"'34'!AK32","v":15},{"$f":"'34'!AL32","v":"6 Right"},{"$f":"'34'!AM32","v":"1 Left"},{"$f":"'34'!AN32","v":"2 Left"},{"$f":"'34'!AO32","v":"3 Left"}]
[{"$f":"'34'!AK33","v":16},{"$f":"'34'!AL33","v":"7 Left"},{"$f":"'34'!AM33","v":"3 Right"},{"$f":"'34'!AN33","v":"5 Right"},{"$f":"'34'!AO33","v":"1 Right"}]
[{"$f":"'34'!AK34","v":17},{"$f":"'34'!AL34","v":"7 Left"},{"$f":"'34'!AM34","v":"3 Left"},{"$f":"'34'!AN34","v":"6 Right"},{"$f":"'34'!AO34","v":"3 Right"}]
[{"$f":"'34'!AK35","v":18},{"$f":"'34'!AL35","v":"1 Left"},{"$f":"'34'!AM35","v":"3 Right"},{"$f":"'34'!AN35","v":"6 Right"},{"$f":"'34'!AO35","v":"4 Left"}]
[{"$f":"'34'!AK36","v":19},{"$f":"'34'!AL36","v":"1 Right"},{"$f":"'34'!AM36","v":"4 Left"},{"$f":"'34'!AN36","v":"5 Right"},{"$f":"'34'!AO36","v":"2 Right"}]
[{"$f":"'34'!AK37","v":20},{"$f":"'34'!AL37","v":"1 Right"},{"$f":"'34'!AM37","v":"6 Left"},{"$f":"'34'!AN37","v":"1 Left"},{"$f":"'34'!AO37","v":"7 Left"}]
[{"$f":"'34'!AK38","v":21},{"$f":"'34'!AL38","v":"2 Left"},{"$f":"'34'!AM38","v":"4 Right"},{"$f":"'34'!AN38","v":"2 Left"},{"$f":"'34'!AO38","v":"6 Left"}]
[{"$f":"'34'!AK39","v":22},{"$f":"'34'!AL39","v":"2 Right"},{"$f":"'34'!AM39","v":"5 Left"},{"$f":"'34'!AN39","v":"1 Right"},{"$f":"'34'!AO39","v":"4 Right"}]
[{"$f":"'34'!AK40","v":23},{"$f":"'34'!AL40","v":"2 Right"},{"$f":"'34'!AM40","v":"5 Right"},{"$f":"'34'!AN40","v":"3 Left"},{"$f":"'34'!AO40","v":"1 Right"}]
[{"$f":"'34'!AK41","v":24},{"$f":"'34'!AL41","v":"3 Left"},{"$f":"'34'!AM41","v":"7 Left"},{"$f":"'34'!AN41","v":"3 Right"},{"$f":"'34'!AO41","v":"6 Right"}]
[{"$f":"'34'!AK42","v":25},{"$f":"'34'!AL42","v":"3 Right"},{"$f":"'34'!AM42","v":"7 Left"},{"$f":"'34'!AN42","v":"2 Right"},{"$f":"'34'!AO42","v":"5 Right"}]
[{"$f":"'34'!AK43","v":26},{"$f":"'34'!AL43","v":"3 Right"},{"$f":"'34'!AM43","v":"6 Right"},{"$f":"'34'!AN43","v":"1 Right"},{"$f":"'34'!AO43","v":"7 Left"}]
[{"$f":"'34'!AK44","v":27},{"$f":"'34'!AL44","v":"4 Left"},{"$f":"'34'!AM44","v":"2 Right"},{"$f":"'34'!AN44","v":"5 Left"},{"$f":"'34'!AO44","v":"3 Left"}]
[{"$f":"'34'!AK45","v":28},{"$f":"'34'!AL45","v":"4 Right"},{"$f":"'34'!AM45","v":"1 Left"},{"$f":"'34'!AN45","v":"7 Left"},{"$f":"'34'!AO45","v":"2 Left"}]
[{"$f":"'34'!AK46","v":29},{"$f":"'34'!AL46","v":"5 Left"},{"$f":"'34'!AM46","v":"2 Left"},{"$f":"'34'!AN46","v":"3 Right"},{"$f":"'34'!AO46","v":"1 Left"}]
[{"$f":"'34'!AK47","v":30},{"$f":"'34'!AL47","v":"5 Right"},{"$f":"'34'!AM47","v":"1 Right"},{"$f":"'34'!AN47","v":"6 Left"},{"$f":"'34'!AO47","v":"2 Right"}]
[{"$f":"'34'!AK48","v":31},{"$f":"'34'!AL48","v":"6 Left"},{"$f":"'34'!AM48","v":"2 Right"},{"$f":"'34'!AN48","v":"4 Left"},{"$f":"'34'!AO48","v":"3 Right"}]
[{"$f":"'34'!AK49","v":32},{"$f":"'34'!AL49","v":"6 Right"},{"$f":"'34'!AM49","v":"3 Left"},{"$f":"'34'!AN49","v":"7 Left"},{"$f":"'34'!AO49","v":"1 Right"}]
[{"$f":"'34'!AK50","v":33},{"$f":"'34'!AL50","v":"7 Left"},{"$f":"'34'!AM50","v":"1 Right"},{"$f":"'34'!AN50","v":"4 Right"},{"$f":"'34'!AO50","v":"3 Right"}]
[{"$f":"'34'!AK51","v":34},{"$f":"'34'!AL51","v":"7 Left"},{"$f":"'34'!AM51","v":"3 Right"},{"$f":"'34'!AN51","v":"2 Right"},{"$f":"'34'!AO51","v":"5 Left"}]
[]
[{"$f":"'32'!AK18","v":1},{"$f":"'32'!AL18","v":"1 Left"},{"$f":"'32'!AM18","v":"6 Left"},{"$f":"'32'!AN18","v":"2 Left"},{"$f":"'32'!AO18","v":"6 Right"},null,null,null,null,null,null,32]
[{"$f":"'32'!AK19","v":2},{"$f":"'32'!AL19","v":"1 Right"},{"$f":"'32'!AM19","v":"3 Left"},{"$f":"'32'!AN19","v":"1 Left"},{"$f":"'32'!AO19","v":"5 Right"}]
[{"$f":"'32'!AK20","v":3},{"$f":"'32'!AL20","v":"2 Left"},{"$f":"'32'!AM20","v":"7 Left"},{"$f":"'32'!AN20","v":"1 Right"},{"$f":"'32'!AO20","v":"5 Left"}]
[{"$f":"'32'!AK21","v":4},{"$f":"'32'!AL21","v":"2 Right"},{"$f":"'32'!AM21","v":"4 Left"},{"$f":"'32'!AN21","v":"2 Right"},{"$f":"'32'!AO21","v":"7 Left"}]
[{"$f":"'32'!AK22","v":5},{"$f":"'32'!AL22","v":"1 Left"},{"$f":"'32'!AM22","v":"3 Right"},{"$f":"'32'!AN22","v":"5 Left"},{"$f":"'32'!AO22","v":"2 Left"}]
[{"$f":"'32'!AK23","v":6},{"$f":"'32'!AL23","v":"1 Right"},{"$f":"'32'!AM23","v":"4 Right"},{"$f":"'32'!AN23","v":"5 Right"},{"$f":"'32'!AO23","v":"1 Left"}]
[{"$f":"'32'!AK24","v":7},{"$f":"'32'!AL24","v":"2 Left"},{"$f":"'32'!AM24","v":"5 Left"},{"$f":"'32'!AN24","v":"6 Left"},{"$f":"'32'!AO24","v":"1 Right"}]
[{"$f":"'32'!AK25","v":8},{"$f":"'32'!AL25","v":"2 Right"},{"$f":"'32'!AM25","v":"7 Left"},{"$f":"'32'!AN25","v":"6 Right"},{"$f":"'32'!AO25","v":"2 Right"}]
[{"$f":"'32'!AK26","v":9},{"$f":"'32'!AL26","v":"1 Left"},{"$f":"'32'!AM26","v":"5 Right"},{"$f":"'32'!AN26","v":"3 Left"},{"$f":"'32'!AO26","v":"2 Right"}]
[{"$f":"'32'!AK27","v":10},{"$f":"'32'!AL27","v":"1 Right"},{"$f":"'32'!AM27","v":"6 Right"},{"$f":"'32'!AN27","v":"4 Left"},{"$f":"'32'!AO27","v":"1 Right"}]
[{"$f":"'32'!AK28","v":11},{"$f":"'32'!AL28","v":"2 Left"},{"$f":"'32'!AM28","v":"6 Left"},{"$f":"'32'!AN28","v":"3 Right"},{"$f":"'32'!AO28","v":"1 Left"}]
[{"$f":"'32'!AK29","v":12},{"$f":"'32'!AL29","v":"2 Right"},{"$f":"'32'!AM29","v":"3 Left"},{"$f":"'32'!AN29","v":"4 Right"},{"$f":"'32'!AO29","v":"2 Left"}]
[{"$f":"'32'!AK30","v":13},{"$f":"'32'!AL30","v":"3 Left"},{"$f":"'32'!AM30","v":"1 Left"},{"$f":"'32'!AN30","v":"7 Left"},{"$f":"'32'!AO30","v":"2 Left"}]
[{"$f":"'32'!AK31","v":14},{"$f":"'32'!AL31","v":"3 Right"},{"$f":"'32'!AM31","v":"2 Right"},{"$f":"'32'!AN31","v":"7 Left"},{"$f":"'32'!AO31","v":"1 Left"}]
[{"$f":"'32'!AK32","v":15},{"$f":"'32'!AL32","v":"4 Left"},{"$f":"'32'!AM32","v":"2 Left"},{"$f":"'32'!AN32","v":"5 Left"},{"$f":"'32'!AO32","v":"1 Right"}]
[{"$f":"'32'!AK33","v":16},{"$f":"'32'!AL33","v":"5 Left"},{"$f":"'32'!AM33","v":"1 Right"},{"$f":"'32'!AN33","v":"5 Right"},{"$f":"'32'!AO33","v":"2 Right"}]
[{"$f":"'32'!AK34","v":17},{"$f":"'32'!AL34","v":"4 Right"},{"$f":"'32'!AM34","v":"1 Left"},{"$f":"'32'!AN34","v":"6 Left"},{"$f":"'32'!AO34","v":"7 Left"}]
[{"$f":"'32'!AK35","v":18},{"$f":"'32'!AL35","v":"5 Right"},{"$f":"'32'!AM35","v":"2 Right"},{"$f":"'32'!AN35","v":"6 Right"},{"$f":"'32'!AO35","v":"4 Left"}]
[{"$f":"'32'!AK36","v":19},{"$f":"'32'!AL36","v":"6 Left"},{"$f":"'32'!AM36","v":"2 Left"},{"$f":"'32'!AN36","v":"3 Left"},{"$f":"'32'!AO36","v":"4 Right"}]
[{"$f":"'32'!AK37","v":20},{"$f":"'32'!AL37","v":"6 Right"},{"$f":"'32'!AM37","v":"1 Right"},{"$f":"'32'!AN37","v":"7 Left"},{"$f":"'32'!AO37","v":"3 Right"}]
[{"$f":"'32'!AK38","v":21},{"$f":"'32'!AL38","v":"7 Left"},{"$f":"'32'!AM38","v":"1 Left"},{"$f":"'32'!AN38","v":"3 Right"},{"$f":"'32'!AO38","v":"6 Right"}]
[{"$f":"'32'!AK39","v":22},{"$f":"'32'!AL39","v":"7 Left"},{"$f":"'32'!AM39","v":"2 Right"},{"$f":"'32'!AN39","v":"7 Left"},{"$f":"'32'!AO39","v":"5 Right"}]
[{"$f":"'32'!AK40","v":23},{"$f":"'32'!AL40","v":"3 Left"},{"$f":"'32'!AM40","v":"2 Left"},{"$f":"'32'!AN40","v":"4 Left"},{"$f":"'32'!AO40","v":"5 Left"}]
[{"$f":"'32'!AK41","v":24},{"$f":"'32'!AL41","v":"3 Right"},{"$f":"'32'!AM41","v":"1 Right"},{"$f":"'32'!AN41","v":"4 Right"},{"$f":"'32'!AO41","v":"7 Left"}]
[{"$f":"'32'!AK42","v":25},{"$f":"'32'!AL42","v":"4 Left"},{"$f":"'32'!AM42","v":"7 Left"},{"$f":"'32'!AN42","v":"2 Left"},{"$f":"'32'!AO42","v":"6 Left"}]
[{"$f":"'32'!AK43","v":26},{"$f":"'32'!AL43","v":"5 Left"},{"$f":"'32'!AM43","v":"4 Left"},{"$f":"'32'!AN43","v":"1 Left"},{"$f":"'32'!AO43","v":"3 Left"}]
[{"$f":"'32'!AK44","v":27},{"$f":"'32'!AL44","v":"4 Right"},{"$f":"'32'!AM44","v":"3 Right"},{"$f":"'32'!AN44","v":"1 Right"},{"$f":"'32'!AO44","v":"6 Left"}]
[{"$f":"'32'!AK45","v":28},{"$f":"'32'!AL45","v":"5 Right"},{"$f":"'32'!AM45","v":"4 Right"},{"$f":"'32'!AN45","v":"2 Right"},{"$f":"'32'!AO45","v":"3 Left"}]
[{"$f":"'32'!AK46","v":29},{"$f":"'32'!AL46","v":"6 Left"},{"$f":"'32'!AM46","v":"5 Left"},{"$f":"'32'!AN46","v":"2 Left"},{"$f":"'32'!AO46","v":"7 Left"}]
[{"$f":"'32'!AK47","v":30},{"$f":"'32'!AL47","v":"6 Right"},{"$f":"'32'!AM47","v":"7 Left"},{"$f":"'32'!AN47","v":"1 Left"},{"$f":"'32'!AO47","v":"4 Left"}]
[{"$f":"'32'!AK48","v":31},{"$f":"'32'!AL48","v":"7 Left"},{"$f":"'32'!AM48","v":"5 Right"},{"$f":"'32'!AN48","v":"1 Right"},{"$f":"'32'!AO48","v":"4 Right"}]
[{"$f":"'32'!AK49","v":32},{"$f":"'32'!AL49","v":"7 Left"},{"$f":"'32'!AM49","v":"6 Right"},{"$f":"'32'!AN49","v":"2 Right"},{"$f":"'32'!AO49","v":"3 Right"}]
[]
[{"$f":"'30'!$B$18","v":1},{"$f":"'30'!$H$18","v":"1 Left"},{"$f":"'30'!$Q$21","v":"2 Left"},{"$f":"'30'!$Z$27","v":"4 Left"},{"$f":"'30'!$AI$33","v":"6 Left"},null,null,null,null,null,null,30]
[{"$f":"'30'!$E$18","v":2},{"$f":"'30'!$I$18","v":"1 Right"},{"$f":"'30'!$Q$24","v":"3 Left"},{"$f":"'30'!$Z$21","v":"2 Left"},{"$f":"'30'!$AJ$36","v":"7 Right"}]
[{"$f":"'30'!$B$21","v":3},{"$f":"'30'!$H$21","v":"2 Left"},{"$f":"'30'!$Q$27","v":"4 Left"},{"$f":"'30'!$Z$18","v":"1 Left"},{"$f":"'30'!$AJ$24","v":"3 Right"}]
[{"$f":"'30'!$E$21","v":4},{"$f":"'30'!$I$21","v":"2 Right"},{"$f":"'30'!$Q$30","v":"5 Left"},{"$f":"'30'!$Z$36","v":"7 Left"},{"$f":"'30'!$AI$18","v":"1 Left"}]
[{"$f":"'30'!$B$24","v":5},{"$f":"'30'!$H$24","v":"3 Left"},{"$f":"'30'!$Q$18","v":"1 Left"},{"$f":"'30'!$Z$30","v":"5 Left"},{"$f":"'30'!$AJ$33","v":"6 Right"}]
[{"$f":"'30'!$E$24","v":6},{"$f":"'30'!$I$24","v":"3 Right"},{"$f":"'30'!$Q$33","v":"6 Left"},{"$f":"'30'!$AA$36","v":"7 Right"},{"$f":"'30'!$AJ$30","v":"5 Right"}]
[{"$f":"'30'!$B$27","v":7},{"$f":"'30'!$H$27","v":"4 Left"},{"$f":"'30'!$R$18","v":"1 Right"},{"$f":"'30'!$Z$24","v":"3 Left"},{"$f":"'30'!$AI$36","v":"7 Left"}]
[{"$f":"'30'!$E$27","v":8},{"$f":"'30'!$I$27","v":"4 Right"},{"$f":"'30'!$Q$20","v":"1 Left"},{"$f":"'30'!$AA$30","v":"5 Right"},{"$f":"'30'!$AI$24","v":"3 Left"}]
[{"$f":"'30'!$B$30","v":9},{"$f":"'30'!$H$30","v":"5 Left"},{"$f":"'30'!$Q$36","v":"7 Left"},{"$f":"'30'!$AA$33","v":"6 Right"},{"$f":"'30'!$AJ$20","v":"1 Right"}]
[{"$f":"'30'!$E$30","v":10},{"$f":"'30'!$I$30","v":"5 Right"},{"$f":"'30'!$R$33","v":"6 Right"},{"$f":"'30'!$AA$27","v":"4 Right"},{"$f":"'30'!$AJ$18","v":"1 Right"}]
[{"$f":"'30'!$B$33","v":11},{"$f":"'30'!$H$33","v":"6 Left"},{"$f":"'30'!$R$36","v":"7 Right"},{"$f":"'30'!$AA$18","v":"1 Right"},{"$f":"'30'!$AJ$21","v":"2 Right"}]
[{"$f":"'30'!$E$33","v":12},{"$f":"'30'!$I$33","v":"6 Right"},{"$f":"'30'!$R$27","v":"4 Right"},{"$f":"'30'!$Z$20","v":"1 Left"},{"$f":"'30'!$AI$30","v":"5 Left"}]
[{"$f":"'30'!$B$36","v":13},{"$f":"'30'!$H$36","v":"7 Left"},{"$f":"'30'!$R$21","v":"2 Right"},{"$f":"'30'!$Z$33","v":"6 Left"},{"$f":"'30'!$AJ$27","v":"4 Right"}]
[{"$f":"'30'!$E$36","v":14},{"$f":"'30'!$I$36","v":"7 Right"},{"$f":"'30'!$R$24","v":"3 Right"},{"$f":"'30'!$AA$21","v":"2 Right"},{"$f":"'30'!$AI$27","v":"4 Left"}]
[{"$f":"'30'!$B$20","v":15},{"$f":"'30'!$H$20","v":"1 Left"},{"$f":"'30'!$R$30","v":"5 Right"},{"$f":"'30'!$AA$24","v":"3 Right"},{"$f":"'30'!$AI$21","v":"2 Left"}]
[{"$f":"'30'!$B$19","v":16},{"$f":"'30'!$H$19","v":"1 Left"},{"$f":"'30'!$Q$28","v":"4 Left"},{"$f":"'30'!$Z$31","v":"5 Left"},{"$f":"'30'!$AI$25","v":"3 Left"}]
[{"$f":"'30'!$E$19","v":17},{"$f":"'30'!$I$19","v":"1 Right"},{"$f":"'30'!$Q$31","v":"5 Left"},{"$f":"'30'!$AA$37","v":"7 Right"},{"$f":"'30'!$AI$34","v":"6 Left"}]
[{"$f":"'30'!$B$22","v":18},{"$f":"'30'!$H$22","v":"2 Left"},{"$f":"'30'!$Q$19","v":"1 Left"},{"$f":"'30'!$Z$25","v":"3 Left"},{"$f":"'30'!$AJ$37","v":"7 Right"}]
[{"$f":"'30'!$E$22","v":19},{"$f":"'30'!$I$22","v":"2 Right"},{"$f":"'30'!$Q$34","v":"6 Left"},{"$f":"'30'!$AA$31","v":"5 Right"},{"$f":"'30'!$AJ$25","v":"3 Right"}]
[{"$f":"'30'!$B$25","v":20},{"$f":"'30'!$H$25","v":"3 Left"},{"$f":"'30'!$R$19","v":"1 Right"},{"$f":"'30'!$AA$34","v":"6 Right"},{"$f":"'30'!$AI$31","v":"5 Left"}]
[{"$f":"'30'!$E$25","v":21},{"$f":"'30'!$I$25","v":"3 Right"},{"$f":"'30'!$R$20","v":"1 Right"},{"$f":"'30'!$AA$28","v":"4 Right"},{"$f":"'30'!$AJ$34","v":"6 Right"}]
[{"$f":"'30'!$B$28","v":22},{"$f":"'30'!$H$28","v":"4 Left"},{"$f":"'30'!$Q$37","v":"7 Left"},{"$f":"'30'!$AA$19","v":"1 Right"},{"$f":"'30'!$AJ$31","v":"5 Right"}]
[{"$f":"'30'!$E$28","v":23},{"$f":"'30'!$I$28","v":"4 Right"},{"$f":"'30'!$R$34","v":"6 Right"},{"$f":"'30'!$AA$20","v":"1 Right"},{"$f":"'30'!$AI$37","v":"7 Left"}]
[{"$f":"'30'!$B$31","v":24},{"$f":"'30'!$H$31","v":"5 Left"},{"$f":"'30'!$R$37","v":"7 Right"},{"$f":"'30'!$Z$34","v":"6 Left"},{"$f":"'30'!$AI$22","v":"2 Left"}]
[{"$f":"'30'!$E$31","v":25},{"$f":"'30'!$I$31","v":"5 Right"},{"$f":"'30'!$R$28","v":"4 Right"},{"$f":"'30'!$AA$22","v":"2 Right"},{"$f":"'30'!$AI$20","v":"1 Left"}]
[{"$f":"'30'!$B$34","v":26},{"$f":"'30'!$H$34","v":"6 Left"},{"$f":"'30'!$R$22","v":"2 Right"},{"$f":"'30'!$AA$25","v":"3 Right"},{"$f":"'30'!$AJ$19","v":"1 Right"}]
[{"$f":"'30'!$E$34","v":27},{"$f":"'30'!$I$34","v":"6 Right"},{"$f":"'30'!$R$25","v":"3 Right"},{"$f":"'30'!$Z$28","v":"4 Left"},{"$f":"'30'!$AJ$22","v":"2 Right"}]
[{"$f":"'30'!$B$37","v":28},{"$f":"'30'!$H$37","v":"7 Left"},{"$f":"'30'!$R$31","v":"5 Right"},{"$f":"'30'!$Z$22","v":"2 Left"},{"$f":"'30'!$AI$19","v":"1 Left"}]
[{"$f":"'30'!$E$37","v":29},{"$f":"'30'!$I$37","v":"7 Right"},{"$f":"'30'!$Q$25","v":"3 Left"},{"$f":"'30'!$Z$19","v":"1 Left"},{"$f":"'30'!$AJ$28","v":"4 Right"}]
[{"$f":"'30'!$E$20","v":30},{"$f":"'30'!$I$20","v":"1 Right"},{"$f":"'30'!$Q$22","v":"2 Left"},{"$f":"'30'!$Z$37","v":"7 Left"},{"$f":"'30'!$AI$28","v":"4 Left"}]
[]
[{"$f":"'28'!$B$18","v":1},{"$f":"'28'!$H$18","v":"1 Left"},{"$f":"'28'!$Q$21","v":"2 Left"},{"$f":"'28'!$Z$24","v":"3 Left"},{"$f":"'28'!$AJ$36","v":"7 Right"},null,null,null,null,null,null,28]
[{"$f":"'28'!$E$18","v":2},{"$f":"'28'!$I$18","v":"1 Right"},{"$f":"'28'!$Q$24","v":"3 Left"},{"$f":"'28'!$Z$27","v":"4 Left"},{"$f":"'28'!$AI$36","v":"7 Left"}]
[{"$f":"'28'!$B$21","v":3},{"$f":"'28'!$H$21","v":"2 Left"},{"$f":"'28'!$Q$27","v":"4 Left"},{"$f":"'28'!$Z$30","v":"5 Left"},{"$f":"'28'!$AI$18","v":"1 Left"}]
[{"$f":"'28'!$E$21","v":4},{"$f":"'28'!$I$21","v":"2 Right"},{"$f":"'28'!$Q$30","v":"5 Left"},{"$f":"'28'!$Z$33","v":"6 Left"},{"$f":"'28'!$AI$24","v":"3 Left"}]
[{"$f":"'28'!$B$24","v":5},{"$f":"'28'!$H$24","v":"3 Left"},{"$f":"'28'!$Q$33","v":"6 Left"},{"$f":"'28'!$Z$36","v":"7 Left"},{"$f":"'28'!$AI$27","v":"4 Left"}]
[{"$f":"'28'!$E$24","v":6},{"$f":"'28'!$I$24","v":"3 Right"},{"$f":"'28'!$Q$36","v":"7 Left"},{"$f":"'28'!$Z$21","v":"2 Left"},{"$f":"'28'!$AI$30","v":"5 Left"}]
[{"$f":"'28'!$B$27","v":7},{"$f":"'28'!$H$27","v":"4 Left"},{"$f":"'28'!$R$36","v":"7 Right"},{"$f":"'28'!$Z$18","v":"1 Left"},{"$f":"'28'!$AI$21","v":"2 Left"}]
[{"$f":"'28'!$E$27","v":8},{"$f":"'28'!$I$27","v":"4 Right"},{"$f":"'28'!$R$33","v":"6 Right"},{"$f":"'28'!$AA$30","v":"5 Right"},{"$f":"'28'!$AJ$24","v":"3 Right"}]
[{"$f":"'28'!$B$30","v":9},{"$f":"'28'!$H$30","v":"5 Left"},{"$f":"'28'!$Q$18","v":"1 Left"},{"$f":"'28'!$AA$33","v":"6 Right"},{"$f":"'28'!$AJ$27","v":"4 Right"}]
[{"$f":"'28'!$E$30","v":10},{"$f":"'28'!$I$30","v":"5 Right"},{"$f":"'28'!$R$21","v":"2 Right"},{"$f":"'28'!$AA$18","v":"1 Right"},{"$f":"'28'!$AJ$33","v":"6 Right"}]
[{"$f":"'28'!$B$33","v":11},{"$f":"'28'!$H$33","v":"6 Left"},{"$f":"'28'!$R$24","v":"3 Right"},{"$f":"'28'!$AA$36","v":"7 Right"},{"$f":"'28'!$AJ$18","v":"1 Right"}]
[{"$f":"'28'!$E$33","v":12},{"$f":"'28'!$I$33","v":"6 Right"},{"$f":"'28'!$R$27","v":"4 Right"},{"$f":"'28'!$AA$24","v":"3 Right"},{"$f":"'28'!$AJ$21","v":"2 Right"}]
[{"$f":"'28'!$B$36","v":13},{"$f":"'28'!$H$36","v":"7 Left"},{"$f":"'28'!$R$30","v":"5 Right"},{"$f":"'28'!$AA$27","v":"4 Right"},{"$f":"'28'!$AI$33","v":"6 Left"}]
[{"$f":"'28'!$E$36","v":14},{"$f":"'28'!$I$36","v":"7 Right"},{"$f":"'28'!$R$18","v":"1 Right"},{"$f":"'28'!$AA$21","v":"2 Right"},{"$f":"'28'!$AJ$30","v":"5 Right"}]
[{"$f":"'28'!$B$19","v":15},{"$f":"'28'!$H$19","v":"1 Left"},{"$f":"'28'!$Q$28","v":"4 Left"},{"$f":"'28'!$Z$37","v":"7 Left"},{"$f":"'28'!$AI$22","v":"2 Left"}]
[{"$f":"'28'!$E$19","v":16},{"$f":"'28'!$I$19","v":"1 Right"},{"$f":"'28'!$Q$31","v":"5 Left"},{"$f":"'28'!$Z$22","v":"2 Left"},{"$f":"'28'!$AJ$25","v":"3 Right"}]
[{"$f":"'28'!$B$22","v":17},{"$f":"'28'!$H$22","v":"2 Left"},{"$f":"'28'!$Q$34","v":"6 Left"},{"$f":"'28'!$Z$19","v":"1 Left"},{"$f":"'28'!$AJ$28","v":"4 Right"}]
[{"$f":"'28'!$E$22","v":18},{"$f":"'28'!$I$22","v":"2 Right"},{"$f":"'28'!$Q$37","v":"7 Left"},{"$f":"'28'!$AA$31","v":"5 Right"},{"$f":"'28'!$AJ$34","v":"6 Right"}]
[{"$f":"'28'!$B$25","v":19},{"$f":"'28'!$H$25","v":"3 Left"},{"$f":"'28'!$R$37","v":"7 Right"},{"$f":"'28'!$AA$34","v":"6 Right"},{"$f":"'28'!$AJ$19","v":"1 Right"}]
[{"$f":"'28'!$E$25","v":20},{"$f":"'28'!$I$25","v":"3 Right"},{"$f":"'28'!$R$34","v":"6 Right"},{"$f":"'28'!$AA$19","v":"1 Right"},{"$f":"'28'!$AJ$22","v":"2 Right"}]
[{"$f":"'28'!$B$28","v":21},{"$f":"'28'!$H$28","v":"4 Left"},{"$f":"'28'!$Q$19","v":"1 Left"},{"$f":"'28'!$AA$37","v":"7 Right"},{"$f":"'28'!$AI$34","v":"6 Left"}]
[{"$f":"'28'!$E$28","v":22},{"$f":"'28'!$I$28","v":"4 Right"},{"$f":"'28'!$R$22","v":"2 Right"},{"$f":"'28'!$AA$25","v":"3 Right"},{"$f":"'28'!$AJ$31","v":"5 Right"}]
[{"$f":"'28'!$B$31","v":23},{"$f":"'28'!$H$31","v":"5 Left"},{"$f":"'28'!$R$25","v":"3 Right"},{"$f":"'28'!$AA$28","v":"4 Right"},{"$f":"'28'!$AJ$37","v":"7 Right"}]
[{"$f":"'28'!$E$31","v":24},{"$f":"'28'!$I$31","v":"5 Right"},{"$f":"'28'!$R$28","v":"4 Right"},{"$f":"'28'!$AA$22","v":"2 Right"},{"$f":"'28'!$AI$37","v":"7 Left"}]
[{"$f":"'28'!$B$34","v":25},{"$f":"'28'!$H$34","v":"6 Left"},{"$f":"'28'!$R$31","v":"5 Right"},{"$f":"'28'!$Z$25","v":"3 Left"},{"$f":"'28'!$AI$19","v":"1 Left"}]
[{"$f":"'28'!$E$34","v":26},{"$f":"'28'!$I$34","v":"6 Right"},{"$f":"'28'!$R$19","v":"1 Right"},{"$f":"'28'!$Z$28","v":"4 Left"},{"$f":"'28'!$AI$25","v":"3 Left"}]
[{"$f":"'28'!$B$37","v":27},{"$f":"'28'!$H$37","v":"7 Left"},{"$f":"'28'!$Q$22","v":"2 Left"},{"$f":"'28'!$Z$31","v":"5 Left"},{"$f":"'28'!$AI$28","v":"4 Left"}]
[{"$f":"'28'!$E$37","v":28},{"$f":"'28'!$I$37","v":"7 Right"},{"$f":"'28'!$Q$25","v":"3 Left"},{"$f":"'28'!$Z$34","v":"6 Left"},{"$f":"'28'!$AI$31","v":"5 Left"}]
[]
[{"$f":"'26'!$B$18","v":1},{"$f":"'26'!$H$18","v":"1 Left"},{"$f":"'26'!$Q$21","v":"2 Left"},{"$f":"'26'!$Z$24","v":"3 Left"},{"$f":"'26'!$AI$27","v":"4 Left"},null,null,null,null,null,null,26]
[{"$f":"'26'!$E$18","v":2},{"$f":"'26'!$I$18","v":"1 Right"},{"$f":"'26'!$Q$24","v":"3 Left"},{"$f":"'26'!$Z$27","v":"4 Left"},{"$f":"'26'!$AI$30","v":"5 Left"}]
[{"$f":"'26'!$B$21","v":3},{"$f":"'26'!$H$21","v":"2 Left"},{"$f":"'26'!$Q$27","v":"4 Left"},{"$f":"'26'!$Z$18","v":"1 Left"},{"$f":"'26'!$AI$24","v":"3 Left"}]
[{"$f":"'26'!$E$21","v":4},{"$f":"'26'!$I$21","v":"2 Right"},{"$f":"'26'!$Q$30","v":"5 Left"},{"$f":"'26'!$Z$33","v":"6 Left"},{"$f":"'26'!$AI$20","v":"1 Left"}]
[{"$f":"'26'!$B$24","v":5},{"$f":"'26'!$H$24","v":"3 Left"},{"$f":"'26'!$Q$18","v":"1 Left"},{"$f":"'26'!$Z$21","v":"2 Left"},{"$f":"'26'!$AJ$30","v":"5 Right"}]
[{"$f":"'26'!$E$24","v":6},{"$f":"'26'!$I$24","v":"3 Right"},{"$f":"'26'!$Q$33","v":"6 Left"},{"$f":"'26'!$AA$18","v":"1 Right"},{"$f":"'26'!$AI$21","v":"2 Left"}]
[{"$f":"'26'!$B$27","v":7},{"$f":"'26'!$H$27","v":"4 Left"},{"$f":"'26'!$R$18","v":"1 Right"},{"$f":"'26'!$Z$30","v":"5 Left"},{"$f":"'26'!$AI$33","v":"6 Left"}]
[{"$f":"'26'!$E$27","v":8},{"$f":"'26'!$I$27","v":"4 Right"},{"$f":"'26'!$Q$20","v":"1 Left"},{"$f":"'26'!$AA$33","v":"6 Right"},{"$f":"'26'!$AJ$24","v":"3 Right"}]
[{"$f":"'26'!$B$30","v":9},{"$f":"'26'!$H$30","v":"5 Left"},{"$f":"'26'!$R$33","v":"6 Right"},{"$f":"'26'!$Z$20","v":"1 Left"},{"$f":"'26'!$AJ$21","v":"2 Right"}]
[{"$f":"'26'!$E$30","v":10},{"$f":"'26'!$I$30","v":"5 Right"},{"$f":"'26'!$R$21","v":"2 Right"},{"$f":"'26'!$AA$24","v":"3 Right"},{"$f":"'26'!$AI$18","v":"1 Left"}]
[{"$f":"'26'!$B$33","v":11},{"$f":"'26'!$H$33","v":"6 Left"},{"$f":"'26'!$R$24","v":"3 Right"},{"$f":"'26'!$AA$27","v":"4 Right"},{"$f":"'26'!$AJ$18","v":"1 Right"}]
[{"$f":"'26'!$E$33","v":12},{"$f":"'26'!$I$33","v":"6 Right"},{"$f":"'26'!$R$27","v":"4 Right"},{"$f":"'26'!$AA$30","v":"5 Right"},{"$f":"'26'!$AJ$27","v":"4 Right"}]
[{"$f":"'26'!$B$20","v":13},{"$f":"'26'!$H$20","v":"1 Left"},{"$f":"'26'!$R$30","v":"5 Right"},{"$f":"'26'!$AA$21","v":"2 Right"},{"$f":"'26'!$AJ$33","v":"6 Right"}]
[{"$f":"'26'!$B$19","v":14},{"$f":"'26'!$H$19","v":"1 Left"},{"$f":"'26'!$Q$28","v":"4 Left"},{"$f":"'26'!$AA$31","v":"5 Right"},{"$f":"'26'!$AI$22","v":"2 Left"}]
[{"$f":"'26'!$E$19","v":15},{"$f":"'26'!$I$19","v":"1 Right"},{"$f":"'26'!$Q$31","v":"5 Left"},{"$f":"'26'!$Z$25","v":"3 Left"},{"$f":"'26'!$AI$34","v":"6 Left"}]
[{"$f":"'26'!$B$22","v":16},{"$f":"'26'!$H$22","v":"2 Left"},{"$f":"'26'!$Q$19","v":"1 Left"},{"$f":"'26'!$Z$28","v":"4 Left"},{"$f":"'26'!$AJ$22","v":"2 Right"}]
[{"$f":"'26'!$E$22","v":17},{"$f":"'26'!$I$22","v":"2 Right"},{"$f":"'26'!$Q$34","v":"6 Left"},{"$f":"'26'!$Z$19","v":"1 Left"},{"$f":"'26'!$AJ$25","v":"3 Right"}]
[{"$f":"'26'!$B$25","v":18},{"$f":"'26'!$H$25","v":"3 Left"},{"$f":"'26'!$R$19","v":"1 Right"},{"$f":"'26'!$Z$34","v":"6 Left"},{"$f":"'26'!$AI$28","v":"4 Left"}]
[{"$f":"'26'!$E$25","v":19},{"$f":"'26'!$I$25","v":"3 Right"},{"$f":"'26'!$R$20","v":"1 Right"},{"$f":"'26'!$Z$22","v":"2 Left"},{"$f":"'26'!$AI$31","v":"5 Left"}]
[{"$f":"'26'!$B$28","v":20},{"$f":"'26'!$H$28","v":"4 Left"},{"$f":"'26'!$R$34","v":"6 Right"},{"$f":"'26'!$AA$19","v":"1 Right"},{"$f":"'26'!$AI$25","v":"3 Left"}]
[{"$f":"'26'!$E$28","v":21},{"$f":"'26'!$I$28","v":"4 Right"},{"$f":"'26'!$R$22","v":"2 Right"},{"$f":"'26'!$Z$31","v":"5 Left"},{"$f":"'26'!$AJ$19","v":"1 Right"}]
[{"$f":"'26'!$B$31","v":22},{"$f":"'26'!$H$31","v":"5 Left"},{"$f":"'26'!$R$25","v":"3 Right"},{"$f":"'26'!$AA$34","v":"6 Right"},{"$f":"'26'!$AI$19","v":"1 Left"}]
[{"$f":"'26'!$E$31","v":23},{"$f":"'26'!$I$31","v":"5 Right"},{"$f":"'26'!$R$28","v":"4 Right"},{"$f":"'26'!$AA$20","v":"1 Right"},{"$f":"'26'!$AJ$34","v":"6 Right"}]
[{"$f":"'26'!$B$34","v":24},{"$f":"'26'!$H$34","v":"6 Left"},{"$f":"'26'!$R$31","v":"5 Right"},{"$f":"'26'!$AA$25","v":"3 Right"},{"$f":"'26'!$AJ$28","v":"4 Right"}]
[{"$f":"'26'!$E$34","v":25},{"$f":"'26'!$I$34","v":"6 Right"},{"$f":"'26'!$Q$25","v":"3 Left"},{"$f":"'26'!$AA$22","v":"2 Right"},{"$f":"'26'!$AJ$20","v":"1 Right"}]
[{"$f":"'26'!$E$20","v":26},{"$f":"'26'!$I$20","v":"1 Right"},{"$f":"'26'!$Q$22","v":"2 Left"},{"$f":"'26'!$AA$28","v":"4 Right"},{"$f":"'26'!$AJ$31","v":"5 Right"}]
[]
[{"$f":"'24'!$B$18","v":1},{"$f":"'24'!$H$18","v":"1 Left"},{"$f":"'24'!$Q$21","v":"2 Left"},{"$f":"'24'!$Z$27","v":"4 Left"},{"$f":"'24'!$AI$24","v":"3 Left"},null,null,null,null,null,null,24]
[{"$f":"'24'!$E$18","v":2},{"$f":"'24'!$I$18","v":"1 Right"},{"$f":"'24'!$Q$24","v":"3 Left"},{"$f":"'24'!$Z$21","v":"2 Left"},{"$f":"'24'!$AI$30","v":"5 Left"}]
[{"$f":"'24'!$B$21","v":3},{"$f":"'24'!$H$21","v":"2 Left"},{"$f":"'24'!$Q$27","v":"4 Left"},{"$f":"'24'!$Z$18","v":"1 Left"},{"$f":"'24'!$AI$33","v":"6 Left"}]
[{"$f":"'24'!$E$21","v":4},{"$f":"'24'!$I$21","v":"2 Right"},{"$f":"'24'!$Q$30","v":"5 Left"},{"$f":"'24'!$AA$18","v":"1 Right"},{"$f":"'24'!$AJ$33","v":"6 Right"}]
[{"$f":"'24'!$B$24","v":5},{"$f":"'24'!$H$24","v":"3 Left"},{"$f":"'24'!$Q$33","v":"6 Left"},{"$f":"'24'!$AA$21","v":"2 Right"},{"$f":"'24'!$AJ$30","v":"5 Right"}]
[{"$f":"'24'!$E$24","v":6},{"$f":"'24'!$I$24","v":"3 Right"},{"$f":"'24'!$Q$18","v":"1 Left"},{"$f":"'24'!$Z$33","v":"6 Left"},{"$f":"'24'!$AI$27","v":"4 Left"}]
[{"$f":"'24'!$B$27","v":7},{"$f":"'24'!$H$27","v":"4 Left"},{"$f":"'24'!$R$33","v":"6 Right"},{"$f":"'24'!$Z$30","v":"5 Left"},{"$f":"'24'!$AJ$18","v":"1 Right"}]
[{"$f":"'24'!$E$27","v":8},{"$f":"'24'!$I$27","v":"4 Right"},{"$f":"'24'!$R$30","v":"5 Right"},{"$f":"'24'!$AA$24","v":"3 Right"},{"$f":"'24'!$AI$21","v":"2 Left"}]
[{"$f":"'24'!$B$30","v":9},{"$f":"'24'!$H$30","v":"5 Left"},{"$f":"'24'!$R$18","v":"1 Right"},{"$f":"'24'!$AA$27","v":"4 Right"},{"$f":"'24'!$AJ$24","v":"3 Right"}]
[{"$f":"'24'!$E$30","v":10},{"$f":"'24'!$I$30","v":"5 Right"},{"$f":"'24'!$R$21","v":"2 Right"},{"$f":"'24'!$AA$33","v":"6 Right"},{"$f":"'24'!$AJ$27","v":"4 Right"}]
[{"$f":"'24'!$B$33","v":11},{"$f":"'24'!$H$33","v":"6 Left"},{"$f":"'24'!$R$24","v":"3 Right"},{"$f":"'24'!$AA$30","v":"5 Right"},{"$f":"'24'!$AJ$21","v":"2 Right"}]
[{"$f":"'24'!$E$33","v":12},{"$f":"'24'!$I$33","v":"6 Right"},{"$f":"'24'!$R$27","v":"4 Right"},{"$f":"'24'!$Z$24","v":"3 Left"},{"$f":"'24'!$AI$18","v":"1 Left"}]
[{"$f":"'24'!$B$19","v":13},{"$f":"'24'!$H$19","v":"1 Left"},{"$f":"'24'!$Q$28","v":"4 Left"},{"$f":"'24'!$AA$22","v":"2 Right"},{"$f":"'24'!$AJ$19","v":"1 Right"}]
[{"$f":"'24'!$E$19","v":14},{"$f":"'24'!$I$19","v":"1 Right"},{"$f":"'24'!$Q$31","v":"5 Left"},{"$f":"'24'!$Z$34","v":"6 Left"},{"$f":"'24'!$AI$22","v":"2 Left"}]
[{"$f":"'24'!$B$22","v":15},{"$f":"'24'!$H$22","v":"2 Left"},{"$f":"'24'!$Q$34","v":"6 Left"},{"$f":"'24'!$Z$31","v":"5 Left"},{"$f":"'24'!$AJ$25","v":"3 Right"}]
[{"$f":"'24'!$E$22","v":16},{"$f":"'24'!$I$22","v":"2 Right"},{"$f":"'24'!$Q$19","v":"1 Left"},{"$f":"'24'!$AA$25","v":"3 Right"},{"$f":"'24'!$AJ$28","v":"4 Right"}]
[{"$f":"'24'!$B$25","v":17},{"$f":"'24'!$H$25","v":"3 Left"},{"$f":"'24'!$R$34","v":"6 Right"},{"$f":"'24'!$AA$28","v":"4 Right"},{"$f":"'24'!$AJ$22","v":"2 Right"}]
[{"$f":"'24'!$E$25","v":18},{"$f":"'24'!$I$25","v":"3 Right"},{"$f":"'24'!$R$31","v":"5 Right"},{"$f":"'24'!$AA$34","v":"6 Right"},{"$f":"'24'!$AI$19","v":"1 Left"}]
[{"$f":"'24'!$B$28","v":19},{"$f":"'24'!$H$28","v":"4 Left"},{"$f":"'24'!$R$19","v":"1 Right"},{"$f":"'24'!$AA$31","v":"5 Right"},{"$f":"'24'!$AI$25","v":"3 Left"}]
[{"$f":"'24'!$E$28","v":20},{"$f":"'24'!$I$28","v":"4 Right"},{"$f":"'24'!$R$22","v":"2 Right"},{"$f":"'24'!$Z$25","v":"3 Left"},{"$f":"'24'!$AI$31","v":"5 Left"}]
[{"$f":"'24'!$B$31","v":21},{"$f":"'24'!$H$31","v":"5 Left"},{"$f":"'24'!$R$25","v":"3 Right"},{"$f":"'24'!$Z$28","v":"4 Left"},{"$f":"'24'!$AI$34","v":"6 Left"}]
[{"$f":"'24'!$E$31","v":22},{"$f":"'24'!$I$31","v":"5 Right"},{"$f":"'24'!$R$28","v":"4 Right"},{"$f":"'24'!$Z$22","v":"2 Left"},{"$f":"'24'!$AJ$34","v":"6 Right"}]
[{"$f":"'24'!$B$34","v":23},{"$f":"'24'!$H$34","v":"6 Left"},{"$f":"'24'!$Q$22","v":"2 Left"},{"$f":"'24'!$Z$19","v":"1 Left"},{"$f":"'24'!$AJ$31","v":"5 Right"}]
[{"$f":"'24'!$E$34","v":24},{"$f":"'24'!$I$34","v":"6 Right"},{"$f":"'24'!$Q$25","v":"3 Left"},{"$f":"'24'!$AA$19","v":"1 Right"},{"$f":"'24'!$AI$28","v":"4 Left"}]
[]
[{"$f":"'22'!$B$18","v":1},{"$f":"'22'!$H$18","v":"2 Left"},{"$f":"'22'!$Q$21","v":"3 Left"},{"$f":"'22'!$Z$27","v":"5 Left"},{"$f":"'22'!$AJ$18","v":"2 Right"},null,null,null,null,null,null,22]
[{"$f":"'22'!$E$18","v":2},{"$f":"'22'!$I$18","v":"2 Right"},{"$f":"'22'!$Q$24","v":"4 Left"},{"$f":"'22'!$Z$21","v":"3 Left"},{"$f":"'22'!$AI$27","v":"5 Left"}]
[{"$f":"'22'!$B$21","v":3},{"$f":"'22'!$H$21","v":"3 Left"},{"$f":"'22'!$Q$18","v":"2 Left"},{"$f":"'22'!$AA$24","v":"4 Right"},{"$f":"'22'!$AI$30","v":"6 Left"}]
[{"$f":"'22'!$E$21","v":4},{"$f":"'22'!$I$21","v":"3 Right"},{"$f":"'22'!$Q$27","v":"5 Left"},{"$f":"'22'!$Z$24","v":"4 Left"},{"$f":"'22'!$AI$18","v":"2 Left"}]
[{"$f":"'22'!$B$24","v":5},{"$f":"'22'!$H$24","v":"4 Left"},{"$f":"'22'!$R$18","v":"2 Right"},{"$f":"'22'!$AA$30","v":"6 Right"},{"$f":"'22'!$AI$20","v":"2 Left"}]
[{"$f":"'22'!$E$24","v":6},{"$f":"'22'!$I$24","v":"4 Right"},{"$f":"'22'!$Q$30","v":"6 Left"},{"$f":"'22'!$Z$18","v":"2 Left"},{"$f":"'22'!$AJ$30","v":"6 Right"}]
[{"$f":"'22'!$B$27","v":7},{"$f":"'22'!$H$27","v":"5 Left"},{"$f":"'22'!$Q$20","v":"2 Left"},{"$f":"'22'!$Z$30","v":"6 Left"},{"$f":"'22'!$AI$21","v":"3 Left"}]
[{"$f":"'22'!$E$27","v":8},{"$f":"'22'!$I$27","v":"5 Right"},{"$f":"'22'!$R$21","v":"3 Right"},{"$f":"'22'!$AA$18","v":"2 Right"},{"$f":"'22'!$AI$24","v":"4 Left"}]
[{"$f":"'22'!$B$30","v":9},{"$f":"'22'!$H$30","v":"6 Left"},{"$f":"'22'!$R$24","v":"4 Right"},{"$f":"'22'!$AA$27","v":"5 Right"},{"$f":"'22'!$AJ$21","v":"3 Right"}]
[{"$f":"'22'!$E$30","v":10},{"$f":"'22'!$I$30","v":"6 Right"},{"$f":"'22'!$R$27","v":"5 Right"},{"$f":"'22'!$Z$20","v":"2 Left"},{"$f":"'22'!$AJ$24","v":"4 Right"}]
[{"$f":"'22'!$B$19","v":11},{"$f":"'22'!$H$19","v":"2 Left"},{"$f":"'22'!$R$30","v":"6 Right"},{"$f":"'22'!$AA$21","v":"3 Right"},{"$f":"'22'!$AJ$27","v":"5 Right"}]
[{"$f":"'22'!$E$19","v":12},{"$f":"'22'!$I$19","v":"2 Right"},{"$f":"'22'!$Q$22","v":"3 Left"},{"$f":"'22'!$AA$31","v":"6 Right"},{"$f":"'22'!$AI$25","v":"4 Left"}]
[{"$f":"'22'!$B$22","v":13},{"$f":"'22'!$H$22","v":"3 Left"},{"$f":"'22'!$Q$25","v":"4 Left"},{"$f":"'22'!$Z$19","v":"2 Left"},{"$f":"'22'!$AJ$22","v":"3 Right"}]
[{"$f":"'22'!$E$22","v":14},{"$f":"'22'!$I$22","v":"3 Right"},{"$f":"'22'!$Q$19","v":"2 Left"},{"$f":"'22'!$AA$28","v":"5 Right"},{"$f":"'22'!$AJ$25","v":"4 Right"}]
[{"$f":"'22'!$B$25","v":15},{"$f":"'22'!$H$25","v":"4 Left"},{"$f":"'22'!$Q$28","v":"5 Left"},{"$f":"'22'!$AA$19","v":"2 Right"},{"$f":"'22'!$AJ$28","v":"5 Right"}]
[{"$f":"'22'!$E$25","v":16},{"$f":"'22'!$I$25","v":"4 Right"},{"$f":"'22'!$R$19","v":"2 Right"},{"$f":"'22'!$Z$31","v":"6 Left"},{"$f":"'22'!$AJ$19","v":"2 Right"}]
[{"$f":"'22'!$B$28","v":17},{"$f":"'22'!$H$28","v":"5 Left"},{"$f":"'22'!$Q$31","v":"6 Left"},{"$f":"'22'!$AA$20","v":"2 Right"},{"$f":"'22'!$AI$28","v":"5 Left"}]
[{"$f":"'22'!$E$28","v":18},{"$f":"'22'!$I$28","v":"5 Right"},{"$f":"'22'!$R$20","v":"2 Right"},{"$f":"'22'!$AA$22","v":"3 Right"},{"$f":"'22'!$AI$31","v":"6 Left"}]
[{"$f":"'22'!$B$31","v":19},{"$f":"'22'!$H$31","v":"6 Left"},{"$f":"'22'!$R$22","v":"3 Right"},{"$f":"'22'!$Z$28","v":"5 Left"},{"$f":"'22'!$AI$19","v":"2 Left"}]
[{"$f":"'22'!$E$31","v":20},{"$f":"'22'!$I$31","v":"6 Right"},{"$f":"'22'!$R$25","v":"4 Right"},{"$f":"'22'!$Z$22","v":"3 Left"},{"$f":"'22'!$AJ$20","v":"2 Right"}]
[{"$f":"'22'!$B$20","v":21},{"$f":"'22'!$H$20","v":"2 Left"},{"$f":"'22'!$R$28","v":"5 Right"},{"$f":"'22'!$AA$25","v":"4 Right"},{"$f":"'22'!$AJ$31","v":"6 Right"}]
[{"$f":"'22'!$E$20","v":22},{"$f":"'22'!$I$20","v":"2 Right"},{"$f":"'22'!$R$31","v":"6 Right"},{"$f":"'22'!$Z$25","v":"4 Left"},{"$f":"'22'!$AI$22","v":"3 Left"}]
[]
[{"$f":"'20'!$B$18","v":1},{"$f":"'20'!$H$18","v":"2 Left"},{"$f":"'20'!$Q$21","v":"3 Left"},{"$f":"'20'!$Z$30","v":"6 Left"},{"$f":"'20'!$AJ$27","v":"5 Right"},null,null,null,null,null,null,20]
[{"$f":"'20'!$E$18","v":2},{"$f":"'20'!$I$18","v":"2 Right"},{"$f":"'20'!$Q$24","v":"4 Left"},{"$f":"'20'!$Z$21","v":"3 Left"},{"$f":"'20'!$AI$30","v":"6 Left"}]
[{"$f":"'20'!$B$21","v":3},{"$f":"'20'!$H$21","v":"3 Left"},{"$f":"'20'!$Q$27","v":"5 Left"},{"$f":"'20'!$Z$18","v":"2 Left"},{"$f":"'20'!$AI$27","v":"5 Left"}]
[{"$f":"'20'!$E$21","v":4},{"$f":"'20'!$I$21","v":"3 Right"},{"$f":"'20'!$Q$30","v":"6 Left"},{"$f":"'20'!$Z$27","v":"5 Left"},{"$f":"'20'!$AI$24","v":"4 Left"}]
[{"$f":"'20'!$B$24","v":5},{"$f":"'20'!$H$24","v":"4 Left"},{"$f":"'20'!$Q$18","v":"2 Left"},{"$f":"'20'!$AA$30","v":"6 Right"},{"$f":"'20'!$AJ$24","v":"4 Right"}]
[{"$f":"'20'!$E$24","v":6},{"$f":"'20'!$I$24","v":"4 Right"},{"$f":"'20'!$R$27","v":"5 Right"},{"$f":"'20'!$AA$21","v":"3 Right"},{"$f":"'20'!$AI$18","v":"2 Left"}]
[{"$f":"'20'!$B$27","v":7},{"$f":"'20'!$H$27","v":"5 Left"},{"$f":"'20'!$R$30","v":"6 Right"},{"$f":"'20'!$Z$24","v":"4 Left"},{"$f":"'20'!$AJ$21","v":"3 Right"}]
[{"$f":"'20'!$E$27","v":8},{"$f":"'20'!$I$27","v":"5 Right"},{"$f":"'20'!$R$21","v":"3 Right"},{"$f":"'20'!$AA$24","v":"4 Right"},{"$f":"'20'!$AJ$18","v":"2 Right"}]
[{"$f":"'20'!$B$30","v":9},{"$f":"'20'!$H$30","v":"6 Left"},{"$f":"'20'!$R$24","v":"4 Right"},{"$f":"'20'!$AA$18","v":"2 Right"},{"$f":"'20'!$AJ$30","v":"6 Right"}]
[{"$f":"'20'!$E$30","v":10},{"$f":"'20'!$I$30","v":"6 Right"},{"$f":"'20'!$R$18","v":"2 Right"},{"$f":"'20'!$AA$27","v":"5 Right"},{"$f":"'20'!$AI$21","v":"3 Left"}]
[{"$f":"'20'!$B$19","v":11},{"$f":"'20'!$H$19","v":"2 Left"},{"$f":"'20'!$Q$28","v":"5 Left"},{"$f":"'20'!$AA$31","v":"6 Right"},{"$f":"'20'!$AJ$22","v":"3 Right"}]
[{"$f":"'20'!$E$19","v":12},{"$f":"'20'!$I$19","v":"2 Right"},{"$f":"'20'!$Q$31","v":"6 Left"},{"$f":"'20'!$AA$22","v":"3 Right"},{"$f":"'20'!$AJ$19","v":"2 Right"}]
[{"$f":"'20'!$B$22","v":13},{"$f":"'20'!$H$22","v":"3 Left"},{"$f":"'20'!$Q$19","v":"2 Left"},{"$f":"'20'!$Z$25","v":"4 Left"},{"$f":"'20'!$AJ$31","v":"6 Right"}]
[{"$f":"'20'!$E$22","v":14},{"$f":"'20'!$I$22","v":"3 Right"},{"$f":"'20'!$R$28","v":"5 Right"},{"$f":"'20'!$AA$25","v":"4 Right"},{"$f":"'20'!$AI$22","v":"3 Left"}]
[{"$f":"'20'!$B$25","v":15},{"$f":"'20'!$H$25","v":"4 Left"},{"$f":"'20'!$R$31","v":"6 Right"},{"$f":"'20'!$AA$19","v":"2 Right"},{"$f":"'20'!$AJ$28","v":"5 Right"}]
[{"$f":"'20'!$E$25","v":16},{"$f":"'20'!$I$25","v":"4 Right"},{"$f":"'20'!$R$22","v":"3 Right"},{"$f":"'20'!$AA$28","v":"5 Right"},{"$f":"'20'!$AI$31","v":"6 Left"}]
[{"$f":"'20'!$B$28","v":17},{"$f":"'20'!$H$28","v":"5 Left"},{"$f":"'20'!$R$25","v":"4 Right"},{"$f":"'20'!$Z$31","v":"6 Left"},{"$f":"'20'!$AI$28","v":"5 Left"}]
[{"$f":"'20'!$E$28","v":18},{"$f":"'20'!$I$28","v":"5 Right"},{"$f":"'20'!$R$19","v":"2 Right"},{"$f":"'20'!$Z$22","v":"3 Left"},{"$f":"'20'!$AI$25","v":"4 Left"}]
[{"$f":"'20'!$B$31","v":19},{"$f":"'20'!$H$31","v":"6 Left"},{"$f":"'20'!$Q$22","v":"3 Left"},{"$f":"'20'!$Z$19","v":"2 Left"},{"$f":"'20'!$AJ$25","v":"4 Right"}]
[{"$f":"'20'!$E$31","v":20},{"$f":"'20'!$I$31","v":"6 Right"},{"$f":"'20'!$Q$25","v":"4 Left"},{"$f":"'20'!$Z$28","v":"5 Left"},{"$f":"'20'!$AI$19","v":"2 Left"}]
[]
[{"$f":"'18'!$B$18","v":1},{"$f":"'18'!$H$18","v":"1 Left"},{"$f":"'18'!$Q$24","v":"3 Left"},{"$f":"'18'!$Z$21","v":"2 Left"},{"$f":"'18'!$AI$18","v":"1 Left"},null,null,null,null,null,null,18]
[{"$f":"'18'!$E$18","v":2},{"$f":"'18'!$I$18","v":"1 Right"},{"$f":"'18'!$Q$21","v":"2 Left"},{"$f":"'18'!$Z$27","v":"4 Left"},{"$f":"'18'!$AI$24","v":"3 Left"}]
[{"$f":"'18'!$E$24","v":3},{"$f":"'18'!$I$24","v":"3 Right"},{"$f":"'18'!$Q$18","v":"1 Left"},{"$f":"'18'!$AA$21","v":"2 Right"},{"$f":"'18'!$AJ$27","v":"4 Right"}]
[{"$f":"'18'!$B$27","v":4},{"$f":"'18'!$H$27","v":"4 Left"},{"$f":"'18'!$R$21","v":"2 Right"},{"$f":"'18'!$Z$18","v":"1 Left"},{"$f":"'18'!$AJ$21","v":"2 Right"}]
[{"$f":"'18'!$E$21","v":5},{"$f":"'18'!$I$21","v":"2 Right"},{"$f":"'18'!$Q$27","v":"4 Left"},{"$f":"'18'!$AA$18","v":"1 Right"},{"$f":"'18'!$AJ$24","v":"3 Right"}]
[{"$f":"'18'!$B$21","v":6},{"$f":"'18'!$H$21","v":"2 Left"},{"$f":"'18'!$R$24","v":"3 Right"},{"$f":"'18'!$Z$20","v":"1 Left"},{"$f":"'18'!$AI$21","v":"2 Left"}]
[{"$f":"'18'!$B$24","v":7},{"$f":"'18'!$H$24","v":"3 Left"},{"$f":"'18'!$R$18","v":"1 Right"},{"$f":"'18'!$AA$27","v":"4 Right"},{"$f":"'18'!$AJ$18","v":"1 Right"}]
[{"$f":"'18'!$E$27","v":8},{"$f":"'18'!$I$27","v":"4 Right"},{"$f":"'18'!$Q$20","v":"1 Left"},{"$f":"'18'!$Z$24","v":"3 Left"},{"$f":"'18'!$AI$20","v":"1 Left"}]
[{"$f":"'18'!$B$20","v":9},{"$f":"'18'!$H$20","v":"1 Left"},{"$f":"'18'!$R$27","v":"4 Right"},{"$f":"'18'!$AA$24","v":"3 Right"},{"$f":"'18'!$AI$27","v":"4 Left"}]
[{"$f":"'18'!$B$19","v":10},{"$f":"'18'!$H$19","v":"1 Left"},{"$f":"'18'!$Q$28","v":"4 Left"},{"$f":"'18'!$Z$25","v":"3 Left"},{"$f":"'18'!$AJ$20","v":"1 Right"}]
[{"$f":"'18'!$E$19","v":11},{"$f":"'18'!$I$19","v":"1 Right"},{"$f":"'18'!$R$25","v":"3 Right"},{"$f":"'18'!$Z$22","v":"2 Left"},{"$f":"'18'!$AI$28","v":"4 Left"}]
[{"$f":"'18'!$E$25","v":12},{"$f":"'18'!$I$25","v":"3 Right"},{"$f":"'18'!$R$19","v":"1 Right"},{"$f":"'18'!$Z$28","v":"4 Left"},{"$f":"'18'!$AI$19","v":"1 Left"}]
[{"$f":"'18'!$E$28","v":13},{"$f":"'18'!$I$28","v":"4 Right"},{"$f":"'18'!$R$20","v":"1 Right"},{"$f":"'18'!$AA$22","v":"2 Right"},{"$f":"'18'!$AJ$25","v":"3 Right"}]
[{"$f":"'18'!$E$22","v":14},{"$f":"'18'!$I$22","v":"2 Right"},{"$f":"'18'!$R$28","v":"4 Right"},{"$f":"'18'!$Z$19","v":"1 Left"},{"$f":"'18'!$AI$25","v":"3 Left"}]
[{"$f":"'18'!$B$22","v":15},{"$f":"'18'!$H$22","v":"2 Left"},{"$f":"'18'!$Q$25","v":"3 Left"},{"$f":"'18'!$AA$19","v":"1 Right"},{"$f":"'18'!$AJ$22","v":"2 Right"}]
[{"$f":"'18'!$B$25","v":16},{"$f":"'18'!$H$25","v":"3 Left"},{"$f":"'18'!$Q$22","v":"2 Left"},{"$f":"'18'!$AA$20","v":"1 Right"},{"$f":"'18'!$AJ$28","v":"4 Right"}]
[{"$f":"'18'!$B$28","v":17},{"$f":"'18'!$H$28","v":"4 Left"},{"$f":"'18'!$Q$19","v":"1 Left"},{"$f":"'18'!$AA$28","v":"4 Right"},{"$f":"'18'!$AI$22","v":"2 Left"}]
[{"$f":"'18'!$E$20","v":18},{"$f":"'18'!$I$20","v":"1 Right"},{"$f":"'18'!$R$22","v":"2 Right"},{"$f":"'18'!$AA$25","v":"3 Right"},{"$f":"'18'!$AJ$19","v":"1 Right"}]
[]
[{"$f":"'16'!$B$18","v":1},{"$f":"'16'!$H$18","v":"2 Left"},{"$f":"'16'!$Q$21","v":"3 Left"},{"$f":"'16'!$Z$24","v":"4 Left"},{"$f":"'16'!$AI$27","v":"5 Left"},null,null,null,null,null,null,16]
[{"$f":"'16'!$E$18","v":2},{"$f":"'16'!$I$18","v":"2 Right"},{"$f":"'16'!$Q$24","v":"4 Left"},{"$f":"'16'!$Z$27","v":"5 Left"},{"$f":"'16'!$AI$24","v":"4 Left"}]
[{"$f":"'16'!$B$21","v":3},{"$f":"'16'!$H$21","v":"3 Left"},{"$f":"'16'!$R$24","v":"4 Right"},{"$f":"'16'!$Z$18","v":"2 Left"},{"$f":"'16'!$AJ$27","v":"5 Right"}]
[{"$f":"'16'!$E$21","v":4},{"$f":"'16'!$I$21","v":"3 Right"},{"$f":"'16'!$Q$27","v":"5 Left"},{"$f":"'16'!$Z$21","v":"3 Left"},{"$f":"'16'!$AJ$24","v":"4 Right"}]
[{"$f":"'16'!$B$24","v":5},{"$f":"'16'!$H$24","v":"4 Left"},{"$f":"'16'!$R$27","v":"5 Right"},{"$f":"'16'!$AA$18","v":"2 Right"},{"$f":"'16'!$AI$21","v":"3 Left"}]
[{"$f":"'16'!$E$24","v":6},{"$f":"'16'!$I$24","v":"4 Right"},{"$f":"'16'!$Q$18","v":"2 Left"},{"$f":"'16'!$AA$21","v":"3 Right"},{"$f":"'16'!$AJ$18","v":"2 Right"}]
[{"$f":"'16'!$B$27","v":7},{"$f":"'16'!$H$27","v":"5 Left"},{"$f":"'16'!$R$21","v":"3 Right"},{"$f":"'16'!$AA$27","v":"5 Right"},{"$f":"'16'!$AI$18","v":"2 Left"}]
[{"$f":"'16'!$E$27","v":8},{"$f":"'16'!$I$27","v":"5 Right"},{"$f":"'16'!$R$18","v":"2 Right"},{"$f":"'16'!$AA$24","v":"4 Right"},{"$f":"'16'!$AJ$21","v":"3 Right"}]
[{"$f":"'16'!$B$19","v":9},{"$f":"'16'!$H$19","v":"2 Left"},{"$f":"'16'!$R$25","v":"4 Right"},{"$f":"'16'!$AA$28","v":"5 Right"},{"$f":"'16'!$AJ$25","v":"4 Right"}]
[{"$f":"'16'!$E$19","v":10},{"$f":"'16'!$I$19","v":"2 Right"},{"$f":"'16'!$Q$28","v":"5 Left"},{"$f":"'16'!$AA$25","v":"4 Right"},{"$f":"'16'!$AI$22","v":"3 Left"}]
[{"$f":"'16'!$B$22","v":11},{"$f":"'16'!$H$22","v":"3 Left"},{"$f":"'16'!$R$28","v":"5 Right"},{"$f":"'16'!$Z$25","v":"4 Left"},{"$f":"'16'!$AJ$19","v":"2 Right"}]
[{"$f":"'16'!$E$22","v":12},{"$f":"'16'!$I$22","v":"3 Right"},{"$f":"'16'!$Q$19","v":"2 Left"},{"$f":"'16'!$Z$28","v":"5 Left"},{"$f":"'16'!$AI$19","v":"2 Left"}]
[{"$f":"'16'!$B$25","v":13},{"$f":"'16'!$H$25","v":"4 Left"},{"$f":"'16'!$R$22","v":"3 Right"},{"$f":"'16'!$Z$19","v":"2 Left"},{"$f":"'16'!$AJ$22","v":"3 Right"}]
[{"$f":"'16'!$E$25","v":14},{"$f":"'16'!$I$25","v":"4 Right"},{"$f":"'16'!$R$19","v":"2 Right"},{"$f":"'16'!$Z$22","v":"3 Left"},{"$f":"'16'!$AI$28","v":"5 Left"}]
[{"$f":"'16'!$B$28","v":15},{"$f":"'16'!$H$28","v":"5 Left"},{"$f":"'16'!$Q$22","v":"3 Left"},{"$f":"'16'!$AA$19","v":"2 Right"},{"$f":"'16'!$AI$25","v":"4 Left"}]
[{"$f":"'16'!$E$28","v":16},{"$f":"'16'!$I$28","v":"5 Right"},{"$f":"'16'!$Q$25","v":"4 Left"},{"$f":"'16'!$AA$22","v":"3 Right"},{"$f":"'16'!$AJ$28","v":"5 Right"}]
[]
[{"$f":"'14'!$B$18","v":1},{"$f":"'14'!$H$18","v":"1 Left"},{"$f":"'14'!$Q$24","v":"3 Left"},{"$f":"'14'!$Z$19","v":"1 Left"},{"$f":"'14'!$AJ$24","v":"3 Right"},null,null,null,null,null,null,14]
[{"$f":"'14'!$E$18","v":2},{"$f":"'14'!$I$18","v":"1 Right"},{"$f":"'14'!$Q$21","v":"2 Left"},{"$f":"'14'!$Z$20","v":"1 Left"},{"$f":"'14'!$AI$21","v":"2 Left"}]
[{"$f":"'14'!$B$21","v":3},{"$f":"'14'!$H$21","v":"2 Left"},{"$f":"'14'!$R$18","v":"1 Right"},{"$f":"'14'!$AA$24","v":"3 Right"},{"$f":"'14'!$AI$19","v":"1 Left"}]
[{"$f":"'14'!$E$21","v":4},{"$f":"'14'!$I$21","v":"2 Right"},{"$f":"'14'!$Q$18","v":"1 Left"},{"$f":"'14'!$Z$24","v":"3 Left"},{"$f":"'14'!$AI$20","v":"1 Left"}]
[{"$f":"'14'!$B$24","v":5},{"$f":"'14'!$H$24","v":"3 Left"},{"$f":"'14'!$R$21","v":"2 Right"},{"$f":"'14'!$Z$18","v":"1 Left"},{"$f":"'14'!$AJ$21","v":"2 Right"}]
[{"$f":"'14'!$B$19","v":6},{"$f":"'14'!$H$19","v":"1 Left"},{"$f":"'14'!$R$24","v":"3 Right"},{"$f":"'14'!$Z$21","v":"2 Left"},{"$f":"'14'!$AI$18","v":"1 Left"}]
[{"$f":"'14'!$E$19","v":7},{"$f":"'14'!$I$19","v":"1 Right"},{"$f":"'14'!$Q$25","v":"3 Left"},{"$f":"'14'!$AA$21","v":"2 Right"},{"$f":"'14'!$AJ$19","v":"1 Right"}]
[{"$f":"'14'!$B$22","v":8},{"$f":"'14'!$H$22","v":"2 Left"},{"$f":"'14'!$Q$19","v":"1 Left"},{"$f":"'14'!$Z$22","v":"2 Left"},{"$f":"'14'!$AI$24","v":"3 Left"}]
[{"$f":"'14'!$E$22","v":9},{"$f":"'14'!$I$22","v":"2 Right"},{"$f":"'14'!$R$19","v":"1 Right"},{"$f":"'14'!$AA$22","v":"2 Right"},{"$f":"'14'!$AJ$25","v":"3 Right"}]
[{"$f":"'14'!$E$25","v":10},{"$f":"'14'!$I$25","v":"3 Right"},{"$f":"'14'!$Q$22","v":"2 Left"},{"$f":"'14'!$AA$18","v":"1 Right"},{"$f":"'14'!$AJ$22","v":"2 Right"}]
[{"$f":"'14'!$B$20","v":11},{"$f":"'14'!$H$20","v":"1 Left"},{"$f":"'14'!$R$22","v":"2 Right"},{"$f":"'14'!$AA$19","v":"1 Right"},{"$f":"'14'!$AI$22","v":"2 Left"}]
[{"$f":"'14'!$E$20","v":12},{"$f":"'14'!$I$20","v":"1 Right"},{"$f":"'14'!$R$25","v":"3 Right"},{"$f":"'14'!$AA$20","v":"1 Right"},{"$f":"'14'!$AI$25","v":"3 Left"}]
[{"$f":"'14'!$E$24","v":13},{"$f":"'14'!$I$24","v":"3 Right"},{"$f":"'14'!$Q$20","v":"1 Left"},{"$f":"'14'!$AA$25","v":"3 Right"},{"$f":"'14'!$AJ$18","v":"1 Right"}]
[{"$f":"'14'!$B$25","v":14},{"$f":"'14'!$H$25","v":"3 Left"},{"$f":"'14'!$R$20","v":"1 Right"},{"$f":"'14'!$Z$25","v":"3 Left"},{"$f":"'14'!$AJ$20","v":"1 Right"}]
[]
[{"$f":"'12'!$B$18","v":1},{"$f":"'12'!$H$18","v":"2 Left"},{"$f":"'12'!$Q$21","v":"3 Left"},{"$f":"'12'!$AA$19","v":"2 Right"},{"$f":"'12'!$AI$24","v":"4 Left"},null,null,null,null,null,null,12]
[{"$f":"'12'!$B$19","v":2},{"$f":"'12'!$H$19","v":"2 Left"},{"$f":"'12'!$Q$24","v":"4 Left"},{"$f":"'12'!$Z$18","v":"2 Left"},{"$f":"'12'!$AI$21","v":"3 Left"}]
[{"$f":"'12'!$E$18","v":3},{"$f":"'12'!$I$18","v":"2 Right"},{"$f":"'12'!$Q$22","v":"3 Left"},{"$f":"'12'!$Z$19","v":"2 Left"},{"$f":"'12'!$AJ$24","v":"4 Right"}]
[{"$f":"'12'!$E$19","v":4},{"$f":"'12'!$I$19","v":"2 Right"},{"$f":"'12'!$Q$25","v":"4 Left"},{"$f":"'12'!$AA$22","v":"3 Right"},{"$f":"'12'!$AJ$18","v":"2 Right"}]
[{"$f":"'12'!$B$21","v":5},{"$f":"'12'!$H$21","v":"3 Left"},{"$f":"'12'!$Q$18","v":"2 Left"},{"$f":"'12'!$AA$24","v":"4 Right"},{"$f":"'12'!$AJ$19","v":"2 Right"}]
[{"$f":"'12'!$B$22","v":6},{"$f":"'12'!$H$22","v":"3 Left"},{"$f":"'12'!$R$24","v":"4 Right"},{"$f":"'12'!$Z$21","v":"3 Left"},{"$f":"'12'!$AI$18","v":"2 Left"}]
[{"$f":"'12'!$E$21","v":7},{"$f":"'12'!$I$21","v":"3 Right"},{"$f":"'12'!$Q$19","v":"2 Left"},{"$f":"'12'!$Z$22","v":"3 Left"},{"$f":"'12'!$AI$25","v":"4 Left"}]
[{"$f":"'12'!$E$22","v":8},{"$f":"'12'!$I$22","v":"3 Right"},{"$f":"'12'!$R$25","v":"4 Right"},{"$f":"'12'!$AA$18","v":"2 Right"},{"$f":"'12'!$AJ$21","v":"3 Right"}]
[{"$f":"'12'!$B$24","v":9},{"$f":"'12'!$H$24","v":"4 Left"},{"$f":"'12'!$R$18","v":"2 Right"},{"$f":"'12'!$AA$21","v":"3 Right"},{"$f":"'12'!$AJ$25","v":"4 Right"}]
[{"$f":"'12'!$B$25","v":10},{"$f":"'12'!$H$25","v":"4 Left"},{"$f":"'12'!$R$21","v":"3 Right"},{"$f":"'12'!$Z$25","v":"4 Left"},{"$f":"'12'!$AI$19","v":"2 Left"}]
[{"$f":"'12'!$E$24","v":11},{"$f":"'12'!$I$24","v":"4 Right"},{"$f":"'12'!$R$19","v":"2 Right"},{"$f":"'12'!$Z$24","v":"4 Left"},{"$f":"'12'!$AI$22","v":"3 Left"}]
[{"$f":"'12'!$E$25","v":12},{"$f":"'12'!$I$25","v":"4 Right"},{"$f":"'12'!$R$22","v":"3 Right"},{"$f":"'12'!$AA$25","v":"4 Right"},{"$f":"'12'!$AJ$22","v":"3 Right"}]
[]
[]
[]
[]
[]
[]
[]
[]
[]
[]
[]
[]
[]
[]
[]
[]
[]
[]
[]
[]
[]
[]
[]
[]
[]
[]
[]
[]
[]
[]
[]
[]
[]
[]
[]
[]
[]
[]
[]
[]
[]
[]
[]
[]
[]
[]
[]
[]
[]
[]
[]
[]
[]
[]
[]
[]
[]
[]
[]
[]
[]
[]
[]
[]
[]
[]
[]
[]
[]
[]
[]
[]
[]
[]
[]
[]
[]
[]
[]
[]
[]
[]
[]
[]
[]
[]
[]
[]
[]
[]
[]
[]
[]
[]
[]
[]
[]
[]
[]
[]
[]
[]
[]
[]
[]
[]
[]
[]
[]
[]
[]
[]
[]
[]
[]
[]
[]
[]
[]
[]
[]
[]
[]
[]
[]
[]
[]
[]
[]
[]
[]
[]
[]
[]
[]
[]
[]
[]
[]
[]
[]
[]
[]
[]
[]
[]
[]
[]
[]
[]
[]
[]
[]
[]
[]
[]
[]
[]
[]
[]
[]
[]
[]
[]
[]
[]
[]
[]
[]
[]
[]
[]
[]
[]
[]
[]
[]
[]
[]
[]
[]
[]
[]
[]
[]
[]
[]
[]
[]
[]
[]
[]
[]
[]
[]
[]
[]
[]
[]
[]
[]
[]
[]
[]
[]
[]
[]
[]
[]
[]
[]
[]
[]
[]
[]
[]
[]
[]
[]
[]
[]
[]
[]
[]
[]
[]
[]
[]
[]
[]
[]
[]
[]
[]
[]
[]
[]
[]
[]
[]
[]
[]
[]
[]
[]
[]
[]
[]
[]
[]
[]
[]
[]
[]
[]
[]
[]
[]
[]
[]
[]
[]
[]
[]
[]
[]
[]
[]
[]
[]
[]
[]
[]
[]
[]
[]
[]
[]
[]
[]
[]
[]
[]
[]
[]
[]
[]
[]
[{"$f":"'18'!AL18","v":1},{"$f":"'18'!AM18","v":"1 Left"},{"$f":"'18'!AN18","v":"3 Left"},{"$f":"'18'!AO18","v":"2 Left"},{"$f":"'18'!AP18","v":"1 Left"},null,null,null,null,null,null,18]
[{"$f":"'18'!AL19","v":2},{"$f":"'18'!AM19","v":"1 Right"},{"$f":"'18'!AN19","v":"2 Left"},{"$f":"'18'!AO19","v":"4 Left"},{"$f":"'18'!AP19","v":"3 Left"}]
[{"$f":"'18'!AL20","v":3},{"$f":"'18'!AM20","v":"3 Right"},{"$f":"'18'!AN20","v":"1 Left"},{"$f":"'18'!AO20","v":"2 Right"},{"$f":"'18'!AP20","v":"4 Right"}]
[{"$f":"'18'!AL21","v":4},{"$f":"'18'!AM21","v":"4 Left"},{"$f":"'18'!AN21","v":"2 Right"},{"$f":"'18'!AO21","v":"1 Left"},{"$f":"'18'!AP21","v":"2 Right"}]
[{"$f":"'18'!AL22","v":5},{"$f":"'18'!AM22","v":"2 Right"},{"$f":"'18'!AN22","v":"4 Left"},{"$f":"'18'!AO22","v":"1 Right"},{"$f":"'18'!AP22","v":"3 Right"}]
[{"$f":"'18'!AL23","v":6},{"$f":"'18'!AM23","v":"2 Left"},{"$f":"'18'!AN23","v":"3 Right"},{"$f":"'18'!AO23","v":"1 Left"},{"$f":"'18'!AP23","v":"2 Left"}]
[{"$f":"'18'!AL24","v":7},{"$f":"'18'!AM24","v":"3 Left"},{"$f":"'18'!AN24","v":"1 Right"},{"$f":"'18'!AO24","v":"4 Right"},{"$f":"'18'!AP24","v":"1 Right"}]
[{"$f":"'18'!AL25","v":8},{"$f":"'18'!AM25","v":"4 Right"},{"$f":"'18'!AN25","v":"1 Left"},{"$f":"'18'!AO25","v":"3 Left"},{"$f":"'18'!AP25","v":"1 Left"}]
[{"$f":"'18'!AL26","v":9},{"$f":"'18'!AM26","v":"1 Left"},{"$f":"'18'!AN26","v":"4 Right"},{"$f":"'18'!AO26","v":"3 Right"},{"$f":"'18'!AP26","v":"4 Left"}]
[{"$f":"'18'!AL27","v":10},{"$f":"'18'!AM27","v":"1 Left"},{"$f":"'18'!AN27","v":"4 Left"},{"$f":"'18'!AO27","v":"3 Left"},{"$f":"'18'!AP27","v":"1 Right"}]
[{"$f":"'18'!AL28","v":11},{"$f":"'18'!AM28","v":"1 Right"},{"$f":"'18'!AN28","v":"3 Right"},{"$f":"'18'!AO28","v":"2 Left"},{"$f":"'18'!AP28","v":"4 Left"}]
[{"$f":"'18'!AL29","v":12},{"$f":"'18'!AM29","v":"3 Right"},{"$f":"'18'!AN29","v":"1 Right"},{"$f":"'18'!AO29","v":"4 Left"},{"$f":"'18'!AP29","v":"1 Left"}]
[{"$f":"'18'!AL30","v":13},{"$f":"'18'!AM30","v":"4 Right"},{"$f":"'18'!AN30","v":"1 Right"},{"$f":"'18'!AO30","v":"2 Right"},{"$f":"'18'!AP30","v":"3 Right"}]
[{"$f":"'18'!AL31","v":14},{"$f":"'18'!AM31","v":"2 Right"},{"$f":"'18'!AN31","v":"4 Right"},{"$f":"'18'!AO31","v":"1 Left"},{"$f":"'18'!AP31","v":"3 Left"}]
[{"$f":"'18'!AL32","v":15},{"$f":"'18'!AM32","v":"2 Left"},{"$f":"'18'!AN32","v":"3 Left"},{"$f":"'18'!AO32","v":"1 Right"},{"$f":"'18'!AP32","v":"2 Right"}]
[{"$f":"'18'!AL33","v":16},{"$f":"'18'!AM33","v":"3 Left"},{"$f":"'18'!AN33","v":"2 Left"},{"$f":"'18'!AO33","v":"1 Right"},{"$f":"'18'!AP33","v":"4 Right"}]
[{"$f":"'18'!AL34","v":17},{"$f":"'18'!AM34","v":"4 Left"},{"$f":"'18'!AN34","v":"1 Left"},{"$f":"'18'!AO34","v":"4 Right"},{"$f":"'18'!AP34","v":"2 Left"}]
[{"$f":"'18'!AL35","v":18},{"$f":"'18'!AM35","v":"1 Right"},{"$f":"'18'!AN35","v":"2 Right"},{"$f":"'18'!AO35","v":"3 Right"},{"$f":"'18'!AP35","v":"1 Right"}]
[]
[{"$f":"'16'!AL18","v":1},{"$f":"'16'!AM18","v":"2 Left"},{"$f":"'16'!AN18","v":"3 Left"},{"$f":"'16'!AO18","v":"4 Left"},{"$f":"'16'!AP18","v":"5 Left"},null,null,null,null,null,null,16]
[{"$f":"'16'!AL19","v":2},{"$f":"'16'!AM19","v":"2 Right"},{"$f":"'16'!AN19","v":"4 Left"},{"$f":"'16'!AO19","v":"5 Left"},{"$f":"'16'!AP19","v":"4 Left"}]
[{"$f":"'16'!AL20","v":3},{"$f":"'16'!AM20","v":"3 Left"},{"$f":"'16'!AN20","v":"4 Right"},{"$f":"'16'!AO20","v":"2 Left"},{"$f":"'16'!AP20","v":"5 Right"}]
[{"$f":"'16'!AL21","v":4},{"$f":"'16'!AM21","v":"3 Right"},{"$f":"'16'!AN21","v":"5 Left"},{"$f":"'16'!AO21","v":"3 Left"},{"$f":"'16'!AP21","v":"4 Right"}]
[{"$f":"'16'!AL22","v":5},{"$f":"'16'!AM22","v":"4 Left"},{"$f":"'16'!AN22","v":"5 Right"},{"$f":"'16'!AO22","v":"2 Right"},{"$f":"'16'!AP22","v":"3 Left"}]
[{"$f":"'16'!AL23","v":6},{"$f":"'16'!AM23","v":"4 Right"},{"$f":"'16'!AN23","v":"2 Left"},{"$f":"'16'!AO23","v":"3 Right"},{"$f":"'16'!AP23","v":"2 Right"}]
[{"$f":"'16'!AL24","v":7},{"$f":"'16'!AM24","v":"5 Left"},{"$f":"'16'!AN24","v":"3 Right"},{"$f":"'16'!AO24","v":"5 Right"},{"$f":"'16'!AP24","v":"2 Left"}]
[{"$f":"'16'!AL25","v":8},{"$f":"'16'!AM25","v":"5 Right"},{"$f":"'16'!AN25","v":"2 Right"},{"$f":"'16'!AO25","v":"4 Right"},{"$f":"'16'!AP25","v":"3 Right"}]
[{"$f":"'16'!AL26","v":9},{"$f":"'16'!AM26","v":"2 Left"},{"$f":"'16'!AN26","v":"4 Right"},{"$f":"'16'!AO26","v":"5 Right"},{"$f":"'16'!AP26","v":"4 Right"}]
[{"$f":"'16'!AL27","v":10},{"$f":"'16'!AM27","v":"2 Right"},{"$f":"'16'!AN27","v":"5 Left"},{"$f":"'16'!AO27","v":"4 Right"},{"$f":"'16'!AP27","v":"3 Left"}]
[{"$f":"'16'!AL28","v":11},{"$f":"'16'!AM28","v":"3 Left"},{"$f":"'16'!AN28","v":"5 Right"},{"$f":"'16'!AO28","v":"4 Left"},{"$f":"'16'!AP28","v":"2 Right"}]
[{"$f":"'16'!AL29","v":12},{"$f":"'16'!AM29","v":"3 Right"},{"$f":"'16'!AN29","v":"2 Left"},{"$f":"'16'!AO29","v":"5 Left"},{"$f":"'16'!AP29","v":"2 Left"}]
[{"$f":"'16'!AL30","v":13},{"$f":"'16'!AM30","v":"4 Left"},{"$f":"'16'!AN30","v":"3 Right"},{"$f":"'16'!AO30","v":"2 Left"},{"$f":"'16'!AP30","v":"3 Right"}]
[{"$f":"'16'!AL31","v":14},{"$f":"'16'!AM31","v":"4 Right"},{"$f":"'16'!AN31","v":"2 Right"},{"$f":"'16'!AO31","v":"3 Left"},{"$f":"'16'!AP31","v":"5 Left"}]
[{"$f":"'16'!AL32","v":15},{"$f":"'16'!AM32","v":"5 Left"},{"$f":"'16'!AN32","v":"3 Left"},{"$f":"'16'!AO32","v":"2 Right"},{"$f":"'16'!AP32","v":"4 Left"}]
[{"$f":"'16'!AL33","v":16},{"$f":"'16'!AM33","v":"5 Right"},{"$f":"'16'!AN33","v":"4 Left"},{"$f":"'16'!AO33","v":"3 Right"},{"$f":"'16'!AP33","v":"5 Right"}]
[]
[{"$f":"'14'!AL18","v":1},{"$f":"'14'!AM18","v":"1 Left"},{"$f":"'14'!AN18","v":"3 Left"},{"$f":"'14'!AO18","v":"1 Left"},{"$f":"'14'!AP18","v":"3 Right"},null,null,null,null,null,null,14]
[{"$f":"'14'!AL19","v":2},{"$f":"'14'!AM19","v":"1 Right"},{"$f":"'14'!AN19","v":"2 Left"},{"$f":"'14'!AO19","v":"1 Left"},{"$f":"'14'!AP19","v":"2 Left"}]
[{"$f":"'14'!AL20","v":3},{"$f":"'14'!AM20","v":"2 Left"},{"$f":"'14'!AN20","v":"1 Right"},{"$f":"'14'!AO20","v":"3 Right"},{"$f":"'14'!AP20","v":"1 Left"}]
[{"$f":"'14'!AL21","v":4},{"$f":"'14'!AM21","v":"2 Right"},{"$f":"'14'!AN21","v":"1 Left"},{"$f":"'14'!AO21","v":"3 Left"},{"$f":"'14'!AP21","v":"1 Left"}]
[{"$f":"'14'!AL22","v":5},{"$f":"'14'!AM22","v":"3 Left"},{"$f":"'14'!AN22","v":"2 Right"},{"$f":"'14'!AO22","v":"1 Left"},{"$f":"'14'!AP22","v":"2 Right"}]
[{"$f":"'14'!AL23","v":6},{"$f":"'14'!AM23","v":"1 Left"},{"$f":"'14'!AN23","v":"3 Right"},{"$f":"'14'!AO23","v":"2 Left"},{"$f":"'14'!AP23","v":"1 Left"}]
[{"$f":"'14'!AL24","v":7},{"$f":"'14'!AM24","v":"1 Right"},{"$f":"'14'!AN24","v":"3 Left"},{"$f":"'14'!AO24","v":"2 Right"},{"$f":"'14'!AP24","v":"1 Right"}]
[{"$f":"'14'!AL25","v":8},{"$f":"'14'!AM25","v":"2 Left"},{"$f":"'14'!AN25","v":"1 Left"},{"$f":"'14'!AO25","v":"2 Left"},{"$f":"'14'!AP25","v":"3 Left"}]
[{"$f":"'14'!AL26","v":9},{"$f":"'14'!AM26","v":"2 Right"},{"$f":"'14'!AN26","v":"1 Right"},{"$f":"'14'!AO26","v":"2 Right"},{"$f":"'14'!AP26","v":"3 Right"}]
[{"$f":"'14'!AL27","v":10},{"$f":"'14'!AM27","v":"3 Right"},{"$f":"'14'!AN27","v":"2 Left"},{"$f":"'14'!AO27","v":"1 Right"},{"$f":"'14'!AP27","v":"2 Right"}]
[{"$f":"'14'!AL28","v":11},{"$f":"'14'!AM28","v":"1 Left"},{"$f":"'14'!AN28","v":"2 Right"},{"$f":"'14'!AO28","v":"1 Right"},{"$f":"'14'!AP28","v":"2 Left"}]
[{"$f":"'14'!AL29","v":12},{"$f":"'14'!AM29","v":"1 Right"},{"$f":"'14'!AN29","v":"3 Right"},{"$f":"'14'!AO29","v":"1 Right"},{"$f":"'14'!AP29","v":"3 Left"}]
[{"$f":"'14'!AL30","v":13},{"$f":"'14'!AM30","v":"3 Right"},{"$f":"'14'!AN30","v":"1 Left"},{"$f":"'14'!AO30","v":"3 Right"},{"$f":"'14'!AP30","v":"1 Right"}]
[{"$f":"'14'!AL31","v":14},{"$f":"'14'!AM31","v":"3 Left"},{"$f":"'14'!AN31","v":"1 Right"},{"$f":"'14'!AO31","v":"3 Left"},{"$f":"'14'!AP31","v":"1 Right"}]
[]
[1,"2 Left","3 Left","2 Right","4 Left",null,null,null,null,null,null,12]
[2,"2 Left","4 Left","2 Left","3 Left"]
[3,"2 Right","3 Left","2 Left","4 Right"]
[4,"2 Right","4 Left","3 Right","2 Right"]
[5,"3 Left","2 Left","4 Right","2 Right"]
[6,"3 Left","4 Right","3 Left","2 Left"]
[7,"3 Right","2 Left","3 Left","4 Left"]
[8,"3 Right","4 Right","2 Right","3 Right"]
[9,"4 Left","2 Right","3 Right","4 Right"]
[10,"4 Left","3 Right","4 Left","2 Left"]
[11,"4 Right","2 Right","4 Left","3 Left"]
[12,"4 Right","3 Right","4 Right","3 Right"]

{"sheet":"Score Cards","index":20,"n_rows":2100,"n_cols":27,"rows_kept":2100,"cut":false,"hidden":true,"merged":[[18,17,18,19],[18,20,18,22],[18,23,18,25],[18,26,18,28],[24,23,24,25],[24,26,24,28],[17,2,17,4],[17,5,17,7],[17,8,17,10],[17,11,17,13],[17,15,17,16],[17,17,17,19],[17,20,17,22],[17,23,17,25],[24,5,24,7],[24,8,24,10],[24,11,24,13],[24,15,24,16],[24,17,24,19],[24,20,24,22],[17,0,17,1],[18,0,18,1],[19,0,19,1],[20,0,20,1],[21,0,21,1],[19,2,19,4],[19,5,19,7],[19,8,19,10],[19,11,19,13],[22,0,22,1],[23,0,23,1],[24,0,24,1],[24,2,24,4],[22,11,22,13],[22,15,22,16],[22,17,22,19],[19,15,19,16],[19,17,19,19],[19,20,19,22],[22,2,22,4],[22,5,22,7],[22,8,22,10],[6,23,6,25],[6,26,6,28],[7,0,7,1],[7,2,7,4],[7,5,7,7],[7,8,7,10],[7,11,7,13],[7,15,7,16],[7,17,7,19],[7,20,7,22],[6,5,6,7],[6,8,6,10],[6,11,6,13],[6,15,6,16],[6,17,6,19],[6,20,6,22],[15,0,15,13],[15,15,15,28],[4,0,4,13],[4,15,4,28],[6,0,6,1],[6,2,6,4],[23,23,23,25],[23,26,23,28],[16,0,16,7],[16,8,16,13],[16,15,16,22],[16,23,16,28],[22,20,22,22],[22,23,22,25],[22,26,22,28],[23,2,23,4],[23,5,23,7],[23,8,23,10],[23,11,23,13],[23,15,23,16],[23,17,23,19],[23,20,23,22],[20,26,20,28],[21,2,21,4],[21,5,21,7],[21,8,21,10],[21,11,21,13],[21,15,21,16],[21,17,21,19],[21,20,21,22],[21,23,21,25],[21,26,21,28],[19,23,19,25],[19,26,19,28],[20,2,20,4],[20,5,20,7],[20,8,20,10],[20,11,20,13],[20,15,20,16],[20,17,20,19],[20,20,20,22],[20,23,20,25],[17,26,17,28],[18,2,18,4],[18,5,18,7],[18,8,18,10],[18,11,18,13],[18,15,18,16],[12,17,12,19],[12,20,12,22],[10,23,10,25],[10,26,10,28],[11,0,11,1],[11,2,11,4],[11,5,11,7],[11,8,11,10],[11,11,11,13],[11,15,11,16],[11,17,11,19],[11,20,11,22],[9,23,9,25],[9,26,9,28],[10,0,10,1],[10,2,10,4],[10,5,10,7],[10,8,10,10],[10,11,10,13],[10,15,10,16],[10,17,10,19],[10,20,10,22],[8,23,8,25],[8,26,8,28],[9,0,9,1],[9,2,9,4],[9,5,9,7],[9,8,9,10],[9,11,9,13],[9,15,9,16],[9,17,9,19],[9,20,9,22],[7,23,7,25],[7,26,7,28],[8,0,8,1],[8,2,8,4],[8,5,8,7],[8,8,8,10],[8,11,8,13],[8,15,8,16],[8,17,8,19],[8,20,8,22],[32,17,32,19],[32,20,32,22],[32,23,32,25],[32,26,32,28],[33,0,33,1],[33,2,33,4],[33,5,33,7],[33,8,33,10],[33,11,33,13],[33,15,33,16],[31,17,31,19],[31,20,31,22],[31,23,31,25],[31,26,31,28],[32,0,32,1],[32,2,32,4],[32,5,32,7],[32,8,32,10],[32,11,32,13],[32,15,32,16],[31,0,31,1],[31,2,31,4],[31,5,31,7],[31,8,31,10],[31,11,31,13],[31,15,31,16],[29,0,29,13],[29,15,29,28],[30,0,30,7],[30,8,30,13],[30,15,30,22],[30,23,30,28],[0,10,1,13],[25,0,26,6],[25,7,26,9],[25,10,26,13],[25,16,26,28],[0,16,1,28],[5,0,5,7],[5,8,5,13],[5,15,5,22],[5,23,5,28],[0,0,1,6],[0,7,1,9],[13,23,13,25],[13,26,13,28],[12,23,12,25],[12,26,12,28],[13,0,13,1],[13,2,13,4],[13,5,13,7],[13,8,13,10],[13,11,13,13],[13,15,13,16],[13,17,13,19],[13,20,13,22],[11,23,11,25],[11,26,11,28],[12,0,12,1],[12,2,12,4],[12,5,12,7],[12,8,12,10],[12,11,12,13],[12,15,12,16],[36,17,36,19],[36,20,36,22],[36,23,36,25],[36,26,36,28],[37,0,37,1],[37,2,37,4],[37,5,37,7],[37,8,37,10],[37,11,37,13],[37,15,37,16],[35,17,35,19],[35,20,35,22],[35,23,35,25],[35,26,35,28],[36,0,36,1],[36,2,36,4],[36,5,36,7],[36,8,36,10],[36,11,36,13],[36,15,36,16],[34,17,34,19],[34,20,34,22],[34,23,34,25],[34,26,34,28],[35,0,35,1],[35,2,35,4],[35,5,35,7],[35,8,35,10],[35,11,35,13],[35,15,35,16],[33,17,33,19],[33,20,33,22],[33,23,33,25],[33,26,33,28],[34,0,34,1],[34,2,34,4],[34,5,34,7],[34,8,34,10],[34,11,34,13],[34,15,34,16],[42,17,42,19],[42,20,42,22],[42,23,42,25],[42,26,42,28],[43,0,43,1],[43,2,43,4],[43,5,43,7],[43,8,43,10],[43,11,43,13],[43,15,43,16],[41,0,41,7],[41,8,41,13],[41,15,41,22],[41,23,41,28],[42,0,42,1],[42,2,42,4],[42,5,42,7],[42,8,42,10],[42,11,42,13],[42,15,42,16],[38,17,38,19],[38,20,38,22],[38,23,38,25],[38,26,38,28],[40,0,40,13],[40,15,40,28],[37,17,37,19],[37,20,37,22],[37,23,37,25],[37,26,37,28],[38,0,38,1],[38,2,38,4],[38,5,38,7],[38,8,38,10],[38,11,38,13],[38,15,38,16],[46,17,46,19],[46,20,46,22],[46,23,46,25],[46,26,46,28],[47,0,47,1],[47,2,47,4],[47,5,47,7],[47,8,47,10],[47,11,47,13],[47,15,47,16],[45,17,45,19],[45,20,45,22],[45,23,45,25],[45,26,45,28],[46,0,46,1],[46,2,46,4],[46,5,46,7],[46,8,46,10],[46,11,46,13],[46,15,46,16],[44,17,44,19],[44,20,44,22],[44,23,44,25],[44,26,44,28],[45,0,45,1],[45,2,45,4],[45,5,45,7],[45,8,45,10],[45,11,45,13],[45,15,45,16],[43,17,43,19],[43,20,43,22],[43,23,43,25],[43,26,43,28],[44,0,44,1],[44,2,44,4],[44,5,44,7],[44,8,44,10],[44,11,44,13],[44,15,44,16],[54,0,54,13],[54,15,54,28],[55,0,55,7],[55,8,55,13],[55,15,55,22],[55,23,55,28],[49,17,49,19],[49,20,49,22],[49,23,49,25],[49,26,49,28],[50,0,51,6],[50,7,51,9],[50,10,51,13],[50,16,51,28],[48,17,48,19],[48,20,48,22],[48,23,48,25],[48,26,48,28],[49,0,49,1],[49,2,49,4],[49,5,49,7],[49,8,49,10],[49,11,49,13],[49,15,49,16],[47,17,47,19],[47,20,47,22],[47,23,47,25],[47,26,47,28],[48,0,48,1],[48,2,48,4],[48,5,48,7],[48,8,48,10],[48,11,48,13],[48,15,48,16],[59,17,59,19],[59,20,59,22],[59,23,59,25],[59,26,59,28],[60,0,60,1],[60,2,60,4],[60,5,60,7],[60,8,60,10],[60,11,60,13],[60,15,60,16],[58,17,58,19],[58,20,58,22],[58,23,58,25],[58,26,58,28],[59,0,59,1],[59,2,59,4],[59,5,59,7],[59,8,59,10],[59,11,59,13],[59,15,59,16],[57,17,57,19],[57,20,57,22],[57,23,57,25],[57,26,57,28],[58,0,58,1],[58,2,58,4],[58,5,58,7],[58,8,58,10],[58,11,58,13],[58,15,58,16],[56,17,56,19],[56,20,56,22],[56,23,56,25],[56,26,56,28],[57,0,57,1],[57,2,57,4],[57,5,57,7],[57,8,57,10],[57,11,57,13],[57,15,57,16],[56,0,56,1],[56,2,56,4],[56,5,56,7],[56,8,56,10],[56,11,56,13],[56,15,56,16],[63,17,63,19],[63,20,63,22],[63,23,63,25],[63,26,63,28],[65,0,65,13],[65,15,65,28],[62,17,62,19],[62,20,62,22],[62,23,62,25],[62,26,62,28],[63,0,63,1],[63,2,63,4],[63,5,63,7],[63,8,63,10],[63,11,63,13],[63,15,63,16],[61,17,61,19],[61,20,61,22],[61,23,61,25],[61,26,61,28],[62,0,62,1],[62,2,62,4],[62,5,62,7],[62,8,62,10],[62,11,62,13],[62,15,62,16],[60,17,60,19],[60,20,60,22],[60,23,60,25],[60,26,60,28],[61,0,61,1],[61,2,61,4],[61,5,61,7],[61,8,61,10],[61,11,61,13],[61,15,61,16],[69,17,69,19],[69,20,69,22],[69,23,69,25],[69,26,69,28],[70,0,70,1],[70,2,70,4],[70,5,70,7],[70,8,70,10],[70,11,70,13],[70,15,70,16],[68,17,68,19],[68,20,68,22],[68,23,68,25],[68,26,68,28],[69,0,69,1],[69,2,69,4],[69,5,69,7],[69,8,69,10],[69,11,69,13],[69,15,69,16],[67,17,67,19],[67,20,67,22],[67,23,67,25],[67,26,67,28],[68,0,68,1],[68,2,68,4],[68,5,68,7],[68,8,68,10],[68,11,68,13],[68,15,68,16],[66,0,66,7],[66,8,66,13],[66,15,66,22],[66,23,66,28],[67,0,67,1],[67,2,67,4],[67,5,67,7],[67,8,67,10],[67,11,67,13],[67,15,67,16],[73,17,73,19],[73,20,73,22],[73,23,73,25],[73,26,73,28],[74,0,74,1],[74,2,74,4],[74,5,74,7],[74,8,74,10],[74,11,74,13],[74,15,74,16],[72,17,72,19],[72,20,72,22],[72,23,72,25],[72,26,72,28],[73,0,73,1],[73,2,73,4],[73,5,73,7],[73,8,73,10],[73,11,73,13],[73,15,73,16],[71,17,71,19],[71,20,71,22],[71,23,71,25],[71,26,71,28],[72,0,72,1],[72,2,72,4],[72,5,72,7],[72,8,72,10],[72,11,72,13],[72,15,72,16],[70,17,70,19],[70,20,70,22],[70,23,70,25],[70,26,70,28],[71,0,71,1],[71,2,71,4],[71,5,71,7],[71,8,71,10],[71,11,71,13],[71,15,71,16],[82,17,82,19],[82,20,82,22],[82,23,82,25],[82,26,82,28],[83,0,83,1],[83,2,83,4],[83,5,83,7],[83,8,83,10],[83,11,83,13],[83,15,83,16],[81,17,81,19],[81,20,81,22],[81,23,81,25],[81,26,81,28],[82,0,82,1],[82,2,82,4],[82,5,82,7],[82,8,82,10],[82,11,82,13],[82,15,82,16],[81,0,81,1],[81,2,81,4],[81,5,81,7],[81,8,81,10],[81,11,81,13],[81,15,81,16],[79,0,79,13],[79,15,79,28],[80,0,80,7],[80,8,80,13],[80,15,80,22],[80,23,80,28],[74,17,74,19],[74,20,74,22],[74,23,74,25],[74,26,74,28],[75,0,76,6],[75,7,76,9],[75,10,76,13],[75,16,76,28],[86,17,86,19],[86,20,86,22],[86,23,86,25],[86,26,86,28],[87,0,87,1],[87,2,87,4],[87,5,87,7],[87,8,87,10],[87,11,87,13],[87,15,87,16],[85,17,85,19],[85,20,85,22],[85,23,85,25],[85,26,85,28],[86,0,86,1],[86,2,86,4],[86,5,86,7],[86,8,86,10],[86,11,86,13],[86,15,86,16],[84,17,84,19],[84,20,84,22],[84,23,84,25],[84,26,84,28],[85,0,85,1],[85,2,85,4],[85,5,85,7],[85,8,85,10],[85,11,85,13],[85,15,85,16],[83,17,83,19],[83,20,83,22],[83,23,83,25],[83,26,83,28],[84,0,84,1],[84,2,84,4],[84,5,84,7],[84,8,84,10],[84,11,84,13],[84,15,84,16],[92,17,92,19],[92,20,92,22],[92,23,92,25],[92,26,92,28],[93,0,93,1],[93,2,93,4],[93,5,93,7],[93,8,93,10],[93,11,93,13],[93,15,93,16],[91,0,91,7],[91,8,91,13],[91,15,91,22],[91,23,91,28],[92,0,92,1],[92,2,92,4],[92,5,92,7],[92,8,92,10],[92,11,92,13],[92,15,92,16],[88,17,88,19],[88,20,88,22],[88,23,88,25],[88,26,88,28],[90,0,90,13],[90,15,90,28],[87,17,87,19],[87,20,87,22],[87,23,87,25],[87,26,87,28],[88,0,88,1],[88,2,88,4],[88,5,88,7],[88,8,88,10],[88,11,88,13],[88,15,88,16],[96,17,96,19],[96,20,96,22],[96,23,96,25],[96,26,96,28],[97,0,97,1],[97,2,97,4],[97,5,97,7],[97,8,97,10],[97,11,97,13],[97,15,97,16],[95,17,95,19],[95,20,95,22],[95,23,95,25],[95,26,95,28],[96,0,96,1],[96,2,96,4],[96,5,96,7],[96,8,96,10],[96,11,96,13],[96,15,96,16],[94,17,94,19],[94,20,94,22],[94,23,94,25],[94,26,94,28],[95,0,95,1],[95,2,95,4],[95,5,95,7],[95,8,95,10],[95,11,95,13],[95,15,95,16],[93,17,93,19],[93,20,93,22],[93,23,93,25],[93,26,93,28],[94,0,94,1],[94,2,94,4],[94,5,94,7],[94,8,94,10],[94,11,94,13],[94,15,94,16],[104,0,104,13],[104,15,104,28],[105,0,105,7],[105,8,105,13],[105,15,105,22],[105,23,105,28],[99,17,99,19],[99,20,99,22],[99,23,99,25],[99,26,99,28],[100,0,101,6],[100,7,101,9],[100,10,101,13],[100,16,101,28],[98,17,98,19],[98,20,98,22],[98,23,98,25],[98,26,98,28],[99,0,99,1],[99,2,99,4],[99,5,99,7],[99,8,99,10],[99,11,99,13],[99,15,99,16],[97,17,97,19],[97,20,97,22],[97,23,97,25],[97,26,97,28],[98,0,98,1],[98,2,98,4],[98,5,98,7],[98,8,98,10],[98,11,98,13],[98,15,98,16],[109,17,109,19],[109,20,109,22],[109,23,109,25],[109,26,109,28],[110,0,110,1],[110,2,110,4],[110,5,110,7],[110,8,110,10],[110,11,110,13],[110,15,110,16],[108,17,108,19],[108,20,108,22],[108,23,108,25],[108,26,108,28],[109,0,109,1],[109,2,109,4],[109,5,109,7],[109,8,109,10],[109,11,109,13],[109,15,109,16],[107,17,107,19],[107,20,107,22],[107,23,107,25],[107,26,107,28],[108,0,108,1],[108,2,108,4],[108,5,108,7],[108,8,108,10],[108,11,108,13],[108,15,108,16],[106,17,106,19],[106,20,106,22],[106,23,106,25],[106,26,106,28],[107,0,107,1],[107,2,107,4],[107,5,107,7],[107,8,107,10],[107,11,107,13],[107,15,107,16],[106,0,106,1],[106,2,106,4],[106,5,106,7],[106,8,106,10],[106,11,106,13],[106,15,106,16],[113,17,113,19],[113,20,113,22],[113,23,113,25],[113,26,113,28],[115,0,115,13],[115,15,115,28],[112,17,112,19],[112,20,112,22],[112,23,112,25],[112,26,112,28],[113,0,113,1],[113,2,113,4],[113,5,113,7],[113,8,113,10],[113,11,113,13],[113,15,113,16],[111,17,111,19],[111,20,111,22],[111,23,111,25],[111,26,111,28],[112,0,112,1],[112,2,112,4],[112,5,112,7],[112,8,112,10],[112,11,112,13],[112,15,112,16],[110,17,110,19],[110,20,110,22],[110,23,110,25],[110,26,110,28],[111,0,111,1],[111,2,111,4],[111,5,111,7],[111,8,111,10],[111,11,111,13],[111,15,111,16],[119,17,119,19],[119,20,119,22],[119,23,119,25],[119,26,119,28],[120,0,120,1],[120,2,120,4],[120,5,120,7],[120,8,120,10],[120,11,120,13],[120,15,120,16],[118,17,118,19],[118,20,118,22],[118,23,118,25],[118,26,118,28],[119,0,119,1],[119,2,119,4],[119,5,119,7],[119,8,119,10],[119,11,119,13],[119,15,119,16],[117,17,117,19],[117,20,117,22],[117,23,117,25],[117,26,117,28],[118,0,118,1],[118,2,118,4],[118,5,118,7],[118,8,118,10],[118,11,118,13],[118,15,118,16],[116,0,116,7],[116,8,116,13],[116,15,116,22],[116,23,116,28],[117,0,117,1],[117,2,117,4],[117,5,117,7],[117,8,117,10],[117,11,117,13],[117,15,117,16],[123,17,123,19],[123,20,123,22],[123,23,123,25],[123,26,123,28],[124,0,124,1],[124,2,124,4],[124,5,124,7],[124,8,124,10],[124,11,124,13],[124,15,124,16],[122,17,122,19],[122,20,122,22],[122,23,122,25],[122,26,122,28],[123,0,123,1],[123,2,123,4],[123,5,123,7],[123,8,123,10],[123,11,123,13],[123,15,123,16],[121,17,121,19],[121,20,121,22],[121,23,121,25],[121,26,121,28],[122,0,122,1],[122,2,122,4],[122,5,122,7],[122,8,122,10],[122,11,122,13],[122,15,122,16],[120,17,120,19],[120,20,120,22],[120,23,120,25],[120,26,120,28],[121,0,121,1],[121,2,121,4],[121,5,121,7],[121,8,121,10],[121,11,121,13],[121,15,121,16],[132,17,132,19],[132,20,132,22],[132,23,132,25],[132,26,132,28],[133,0,133,1],[133,2,133,4],[133,5,133,7],[133,8,133,10],[133,11,133,13],[133,15,133,16],[131,17,131,19],[131,20,131,22],[131,23,131,25],[131,26,131,28],[132,0,132,1],[132,2,132,4],[132,5,132,7],[132,8,132,10],[132,11,132,13],[132,15,132,16],[131,0,131,1],[131,2,131,4],[131,5,131,7],[131,8,131,10],[131,11,131,13],[131,15,131,16],[129,0,129,13],[129,15,129,28],[130,0,130,7],[130,8,130,13],[130,15,130,22],[130,23,130,28],[124,17,124,19],[124,20,124,22],[124,23,124,25],[124,26,124,28],[125,0,126,6],[125,7,126,9],[125,10,126,13],[125,16,126,28],[136,17,136,19],[136,20,136,22],[136,23,136,25],[136,26,136,28],[137,0,137,1],[137,2,137,4],[137,5,137,7],[137,8,137,10],[137,11,137,13],[137,15,137,16],[135,17,135,19],[135,20,135,22],[135,23,135,25],[135,26,135,28],[136,0,136,1],[136,2,136,4],[136,5,136,7],[136,8,136,10],[136,11,136,13],[136,15,136,16],[134,17,134,19],[134,20,134,22],[134,23,134,25],[134,26,134,28],[135,0,135,1],[135,2,135,4],[135,5,135,7],[135,8,135,10],[135,11,135,13],[135,15,135,16],[133,17,133,19],[133,20,133,22],[133,23,133,25],[133,26,133,28],[134,0,134,1],[134,2,134,4],[134,5,134,7],[134,8,134,10],[134,11,134,13],[134,15,134,16],[142,17,142,19],[142,20,142,22],[142,23,142,25],[142,26,142,28],[143,0,143,1],[143,2,143,4],[143,5,143,7],[143,8,143,10],[143,11,143,13],[143,15,143,16],[141,0,141,7],[141,8,141,13],[141,15,141,22],[141,23,141,28],[142,0,142,1],[142,2,142,4],[142,5,142,7],[142,8,142,10],[142,11,142,13],[142,15,142,16],[138,17,138,19],[138,20,138,22],[138,23,138,25],[138,26,138,28],[140,0,140,13],[140,15,140,28],[137,17,137,19],[137,20,137,22],[137,23,137,25],[137,26,137,28],[138,0,138,1],[138,2,138,4],[138,5,138,7],[138,8,138,10],[138,11,138,13],[138,15,138,16],[146,17,146,19],[146,20,146,22],[146,23,146,25],[146,26,146,28],[147,0,147,1],[147,2,147,4],[147,5,147,7],[147,8,147,10]],"merged_total":14784,"flags":["merged_cut"]}
["Player no.",null,null,null,null,null,null,{"$f":"DRAWS!$F$2","v":1},null,null,"Name",null,null,null,"."]
[]
[]
[]
["Game  1  ",null,null,null,null,null,null,null,null,null,null,null,null,null,null,"Game  2"]
["Go to rink ",null,null,null,null,null,null,null,{"$f":"DRAWS!$G$2","v":"1 Left"},null,null,null,null,null,null,"Go to rink ",null,null,null,null,null,null,null,{"$f":"DRAWS!$H$2","v":"2 Left"}]
["End",null,"For",null,null,"Total",null,null,"Ag'nst",null,null,"Total",null,null,null,"End",null,"For",null,null,"Total",null,null,"Ag'nst",null,null,"Total"]
[1,null,null,null,null,null,null,null,null,null,null,null,null,null,null,1]
[2,null,null,null,null,null,null,null,null,null,null,null,null,null,null,2]
[3,null,null,null,null,null,null,null,null,null,null,null,null,null,null,3]
[4,null,null,null,null,null,null,null,null,null,null,null,null,null,null,4]
[5,null,null,null,null,null,null,null,null,null,null,null,null,null,null,5]
[6,null,null,null,null,null,null,null,null,null,null,null,null,null,null,6]
["Tot",null,null,null,null,null,null,null,null,null,null,null,null,null,null,"Tot"]
[]
["Game  3",null,null,null,null,null,null,null,null,null,null,null,null,null,null,"Game  4"]
["Go to rink ",null,null,null,null,null,null,null,{"$f":"DRAWS!$I$2","v":"4 Right"},null,null,null,null,null,null,"Go to rink ",null,null,null,null,null,null,null,{"$f":"DRAWS!$J$2","v":"3 Left"}]
["End",null,"For",null,null,"Total",null,null,"Ag'nst",null,null,"Total",null,null,null,"End",null,"For",null,null,"Total",null,null,"Ag'nst",null,null,"Total"]
[1,null,null,null,null,null,null,null,null,null,null,null,null,null,null,1]
[2,null,null,null,null,null,null,null,null,null,null,null,null,null,null,2]
[3,null,null,null,null,null,null,null,null,null,null,null,null,null,null,3]
[4,null,null,null,null,null,null,null,null,null,null,null,null,null,null,4]
[5,null,null,null,null,null,null,null,null,null,null,null,null,null,null,5]
[6,null,null,null,null,null,null,null,null,null,null,null,null,null,null,6]
["Tot",null,null,null,null,null,null,null,null,null,null,null,null,null,null,"Tot"]
["Player no.",null,null,null,null,null,null,{"$f":"DRAWS!$F$3","v":2},null,null,"Name"]
[]
[]
[]
["Game  1  ",null,null,null,null,null,null,null,null,null,null,null,null,null,null,"Game  2"]
["Go to rink ",null,null,null,null,null,null,null,{"$f":"DRAWS!$G$3","v":"1 Right"},null,null,null,null,null,null,"Go to rink ",null,null,null,null,null,null,null,{"$f":"DRAWS!$H$3","v":"3 Left"}]
["End",null,"For",null,null,"Total",null,null,"Ag'nst",null,null,"Total",null,null,null,"End",null,"For",null,null,"Total",null,null,"Ag'nst",null,null,"Total"]
[1,null,null,null,null,null,null,null,null,null,null,null,null,null,null,1]
[2,null,null,null,null,null,null,null,null,null,null,null,null,null,null,2]
[3,null,null,null,null,null,null,null,null,null,null,null,null,null,null,3]
[4,null,null,null,null,null,null,null,null,null,null,null,null,null,null,4]
[5,null,null,null,null,null,null,null,null,null,null,null,null,null,null,5]
[6,null,null,null,null,null,null,null,null,null,null,null,null,null,null,6]
["Tot",null,null,null,null,null,null,null,null,null,null,null,null,null,null,"Tot"]
[]
["Game  3",null,null,null,null,null,null,null,null,null,null,null,null,null,null,"Game  4"]
["Go to rink ",null,null,null,null,null,null,null,{"$f":"DRAWS!$I$3","v":"6 Right"},null,null,null,null,null,null,"Go to rink ",null,null,null,null,null,null,null,{"$f":"DRAWS!$J$3","v":"2 Left"}]
["End",null,"For",null,null,"Total",null,null,"Ag'nst",null,null,"Total",null,null,null,"End",null,"For",null,null,"Total",null,null,"Ag'nst",null,null,"Total"]
[1,null,null,null,null,null,null,null,null,null,null,null,null,null,null,1]
[2,null,null,null,null,null,null,null,null,null,null,null,null,null,null,2]
[3,null,null,null,null,null,null,null,null,null,null,null,null,null,null,3]
[4,null,null,null,null,null,null,null,null,null,null,null,null,null,null,4]
[5,null,null,null,null,null,null,null,null,null,null,null,null,null,null,5]
[6,null,null,null,null,null,null,null,null,null,null,null,null,null,null,6]
["Tot",null,null,null,null,null,null,null,null,null,null,null,null,null,null,"Tot"]
["Player no.",null,null,null,null,null,null,{"$f":"DRAWS!$F$4","v":3},null,null,"Name"]
[]
[]
[]
["Game  1  ",null,null,null,null,null,null,null,null,null,null,null,null,null,null,"Game  2"]
["Go to rink ",null,null,null,null,null,null,null,{"$f":"DRAWS!$G$4","v":"2 Left"},null,null,null,null,null,null,"Go to rink ",null,null,null,null,null,null,null,{"$f":"DRAWS!$H$4","v":"4 Left"}]
["End",null,"For",null,null,"Total",null,null,"Ag'nst",null,null,"Total",null,null,null,"End",null,"For",null,null,"Total",null,null,"Ag'nst",null,null,"Total"]
[1,null,null,null,null,null,null,null,null,null,null,null,null,null,null,1]
[2,null,null,null,null,null,null,null,null,null,null,null,null,null,null,2]
[3,null,null,null,null,null,null,null,null,null,null,null,null,null,null,3]
[4,null,null,null,null,null,null,null,null,null,null,null,null,null,null,4]
[5,null,null,null,null,null,null,null,null,null,null,null,null,null,null,5]
[6,null,null,null,null,null,null,null,null,null,null,null,null,null,null,6]
["Tot",null,null,null,null,null,null,null,null,null,null,null,null,null,null,"Tot"]
[]
["Game  3",null,null,null,null,null,null,null,null,null,null,null,null,null,null,"Game  4"]
["Go to rink ",null,null,null,null,null,null,null,{"$f":"DRAWS!$I$4","v":"7 Right"},null,null,null,null,null,null,"Go to rink ",null,null,null,null,null,null,null,{"$f":"DRAWS!$J$4","v":"1 Left"}]
["End",null,"For",null,null,"Total",null,null,"Ag'nst",null,null,"Total",null,null,null,"End",null,"For",null,null,"Total",null,null,"Ag'nst",null,null,"Total"]
[1,null,null,null,null,null,null,null,null,null,null,null,null,null,null,1]
[2,null,null,null,null,null,null,null,null,null,null,null,null,null,null,2]
[3,null,null,null,null,null,null,null,null,null,null,null,null,null,null,3]
[4,null,null,null,null,null,null,null,null,null,null,null,null,null,null,4]
[5,null,null,null,null,null,null,null,null,null,null,null,null,null,null,5]
[6,null,null,null,null,null,null,null,null,null,null,null,null,null,null,6]
["Tot",null,null,null,null,null,null,null,null,null,null,null,null,null,null,"Tot"]
["Player no.",null,null,null,null,null,null,{"$f":"DRAWS!$F$5","v":4},null,null,"Name"]
[]
[]
[]
["Game  1  ",null,null,null,null,null,null,null,null,null,null,null,null,null,null,"Game  2"]
["Go to rink ",null,null,null,null,null,null,null,{"$f":"DRAWS!$G$5","v":"2 Right"},null,null,null,null,null,null,"Go to rink ",null,null,null,null,null,null,null,{"$f":"DRAWS!$H$5","v":"1 Right"}]
["End",null,"For",null,null,"Total",null,null,"Ag'nst",null,null,"Total",null,null,null,"End",null,"For",null,null,"Total",null,null,"Ag'nst",null,null,"Total"]
[1,null,null,null,null,null,null,null,null,null,null,null,null,null,null,1]
[2,null,null,null,null,null,null,null,null,null,null,null,null,null,null,2]
[3,null,null,null,null,null,null,null,null,null,null,null,null,null,null,3]
[4,null,null,null,null,null,null,null,null,null,null,null,null,null,null,4]
[5,null,null,null,null,null,null,null,null,null,null,null,null,null,null,5]
[6,null,null,null,null,null,null,null,null,null,null,null,null,null,null,6]
["Tot",null,null,null,null,null,null,null,null,null,null,null,null,null,null,"Tot"]
[]
["Game  3",null,null,null,null,null,null,null,null,null,null,null,null,null,null,"Game  4"]
["Go to rink ",null,null,null,null,null,null,null,{"$f":"DRAWS!$I$5","v":"5 Left"},null,null,null,null,null,null,"Go to rink ",null,null,null,null,null,null,null,{"$f":"DRAWS!$J$5","v":"6 Left"}]
["End",null,"For",null,null,"Total",null,null,"Ag'nst",null,null,"Total",null,null,null,"End",null,"For",null,null,"Total",null,null,"Ag'nst",null,null,"Total"]
[1,null,null,null,null,null,null,null,null,null,null,null,null,null,null,1]
[2,null,null,null,null,null,null,null,null,null,null,null,null,null,null,2]
[3,null,null,null,null,null,null,null,null,null,null,null,null,null,null,3]
[4,null,null,null,null,null,null,null,null,null,null,null,null,null,null,4]
[5,null,null,null,null,null,null,null,null,null,null,null,null,null,null,5]
[6,null,null,null,null,null,null,null,null,null,null,null,null,null,null,6]
["Tot",null,null,null,null,null,null,null,null,null,null,null,null,null,null,"Tot"]
["Player no.",null,null,null,null,null,null,{"$f":"DRAWS!$F$6","v":5},null,null,"Name"]
[]
[]
[]
["Game  1  ",null,null,null,null,null,null,null,null,null,null,null,null,null,null,"Game  2"]
["Go to rink ",null,null,null,null,null,null,null,{"$f":"DRAWS!$G$6","v":"3 Left"},null,null,null,null,null,null,"Go to rink ",null,null,null,null,null,null,null,{"$f":"DRAWS!$H$6","v":"6 Left"}]
["End",null,"For",null,null,"Total",null,null,"Ag'nst",null,null,"Total",null,null,null,"End",null,"For",null,null,"Total",null,null,"Ag'nst",null,null,"Total"]
[1,null,null,null,null,null,null,null,null,null,null,null,null,null,null,1]
[2,null,null,null,null,null,null,null,null,null,null,null,null,null,null,2]
[3,null,null,null,null,null,null,null,null,null,null,null,null,null,null,3]
[4,null,null,null,null,null,null,null,null,null,null,null,null,null,null,4]
[5,null,null,null,null,null,null,null,null,null,null,null,null,null,null,5]
[6,null,null,null,null,null,null,null,null,null,null,null,null,null,null,6]
["Tot",null,null,null,null,null,null,null,null,null,null,null,null,null,null,"Tot"]
[]
["Game  3",null,null,null,null,null,null,null,null,null,null,null,null,null,null,"Game  4"]
["Go to rink ",null,null,null,null,null,null,null,{"$f":"DRAWS!$I$6","v":"1 Left"},null,null,null,null,null,null,"Go to rink ",null,null,null,null,null,null,null,{"$f":"DRAWS!$J$6","v":"7 Left"}]
["End",null,"For",null,null,"Total",null,null,"Ag'nst",null,null,"Total",null,null,null,"End",null,"For",null,null,"Total",null,null,"Ag'nst",null,null,"Total"]
[1,null,null,null,null,null,null,null,null,null,null,null,null,null,null,1]
[2,null,null,null,null,null,null,null,null,null,null,null,null,null,null,2]
[3,null,null,null,null,null,null,null,null,null,null,null,null,null,null,3]
[4,null,null,null,null,null,null,null,null,null,null,null,null,null,null,4]
[5,null,null,null,null,null,null,null,null,null,null,null,null,null,null,5]
[6,null,null,null,null,null,null,null,null,null,null,null,null,null,null,6]
["Tot",null,null,null,null,null,null,null,null,null,null,null,null,null,null,"Tot"]
["Player no.",null,null,null,null,null,null,{"$f":"DRAWS!$F$7","v":6},null,null,"Name"]
[]
[]
[]
["Game  1  ",null,null,null,null,null,null,null,null,null,null,null,null,null,null,"Game  2"]
["Go to rink ",null,null,null,null,null,null,null,{"$f":"DRAWS!$G$7","v":"3 Right"},null,null,null,null,null,null,"Go to rink ",null,null,null,null,null,null,null,{"$f":"DRAWS!$H$7","v":"7 Left"}]
["End",null,"For",null,null,"Total",null,null,"Ag'nst",null,null,"Total",null,null,null,"End",null,"For",null,null,"Total",null,null,"Ag'nst",null,null,"Total"]
[1,null,null,null,null,null,null,null,null,null,null,null,null,null,null,1]
[2,null,null,null,null,null,null,null,null,null,null,null,null,null,null,2]
[3,null,null,null,null,null,null,null,null,null,null,null,null,null,null,3]
[4,null,null,null,null,null,null,null,null,null,null,null,null,null,null,4]
[5,null,null,null,null,null,null,null,null,null,null,null,null,null,null,5]
[6,null,null,null,null,null,null,null,null,null,null,null,null,null,null,6]
["Tot",null,null,null,null,null,null,null,null,null,null,null,null,null,null,"Tot"]
[]
["Game  3",null,null,null,null,null,null,null,null,null,null,null,null,null,null,"Game  4"]
["Go to rink ",null,null,null,null,null,null,null,{"$f":"DRAWS!$I$7","v":"5 Right"},null,null,null,null,null,null,"Go to rink ",null,null,null,null,null,null,null,{"$f":"DRAWS!$J$7","v":"4 Left"}]
["End",null,"For",null,null,"Total",null,null,"Ag'nst",null,null,"Total",null,null,null,"End",null,"For",null,null,"Total",null,null,"Ag'nst",null,null,"Total"]
[1,null,null,null,null,null,null,null,null,null,null,null,null,null,null,1]
[2,null,null,null,null,null,null,null,null,null,null,null,null,null,null,2]
[3,null,null,null,null,null,null,null,null,null,null,null,null,null,null,3]
[4,null,null,null,null,null,null,null,null,null,null,null,null,null,null,4]
[5,null,null,null,null,null,null,null,null,null,null,null,null,null,null,5]
[6,null,null,null,null,null,null,null,null,null,null,null,null,null,null,6]
["Tot",null,null,null,null,null,null,null,null,null,null,null,null,null,null,"Tot"]
["Player no.",null,null,null,null,null,null,{"$f":"DRAWS!$F$8","v":7},null,null,"Name"]
[]
[]
[]
["Game  1  ",null,null,null,null,null,null,null,null,null,null,null,null,null,null,"Game  2"]
["Go to rink ",null,null,null,null,null,null,null,{"$f":"DRAWS!$G$8","v":"4 Left"},null,null,null,null,null,null,"Go to rink ",null,null,null,null,null,null,null,{"$f":"DRAWS!$H$8","v":"1 Left"}]
["End",null,"For",null,null,"Total",null,null,"Ag'nst",null,null,"Total",null,null,null,"End",null,"For",null,null,"Total",null,null,"Ag'nst",null,null,"Total"]
[1,null,null,null,null,null,null,null,null,null,null,null,null,null,null,1]
[2,null,null,null,null,null,null,null,null,null,null,null,null,null,null,2]
[3,null,null,null,null,null,null,null,null,null,null,null,null,null,null,3]
[4,null,null,null,null,null,null,null,null,null,null,null,null,null,null,4]
[5,null,null,null,null,null,null,null,null,null,null,null,null,null,null,5]
[6,null,null,null,null,null,null,null,null,null,null,null,null,null,null,6]
["Tot",null,null,null,null,null,null,null,null,null,null,null,null,null,null,"Tot"]
[]
["Game  3",null,null,null,null,null,null,null,null,null,null,null,null,null,null,"Game  4"]
["Go to rink ",null,null,null,null,null,null,null,{"$f":"DRAWS!$I$8","v":"6 Left"},null,null,null,null,null,null,"Go to rink ",null,null,null,null,null,null,null,{"$f":"DRAWS!$J$8","v":"3 Right"}]
["End",null,"For",null,null,"Total",null,null,"Ag'nst",null,null,"Total",null,null,null,"End",null,"For",null,null,"Total",null,null,"Ag'nst",null,null,"Total"]
[1,null,null,null,null,null,null,null,null,null,null,null,null,null,null,1]
[2,null,null,null,null,null,null,null,null,null,null,null,null,null,null,2]
[3,null,null,null,null,null,null,null,null,null,null,null,null,null,null,3]
[4,null,null,null,null,null,null,null,null,null,null,null,null,null,null,4]
[5,null,null,null,null,null,null,null,null,null,null,null,null,null,null,5]
[6,null,null,null,null,null,null,null,null,null,null,null,null,null,null,6]
["Tot",null,null,null,null,null,null,null,null,null,null,null,null,null,null,"Tot"]
["Player no.",null,null,null,null,null,null,{"$f":"DRAWS!$F$9","v":8},null,null,"Name"]
[]
[]
[]
["Game  1  ",null,null,null,null,null,null,null,null,null,null,null,null,null,null,"Game  2"]
["Go to rink ",null,null,null,null,null,null,null,{"$f":"DRAWS!$G$9","v":"4 Right"},null,null,null,null,null,null,"Go to rink ",null,null,null,null,null,null,null,{"$f":"DRAWS!$H$9","v":"7 Right"}]
["End",null,"For",null,null,"Total",null,null,"Ag'nst",null,null,"Total",null,null,null,"End",null,"For",null,null,"Total",null,null,"Ag'nst",null,null,"Total"]
[1,null,null,null,null,null,null,null,null,null,null,null,null,null,null,1]
[2,null,null,null,null,null,null,null,null,null,null,null,null,null,null,2]
[3,null,null,null,null,null,null,null,null,null,null,null,null,null,null,3]
[4,null,null,null,null,null,null,null,null,null,null,null,null,null,null,4]
[5,null,null,null,null,null,null,null,null,null,null,null,null,null,null,5]
[6,null,null,null,null,null,null,null,null,null,null,null,null,null,null,6]
["Tot",null,null,null,null,null,null,null,null,null,null,null,null,null,null,"Tot"]
[]
["Game  3",null,null,null,null,null,null,null,null,null,null,null,null,null,null,"Game  4"]
["Go to rink ",null,null,null,null,null,null,null,{"$f":"DRAWS!$I$9","v":"2 Left"},null,null,null,null,null,null,"Go to rink ",null,null,null,null,null,null,null,{"$f":"DRAWS!$J$9","v":"1 Right"}]
["End",null,"For",null,null,"Total",null,null,"Ag'nst",null,null,"Total",null,null,null,"End",null,"For",null,null,"Total",null,null,"Ag'nst",null,null,"Total"]
[1,null,null,null,null,null,null,null,null,null,null,null,null,null,null,1]
[2,null,null,null,null,null,null,null,null,null,null,null,null,null,null,2]
[3,null,null,null,null,null,null,null,null,null,null,null,null,null,null,3]
[4,null,null,null,null,null,null,null,null,null,null,null,null,null,null,4]
[5,null,null,null,null,null,null,null,null,null,null,null,null,null,null,5]
[6,null,null,null,null,null,null,null,null,null,null,null,null,null,null,6]
["Tot",null,null,null,null,null,null,null,null,null,null,null,null,null,null,"Tot"]
["Player no.",null,null,null,null,null,null,{"$f":"DRAWS!$F$10","v":9},null,null,"Name"]
[]
[]
[]
["Game  1  ",null,null,null,null,null,null,null,null,null,null,null,null,null,null,"Game  2"]
["Go to rink ",null,null,null,null,null,null,null,{"$f":"DRAWS!$G$10","v":"5 Left"},null,null,null,null,null,null,"Go to rink ",null,null,null,null,null,null,null,{"$f":"DRAWS!$H$10","v":"6 Right"}]
["End",null,"For",null,null,"Total",null,null,"Ag'nst",null,null,"Total",null,null,null,"End",null,"For",null,null,"Total",null,null,"Ag'nst",null,null,"Total"]
[1,null,null,null,null,null,null,null,null,null,null,null,null,null,null,1]
[2,null,null,null,null,null,null,null,null,null,null,null,null,null,null,2]
[3,null,null,null,null,null,null,null,null,null,null,null,null,null,null,3]
[4,null,null,null,null,null,null,null,null,null,null,null,null,null,null,4]
[5,null,null,null,null,null,null,null,null,null,null,null,null,null,null,5]
[6,null,null,null,null,null,null,null,null,null,null,null,null,null,null,6]
["Tot",null,null,null,null,null,null,null,null,null,null,null,null,null,null,"Tot"]
[]
["Game  3",null,null,null,null,null,null,null,null,null,null,null,null,null,null,"Game  4"]
["Go to rink ",null,null,null,null,null,null,null,{"$f":"DRAWS!$I$10","v":"3 Left"},null,null,null,null,null,null,"Go to rink ",null,null,null,null,null,null,null,{"$f":"DRAWS!$J$10","v":"4 Right"}]
["End",null,"For",null,null,"Total",null,null,"Ag'nst",null,null,"Total",null,null,null,"End",null,"For",null,null,"Total",null,null,"Ag'nst",null,null,"Total"]
[1,null,null,null,null,null,null,null,null,null,null,null,null,null,null,1]
[2,null,null,null,null,null,null,null,null,null,null,null,null,null,null,2]
[3,null,null,null,null,null,null,null,null,null,null,null,null,null,null,3]
[4,null,null,null,null,null,null,null,null,null,null,null,null,null,null,4]
[5,null,null,null,null,null,null,null,null,null,null,null,null,null,null,5]
[6,null,null,null,null,null,null,null,null,null,null,null,null,null,null,6]
["Tot",null,null,null,null,null,null,null,null,null,null,null,null,null,null,"Tot"]
["Player no.",null,null,null,null,null,null,{"$f":"DRAWS!$F$11","v":10},null,null,"Name"]
[]
[]
[]
["Game  1  ",null,null,null,null,null,null,null,null,null,null,null,null,null,null,"Game  2"]
["Go to rink ",null,null,null,null,null,null,null,{"$f":"DRAWS!$G$11","v":"5 Right"},null,null,null,null,null,null,"Go to rink ",null,null,null,null,null,null,null,{"$f":"DRAWS!$H$11","v":"4 Right"}]
["End",null,"For",null,null,"Total",null,null,"Ag'nst",null,null,"Total",null,null,null,"End",null,"For",null,null,"Total",null,null,"Ag'nst",null,null,"Total"]
[1,null,null,null,null,null,null,null,null,null,null,null,null,null,null,1]
[2,null,null,null,null,null,null,null,null,null,null,null,null,null,null,2]
[3,null,null,null,null,null,null,null,null,null,null,null,null,null,null,3]
[4,null,null,null,null,null,null,null,null,null,null,null,null,null,null,4]
[5,null,null,null,null,null,null,null,null,null,null,null,null,null,null,5]
[6,null,null,null,null,null,null,null,null,null,null,null,null,null,null,6]
["Tot",null,null,null,null,null,null,null,null,null,null,null,null,null,null,"Tot"]
[]
["Game  3",null,null,null,null,null,null,null,null,null,null,null,null,null,null,"Game  4"]
["Go to rink ",null,null,null,null,null,null,null,{"$f":"DRAWS!$I$11","v":"2 Right"},null,null,null,null,null,null,"Go to rink ",null,null,null,null,null,null,null,{"$f":"DRAWS!$J$11","v":"6 Right"}]
["End",null,"For",null,null,"Total",null,null,"Ag'nst",null,null,"Total",null,null,null,"End",null,"For",null,null,"Total",null,null,"Ag'nst",null,null,"Total"]
[1,null,null,null,null,null,null,null,null,null,null,null,null,null,null,1]
[2,null,null,null,null,null,null,null,null,null,null,null,null,null,null,2]
[3,null,null,null,null,null,null,null,null,null,null,null,null,null,null,3]
[4,null,null,null,null,null,null,null,null,null,null,null,null,null,null,4]
[5,null,null,null,null,null,null,null,null,null,null,null,null,null,null,5]
[6,null,null,null,null,null,null,null,null,null,null,null,null,null,null,6]
["Tot",null,null,null,null,null,null,null,null,null,null,null,null,null,null,"Tot"]
["Player no.",null,null,null,null,null,null,{"$f":"DRAWS!$F$12","v":11},null,null,"Name"]
[]
[]
[]
["Game  1  ",null,null,null,null,null,null,null,null,null,null,null,null,null,null,"Game  2"]
["Go to rink ",null,null,null,null,null,null,null,{"$f":"DRAWS!$G$12","v":"6 Left"},null,null,null,null,null,null,"Go to rink ",null,null,null,null,null,null,null,{"$f":"DRAWS!$H$12","v":"3 Right"}]
["End",null,"For",null,null,"Total",null,null,"Ag'nst",null,null,"Total",null,null,null,"End",null,"For",null,null,"Total",null,null,"Ag'nst",null,null,"Total"]
[1,null,null,null,null,null,null,null,null,null,null,null,null,null,null,1]
[2,null,null,null,null,null,null,null,null,null,null,null,null,null,null,2]
[3,null,null,null,null,null,null,null,null,null,null,null,null,null,null,3]
[4,null,null,null,null,null,null,null,null,null,null,null,null,null,null,4]
[5,null,null,null,null,null,null,null,null,null,null,null,null,null,null,5]
[6,null,null,null,null,null,null,null,null,null,null,null,null,null,null,6]
["Tot",null,null,null,null,null,null,null,null,null,null,null,null,null,null,"Tot"]
[]
["Game  3",null,null,null,null,null,null,null,null,null,null,null,null,null,null,"Game  4"]
["Go to rink ",null,null,null,null,null,null,null,{"$f":"DRAWS!$I$12","v":"1 Right"},null,null,null,null,null,null,"Go to rink ",null,null,null,null,null,null,null,{"$f":"DRAWS!$J$12","v":"5 Left"}]
["End",null,"For",null,null,"Total",null,null,"Ag'nst",null,null,"Total",null,null,null,"End",null,"For",null,null,"Total",null,null,"Ag'nst",null,null,"Total"]
[1,null,null,null,null,null,null,null,null,null,null,null,null,null,null,1]
[2,null,null,null,null,null,null,null,null,null,null,null,null,null,null,2]
[3,null,null,null,null,null,null,null,null,null,null,null,null,null,null,3]
[4,null,null,null,null,null,null,null,null,null,null,null,null,null,null,4]
[5,null,null,null,null,null,null,null,null,null,null,null,null,null,null,5]
[6,null,null,null,null,null,null,null,null,null,null,null,null,null,null,6]
["Tot",null,null,null,null,null,null,null,null,null,null,null,null,null,null,"Tot"]
["Player no.",null,null,null,null,null,null,{"$f":"DRAWS!$F$13","v":12},null,null,"Name"]
[]
[]
[]
["Game  1  ",null,null,null,null,null,null,null,null,null,null,null,null,null,null,"Game  2"]
["Go to rink ",null,null,null,null,null,null,null,{"$f":"DRAWS!$G$13","v":"6 Right"},null,null,null,null,null,null,"Go to rink ",null,null,null,null,null,null,null,{"$f":"DRAWS!$H$13","v":"5 Right"}]
["End",null,"For",null,null,"Total",null,null,"Ag'nst",null,null,"Total",null,null,null,"End",null,"For",null,null,"Total",null,null,"Ag'nst",null,null,"Total"]
[1,null,null,null,null,null,null,null,null,null,null,null,null,null,null,1]
[2,null,null,null,null,null,null,null,null,null,null,null,null,null,null,2]
[3,null,null,null,null,null,null,null,null,null,null,null,null,null,null,3]
[4,null,null,null,null,null,null,null,null,null,null,null,null,null,null,4]
[5,null,null,null,null,null,null,null,null,null,null,null,null,null,null,5]
[6,null,null,null,null,null,null,null,null,null,null,null,null,null,null,6]
["Tot",null,null,null,null,null,null,null,null,null,null,null,null,null,null,"Tot"]
[]
["Game  3",null,null,null,null,null,null,null,null,null,null,null,null,null,null,"Game  4"]
["Go to rink ",null,null,null,null,null,null,null,{"$f":"DRAWS!$I$13","v":"7 Left"},null,null,null,null,null,null,"Go to rink ",null,null,null,null,null,null,null,{"$f":"DRAWS!$J$13","v":"2 Right"}]
["End",null,"For",null,null,"Total",null,null,"Ag'nst",null,null,"Total",null,null,null,"End",null,"For",null,null,"Total",null,null,"Ag'nst",null,null,"Total"]
[1,null,null,null,null,null,null,null,null,null,null,null,null,null,null,1]
[2,null,null,null,null,null,null,null,null,null,null,null,null,null,null,2]
[3,null,null,null,null,null,null,null,null,null,null,null,null,null,null,3]
[4,null,null,null,null,null,null,null,null,null,null,null,null,null,null,4]
[5,null,null,null,null,null,null,null,null,null,null,null,null,null,null,5]
[6,null,null,null,null,null,null,null,null,null,null,null,null,null,null,6]
["Tot",null,null,null,null,null,null,null,null,null,null,null,null,null,null,"Tot"]
["Player no.",null,null,null,null,null,null,{"$f":"DRAWS!$F$14","v":13},null,null,"Name"]
[]
[]
[]
["Game  1  ",null,null,null,null,null,null,null,null,null,null,null,null,null,null,"Game  2"]
["Go to rink ",null,null,null,null,null,null,null,{"$f":"DRAWS!$G$14","v":"7 Left"},null,null,null,null,null,null,"Go to rink ",null,null,null,null,null,null,null,{"$f":"DRAWS!$H$14","v":"2 Right"}]
["End",null,"For",null,null,"Total",null,null,"Ag'nst",null,null,"Total",null,null,null,"End",null,"For",null,null,"Total",null,null,"Ag'nst",null,null,"Total"]
[1,null,null,null,null,null,null,null,null,null,null,null,null,null,null,1]
[2,null,null,null,null,null,null,null,null,null,null,null,null,null,null,2]
[3,null,null,null,null,null,null,null,null,null,null,null,null,null,null,3]
[4,null,null,null,null,null,null,null,null,null,null,null,null,null,null,4]
[5,null,null,null,null,null,null,null,null,null,null,null,null,null,null,5]
[6,null,null,null,null,null,null,null,null,null,null,null,null,null,null,6]
["Tot",null,null,null,null,null,null,null,null,null,null,null,null,null,null,"Tot"]
[]
["Game  3",null,null,null,null,null,null,null,null,null,null,null,null,null,null,"Game  4"]
["Go to rink ",null,null,null,null,null,null,null,{"$f":"DRAWS!$I$14","v":"3 Right"},null,null,null,null,null,null,"Go to rink ",null,null,null,null,null,null,null,{"$f":"DRAWS!$J$14","v":"5 Right"}]
["End",null,"For",null,null,"Total",null,null,"Ag'nst",null,null,"Total",null,null,null,"End",null,"For",null,null,"Total",null,null,"Ag'nst",null,null,"Total"]
[1,null,null,null,null,null,null,null,null,null,null,null,null,null,null,1]
[2,null,null,null,null,null,null,null,null,null,null,null,null,null,null,2]
[3,null,null,null,null,null,null,null,null,null,null,null,null,null,null,3]
[4,null,null,null,null,null,null,null,null,null,null,null,null,null,null,4]
[5,null,null,null,null,null,null,null,null,null,null,null,null,null,null,5]
[6,null,null,null,null,null,null,null,null,null,null,null,null,null,null,6]
["Tot",null,null,null,null,null,null,null,null,null,null,null,null,null,null,"Tot"]
["Player no.",null,null,null,null,null,null,{"$f":"DRAWS!$F$15","v":14},null,null,"Name"]
[]
[]
[]
["Game  1  ",null,null,null,null,null,null,null,null,null,null,null,null,null,null,"Game  2"]
["Go to rink ",null,null,null,null,null,null,null,{"$f":"DRAWS!$G$15","v":"7 Right"},null,null,null,null,null,null,"Go to rink ",null,null,null,null,null,null,null,{"$f":"DRAWS!$H$15","v":"1 Right"}]
["End",null,"For",null,null,"Total",null,null,"Ag'nst",null,null,"Total",null,null,null,"End",null,"For",null,null,"Total",null,null,"Ag'nst",null,null,"Total"]
[1,null,null,null,null,null,null,null,null,null,null,null,null,null,null,1]
[2,null,null,null,null,null,null,null,null,null,null,null,null,null,null,2]
[3,null,null,null,null,null,null,null,null,null,null,null,null,null,null,3]
[4,null,null,null,null,null,null,null,null,null,null,null,null,null,null,4]
[5,null,null,null,null,null,null,null,null,null,null,null,null,null,null,5]
[6,null,null,null,null,null,null,null,null,null,null,null,null,null,null,6]
["Tot",null,null,null,null,null,null,null,null,null,null,null,null,null,null,"Tot"]
[]
["Game  3",null,null,null,null,null,null,null,null,null,null,null,null,null,null,"Game  4"]
["Go to rink ",null,null,null,null,null,null,null,{"$f":"DRAWS!$I$15","v":"4 Left"},null,null,null,null,null,null,"Go to rink ",null,null,null,null,null,null,null,{"$f":"DRAWS!$J$15","v":"7 Right"}]
["End",null,"For",null,null,"Total",null,null,"Ag'nst",null,null,"Total",null,null,null,"End",null,"For",null,null,"Total",null,null,"Ag'nst",null,null,"Total"]
[1,null,null,null,null,null,null,null,null,null,null,null,null,null,null,1]
[2,null,null,null,null,null,null,null,null,null,null,null,null,null,null,2]
[3,null,null,null,null,null,null,null,null,null,null,null,null,null,null,3]
[4,null,null,null,null,null,null,null,null,null,null,null,null,null,null,4]
[5,null,null,null,null,null,null,null,null,null,null,null,null,null,null,5]
[6,null,null,null,null,null,null,null,null,null,null,null,null,null,null,6]
["Tot",null,null,null,null,null,null,null,null,null,null,null,null,null,null,"Tot"]
["Player no.",null,null,null,null,null,null,{"$f":"DRAWS!$F$16","v":15},null,null,"Name"]
[]
[]
[]
["Game  1  ",null,null,null,null,null,null,null,null,null,null,null,null,null,null,"Game  2"]
["Go to rink ",null,null,null,null,null,null,null,{"$f":"DRAWS!$G$16","v":"1 Left"},null,null,null,null,null,null,"Go to rink ",null,null,null,null,null,null,null,{"$f":"DRAWS!$H$16","v":"3 Left"}]
["End",null,"For",null,null,"Total",null,null,"Ag'nst",null,null,"Total",null,null,null,"End",null,"For",null,null,"Total",null,null,"Ag'nst",null,null,"Total"]
[1,null,null,null,null,null,null,null,null,null,null,null,null,null,null,1]
[2,null,null,null,null,null,null,null,null,null,null,null,null,null,null,2]
[3,null,null,null,null,null,null,null,null,null,null,null,null,null,null,3]
[4,null,null,null,null,null,null,null,null,null,null,null,null,null,null,4]
[5,null,null,null,null,null,null,null,null,null,null,null,null,null,null,5]
[6,null,null,null,null,null,null,null,null,null,null,null,null,null,null,6]
["Tot",null,null,null,null,null,null,null,null,null,null,null,null,null,null,"Tot"]
[]
["Game  3",null,null,null,null,null,null,null,null,null,null,null,null,null,null,"Game  4"]
["Go to rink ",null,null,null,null,null,null,null,{"$f":"DRAWS!$I$16","v":"7 Right"},null,null,null,null,null,null,"Go to rink ",null,null,null,null,null,null,null,{"$f":"DRAWS!$J$16","v":"6 Left"}]
["End",null,"For",null,null,"Total",null,null,"Ag'nst",null,null,"Total",null,null,null,"End",null,"For",null,null,"Total",null,null,"Ag'nst",null,null,"Total"]
[1,null,null,null,null,null,null,null,null,null,null,null,null,null,null,1]
[2,null,null,null,null,null,null,null,null,null,null,null,null,null,null,2]
[3,null,null,null,null,null,null,null,null,null,null,null,null,null,null,3]
[4,null,null,null,null,null,null,null,null,null,null,null,null,null,null,4]
[5,null,null,null,null,null,null,null,null,null,null,null,null,null,null,5]
[6,null,null,null,null,null,null,null,null,null,null,null,null,null,null,6]
["Tot",null,null,null,null,null,null,null,null,null,null,null,null,null,null,"Tot"]
["Player no.",null,null,null,null,null,null,{"$f":"DRAWS!$F$17","v":16},null,null,"Name"]
[]
[]
[]
["Game  1  ",null,null,null,null,null,null,null,null,null,null,null,null,null,null,"Game  2"]
["Go to rink ",null,null,null,null,null,null,null,{"$f":"DRAWS!$G$17","v":"1 Right"},null,null,null,null,null,null,"Go to rink ",null,null,null,null,null,null,null,{"$f":"DRAWS!$H$17","v":"4 Left"}]
["End",null,"For",null,null,"Total",null,null,"Ag'nst",null,null,"Total",null,null,null,"End",null,"For",null,null,"Total",null,null,"Ag'nst",null,null,"Total"]
[1,null,null,null,null,null,null,null,null,null,null,null,null,null,null,1]
[2,null,null,null,null,null,null,null,null,null,null,null,null,null,null,2]
[3,null,null,null,null,null,null,null,null,null,null,null,null,null,null,3]
[4,null,null,null,null,null,null,null,null,null,null,null,null,null,null,4]
[5,null,null,null,null,null,null,null,null,null,null,null,null,null,null,5]
[6,null,null,null,null,null,null,null,null,null,null,null,null,null,null,6]
["Tot",null,null,null,null,null,null,null,null,null,null,null,null,null,null,"Tot"]
[]
["Game  3",null,null,null,null,null,null,null,null,null,null,null,null,null,null,"Game  4"]
["Go to rink ",null,null,null,null,null,null,null,{"$f":"DRAWS!$I$17","v":"5 Left"},null,null,null,null,null,null,"Go to rink ",null,null,null,null,null,null,null,{"$f":"DRAWS!$J$17","v":"7 Left"}]
["End",null,"For",null,null,"Total",null,null,"Ag'nst",null,null,"Total",null,null,null,"End",null,"For",null,null,"Total",null,null,"Ag'nst",null,null,"Total"]
[1,null,null,null,null,null,null,null,null,null,null,null,null,null,null,1]
[2,null,null,null,null,null,null,null,null,null,null,null,null,null,null,2]
[3,null,null,null,null,null,null,null,null,null,null,null,null,null,null,3]
[4,null,null,null,null,null,null,null,null,null,null,null,null,null,null,4]
[5,null,null,null,null,null,null,null,null,null,null,null,null,null,null,5]
[6,null,null,null,null,null,null,null,null,null,null,null,null,null,null,6]
["Tot",null,null,null,null,null,null,null,null,null,null,null,null,null,null,"Tot"]
["Player no.",null,null,null,null,null,null,{"$f":"DRAWS!$F$18","v":17},null,null,"Name"]
[]
[]
[]
["Game  1  ",null,null,null,null,null,null,null,null,null,null,null,null,null,null,"Game  2"]
["Go to rink ",null,null,null,null,null,null,null,{"$f":"DRAWS!$G$18","v":"2 Left"},null,null,null,null,null,null,"Go to rink ",null,null,null,null,null,null,null,{"$f":"DRAWS!$H$18","v":"5 Left"}]
["End",null,"For",null,null,"Total",null,null,"Ag'nst",null,null,"Total",null,null,null,"End",null,"For",null,null,"Total",null,null,"Ag'nst",null,null,"Total"]
[1,null,null,null,null,null,null,null,null,null,null,null,null,null,null,1]
[2,null,null,null,null,null,null,null,null,null,null,null,null,null,null,2]
[3,null,null,null,null,null,null,null,null,null,null,null,null,null,null,3]
[4,null,null,null,null,null,null,null,null,null,null,null,null,null,null,4]
[5,null,null,null,null,null,null,null,null,null,null,null,null,null,null,5]
[6,null,null,null,null,null,null,null,null,null,null,null,null,null,null,6]
["Tot",null,null,null,null,null,null,null,null,null,null,null,null,null,null,"Tot"]
[]
["Game  3",null,null,null,null,null,null,null,null,null,null,null,null,null,null,"Game  4"]
["Go to rink ",null,null,null,null,null,null,null,{"$f":"DRAWS!$I$18","v":"1 Left"},null,null,null,null,null,null,"Go to rink ",null,null,null,null,null,null,null,{"$f":"DRAWS!$J$18","v":"4 Left"}]
["End",null,"For",null,null,"Total",null,null,"Ag'nst",null,null,"Total",null,null,null,"End",null,"For",null,null,"Total",null,null,"Ag'nst",null,null,"Total"]
[1,null,null,null,null,null,null,null,null,null,null,null,null,null,null,1]
[2,null,null,null,null,null,null,null,null,null,null,null,null,null,null,2]
[3,null,null,null,null,null,null,null,null,null,null,null,null,null,null,3]
[4,null,null,null,null,null,null,null,null,null,null,null,null,null,null,4]
[5,null,null,null,null,null,null,null,null,null,null,null,null,null,null,5]
[6,null,null,null,null,null,null,null,null,null,null,null,null,null,null,6]
["Tot",null,null,null,null,null,null,null,null,null,null,null,null,null,null,"Tot"]
["Player no.",null,null,null,null,null,null,{"$f":"DRAWS!$F$19","v":18},null,null,"Name"]
[]
[]
[]
["Game  1  ",null,null,null,null,null,null,null,null,null,null,null,null,null,null,"Game  2"]
["Go to rink ",null,null,null,null,null,null,null,{"$f":"DRAWS!$G$19","v":"2 Right"},null,null,null,null,null,null,"Go to rink ",null,null,null,null,null,null,null,{"$f":"DRAWS!$H$19","v":"6 Left"}]
["End",null,"For",null,null,"Total",null,null,"Ag'nst",null,null,"Total",null,null,null,"End",null,"For",null,null,"Total",null,null,"Ag'nst",null,null,"Total"]
[1,null,null,null,null,null,null,null,null,null,null,null,null,null,null,1]
[2,null,null,null,null,null,null,null,null,null,null,null,null,null,null,2]
[3,null,null,null,null,null,null,null,null,null,null,null,null,null,null,3]
[4,null,null,null,null,null,null,null,null,null,null,null,null,null,null,4]
[5,null,null,null,null,null,null,null,null,null,null,null,null,null,null,5]
[6,null,null,null,null,null,null,null,null,null,null,null,null,null,null,6]
["Tot",null,null,null,null,null,null,null,null,null,null,null,null,null,null,"Tot"]
[]
["Game  3",null,null,null,null,null,null,null,null,null,null,null,null,null,null,"Game  4"]
["Go to rink ",null,null,null,null,null,null,null,{"$f":"DRAWS!$I$19","v":"5 Right"},null,null,null,null,null,null,"Go to rink ",null,null,null,null,null,null,null,{"$f":"DRAWS!$J$19","v":"3 Right"}]
["End",null,"For",null,null,"Total",null,null,"Ag'nst",null,null,"Total",null,null,null,"End",null,"For",null,null,"Total",null,null,"Ag'nst",null,null,"Total"]
[1,null,null,null,null,null,null,null,null,null,null,null,null,null,null,1]
[2,null,null,null,null,null,null,null,null,null,null,null,null,null,null,2]
[3,null,null,null,null,null,null,null,null,null,null,null,null,null,null,3]
[4,null,null,null,null,null,null,null,null,null,null,null,null,null,null,4]
[5,null,null,null,null,null,null,null,null,null,null,null,null,null,null,5]
[6,null,null,null,null,null,null,null,null,null,null,null,null,null,null,6]
["Tot",null,null,null,null,null,null,null,null,null,null,null,null,null,null,"Tot"]
["Player no.",null,null,null,null,null,null,{"$f":"DRAWS!$F$20","v":19},null,null,"Name"]
[]
[]
[]
["Game  1  ",null,null,null,null,null,null,null,null,null,null,null,null,null,null,"Game  2"]
["Go to rink ",null,null,null,null,null,null,null,{"$f":"DRAWS!$G$20","v":"3 Left"},null,null,null,null,null,null,"Go to rink ",null,null,null,null,null,null,null,{"$f":"DRAWS!$H$20","v":"7 Left"}]
["End",null,"For",null,null,"Total",null,null,"Ag'nst",null,null,"Total",null,null,null,"End",null,"For",null,null,"Total",null,null,"Ag'nst",null,null,"Total"]
[1,null,null,null,null,null,null,null,null,null,null,null,null,null,null,1]
[2,null,null,null,null,null,null,null,null,null,null,null,null,null,null,2]
[3,null,null,null,null,null,null,null,null,null,null,null,null,null,null,3]
[4,null,null,null,null,null,null,null,null,null,null,null,null,null,null,4]
[5,null,null,null,null,null,null,null,null,null,null,null,null,null,null,5]
[6,null,null,null,null,null,null,null,null,null,null,null,null,null,null,6]
["Tot",null,null,null,null,null,null,null,null,null,null,null,null,null,null,"Tot"]
[]
["Game  3",null,null,null,null,null,null,null,null,null,null,null,null,null,null,"Game  4"]
["Go to rink ",null,null,null,null,null,null,null,{"$f":"DRAWS!$I$20","v":"6 Left"},null,null,null,null,null,null,"Go to rink ",null,null,null,null,null,null,null,{"$f":"DRAWS!$J$20","v":"1 Right"}]
["End",null,"For",null,null,"Total",null,null,"Ag'nst",null,null,"Total",null,null,null,"End",null,"For",null,null,"Total",null,null,"Ag'nst",null,null,"Total"]
[1,null,null,null,null,null,null,null,null,null,null,null,null,null,null,1]
[2,null,null,null,null,null,null,null,null,null,null,null,null,null,null,2]
[3,null,null,null,null,null,null,null,null,null,null,null,null,null,null,3]
[4,null,null,null,null,null,null,null,null,null,null,null,null,null,null,4]
[5,null,null,null,null,null,null,null,null,null,null,null,null,null,null,5]
[6,null,null,null,null,null,null,null,null,null,null,null,null,null,null,6]
["Tot",null,null,null,null,null,null,null,null,null,null,null,null,null,null,"Tot"]
["Player no.",null,null,null,null,null,null,{"$f":"DRAWS!$F$21","v":20},null,null,"Name"]
[]
[]
[]
["Game  1  ",null,null,null,null,null,null,null,null,null,null,null,null,null,null,"Game  2"]
["Go to rink ",null,null,null,null,null,null,null,{"$f":"DRAWS!$G$21","v":"3 Right"},null,null,null,null,null,null,"Go to rink ",null,null,null,null,null,null,null,{"$f":"DRAWS!$H$21","v":"1 Left"}]
["End",null,"For",null,null,"Total",null,null,"Ag'nst",null,null,"Total",null,null,null,"End",null,"For",null,null,"Total",null,null,"Ag'nst",null,null,"Total"]
[1,null,null,null,null,null,null,null,null,null,null,null,null,null,null,1]
[2,null,null,null,null,null,null,null,null,null,null,null,null,null,null,2]
[3,null,null,null,null,null,null,null,null,null,null,null,null,null,null,3]
[4,null,null,null,null,null,null,null,null,null,null,null,null,null,null,4]
[5,null,null,null,null,null,null,null,null,null,null,null,null,null,null,5]
[6,null,null,null,null,null,null,null,null,null,null,null,null,null,null,6]
["Tot",null,null,null,null,null,null,null,null,null,null,null,null,null,null,"Tot"]
[]
["Game  3",null,null,null,null,null,null,null,null,null,null,null,null,null,null,"Game  4"]
["Go to rink ",null,null,null,null,null,null,null,{"$f":"DRAWS!$I$21","v":"2 Left"},null,null,null,null,null,null,"Go to rink ",null,null,null,null,null,null,null,{"$f":"DRAWS!$J$21","v":"4 Right"}]
["End",null,"For",null,null,"Total",null,null,"Ag'nst",null,null,"Total",null,null,null,"End",null,"For",null,null,"Total",null,null,"Ag'nst",null,null,"Total"]
[1,null,null,null,null,null,null,null,null,null,null,null,null,null,null,1]
[2,null,null,null,null,null,null,null,null,null,null,null,null,null,null,2]
[3,null,null,null,null,null,null,null,null,null,null,null,null,null,null,3]
[4,null,null,null,null,null,null,null,null,null,null,null,null,null,null,4]
[5,null,null,null,null,null,null,null,null,null,null,null,null,null,null,5]
[6,null,null,null,null,null,null,null,null,null,null,null,null,null,null,6]
["Tot",null,null,null,null,null,null,null,null,null,null,null,null,null,null,"Tot"]
["Player no.",null,null,null,null,null,null,{"$f":"DRAWS!$F$22","v":21},null,null,"Name"]
[]
[]
[]
["Game  1  ",null,null,null,null,null,null,null,null,null,null,null,null,null,null,"Game  2"]
["Go to rink ",null,null,null,null,null,null,null,{"$f":"DRAWS!$G$22","v":"4 Left"},null,null,null,null,null,null,"Go to rink ",null,null,null,null,null,null,null,{"$f":"DRAWS!$H$22","v":"7 Right"}]
["End",null,"For",null,null,"Total",null,null,"Ag'nst",null,null,"Total",null,null,null,"End",null,"For",null,null,"Total",null,null,"Ag'nst",null,null,"Total"]
[1,null,null,null,null,null,null,null,null,null,null,null,null,null,null,1]
[2,null,null,null,null,null,null,null,null,null,null,null,null,null,null,2]
[3,null,null,null,null,null,null,null,null,null,null,null,null,null,null,3]
[4,null,null,null,null,null,null,null,null,null,null,null,null,null,null,4]
[5,null,null,null,null,null,null,null,null,null,null,null,null,null,null,5]
[6,null,null,null,null,null,null,null,null,null,null,null,null,null,null,6]
["Tot",null,null,null,null,null,null,null,null,null,null,null,null,null,null,"Tot"]
[]
["Game  3",null,null,null,null,null,null,null,null,null,null,null,null,null,null,"Game  4"]
["Go to rink ",null,null,null,null,null,null,null,{"$f":"DRAWS!$I$22","v":"3 Left"},null,null,null,null,null,null,"Go to rink ",null,null,null,null,null,null,null,{"$f":"DRAWS!$J$22","v":"6 Right"}]
["End",null,"For",null,null,"Total",null,null,"Ag'nst",null,null,"Total",null,null,null,"End",null,"For",null,null,"Total",null,null,"Ag'nst",null,null,"Total"]
[1,null,null,null,null,null,null,null,null,null,null,null,null,null,null,1]
[2,null,null,null,null,null,null,null,null,null,null,null,null,null,null,2]
[3,null,null,null,null,null,null,null,null,null,null,null,null,null,null,3]
[4,null,null,null,null,null,null,null,null,null,null,null,null,null,null,4]
[5,null,null,null,null,null,null,null,null,null,null,null,null,null,null,5]
[6,null,null,null,null,null,null,null,null,null,null,null,null,null,null,6]
["Tot",null,null,null,null,null,null,null,null,null,null,null,null,null,null,"Tot"]
["Player no.",null,null,null,null,null,null,{"$f":"DRAWS!$F$23","v":22},null,null,"Name"]
[]
[]
[]
["Game  1  ",null,null,null,null,null,null,null,null,null,null,null,null,null,null,"Game  2"]
["Go to rink ",null,null,null,null,null,null,null,{"$f":"DRAWS!$G$23","v":"4 Right"},null,null,null,null,null,null,"Go to rink ",null,null,null,null,null,null,null,{"$f":"DRAWS!$H$23","v":"6 Right"}]
["End",null,"For",null,null,"Total",null,null,"Ag'nst",null,null,"Total",null,null,null,"End",null,"For",null,null,"Total",null,null,"Ag'nst",null,null,"Total"]
[1,null,null,null,null,null,null,null,null,null,null,null,null,null,null,1]
[2,null,null,null,null,null,null,null,null,null,null,null,null,null,null,2]
[3,null,null,null,null,null,null,null,null,null,null,null,null,null,null,3]
[4,null,null,null,null,null,null,null,null,null,null,null,null,null,null,4]
[5,null,null,null,null,null,null,null,null,null,null,null,null,null,null,5]
[6,null,null,null,null,null,null,null,null,null,null,null,null,null,null,6]
["Tot",null,null,null,null,null,null,null,null,null,null,null,null,null,null,"Tot"]
[]
["Game  3",null,null,null,null,null,null,null,null,null,null,null,null,null,null,"Game  4"]
["Go to rink ",null,null,null,null,null,null,null,{"$f":"DRAWS!$I$23","v":"2 Right"},null,null,null,null,null,null,"Go to rink ",null,null,null,null,null,null,null,{"$f":"DRAWS!$J$23","v":"5 Left"}]
["End",null,"For",null,null,"Total",null,null,"Ag'nst",null,null,"Total",null,null,null,"End",null,"For",null,null,"Total",null,null,"Ag'nst",null,null,"Total"]
[1,null,null,null,null,null,null,null,null,null,null,null,null,null,null,1]
[2,null,null,null,null,null,null,null,null,null,null,null,null,null,null,2]
[3,null,null,null,null,null,null,null,null,null,null,null,null,null,null,3]
[4,null,null,null,null,null,null,null,null,null,null,null,null,null,null,4]
[5,null,null,null,null,null,null,null,null,null,null,null,null,null,null,5]
[6,null,null,null,null,null,null,null,null,null,null,null,null,null,null,6]
["Tot",null,null,null,null,null,null,null,null,null,null,null,null,null,null,"Tot"]
["Player no.",null,null,null,null,null,null,{"$f":"DRAWS!$F$24","v":23},null,null,"Name"]
[]
[]
[]
["Game  1  ",null,null,null,null,null,null,null,null,null,null,null,null,null,null,"Game  2"]
["Go to rink ",null,null,null,null,null,null,null,{"$f":"DRAWS!$G$24","v":"5 Left"},null,null,null,null,null,null,"Go to rink ",null,null,null,null,null,null,null,{"$f":"DRAWS!$H$24","v":"4 Right"}]
["End",null,"For",null,null,"Total",null,null,"Ag'nst",null,null,"Total",null,null,null,"End",null,"For",null,null,"Total",null,null,"Ag'nst",null,null,"Total"]
[1,null,null,null,null,null,null,null,null,null,null,null,null,null,null,1]
[2,null,null,null,null,null,null,null,null,null,null,null,null,null,null,2]
[3,null,null,null,null,null,null,null,null,null,null,null,null,null,null,3]
[4,null,null,null,null,null,null,null,null,null,null,null,null,null,null,4]
[5,null,null,null,null,null,null,null,null,null,null,null,null,null,null,5]
[6,null,null,null,null,null,null,null,null,null,null,null,null,null,null,6]
["Tot",null,null,null,null,null,null,null,null,null,null,null,null,null,null,"Tot"]
[]
["Game  3",null,null,null,null,null,null,null,null,null,null,null,null,null,null,"Game  4"]
["Go to rink ",null,null,null,null,null,null,null,{"$f":"DRAWS!$I$24","v":"1 Right"},null,null,null,null,null,null,"Go to rink ",null,null,null,null,null,null,null,{"$f":"DRAWS!$J$24","v":"2 Right"}]
["End",null,"For",null,null,"Total",null,null,"Ag'nst",null,null,"Total",null,null,null,"End",null,"For",null,null,"Total",null,null,"Ag'nst",null,null,"Total"]
[1,null,null,null,null,null,null,null,null,null,null,null,null,null,null,1]
[2,null,null,null,null,null,null,null,null,null,null,null,null,null,null,2]
[3,null,null,null,null,null,null,null,null,null,null,null,null,null,null,3]
[4,null,null,null,null,null,null,null,null,null,null,null,null,null,null,4]
[5,null,null,null,null,null,null,null,null,null,null,null,null,null,null,5]
[6,null,null,null,null,null,null,null,null,null,null,null,null,null,null,6]
["Tot",null,null,null,null,null,null,null,null,null,null,null,null,null,null,"Tot"]
["Player no.",null,null,null,null,null,null,{"$f":"DRAWS!$F$25","v":24},null,null,"Name"]
[]
[]
[]
["Game  1  ",null,null,null,null,null,null,null,null,null,null,null,null,null,null,"Game  2"]
["Go to rink ",null,null,null,null,null,null,null,{"$f":"DRAWS!$G$25","v":"5 Right"},null,null,null,null,null,null,"Go to rink ",null,null,null,null,null,null,null,{"$f":"DRAWS!$H$25","v":"3 Right"}]
["End",null,"For",null,null,"Total",null,null,"Ag'nst",null,null,"Total",null,null,null,"End",null,"For",null,null,"Total",null,null,"Ag'nst",null,null,"Total"]
[1,null,null,null,null,null,null,null,null,null,null,null,null,null,null,1]
[2,null,null,null,null,null,null,null,null,null,null,null,null,null,null,2]
[3,null,null,null,null,null,null,null,null,null,null,null,null,null,null,3]
[4,null,null,null,null,null,null,null,null,null,null,null,null,null,null,4]
[5,null,null,null,null,null,null,null,null,null,null,null,null,null,null,5]
[6,null,null,null,null,null,null,null,null,null,null,null,null,null,null,6]
["Tot",null,null,null,null,null,null,null,null,null,null,null,null,null,null,"Tot"]
[]
["Game  3",null,null,null,null,null,null,null,null,null,null,null,null,null,null,"Game  4"]
["Go to rink ",null,null,null,null,null,null,null,{"$f":"DRAWS!$I$25","v":"7 Left"},null,null,null,null,null,null,"Go to rink ",null,null,null,null,null,null,null,{"$f":"DRAWS!$J$25","v":"5 Right"}]
["End",null,"For",null,null,"Total",null,null,"Ag'nst",null,null,"Total",null,null,null,"End",null,"For",null,null,"Total",null,null,"Ag'nst",null,null,"Total"]
[1,null,null,null,null,null,null,null,null,null,null,null,null,null,null,1]
[2,null,null,null,null,null,null,null,null,null,null,null,null,null,null,2]
[3,null,null,null,null,null,null,null,null,null,null,null,null,null,null,3]
[4,null,null,null,null,null,null,null,null,null,null,null,null,null,null,4]
[5,null,null,null,null,null,null,null,null,null,null,null,null,null,null,5]
[6,null,null,null,null,null,null,null,null,null,null,null,null,null,null,6]
["Tot",null,null,null,null,null,null,null,null,null,null,null,null,null,null,"Tot"]
["Player no.",null,null,null,null,null,null,{"$f":"DRAWS!$F$26","v":25},null,null,"Name"]
[]
[]
[]
["Game  1  ",null,null,null,null,null,null,null,null,null,null,null,null,null,null,"Game  2"]
["Go to rink ",null,null,null,null,null,null,null,{"$f":"DRAWS!$G$26","v":"6 Left"},null,null,null,null,null,null,"Go to rink ",null,null,null,null,null,null,null,{"$f":"DRAWS!$H$26","v":"5 Right"}]
["End",null,"For",null,null,"Total",null,null,"Ag'nst",null,null,"Total",null,null,null,"End",null,"For",null,null,"Total",null,null,"Ag'nst",null,null,"Total"]
[1,null,null,null,null,null,null,null,null,null,null,null,null,null,null,1]
[2,null,null,null,null,null,null,null,null,null,null,null,null,null,null,2]
[3,null,null,null,null,null,null,null,null,null,null,null,null,null,null,3]
[4,null,null,null,null,null,null,null,null,null,null,null,null,null,null,4]
[5,null,null,null,null,null,null,null,null,null,null,null,null,null,null,5]
[6,null,null,null,null,null,null,null,null,null,null,null,null,null,null,6]
["Tot",null,null,null,null,null,null,null,null,null,null,null,null,null,null,"Tot"]
[]
["Game  3",null,null,null,null,null,null,null,null,null,null,null,null,null,null,"Game  4"]
["Go to rink ",null,null,null,null,null,null,null,{"$f":"DRAWS!$I$26","v":"3 Right"},null,null,null,null,null,null,"Go to rink ",null,null,null,null,null,null,null,{"$f":"DRAWS!$J$26","v":"7 Right"}]
["End",null,"For",null,null,"Total",null,null,"Ag'nst",null,null,"Total",null,null,null,"End",null,"For",null,null,"Total",null,null,"Ag'nst",null,null,"Total"]
[1,null,null,null,null,null,null,null,null,null,null,null,null,null,null,1]
[2,null,null,null,null,null,null,null,null,null,null,null,null,null,null,2]
[3,null,null,null,null,null,null,null,null,null,null,null,null,null,null,3]
[4,null,null,null,null,null,null,null,null,null,null,null,null,null,null,4]
[5,null,null,null,null,null,null,null,null,null,null,null,null,null,null,5]
[6,null,null,null,null,null,null,null,null,null,null,null,null,null,null,6]
["Tot",null,null,null,null,null,null,null,null,null,null,null,null,null,null,"Tot"]
["Player no.",null,null,null,null,null,null,{"$f":"DRAWS!$F$27","v":26},null,null,"Name"]
[]
[]
[]
["Game  1  ",null,null,null,null,null,null,null,null,null,null,null,null,null,null,"Game  2"]
["Go to rink ",null,null,null,null,null,null,null,{"$f":"DRAWS!$G$27","v":"6 Right"},null,null,null,null,null,null,"Go to rink ",null,null,null,null,null,null,null,{"$f":"DRAWS!$H$27","v":"2 Right"}]
["End",null,"For",null,null,"Total",null,null,"Ag'nst",null,null,"Total",null,null,null,"End",null,"For",null,null,"Total",null,null,"Ag'nst",null,null,"Total"]
[1,null,null,null,null,null,null,null,null,null,null,null,null,null,null,1]
[2,null,null,null,null,null,null,null,null,null,null,null,null,null,null,2]
[3,null,null,null,null,null,null,null,null,null,null,null,null,null,null,3]
[4,null,null,null,null,null,null,null,null,null,null,null,null,null,null,4]
[5,null,null,null,null,null,null,null,null,null,null,null,null,null,null,5]
[6,null,null,null,null,null,null,null,null,null,null,null,null,null,null,6]
["Tot",null,null,null,null,null,null,null,null,null,null,null,null,null,null,"Tot"]
[]
["Game  3",null,null,null,null,null,null,null,null,null,null,null,null,null,null,"Game  4"]
["Go to rink ",null,null,null,null,null,null,null,{"$f":"DRAWS!$I$27","v":"4 Left"},null,null,null,null,null,null,"Go to rink ",null,null,null,null,null,null,null,{"$f":"DRAWS!$J$27","v":"3 Left"}]
["End",null,"For",null,null,"Total",null,null,"Ag'nst",null,null,"Total",null,null,null,"End",null,"For",null,null,"Total",null,null,"Ag'nst",null,null,"Total"]
[1,null,null,null,null,null,null,null,null,null,null,null,null,null,null,1]
[2,null,null,null,null,null,null,null,null,null,null,null,null,null,null,2]
[3,null,null,null,null,null,null,null,null,null,null,null,null,null,null,3]
[4,null,null,null,null,null,null,null,null,null,null,null,null,null,null,4]
[5,null,null,null,null,null,null,null,null,null,null,null,null,null,null,5]
[6,null,null,null,null,null,null,null,null,null,null,null,null,null,null,6]
["Tot",null,null,null,null,null,null,null,null,null,null,null,null,null,null,"Tot"]
["Player no.",null,null,null,null,null,null,{"$f":"DRAWS!$F$28","v":27},null,null,"Name"]
[]
[]
[]
["Game  1  ",null,null,null,null,null,null,null,null,null,null,null,null,null,null,"Game  2"]
["Go to rink ",null,null,null,null,null,null,null,{"$f":"DRAWS!$G$28","v":"7 Left"},null,null,null,null,null,null,"Go to rink ",null,null,null,null,null,null,null,{"$f":"DRAWS!$H$28","v":"1 Right"}]
["End",null,"For",null,null,"Total",null,null,"Ag'nst",null,null,"Total",null,null,null,"End",null,"For",null,null,"Total",null,null,"Ag'nst",null,null,"Total"]
[1,null,null,null,null,null,null,null,null,null,null,null,null,null,null,1]
[2,null,null,null,null,null,null,null,null,null,null,null,null,null,null,2]
[3,null,null,null,null,null,null,null,null,null,null,null,null,null,null,3]
[4,null,null,null,null,null,null,null,null,null,null,null,null,null,null,4]
[5,null,null,null,null,null,null,null,null,null,null,null,null,null,null,5]
[6,null,null,null,null,null,null,null,null,null,null,null,null,null,null,6]
["Tot",null,null,null,null,null,null,null,null,null,null,null,null,null,null,"Tot"]
[]
["Game  3",null,null,null,null,null,null,null,null,null,null,null,null,null,null,"Game  4"]
["Go to rink ",null,null,null,null,null,null,null,{"$f":"DRAWS!$I$28","v":"4 Right"},null,null,null,null,null,null,"Go to rink ",null,null,null,null,null,null,null,{"$f":"DRAWS!$J$28","v":"2 Left"}]
["End",null,"For",null,null,"Total",null,null,"Ag'nst",null,null,"Total",null,null,null,"End",null,"For",null,null,"Total",null,null,"Ag'nst",null,null,"Total"]
[1,null,null,null,null,null,null,null,null,null,null,null,null,null,null,1]
[2,null,null,null,null,null,null,null,null,null,null,null,null,null,null,2]
[3,null,null,null,null,null,null,null,null,null,null,null,null,null,null,3]
[4,null,null,null,null,null,null,null,null,null,null,null,null,null,null,4]
[5,null,null,null,null,null,null,null,null,null,null,null,null,null,null,5]
[6,null,null,null,null,null,null,null,null,null,null,null,null,null,null,6]
["Tot",null,null,null,null,null,null,null,null,null,null,null,null,null,null,"Tot"]
["Player no.",null,null,null,null,null,null,{"$f":"DRAWS!$F$29","v":28},null,null,"Name"]
[]
[]
[]
["Game  1  ",null,null,null,null,null,null,null,null,null,null,null,null,null,null,"Game  2"]
["Go to rink ",null,null,null,null,null,null,null,{"$f":"DRAWS!$G$29","v":"7 Right"},null,null,null,null,null,null,"Go to rink ",null,null,null,null,null,null,null,{"$f":"DRAWS!$H$29","v":"2 Left"}]
["End",null,"For",null,null,"Total",null,null,"Ag'nst",null,null,"Total",null,null,null,"End",null,"For",null,null,"Total",null,null,"Ag'nst",null,null,"Total"]
[1,null,null,null,null,null,null,null,null,null,null,null,null,null,null,1]
[2,null,null,null,null,null,null,null,null,null,null,null,null,null,null,2]
[3,null,null,null,null,null,null,null,null,null,null,null,null,null,null,3]
[4,null,null,null,null,null,null,null,null,null,null,null,null,null,null,4]
[5,null,null,null,null,null,null,null,null,null,null,null,null,null,null,5]
[6,null,null,null,null,null,null,null,null,null,null,null,null,null,null,6]
["Tot",null,null,null,null,null,null,null,null,null,null,null,null,null,null,"Tot"]
[]
["Game  3",null,null,null,null,null,null,null,null,null,null,null,null,null,null,"Game  4"]
["Go to rink ",null,null,null,null,null,null,null,{"$f":"DRAWS!$I$29","v":"6 Right"},null,null,null,null,null,null,"Go to rink ",null,null,null,null,null,null,null,{"$f":"DRAWS!$J$29","v":"1 Left"}]
["End",null,"For",null,null,"Total",null,null,"Ag'nst",null,null,"Total",null,null,null,"End",null,"For",null,null,"Total",null,null,"Ag'nst",null,null,"Total"]
[1,null,null,null,null,null,null,null,null,null,null,null,null,null,null,1]
[2,null,null,null,null,null,null,null,null,null,null,null,null,null,null,2]
[3,null,null,null,null,null,null,null,null,null,null,null,null,null,null,3]
[4,null,null,null,null,null,null,null,null,null,null,null,null,null,null,4]
[5,null,null,null,null,null,null,null,null,null,null,null,null,null,null,5]
[6,null,null,null,null,null,null,null,null,null,null,null,null,null,null,6]
["Tot",null,null,null,null,null,null,null,null,null,null,null,null,null,null,"Tot"]
["Player no.",null,null,null,null,null,null,{"$f":"DRAWS!$F$30","v":29},null,null,"Name"]
[]
[]
[]
["Game  1  ",null,null,null,null,null,null,null,null,null,null,null,null,null,null,"Game  2"]
["Go to rink ",null,null,null,null,null,null,null,{"$f":"DRAWS!$G$30","v":"1 Left"},null,null,null,null,null,null,"Go to rink ",null,null,null,null,null,null,null,{"$f":"DRAWS!$H$30","v":"5 Left"}]
["End",null,"For",null,null,"Total",null,null,"Ag'nst",null,null,"Total",null,null,null,"End",null,"For",null,null,"Total",null,null,"Ag'nst",null,null,"Total"]
[1,null,null,null,null,null,null,null,null,null,null,null,null,null,null,1]
[2,null,null,null,null,null,null,null,null,null,null,null,null,null,null,2]
[3,null,null,null,null,null,null,null,null,null,null,null,null,null,null,3]
[4,null,null,null,null,null,null,null,null,null,null,null,null,null,null,4]
[5,null,null,null,null,null,null,null,null,null,null,null,null,null,null,5]
[6,null,null,null,null,null,null,null,null,null,null,null,null,null,null,6]
["Tot",null,null,null,null,null,null,null,null,null,null,null,null,null,null,"Tot"]
[]
["Game  3",null,null,null,null,null,null,null,null,null,null,null,null,null,null,"Game  4"]
["Go to rink ",null,null,null,null,null,null,null,{"$f":"DRAWS!$I$30","v":"3 Right"},null,null,null,null,null,null,"Go to rink ",null,null,null,null,null,null,null,{"$f":"DRAWS!$J$30","v":"2 Right"}]
["End",null,"For",null,null,"Total",null,null,"Ag'nst",null,null,"Total",null,null,null,"End",null,"For",null,null,"Total",null,null,"Ag'nst",null,null,"Total"]
[1,null,null,null,null,null,null,null,null,null,null,null,null,null,null,1]
[2,null,null,null,null,null,null,null,null,null,null,null,null,null,null,2]
[3,null,null,null,null,null,null,null,null,null,null,null,null,null,null,3]
[4,null,null,null,null,null,null,null,null,null,null,null,null,null,null,4]
[5,null,null,null,null,null,null,null,null,null,null,null,null,null,null,5]
[6,null,null,null,null,null,null,null,null,null,null,null,null,null,null,6]
["Tot",null,null,null,null,null,null,null,null,null,null,null,null,null,null,"Tot"]
["Player no.",null,null,null,null,null,null,{"$f":"DRAWS!$F$31","v":30},null,null,"Name"]
[]
[]
[]
["Game  1  ",null,null,null,null,null,null,null,null,null,null,null,null,null,null,"Game  2"]
["Go to rink ",null,null,null,null,null,null,null,{"$f":"DRAWS!$G$31","v":"1 Right"},null,null,null,null,null,null,"Go to rink ",null,null,null,null,null,null,null,{"$f":"DRAWS!$H$31","v":"2 Left"}]
["End",null,"For",null,null,"Total",null,null,"Ag'nst",null,null,"Total",null,null,null,"End",null,"For",null,null,"Total",null,null,"Ag'nst",null,null,"Total"]
[1,null,null,null,null,null,null,null,null,null,null,null,null,null,null,1]
[2,null,null,null,null,null,null,null,null,null,null,null,null,null,null,2]
[3,null,null,null,null,null,null,null,null,null,null,null,null,null,null,3]
[4,null,null,null,null,null,null,null,null,null,null,null,null,null,null,4]
[5,null,null,null,null,null,null,null,null,null,null,null,null,null,null,5]
[6,null,null,null,null,null,null,null,null,null,null,null,null,null,null,6]
["Tot",null,null,null,null,null,null,null,null,null,null,null,null,null,null,"Tot"]
[]
["Game  3",null,null,null,null,null,null,null,null,null,null,null,null,null,null,"Game  4"]
["Go to rink ",null,null,null,null,null,null,null,{"$f":"DRAWS!$I$31","v":"4 Left"},null,null,null,null,null,null,"Go to rink ",null,null,null,null,null,null,null,{"$f":"DRAWS!$J$31","v":"5 Right"}]
["End",null,"For",null,null,"Total",null,null,"Ag'nst",null,null,"Total",null,null,null,"End",null,"For",null,null,"Total",null,null,"Ag'nst",null,null,"Total"]
[1,null,null,null,null,null,null,null,null,null,null,null,null,null,null,1]
[2,null,null,null,null,null,null,null,null,null,null,null,null,null,null,2]
[3,null,null,null,null,null,null,null,null,null,null,null,null,null,null,3]
[4,null,null,null,null,null,null,null,null,null,null,null,null,null,null,4]
[5,null,null,null,null,null,null,null,null,null,null,null,null,null,null,5]
[6,null,null,null,null,null,null,null,null,null,null,null,null,null,null,6]
["Tot",null,null,null,null,null,null,null,null,null,null,null,null,null,null,"Tot"]
["Player no.",null,null,null,null,null,null,{"$f":"DRAWS!$F$32","v":31},null,null,"Name"]
[]
[]
[]
["Game  1  ",null,null,null,null,null,null,null,null,null,null,null,null,null,null,"Game  2"]
["Go to rink ",null,null,null,null,null,null,null,{"$f":"DRAWS!$G$32","v":"2 Left"},null,null,null,null,null,null,"Go to rink ",null,null,null,null,null,null,null,{"$f":"DRAWS!$H$32","v":"3 Left"}]
["End",null,"For",null,null,"Total",null,null,"Ag'nst",null,null,"Total",null,null,null,"End",null,"For",null,null,"Total",null,null,"Ag'nst",null,null,"Total"]
[1,null,null,null,null,null,null,null,null,null,null,null,null,null,null,1]
[2,null,null,null,null,null,null,null,null,null,null,null,null,null,null,2]
[3,null,null,null,null,null,null,null,null,null,null,null,null,null,null,3]
[4,null,null,null,null,null,null,null,null,null,null,null,null,null,null,4]
[5,null,null,null,null,null,null,null,null,null,null,null,null,null,null,5]
[6,null,null,null,null,null,null,null,null,null,null,null,null,null,null,6]
["Tot",null,null,null,null,null,null,null,null,null,null,null,null,null,null,"Tot"]
[]
["Game  3",null,null,null,null,null,null,null,null,null,null,null,null,null,null,"Game  4"]
["Go to rink ",null,null,null,null,null,null,null,{"$f":"DRAWS!$I$32","v":"4 Right"},null,null,null,null,null,null,"Go to rink ",null,null,null,null,null,null,null,{"$f":"DRAWS!$J$32","v":"7 Right"}]
["End",null,"For",null,null,"Total",null,null,"Ag'nst",null,null,"Total",null,null,null,"End",null,"For",null,null,"Total",null,null,"Ag'nst",null,null,"Total"]
[1,null,null,null,null,null,null,null,null,null,null,null,null,null,null,1]
[2,null,null,null,null,null,null,null,null,null,null,null,null,null,null,2]
[3,null,null,null,null,null,null,null,null,null,null,null,null,null,null,3]
[4,null,null,null,null,null,null,null,null,null,null,null,null,null,null,4]
[5,null,null,null,null,null,null,null,null,null,null,null,null,null,null,5]
[6,null,null,null,null,null,null,null,null,null,null,null,null,null,null,6]
["Tot",null,null,null,null,null,null,null,null,null,null,null,null,null,null,"Tot"]
["Player no.",null,null,null,null,null,null,{"$f":"DRAWS!$F$33","v":32},null,null,"Name"]
[]
[]
[]
["Game  1  ",null,null,null,null,null,null,null,null,null,null,null,null,null,null,"Game  2"]
["Go to rink ",null,null,null,null,null,null,null,{"$f":"DRAWS!$G$33","v":"2 Right"},null,null,null,null,null,null,"Go to rink ",null,null,null,null,null,null,null,{"$f":"DRAWS!$H$33","v":"4 Left"}]
["End",null,"For",null,null,"Total",null,null,"Ag'nst",null,null,"Total",null,null,null,"End",null,"For",null,null,"Total",null,null,"Ag'nst",null,null,"Total"]
[1,null,null,null,null,null,null,null,null,null,null,null,null,null,null,1]
[2,null,null,null,null,null,null,null,null,null,null,null,null,null,null,2]
[3,null,null,null,null,null,null,null,null,null,null,null,null,null,null,3]
[4,null,null,null,null,null,null,null,null,null,null,null,null,null,null,4]
[5,null,null,null,null,null,null,null,null,null,null,null,null,null,null,5]
[6,null,null,null,null,null,null,null,null,null,null,null,null,null,null,6]
["Tot",null,null,null,null,null,null,null,null,null,null,null,null,null,null,"Tot"]
[]
["Game  3",null,null,null,null,null,null,null,null,null,null,null,null,null,null,"Game  4"]
["Go to rink ",null,null,null,null,null,null,null,{"$f":"DRAWS!$I$33","v":"6 Right"},null,null,null,null,null,null,"Go to rink ",null,null,null,null,null,null,null,{"$f":"DRAWS!$J$33","v":"3 Left"}]
["End",null,"For",null,null,"Total",null,null,"Ag'nst",null,null,"Total",null,null,null,"End",null,"For",null,null,"Total",null,null,"Ag'nst",null,null,"Total"]
[1,null,null,null,null,null,null,null,null,null,null,null,null,null,null,1]
[2,null,null,null,null,null,null,null,null,null,null,null,null,null,null,2]
[3,null,null,null,null,null,null,null,null,null,null,null,null,null,null,3]
[4,null,null,null,null,null,null,null,null,null,null,null,null,null,null,4]
[5,null,null,null,null,null,null,null,null,null,null,null,null,null,null,5]
[6,null,null,null,null,null,null,null,null,null,null,null,null,null,null,6]
["Tot",null,null,null,null,null,null,null,null,null,null,null,null,null,null,"Tot"]
["Player no.",null,null,null,null,null,null,{"$f":"DRAWS!$F$34","v":33},null,null,"Name"]
[]
[]
[]
["Game  1  ",null,null,null,null,null,null,null,null,null,null,null,null,null,null,"Game  2"]
["Go to rink ",null,null,null,null,null,null,null,{"$f":"DRAWS!$G$34","v":"3 Left"},null,null,null,null,null,null,"Go to rink ",null,null,null,null,null,null,null,{"$f":"DRAWS!$H$34","v":"5 Left"}]
["End",null,"For",null,null,"Total",null,null,"Ag'nst",null,null,"Total",null,null,null,"End",null,"For",null,null,"Total",null,null,"Ag'nst",null,null,"Total"]
[1,null,null,null,null,null,null,null,null,null,null,null,null,null,null,1]
[2,null,null,null,null,null,null,null,null,null,null,null,null,null,null,2]
[3,null,null,null,null,null,null,null,null,null,null,null,null,null,null,3]
[4,null,null,null,null,null,null,null,null,null,null,null,null,null,null,4]
[5,null,null,null,null,null,null,null,null,null,null,null,null,null,null,5]
[6,null,null,null,null,null,null,null,null,null,null,null,null,null,null,6]
["Tot",null,null,null,null,null,null,null,null,null,null,null,null,null,null,"Tot"]
[]
["Game  3",null,null,null,null,null,null,null,null,null,null,null,null,null,null,"Game  4"]
["Go to rink ",null,null,null,null,null,null,null,{"$f":"DRAWS!$I$34","v":"7 Right"},null,null,null,null,null,null,"Go to rink ",null,null,null,null,null,null,null,{"$f":"DRAWS!$J$34","v":"2 Left"}]
["End",null,"For",null,null,"Total",null,null,"Ag'nst",null,null,"Total",null,null,null,"End",null,"For",null,null,"Total",null,null,"Ag'nst",null,null,"Total"]
[1,null,null,null,null,null,null,null,null,null,null,null,null,null,null,1]
[2,null,null,null,null,null,null,null,null,null,null,null,null,null,null,2]
[3,null,null,null,null,null,null,null,null,null,null,null,null,null,null,3]
[4,null,null,null,null,null,null,null,null,null,null,null,null,null,null,4]
[5,null,null,null,null,null,null,null,null,null,null,null,null,null,null,5]
[6,null,null,null,null,null,null,null,null,null,null,null,null,null,null,6]
["Tot",null,null,null,null,null,null,null,null,null,null,null,null,null,null,"Tot"]
["Player no.",null,null,null,null,null,null,{"$f":"DRAWS!$F$35","v":34},null,null,"Name"]
[]
[]
[]
["Game  1  ",null,null,null,null,null,null,null,null,null,null,null,null,null,null,"Game  2"]
["Go to rink ",null,null,null,null,null,null,null,{"$f":"DRAWS!$G$35","v":"3 Right"},null,null,null,null,null,null,"Go to rink ",null,null,null,null,null,null,null,{"$f":"DRAWS!$H$35","v":"6 Left"}]
["End",null,"For",null,null,"Total",null,null,"Ag'nst",null,null,"Total",null,null,null,"End",null,"For",null,null,"Total",null,null,"Ag'nst",null,null,"Total"]
[1,null,null,null,null,null,null,null,null,null,null,null,null,null,null,1]
[2,null,null,null,null,null,null,null,null,null,null,null,null,null,null,2]
[3,null,null,null,null,null,null,null,null,null,null,null,null,null,null,3]
[4,null,null,null,null,null,null,null,null,null,null,null,null,null,null,4]
[5,null,null,null,null,null,null,null,null,null,null,null,null,null,null,5]
[6,null,null,null,null,null,null,null,null,null,null,null,null,null,null,6]
["Tot",null,null,null,null,null,null,null,null,null,null,null,null,null,null,"Tot"]
[]
["Game  3",null,null,null,null,null,null,null,null,null,null,null,null,null,null,"Game  4"]
["Go to rink ",null,null,null,null,null,null,null,{"$f":"DRAWS!$I$35","v":"5 Left"},null,null,null,null,null,null,"Go to rink ",null,null,null,null,null,null,null,{"$f":"DRAWS!$J$35","v":"1 Left"}]
["End",null,"For",null,null,"Total",null,null,"Ag'nst",null,null,"Total",null,null,null,"End",null,"For",null,null,"Total",null,null,"Ag'nst",null,null,"Total"]
[1,null,null,null,null,null,null,null,null,null,null,null,null,null,null,1]
[2,null,null,null,null,null,null,null,null,null,null,null,null,null,null,2]
[3,null,null,null,null,null,null,null,null,null,null,null,null,null,null,3]
[4,null,null,null,null,null,null,null,null,null,null,null,null,null,null,4]
[5,null,null,null,null,null,null,null,null,null,null,null,null,null,null,5]
[6,null,null,null,null,null,null,null,null,null,null,null,null,null,null,6]
["Tot",null,null,null,null,null,null,null,null,null,null,null,null,null,null,"Tot"]
["Player no.",null,null,null,null,null,null,{"$f":"DRAWS!$F$36","v":35},null,null,"Name"]
[]
[]
[]
["Game  1  ",null,null,null,null,null,null,null,null,null,null,null,null,null,null,"Game  2"]
["Go to rink ",null,null,null,null,null,null,null,{"$f":"DRAWS!$G$36","v":"4 Left"},null,null,null,null,null,null,"Go to rink ",null,null,null,null,null,null,null,{"$f":"DRAWS!$H$36","v":"7 Left"}]
["End",null,"For",null,null,"Total",null,null,"Ag'nst",null,null,"Total",null,null,null,"End",null,"For",null,null,"Total",null,null,"Ag'nst",null,null,"Total"]
[1,null,null,null,null,null,null,null,null,null,null,null,null,null,null,1]
[2,null,null,null,null,null,null,null,null,null,null,null,null,null,null,2]
[3,null,null,null,null,null,null,null,null,null,null,null,null,null,null,3]
[4,null,null,null,null,null,null,null,null,null,null,null,null,null,null,4]
[5,null,null,null,null,null,null,null,null,null,null,null,null,null,null,5]
[6,null,null,null,null,null,null,null,null,null,null,null,null,null,null,6]
["Tot",null,null,null,null,null,null,null,null,null,null,null,null,null,null,"Tot"]
[]
["Game  3",null,null,null,null,null,null,null,null,null,null,null,null,null,null,"Game  4"]
["Go to rink ",null,null,null,null,null,null,null,{"$f":"DRAWS!$I$36","v":"1 Left"},null,null,null,null,null,null,"Go to rink ",null,null,null,null,null,null,null,{"$f":"DRAWS!$J$36","v":"6 Left"}]
["End",null,"For",null,null,"Total",null,null,"Ag'nst",null,null,"Total",null,null,null,"End",null,"For",null,null,"Total",null,null,"Ag'nst",null,null,"Total"]
[1,null,null,null,null,null,null,null,null,null,null,null,null,null,null,1]
[2,null,null,null,null,null,null,null,null,null,null,null,null,null,null,2]
[3,null,null,null,null,null,null,null,null,null,null,null,null,null,null,3]
[4,null,null,null,null,null,null,null,null,null,null,null,null,null,null,4]
[5,null,null,null,null,null,null,null,null,null,null,null,null,null,null,5]
[6,null,null,null,null,null,null,null,null,null,null,null,null,null,null,6]
["Tot",null,null,null,null,null,null,null,null,null,null,null,null,null,null,"Tot"]
["Player no.",null,null,null,null,null,null,{"$f":"DRAWS!$F$37","v":36},null,null,"Name"]
[]
[]
[]
["Game  1  ",null,null,null,null,null,null,null,null,null,null,null,null,null,null,"Game  2"]
["Go to rink ",null,null,null,null,null,null,null,{"$f":"DRAWS!$G$37","v":"4 Right"},null,null,null,null,null,null,"Go to rink ",null,null,null,null,null,null,null,{"$f":"DRAWS!$H$37","v":"1 Left"}]
["End",null,"For",null,null,"Total",null,null,"Ag'nst",null,null,"Total",null,null,null,"End",null,"For",null,null,"Total",null,null,"Ag'nst",null,null,"Total"]
[1,null,null,null,null,null,null,null,null,null,null,null,null,null,null,1]
[2,null,null,null,null,null,null,null,null,null,null,null,null,null,null,2]
[3,null,null,null,null,null,null,null,null,null,null,null,null,null,null,3]
[4,null,null,null,null,null,null,null,null,null,null,null,null,null,null,4]
[5,null,null,null,null,null,null,null,null,null,null,null,null,null,null,5]
[6,null,null,null,null,null,null,null,null,null,null,null,null,null,null,6]
["Tot",null,null,null,null,null,null,null,null,null,null,null,null,null,null,"Tot"]
[]
["Game  3",null,null,null,null,null,null,null,null,null,null,null,null,null,null,"Game  4"]
["Go to rink ",null,null,null,null,null,null,null,{"$f":"DRAWS!$I$37","v":"5 Right"},null,null,null,null,null,null,"Go to rink ",null,null,null,null,null,null,null,{"$f":"DRAWS!$J$37","v":"7 Left"}]
["End",null,"For",null,null,"Total",null,null,"Ag'nst",null,null,"Total",null,null,null,"End",null,"For",null,null,"Total",null,null,"Ag'nst",null,null,"Total"]
[1,null,null,null,null,null,null,null,null,null,null,null,null,null,null,1]
[2,null,null,null,null,null,null,null,null,null,null,null,null,null,null,2]
[3,null,null,null,null,null,null,null,null,null,null,null,null,null,null,3]
[4,null,null,null,null,null,null,null,null,null,null,null,null,null,null,4]
[5,null,null,null,null,null,null,null,null,null,null,null,null,null,null,5]
[6,null,null,null,null,null,null,null,null,null,null,null,null,null,null,6]
["Tot",null,null,null,null,null,null,null,null,null,null,null,null,null,null,"Tot"]
["Player no.",null,null,null,null,null,null,{"$f":"DRAWS!$F$38","v":37},null,null,"Name"]
[]
[]
[]
["Game  1  ",null,null,null,null,null,null,null,null,null,null,null,null,null,null,"Game  2"]
["Go to rink ",null,null,null,null,null,null,null,{"$f":"DRAWS!$G$38","v":"5 Left"},null,null,null,null,null,null,"Go to rink ",null,null,null,null,null,null,null,{"$f":"DRAWS!$H$38","v":"7 Right"}]
["End",null,"For",null,null,"Total",null,null,"Ag'nst",null,null,"Total",null,null,null,"End",null,"For",null,null,"Total",null,null,"Ag'nst",null,null,"Total"]
[1,null,null,null,null,null,null,null,null,null,null,null,null,null,null,1]
[2,null,null,null,null,null,null,null,null,null,null,null,null,null,null,2]
[3,null,null,null,null,null,null,null,null,null,null,null,null,null,null,3]
[4,null,null,null,null,null,null,null,null,null,null,null,null,null,null,4]
[5,null,null,null,null,null,null,null,null,null,null,null,null,null,null,5]
[6,null,null,null,null,null,null,null,null,null,null,null,null,null,null,6]
["Tot",null,null,null,null,null,null,null,null,null,null,null,null,null,null,"Tot"]
[]
["Game  3",null,null,null,null,null,null,null,null,null,null,null,null,null,null,"Game  4"]
["Go to rink ",null,null,null,null,null,null,null,{"$f":"DRAWS!$I$38","v":"6 Left"},null,null,null,null,null,null,"Go to rink ",null,null,null,null,null,null,null,{"$f":"DRAWS!$J$38","v":"4 Left"}]
["End",null,"For",null,null,"Total",null,null,"Ag'nst",null,null,"Total",null,null,null,"End",null,"For",null,null,"Total",null,null,"Ag'nst",null,null,"Total"]
[1,null,null,null,null,null,null,null,null,null,null,null,null,null,null,1]
[2,null,null,null,null,null,null,null,null,null,null,null,null,null,null,2]
[3,null,null,null,null,null,null,null,null,null,null,null,null,null,null,3]
[4,null,null,null,null,null,null,null,null,null,null,null,null,null,null,4]
[5,null,null,null,null,null,null,null,null,null,null,null,null,null,null,5]
[6,null,null,null,null,null,null,null,null,null,null,null,null,null,null,6]
["Tot",null,null,null,null,null,null,null,null,null,null,null,null,null,null,"Tot"]
["Player no.",null,null,null,null,null,null,{"$f":"DRAWS!$F$39","v":38},null,null,"Name"]
[]
[]
[]
["Game  1  ",null,null,null,null,null,null,null,null,null,null,null,null,null,null,"Game  2"]
["Go to rink ",null,null,null,null,null,null,null,{"$f":"DRAWS!$G$39","v":"5 Right"},null,null,null,null,null,null,"Go to rink ",null,null,null,null,null,null,null,{"$f":"DRAWS!$H$39","v":"6 Right"}]
["End",null,"For",null,null,"Total",null,null,"Ag'nst",null,null,"Total",null,null,null,"End",null,"For",null,null,"Total",null,null,"Ag'nst",null,null,"Total"]
[1,null,null,null,null,null,null,null,null,null,null,null,null,null,null,1]
[2,null,null,null,null,null,null,null,null,null,null,null,null,null,null,2]
[3,null,null,null,null,null,null,null,null,null,null,null,null,null,null,3]
[4,null,null,null,null,null,null,null,null,null,null,null,null,null,null,4]
[5,null,null,null,null,null,null,null,null,null,null,null,null,null,null,5]
[6,null,null,null,null,null,null,null,null,null,null,null,null,null,null,6]
["Tot",null,null,null,null,null,null,null,null,null,null,null,null,null,null,"Tot"]
[]
["Game  3",null,null,null,null,null,null,null,null,null,null,null,null,null,null,"Game  4"]
["Go to rink ",null,null,null,null,null,null,null,{"$f":"DRAWS!$I$39","v":"2 Left"},null,null,null,null,null,null,"Go to rink ",null,null,null,null,null,null,null,{"$f":"DRAWS!$J$39","v":"3 Right"}]
["End",null,"For",null,null,"Total",null,null,"Ag'nst",null,null,"Total",null,null,null,"End",null,"For",null,null,"Total",null,null,"Ag'nst",null,null,"Total"]
[1,null,null,null,null,null,null,null,null,null,null,null,null,null,null,1]
[2,null,null,null,null,null,null,null,null,null,null,null,null,null,null,2]
[3,null,null,null,null,null,null,null,null,null,null,null,null,null,null,3]
[4,null,null,null,null,null,null,null,null,null,null,null,null,null,null,4]
[5,null,null,null,null,null,null,null,null,null,null,null,null,null,null,5]
[6,null,null,null,null,null,null,null,null,null,null,null,null,null,null,6]
["Tot",null,null,null,null,null,null,null,null,null,null,null,null,null,null,"Tot"]
["Player no.",null,null,null,null,null,null,{"$f":"DRAWS!$F$40","v":39},null,null,"Name"]
[]
[]
[]
["Game  1  ",null,null,null,null,null,null,null,null,null,null,null,null,null,null,"Game  2"]
["Go to rink ",null,null,null,null,null,null,null,{"$f":"DRAWS!$G$40","v":"6 Left"},null,null,null,null,null,null,"Go to rink ",null,null,null,null,null,null,null,{"$f":"DRAWS!$H$40","v":"4 Right"}]
["End",null,"For",null,null,"Total",null,null,"Ag'nst",null,null,"Total",null,null,null,"End",null,"For",null,null,"Total",null,null,"Ag'nst",null,null,"Total"]
[1,null,null,null,null,null,null,null,null,null,null,null,null,null,null,1]
[2,null,null,null,null,null,null,null,null,null,null,null,null,null,null,2]
[3,null,null,null,null,null,null,null,null,null,null,null,null,null,null,3]
[4,null,null,null,null,null,null,null,null,null,null,null,null,null,null,4]
[5,null,null,null,null,null,null,null,null,null,null,null,null,null,null,5]
[6,null,null,null,null,null,null,null,null,null,null,null,null,null,null,6]
["Tot",null,null,null,null,null,null,null,null,null,null,null,null,null,null,"Tot"]
[]
["Game  3",null,null,null,null,null,null,null,null,null,null,null,null,null,null,"Game  4"]
["Go to rink ",null,null,null,null,null,null,null,{"$f":"DRAWS!$I$40","v":"3 Left"},null,null,null,null,null,null,"Go to rink ",null,null,null,null,null,null,null,{"$f":"DRAWS!$J$40","v":"1 Right"}]
["End",null,"For",null,null,"Total",null,null,"Ag'nst",null,null,"Total",null,null,null,"End",null,"For",null,null,"Total",null,null,"Ag'nst",null,null,"Total"]
[1,null,null,null,null,null,null,null,null,null,null,null,null,null,null,1]
[2,null,null,null,null,null,null,null,null,null,null,null,null,null,null,2]
[3,null,null,null,null,null,null,null,null,null,null,null,null,null,null,3]
[4,null,null,null,null,null,null,null,null,null,null,null,null,null,null,4]
[5,null,null,null,null,null,null,null,null,null,null,null,null,null,null,5]
[6,null,null,null,null,null,null,null,null,null,null,null,null,null,null,6]
["Tot",null,null,null,null,null,null,null,null,null,null,null,null,null,null,"Tot"]
["Player no.",null,null,null,null,null,null,{"$f":"DRAWS!$F$41","v":40},null,null,"Name"]
[]
[]
[]
["Game  1  ",null,null,null,null,null,null,null,null,null,null,null,null,null,null,"Game  2"]
["Go to rink ",null,null,null,null,null,null,null,{"$f":"DRAWS!$G$41","v":"7 Left"},null,null,null,null,null,null,"Go to rink ",null,null,null,null,null,null,null,{"$f":"DRAWS!$H$41","v":"7 Left"}]
["End",null,"For",null,null,"Total",null,null,"Ag'nst",null,null,"Total",null,null,null,"End",null,"For",null,null,"Total",null,null,"Ag'nst",null,null,"Total"]
[1,null,null,null,null,null,null,null,null,null,null,null,null,null,null,1]
[2,null,null,null,null,null,null,null,null,null,null,null,null,null,null,2]
[3,null,null,null,null,null,null,null,null,null,null,null,null,null,null,3]
[4,null,null,null,null,null,null,null,null,null,null,null,null,null,null,4]
[5,null,null,null,null,null,null,null,null,null,null,null,null,null,null,5]
[6,null,null,null,null,null,null,null,null,null,null,null,null,null,null,6]
["Tot",null,null,null,null,null,null,null,null,null,null,null,null,null,null,"Tot"]
[]
["Game  3",null,null,null,null,null,null,null,null,null,null,null,null,null,null,"Game  4"]
["Go to rink ",null,null,null,null,null,null,null,{"$f":"DRAWS!$I$41","v":"7 Left"},null,null,null,null,null,null,"Go to rink ",null,null,null,null,null,null,null,{"$f":"DRAWS!$J$41","v":"7 Left"}]
["End",null,"For",null,null,"Total",null,null,"Ag'nst",null,null,"Total",null,null,null,"End",null,"For",null,null,"Total",null,null,"Ag'nst",null,null,"Total"]
[1,null,null,null,null,null,null,null,null,null,null,null,null,null,null,1]
[2,null,null,null,null,null,null,null,null,null,null,null,null,null,null,2]
[3,null,null,null,null,null,null,null,null,null,null,null,null,null,null,3]
[4,null,null,null,null,null,null,null,null,null,null,null,null,null,null,4]
[5,null,null,null,null,null,null,null,null,null,null,null,null,null,null,5]
[6,null,null,null,null,null,null,null,null,null,null,null,null,null,null,6]
["Tot",null,null,null,null,null,null,null,null,null,null,null,null,null,null,"Tot"]
["Player no.",null,null,null,null,null,null,{"$f":"DRAWS!$F$42","v":41},null,null,"Name"]
[]
[]
[]
["Game  1  ",null,null,null,null,null,null,null,null,null,null,null,null,null,null,"Game  2"]
["Go to rink ",null,null,null,null,null,null,null,{"$f":"DRAWS!$G$42","v":"7 Left"},null,null,null,null,null,null,"Go to rink ",null,null,null,null,null,null,null,{"$f":"DRAWS!$H$42","v":"7 Left"}]
["End",null,"For",null,null,"Total",null,null,"Ag'nst",null,null,"Total",null,null,null,"End",null,"For",null,null,"Total",null,null,"Ag'nst",null,null,"Total"]
[1,null,null,null,null,null,null,null,null,null,null,null,null,null,null,1]
[2,null,null,null,null,null,null,null,null,null,null,null,null,null,null,2]
[3,null,null,null,null,null,null,null,null,null,null,null,null,null,null,3]
[4,null,null,null,null,null,null,null,null,null,null,null,null,null,null,4]
[5,null,null,null,null,null,null,null,null,null,null,null,null,null,null,5]
[6,null,null,null,null,null,null,null,null,null,null,null,null,null,null,6]
["Tot",null,null,null,null,null,null,null,null,null,null,null,null,null,null,"Tot"]
[]
["Game  3",null,null,null,null,null,null,null,null,null,null,null,null,null,null,"Game  4"]
["Go to rink ",null,null,null,null,null,null,null,{"$f":"DRAWS!$I$42","v":"7 Left"},null,null,null,null,null,null,"Go to rink ",null,null,null,null,null,null,null,{"$f":"DRAWS!$J$42","v":"7 Left"}]
["End",null,"For",null,null,"Total",null,null,"Ag'nst",null,null,"Total",null,null,null,"End",null,"For",null,null,"Total",null,null,"Ag'nst",null,null,"Total"]
[1,null,null,null,null,null,null,null,null,null,null,null,null,null,null,1]
[2,null,null,null,null,null,null,null,null,null,null,null,null,null,null,2]
[3,null,null,null,null,null,null,null,null,null,null,null,null,null,null,3]
[4,null,null,null,null,null,null,null,null,null,null,null,null,null,null,4]
[5,null,null,null,null,null,null,null,null,null,null,null,null,null,null,5]
[6,null,null,null,null,null,null,null,null,null,null,null,null,null,null,6]
["Tot",null,null,null,null,null,null,null,null,null,null,null,null,null,null,"Tot"]
["Player no.",null,null,null,null,null,null,{"$f":"DRAWS!$F$43","v":42},null,null,"Name"]
[]
[]
[]
["Game  1  ",null,null,null,null,null,null,null,null,null,null,null,null,null,null,"Game  2"]
["Go to rink ",null,null,null,null,null,null,null,{"$f":"DRAWS!$G$43","v":"7 Left"},null,null,null,null,null,null,"Go to rink ",null,null,null,null,null,null,null,{"$f":"DRAWS!$H$43","v":"7 Left"}]
["End",null,"For",null,null,"Total",null,null,"Ag'nst",null,null,"Total",null,null,null,"End",null,"For",null,null,"Total",null,null,"Ag'nst",null,null,"Total"]
[1,null,null,null,null,null,null,null,null,null,null,null,null,null,null,1]
[2,null,null,null,null,null,null,null,null,null,null,null,null,null,null,2]
[3,null,null,null,null,null,null,null,null,null,null,null,null,null,null,3]
[4,null,null,null,null,null,null,null,null,null,null,null,null,null,null,4]
[5,null,null,null,null,null,null,null,null,null,null,null,null,null,null,5]
[6,null,null,null,null,null,null,null,null,null,null,null,null,null,null,6]
["Tot",null,null,null,null,null,null,null,null,null,null,null,null,null,null,"Tot"]
[]
["Game  3",null,null,null,null,null,null,null,null,null,null,null,null,null,null,"Game  4"]
["Go to rink ",null,null,null,null,null,null,null,{"$f":"DRAWS!$I$43","v":"7 Left"},null,null,null,null,null,null,"Go to rink ",null,null,null,null,null,null,null,{"$f":"DRAWS!$J$43","v":"7 Left"}]
["End",null,"For",null,null,"Total",null,null,"Ag'nst",null,null,"Total",null,null,null,"End",null,"For",null,null,"Total",null,null,"Ag'nst",null,null,"Total"]
[1,null,null,null,null,null,null,null,null,null,null,null,null,null,null,1]
[2,null,null,null,null,null,null,null,null,null,null,null,null,null,null,2]
[3,null,null,null,null,null,null,null,null,null,null,null,null,null,null,3]
[4,null,null,null,null,null,null,null,null,null,null,null,null,null,null,4]
[5,null,null,null,null,null,null,null,null,null,null,null,null,null,null,5]
[6,null,null,null,null,null,null,null,null,null,null,null,null,null,null,6]
["Tot",null,null,null,null,null,null,null,null,null,null,null,null,null,null,"Tot"]
["Player no.",null,null,null,null,null,null,{"$f":"DRAWS!$F$44","v":43},null,null,"Name"]
[]
[]
[]
["Game  1  ",null,null,null,null,null,null,null,null,null,null,null,null,null,null,"Game  2"]
["Go to rink ",null,null,null,null,null,null,null,{"$f":"DRAWS!$G$44","v":0},null,null,null,null,null,null,"Go to rink ",null,null,null,null,null,null,null,{"$f":"DRAWS!$H$44","v":0}]
["End",null,"For",null,null,"Total",null,null,"Ag'nst",null,null,"Total",null,null,null,"End",null,"For",null,null,"Total",null,null,"Ag'nst",null,null,"Total"]
[1,null,null,null,null,null,null,null,null,null,null,null,null,null,null,1]
[2,null,null,null,null,null,null,null,null,null,null,null,null,null,null,2]
[3,null,null,null,null,null,null,null,null,null,null,null,null,null,null,3]
[4,null,null,null,null,null,null,null,null,null,null,null,null,null,null,4]
[5,null,null,null,null,null,null,null,null,null,null,null,null,null,null,5]
[6,null,null,null,null,null,null,null,null,null,null,null,null,null,null,6]
["Tot",null,null,null,null,null,null,null,null,null,null,null,null,null,null,"Tot"]
[]
["Game  3",null,null,null,null,null,null,null,null,null,null,null,null,null,null,"Game  4"]
["Go to rink ",null,null,null,null,null,null,null,{"$f":"DRAWS!$I$44","v":0},null,null,null,null,null,null,"Go to rink ",null,null,null,null,null,null,null,{"$f":"DRAWS!$J$44","v":0}]
["End",null,"For",null,null,"Total",null,null,"Ag'nst",null,null,"Total",null,null,null,"End",null,"For",null,null,"Total",null,null,"Ag'nst",null,null,"Total"]
[1,null,null,null,null,null,null,null,null,null,null,null,null,null,null,1]
[2,null,null,null,null,null,null,null,null,null,null,null,null,null,null,2]
[3,null,null,null,null,null,null,null,null,null,null,null,null,null,null,3]
[4,null,null,null,null,null,null,null,null,null,null,null,null,null,null,4]
[5,null,null,null,null,null,null,null,null,null,null,null,null,null,null,5]
[6,null,null,null,null,null,null,null,null,null,null,null,null,null,null,6]
["Tot",null,null,null,null,null,null,null,null,null,null,null,null,null,null,"Tot"]
["Player no.",null,null,null,null,null,null,{"$f":"DRAWS!$F$45","v":44},null,null,"Name"]
[]
[]
[]
["Game  1  ",null,null,null,null,null,null,null,null,null,null,null,null,null,null,"Game  2"]
["Go to rink ",null,null,null,null,null,null,null,{"$f":"DRAWS!$G$45","v":0},null,null,null,null,null,null,"Go to rink ",null,null,null,null,null,null,null,{"$f":"DRAWS!$H$45","v":0}]
["End",null,"For",null,null,"Total",null,null,"Ag'nst",null,null,"Total",null,null,null,"End",null,"For",null,null,"Total",null,null,"Ag'nst",null,null,"Total"]
[1,null,null,null,null,null,null,null,null,null,null,null,null,null,null,1]
[2,null,null,null,null,null,null,null,null,null,null,null,null,null,null,2]
[3,null,null,null,null,null,null,null,null,null,null,null,null,null,null,3]
[4,null,null,null,null,null,null,null,null,null,null,null,null,null,null,4]
[5,null,null,null,null,null,null,null,null,null,null,null,null,null,null,5]
[6,null,null,null,null,null,null,null,null,null,null,null,null,null,null,6]
["Tot",null,null,null,null,null,null,null,null,null,null,null,null,null,null,"Tot"]
[]
["Game  3",null,null,null,null,null,null,null,null,null,null,null,null,null,null,"Game  4"]
["Go to rink ",null,null,null,null,null,null,null,{"$f":"DRAWS!$I$45","v":0},null,null,null,null,null,null,"Go to rink ",null,null,null,null,null,null,null,{"$f":"DRAWS!$J$45","v":0}]
["End",null,"For",null,null,"Total",null,null,"Ag'nst",null,null,"Total",null,null,null,"End",null,"For",null,null,"Total",null,null,"Ag'nst",null,null,"Total"]
[1,null,null,null,null,null,null,null,null,null,null,null,null,null,null,1]
[2,null,null,null,null,null,null,null,null,null,null,null,null,null,null,2]
[3,null,null,null,null,null,null,null,null,null,null,null,null,null,null,3]
[4,null,null,null,null,null,null,null,null,null,null,null,null,null,null,4]
[5,null,null,null,null,null,null,null,null,null,null,null,null,null,null,5]
[6,null,null,null,null,null,null,null,null,null,null,null,null,null,null,6]
["Tot",null,null,null,null,null,null,null,null,null,null,null,null,null,null,"Tot"]
["Player no.",null,null,null,null,null,null,{"$f":"DRAWS!$F$46","v":45},null,null,"Name"]
[]
[]
[]
["Game  1  ",null,null,null,null,null,null,null,null,null,null,null,null,null,null,"Game  2"]
["Go to rink ",null,null,null,null,null,null,null,{"$f":"DRAWS!$G$46","v":0},null,null,null,null,null,null,"Go to rink ",null,null,null,null,null,null,null,{"$f":"DRAWS!$H$46","v":0}]
["End",null,"For",null,null,"Total",null,null,"Ag'nst",null,null,"Total",null,null,null,"End",null,"For",null,null,"Total",null,null,"Ag'nst",null,null,"Total"]
[1,null,null,null,null,null,null,null,null,null,null,null,null,null,null,1]
[2,null,null,null,null,null,null,null,null,null,null,null,null,null,null,2]
[3,null,null,null,null,null,null,null,null,null,null,null,null,null,null,3]
[4,null,null,null,null,null,null,null,null,null,null,null,null,null,null,4]
[5,null,null,null,null,null,null,null,null,null,null,null,null,null,null,5]
[6,null,null,null,null,null,null,null,null,null,null,null,null,null,null,6]
["Tot",null,null,null,null,null,null,null,null,null,null,null,null,null,null,"Tot"]
[]
["Game  3",null,null,null,null,null,null,null,null,null,null,null,null,null,null,"Game  4"]
["Go to rink ",null,null,null,null,null,null,null,{"$f":"DRAWS!$I$46","v":0},null,null,null,null,null,null,"Go to rink ",null,null,null,null,null,null,null,{"$f":"DRAWS!$J$46","v":0}]
["End",null,"For",null,null,"Total",null,null,"Ag'nst",null,null,"Total",null,null,null,"End",null,"For",null,null,"Total",null,null,"Ag'nst",null,null,"Total"]
[1,null,null,null,null,null,null,null,null,null,null,null,null,null,null,1]
[2,null,null,null,null,null,null,null,null,null,null,null,null,null,null,2]
[3,null,null,null,null,null,null,null,null,null,null,null,null,null,null,3]
[4,null,null,null,null,null,null,null,null,null,null,null,null,null,null,4]
[5,null,null,null,null,null,null,null,null,null,null,null,null,null,null,5]
[6,null,null,null,null,null,null,null,null,null,null,null,null,null,null,6]
["Tot",null,null,null,null,null,null,null,null,null,null,null,null,null,null,"Tot"]
["Player no.",null,null,null,null,null,null,{"$f":"DRAWS!$F$47","v":46},null,null,"Name"]
[]
[]
[]
["Game  1  ",null,null,null,null,null,null,null,null,null,null,null,null,null,null,"Game  2"]
["Go to rink ",null,null,null,null,null,null,null,{"$f":"DRAWS!$G$47","v":0},null,null,null,null,null,null,"Go to rink ",null,null,null,null,null,null,null,{"$f":"DRAWS!$H$47","v":0}]
["End",null,"For",null,null,"Total",null,null,"Ag'nst",null,null,"Total",null,null,null,"End",null,"For",null,null,"Total",null,null,"Ag'nst",null,null,"Total"]
[1,null,null,null,null,null,null,null,null,null,null,null,null,null,null,1]
[2,null,null,null,null,null,null,null,null,null,null,null,null,null,null,2]
[3,null,null,null,null,null,null,null,null,null,null,null,null,null,null,3]
[4,null,null,null,null,null,null,null,null,null,null,null,null,null,null,4]
[5,null,null,null,null,null,null,null,null,null,null,null,null,null,null,5]
[6,null,null,null,null,null,null,null,null,null,null,null,null,null,null,6]
["Tot",null,null,null,null,null,null,null,null,null,null,null,null,null,null,"Tot"]
[]
["Game  3",null,null,null,null,null,null,null,null,null,null,null,null,null,null,"Game  4"]
["Go to rink ",null,null,null,null,null,null,null,{"$f":"DRAWS!$I$47","v":0},null,null,null,null,null,null,"Go to rink ",null,null,null,null,null,null,null,{"$f":"DRAWS!$J$47","v":0}]
["End",null,"For",null,null,"Total",null,null,"Ag'nst",null,null,"Total",null,null,null,"End",null,"For",null,null,"Total",null,null,"Ag'nst",null,null,"Total"]
[1,null,null,null,null,null,null,null,null,null,null,null,null,null,null,1]
[2,null,null,null,null,null,null,null,null,null,null,null,null,null,null,2]
[3,null,null,null,null,null,null,null,null,null,null,null,null,null,null,3]
[4,null,null,null,null,null,null,null,null,null,null,null,null,null,null,4]
[5,null,null,null,null,null,null,null,null,null,null,null,null,null,null,5]
[6,null,null,null,null,null,null,null,null,null,null,null,null,null,null,6]
["Tot",null,null,null,null,null,null,null,null,null,null,null,null,null,null,"Tot"]
["Player no.",null,null,null,null,null,null,{"$f":"DRAWS!$F$48","v":47},null,null,"Name"]
[]
[]
[]
["Game  1  ",null,null,null,null,null,null,null,null,null,null,null,null,null,null,"Game  2"]
["Go to rink ",null,null,null,null,null,null,null,{"$f":"DRAWS!$G$48","v":0},null,null,null,null,null,null,"Go to rink ",null,null,null,null,null,null,null,{"$f":"DRAWS!$H$48","v":0}]
["End",null,"For",null,null,"Total",null,null,"Ag'nst",null,null,"Total",null,null,null,"End",null,"For",null,null,"Total",null,null,"Ag'nst",null,null,"Total"]
[1,null,null,null,null,null,null,null,null,null,null,null,null,null,null,1]
[2,null,null,null,null,null,null,null,null,null,null,null,null,null,null,2]
[3,null,null,null,null,null,null,null,null,null,null,null,null,null,null,3]
[4,null,null,null,null,null,null,null,null,null,null,null,null,null,null,4]
[5,null,null,null,null,null,null,null,null,null,null,null,null,null,null,5]
[6,null,null,null,null,null,null,null,null,null,null,null,null,null,null,6]
["Tot",null,null,null,null,null,null,null,null,null,null,null,null,null,null,"Tot"]
[]
["Game  3",null,null,null,null,null,null,null,null,null,null,null,null,null,null,"Game  4"]
["Go to rink ",null,null,null,null,null,null,null,{"$f":"DRAWS!$I$48","v":0},null,null,null,null,null,null,"Go to rink ",null,null,null,null,null,null,null,{"$f":"DRAWS!$J$48","v":0}]
["End",null,"For",null,null,"Total",null,null,"Ag'nst",null,null,"Total",null,null,null,"End",null,"For",null,null,"Total",null,null,"Ag'nst",null,null,"Total"]
[1,null,null,null,null,null,null,null,null,null,null,null,null,null,null,1]
[2,null,null,null,null,null,null,null,null,null,null,null,null,null,null,2]
[3,null,null,null,null,null,null,null,null,null,null,null,null,null,null,3]
[4,null,null,null,null,null,null,null,null,null,null,null,null,null,null,4]
[5,null,null,null,null,null,null,null,null,null,null,null,null,null,null,5]
[6,null,null,null,null,null,null,null,null,null,null,null,null,null,null,6]
["Tot",null,null,null,null,null,null,null,null,null,null,null,null,null,null,"Tot"]
["Player no.",null,null,null,null,null,null,{"$f":"DRAWS!$F$49","v":48},null,null,"Name"]
[]
[]
[]
["Game  1  ",null,null,null,null,null,null,null,null,null,null,null,null,null,null,"Game  2"]
["Go to rink ",null,null,null,null,null,null,null,{"$f":"DRAWS!$G$49","v":0},null,null,null,null,null,null,"Go to rink ",null,null,null,null,null,null,null,{"$f":"DRAWS!$H$49","v":0}]
["End",null,"For",null,null,"Total",null,null,"Ag'nst",null,null,"Total",null,null,null,"End",null,"For",null,null,"Total",null,null,"Ag'nst",null,null,"Total"]
[1,null,null,null,null,null,null,null,null,null,null,null,null,null,null,1]
[2,null,null,null,null,null,null,null,null,null,null,null,null,null,null,2]
[3,null,null,null,null,null,null,null,null,null,null,null,null,null,null,3]
[4,null,null,null,null,null,null,null,null,null,null,null,null,null,null,4]
[5,null,null,null,null,null,null,null,null,null,null,null,null,null,null,5]
[6,null,null,null,null,null,null,null,null,null,null,null,null,null,null,6]
["Tot",null,null,null,null,null,null,null,null,null,null,null,null,null,null,"Tot"]
[]
["Game  3",null,null,null,null,null,null,null,null,null,null,null,null,null,null,"Game  4"]
["Go to rink ",null,null,null,null,null,null,null,{"$f":"DRAWS!$I$49","v":0},null,null,null,null,null,null,"Go to rink ",null,null,null,null,null,null,null,{"$f":"DRAWS!$J$49","v":0}]
["End",null,"For",null,null,"Total",null,null,"Ag'nst",null,null,"Total",null,null,null,"End",null,"For",null,null,"Total",null,null,"Ag'nst",null,null,"Total"]
[1,null,null,null,null,null,null,null,null,null,null,null,null,null,null,1]
[2,null,null,null,null,null,null,null,null,null,null,null,null,null,null,2]
[3,null,null,null,null,null,null,null,null,null,null,null,null,null,null,3]
[4,null,null,null,null,null,null,null,null,null,null,null,null,null,null,4]
[5,null,null,null,null,null,null,null,null,null,null,null,null,null,null,5]
[6,null,null,null,null,null,null,null,null,null,null,null,null,null,null,6]
["Tot",null,null,null,null,null,null,null,null,null,null,null,null,null,null,"Tot"]
["Player no.",null,null,null,null,null,null,{"$f":"DRAWS!$F$50","v":49},null,null,"Name"]
[]
[]
[]
["Game  1  ",null,null,null,null,null,null,null,null,null,null,null,null,null,null,"Game  2"]
["Go to rink ",null,null,null,null,null,null,null,{"$f":"DRAWS!$G$50","v":0},null,null,null,null,null,null,"Go to rink ",null,null,null,null,null,null,null,{"$f":"DRAWS!$H$50","v":0}]
["End",null,"For",null,null,"Total",null,null,"Ag'nst",null,null,"Total",null,null,null,"End",null,"For",null,null,"Total",null,null,"Ag'nst",null,null,"Total"]
[1,null,null,null,null,null,null,null,null,null,null,null,null,null,null,1]
[2,null,null,null,null,null,null,null,null,null,null,null,null,null,null,2]
[3,null,null,null,null,null,null,null,null,null,null,null,null,null,null,3]
[4,null,null,null,null,null,null,null,null,null,null,null,null,null,null,4]
[5,null,null,null,null,null,null,null,null,null,null,null,null,null,null,5]
[6,null,null,null,null,null,null,null,null,null,null,null,null,null,null,6]
["Tot",null,null,null,null,null,null,null,null,null,null,null,null,null,null,"Tot"]
[]
["Game  3",null,null,null,null,null,null,null,null,null,null,null,null,null,null,"Game  4"]
["Go to rink ",null,null,null,null,null,null,null,{"$f":"DRAWS!$I$50","v":0},null,null,null,null,null,null,"Go to rink ",null,null,null,null,null,null,null,{"$f":"DRAWS!$J$50","v":0}]
["End",null,"For",null,null,"Total",null,null,"Ag'nst",null,null,"Total",null,null,null,"End",null,"For",null,null,"Total",null,null,"Ag'nst",null,null,"Total"]
[1,null,null,null,null,null,null,null,null,null,null,null,null,null,null,1]
[2,null,null,null,null,null,null,null,null,null,null,null,null,null,null,2]
[3,null,null,null,null,null,null,null,null,null,null,null,null,null,null,3]
[4,null,null,null,null,null,null,null,null,null,null,null,null,null,null,4]
[5,null,null,null,null,null,null,null,null,null,null,null,null,null,null,5]
[6,null,null,null,null,null,null,null,null,null,null,null,null,null,null,6]
["Tot",null,null,null,null,null,null,null,null,null,null,null,null,null,null,"Tot"]
["Player no.",null,null,null,null,null,null,{"$f":"DRAWS!$F$51","v":50},null,null,"Name"]
[]
[]
[]
["Game  1  ",null,null,null,null,null,null,null,null,null,null,null,null,null,null,"Game  2"]
["Go to rink ",null,null,null,null,null,null,null,{"$f":"DRAWS!$G$51","v":0},null,null,null,null,null,null,"Go to rink ",null,null,null,null,null,null,null,{"$f":"DRAWS!$H$51","v":0}]
["End",null,"For",null,null,"Total",null,null,"Ag'nst",null,null,"Total",null,null,null,"End",null,"For",null,null,"Total",null,null,"Ag'nst",null,null,"Total"]
[1,null,null,null,null,null,null,null,null,null,null,null,null,null,null,1]
[2,null,null,null,null,null,null,null,null,null,null,null,null,null,null,2]
[3,null,null,null,null,null,null,null,null,null,null,null,null,null,null,3]
[4,null,null,null,null,null,null,null,null,null,null,null,null,null,null,4]
[5,null,null,null,null,null,null,null,null,null,null,null,null,null,null,5]
[6,null,null,null,null,null,null,null,null,null,null,null,null,null,null,6]
["Tot",null,null,null,null,null,null,null,null,null,null,null,null,null,null,"Tot"]
[]
["Game  3",null,null,null,null,null,null,null,null,null,null,null,null,null,null,"Game  4"]
["Go to rink ",null,null,null,null,null,null,null,{"$f":"DRAWS!$I$51","v":0},null,null,null,null,null,null,"Go to rink ",null,null,null,null,null,null,null,{"$f":"DRAWS!$J$51","v":0}]
["End",null,"For",null,null,"Total",null,null,"Ag'nst",null,null,"Total",null,null,null,"End",null,"For",null,null,"Total",null,null,"Ag'nst",null,null,"Total"]
[1,null,null,null,null,null,null,null,null,null,null,null,null,null,null,1]
[2,null,null,null,null,null,null,null,null,null,null,null,null,null,null,2]
[3,null,null,null,null,null,null,null,null,null,null,null,null,null,null,3]
[4,null,null,null,null,null,null,null,null,null,null,null,null,null,null,4]
[5,null,null,null,null,null,null,null,null,null,null,null,null,null,null,5]
[6,null,null,null,null,null,null,null,null,null,null,null,null,null,null,6]
["Tot",null,null,null,null,null,null,null,null,null,null,null,null,null,null,"Tot"]
["Player no.",null,null,null,null,null,null,{"$f":"DRAWS!$F$52","v":51},null,null,"Name"]
[]
[]
[]
["Game  1  ",null,null,null,null,null,null,null,null,null,null,null,null,null,null,"Game  2"]
["Go to rink ",null,null,null,null,null,null,null,{"$f":"DRAWS!$G$52","v":0},null,null,null,null,null,null,"Go to rink ",null,null,null,null,null,null,null,{"$f":"DRAWS!$H$52","v":0}]
["End",null,"For",null,null,"Total",null,null,"Ag'nst",null,null,"Total",null,null,null,"End",null,"For",null,null,"Total",null,null,"Ag'nst",null,null,"Total"]
[1,null,null,null,null,null,null,null,null,null,null,null,null,null,null,1]
[2,null,null,null,null,null,null,null,null,null,null,null,null,null,null,2]
[3,null,null,null,null,null,null,null,null,null,null,null,null,null,null,3]
[4,null,null,null,null,null,null,null,null,null,null,null,null,null,null,4]
[5,null,null,null,null,null,null,null,null,null,null,null,null,null,null,5]
[6,null,null,null,null,null,null,null,null,null,null,null,null,null,null,6]
["Tot",null,null,null,null,null,null,null,null,null,null,null,null,null,null,"Tot"]
[]
["Game  3",null,null,null,null,null,null,null,null,null,null,null,null,null,null,"Game  4"]
["Go to rink ",null,null,null,null,null,null,null,{"$f":"DRAWS!$I$52","v":0},null,null,null,null,null,null,"Go to rink ",null,null,null,null,null,null,null,{"$f":"DRAWS!$J$52","v":0}]
["End",null,"For",null,null,"Total",null,null,"Ag'nst",null,null,"Total",null,null,null,"End",null,"For",null,null,"Total",null,null,"Ag'nst",null,null,"Total"]
[1,null,null,null,null,null,null,null,null,null,null,null,null,null,null,1]
[2,null,null,null,null,null,null,null,null,null,null,null,null,null,null,2]
[3,null,null,null,null,null,null,null,null,null,null,null,null,null,null,3]
[4,null,null,null,null,null,null,null,null,null,null,null,null,null,null,4]
[5,null,null,null,null,null,null,null,null,null,null,null,null,null,null,5]
[6,null,null,null,null,null,null,null,null,null,null,null,null,null,null,6]
["Tot",null,null,null,null,null,null,null,null,null,null,null,null,null,null,"Tot"]
["Player no.",null,null,null,null,null,null,{"$f":"DRAWS!$F$53","v":52},null,null,"Name"]
[]
[]
[]
["Game  1  ",null,null,null,null,null,null,null,null,null,null,null,null,null,null,"Game  2"]
["Go to rink ",null,null,null,null,null,null,null,{"$f":"DRAWS!$G$53","v":0},null,null,null,null,null,null,"Go to rink ",null,null,null,null,null,null,null,{"$f":"DRAWS!$H$53","v":0}]
["End",null,"For",null,null,"Total",null,null,"Ag'nst",null,null,"Total",null,null,null,"End",null,"For",null,null,"Total",null,null,"Ag'nst",null,null,"Total"]
[1,null,null,null,null,null,null,null,null,null,null,null,null,null,null,1]
[2,null,null,null,null,null,null,null,null,null,null,null,null,null,null,2]
[3,null,null,null,null,null,null,null,null,null,null,null,null,null,null,3]
[4,null,null,null,null,null,null,null,null,null,null,null,null,null,null,4]
[5,null,null,null,null,null,null,null,null,null,null,null,null,null,null,5]
[6,null,null,null,null,null,null,null,null,null,null,null,null,null,null,6]
["Tot",null,null,null,null,null,null,null,null,null,null,null,null,null,null,"Tot"]
[]
["Game  3",null,null,null,null,null,null,null,null,null,null,null,null,null,null,"Game  4"]
["Go to rink ",null,null,null,null,null,null,null,{"$f":"DRAWS!$I$53","v":0},null,null,null,null,null,null,"Go to rink ",null,null,null,null,null,null,null,{"$f":"DRAWS!$J$53","v":0}]
["End",null,"For",null,null,"Total",null,null,"Ag'nst",null,null,"Total",null,null,null,"End",null,"For",null,null,"Total",null,null,"Ag'nst",null,null,"Total"]
[1,null,null,null,null,null,null,null,null,null,null,null,null,null,null,1]
[2,null,null,null,null,null,null,null,null,null,null,null,null,null,null,2]
[3,null,null,null,null,null,null,null,null,null,null,null,null,null,null,3]
[4,null,null,null,null,null,null,null,null,null,null,null,null,null,null,4]
[5,null,null,null,null,null,null,null,null,null,null,null,null,null,null,5]
[6,null,null,null,null,null,null,null,null,null,null,null,null,null,null,6]
["Tot",null,null,null,null,null,null,null,null,null,null,null,null,null,null,"Tot"]
["Player no.",null,null,null,null,null,null,{"$f":"DRAWS!$F$54","v":53},null,null,"Name"]
[]
[]
[]
["Game  1  ",null,null,null,null,null,null,null,null,null,null,null,null,null,null,"Game  2"]
["Go to rink ",null,null,null,null,null,null,null,{"$f":"DRAWS!$G$54","v":0},null,null,null,null,null,null,"Go to rink ",null,null,null,null,null,null,null,{"$f":"DRAWS!$H$54","v":0}]
["End",null,"For",null,null,"Total",null,null,"Ag'nst",null,null,"Total",null,null,null,"End",null,"For",null,null,"Total",null,null,"Ag'nst",null,null,"Total"]
[1,null,null,null,null,null,null,null,null,null,null,null,null,null,null,1]
[2,null,null,null,null,null,null,null,null,null,null,null,null,null,null,2]
[3,null,null,null,null,null,null,null,null,null,null,null,null,null,null,3]
[4,null,null,null,null,null,null,null,null,null,null,null,null,null,null,4]
[5,null,null,null,null,null,null,null,null,null,null,null,null,null,null,5]
[6,null,null,null,null,null,null,null,null,null,null,null,null,null,null,6]
["Tot",null,null,null,null,null,null,null,null,null,null,null,null,null,null,"Tot"]
[]
["Game  3",null,null,null,null,null,null,null,null,null,null,null,null,null,null,"Game  4"]
["Go to rink ",null,null,null,null,null,null,null,{"$f":"DRAWS!$I$54","v":0},null,null,null,null,null,null,"Go to rink ",null,null,null,null,null,null,null,{"$f":"DRAWS!$J$54","v":0}]
["End",null,"For",null,null,"Total",null,null,"Ag'nst",null,null,"Total",null,null,null,"End",null,"For",null,null,"Total",null,null,"Ag'nst",null,null,"Total"]
[1,null,null,null,null,null,null,null,null,null,null,null,null,null,null,1]
[2,null,null,null,null,null,null,null,null,null,null,null,null,null,null,2]
[3,null,null,null,null,null,null,null,null,null,null,null,null,null,null,3]
[4,null,null,null,null,null,null,null,null,null,null,null,null,null,null,4]
[5,null,null,null,null,null,null,null,null,null,null,null,null,null,null,5]
[6,null,null,null,null,null,null,null,null,null,null,null,null,null,null,6]
["Tot",null,null,null,null,null,null,null,null,null,null,null,null,null,null,"Tot"]
["Player no.",null,null,null,null,null,null,{"$f":"DRAWS!$F$55","v":54},null,null,"Name"]
[]
[]
[]
["Game  1  ",null,null,null,null,null,null,null,null,null,null,null,null,null,null,"Game  2"]
["Go to rink ",null,null,null,null,null,null,null,{"$f":"DRAWS!$G$55","v":0},null,null,null,null,null,null,"Go to rink ",null,null,null,null,null,null,null,{"$f":"DRAWS!$H$55","v":0}]
["End",null,"For",null,null,"Total",null,null,"Ag'nst",null,null,"Total",null,null,null,"End",null,"For",null,null,"Total",null,null,"Ag'nst",null,null,"Total"]
[1,null,null,null,null,null,null,null,null,null,null,null,null,null,null,1]
[2,null,null,null,null,null,null,null,null,null,null,null,null,null,null,2]
[3,null,null,null,null,null,null,null,null,null,null,null,null,null,null,3]
[4,null,null,null,null,null,null,null,null,null,null,null,null,null,null,4]
[5,null,null,null,null,null,null,null,null,null,null,null,null,null,null,5]
[6,null,null,null,null,null,null,null,null,null,null,null,null,null,null,6]
["Tot",null,null,null,null,null,null,null,null,null,null,null,null,null,null,"Tot"]
[]
["Game  3",null,null,null,null,null,null,null,null,null,null,null,null,null,null,"Game  4"]
["Go to rink ",null,null,null,null,null,null,null,{"$f":"DRAWS!$I$55","v":0},null,null,null,null,null,null,"Go to rink ",null,null,null,null,null,null,null,{"$f":"DRAWS!$J$55","v":0}]
["End",null,"For",null,null,"Total",null,null,"Ag'nst",null,null,"Total",null,null,null,"End",null,"For",null,null,"Total",null,null,"Ag'nst",null,null,"Total"]
[1,null,null,null,null,null,null,null,null,null,null,null,null,null,null,1]
[2,null,null,null,null,null,null,null,null,null,null,null,null,null,null,2]
[3,null,null,null,null,null,null,null,null,null,null,null,null,null,null,3]
[4,null,null,null,null,null,null,null,null,null,null,null,null,null,null,4]
[5,null,null,null,null,null,null,null,null,null,null,null,null,null,null,5]
[6,null,null,null,null,null,null,null,null,null,null,null,null,null,null,6]
["Tot",null,null,null,null,null,null,null,null,null,null,null,null,null,null,"Tot"]
["Player no.",null,null,null,null,null,null,{"$f":"DRAWS!$F$56","v":55},null,null,"Name"]
[]
[]
[]
["Game  1  ",null,null,null,null,null,null,null,null,null,null,null,null,null,null,"Game  2"]
["Go to rink ",null,null,null,null,null,null,null,{"$f":"DRAWS!$G$56","v":0},null,null,null,null,null,null,"Go to rink ",null,null,null,null,null,null,null,{"$f":"DRAWS!$H$56","v":0}]
["End",null,"For",null,null,"Total",null,null,"Ag'nst",null,null,"Total",null,null,null,"End",null,"For",null,null,"Total",null,null,"Ag'nst",null,null,"Total"]
[1,null,null,null,null,null,null,null,null,null,null,null,null,null,null,1]
[2,null,null,null,null,null,null,null,null,null,null,null,null,null,null,2]
[3,null,null,null,null,null,null,null,null,null,null,null,null,null,null,3]
[4,null,null,null,null,null,null,null,null,null,null,null,null,null,null,4]
[5,null,null,null,null,null,null,null,null,null,null,null,null,null,null,5]
[6,null,null,null,null,null,null,null,null,null,null,null,null,null,null,6]
["Tot",null,null,null,null,null,null,null,null,null,null,null,null,null,null,"Tot"]
[]
["Game  3",null,null,null,null,null,null,null,null,null,null,null,null,null,null,"Game  4"]
["Go to rink ",null,null,null,null,null,null,null,{"$f":"DRAWS!$I$56","v":0},null,null,null,null,null,null,"Go to rink ",null,null,null,null,null,null,null,{"$f":"DRAWS!$J$56","v":0}]
["End",null,"For",null,null,"Total",null,null,"Ag'nst",null,null,"Total",null,null,null,"End",null,"For",null,null,"Total",null,null,"Ag'nst",null,null,"Total"]
[1,null,null,null,null,null,null,null,null,null,null,null,null,null,null,1]
[2,null,null,null,null,null,null,null,null,null,null,null,null,null,null,2]
[3,null,null,null,null,null,null,null,null,null,null,null,null,null,null,3]
[4,null,null,null,null,null,null,null,null,null,null,null,null,null,null,4]
[5,null,null,null,null,null,null,null,null,null,null,null,null,null,null,5]
[6,null,null,null,null,null,null,null,null,null,null,null,null,null,null,6]
["Tot",null,null,null,null,null,null,null,null,null,null,null,null,null,null,"Tot"]
["Player no.",null,null,null,null,null,null,{"$f":"DRAWS!$F$57","v":56},null,null,"Name"]
[]
[]
[]
["Game  1  ",null,null,null,null,null,null,null,null,null,null,null,null,null,null,"Game  2"]
["Go to rink ",null,null,null,null,null,null,null,{"$f":"DRAWS!$G$57","v":0},null,null,null,null,null,null,"Go to rink ",null,null,null,null,null,null,null,{"$f":"DRAWS!$H$57","v":0}]
["End",null,"For",null,null,"Total",null,null,"Ag'nst",null,null,"Total",null,null,null,"End",null,"For",null,null,"Total",null,null,"Ag'nst",null,null,"Total"]
[1,null,null,null,null,null,null,null,null,null,null,null,null,null,null,1]
[2,null,null,null,null,null,null,null,null,null,null,null,null,null,null,2]
[3,null,null,null,null,null,null,null,null,null,null,null,null,null,null,3]
[4,null,null,null,null,null,null,null,null,null,null,null,null,null,null,4]
[5,null,null,null,null,null,null,null,null,null,null,null,null,null,null,5]
[6,null,null,null,null,null,null,null,null,null,null,null,null,null,null,6]
["Tot",null,null,null,null,null,null,null,null,null,null,null,null,null,null,"Tot"]
[]
["Game  3",null,null,null,null,null,null,null,null,null,null,null,null,null,null,"Game  4"]
["Go to rink ",null,null,null,null,null,null,null,{"$f":"DRAWS!$I$57","v":0},null,null,null,null,null,null,"Go to rink ",null,null,null,null,null,null,null,{"$f":"DRAWS!$J$57","v":0}]
["End",null,"For",null,null,"Total",null,null,"Ag'nst",null,null,"Total",null,null,null,"End",null,"For",null,null,"Total",null,null,"Ag'nst",null,null,"Total"]
[1,null,null,null,null,null,null,null,null,null,null,null,null,null,null,1]
[2,null,null,null,null,null,null,null,null,null,null,null,null,null,null,2]
[3,null,null,null,null,null,null,null,null,null,null,null,null,null,null,3]
[4,null,null,null,null,null,null,null,null,null,null,null,null,null,null,4]
[5,null,null,null,null,null,null,null,null,null,null,null,null,null,null,5]
[6,null,null,null,null,null,null,null,null,null,null,null,null,null,null,6]
["Tot",null,null,null,null,null,null,null,null,null,null,null,null,null,null,"Tot"]
["Player no.",null,null,null,null,null,null,{"$f":"DRAWS!$F$58","v":57},null,null,"Name"]
[]
[]
[]
["Game  1  ",null,null,null,null,null,null,null,null,null,null,null,null,null,null,"Game  2"]
["Go to rink ",null,null,null,null,null,null,null,{"$f":"DRAWS!$G$58","v":0},null,null,null,null,null,null,"Go to rink ",null,null,null,null,null,null,null,{"$f":"DRAWS!$H$58","v":0}]
["End",null,"For",null,null,"Total",null,null,"Ag'nst",null,null,"Total",null,null,null,"End",null,"For",null,null,"Total",null,null,"Ag'nst",null,null,"Total"]
[1,null,null,null,null,null,null,null,null,null,null,null,null,null,null,1]
[2,null,null,null,null,null,null,null,null,null,null,null,null,null,null,2]
[3,null,null,null,null,null,null,null,null,null,null,null,null,null,null,3]
[4,null,null,null,null,null,null,null,null,null,null,null,null,null,null,4]
[5,null,null,null,null,null,null,null,null,null,null,null,null,null,null,5]
[6,null,null,null,null,null,null,null,null,null,null,null,null,null,null,6]
["Tot",null,null,null,null,null,null,null,null,null,null,null,null,null,null,"Tot"]
[]
["Game  3",null,null,null,null,null,null,null,null,null,null,null,null,null,null,"Game  4"]
["Go to rink ",null,null,null,null,null,null,null,{"$f":"DRAWS!$I$58","v":0},null,null,null,null,null,null,"Go to rink ",null,null,null,null,null,null,null,{"$f":"DRAWS!$J$58","v":0}]
["End",null,"For",null,null,"Total",null,null,"Ag'nst",null,null,"Total",null,null,null,"End",null,"For",null,null,"Total",null,null,"Ag'nst",null,null,"Total"]
[1,null,null,null,null,null,null,null,null,null,null,null,null,null,null,1]
[2,null,null,null,null,null,null,null,null,null,null,null,null,null,null,2]
[3,null,null,null,null,null,null,null,null,null,null,null,null,null,null,3]
[4,null,null,null,null,null,null,null,null,null,null,null,null,null,null,4]
[5,null,null,null,null,null,null,null,null,null,null,null,null,null,null,5]
[6,null,null,null,null,null,null,null,null,null,null,null,null,null,null,6]
["Tot",null,null,null,null,null,null,null,null,null,null,null,null,null,null,"Tot"]
["Player no.",null,null,null,null,null,null,{"$f":"DRAWS!$F$59","v":58},null,null,"Name"]
[]
[]
[]
["Game  1  ",null,null,null,null,null,null,null,null,null,null,null,null,null,null,"Game  2"]
["Go to rink ",null,null,null,null,null,null,null,{"$f":"DRAWS!$G$59","v":0},null,null,null,null,null,null,"Go to rink ",null,null,null,null,null,null,null,{"$f":"DRAWS!$H$59","v":0}]
["End",null,"For",null,null,"Total",null,null,"Ag'nst",null,null,"Total",null,null,null,"End",null,"For",null,null,"Total",null,null,"Ag'nst",null,null,"Total"]
[1,null,null,null,null,null,null,null,null,null,null,null,null,null,null,1]
[2,null,null,null,null,null,null,null,null,null,null,null,null,null,null,2]
[3,null,null,null,null,null,null,null,null,null,null,null,null,null,null,3]
[4,null,null,null,null,null,null,null,null,null,null,null,null,null,null,4]
[5,null,null,null,null,null,null,null,null,null,null,null,null,null,null,5]
[6,null,null,null,null,null,null,null,null,null,null,null,null,null,null,6]
["Tot",null,null,null,null,null,null,null,null,null,null,null,null,null,null,"Tot"]
[]
["Game  3",null,null,null,null,null,null,null,null,null,null,null,null,null,null,"Game  4"]
["Go to rink ",null,null,null,null,null,null,null,{"$f":"DRAWS!$I$59","v":0},null,null,null,null,null,null,"Go to rink ",null,null,null,null,null,null,null,{"$f":"DRAWS!$J$59","v":0}]
["End",null,"For",null,null,"Total",null,null,"Ag'nst",null,null,"Total",null,null,null,"End",null,"For",null,null,"Total",null,null,"Ag'nst",null,null,"Total"]
[1,null,null,null,null,null,null,null,null,null,null,null,null,null,null,1]
[2,null,null,null,null,null,null,null,null,null,null,null,null,null,null,2]
[3,null,null,null,null,null,null,null,null,null,null,null,null,null,null,3]
[4,null,null,null,null,null,null,null,null,null,null,null,null,null,null,4]
[5,null,null,null,null,null,null,null,null,null,null,null,null,null,null,5]
[6,null,null,null,null,null,null,null,null,null,null,null,null,null,null,6]
["Tot",null,null,null,null,null,null,null,null,null,null,null,null,null,null,"Tot"]
["Player no.",null,null,null,null,null,null,{"$f":"DRAWS!$F$60","v":59},null,null,"Name"]
[]
[]
[]
["Game  1  ",null,null,null,null,null,null,null,null,null,null,null,null,null,null,"Game  2"]
["Go to rink ",null,null,null,null,null,null,null,{"$f":"DRAWS!$G$60","v":0},null,null,null,null,null,null,"Go to rink ",null,null,null,null,null,null,null,{"$f":"DRAWS!$H$60","v":0}]
["End",null,"For",null,null,"Total",null,null,"Ag'nst",null,null,"Total",null,null,null,"End",null,"For",null,null,"Total",null,null,"Ag'nst",null,null,"Total"]
[1,null,null,null,null,null,null,null,null,null,null,null,null,null,null,1]
[2,null,null,null,null,null,null,null,null,null,null,null,null,null,null,2]
[3,null,null,null,null,null,null,null,null,null,null,null,null,null,null,3]
[4,null,null,null,null,null,null,null,null,null,null,null,null,null,null,4]
[5,null,null,null,null,null,null,null,null,null,null,null,null,null,null,5]
[6,null,null,null,null,null,null,null,null,null,null,null,null,null,null,6]
["Tot",null,null,null,null,null,null,null,null,null,null,null,null,null,null,"Tot"]
[]
["Game  3",null,null,null,null,null,null,null,null,null,null,null,null,null,null,"Game  4"]
["Go to rink ",null,null,null,null,null,null,null,{"$f":"DRAWS!$I$60","v":0},null,null,null,null,null,null,"Go to rink ",null,null,null,null,null,null,null,{"$f":"DRAWS!$J$60","v":0}]
["End",null,"For",null,null,"Total",null,null,"Ag'nst",null,null,"Total",null,null,null,"End",null,"For",null,null,"Total",null,null,"Ag'nst",null,null,"Total"]
[1,null,null,null,null,null,null,null,null,null,null,null,null,null,null,1]
[2,null,null,null,null,null,null,null,null,null,null,null,null,null,null,2]
[3,null,null,null,null,null,null,null,null,null,null,null,null,null,null,3]
[4,null,null,null,null,null,null,null,null,null,null,null,null,null,null,4]
[5,null,null,null,null,null,null,null,null,null,null,null,null,null,null,5]
[6,null,null,null,null,null,null,null,null,null,null,null,null,null,null,6]
["Tot",null,null,null,null,null,null,null,null,null,null,null,null,null,null,"Tot"]
["Player no.",null,null,null,null,null,null,{"$f":"DRAWS!$F$61","v":60},null,null,"Name"]
[]
[]
[]
["Game  1  ",null,null,null,null,null,null,null,null,null,null,null,null,null,null,"Game  2"]
["Go to rink ",null,null,null,null,null,null,null,{"$f":"DRAWS!$G$61","v":0},null,null,null,null,null,null,"Go to rink ",null,null,null,null,null,null,null,{"$f":"DRAWS!$H$61","v":0}]
["End",null,"For",null,null,"Total",null,null,"Ag'nst",null,null,"Total",null,null,null,"End",null,"For",null,null,"Total",null,null,"Ag'nst",null,null,"Total"]
[1,null,null,null,null,null,null,null,null,null,null,null,null,null,null,1]
[2,null,null,null,null,null,null,null,null,null,null,null,null,null,null,2]
[3,null,null,null,null,null,null,null,null,null,null,null,null,null,null,3]
[4,null,null,null,null,null,null,null,null,null,null,null,null,null,null,4]
[5,null,null,null,null,null,null,null,null,null,null,null,null,null,null,5]
[6,null,null,null,null,null,null,null,null,null,null,null,null,null,null,6]
["Tot",null,null,null,null,null,null,null,null,null,null,null,null,null,null,"Tot"]
[]
["Game  3",null,null,null,null,null,null,null,null,null,null,null,null,null,null,"Game  4"]
["Go to rink ",null,null,null,null,null,null,null,{"$f":"DRAWS!$I$61","v":0},null,null,null,null,null,null,"Go to rink ",null,null,null,null,null,null,null,{"$f":"DRAWS!$J$61","v":0}]
["End",null,"For",null,null,"Total",null,null,"Ag'nst",null,null,"Total",null,null,null,"End",null,"For",null,null,"Total",null,null,"Ag'nst",null,null,"Total"]
[1,null,null,null,null,null,null,null,null,null,null,null,null,null,null,1]
[2,null,null,null,null,null,null,null,null,null,null,null,null,null,null,2]
[3,null,null,null,null,null,null,null,null,null,null,null,null,null,null,3]
[4,null,null,null,null,null,null,null,null,null,null,null,null,null,null,4]
[5,null,null,null,null,null,null,null,null,null,null,null,null,null,null,5]
[6,null,null,null,null,null,null,null,null,null,null,null,null,null,null,6]
["Tot",null,null,null,null,null,null,null,null,null,null,null,null,null,null,"Tot"]
["Player no.",null,null,null,null,null,null,{"$f":"DRAWS!$F$62","v":61},null,null,"Name"]
[]
[]
[]
["Game  1  ",null,null,null,null,null,null,null,null,null,null,null,null,null,null,"Game  2"]
["Go to rink ",null,null,null,null,null,null,null,{"$f":"DRAWS!$G$62","v":0},null,null,null,null,null,null,"Go to rink ",null,null,null,null,null,null,null,{"$f":"DRAWS!$H$62","v":0}]
["End",null,"For",null,null,"Total",null,null,"Ag'nst",null,null,"Total",null,null,null,"End",null,"For",null,null,"Total",null,null,"Ag'nst",null,null,"Total"]
[1,null,null,null,null,null,null,null,null,null,null,null,null,null,null,1]
[2,null,null,null,null,null,null,null,null,null,null,null,null,null,null,2]
[3,null,null,null,null,null,null,null,null,null,null,null,null,null,null,3]
[4,null,null,null,null,null,null,null,null,null,null,null,null,null,null,4]
[5,null,null,null,null,null,null,null,null,null,null,null,null,null,null,5]
[6,null,null,null,null,null,null,null,null,null,null,null,null,null,null,6]
["Tot",null,null,null,null,null,null,null,null,null,null,null,null,null,null,"Tot"]
[]
["Game  3",null,null,null,null,null,null,null,null,null,null,null,null,null,null,"Game  4"]
["Go to rink ",null,null,null,null,null,null,null,{"$f":"DRAWS!$I$62","v":0},null,null,null,null,null,null,"Go to rink ",null,null,null,null,null,null,null,{"$f":"DRAWS!$J$62","v":0}]
["End",null,"For",null,null,"Total",null,null,"Ag'nst",null,null,"Total",null,null,null,"End",null,"For",null,null,"Total",null,null,"Ag'nst",null,null,"Total"]
[1,null,null,null,null,null,null,null,null,null,null,null,null,null,null,1]
[2,null,null,null,null,null,null,null,null,null,null,null,null,null,null,2]
[3,null,null,null,null,null,null,null,null,null,null,null,null,null,null,3]
[4,null,null,null,null,null,null,null,null,null,null,null,null,null,null,4]
[5,null,null,null,null,null,null,null,null,null,null,null,null,null,null,5]
[6,null,null,null,null,null,null,null,null,null,null,null,null,null,null,6]
["Tot",null,null,null,null,null,null,null,null,null,null,null,null,null,null,"Tot"]
["Player no.",null,null,null,null,null,null,{"$f":"DRAWS!$F$63","v":62},null,null,"Name"]
[]
[]
[]
["Game  1  ",null,null,null,null,null,null,null,null,null,null,null,null,null,null,"Game  2"]
["Go to rink ",null,null,null,null,null,null,null,{"$f":"DRAWS!$G$63","v":0},null,null,null,null,null,null,"Go to rink ",null,null,null,null,null,null,null,{"$f":"DRAWS!$H$63","v":0}]
["End",null,"For",null,null,"Total",null,null,"Ag'nst",null,null,"Total",null,null,null,"End",null,"For",null,null,"Total",null,null,"Ag'nst",null,null,"Total"]
[1,null,null,null,null,null,null,null,null,null,null,null,null,null,null,1]
[2,null,null,null,null,null,null,null,null,null,null,null,null,null,null,2]
[3,null,null,null,null,null,null,null,null,null,null,null,null,null,null,3]
[4,null,null,null,null,null,null,null,null,null,null,null,null,null,null,4]
[5,null,null,null,null,null,null,null,null,null,null,null,null,null,null,5]
[6,null,null,null,null,null,null,null,null,null,null,null,null,null,null,6]
["Tot",null,null,null,null,null,null,null,null,null,null,null,null,null,null,"Tot"]
[]
["Game  3",null,null,null,null,null,null,null,null,null,null,null,null,null,null,"Game  4"]
["Go to rink ",null,null,null,null,null,null,null,{"$f":"DRAWS!$I$63","v":0},null,null,null,null,null,null,"Go to rink ",null,null,null,null,null,null,null,{"$f":"DRAWS!$J$63","v":0}]
["End",null,"For",null,null,"Total",null,null,"Ag'nst",null,null,"Total",null,null,null,"End",null,"For",null,null,"Total",null,null,"Ag'nst",null,null,"Total"]
[1,null,null,null,null,null,null,null,null,null,null,null,null,null,null,1]
[2,null,null,null,null,null,null,null,null,null,null,null,null,null,null,2]
[3,null,null,null,null,null,null,null,null,null,null,null,null,null,null,3]
[4,null,null,null,null,null,null,null,null,null,null,null,null,null,null,4]
[5,null,null,null,null,null,null,null,null,null,null,null,null,null,null,5]
[6,null,null,null,null,null,null,null,null,null,null,null,null,null,null,6]
["Tot",null,null,null,null,null,null,null,null,null,null,null,null,null,null,"Tot"]
["Player no.",null,null,null,null,null,null,{"$f":"DRAWS!$F$64","v":63},null,null,"Name"]
[]
[]
[]
["Game  1  ",null,null,null,null,null,null,null,null,null,null,null,null,null,null,"Game  2"]
["Go to rink ",null,null,null,null,null,null,null,{"$f":"DRAWS!$G$64","v":0},null,null,null,null,null,null,"Go to rink ",null,null,null,null,null,null,null,{"$f":"DRAWS!$H$64","v":0}]
["End",null,"For",null,null,"Total",null,null,"Ag'nst",null,null,"Total",null,null,null,"End",null,"For",null,null,"Total",null,null,"Ag'nst",null,null,"Total"]
[1,null,null,null,null,null,null,null,null,null,null,null,null,null,null,1]
[2,null,null,null,null,null,null,null,null,null,null,null,null,null,null,2]
[3,null,null,null,null,null,null,null,null,null,null,null,null,null,null,3]
[4,null,null,null,null,null,null,null,null,null,null,null,null,null,null,4]
[5,null,null,null,null,null,null,null,null,null,null,null,null,null,null,5]
[6,null,null,null,null,null,null,null,null,null,null,null,null,null,null,6]
["Tot",null,null,null,null,null,null,null,null,null,null,null,null,null,null,"Tot"]
[]
["Game  3",null,null,null,null,null,null,null,null,null,null,null,null,null,null,"Game  4"]
["Go to rink ",null,null,null,null,null,null,null,{"$f":"DRAWS!$I$64","v":0},null,null,null,null,null,null,"Go to rink ",null,null,null,null,null,null,null,{"$f":"DRAWS!$J$64","v":0}]
["End",null,"For",null,null,"Total",null,null,"Ag'nst",null,null,"Total",null,null,null,"End",null,"For",null,null,"Total",null,null,"Ag'nst",null,null,"Total"]
[1,null,null,null,null,null,null,null,null,null,null,null,null,null,null,1]
[2,null,null,null,null,null,null,null,null,null,null,null,null,null,null,2]
[3,null,null,null,null,null,null,null,null,null,null,null,null,null,null,3]
[4,null,null,null,null,null,null,null,null,null,null,null,null,null,null,4]
[5,null,null,null,null,null,null,null,null,null,null,null,null,null,null,5]
[6,null,null,null,null,null,null,null,null,null,null,null,null,null,null,6]
["Tot",null,null,null,null,null,null,null,null,null,null,null,null,null,null,"Tot"]
["Player no.",null,null,null,null,null,null,{"$f":"DRAWS!$F$65","v":64},null,null,"Name"]
[]
[]
[]
["Game  1  ",null,null,null,null,null,null,null,null,null,null,null,null,null,null,"Game  2"]
["Go to rink ",null,null,null,null,null,null,null,{"$f":"DRAWS!$G$65","v":0},null,null,null,null,null,null,"Go to rink ",null,null,null,null,null,null,null,{"$f":"DRAWS!$H$65","v":0}]
["End",null,"For",null,null,"Total",null,null,"Ag'nst",null,null,"Total",null,null,null,"End",null,"For",null,null,"Total",null,null,"Ag'nst",null,null,"Total"]
[1,null,null,null,null,null,null,null,null,null,null,null,null,null,null,1]
[2,null,null,null,null,null,null,null,null,null,null,null,null,null,null,2]
[3,null,null,null,null,null,null,null,null,null,null,null,null,null,null,3]
[4,null,null,null,null,null,null,null,null,null,null,null,null,null,null,4]
[5,null,null,null,null,null,null,null,null,null,null,null,null,null,null,5]
[6,null,null,null,null,null,null,null,null,null,null,null,null,null,null,6]
["Tot",null,null,null,null,null,null,null,null,null,null,null,null,null,null,"Tot"]
[]
["Game  3",null,null,null,null,null,null,null,null,null,null,null,null,null,null,"Game  4"]
["Go to rink ",null,null,null,null,null,null,null,{"$f":"DRAWS!$I$65","v":0},null,null,null,null,null,null,"Go to rink ",null,null,null,null,null,null,null,{"$f":"DRAWS!$J$65","v":0}]
["End",null,"For",null,null,"Total",null,null,"Ag'nst",null,null,"Total",null,null,null,"End",null,"For",null,null,"Total",null,null,"Ag'nst",null,null,"Total"]
[1,null,null,null,null,null,null,null,null,null,null,null,null,null,null,1]
[2,null,null,null,null,null,null,null,null,null,null,null,null,null,null,2]
[3,null,null,null,null,null,null,null,null,null,null,null,null,null,null,3]
[4,null,null,null,null,null,null,null,null,null,null,null,null,null,null,4]
[5,null,null,null,null,null,null,null,null,null,null,null,null,null,null,5]
[6,null,null,null,null,null,null,null,null,null,null,null,null,null,null,6]
["Tot",null,null,null,null,null,null,null,null,null,null,null,null,null,null,"Tot"]
["Player no.",null,null,null,null,null,null,{"$f":"DRAWS!$F$66","v":65},null,null,"Name"]
[]
[]
[]
["Game  1  ",null,null,null,null,null,null,null,null,null,null,null,null,null,null,"Game  2"]
["Go to rink ",null,null,null,null,null,null,null,{"$f":"DRAWS!$G$66","v":0},null,null,null,null,null,null,"Go to rink ",null,null,null,null,null,null,null,{"$f":"DRAWS!$H$66","v":0}]
["End",null,"For",null,null,"Total",null,null,"Ag'nst",null,null,"Total",null,null,null,"End",null,"For",null,null,"Total",null,null,"Ag'nst",null,null,"Total"]
[1,null,null,null,null,null,null,null,null,null,null,null,null,null,null,1]
[2,null,null,null,null,null,null,null,null,null,null,null,null,null,null,2]
[3,null,null,null,null,null,null,null,null,null,null,null,null,null,null,3]
[4,null,null,null,null,null,null,null,null,null,null,null,null,null,null,4]
[5,null,null,null,null,null,null,null,null,null,null,null,null,null,null,5]
[6,null,null,null,null,null,null,null,null,null,null,null,null,null,null,6]
["Tot",null,null,null,null,null,null,null,null,null,null,null,null,null,null,"Tot"]
[]
["Game  3",null,null,null,null,null,null,null,null,null,null,null,null,null,null,"Game  4"]
["Go to rink ",null,null,null,null,null,null,null,{"$f":"DRAWS!$I$66","v":0},null,null,null,null,null,null,"Go to rink ",null,null,null,null,null,null,null,{"$f":"DRAWS!$J$66","v":0}]
["End",null,"For",null,null,"Total",null,null,"Ag'nst",null,null,"Total",null,null,null,"End",null,"For",null,null,"Total",null,null,"Ag'nst",null,null,"Total"]
[1,null,null,null,null,null,null,null,null,null,null,null,null,null,null,1]
[2,null,null,null,null,null,null,null,null,null,null,null,null,null,null,2]
[3,null,null,null,null,null,null,null,null,null,null,null,null,null,null,3]
[4,null,null,null,null,null,null,null,null,null,null,null,null,null,null,4]
[5,null,null,null,null,null,null,null,null,null,null,null,null,null,null,5]
[6,null,null,null,null,null,null,null,null,null,null,null,null,null,null,6]
["Tot",null,null,null,null,null,null,null,null,null,null,null,null,null,null,"Tot"]
["Player no.",null,null,null,null,null,null,{"$f":"DRAWS!$F$67","v":66},null,null,"Name"]
[]
[]
[]
["Game  1  ",null,null,null,null,null,null,null,null,null,null,null,null,null,null,"Game  2"]
["Go to rink ",null,null,null,null,null,null,null,{"$f":"DRAWS!$G$67","v":0},null,null,null,null,null,null,"Go to rink ",null,null,null,null,null,null,null,{"$f":"DRAWS!$H$67","v":0}]
["End",null,"For",null,null,"Total",null,null,"Ag'nst",null,null,"Total",null,null,null,"End",null,"For",null,null,"Total",null,null,"Ag'nst",null,null,"Total"]
[1,null,null,null,null,null,null,null,null,null,null,null,null,null,null,1]
[2,null,null,null,null,null,null,null,null,null,null,null,null,null,null,2]
[3,null,null,null,null,null,null,null,null,null,null,null,null,null,null,3]
[4,null,null,null,null,null,null,null,null,null,null,null,null,null,null,4]
[5,null,null,null,null,null,null,null,null,null,null,null,null,null,null,5]
[6,null,null,null,null,null,null,null,null,null,null,null,null,null,null,6]
["Tot",null,null,null,null,null,null,null,null,null,null,null,null,null,null,"Tot"]
[]
["Game  3",null,null,null,null,null,null,null,null,null,null,null,null,null,null,"Game  4"]
["Go to rink ",null,null,null,null,null,null,null,{"$f":"DRAWS!$I$67","v":0},null,null,null,null,null,null,"Go to rink ",null,null,null,null,null,null,null,{"$f":"DRAWS!$J$67","v":0}]
["End",null,"For",null,null,"Total",null,null,"Ag'nst",null,null,"Total",null,null,null,"End",null,"For",null,null,"Total",null,null,"Ag'nst",null,null,"Total"]
[1,null,null,null,null,null,null,null,null,null,null,null,null,null,null,1]
[2,null,null,null,null,null,null,null,null,null,null,null,null,null,null,2]
[3,null,null,null,null,null,null,null,null,null,null,null,null,null,null,3]
[4,null,null,null,null,null,null,null,null,null,null,null,null,null,null,4]
[5,null,null,null,null,null,null,null,null,null,null,null,null,null,null,5]
[6,null,null,null,null,null,null,null,null,null,null,null,null,null,null,6]
["Tot",null,null,null,null,null,null,null,null,null,null,null,null,null,null,"Tot"]
["Player no.",null,null,null,null,null,null,{"$f":"DRAWS!$F$68","v":67},null,null,"Name"]
[]
[]
[]
["Game  1  ",null,null,null,null,null,null,null,null,null,null,null,null,null,null,"Game  2"]
["Go to rink ",null,null,null,null,null,null,null,{"$f":"DRAWS!$G$68","v":0},null,null,null,null,null,null,"Go to rink ",null,null,null,null,null,null,null,{"$f":"DRAWS!$H$68","v":0}]
["End",null,"For",null,null,"Total",null,null,"Ag'nst",null,null,"Total",null,null,null,"End",null,"For",null,null,"Total",null,null,"Ag'nst",null,null,"Total"]
[1,null,null,null,null,null,null,null,null,null,null,null,null,null,null,1]
[2,null,null,null,null,null,null,null,null,null,null,null,null,null,null,2]
[3,null,null,null,null,null,null,null,null,null,null,null,null,null,null,3]
[4,null,null,null,null,null,null,null,null,null,null,null,null,null,null,4]
[5,null,null,null,null,null,null,null,null,null,null,null,null,null,null,5]
[6,null,null,null,null,null,null,null,null,null,null,null,null,null,null,6]
["Tot",null,null,null,null,null,null,null,null,null,null,null,null,null,null,"Tot"]
[]
["Game  3",null,null,null,null,null,null,null,null,null,null,null,null,null,null,"Game  4"]
["Go to rink ",null,null,null,null,null,null,null,{"$f":"DRAWS!$I$68","v":0},null,null,null,null,null,null,"Go to rink ",null,null,null,null,null,null,null,{"$f":"DRAWS!$J$68","v":0}]
["End",null,"For",null,null,"Total",null,null,"Ag'nst",null,null,"Total",null,null,null,"End",null,"For",null,null,"Total",null,null,"Ag'nst",null,null,"Total"]
[1,null,null,null,null,null,null,null,null,null,null,null,null,null,null,1]
[2,null,null,null,null,null,null,null,null,null,null,null,null,null,null,2]
[3,null,null,null,null,null,null,null,null,null,null,null,null,null,null,3]
[4,null,null,null,null,null,null,null,null,null,null,null,null,null,null,4]
[5,null,null,null,null,null,null,null,null,null,null,null,null,null,null,5]
[6,null,null,null,null,null,null,null,null,null,null,null,null,null,null,6]
["Tot",null,null,null,null,null,null,null,null,null,null,null,null,null,null,"Tot"]
["Player no.",null,null,null,null,null,null,{"$f":"DRAWS!$F$69","v":68},null,null,"Name"]
[]
[]
[]
["Game  1  ",null,null,null,null,null,null,null,null,null,null,null,null,null,null,"Game  2"]
["Go to rink ",null,null,null,null,null,null,null,{"$f":"DRAWS!$G$69","v":0},null,null,null,null,null,null,"Go to rink ",null,null,null,null,null,null,null,{"$f":"DRAWS!$H$69","v":0}]
["End",null,"For",null,null,"Total",null,null,"Ag'nst",null,null,"Total",null,null,null,"End",null,"For",null,null,"Total",null,null,"Ag'nst",null,null,"Total"]
[1,null,null,null,null,null,null,null,null,null,null,null,null,null,null,1]
[2,null,null,null,null,null,null,null,null,null,null,null,null,null,null,2]
[3,null,null,null,null,null,null,null,null,null,null,null,null,null,null,3]
[4,null,null,null,null,null,null,null,null,null,null,null,null,null,null,4]
[5,null,null,null,null,null,null,null,null,null,null,null,null,null,null,5]
[6,null,null,null,null,null,null,null,null,null,null,null,null,null,null,6]
["Tot",null,null,null,null,null,null,null,null,null,null,null,null,null,null,"Tot"]
[]
["Game  3",null,null,null,null,null,null,null,null,null,null,null,null,null,null,"Game  4"]
["Go to rink ",null,null,null,null,null,null,null,{"$f":"DRAWS!$I$69","v":0},null,null,null,null,null,null,"Go to rink ",null,null,null,null,null,null,null,{"$f":"DRAWS!$J$69","v":0}]
["End",null,"For",null,null,"Total",null,null,"Ag'nst",null,null,"Total",null,null,null,"End",null,"For",null,null,"Total",null,null,"Ag'nst",null,null,"Total"]
[1,null,null,null,null,null,null,null,null,null,null,null,null,null,null,1]
[2,null,null,null,null,null,null,null,null,null,null,null,null,null,null,2]
[3,null,null,null,null,null,null,null,null,null,null,null,null,null,null,3]
[4,null,null,null,null,null,null,null,null,null,null,null,null,null,null,4]
[5,null,null,null,null,null,null,null,null,null,null,null,null,null,null,5]
[6,null,null,null,null,null,null,null,null,null,null,null,null,null,null,6]
["Tot",null,null,null,null,null,null,null,null,null,null,null,null,null,null,"Tot"]
["Player no.",null,null,null,null,null,null,{"$f":"DRAWS!$F$70","v":69},null,null,"Name"]
[]
[]
[]
["Game  1  ",null,null,null,null,null,null,null,null,null,null,null,null,null,null,"Game  2"]
["Go to rink ",null,null,null,null,null,null,null,{"$f":"DRAWS!$G$70","v":0},null,null,null,null,null,null,"Go to rink ",null,null,null,null,null,null,null,{"$f":"DRAWS!$H$70","v":0}]
["End",null,"For",null,null,"Total",null,null,"Ag'nst",null,null,"Total",null,null,null,"End",null,"For",null,null,"Total",null,null,"Ag'nst",null,null,"Total"]
[1,null,null,null,null,null,null,null,null,null,null,null,null,null,null,1]
[2,null,null,null,null,null,null,null,null,null,null,null,null,null,null,2]
[3,null,null,null,null,null,null,null,null,null,null,null,null,null,null,3]
[4,null,null,null,null,null,null,null,null,null,null,null,null,null,null,4]
[5,null,null,null,null,null,null,null,null,null,null,null,null,null,null,5]
[6,null,null,null,null,null,null,null,null,null,null,null,null,null,null,6]
["Tot",null,null,null,null,null,null,null,null,null,null,null,null,null,null,"Tot"]
[]
["Game  3",null,null,null,null,null,null,null,null,null,null,null,null,null,null,"Game  4"]
["Go to rink ",null,null,null,null,null,null,null,{"$f":"DRAWS!$I$70","v":0},null,null,null,null,null,null,"Go to rink ",null,null,null,null,null,null,null,{"$f":"DRAWS!$J$70","v":0}]
["End",null,"For",null,null,"Total",null,null,"Ag'nst",null,null,"Total",null,null,null,"End",null,"For",null,null,"Total",null,null,"Ag'nst",null,null,"Total"]
[1,null,null,null,null,null,null,null,null,null,null,null,null,null,null,1]
[2,null,null,null,null,null,null,null,null,null,null,null,null,null,null,2]
[3,null,null,null,null,null,null,null,null,null,null,null,null,null,null,3]
[4,null,null,null,null,null,null,null,null,null,null,null,null,null,null,4]
[5,null,null,null,null,null,null,null,null,null,null,null,null,null,null,5]
[6,null,null,null,null,null,null,null,null,null,null,null,null,null,null,6]
["Tot",null,null,null,null,null,null,null,null,null,null,null,null,null,null,"Tot"]
["Player no.",null,null,null,null,null,null,{"$f":"DRAWS!$F$71","v":70},null,null,"Name"]
[]
[]
[]
["Game  1  ",null,null,null,null,null,null,null,null,null,null,null,null,null,null,"Game  2"]
["Go to rink ",null,null,null,null,null,null,null,{"$f":"DRAWS!$G$71","v":0},null,null,null,null,null,null,"Go to rink ",null,null,null,null,null,null,null,{"$f":"DRAWS!$H$71","v":0}]
["End",null,"For",null,null,"Total",null,null,"Ag'nst",null,null,"Total",null,null,null,"End",null,"For",null,null,"Total",null,null,"Ag'nst",null,null,"Total"]
[1,null,null,null,null,null,null,null,null,null,null,null,null,null,null,1]
[2,null,null,null,null,null,null,null,null,null,null,null,null,null,null,2]
[3,null,null,null,null,null,null,null,null,null,null,null,null,null,null,3]
[4,null,null,null,null,null,null,null,null,null,null,null,null,null,null,4]
[5,null,null,null,null,null,null,null,null,null,null,null,null,null,null,5]
[6,null,null,null,null,null,null,null,null,null,null,null,null,null,null,6]
["Tot",null,null,null,null,null,null,null,null,null,null,null,null,null,null,"Tot"]
[]
["Game  3",null,null,null,null,null,null,null,null,null,null,null,null,null,null,"Game  4"]
["Go to rink ",null,null,null,null,null,null,null,{"$f":"DRAWS!$I$71","v":0},null,null,null,null,null,null,"Go to rink ",null,null,null,null,null,null,null,{"$f":"DRAWS!$J$71","v":0}]
["End",null,"For",null,null,"Total",null,null,"Ag'nst",null,null,"Total",null,null,null,"End",null,"For",null,null,"Total",null,null,"Ag'nst",null,null,"Total"]
[1,null,null,null,null,null,null,null,null,null,null,null,null,null,null,1]
[2,null,null,null,null,null,null,null,null,null,null,null,null,null,null,2]
[3,null,null,null,null,null,null,null,null,null,null,null,null,null,null,3]
[4,null,null,null,null,null,null,null,null,null,null,null,null,null,null,4]
[5,null,null,null,null,null,null,null,null,null,null,null,null,null,null,5]
[6,null,null,null,null,null,null,null,null,null,null,null,null,null,null,6]
["Tot",null,null,null,null,null,null,null,null,null,null,null,null,null,null,"Tot"]
["Player no.",null,null,null,null,null,null,{"$f":"DRAWS!$F$72","v":71},null,null,"Name"]
[]
[]
[]
["Game  1  ",null,null,null,null,null,null,null,null,null,null,null,null,null,null,"Game  2"]
["Go to rink ",null,null,null,null,null,null,null,{"$f":"DRAWS!$G$72","v":0},null,null,null,null,null,null,"Go to rink ",null,null,null,null,null,null,null,{"$f":"DRAWS!$H$72","v":0}]
["End",null,"For",null,null,"Total",null,null,"Ag'nst",null,null,"Total",null,null,null,"End",null,"For",null,null,"Total",null,null,"Ag'nst",null,null,"Total"]
[1,null,null,null,null,null,null,null,null,null,null,null,null,null,null,1]
[2,null,null,null,null,null,null,null,null,null,null,null,null,null,null,2]
[3,null,null,null,null,null,null,null,null,null,null,null,null,null,null,3]
[4,null,null,null,null,null,null,null,null,null,null,null,null,null,null,4]
[5,null,null,null,null,null,null,null,null,null,null,null,null,null,null,5]
[6,null,null,null,null,null,null,null,null,null,null,null,null,null,null,6]
["Tot",null,null,null,null,null,null,null,null,null,null,null,null,null,null,"Tot"]
[]
["Game  3",null,null,null,null,null,null,null,null,null,null,null,null,null,null,"Game  4"]
["Go to rink ",null,null,null,null,null,null,null,{"$f":"DRAWS!$I$72","v":0},null,null,null,null,null,null,"Go to rink ",null,null,null,null,null,null,null,{"$f":"DRAWS!$J$72","v":0}]
["End",null,"For",null,null,"Total",null,null,"Ag'nst",null,null,"Total",null,null,null,"End",null,"For",null,null,"Total",null,null,"Ag'nst",null,null,"Total"]
[1,null,null,null,null,null,null,null,null,null,null,null,null,null,null,1]
[2,null,null,null,null,null,null,null,null,null,null,null,null,null,null,2]
[3,null,null,null,null,null,null,null,null,null,null,null,null,null,null,3]
[4,null,null,null,null,null,null,null,null,null,null,null,null,null,null,4]
[5,null,null,null,null,null,null,null,null,null,null,null,null,null,null,5]
[6,null,null,null,null,null,null,null,null,null,null,null,null,null,null,6]
["Tot",null,null,null,null,null,null,null,null,null,null,null,null,null,null,"Tot"]
["Player no.",null,null,null,null,null,null,{"$f":"DRAWS!$F$73","v":72},null,null,"Name"]
[]
[]
[]
["Game  1  ",null,null,null,null,null,null,null,null,null,null,null,null,null,null,"Game  2"]
["Go to rink ",null,null,null,null,null,null,null,{"$f":"DRAWS!$G$73","v":0},null,null,null,null,null,null,"Go to rink ",null,null,null,null,null,null,null,{"$f":"DRAWS!$H$73","v":0}]
["End",null,"For",null,null,"Total",null,null,"Ag'nst",null,null,"Total",null,null,null,"End",null,"For",null,null,"Total",null,null,"Ag'nst",null,null,"Total"]
[1,null,null,null,null,null,null,null,null,null,null,null,null,null,null,1]
[2,null,null,null,null,null,null,null,null,null,null,null,null,null,null,2]
[3,null,null,null,null,null,null,null,null,null,null,null,null,null,null,3]
[4,null,null,null,null,null,null,null,null,null,null,null,null,null,null,4]
[5,null,null,null,null,null,null,null,null,null,null,null,null,null,null,5]
[6,null,null,null,null,null,null,null,null,null,null,null,null,null,null,6]
["Tot",null,null,null,null,null,null,null,null,null,null,null,null,null,null,"Tot"]
[]
["Game  3",null,null,null,null,null,null,null,null,null,null,null,null,null,null,"Game  4"]
["Go to rink ",null,null,null,null,null,null,null,{"$f":"DRAWS!$I$73","v":0},null,null,null,null,null,null,"Go to rink ",null,null,null,null,null,null,null,{"$f":"DRAWS!$J$73","v":0}]
["End",null,"For",null,null,"Total",null,null,"Ag'nst",null,null,"Total",null,null,null,"End",null,"For",null,null,"Total",null,null,"Ag'nst",null,null,"Total"]
[1,null,null,null,null,null,null,null,null,null,null,null,null,null,null,1]
[2,null,null,null,null,null,null,null,null,null,null,null,null,null,null,2]
[3,null,null,null,null,null,null,null,null,null,null,null,null,null,null,3]
[4,null,null,null,null,null,null,null,null,null,null,null,null,null,null,4]
[5,null,null,null,null,null,null,null,null,null,null,null,null,null,null,5]
[6,null,null,null,null,null,null,null,null,null,null,null,null,null,null,6]
["Tot",null,null,null,null,null,null,null,null,null,null,null,null,null,null,"Tot"]
["Player no.",null,null,null,null,null,null,{"$f":"DRAWS!$F$74","v":73},null,null,"Name"]
[]
[]
[]
["Game  1  ",null,null,null,null,null,null,null,null,null,null,null,null,null,null,"Game  2"]
["Go to rink ",null,null,null,null,null,null,null,{"$f":"DRAWS!$G$74","v":0},null,null,null,null,null,null,"Go to rink ",null,null,null,null,null,null,null,{"$f":"DRAWS!$H$74","v":0}]
["End",null,"For",null,null,"Total",null,null,"Ag'nst",null,null,"Total",null,null,null,"End",null,"For",null,null,"Total",null,null,"Ag'nst",null,null,"Total"]
[1,null,null,null,null,null,null,null,null,null,null,null,null,null,null,1]
[2,null,null,null,null,null,null,null,null,null,null,null,null,null,null,2]
[3,null,null,null,null,null,null,null,null,null,null,null,null,null,null,3]
[4,null,null,null,null,null,null,null,null,null,null,null,null,null,null,4]
[5,null,null,null,null,null,null,null,null,null,null,null,null,null,null,5]
[6,null,null,null,null,null,null,null,null,null,null,null,null,null,null,6]
["Tot",null,null,null,null,null,null,null,null,null,null,null,null,null,null,"Tot"]
[]
["Game  3",null,null,null,null,null,null,null,null,null,null,null,null,null,null,"Game  4"]
["Go to rink ",null,null,null,null,null,null,null,{"$f":"DRAWS!$I$74","v":0},null,null,null,null,null,null,"Go to rink ",null,null,null,null,null,null,null,{"$f":"DRAWS!$J$74","v":0}]
["End",null,"For",null,null,"Total",null,null,"Ag'nst",null,null,"Total",null,null,null,"End",null,"For",null,null,"Total",null,null,"Ag'nst",null,null,"Total"]
[1,null,null,null,null,null,null,null,null,null,null,null,null,null,null,1]
[2,null,null,null,null,null,null,null,null,null,null,null,null,null,null,2]
[3,null,null,null,null,null,null,null,null,null,null,null,null,null,null,3]
[4,null,null,null,null,null,null,null,null,null,null,null,null,null,null,4]
[5,null,null,null,null,null,null,null,null,null,null,null,null,null,null,5]
[6,null,null,null,null,null,null,null,null,null,null,null,null,null,null,6]
["Tot",null,null,null,null,null,null,null,null,null,null,null,null,null,null,"Tot"]
["Player no.",null,null,null,null,null,null,{"$f":"DRAWS!$F$75","v":74},null,null,"Name"]
[]
[]
[]
["Game  1  ",null,null,null,null,null,null,null,null,null,null,null,null,null,null,"Game  2"]
["Go to rink ",null,null,null,null,null,null,null,{"$f":"DRAWS!$G$75","v":0},null,null,null,null,null,null,"Go to rink ",null,null,null,null,null,null,null,{"$f":"DRAWS!$H$75","v":0}]
["End",null,"For",null,null,"Total",null,null,"Ag'nst",null,null,"Total",null,null,null,"End",null,"For",null,null,"Total",null,null,"Ag'nst",null,null,"Total"]
[1,null,null,null,null,null,null,null,null,null,null,null,null,null,null,1]
[2,null,null,null,null,null,null,null,null,null,null,null,null,null,null,2]
[3,null,null,null,null,null,null,null,null,null,null,null,null,null,null,3]
[4,null,null,null,null,null,null,null,null,null,null,null,null,null,null,4]
[5,null,null,null,null,null,null,null,null,null,null,null,null,null,null,5]
[6,null,null,null,null,null,null,null,null,null,null,null,null,null,null,6]
["Tot",null,null,null,null,null,null,null,null,null,null,null,null,null,null,"Tot"]
[]
["Game  3",null,null,null,null,null,null,null,null,null,null,null,null,null,null,"Game  4"]
["Go to rink ",null,null,null,null,null,null,null,{"$f":"DRAWS!$I$75","v":0},null,null,null,null,null,null,"Go to rink ",null,null,null,null,null,null,null,{"$f":"DRAWS!$J$75","v":0}]
["End",null,"For",null,null,"Total",null,null,"Ag'nst",null,null,"Total",null,null,null,"End",null,"For",null,null,"Total",null,null,"Ag'nst",null,null,"Total"]
[1,null,null,null,null,null,null,null,null,null,null,null,null,null,null,1]
[2,null,null,null,null,null,null,null,null,null,null,null,null,null,null,2]
[3,null,null,null,null,null,null,null,null,null,null,null,null,null,null,3]
[4,null,null,null,null,null,null,null,null,null,null,null,null,null,null,4]
[5,null,null,null,null,null,null,null,null,null,null,null,null,null,null,5]
[6,null,null,null,null,null,null,null,null,null,null,null,null,null,null,6]
["Tot",null,null,null,null,null,null,null,null,null,null,null,null,null,null,"Tot"]
["Player no.",null,null,null,null,null,null,{"$f":"DRAWS!$F$76","v":75},null,null,"Name"]
[]
[]
[]
["Game  1  ",null,null,null,null,null,null,null,null,null,null,null,null,null,null,"Game  2"]
["Go to rink ",null,null,null,null,null,null,null,{"$f":"DRAWS!$G$76","v":0},null,null,null,null,null,null,"Go to rink ",null,null,null,null,null,null,null,{"$f":"DRAWS!$H$76","v":0}]
["End",null,"For",null,null,"Total",null,null,"Ag'nst",null,null,"Total",null,null,null,"End",null,"For",null,null,"Total",null,null,"Ag'nst",null,null,"Total"]
[1,null,null,null,null,null,null,null,null,null,null,null,null,null,null,1]
[2,null,null,null,null,null,null,null,null,null,null,null,null,null,null,2]
[3,null,null,null,null,null,null,null,null,null,null,null,null,null,null,3]
[4,null,null,null,null,null,null,null,null,null,null,null,null,null,null,4]
[5,null,null,null,null,null,null,null,null,null,null,null,null,null,null,5]
[6,null,null,null,null,null,null,null,null,null,null,null,null,null,null,6]
["Tot",null,null,null,null,null,null,null,null,null,null,null,null,null,null,"Tot"]
[]
["Game  3",null,null,null,null,null,null,null,null,null,null,null,null,null,null,"Game  4"]
["Go to rink ",null,null,null,null,null,null,null,{"$f":"DRAWS!$I$76","v":0},null,null,null,null,null,null,"Go to rink ",null,null,null,null,null,null,null,{"$f":"DRAWS!$J$76","v":0}]
["End",null,"For",null,null,"Total",null,null,"Ag'nst",null,null,"Total",null,null,null,"End",null,"For",null,null,"Total",null,null,"Ag'nst",null,null,"Total"]
[1,null,null,null,null,null,null,null,null,null,null,null,null,null,null,1]
[2,null,null,null,null,null,null,null,null,null,null,null,null,null,null,2]
[3,null,null,null,null,null,null,null,null,null,null,null,null,null,null,3]
[4,null,null,null,null,null,null,null,null,null,null,null,null,null,null,4]
[5,null,null,null,null,null,null,null,null,null,null,null,null,null,null,5]
[6,null,null,null,null,null,null,null,null,null,null,null,null,null,null,6]
["Tot",null,null,null,null,null,null,null,null,null,null,null,null,null,null,"Tot"]
["Player no.",null,null,null,null,null,null,{"$f":"DRAWS!$F$77","v":76},null,null,"Name"]
[]
[]
[]
["Game  1  ",null,null,null,null,null,null,null,null,null,null,null,null,null,null,"Game  2"]
["Go to rink ",null,null,null,null,null,null,null,{"$f":"DRAWS!$G$77","v":0},null,null,null,null,null,null,"Go to rink ",null,null,null,null,null,null,null,{"$f":"DRAWS!$H$77","v":0}]
["End",null,"For",null,null,"Total",null,null,"Ag'nst",null,null,"Total",null,null,null,"End",null,"For",null,null,"Total",null,null,"Ag'nst",null,null,"Total"]
[1,null,null,null,null,null,null,null,null,null,null,null,null,null,null,1]
[2,null,null,null,null,null,null,null,null,null,null,null,null,null,null,2]
[3,null,null,null,null,null,null,null,null,null,null,null,null,null,null,3]
[4,null,null,null,null,null,null,null,null,null,null,null,null,null,null,4]
[5,null,null,null,null,null,null,null,null,null,null,null,null,null,null,5]
[6,null,null,null,null,null,null,null,null,null,null,null,null,null,null,6]
["Tot",null,null,null,null,null,null,null,null,null,null,null,null,null,null,"Tot"]
[]
["Game  3",null,null,null,null,null,null,null,null,null,null,null,null,null,null,"Game  4"]
["Go to rink ",null,null,null,null,null,null,null,{"$f":"DRAWS!$I$77","v":0},null,null,null,null,null,null,"Go to rink ",null,null,null,null,null,null,null,{"$f":"DRAWS!$J$77","v":0}]
["End",null,"For",null,null,"Total",null,null,"Ag'nst",null,null,"Total",null,null,null,"End",null,"For",null,null,"Total",null,null,"Ag'nst",null,null,"Total"]
[1,null,null,null,null,null,null,null,null,null,null,null,null,null,null,1]
[2,null,null,null,null,null,null,null,null,null,null,null,null,null,null,2]
[3,null,null,null,null,null,null,null,null,null,null,null,null,null,null,3]
[4,null,null,null,null,null,null,null,null,null,null,null,null,null,null,4]
[5,null,null,null,null,null,null,null,null,null,null,null,null,null,null,5]
[6,null,null,null,null,null,null,null,null,null,null,null,null,null,null,6]
["Tot",null,null,null,null,null,null,null,null,null,null,null,null,null,null,"Tot"]
["Player no.",null,null,null,null,null,null,{"$f":"DRAWS!$F$78","v":77},null,null,"Name"]
[]
[]
[]
["Game  1  ",null,null,null,null,null,null,null,null,null,null,null,null,null,null,"Game  2"]
["Go to rink ",null,null,null,null,null,null,null,{"$f":"DRAWS!$G$78","v":0},null,null,null,null,null,null,"Go to rink ",null,null,null,null,null,null,null,{"$f":"DRAWS!$H$78","v":0}]
["End",null,"For",null,null,"Total",null,null,"Ag'nst",null,null,"Total",null,null,null,"End",null,"For",null,null,"Total",null,null,"Ag'nst",null,null,"Total"]
[1,null,null,null,null,null,null,null,null,null,null,null,null,null,null,1]
[2,null,null,null,null,null,null,null,null,null,null,null,null,null,null,2]
[3,null,null,null,null,null,null,null,null,null,null,null,null,null,null,3]
[4,null,null,null,null,null,null,null,null,null,null,null,null,null,null,4]
[5,null,null,null,null,null,null,null,null,null,null,null,null,null,null,5]
[6,null,null,null,null,null,null,null,null,null,null,null,null,null,null,6]
["Tot",null,null,null,null,null,null,null,null,null,null,null,null,null,null,"Tot"]
[]
["Game  3",null,null,null,null,null,null,null,null,null,null,null,null,null,null,"Game  4"]
["Go to rink ",null,null,null,null,null,null,null,{"$f":"DRAWS!$I$78","v":0},null,null,null,null,null,null,"Go to rink ",null,null,null,null,null,null,null,{"$f":"DRAWS!$J$78","v":0}]
["End",null,"For",null,null,"Total",null,null,"Ag'nst",null,null,"Total",null,null,null,"End",null,"For",null,null,"Total",null,null,"Ag'nst",null,null,"Total"]
[1,null,null,null,null,null,null,null,null,null,null,null,null,null,null,1]
[2,null,null,null,null,null,null,null,null,null,null,null,null,null,null,2]
[3,null,null,null,null,null,null,null,null,null,null,null,null,null,null,3]
[4,null,null,null,null,null,null,null,null,null,null,null,null,null,null,4]
[5,null,null,null,null,null,null,null,null,null,null,null,null,null,null,5]
[6,null,null,null,null,null,null,null,null,null,null,null,null,null,null,6]
["Tot",null,null,null,null,null,null,null,null,null,null,null,null,null,null,"Tot"]
["Player no.",null,null,null,null,null,null,{"$f":"DRAWS!$F$79","v":78},null,null,"Name"]
[]
[]
[]
["Game  1  ",null,null,null,null,null,null,null,null,null,null,null,null,null,null,"Game  2"]
["Go to rink ",null,null,null,null,null,null,null,{"$f":"DRAWS!$G$79","v":0},null,null,null,null,null,null,"Go to rink ",null,null,null,null,null,null,null,{"$f":"DRAWS!$H$79","v":0}]
["End",null,"For",null,null,"Total",null,null,"Ag'nst",null,null,"Total",null,null,null,"End",null,"For",null,null,"Total",null,null,"Ag'nst",null,null,"Total"]
[1,null,null,null,null,null,null,null,null,null,null,null,null,null,null,1]
[2,null,null,null,null,null,null,null,null,null,null,null,null,null,null,2]
[3,null,null,null,null,null,null,null,null,null,null,null,null,null,null,3]
[4,null,null,null,null,null,null,null,null,null,null,null,null,null,null,4]
[5,null,null,null,null,null,null,null,null,null,null,null,null,null,null,5]
[6,null,null,null,null,null,null,null,null,null,null,null,null,null,null,6]
["Tot",null,null,null,null,null,null,null,null,null,null,null,null,null,null,"Tot"]
[]
["Game  3",null,null,null,null,null,null,null,null,null,null,null,null,null,null,"Game  4"]
["Go to rink ",null,null,null,null,null,null,null,{"$f":"DRAWS!$I$79","v":0},null,null,null,null,null,null,"Go to rink ",null,null,null,null,null,null,null,{"$f":"DRAWS!$J$79","v":0}]
["End",null,"For",null,null,"Total",null,null,"Ag'nst",null,null,"Total",null,null,null,"End",null,"For",null,null,"Total",null,null,"Ag'nst",null,null,"Total"]
[1,null,null,null,null,null,null,null,null,null,null,null,null,null,null,1]
[2,null,null,null,null,null,null,null,null,null,null,null,null,null,null,2]
[3,null,null,null,null,null,null,null,null,null,null,null,null,null,null,3]
[4,null,null,null,null,null,null,null,null,null,null,null,null,null,null,4]
[5,null,null,null,null,null,null,null,null,null,null,null,null,null,null,5]
[6,null,null,null,null,null,null,null,null,null,null,null,null,null,null,6]
["Tot",null,null,null,null,null,null,null,null,null,null,null,null,null,null,"Tot"]
["Player no.",null,null,null,null,null,null,{"$f":"DRAWS!$F$80","v":79},null,null,"Name"]
[]
[]
[]
["Game  1  ",null,null,null,null,null,null,null,null,null,null,null,null,null,null,"Game  2"]
["Go to rink ",null,null,null,null,null,null,null,{"$f":"DRAWS!$G$80","v":0},null,null,null,null,null,null,"Go to rink ",null,null,null,null,null,null,null,{"$f":"DRAWS!$H$80","v":0}]
["End",null,"For",null,null,"Total",null,null,"Ag'nst",null,null,"Total",null,null,null,"End",null,"For",null,null,"Total",null,null,"Ag'nst",null,null,"Total"]
[1,null,null,null,null,null,null,null,null,null,null,null,null,null,null,1]
[2,null,null,null,null,null,null,null,null,null,null,null,null,null,null,2]
[3,null,null,null,null,null,null,null,null,null,null,null,null,null,null,3]
[4,null,null,null,null,null,null,null,null,null,null,null,null,null,null,4]
[5,null,null,null,null,null,null,null,null,null,null,null,null,null,null,5]
[6,null,null,null,null,null,null,null,null,null,null,null,null,null,null,6]
["Tot",null,null,null,null,null,null,null,null,null,null,null,null,null,null,"Tot"]
[]
["Game  3",null,null,null,null,null,null,null,null,null,null,null,null,null,null,"Game  4"]
["Go to rink ",null,null,null,null,null,null,null,{"$f":"DRAWS!$I$80","v":0},null,null,null,null,null,null,"Go to rink ",null,null,null,null,null,null,null,{"$f":"DRAWS!$J$80","v":0}]
["End",null,"For",null,null,"Total",null,null,"Ag'nst",null,null,"Total",null,null,null,"End",null,"For",null,null,"Total",null,null,"Ag'nst",null,null,"Total"]
[1,null,null,null,null,null,null,null,null,null,null,null,null,null,null,1]
[2,null,null,null,null,null,null,null,null,null,null,null,null,null,null,2]
[3,null,null,null,null,null,null,null,null,null,null,null,null,null,null,3]
[4,null,null,null,null,null,null,null,null,null,null,null,null,null,null,4]
[5,null,null,null,null,null,null,null,null,null,null,null,null,null,null,5]
[6,null,null,null,null,null,null,null,null,null,null,null,null,null,null,6]
["Tot",null,null,null,null,null,null,null,null,null,null,null,null,null,null,"Tot"]
["Player no.",null,null,null,null,null,null,{"$f":"DRAWS!$F$81","v":80},null,null,"Name"]
[]
[]
[]
["Game  1  ",null,null,null,null,null,null,null,null,null,null,null,null,null,null,"Game  2"]
["Go to rink ",null,null,null,null,null,null,null,{"$f":"DRAWS!$G$81","v":0},null,null,null,null,null,null,"Go to rink ",null,null,null,null,null,null,null,{"$f":"DRAWS!$H$81","v":0}]
["End",null,"For",null,null,"Total",null,null,"Ag'nst",null,null,"Total",null,null,null,"End",null,"For",null,null,"Total",null,null,"Ag'nst",null,null,"Total"]
[1,null,null,null,null,null,null,null,null,null,null,null,null,null,null,1]
[2,null,null,null,null,null,null,null,null,null,null,null,null,null,null,2]
[3,null,null,null,null,null,null,null,null,null,null,null,null,null,null,3]
[4,null,null,null,null,null,null,null,null,null,null,null,null,null,null,4]
[5,null,null,null,null,null,null,null,null,null,null,null,null,null,null,5]
[6,null,null,null,null,null,null,null,null,null,null,null,null,null,null,6]
["Tot",null,null,null,null,null,null,null,null,null,null,null,null,null,null,"Tot"]
[]
["Game  3",null,null,null,null,null,null,null,null,null,null,null,null,null,null,"Game  4"]
["Go to rink ",null,null,null,null,null,null,null,{"$f":"DRAWS!$I$81","v":0},null,null,null,null,null,null,"Go to rink ",null,null,null,null,null,null,null,{"$f":"DRAWS!$J$81","v":0}]
["End",null,"For",null,null,"Total",null,null,"Ag'nst",null,null,"Total",null,null,null,"End",null,"For",null,null,"Total",null,null,"Ag'nst",null,null,"Total"]
[1,null,null,null,null,null,null,null,null,null,null,null,null,null,null,1]
[2,null,null,null,null,null,null,null,null,null,null,null,null,null,null,2]
[3,null,null,null,null,null,null,null,null,null,null,null,null,null,null,3]
[4,null,null,null,null,null,null,null,null,null,null,null,null,null,null,4]
[5,null,null,null,null,null,null,null,null,null,null,null,null,null,null,5]
[6,null,null,null,null,null,null,null,null,null,null,null,null,null,null,6]
["Tot",null,null,null,null,null,null,null,null,null,null,null,null,null,null,"Tot"]
["Player no.",null,null,null,null,null,null,{"$f":"DRAWS!$F$82","v":81},null,null,"Name"]
[]
[]
[]
["Game  1  ",null,null,null,null,null,null,null,null,null,null,null,null,null,null,"Game  2"]
["Go to rink ",null,null,null,null,null,null,null,{"$f":"DRAWS!$G$82","v":0},null,null,null,null,null,null,"Go to rink ",null,null,null,null,null,null,null,{"$f":"DRAWS!$H$82","v":0}]
["End",null,"For",null,null,"Total",null,null,"Ag'nst",null,null,"Total",null,null,null,"End",null,"For",null,null,"Total",null,null,"Ag'nst",null,null,"Total"]
[1,null,null,null,null,null,null,null,null,null,null,null,null,null,null,1]
[2,null,null,null,null,null,null,null,null,null,null,null,null,null,null,2]
[3,null,null,null,null,null,null,null,null,null,null,null,null,null,null,3]
[4,null,null,null,null,null,null,null,null,null,null,null,null,null,null,4]
[5,null,null,null,null,null,null,null,null,null,null,null,null,null,null,5]
[6,null,null,null,null,null,null,null,null,null,null,null,null,null,null,6]
["Tot",null,null,null,null,null,null,null,null,null,null,null,null,null,null,"Tot"]
[]
["Game  3",null,null,null,null,null,null,null,null,null,null,null,null,null,null,"Game  4"]
["Go to rink ",null,null,null,null,null,null,null,{"$f":"DRAWS!$I$82","v":0},null,null,null,null,null,null,"Go to rink ",null,null,null,null,null,null,null,{"$f":"DRAWS!$J$82","v":0}]
["End",null,"For",null,null,"Total",null,null,"Ag'nst",null,null,"Total",null,null,null,"End",null,"For",null,null,"Total",null,null,"Ag'nst",null,null,"Total"]
[1,null,null,null,null,null,null,null,null,null,null,null,null,null,null,1]
[2,null,null,null,null,null,null,null,null,null,null,null,null,null,null,2]
[3,null,null,null,null,null,null,null,null,null,null,null,null,null,null,3]
[4,null,null,null,null,null,null,null,null,null,null,null,null,null,null,4]
[5,null,null,null,null,null,null,null,null,null,null,null,null,null,null,5]
[6,null,null,null,null,null,null,null,null,null,null,null,null,null,null,6]
["Tot",null,null,null,null,null,null,null,null,null,null,null,null,null,null,"Tot"]
["Player no.",null,null,null,null,null,null,{"$f":"DRAWS!$F$83","v":82},null,null,"Name"]
[]
[]
[]
["Game  1  ",null,null,null,null,null,null,null,null,null,null,null,null,null,null,"Game  2"]
["Go to rink ",null,null,null,null,null,null,null,{"$f":"DRAWS!$G$83","v":0},null,null,null,null,null,null,"Go to rink ",null,null,null,null,null,null,null,{"$f":"DRAWS!$H$83","v":0}]
["End",null,"For",null,null,"Total",null,null,"Ag'nst",null,null,"Total",null,null,null,"End",null,"For",null,null,"Total",null,null,"Ag'nst",null,null,"Total"]
[1,null,null,null,null,null,null,null,null,null,null,null,null,null,null,1]
[2,null,null,null,null,null,null,null,null,null,null,null,null,null,null,2]
[3,null,null,null,null,null,null,null,null,null,null,null,null,null,null,3]
[4,null,null,null,null,null,null,null,null,null,null,null,null,null,null,4]
[5,null,null,null,null,null,null,null,null,null,null,null,null,null,null,5]
[6,null,null,null,null,null,null,null,null,null,null,null,null,null,null,6]
["Tot",null,null,null,null,null,null,null,null,null,null,null,null,null,null,"Tot"]
[]
["Game  3",null,null,null,null,null,null,null,null,null,null,null,null,null,null,"Game  4"]
["Go to rink ",null,null,null,null,null,null,null,{"$f":"DRAWS!$I$83","v":0},null,null,null,null,null,null,"Go to rink ",null,null,null,null,null,null,null,{"$f":"DRAWS!$J$83","v":0}]
["End",null,"For",null,null,"Total",null,null,"Ag'nst",null,null,"Total",null,null,null,"End",null,"For",null,null,"Total",null,null,"Ag'nst",null,null,"Total"]
[1,null,null,null,null,null,null,null,null,null,null,null,null,null,null,1]
[2,null,null,null,null,null,null,null,null,null,null,null,null,null,null,2]
[3,null,null,null,null,null,null,null,null,null,null,null,null,null,null,3]
[4,null,null,null,null,null,null,null,null,null,null,null,null,null,null,4]
[5,null,null,null,null,null,null,null,null,null,null,null,null,null,null,5]
[6,null,null,null,null,null,null,null,null,null,null,null,null,null,null,6]
["Tot",null,null,null,null,null,null,null,null,null,null,null,null,null,null,"Tot"]
["Player no.",null,null,null,null,null,null,{"$f":"DRAWS!$F$84","v":83},null,null,"Name"]
[]
[]
[]
["Game  1  ",null,null,null,null,null,null,null,null,null,null,null,null,null,null,"Game  2"]
["Go to rink ",null,null,null,null,null,null,null,{"$f":"DRAWS!$G$84","v":0},null,null,null,null,null,null,"Go to rink ",null,null,null,null,null,null,null,{"$f":"DRAWS!$H$84","v":0}]
["End",null,"For",null,null,"Total",null,null,"Ag'nst",null,null,"Total",null,null,null,"End",null,"For",null,null,"Total",null,null,"Ag'nst",null,null,"Total"]
[1,null,null,null,null,null,null,null,null,null,null,null,null,null,null,1]
[2,null,null,null,null,null,null,null,null,null,null,null,null,null,null,2]
[3,null,null,null,null,null,null,null,null,null,null,null,null,null,null,3]
[4,null,null,null,null,null,null,null,null,null,null,null,null,null,null,4]
[5,null,null,null,null,null,null,null,null,null,null,null,null,null,null,5]
[6,null,null,null,null,null,null,null,null,null,null,null,null,null,null,6]
["Tot",null,null,null,null,null,null,null,null,null,null,null,null,null,null,"Tot"]
[]
["Game  3",null,null,null,null,null,null,null,null,null,null,null,null,null,null,"Game  4"]
["Go to rink ",null,null,null,null,null,null,null,{"$f":"DRAWS!$I$84","v":0},null,null,null,null,null,null,"Go to rink ",null,null,null,null,null,null,null,{"$f":"DRAWS!$J$84","v":0}]
["End",null,"For",null,null,"Total",null,null,"Ag'nst",null,null,"Total",null,null,null,"End",null,"For",null,null,"Total",null,null,"Ag'nst",null,null,"Total"]
[1,null,null,null,null,null,null,null,null,null,null,null,null,null,null,1]
[2,null,null,null,null,null,null,null,null,null,null,null,null,null,null,2]
[3,null,null,null,null,null,null,null,null,null,null,null,null,null,null,3]
[4,null,null,null,null,null,null,null,null,null,null,null,null,null,null,4]
[5,null,null,null,null,null,null,null,null,null,null,null,null,null,null,5]
[6,null,null,null,null,null,null,null,null,null,null,null,null,null,null,6]
["Tot",null,null,null,null,null,null,null,null,null,null,null,null,null,null,"Tot"]
["Player no.",null,null,null,null,null,null,{"$f":"DRAWS!$F$85","v":84},null,null,"Name"]
[]
[]
[]
["Game  1  ",null,null,null,null,null,null,null,null,null,null,null,null,null,null,"Game  2"]
["Go to rink ",null,null,null,null,null,null,null,{"$f":"DRAWS!$G$85","v":0},null,null,null,null,null,null,"Go to rink ",null,null,null,null,null,null,null,{"$f":"DRAWS!$H$85","v":0}]
["End",null,"For",null,null,"Total",null,null,"Ag'nst",null,null,"Total",null,null,null,"End",null,"For",null,null,"Total",null,null,"Ag'nst",null,null,"Total"]
[1,null,null,null,null,null,null,null,null,null,null,null,null,null,null,1]
[2,null,null,null,null,null,null,null,null,null,null,null,null,null,null,2]
[3,null,null,null,null,null,null,null,null,null,null,null,null,null,null,3]
[4,null,null,null,null,null,null,null,null,null,null,null,null,null,null,4]
[5,null,null,null,null,null,null,null,null,null,null,null,null,null,null,5]
[6,null,null,null,null,null,null,null,null,null,null,null,null,null,null,6]
["Tot",null,null,null,null,null,null,null,null,null,null,null,null,null,null,"Tot"]
[]
["Game  3",null,null,null,null,null,null,null,null,null,null,null,null,null,null,"Game  4"]
["Go to rink ",null,null,null,null,null,null,null,{"$f":"DRAWS!$I$85","v":0},null,null,null,null,null,null,"Go to rink ",null,null,null,null,null,null,null,{"$f":"DRAWS!$J$85","v":0}]
["End",null,"For",null,null,"Total",null,null,"Ag'nst",null,null,"Total",null,null,null,"End",null,"For",null,null,"Total",null,null,"Ag'nst",null,null,"Total"]
[1,null,null,null,null,null,null,null,null,null,null,null,null,null,null,1]
[2,null,null,null,null,null,null,null,null,null,null,null,null,null,null,2]
[3,null,null,null,null,null,null,null,null,null,null,null,null,null,null,3]
[4,null,null,null,null,null,null,null,null,null,null,null,null,null,null,4]
[5,null,null,null,null,null,null,null,null,null,null,null,null,null,null,5]
[6,null,null,null,null,null,null,null,null,null,null,null,null,null,null,6]
["Tot",null,null,null,null,null,null,null,null,null,null,null,null,null,null,"Tot"]