{"text_format":"3","workbook":"xlsx","n_sheets":64,"sheets":["T Pts Master","NAMES","Instructions","Entries","TEAMS","DRAW","R 1","R 2","R 3","Total Points","R 1 cds.","R 2 cds","R 3 cds","Cards rear","Finals 32-29","Finals 20 17","Finals 32 29","Finals 28 25","Finals 24 21","19","18","17","16","15","14","13","12","11","10","Finals 16 13","Finals 12 10","Fins 12 10 cds","Fins16 13 cds","Finals 36 33","Finals 40-37","Finals 40 37","Fins 40 37 cds","Fins 36 33 cds","Fins 32 29 cds","Fins 28 25 cds","Fins 24 21 cds","Fins 20 17 cds","40","39","38","37","Finals 36-33","36","35","34","33","32","31","30","29","28","27","26","25","24","23","22","21","20"],"not_rendered":{"macros":1,"external_links":2,"defined_names":23},"read":"whole","date_system":"1900"}

{"sheet":"T Pts Master","index":0,"n_rows":37,"n_cols":42,"rows_kept":37,"hidden":true,"merged":[[0,3,0,39],[1,3,1,39],[2,9,2,10],[2,11,2,12],[2,13,2,14],[2,29,2,30],[2,31,2,32],[2,33,2,34],[3,9,3,10],[3,11,3,12],[3,13,3,14],[3,15,3,16],[3,19,4,19],[3,20,3,21],[3,29,3,30],[3,31,3,32],[3,33,3,34],[3,35,3,36],[3,39,4,39],[3,40,3,41],[5,3,8,3],[5,20,8,20],[5,21,8,21],[5,23,8,23],[9,20,12,20],[9,21,12,21],[13,3,16,3],[13,20,16,20],[13,21,16,21],[13,23,16,23],[17,20,20,20],[17,21,20,21],[21,3,24,3],[21,20,24,20],[21,21,24,21],[21,23,24,23],[25,20,28,20],[25,21,28,21],[29,3,32,3],[29,20,32,20],[29,21,32,21],[29,23,32,23],[33,3,36,3],[33,20,36,20],[33,21,36,21],[33,23,36,23],[33,40,36,40],[33,41,36,41]]}
[{"$nulls":3},{"$f":"Entries!$A$1","v":"2018 District 5 - Mixed Pairs"}]
[{"$nulls":3},{"$f":"Entries!$A$2","v":"20th June 2018"}]
[{"$nulls":9},"Round 1",null,"Round 2",null,"Round 3",{"$nulls":15},"Round 1",null,"Round 2",null,"Round 3"]
[{"$nulls":9},"AvB & CvD",null,"AvC & BvD",null,"AvD & BvC",null,"Totals",{"$nulls":3},"Rank","Selected Sesson",{"$nulls":8},"AvB & CvD",null,"AvC & BvD",null,"AvD & BvC",null,"Totals",{"$nulls":3},"Rank","Selected Sesson"]
[{"$nulls":3},"Section","Team",null,"Lead ","Skip","Club","M'gin","Pts.","M'gin","Pts.","M'gin","Pts.","M'gin","Pts.",{"$nulls":3},"Time","Date",null,"Section","Team",null,"Lead ","Skip","Club","M'gin","Pts.","M'gin","Pts.","M'gin","Pts.","M'gin","Pts.",{"$nulls":3},"Time","Date"]
[{"$nulls":3},1,1,"A",{"$f":"DRAW!D5","v":0},{"$f":"DRAW!E5","v":0},null,{"$f":"'R 1'!$U$6","v":0},{"$f":"'R 1'!$V$6","v":0},{"$f":"'R 2'!$U$6","v":0},{"$f":"'R 2'!$V$6","v":0},{"$f":"'R 3'!$U$6","v":0},{"$f":"'R 3'!$V$6","v":0},{"$f":"J6+L6+N6","v":0},0,{"$f":"(P6*10000)+Q6","v":0},{"$f":"LARGE($R$6:$R$9,1)","v":0},{"$f":"IF(SUM($J$6:$O$9)=0,\"\",IF(R6=S$6,\"1st\",\"\"))","v":""},{"$nulls":3},2,5,"A",{"$f":"DRAW!D9","v":0},{"$f":"DRAW!E9","v":0},null,{"$f":"'R 1'!$AP$6","v":0},{"$f":"'R 1'!$AQ$6","v":0},{"$f":"'R 2'!$AP$6","v":0},{"$f":"'R 2'!$AQ$6","v":0},{"$f":"'R 3'!$AP$6","v":0},{"$f":"'R 3'!$AQ$6","v":0},{"$f":"AD6+AF6+AH6","v":0},0,{"$f":"(AJ6*10000)+AK6","v":0},{"$f":"LARGE($AL$6:$AL$9,1)","v":0},{"$f":"IF(SUM($AD$6:$AI$9)=0,\"\",IF(AL6=AM$6,\"1st\",\"\"))","v":""}]
[{"$nulls":4},2,"B",{"$f":"DRAW!D6","v":0},{"$f":"DRAW!E6","v":0},null,{"$f":"'R 1'!$U$7","v":0},{"$f":"'R 1'!$V$7","v":0},{"$f":"'R 2'!$U$9","v":0},{"$f":"'R 2'!$V$9","v":0},{"$f":"'R 3'!$U$9","v":0},{"$f":"'R 3'!$V$9","v":0},0,0,{"$f":"(P7*10000)+Q7","v":0},null,{"$f":"IF(SUM($AD$6:$AI$9)=0,\"\",IF(R7=S$6,\"1st\",\"\"))","v":""},{"$nulls":4},6,"B",{"$f":"DRAW!D10","v":0},{"$f":"DRAW!E10","v":0},null,{"$f":"'R 1'!$AP$7","v":0},{"$f":"'R 1'!$AQ$7","v":0},{"$f":"'R 2'!$AP$9","v":0},{"$f":"'R 2'!$AQ$9","v":0},{"$f":"'R 3'!$AP$9","v":0},{"$f":"'R 3'!$AQ$9","v":0},0,0,{"$f":"(AJ7*10000)+AK7","v":0},null,{"$f":"IF(SUM($AD$6:$AI$9)=0,\"\",IF(AL7=AM$6,\"1st\",\"\"))","v":""}]
[{"$nulls":4},3,"C",{"$f":"DRAW!D7","v":0},{"$f":"DRAW!E7","v":0},null,{"$f":"'R 1'!$U$9","v":0},{"$f":"'R 1'!$V$9","v":0},{"$f":"'R 2'!$U$7","v":0},{"$f":"'R 2'!$V$7","v":0},{"$f":"'R 3'!$U$10","v":0},{"$f":"'R 3'!$V$10","v":0},0,0,{"$f":"(P8*10000)+Q8","v":0},null,{"$f":"IF(SUM($AD$6:$AI$9)=0,\"\",IF(R8=S$6,\"1st\",\"\"))","v":""},{"$nulls":4},7,"C",{"$f":"DRAW!D11","v":0},{"$f":"DRAW!E11","v":0},null,{"$f":"'R 1'!$AP$9","v":0},{"$f":"'R 1'!$AQ$9","v":0},{"$f":"'R 2'!$AP$7","v":0},{"$f":"'R 2'!$AQ$7","v":0},{"$f":"'R 3'!$AP$10","v":0},{"$f":"'R 3'!$AQ$10","v":0},0,0,{"$f":"(AJ8*10000)+AK8","v":0},null,{"$f":"IF(SUM($AD$6:$AI$9)=0,\"\",IF(AL8=AM$6,\"1st\",\"\"))","v":""}]
[{"$nulls":4},4,"D",{"$f":"DRAW!D8","v":0},{"$f":"DRAW!E8","v":0},null,{"$f":"'R 1'!$U$10","v":0},{"$f":"'R 1'!$V$10","v":0},{"$f":"'R 2'!$U$10","v":0},{"$f":"'R 2'!$V$10","v":0},{"$f":"'R 3'!$U$7","v":0},{"$f":"'R 3'!$V$7","v":0},0,0,{"$f":"(P9*10000)+Q9","v":0},null,{"$f":"IF(SUM($AD$6:$AI$9)=0,\"\",IF(R9=S$6,\"1st\",\"\"))","v":""},{"$nulls":4},8,"D",{"$f":"DRAW!D12","v":0},{"$f":"DRAW!E12","v":0},null,{"$f":"'R 1'!$AP$10","v":0},{"$f":"'R 1'!$AQ$10","v":0},{"$f":"'R 2'!$AP$10","v":0},{"$f":"'R 2'!$AQ$10","v":0},{"$f":"'R 3'!$AP$7","v":0},{"$f":"'R 3'!$AQ$7","v":0},0,0,{"$f":"(AJ9*10000)+AK9","v":0},null,{"$f":"IF(SUM($AD$6:$AI$9)=0,\"\",IF(AL9=AM$6,\"1st\",\"\"))","v":""}]
[]
[]
[]
[]
[{"$nulls":3},3,9,"A",{"$f":"DRAW!D13","v":0},{"$f":"DRAW!E13","v":0},null,{"$f":"'R 1'!$U$12","v":0},{"$f":"'R 1'!$V$12","v":0},{"$f":"'R 2'!$U$12","v":0},{"$f":"'R 2'!$V$12","v":0},{"$f":"'R 3'!$U$12","v":0},{"$f":"'R 3'!$V$12","v":0},{"$f":"J14+L14+N14","v":0},0,{"$f":"(P14*10000)+Q14","v":0},{"$f":"LARGE($R$14:$R$17,1)","v":0},{"$f":"IF(SUM($J$14:$O$17)=0,\"\",IF(R14=$S$14,\"1st\",\"\"))","v":""},{"$nulls":3},4,13,"A",{"$f":"DRAW!D17","v":0},{"$f":"DRAW!E17","v":0},null,{"$f":"'R 1'!$AP$12","v":0},{"$f":"'R 1'!$AQ$12","v":0},{"$f":"'R 2'!$AP$12","v":0},{"$f":"'R 2'!$AQ$12","v":0},{"$f":"'R 3'!$AP$12","v":0},{"$f":"'R 3'!$AQ$12","v":0},{"$f":"AD14+AF14+AH14","v":0},0,{"$f":"(AJ14*10000)+AK14","v":0},{"$f":"LARGE($AL$14:$AL$17,1)","v":0},{"$f":"IF(SUM($AD$14:$AI$17)=0,\"\",IF(AL14=$AM$14,\"1st\",\"\"))","v":""}]
[{"$nulls":4},10,"B",{"$f":"DRAW!D14","v":0},{"$f":"DRAW!E14","v":0},null,{"$f":"'R 1'!$U$13","v":0},{"$f":"'R 1'!$V$13","v":0},{"$f":"'R 2'!$U$15","v":0},{"$f":"'R 2'!$V$15","v":0},{"$f":"'R 3'!$U$15","v":0},{"$f":"'R 3'!$V$15","v":0},0,0,{"$f":"(P15*10000)+Q15","v":0},null,{"$f":"IF(SUM($J$14:$O$17)=0,\"\",IF(R15=$S$14,\"1st\",\"\"))","v":""},{"$nulls":4},14,"B",{"$f":"DRAW!D18","v":0},{"$f":"DRAW!E18","v":0},null,{"$f":"'R 1'!$AP$13","v":0},{"$f":"'R 1'!$AQ$13","v":0},{"$f":"'R 2'!$AP$15","v":0},{"$f":"'R 2'!$AQ$15","v":0},{"$f":"'R 3'!$AP$15","v":0},{"$f":"'R 3'!$AQ$15","v":0},0,0,{"$f":"(AJ15*10000)+AK15","v":0},null,{"$f":"IF(SUM($AD$14:$AI$17)=0,\"\",IF(AL15=$AM$14,\"1st\",\"\"))","v":""}]
[{"$nulls":4},11,"C",{"$f":"DRAW!D15","v":0},{"$f":"DRAW!E15","v":0},null,{"$f":"'R 1'!$U$15","v":0},{"$f":"'R 1'!$V$15","v":0},{"$f":"'R 2'!$U$13","v":0},{"$f":"'R 2'!$V$13","v":0},{"$f":"'R 3'!$U$16","v":0},{"$f":"'R 3'!$V$16","v":0},0,0,{"$f":"(P16*10000)+Q16","v":0},null,{"$f":"IF(SUM($J$14:$O$17)=0,\"\",IF(R16=$S$14,\"1st\",\"\"))","v":""},{"$nulls":4},15,"C",{"$f":"DRAW!D19","v":0},{"$f":"DRAW!E19","v":0},null,{"$f":"'R 1'!$AP$15","v":0},{"$f":"'R 1'!$AQ$15","v":0},{"$f":"'R 2'!$AP$13","v":0},{"$f":"'R 2'!$AQ$13","v":0},{"$f":"'R 3'!$AP$16","v":0},{"$f":"'R 3'!$AQ$16","v":0},0,0,{"$f":"(AJ16*10000)+AK16","v":0},null,{"$f":"IF(SUM($AD$14:$AI$17)=0,\"\",IF(AL16=$AM$14,\"1st\",\"\"))","v":""}]
[{"$nulls":4},12,"D",{"$f":"DRAW!D16","v":0},{"$f":"DRAW!E16","v":0},null,{"$f":"'R 1'!$U$16","v":0},{"$f":"'R 1'!$V$16","v":0},{"$f":"'R 2'!$U$16","v":0},{"$f":"'R 2'!$V$16","v":0},{"$f":"'R 3'!$U$13","v":0},{"$f":"'R 3'!$V$13","v":0},0,0,{"$f":"(P17*10000)+Q17","v":0},null,{"$f":"IF(SUM($J$14:$O$17)=0,\"\",IF(R17=$S$14,\"1st\",\"\"))","v":""},{"$nulls":4},16,"D",{"$f":"DRAW!D20","v":0},{"$f":"DRAW!E20","v":0},null,{"$f":"'R 1'!$AP$16","v":0},{"$f":"'R 1'!$AQ$16","v":0},{"$f":"'R 2'!$AP$16","v":0},{"$f":"'R 2'!$AQ$16","v":0},{"$f":"'R 3'!$AP$13","v":0},{"$f":"'R 3'!$AQ$13","v":0},0,0,{"$f":"(AJ17*10000)+AK17","v":0},null,{"$f":"IF(SUM($AD$14:$AI$17)=0,\"\",IF(AL17=$AM$14,\"1st\",\"\"))","v":""}]
[]
[]
[]
[]
[{"$nulls":3},5,17,"A",{"$f":"DRAW!D21","v":0},{"$f":"DRAW!E21","v":0},null,{"$f":"'R 1'!$U$18","v":0},{"$f":"'R 1'!$V$18","v":0},{"$f":"'R 2'!$U$18","v":0},{"$f":"'R 2'!$V$18","v":0},{"$f":"'R 3'!$U$18","v":0},{"$f":"'R 3'!$V$18","v":0},{"$f":"J22+L22+N22","v":0},{"$f":"K22+M22+O22","v":0},{"$f":"(P22*10000)+Q22","v":0},{"$f":"LARGE($R$22:$R$25,1)","v":0},{"$f":"IF(SUM($J$22:$O$25)=0,\"\",IF(R22=$S$22,\"1st\",\"\"))","v":""},{"$nulls":3},6,21,"A",{"$f":"DRAW!D25","v":0},{"$f":"DRAW!E25","v":0},null,{"$f":"'R 1'!$AP$18","v":0},{"$f":"'R 1'!$AQ$18","v":0},{"$f":"'R 2'!$AP$18","v":0},{"$f":"'R 2'!$AQ$18","v":0},{"$f":"'R 3'!$AP$18","v":0},{"$f":"'R 3'!$AQ$18","v":0},{"$f":"AD22+AF22+AH22","v":0},0,{"$f":"(AJ22*10000)+AK22","v":0},{"$f":"LARGE($AL$22:$AL$25,1)","v":0},{"$f":"IF(SUM($AD$22:$AI$25)=0,\"\",IF(AL22=$AM$22,\"1st\",\"\"))","v":""}]
[{"$nulls":4},18,"B",{"$f":"DRAW!D22","v":0},{"$f":"DRAW!E22","v":0},null,{"$f":"'R 1'!$U$19","v":0},{"$f":"'R 1'!$V$19","v":0},{"$f":"'R 2'!$U$21","v":0},{"$f":"'R 2'!$V$21","v":0},{"$f":"'R 3'!$U$21","v":0},{"$f":"'R 3'!$V$21","v":0},{"$f":"J23+L23+N23","v":0},0,{"$f":"(P23*10000)+Q23","v":0},null,{"$f":"IF(SUM($J$22:$O$25)=0,\"\",IF(R23=$S$22,\"1st\",\"\"))","v":""},{"$nulls":4},22,"B",{"$f":"DRAW!D26","v":0},{"$f":"DRAW!E26","v":0},null,{"$f":"'R 1'!$AP$19","v":0},{"$f":"'R 1'!$AQ$19","v":0},{"$f":"'R 2'!$AP$21","v":0},{"$f":"'R 2'!$AQ$21","v":0},{"$f":"'R 3'!$AP$21","v":0},{"$f":"'R 3'!$AQ$21","v":0},0,0,{"$f":"(AJ23*10000)+AK23","v":0},null,{"$f":"IF(SUM($AD$22:$AI$25)=0,\"\",IF(AL23=$AM$22,\"1st\",\"\"))","v":""}]
[{"$nulls":4},19,"C",{"$f":"DRAW!D23","v":0},{"$f":"DRAW!E23","v":0},null,{"$f":"'R 1'!$U$21","v":0},{"$f":"'R 1'!$V$21","v":0},{"$f":"'R 2'!$U$19","v":0},{"$f":"'R 2'!$V$19","v":0},{"$f":"'R 3'!$U$22","v":0},{"$f":"'R 3'!$V$22","v":0},{"$f":"J24+L24+N24","v":0},0,{"$f":"(P24*10000)+Q24","v":0},null,{"$f":"IF(SUM($J$22:$O$25)=0,\"\",IF(R24=$S$22,\"1st\",\"\"))","v":""},{"$nulls":4},23,"C",{"$f":"DRAW!D27","v":0},{"$f":"DRAW!E27","v":0},null,{"$f":"'R 1'!$AP$21","v":0},{"$f":"'R 1'!$AQ$21","v":0},{"$f":"'R 2'!$AP$19","v":0},{"$f":"'R 2'!$AQ$19","v":0},{"$f":"'R 3'!$AP$22","v":0},{"$f":"'R 3'!$AQ$22","v":0},0,0,{"$f":"(AJ24*10000)+AK24","v":0},null,{"$f":"IF(SUM($AD$22:$AI$25)=0,\"\",IF(AL24=$AM$22,\"1st\",\"\"))","v":""}]
[{"$nulls":4},20,"D",{"$f":"DRAW!D24","v":0},{"$f":"DRAW!E24","v":0},null,{"$f":"'R 1'!$U$22","v":0},{"$f":"'R 1'!$V$22","v":0},{"$f":"'R 2'!$U$22","v":0},{"$f":"'R 2'!$V$22","v":0},{"$f":"'R 3'!$U$19","v":0},{"$f":"'R 3'!$V$19","v":0},{"$f":"J25+L25+N25","v":0},0,{"$f":"(P25*10000)+Q25","v":0},null,{"$f":"IF(SUM($J$22:$O$25)=0,\"\",IF(R25=$S$22,\"1st\",\"\"))","v":""},{"$nulls":4},24,"D",{"$f":"DRAW!D28","v":0},{"$f":"DRAW!E28","v":0},null,{"$f":"'R 1'!$AP$22","v":0},{"$f":"'R 1'!$AQ$22","v":0},{"$f":"'R 2'!$AP$22","v":0},{"$f":"'R 2'!$AQ$22","v":0},{"$f":"'R 3'!$AP$19","v":0},{"$f":"'R 3'!$AQ$19","v":0},0,0,{"$f":"(AJ25*10000)+AK25","v":0},null,{"$f":"IF(SUM($AD$22:$AI$25)=0,\"\",IF(AL25=$AM$22,\"1st\",\"\"))","v":""}]
[{"$nulls":12},{"$f":"'R 2'!$V$24","v":0},{"$nulls":19},{"$f":"'R 2'!$AQ$24","v":0}]
[{"$nulls":12},{"$f":"'R 2'!$V$27","v":0},{"$nulls":19},{"$f":"'R 2'!$AQ$27","v":0}]
[{"$nulls":12},{"$f":"'R 2'!$V$25","v":0},{"$nulls":19},{"$f":"'R 2'!$AQ$25","v":0}]
[{"$nulls":12},{"$f":"'R 2'!$V$28","v":0},{"$nulls":19},{"$f":"'R 2'!$AQ$28","v":0}]
[{"$nulls":3},7,25,"A",{"$f":"DRAW!D29","v":0},{"$f":"DRAW!E29","v":0},null,{"$f":"'R 1'!$U$24","v":0},{"$f":"'R 1'!$V$24","v":0},{"$f":"'R 2'!$U$24","v":0},{"$f":"'R 2'!$V$24","v":0},{"$f":"'R 3'!$U$24","v":0},{"$f":"'R 3'!$V$24","v":0},{"$f":"J30+L30+N30","v":0},0,{"$f":"(P30*10000)+Q30","v":0},{"$f":"LARGE($R$30:$R$33,1)","v":0},{"$f":"IF(SUM($J$30:$O$33)=0,\"\",IF(R30=$S$30,\"1st\",\"\"))","v":""},{"$nulls":3},8,29,"A",{"$f":"DRAW!D33","v":0},{"$f":"DRAW!E33","v":0},null,{"$f":"'R 1'!$AP$24","v":0},{"$f":"'R 1'!$AQ$24","v":0},{"$f":"'R 2'!$AP$24","v":0},{"$f":"'R 2'!$AQ$24","v":0},{"$f":"'R 3'!$AP$24","v":0},{"$f":"'R 3'!$AQ$24","v":0},{"$f":"AD30+AF30+AH30","v":0},0,{"$f":"(AJ30*10000)+AK30","v":0},{"$f":"LARGE($AL$30:$AL$33,1)","v":0},{"$f":"IF(SUM($AD$30:$AI$33)=0,\"\",IF(AL30=$AM$30,\"1st\",\"\"))","v":""}]
[{"$nulls":4},26,"B",{"$f":"DRAW!D30","v":0},{"$f":"DRAW!E30","v":0},null,{"$f":"'R 1'!$U$25","v":0},{"$f":"'R 1'!$V$25","v":0},{"$f":"'R 2'!$U$27","v":0},{"$f":"'R 2'!$V$27","v":0},{"$f":"'R 3'!$U$27","v":0},{"$f":"'R 3'!$V$27","v":0},0,0,0,null,{"$f":"IF(SUM($J$30:$O$33)=0,\"\",IF(R31=$S$30,\"1st\",\"\"))","v":""},{"$nulls":4},30,"B",{"$f":"DRAW!D34","v":0},{"$f":"DRAW!E34","v":0},null,{"$f":"'R 1'!$AP$25","v":0},{"$f":"'R 1'!$AQ$25","v":0},{"$f":"'R 2'!$AP$27","v":0},{"$f":"'R 2'!$AQ$27","v":0},{"$f":"'R 3'!$AP$27","v":0},{"$f":"'R 3'!$AQ$27","v":0},0,0,0,null,{"$f":"IF(SUM($AD$30:$AI$33)=0,\"\",IF(AL31=$AM$30,\"1st\",\"\"))","v":""}]
[{"$nulls":4},27,"C",{"$f":"DRAW!D31","v":0},{"$f":"DRAW!E31","v":0},null,{"$f":"'R 1'!$U$27","v":0},{"$f":"'R 1'!$V$27","v":0},{"$f":"'R 2'!$U$25","v":0},{"$f":"'R 2'!$V$25","v":0},{"$f":"'R 3'!$U$28","v":0},{"$f":"'R 3'!$V$28","v":0},0,0,0,null,{"$f":"IF(SUM($J$30:$O$33)=0,\"\",IF(R32=$S$30,\"1st\",\"\"))","v":""},{"$nulls":4},31,"C",{"$f":"DRAW!D35","v":0},{"$f":"DRAW!E35","v":0},null,{"$f":"'R 1'!$AP$27","v":0},{"$f":"'R 1'!$AQ$27","v":0},{"$f":"'R 2'!$AP$25","v":0},{"$f":"'R 2'!$AQ$25","v":0},{"$f":"'R 3'!$AP$28","v":0},{"$f":"'R 3'!$AQ$28","v":0},0,0,0,null,{"$f":"IF(SUM($AD$30:$AI$33)=0,\"\",IF(AL32=$AM$30,\"1st\",\"\"))","v":""}]
[{"$nulls":4},28,"D",{"$f":"DRAW!D32","v":0},{"$f":"DRAW!E32","v":0},null,{"$f":"'R 1'!$U$28","v":0},{"$f":"'R 1'!$V$28","v":0},{"$f":"'R 2'!$U$28","v":0},{"$f":"'R 2'!$V$28","v":0},{"$f":"'R 3'!$U$25","v":0},{"$f":"'R 3'!$V$25","v":0},0,0,0,null,{"$f":"IF(SUM($J$30:$O$33)=0,\"\",IF(R33=$S$30,\"1st\",\"\"))","v":""},{"$nulls":4},32,"D",{"$f":"DRAW!D36","v":0},{"$f":"DRAW!E36","v":0},null,{"$f":"'R 1'!$AP$28","v":0},{"$f":"'R 1'!$AQ$28","v":0},{"$f":"'R 2'!$AP$28","v":0},{"$f":"'R 2'!$AQ$28","v":0},{"$f":"'R 3'!$AP$25","v":0},{"$f":"'R 3'!$AQ$25","v":0},0,0,0,null,{"$f":"IF(SUM($AD$30:$AI$33)=0,\"\",IF(AL33=$AM$30,\"1st\",\"\"))","v":""}]
[{"$nulls":3},9,33,"A",{"$f":"DRAW!D37","v":0},{"$f":"DRAW!E37","v":0},null,{"$f":"'R 1'!$U$30","v":0},{"$f":"'R 1'!$V$30","v":0},{"$f":"'R 2'!$U$30","v":0},{"$f":"'R 2'!$V$30","v":0},{"$f":"'R 3'!$U$30","v":0},{"$f":"'R 3'!$V$30","v":0},0,0,0,{"$f":"LARGE($R$34:$R$37,1)","v":0},{"$f":"IF(SUM($J$34:$O$37)=0,\"\",IF(R34=S$34,\"1st\",\"\"))","v":""},{"$nulls":3},10,37,"A",{"$f":"DRAW!D41","v":0},{"$f":"DRAW!E41","v":0},null,{"$f":"'R 1'!$AP$30","v":0},{"$f":"'R 1'!$AQ$30","v":0},{"$f":"'R 2'!$AP$30","v":0},{"$f":"'R 2'!$AQ$30","v":0},{"$f":"'R 3'!$AP$30","v":0},{"$f":"'R 3'!$AQ$30","v":0},0,0,0,{"$f":"LARGE($AL$34:$AL$37,1)","v":0},{"$f":"IF(SUM($AD$34:$AI$37)=0,\"\",IF(AL34=AM$34,\"1st\",\"\"))","v":""}]
[{"$nulls":4},34,"B",{"$f":"DRAW!D38","v":0},{"$f":"DRAW!E38","v":0},null,{"$f":"'R 1'!$U$31","v":0},{"$f":"'R 1'!$V$31","v":0},{"$f":"'R 2'!$U$33","v":0},{"$f":"'R 2'!$V$33","v":0},{"$f":"'R 3'!$U$33","v":0},{"$f":"'R 3'!$V$33","v":0},0,0,0,null,{"$f":"IF(SUM($J$34:$O$37)=0,\"\",IF(R35=S$34,\"1st\",\"\"))","v":""},{"$nulls":4},38,"B",{"$f":"DRAW!D42","v":0},{"$f":"DRAW!E42","v":0},null,{"$f":"'R 1'!$AP$31","v":0},{"$f":"'R 1'!$AQ$31","v":0},{"$f":"'R 2'!$AP$33","v":0},{"$f":"'R 2'!$AQ$33","v":0},{"$f":"'R 3'!$AP$33","v":0},{"$f":"'R 3'!$AQ$33","v":0},0,0,0,null,{"$f":"IF(SUM($AD$34:$AI$37)=0,\"\",IF(AL35=AM$34,\"1st\",\"\"))","v":""}]
[{"$nulls":4},35,"C",{"$f":"DRAW!D39","v":0},{"$f":"DRAW!E39","v":0},null,{"$f":"'R 1'!$U$33","v":0},{"$f":"'R 1'!$V$33","v":0},{"$f":"'R 2'!$U$31","v":0},{"$f":"'R 2'!$V$31","v":0},{"$f":"'R 3'!$U$34","v":0},{"$f":"'R 3'!$V$34","v":0},0,0,0,null,{"$f":"IF(SUM($J$34:$O$37)=0,\"\",IF(R36=S$34,\"1st\",\"\"))","v":""},{"$nulls":4},39,"C",{"$f":"DRAW!D43","v":0},{"$f":"DRAW!E43","v":0},null,{"$f":"'R 1'!$AP$33","v":0},{"$f":"'R 1'!$AQ$33","v":0},{"$f":"'R 2'!$AP$31","v":0},{"$f":"'R 2'!$AQ$31","v":0},{"$f":"'R 3'!$AP$34","v":0},{"$f":"'R 3'!$AQ$34","v":0},0,0,0,null,{"$f":"IF(SUM($AD$34:$AI$37)=0,\"\",IF(AL36=AM$34,\"1st\",\"\"))","v":""}]
[{"$nulls":4},36,"D",{"$f":"DRAW!D40","v":0},{"$f":"DRAW!E40","v":0},null,{"$f":"'R 1'!$U$34","v":0},{"$f":"'R 1'!$V$34","v":0},{"$f":"'R 2'!$U$34","v":0},{"$f":"'R 2'!$V$34","v":0},{"$f":"'R 3'!$U$31","v":0},{"$f":"'R 3'!$V$31","v":0},0,0,0,null,{"$f":"IF(SUM($J$34:$O$37)=0,\"\",IF(R37=S$34,\"1st\",\"\"))","v":""},{"$nulls":4},40,"D",{"$f":"DRAW!D44","v":0},{"$f":"DRAW!E44","v":0},null,{"$f":"'R 1'!$AP$34","v":0},{"$f":"'R 1'!$AQ$34","v":0},{"$f":"'R 2'!$AP$34","v":0},{"$f":"'R 2'!$AQ$34","v":0},{"$f":"'R 3'!$AP$31","v":0},{"$f":"'R 3'!$AQ$31","v":0},0,0,0,null,{"$f":"IF(SUM($AD$34:$AI$37)=0,\"\",IF(AL37=AM$34,\"1st\",\"\"))","v":""}]

{"sheet":"NAMES","index":1,"n_rows":40,"n_cols":5,"rows_kept":40,"hidden":true}
["a","a sk",null,1,{"$f":"D1+100","v":101}]
["b","b sk",null,{"$f":"D1+1","v":2},{"$f":"D2+100","v":102}]
["c","c sk",null,{"$f":"D2+1","v":3},103]
["d","d sk",null,4,104]
["e","e sk",null,5,105]
["f","f sk",null,6,106]
["g","g sk",null,7,107]
["h","h sk",null,8,108]
["i","i sk",null,9,109]
["j","j sk",null,10,110]
["k","k sk",null,11,111]
["l","l sk",null,12,112]
["m","m sk",null,13,113]
["n","n sk",null,14,114]
["o","o sk",null,15,115]
["p","p sk",null,16,116]
["q","q sk",null,17,117]
["r","r sk",null,18,118]
["s","s sk",null,19,119]
["t","t sk",null,20,120]
["u","u sk",null,21,121]
["v","v sk",null,22,122]
["w","w sk",null,23,123]
["x","x sk",null,24,124]
["y","y sk",null,25,125]
["z","z sk",null,26,126]
["aa","aa sk",null,27,127]
["ab","ab sk",null,28,128]
["ac","ac sk",null,29,129]
["ad","ad sk",null,30,130]
["ae","ae sk",null,31,131]
["af","af sk",null,32,132]
["ag","ag sk",null,33,133]
["ah","ah sk",null,34,134]
["ai","ai sk",null,35,135]
["aj","aj sk",null,36,136]
["ak","ak sk",null,37,137]
["al","al sk",null,38,138]
["am","am sk",null,39,139]
["an","an sk",null,40,140]

{"sheet":"Instructions","index":2,"n_rows":14,"n_cols":4,"rows_kept":14,"merged":[[0,1,0,2],[0,3,0,11],[1,1,1,11],[2,1,2,11],[3,1,3,11],[4,1,4,11],[5,1,5,11],[6,1,6,11],[7,1,7,11],[8,1,8,11],[9,1,9,11],[10,1,10,11],[11,1,11,11],[12,1,12,11],[13,1,13,11],[14,1,14,11],[15,1,15,11],[16,1,16,11],[17,1,17,11],[18,1,18,11],[19,1,19,11],[20,1,20,11],[21,1,21,11],[22,1,22,11],[23,1,23,11],[24,1,24,11]]}
[null,"USER NOTES:-",null,"PLEASE ENABLE EDITING AND ALLOW MACROS TO RUN WHEN OPENING THIS MASTER FILE."]
[null,"1. Click the \"Entries \" TAB and enter names. "]
[null,"2. Click the \"Teams\" TAB and follow the instructions on the sheet. The \"Teams\" TAB will be removed after you action it."]
[null,"3. To enter results click the sheet TAB of the Round you are scoring.  \"R1\"  \"R2\" or \"R3\""]
[null,"4. As the set results are entered the points total and margin for each game will be automatically calculated and entered on the \"Round ?\" sheet & \"Total Points\" sheet. 1 point for a set win, half a point for a set draw, 3 points for a match win. The final Rankings will be calculated automatically on the \"Total Points\" sheet. The Team with the highest Points Total over all rounds and then Margins, if points are equal will be the winner. Margins from tie break games are not included."]
[null,"5. When you action point 3 above the names will be automatically transferred to the score cards for each round. \"R 1 cds\", \"R 2 cds\" or \"R 3 cds\""]
[null,"6. Please enter the results for the post sectional games on the \"Finals ? ?\"tab and use the \"Fins ? ? cds\" tab to print the cards."]
[null,"7. To print the Score Cards you will need some blank cards measuring 85mm by 135mm. As a trial you may like to purchase a ream of 250gsm paper and cut the cards yourself. You will get 500 cards out of a ream costing about $17.00 from Office Works. Another option is to buy 4,000, 250 gsm Nordset paper trimmed to 85X135 from Canberra Printing for about $130.00. Phone 02 6280 6925"]
[null,"8. Initially you may have to make adjustments to your printer settings to match the cards to your printer. Just change the margins in the printer settings and leave the paper size as A4. Unfortunately I can't eliminate this problem as every printer is different."]
[null,"The file has been tested extensively however please report any faults if they appear."]
[null,"If you have any issues with this file please don't hesitate to contact me."]
[null,"Geoff Graham"]
[null,"02 4389 1138"]
[null,"geoffjgraham@gmail.com"]

{"sheet":"Entries","index":3,"n_rows":44,"n_cols":20,"rows_kept":44,"merged":[[0,0,0,3],[1,0,1,3]]}
["2018 District 5 - Mixed Pairs"]
["20th June 2018"]
["No.","Lead","Skip","Club",{"$nulls":11},"No.","Lead","Skip","Club"]
[]
[1,{"$nulls":18},{"$f":"RAND()","v":0.05167693692807551}]
[2,{"$nulls":18},0.03989432173351082]
[3,{"$nulls":18},0.1544409269394399]
[4,{"$nulls":18},0.17776465123957352]
[5,{"$nulls":18},0.6084913438509166]
[6,{"$nulls":18},0.06147199139833226]
[7,{"$nulls":18},0.29471774754296565]
[8,{"$nulls":18},0.3436961218566992]
[9,{"$nulls":18},0.47426064038820237]
[10,{"$nulls":18},0.6428325484580755]
[11,{"$nulls":18},0.06157397213385141]
[12,{"$nulls":18},0.03479543146367725]
[13,{"$nulls":18},0.976570128599423]
[14,{"$nulls":18},0.23436805951825357]
[15,{"$nulls":18},0.15301747959923617]
[16,{"$nulls":18},0.954844312707211]
[17,{"$nulls":18},0.40532616392513965]
[18,{"$nulls":18},0.21290536442960162]
[19,{"$nulls":18},0.16846196486672338]
[20,{"$nulls":18},0.3940579398853601]
[21,{"$nulls":18},0.29288643789112323]
[22,{"$nulls":18},0.008106660629540907]
[23,{"$nulls":18},0.6379178023532903]
[24,{"$nulls":18},0.4127560381820602]
[25,{"$nulls":18},0.813351341788562]
[26,{"$nulls":18},0.05916847771680478]
[27,{"$nulls":18},0.6457506041582237]
[28,{"$nulls":18},0.5444990992069125]
[29,{"$nulls":18},0.8110877016149595]
[30,{"$nulls":18},0.7581852673091257]
[31,{"$nulls":18},0.5038053518343716]
[32,{"$nulls":18},0.2391809296478602]
[33,{"$nulls":18},0.482368489464306]
[34,{"$nulls":18},0.24085143617546223]
[35,{"$nulls":18},0.09629900967037575]
[36,{"$nulls":18},0.03188097926921185]
[37,{"$nulls":18},{"$f":"RAND()","v":0.955113381257121}]
[38,{"$nulls":18},{"$f":"RAND()","v":0.42095640807336654}]
[39,{"$nulls":18},{"$f":"RAND()","v":0.5310808926867353}]
[40,{"$nulls":18},{"$f":"RAND()","v":0.835297849753945}]

{"sheet":"TEAMS","index":4,"n_rows":2,"n_cols":3,"rows_kept":2,"merged":[[0,2,0,15],[1,2,1,15],[23,2,23,15],[24,2,24,15]]}
[null,null,"ACTION THE CELL BELOW CORRESPONDING TO THE NUMBER OF TEAMS PLAYING"]
[null,null,"PLEASE save this file with a new file name after you action it."]

{"sheet":"DRAW","index":5,"n_rows":4,"n_cols":11,"rows_kept":4,"merged":[[0,2,0,10],[1,2,1,10],[2,3,2,4],[2,5,2,6],[2,7,2,8],[2,9,2,10],[4,1,7,1],[8,1,11,1],[12,1,15,1],[16,1,19,1],[20,1,23,1],[24,1,27,1],[28,1,31,1],[32,1,35,1],[36,1,39,1]]}
[null,null,{"$f":"Entries!$A$1","v":"2018 District 5 - Mixed Pairs"}]
[null,null,"DRAW"]
[{"$nulls":5},"R O U N D  1",null,"R O U N D  2",null,"R O U N D  3"]
[null,"Section","Team No.","Lead","Skip","Rink","Versus","Rink","Versus","Rink","Versus"]

{"sheet":"R 1","index":6,"n_rows":34,"n_cols":43,"rows_kept":34,"merged":[[0,1,0,42],[2,1,2,42],[3,4,3,5],[5,1,9,1],[5,2,6,2],[5,23,9,23],[5,24,6,24],[8,2,9,2],[8,24,9,24],[11,1,15,1],[11,2,12,2],[11,23,15,23],[11,24,12,24],[14,2,15,2],[14,24,15,24],[17,1,21,1],[17,2,18,2],[17,23,21,23],[17,24,18,24],[20,2,21,2],[20,24,21,24],[23,1,27,1],[23,2,24,2],[23,23,27,23],[23,24,24,24],[26,2,27,2],[26,24,27,24],[29,1,33,1],[29,2,30,2],[29,23,33,23],[29,24,30,24],[32,2,33,2],[32,24,33,24]]}
[null,{"$f":"Entries!$A$1","v":"2018 District 5 - Mixed Pairs"}]
[]
[null,"R O U N D  1"]
[null,"Section","Rink","Team No.","Skip",null,null,"1st    Set","Set Points",null,"2nd   Set","Set Points",null,"Tie Break","Set Points",null,"Set Points","S+TBPts",null,"Game Points","Margin","Total Points",null,"Section","Rink","Team No.","Skip",null,"1st    Set","Set Points",null,"2nd   Set","Set Points",null,"Tie Break","Set Points",null,"Set Points","S+TBPts",null,"Game Points","Margin","Total Points"]
[{"$nulls":6},{"$f":"IF('R 1'!D6=1,)","v":false}]
[null,1,{"$f":"DRAW!$F$5","v":0},{"$f":"DRAW!$C$5","v":0},null,{"$f":"VLOOKUP(D6,DRAW!$C$5:'DRAW'!$E$46,3,0)","v":{"$error":"#N/A"}},null,null,{"$f":"IF(H6+H7>0,(IF(H6>H7,1,(IF(H6=H7,0.5,0)))),0)","v":0},null,null,{"$f":"IF(K6+K7>0,(IF(K6>K7,1,(IF(K6=K7,0.5,0)))),0)","v":0},null,null,{"$f":"IF(N6+N7>0,(IF(N6>N7,1,(IF(N6=N7,0.5,0)))),0)","v":0},null,{"$f":"+I6+L6","v":0},{"$f":"IF(Q6>2,Q6,I6+L6+O6)","v":0},null,{"$f":"IF(R6+R7>=1.5,(IF(R6>R7,3,0)),0)","v":0},{"$f":"IF(H6+H7+K6+K7=0,0,H6+K6-H7-K7)","v":0},{"$f":"IF((T6+T7)=3,(Q6+T6),0)","v":0},null,2,{"$f":"DRAW!$F$9","v":0},{"$f":"DRAW!$C$9","v":0},{"$f":"VLOOKUP(Z6,DRAW!$C$5:'DRAW'!$E$46,3,0)","v":{"$error":"#N/A"}},null,null,{"$f":"IF(AC6+AC7>0,(IF(AC6>AC7,1,(IF(AC6=AC7,0.5,0)))),0)","v":0},null,null,{"$f":"IF(AF6+AF7>0,(IF(AF6>AF7,1,(IF(AF6=AF7,0.5,0)))),0)","v":0},null,null,{"$f":"IF(AI6+AI7>0,(IF(AI6>AI7,1,(IF(AI6=AI7,0.5,0)))),0)","v":0},null,{"$f":"+AD6+AG6","v":0},{"$f":"IF(AL6>2,AL6,AD6+AG6+AJ6)","v":0},null,{"$f":"IF(AM6+AM7>=1.5,(IF(AM6>AM7,3,0)),0)","v":0},{"$f":"IF(AC6+AC7+AF6+AF7=0,0,AC6+AF6-AC7-AF7)","v":0},{"$f":"IF((AO6+AO7)=3,(AL6+AO6),0)","v":0}]
[{"$nulls":3},{"$f":"DRAW!$C$6","v":0},null,{"$f":"VLOOKUP(D7,DRAW!$C$5:'DRAW'!$E$46,3,0)","v":{"$error":"#N/A"}},null,null,{"$f":"IF(H6+H7>0,(IF(H6<H7,1,(IF(H6=H7,0.5,0)))),0)","v":0},null,null,{"$f":"IF(K6+K7>0,(IF(K6<K7,1,(IF(K6=K7,0.5,0)))),0)","v":0},null,null,{"$f":"IF(N6+N7>0,(IF(N6<N7,1,(IF(N6=N7,0.5,0)))),0)","v":0},null,{"$f":"+I7+L7","v":0},{"$f":"IF(Q7>2,Q7,I7+L7+O7)","v":0},null,{"$f":"IF(R6+R7>=1.5,(IF(R6<R7,3,0)),0)","v":0},{"$f":"IF(H6+H7+K6+K7=0,0,H7+K7-H6-K6)","v":0},{"$f":"IF((T6+T7)=3,(Q7+T7),0)","v":0},{"$nulls":3},{"$f":"DRAW!$C$10","v":0},{"$f":"VLOOKUP(Z7,DRAW!$C$5:'DRAW'!$E$46,3,0)","v":{"$error":"#N/A"}},null,null,{"$f":"IF(AC6+AC7>0,(IF(AC6<AC7,1,(IF(AC6=AC7,0.5,0)))),0)","v":0},null,null,{"$f":"IF(AF6+AF7>0,(IF(AF6<AF7,1,(IF(AF6=AF7,0.5,0)))),0)","v":0},null,null,{"$f":"IF(AI6+AI7>0,(IF(AI6<AI7,1,(IF(AI6=AI7,0.5,0)))),0)","v":0},null,{"$f":"+AD7+AG7","v":0},{"$f":"IF(AL7>2,AL7,AD7+AG7+AJ7)","v":0},null,{"$f":"IF(AM6+AM7>=1.5,(IF(AM6<AM7,3,0)),0)","v":0},{"$f":"IF(AC6+AC7+AF6+AF7=0,0,AC7+AF7-AC6-AF6)","v":0},{"$f":"IF((AO6+AO7)=3,(AL7+AO7),0)","v":0}]
[]
[null,null,{"$f":"DRAW!$F$7","v":0},{"$f":"DRAW!$C$7","v":0},null,{"$f":"VLOOKUP(D9,DRAW!$C$5:'DRAW'!$E$46,3,0)","v":{"$error":"#N/A"}},null,null,{"$f":"IF(H9+H10>0,(IF(H9>H10,1,(IF(H9=H10,0.5,0)))),0)","v":0},null,null,{"$f":"IF(K9+K10>0,(IF(K9>K10,1,(IF(K9=K10,0.5,0)))),0)","v":0},null,null,{"$f":"IF(N9+N10>0,(IF(N9>N10,1,(IF(N9=N10,0.5,0)))),0)","v":0},null,{"$f":"+I9+L9","v":0},{"$f":"IF(Q9>2,Q9,I9+L9+O9)","v":0},null,{"$f":"IF(R9+R10>=1.5,(IF(R9>R10,3,0)),0)","v":0},{"$f":"IF(H9+H10+K9+K10=0,0,H9+K9-H10-K10)","v":0},{"$f":"IF((T9+T10)=3,(Q9+T9),0)","v":0},null,null,{"$f":"DRAW!$F$11","v":0},{"$f":"DRAW!$C$11","v":0},{"$f":"VLOOKUP(Z9,DRAW!$C$5:'DRAW'!$E$46,3,0)","v":{"$error":"#N/A"}},null,null,{"$f":"IF(AC9+AC10>0,(IF(AC9>AC10,1,(IF(AC9=AC10,0.5,0)))),0)","v":0},null,null,{"$f":"IF(AF9+AF10>0,(IF(AF9>AF10,1,(IF(AF9=AF10,0.5,0)))),0)","v":0},null,null,{"$f":"IF(AI9+AI10>0,(IF(AI9>AI10,1,(IF(AI9=AI10,0.5,0)))),0)","v":0},null,{"$f":"+AD9+AG9","v":0},{"$f":"IF(AL9>2,AL9,AD9+AG9+AJ9)","v":0},null,{"$f":"IF(AM9+AM10>=1.5,(IF(AM9>AM10,3,0)),0)","v":0},{"$f":"IF(AC9+AC10+AF9+AF10=0,0,AC9+AF9-AC10-AF10)","v":0},{"$f":"IF((AO9+AO10)=3,(AL9+AO9),0)","v":0}]
[{"$nulls":3},{"$f":"DRAW!$C$8","v":0},null,{"$f":"VLOOKUP(D10,DRAW!$C$5:'DRAW'!$E$46,3,0)","v":{"$error":"#N/A"}},null,null,{"$f":"IF(H9+H10>0,(IF(H9<H10,1,(IF(H9=H10,0.5,0)))),0)","v":0},null,null,{"$f":"IF(K9+K10>0,(IF(K9<K10,1,(IF(K9=K10,0.5,0)))),0)","v":0},null,null,{"$f":"IF(N9+N10>0,(IF(N9<N10,1,(IF(N9=N10,0.5,0)))),0)","v":0},null,{"$f":"+I10+L10","v":0},{"$f":"IF(Q10>2,Q10,I10+L10+O10)","v":0},null,{"$f":"IF(R9+R10>=1.5,(IF(R9<R10,3,0)),0)","v":0},{"$f":"IF(H9+H10+K9+K10=0,0,H10+K10-H9-K9)","v":0},{"$f":"IF((T9+T10)=3,(Q10+T10),0)","v":0},{"$nulls":3},{"$f":"DRAW!$C$12","v":0},{"$f":"VLOOKUP(Z10,DRAW!$C$5:'DRAW'!$E$46,3,0)","v":{"$error":"#N/A"}},null,null,{"$f":"IF(AC9+AC10>0,(IF(AC9<AC10,1,(IF(AC9=AC10,0.5,0)))),0)","v":0},null,null,{"$f":"IF(AF9+AF10>0,(IF(AF9<AF10,1,(IF(AF9=AF10,0.5,0)))),0)","v":0},null,null,{"$f":"IF(AI9+AI10>0,(IF(AI9<AI10,1,(IF(AI9=AI10,0.5,0)))),0)","v":0},null,{"$f":"+AD10+AG10","v":0},{"$f":"IF(AL10>2,AL10,AD10+AG10+AJ10)","v":0},null,{"$f":"IF(AM9+AM10>=1.5,(IF(AM9<AM10,3,0)),0)","v":0},{"$f":"IF(AC9+AC10+AF9+AF10=0,0,AC10+AF10-AC9-AF9)","v":0},{"$f":"IF((AO9+AO10)=3,(AL10+AO10),0)","v":0}]
[]
[null,3,{"$f":"DRAW!$F$13","v":0},{"$f":"DRAW!$C$13","v":0},null,{"$f":"VLOOKUP(D12,DRAW!$C$5:'DRAW'!$E$46,3,0)","v":{"$error":"#N/A"}},null,null,{"$f":"IF(H12+H13>0,(IF(H12>H13,1,(IF(H12=H13,0.5,0)))),0)","v":0},null,null,{"$f":"IF(K12+K13>0,(IF(K12>K13,1,(IF(K12=K13,0.5,0)))),0)","v":0},null,null,{"$f":"IF(N12+N13>0,(IF(N12>N13,1,(IF(N12=N13,0.5,0)))),0)","v":0},null,{"$f":"+I12+L12","v":0},{"$f":"IF(Q12>2,Q12,I12+L12+O12)","v":0},null,{"$f":"IF(R12+R13>=1.5,(IF(R12>R13,3,0)),0)","v":0},{"$f":"IF(H12+H13+K12+K13=0,0,H12+K12-H13-K13)","v":0},{"$f":"IF((T12+T13)=3,(Q12+T12),0)","v":0},null,4,{"$f":"DRAW!$F$17","v":0},{"$f":"DRAW!$C$17","v":0},{"$f":"VLOOKUP(Z12,DRAW!$C$5:'DRAW'!$E$46,3,0)","v":{"$error":"#N/A"}},null,null,{"$f":"IF(AC12+AC13>0,(IF(AC12>AC13,1,(IF(AC12=AC13,0.5,0)))),0)","v":0},null,null,{"$f":"IF(AF12+AF13>0,(IF(AF12>AF13,1,(IF(AF12=AF13,0.5,0)))),0)","v":0},null,null,{"$f":"IF(AI12+AI13>0,(IF(AI12>AI13,1,(IF(AI12=AI13,0.5,0)))),0)","v":0},null,{"$f":"+AD12+AG12","v":0},{"$f":"IF(AL12>2,AL12,AD12+AG12+AJ12)","v":0},null,{"$f":"IF(AM12+AM13>=1.5,(IF(AM12>AM13,3,0)),0)","v":0},{"$f":"IF(AC12+AC13+AF12+AF13=0,0,AC12+AF12-AC13-AF13)","v":0},{"$f":"IF((AO12+AO13)=3,(AL12+AO12),0)","v":0}]
[{"$nulls":3},{"$f":"DRAW!$C$14","v":0},null,{"$f":"VLOOKUP(D13,DRAW!$C$5:'DRAW'!$E$46,3,0)","v":{"$error":"#N/A"}},null,null,{"$f":"IF(H12+H13>0,(IF(H12<H13,1,(IF(H12=H13,0.5,0)))),0)","v":0},null,null,{"$f":"IF(K12+K13>0,(IF(K12<K13,1,(IF(K12=K13,0.5,0)))),0)","v":0},null,null,{"$f":"IF(N12+N13>0,(IF(N12<N13,1,(IF(N12=N13,0.5,0)))),0)","v":0},null,{"$f":"+I13+L13","v":0},{"$f":"IF(Q13>2,Q13,I13+L13+O13)","v":0},null,{"$f":"IF(R12+R13>=1.5,(IF(R12<R13,3,0)),0)","v":0},{"$f":"IF(H12+H13+K12+K13=0,0,H13+K13-H12-K12)","v":0},{"$f":"IF((T12+T13)=3,(Q13+T13),0)","v":0},{"$nulls":3},{"$f":"DRAW!$C$18","v":0},{"$f":"VLOOKUP(Z13,DRAW!$C$5:'DRAW'!$E$46,3,0)","v":{"$error":"#N/A"}},null,null,{"$f":"IF(AC12+AC13>0,(IF(AC12<AC13,1,(IF(AC12=AC13,0.5,0)))),0)","v":0},null,null,{"$f":"IF(AF12+AF13>0,(IF(AF12<AF13,1,(IF(AF12=AF13,0.5,0)))),0)","v":0},null,null,{"$f":"IF(AI12+AI13>0,(IF(AI12<AI13,1,(IF(AI12=AI13,0.5,0)))),0)","v":0},null,{"$f":"+AD13+AG13","v":0},{"$f":"IF(AL13>2,AL13,AD13+AG13+AJ13)","v":0},null,{"$f":"IF(AM12+AM13>=1.5,(IF(AM12<AM13,3,0)),0)","v":0},{"$f":"IF(AC12+AC13+AF12+AF13=0,0,AC13+AF13-AC12-AF12)","v":0},{"$f":"IF((AO12+AO13)=3,(AL13+AO13),0)","v":0}]
[]
[null,null,{"$f":"DRAW!$F$15","v":0},{"$f":"DRAW!$C$15","v":0},null,{"$f":"VLOOKUP(D15,DRAW!$C$5:'DRAW'!$E$46,3,0)","v":{"$error":"#N/A"}},null,null,{"$f":"IF(H15+H16>0,(IF(H15>H16,1,(IF(H15=H16,0.5,0)))),0)","v":0},null,null,{"$f":"IF(K15+K16>0,(IF(K15>K16,1,(IF(K15=K16,0.5,0)))),0)","v":0},null,null,{"$f":"IF(N15+N16>0,(IF(N15>N16,1,(IF(N15=N16,0.5,0)))),0)","v":0},null,{"$f":"+I15+L15","v":0},{"$f":"IF(Q15>2,Q15,I15+L15+O15)","v":0},null,{"$f":"IF(R15+R16>=1.5,(IF(R15>R16,3,0)),0)","v":0},{"$f":"IF(H15+H16+K15+K16=0,0,H15+K15-H16-K16)","v":0},{"$f":"IF((T15+T16)=3,(Q15+T15),0)","v":0},null,null,{"$f":"DRAW!$F$19","v":0},{"$f":"DRAW!$C$19","v":0},{"$f":"VLOOKUP(Z15,DRAW!$C$5:'DRAW'!$E$46,3,0)","v":{"$error":"#N/A"}},null,null,{"$f":"IF(AC15+AC16>0,(IF(AC15>AC16,1,(IF(AC15=AC16,0.5,0)))),0)","v":0},null,null,{"$f":"IF(AF15+AF16>0,(IF(AF15>AF16,1,(IF(AF15=AF16,0.5,0)))),0)","v":0},null,null,{"$f":"IF(AI15+AI16>0,(IF(AI15>AI16,1,(IF(AI15=AI16,0.5,0)))),0)","v":0},null,{"$f":"+AD15+AG15","v":0},{"$f":"IF(AL15>2,AL15,AD15+AG15+AJ15)","v":0},null,{"$f":"IF(AM15+AM16>=1.5,(IF(AM15>AM16,3,0)),0)","v":0},{"$f":"IF(AC15+AC16+AF15+AF16=0,0,AC15+AF15-AC16-AF16)","v":0},{"$f":"IF((AO15+AO16)=3,(AL15+AO15),0)","v":0}]
[{"$nulls":3},{"$f":"DRAW!$C$16","v":0},null,{"$f":"VLOOKUP(D16,DRAW!$C$5:'DRAW'!$E$46,3,0)","v":{"$error":"#N/A"}},null,null,{"$f":"IF(H15+H16>0,(IF(H15<H16,1,(IF(H15=H16,0.5,0)))),0)","v":0},null,null,{"$f":"IF(K15+K16>0,(IF(K15<K16,1,(IF(K15=K16,0.5,0)))),0)","v":0},10,null,{"$f":"IF(N15+N16>0,(IF(N15<N16,1,(IF(N15=N16,0.5,0)))),0)","v":0},null,{"$f":"+I16+L16","v":0},{"$f":"IF(Q16>2,Q16,I16+L16+O16)","v":0},null,{"$f":"IF(R15+R16>=1.5,(IF(R15<R16,3,0)),0)","v":0},{"$f":"IF(H15+H16+K15+K16=0,0,H16+K16-H15-K15)","v":0},{"$f":"IF((T15+T16)=3,(Q16+T16),0)","v":0},{"$nulls":3},{"$f":"DRAW!$C$20","v":0},{"$f":"VLOOKUP(Z16,DRAW!$C$5:'DRAW'!$E$46,3,0)","v":{"$error":"#N/A"}},null,null,{"$f":"IF(AC15+AC16>0,(IF(AC15<AC16,1,(IF(AC15=AC16,0.5,0)))),0)","v":0},null,null,{"$f":"IF(AF15+AF16>0,(IF(AF15<AF16,1,(IF(AF15=AF16,0.5,0)))),0)","v":0},null,null,{"$f":"IF(AI15+AI16>0,(IF(AI15<AI16,1,(IF(AI15=AI16,0.5,0)))),0)","v":0},null,{"$f":"+AD16+AG16","v":0},{"$f":"IF(AL16>2,AL16,AD16+AG16+AJ16)","v":0},null,{"$f":"IF(AM15+AM16>=1.5,(IF(AM15<AM16,3,0)),0)","v":0},{"$f":"IF(AC15+AC16+AF15+AF16=0,0,AC16+AF16-AC15-AF15)","v":0},{"$f":"IF((AO15+AO16)=3,(AL16+AO16),0)","v":0}]
[]
[null,5,{"$f":"DRAW!$F$21","v":0},{"$f":"DRAW!$C$21","v":0},null,{"$f":"VLOOKUP(D18,DRAW!$C$5:'DRAW'!$E$46,3,0)","v":{"$error":"#N/A"}},null,null,{"$f":"IF(H18+H19>0,(IF(H18>H19,1,(IF(H18=H19,0.5,0)))),0)","v":0},null,null,{"$f":"IF(K18+K19>0,(IF(K18>K19,1,(IF(K18=K19,0.5,0)))),0)","v":0},null,null,{"$f":"IF(N18+N19>0,(IF(N18>N19,1,(IF(N18=N19,0.5,0)))),0)","v":0},null,{"$f":"+I18+L18","v":0},{"$f":"IF(Q18>2,Q18,I18+L18+O18)","v":0},null,{"$f":"IF(R18+R19>=1.5,(IF(R18>R19,3,0)),0)","v":0},{"$f":"IF(H18+H19+K18+K19=0,0,H18+K18-H19-K19)","v":0},{"$f":"IF((T18+T19)=3,(Q18+T18),0)","v":0},null,6,{"$f":"DRAW!$F$25","v":0},{"$f":"DRAW!$C$25","v":0},{"$f":"VLOOKUP(Z18,DRAW!$C$5:'DRAW'!$E$46,3,0)","v":{"$error":"#N/A"}},null,null,{"$f":"IF(AC18+AC19>0,(IF(AC18>AC19,1,(IF(AC18=AC19,0.5,0)))),0)","v":0},null,null,{"$f":"IF(AF18+AF19>0,(IF(AF18>AF19,1,(IF(AF18=AF19,0.5,0)))),0)","v":0},null,null,{"$f":"IF(AI18+AI19>0,(IF(AI18>AI19,1,(IF(AI18=AI19,0.5,0)))),0)","v":0},null,{"$f":"+AD18+AG18","v":0},{"$f":"IF(AL18>2,AL18,AD18+AG18+AJ18)","v":0},null,{"$f":"IF(AM18+AM19>=1.5,(IF(AM18>AM19,3,0)),0)","v":0},{"$f":"IF(AC18+AC19+AF18+AF19=0,0,AC18+AF18-AC19-AF19)","v":0},{"$f":"IF((AO18+AO19)=3,(AL18+AO18),0)","v":0}]
[{"$nulls":3},{"$f":"DRAW!$C$22","v":0},null,{"$f":"VLOOKUP(D19,DRAW!$C$5:'DRAW'!$E$46,3,0)","v":{"$error":"#N/A"}},null,null,{"$f":"IF(H18+H19>0,(IF(H18<H19,1,(IF(H18=H19,0.5,0)))),0)","v":0},null,null,{"$f":"IF(K18+K19>0,(IF(K18<K19,1,(IF(K18=K19,0.5,0)))),0)","v":0},null,null,{"$f":"IF(N18+N19>0,(IF(N18<N19,1,(IF(N18=N19,0.5,0)))),0)","v":0},null,{"$f":"+I19+L19","v":0},{"$f":"IF(Q19>2,Q19,I19+L19+O19)","v":0},null,{"$f":"IF(R18+R19>=1.5,(IF(R18<R19,3,0)),0)","v":0},{"$f":"IF(H18+H19+K18+K19=0,0,H19+K19-H18-K18)","v":0},{"$f":"IF((T18+T19)=3,(Q19+T19),0)","v":0},{"$nulls":3},{"$f":"DRAW!$C$26","v":0},{"$f":"VLOOKUP(Z19,DRAW!$C$5:'DRAW'!$E$46,3,0)","v":{"$error":"#N/A"}},null,null,{"$f":"IF(AC18+AC19>0,(IF(AC18<AC19,1,(IF(AC18=AC19,0.5,0)))),0)","v":0},null,null,{"$f":"IF(AF18+AF19>0,(IF(AF18<AF19,1,(IF(AF18=AF19,0.5,0)))),0)","v":0},null,null,{"$f":"IF(AI18+AI19>0,(IF(AI18<AI19,1,(IF(AI18=AI19,0.5,0)))),0)","v":0},null,{"$f":"+AD19+AG19","v":0},{"$f":"IF(AL19>2,AL19,AD19+AG19+AJ19)","v":0},null,{"$f":"IF(AM18+AM19>=1.5,(IF(AM18<AM19,3,0)),0)","v":0},{"$f":"IF(AC18+AC19+AF18+AF19=0,0,AC19+AF19-AC18-AF18)","v":0},{"$f":"IF((AO18+AO19)=3,(AL19+AO19),0)","v":0}]
[]
[null,null,{"$f":"DRAW!$F$23","v":0},{"$f":"DRAW!$C$23","v":0},null,{"$f":"VLOOKUP(D21,DRAW!$C$5:'DRAW'!$E$46,3,0)","v":{"$error":"#N/A"}},null,null,{"$f":"IF(H21+H22>0,(IF(H21>H22,1,(IF(H21=H22,0.5,0)))),0)","v":0},null,null,{"$f":"IF(K21+K22>0,(IF(K21>K22,1,(IF(K21=K22,0.5,0)))),0)","v":0},null,null,{"$f":"IF(N21+N22>0,(IF(N21>N22,1,(IF(N21=N22,0.5,0)))),0)","v":0},null,{"$f":"+I21+L21","v":0},{"$f":"IF(Q21>2,Q21,I21+L21+O21)","v":0},null,{"$f":"IF(R21+R22>=1.5,(IF(R21>R22,3,0)),0)","v":0},{"$f":"IF(H21+H22+K21+K22=0,0,H21+K21-H22-K22)","v":0},{"$f":"IF((T21+T22)=3,(Q21+T21),0)","v":0},null,null,{"$f":"DRAW!$F$27","v":0},{"$f":"DRAW!$C$27","v":0},{"$f":"VLOOKUP(Z21,DRAW!$C$5:'DRAW'!$E$46,3,0)","v":{"$error":"#N/A"}},null,null,{"$f":"IF(AC21+AC22>0,(IF(AC21>AC22,1,(IF(AC21=AC22,0.5,0)))),0)","v":0},null,null,{"$f":"IF(AF21+AF22>0,(IF(AF21>AF22,1,(IF(AF21=AF22,0.5,0)))),0)","v":0},null,null,{"$f":"IF(AI21+AI22>0,(IF(AI21>AI22,1,(IF(AI21=AI22,0.5,0)))),0)","v":0},null,{"$f":"+AD21+AG21","v":0},{"$f":"IF(AL21>2,AL21,AD21+AG21+AJ21)","v":0},null,{"$f":"IF(AM21+AM22>=1.5,(IF(AM21>AM22,3,0)),0)","v":0},{"$f":"IF(AC21+AC22+AF21+AF22=0,0,AC21+AF21-AC22-AF22)","v":0},{"$f":"IF((AO21+AO22)=3,(AL21+AO21),0)","v":0}]
[{"$nulls":3},{"$f":"DRAW!$C$24","v":0},null,{"$f":"VLOOKUP(D22,DRAW!$C$5:'DRAW'!$E$46,3,0)","v":{"$error":"#N/A"}},null,null,{"$f":"IF(H21+H22>0,(IF(H21<H22,1,(IF(H21=H22,0.5,0)))),0)","v":0},null,null,{"$f":"IF(K21+K22>0,(IF(K21<K22,1,(IF(K21=K22,0.5,0)))),0)","v":0},null,null,{"$f":"IF(N21+N22>0,(IF(N21<N22,1,(IF(N21=N22,0.5,0)))),0)","v":0},null,{"$f":"+I22+L22","v":0},{"$f":"IF(Q22>2,Q22,I22+L22+O22)","v":0},null,{"$f":"IF(R21+R22>=1.5,(IF(R21<R22,3,0)),0)","v":0},{"$f":"IF(H21+H22+K21+K22=0,0,H22+K22-H21-K21)","v":0},{"$f":"IF((T21+T22)=3,(Q22+T22),0)","v":0},{"$nulls":3},{"$f":"DRAW!$C$28","v":0},{"$f":"VLOOKUP(Z22,DRAW!$C$5:'DRAW'!$E$46,3,0)","v":{"$error":"#N/A"}},null,null,{"$f":"IF(AC21+AC22>0,(IF(AC21<AC22,1,(IF(AC21=AC22,0.5,0)))),0)","v":0},null,null,{"$f":"IF(AF21+AF22>0,(IF(AF21<AF22,1,(IF(AF21=AF22,0.5,0)))),0)","v":0},null,null,{"$f":"IF(AI21+AI22>0,(IF(AI21<AI22,1,(IF(AI21=AI22,0.5,0)))),0)","v":0},null,{"$f":"+AD22+AG22","v":0},{"$f":"IF(AL22>2,AL22,AD22+AG22+AJ22)","v":0},null,{"$f":"IF(AM21+AM22>=1.5,(IF(AM21<AM22,3,0)),0)","v":0},{"$f":"IF(AC21+AC22+AF21+AF22=0,0,AC22+AF22-AC21-AF21)","v":0},{"$f":"IF((AO21+AO22)=3,(AL22+AO22),0)","v":0}]
[]
[null,7,{"$f":"DRAW!$F$29","v":0},{"$f":"DRAW!$C$29","v":0},null,{"$f":"VLOOKUP(D24,DRAW!$C$5:'DRAW'!$E$46,3,0)","v":{"$error":"#N/A"}},null,null,{"$f":"IF(H24+H25>0,(IF(H24>H25,1,(IF(H24=H25,0.5,0)))),0)","v":0},null,null,{"$f":"IF(K24+K25>0,(IF(K24>K25,1,(IF(K24=K25,0.5,0)))),0)","v":0},null,null,{"$f":"IF(N24+N25>0,(IF(N24>N25,1,(IF(N24=N25,0.5,0)))),0)","v":0},null,{"$f":"+I24+L24","v":0},{"$f":"IF(Q24>2,Q24,I24+L24+O24)","v":0},null,{"$f":"IF(R24+R25>=1.5,(IF(R24>R25,3,0)),0)","v":0},{"$f":"IF(H24+H25+K24+K25=0,0,H24+K24-H25-K25)","v":0},{"$f":"IF((T24+T25)=3,(Q24+T24),0)","v":0},null,8,{"$f":"DRAW!$F$33","v":0},{"$f":"DRAW!$C$33","v":0},{"$f":"VLOOKUP(Z24,DRAW!$C$5:'DRAW'!$E$46,3,0)","v":{"$error":"#N/A"}},null,null,{"$f":"IF(AC24+AC25>0,(IF(AC24>AC25,1,(IF(AC24=AC25,0.5,0)))),0)","v":0},null,null,{"$f":"IF(AF24+AF25>0,(IF(AF24>AF25,1,(IF(AF24=AF25,0.5,0)))),0)","v":0},null,null,{"$f":"IF(AI24+AI25>0,(IF(AI24>AI25,1,(IF(AI24=AI25,0.5,0)))),0)","v":0},null,{"$f":"+AD24+AG24","v":0},{"$f":"IF(AL24>2,AL24,AD24+AG24+AJ24)","v":0},null,{"$f":"IF(AM24+AM25>=1.5,(IF(AM24>AM25,3,0)),0)","v":0},{"$f":"IF(AC24+AC25+AF24+AF25=0,0,AC24+AF24-AC25-AF25)","v":0},{"$f":"IF((AO24+AO25)=3,(AL24+AO24),0)","v":0}]
[{"$nulls":3},{"$f":"DRAW!$C$30","v":0},null,{"$f":"VLOOKUP(D25,DRAW!$C$5:'DRAW'!$E$46,3,0)","v":{"$error":"#N/A"}},null,null,{"$f":"IF(H24+H25>0,(IF(H24<H25,1,(IF(H24=H25,0.5,0)))),0)","v":0},null,null,{"$f":"IF(K24+K25>0,(IF(K24<K25,1,(IF(K24=K25,0.5,0)))),0)","v":0},null,null,{"$f":"IF(N24+N25>0,(IF(N24<N25,1,(IF(N24=N25,0.5,0)))),0)","v":0},null,{"$f":"+I25+L25","v":0},{"$f":"IF(Q25>2,Q25,I25+L25+O25)","v":0},null,{"$f":"IF(R24+R25>=1.5,(IF(R24<R25,3,0)),0)","v":0},{"$f":"IF(H24+H25+K24+K25=0,0,H25+K25-H24-K24)","v":0},{"$f":"IF((T24+T25)=3,(Q25+T25),0)","v":0},{"$nulls":3},{"$f":"DRAW!$C$34","v":0},{"$f":"VLOOKUP(Z25,DRAW!$C$5:'DRAW'!$E$46,3,0)","v":{"$error":"#N/A"}},null,null,{"$f":"IF(AC24+AC25>0,(IF(AC24<AC25,1,(IF(AC24=AC25,0.5,0)))),0)","v":0},null,null,{"$f":"IF(AF24+AF25>0,(IF(AF24<AF25,1,(IF(AF24=AF25,0.5,0)))),0)","v":0},null,null,{"$f":"IF(AI24+AI25>0,(IF(AI24<AI25,1,(IF(AI24=AI25,0.5,0)))),0)","v":0},null,{"$f":"+AD25+AG25","v":0},{"$f":"IF(AL25>2,AL25,AD25+AG25+AJ25)","v":0},null,{"$f":"IF(AM24+AM25>=1.5,(IF(AM24<AM25,3,0)),0)","v":0},{"$f":"IF(AC24+AC25+AF24+AF25=0,0,AC25+AF25-AC24-AF24)","v":0},{"$f":"IF((AO24+AO25)=3,(AL25+AO25),0)","v":0}]
[]
[null,null,{"$f":"DRAW!$F$31","v":0},{"$f":"DRAW!$C$31","v":0},null,{"$f":"VLOOKUP(D27,DRAW!$C$5:'DRAW'!$E$46,3,0)","v":{"$error":"#N/A"}},null,null,{"$f":"IF(H27+H28>0,(IF(H27>H28,1,(IF(H27=H28,0.5,0)))),0)","v":0},null,null,{"$f":"IF(K27+K28>0,(IF(K27>K28,1,(IF(K27=K28,0.5,0)))),0)","v":0},null,null,{"$f":"IF(N27+N28>0,(IF(N27>N28,1,(IF(N27=N28,0.5,0)))),0)","v":0},null,{"$f":"+I27+L27","v":0},{"$f":"IF(Q27>2,Q27,I27+L27+O27)","v":0},null,{"$f":"IF(R27+R28>=1.5,(IF(R27>R28,3,0)),0)","v":0},{"$f":"IF(H27+H28+K27+K28=0,0,H27+K27-H28-K28)","v":0},{"$f":"IF((T27+T28)=3,(Q27+T27),0)","v":0},null,null,{"$f":"DRAW!$F$35","v":0},{"$f":"DRAW!$C$35","v":0},{"$f":"VLOOKUP(Z27,DRAW!$C$5:'DRAW'!$E$46,3,0)","v":{"$error":"#N/A"}},null,null,{"$f":"IF(AC27+AC28>0,(IF(AC27>AC28,1,(IF(AC27=AC28,0.5,0)))),0)","v":0},null,null,{"$f":"IF(AF27+AF28>0,(IF(AF27>AF28,1,(IF(AF27=AF28,0.5,0)))),0)","v":0},null,null,{"$f":"IF(AI27+AI28>0,(IF(AI27>AI28,1,(IF(AI27=AI28,0.5,0)))),0)","v":0},null,{"$f":"+AD27+AG27","v":0},{"$f":"IF(AL27>2,AL27,AD27+AG27+AJ27)","v":0},null,{"$f":"IF(AM27+AM28>=1.5,(IF(AM27>AM28,3,0)),0)","v":0},{"$f":"IF(AC27+AC28+AF27+AF28=0,0,AC27+AF27-AC28-AF28)","v":0},{"$f":"IF((AO27+AO28)=3,(AL27+AO27),0)","v":0}]
[{"$nulls":3},{"$f":"DRAW!$C$32","v":0},null,{"$f":"VLOOKUP(D28,DRAW!$C$5:'DRAW'!$E$46,3,0)","v":{"$error":"#N/A"}},null,null,{"$f":"IF(H27+H28>0,(IF(H27<H28,1,(IF(H27=H28,0.5,0)))),0)","v":0},null,null,{"$f":"IF(K27+K28>0,(IF(K27<K28,1,(IF(K27=K28,0.5,0)))),0)","v":0},null,null,{"$f":"IF(N27+N28>0,(IF(N27<N28,1,(IF(N27=N28,0.5,0)))),0)","v":0},null,{"$f":"+I28+L28","v":0},{"$f":"IF(Q28>2,Q28,I28+L28+O28)","v":0},null,{"$f":"IF(R27+R28>=1.5,(IF(R27<R28,3,0)),0)","v":0},{"$f":"IF(H27+H28+K27+K28=0,0,H28+K28-H27-K27)","v":0},{"$f":"IF((T27+T28)=3,(Q28+T28),0)","v":0},{"$nulls":3},{"$f":"DRAW!$C$36","v":0},{"$f":"VLOOKUP(Z28,DRAW!$C$5:'DRAW'!$E$46,3,0)","v":{"$error":"#N/A"}},null,null,{"$f":"IF(AC27+AC28>0,(IF(AC27<AC28,1,(IF(AC27=AC28,0.5,0)))),0)","v":0},null,null,{"$f":"IF(AF27+AF28>0,(IF(AF27<AF28,1,(IF(AF27=AF28,0.5,0)))),0)","v":0},null,null,{"$f":"IF(AI27+AI28>0,(IF(AI27<AI28,1,(IF(AI27=AI28,0.5,0)))),0)","v":0},null,{"$f":"+AD28+AG28","v":0},{"$f":"IF(AL28>2,AL28,AD28+AG28+AJ28)","v":0},null,{"$f":"IF(AM27+AM28>=1.5,(IF(AM27<AM28,3,0)),0)","v":0},{"$f":"IF(AC27+AC28+AF27+AF28=0,0,AC28+AF28-AC27-AF27)","v":0},{"$f":"IF((AO27+AO28)=3,(AL28+AO28),0)","v":0}]
[]
[null,9,{"$f":"DRAW!$F$37","v":0},{"$f":"DRAW!$C$37","v":0},null,{"$f":"VLOOKUP(D30,DRAW!$C$5:'DRAW'!$E$46,3,0)","v":{"$error":"#N/A"}},null,null,{"$f":"IF(H30+H31>0,(IF(H30>H31,1,(IF(H30=H31,0.5,0)))),0)","v":0},null,null,{"$f":"IF(K30+K31>0,(IF(K30>K31,1,(IF(K30=K31,0.5,0)))),0)","v":0},null,null,{"$f":"IF(N30+N31>0,(IF(N30>N31,1,(IF(N30=N31,0.5,0)))),0)","v":0},null,{"$f":"+I30+L30","v":0},{"$f":"IF(Q30>2,Q30,I30+L30+O30)","v":0},null,{"$f":"IF(R30+R31>=1.5,(IF(R30>R31,3,0)),0)","v":0},{"$f":"IF(H30+H31+K30+K31=0,0,H30+K30-H31-K31)","v":0},{"$f":"IF((T30+T31)=3,(Q30+T30),0)","v":0},null,10,{"$f":"DRAW!$F$41","v":0},{"$f":"DRAW!$C$41","v":0},{"$f":"VLOOKUP(Z30,DRAW!$C$5:'DRAW'!$E$46,3,0)","v":{"$error":"#N/A"}},null,null,{"$f":"IF(AC30+AC31>0,(IF(AC30>AC31,1,(IF(AC30=AC31,0.5,0)))),0)","v":0},null,null,{"$f":"IF(AF30+AF31>0,(IF(AF30>AF31,1,(IF(AF30=AF31,0.5,0)))),0)","v":0},null,null,{"$f":"IF(AI30+AI31>0,(IF(AI30>AI31,1,(IF(AI30=AI31,0.5,0)))),0)","v":0},null,{"$f":"+AD30+AG30","v":0},{"$f":"IF(AL30>2,AL30,AD30+AG30+AJ30)","v":0},null,{"$f":"IF(AM30+AM31>=1.5,(IF(AM30>AM31,3,0)),0)","v":0},{"$f":"IF(AC30+AC31+AF30+AF31=0,0,AC30+AF30-AC31-AF31)","v":0},{"$f":"IF((AO30+AO31)=3,(AL30+AO30),0)","v":0}]
[{"$nulls":3},{"$f":"DRAW!$C$38","v":0},null,{"$f":"VLOOKUP(D31,DRAW!$C$5:'DRAW'!$E$46,3,0)","v":{"$error":"#N/A"}},null,null,{"$f":"IF(H30+H31>0,(IF(H30<H31,1,(IF(H30=H31,0.5,0)))),0)","v":0},null,null,{"$f":"IF(K30+K31>0,(IF(K30<K31,1,(IF(K30=K31,0.5,0)))),0)","v":0},null,null,{"$f":"IF(N30+N31>0,(IF(N30<N31,1,(IF(N30=N31,0.5,0)))),0)","v":0},null,{"$f":"+I31+L31","v":0},{"$f":"IF(Q31>2,Q31,I31+L31+O31)","v":0},null,{"$f":"IF(R30+R31>=1.5,(IF(R30<R31,3,0)),0)","v":0},{"$f":"IF(H30+H31+K30+K31=0,0,H31+K31-H30-K30)","v":0},{"$f":"IF((T30+T31)=3,(Q31+T31),0)","v":0},{"$nulls":3},{"$f":"DRAW!$C$42","v":0},{"$f":"VLOOKUP(Z31,DRAW!$C$5:'DRAW'!$E$46,3,0)","v":{"$error":"#N/A"}},null,null,{"$f":"IF(AC30+AC31>0,(IF(AC30<AC31,1,(IF(AC30=AC31,0.5,0)))),0)","v":0},null,null,{"$f":"IF(AF30+AF31>0,(IF(AF30<AF31,1,(IF(AF30=AF31,0.5,0)))),0)","v":0},null,null,{"$f":"IF(AI30+AI31>0,(IF(AI30<AI31,1,(IF(AI30=AI31,0.5,0)))),0)","v":0},null,{"$f":"+AD31+AG31","v":0},{"$f":"IF(AL31>2,AL31,AD31+AG31+AJ31)","v":0},null,{"$f":"IF(AM30+AM31>=1.5,(IF(AM30<AM31,3,0)),0)","v":0},{"$f":"IF(AC30+AC31+AF30+AF31=0,0,AC31+AF31-AC30-AF30)","v":0},{"$f":"IF((AO30+AO31)=3,(AL31+AO31),0)","v":0}]
[]
[null,null,{"$f":"DRAW!$F$39","v":0},{"$f":"DRAW!$C$39","v":0},null,{"$f":"VLOOKUP(D33,DRAW!$C$5:'DRAW'!$E$46,3,0)","v":{"$error":"#N/A"}},null,null,{"$f":"IF(H33+H34>0,(IF(H33>H34,1,(IF(H33=H34,0.5,0)))),0)","v":0},null,null,{"$f":"IF(K33+K34>0,(IF(K33>K34,1,(IF(K33=K34,0.5,0)))),0)","v":0},null,null,{"$f":"IF(N33+N34>0,(IF(N33>N34,1,(IF(N33=N34,0.5,0)))),0)","v":0},null,{"$f":"+I33+L33","v":0},{"$f":"IF(Q33>2,Q33,I33+L33+O33)","v":0},null,{"$f":"IF(R33+R34>=1.5,(IF(R33>R34,3,0)),0)","v":0},{"$f":"IF(H33+H34+K33+K34=0,0,H33+K33-H34-K34)","v":0},{"$f":"IF((T33+T34)=3,(Q33+T33),0)","v":0},null,null,{"$f":"DRAW!$F$43","v":0},{"$f":"DRAW!$C$43","v":0},{"$f":"VLOOKUP(Z33,DRAW!$C$5:'DRAW'!$E$46,3,0)","v":{"$error":"#N/A"}},null,null,{"$f":"IF(AC33+AC34>0,(IF(AC33>AC34,1,(IF(AC33=AC34,0.5,0)))),0)","v":0},null,null,{"$f":"IF(AF33+AF34>0,(IF(AF33>AF34,1,(IF(AF33=AF34,0.5,0)))),0)","v":0},null,null,{"$f":"IF(AI33+AI34>0,(IF(AI33>AI34,1,(IF(AI33=AI34,0.5,0)))),0)","v":0},null,{"$f":"+AD33+AG33","v":0},{"$f":"IF(AL33>2,AL33,AD33+AG33+AJ33)","v":0},null,{"$f":"IF(AM33+AM34>=1.5,(IF(AM33>AM34,3,0)),0)","v":0},{"$f":"IF(AC33+AC34+AF33+AF34=0,0,AC33+AF33-AC34-AF34)","v":0},{"$f":"IF((AO33+AO34)=3,(AL33+AO33),0)","v":0}]
[{"$nulls":3},{"$f":"DRAW!$C$40","v":0},null,{"$f":"VLOOKUP(D34,DRAW!$C$5:'DRAW'!$E$46,3,0)","v":{"$error":"#N/A"}},null,null,{"$f":"IF(H33+H34>0,(IF(H33<H34,1,(IF(H33=H34,0.5,0)))),0)","v":0},null,null,{"$f":"IF(K33+K34>0,(IF(K33<K34,1,(IF(K33=K34,0.5,0)))),0)","v":0},null,null,{"$f":"IF(N33+N34>0,(IF(N33<N34,1,(IF(N33=N34,0.5,0)))),0)","v":0},null,{"$f":"+I34+L34","v":0},{"$f":"IF(Q34>2,Q34,I34+L34+O34)","v":0},null,{"$f":"IF(R33+R34>=1.5,(IF(R33<R34,3,0)),0)","v":0},{"$f":"IF(H33+H34+K33+K34=0,0,H34+K34-H33-K33)","v":0},{"$f":"IF((T33+T34)=3,(Q34+T34),0)","v":0},{"$nulls":3},{"$f":"DRAW!$C$44","v":0},{"$f":"VLOOKUP(Z34,DRAW!$C$5:'DRAW'!$E$46,3,0)","v":{"$error":"#N/A"}},null,null,{"$f":"IF(AC33+AC34>0,(IF(AC33<AC34,1,(IF(AC33=AC34,0.5,0)))),0)","v":0},null,null,{"$f":"IF(AF33+AF34>0,(IF(AF33<AF34,1,(IF(AF33=AF34,0.5,0)))),0)","v":0},null,null,{"$f":"IF(AI33+AI34>0,(IF(AI33<AI34,1,(IF(AI33=AI34,0.5,0)))),0)","v":0},null,{"$f":"+AD34+AG34","v":0},{"$f":"IF(AL34>2,AL34,AD34+AG34+AJ34)","v":0},null,{"$f":"IF(AM33+AM34>=1.5,(IF(AM33<AM34,3,0)),0)","v":0},{"$f":"IF(AC33+AC34+AF33+AF34=0,0,AC34+AF34-AC33-AF33)","v":0},{"$f":"IF((AO33+AO34)=3,(AL34+AO34),0)","v":0}]

{"sheet":"R 2","index":7,"n_rows":34,"n_cols":43,"rows_kept":34,"merged":[[0,1,0,42],[2,1,2,42],[3,4,3,5],[5,1,9,1],[5,2,6,2],[5,23,9,23],[5,24,6,24],[8,2,9,2],[8,24,9,24],[11,1,15,1],[11,2,12,2],[11,23,15,23],[11,24,12,24],[14,2,15,2],[14,24,15,24],[17,1,21,1],[17,2,18,2],[17,23,21,23],[17,24,18,24],[20,2,21,2],[20,24,21,24],[23,1,27,1],[23,2,24,2],[23,23,27,23],[23,24,24,24],[26,2,27,2],[26,24,27,24],[29,1,33,1],[29,2,30,2],[29,23,33,23],[29,24,30,24],[32,2,33,2],[32,24,33,24]]}
[null,{"$f":"Entries!$A$1","v":"2018 District 5 - Mixed Pairs"}]
[]
[null,"R O U N D  2"]
[null,"Section","Rink","Team No.","Skip",null,null,"1st    Set","Set Points",null,"2nd   Set","Set Points",null,"Tie Break","Set Points",null,"Set Points","S+TBPts",null,"Game Points","Margin","Total Points",null,"Section","Rink","Team No.","Skip",null,"1st    Set","Set Points",null,"2nd   Set","Set Points",null,"Tie Break","Set Points",null,"Set Points","S+TBPts",null,"Game Points","Margin","Total Points"]
[{"$nulls":6},{"$f":"IF('R 1'!D6=1,)","v":false}]
[null,1,{"$f":"DRAW!$H$5","v":0},{"$f":"DRAW!$C$5","v":0},null,{"$f":"VLOOKUP(D6,DRAW!$C$5:'DRAW'!$E$46,3,0)","v":{"$error":"#N/A"}},null,null,{"$f":"IF(H6+H7>0,(IF(H6>H7,1,(IF(H6=H7,0.5,0)))),0)","v":0},null,null,{"$f":"IF(K6+K7>0,(IF(K6>K7,1,(IF(K6=K7,0.5,0)))),0)","v":0},null,null,{"$f":"IF(N6+N7>0,(IF(N6>N7,1,(IF(N6=N7,0.5,0)))),0)","v":0},null,{"$f":"+I6+L6","v":0},{"$f":"IF(Q6>2,Q6,I6+L6+O6)","v":0},null,{"$f":"IF(R6+R7>=1.5,(IF(R6>R7,3,0)),0)","v":0},{"$f":"IF(H6+H7+K6+K7=0,0,H6+K6-H7-K7)","v":0},{"$f":"IF((T6+T7)=3,(Q6+T6),0)","v":0},null,2,{"$f":"DRAW!$H$9","v":0},{"$f":"DRAW!$C$9","v":0},{"$f":"VLOOKUP(Z6,DRAW!$C$5:'DRAW'!$E$46,3,0)","v":{"$error":"#N/A"}},null,null,{"$f":"IF(AC6+AC7>0,(IF(AC6>AC7,1,(IF(AC6=AC7,0.5,0)))),0)","v":0},null,null,{"$f":"IF(AF6+AF7>0,(IF(AF6>AF7,1,(IF(AF6=AF7,0.5,0)))),0)","v":0},null,null,{"$f":"IF(AI6+AI7>0,(IF(AI6>AI7,1,(IF(AI6=AI7,0.5,0)))),0)","v":0},null,{"$f":"+AD6+AG6","v":0},{"$f":"IF(AL6>2,AL6,AD6+AG6+AJ6)","v":0},null,{"$f":"IF(AM6+AM7>=1.5,(IF(AM6>AM7,3,0)),0)","v":0},{"$f":"IF(AC6+AC7+AF6+AF7=0,0,AC6+AF6-AC7-AF7)","v":0},{"$f":"IF((AO6+AO7)=3,(AL6+AO6),0)","v":0}]
[{"$nulls":3},{"$f":"DRAW!$C$7","v":0},null,{"$f":"VLOOKUP(D7,DRAW!$C$5:'DRAW'!$E$46,3,0)","v":{"$error":"#N/A"}},null,null,{"$f":"IF(H6+H7>0,(IF(H6<H7,1,(IF(H6=H7,0.5,0)))),0)","v":0},null,null,{"$f":"IF(K6+K7>0,(IF(K6<K7,1,(IF(K6=K7,0.5,0)))),0)","v":0},null,null,{"$f":"IF(N6+N7>0,(IF(N6<N7,1,(IF(N6=N7,0.5,0)))),0)","v":0},null,{"$f":"+I7+L7","v":0},{"$f":"IF(Q7>2,Q7,I7+L7+O7)","v":0},null,{"$f":"IF(R6+R7>=1.5,(IF(R6<R7,3,0)),0)","v":0},{"$f":"IF(H6+H7+K6+K7=0,0,H7+K7-H6-K6)","v":0},{"$f":"IF((T6+T7)=3,(Q7+T7),0)","v":0},{"$nulls":3},{"$f":"DRAW!$C$11","v":0},{"$f":"VLOOKUP(Z7,DRAW!$C$5:'DRAW'!$E$46,3,0)","v":{"$error":"#N/A"}},null,null,{"$f":"IF(AC6+AC7>0,(IF(AC6<AC7,1,(IF(AC6=AC7,0.5,0)))),0)","v":0},null,null,{"$f":"IF(AF6+AF7>0,(IF(AF6<AF7,1,(IF(AF6=AF7,0.5,0)))),0)","v":0},null,null,{"$f":"IF(AI6+AI7>0,(IF(AI6<AI7,1,(IF(AI6=AI7,0.5,0)))),0)","v":0},null,{"$f":"+AD7+AG7","v":0},{"$f":"IF(AL7>2,AL7,AD7+AG7+AJ7)","v":0},null,{"$f":"IF(AM6+AM7>=1.5,(IF(AM6<AM7,3,0)),0)","v":0},{"$f":"IF(AC6+AC7+AF6+AF7=0,0,AC7+AF7-AC6-AF6)","v":0},{"$f":"IF((AO6+AO7)=3,(AL7+AO7),0)","v":0}]
[]
[null,null,{"$f":"DRAW!$H$6","v":0},{"$f":"DRAW!$C$6","v":0},null,{"$f":"VLOOKUP(D9,DRAW!$C$5:'DRAW'!$E$46,3,0)","v":{"$error":"#N/A"}},null,null,{"$f":"IF(H9+H10>0,(IF(H9>H10,1,(IF(H9=H10,0.5,0)))),0)","v":0},null,null,{"$f":"IF(K9+K10>0,(IF(K9>K10,1,(IF(K9=K10,0.5,0)))),0)","v":0},null,null,{"$f":"IF(N9+N10>0,(IF(N9>N10,1,(IF(N9=N10,0.5,0)))),0)","v":0},null,{"$f":"+I9+L9","v":0},{"$f":"IF(Q9>2,Q9,I9+L9+O9)","v":0},null,{"$f":"IF(R9+R10>=1.5,(IF(R9>R10,3,0)),0)","v":0},{"$f":"IF(H9+H10+K9+K10=0,0,H9+K9-H10-K10)","v":0},{"$f":"IF((T9+T10)=3,(Q9+T9),0)","v":0},null,null,{"$f":"DRAW!$H$10","v":0},{"$f":"DRAW!$C$10","v":0},{"$f":"VLOOKUP(Z9,DRAW!$C$5:'DRAW'!$E$46,3,0)","v":{"$error":"#N/A"}},null,null,{"$f":"IF(AC9+AC10>0,(IF(AC9>AC10,1,(IF(AC9=AC10,0.5,0)))),0)","v":0},null,null,{"$f":"IF(AF9+AF10>0,(IF(AF9>AF10,1,(IF(AF9=AF10,0.5,0)))),0)","v":0},null,null,{"$f":"IF(AI9+AI10>0,(IF(AI9>AI10,1,(IF(AI9=AI10,0.5,0)))),0)","v":0},null,{"$f":"+AD9+AG9","v":0},{"$f":"IF(AL9>2,AL9,AD9+AG9+AJ9)","v":0},null,{"$f":"IF(AM9+AM10>=1.5,(IF(AM9>AM10,3,0)),0)","v":0},{"$f":"IF(AC9+AC10+AF9+AF10=0,0,AC9+AF9-AC10-AF10)","v":0},{"$f":"IF((AO9+AO10)=3,(AL9+AO9),0)","v":0}]
[{"$nulls":3},{"$f":"DRAW!$C$8","v":0},null,{"$f":"VLOOKUP(D10,DRAW!$C$5:'DRAW'!$E$46,3,0)","v":{"$error":"#N/A"}},null,null,{"$f":"IF(H9+H10>0,(IF(H9<H10,1,(IF(H9=H10,0.5,0)))),0)","v":0},null,null,{"$f":"IF(K9+K10>0,(IF(K9<K10,1,(IF(K9=K10,0.5,0)))),0)","v":0},null,null,{"$f":"IF(N9+N10>0,(IF(N9<N10,1,(IF(N9=N10,0.5,0)))),0)","v":0},null,{"$f":"+I10+L10","v":0},{"$f":"IF(Q10>2,Q10,I10+L10+O10)","v":0},null,{"$f":"IF(R9+R10>=1.5,(IF(R9<R10,3,0)),0)","v":0},{"$f":"IF(H9+H10+K9+K10=0,0,H10+K10-H9-K9)","v":0},{"$f":"IF((T9+T10)=3,(Q10+T10),0)","v":0},{"$nulls":3},{"$f":"DRAW!$C$12","v":0},{"$f":"VLOOKUP(Z10,DRAW!$C$5:'DRAW'!$E$46,3,0)","v":{"$error":"#N/A"}},null,null,{"$f":"IF(AC9+AC10>0,(IF(AC9<AC10,1,(IF(AC9=AC10,0.5,0)))),0)","v":0},null,null,{"$f":"IF(AF9+AF10>0,(IF(AF9<AF10,1,(IF(AF9=AF10,0.5,0)))),0)","v":0},null,null,{"$f":"IF(AI9+AI10>0,(IF(AI9<AI10,1,(IF(AI9=AI10,0.5,0)))),0)","v":0},null,{"$f":"+AD10+AG10","v":0},{"$f":"IF(AL10>2,AL10,AD10+AG10+AJ10)","v":0},null,{"$f":"IF(AM9+AM10>=1.5,(IF(AM9<AM10,3,0)),0)","v":0},{"$f":"IF(AC9+AC10+AF9+AF10=0,0,AC10+AF10-AC9-AF9)","v":0},{"$f":"IF((AO9+AO10)=3,(AL10+AO10),0)","v":0}]
[]
[null,3,{"$f":"DRAW!$H$13","v":0},{"$f":"DRAW!$C$13","v":0},null,{"$f":"VLOOKUP(D12,DRAW!$C$5:'DRAW'!$E$46,3,0)","v":{"$error":"#N/A"}},null,null,{"$f":"IF(H12+H13>0,(IF(H12>H13,1,(IF(H12=H13,0.5,0)))),0)","v":0},null,null,{"$f":"IF(K12+K13>0,(IF(K12>K13,1,(IF(K12=K13,0.5,0)))),0)","v":0},null,null,{"$f":"IF(N12+N13>0,(IF(N12>N13,1,(IF(N12=N13,0.5,0)))),0)","v":0},null,{"$f":"+I12+L12","v":0},{"$f":"IF(Q12>2,Q12,I12+L12+O12)","v":0},null,{"$f":"IF(R12+R13>=1.5,(IF(R12>R13,3,0)),0)","v":0},{"$f":"IF(H12+H13+K12+K13=0,0,H12+K12-H13-K13)","v":0},{"$f":"IF((T12+T13)=3,(Q12+T12),0)","v":0},null,4,{"$f":"DRAW!$H$17","v":0},{"$f":"DRAW!$C$17","v":0},{"$f":"VLOOKUP(Z12,DRAW!$C$5:'DRAW'!$E$46,3,0)","v":{"$error":"#N/A"}},null,null,{"$f":"IF(AC12+AC13>0,(IF(AC12>AC13,1,(IF(AC12=AC13,0.5,0)))),0)","v":0},null,null,{"$f":"IF(AF12+AF13>0,(IF(AF12>AF13,1,(IF(AF12=AF13,0.5,0)))),0)","v":0},null,null,{"$f":"IF(AI12+AI13>0,(IF(AI12>AI13,1,(IF(AI12=AI13,0.5,0)))),0)","v":0},null,{"$f":"+AD12+AG12","v":0},{"$f":"IF(AL12>2,AL12,AD12+AG12+AJ12)","v":0},null,{"$f":"IF(AM12+AM13>=1.5,(IF(AM12>AM13,3,0)),0)","v":0},{"$f":"IF(AC12+AC13+AF12+AF13=0,0,AC12+AF12-AC13-AF13)","v":0},{"$f":"IF((AO12+AO13)=3,(AL12+AO12),0)","v":0}]
[{"$nulls":3},{"$f":"DRAW!$C$15","v":0},null,{"$f":"VLOOKUP(D13,DRAW!$C$5:'DRAW'!$E$46,3,0)","v":{"$error":"#N/A"}},null,null,{"$f":"IF(H12+H13>0,(IF(H12<H13,1,(IF(H12=H13,0.5,0)))),0)","v":0},null,null,{"$f":"IF(K12+K13>0,(IF(K12<K13,1,(IF(K12=K13,0.5,0)))),0)","v":0},null,null,{"$f":"IF(N12+N13>0,(IF(N12<N13,1,(IF(N12=N13,0.5,0)))),0)","v":0},null,{"$f":"+I13+L13","v":0},{"$f":"IF(Q13>2,Q13,I13+L13+O13)","v":0},null,{"$f":"IF(R12+R13>=1.5,(IF(R12<R13,3,0)),0)","v":0},{"$f":"IF(H12+H13+K12+K13=0,0,H13+K13-H12-K12)","v":0},{"$f":"IF((T12+T13)=3,(Q13+T13),0)","v":0},{"$nulls":3},{"$f":"DRAW!$C$19","v":0},{"$f":"VLOOKUP(Z13,DRAW!$C$5:'DRAW'!$E$46,3,0)","v":{"$error":"#N/A"}},null,null,{"$f":"IF(AC12+AC13>0,(IF(AC12<AC13,1,(IF(AC12=AC13,0.5,0)))),0)","v":0},null,null,{"$f":"IF(AF12+AF13>0,(IF(AF12<AF13,1,(IF(AF12=AF13,0.5,0)))),0)","v":0},null,null,{"$f":"IF(AI12+AI13>0,(IF(AI12<AI13,1,(IF(AI12=AI13,0.5,0)))),0)","v":0},null,{"$f":"+AD13+AG13","v":0},{"$f":"IF(AL13>2,AL13,AD13+AG13+AJ13)","v":0},null,{"$f":"IF(AM12+AM13>=1.5,(IF(AM12<AM13,3,0)),0)","v":0},{"$f":"IF(AC12+AC13+AF12+AF13=0,0,AC13+AF13-AC12-AF12)","v":0},{"$f":"IF((AO12+AO13)=3,(AL13+AO13),0)","v":0}]
[]
[null,null,{"$f":"DRAW!$H$14","v":0},{"$f":"DRAW!$C$14","v":0},null,{"$f":"VLOOKUP(D15,DRAW!$C$5:'DRAW'!$E$46,3,0)","v":{"$error":"#N/A"}},null,null,{"$f":"IF(H15+H16>0,(IF(H15>H16,1,(IF(H15=H16,0.5,0)))),0)","v":0},null,null,{"$f":"IF(K15+K16>0,(IF(K15>K16,1,(IF(K15=K16,0.5,0)))),0)","v":0},null,null,{"$f":"IF(N15+N16>0,(IF(N15>N16,1,(IF(N15=N16,0.5,0)))),0)","v":0},null,{"$f":"+I15+L15","v":0},{"$f":"IF(Q15>2,Q15,I15+L15+O15)","v":0},null,{"$f":"IF(R15+R16>=1.5,(IF(R15>R16,3,0)),0)","v":0},{"$f":"IF(H15+H16+K15+K16=0,0,H15+K15-H16-K16)","v":0},{"$f":"IF((T15+T16)=3,(Q15+T15),0)","v":0},null,null,{"$f":"DRAW!$H$18","v":0},{"$f":"DRAW!$C$18","v":0},{"$f":"VLOOKUP(Z15,DRAW!$C$5:'DRAW'!$E$46,3,0)","v":{"$error":"#N/A"}},null,null,{"$f":"IF(AC15+AC16>0,(IF(AC15>AC16,1,(IF(AC15=AC16,0.5,0)))),0)","v":0},null,null,{"$f":"IF(AF15+AF16>0,(IF(AF15>AF16,1,(IF(AF15=AF16,0.5,0)))),0)","v":0},null,null,{"$f":"IF(AI15+AI16>0,(IF(AI15>AI16,1,(IF(AI15=AI16,0.5,0)))),0)","v":0},null,{"$f":"+AD15+AG15","v":0},{"$f":"IF(AL15>2,AL15,AD15+AG15+AJ15)","v":0},null,{"$f":"IF(AM15+AM16>=1.5,(IF(AM15>AM16,3,0)),0)","v":0},{"$f":"IF(AC15+AC16+AF15+AF16=0,0,AC15+AF15-AC16-AF16)","v":0},{"$f":"IF((AO15+AO16)=3,(AL15+AO15),0)","v":0}]
[{"$nulls":3},{"$f":"DRAW!$C$16","v":0},null,{"$f":"VLOOKUP(D16,DRAW!$C$5:'DRAW'!$E$46,3,0)","v":{"$error":"#N/A"}},null,null,{"$f":"IF(H15+H16>0,(IF(H15<H16,1,(IF(H15=H16,0.5,0)))),0)","v":0},null,null,{"$f":"IF(K15+K16>0,(IF(K15<K16,1,(IF(K15=K16,0.5,0)))),0)","v":0},10,null,{"$f":"IF(N15+N16>0,(IF(N15<N16,1,(IF(N15=N16,0.5,0)))),0)","v":0},null,{"$f":"+I16+L16","v":0},{"$f":"IF(Q16>2,Q16,I16+L16+O16)","v":0},null,{"$f":"IF(R15+R16>=1.5,(IF(R15<R16,3,0)),0)","v":0},{"$f":"IF(H15+H16+K15+K16=0,0,H16+K16-H15-K15)","v":0},{"$f":"IF((T15+T16)=3,(Q16+T16),0)","v":0},{"$nulls":3},{"$f":"DRAW!$C$20","v":0},{"$f":"VLOOKUP(Z16,DRAW!$C$5:'DRAW'!$E$46,3,0)","v":{"$error":"#N/A"}},null,null,{"$f":"IF(AC15+AC16>0,(IF(AC15<AC16,1,(IF(AC15=AC16,0.5,0)))),0)","v":0},null,null,{"$f":"IF(AF15+AF16>0,(IF(AF15<AF16,1,(IF(AF15=AF16,0.5,0)))),0)","v":0},null,null,{"$f":"IF(AI15+AI16>0,(IF(AI15<AI16,1,(IF(AI15=AI16,0.5,0)))),0)","v":0},null,{"$f":"+AD16+AG16","v":0},{"$f":"IF(AL16>2,AL16,AD16+AG16+AJ16)","v":0},null,{"$f":"IF(AM15+AM16>=1.5,(IF(AM15<AM16,3,0)),0)","v":0},{"$f":"IF(AC15+AC16+AF15+AF16=0,0,AC16+AF16-AC15-AF15)","v":0},{"$f":"IF((AO15+AO16)=3,(AL16+AO16),0)","v":0}]
[]
[null,5,{"$f":"DRAW!$H$21","v":0},{"$f":"DRAW!$C$21","v":0},null,{"$f":"VLOOKUP(D18,DRAW!$C$5:'DRAW'!$E$46,3,0)","v":{"$error":"#N/A"}},null,null,{"$f":"IF(H18+H19>0,(IF(H18>H19,1,(IF(H18=H19,0.5,0)))),0)","v":0},null,null,{"$f":"IF(K18+K19>0,(IF(K18>K19,1,(IF(K18=K19,0.5,0)))),0)","v":0},null,null,{"$f":"IF(N18+N19>0,(IF(N18>N19,1,(IF(N18=N19,0.5,0)))),0)","v":0},null,{"$f":"+I18+L18","v":0},{"$f":"IF(Q18>2,Q18,I18+L18+O18)","v":0},null,{"$f":"IF(R18+R19>=1.5,(IF(R18>R19,3,0)),0)","v":0},{"$f":"IF(H18+H19+K18+K19=0,0,H18+K18-H19-K19)","v":0},{"$f":"IF((T18+T19)=3,(Q18+T18),0)","v":0},null,6,{"$f":"DRAW!$H$25","v":0},{"$f":"DRAW!$C$25","v":0},{"$f":"VLOOKUP(Z18,DRAW!$C$5:'DRAW'!$E$46,3,0)","v":{"$error":"#N/A"}},null,null,{"$f":"IF(AC18+AC19>0,(IF(AC18>AC19,1,(IF(AC18=AC19,0.5,0)))),0)","v":0},null,null,{"$f":"IF(AF18+AF19>0,(IF(AF18>AF19,1,(IF(AF18=AF19,0.5,0)))),0)","v":0},null,null,{"$f":"IF(AI18+AI19>0,(IF(AI18>AI19,1,(IF(AI18=AI19,0.5,0)))),0)","v":0},null,{"$f":"+AD18+AG18","v":0},{"$f":"IF(AL18>2,AL18,AD18+AG18+AJ18)","v":0},null,{"$f":"IF(AM18+AM19>=1.5,(IF(AM18>AM19,3,0)),0)","v":0},{"$f":"IF(AC18+AC19+AF18+AF19=0,0,AC18+AF18-AC19-AF19)","v":0},{"$f":"IF((AO18+AO19)=3,(AL18+AO18),0)","v":0}]
[{"$nulls":3},{"$f":"DRAW!$C$23","v":0},null,{"$f":"VLOOKUP(D19,DRAW!$C$5:'DRAW'!$E$46,3,0)","v":{"$error":"#N/A"}},null,null,{"$f":"IF(H18+H19>0,(IF(H18<H19,1,(IF(H18=H19,0.5,0)))),0)","v":0},null,null,{"$f":"IF(K18+K19>0,(IF(K18<K19,1,(IF(K18=K19,0.5,0)))),0)","v":0},null,null,{"$f":"IF(N18+N19>0,(IF(N18<N19,1,(IF(N18=N19,0.5,0)))),0)","v":0},null,{"$f":"+I19+L19","v":0},{"$f":"IF(Q19>2,Q19,I19+L19+O19)","v":0},null,{"$f":"IF(R18+R19>=1.5,(IF(R18<R19,3,0)),0)","v":0},{"$f":"IF(H18+H19+K18+K19=0,0,H19+K19-H18-K18)","v":0},{"$f":"IF((T18+T19)=3,(Q19+T19),0)","v":0},{"$nulls":3},{"$f":"DRAW!$C$27","v":0},{"$f":"VLOOKUP(Z19,DRAW!$C$5:'DRAW'!$E$46,3,0)","v":{"$error":"#N/A"}},null,null,{"$f":"IF(AC18+AC19>0,(IF(AC18<AC19,1,(IF(AC18=AC19,0.5,0)))),0)","v":0},null,null,{"$f":"IF(AF18+AF19>0,(IF(AF18<AF19,1,(IF(AF18=AF19,0.5,0)))),0)","v":0},null,null,{"$f":"IF(AI18+AI19>0,(IF(AI18<AI19,1,(IF(AI18=AI19,0.5,0)))),0)","v":0},null,{"$f":"+AD19+AG19","v":0},{"$f":"IF(AL19>2,AL19,AD19+AG19+AJ19)","v":0},null,{"$f":"IF(AM18+AM19>=1.5,(IF(AM18<AM19,3,0)),0)","v":0},{"$f":"IF(AC18+AC19+AF18+AF19=0,0,AC19+AF19-AC18-AF18)","v":0},{"$f":"IF((AO18+AO19)=3,(AL19+AO19),0)","v":0}]
[]
[null,null,{"$f":"DRAW!$H$22","v":0},{"$f":"DRAW!$C$22","v":0},null,{"$f":"VLOOKUP(D21,DRAW!$C$5:'DRAW'!$E$46,3,0)","v":{"$error":"#N/A"}},null,null,{"$f":"IF(H21+H22>0,(IF(H21>H22,1,(IF(H21=H22,0.5,0)))),0)","v":0},null,null,{"$f":"IF(K21+K22>0,(IF(K21>K22,1,(IF(K21=K22,0.5,0)))),0)","v":0},null,null,{"$f":"IF(N21+N22>0,(IF(N21>N22,1,(IF(N21=N22,0.5,0)))),0)","v":0},null,{"$f":"+I21+L21","v":0},{"$f":"IF(Q21>2,Q21,I21+L21+O21)","v":0},null,{"$f":"IF(R21+R22>=1.5,(IF(R21>R22,3,0)),0)","v":0},{"$f":"IF(H21+H22+K21+K22=0,0,H21+K21-H22-K22)","v":0},{"$f":"IF((T21+T22)=3,(Q21+T21),0)","v":0},null,null,{"$f":"DRAW!$H$26","v":0},{"$f":"DRAW!$C$26","v":0},{"$f":"VLOOKUP(Z21,DRAW!$C$5:'DRAW'!$E$46,3,0)","v":{"$error":"#N/A"}},null,null,{"$f":"IF(AC21+AC22>0,(IF(AC21>AC22,1,(IF(AC21=AC22,0.5,0)))),0)","v":0},null,null,{"$f":"IF(AF21+AF22>0,(IF(AF21>AF22,1,(IF(AF21=AF22,0.5,0)))),0)","v":0},null,null,{"$f":"IF(AI21+AI22>0,(IF(AI21>AI22,1,(IF(AI21=AI22,0.5,0)))),0)","v":0},null,{"$f":"+AD21+AG21","v":0},{"$f":"IF(AL21>2,AL21,AD21+AG21+AJ21)","v":0},null,{"$f":"IF(AM21+AM22>=1.5,(IF(AM21>AM22,3,0)),0)","v":0},{"$f":"IF(AC21+AC22+AF21+AF22=0,0,AC21+AF21-AC22-AF22)","v":0},{"$f":"IF((AO21+AO22)=3,(AL21+AO21),0)","v":0}]
[{"$nulls":3},{"$f":"DRAW!$C$24","v":0},null,{"$f":"VLOOKUP(D22,DRAW!$C$5:'DRAW'!$E$46,3,0)","v":{"$error":"#N/A"}},null,null,{"$f":"IF(H21+H22>0,(IF(H21<H22,1,(IF(H21=H22,0.5,0)))),0)","v":0},null,null,{"$f":"IF(K21+K22>0,(IF(K21<K22,1,(IF(K21=K22,0.5,0)))),0)","v":0},null,null,{"$f":"IF(N21+N22>0,(IF(N21<N22,1,(IF(N21=N22,0.5,0)))),0)","v":0},null,{"$f":"+I22+L22","v":0},{"$f":"IF(Q22>2,Q22,I22+L22+O22)","v":0},null,{"$f":"IF(R21+R22>=1.5,(IF(R21<R22,3,0)),0)","v":0},{"$f":"IF(H21+H22+K21+K22=0,0,H22+K22-H21-K21)","v":0},{"$f":"IF((T21+T22)=3,(Q22+T22),0)","v":0},{"$nulls":3},{"$f":"DRAW!$C$28","v":0},{"$f":"VLOOKUP(Z22,DRAW!$C$5:'DRAW'!$E$46,3,0)","v":{"$error":"#N/A"}},null,null,{"$f":"IF(AC21+AC22>0,(IF(AC21<AC22,1,(IF(AC21=AC22,0.5,0)))),0)","v":0},null,null,{"$f":"IF(AF21+AF22>0,(IF(AF21<AF22,1,(IF(AF21=AF22,0.5,0)))),0)","v":0},null,null,{"$f":"IF(AI21+AI22>0,(IF(AI21<AI22,1,(IF(AI21=AI22,0.5,0)))),0)","v":0},null,{"$f":"+AD22+AG22","v":0},{"$f":"IF(AL22>2,AL22,AD22+AG22+AJ22)","v":0},null,{"$f":"IF(AM21+AM22>=1.5,(IF(AM21<AM22,3,0)),0)","v":0},{"$f":"IF(AC21+AC22+AF21+AF22=0,0,AC22+AF22-AC21-AF21)","v":0},{"$f":"IF((AO21+AO22)=3,(AL22+AO22),0)","v":0}]
[]
[null,7,{"$f":"DRAW!$H$29","v":0},{"$f":"DRAW!$C$29","v":0},null,{"$f":"VLOOKUP(D24,DRAW!$C$5:'DRAW'!$E$46,3,0)","v":{"$error":"#N/A"}},null,null,{"$f":"IF(H24+H25>0,(IF(H24>H25,1,(IF(H24=H25,0.5,0)))),0)","v":0},null,null,{"$f":"IF(K24+K25>0,(IF(K24>K25,1,(IF(K24=K25,0.5,0)))),0)","v":0},null,null,{"$f":"IF(N24+N25>0,(IF(N24>N25,1,(IF(N24=N25,0.5,0)))),0)","v":0},null,{"$f":"+I24+L24","v":0},{"$f":"IF(Q24>2,Q24,I24+L24+O24)","v":0},null,{"$f":"IF(R24+R25>=1.5,(IF(R24>R25,3,0)),0)","v":0},{"$f":"IF(H24+H25+K24+K25=0,0,H24+K24-H25-K25)","v":0},{"$f":"IF((T24+T25)=3,(Q24+T24),0)","v":0},null,8,{"$f":"DRAW!$H$33","v":0},{"$f":"DRAW!$C$33","v":0},{"$f":"VLOOKUP(Z24,DRAW!$C$5:'DRAW'!$E$46,3,0)","v":{"$error":"#N/A"}},null,null,{"$f":"IF(AC24+AC25>0,(IF(AC24>AC25,1,(IF(AC24=AC25,0.5,0)))),0)","v":0},null,null,{"$f":"IF(AF24+AF25>0,(IF(AF24>AF25,1,(IF(AF24=AF25,0.5,0)))),0)","v":0},null,null,{"$f":"IF(AI24+AI25>0,(IF(AI24>AI25,1,(IF(AI24=AI25,0.5,0)))),0)","v":0},null,{"$f":"+AD24+AG24","v":0},{"$f":"IF(AL24>2,AL24,AD24+AG24+AJ24)","v":0},null,{"$f":"IF(AM24+AM25>=1.5,(IF(AM24>AM25,3,0)),0)","v":0},{"$f":"IF(AC24+AC25+AF24+AF25=0,0,AC24+AF24-AC25-AF25)","v":0},{"$f":"IF((AO24+AO25)=3,(AL24+AO24),0)","v":0}]
[{"$nulls":3},{"$f":"DRAW!$C$31","v":0},null,{"$f":"VLOOKUP(D25,DRAW!$C$5:'DRAW'!$E$46,3,0)","v":{"$error":"#N/A"}},null,null,{"$f":"IF(H24+H25>0,(IF(H24<H25,1,(IF(H24=H25,0.5,0)))),0)","v":0},null,null,{"$f":"IF(K24+K25>0,(IF(K24<K25,1,(IF(K24=K25,0.5,0)))),0)","v":0},null,null,{"$f":"IF(N24+N25>0,(IF(N24<N25,1,(IF(N24=N25,0.5,0)))),0)","v":0},null,{"$f":"+I25+L25","v":0},{"$f":"IF(Q25>2,Q25,I25+L25+O25)","v":0},null,{"$f":"IF(R24+R25>=1.5,(IF(R24<R25,3,0)),0)","v":0},{"$f":"IF(H24+H25+K24+K25=0,0,H25+K25-H24-K24)","v":0},{"$f":"IF((T24+T25)=3,(Q25+T25),0)","v":0},{"$nulls":3},{"$f":"DRAW!$C$35","v":0},{"$f":"VLOOKUP(Z25,DRAW!$C$5:'DRAW'!$E$46,3,0)","v":{"$error":"#N/A"}},null,null,{"$f":"IF(AC24+AC25>0,(IF(AC24<AC25,1,(IF(AC24=AC25,0.5,0)))),0)","v":0},null,null,{"$f":"IF(AF24+AF25>0,(IF(AF24<AF25,1,(IF(AF24=AF25,0.5,0)))),0)","v":0},null,null,{"$f":"IF(AI24+AI25>0,(IF(AI24<AI25,1,(IF(AI24=AI25,0.5,0)))),0)","v":0},null,{"$f":"+AD25+AG25","v":0},{"$f":"IF(AL25>2,AL25,AD25+AG25+AJ25)","v":0},null,{"$f":"IF(AM24+AM25>=1.5,(IF(AM24<AM25,3,0)),0)","v":0},{"$f":"IF(AC24+AC25+AF24+AF25=0,0,AC25+AF25-AC24-AF24)","v":0},{"$f":"IF((AO24+AO25)=3,(AL25+AO25),0)","v":0}]
[]
[null,null,{"$f":"DRAW!$H$30","v":0},{"$f":"DRAW!$C$30","v":0},null,{"$f":"VLOOKUP(D27,DRAW!$C$5:'DRAW'!$E$46,3,0)","v":{"$error":"#N/A"}},null,null,{"$f":"IF(H27+H28>0,(IF(H27>H28,1,(IF(H27=H28,0.5,0)))),0)","v":0},null,null,{"$f":"IF(K27+K28>0,(IF(K27>K28,1,(IF(K27=K28,0.5,0)))),0)","v":0},null,null,{"$f":"IF(N27+N28>0,(IF(N27>N28,1,(IF(N27=N28,0.5,0)))),0)","v":0},null,{"$f":"+I27+L27","v":0},{"$f":"IF(Q27>2,Q27,I27+L27+O27)","v":0},null,{"$f":"IF(R27+R28>=1.5,(IF(R27>R28,3,0)),0)","v":0},{"$f":"IF(H27+H28+K27+K28=0,0,H27+K27-H28-K28)","v":0},{"$f":"IF((T27+T28)=3,(Q27+T27),0)","v":0},null,null,{"$f":"DRAW!$H$34","v":0},{"$f":"DRAW!$C$34","v":0},{"$f":"VLOOKUP(Z27,DRAW!$C$5:'DRAW'!$E$46,3,0)","v":{"$error":"#N/A"}},null,null,{"$f":"IF(AC27+AC28>0,(IF(AC27>AC28,1,(IF(AC27=AC28,0.5,0)))),0)","v":0},null,null,{"$f":"IF(AF27+AF28>0,(IF(AF27>AF28,1,(IF(AF27=AF28,0.5,0)))),0)","v":0},null,null,{"$f":"IF(AI27+AI28>0,(IF(AI27>AI28,1,(IF(AI27=AI28,0.5,0)))),0)","v":0},null,{"$f":"+AD27+AG27","v":0},{"$f":"IF(AL27>2,AL27,AD27+AG27+AJ27)","v":0},null,{"$f":"IF(AM27+AM28>=1.5,(IF(AM27>AM28,3,0)),0)","v":0},{"$f":"IF(AC27+AC28+AF27+AF28=0,0,AC27+AF27-AC28-AF28)","v":0},{"$f":"IF((AO27+AO28)=3,(AL27+AO27),0)","v":0}]
[{"$nulls":3},{"$f":"DRAW!$C$32","v":0},null,{"$f":"VLOOKUP(D28,DRAW!$C$5:'DRAW'!$E$46,3,0)","v":{"$error":"#N/A"}},null,null,{"$f":"IF(H27+H28>0,(IF(H27<H28,1,(IF(H27=H28,0.5,0)))),0)","v":0},null,null,{"$f":"IF(K27+K28>0,(IF(K27<K28,1,(IF(K27=K28,0.5,0)))),0)","v":0},null,null,{"$f":"IF(N27+N28>0,(IF(N27<N28,1,(IF(N27=N28,0.5,0)))),0)","v":0},null,{"$f":"+I28+L28","v":0},{"$f":"IF(Q28>2,Q28,I28+L28+O28)","v":0},null,{"$f":"IF(R27+R28>=1.5,(IF(R27<R28,3,0)),0)","v":0},{"$f":"IF(H27+H28+K27+K28=0,0,H28+K28-H27-K27)","v":0},{"$f":"IF((T27+T28)=3,(Q28+T28),0)","v":0},{"$nulls":3},{"$f":"DRAW!$C$36","v":0},{"$f":"VLOOKUP(Z28,DRAW!$C$5:'DRAW'!$E$46,3,0)","v":{"$error":"#N/A"}},null,null,{"$f":"IF(AC27+AC28>0,(IF(AC27<AC28,1,(IF(AC27=AC28,0.5,0)))),0)","v":0},null,null,{"$f":"IF(AF27+AF28>0,(IF(AF27<AF28,1,(IF(AF27=AF28,0.5,0)))),0)","v":0},null,null,{"$f":"IF(AI27+AI28>0,(IF(AI27<AI28,1,(IF(AI27=AI28,0.5,0)))),0)","v":0},null,{"$f":"+AD28+AG28","v":0},{"$f":"IF(AL28>2,AL28,AD28+AG28+AJ28)","v":0},null,{"$f":"IF(AM27+AM28>=1.5,(IF(AM27<AM28,3,0)),0)","v":0},{"$f":"IF(AC27+AC28+AF27+AF28=0,0,AC28+AF28-AC27-AF27)","v":0},{"$f":"IF((AO27+AO28)=3,(AL28+AO28),0)","v":0}]
[]
[null,9,{"$f":"DRAW!$H$37","v":0},{"$f":"DRAW!$C$37","v":0},null,{"$f":"VLOOKUP(D30,DRAW!$C$5:'DRAW'!$E$46,3,0)","v":{"$error":"#N/A"}},null,null,{"$f":"IF(H30+H31>0,(IF(H30>H31,1,(IF(H30=H31,0.5,0)))),0)","v":0},null,null,{"$f":"IF(K30+K31>0,(IF(K30>K31,1,(IF(K30=K31,0.5,0)))),0)","v":0},null,null,{"$f":"IF(N30+N31>0,(IF(N30>N31,1,(IF(N30=N31,0.5,0)))),0)","v":0},null,{"$f":"+I30+L30","v":0},{"$f":"IF(Q30>2,Q30,I30+L30+O30)","v":0},null,{"$f":"IF(R30+R31>=1.5,(IF(R30>R31,3,0)),0)","v":0},{"$f":"IF(H30+H31+K30+K31=0,0,H30+K30-H31-K31)","v":0},{"$f":"IF((T30+T31)=3,(Q30+T30),0)","v":0},null,10,{"$f":"DRAW!$H$41","v":0},{"$f":"DRAW!$C$41","v":0},{"$f":"VLOOKUP(Z30,DRAW!$C$5:'DRAW'!$E$46,3,0)","v":{"$error":"#N/A"}},null,null,{"$f":"IF(AC30+AC31>0,(IF(AC30>AC31,1,(IF(AC30=AC31,0.5,0)))),0)","v":0},null,null,{"$f":"IF(AF30+AF31>0,(IF(AF30>AF31,1,(IF(AF30=AF31,0.5,0)))),0)","v":0},null,null,{"$f":"IF(AI30+AI31>0,(IF(AI30>AI31,1,(IF(AI30=AI31,0.5,0)))),0)","v":0},null,{"$f":"+AD30+AG30","v":0},{"$f":"IF(AL30>2,AL30,AD30+AG30+AJ30)","v":0},null,{"$f":"IF(AM30+AM31>=1.5,(IF(AM30>AM31,3,0)),0)","v":0},{"$f":"IF(AC30+AC31+AF30+AF31=0,0,AC30+AF30-AC31-AF31)","v":0},{"$f":"IF((AO30+AO31)=3,(AL30+AO30),0)","v":0}]
[{"$nulls":3},{"$f":"DRAW!$C$39","v":0},null,{"$f":"VLOOKUP(D31,DRAW!$C$5:'DRAW'!$E$46,3,0)","v":{"$error":"#N/A"}},null,null,{"$f":"IF(H30+H31>0,(IF(H30<H31,1,(IF(H30=H31,0.5,0)))),0)","v":0},null,null,{"$f":"IF(K30+K31>0,(IF(K30<K31,1,(IF(K30=K31,0.5,0)))),0)","v":0},null,null,{"$f":"IF(N30+N31>0,(IF(N30<N31,1,(IF(N30=N31,0.5,0)))),0)","v":0},null,{"$f":"+I31+L31","v":0},{"$f":"IF(Q31>2,Q31,I31+L31+O31)","v":0},null,{"$f":"IF(R30+R31>=1.5,(IF(R30<R31,3,0)),0)","v":0},{"$f":"IF(H30+H31+K30+K31=0,0,H31+K31-H30-K30)","v":0},{"$f":"IF((T30+T31)=3,(Q31+T31),0)","v":0},{"$nulls":3},{"$f":"DRAW!$C$43","v":0},{"$f":"VLOOKUP(Z31,DRAW!$C$5:'DRAW'!$E$46,3,0)","v":{"$error":"#N/A"}},null,null,{"$f":"IF(AC30+AC31>0,(IF(AC30<AC31,1,(IF(AC30=AC31,0.5,0)))),0)","v":0},null,null,{"$f":"IF(AF30+AF31>0,(IF(AF30<AF31,1,(IF(AF30=AF31,0.5,0)))),0)","v":0},null,null,{"$f":"IF(AI30+AI31>0,(IF(AI30<AI31,1,(IF(AI30=AI31,0.5,0)))),0)","v":0},null,{"$f":"+AD31+AG31","v":0},{"$f":"IF(AL31>2,AL31,AD31+AG31+AJ31)","v":0},null,{"$f":"IF(AM30+AM31>=1.5,(IF(AM30<AM31,3,0)),0)","v":0},{"$f":"IF(AC30+AC31+AF30+AF31=0,0,AC31+AF31-AC30-AF30)","v":0},{"$f":"IF((AO30+AO31)=3,(AL31+AO31),0)","v":0}]
[]
[null,null,{"$f":"DRAW!$H$38","v":0},{"$f":"DRAW!$C$38","v":0},null,{"$f":"VLOOKUP(D33,DRAW!$C$5:'DRAW'!$E$46,3,0)","v":{"$error":"#N/A"}},null,null,{"$f":"IF(H33+H34>0,(IF(H33>H34,1,(IF(H33=H34,0.5,0)))),0)","v":0},null,null,{"$f":"IF(K33+K34>0,(IF(K33>K34,1,(IF(K33=K34,0.5,0)))),0)","v":0},null,null,{"$f":"IF(N33+N34>0,(IF(N33>N34,1,(IF(N33=N34,0.5,0)))),0)","v":0},null,{"$f":"+I33+L33","v":0},{"$f":"IF(Q33>2,Q33,I33+L33+O33)","v":0},null,{"$f":"IF(R33+R34>=1.5,(IF(R33>R34,3,0)),0)","v":0},{"$f":"IF(H33+H34+K33+K34=0,0,H33+K33-H34-K34)","v":0},{"$f":"IF((T33+T34)=3,(Q33+T33),0)","v":0},null,null,{"$f":"DRAW!$H$42","v":0},{"$f":"DRAW!$C$42","v":0},{"$f":"VLOOKUP(Z33,DRAW!$C$5:'DRAW'!$E$46,3,0)","v":{"$error":"#N/A"}},null,null,{"$f":"IF(AC33+AC34>0,(IF(AC33>AC34,1,(IF(AC33=AC34,0.5,0)))),0)","v":0},null,null,{"$f":"IF(AF33+AF34>0,(IF(AF33>AF34,1,(IF(AF33=AF34,0.5,0)))),0)","v":0},null,null,{"$f":"IF(AI33+AI34>0,(IF(AI33>AI34,1,(IF(AI33=AI34,0.5,0)))),0)","v":0},null,{"$f":"+AD33+AG33","v":0},{"$f":"IF(AL33>2,AL33,AD33+AG33+AJ33)","v":0},null,{"$f":"IF(AM33+AM34>=1.5,(IF(AM33>AM34,3,0)),0)","v":0},{"$f":"IF(AC33+AC34+AF33+AF34=0,0,AC33+AF33-AC34-AF34)","v":0},{"$f":"IF((AO33+AO34)=3,(AL33+AO33),0)","v":0}]
[{"$nulls":3},{"$f":"DRAW!$C$40","v":0},null,{"$f":"VLOOKUP(D34,DRAW!$C$5:'DRAW'!$E$46,3,0)","v":{"$error":"#N/A"}},null,null,{"$f":"IF(H33+H34>0,(IF(H33<H34,1,(IF(H33=H34,0.5,0)))),0)","v":0},null,null,{"$f":"IF(K33+K34>0,(IF(K33<K34,1,(IF(K33=K34,0.5,0)))),0)","v":0},null,null,{"$f":"IF(N33+N34>0,(IF(N33<N34,1,(IF(N33=N34,0.5,0)))),0)","v":0},null,{"$f":"+I34+L34","v":0},{"$f":"IF(Q34>2,Q34,I34+L34+O34)","v":0},null,{"$f":"IF(R33+R34>=1.5,(IF(R33<R34,3,0)),0)","v":0},{"$f":"IF(H33+H34+K33+K34=0,0,H34+K34-H33-K33)","v":0},{"$f":"IF((T33+T34)=3,(Q34+T34),0)","v":0},{"$nulls":3},{"$f":"DRAW!$C$44","v":0},{"$f":"VLOOKUP(Z34,DRAW!$C$5:'DRAW'!$E$46,3,0)","v":{"$error":"#N/A"}},null,null,{"$f":"IF(AC33+AC34>0,(IF(AC33<AC34,1,(IF(AC33=AC34,0.5,0)))),0)","v":0},null,null,{"$f":"IF(AF33+AF34>0,(IF(AF33<AF34,1,(IF(AF33=AF34,0.5,0)))),0)","v":0},null,null,{"$f":"IF(AI33+AI34>0,(IF(AI33<AI34,1,(IF(AI33=AI34,0.5,0)))),0)","v":0},null,{"$f":"+AD34+AG34","v":0},{"$f":"IF(AL34>2,AL34,AD34+AG34+AJ34)","v":0},null,{"$f":"IF(AM33+AM34>=1.5,(IF(AM33<AM34,3,0)),0)","v":0},{"$f":"IF(AC33+AC34+AF33+AF34=0,0,AC34+AF34-AC33-AF33)","v":0},{"$f":"IF((AO33+AO34)=3,(AL34+AO34),0)","v":0}]

{"sheet":"R 3","index":8,"n_rows":34,"n_cols":43,"rows_kept":34,"merged":[[0,1,0,42],[2,1,2,42],[3,4,3,5],[5,1,9,1],[5,2,6,2],[5,23,9,23],[5,24,6,24],[8,2,9,2],[8,24,9,24],[11,1,15,1],[11,2,12,2],[11,23,15,23],[11,24,12,24],[14,2,15,2],[14,24,15,24],[17,1,21,1],[17,2,18,2],[17,23,21,23],[17,24,18,24],[20,2,21,2],[20,24,21,24],[23,1,27,1],[23,2,24,2],[23,23,27,23],[23,24,24,24],[26,2,27,2],[26,24,27,24],[29,1,33,1],[29,2,30,2],[29,23,33,23],[29,24,30,24],[32,2,33,2],[32,24,33,24]]}
[null,{"$f":"Entries!$A$1","v":"2018 District 5 - Mixed Pairs"}]
[]
[null,"R O U N D  3"]
[null,"Section","Rink","Team No.","Skip",null,null,"1st    Set","Set Points",null,"2nd   Set","Set Points",null,"Tie Break","Set Points",null,"Set Points","S+TBPts",null,"Game Points","Margin","Total Points",null,"Section","Rink","Team No.","Skip",null,"1st    Set","Set Points",null,"2nd   Set","Set Points",null,"Tie Break","Set Points",null,"Set Points","S+TBPts",null,"Game Points","Margin","Total Points"]
[{"$nulls":6},{"$f":"IF('R 1'!D6=1,)","v":false}]
[null,1,{"$f":"DRAW!$J$5","v":0},{"$f":"DRAW!$C$5","v":0},null,{"$f":"VLOOKUP(D6,DRAW!$C$5:'DRAW'!$E$46,3,0)","v":{"$error":"#N/A"}},null,null,{"$f":"IF(H6+H7>0,(IF(H6>H7,1,(IF(H6=H7,0.5,0)))),0)","v":0},null,null,{"$f":"IF(K6+K7>0,(IF(K6>K7,1,(IF(K6=K7,0.5,0)))),0)","v":0},null,null,{"$f":"IF(N6+N7>0,(IF(N6>N7,1,(IF(N6=N7,0.5,0)))),0)","v":0},null,{"$f":"+I6+L6","v":0},{"$f":"IF(Q6>2,Q6,I6+L6+O6)","v":0},null,{"$f":"IF(R6+R7>=1.5,(IF(R6>R7,3,0)),0)","v":0},{"$f":"IF(H6+H7+K6+K7=0,0,H6+K6-H7-K7)","v":0},{"$f":"IF((T6+T7)=3,(Q6+T6),0)","v":0},null,2,{"$f":"DRAW!$J$9","v":0},{"$f":"DRAW!$C$9","v":0},{"$f":"VLOOKUP(Z6,DRAW!$C$5:'DRAW'!$E$46,3,0)","v":{"$error":"#N/A"}},null,null,{"$f":"IF(AC6+AC7>0,(IF(AC6>AC7,1,(IF(AC6=AC7,0.5,0)))),0)","v":0},null,null,{"$f":"IF(AF6+AF7>0,(IF(AF6>AF7,1,(IF(AF6=AF7,0.5,0)))),0)","v":0},null,null,{"$f":"IF(AI6+AI7>0,(IF(AI6>AI7,1,(IF(AI6=AI7,0.5,0)))),0)","v":0},null,{"$f":"+AD6+AG6","v":0},{"$f":"IF(AL6>2,AL6,AD6+AG6+AJ6)","v":0},null,{"$f":"IF(AM6+AM7>=1.5,(IF(AM6>AM7,3,0)),0)","v":0},{"$f":"IF(AC6+AC7+AF6+AF7=0,0,AC6+AF6-AC7-AF7)","v":0},{"$f":"IF((AO6+AO7)=3,(AL6+AO6),0)","v":0}]
[{"$nulls":3},{"$f":"DRAW!$C$8","v":0},null,{"$f":"VLOOKUP(D7,DRAW!$C$5:'DRAW'!$E$46,3,0)","v":{"$error":"#N/A"}},null,null,{"$f":"IF(H6+H7>0,(IF(H6<H7,1,(IF(H6=H7,0.5,0)))),0)","v":0},null,null,{"$f":"IF(K6+K7>0,(IF(K6<K7,1,(IF(K6=K7,0.5,0)))),0)","v":0},null,null,{"$f":"IF(N6+N7>0,(IF(N6<N7,1,(IF(N6=N7,0.5,0)))),0)","v":0},null,{"$f":"+I7+L7","v":0},{"$f":"IF(Q7>2,Q7,I7+L7+O7)","v":0},null,{"$f":"IF(R6+R7>=1.5,(IF(R6<R7,3,0)),0)","v":0},{"$f":"IF(H6+H7+K6+K7=0,0,H7+K7-H6-K6)","v":0},{"$f":"IF((T6+T7)=3,(Q7+T7),0)","v":0},{"$nulls":3},{"$f":"DRAW!$C$12","v":0},{"$f":"VLOOKUP(Z7,DRAW!$C$5:'DRAW'!$E$46,3,0)","v":{"$error":"#N/A"}},null,null,{"$f":"IF(AC6+AC7>0,(IF(AC6<AC7,1,(IF(AC6=AC7,0.5,0)))),0)","v":0},null,null,{"$f":"IF(AF6+AF7>0,(IF(AF6<AF7,1,(IF(AF6=AF7,0.5,0)))),0)","v":0},null,null,{"$f":"IF(AI6+AI7>0,(IF(AI6<AI7,1,(IF(AI6=AI7,0.5,0)))),0)","v":0},null,{"$f":"+AD7+AG7","v":0},{"$f":"IF(AL7>2,AL7,AD7+AG7+AJ7)","v":0},null,{"$f":"IF(AM6+AM7>=1.5,(IF(AM6<AM7,3,0)),0)","v":0},{"$f":"IF(AC6+AC7+AF6+AF7=0,0,AC7+AF7-AC6-AF6)","v":0},{"$f":"IF((AO6+AO7)=3,(AL7+AO7),0)","v":0}]
[]
[null,null,{"$f":"DRAW!$J$6","v":0},{"$f":"DRAW!$C$6","v":0},null,{"$f":"VLOOKUP(D9,DRAW!$C$5:'DRAW'!$E$46,3,0)","v":{"$error":"#N/A"}},null,null,{"$f":"IF(H9+H10>0,(IF(H9>H10,1,(IF(H9=H10,0.5,0)))),0)","v":0},null,null,{"$f":"IF(K9+K10>0,(IF(K9>K10,1,(IF(K9=K10,0.5,0)))),0)","v":0},null,null,{"$f":"IF(N9+N10>0,(IF(N9>N10,1,(IF(N9=N10,0.5,0)))),0)","v":0},null,{"$f":"+I9+L9","v":0},{"$f":"IF(Q9>2,Q9,I9+L9+O9)","v":0},null,{"$f":"IF(R9+R10>=1.5,(IF(R9>R10,3,0)),0)","v":0},{"$f":"IF(H9+H10+K9+K10=0,0,H9+K9-H10-K10)","v":0},{"$f":"IF((T9+T10)=3,(Q9+T9),0)","v":0},null,null,{"$f":"DRAW!$J$10","v":0},{"$f":"DRAW!$C$10","v":0},{"$f":"VLOOKUP(Z9,DRAW!$C$5:'DRAW'!$E$46,3,0)","v":{"$error":"#N/A"}},null,null,{"$f":"IF(AC9+AC10>0,(IF(AC9>AC10,1,(IF(AC9=AC10,0.5,0)))),0)","v":0},null,null,{"$f":"IF(AF9+AF10>0,(IF(AF9>AF10,1,(IF(AF9=AF10,0.5,0)))),0)","v":0},null,null,{"$f":"IF(AI9+AI10>0,(IF(AI9>AI10,1,(IF(AI9=AI10,0.5,0)))),0)","v":0},null,{"$f":"+AD9+AG9","v":0},{"$f":"IF(AL9>2,AL9,AD9+AG9+AJ9)","v":0},null,{"$f":"IF(AM9+AM10>=1.5,(IF(AM9>AM10,3,0)),0)","v":0},{"$f":"IF(AC9+AC10+AF9+AF10=0,0,AC9+AF9-AC10-AF10)","v":0},{"$f":"IF((AO9+AO10)=3,(AL9+AO9),0)","v":0}]
[{"$nulls":3},{"$f":"DRAW!$C$7","v":0},null,{"$f":"VLOOKUP(D10,DRAW!$C$5:'DRAW'!$E$46,3,0)","v":{"$error":"#N/A"}},null,null,{"$f":"IF(H9+H10>0,(IF(H9<H10,1,(IF(H9=H10,0.5,0)))),0)","v":0},null,null,{"$f":"IF(K9+K10>0,(IF(K9<K10,1,(IF(K9=K10,0.5,0)))),0)","v":0},null,null,{"$f":"IF(N9+N10>0,(IF(N9<N10,1,(IF(N9=N10,0.5,0)))),0)","v":0},null,{"$f":"+I10+L10","v":0},{"$f":"IF(Q10>2,Q10,I10+L10+O10)","v":0},null,{"$f":"IF(R9+R10>=1.5,(IF(R9<R10,3,0)),0)","v":0},{"$f":"IF(H9+H10+K9+K10=0,0,H10+K10-H9-K9)","v":0},{"$f":"IF((T9+T10)=3,(Q10+T10),0)","v":0},{"$nulls":3},{"$f":"DRAW!$C$11","v":0},{"$f":"VLOOKUP(Z10,DRAW!$C$5:'DRAW'!$E$46,3,0)","v":{"$error":"#N/A"}},null,null,{"$f":"IF(AC9+AC10>0,(IF(AC9<AC10,1,(IF(AC9=AC10,0.5,0)))),0)","v":0},null,null,{"$f":"IF(AF9+AF10>0,(IF(AF9<AF10,1,(IF(AF9=AF10,0.5,0)))),0)","v":0},null,null,{"$f":"IF(AI9+AI10>0,(IF(AI9<AI10,1,(IF(AI9=AI10,0.5,0)))),0)","v":0},null,{"$f":"+AD10+AG10","v":0},{"$f":"IF(AL10>2,AL10,AD10+AG10+AJ10)","v":0},null,{"$f":"IF(AM9+AM10>=1.5,(IF(AM9<AM10,3,0)),0)","v":0},{"$f":"IF(AC9+AC10+AF9+AF10=0,0,AC10+AF10-AC9-AF9)","v":0},{"$f":"IF((AO9+AO10)=3,(AL10+AO10),0)","v":0}]
[]
[null,3,{"$f":"DRAW!$J$13","v":0},{"$f":"DRAW!$C$13","v":0},null,{"$f":"VLOOKUP(D12,DRAW!$C$5:'DRAW'!$E$46,3,0)","v":{"$error":"#N/A"}},null,null,{"$f":"IF(H12+H13>0,(IF(H12>H13,1,(IF(H12=H13,0.5,0)))),0)","v":0},null,null,{"$f":"IF(K12+K13>0,(IF(K12>K13,1,(IF(K12=K13,0.5,0)))),0)","v":0},null,null,{"$f":"IF(N12+N13>0,(IF(N12>N13,1,(IF(N12=N13,0.5,0)))),0)","v":0},null,{"$f":"+I12+L12","v":0},{"$f":"IF(Q12>2,Q12,I12+L12+O12)","v":0},null,{"$f":"IF(R12+R13>=1.5,(IF(R12>R13,3,0)),0)","v":0},{"$f":"IF(H12+H13+K12+K13=0,0,H12+K12-H13-K13)","v":0},{"$f":"IF((T12+T13)=3,(Q12+T12),0)","v":0},null,4,{"$f":"DRAW!$J$17","v":0},{"$f":"DRAW!$C$17","v":0},{"$f":"VLOOKUP(Z12,DRAW!$C$5:'DRAW'!$E$46,3,0)","v":{"$error":"#N/A"}},null,null,{"$f":"IF(AC12+AC13>0,(IF(AC12>AC13,1,(IF(AC12=AC13,0.5,0)))),0)","v":0},null,null,{"$f":"IF(AF12+AF13>0,(IF(AF12>AF13,1,(IF(AF12=AF13,0.5,0)))),0)","v":0},null,null,{"$f":"IF(AI12+AI13>0,(IF(AI12>AI13,1,(IF(AI12=AI13,0.5,0)))),0)","v":0},null,{"$f":"+AD12+AG12","v":0},{"$f":"IF(AL12>2,AL12,AD12+AG12+AJ12)","v":0},null,{"$f":"IF(AM12+AM13>=1.5,(IF(AM12>AM13,3,0)),0)","v":0},{"$f":"IF(AC12+AC13+AF12+AF13=0,0,AC12+AF12-AC13-AF13)","v":0},{"$f":"IF((AO12+AO13)=3,(AL12+AO12),0)","v":0}]
[{"$nulls":3},{"$f":"DRAW!$C$16","v":0},null,{"$f":"VLOOKUP(D13,DRAW!$C$5:'DRAW'!$E$46,3,0)","v":{"$error":"#N/A"}},null,null,{"$f":"IF(H12+H13>0,(IF(H12<H13,1,(IF(H12=H13,0.5,0)))),0)","v":0},null,null,{"$f":"IF(K12+K13>0,(IF(K12<K13,1,(IF(K12=K13,0.5,0)))),0)","v":0},null,null,{"$f":"IF(N12+N13>0,(IF(N12<N13,1,(IF(N12=N13,0.5,0)))),0)","v":0},null,{"$f":"+I13+L13","v":0},{"$f":"IF(Q13>2,Q13,I13+L13+O13)","v":0},null,{"$f":"IF(R12+R13>=1.5,(IF(R12<R13,3,0)),0)","v":0},{"$f":"IF(H12+H13+K12+K13=0,0,H13+K13-H12-K12)","v":0},{"$f":"IF((T12+T13)=3,(Q13+T13),0)","v":0},{"$nulls":3},{"$f":"DRAW!$C$20","v":0},{"$f":"VLOOKUP(Z13,DRAW!$C$5:'DRAW'!$E$46,3,0)","v":{"$error":"#N/A"}},null,null,{"$f":"IF(AC12+AC13>0,(IF(AC12<AC13,1,(IF(AC12=AC13,0.5,0)))),0)","v":0},null,null,{"$f":"IF(AF12+AF13>0,(IF(AF12<AF13,1,(IF(AF12=AF13,0.5,0)))),0)","v":0},null,null,{"$f":"IF(AI12+AI13>0,(IF(AI12<AI13,1,(IF(AI12=AI13,0.5,0)))),0)","v":0},null,{"$f":"+AD13+AG13","v":0},{"$f":"IF(AL13>2,AL13,AD13+AG13+AJ13)","v":0},null,{"$f":"IF(AM12+AM13>=1.5,(IF(AM12<AM13,3,0)),0)","v":0},{"$f":"IF(AC12+AC13+AF12+AF13=0,0,AC13+AF13-AC12-AF12)","v":0},{"$f":"IF((AO12+AO13)=3,(AL13+AO13),0)","v":0}]
[]
[null,null,{"$f":"DRAW!$J$14","v":0},{"$f":"DRAW!$C$14","v":0},null,{"$f":"VLOOKUP(D15,DRAW!$C$5:'DRAW'!$E$46,3,0)","v":{"$error":"#N/A"}},null,null,{"$f":"IF(H15+H16>0,(IF(H15>H16,1,(IF(H15=H16,0.5,0)))),0)","v":0},null,null,{"$f":"IF(K15+K16>0,(IF(K15>K16,1,(IF(K15=K16,0.5,0)))),0)","v":0},null,null,{"$f":"IF(N15+N16>0,(IF(N15>N16,1,(IF(N15=N16,0.5,0)))),0)","v":0},null,{"$f":"+I15+L15","v":0},{"$f":"IF(Q15>2,Q15,I15+L15+O15)","v":0},null,{"$f":"IF(R15+R16>=1.5,(IF(R15>R16,3,0)),0)","v":0},{"$f":"IF(H15+H16+K15+K16=0,0,H15+K15-H16-K16)","v":0},{"$f":"IF((T15+T16)=3,(Q15+T15),0)","v":0},null,null,{"$f":"DRAW!$J$18","v":0},{"$f":"DRAW!$C$18","v":0},{"$f":"VLOOKUP(Z15,DRAW!$C$5:'DRAW'!$E$46,3,0)","v":{"$error":"#N/A"}},null,null,{"$f":"IF(AC15+AC16>0,(IF(AC15>AC16,1,(IF(AC15=AC16,0.5,0)))),0)","v":0},null,null,{"$f":"IF(AF15+AF16>0,(IF(AF15>AF16,1,(IF(AF15=AF16,0.5,0)))),0)","v":0},null,null,{"$f":"IF(AI15+AI16>0,(IF(AI15>AI16,1,(IF(AI15=AI16,0.5,0)))),0)","v":0},null,{"$f":"+AD15+AG15","v":0},{"$f":"IF(AL15>2,AL15,AD15+AG15+AJ15)","v":0},null,{"$f":"IF(AM15+AM16>=1.5,(IF(AM15>AM16,3,0)),0)","v":0},{"$f":"IF(AC15+AC16+AF15+AF16=0,0,AC15+AF15-AC16-AF16)","v":0},{"$f":"IF((AO15+AO16)=3,(AL15+AO15),0)","v":0}]
[{"$nulls":3},{"$f":"DRAW!$C$15","v":0},null,{"$f":"VLOOKUP(D16,DRAW!$C$5:'DRAW'!$E$46,3,0)","v":{"$error":"#N/A"}},null,null,{"$f":"IF(H15+H16>0,(IF(H15<H16,1,(IF(H15=H16,0.5,0)))),0)","v":0},null,null,{"$f":"IF(K15+K16>0,(IF(K15<K16,1,(IF(K15=K16,0.5,0)))),0)","v":0},10,null,{"$f":"IF(N15+N16>0,(IF(N15<N16,1,(IF(N15=N16,0.5,0)))),0)","v":0},null,{"$f":"+I16+L16","v":0},{"$f":"IF(Q16>2,Q16,I16+L16+O16)","v":0},null,{"$f":"IF(R15+R16>=1.5,(IF(R15<R16,3,0)),0)","v":0},{"$f":"IF(H15+H16+K15+K16=0,0,H16+K16-H15-K15)","v":0},{"$f":"IF((T15+T16)=3,(Q16+T16),0)","v":0},{"$nulls":3},{"$f":"DRAW!$C$19","v":0},{"$f":"VLOOKUP(Z16,DRAW!$C$5:'DRAW'!$E$46,3,0)","v":{"$error":"#N/A"}},null,null,{"$f":"IF(AC15+AC16>0,(IF(AC15<AC16,1,(IF(AC15=AC16,0.5,0)))),0)","v":0},null,null,{"$f":"IF(AF15+AF16>0,(IF(AF15<AF16,1,(IF(AF15=AF16,0.5,0)))),0)","v":0},null,null,{"$f":"IF(AI15+AI16>0,(IF(AI15<AI16,1,(IF(AI15=AI16,0.5,0)))),0)","v":0},null,{"$f":"+AD16+AG16","v":0},{"$f":"IF(AL16>2,AL16,AD16+AG16+AJ16)","v":0},null,{"$f":"IF(AM15+AM16>=1.5,(IF(AM15<AM16,3,0)),0)","v":0},{"$f":"IF(AC15+AC16+AF15+AF16=0,0,AC16+AF16-AC15-AF15)","v":0},{"$f":"IF((AO15+AO16)=3,(AL16+AO16),0)","v":0}]
[]
[null,5,{"$f":"DRAW!$J$21","v":0},{"$f":"DRAW!$C$21","v":0},null,{"$f":"VLOOKUP(D18,DRAW!$C$5:'DRAW'!$E$46,3,0)","v":{"$error":"#N/A"}},null,null,{"$f":"IF(H18+H19>0,(IF(H18>H19,1,(IF(H18=H19,0.5,0)))),0)","v":0},null,null,{"$f":"IF(K18+K19>0,(IF(K18>K19,1,(IF(K18=K19,0.5,0)))),0)","v":0},null,null,{"$f":"IF(N18+N19>0,(IF(N18>N19,1,(IF(N18=N19,0.5,0)))),0)","v":0},null,{"$f":"+I18+L18","v":0},{"$f":"IF(Q18>2,Q18,I18+L18+O18)","v":0},null,{"$f":"IF(R18+R19>=1.5,(IF(R18>R19,3,0)),0)","v":0},{"$f":"IF(H18+H19+K18+K19=0,0,H18+K18-H19-K19)","v":0},{"$f":"IF((T18+T19)=3,(Q18+T18),0)","v":0},null,6,{"$f":"DRAW!$J$25","v":0},{"$f":"DRAW!$C$25","v":0},{"$f":"VLOOKUP(Z18,DRAW!$C$5:'DRAW'!$E$46,3,0)","v":{"$error":"#N/A"}},null,null,{"$f":"IF(AC18+AC19>0,(IF(AC18>AC19,1,(IF(AC18=AC19,0.5,0)))),0)","v":0},null,null,{"$f":"IF(AF18+AF19>0,(IF(AF18>AF19,1,(IF(AF18=AF19,0.5,0)))),0)","v":0},null,null,{"$f":"IF(AI18+AI19>0,(IF(AI18>AI19,1,(IF(AI18=AI19,0.5,0)))),0)","v":0},null,{"$f":"+AD18+AG18","v":0},{"$f":"IF(AL18>2,AL18,AD18+AG18+AJ18)","v":0},null,{"$f":"IF(AM18+AM19>=1.5,(IF(AM18>AM19,3,0)),0)","v":0},{"$f":"IF(AC18+AC19+AF18+AF19=0,0,AC18+AF18-AC19-AF19)","v":0},{"$f":"IF((AO18+AO19)=3,(AL18+AO18),0)","v":0}]
[{"$nulls":3},{"$f":"DRAW!$C$24","v":0},null,{"$f":"VLOOKUP(D19,DRAW!$C$5:'DRAW'!$E$46,3,0)","v":{"$error":"#N/A"}},null,null,{"$f":"IF(H18+H19>0,(IF(H18<H19,1,(IF(H18=H19,0.5,0)))),0)","v":0},null,null,{"$f":"IF(K18+K19>0,(IF(K18<K19,1,(IF(K18=K19,0.5,0)))),0)","v":0},null,null,{"$f":"IF(N18+N19>0,(IF(N18<N19,1,(IF(N18=N19,0.5,0)))),0)","v":0},null,{"$f":"+I19+L19","v":0},{"$f":"IF(Q19>2,Q19,I19+L19+O19)","v":0},null,{"$f":"IF(R18+R19>=1.5,(IF(R18<R19,3,0)),0)","v":0},{"$f":"IF(H18+H19+K18+K19=0,0,H19+K19-H18-K18)","v":0},{"$f":"IF((T18+T19)=3,(Q19+T19),0)","v":0},{"$nulls":3},{"$f":"DRAW!$C$28","v":0},{"$f":"VLOOKUP(Z19,DRAW!$C$5:'DRAW'!$E$46,3,0)","v":{"$error":"#N/A"}},null,null,{"$f":"IF(AC18+AC19>0,(IF(AC18<AC19,1,(IF(AC18=AC19,0.5,0)))),0)","v":0},null,null,{"$f":"IF(AF18+AF19>0,(IF(AF18<AF19,1,(IF(AF18=AF19,0.5,0)))),0)","v":0},null,null,{"$f":"IF(AI18+AI19>0,(IF(AI18<AI19,1,(IF(AI18=AI19,0.5,0)))),0)","v":0},null,{"$f":"+AD19+AG19","v":0},{"$f":"IF(AL19>2,AL19,AD19+AG19+AJ19)","v":0},null,{"$f":"IF(AM18+AM19>=1.5,(IF(AM18<AM19,3,0)),0)","v":0},{"$f":"IF(AC18+AC19+AF18+AF19=0,0,AC19+AF19-AC18-AF18)","v":0},{"$f":"IF((AO18+AO19)=3,(AL19+AO19),0)","v":0}]
[]
[null,null,{"$f":"DRAW!$J$22","v":0},{"$f":"DRAW!$C$22","v":0},null,{"$f":"VLOOKUP(D21,DRAW!$C$5:'DRAW'!$E$46,3,0)","v":{"$error":"#N/A"}},null,null,{"$f":"IF(H21+H22>0,(IF(H21>H22,1,(IF(H21=H22,0.5,0)))),0)","v":0},null,null,{"$f":"IF(K21+K22>0,(IF(K21>K22,1,(IF(K21=K22,0.5,0)))),0)","v":0},null,null,{"$f":"IF(N21+N22>0,(IF(N21>N22,1,(IF(N21=N22,0.5,0)))),0)","v":0},null,{"$f":"+I21+L21","v":0},{"$f":"IF(Q21>2,Q21,I21+L21+O21)","v":0},null,{"$f":"IF(R21+R22>=1.5,(IF(R21>R22,3,0)),0)","v":0},{"$f":"IF(H21+H22+K21+K22=0,0,H21+K21-H22-K22)","v":0},{"$f":"IF((T21+T22)=3,(Q21+T21),0)","v":0},null,null,{"$f":"DRAW!$J$26","v":0},{"$f":"DRAW!$C$26","v":0},{"$f":"VLOOKUP(Z21,DRAW!$C$5:'DRAW'!$E$46,3,0)","v":{"$error":"#N/A"}},null,null,{"$f":"IF(AC21+AC22>0,(IF(AC21>AC22,1,(IF(AC21=AC22,0.5,0)))),0)","v":0},null,null,{"$f":"IF(AF21+AF22>0,(IF(AF21>AF22,1,(IF(AF21=AF22,0.5,0)))),0)","v":0},null,null,{"$f":"IF(AI21+AI22>0,(IF(AI21>AI22,1,(IF(AI21=AI22,0.5,0)))),0)","v":0},null,{"$f":"+AD21+AG21","v":0},{"$f":"IF(AL21>2,AL21,AD21+AG21+AJ21)","v":0},null,{"$f":"IF(AM21+AM22>=1.5,(IF(AM21>AM22,3,0)),0)","v":0},{"$f":"IF(AC21+AC22+AF21+AF22=0,0,AC21+AF21-AC22-AF22)","v":0},{"$f":"IF((AO21+AO22)=3,(AL21+AO21),0)","v":0}]
[{"$nulls":3},{"$f":"DRAW!$C$23","v":0},null,{"$f":"VLOOKUP(D22,DRAW!$C$5:'DRAW'!$E$46,3,0)","v":{"$error":"#N/A"}},null,null,{"$f":"IF(H21+H22>0,(IF(H21<H22,1,(IF(H21=H22,0.5,0)))),0)","v":0},null,null,{"$f":"IF(K21+K22>0,(IF(K21<K22,1,(IF(K21=K22,0.5,0)))),0)","v":0},null,null,{"$f":"IF(N21+N22>0,(IF(N21<N22,1,(IF(N21=N22,0.5,0)))),0)","v":0},null,{"$f":"+I22+L22","v":0},{"$f":"IF(Q22>2,Q22,I22+L22+O22)","v":0},null,{"$f":"IF(R21+R22>=1.5,(IF(R21<R22,3,0)),0)","v":0},{"$f":"IF(H21+H22+K21+K22=0,0,H22+K22-H21-K21)","v":0},{"$f":"IF((T21+T22)=3,(Q22+T22),0)","v":0},{"$nulls":3},{"$f":"DRAW!$C$27","v":0},{"$f":"VLOOKUP(Z22,DRAW!$C$5:'DRAW'!$E$46,3,0)","v":{"$error":"#N/A"}},null,null,{"$f":"IF(AC21+AC22>0,(IF(AC21<AC22,1,(IF(AC21=AC22,0.5,0)))),0)","v":0},null,null,{"$f":"IF(AF21+AF22>0,(IF(AF21<AF22,1,(IF(AF21=AF22,0.5,0)))),0)","v":0},null,null,{"$f":"IF(AI21+AI22>0,(IF(AI21<AI22,1,(IF(AI21=AI22,0.5,0)))),0)","v":0},null,{"$f":"+AD22+AG22","v":0},{"$f":"IF(AL22>2,AL22,AD22+AG22+AJ22)","v":0},null,{"$f":"IF(AM21+AM22>=1.5,(IF(AM21<AM22,3,0)),0)","v":0},{"$f":"IF(AC21+AC22+AF21+AF22=0,0,AC22+AF22-AC21-AF21)","v":0},{"$f":"IF((AO21+AO22)=3,(AL22+AO22),0)","v":0}]
[]
[null,7,{"$f":"DRAW!$J$29","v":0},{"$f":"DRAW!$C$29","v":0},null,{"$f":"VLOOKUP(D24,DRAW!$C$5:'DRAW'!$E$46,3,0)","v":{"$error":"#N/A"}},null,null,{"$f":"IF(H24+H25>0,(IF(H24>H25,1,(IF(H24=H25,0.5,0)))),0)","v":0},null,null,{"$f":"IF(K24+K25>0,(IF(K24>K25,1,(IF(K24=K25,0.5,0)))),0)","v":0},null,null,{"$f":"IF(N24+N25>0,(IF(N24>N25,1,(IF(N24=N25,0.5,0)))),0)","v":0},null,{"$f":"+I24+L24","v":0},{"$f":"IF(Q24>2,Q24,I24+L24+O24)","v":0},null,{"$f":"IF(R24+R25>=1.5,(IF(R24>R25,3,0)),0)","v":0},{"$f":"IF(H24+H25+K24+K25=0,0,H24+K24-H25-K25)","v":0},{"$f":"IF((T24+T25)=3,(Q24+T24),0)","v":0},null,8,{"$f":"DRAW!$J$33","v":0},{"$f":"DRAW!$C$33","v":0},{"$f":"VLOOKUP(Z24,DRAW!$C$5:'DRAW'!$E$46,3,0)","v":{"$error":"#N/A"}},null,null,{"$f":"IF(AC24+AC25>0,(IF(AC24>AC25,1,(IF(AC24=AC25,0.5,0)))),0)","v":0},null,null,{"$f":"IF(AF24+AF25>0,(IF(AF24>AF25,1,(IF(AF24=AF25,0.5,0)))),0)","v":0},null,null,{"$f":"IF(AI24+AI25>0,(IF(AI24>AI25,1,(IF(AI24=AI25,0.5,0)))),0)","v":0},null,{"$f":"+AD24+AG24","v":0},{"$f":"IF(AL24>2,AL24,AD24+AG24+AJ24)","v":0},null,{"$f":"IF(AM24+AM25>=1.5,(IF(AM24>AM25,3,0)),0)","v":0},{"$f":"IF(AC24+AC25+AF24+AF25=0,0,AC24+AF24-AC25-AF25)","v":0},{"$f":"IF((AO24+AO25)=3,(AL24+AO24),0)","v":0}]
[{"$nulls":3},{"$f":"DRAW!$C$32","v":0},null,{"$f":"VLOOKUP(D25,DRAW!$C$5:'DRAW'!$E$46,3,0)","v":{"$error":"#N/A"}},null,null,{"$f":"IF(H24+H25>0,(IF(H24<H25,1,(IF(H24=H25,0.5,0)))),0)","v":0},null,null,{"$f":"IF(K24+K25>0,(IF(K24<K25,1,(IF(K24=K25,0.5,0)))),0)","v":0},null,null,{"$f":"IF(N24+N25>0,(IF(N24<N25,1,(IF(N24=N25,0.5,0)))),0)","v":0},null,{"$f":"+I25+L25","v":0},{"$f":"IF(Q25>2,Q25,I25+L25+O25)","v":0},null,{"$f":"IF(R24+R25>=1.5,(IF(R24<R25,3,0)),0)","v":0},{"$f":"IF(H24+H25+K24+K25=0,0,H25+K25-H24-K24)","v":0},{"$f":"IF((T24+T25)=3,(Q25+T25),0)","v":0},{"$nulls":3},{"$f":"DRAW!$C$36","v":0},{"$f":"VLOOKUP(Z25,DRAW!$C$5:'DRAW'!$E$46,3,0)","v":{"$error":"#N/A"}},null,null,{"$f":"IF(AC24+AC25>0,(IF(AC24<AC25,1,(IF(AC24=AC25,0.5,0)))),0)","v":0},null,null,{"$f":"IF(AF24+AF25>0,(IF(AF24<AF25,1,(IF(AF24=AF25,0.5,0)))),0)","v":0},null,null,{"$f":"IF(AI24+AI25>0,(IF(AI24<AI25,1,(IF(AI24=AI25,0.5,0)))),0)","v":0},null,{"$f":"+AD25+AG25","v":0},{"$f":"IF(AL25>2,AL25,AD25+AG25+AJ25)","v":0},null,{"$f":"IF(AM24+AM25>=1.5,(IF(AM24<AM25,3,0)),0)","v":0},{"$f":"IF(AC24+AC25+AF24+AF25=0,0,AC25+AF25-AC24-AF24)","v":0},{"$f":"IF((AO24+AO25)=3,(AL25+AO25),0)","v":0}]
[]
[null,null,{"$f":"DRAW!$J$30","v":0},{"$f":"DRAW!$C$30","v":0},null,{"$f":"VLOOKUP(D27,DRAW!$C$5:'DRAW'!$E$46,3,0)","v":{"$error":"#N/A"}},null,null,{"$f":"IF(H27+H28>0,(IF(H27>H28,1,(IF(H27=H28,0.5,0)))),0)","v":0},null,null,{"$f":"IF(K27+K28>0,(IF(K27>K28,1,(IF(K27=K28,0.5,0)))),0)","v":0},null,null,{"$f":"IF(N27+N28>0,(IF(N27>N28,1,(IF(N27=N28,0.5,0)))),0)","v":0},null,{"$f":"+I27+L27","v":0},{"$f":"IF(Q27>2,Q27,I27+L27+O27)","v":0},null,{"$f":"IF(R27+R28>=1.5,(IF(R27>R28,3,0)),0)","v":0},{"$f":"IF(H27+H28+K27+K28=0,0,H27+K27-H28-K28)","v":0},{"$f":"IF((T27+T28)=3,(Q27+T27),0)","v":0},null,null,{"$f":"DRAW!$J$34","v":0},{"$f":"DRAW!$C$34","v":0},{"$f":"VLOOKUP(Z27,DRAW!$C$5:'DRAW'!$E$46,3,0)","v":{"$error":"#N/A"}},null,null,{"$f":"IF(AC27+AC28>0,(IF(AC27>AC28,1,(IF(AC27=AC28,0.5,0)))),0)","v":0},null,null,{"$f":"IF(AF27+AF28>0,(IF(AF27>AF28,1,(IF(AF27=AF28,0.5,0)))),0)","v":0},null,null,{"$f":"IF(AI27+AI28>0,(IF(AI27>AI28,1,(IF(AI27=AI28,0.5,0)))),0)","v":0},null,{"$f":"+AD27+AG27","v":0},{"$f":"IF(AL27>2,AL27,AD27+AG27+AJ27)","v":0},null,{"$f":"IF(AM27+AM28>=1.5,(IF(AM27>AM28,3,0)),0)","v":0},{"$f":"IF(AC27+AC28+AF27+AF28=0,0,AC27+AF27-AC28-AF28)","v":0},{"$f":"IF((AO27+AO28)=3,(AL27+AO27),0)","v":0}]
[{"$nulls":3},{"$f":"DRAW!$C$31","v":0},null,{"$f":"VLOOKUP(D28,DRAW!$C$5:'DRAW'!$E$46,3,0)","v":{"$error":"#N/A"}},null,null,{"$f":"IF(H27+H28>0,(IF(H27<H28,1,(IF(H27=H28,0.5,0)))),0)","v":0},null,null,{"$f":"IF(K27+K28>0,(IF(K27<K28,1,(IF(K27=K28,0.5,0)))),0)","v":0},null,null,{"$f":"IF(N27+N28>0,(IF(N27<N28,1,(IF(N27=N28,0.5,0)))),0)","v":0},null,{"$f":"+I28+L28","v":0},{"$f":"IF(Q28>2,Q28,I28+L28+O28)","v":0},null,{"$f":"IF(R27+R28>=1.5,(IF(R27<R28,3,0)),0)","v":0},{"$f":"IF(H27+H28+K27+K28=0,0,H28+K28-H27-K27)","v":0},{"$f":"IF((T27+T28)=3,(Q28+T28),0)","v":0},{"$nulls":3},{"$f":"DRAW!$C$35","v":0},{"$f":"VLOOKUP(Z28,DRAW!$C$5:'DRAW'!$E$46,3,0)","v":{"$error":"#N/A"}},null,null,{"$f":"IF(AC27+AC28>0,(IF(AC27<AC28,1,(IF(AC27=AC28,0.5,0)))),0)","v":0},null,null,{"$f":"IF(AF27+AF28>0,(IF(AF27<AF28,1,(IF(AF27=AF28,0.5,0)))),0)","v":0},null,null,{"$f":"IF(AI27+AI28>0,(IF(AI27<AI28,1,(IF(AI27=AI28,0.5,0)))),0)","v":0},null,{"$f":"+AD28+AG28","v":0},{"$f":"IF(AL28>2,AL28,AD28+AG28+AJ28)","v":0},null,{"$f":"IF(AM27+AM28>=1.5,(IF(AM27<AM28,3,0)),0)","v":0},{"$f":"IF(AC27+AC28+AF27+AF28=0,0,AC28+AF28-AC27-AF27)","v":0},{"$f":"IF((AO27+AO28)=3,(AL28+AO28),0)","v":0}]
[]
[null,9,{"$f":"DRAW!$J$37","v":0},{"$f":"DRAW!$C$37","v":0},null,{"$f":"VLOOKUP(D30,DRAW!$C$5:'DRAW'!$E$46,3,0)","v":{"$error":"#N/A"}},null,null,{"$f":"IF(H30+H31>0,(IF(H30>H31,1,(IF(H30=H31,0.5,0)))),0)","v":0},null,null,{"$f":"IF(K30+K31>0,(IF(K30>K31,1,(IF(K30=K31,0.5,0)))),0)","v":0},null,null,{"$f":"IF(N30+N31>0,(IF(N30>N31,1,(IF(N30=N31,0.5,0)))),0)","v":0},null,{"$f":"+I30+L30","v":0},{"$f":"IF(Q30>2,Q30,I30+L30+O30)","v":0},null,{"$f":"IF(R30+R31>=1.5,(IF(R30>R31,3,0)),0)","v":0},{"$f":"IF(H30+H31+K30+K31=0,0,H30+K30-H31-K31)","v":0},{"$f":"IF((T30+T31)=3,(Q30+T30),0)","v":0},null,10,{"$f":"DRAW!$J$41","v":0},{"$f":"DRAW!$C$41","v":0},{"$f":"VLOOKUP(Z30,DRAW!$C$5:'DRAW'!$E$46,3,0)","v":{"$error":"#N/A"}},null,null,{"$f":"IF(AC30+AC31>0,(IF(AC30>AC31,1,(IF(AC30=AC31,0.5,0)))),0)","v":0},null,null,{"$f":"IF(AF30+AF31>0,(IF(AF30>AF31,1,(IF(AF30=AF31,0.5,0)))),0)","v":0},null,null,{"$f":"IF(AI30+AI31>0,(IF(AI30>AI31,1,(IF(AI30=AI31,0.5,0)))),0)","v":0},null,{"$f":"+AD30+AG30","v":0},{"$f":"IF(AL30>2,AL30,AD30+AG30+AJ30)","v":0},null,{"$f":"IF(AM30+AM31>=1.5,(IF(AM30>AM31,3,0)),0)","v":0},{"$f":"IF(AC30+AC31+AF30+AF31=0,0,AC30+AF30-AC31-AF31)","v":0},{"$f":"IF((AO30+AO31)=3,(AL30+AO30),0)","v":0}]
[{"$nulls":3},{"$f":"DRAW!$C$40","v":0},null,{"$f":"VLOOKUP(D31,DRAW!$C$5:'DRAW'!$E$46,3,0)","v":{"$error":"#N/A"}},null,null,{"$f":"IF(H30+H31>0,(IF(H30<H31,1,(IF(H30=H31,0.5,0)))),0)","v":0},null,null,{"$f":"IF(K30+K31>0,(IF(K30<K31,1,(IF(K30=K31,0.5,0)))),0)","v":0},null,null,{"$f":"IF(N30+N31>0,(IF(N30<N31,1,(IF(N30=N31,0.5,0)))),0)","v":0},null,{"$f":"+I31+L31","v":0},{"$f":"IF(Q31>2,Q31,I31+L31+O31)","v":0},null,{"$f":"IF(R30+R31>=1.5,(IF(R30<R31,3,0)),0)","v":0},{"$f":"IF(H30+H31+K30+K31=0,0,H31+K31-H30-K30)","v":0},{"$f":"IF((T30+T31)=3,(Q31+T31),0)","v":0},{"$nulls":3},{"$f":"DRAW!$C$44","v":0},{"$f":"VLOOKUP(Z31,DRAW!$C$5:'DRAW'!$E$46,3,0)","v":{"$error":"#N/A"}},null,null,{"$f":"IF(AC30+AC31>0,(IF(AC30<AC31,1,(IF(AC30=AC31,0.5,0)))),0)","v":0},null,null,{"$f":"IF(AF30+AF31>0,(IF(AF30<AF31,1,(IF(AF30=AF31,0.5,0)))),0)","v":0},null,null,{"$f":"IF(AI30+AI31>0,(IF(AI30<AI31,1,(IF(AI30=AI31,0.5,0)))),0)","v":0},null,{"$f":"+AD31+AG31","v":0},{"$f":"IF(AL31>2,AL31,AD31+AG31+AJ31)","v":0},null,{"$f":"IF(AM30+AM31>=1.5,(IF(AM30<AM31,3,0)),0)","v":0},{"$f":"IF(AC30+AC31+AF30+AF31=0,0,AC31+AF31-AC30-AF30)","v":0},{"$f":"IF((AO30+AO31)=3,(AL31+AO31),0)","v":0}]
[]
[null,null,{"$f":"DRAW!$J$38","v":0},{"$f":"DRAW!$C$38","v":0},null,{"$f":"VLOOKUP(D33,DRAW!$C$5:'DRAW'!$E$46,3,0)","v":{"$error":"#N/A"}},null,null,{"$f":"IF(H33+H34>0,(IF(H33>H34,1,(IF(H33=H34,0.5,0)))),0)","v":0},null,null,{"$f":"IF(K33+K34>0,(IF(K33>K34,1,(IF(K33=K34,0.5,0)))),0)","v":0},null,null,{"$f":"IF(N33+N34>0,(IF(N33>N34,1,(IF(N33=N34,0.5,0)))),0)","v":0},null,{"$f":"+I33+L33","v":0},{"$f":"IF(Q33>2,Q33,I33+L33+O33)","v":0},null,{"$f":"IF(R33+R34>=1.5,(IF(R33>R34,3,0)),0)","v":0},{"$f":"IF(H33+H34+K33+K34=0,0,H33+K33-H34-K34)","v":0},{"$f":"IF((T33+T34)=3,(Q33+T33),0)","v":0},null,null,{"$f":"DRAW!$J$42","v":0},{"$f":"DRAW!$C$42","v":0},{"$f":"VLOOKUP(Z33,DRAW!$C$5:'DRAW'!$E$46,3,0)","v":{"$error":"#N/A"}},null,null,{"$f":"IF(AC33+AC34>0,(IF(AC33>AC34,1,(IF(AC33=AC34,0.5,0)))),0)","v":0},null,null,{"$f":"IF(AF33+AF34>0,(IF(AF33>AF34,1,(IF(AF33=AF34,0.5,0)))),0)","v":0},null,null,{"$f":"IF(AI33+AI34>0,(IF(AI33>AI34,1,(IF(AI33=AI34,0.5,0)))),0)","v":0},null,{"$f":"+AD33+AG33","v":0},{"$f":"IF(AL33>2,AL33,AD33+AG33+AJ33)","v":0},null,{"$f":"IF(AM33+AM34>=1.5,(IF(AM33>AM34,3,0)),0)","v":0},{"$f":"IF(AC33+AC34+AF33+AF34=0,0,AC33+AF33-AC34-AF34)","v":0},{"$f":"IF((AO33+AO34)=3,(AL33+AO33),0)","v":0}]
[{"$nulls":3},{"$f":"DRAW!$C$39","v":0},null,{"$f":"VLOOKUP(D34,DRAW!$C$5:'DRAW'!$E$46,3,0)","v":{"$error":"#N/A"}},null,null,{"$f":"IF(H33+H34>0,(IF(H33<H34,1,(IF(H33=H34,0.5,0)))),0)","v":0},null,null,{"$f":"IF(K33+K34>0,(IF(K33<K34,1,(IF(K33=K34,0.5,0)))),0)","v":0},null,null,{"$f":"IF(N33+N34>0,(IF(N33<N34,1,(IF(N33=N34,0.5,0)))),0)","v":0},null,{"$f":"+I34+L34","v":0},{"$f":"IF(Q34>2,Q34,I34+L34+O34)","v":0},null,{"$f":"IF(R33+R34>=1.5,(IF(R33<R34,3,0)),0)","v":0},{"$f":"IF(H33+H34+K33+K34=0,0,H34+K34-H33-K33)","v":0},{"$f":"IF((T33+T34)=3,(Q34+T34),0)","v":0},{"$nulls":3},{"$f":"DRAW!$C$43","v":0},{"$f":"VLOOKUP(Z34,DRAW!$C$5:'DRAW'!$E$46,3,0)","v":{"$error":"#N/A"}},null,null,{"$f":"IF(AC33+AC34>0,(IF(AC33<AC34,1,(IF(AC33=AC34,0.5,0)))),0)","v":0},null,null,{"$f":"IF(AF33+AF34>0,(IF(AF33<AF34,1,(IF(AF33=AF34,0.5,0)))),0)","v":0},null,null,{"$f":"IF(AI33+AI34>0,(IF(AI33<AI34,1,(IF(AI33=AI34,0.5,0)))),0)","v":0},null,{"$f":"+AD34+AG34","v":0},{"$f":"IF(AL34>2,AL34,AD34+AG34+AJ34)","v":0},null,{"$f":"IF(AM33+AM34>=1.5,(IF(AM33<AM34,3,0)),0)","v":0},{"$f":"IF(AC33+AC34+AF33+AF34=0,0,AC34+AF34-AC33-AF33)","v":0},{"$f":"IF((AO33+AO34)=3,(AL34+AO34),0)","v":0}]

{"sheet":"Total Points","index":9,"n_rows":37,"n_cols":42,"rows_kept":37,"merged":[[0,3,0,39],[1,3,1,39],[2,9,2,10],[2,11,2,12],[2,13,2,14],[2,29,2,30],[2,31,2,32],[2,33,2,34],[3,9,3,10],[3,11,3,12],[3,13,3,14],[3,15,3,16],[3,19,4,19],[3,20,3,21],[3,29,3,30],[3,31,3,32],[3,33,3,34],[3,35,3,36],[3,39,4,39],[3,40,3,41],[5,3,8,3],[5,20,8,20],[5,21,8,21],[5,23,8,23],[9,20,12,20],[9,21,12,21],[13,3,16,3],[13,20,16,20],[13,21,16,21],[13,23,16,23],[17,20,20,20],[17,21,20,21],[21,3,24,3],[21,20,24,20],[21,21,24,21],[21,23,24,23],[25,20,28,20],[25,21,28,21],[29,3,32,3],[29,20,32,20],[29,21,32,21],[29,23,32,23],[33,3,36,3],[33,20,36,20],[33,21,36,21],[33,23,36,23],[33,40,36,40],[33,41,36,41]]}
[{"$nulls":3},{"$f":"Entries!$A$1","v":"2018 District 5 - Mixed Pairs"}]
[{"$nulls":3},{"$f":"Entries!$A$2","v":"20th June 2018"}]
[{"$nulls":9},"Round 1",null,"Round 2",null,"Round 3",{"$nulls":15},"Round 1",null,"Round 2",null,"Round 3"]
[{"$nulls":9},"AvB & CvD",null,"AvC & BvD",null,"AvD & BvC",null,"Totals",{"$nulls":3},"Rank","Selected Sesson",{"$nulls":8},"AvB & CvD",null,"AvC & BvD",null,"AvD & BvC",null,"Totals",{"$nulls":3},"Rank","Selected Sesson"]
[{"$nulls":3},"Section","Team",null,"Lead ","Skip","Club","M'gin","Pts.","M'gin","Pts.","M'gin","Pts.","M'gin","Pts.",{"$nulls":3},"Time","Date",null,"Section","Team",null,"Lead ","Skip","Club","M'gin","Pts.","M'gin","Pts.","M'gin","Pts.","M'gin","Pts.",{"$nulls":3},"Time","Date"]
[{"$nulls":3},1,1,"A",{"$f":"DRAW!D5","v":0},{"$f":"DRAW!E5","v":0},null,{"$f":"'R 1'!$U$6","v":0},{"$f":"'R 1'!$V$6","v":0},{"$f":"'R 2'!$U$6","v":0},{"$f":"'R 2'!$V$6","v":0},{"$f":"'R 3'!$U$6","v":0},{"$f":"'R 3'!$V$6","v":0},{"$f":"J6+L6+N6","v":0},0,{"$f":"(Q6*10000)+P6","v":0},{"$f":"LARGE($R$6:$R$9,1)","v":0},{"$f":"IF(SUM($J$6:$O$9)=0,\"\",IF(R6=S$6,\"1st\",\"\"))","v":""},{"$nulls":3},2,5,"A",{"$f":"DRAW!D9","v":0},{"$f":"DRAW!E9","v":0},null,{"$f":"'R 1'!$AP$6","v":0},{"$f":"'R 1'!$AQ$6","v":0},{"$f":"'R 2'!$AP$6","v":0},{"$f":"'R 2'!$AQ$6","v":0},{"$f":"'R 3'!$AP$6","v":0},{"$f":"'R 3'!$AQ$6","v":0},{"$f":"AD6+AF6+AH6","v":0},0,{"$f":"(AK6*10000)+AJ6","v":0},{"$f":"LARGE($AL$6:$AL$9,1)","v":0},{"$f":"IF(SUM($AD$6:$AI$9)=0,\"\",IF(AL6=AM$6,\"1st\",\"\"))","v":""}]
[{"$nulls":4},2,"B",{"$f":"DRAW!D6","v":0},{"$f":"DRAW!E6","v":0},null,{"$f":"'R 1'!$U$7","v":0},{"$f":"'R 1'!$V$7","v":0},{"$f":"'R 2'!$U$9","v":0},{"$f":"'R 2'!$V$9","v":0},{"$f":"'R 3'!$U$9","v":0},{"$f":"'R 3'!$V$9","v":0},0,0,{"$f":"(Q7*10000)+P7","v":0},null,{"$f":"IF(SUM($AD$6:$AI$9)=0,\"\",IF(R7=S$6,\"1st\",\"\"))","v":""},{"$nulls":4},6,"B",{"$f":"DRAW!D10","v":0},{"$f":"DRAW!E10","v":0},null,{"$f":"'R 1'!$AP$7","v":0},{"$f":"'R 1'!$AQ$7","v":0},{"$f":"'R 2'!$AP$9","v":0},{"$f":"'R 2'!$AQ$9","v":0},{"$f":"'R 3'!$AP$9","v":0},{"$f":"'R 3'!$AQ$9","v":0},0,0,{"$f":"(AK7*10000)+AJ7","v":0},null,{"$f":"IF(SUM($AD$6:$AI$9)=0,\"\",IF(AL7=AM$6,\"1st\",\"\"))","v":""}]
[{"$nulls":4},3,"C",{"$f":"DRAW!D7","v":0},{"$f":"DRAW!E7","v":0},null,{"$f":"'R 1'!$U$9","v":0},{"$f":"'R 1'!$V$9","v":0},{"$f":"'R 2'!$U$7","v":0},{"$f":"'R 2'!$V$7","v":0},{"$f":"'R 3'!$U$10","v":0},{"$f":"'R 3'!$V$10","v":0},0,0,0,null,{"$f":"IF(SUM($AD$6:$AI$9)=0,\"\",IF(R8=S$6,\"1st\",\"\"))","v":""},{"$nulls":4},7,"C",{"$f":"DRAW!D11","v":0},{"$f":"DRAW!E11","v":0},null,{"$f":"'R 1'!$AP$9","v":0},{"$f":"'R 1'!$AQ$9","v":0},{"$f":"'R 2'!$AP$7","v":0},{"$f":"'R 2'!$AQ$7","v":0},{"$f":"'R 3'!$AP$10","v":0},{"$f":"'R 3'!$AQ$10","v":0},0,0,0,null,{"$f":"IF(SUM($AD$6:$AI$9)=0,\"\",IF(AL8=AM$6,\"1st\",\"\"))","v":""}]
[{"$nulls":4},4,"D",{"$f":"DRAW!D8","v":0},{"$f":"DRAW!E8","v":0},null,{"$f":"'R 1'!$U$10","v":0},{"$f":"'R 1'!$V$10","v":0},{"$f":"'R 2'!$U$10","v":0},{"$f":"'R 2'!$V$10","v":0},{"$f":"'R 3'!$U$7","v":0},{"$f":"'R 3'!$V$7","v":0},0,0,0,null,{"$f":"IF(SUM($AD$6:$AI$9)=0,\"\",IF(R9=S$6,\"1st\",\"\"))","v":""},{"$nulls":4},8,"D",{"$f":"DRAW!D12","v":0},{"$f":"DRAW!E12","v":0},null,{"$f":"'R 1'!$AP$10","v":0},{"$f":"'R 1'!$AQ$10","v":0},{"$f":"'R 2'!$AP$10","v":0},{"$f":"'R 2'!$AQ$10","v":0},{"$f":"'R 3'!$AP$7","v":0},{"$f":"'R 3'!$AQ$7","v":0},0,0,0,null,{"$f":"IF(SUM($AD$6:$AI$9)=0,\"\",IF(AL9=AM$6,\"1st\",\"\"))","v":""}]
[{"$nulls":17},0,{"$nulls":19},0]
[{"$nulls":17},0,{"$nulls":19},0]
[{"$nulls":17},0,{"$nulls":19},0]
[{"$nulls":17},0,{"$nulls":19},0]
[{"$nulls":3},3,9,"A",{"$f":"DRAW!D13","v":0},{"$f":"DRAW!E13","v":0},null,{"$f":"'R 1'!$U$12","v":0},{"$f":"'R 1'!$V$12","v":0},{"$f":"'R 2'!$U$12","v":0},{"$f":"'R 2'!$V$12","v":0},{"$f":"'R 3'!$U$12","v":0},{"$f":"'R 3'!$V$12","v":0},{"$f":"J14+L14+N14","v":0},0,0,{"$f":"LARGE($R$14:$R$17,1)","v":0},{"$f":"IF(SUM($J$14:$O$17)=0,\"\",IF(R14=$S$14,\"1st\",\"\"))","v":""},{"$nulls":3},4,13,"A",{"$f":"DRAW!D17","v":0},{"$f":"DRAW!E17","v":0},null,{"$f":"'R 1'!$AP$12","v":0},{"$f":"'R 1'!$AQ$12","v":0},{"$f":"'R 2'!$AP$12","v":0},{"$f":"'R 2'!$AQ$12","v":0},{"$f":"'R 3'!$AP$12","v":0},{"$f":"'R 3'!$AQ$12","v":0},{"$f":"AD14+AF14+AH14","v":0},0,0,{"$f":"LARGE($AL$14:$AL$17,1)","v":0},{"$f":"IF(SUM($AD$14:$AI$17)=0,\"\",IF(AL14=$AM$14,\"1st\",\"\"))","v":""}]
[{"$nulls":4},10,"B",{"$f":"DRAW!D14","v":0},{"$f":"DRAW!E14","v":0},null,{"$f":"'R 1'!$U$13","v":0},{"$f":"'R 1'!$V$13","v":0},{"$f":"'R 2'!$U$15","v":0},{"$f":"'R 2'!$V$15","v":0},{"$f":"'R 3'!$U$15","v":0},{"$f":"'R 3'!$V$15","v":0},0,0,0,null,{"$f":"IF(SUM($J$14:$O$17)=0,\"\",IF(R15=$S$14,\"1st\",\"\"))","v":""},{"$nulls":4},14,"B",{"$f":"DRAW!D18","v":0},{"$f":"DRAW!E18","v":0},null,{"$f":"'R 1'!$AP$13","v":0},{"$f":"'R 1'!$AQ$13","v":0},{"$f":"'R 2'!$AP$15","v":0},{"$f":"'R 2'!$AQ$15","v":0},{"$f":"'R 3'!$AP$15","v":0},{"$f":"'R 3'!$AQ$15","v":0},0,0,0,null,{"$f":"IF(SUM($AD$14:$AI$17)=0,\"\",IF(AL15=$AM$14,\"1st\",\"\"))","v":""}]
[{"$nulls":4},11,"C",{"$f":"DRAW!D15","v":0},{"$f":"DRAW!E15","v":0},null,{"$f":"'R 1'!$U$15","v":0},{"$f":"'R 1'!$V$15","v":0},{"$f":"'R 2'!$U$13","v":0},{"$f":"'R 2'!$V$13","v":0},{"$f":"'R 3'!$U$16","v":0},{"$f":"'R 3'!$V$16","v":0},0,0,0,null,{"$f":"IF(SUM($J$14:$O$17)=0,\"\",IF(R16=$S$14,\"1st\",\"\"))","v":""},{"$nulls":4},15,"C",{"$f":"DRAW!D19","v":0},{"$f":"DRAW!E19","v":0},null,{"$f":"'R 1'!$AP$15","v":0},{"$f":"'R 1'!$AQ$15","v":0},{"$f":"'R 2'!$AP$13","v":0},{"$f":"'R 2'!$AQ$13","v":0},{"$f":"'R 3'!$AP$16","v":0},{"$f":"'R 3'!$AQ$16","v":0},0,0,0,null,{"$f":"IF(SUM($AD$14:$AI$17)=0,\"\",IF(AL16=$AM$14,\"1st\",\"\"))","v":""}]
[{"$nulls":4},12,"D",{"$f":"DRAW!D16","v":0},{"$f":"DRAW!E16","v":0},null,{"$f":"'R 1'!$U$16","v":0},{"$f":"'R 1'!$V$16","v":0},{"$f":"'R 2'!$U$16","v":0},{"$f":"'R 2'!$V$16","v":0},{"$f":"'R 3'!$U$13","v":0},{"$f":"'R 3'!$V$13","v":0},0,0,0,null,{"$f":"IF(SUM($J$14:$O$17)=0,\"\",IF(R17=$S$14,\"1st\",\"\"))","v":""},{"$nulls":4},16,"D",{"$f":"DRAW!D20","v":0},{"$f":"DRAW!E20","v":0},null,{"$f":"'R 1'!$AP$16","v":0},{"$f":"'R 1'!$AQ$16","v":0},{"$f":"'R 2'!$AP$16","v":0},{"$f":"'R 2'!$AQ$16","v":0},{"$f":"'R 3'!$AP$13","v":0},{"$f":"'R 3'!$AQ$13","v":0},0,0,0,null,{"$f":"IF(SUM($AD$14:$AI$17)=0,\"\",IF(AL17=$AM$14,\"1st\",\"\"))","v":""}]
[{"$nulls":17},0,{"$nulls":19},0]
[{"$nulls":17},0,{"$nulls":19},0]
[{"$nulls":17},0,{"$nulls":19},0]
[{"$nulls":17},0,{"$nulls":19},0]
[{"$nulls":3},5,17,"A",{"$f":"DRAW!D21","v":0},{"$f":"DRAW!E21","v":0},null,{"$f":"'R 1'!$U$18","v":0},{"$f":"'R 1'!$V$18","v":0},{"$f":"'R 2'!$U$18","v":0},{"$f":"'R 2'!$V$18","v":0},{"$f":"'R 3'!$U$18","v":0},{"$f":"'R 3'!$V$18","v":0},{"$f":"J22+L22+N22","v":0},{"$f":"K22+M22+O22","v":0},0,{"$f":"LARGE($R$22:$R$25,1)","v":0},{"$f":"IF(SUM($J$22:$O$25)=0,\"\",IF(R22=$S$22,\"1st\",\"\"))","v":""},{"$nulls":3},6,21,"A",{"$f":"DRAW!D25","v":0},{"$f":"DRAW!E25","v":0},null,{"$f":"'R 1'!$AP$18","v":0},{"$f":"'R 1'!$AQ$18","v":0},{"$f":"'R 2'!$AP$18","v":0},{"$f":"'R 2'!$AQ$18","v":0},{"$f":"'R 3'!$AP$18","v":0},{"$f":"'R 3'!$AQ$18","v":0},{"$f":"AD22+AF22+AH22","v":0},0,0,{"$f":"LARGE($AL$22:$AL$25,1)","v":0},{"$f":"IF(SUM($AD$22:$AI$25)=0,\"\",IF(AL22=$AM$22,\"1st\",\"\"))","v":""}]
[{"$nulls":4},18,"B",{"$f":"DRAW!D22","v":0},{"$f":"DRAW!E22","v":0},null,{"$f":"'R 1'!$U$19","v":0},{"$f":"'R 1'!$V$19","v":0},{"$f":"'R 2'!$U$21","v":0},{"$f":"'R 2'!$V$21","v":0},{"$f":"'R 3'!$U$21","v":0},{"$f":"'R 3'!$V$21","v":0},{"$f":"J23+L23+N23","v":0},0,0,null,{"$f":"IF(SUM($J$22:$O$25)=0,\"\",IF(R23=$S$22,\"1st\",\"\"))","v":""},{"$nulls":4},22,"B",{"$f":"DRAW!D26","v":0},{"$f":"DRAW!E26","v":0},null,{"$f":"'R 1'!$AP$19","v":0},{"$f":"'R 1'!$AQ$19","v":0},{"$f":"'R 2'!$AP$21","v":0},{"$f":"'R 2'!$AQ$21","v":0},{"$f":"'R 3'!$AP$21","v":0},{"$f":"'R 3'!$AQ$21","v":0},0,0,0,null,{"$f":"IF(SUM($AD$22:$AI$25)=0,\"\",IF(AL23=$AM$22,\"1st\",\"\"))","v":""}]
[{"$nulls":4},19,"C",{"$f":"DRAW!D23","v":0},{"$f":"DRAW!E23","v":0},null,{"$f":"'R 1'!$U$21","v":0},{"$f":"'R 1'!$V$21","v":0},{"$f":"'R 2'!$U$19","v":0},{"$f":"'R 2'!$V$19","v":0},{"$f":"'R 3'!$U$22","v":0},{"$f":"'R 3'!$V$22","v":0},{"$f":"J24+L24+N24","v":0},0,0,null,{"$f":"IF(SUM($J$22:$O$25)=0,\"\",IF(R24=$S$22,\"1st\",\"\"))","v":""},{"$nulls":4},23,"C",{"$f":"DRAW!D27","v":0},{"$f":"DRAW!E27","v":0},null,{"$f":"'R 1'!$AP$21","v":0},{"$f":"'R 1'!$AQ$21","v":0},{"$f":"'R 2'!$AP$19","v":0},{"$f":"'R 2'!$AQ$19","v":0},{"$f":"'R 3'!$AP$22","v":0},{"$f":"'R 3'!$AQ$22","v":0},0,0,0,null,{"$f":"IF(SUM($AD$22:$AI$25)=0,\"\",IF(AL24=$AM$22,\"1st\",\"\"))","v":""}]
[{"$nulls":4},20,"D",{"$f":"DRAW!D24","v":0},{"$f":"DRAW!E24","v":0},null,{"$f":"'R 1'!$U$22","v":0},{"$f":"'R 1'!$V$22","v":0},{"$f":"'R 2'!$U$22","v":0},{"$f":"'R 2'!$V$22","v":0},{"$f":"'R 3'!$U$19","v":0},{"$f":"'R 3'!$V$19","v":0},{"$f":"J25+L25+N25","v":0},0,0,null,{"$f":"IF(SUM($J$22:$O$25)=0,\"\",IF(R25=$S$22,\"1st\",\"\"))","v":""},{"$nulls":4},24,"D",{"$f":"DRAW!D28","v":0},{"$f":"DRAW!E28","v":0},null,{"$f":"'R 1'!$AP$22","v":0},{"$f":"'R 1'!$AQ$22","v":0},{"$f":"'R 2'!$AP$22","v":0},{"$f":"'R 2'!$AQ$22","v":0},{"$f":"'R 3'!$AP$19","v":0},{"$f":"'R 3'!$AQ$19","v":0},0,0,0,null,{"$f":"IF(SUM($AD$22:$AI$25)=0,\"\",IF(AL25=$AM$22,\"1st\",\"\"))","v":""}]
[{"$nulls":12},{"$f":"'R 2'!$V$24","v":0},{"$nulls":4},0,{"$nulls":14},{"$f":"'R 2'!$AQ$24","v":0},{"$nulls":4},0]
[{"$nulls":12},{"$f":"'R 2'!$V$27","v":0},{"$nulls":4},0,{"$nulls":14},{"$f":"'R 2'!$AQ$27","v":0},{"$nulls":4},0]
[{"$nulls":12},{"$f":"'R 2'!$V$25","v":0},{"$nulls":4},0,{"$nulls":14},{"$f":"'R 2'!$AQ$25","v":0},{"$nulls":4},0]
[{"$nulls":12},{"$f":"'R 2'!$V$28","v":0},{"$nulls":4},0,{"$nulls":14},{"$f":"'R 2'!$AQ$28","v":0},{"$nulls":4},0]
[{"$nulls":3},7,25,"A",{"$f":"DRAW!D29","v":0},{"$f":"DRAW!E29","v":0},null,{"$f":"'R 1'!$U$24","v":0},{"$f":"'R 1'!$V$24","v":0},{"$f":"'R 2'!$U$24","v":0},{"$f":"'R 2'!$V$24","v":0},{"$f":"'R 3'!$U$24","v":0},{"$f":"'R 3'!$V$24","v":0},{"$f":"J30+L30+N30","v":0},0,0,{"$f":"LARGE($R$30:$R$33,1)","v":0},{"$f":"IF(SUM($J$30:$O$33)=0,\"\",IF(R30=$S$30,\"1st\",\"\"))","v":""},{"$nulls":3},8,29,"A",{"$f":"DRAW!D33","v":0},{"$f":"DRAW!E33","v":0},null,{"$f":"'R 1'!$AP$24","v":0},{"$f":"'R 1'!$AQ$24","v":0},{"$f":"'R 2'!$AP$24","v":0},{"$f":"'R 2'!$AQ$24","v":0},{"$f":"'R 3'!$AP$24","v":0},{"$f":"'R 3'!$AQ$24","v":0},{"$f":"AD30+AF30+AH30","v":0},0,0,{"$f":"LARGE($AL$30:$AL$33,1)","v":0},{"$f":"IF(SUM($AD$30:$AI$33)=0,\"\",IF(AL30=$AM$30,\"1st\",\"\"))","v":""}]
[{"$nulls":4},26,"B",{"$f":"DRAW!D30","v":0},{"$f":"DRAW!E30","v":0},null,{"$f":"'R 1'!$U$25","v":0},{"$f":"'R 1'!$V$25","v":0},{"$f":"'R 2'!$U$27","v":0},{"$f":"'R 2'!$V$27","v":0},{"$f":"'R 3'!$U$27","v":0},{"$f":"'R 3'!$V$27","v":0},0,0,0,null,{"$f":"IF(SUM($J$30:$O$33)=0,\"\",IF(R31=$S$30,\"1st\",\"\"))","v":""},{"$nulls":4},30,"B",{"$f":"DRAW!D34","v":0},{"$f":"DRAW!E34","v":0},null,{"$f":"'R 1'!$AP$25","v":0},{"$f":"'R 1'!$AQ$25","v":0},{"$f":"'R 2'!$AP$27","v":0},{"$f":"'R 2'!$AQ$27","v":0},{"$f":"'R 3'!$AP$27","v":0},{"$f":"'R 3'!$AQ$27","v":0},0,0,0,null,{"$f":"IF(SUM($AD$30:$AI$33)=0,\"\",IF(AL31=$AM$30,\"1st\",\"\"))","v":""}]
[{"$nulls":4},27,"C",{"$f":"DRAW!D31","v":0},{"$f":"DRAW!E31","v":0},null,{"$f":"'R 1'!$U$27","v":0},{"$f":"'R 1'!$V$27","v":0},{"$f":"'R 2'!$U$25","v":0},{"$f":"'R 2'!$V$25","v":0},{"$f":"'R 3'!$U$28","v":0},{"$f":"'R 3'!$V$28","v":0},0,0,0,null,{"$f":"IF(SUM($J$30:$O$33)=0,\"\",IF(R32=$S$30,\"1st\",\"\"))","v":""},{"$nulls":4},31,"C",{"$f":"DRAW!D35","v":0},{"$f":"DRAW!E35","v":0},null,{"$f":"'R 1'!$AP$27","v":0},{"$f":"'R 1'!$AQ$27","v":0},{"$f":"'R 2'!$AP$25","v":0},{"$f":"'R 2'!$AQ$25","v":0},{"$f":"'R 3'!$AP$28","v":0},{"$f":"'R 3'!$AQ$28","v":0},0,0,0,null,{"$f":"IF(SUM($AD$30:$AI$33)=0,\"\",IF(AL32=$AM$30,\"1st\",\"\"))","v":""}]
[{"$nulls":4},28,"D",{"$f":"DRAW!D32","v":0},{"$f":"DRAW!E32","v":0},null,{"$f":"'R 1'!$U$28","v":0},{"$f":"'R 1'!$V$28","v":0},{"$f":"'R 2'!$U$28","v":0},{"$f":"'R 2'!$V$28","v":0},{"$f":"'R 3'!$U$25","v":0},{"$f":"'R 3'!$V$25","v":0},0,0,0,null,{"$f":"IF(SUM($J$30:$O$33)=0,\"\",IF(R33=$S$30,\"1st\",\"\"))","v":""},{"$nulls":4},32,"D",{"$f":"DRAW!D36","v":0},{"$f":"DRAW!E36","v":0},null,{"$f":"'R 1'!$AP$28","v":0},{"$f":"'R 1'!$AQ$28","v":0},{"$f":"'R 2'!$AP$28","v":0},{"$f":"'R 2'!$AQ$28","v":0},{"$f":"'R 3'!$AP$25","v":0},{"$f":"'R 3'!$AQ$25","v":0},0,0,0,null,{"$f":"IF(SUM($AD$30:$AI$33)=0,\"\",IF(AL33=$AM$30,\"1st\",\"\"))","v":""}]
[{"$nulls":3},9,33,"A",{"$f":"DRAW!D37","v":0},{"$f":"DRAW!E37","v":0},null,{"$f":"'R 1'!$U$30","v":0},{"$f":"'R 1'!$V$30","v":0},{"$f":"'R 2'!$U$30","v":0},{"$f":"'R 2'!$V$30","v":0},{"$f":"'R 3'!$U$30","v":0},{"$f":"'R 3'!$V$30","v":0},0,0,0,{"$f":"LARGE($R$34:$R$37,1)","v":0},{"$f":"IF(SUM($J$34:$O$37)=0,\"\",IF(R34=S$34,\"1st\",\"\"))","v":""},{"$nulls":3},10,37,"A",{"$f":"DRAW!D41","v":0},{"$f":"DRAW!E41","v":0},null,{"$f":"'R 1'!$AP$30","v":0},{"$f":"'R 1'!$AQ$30","v":0},{"$f":"'R 2'!$AP$30","v":0},{"$f":"'R 2'!$AQ$30","v":0},{"$f":"'R 3'!$AP$30","v":0},{"$f":"'R 3'!$AQ$30","v":0},0,0,0,{"$f":"LARGE($AL$34:$AL$37,1)","v":0},{"$f":"IF(SUM($AD$34:$AI$37)=0,\"\",IF(AL34=AM$34,\"1st\",\"\"))","v":""}]
[{"$nulls":4},34,"B",{"$f":"DRAW!D38","v":0},{"$f":"DRAW!E38","v":0},null,{"$f":"'R 1'!$U$31","v":0},{"$f":"'R 1'!$V$31","v":0},{"$f":"'R 2'!$U$33","v":0},{"$f":"'R 2'!$V$33","v":0},{"$f":"'R 3'!$U$33","v":0},{"$f":"'R 3'!$V$33","v":0},0,0,0,null,{"$f":"IF(SUM($J$34:$O$37)=0,\"\",IF(R35=S$34,\"1st\",\"\"))","v":""},{"$nulls":4},38,"B",{"$f":"DRAW!D42","v":0},{"$f":"DRAW!E42","v":0},null,{"$f":"'R 1'!$AP$31","v":0},{"$f":"'R 1'!$AQ$31","v":0},{"$f":"'R 2'!$AP$33","v":0},{"$f":"'R 2'!$AQ$33","v":0},{"$f":"'R 3'!$AP$33","v":0},{"$f":"'R 3'!$AQ$33","v":0},0,0,0,null,{"$f":"IF(SUM($AD$34:$AI$37)=0,\"\",IF(AL35=AM$34,\"1st\",\"\"))","v":""}]
[{"$nulls":4},35,"C",{"$f":"DRAW!D39","v":0},{"$f":"DRAW!E39","v":0},null,{"$f":"'R 1'!$U$33","v":0},{"$f":"'R 1'!$V$33","v":0},{"$f":"'R 2'!$U$31","v":0},{"$f":"'R 2'!$V$31","v":0},{"$f":"'R 3'!$U$34","v":0},{"$f":"'R 3'!$V$34","v":0},0,0,0,null,{"$f":"IF(SUM($J$34:$O$37)=0,\"\",IF(R36=S$34,\"1st\",\"\"))","v":""},{"$nulls":4},39,"C",{"$f":"DRAW!D43","v":0},{"$f":"DRAW!E43","v":0},null,{"$f":"'R 1'!$AP$33","v":0},{"$f":"'R 1'!$AQ$33","v":0},{"$f":"'R 2'!$AP$31","v":0},{"$f":"'R 2'!$AQ$31","v":0},{"$f":"'R 3'!$AP$34","v":0},{"$f":"'R 3'!$AQ$34","v":0},0,0,0,null,{"$f":"IF(SUM($AD$34:$AI$37)=0,\"\",IF(AL36=AM$34,\"1st\",\"\"))","v":""}]
[{"$nulls":4},36,"D",{"$f":"DRAW!D40","v":0},{"$f":"DRAW!E40","v":0},null,{"$f":"'R 1'!$U$34","v":0},{"$f":"'R 1'!$V$34","v":0},{"$f":"'R 2'!$U$34","v":0},{"$f":"'R 2'!$V$34","v":0},{"$f":"'R 3'!$U$31","v":0},{"$f":"'R 3'!$V$31","v":0},0,0,0,null,{"$f":"IF(SUM($J$34:$O$37)=0,\"\",IF(R37=S$34,\"1st\",\"\"))","v":""},{"$nulls":4},40,"D",{"$f":"DRAW!D44","v":0},{"$f":"DRAW!E44","v":0},null,{"$f":"'R 1'!$AP$34","v":0},{"$f":"'R 1'!$AQ$34","v":0},{"$f":"'R 2'!$AP$34","v":0},{"$f":"'R 2'!$AQ$34","v":0},{"$f":"'R 3'!$AP$31","v":0},{"$f":"'R 3'!$AQ$31","v":0},0,0,0,null,{"$f":"IF(SUM($AD$34:$AI$37)=0,\"\",IF(AL37=AM$34,\"1st\",\"\"))","v":""}]

{"sheet":"R 1 cds.","index":10,"n_rows":920,"n_cols":23,"rows_kept":920,"merged":[[0,0,0,23],[1,0,1,23],[2,2,2,6],[2,8,2,23],[3,2,3,6],[3,8,3,23],[5,0,5,10],[5,11,5,12],[5,13,5,23],[7,0,7,10],[7,11,7,12],[7,13,7,23],[9,2,9,10],[9,13,9,21],[10,2,10,5],[10,6,10,10],[10,13,10,16],[10,17,10,21],[11,0,11,1],[11,2,11,3],[11,4,11,5],[11,6,11,7],[11,8,11,10],[11,13,11,14],[11,15,11,16],[11,17,11,18],[11,19,11,21],[12,0,12,1],[12,2,12,3],[12,4,12,5],[12,6,12,7],[12,8,12,10],[12,13,12,14],[12,15,12,16],[12,17,12,18],[12,19,12,21],[13,0,13,1],[13,2,13,3],[13,4,13,5],[13,6,13,7],[13,8,13,10],[13,13,13,14],[13,15,13,16],[13,17,13,18],[13,19,13,21],[14,0,14,1],[14,2,14,3],[14,4,14,5],[14,6,14,7],[14,8,14,10],[14,13,14,14],[14,15,14,16],[14,17,14,18],[14,19,14,21],[15,0,15,1],[15,2,15,3],[15,4,15,5],[15,6,15,7],[15,8,15,10],[15,13,15,14],[15,15,15,16],[15,17,15,18],[15,19,15,21],[16,0,16,1],[16,2,16,3],[16,4,16,5],[16,6,16,7],[16,8,16,10],[16,11,16,12],[16,13,16,14],[16,15,16,16],[16,17,16,18],[16,19,16,21],[16,22,16,23],[17,0,17,2],[17,4,17,18],[17,19,17,23],[18,0,19,2],[18,4,18,5],[18,6,18,8],[18,15,18,17],[18,19,19,23],[19,4,19,5],[19,6,19,8],[19,15,19,17],[20,3,20,6],[20,9,20,14],[20,17,20,21],[21,0,21,1],[21,3,22,6],[21,9,21,14],[21,15,21,16],[21,17,22,21],[22,0,22,1],[22,15,22,16],[23,0,23,23],[24,0,24,23],[25,2,25,6],[25,8,25,23],[26,2,26,6],[26,8,26,23],[28,0,28,10],[28,11,28,12],[28,13,28,23],[30,0,30,10],[30,11,30,12],[30,13,30,23],[32,2,32,10],[32,13,32,21],[33,2,33,5],[33,6,33,10],[33,13,33,16],[33,17,33,21],[34,0,34,1],[34,2,34,3],[34,4,34,5],[34,6,34,7],[34,8,34,10],[34,13,34,14],[34,15,34,16],[34,17,34,18],[34,19,34,21],[35,0,35,1],[35,2,35,3],[35,4,35,5],[35,6,35,7],[35,8,35,10],[35,13,35,14],[35,15,35,16],[35,17,35,18],[35,19,35,21],[36,0,36,1],[36,2,36,3],[36,4,36,5],[36,6,36,7],[36,8,36,10],[36,13,36,14],[36,15,36,16],[36,17,36,18],[36,19,36,21],[37,0,37,1],[37,2,37,3],[37,4,37,5],[37,6,37,7],[37,8,37,10],[37,13,37,14],[37,15,37,16],[37,17,37,18],[37,19,37,21],[38,0,38,1],[38,2,38,3],[38,4,38,5],[38,6,38,7],[38,8,38,10],[38,13,38,14],[38,15,38,16],[38,17,38,18],[38,19,38,21],[39,0,39,1],[39,2,39,3],[39,4,39,5],[39,6,39,7],[39,8,39,10],[39,11,39,12],[39,13,39,14],[39,15,39,16],[39,17,39,18],[39,19,39,21],[39,22,39,23],[40,0,40,2],[40,4,40,18],[40,19,40,23],[41,4,41,5],[41,6,41,8],[41,15,41,17],[41,19,42,23],[42,4,42,5],[42,6,42,8],[43,3,43,6],[43,9,43,14],[43,17,43,21],[44,0,44,1],[44,3,45,6],[44,9,44,14],[44,15,44,16],[44,17,45,21],[45,0,45,1],[45,15,45,16],[46,0,46,23],[47,0,47,23],[48,2,48,6],[48,8,48,23],[49,2,49,6],[49,8,49,23],[51,0,51,10],[51,11,51,12],[51,13,51,23],[53,0,53,10],[53,11,53,12],[53,13,53,23],[55,2,55,10],[55,13,55,21],[56,2,56,5],[56,6,56,10],[56,13,56,16],[56,17,56,21],[57,0,57,1],[57,2,57,3],[57,4,57,5],[57,6,57,7],[57,8,57,10],[57,13,57,14],[57,15,57,16],[57,17,57,18],[57,19,57,21],[58,0,58,1],[58,2,58,3],[58,4,58,5],[58,6,58,7],[58,8,58,10],[58,13,58,14],[58,15,58,16],[58,17,58,18],[58,19,58,21],[59,0,59,1],[59,2,59,3],[59,4,59,5],[59,6,59,7],[59,8,59,10],[59,13,59,14],[59,15,59,16],[59,17,59,18],[59,19,59,21],[60,0,60,1],[60,2,60,3],[60,4,60,5],[60,6,60,7],[60,8,60,10],[60,13,60,14],[60,15,60,16],[60,17,60,18],[60,19,60,21],[61,0,61,1],[61,2,61,3],[61,4,61,5],[61,6,61,7],[61,8,61,10],[61,13,61,14],[61,15,61,16],[61,17,61,18],[61,19,61,21],[62,0,62,1],[62,2,62,3],[62,4,62,5],[62,6,62,7],[62,8,62,10],[62,11,62,12],[62,13,62,14],[62,15,62,16],[62,17,62,18],[62,19,62,21],[62,22,62,23],[63,0,63,2],[63,4,63,18],[63,19,63,23],[64,4,64,5],[64,6,64,8],[64,15,64,17],[64,19,65,23],[65,4,65,5],[65,6,65,8],[66,3,66,6],[66,9,66,14],[66,17,66,21],[67,0,67,1],[67,3,68,6],[67,9,67,14],[67,15,67,16],[67,17,68,21],[68,0,68,1],[68,15,68,16],[69,0,69,23],[70,0,70,23],[71,2,71,6],[71,8,71,23],[72,2,72,6],[72,8,72,23],[74,0,74,10],[74,11,74,12],[74,13,74,23],[76,0,76,10],[76,11,76,12],[76,13,76,23],[78,2,78,10],[78,13,78,21],[79,2,79,5],[79,6,79,10],[79,13,79,16],[79,17,79,21],[80,0,80,1],[80,2,80,3],[80,4,80,5],[80,6,80,7],[80,8,80,10],[80,13,80,14],[80,15,80,16],[80,17,80,18],[80,19,80,21],[81,0,81,1],[81,2,81,3],[81,4,81,5],[81,6,81,7],[81,8,81,10],[81,13,81,14],[81,15,81,16],[81,17,81,18],[81,19,81,21],[82,0,82,1],[82,2,82,3],[82,4,82,5],[82,6,82,7],[82,8,82,10],[82,13,82,14],[82,15,82,16],[82,17,82,18],[82,19,82,21],[83,0,83,1],[83,2,83,3],[83,4,83,5],[83,6,83,7],[83,8,83,10],[83,13,83,14],[83,15,83,16],[83,17,83,18],[83,19,83,21],[84,0,84,1],[84,2,84,3],[84,4,84,5],[84,6,84,7],[84,8,84,10],[84,13,84,14],[84,15,84,16],[84,17,84,18],[84,19,84,21],[85,0,85,1],[85,2,85,3],[85,4,85,5],[85,6,85,7],[85,8,85,10],[85,11,85,12],[85,13,85,14],[85,15,85,16],[85,17,85,18],[85,19,85,21],[85,22,85,23],[86,0,86,2],[86,4,86,18],[86,19,86,23],[87,4,87,5],[87,6,87,8],[87,15,87,17],[87,19,88,23],[88,4,88,5],[88,6,88,8],[89,3,89,6],[89,9,89,14],[89,17,89,21],[90,0,90,1],[90,3,91,6],[90,9,90,14],[90,15,90,16],[90,17,91,21],[91,0,91,1],[91,15,91,16],[92,0,92,23],[93,0,93,23],[94,2,94,6],[94,8,94,23],[95,2,95,6],[95,8,95,23],[97,0,97,10],[97,11,97,12],[97,13,97,23],[99,0,99,10],[99,11,99,12],[99,13,99,23],[101,2,101,10],[101,13,101,21],[102,2,102,5],[102,6,102,10],[102,13,102,16],[102,17,102,21],[103,0,103,1],[103,2,103,3],[103,4,103,5],[103,6,103,7],[103,8,103,10],[103,13,103,14],[103,15,103,16],[103,17,103,18],[103,19,103,21],[104,0,104,1],[104,2,104,3],[104,4,104,5],[104,6,104,7],[104,8,104,10],[104,13,104,14],[104,15,104,16],[104,17,104,18],[104,19,104,21],[105,0,105,1],[105,2,105,3],[105,4,105,5],[105,6,105,7],[105,8,105,10],[105,13,105,14],[105,15,105,16],[105,17,105,18],[105,19,105,21],[106,0,106,1],[106,2,106,3],[106,4,106,5],[106,6,106,7],[106,8,106,10],[106,13,106,14],[106,15,106,16],[106,17,106,18],[106,19,106,21],[107,0,107,1],[107,2,107,3],[107,4,107,5],[107,6,107,7],[107,8,107,10],[107,13,107,14],[107,15,107,16],[107,17,107,18],[107,19,107,21],[108,0,108,1],[108,2,108,3],[108,4,108,5],[108,6,108,7],[108,8,108,10],[108,11,108,12],[108,13,108,14],[108,15,108,16],[108,17,108,18],[108,19,108,21],[108,22,108,23],[109,0,109,2],[109,4,109,18],[109,19,109,23],[110,4,110,5],[110,6,110,8],[110,15,110,17],[110,19,111,23],[111,4,111,5],[111,6,111,8],[112,3,112,6],[112,9,112,14],[112,17,112,21],[113,0,113,1],[113,3,114,6],[113,9,113,14],[113,15,113,16],[113,17,114,21],[114,0,114,1],[114,15,114,16],[115,0,115,23],[116,0,116,23],[117,2,117,6],[117,8,117,23],[118,2,118,6],[118,8,118,23],[120,0,120,10],[120,11,120,12],[120,13,120,23],[122,0,122,10],[122,11,122,12],[122,13,122,23],[124,2,124,10],[124,13,124,21],[125,2,125,5],[125,6,125,10],[125,13,125,16],[125,17,125,21],[126,0,126,1],[126,2,126,3],[126,4,126,5],[126,6,126,7],[126,8,126,10],[126,13,126,14],[126,15,126,16],[126,17,126,18],[126,19,126,21],[127,0,127,1],[127,2,127,3],[127,4,127,5],[127,6,127,7],[127,8,127,10],[127,13,127,14],[127,15,127,16],[127,17,127,18],[127,19,127,21],[128,0,128,1],[128,2,128,3],[128,4,128,5],[128,6,128,7],[128,8,128,10],[128,13,128,14],[128,15,128,16],[128,17,128,18],[128,19,128,21],[129,0,129,1],[129,2,129,3],[129,4,129,5],[129,6,129,7],[129,8,129,10],[129,13,129,14],[129,15,129,16],[129,17,129,18],[129,19,129,21],[130,0,130,1],[130,2,130,3],[130,4,130,5],[130,6,130,7],[130,8,130,10],[130,13,130,14],[130,15,130,16],[130,17,130,18],[130,19,130,21],[131,0,131,1],[131,2,131,3],[131,4,131,5],[131,6,131,7],[131,8,131,10],[131,11,131,12],[131,13,131,14],[131,15,131,16],[131,17,131,18],[131,19,131,21],[131,22,131,23],[132,0,132,2],[132,4,132,18],[132,19,132,23],[133,4,133,5],[133,6,133,8],[133,15,133,17],[133,19,134,23],[134,4,134,5],[134,6,134,8],[135,3,135,6],[135,9,135,14],[135,17,135,21],[136,0,136,1],[136,3,137,6],[136,9,136,14],[136,15,136,16],[136,17,137,21],[137,0,137,1],[137,15,137,16],[138,0,138,23],[139,0,139,23],[140,2,140,6],[140,8,140,23],[141,2,141,6],[141,8,141,23],[143,0,143,10],[143,11,143,12],[143,13,143,23],[145,0,145,10],[145,11,145,12],[145,13,145,23],[147,2,147,10],[147,13,147,21],[148,2,148,5],[148,6,148,10],[148,13,148,16],[148,17,148,21],[149,0,149,1],[149,2,149,3],[149,4,149,5],[149,6,149,7],[149,8,149,10],[149,13,149,14],[149,15,149,16],[149,17,149,18],[149,19,149,21],[150,0,150,1],[150,2,150,3],[150,4,150,5],[150,6,150,7],[150,8,150,10],[150,13,150,14],[150,15,150,16],[150,17,150,18],[150,19,150,21],[151,0,151,1],[151,2,151,3],[151,4,151,5],[151,6,151,7],[151,8,151,10],[151,13,151,14],[151,15,151,16],[151,17,151,18],[151,19,151,21],[152,0,152,1],[152,2,152,3],[152,4,152,5],[152,6,152,7],[152,8,152,10],[152,13,152,14],[152,15,152,16],[152,17,152,18],[152,19,152,21],[153,0,153,1],[153,2,153,3],[153,4,153,5],[153,6,153,7],[153,8,153,10],[153,13,153,14],[153,15,153,16],[153,17,153,18],[153,19,153,21],[154,0,154,1],[154,2,154,3],[154,4,154,5],[154,6,154,7],[154,8,154,10],[154,11,154,12],[154,13,154,14],[154,15,154,16],[154,17,154,18],[154,19,154,21],[154,22,154,23],[155,0,155,2],[155,4,155,18],[155,19,155,23],[156,4,156,5],[156,6,156,8],[156,15,156,17],[156,19,157,23],[157,4,157,5],[157,6,157,8],[158,3,158,6],[158,9,158,14],[158,17,158,21],[159,0,159,1],[159,3,160,6],[159,9,159,14],[159,15,159,16],[159,17,160,21],[160,0,160,1],[160,15,160,16],[161,0,161,23],[162,0,162,23],[163,2,163,6],[163,8,163,23],[164,2,164,6],[164,8,164,23],[166,0,166,10],[166,11,166,12],[166,13,166,23],[168,0,168,10],[168,11,168,12],[168,13,168,23],[170,2,170,10],[170,13,170,21],[171,2,171,5],[171,6,171,10],[171,13,171,16],[171,17,171,21],[172,0,172,1],[172,2,172,3],[172,4,172,5],[172,6,172,7],[172,8,172,10],[172,13,172,14],[172,15,172,16],[172,17,172,18],[172,19,172,21],[173,0,173,1],[173,2,173,3],[173,4,173,5],[173,6,173,7],[173,8,173,10],[173,13,173,14],[173,15,173,16],[173,17,173,18],[173,19,173,21],[174,0,174,1],[174,2,174,3],[174,4,174,5],[174,6,174,7],[174,8,174,10],[174,13,174,14],[174,15,174,16],[174,17,174,18],[174,19,174,21],[175,0,175,1],[175,2,175,3],[175,4,175,5],[175,6,175,7],[175,8,175,10],[175,13,175,14],[175,15,175,16],[175,17,175,18],[175,19,175,21],[176,0,176,1],[176,2,176,3],[176,4,176,5],[176,6,176,7],[176,8,176,10],[176,13,176,14],[176,15,176,16],[176,17,176,18],[176,19,176,21],[177,0,177,1],[177,2,177,3],[177,4,177,5],[177,6,177,7],[177,8,177,10],[177,11,177,12],[177,13,177,14],[177,15,177,16],[177,17,177,18],[177,19,177,21],[177,22,177,23],[178,0,178,2],[178,4,178,18],[178,19,178,23],[179,4,179,5],[179,6,179,8],[179,15,179,17],[179,19,180,23],[180,4,180,5],[180,6,180,8],[181,3,181,6],[181,9,181,14],[181,17,181,21],[182,0,182,1],[182,3,183,6],[182,9,182,14],[182,15,182,16],[182,17,183,21],[183,0,183,1],[183,15,183,16],[184,0,184,23],[185,0,185,23],[186,2,186,6],[186,8,186,23],[187,2,187,6],[187,8,187,23],[189,0,189,10],[189,11,189,12],[189,13,189,23],[191,0,191,10],[191,11,191,12],[191,13,191,23],[193,2,193,10],[193,13,193,21],[194,2,194,5],[194,6,194,10],[194,13,194,16],[194,17,194,21],[195,0,195,1],[195,2,195,3],[195,4,195,5],[195,6,195,7],[195,8,195,10],[195,13,195,14],[195,15,195,16],[195,17,195,18],[195,19,195,21],[196,0,196,1],[196,2,196,3],[196,4,196,5],[196,6,196,7],[196,8,196,10],[196,13,196,14],[196,15,196,16],[196,17,196,18],[196,19,196,21],[197,0,197,1],[197,2,197,3],[197,4,197,5],[197,6,197,7],[197,8,197,10],[197,13,197,14],[197,15,197,16],[197,17,197,18],[197,19,197,21],[198,0,198,1],[198,2,198,3],[198,4,198,5],[198,6,198,7],[198,8,198,10],[198,13,198,14],[198,15,198,16],[198,17,198,18],[198,19,198,21],[199,0,199,1],[199,2,199,3],[199,4,199,5],[199,6,199,7],[199,8,199,10],[199,13,199,14],[199,15,199,16],[199,17,199,18],[199,19,199,21],[200,0,200,1],[200,2,200,3],[200,4,200,5],[200,6,200,7],[200,8,200,10],[200,11,200,12],[200,13,200,14],[200,15,200,16],[200,17,200,18],[200,19,200,21],[200,22,200,23],[201,0,201,2],[201,4,201,18],[201,19,201,23],[202,4,202,5],[202,6,202,8],[202,15,202,17],[202,19,203,23],[203,4,203,5],[203,6,203,8],[204,3,204,6],[204,9,204,14],[204,17,204,21],[205,0,205,1],[205,3,206,6],[205,9,205,14],[205,15,205,16],[205,17,206,21],[206,0,206,1],[206,15,206,16],[207,0,207,23],[208,0,208,23],[209,2,209,6],[209,8,209,23],[210,2,210,6],[210,8,210,23],[212,0,212,10],[212,11,212,12],[212,13,212,23],[214,0,214,10],[214,11,214,12],[214,13,214,23],[216,2,216,10],[216,13,216,21],[217,2,217,5],[217,6,217,10],[217,13,217,16],[217,17,217,21],[218,0,218,1],[218,2,218,3],[218,4,218,5],[218,6,218,7],[218,8,218,10],[218,13,218,14],[218,15,218,16],[218,17,218,18],[218,19,218,21],[219,0,219,1],[219,2,219,3],[219,4,219,5],[219,6,219,7],[219,8,219,10],[219,13,219,14],[219,15,219,16],[219,17,219,18],[219,19,219,21],[220,0,220,1],[220,2,220,3],[220,4,220,5],[220,6,220,7],[220,8,220,10],[220,13,220,14],[220,15,220,16],[220,17,220,18],[220,19,220,21],[221,0,221,1],[221,2,221,3],[221,4,221,5],[221,6,221,7],[221,8,221,10],[221,13,221,14],[221,15,221,16],[221,17,221,18],[221,19,221,21],[222,0,222,1],[222,2,222,3],[222,4,222,5],[222,6,222,7],[222,8,222,10],[222,13,222,14],[222,15,222,16],[222,17,222,18],[222,19,222,21],[223,0,223,1],[223,2,223,3],[223,4,223,5],[223,6,223,7],[223,8,223,10],[223,11,223,12],[223,13,223,14],[223,15,223,16],[223,17,223,18],[223,19,223,21],[223,22,223,23],[224,0,224,2],[224,4,224,18],[224,19,224,23],[225,4,225,5],[225,6,225,8],[225,15,225,17],[225,19,226,23],[226,4,226,5],[226,6,226,8],[227,3,227,6],[227,9,227,14],[227,17,227,21],[228,0,228,1],[228,3,229,6],[228,9,228,14],[228,15,228,16],[228,17,229,21],[229,0,229,1],[229,15,229,16],[230,0,230,23],[231,0,231,23],[232,2,232,6],[232,8,232,23],[233,2,233,6],[233,8,233,23],[235,0,235,10],[235,11,235,12],[235,13,235,23],[237,0,237,10],[237,11,237,12],[237,13,237,23],[239,2,239,10],[239,13,239,21],[240,2,240,5],[240,6,240,10],[240,13,240,16],[240,17,240,21],[241,0,241,1],[241,2,241,3],[241,4,241,5],[241,6,241,7],[241,8,241,10],[241,13,241,14],[241,15,241,16],[241,17,241,18],[241,19,241,21],[242,0,242,1],[242,2,242,3],[242,4,242,5],[242,6,242,7],[242,8,242,10],[242,13,242,14],[242,15,242,16],[242,17,242,18],[242,19,242,21],[243,0,243,1],[243,2,243,3],[243,4,243,5],[243,6,243,7],[243,8,243,10],[243,13,243,14],[243,15,243,16],[243,17,243,18],[243,19,243,21],[244,0,244,1],[244,2,244,3],[244,4,244,5],[244,6,244,7],[244,8,244,10],[244,13,244,14],[244,15,244,16],[245,0,245,1],[245,2,245,3],[245,4,245,5],[245,6,245,7],[245,8,245,10],[245,13,245,14],[245,15,245,16],[245,17,245,18],[245,19,245,21],[246,0,246,1],[246,2,246,3],[246,4,246,5],[246,6,246,7],[246,8,246,10],[246,11,246,12],[246,13,246,14]],"merged_total":3722,"flags":["merged_cut"]}
[{"$f":"Entries!$A$1","v":"2018 District 5 - Mixed Pairs"}]
["R O U N D  1"]
[null,null,"RINK",{"$nulls":5},"DATE"]
[null,null,{"$f":"DRAW!$F$5","v":0},{"$nulls":5},{"$f":"Entries!$A$2","v":"20th June 2018"}]
[]
[{"$f":"DRAW!$D$5","v":0},{"$nulls":10},"L",null,{"$f":"DRAW!$D$6","v":0}]
[]
[{"$f":"DRAW!$E$5","v":0},{"$nulls":10},"Sk",null,{"$f":"DRAW!$E$6","v":0}]
[]
[null,null,"First Set",{"$nulls":10},"Second Set"]
[null,null,{"$f":"DRAW!$E$5","v":0},{"$nulls":3},{"$f":"DRAW!$E$6","v":0},{"$nulls":6},{"$f":"DRAW!$E$5","v":0},{"$nulls":3},{"$f":"DRAW!$E$6","v":0}]
["End",null,"Shots",null,"Total",null,"Shots",null,"Total",{"$nulls":4},"Shots",null,"Total",null,"Shots",null,"Total"]
[1]
[2]
[3]
[4]
[5,{"$nulls":10},1,{"$nulls":10},1]
["Points",{"$nulls":3},"Tie Break",{"$nulls":14},"Points"]
[{"$nulls":4},"End",null,"Shots",{"$nulls":8},"Shots"]
[{"$nulls":4},1]
[{"$nulls":3},"TEAM No.",{"$nulls":5},"Time",{"$nulls":7},"TEAM No."]
["Sign",null,null,{"$f":"DRAW!$C$5","v":0},{"$nulls":5},"Completed",{"$nulls":5},"Sign",null,{"$f":"DRAW!$C$6","v":0}]
["i",{"$nulls":14},"i"]
[{"$f":"Entries!$A$1","v":"2018 District 5 - Mixed Pairs"}]
["R O U N D  1"]
[null,null,"RINK",{"$nulls":5},"DATE"]
[null,null,{"$f":"DRAW!$F$5","v":0},{"$nulls":5},{"$f":"Entries!$A$2","v":"20th June 2018"}]
[]
[{"$f":"DRAW!$D$6","v":0},{"$nulls":10},"L",null,{"$f":"DRAW!$D$5","v":0}]
[]
[{"$f":"DRAW!$E$6","v":0},{"$nulls":10},"Sk",null,{"$f":"DRAW!$E$5","v":0}]
[]
[null,null,"First Set",{"$nulls":10},"Second Set"]
[null,null,{"$f":"DRAW!$E$6","v":0},{"$nulls":3},{"$f":"DRAW!$E$5","v":0},{"$nulls":6},{"$f":"DRAW!$E$6","v":0},{"$nulls":3},{"$f":"DRAW!$E$5","v":0}]
["End",null,"Shots",null,"Total",null,"Shots",null,"Total",{"$nulls":4},"Shots",null,"Total",null,"Shots",null,"Total"]
[1]
[2]
[3]
[4]
[5,{"$nulls":10},2,{"$nulls":10},1]
["Points",{"$nulls":3},"Tie Break",{"$nulls":14},"Points"]
[{"$nulls":4},"End",null,"Shots",{"$nulls":8},"Shots"]
[{"$nulls":4},1]
[{"$nulls":3},"TEAM No.",{"$nulls":5},"Time",{"$nulls":7},"TEAM No."]
["Sign",null,null,2,{"$nulls":5},"Completed",{"$nulls":5},"Sign",null,1]
["i",{"$nulls":14},"i"]
[{"$f":"Entries!$A$1","v":"2018 District 5 - Mixed Pairs"}]
["R O U N D  1"]
[null,null,"RINK",{"$nulls":5},"DATE"]
[null,null,{"$f":"DRAW!$F$7","v":0},{"$nulls":5},{"$f":"Entries!$A$2","v":"20th June 2018"}]
[]
[{"$f":"DRAW!$D$7","v":0},{"$nulls":10},"L",null,{"$f":"DRAW!$D$8","v":0}]
[]
[{"$f":"DRAW!$E$7","v":0},{"$nulls":10},"Sk",null,{"$f":"DRAW!$E$8","v":0}]
[]
[null,null,"First Set",{"$nulls":10},"Second Set"]
[null,null,{"$f":"DRAW!$E$7","v":0},{"$nulls":3},{"$f":"DRAW!$E$8","v":0},{"$nulls":6},{"$f":"DRAW!$E$7","v":0},{"$nulls":3},{"$f":"DRAW!$E$8","v":0}]
["End",null,"Shots",null,"Total",null,"Shots",null,"Total",{"$nulls":4},"Shots",null,"Total",null,"Shots",null,"Total"]
[1]
[2]
[3]
[4]
[5,{"$nulls":10},1,{"$nulls":10},1]
["Points",{"$nulls":3},"Tie Break",{"$nulls":14},"Points"]
[{"$nulls":4},"End",null,"Shots",{"$nulls":8},"Shots"]
[{"$nulls":4},1]
[{"$nulls":3},"TEAM No.",{"$nulls":5},"Time",{"$nulls":7},"TEAM No."]
["Sign",null,null,{"$f":"DRAW!$C$7","v":0},{"$nulls":5},"Completed",{"$nulls":5},"Sign",null,{"$f":"DRAW!$C$8","v":0}]
["i",{"$nulls":14},"i"]
[{"$f":"Entries!$A$1","v":"2018 District 5 - Mixed Pairs"}]
["R O U N D  1"]
[null,null,"RINK",{"$nulls":5},"DATE"]
[null,null,{"$f":"DRAW!$F$7","v":0},{"$nulls":5},{"$f":"Entries!$A$2","v":"20th June 2018"}]
[]
[{"$f":"DRAW!$D$8","v":0},{"$nulls":10},"L",null,{"$f":"DRAW!$D$7","v":0}]
[]
[{"$f":"DRAW!$E$8","v":0},{"$nulls":10},"Sk",null,{"$f":"DRAW!$E$7","v":0}]
[]
[null,null,"First Set",{"$nulls":10},"Second Set"]
[null,null,{"$f":"$A$77","v":0},{"$nulls":3},{"$f":"$N$77","v":0},{"$nulls":6},{"$f":"$A$77","v":0},{"$nulls":3},{"$f":"$N$77","v":0}]
["End",null,"Shots",null,"Total",null,"Shots",null,"Total",{"$nulls":4},"Shots",null,"Total",null,"Shots",null,"Total"]
[1]
[2]
[3]
[4]
[5,{"$nulls":10},2,{"$nulls":10},1]
["Points",{"$nulls":3},"Tie Break",{"$nulls":14},"Points"]
[{"$nulls":4},"End",null,"Shots",{"$nulls":8},"Shots"]
[{"$nulls":4},1]
[{"$nulls":3},"TEAM No.",{"$nulls":5},"Time",{"$nulls":7},"TEAM No."]
["Sign",null,null,{"$f":"$R$68","v":0},{"$nulls":5},"Completed",{"$nulls":5},"Sign",null,{"$f":"$D$68","v":0}]
["i",{"$nulls":14},"i"]
[{"$f":"Entries!$A$1","v":"2018 District 5 - Mixed Pairs"}]
["R O U N D  1"]
[null,null,"RINK",{"$nulls":5},"DATE"]
[null,null,{"$f":"DRAW!$F$9","v":0},{"$nulls":5},{"$f":"Entries!$A$2","v":"20th June 2018"}]
[]
[{"$f":"DRAW!$D$9","v":0},{"$nulls":10},"L",null,{"$f":"DRAW!$D$10","v":0}]
[]
[{"$f":"DRAW!$E$9","v":0},{"$nulls":10},"Sk",null,{"$f":"DRAW!$E$10","v":0}]
[]
[null,null,"First Set",{"$nulls":10},"Second Set"]
[null,null,{"$f":"$A$100","v":0},{"$nulls":3},{"$f":"$N$100","v":0},{"$nulls":6},{"$f":"$A$100","v":0},{"$nulls":3},{"$f":"$N$100","v":0}]
["End",null,"Shots",null,"Total",null,"Shots",null,"Total",{"$nulls":4},"Shots",null,"Total",null,"Shots",null,"Total"]
[1]
[2]
[3]
[4]
[5,{"$nulls":10},1,{"$nulls":10},1]
["Points",{"$nulls":3},"Tie Break",{"$nulls":14},"Points"]
[{"$nulls":4},"End",null,"Shots",{"$nulls":8},"Shots"]
[{"$nulls":4},1]
[{"$nulls":3},"TEAM No.",{"$nulls":5},"Time",{"$nulls":7},"TEAM No."]
["Sign",null,null,{"$f":"DRAW!$C$9","v":0},{"$nulls":5},"Completed",{"$nulls":5},"Sign",null,{"$f":"DRAW!$C$10","v":0}]
["i",{"$nulls":14},"i"]
[{"$f":"Entries!$A$1","v":"2018 District 5 - Mixed Pairs"}]
["R O U N D  1"]
[null,null,"RINK",{"$nulls":5},"DATE"]
[null,null,{"$f":"$C$96","v":0},{"$nulls":5},{"$f":"Entries!$A$2","v":"20th June 2018"}]
[]
[{"$f":"$N$98","v":0},{"$nulls":10},"L",null,{"$f":"$A$98","v":0}]
[]
[{"$f":"$N$100","v":0},{"$nulls":10},"Sk",null,{"$f":"$A$100","v":0}]
[]
[null,null,"First Set",{"$nulls":10},"Second Set"]
[null,null,{"$f":"$N$100","v":0},{"$nulls":3},{"$f":"$A$100","v":0},{"$nulls":6},{"$f":"$N$100","v":0},{"$nulls":3},{"$f":"$A$100","v":0}]
["End",null,"Shots",null,"Total",null,"Shots",null,"Total",{"$nulls":4},"Shots",null,"Total",null,"Shots",null,"Total"]
[1]
[2]
[3]
[4]
[5,{"$nulls":10},2,{"$nulls":10},1]
["Points",{"$nulls":3},"Tie Break",{"$nulls":14},"Points"]
[{"$nulls":4},"End",null,"Shots",{"$nulls":8},"Shots"]
[{"$nulls":4},1]
[{"$nulls":3},"TEAM No.",{"$nulls":5},"Time",{"$nulls":7},"TEAM No."]
["Sign",null,null,{"$f":"$R$114","v":0},{"$nulls":5},"Completed",{"$nulls":5},"Sign",null,{"$f":"$D$114","v":0}]
["i",{"$nulls":14},"i"]
[{"$f":"Entries!$A$1","v":"2018 District 5 - Mixed Pairs"}]
["R O U N D  1"]
[null,null,"RINK",{"$nulls":5},"DATE"]
[null,null,{"$f":"DRAW!$F$11","v":0},{"$nulls":5},{"$f":"Entries!$A$2","v":"20th June 2018"}]
[]
[{"$f":"DRAW!$D$11","v":0},{"$nulls":10},"L",null,{"$f":"DRAW!$D$12","v":0}]
[]
[{"$f":"DRAW!$E$11","v":0},{"$nulls":10},"Sk",null,{"$f":"DRAW!$E$12","v":0}]
[]
[null,null,"First Set",{"$nulls":10},"Second Set"]
[null,null,{"$f":"DRAW!$E$11","v":0},{"$nulls":3},{"$f":"DRAW!$E$12","v":0},{"$nulls":6},{"$f":"DRAW!$E$11","v":0},{"$nulls":3},{"$f":"DRAW!$E$12","v":0}]
["End",null,"Shots",null,"Total",null,"Shots",null,"Total",{"$nulls":4},"Shots",null,"Total",null,"Shots",null,"Total"]
[1]
[2]
[3]
[4]
[5,{"$nulls":10},1,{"$nulls":10},1]
["Points",{"$nulls":3},"Tie Break",{"$nulls":14},"Points"]
[{"$nulls":4},"End",null,"Shots",{"$nulls":8},"Shots"]
[{"$nulls":4},1]
[{"$nulls":3},"TEAM No.",{"$nulls":5},"Time",{"$nulls":7},"TEAM No."]
["Sign",null,null,{"$f":"DRAW!$C$11","v":0},{"$nulls":5},"Completed",{"$nulls":5},"Sign",null,{"$f":"DRAW!$C$12","v":0}]
["i",{"$nulls":14},"i"]
[{"$f":"Entries!$A$1","v":"2018 District 5 - Mixed Pairs"}]
["R O U N D  1"]
[null,null,"RINK",{"$nulls":5},"DATE"]
[null,null,{"$f":"$C$142","v":0},{"$nulls":5},{"$f":"Entries!$A$2","v":"20th June 2018"}]
[]
[{"$f":"$N$144","v":0},{"$nulls":10},"L",null,{"$f":"$A$144","v":0}]
[]
[{"$f":"$N$146","v":0},{"$nulls":10},"Sk",null,{"$f":"$A$146","v":0}]
[]
[null,null,"First Set",{"$nulls":10},"Second Set"]
[null,null,{"$f":"$N$146","v":0},{"$nulls":3},{"$f":"$A$146","v":0},{"$nulls":6},{"$f":"$N$146","v":0},{"$nulls":3},{"$f":"$A$146","v":0}]
["End",null,"Shots",null,"Total",null,"Shots",null,"Total",{"$nulls":4},"Shots",null,"Total",null,"Shots",null,"Total"]
[1]
[2]
[3]
[4]
[5,{"$nulls":10},2,{"$nulls":10},1]
["Points",{"$nulls":3},"Tie Break",{"$nulls":14},"Points"]
[{"$nulls":4},"End",null,"Shots",{"$nulls":8},"Shots"]
[{"$nulls":4},1]
[{"$nulls":3},"TEAM No.",{"$nulls":5},"Time",{"$nulls":7},"TEAM No."]
["Sign",null,null,{"$f":"$R$160","v":0},{"$nulls":5},"Completed",{"$nulls":5},"Sign",null,{"$f":"$D$160","v":0}]
["i",{"$nulls":14},"i"]
[{"$f":"Entries!$A$1","v":"2018 District 5 - Mixed Pairs"}]
["R O U N D  1"]
[null,null,"RINK",{"$nulls":5},"DATE"]
[null,null,{"$f":"DRAW!$F$13","v":0},{"$nulls":5},{"$f":"Entries!$A$2","v":"20th June 2018"}]
[]
[{"$f":"DRAW!$D$13","v":0},{"$nulls":10},"L",null,{"$f":"DRAW!$D$14","v":0}]
[]
[{"$f":"DRAW!$E$13","v":0},{"$nulls":10},"Sk",null,{"$f":"DRAW!$E$14","v":0}]
[]
[null,null,"First Set",{"$nulls":10},"Second Set"]
[null,null,{"$f":"DRAW!$E$13","v":0},{"$nulls":3},{"$f":"DRAW!$E$14","v":0},{"$nulls":6},{"$f":"DRAW!$E$13","v":0},{"$nulls":3},{"$f":"DRAW!$E$14","v":0}]
["End",null,"Shots",null,"Total",null,"Shots",null,"Total",{"$nulls":4},"Shots",null,"Total",null,"Shots",null,"Total"]
[1]
[2]
[3]
[4]
[5,{"$nulls":10},1,{"$nulls":10},1]
["Points",{"$nulls":3},"Tie Break",{"$nulls":14},"Points"]
[{"$nulls":4},"End",null,"Shots",{"$nulls":8},"Shots"]
[{"$nulls":4},1]
[{"$nulls":3},"TEAM No.",{"$nulls":5},"Time",{"$nulls":7},"TEAM No."]
["Sign",null,null,{"$f":"DRAW!$C$13","v":0},{"$nulls":5},"Completed",{"$nulls":5},"Sign",null,{"$f":"DRAW!$C$14","v":0}]
["i",{"$nulls":14},"i"]
[{"$f":"Entries!$A$1","v":"2018 District 5 - Mixed Pairs"}]
["R O U N D  1"]
[null,null,"RINK",{"$nulls":5},"DATE"]
[null,null,{"$f":"DRAW!$F$13","v":0},{"$nulls":5},{"$f":"Entries!$A$2","v":"20th June 2018"}]
[]
[{"$f":"DRAW!$D$14","v":0},{"$nulls":10},"L",null,{"$f":"DRAW!$D$13","v":0}]
[]
[{"$f":"DRAW!$E$14","v":0},{"$nulls":10},"Sk",null,{"$f":"DRAW!$E$13","v":0}]
[]
[null,null,"First Set",{"$nulls":10},"Second Set"]
[null,null,{"$f":"DRAW!$E$14","v":0},{"$nulls":3},{"$f":"DRAW!$E$13","v":0},{"$nulls":6},{"$f":"DRAW!$E$14","v":0},{"$nulls":3},{"$f":"DRAW!$E$13","v":0}]
["End",null,"Shots",null,"Total",null,"Shots",null,"Total",{"$nulls":4},"Shots",null,"Total",null,"Shots",null,"Total"]
[1]
[2]
[3]
[4]
[5,{"$nulls":10},2,{"$nulls":10},1]
["Points",{"$nulls":3},"Tie Break",{"$nulls":14},"Points"]
[{"$nulls":4},"End",null,"Shots",{"$nulls":8},"Shots"]
[{"$nulls":4},1]
[{"$nulls":3},"TEAM No.",{"$nulls":5},"Time",{"$nulls":7},"TEAM No."]
["Sign",null,null,{"$f":"DRAW!$C$14","v":0},{"$nulls":5},"Completed",{"$nulls":5},"Sign",null,{"$f":"DRAW!$C$13","v":0}]
["i",{"$nulls":14},"i"]
[{"$f":"Entries!$A$1","v":"2018 District 5 - Mixed Pairs"}]
["R O U N D  1"]
[null,null,"RINK",{"$nulls":5},"DATE"]
[null,null,{"$f":"DRAW!$F$15","v":0},{"$nulls":5},{"$f":"Entries!$A$2","v":"20th June 2018"}]
[]
[{"$f":"DRAW!$D$15","v":0},{"$nulls":10},"L",null,{"$f":"DRAW!$D$16","v":0}]
[]
[{"$f":"DRAW!$E$15","v":0},{"$nulls":10},"Sk",null,{"$f":"DRAW!$E$16","v":0}]
[]
[null,null,"First Set",{"$nulls":10},"Second Set"]
[null,null,{"$f":"DRAW!$E$15","v":0},{"$nulls":3},{"$f":"DRAW!$E$16","v":0},{"$nulls":6},{"$f":"DRAW!$E$15","v":0},{"$nulls":3},{"$f":"DRAW!$E$16","v":0}]
["End",null,"Shots",null,"Total",null,"Shots",null,"Total",{"$nulls":4},"Shots",null,"Total",null,"Shots",null,"Total"]
[1]
[2]
[3]
[4]
[5,{"$nulls":10},1,{"$nulls":10},1]
["Points",{"$nulls":3},"Tie Break",{"$nulls":14},"Points"]
[{"$nulls":4},"End",null,"Shots",{"$nulls":8},"Shots"]
[{"$nulls":4},1]
[{"$nulls":3},"TEAM No.",{"$nulls":5},"Time",{"$nulls":7},"TEAM No."]
["Sign",null,null,{"$f":"DRAW!$C$15","v":0},{"$nulls":5},"Completed",{"$nulls":5},"Sign",null,{"$f":"DRAW!$C$16","v":0}]
["i",{"$nulls":14},"i"]
[{"$f":"Entries!$A$1","v":"2018 District 5 - Mixed Pairs"}]
["R O U N D  1"]
[null,null,"RINK",{"$nulls":5},"DATE"]
[null,null,{"$f":"DRAW!$F$15","v":0},{"$nulls":5},{"$f":"Entries!$A$2","v":"20th June 2018"}]
[]
[{"$f":"DRAW!$D$16","v":0},{"$nulls":10},"L",null,{"$f":"DRAW!$D$15","v":0}]
[]
[{"$f":"DRAW!$E$16","v":0},{"$nulls":10},"Sk",null,{"$f":"DRAW!$E$15","v":0}]
[]
[null,null,"First Set",{"$nulls":10},"Second Set"]
[null,null,{"$f":"DRAW!$E$16","v":0},{"$nulls":3},{"$f":"DRAW!$E$15","v":0},{"$nulls":6},{"$f":"DRAW!$E$16","v":0},{"$nulls":3},{"$f":"DRAW!$E$15","v":0}]
["End",null,"Shots",null,"Total",null,"Shots",null,"Total",{"$nulls":4},"Shots",null,"Total",null,"Shots",null,"Total"]
[1]
[2]
[3]
[4]
[5,{"$nulls":10},2,{"$nulls":10},1]
["Points",{"$nulls":3},"Tie Break",{"$nulls":14},"Points"]
[{"$nulls":4},"End",null,"Shots",{"$nulls":8},"Shots"]
[{"$nulls":4},1]
[{"$nulls":3},"TEAM No.",{"$nulls":5},"Time",{"$nulls":7},"TEAM No."]
["Sign",null,null,{"$f":"DRAW!$C$16","v":0},{"$nulls":5},"Completed",{"$nulls":5},"Sign",null,{"$f":"DRAW!$C$15","v":0}]
["i",{"$nulls":14},"i"]
[{"$f":"Entries!$A$1","v":"2018 District 5 - Mixed Pairs"}]
["R O U N D  1"]
[null,null,"RINK",{"$nulls":5},"DATE"]
[null,null,{"$f":"DRAW!$F$17","v":0},{"$nulls":5},{"$f":"Entries!$A$2","v":"20th June 2018"}]
[]
[{"$f":"DRAW!$D$18","v":0},{"$nulls":10},"L",null,{"$f":"DRAW!$D$17","v":0}]
[]
[{"$f":"DRAW!$E$18","v":0},{"$nulls":10},"Sk",null,{"$f":"DRAW!$E$17","v":0}]
[]
[null,null,"First Set",{"$nulls":10},"Second Set"]
[null,null,{"$f":"DRAW!$E$18","v":0},{"$nulls":3},{"$f":"DRAW!$E$17","v":0},{"$nulls":6},{"$f":"DRAW!$E$18","v":0},{"$nulls":3},{"$f":"DRAW!$E$17","v":0}]
["End",null,"Shots",null,"Total",null,"Shots",null,"Total",{"$nulls":4},"Shots",null,"Total",null,"Shots",null,"Total"]
[1]
[2]
[3]
[4]
[5,{"$nulls":10},2,{"$nulls":10},1]
["Points",{"$nulls":3},"Tie Break",{"$nulls":14},"Points"]
[{"$nulls":4},"End",null,"Shots",{"$nulls":8},"Shots"]
[{"$nulls":4},1]
[{"$nulls":3},"TEAM No.",{"$nulls":5},"Time",{"$nulls":7},"TEAM No."]
["Sign",null,null,{"$f":"DRAW!$C$18","v":0},{"$nulls":5},"Completed",{"$nulls":5},"Sign",null,{"$f":"DRAW!$C$17","v":0}]
["i",{"$nulls":14},"i"]
[{"$f":"Entries!$A$1","v":"2018 District 5 - Mixed Pairs"}]
["R O U N D  1"]
[null,null,"RINK",{"$nulls":5},"DATE"]
[null,null,{"$f":"DRAW!$F$17","v":0},{"$nulls":5},{"$f":"Entries!$A$2","v":"20th June 2018"}]
[]
[{"$f":"DRAW!$D$17","v":0},{"$nulls":10},"L",null,{"$f":"DRAW!$D$18","v":0}]
[]
[{"$f":"DRAW!$E$17","v":0},{"$nulls":10},"Sk",null,{"$f":"DRAW!$E$18","v":0}]
[]
[null,null,"First Set",{"$nulls":10},"Second Set"]
[null,null,{"$f":"DRAW!$E$17","v":0},{"$nulls":3},{"$f":"DRAW!$E$18","v":0},{"$nulls":6},{"$f":"DRAW!$E$17","v":0},{"$nulls":3},{"$f":"DRAW!$E$18","v":0}]
["End",null,"Shots",null,"Total",null,"Shots",null,"Total",{"$nulls":4},"Shots",null,"Total",null,"Shots",null,"Total"]
[1]
[2]
[3]
[4]
[5,{"$nulls":10},1,{"$nulls":10},1]
["Points",{"$nulls":3},"Tie Break",{"$nulls":14},"Points"]
[{"$nulls":4},"End",null,"Shots",{"$nulls":8},"Shots"]
[{"$nulls":4},1]
[{"$nulls":3},"TEAM No.",{"$nulls":5},"Time",{"$nulls":7},"TEAM No."]
["Sign",null,null,{"$f":"DRAW!$C$17","v":0},{"$nulls":5},"Completed",{"$nulls":5},"Sign",null,{"$f":"DRAW!$C$18","v":0}]
["i",{"$nulls":14},"i"]
[{"$f":"Entries!$A$1","v":"2018 District 5 - Mixed Pairs"}]
["R O U N D  1"]
[null,null,"RINK",{"$nulls":5},"DATE"]
[null,null,{"$f":"DRAW!$F$19","v":0},{"$nulls":5},{"$f":"Entries!$A$2","v":"20th June 2018"}]
[]
[{"$f":"DRAW!$D$19","v":0},{"$nulls":10},"L",null,{"$f":"DRAW!$D$20","v":0}]
[]
[{"$f":"DRAW!$E$19","v":0},{"$nulls":10},"Sk",null,{"$f":"DRAW!$E$20","v":0}]
[]
[null,null,"First Set",{"$nulls":10},"Second Set"]
[null,null,{"$f":"DRAW!$E$19","v":0},{"$nulls":3},{"$f":"DRAW!$E$20","v":0},{"$nulls":6},{"$f":"DRAW!$E$19","v":0},{"$nulls":3},{"$f":"DRAW!$E$20","v":0}]
["End",null,"Shots",null,"Total",null,"Shots",null,"Total",{"$nulls":4},"Shots",null,"Total",null,"Shots",null,"Total"]
[1]
[2]
[3]
[4]
[5,{"$nulls":10},2,{"$nulls":10},1]
["Points",{"$nulls":3},"Tie Break",{"$nulls":14},"Points"]
[{"$nulls":4},"End",null,"Shots",{"$nulls":8},"Shots"]
[{"$nulls":4},1]
[{"$nulls":3},"TEAM No.",{"$nulls":5},"Time",{"$nulls":7},"TEAM No."]
["Sign",null,null,{"$f":"DRAW!$C$19","v":0},{"$nulls":5},"Completed",{"$nulls":5},"Sign",null,{"$f":"DRAW!$C$20","v":0}]
["i",{"$nulls":14},"i"]
[{"$f":"Entries!$A$1","v":"2018 District 5 - Mixed Pairs"}]
["R O U N D  1"]
[null,null,"RINK",{"$nulls":5},"DATE"]
[null,null,{"$f":"DRAW!$F$19","v":0},{"$nulls":5},{"$f":"Entries!$A$2","v":"20th June 2018"}]
[]
[{"$f":"DRAW!$D$20","v":0},{"$nulls":10},"L",null,{"$f":"DRAW!$D$19","v":0}]
[]
[{"$f":"DRAW!$E$20","v":0},{"$nulls":10},"Sk",null,{"$f":"DRAW!$E$19","v":0}]
[]
[null,null,"First Set",{"$nulls":10},"Second Set"]
[null,null,{"$f":"DRAW!$E$20","v":0},{"$nulls":3},{"$f":"DRAW!$E$19","v":0},{"$nulls":6},{"$f":"DRAW!$E$20","v":0},{"$nulls":3},{"$f":"DRAW!$E$19","v":0}]
["End",null,"Shots",null,"Total",null,"Shots",null,"Total",{"$nulls":4},"Shots",null,"Total",null,"Shots",null,"Total"]
[1]
[2]
[3]
[4]
[5,{"$nulls":10},1,{"$nulls":10},1]
["Points",{"$nulls":3},"Tie Break",{"$nulls":14},"Points"]
[{"$nulls":4},"End",null,"Shots",{"$nulls":8},"Shots"]
[{"$nulls":4},1]
[{"$nulls":3},"TEAM No.",{"$nulls":5},"Time",{"$nulls":7},"TEAM No."]
["Sign",null,null,{"$f":"DRAW!$C$20","v":0},{"$nulls":5},"Completed",{"$nulls":5},"Sign",null,{"$f":"DRAW!$C$19","v":0}]
["i",{"$nulls":14},"i"]
[{"$f":"Entries!$A$1","v":"2018 District 5 - Mixed Pairs"}]
["R O U N D  1"]
[null,null,"RINK",{"$nulls":5},"DATE"]
[null,null,{"$f":"DRAW!$F$21","v":0},{"$nulls":5},{"$f":"Entries!$A$2","v":"20th June 2018"}]
[]
[{"$f":"DRAW!$D$21","v":0},{"$nulls":10},"L",null,{"$f":"DRAW!$D$22","v":0}]
[]
[{"$f":"DRAW!$E$21","v":0},{"$nulls":10},"Sk",null,{"$f":"DRAW!$E$22","v":0}]
[]
[null,null,"First Set",{"$nulls":10},"Second Set"]
[null,null,{"$f":"DRAW!$E$21","v":0},{"$nulls":3},{"$f":"DRAW!$E$22","v":0},{"$nulls":6},{"$f":"DRAW!$E$21","v":0},{"$nulls":3},{"$f":"DRAW!$E$22","v":0}]
["End",null,"Shots",null,"Total",null,"Shots",null,"Total",{"$nulls":4},"Shots",null,"Total",null,"Shots",null,"Total"]
[1]
[2]
[3]
[4]
[5,{"$nulls":10},2,{"$nulls":10},1]
["Points",{"$nulls":3},"Tie Break",{"$nulls":14},"Points"]
[{"$nulls":4},"End",null,"Shots",{"$nulls":8},"Shots"]
[{"$nulls":4},1]
[{"$nulls":3},"TEAM No.",{"$nulls":5},"Time",{"$nulls":7},"TEAM No."]
["Sign",null,null,{"$f":"DRAW!$C$21","v":0},{"$nulls":5},"Completed",{"$nulls":5},"Sign",null,{"$f":"DRAW!$C$22","v":0}]
["i",{"$nulls":14},"i"]
[{"$f":"Entries!$A$1","v":"2018 District 5 - Mixed Pairs"}]
["R O U N D  1"]
[null,null,"RINK",{"$nulls":5},"DATE"]
[null,null,{"$f":"DRAW!$F$21","v":0},{"$nulls":5},{"$f":"Entries!$A$2","v":"20th June 2018"}]
[]
[{"$f":"DRAW!$D$22","v":0},{"$nulls":10},"L",null,{"$f":"DRAW!$D$21","v":0}]
[]
[{"$f":"DRAW!$E$22","v":0},{"$nulls":10},"Sk",null,{"$f":"DRAW!$E$21","v":0}]
[]
[null,null,"First Set",{"$nulls":10},"Second Set"]
[null,null,{"$f":"DRAW!$E$22","v":0},{"$nulls":3},{"$f":"DRAW!$E$21","v":0},{"$nulls":6},{"$f":"DRAW!$E$22","v":0},{"$nulls":3},{"$f":"DRAW!$E$21","v":0}]
["End",null,"Shots",null,"Total",null,"Shots",null,"Total",{"$nulls":4},"Shots",null,"Total",null,"Shots",null,"Total"]
[1]
[2]
[3]
[4]
[5,{"$nulls":10},1,{"$nulls":10},1]
["Points",{"$nulls":3},"Tie Break",{"$nulls":14},"Points"]
[{"$nulls":4},"End",null,"Shots",{"$nulls":8},"Shots"]
[{"$nulls":4},1]
[{"$nulls":3},"TEAM No.",{"$nulls":5},"Time",{"$nulls":7},"TEAM No."]
["Sign",null,null,{"$f":"DRAW!$C$22","v":0},{"$nulls":5},"Completed",{"$nulls":5},"Sign",null,{"$f":"DRAW!$C$21","v":0}]
["i",{"$nulls":14},"i"]
[{"$f":"Entries!$A$1","v":"2018 District 5 - Mixed Pairs"}]
["R O U N D  1"]
[null,null,"RINK",{"$nulls":5},"DATE"]
[null,null,{"$f":"DRAW!$F$23","v":0},{"$nulls":5},{"$f":"Entries!$A$2","v":"20th June 2018"}]
[]
[{"$f":"DRAW!$D$23","v":0},{"$nulls":10},"L",null,{"$f":"DRAW!$D$24","v":0}]
[]
[{"$f":"DRAW!$E$23","v":0},{"$nulls":10},"Sk",null,{"$f":"DRAW!$E$24","v":0}]
[]
[null,null,"First Set",{"$nulls":10},"Second Set"]
[null,null,{"$f":"DRAW!$E$23","v":0},{"$nulls":3},{"$f":"DRAW!$E$24","v":0},{"$nulls":6},{"$f":"DRAW!$E$23","v":0},{"$nulls":3},{"$f":"DRAW!$E$24","v":0}]
["End",null,"Shots",null,"Total",null,"Shots",null,"Total",{"$nulls":4},"Shots",null,"Total",null,"Shots",null,"Total"]
[1]
[2]
[3]
[4]
[5,{"$nulls":10},1,{"$nulls":10},1]
["Points",{"$nulls":3},"Tie Break",{"$nulls":14},"Points"]
[{"$nulls":4},"End",null,"Shots",{"$nulls":8},"Shots"]
[{"$nulls":4},1]
[{"$nulls":3},"TEAM No.",{"$nulls":5},"Time",{"$nulls":7},"TEAM No."]
["Sign",null,null,{"$f":"DRAW!$C$23","v":0},{"$nulls":5},"Completed",{"$nulls":5},"Sign",null,{"$f":"DRAW!$C$24","v":0}]
["i",{"$nulls":14},"i"]
[{"$f":"Entries!$A$1","v":"2018 District 5 - Mixed Pairs"}]
["R O U N D  1"]
[null,null,"RINK",{"$nulls":5},"DATE"]
[null,null,{"$f":"DRAW!$F$23","v":0},{"$nulls":5},{"$f":"Entries!$A$2","v":"20th June 2018"}]
[]
[{"$f":"DRAW!$D$24","v":0},{"$nulls":10},"L",null,{"$f":"DRAW!$D$23","v":0}]
[]
[{"$f":"DRAW!$E$24","v":0},{"$nulls":10},"Sk",null,{"$f":"DRAW!$E$23","v":0}]
[]
[null,null,"First Set",{"$nulls":10},"Second Set"]
[null,null,{"$f":"DRAW!$E$24","v":0},{"$nulls":3},{"$f":"DRAW!$E$23","v":0},{"$nulls":6},{"$f":"DRAW!$E$24","v":0},{"$nulls":3},{"$f":"DRAW!$E$23","v":0}]
["End",null,"Shots",null,"Total",null,"Shots",null,"Total",{"$nulls":4},"Shots",null,"Total",null,"Shots",null,"Total"]
[1]
[2]
[3]
[4]
[5,{"$nulls":10},2,{"$nulls":10},1]
["Points",{"$nulls":3},"Tie Break",{"$nulls":14},"Points"]
[{"$nulls":4},"End",null,"Shots",{"$nulls":8},"Shots"]
[{"$nulls":4},1]
[{"$nulls":3},"TEAM No.",{"$nulls":5},"Time",{"$nulls":7},"TEAM No."]
["Sign",null,null,{"$f":"DRAW!$C$24","v":0},{"$nulls":5},"Completed",{"$nulls":5},"Sign",null,{"$f":"DRAW!$C$23","v":0}]
["i",{"$nulls":14},"i"]
[{"$f":"Entries!$A$1","v":"2018 District 5 - Mixed Pairs"}]
["R O U N D  1"]
[null,null,"RINK",{"$nulls":5},"DATE"]
[null,null,{"$f":"DRAW!$F$25","v":0},{"$nulls":5},{"$f":"Entries!$A$2","v":"20th June 2018"}]
[]
[{"$f":"DRAW!$D$25","v":0},{"$nulls":10},"L",null,{"$f":"DRAW!$D$26","v":0}]
[]
[{"$f":"DRAW!$E$25","v":0},{"$nulls":10},"Sk",null,{"$f":"DRAW!$E$26","v":0}]
[]
[null,null,"First Set",{"$nulls":10},"Second Set"]
[null,null,{"$f":"DRAW!$E$25","v":0},{"$nulls":3},{"$f":"DRAW!$E$26","v":0},{"$nulls":6},{"$f":"DRAW!$E$25","v":0},{"$nulls":3},{"$f":"DRAW!$E$26","v":0}]
["End",null,"Shots",null,"Total",null,"Shots",null,"Total",{"$nulls":4},"Shots",null,"Total",null,"Shots",null,"Total"]
[1]
[2]
[3]
[4]
[5,{"$nulls":10},1,{"$nulls":10},1]
["Points",{"$nulls":3},"Tie Break",{"$nulls":14},"Points"]
[{"$nulls":4},"End",null,"Shots",{"$nulls":8},"Shots"]
[{"$nulls":4},1]
[{"$nulls":3},"TEAM No.",{"$nulls":5},"Time",{"$nulls":7},"TEAM No."]
["Sign",null,null,{"$f":"DRAW!$C$25","v":0},{"$nulls":5},"Completed",{"$nulls":5},"Sign",null,{"$f":"DRAW!$C$26","v":0}]
["i",{"$nulls":14},"i"]
[{"$f":"Entries!$A$1","v":"2018 District 5 - Mixed Pairs"}]
["R O U N D  1"]
[null,null,"RINK",{"$nulls":5},"DATE"]
[null,null,{"$f":"DRAW!$F$25","v":0},{"$nulls":5},{"$f":"Entries!$A$2","v":"20th June 2018"}]
[]
[{"$f":"DRAW!$D$26","v":0},{"$nulls":10},"L",null,{"$f":"DRAW!$D$25","v":0}]
[]
[{"$f":"DRAW!$E$26","v":0},{"$nulls":10},"Sk",null,{"$f":"DRAW!$E$25","v":0}]
[]
[null,null,"First Set",{"$nulls":10},"Second Set"]
[null,null,{"$f":"DRAW!$E$26","v":0},{"$nulls":3},{"$f":"DRAW!$E$25","v":0},{"$nulls":6},{"$f":"DRAW!$E$26","v":0},{"$nulls":3},{"$f":"DRAW!$E$25","v":0}]
["End",null,"Shots",null,"Total",null,"Shots",null,"Total",{"$nulls":4},"Shots",null,"Total",null,"Shots",null,"Total"]
[1]
[2]
[3]
[4]
[5,{"$nulls":10},2,{"$nulls":10},1]
["Points",{"$nulls":3},"Tie Break",{"$nulls":14},"Points"]
[{"$nulls":4},"End",null,"Shots",{"$nulls":8},"Shots"]
[{"$nulls":4},1]
[{"$nulls":3},"TEAM No.",{"$nulls":5},"Time",{"$nulls":7},"TEAM No."]
["Sign",null,null,{"$f":"DRAW!$C$26","v":0},{"$nulls":5},"Completed",{"$nulls":5},"Sign",null,{"$f":"DRAW!$C$25","v":0}]
["i",{"$nulls":14},"i"]
[{"$f":"Entries!$A$1","v":"2018 District 5 - Mixed Pairs"}]
["R O U N D  1"]
[null,null,"RINK",{"$nulls":5},"DATE"]
[null,null,{"$f":"DRAW!$F$27","v":0},{"$nulls":5},{"$f":"Entries!$A$2","v":"20th June 2018"}]
[]
[{"$f":"DRAW!$D$27","v":0},{"$nulls":10},"L",null,{"$f":"DRAW!$D$28","v":0}]
[]
[{"$f":"DRAW!$E$27","v":0},{"$nulls":10},"Sk",null,{"$f":"DRAW!$E$28","v":0}]
[]
[null,null,"First Set",{"$nulls":10},"Second Set"]
[null,null,{"$f":"DRAW!$E$27","v":0},{"$nulls":3},{"$f":"DRAW!$E$28","v":0},{"$nulls":6},{"$f":"DRAW!$E$27","v":0},{"$nulls":3},{"$f":"DRAW!$E$28","v":0}]
["End",null,"Shots",null,"Total",null,"Shots",null,"Total",{"$nulls":4},"Shots",null,"Total",null,"Shots",null,"Total"]
[1]
[2]
[3]
[4]
[5,{"$nulls":10},1,{"$nulls":10},1]
["Points",{"$nulls":3},"Tie Break",{"$nulls":14},"Points"]
[{"$nulls":4},"End",null,"Shots",{"$nulls":8},"Shots"]
[{"$nulls":4},1]
[{"$nulls":3},"TEAM No.",{"$nulls":5},"Time",{"$nulls":7},"TEAM No."]
["Sign",null,null,{"$f":"DRAW!$C$27","v":0},{"$nulls":5},"Completed",{"$nulls":5},"Sign",null,{"$f":"DRAW!$C$28","v":0}]
["i",{"$nulls":14},"i"]
[{"$f":"Entries!$A$1","v":"2018 District 5 - Mixed Pairs"}]
["R O U N D  1"]
[null,null,"RINK",{"$nulls":5},"DATE"]
[null,null,{"$f":"DRAW!$F$27","v":0},{"$nulls":5},{"$f":"Entries!$A$2","v":"20th June 2018"}]
[]
[{"$f":"DRAW!$D$28","v":0},{"$nulls":10},"L",null,{"$f":"DRAW!$D$27","v":0}]
[]
[{"$f":"DRAW!$E$28","v":0},{"$nulls":10},"Sk",null,{"$f":"DRAW!$E$27","v":0}]
[]
[null,null,"First Set",{"$nulls":10},"Second Set"]
[null,null,{"$f":"DRAW!$E$28","v":0},{"$nulls":3},{"$f":"DRAW!$E$27","v":0},{"$nulls":6},{"$f":"DRAW!$E$28","v":0},{"$nulls":3},{"$f":"DRAW!$E$27","v":0}]
["End",null,"Shots",null,"Total",null,"Shots",null,"Total",{"$nulls":4},"Shots",null,"Total",null,"Shots",null,"Total"]
[1]
[2]
[3]
[4]
[5,{"$nulls":10},2,{"$nulls":10},1]
["Points",{"$nulls":3},"Tie Break",{"$nulls":14},"Points"]
[{"$nulls":4},"End",null,"Shots",{"$nulls":8},"Shots"]
[{"$nulls":4},1]
[{"$nulls":3},"TEAM No.",{"$nulls":5},"Time",{"$nulls":7},"TEAM No."]
["Sign",null,null,{"$f":"DRAW!$C$28","v":0},{"$nulls":5},"Completed",{"$nulls":5},"Sign",null,{"$f":"DRAW!$C$27","v":0}]
["i",{"$nulls":14},"i"]
[{"$f":"Entries!$A$1","v":"2018 District 5 - Mixed Pairs"}]
["R O U N D  1"]
[null,null,"RINK",{"$nulls":5},"DATE"]
[null,null,{"$f":"DRAW!$F$29","v":0},{"$nulls":5},{"$f":"Entries!$A$2","v":"20th June 2018"}]
[]
[{"$f":"DRAW!$D$29","v":0},{"$nulls":10},"L",null,{"$f":"DRAW!$D$30","v":0}]
[]
[{"$f":"DRAW!$E$29","v":0},{"$nulls":10},"Sk",null,{"$f":"DRAW!$E$30","v":0}]
[]
[null,null,"First Set",{"$nulls":10},"Second Set"]
[null,null,{"$f":"DRAW!$E$29","v":0},{"$nulls":3},{"$f":"DRAW!$E$30","v":0},{"$nulls":6},{"$f":"DRAW!$E$29","v":0},{"$nulls":3},{"$f":"DRAW!$E$30","v":0}]
["End",null,"Shots",null,"Total",null,"Shots",null,"Total",{"$nulls":4},"Shots",null,"Total",null,"Shots",null,"Total"]
[1]
[2]
[3]
[4]
[5,{"$nulls":10},1,{"$nulls":10},1]
["Points",{"$nulls":3},"Tie Break",{"$nulls":14},"Points"]
[{"$nulls":4},"End",null,"Shots",{"$nulls":8},"Shots"]
[{"$nulls":4},1]
[{"$nulls":3},"TEAM No.",{"$nulls":5},"Time",{"$nulls":7},"TEAM No."]
["Sign",null,null,{"$f":"DRAW!$C$29","v":0},{"$nulls":5},"Completed",{"$nulls":5},"Sign",null,{"$f":"DRAW!$C$30","v":0}]
["i",{"$nulls":14},"i"]
[{"$f":"Entries!$A$1","v":"2018 District 5 - Mixed Pairs"}]
["R O U N D  1"]
[null,null,"RINK",{"$nulls":5},"DATE"]
[null,null,{"$f":"DRAW!$F$29","v":0},{"$nulls":5},{"$f":"Entries!$A$2","v":"20th June 2018"}]
[]
[{"$f":"DRAW!$D$30","v":0},{"$nulls":10},"L",null,{"$f":"DRAW!$D$29","v":0}]
[]
[{"$f":"DRAW!$E$30","v":0},{"$nulls":10},"Sk",null,{"$f":"DRAW!$E$29","v":0}]
[]
[null,null,"First Set",{"$nulls":10},"Second Set"]
[null,null,{"$f":"DRAW!$E$30","v":0},{"$nulls":3},{"$f":"DRAW!$E$29","v":0},{"$nulls":6},{"$f":"DRAW!$E$30","v":0},{"$nulls":3},{"$f":"DRAW!$E$29","v":0}]
["End",null,"Shots",null,"Total",null,"Shots",null,"Total",{"$nulls":4},"Shots",null,"Total",null,"Shots",null,"Total"]
[1]
[2]
[3]
[4]
[5,{"$nulls":10},2,{"$nulls":10},1]
["Points",{"$nulls":3},"Tie Break",{"$nulls":14},"Points"]
[{"$nulls":4},"End",null,"Shots",{"$nulls":8},"Shots"]
[{"$nulls":4},1]
[{"$nulls":3},"TEAM No.",{"$nulls":5},"Time",{"$nulls":7},"TEAM No."]
["Sign",null,null,{"$f":"DRAW!$C$30","v":0},{"$nulls":5},"Completed",{"$nulls":5},"Sign",null,{"$f":"DRAW!$C$29","v":0}]
["i",{"$nulls":14},"i"]
[{"$f":"Entries!$A$1","v":"2018 District 5 - Mixed Pairs"}]
["R O U N D  1"]
[null,null,"RINK",{"$nulls":5},"DATE"]
[null,null,{"$f":"DRAW!$F$31","v":0},{"$nulls":5},{"$f":"Entries!$A$2","v":"20th June 2018"}]
[]
[{"$f":"DRAW!$D$31","v":0},{"$nulls":10},"L",null,{"$f":"DRAW!$D$32","v":0}]
[]
[{"$f":"DRAW!$E$31","v":0},{"$nulls":10},"Sk",null,{"$f":"DRAW!$E$32","v":0}]
[]
[null,null,"First Set",{"$nulls":10},"Second Set"]
[null,null,{"$f":"DRAW!$E$31","v":0},{"$nulls":3},{"$f":"DRAW!$E$32","v":0},{"$nulls":6},{"$f":"DRAW!$E$31","v":0},{"$nulls":3},{"$f":"DRAW!$E$32","v":0}]
["End",null,"Shots",null,"Total",null,"Shots",null,"Total",{"$nulls":4},"Shots",null,"Total",null,"Shots",null,"Total"]
[1]
[2]
[3]
[4]
[5,{"$nulls":10},1,{"$nulls":10},1]
["Points",{"$nulls":3},"Tie Break",{"$nulls":14},"Points"]
[{"$nulls":4},"End",null,"Shots",{"$nulls":8},"Shots"]
[{"$nulls":4},1]
[{"$nulls":3},"TEAM No.",{"$nulls":5},"Time",{"$nulls":7},"TEAM No."]
["Sign",null,null,{"$f":"DRAW!$C$31","v":0},{"$nulls":5},"Completed",{"$nulls":5},"Sign",null,{"$f":"DRAW!$C$32","v":0}]
["i",{"$nulls":14},"i"]
[{"$f":"Entries!$A$1","v":"2018 District 5 - Mixed Pairs"}]
["R O U N D  1"]
[null,null,"RINK",{"$nulls":5},"DATE"]
[null,null,{"$f":"DRAW!$F$31","v":0},{"$nulls":5},{"$f":"Entries!$A$2","v":"20th June 2018"}]
[]
[{"$f":"DRAW!$D$32","v":0},{"$nulls":10},"L",null,{"$f":"DRAW!$D$31","v":0}]
[]
[{"$f":"DRAW!$E$32","v":0},{"$nulls":10},"Sk",null,{"$f":"DRAW!$E$31","v":0}]
[]
[null,null,"First Set",{"$nulls":10},"Second Set"]
[null,null,{"$f":"DRAW!$E$32","v":0},{"$nulls":3},{"$f":"DRAW!$E$31","v":0},{"$nulls":6},{"$f":"DRAW!$E$32","v":0},{"$nulls":3},{"$f":"DRAW!$E$31","v":0}]
["End",null,"Shots",null,"Total",null,"Shots",null,"Total",{"$nulls":4},"Shots",null,"Total",null,"Shots",null,"Total"]
[1]
[2]
[3]
[4]
[5,{"$nulls":10},2,{"$nulls":10},1]
["Points",{"$nulls":3},"Tie Break",{"$nulls":14},"Points"]
[{"$nulls":4},"End",null,"Shots",{"$nulls":8},"Shots"]
[{"$nulls":4},1]
[{"$nulls":3},"TEAM No.",{"$nulls":5},"Time",{"$nulls":7},"TEAM No."]
["Sign",null,null,{"$f":"DRAW!$C$32","v":0},{"$nulls":5},"Completed",{"$nulls":5},"Sign",null,{"$f":"DRAW!$C$31","v":0}]
["i",{"$nulls":14},"i"]
[{"$f":"Entries!$A$1","v":"2018 District 5 - Mixed Pairs"}]
["R O U N D  1"]
[null,null,"RINK",{"$nulls":5},"DATE"]
[null,null,{"$f":"DRAW!$F$33","v":0},{"$nulls":5},{"$f":"Entries!$A$2","v":"20th June 2018"}]
[]
[{"$f":"DRAW!$D$33","v":0},{"$nulls":10},"L",null,{"$f":"DRAW!$D$34","v":0}]
[]
[{"$f":"DRAW!$E$33","v":0},{"$nulls":10},"Sk",null,{"$f":"DRAW!$E$34","v":0}]
[]
[null,null,"First Set",{"$nulls":10},"Second Set"]
[null,null,{"$f":"DRAW!$E$33","v":0},{"$nulls":3},{"$f":"DRAW!$E$34","v":0},{"$nulls":6},{"$f":"DRAW!$E$33","v":0},{"$nulls":3},{"$f":"DRAW!$E$34","v":0}]
["End",null,"Shots",null,"Total",null,"Shots",null,"Total",{"$nulls":4},"Shots",null,"Total",null,"Shots",null,"Total"]
[1]
[2]
[3]
[4]
[5,{"$nulls":10},1,{"$nulls":10},1]
["Points",{"$nulls":3},"Tie Break",{"$nulls":14},"Points"]
[{"$nulls":4},"End",null,"Shots",{"$nulls":8},"Shots"]
[{"$nulls":4},1]
[{"$nulls":3},"TEAM No.",{"$nulls":5},"Time",{"$nulls":7},"TEAM No."]
["Sign",null,null,{"$f":"DRAW!$C$33","v":0},{"$nulls":5},"Completed",{"$nulls":5},"Sign",null,{"$f":"DRAW!$C$34","v":0}]
["i",{"$nulls":14},"i"]
[{"$f":"Entries!$A$1","v":"2018 District 5 - Mixed Pairs"}]
["R O U N D  1"]
[null,null,"RINK",{"$nulls":5},"DATE"]
[null,null,{"$f":"DRAW!$F$33","v":0},{"$nulls":5},{"$f":"Entries!$A$2","v":"20th June 2018"}]
[]
[{"$f":"DRAW!$D$34","v":0},{"$nulls":10},"L",null,{"$f":"DRAW!$D$33","v":0}]
[]
[{"$f":"DRAW!$E$34","v":0},{"$nulls":10},"Sk",null,{"$f":"DRAW!$E$33","v":0}]
[]
[null,null,"First Set",{"$nulls":10},"Second Set"]
[null,null,{"$f":"DRAW!$E$34","v":0},{"$nulls":3},{"$f":"DRAW!$E$33","v":0},{"$nulls":6},{"$f":"DRAW!$E$34","v":0},{"$nulls":3},{"$f":"DRAW!$E$33","v":0}]
["End",null,"Shots",null,"Total",null,"Shots",null,"Total",{"$nulls":4},"Shots",null,"Total",null,"Shots",null,"Total"]
[1]
[2]
[3]
[4]
[5,{"$nulls":10},2,{"$nulls":10},1]
["Points",{"$nulls":3},"Tie Break",{"$nulls":14},"Points"]
[{"$nulls":4},"End",null,"Shots",{"$nulls":8},"Shots"]
[{"$nulls":4},1]
[{"$nulls":3},"TEAM No.",{"$nulls":5},"Time",{"$nulls":7},"TEAM No."]
["Sign",null,null,{"$f":"DRAW!$C$34","v":0},{"$nulls":5},"Completed",{"$nulls":5},"Sign",null,{"$f":"DRAW!$C$33","v":0}]
["i",{"$nulls":14},"i"]
[{"$f":"Entries!$A$1","v":"2018 District 5 - Mixed Pairs"}]
["R O U N D  1"]
[null,null,"RINK",{"$nulls":5},"DATE"]
[null,null,{"$f":"DRAW!$F$35","v":0},{"$nulls":5},{"$f":"Entries!$A$2","v":"20th June 2018"}]
[]
[{"$f":"DRAW!$D$35","v":0},{"$nulls":10},"L",null,{"$f":"DRAW!$D$36","v":0}]
[]
[{"$f":"DRAW!$E$35","v":0},{"$nulls":10},"Sk",null,{"$f":"DRAW!$E$36","v":0}]
[]
[null,null,"First Set",{"$nulls":10},"Second Set"]
[null,null,{"$f":"DRAW!$E$35","v":0},{"$nulls":3},{"$f":"DRAW!$E$36","v":0},{"$nulls":6},{"$f":"DRAW!$E$35","v":0},{"$nulls":3},{"$f":"DRAW!$E$36","v":0}]
["End",null,"Shots",null,"Total",null,"Shots",null,"Total",{"$nulls":4},"Shots",null,"Total",null,"Shots",null,"Total"]
[1]
[2]
[3]
[4]
[5,{"$nulls":10},1,{"$nulls":10},1]
["Points",{"$nulls":3},"Tie Break",{"$nulls":14},"Points"]
[{"$nulls":4},"End",null,"Shots",{"$nulls":8},"Shots"]
[{"$nulls":4},1]
[{"$nulls":3},"TEAM No.",{"$nulls":5},"Time",{"$nulls":7},"TEAM No."]
["Sign",null,null,{"$f":"DRAW!$C$35","v":0},{"$nulls":5},"Completed",{"$nulls":5},"Sign",null,{"$f":"DRAW!$C$36","v":0}]
["i",{"$nulls":14},"i"]
[{"$f":"Entries!$A$1","v":"2018 District 5 - Mixed Pairs"}]
["R O U N D  1"]
[null,null,"RINK",{"$nulls":5},"DATE"]
[null,null,{"$f":"DRAW!$F$35","v":0},{"$nulls":5},{"$f":"Entries!$A$2","v":"20th June 2018"}]
[]
[{"$f":"DRAW!$D$36","v":0},{"$nulls":10},"L",null,{"$f":"DRAW!$D$35","v":0}]
[]
[{"$f":"DRAW!$E$36","v":0},{"$nulls":10},"Sk",null,{"$f":"DRAW!$E$35","v":0}]
[]
[null,null,"First Set",{"$nulls":10},"Second Set"]
[null,null,{"$f":"DRAW!$E$36","v":0},{"$nulls":3},{"$f":"DRAW!$E$35","v":0},{"$nulls":6},{"$f":"DRAW!$E$36","v":0},{"$nulls":3},{"$f":"DRAW!$E$35","v":0}]
["End",null,"Shots",null,"Total",null,"Shots",null,"Total",{"$nulls":4},"Shots",null,"Total",null,"Shots",null,"Total"]
[1]
[2]
[3]
[4]
[5,{"$nulls":10},2,{"$nulls":10},1]
["Points",{"$nulls":3},"Tie Break",{"$nulls":14},"Points"]
[{"$nulls":4},"End",null,"Shots",{"$nulls":8},"Shots"]
[{"$nulls":4},1]
[{"$nulls":3},"TEAM No.",{"$nulls":5},"Time",{"$nulls":7},"TEAM No."]
["Sign",null,null,{"$f":"DRAW!$C$36","v":0},{"$nulls":5},"Completed",{"$nulls":5},"Sign",null,{"$f":"DRAW!$C$35","v":0}]
["i",{"$nulls":14},"i"]
[{"$f":"Entries!$A$1","v":"2018 District 5 - Mixed Pairs"}]
["R O U N D  1"]
[null,null,"RINK",{"$nulls":5},"DATE"]
[null,null,{"$f":"DRAW!$F$37","v":0},{"$nulls":5},{"$f":"Entries!$A$2","v":"20th June 2018"}]
[]
[{"$f":"DRAW!$D$37","v":0},{"$nulls":10},"L",null,{"$f":"DRAW!$D$38","v":0}]
[]
[{"$f":"DRAW!$E$37","v":0},{"$nulls":10},"Sk",null,{"$f":"DRAW!$E$38","v":0}]
[]
[null,null,"First Set",{"$nulls":10},"Second Set"]
[null,null,{"$f":"DRAW!$E$37","v":0},{"$nulls":3},{"$f":"DRAW!$E$38","v":0},{"$nulls":6},{"$f":"DRAW!$E$37","v":0},{"$nulls":3},{"$f":"DRAW!$E$38","v":0}]
["End",null,"Shots",null,"Total",null,"Shots",null,"Total",{"$nulls":4},"Shots",null,"Total",null,"Shots",null,"Total"]
[1]
[2]
[3]
[4]
[5,{"$nulls":10},1,{"$nulls":10},1]
["Points",{"$nulls":3},"Tie Break",{"$nulls":14},"Points"]
[{"$nulls":4},"End",null,"Shots",{"$nulls":8},"Shots"]
[{"$nulls":4},1]
[{"$nulls":3},"TEAM No.",{"$nulls":5},"Time",{"$nulls":7},"TEAM No."]
["Sign",null,null,{"$f":"DRAW!$C$37","v":0},{"$nulls":5},"Completed",{"$nulls":5},"Sign",null,{"$f":"DRAW!$C$38","v":0}]
["i",{"$nulls":14},"i"]
[{"$f":"Entries!$A$1","v":"2018 District 5 - Mixed Pairs"}]
["R O U N D  1"]
[null,null,"RINK",{"$nulls":5},"DATE"]
[null,null,{"$f":"DRAW!$F$37","v":0},{"$nulls":5},{"$f":"Entries!$A$2","v":"20th June 2018"}]
[]
[{"$f":"DRAW!$D$38","v":0},{"$nulls":10},"L",null,{"$f":"DRAW!$D$37","v":0}]
[]
[{"$f":"DRAW!$E$38","v":0},{"$nulls":10},"Sk",null,{"$f":"DRAW!$E$37","v":0}]
[]
[null,null,"First Set",{"$nulls":10},"Second Set"]
[null,null,{"$f":"DRAW!$E$38","v":0},{"$nulls":3},{"$f":"DRAW!$E$37","v":0},{"$nulls":6},{"$f":"DRAW!$E$38","v":0},{"$nulls":3},{"$f":"DRAW!$E$37","v":0}]
["End",null,"Shots",null,"Total",null,"Shots",null,"Total",{"$nulls":4},"Shots",null,"Total",null,"Shots",null,"Total"]
[1]
[2]
[3]
[4]
[5,{"$nulls":10},2,{"$nulls":10},1]
["Points",{"$nulls":3},"Tie Break",{"$nulls":14},"Points"]
[{"$nulls":4},"End",null,"Shots",{"$nulls":8},"Shots"]
[{"$nulls":4},1]
[{"$nulls":3},"TEAM No.",{"$nulls":5},"Time",{"$nulls":7},"TEAM No."]
["Sign",null,null,{"$f":"DRAW!$C$38","v":0},{"$nulls":5},"Completed",{"$nulls":5},"Sign",null,{"$f":"DRAW!$C$37","v":0}]
["i",{"$nulls":14},"i"]
[{"$f":"Entries!$A$1","v":"2018 District 5 - Mixed Pairs"}]
["R O U N D  1"]
[null,null,"RINK",{"$nulls":5},"DATE"]
[null,null,{"$f":"DRAW!$F$39","v":0},{"$nulls":5},{"$f":"Entries!$A$2","v":"20th June 2018"}]
[]
[{"$f":"DRAW!$D$39","v":0},{"$nulls":10},"L",null,{"$f":"DRAW!$D$40","v":0}]
[]
[{"$f":"DRAW!$E$39","v":0},{"$nulls":10},"Sk",null,{"$f":"DRAW!$E$40","v":0}]
[]
[null,null,"First Set",{"$nulls":10},"Second Set"]
[null,null,{"$f":"DRAW!$E$39","v":0},{"$nulls":3},{"$f":"DRAW!$E$40","v":0},{"$nulls":6},{"$f":"DRAW!$E$39","v":0},{"$nulls":3},{"$f":"DRAW!$E$40","v":0}]
["End",null,"Shots",null,"Total",null,"Shots",null,"Total",{"$nulls":4},"Shots",null,"Total",null,"Shots",null,"Total"]
[1]
[2]
[3]
[4]
[5,{"$nulls":10},1,{"$nulls":10},1]
["Points",{"$nulls":3},"Tie Break",{"$nulls":14},"Points"]
[{"$nulls":4},"End",null,"Shots",{"$nulls":8},"Shots"]
[{"$nulls":4},1]
[{"$nulls":3},"TEAM No.",{"$nulls":5},"Time",{"$nulls":7},"TEAM No."]
["Sign",null,null,{"$f":"DRAW!$C$39","v":0},{"$nulls":5},"Completed",{"$nulls":5},"Sign",null,{"$f":"DRAW!$C$40","v":0}]
["i",{"$nulls":14},"i"]
[{"$f":"Entries!$A$1","v":"2018 District 5 - Mixed Pairs"}]
["R O U N D  1"]
[null,null,"RINK",{"$nulls":5},"DATE"]
[null,null,{"$f":"DRAW!$F$39","v":0},{"$nulls":5},{"$f":"Entries!$A$2","v":"20th June 2018"}]
[]
[{"$f":"DRAW!$D$40","v":0},{"$nulls":10},"L",null,{"$f":"DRAW!$D$39","v":0}]
[]
[{"$f":"DRAW!$E$40","v":0},{"$nulls":10},"Sk",null,{"$f":"DRAW!$E$39","v":0}]
[]
[null,null,"First Set",{"$nulls":10},"Second Set"]
[null,null,{"$f":"DRAW!$E$40","v":0},{"$nulls":3},{"$f":"DRAW!$E$39","v":0},{"$nulls":6},{"$f":"DRAW!$E$40","v":0},{"$nulls":3},{"$f":"DRAW!$E$39","v":0}]
["End",null,"Shots",null,"Total",null,"Shots",null,"Total",{"$nulls":4},"Shots",null,"Total",null,"Shots",null,"Total"]
[1]
[2]
[3]
[4]
[5,{"$nulls":10},2,{"$nulls":10},1]
["Points",{"$nulls":3},"Tie Break",{"$nulls":14},"Points"]
[{"$nulls":4},"End",null,"Shots",{"$nulls":8},"Shots"]
[{"$nulls":4},1]
[{"$nulls":3},"TEAM No.",{"$nulls":5},"Time",{"$nulls":7},"TEAM No."]
["Sign",null,null,{"$f":"DRAW!$C$40","v":0},{"$nulls":5},"Completed",{"$nulls":5},"Sign",null,{"$f":"DRAW!$C$39","v":0}]
["i",{"$nulls":14},"i"]
[{"$f":"Entries!$A$1","v":"2018 District 5 - Mixed Pairs"}]
["R O U N D  1"]
[null,null,"RINK",{"$nulls":5},"DATE"]
[null,null,{"$f":"DRAW!$F$41","v":0},{"$nulls":5},{"$f":"Entries!$A$2","v":"20th June 2018"}]
[]
[{"$f":"DRAW!$D$41","v":0},{"$nulls":10},"L",null,{"$f":"DRAW!$D$42","v":0}]
[]
[{"$f":"DRAW!$E$41","v":0},{"$nulls":10},"Sk",null,{"$f":"DRAW!$E$42","v":0}]
[]
[null,null,"First Set",{"$nulls":10},"Second Set"]
[null,null,{"$f":"DRAW!$E$41","v":0},{"$nulls":3},{"$f":"DRAW!$E$42","v":0},{"$nulls":6},{"$f":"DRAW!$E$41","v":0},{"$nulls":3},{"$f":"DRAW!$E$42","v":0}]
["End",null,"Shots",null,"Total",null,"Shots",null,"Total",{"$nulls":4},"Shots",null,"Total",null,"Shots",null,"Total"]
[1]
[2]
[3]
[4]
[5,{"$nulls":10},1,{"$nulls":10},1]
["Points",{"$nulls":3},"Tie Break",{"$nulls":14},"Points"]
[{"$nulls":4},"End",null,"Shots",{"$nulls":8},"Shots"]
[{"$nulls":4},1]
[{"$nulls":3},"TEAM No.",{"$nulls":5},"Time",{"$nulls":7},"TEAM No."]
["Sign",null,null,{"$f":"DRAW!$C$41","v":0},{"$nulls":5},"Completed",{"$nulls":5},"Sign",null,{"$f":"DRAW!$C$42","v":0}]
["i",{"$nulls":14},"i"]
[{"$f":"Entries!$A$1","v":"2018 District 5 - Mixed Pairs"}]
["R O U N D  1"]
[null,null,"RINK",{"$nulls":5},"DATE"]
[null,null,{"$f":"DRAW!$F$41","v":0},{"$nulls":5},{"$f":"Entries!$A$2","v":"20th June 2018"}]
[]
[{"$f":"DRAW!$D$42","v":0},{"$nulls":10},"L",null,{"$f":"DRAW!$D$41","v":0}]
[]
[{"$f":"DRAW!$E$42","v":0},{"$nulls":10},"Sk",null,{"$f":"DRAW!$E$41","v":0}]
[]
[null,null,"First Set",{"$nulls":10},"Second Set"]
[null,null,{"$f":"DRAW!$E$42","v":0},{"$nulls":3},{"$f":"DRAW!$E$41","v":0},{"$nulls":6},{"$f":"DRAW!$E$42","v":0},{"$nulls":3},{"$f":"DRAW!$E$41","v":0}]
["End",null,"Shots",null,"Total",null,"Shots",null,"Total",{"$nulls":4},"Shots",null,"Total",null,"Shots",null,"Total"]
[1]
[2]
[3]
[4]
[5,{"$nulls":10},2,{"$nulls":10},1]
["Points",{"$nulls":3},"Tie Break",{"$nulls":14},"Points"]
[{"$nulls":4},"End",null,"Shots",{"$nulls":8},"Shots"]
[{"$nulls":4},1]
[{"$nulls":3},"TEAM No.",{"$nulls":5},"Time",{"$nulls":7},"TEAM No."]
["Sign",null,null,{"$f":"DRAW!$C$42","v":0},{"$nulls":5},"Completed",{"$nulls":5},"Sign",null,{"$f":"DRAW!$C$41","v":0}]
["i",{"$nulls":14},"i"]
[{"$f":"Entries!$A$1","v":"2018 District 5 - Mixed Pairs"}]
["R O U N D  1"]
[null,null,"RINK",{"$nulls":5},"DATE"]
[null,null,{"$f":"DRAW!$F$43","v":0},{"$nulls":5},{"$f":"Entries!$A$2","v":"20th June 2018"}]
[]
[{"$f":"DRAW!$D$43","v":0},{"$nulls":10},"L",null,{"$f":"DRAW!$D$44","v":0}]
[]
[{"$f":"DRAW!$E$43","v":0},{"$nulls":10},"Sk",null,{"$f":"DRAW!$E$44","v":0}]
[]
[null,null,"First Set",{"$nulls":10},"Second Set"]
[null,null,{"$f":"DRAW!$E$43","v":0},{"$nulls":3},{"$f":"DRAW!$E$44","v":0},{"$nulls":6},{"$f":"DRAW!$E$43","v":0},{"$nulls":3},{"$f":"DRAW!$E$44","v":0}]
["End",null,"Shots",null,"Total",null,"Shots",null,"Total",{"$nulls":4},"Shots",null,"Total",null,"Shots",null,"Total"]
[1]
[2]
[3]
[4]
[5,{"$nulls":10},1,{"$nulls":10},1]
["Points",{"$nulls":3},"Tie Break",{"$nulls":14},"Points"]
[{"$nulls":4},"End",null,"Shots",{"$nulls":8},"Shots"]
[{"$nulls":4},1]
[{"$nulls":3},"TEAM No.",{"$nulls":5},"Time",{"$nulls":7},"TEAM No."]
["Sign",null,null,{"$f":"DRAW!$C$43","v":0},{"$nulls":5},"Completed",{"$nulls":5},"Sign",null,{"$f":"DRAW!$C$44","v":0}]
["i",{"$nulls":14},"i"]
[{"$f":"Entries!$A$1","v":"2018 District 5 - Mixed Pairs"}]
["R O U N D  1"]
[null,null,"RINK",{"$nulls":5},"DATE"]
[null,null,{"$f":"DRAW!$F$43","v":0},{"$nulls":5},{"$f":"Entries!$A$2","v":"20th June 2018"}]
[]
[{"$f":"DRAW!$D$44","v":0},{"$nulls":10},"L",null,{"$f":"DRAW!$D$43","v":0}]
[]
[{"$f":"DRAW!$E$44","v":0},{"$nulls":10},"Sk",null,{"$f":"DRAW!$E$43","v":0}]
[]
[null,null,"First Set",{"$nulls":10},"Second Set"]
[null,null,{"$f":"DRAW!$E$44","v":0},{"$nulls":3},{"$f":"DRAW!$E$43","v":0},{"$nulls":6},{"$f":"DRAW!$E$44","v":0},{"$nulls":3},{"$f":"DRAW!$E$43","v":0}]
["End",null,"Shots",null,"Total",null,"Shots",null,"Total",{"$nulls":4},"Shots",null,"Total",null,"Shots",null,"Total"]
[1]
[2]
[3]
[4]
[5,{"$nulls":10},2,{"$nulls":10},1]
["Points",{"$nulls":3},"Tie Break",{"$nulls":14},"Points"]
[{"$nulls":4},"End",null,"Shots",{"$nulls":8},"Shots"]
[{"$nulls":4},1]
[{"$nulls":3},"TEAM No.",{"$nulls":5},"Time",{"$nulls":7},"TEAM No."]
["Sign",null,null,{"$f":"DRAW!$C$44","v":0},{"$nulls":5},"Completed",{"$nulls":5},"Sign",null,{"$f":"DRAW!$C$43","v":0}]
["i",{"$nulls":14},"i"]

{"sheet":"R 2 cds","index":11,"n_rows":920,"n_cols":23,"rows_kept":920,"merged":[[0,0,0,23],[1,0,1,23],[2,2,2,6],[2,8,2,23],[3,2,3,6],[3,8,3,23],[5,0,5,10],[5,11,5,12],[5,13,5,23],[7,0,7,10],[7,11,7,12],[7,13,7,23],[9,2,9,10],[9,13,9,21],[10,2,10,5],[10,6,10,10],[10,13,10,16],[10,17,10,21],[11,0,11,1],[11,2,11,3],[11,4,11,5],[11,6,11,7],[11,8,11,10],[11,13,11,14],[11,15,11,16],[11,17,11,18],[11,19,11,21],[12,0,12,1],[12,2,12,3],[12,4,12,5],[12,6,12,7],[12,8,12,10],[12,13,12,14],[12,15,12,16],[12,17,12,18],[12,19,12,21],[13,0,13,1],[13,2,13,3],[13,4,13,5],[13,6,13,7],[13,8,13,10],[13,13,13,14],[13,15,13,16],[13,17,13,18],[13,19,13,21],[14,0,14,1],[14,2,14,3],[14,4,14,5],[14,6,14,7],[14,8,14,10],[14,13,14,14],[14,15,14,16],[14,17,14,18],[14,19,14,21],[15,0,15,1],[15,2,15,3],[15,4,15,5],[15,6,15,7],[15,8,15,10],[15,13,15,14],[15,15,15,16],[15,17,15,18],[15,19,15,21],[16,0,16,1],[16,2,16,3],[16,4,16,5],[16,6,16,7],[16,8,16,10],[16,11,16,12],[16,13,16,14],[16,15,16,16],[16,17,16,18],[16,19,16,21],[16,22,16,23],[17,0,17,2],[17,4,17,18],[17,19,17,23],[18,0,19,2],[18,4,18,5],[18,6,18,8],[18,15,18,17],[18,19,19,23],[19,4,19,5],[19,6,19,8],[19,15,19,17],[20,3,20,6],[20,9,20,14],[20,17,20,21],[21,0,21,1],[21,3,22,6],[21,9,21,14],[21,15,21,16],[21,17,22,21],[22,0,22,1],[22,15,22,16],[23,0,23,23],[24,0,24,23],[25,2,25,6],[25,8,25,23],[26,2,26,6],[26,8,26,23],[28,0,28,10],[28,11,28,12],[28,13,28,23],[30,0,30,10],[30,11,30,12],[30,13,30,23],[32,2,32,10],[32,13,32,21],[33,2,33,5],[33,6,33,10],[33,13,33,16],[33,17,33,21],[34,0,34,1],[34,2,34,3],[34,4,34,5],[34,6,34,7],[34,8,34,10],[34,13,34,14],[34,15,34,16],[34,17,34,18],[34,19,34,21],[35,0,35,1],[35,2,35,3],[35,4,35,5],[35,6,35,7],[35,8,35,10],[35,13,35,14],[35,15,35,16],[35,17,35,18],[35,19,35,21],[36,0,36,1],[36,2,36,3],[36,4,36,5],[36,6,36,7],[36,8,36,10],[36,13,36,14],[36,15,36,16],[36,17,36,18],[36,19,36,21],[37,0,37,1],[37,2,37,3],[37,4,37,5],[37,6,37,7],[37,8,37,10],[37,13,37,14],[37,15,37,16],[37,17,37,18],[37,19,37,21],[38,0,38,1],[38,2,38,3],[38,4,38,5],[38,6,38,7],[38,8,38,10],[38,13,38,14],[38,15,38,16],[38,17,38,18],[38,19,38,21],[39,0,39,1],[39,2,39,3],[39,4,39,5],[39,6,39,7],[39,8,39,10],[39,11,39,12],[39,13,39,14],[39,15,39,16],[39,17,39,18],[39,19,39,21],[39,22,39,23],[40,0,40,2],[40,4,40,18],[40,19,40,23],[41,4,41,5],[41,6,41,8],[41,15,41,17],[41,19,42,23],[42,4,42,5],[42,6,42,8],[43,3,43,6],[43,9,43,14],[43,17,43,21],[44,0,44,1],[44,3,45,6],[44,9,44,14],[44,15,44,16],[44,17,45,21],[45,0,45,1],[45,15,45,16],[46,0,46,23],[47,0,47,23],[48,2,48,6],[48,8,48,23],[49,2,49,6],[49,8,49,23],[51,0,51,10],[51,11,51,12],[51,13,51,23],[53,0,53,10],[53,11,53,12],[53,13,53,23],[55,2,55,10],[55,13,55,21],[56,2,56,5],[56,6,56,10],[56,13,56,16],[56,17,56,21],[57,0,57,1],[57,2,57,3],[57,4,57,5],[57,6,57,7],[57,8,57,10],[57,13,57,14],[57,15,57,16],[57,17,57,18],[57,19,57,21],[58,0,58,1],[58,2,58,3],[58,4,58,5],[58,6,58,7],[58,8,58,10],[58,13,58,14],[58,15,58,16],[58,17,58,18],[58,19,58,21],[59,0,59,1],[59,2,59,3],[59,4,59,5],[59,6,59,7],[59,8,59,10],[59,13,59,14],[59,15,59,16],[59,17,59,18],[59,19,59,21],[60,0,60,1],[60,2,60,3],[60,4,60,5],[60,6,60,7],[60,8,60,10],[60,13,60,14],[60,15,60,16],[60,17,60,18],[60,19,60,21],[61,0,61,1],[61,2,61,3],[61,4,61,5],[61,6,61,7],[61,8,61,10],[61,13,61,14],[61,15,61,16],[61,17,61,18],[61,19,61,21],[62,0,62,1],[62,2,62,3],[62,4,62,5],[62,6,62,7],[62,8,62,10],[62,11,62,12],[62,13,62,14],[62,15,62,16],[62,17,62,18],[62,19,62,21],[62,22,62,23],[63,0,63,2],[63,4,63,18],[63,19,63,23],[64,4,64,5],[64,6,64,8],[64,15,64,17],[64,19,65,23],[65,4,65,5],[65,6,65,8],[66,3,66,6],[66,9,66,14],[66,17,66,21],[67,0,67,1],[67,3,68,6],[67,9,67,14],[67,15,67,16],[67,17,68,21],[68,0,68,1],[68,15,68,16],[69,0,69,23],[70,0,70,23],[71,2,71,6],[71,8,71,23],[72,2,72,6],[72,8,72,23],[74,0,74,10],[74,11,74,12],[74,13,74,23],[76,0,76,10],[76,11,76,12],[76,13,76,23],[78,2,78,10],[78,13,78,21],[79,2,79,5],[79,6,79,10],[79,13,79,16],[79,17,79,21],[80,0,80,1],[80,2,80,3],[80,4,80,5],[80,6,80,7],[80,8,80,10],[80,13,80,14],[80,15,80,16],[80,17,80,18],[80,19,80,21],[81,0,81,1],[81,2,81,3],[81,4,81,5],[81,6,81,7],[81,8,81,10],[81,13,81,14],[81,15,81,16],[81,17,81,18],[81,19,81,21],[82,0,82,1],[82,2,82,3],[82,4,82,5],[82,6,82,7],[82,8,82,10],[82,13,82,14],[82,15,82,16],[82,17,82,18],[82,19,82,21],[83,0,83,1],[83,2,83,3],[83,4,83,5],[83,6,83,7],[83,8,83,10],[83,13,83,14],[83,15,83,16],[83,17,83,18],[83,19,83,21],[84,0,84,1],[84,2,84,3],[84,4,84,5],[84,6,84,7],[84,8,84,10],[84,13,84,14],[84,15,84,16],[84,17,84,18],[84,19,84,21],[85,0,85,1],[85,2,85,3],[85,4,85,5],[85,6,85,7],[85,8,85,10],[85,11,85,12],[85,13,85,14],[85,15,85,16],[85,17,85,18],[85,19,85,21],[85,22,85,23],[86,0,86,2],[86,4,86,18],[86,19,86,23],[87,4,87,5],[87,6,87,8],[87,15,87,17],[87,19,88,23],[88,4,88,5],[88,6,88,8],[89,3,89,6],[89,9,89,14],[89,17,89,21],[90,0,90,1],[90,3,91,6],[90,9,90,14],[90,15,90,16],[90,17,91,21],[91,0,91,1],[91,15,91,16],[92,0,92,23],[93,0,93,23],[94,2,94,6],[94,8,94,23],[95,2,95,6],[95,8,95,23],[97,0,97,10],[97,11,97,12],[97,13,97,23],[99,0,99,10],[99,11,99,12],[99,13,99,23],[101,2,101,10],[101,13,101,21],[102,2,102,5],[102,6,102,10],[102,13,102,16],[102,17,102,21],[103,0,103,1],[103,2,103,3],[103,4,103,5],[103,6,103,7],[103,8,103,10],[103,13,103,14],[103,15,103,16],[103,17,103,18],[103,19,103,21],[104,0,104,1],[104,2,104,3],[104,4,104,5],[104,6,104,7],[104,8,104,10],[104,13,104,14],[104,15,104,16],[104,17,104,18],[104,19,104,21],[105,0,105,1],[105,2,105,3],[105,4,105,5],[105,6,105,7],[105,8,105,10],[105,13,105,14],[105,15,105,16],[105,17,105,18],[105,19,105,21],[106,0,106,1],[106,2,106,3],[106,4,106,5],[106,6,106,7],[106,8,106,10],[106,13,106,14],[106,15,106,16],[106,17,106,18],[106,19,106,21],[107,0,107,1],[107,2,107,3],[107,4,107,5],[107,6,107,7],[107,8,107,10],[107,13,107,14],[107,15,107,16],[107,17,107,18],[107,19,107,21],[108,0,108,1],[108,2,108,3],[108,4,108,5],[108,6,108,7],[108,8,108,10],[108,11,108,12],[108,13,108,14],[108,15,108,16],[108,17,108,18],[108,19,108,21],[108,22,108,23],[109,0,109,2],[109,4,109,18],[109,19,109,23],[110,4,110,5],[110,6,110,8],[110,15,110,17],[110,19,111,23],[111,4,111,5],[111,6,111,8],[112,3,112,6],[112,9,112,14],[112,17,112,21],[113,0,113,1],[113,3,114,6],[113,9,113,14],[113,15,113,16],[113,17,114,21],[114,0,114,1],[114,15,114,16],[115,0,115,23],[116,0,116,23],[117,2,117,6],[117,8,117,23],[118,2,118,6],[118,8,118,23],[120,0,120,10],[120,11,120,12],[120,13,120,23],[122,0,122,10],[122,11,122,12],[122,13,122,23],[124,2,124,10],[124,13,124,21],[125,2,125,5],[125,6,125,10],[125,13,125,16],[125,17,125,21],[126,0,126,1],[126,2,126,3],[126,4,126,5],[126,6,126,7],[126,8,126,10],[126,13,126,14],[126,15,126,16],[126,17,126,18],[126,19,126,21],[127,0,127,1],[127,2,127,3],[127,4,127,5],[127,6,127,7],[127,8,127,10],[127,13,127,14],[127,15,127,16],[127,17,127,18],[127,19,127,21],[128,0,128,1],[128,2,128,3],[128,4,128,5],[128,6,128,7],[128,8,128,10],[128,13,128,14],[128,15,128,16],[128,17,128,18],[128,19,128,21],[129,0,129,1],[129,2,129,3],[129,4,129,5],[129,6,129,7],[129,8,129,10],[129,13,129,14],[129,15,129,16],[129,17,129,18],[129,19,129,21],[130,0,130,1],[130,2,130,3],[130,4,130,5],[130,6,130,7],[130,8,130,10],[130,13,130,14],[130,15,130,16],[130,17,130,18],[130,19,130,21],[131,0,131,1],[131,2,131,3],[131,4,131,5],[131,6,131,7],[131,8,131,10],[131,11,131,12],[131,13,131,14],[131,15,131,16],[131,17,131,18],[131,19,131,21],[131,22,131,23],[132,0,132,2],[132,4,132,18],[132,19,132,23],[133,4,133,5],[133,6,133,8],[133,15,133,17],[133,19,134,23],[134,4,134,5],[134,6,134,8],[135,3,135,6],[135,9,135,14],[135,17,135,21],[136,0,136,1],[136,3,137,6],[136,9,136,14],[136,15,136,16],[136,17,137,21],[137,0,137,1],[137,15,137,16],[138,0,138,23],[139,0,139,23],[140,2,140,6],[140,8,140,23],[141,2,141,6],[141,8,141,23],[143,0,143,10],[143,11,143,12],[143,13,143,23],[145,0,145,10],[145,11,145,12],[145,13,145,23],[147,2,147,10],[147,13,147,21],[148,2,148,5],[148,6,148,10],[148,13,148,16],[148,17,148,21],[149,0,149,1],[149,2,149,3],[149,4,149,5],[149,6,149,7],[149,8,149,10],[149,13,149,14],[149,15,149,16],[149,17,149,18],[149,19,149,21],[150,0,150,1],[150,2,150,3],[150,4,150,5],[150,6,150,7],[150,8,150,10],[150,13,150,14],[150,15,150,16],[150,17,150,18],[150,19,150,21],[151,0,151,1],[151,2,151,3],[151,4,151,5],[151,6,151,7],[151,8,151,10],[151,13,151,14],[151,15,151,16],[151,17,151,18],[151,19,151,21],[152,0,152,1],[152,2,152,3],[152,4,152,5],[152,6,152,7],[152,8,152,10],[152,13,152,14],[152,15,152,16],[152,17,152,18],[152,19,152,21],[153,0,153,1],[153,2,153,3],[153,4,153,5],[153,6,153,7],[153,8,153,10],[153,13,153,14],[153,15,153,16],[153,17,153,18],[153,19,153,21],[154,0,154,1],[154,2,154,3],[154,4,154,5],[154,6,154,7],[154,8,154,10],[154,11,154,12],[154,13,154,14],[154,15,154,16],[154,17,154,18],[154,19,154,21],[154,22,154,23],[155,0,155,2],[155,4,155,18],[155,19,155,23],[156,4,156,5],[156,6,156,8],[156,15,156,17],[156,19,157,23],[157,4,157,5],[157,6,157,8],[158,3,158,6],[158,9,158,14],[158,17,158,21],[159,0,159,1],[159,3,160,6],[159,9,159,14],[159,15,159,16],[159,17,160,21],[160,0,160,1],[160,15,160,16],[161,0,161,23],[162,0,162,23],[163,2,163,6],[163,8,163,23],[164,2,164,6],[164,8,164,23],[166,0,166,10],[166,11,166,12],[166,13,166,23],[168,0,168,10],[168,11,168,12],[168,13,168,23],[170,2,170,10],[170,13,170,21],[171,2,171,5],[171,6,171,10],[171,13,171,16],[171,17,171,21],[172,0,172,1],[172,2,172,3],[172,4,172,5],[172,6,172,7],[172,8,172,10],[172,13,172,14],[172,15,172,16],[172,17,172,18],[172,19,172,21],[173,0,173,1],[173,2,173,3],[173,4,173,5],[173,6,173,7],[173,8,173,10],[173,13,173,14],[173,15,173,16],[173,17,173,18],[173,19,173,21],[174,0,174,1],[174,2,174,3],[174,4,174,5],[174,6,174,7],[174,8,174,10],[174,13,174,14],[174,15,174,16],[174,17,174,18],[174,19,174,21],[175,0,175,1],[175,2,175,3],[175,4,175,5],[175,6,175,7],[175,8,175,10],[175,13,175,14],[175,15,175,16],[175,17,175,18],[175,19,175,21],[176,0,176,1],[176,2,176,3],[176,4,176,5],[176,6,176,7],[176,8,176,10],[176,13,176,14],[176,15,176,16],[176,17,176,18],[176,19,176,21],[177,0,177,1],[177,2,177,3],[177,4,177,5],[177,6,177,7],[177,8,177,10],[177,11,177,12],[177,13,177,14],[177,15,177,16],[177,17,177,18],[177,19,177,21],[177,22,177,23],[178,0,178,2],[178,4,178,18],[178,19,178,23],[179,4,179,5],[179,6,179,8],[179,15,179,17],[179,19,180,23],[180,4,180,5],[180,6,180,8],[181,3,181,6],[181,9,181,14],[181,17,181,21],[182,0,182,1],[182,3,183,6],[182,9,182,14],[182,15,182,16],[182,17,183,21],[183,0,183,1],[183,15,183,16],[184,0,184,23],[185,0,185,23],[186,2,186,6],[186,8,186,23],[187,2,187,6],[187,8,187,23],[189,0,189,10],[189,11,189,12],[189,13,189,23],[191,0,191,10],[191,11,191,12],[191,13,191,23],[193,2,193,10],[193,13,193,21],[194,2,194,5],[194,6,194,10],[194,13,194,16],[194,17,194,21],[195,0,195,1],[195,2,195,3],[195,4,195,5],[195,6,195,7],[195,8,195,10],[195,13,195,14],[195,15,195,16],[195,17,195,18],[195,19,195,21],[196,0,196,1],[196,2,196,3],[196,4,196,5],[196,6,196,7],[196,8,196,10],[196,13,196,14],[196,15,196,16],[196,17,196,18],[196,19,196,21],[197,0,197,1],[197,2,197,3],[197,4,197,5],[197,6,197,7],[197,8,197,10],[197,13,197,14],[197,15,197,16],[197,17,197,18],[197,19,197,21],[198,0,198,1],[198,2,198,3],[198,4,198,5],[198,6,198,7],[198,8,198,10],[198,13,198,14],[198,15,198,16],[198,17,198,18],[198,19,198,21],[199,0,199,1],[199,2,199,3],[199,4,199,5],[199,6,199,7],[199,8,199,10],[199,13,199,14],[199,15,199,16],[199,17,199,18],[199,19,199,21],[200,0,200,1],[200,2,200,3],[200,4,200,5],[200,6,200,7],[200,8,200,10],[200,11,200,12],[200,13,200,14],[200,15,200,16],[200,17,200,18],[200,19,200,21],[200,22,200,23],[201,0,201,2],[201,4,201,18],[201,19,201,23],[202,4,202,5],[202,6,202,8],[202,15,202,17],[202,19,203,23],[203,4,203,5],[203,6,203,8],[204,3,204,6],[204,9,204,14],[204,17,204,21],[205,0,205,1],[205,3,206,6],[205,9,205,14],[205,15,205,16],[205,17,206,21],[206,0,206,1],[206,15,206,16],[207,0,207,23],[208,0,208,23],[209,2,209,6],[209,8,209,23],[210,2,210,6],[210,8,210,23],[212,0,212,10],[212,11,212,12],[212,13,212,23],[214,0,214,10],[214,11,214,12],[214,13,214,23],[216,2,216,10],[216,13,216,21],[217,2,217,5],[217,6,217,10],[217,13,217,16],[217,17,217,21],[218,0,218,1],[218,2,218,3],[218,4,218,5],[218,6,218,7],[218,8,218,10],[218,13,218,14],[218,15,218,16],[218,17,218,18],[218,19,218,21],[219,0,219,1],[219,2,219,3],[219,4,219,5],[219,6,219,7],[219,8,219,10],[219,13,219,14],[219,15,219,16],[219,17,219,18],[219,19,219,21],[220,0,220,1],[220,2,220,3],[220,4,220,5],[220,6,220,7],[220,8,220,10],[220,13,220,14],[220,15,220,16],[220,17,220,18],[220,19,220,21],[221,0,221,1],[221,2,221,3],[221,4,221,5],[221,6,221,7],[221,8,221,10],[221,13,221,14],[221,15,221,16],[221,17,221,18],[221,19,221,21],[222,0,222,1],[222,2,222,3],[222,4,222,5],[222,6,222,7],[222,8,222,10],[222,13,222,14],[222,15,222,16],[222,17,222,18],[222,19,222,21],[223,0,223,1],[223,2,223,3],[223,4,223,5],[223,6,223,7],[223,8,223,10],[223,11,223,12],[223,13,223,14],[223,15,223,16],[223,17,223,18],[223,19,223,21],[223,22,223,23],[224,0,224,2],[224,4,224,18],[224,19,224,23],[225,4,225,5],[225,6,225,8],[225,15,225,17],[225,19,226,23],[226,4,226,5],[226,6,226,8],[227,3,227,6],[227,9,227,14],[227,17,227,21],[228,0,228,1],[228,3,229,6],[228,9,228,14],[228,15,228,16],[228,17,229,21],[229,0,229,1],[229,15,229,16],[230,0,230,23],[231,0,231,23],[232,2,232,6],[232,8,232,23],[233,2,233,6],[233,8,233,23],[235,0,235,10],[235,11,235,12],[235,13,235,23],[237,0,237,10],[237,11,237,12],[237,13,237,23],[239,2,239,10],[239,13,239,21],[240,2,240,5],[240,6,240,10],[240,13,240,16],[240,17,240,21],[241,0,241,1],[241,2,241,3],[241,4,241,5],[241,6,241,7],[241,8,241,10],[241,13,241,14],[241,15,241,16],[241,17,241,18],[241,19,241,21],[242,0,242,1],[242,2,242,3],[242,4,242,5],[242,6,242,7],[242,8,242,10],[242,13,242,14],[242,15,242,16],[242,17,242,18],[242,19,242,21],[243,0,243,1],[243,2,243,3],[243,4,243,5],[243,6,243,7],[243,8,243,10],[243,13,243,14],[243,15,243,16],[243,17,243,18],[243,19,243,21],[244,0,244,1],[244,2,244,3],[244,4,244,5],[244,6,244,7],[244,8,244,10],[244,13,244,14],[244,15,244,16],[244,17,244,18],[244,19,244,21],[245,15,245,16],[246,15,246,16],[246,17,246,18],[246,19,246,21],[246,22,246,23],[247,0,247,2],[247,4,247,18],[247,19,247,23],[248,4,248,5],[248,6,248,8],[248,15,248,17],[248,19,249,23],[249,4,249,5],[249,6,249,8]],"merged_total":3724,"flags":["merged_cut"]}
[{"$f":"Entries!$A$1","v":"2018 District 5 - Mixed Pairs"}]
["R O U N D  2"]
[null,null,"RINK",{"$nulls":5},"DATE"]
[null,null,{"$f":"DRAW!$H$5","v":0},{"$nulls":5},{"$f":"Entries!$A$2","v":"20th June 2018"}]
[]
[{"$f":"DRAW!$D$5","v":0},{"$nulls":10},"L",null,{"$f":"DRAW!$D$7","v":0}]
[]
[{"$f":"DRAW!$E$5","v":0},{"$nulls":10},"Sk",null,{"$f":"DRAW!$E$7","v":0}]
[]
[null,null,"First Set",{"$nulls":10},"Second Set"]
[null,null,{"$f":"DRAW!$E$5","v":0},{"$nulls":3},{"$f":"DRAW!$E$7","v":0},{"$nulls":6},{"$f":"DRAW!$E$5","v":0},{"$nulls":3},{"$f":"DRAW!$E$7","v":0}]
["End",null,"Shots",null,"Total",null,"Shots",null,"Total",{"$nulls":4},"Shots",null,"Total",null,"Shots",null,"Total"]
[1]
[2]
[3]
[4]
[5,{"$nulls":10},1,{"$nulls":10},1]
["Points",{"$nulls":3},"Tie Break",{"$nulls":14},"Points"]
[{"$nulls":4},"End",null,"Shots",{"$nulls":8},"Shots"]
[{"$nulls":4},1]
[{"$nulls":3},"TEAM No.",{"$nulls":5},"Time",{"$nulls":7},"TEAM No."]
["Sign",null,null,{"$f":"DRAW!$C$5","v":0},{"$nulls":5},"Completed",{"$nulls":5},"Sign",null,{"$f":"DRAW!$C$7","v":0}]
["i",{"$nulls":14},"i"]
[{"$f":"Entries!$A$1","v":"2018 District 5 - Mixed Pairs"}]
["R O U N D  2"]
[null,null,"RINK",{"$nulls":5},"DATE"]
[null,null,{"$f":"DRAW!$H$5","v":0},{"$nulls":5},{"$f":"Entries!$A$2","v":"20th June 2018"}]
[]
[{"$f":"DRAW!$D$7","v":0},{"$nulls":10},"L",null,{"$f":"DRAW!$D$5","v":0}]
[]
[{"$f":"DRAW!$E$7","v":0},{"$nulls":10},"Sk",null,{"$f":"DRAW!$E$5","v":0}]
[]
[null,null,"First Set",{"$nulls":10},"Second Set"]
[null,null,{"$f":"DRAW!$E$7","v":0},{"$nulls":3},{"$f":"DRAW!$E$5","v":0},{"$nulls":6},{"$f":"DRAW!$E$7","v":0},{"$nulls":3},{"$f":"DRAW!$E$5","v":0}]
["End",null,"Shots",null,"Total",null,"Shots",null,"Total",{"$nulls":4},"Shots",null,"Total",null,"Shots",null,"Total"]
[1]
[2]
[3]
[4]
[5,{"$nulls":10},2,{"$nulls":10},1]
["Points",{"$nulls":3},"Tie Break",{"$nulls":14},"Points"]
[{"$nulls":4},"End",null,"Shots",{"$nulls":8},"Shots"]
[{"$nulls":4},1]
[{"$nulls":3},"TEAM No.",{"$nulls":5},"Time",{"$nulls":7},"TEAM No."]
["Sign",null,null,{"$f":"DRAW!$C$7","v":0},{"$nulls":5},"Completed",{"$nulls":5},"Sign",null,{"$f":"DRAW!$C$5","v":0}]
["i",{"$nulls":14},"i"]
[{"$f":"Entries!$A$1","v":"2018 District 5 - Mixed Pairs"}]
["R O U N D  2"]
[null,null,"RINK",{"$nulls":5},"DATE"]
[null,null,{"$f":"DRAW!$H$6","v":0},{"$nulls":5},{"$f":"Entries!$A$2","v":"20th June 2018"}]
[]
[{"$f":"DRAW!$D$6","v":0},{"$nulls":10},"L",null,{"$f":"DRAW!$D$8","v":0}]
[]
[{"$f":"DRAW!$E$6","v":0},{"$nulls":10},"Sk",null,{"$f":"DRAW!$E$8","v":0}]
[]
[null,null,"First Set",{"$nulls":10},"Second Set"]
[null,null,{"$f":"DRAW!$E$6","v":0},{"$nulls":3},{"$f":"DRAW!$E$8","v":0},{"$nulls":6},{"$f":"DRAW!$E$6","v":0},{"$nulls":3},{"$f":"DRAW!$E$8","v":0}]
["End",null,"Shots",null,"Total",null,"Shots",null,"Total",{"$nulls":4},"Shots",null,"Total",null,"Shots",null,"Total"]
[1]
[2]
[3]
[4]
[6,{"$nulls":10},1,{"$nulls":10},1]
["Points",{"$nulls":3},"Tie Break",{"$nulls":14},"Points"]
[{"$nulls":4},"End",null,"Shots",{"$nulls":8},"Shots"]
[{"$nulls":4},1]
[{"$nulls":3},"TEAM No.",{"$nulls":5},"Time",{"$nulls":7},"TEAM No."]
["Sign",null,null,{"$f":"DRAW!$C$6","v":0},{"$nulls":5},"Completed",{"$nulls":5},"Sign",null,{"$f":"DRAW!$C$8","v":0}]
["i",{"$nulls":14},"i"]
[{"$f":"Entries!$A$1","v":"2018 District 5 - Mixed Pairs"}]
["R O U N D  2"]
[null,null,"RINK",{"$nulls":5},"DATE"]
[null,null,{"$f":"DRAW!$H$6","v":0},{"$nulls":5},{"$f":"Entries!$A$2","v":"20th June 2018"}]
[]
[{"$f":"DRAW!$D$8","v":0},{"$nulls":10},"L",null,{"$f":"DRAW!$D$6","v":0}]
[]
[{"$f":"DRAW!$E$8","v":0},{"$nulls":10},"Sk",null,{"$f":"DRAW!$E$6","v":0}]
[]
[null,null,"First Set",{"$nulls":10},"Second Set"]
[null,null,{"$f":"DRAW!$E$8","v":0},{"$nulls":3},{"$f":"DRAW!$E$6","v":0},{"$nulls":6},{"$f":"DRAW!$E$8","v":0},{"$nulls":3},{"$f":"DRAW!$E$6","v":0}]
["End",null,"Shots",null,"Total",null,"Shots",null,"Total",{"$nulls":4},"Shots",null,"Total",null,"Shots",null,"Total"]
[1]
[2]
[3]
[4]
[6,{"$nulls":10},2,{"$nulls":10},1]
["Points",{"$nulls":3},"Tie Break",{"$nulls":14},"Points"]
[{"$nulls":4},"End",null,"Shots",{"$nulls":8},"Shots"]
[{"$nulls":4},1]
[{"$nulls":3},"TEAM No.",{"$nulls":5},"Time",{"$nulls":7},"TEAM No."]
["Sign",null,null,{"$f":"DRAW!$C$8","v":0},{"$nulls":5},"Completed",{"$nulls":5},"Sign",null,{"$f":"DRAW!$C$6","v":0}]
["i",{"$nulls":14},"i"]
[{"$f":"Entries!$A$1","v":"2018 District 5 - Mixed Pairs"}]
["R O U N D  2"]
[null,null,"RINK",{"$nulls":5},"DATE"]
[null,null,{"$f":"DRAW!$H$9","v":0},{"$nulls":5},{"$f":"Entries!$A$2","v":"20th June 2018"}]
[]
[{"$f":"DRAW!$D$9","v":0},{"$nulls":10},"L",null,{"$f":"DRAW!$D$11","v":0}]
[]
[{"$f":"DRAW!$E$9","v":0},{"$nulls":10},"Sk",null,{"$f":"DRAW!$E$11","v":0}]
[]
[null,null,"First Set",{"$nulls":10},"Second Set"]
[null,null,{"$f":"DRAW!$E$9","v":0},{"$nulls":3},{"$f":"DRAW!$E$11","v":0},{"$nulls":6},{"$f":"DRAW!$E$9","v":0},{"$nulls":3},{"$f":"DRAW!$E$11","v":0}]
["End",null,"Shots",null,"Total",null,"Shots",null,"Total",{"$nulls":4},"Shots",null,"Total",null,"Shots",null,"Total"]
[1]
[2]
[3]
[4]
[9,{"$nulls":10},1,{"$nulls":10},1]
["Points",{"$nulls":3},"Tie Break",{"$nulls":14},"Points"]
[{"$nulls":4},"End",null,"Shots",{"$nulls":8},"Shots"]
[{"$nulls":4},1]
[{"$nulls":3},"TEAM No.",{"$nulls":5},"Time",{"$nulls":7},"TEAM No."]
["Sign",null,null,{"$f":"DRAW!$C$9","v":0},{"$nulls":5},"Completed",{"$nulls":5},"Sign",null,{"$f":"DRAW!$C$11","v":0}]
["i",{"$nulls":14},"i"]
[{"$f":"Entries!$A$1","v":"2018 District 5 - Mixed Pairs"}]
["R O U N D  2"]
[null,null,"RINK",{"$nulls":5},"DATE"]
[null,null,{"$f":"DRAW!$H$9","v":0},{"$nulls":5},{"$f":"Entries!$A$2","v":"20th June 2018"}]
[]
[{"$f":"DRAW!$D$11","v":0},{"$nulls":10},"L",null,{"$f":"DRAW!$D$9","v":0}]
[]
[{"$f":"DRAW!$E$11","v":0},{"$nulls":10},"Sk",null,{"$f":"DRAW!$E$9","v":0}]
[]
[null,null,"First Set",{"$nulls":10},"Second Set"]
[null,null,{"$f":"DRAW!$E$11","v":0},{"$nulls":3},{"$f":"DRAW!$E$9","v":0},{"$nulls":6},{"$f":"DRAW!$E$11","v":0},{"$nulls":3},{"$f":"DRAW!$E$9","v":0}]
["End",null,"Shots",null,"Total",null,"Shots",null,"Total",{"$nulls":4},"Shots",null,"Total",null,"Shots",null,"Total"]
[1]
[2]
[3]
[4]
[9,{"$nulls":10},2,{"$nulls":10},1]
["Points",{"$nulls":3},"Tie Break",{"$nulls":14},"Points"]
[{"$nulls":4},"End",null,"Shots",{"$nulls":8},"Shots"]
[{"$nulls":4},1]
[{"$nulls":3},"TEAM No.",{"$nulls":5},"Time",{"$nulls":7},"TEAM No."]
["Sign",null,null,{"$f":"DRAW!$C$11","v":0},{"$nulls":5},"Completed",{"$nulls":5},"Sign",null,{"$f":"DRAW!$C$9","v":0}]
["i",{"$nulls":14},"i"]
[{"$f":"Entries!$A$1","v":"2018 District 5 - Mixed Pairs"}]
["R O U N D  2"]
[null,null,"RINK",{"$nulls":5},"DATE"]
[null,null,{"$f":"DRAW!$H$12","v":0},{"$nulls":5},{"$f":"Entries!$A$2","v":"20th June 2018"}]
[]
[{"$f":"DRAW!$D$12","v":0},{"$nulls":10},"L",null,{"$f":"DRAW!$D$10","v":0}]
[]
[{"$f":"DRAW!$E$12","v":0},{"$nulls":10},"Sk",null,{"$f":"DRAW!$E$10","v":0}]
[]
[null,null,"First Set",{"$nulls":10},"Second Set"]
[null,null,{"$f":"DRAW!$E$12","v":0},{"$nulls":3},{"$f":"DRAW!$E$10","v":0},{"$nulls":6},{"$f":"DRAW!$E$12","v":0},{"$nulls":3},{"$f":"DRAW!$E$10","v":0}]
["End",null,"Shots",null,"Total",null,"Shots",null,"Total",{"$nulls":4},"Shots",null,"Total",null,"Shots",null,"Total"]
[1]
[2]
[3]
[4]
[12,{"$nulls":10},1,{"$nulls":10},1]
["Points",{"$nulls":3},"Tie Break",{"$nulls":14},"Points"]
[{"$nulls":4},"End",null,"Shots",{"$nulls":8},"Shots"]
[{"$nulls":4},1]
[{"$nulls":3},"TEAM No.",{"$nulls":5},"Time",{"$nulls":7},"TEAM No."]
["Sign",null,null,{"$f":"DRAW!$C$12","v":0},{"$nulls":5},"Completed",{"$nulls":5},"Sign",null,{"$f":"DRAW!$C$10","v":0}]
["i",{"$nulls":14},"i"]
[{"$f":"Entries!$A$1","v":"2018 District 5 - Mixed Pairs"}]
["R O U N D  2"]
[null,null,"RINK",{"$nulls":5},"DATE"]
[null,null,{"$f":"DRAW!$H$12","v":0},{"$nulls":5},{"$f":"Entries!$A$2","v":"20th June 2018"}]
[]
[{"$f":"DRAW!$D$10","v":0},{"$nulls":10},"L",null,{"$f":"DRAW!$D$12","v":0}]
[]
[{"$f":"DRAW!$E$10","v":0},{"$nulls":10},"Sk",null,{"$f":"DRAW!$E$12","v":0}]
[]
[null,null,"First Set",{"$nulls":10},"Second Set"]
[null,null,{"$f":"DRAW!$E$10","v":0},{"$nulls":3},{"$f":"DRAW!$E$12","v":0},{"$nulls":6},{"$f":"DRAW!$E$10","v":0},{"$nulls":3},{"$f":"DRAW!$E$12","v":0}]
["End",null,"Shots",null,"Total",null,"Shots",null,"Total",{"$nulls":4},"Shots",null,"Total",null,"Shots",null,"Total"]
[1]
[2]
[3]
[4]
[12,{"$nulls":10},2,{"$nulls":10},1]
["Points",{"$nulls":3},"Tie Break",{"$nulls":14},"Points"]
[{"$nulls":4},"End",null,"Shots",{"$nulls":8},"Shots"]
[{"$nulls":4},1]
[{"$nulls":3},"TEAM No.",{"$nulls":5},"Time",{"$nulls":7},"TEAM No."]
["Sign",null,null,{"$f":"DRAW!$C$10","v":0},{"$nulls":5},"Completed",{"$nulls":5},"Sign",null,{"$f":"DRAW!$C$12","v":0}]
["i",{"$nulls":14},"i"]
[{"$f":"Entries!$A$1","v":"2018 District 5 - Mixed Pairs"}]
["R O U N D  2"]
[null,null,"RINK",{"$nulls":5},"DATE"]
[null,null,{"$f":"DRAW!$H$15","v":0},{"$nulls":5},{"$f":"Entries!$A$2","v":"20th June 2018"}]
[]
[{"$f":"DRAW!$D$15","v":0},{"$nulls":10},"L",null,{"$f":"DRAW!$D$13","v":0}]
[]
[{"$f":"DRAW!$E$15","v":0},{"$nulls":10},"Sk",null,{"$f":"DRAW!$E$13","v":0}]
[]
[null,null,"First Set",{"$nulls":10},"Second Set"]
[null,null,{"$f":"DRAW!$E$15","v":0},{"$nulls":3},{"$f":"DRAW!$E$13","v":0},{"$nulls":6},{"$f":"DRAW!$E$15","v":0},{"$nulls":3},{"$f":"DRAW!$E$13","v":0}]
["End",null,"Shots",null,"Total",null,"Shots",null,"Total",{"$nulls":4},"Shots",null,"Total",null,"Shots",null,"Total"]
[1]
[2]
[3]
[4]
[15,{"$nulls":10},1,{"$nulls":10},1]
["Points",{"$nulls":3},"Tie Break",{"$nulls":14},"Points"]
[{"$nulls":4},"End",null,"Shots",{"$nulls":8},"Shots"]
[{"$nulls":4},1]
[{"$nulls":3},"TEAM No.",{"$nulls":5},"Time",{"$nulls":7},"TEAM No."]
["Sign",null,null,{"$f":"DRAW!$C$15","v":0},{"$nulls":5},"Completed",{"$nulls":5},"Sign",null,{"$f":"DRAW!$C$13","v":0}]
["i",{"$nulls":14},"i"]
[{"$f":"Entries!$A$1","v":"2018 District 5 - Mixed Pairs"}]
["R O U N D  2"]
[null,null,"RINK",{"$nulls":5},"DATE"]
[null,null,{"$f":"DRAW!$H$15","v":0},{"$nulls":5},{"$f":"Entries!$A$2","v":"20th June 2018"}]
[]
[{"$f":"DRAW!$D$13","v":0},{"$nulls":10},"L",null,{"$f":"DRAW!$D$15","v":0}]
[]
[{"$f":"DRAW!$E$13","v":0},{"$nulls":10},"Sk",null,{"$f":"DRAW!$E$15","v":0}]
[]
[null,null,"First Set",{"$nulls":10},"Second Set"]
[null,null,{"$f":"DRAW!$E$13","v":0},{"$nulls":3},{"$f":"DRAW!$E$15","v":0},{"$nulls":6},{"$f":"DRAW!$E$13","v":0},{"$nulls":3},{"$f":"DRAW!$E$15","v":0}]
["End",null,"Shots",null,"Total",null,"Shots",null,"Total",{"$nulls":4},"Shots",null,"Total",null,"Shots",null,"Total"]
[1]
[2]
[3]
[4]
[15,{"$nulls":10},2,{"$nulls":10},1]
["Points",{"$nulls":3},"Tie Break",{"$nulls":14},"Points"]
[{"$nulls":4},"End",null,"Shots",{"$nulls":8},"Shots"]
[{"$nulls":4},1]
[{"$nulls":3},"TEAM No.",{"$nulls":5},"Time",{"$nulls":7},"TEAM No."]
["Sign",null,null,{"$f":"DRAW!$C$13","v":0},{"$nulls":5},"Completed",{"$nulls":5},"Sign",null,{"$f":"DRAW!$C$15","v":0}]
["i",{"$nulls":14},"i"]
[{"$f":"Entries!$A$1","v":"2018 District 5 - Mixed Pairs"}]
["R O U N D  2"]
[null,null,"RINK",{"$nulls":5},"DATE"]
[null,null,{"$f":"DRAW!$H$14","v":0},{"$nulls":5},{"$f":"Entries!$A$2","v":"20th June 2018"}]
[]
[{"$f":"DRAW!$D$14","v":0},{"$nulls":10},"L",null,{"$f":"DRAW!$D$16","v":0}]
[]
[{"$f":"DRAW!$E$14","v":0},{"$nulls":10},"Sk",null,{"$f":"DRAW!$E$16","v":0}]
[]
[null,null,"First Set",{"$nulls":10},"Second Set"]
[null,null,{"$f":"DRAW!$E$14","v":0},{"$nulls":3},{"$f":"DRAW!$E$16","v":0},{"$nulls":6},{"$f":"DRAW!$E$14","v":0},{"$nulls":3},{"$f":"DRAW!$E$16","v":0}]
["End",null,"Shots",null,"Total",null,"Shots",null,"Total",{"$nulls":4},"Shots",null,"Total",null,"Shots",null,"Total"]
[1]
[2]
[3]
[4]
[14,{"$nulls":10},1,{"$nulls":10},1]
["Points",{"$nulls":3},"Tie Break",{"$nulls":14},"Points"]
[{"$nulls":4},"End",null,"Shots",{"$nulls":8},"Shots"]
[{"$nulls":4},1]
[{"$nulls":3},"TEAM No.",{"$nulls":5},"Time",{"$nulls":7},"TEAM No."]
["Sign",null,null,{"$f":"DRAW!$C$14","v":0},{"$nulls":5},"Completed",{"$nulls":5},"Sign",null,{"$f":"DRAW!$C$16","v":0}]
["i",{"$nulls":14},"i"]
[{"$f":"Entries!$A$1","v":"2018 District 5 - Mixed Pairs"}]
["R O U N D  2"]
[null,null,"RINK",{"$nulls":5},"DATE"]
[null,null,{"$f":"DRAW!$H$14","v":0},{"$nulls":5},{"$f":"Entries!$A$2","v":"20th June 2018"}]
[]
[{"$f":"DRAW!$D$16","v":0},{"$nulls":10},"L",null,{"$f":"DRAW!$D$14","v":0}]
[]
[{"$f":"DRAW!$E$16","v":0},{"$nulls":10},"Sk",null,{"$f":"DRAW!$E$14","v":0}]
[]
[null,null,"First Set",{"$nulls":10},"Second Set"]
[null,null,{"$f":"DRAW!$E$16","v":0},{"$nulls":3},{"$f":"DRAW!$E$14","v":0},{"$nulls":6},{"$f":"DRAW!$E$16","v":0},{"$nulls":3},{"$f":"DRAW!$E$14","v":0}]
["End",null,"Shots",null,"Total",null,"Shots",null,"Total",{"$nulls":4},"Shots",null,"Total",null,"Shots",null,"Total"]
[1]
[2]
[3]
[4]
[14,{"$nulls":10},2,{"$nulls":10},1]
["Points",{"$nulls":3},"Tie Break",{"$nulls":14},"Points"]
[{"$nulls":4},"End",null,"Shots",{"$nulls":8},"Shots"]
[{"$nulls":4},1]
[{"$nulls":3},"TEAM No.",{"$nulls":5},"Time",{"$nulls":7},"TEAM No."]
["Sign",null,null,{"$f":"DRAW!$C$16","v":0},{"$nulls":5},"Completed",{"$nulls":5},"Sign",null,{"$f":"DRAW!$C$14","v":0}]
["i",{"$nulls":14},"i"]
[{"$f":"Entries!$A$1","v":"2018 District 5 - Mixed Pairs"}]
["R O U N D  2"]
[null,null,"RINK",{"$nulls":5},"DATE"]
[null,null,{"$f":"DRAW!$H$17","v":0},{"$nulls":5},{"$f":"Entries!$A$2","v":"20th June 2018"}]
[]
[{"$f":"DRAW!$D$17","v":0},{"$nulls":10},"L",null,{"$f":"DRAW!$D$19","v":0}]
[]
[{"$f":"DRAW!$E$17","v":0},{"$nulls":10},"Sk",null,{"$f":"DRAW!$E$19","v":0}]
[]
[null,null,"First Set",{"$nulls":10},"Second Set"]
[null,null,{"$f":"DRAW!$E$17","v":0},{"$nulls":3},{"$f":"DRAW!$E$19","v":0},{"$nulls":6},{"$f":"DRAW!$E$17","v":0},{"$nulls":3},{"$f":"DRAW!$E$19","v":0}]
["End",null,"Shots",null,"Total",null,"Shots",null,"Total",{"$nulls":4},"Shots",null,"Total",null,"Shots",null,"Total"]
[1]
[2]
[3]
[4]
[17,{"$nulls":10},1,{"$nulls":10},1]
["Points",{"$nulls":3},"Tie Break",{"$nulls":14},"Points"]
[{"$nulls":4},"End",null,"Shots",{"$nulls":8},"Shots"]
[{"$nulls":4},1]
[{"$nulls":3},"TEAM No.",{"$nulls":5},"Time",{"$nulls":7},"TEAM No."]
["Sign",null,null,{"$f":"DRAW!$C$17","v":0},{"$nulls":5},"Completed",{"$nulls":5},"Sign",null,{"$f":"DRAW!$C$19","v":0}]
["i",{"$nulls":14},"i"]
[{"$f":"Entries!$A$1","v":"2018 District 5 - Mixed Pairs"}]
["R O U N D  2"]
[null,null,"RINK",{"$nulls":5},"DATE"]
[null,null,{"$f":"DRAW!$H$17","v":0},{"$nulls":5},{"$f":"Entries!$A$2","v":"20th June 2018"}]
[]
[{"$f":"DRAW!$D$19","v":0},{"$nulls":10},"L",null,{"$f":"DRAW!$D$17","v":0}]
[]
[{"$f":"DRAW!$E$19","v":0},{"$nulls":10},"Sk",null,{"$f":"DRAW!$E$17","v":0}]
[]
[null,null,"First Set",{"$nulls":10},"Second Set"]
[null,null,{"$f":"DRAW!$E$19","v":0},{"$nulls":3},{"$f":"DRAW!$E$17","v":0},{"$nulls":6},{"$f":"DRAW!$E$19","v":0},{"$nulls":3},{"$f":"DRAW!$E$17","v":0}]
["End",null,"Shots",null,"Total",null,"Shots",null,"Total",{"$nulls":4},"Shots",null,"Total",null,"Shots",null,"Total"]
[1]
[2]
[3]
[4]
[17,{"$nulls":10},2,{"$nulls":10},1]
["Points",{"$nulls":3},"Tie Break",{"$nulls":14},"Points"]
[{"$nulls":4},"End",null,"Shots",{"$nulls":8},"Shots"]
[{"$nulls":4},1]
[{"$nulls":3},"TEAM No.",{"$nulls":5},"Time",{"$nulls":7},"TEAM No."]
["Sign",null,null,{"$f":"DRAW!$C$19","v":0},{"$nulls":5},"Completed",{"$nulls":5},"Sign",null,{"$f":"DRAW!$C$17","v":0}]
["i",{"$nulls":14},"i"]
[{"$f":"Entries!$A$1","v":"2018 District 5 - Mixed Pairs"}]
["R O U N D  2"]
[null,null,"RINK",{"$nulls":5},"DATE"]
[null,null,{"$f":"DRAW!$H$18","v":0},{"$nulls":5},{"$f":"Entries!$A$2","v":"20th June 2018"}]
[]
[{"$f":"DRAW!$D$18","v":0},{"$nulls":10},"L",null,{"$f":"DRAW!$D$20","v":0}]
[]
[{"$f":"DRAW!$E$18","v":0},{"$nulls":10},"Sk",null,{"$f":"DRAW!$E$20","v":0}]
[]
[null,null,"First Set",{"$nulls":10},"Second Set"]
[null,null,{"$f":"DRAW!$E$18","v":0},{"$nulls":3},{"$f":"DRAW!$E$20","v":0},{"$nulls":6},{"$f":"DRAW!$E$18","v":0},{"$nulls":3},{"$f":"DRAW!$E$20","v":0}]
["End",null,"Shots",null,"Total",null,"Shots",null,"Total",{"$nulls":4},"Shots",null,"Total",null,"Shots",null,"Total"]
[1]
[2]
[3]
[4]
[18,{"$nulls":10},1,{"$nulls":10},1]
["Points",{"$nulls":3},"Tie Break",{"$nulls":14},"Points"]
[{"$nulls":4},"End",null,"Shots",{"$nulls":8},"Shots"]
[{"$nulls":4},1]
[{"$nulls":3},"TEAM No.",{"$nulls":5},"Time",{"$nulls":7},"TEAM No."]
["Sign",null,null,{"$f":"DRAW!$C$18","v":0},{"$nulls":5},"Completed",{"$nulls":5},"Sign",null,{"$f":"DRAW!$C$20","v":0}]
["i",{"$nulls":14},"i"]
[{"$f":"Entries!$A$1","v":"2018 District 5 - Mixed Pairs"}]
["R O U N D  2"]
[null,null,"RINK",{"$nulls":5},"DATE"]
[null,null,{"$f":"DRAW!$H$18","v":0},{"$nulls":5},{"$f":"Entries!$A$2","v":"20th June 2018"}]
[]
[{"$f":"DRAW!$D$20","v":0},{"$nulls":10},"L",null,{"$f":"DRAW!$D$18","v":0}]
[]
[{"$f":"DRAW!$E$20","v":0},{"$nulls":10},"Sk",null,{"$f":"DRAW!$E$18","v":0}]
[]
[null,null,"First Set",{"$nulls":10},"Second Set"]
[null,null,{"$f":"DRAW!$E$20","v":0},{"$nulls":3},{"$f":"DRAW!$E$18","v":0},{"$nulls":6},{"$f":"DRAW!$E$20","v":0},{"$nulls":3},{"$f":"DRAW!$E$18","v":0}]
["End",null,"Shots",null,"Total",null,"Shots",null,"Total",{"$nulls":4},"Shots",null,"Total",null,"Shots",null,"Total"]
[1]
[2]
[3]
[4]
[18,{"$nulls":10},2,{"$nulls":10},1]
["Points",{"$nulls":3},"Tie Break",{"$nulls":14},"Points"]
[{"$nulls":4},"End",null,"Shots",{"$nulls":8},"Shots"]
[{"$nulls":4},1]
[{"$nulls":3},"TEAM No.",{"$nulls":5},"Time",{"$nulls":7},"TEAM No."]
["Sign",null,null,{"$f":"DRAW!$C$20","v":0},{"$nulls":5},"Completed",{"$nulls":5},"Sign",null,{"$f":"DRAW!$C$18","v":0}]
["i",{"$nulls":14},"i"]
[{"$f":"Entries!$A$1","v":"2018 District 5 - Mixed Pairs"}]
["R O U N D  2"]
[null,null,"RINK",{"$nulls":5},"DATE"]
[null,null,{"$f":"DRAW!$H$21","v":0},{"$nulls":5},{"$f":"Entries!$A$2","v":"20th June 2018"}]
[]
[{"$f":"DRAW!$D$21","v":0},{"$nulls":10},"L",null,{"$f":"DRAW!$D$23","v":0}]
[]
[{"$f":"DRAW!$E$21","v":0},{"$nulls":10},"Sk",null,{"$f":"DRAW!$E$23","v":0}]
[]
[null,null,"First Set",{"$nulls":10},"Second Set"]
[null,null,{"$f":"DRAW!$E$21","v":0},{"$nulls":3},{"$f":"DRAW!$E$23","v":0},{"$nulls":6},{"$f":"DRAW!$E$21","v":0},{"$nulls":3},{"$f":"DRAW!$E$23","v":0}]
["End",null,"Shots",null,"Total",null,"Shots",null,"Total",{"$nulls":4},"Shots",null,"Total",null,"Shots",null,"Total"]
[1]
[2]
[3]
[4]
[21,{"$nulls":10},1,{"$nulls":10},1]
["Points",{"$nulls":3},"Tie Break",{"$nulls":14},"Points"]
[{"$nulls":4},"End",null,"Shots",{"$nulls":8},"Shots"]
[{"$nulls":4},1]
[{"$nulls":3},"TEAM No.",{"$nulls":5},"Time",{"$nulls":7},"TEAM No."]
["Sign",null,null,{"$f":"DRAW!$C$21","v":0},{"$nulls":5},"Completed",{"$nulls":5},"Sign",null,{"$f":"DRAW!$C$23","v":0}]
["i",{"$nulls":14},"i"]
[{"$f":"Entries!$A$1","v":"2018 District 5 - Mixed Pairs"}]
["R O U N D  2"]
[null,null,"RINK",{"$nulls":5},"DATE"]
[null,null,{"$f":"DRAW!$H$21","v":0},{"$nulls":5},{"$f":"Entries!$A$2","v":"20th June 2018"}]
[]
[{"$f":"DRAW!$D$23","v":0},{"$nulls":10},"L",null,{"$f":"DRAW!$D$21","v":0}]
[]
[{"$f":"DRAW!$E$23","v":0},{"$nulls":10},"Sk",null,{"$f":"DRAW!$E$21","v":0}]
[]
[null,null,"First Set",{"$nulls":10},"Second Set"]
[null,null,{"$f":"DRAW!$E$23","v":0},{"$nulls":3},{"$f":"DRAW!$E$21","v":0},{"$nulls":6},{"$f":"DRAW!$E$23","v":0},{"$nulls":3},{"$f":"DRAW!$E$21","v":0}]
["End",null,"Shots",null,"Total",null,"Shots",null,"Total",{"$nulls":4},"Shots",null,"Total",null,"Shots",null,"Total"]
[1]
[2]
[3]
[4]
[21,{"$nulls":10},2,{"$nulls":10},1]
["Points",{"$nulls":3},"Tie Break",{"$nulls":14},"Points"]
[{"$nulls":4},"End",null,"Shots",{"$nulls":8},"Shots"]
[{"$nulls":4},1]
[{"$nulls":3},"TEAM No.",{"$nulls":5},"Time",{"$nulls":7},"TEAM No."]
["Sign",null,null,{"$f":"DRAW!$C$23","v":0},{"$nulls":5},"Completed",{"$nulls":5},"Sign",null,{"$f":"DRAW!$C$21","v":0}]
["i",{"$nulls":14},"i"]
[{"$f":"Entries!$A$1","v":"2018 District 5 - Mixed Pairs"}]
["R O U N D  2"]
[null,null,"RINK",{"$nulls":5},"DATE"]
[null,null,{"$f":"DRAW!$H$24","v":0},{"$nulls":5},{"$f":"Entries!$A$2","v":"20th June 2018"}]
[]
[{"$f":"DRAW!$D$24","v":0},{"$nulls":10},"L",null,{"$f":"DRAW!$D$22","v":0}]
[]
[{"$f":"DRAW!$E$24","v":0},{"$nulls":10},"Sk",null,{"$f":"DRAW!$E$22","v":0}]
[]
[null,null,"First Set",{"$nulls":10},"Second Set"]
[null,null,{"$f":"DRAW!$E$24","v":0},{"$nulls":3},{"$f":"DRAW!$E$22","v":0},{"$nulls":6},{"$f":"DRAW!$E$24","v":0},{"$nulls":3},{"$f":"DRAW!$E$22","v":0}]
["End",null,"Shots",null,"Total",null,"Shots",null,"Total",{"$nulls":4},"Shots",null,"Total",null,"Shots",null,"Total"]
[1]
[2]
[3]
[4]
[24,{"$nulls":10},1,{"$nulls":10},1]
["Points",{"$nulls":3},"Tie Break",{"$nulls":14},"Points"]
[{"$nulls":4},"End",null,"Shots",{"$nulls":8},"Shots"]
[{"$nulls":4},1]
[{"$nulls":3},"TEAM No.",{"$nulls":5},"Time",{"$nulls":7},"TEAM No."]
["Sign",null,null,{"$f":"DRAW!$C$24","v":0},{"$nulls":5},"Completed",{"$nulls":5},"Sign",null,{"$f":"DRAW!$C$22","v":0}]
["i",{"$nulls":14},"i"]
[{"$f":"Entries!$A$1","v":"2018 District 5 - Mixed Pairs"}]
["R O U N D  2"]
[null,null,"RINK",{"$nulls":5},"DATE"]
[null,null,{"$f":"DRAW!$H$24","v":0},{"$nulls":5},{"$f":"Entries!$A$2","v":"20th June 2018"}]
[]
[{"$f":"DRAW!$D$22","v":0},{"$nulls":10},"L",null,{"$f":"DRAW!$D$24","v":0}]
[]
[{"$f":"DRAW!$E$22","v":0},{"$nulls":10},"Sk",null,{"$f":"DRAW!$E$24","v":0}]
[]
[null,null,"First Set",{"$nulls":10},"Second Set"]
[null,null,{"$f":"DRAW!$E$22","v":0},{"$nulls":3},{"$f":"DRAW!$E$24","v":0},{"$nulls":6},{"$f":"DRAW!$E$22","v":0},{"$nulls":3},{"$f":"DRAW!$E$24","v":0}]
["End",null,"Shots",null,"Total",null,"Shots",null,"Total",{"$nulls":4},"Shots",null,"Total",null,"Shots",null,"Total"]
[1]
[2]
[3]
[4]
[24,{"$nulls":10},2,{"$nulls":10},1]
["Points",{"$nulls":3},"Tie Break",{"$nulls":14},"Points"]
[{"$nulls":4},"End",null,"Shots",{"$nulls":8},"Shots"]
[{"$nulls":4},1]
[{"$nulls":3},"TEAM No.",{"$nulls":5},"Time",{"$nulls":7},"TEAM No."]
["Sign",null,null,{"$f":"DRAW!$C$22","v":0},{"$nulls":5},"Completed",{"$nulls":5},"Sign",null,{"$f":"DRAW!$C$24","v":0}]
["i",{"$nulls":14},"i"]
[{"$f":"Entries!$A$1","v":"2018 District 5 - Mixed Pairs"}]
["R O U N D  2"]
[null,null,"RINK",{"$nulls":5},"DATE"]
[null,null,{"$f":"DRAW!$H$25","v":0},{"$nulls":5},{"$f":"Entries!$A$2","v":"20th June 2018"}]
[]
[{"$f":"DRAW!$D$25","v":0},{"$nulls":10},"L",null,{"$f":"DRAW!$D$27","v":0}]
[]
[{"$f":"DRAW!$E$25","v":0},{"$nulls":10},"Sk",null,{"$f":"DRAW!$E$27","v":0}]
[]
[null,null,"First Set",{"$nulls":10},"Second Set"]
[null,null,{"$f":"DRAW!$E$25","v":0},{"$nulls":3},{"$f":"DRAW!$E$27","v":0},{"$nulls":6},{"$f":"DRAW!$E$25","v":0},{"$nulls":3},{"$f":"DRAW!$E$27","v":0}]
["End",null,"Shots",null,"Total",null,"Shots",null,"Total",{"$nulls":4},"Shots",null,"Total",null,"Shots",null,"Total"]
[1]
[2]
[3]
[4]
[25,{"$nulls":10},1,{"$nulls":10},1]
["Points",{"$nulls":3},"Tie Break",{"$nulls":14},"Points"]
[{"$nulls":4},"End",null,"Shots",{"$nulls":8},"Shots"]
[{"$nulls":4},1]
[{"$nulls":3},"TEAM No.",{"$nulls":5},"Time",{"$nulls":7},"TEAM No."]
["Sign",null,null,{"$f":"DRAW!$C$25","v":0},{"$nulls":5},"Completed",{"$nulls":5},"Sign",null,{"$f":"DRAW!$C$27","v":0}]
["i",{"$nulls":14},"i"]
[{"$f":"Entries!$A$1","v":"2018 District 5 - Mixed Pairs"}]
["R O U N D  2"]
[null,null,"RINK",{"$nulls":5},"DATE"]
[null,null,{"$f":"DRAW!$H$25","v":0},{"$nulls":5},{"$f":"Entries!$A$2","v":"20th June 2018"}]
[]
[{"$f":"DRAW!$D$27","v":0},{"$nulls":10},"L",null,{"$f":"DRAW!$D$25","v":0}]
[]
[{"$f":"DRAW!$E$27","v":0},{"$nulls":10},"Sk",null,{"$f":"DRAW!$E$25","v":0}]
[]
[null,null,"First Set",{"$nulls":10},"Second Set"]
[null,null,{"$f":"DRAW!$E$27","v":0},{"$nulls":3},{"$f":"DRAW!$E$25","v":0},{"$nulls":6},{"$f":"DRAW!$E$27","v":0},{"$nulls":3},{"$f":"DRAW!$E$25","v":0}]
["End",null,"Shots",null,"Total",null,"Shots",null,"Total",{"$nulls":4},"Shots",null,"Total",null,"Shots",null,"Total"]
[1]
[2]
[3]
[4]
[25,{"$nulls":10},2,{"$nulls":10},1]
["Points",{"$nulls":3},"Tie Break",{"$nulls":14},"Points"]
[{"$nulls":4},"End",null,"Shots",{"$nulls":8},"Shots"]
[{"$nulls":4},1]
[{"$nulls":3},"TEAM No.",{"$nulls":5},"Time",{"$nulls":7},"TEAM No."]
["Sign",null,null,{"$f":"DRAW!$C$27","v":0},{"$nulls":5},"Completed",{"$nulls":5},"Sign",null,{"$f":"DRAW!$C$25","v":0}]
["i",{"$nulls":14},"i"]
[{"$f":"Entries!$A$1","v":"2018 District 5 - Mixed Pairs"}]
["R O U N D  2"]
[null,null,"RINK",{"$nulls":5},"DATE"]
[null,null,{"$f":"DRAW!$H$26","v":0},{"$nulls":5},{"$f":"Entries!$A$2","v":"20th June 2018"}]
[]
[{"$f":"DRAW!$D$26","v":0},{"$nulls":10},"L",null,{"$f":"DRAW!$D$28","v":0}]
[]
[{"$f":"DRAW!$E$26","v":0},{"$nulls":10},"Sk",null,{"$f":"DRAW!$E$28","v":0}]
[]
[null,null,"First Set",{"$nulls":10},"Second Set"]
[null,null,{"$f":"DRAW!$E$26","v":0},{"$nulls":3},{"$f":"DRAW!$E$28","v":0},{"$nulls":6},{"$f":"DRAW!$E$26","v":0},{"$nulls":3},{"$f":"DRAW!$E$28","v":0}]
["End",null,"Shots",null,"Total",null,"Shots",null,"Total",{"$nulls":4},"Shots",null,"Total",null,"Shots",null,"Total"]
[1]
[2]
[3]
[4]
[26,{"$nulls":10},1,{"$nulls":10},1]
["Points",{"$nulls":3},"Tie Break",{"$nulls":14},"Points"]
[{"$nulls":4},"End",null,"Shots",{"$nulls":8},"Shots"]
[{"$nulls":4},1]
[{"$nulls":3},"TEAM No.",{"$nulls":5},"Time",{"$nulls":7},"TEAM No."]
["Sign",null,null,{"$f":"DRAW!$C$26","v":0},{"$nulls":5},"Completed",{"$nulls":5},"Sign",null,{"$f":"DRAW!$C$28","v":0}]
["i",{"$nulls":14},"i"]
[{"$f":"Entries!$A$1","v":"2018 District 5 - Mixed Pairs"}]
["R O U N D  2"]
[null,null,"RINK",{"$nulls":5},"DATE"]
[null,null,{"$f":"DRAW!$H$26","v":0},{"$nulls":5},{"$f":"Entries!$A$2","v":"20th June 2018"}]
[]
[{"$f":"DRAW!$D$28","v":0},{"$nulls":10},"L",null,{"$f":"DRAW!$D$26","v":0}]
[]
[{"$f":"DRAW!$E$28","v":0},{"$nulls":10},"Sk",null,{"$f":"DRAW!$E$26","v":0}]
[]
[null,null,"First Set",{"$nulls":10},"Second Set"]
[null,null,{"$f":"DRAW!$E$28","v":0},{"$nulls":3},{"$f":"DRAW!$E$26","v":0},{"$nulls":6},{"$f":"DRAW!$E$28","v":0},{"$nulls":3},{"$f":"DRAW!$E$26","v":0}]
["End",null,"Shots",null,"Total",null,"Shots",null,"Total",{"$nulls":4},"Shots",null,"Total",null,"Shots",null,"Total"]
[1]
[2]
[3]
[4]
[26,{"$nulls":10},2,{"$nulls":10},1]
["Points",{"$nulls":3},"Tie Break",{"$nulls":14},"Points"]
[{"$nulls":4},"End",null,"Shots",{"$nulls":8},"Shots"]
[{"$nulls":4},1]
[{"$nulls":3},"TEAM No.",{"$nulls":5},"Time",{"$nulls":7},"TEAM No."]
["Sign",null,null,{"$f":"DRAW!$C$28","v":0},{"$nulls":5},"Completed",{"$nulls":5},"Sign",null,{"$f":"DRAW!$C$26","v":0}]
["i",{"$nulls":14},"i"]
[{"$f":"Entries!$A$1","v":"2018 District 5 - Mixed Pairs"}]
["R O U N D  2"]
[null,null,"RINK",{"$nulls":5},"DATE"]
[null,null,{"$f":"DRAW!$H$29","v":0},{"$nulls":5},{"$f":"Entries!$A$2","v":"20th June 2018"}]
[]
[{"$f":"DRAW!$D$29","v":0},{"$nulls":10},"L",null,{"$f":"DRAW!$D$31","v":0}]
[]
[{"$f":"DRAW!$E$29","v":0},{"$nulls":10},"Sk",null,{"$f":"DRAW!$E$31","v":0}]
[]
[null,null,"First Set",{"$nulls":10},"Second Set"]
[null,null,{"$f":"DRAW!$E$29","v":0},{"$nulls":3},{"$f":"DRAW!$E$31","v":0},{"$nulls":6},{"$f":"DRAW!$E$29","v":0},{"$nulls":3},{"$f":"DRAW!$E$31","v":0}]
["End",null,"Shots",null,"Total",null,"Shots",null,"Total",{"$nulls":4},"Shots",null,"Total",null,"Shots",null,"Total"]
[1]
[2]
[3]
[4]
[29,{"$nulls":10},1,{"$nulls":10},1]
["Points",{"$nulls":3},"Tie Break",{"$nulls":14},"Points"]
[{"$nulls":4},"End",null,"Shots",{"$nulls":8},"Shots"]
[{"$nulls":4},1]
[{"$nulls":3},"TEAM No.",{"$nulls":5},"Time",{"$nulls":7},"TEAM No."]
["Sign",null,null,{"$f":"DRAW!$C$29","v":0},{"$nulls":5},"Completed",{"$nulls":5},"Sign",null,{"$f":"DRAW!$C$31","v":0}]
["i",{"$nulls":14},"i"]
[{"$f":"Entries!$A$1","v":"2018 District 5 - Mixed Pairs"}]
["R O U N D  2"]
[null,null,"RINK",{"$nulls":5},"DATE"]
[null,null,{"$f":"DRAW!$H$29","v":0},{"$nulls":5},{"$f":"Entries!$A$2","v":"20th June 2018"}]
[]
[{"$f":"DRAW!$D$31","v":0},{"$nulls":10},"L",null,{"$f":"DRAW!$D$29","v":0}]
[]
[{"$f":"DRAW!$E$31","v":0},{"$nulls":10},"Sk",null,{"$f":"DRAW!$E$29","v":0}]
[]
[null,null,"First Set",{"$nulls":10},"Second Set"]
[null,null,{"$f":"DRAW!$E$31","v":0},{"$nulls":3},{"$f":"DRAW!$E$29","v":0},{"$nulls":6},{"$f":"DRAW!$E$31","v":0},{"$nulls":3},{"$f":"DRAW!$E$29","v":0}]
["End",null,"Shots",null,"Total",null,"Shots",null,"Total",{"$nulls":4},"Shots",null,"Total",null,"Shots",null,"Total"]
[1]
[2]
[3]
[4]
[29,{"$nulls":10},2,{"$nulls":10},1]
["Points",{"$nulls":3},"Tie Break",{"$nulls":14},"Points"]
[{"$nulls":4},"End",null,"Shots",{"$nulls":8},"Shots"]
[{"$nulls":4},1]
[{"$nulls":3},"TEAM No.",{"$nulls":5},"Time",{"$nulls":7},"TEAM No."]
["Sign",null,null,{"$f":"DRAW!$C$31","v":0},{"$nulls":5},"Completed",{"$nulls":5},"Sign",null,{"$f":"DRAW!$C$29","v":0}]
["i",{"$nulls":14},"i"]
[{"$f":"Entries!$A$1","v":"2018 District 5 - Mixed Pairs"}]
["R O U N D  2"]
[null,null,"RINK",{"$nulls":5},"DATE"]
[null,null,{"$f":"DRAW!$H$30","v":0},{"$nulls":5},{"$f":"Entries!$A$2","v":"20th June 2018"}]
[]
[{"$f":"DRAW!$D$30","v":0},{"$nulls":10},"L",null,{"$f":"DRAW!$D$32","v":0}]
[]
[{"$f":"DRAW!$E$30","v":0},{"$nulls":10},"Sk",null,{"$f":"DRAW!$E$32","v":0}]
[]
[null,null,"First Set",{"$nulls":10},"Second Set"]
[null,null,{"$f":"DRAW!$E$30","v":0},{"$nulls":3},{"$f":"DRAW!$E$32","v":0},{"$nulls":6},{"$f":"DRAW!$E$30","v":0},{"$nulls":3},{"$f":"DRAW!$E$32","v":0}]
["End",null,"Shots",null,"Total",null,"Shots",null,"Total",{"$nulls":4},"Shots",null,"Total",null,"Shots",null,"Total"]
[1]
[2]
[3]
[4]
[30,{"$nulls":10},1,{"$nulls":10},1]
["Points",{"$nulls":3},"Tie Break",{"$nulls":14},"Points"]
[{"$nulls":4},"End",null,"Shots",{"$nulls":8},"Shots"]
[{"$nulls":4},1]
[{"$nulls":3},"TEAM No.",{"$nulls":5},"Time",{"$nulls":7},"TEAM No."]
["Sign",null,null,{"$f":"DRAW!$C$30","v":0},{"$nulls":5},"Completed",{"$nulls":5},"Sign",null,{"$f":"DRAW!$C$32","v":0}]
["i",{"$nulls":14},"i"]
[{"$f":"Entries!$A$1","v":"2018 District 5 - Mixed Pairs"}]
["R O U N D  2"]
[null,null,"RINK",{"$nulls":5},"DATE"]
[null,null,{"$f":"DRAW!$H$30","v":0},{"$nulls":5},{"$f":"Entries!$A$2","v":"20th June 2018"}]
[]
[{"$f":"DRAW!$D$32","v":0},{"$nulls":10},"L",null,{"$f":"DRAW!$D$30","v":0}]
[]
[{"$f":"DRAW!$E$32","v":0},{"$nulls":10},"Sk",null,{"$f":"DRAW!$E$30","v":0}]
[]
[null,null,"First Set",{"$nulls":10},"Second Set"]
[null,null,{"$f":"DRAW!$E$32","v":0},{"$nulls":3},{"$f":"DRAW!$E$30","v":0},{"$nulls":6},{"$f":"DRAW!$E$32","v":0},{"$nulls":3},{"$f":"DRAW!$E$30","v":0}]
["End",null,"Shots",null,"Total",null,"Shots",null,"Total",{"$nulls":4},"Shots",null,"Total",null,"Shots",null,"Total"]
[1]
[2]
[3]
[4]
[30,{"$nulls":10},2,{"$nulls":10},1]
["Points",{"$nulls":3},"Tie Break",{"$nulls":14},"Points"]
[{"$nulls":4},"End",null,"Shots",{"$nulls":8},"Shots"]
[{"$nulls":4},1]
[{"$nulls":3},"TEAM No.",{"$nulls":5},"Time",{"$nulls":7},"TEAM No."]
["Sign",null,null,{"$f":"DRAW!$C$32","v":0},{"$nulls":5},"Completed",{"$nulls":5},"Sign",null,{"$f":"DRAW!$C$30","v":0}]
["i",{"$nulls":14},"i"]
[{"$f":"Entries!$A$1","v":"2018 District 5 - Mixed Pairs"}]
["R O U N D  2"]
[null,null,"RINK",{"$nulls":5},"DATE"]
[null,null,{"$f":"DRAW!$H$33","v":0},{"$nulls":5},{"$f":"Entries!$A$2","v":"20th June 2018"}]
[]
[{"$f":"DRAW!$D$33","v":0},{"$nulls":10},"L",null,{"$f":"DRAW!$D$35","v":0}]
[]
[{"$f":"DRAW!$E$33","v":0},{"$nulls":10},"Sk",null,{"$f":"DRAW!$E$35","v":0}]
[]
[null,null,"First Set",{"$nulls":10},"Second Set"]
[null,null,{"$f":"DRAW!$E$33","v":0},{"$nulls":3},{"$f":"DRAW!$E$35","v":0},{"$nulls":6},{"$f":"DRAW!$E$33","v":0},{"$nulls":3},{"$f":"DRAW!$E$35","v":0}]
["End",null,"Shots",null,"Total",null,"Shots",null,"Total",{"$nulls":4},"Shots",null,"Total",null,"Shots",null,"Total"]
[1]
[2]
[3]
[4]
[33,{"$nulls":10},1,{"$nulls":10},1]
["Points",{"$nulls":3},"Tie Break",{"$nulls":14},"Points"]
[{"$nulls":4},"End",null,"Shots",{"$nulls":8},"Shots"]
[{"$nulls":4},1]
[{"$nulls":3},"TEAM No.",{"$nulls":5},"Time",{"$nulls":7},"TEAM No."]
["Sign",null,null,{"$f":"DRAW!$C$33","v":0},{"$nulls":5},"Completed",{"$nulls":5},"Sign",null,{"$f":"DRAW!$C$35","v":0}]
["i",{"$nulls":14},"i"]
[{"$f":"Entries!$A$1","v":"2018 District 5 - Mixed Pairs"}]
["R O U N D  2"]
[null,null,"RINK",{"$nulls":5},"DATE"]
[null,null,{"$f":"DRAW!$H$33","v":0},{"$nulls":5},{"$f":"Entries!$A$2","v":"20th June 2018"}]
[]
[{"$f":"DRAW!$D$35","v":0},{"$nulls":10},"L",null,{"$f":"DRAW!$D$33","v":0}]
[]
[{"$f":"DRAW!$E$35","v":0},{"$nulls":10},"Sk",null,{"$f":"DRAW!$E$33","v":0}]
[]
[null,null,"First Set",{"$nulls":10},"Second Set"]
[null,null,{"$f":"DRAW!$E$35","v":0},{"$nulls":3},{"$f":"DRAW!$E$33","v":0},{"$nulls":6},{"$f":"DRAW!$E$35","v":0},{"$nulls":3},{"$f":"DRAW!$E$33","v":0}]
["End",null,"Shots",null,"Total",null,"Shots",null,"Total",{"$nulls":4},"Shots",null,"Total",null,"Shots",null,"Total"]
[1]
[2]
[3]
[4]
[33,{"$nulls":10},2,{"$nulls":10},1]
["Points",{"$nulls":3},"Tie Break",{"$nulls":14},"Points"]
[{"$nulls":4},"End",null,"Shots",{"$nulls":8},"Shots"]
[{"$nulls":4},1]
[{"$nulls":3},"TEAM No.",{"$nulls":5},"Time",{"$nulls":7},"TEAM No."]
["Sign",null,null,{"$f":"DRAW!$C$35","v":0},{"$nulls":5},"Completed",{"$nulls":5},"Sign",null,{"$f":"DRAW!$C$33","v":0}]
["i",{"$nulls":14},"i"]
[{"$f":"Entries!$A$1","v":"2018 District 5 - Mixed Pairs"}]
["R O U N D  2"]
[null,null,"RINK",{"$nulls":5},"DATE"]
[null,null,{"$f":"DRAW!$H$36","v":0},{"$nulls":5},{"$f":"Entries!$A$2","v":"20th June 2018"}]
[]
[{"$f":"DRAW!$D$36","v":0},{"$nulls":10},"L",null,{"$f":"DRAW!$D$34","v":0}]
[]
[{"$f":"DRAW!$E$36","v":0},{"$nulls":10},"Sk",null,{"$f":"DRAW!$E$34","v":0}]
[]
[null,null,"First Set",{"$nulls":10},"Second Set"]
[null,null,{"$f":"DRAW!$E$36","v":0},{"$nulls":3},{"$f":"DRAW!$E$34","v":0},{"$nulls":6},{"$f":"DRAW!$E$36","v":0},{"$nulls":3},{"$f":"DRAW!$E$34","v":0}]
["End",null,"Shots",null,"Total",null,"Shots",null,"Total",{"$nulls":4},"Shots",null,"Total",null,"Shots",null,"Total"]
[1]
[2]
[3]
[4]
[36,{"$nulls":10},1,{"$nulls":10},1]
["Points",{"$nulls":3},"Tie Break",{"$nulls":14},"Points"]
[{"$nulls":4},"End",null,"Shots",{"$nulls":8},"Shots"]
[{"$nulls":4},1]
[{"$nulls":3},"TEAM No.",{"$nulls":5},"Time",{"$nulls":7},"TEAM No."]
["Sign",null,null,{"$f":"DRAW!$C$36","v":0},{"$nulls":5},"Completed",{"$nulls":5},"Sign",null,{"$f":"DRAW!$C$34","v":0}]
["i",{"$nulls":14},"i"]
[{"$f":"Entries!$A$1","v":"2018 District 5 - Mixed Pairs"}]
["R O U N D  2"]
[null,null,"RINK",{"$nulls":5},"DATE"]
[null,null,{"$f":"DRAW!$H$36","v":0},{"$nulls":5},{"$f":"Entries!$A$2","v":"20th June 2018"}]
[]
[{"$f":"DRAW!$D$34","v":0},{"$nulls":10},"L",null,{"$f":"DRAW!$D$36","v":0}]
[]
[{"$f":"DRAW!$E$34","v":0},{"$nulls":10},"Sk",null,{"$f":"DRAW!$E$36","v":0}]
[]
[null,null,"First Set",{"$nulls":10},"Second Set"]
[null,null,{"$f":"DRAW!$E$34","v":0},{"$nulls":3},{"$f":"DRAW!$E$36","v":0},{"$nulls":6},{"$f":"DRAW!$E$34","v":0},{"$nulls":3},{"$f":"DRAW!$E$36","v":0}]
["End",null,"Shots",null,"Total",null,"Shots",null,"Total",{"$nulls":4},"Shots",null,"Total",null,"Shots",null,"Total"]
[1]
[2]
[3]
[4]
[36,{"$nulls":10},2,{"$nulls":10},1]
["Points",{"$nulls":3},"Tie Break",{"$nulls":14},"Points"]
[{"$nulls":4},"End",null,"Shots",{"$nulls":8},"Shots"]
[{"$nulls":4},1]
[{"$nulls":3},"TEAM No.",{"$nulls":5},"Time",{"$nulls":7},"TEAM No."]
["Sign",null,null,{"$f":"DRAW!$C$34","v":0},{"$nulls":5},"Completed",{"$nulls":5},"Sign",null,{"$f":"DRAW!$C$36","v":0}]
["i",{"$nulls":14},"i"]
[{"$f":"Entries!$A$1","v":"2018 District 5 - Mixed Pairs"}]
["R O U N D  2"]
[null,null,"RINK",{"$nulls":5},"DATE"]
[null,null,{"$f":"DRAW!$H$37","v":0},{"$nulls":5},{"$f":"Entries!$A$2","v":"20th June 2018"}]
[]
[{"$f":"DRAW!$D$37","v":0},{"$nulls":10},"L",null,{"$f":"DRAW!$D$39","v":0}]
[]
[{"$f":"DRAW!$E$37","v":0},{"$nulls":10},"Sk",null,{"$f":"DRAW!$E$39","v":0}]
[]
[null,null,"First Set",{"$nulls":10},"Second Set"]
[null,null,{"$f":"DRAW!$E$37","v":0},{"$nulls":3},{"$f":"DRAW!$E$39","v":0},{"$nulls":6},{"$f":"DRAW!$E$37","v":0},{"$nulls":3},{"$f":"DRAW!$E$39","v":0}]
["End",null,"Shots",null,"Total",null,"Shots",null,"Total",{"$nulls":4},"Shots",null,"Total",null,"Shots",null,"Total"]
[1]
[2]
[3]
[4]
[37,{"$nulls":10},1,{"$nulls":10},1]
["Points",{"$nulls":3},"Tie Break",{"$nulls":14},"Points"]
[{"$nulls":4},"End",null,"Shots",{"$nulls":8},"Shots"]
[{"$nulls":4},1]
[{"$nulls":3},"TEAM No.",{"$nulls":5},"Time",{"$nulls":7},"TEAM No."]
["Sign",null,null,{"$f":"DRAW!$C$37","v":0},{"$nulls":5},"Completed",{"$nulls":5},"Sign",null,{"$f":"DRAW!$C$39","v":0}]
["i",{"$nulls":14},"i"]
[{"$f":"Entries!$A$1","v":"2018 District 5 - Mixed Pairs"}]
["R O U N D  2"]
[null,null,"RINK",{"$nulls":5},"DATE"]
[null,null,{"$f":"DRAW!$H$37","v":0},{"$nulls":5},{"$f":"Entries!$A$2","v":"20th June 2018"}]
[]
[{"$f":"DRAW!$D$39","v":0},{"$nulls":10},"L",null,{"$f":"DRAW!$D$37","v":0}]
[]
[{"$f":"DRAW!$E$39","v":0},{"$nulls":10},"Sk",null,{"$f":"DRAW!$E$37","v":0}]
[]
[null,null,"First Set",{"$nulls":10},"Second Set"]
[null,null,{"$f":"DRAW!$E$39","v":0},{"$nulls":3},{"$f":"DRAW!$E$37","v":0},{"$nulls":6},{"$f":"DRAW!$E$39","v":0},{"$nulls":3},{"$f":"DRAW!$E$37","v":0}]
["End",null,"Shots",null,"Total",null,"Shots",null,"Total",{"$nulls":4},"Shots",null,"Total",null,"Shots",null,"Total"]
[1]
[2]
[3]
[4]
[37,{"$nulls":10},2,{"$nulls":10},1]
["Points",{"$nulls":3},"Tie Break",{"$nulls":14},"Points"]
[{"$nulls":4},"End",null,"Shots",{"$nulls":8},"Shots"]
[{"$nulls":4},1]
[{"$nulls":3},"TEAM No.",{"$nulls":5},"Time",{"$nulls":7},"TEAM No."]
["Sign",null,null,{"$f":"DRAW!$C$39","v":0},{"$nulls":5},"Completed",{"$nulls":5},"Sign",null,{"$f":"DRAW!$C$37","v":0}]
["i",{"$nulls":14},"i"]
[{"$f":"Entries!$A$1","v":"2018 District 5 - Mixed Pairs"}]
["R O U N D  2"]
[null,null,"RINK",{"$nulls":5},"DATE"]
[null,null,{"$f":"DRAW!$H$38","v":0},{"$nulls":5},{"$f":"Entries!$A$2","v":"20th June 2018"}]
[]
[{"$f":"DRAW!$D$38","v":0},{"$nulls":10},"L",null,{"$f":"DRAW!$D$40","v":0}]
[]
[{"$f":"DRAW!$E$38","v":0},{"$nulls":10},"Sk",null,{"$f":"DRAW!$E$40","v":0}]
[]
[null,null,"First Set",{"$nulls":10},"Second Set"]
[null,null,{"$f":"DRAW!$E$38","v":0},{"$nulls":3},{"$f":"DRAW!$E$40","v":0},{"$nulls":6},{"$f":"DRAW!$E$38","v":0},{"$nulls":3},{"$f":"DRAW!$E$40","v":0}]
["End",null,"Shots",null,"Total",null,"Shots",null,"Total",{"$nulls":4},"Shots",null,"Total",null,"Shots",null,"Total"]
[1]
[2]
[3]
[4]
[38,{"$nulls":10},1,{"$nulls":10},1]
["Points",{"$nulls":3},"Tie Break",{"$nulls":14},"Points"]
[{"$nulls":4},"End",null,"Shots",{"$nulls":8},"Shots"]
[{"$nulls":4},1]
[{"$nulls":3},"TEAM No.",{"$nulls":5},"Time",{"$nulls":7},"TEAM No."]
["Sign",null,null,{"$f":"DRAW!$C$38","v":0},{"$nulls":5},"Completed",{"$nulls":5},"Sign",null,{"$f":"DRAW!$C$40","v":0}]
["i",{"$nulls":14},"i"]
[{"$f":"Entries!$A$1","v":"2018 District 5 - Mixed Pairs"}]
["R O U N D  2"]
[null,null,"RINK",{"$nulls":5},"DATE"]
[null,null,{"$f":"DRAW!$H$38","v":0},{"$nulls":5},{"$f":"Entries!$A$2","v":"20th June 2018"}]
[]
[{"$f":"DRAW!$D$40","v":0},{"$nulls":10},"L",null,{"$f":"DRAW!$D$38","v":0}]
[]
[{"$f":"DRAW!$E$40","v":0},{"$nulls":10},"Sk",null,{"$f":"DRAW!$E$38","v":0}]
[]
[null,null,"First Set",{"$nulls":10},"Second Set"]
[null,null,{"$f":"DRAW!$E$40","v":0},{"$nulls":3},{"$f":"DRAW!$E$38","v":0},{"$nulls":6},{"$f":"DRAW!$E$40","v":0},{"$nulls":3},{"$f":"DRAW!$E$38","v":0}]
["End",null,"Shots",null,"Total",null,"Shots",null,"Total",{"$nulls":4},"Shots",null,"Total",null,"Shots",null,"Total"]
[1]
[2]
[3]
[4]
[38,{"$nulls":10},2,{"$nulls":10},1]
["Points",{"$nulls":3},"Tie Break",{"$nulls":14},"Points"]
[{"$nulls":4},"End",null,"Shots",{"$nulls":8},"Shots"]
[{"$nulls":4},1]
[{"$nulls":3},"TEAM No.",{"$nulls":5},"Time",{"$nulls":7},"TEAM No."]
["Sign",null,null,{"$f":"DRAW!$C$40","v":0},{"$nulls":5},"Completed",{"$nulls":5},"Sign",null,{"$f":"DRAW!$C$38","v":0}]
["i",{"$nulls":14},"i"]
[{"$f":"Entries!$A$1","v":"2018 District 5 - Mixed Pairs"}]
["R O U N D  2"]
[null,null,"RINK",{"$nulls":5},"DATE"]
[null,null,{"$f":"DRAW!$H$41","v":0},{"$nulls":5},{"$f":"Entries!$A$2","v":"20th June 2018"}]
[]
[{"$f":"DRAW!$D$41","v":0},{"$nulls":10},"L",null,{"$f":"DRAW!$D$43","v":0}]
[]
[{"$f":"DRAW!$E$41","v":0},{"$nulls":10},"Sk",null,{"$f":"DRAW!$E$43","v":0}]
[]
[null,null,"First Set",{"$nulls":10},"Second Set"]
[null,null,{"$f":"DRAW!$E$41","v":0},{"$nulls":3},{"$f":"DRAW!$E$43","v":0},{"$nulls":6},{"$f":"DRAW!$E$41","v":0},{"$nulls":3},{"$f":"DRAW!$E$43","v":0}]
["End",null,"Shots",null,"Total",null,"Shots",null,"Total",{"$nulls":4},"Shots",null,"Total",null,"Shots",null,"Total"]
[1]
[2]
[3]
[4]
[41,{"$nulls":10},1,{"$nulls":10},1]
["Points",{"$nulls":3},"Tie Break",{"$nulls":14},"Points"]
[{"$nulls":4},"End",null,"Shots",{"$nulls":8},"Shots"]
[{"$nulls":4},1]
[{"$nulls":3},"TEAM No.",{"$nulls":5},"Time",{"$nulls":7},"TEAM No."]
["Sign",null,null,{"$f":"DRAW!$C$41","v":0},{"$nulls":5},"Completed",{"$nulls":5},"Sign",null,{"$f":"DRAW!$C$43","v":0}]
["i",{"$nulls":14},"i"]
[{"$f":"Entries!$A$1","v":"2018 District 5 - Mixed Pairs"}]
["R O U N D  2"]
[null,null,"RINK",{"$nulls":5},"DATE"]
[null,null,{"$f":"DRAW!$H$41","v":0},{"$nulls":5},{"$f":"Entries!$A$2","v":"20th June 2018"}]
[]
[{"$f":"DRAW!$D$43","v":0},{"$nulls":10},"L",null,{"$f":"DRAW!$D$41","v":0}]
[]
[{"$f":"DRAW!$E$43","v":0},{"$nulls":10},"Sk",null,{"$f":"DRAW!$E$41","v":0}]
[]
[null,null,"First Set",{"$nulls":10},"Second Set"]
[null,null,{"$f":"DRAW!$E$43","v":0},{"$nulls":3},{"$f":"DRAW!$E$41","v":0},{"$nulls":6},{"$f":"DRAW!$E$43","v":0},{"$nulls":3},{"$f":"DRAW!$E$41","v":0}]
["End",null,"Shots",null,"Total",null,"Shots",null,"Total",{"$nulls":4},"Shots",null,"Total",null,"Shots",null,"Total"]
[1]
[2]
[3]
[4]
[41,{"$nulls":10},2,{"$nulls":10},1]
["Points",{"$nulls":3},"Tie Break",{"$nulls":14},"Points"]
[{"$nulls":4},"End",null,"Shots",{"$nulls":8},"Shots"]
[{"$nulls":4},1]
[{"$nulls":3},"TEAM No.",{"$nulls":5},"Time",{"$nulls":7},"TEAM No."]
["Sign",null,null,{"$f":"DRAW!$C$43","v":0},{"$nulls":5},"Completed",{"$nulls":5},"Sign",null,{"$f":"DRAW!$C$41","v":0}]
["i",{"$nulls":14},"i"]
[{"$f":"Entries!$A$1","v":"2018 District 5 - Mixed Pairs"}]
["R O U N D  2"]
[null,null,"RINK",{"$nulls":5},"DATE"]
[null,null,{"$f":"DRAW!$H$42","v":0},{"$nulls":5},{"$f":"Entries!$A$2","v":"20th June 2018"}]
[]
[{"$f":"DRAW!$D$42","v":0},{"$nulls":10},"L",null,{"$f":"DRAW!$D$44","v":0}]
[]
[{"$f":"DRAW!$E$42","v":0},{"$nulls":10},"Sk",null,{"$f":"DRAW!$E$44","v":0}]
[]
[null,null,"First Set",{"$nulls":10},"Second Set"]
[null,null,{"$f":"DRAW!$E$42","v":0},{"$nulls":3},{"$f":"DRAW!$E$44","v":0},{"$nulls":6},{"$f":"DRAW!$E$42","v":0},{"$nulls":3},{"$f":"DRAW!$E$44","v":0}]
["End",null,"Shots",null,"Total",null,"Shots",null,"Total",{"$nulls":4},"Shots",null,"Total",null,"Shots",null,"Total"]
[1]
[2]
[3]
[4]
[42,{"$nulls":10},1,{"$nulls":10},1]
["Points",{"$nulls":3},"Tie Break",{"$nulls":14},"Points"]
[{"$nulls":4},"End",null,"Shots",{"$nulls":8},"Shots"]
[{"$nulls":4},1]
[{"$nulls":3},"TEAM No.",{"$nulls":5},"Time",{"$nulls":7},"TEAM No."]
["Sign",null,null,{"$f":"DRAW!$C$42","v":0},{"$nulls":5},"Completed",{"$nulls":5},"Sign",null,{"$f":"DRAW!$C$44","v":0}]
["i",{"$nulls":14},"i"]
[{"$f":"Entries!$A$1","v":"2018 District 5 - Mixed Pairs"}]
["R O U N D  2"]
[null,null,"RINK",{"$nulls":5},"DATE"]
[null,null,{"$f":"DRAW!$H$42","v":0},{"$nulls":5},{"$f":"Entries!$A$2","v":"20th June 2018"}]
[]
[{"$f":"DRAW!$D$44","v":0},{"$nulls":10},"L",null,{"$f":"DRAW!$D$42","v":0}]
[]
[{"$f":"DRAW!$E$44","v":0},{"$nulls":10},"Sk",null,{"$f":"DRAW!$E$42","v":0}]
[]
[null,null,"First Set",{"$nulls":10},"Second Set"]
[null,null,{"$f":"DRAW!$E$44","v":0},{"$nulls":3},{"$f":"DRAW!$E$42","v":0},{"$nulls":6},{"$f":"DRAW!$E$44","v":0},{"$nulls":3},{"$f":"DRAW!$E$42","v":0}]
["End",null,"Shots",null,"Total",null,"Shots",null,"Total",{"$nulls":4},"Shots",null,"Total",null,"Shots",null,"Total"]
[1]
[2]
[3]
[4]
[42,{"$nulls":10},2,{"$nulls":10},1]
["Points",{"$nulls":3},"Tie Break",{"$nulls":14},"Points"]
[{"$nulls":4},"End",null,"Shots",{"$nulls":8},"Shots"]
[{"$nulls":4},1]
[{"$nulls":3},"TEAM No.",{"$nulls":5},"Time",{"$nulls":7},"TEAM No."]
["Sign",null,null,{"$f":"DRAW!$C$44","v":0},{"$nulls":5},"Completed",{"$nulls":5},"Sign",null,{"$f":"DRAW!$C$42","v":0}]
["i",{"$nulls":14},"i"]

{"sheet":"R 3 cds","index":12,"n_rows":920,"n_cols":23,"rows_kept":920,"merged":[[0,0,0,23],[1,0,1,23],[2,2,2,6],[2,8,2,23],[3,2,3,6],[3,8,3,23],[5,0,5,10],[5,11,5,12],[5,13,5,23],[7,0,7,10],[7,11,7,12],[7,13,7,23],[9,2,9,10],[9,13,9,21],[10,2,10,5],[10,6,10,10],[10,13,10,16],[10,17,10,21],[11,0,11,1],[11,2,11,3],[11,4,11,5],[11,6,11,7],[11,8,11,10],[11,13,11,14],[11,15,11,16],[11,17,11,18],[11,19,11,21],[12,0,12,1],[12,2,12,3],[12,4,12,5],[12,6,12,7],[12,8,12,10],[12,13,12,14],[12,15,12,16],[12,17,12,18],[12,19,12,21],[13,0,13,1],[13,2,13,3],[13,4,13,5],[13,6,13,7],[13,8,13,10],[13,13,13,14],[13,15,13,16],[13,17,13,18],[13,19,13,21],[14,0,14,1],[14,2,14,3],[14,4,14,5],[14,6,14,7],[14,8,14,10],[14,13,14,14],[14,15,14,16],[14,17,14,18],[14,19,14,21],[15,0,15,1],[15,2,15,3],[15,4,15,5],[15,6,15,7],[15,8,15,10],[15,13,15,14],[15,15,15,16],[15,17,15,18],[15,19,15,21],[16,0,16,1],[16,2,16,3],[16,4,16,5],[16,6,16,7],[16,8,16,10],[16,11,16,12],[16,13,16,14],[16,15,16,16],[16,17,16,18],[16,19,16,21],[16,22,16,23],[17,0,17,2],[17,4,17,18],[17,19,17,23],[18,0,19,2],[18,4,18,5],[18,6,18,8],[18,15,18,17],[18,19,19,23],[19,4,19,5],[19,6,19,8],[19,15,19,17],[20,3,20,6],[20,9,20,14],[20,17,20,21],[21,0,21,1],[21,3,22,6],[21,9,21,14],[21,15,21,16],[21,17,22,21],[22,0,22,1],[22,15,22,16],[23,0,23,23],[24,0,24,23],[25,2,25,6],[25,8,25,23],[26,2,26,6],[26,8,26,23],[28,0,28,10],[28,11,28,12],[28,13,28,23],[30,0,30,10],[30,11,30,12],[30,13,30,23],[32,2,32,10],[32,13,32,21],[33,2,33,5],[33,6,33,10],[33,13,33,16],[33,17,33,21],[34,0,34,1],[34,2,34,3],[34,4,34,5],[34,6,34,7],[34,8,34,10],[34,13,34,14],[34,15,34,16],[34,17,34,18],[34,19,34,21],[35,0,35,1],[35,2,35,3],[35,4,35,5],[35,6,35,7],[35,8,35,10],[35,13,35,14],[35,15,35,16],[35,17,35,18],[35,19,35,21],[36,0,36,1],[36,2,36,3],[36,4,36,5],[36,6,36,7],[36,8,36,10],[36,13,36,14],[36,15,36,16],[36,17,36,18],[36,19,36,21],[37,0,37,1],[37,2,37,3],[37,4,37,5],[37,6,37,7],[37,8,37,10],[37,13,37,14],[37,15,37,16],[37,17,37,18],[37,19,37,21],[38,0,38,1],[38,2,38,3],[38,4,38,5],[38,6,38,7],[38,8,38,10],[38,13,38,14],[38,15,38,16],[38,17,38,18],[38,19,38,21],[39,0,39,1],[39,2,39,3],[39,4,39,5],[39,6,39,7],[39,8,39,10],[39,11,39,12],[39,13,39,14],[39,15,39,16],[39,17,39,18],[39,19,39,21],[39,22,39,23],[40,0,40,2],[40,4,40,18],[40,19,40,23],[41,4,41,5],[41,6,41,8],[41,15,41,17],[41,19,42,23],[42,4,42,5],[42,6,42,8],[43,3,43,6],[43,9,43,14],[43,17,43,21],[44,0,44,1],[44,3,45,6],[44,9,44,14],[44,15,44,16],[44,17,45,21],[45,0,45,1],[45,15,45,16],[46,0,46,23],[47,0,47,23],[48,2,48,6],[48,8,48,23],[49,2,49,6],[49,8,49,23],[51,0,51,10],[51,11,51,12],[51,13,51,23],[53,0,53,10],[53,11,53,12],[53,13,53,23],[55,2,55,10],[55,13,55,21],[56,2,56,5],[56,6,56,10],[56,13,56,16],[56,17,56,21],[57,0,57,1],[57,2,57,3],[57,4,57,5],[57,6,57,7],[57,8,57,10],[57,13,57,14],[57,15,57,16],[57,17,57,18],[57,19,57,21],[58,0,58,1],[58,2,58,3],[58,4,58,5],[58,6,58,7],[58,8,58,10],[58,13,58,14],[58,15,58,16],[58,17,58,18],[58,19,58,21],[59,0,59,1],[59,2,59,3],[59,4,59,5],[59,6,59,7],[59,8,59,10],[59,13,59,14],[59,15,59,16],[59,17,59,18],[59,19,59,21],[60,0,60,1],[60,2,60,3],[60,4,60,5],[60,6,60,7],[60,8,60,10],[60,13,60,14],[60,15,60,16],[60,17,60,18],[60,19,60,21],[61,0,61,1],[61,2,61,3],[61,4,61,5],[61,6,61,7],[61,8,61,10],[61,13,61,14],[61,15,61,16],[61,17,61,18],[61,19,61,21],[62,0,62,1],[62,2,62,3],[62,4,62,5],[62,6,62,7],[62,8,62,10],[62,11,62,12],[62,13,62,14],[62,15,62,16],[62,17,62,18],[62,19,62,21],[62,22,62,23],[63,0,63,2],[63,4,63,18],[63,19,63,23],[64,4,64,5],[64,6,64,8],[64,15,64,17],[64,19,65,23],[65,4,65,5],[65,6,65,8],[66,3,66,6],[66,9,66,14],[66,17,66,21],[67,0,67,1],[67,3,68,6],[67,9,67,14],[67,15,67,16],[67,17,68,21],[68,0,68,1],[68,15,68,16],[69,0,69,23],[70,0,70,23],[71,2,71,6],[71,8,71,23],[72,2,72,6],[72,8,72,23],[74,0,74,10],[74,11,74,12],[74,13,74,23],[76,0,76,10],[76,11,76,12],[76,13,76,23],[78,2,78,10],[78,13,78,21],[79,2,79,5],[79,6,79,10],[79,13,79,16],[79,17,79,21],[80,0,80,1],[80,2,80,3],[80,4,80,5],[80,6,80,7],[80,8,80,10],[80,13,80,14],[80,15,80,16],[80,17,80,18],[80,19,80,21],[81,0,81,1],[81,2,81,3],[81,4,81,5],[81,6,81,7],[81,8,81,10],[81,13,81,14],[81,15,81,16],[81,17,81,18],[81,19,81,21],[82,0,82,1],[82,2,82,3],[82,4,82,5],[82,6,82,7],[82,8,82,10],[82,13,82,14],[82,15,82,16],[82,17,82,18],[82,19,82,21],[83,0,83,1],[83,2,83,3],[83,4,83,5],[83,6,83,7],[83,8,83,10],[83,13,83,14],[83,15,83,16],[83,17,83,18],[83,19,83,21],[84,0,84,1],[84,2,84,3],[84,4,84,5],[84,6,84,7],[84,8,84,10],[84,13,84,14],[84,15,84,16],[84,17,84,18],[84,19,84,21],[85,0,85,1],[85,2,85,3],[85,4,85,5],[85,6,85,7],[85,8,85,10],[85,11,85,12],[85,13,85,14],[85,15,85,16],[85,17,85,18],[85,19,85,21],[85,22,85,23],[86,0,86,2],[86,4,86,18],[86,19,86,23],[87,4,87,5],[87,6,87,8],[87,15,87,17],[87,19,88,23],[88,4,88,5],[88,6,88,8],[89,3,89,6],[89,9,89,14],[89,17,89,21],[90,0,90,1],[90,3,91,6],[90,9,90,14],[90,15,90,16],[90,17,91,21],[91,0,91,1],[91,15,91,16],[92,0,92,23],[93,0,93,23],[94,2,94,6],[94,8,94,23],[95,2,95,6],[95,8,95,23],[97,0,97,10],[97,11,97,12],[97,13,97,23],[99,0,99,10],[99,11,99,12],[99,13,99,23],[101,2,101,10],[101,13,101,21],[102,2,102,5],[102,6,102,10],[102,13,102,16],[102,17,102,21],[103,0,103,1],[103,2,103,3],[103,4,103,5],[103,6,103,7],[103,8,103,10],[103,13,103,14],[103,15,103,16],[103,17,103,18],[103,19,103,21],[104,0,104,1],[104,2,104,3],[104,4,104,5],[104,6,104,7],[104,8,104,10],[104,13,104,14],[104,15,104,16],[104,17,104,18],[104,19,104,21],[105,0,105,1],[105,2,105,3],[105,4,105,5],[105,6,105,7],[105,8,105,10],[105,13,105,14],[105,15,105,16],[105,17,105,18],[105,19,105,21],[106,0,106,1],[106,2,106,3],[106,4,106,5],[106,6,106,7],[106,8,106,10],[106,13,106,14],[106,15,106,16],[106,17,106,18],[106,19,106,21],[107,0,107,1],[107,2,107,3],[107,4,107,5],[107,6,107,7],[107,8,107,10],[107,13,107,14],[107,15,107,16],[107,17,107,18],[107,19,107,21],[108,0,108,1],[108,2,108,3],[108,4,108,5],[108,6,108,7],[108,8,108,10],[108,11,108,12],[108,13,108,14],[108,15,108,16],[108,17,108,18],[108,19,108,21],[108,22,108,23],[109,0,109,2],[109,4,109,18],[109,19,109,23],[110,4,110,5],[110,6,110,8],[110,15,110,17],[110,19,111,23],[111,4,111,5],[111,6,111,8],[112,3,112,6],[112,9,112,14],[112,17,112,21],[113,0,113,1],[113,3,114,6],[113,9,113,14],[113,15,113,16],[113,17,114,21],[114,0,114,1],[114,15,114,16],[115,0,115,23],[116,0,116,23],[117,2,117,6],[117,8,117,23],[118,2,118,6],[118,8,118,23],[120,0,120,10],[120,11,120,12],[120,13,120,23],[122,0,122,10],[122,11,122,12],[122,13,122,23],[124,2,124,10],[124,13,124,21],[125,2,125,5],[125,6,125,10],[125,13,125,16],[125,17,125,21],[126,0,126,1],[126,2,126,3],[126,4,126,5],[126,6,126,7],[126,8,126,10],[126,13,126,14],[126,15,126,16],[126,17,126,18],[126,19,126,21],[127,0,127,1],[127,2,127,3],[127,4,127,5],[127,6,127,7],[127,8,127,10],[127,13,127,14],[127,15,127,16],[127,17,127,18],[127,19,127,21],[128,0,128,1],[128,2,128,3],[128,4,128,5],[128,6,128,7],[128,8,128,10],[128,13,128,14],[128,15,128,16],[128,17,128,18],[128,19,128,21],[129,0,129,1],[129,2,129,3],[129,4,129,5],[129,6,129,7],[129,8,129,10],[129,13,129,14],[129,15,129,16],[129,17,129,18],[129,19,129,21],[130,0,130,1],[130,2,130,3],[130,4,130,5],[130,6,130,7],[130,8,130,10],[130,13,130,14],[130,15,130,16],[130,17,130,18],[130,19,130,21],[131,0,131,1],[131,2,131,3],[131,4,131,5],[131,6,131,7],[131,8,131,10],[131,11,131,12],[131,13,131,14],[131,15,131,16],[131,17,131,18],[131,19,131,21],[131,22,131,23],[132,0,132,2],[132,4,132,18],[132,19,132,23],[133,4,133,5],[133,6,133,8],[133,15,133,17],[133,19,134,23],[134,4,134,5],[134,6,134,8],[135,3,135,6],[135,9,135,14],[135,17,135,21],[136,0,136,1],[136,3,137,6],[136,9,136,14],[136,15,136,16],[136,17,137,21],[137,0,137,1],[137,15,137,16],[138,0,138,23],[139,0,139,23],[140,2,140,6],[140,8,140,23],[141,2,141,6],[141,8,141,23],[143,0,143,10],[143,11,143,12],[143,13,143,23],[145,0,145,10],[145,11,145,12],[145,13,145,23],[147,2,147,10],[147,13,147,21],[148,2,148,5],[148,6,148,10],[148,13,148,16],[148,17,148,21],[149,0,149,1],[149,2,149,3],[149,4,149,5],[149,6,149,7],[149,8,149,10],[149,13,149,14],[149,15,149,16],[149,17,149,18],[149,19,149,21],[150,0,150,1],[150,2,150,3],[150,4,150,5],[150,6,150,7],[150,8,150,10],[150,13,150,14],[150,15,150,16],[150,17,150,18],[150,19,150,21],[151,0,151,1],[151,2,151,3],[151,4,151,5],[151,6,151,7],[151,8,151,10],[151,13,151,14],[151,15,151,16],[151,17,151,18],[151,19,151,21],[152,0,152,1],[152,2,152,3],[152,4,152,5],[152,6,152,7],[152,8,152,10],[152,13,152,14],[152,15,152,16],[152,17,152,18],[152,19,152,21],[153,0,153,1],[153,2,153,3],[153,4,153,5],[153,6,153,7],[153,8,153,10],[153,13,153,14],[153,15,153,16],[153,17,153,18],[153,19,153,21],[154,0,154,1],[154,2,154,3],[154,4,154,5],[154,6,154,7],[154,8,154,10],[154,11,154,12],[154,13,154,14],[154,15,154,16],[154,17,154,18],[154,19,154,21],[154,22,154,23],[155,0,155,2],[155,4,155,18],[155,19,155,23],[156,4,156,5],[156,6,156,8],[156,15,156,17],[156,19,157,23],[157,4,157,5],[157,6,157,8],[158,3,158,6],[158,9,158,14],[158,17,158,21],[159,0,159,1],[159,3,160,6],[159,9,159,14],[159,15,159,16],[159,17,160,21],[160,0,160,1],[160,15,160,16],[161,0,161,23],[162,0,162,23],[163,2,163,6],[163,8,163,23],[164,2,164,6],[164,8,164,23],[166,0,166,10],[166,11,166,12],[166,13,166,23],[168,0,168,10],[168,11,168,12],[168,13,168,23],[170,2,170,10],[170,13,170,21],[171,2,171,5],[171,6,171,10],[171,13,171,16],[171,17,171,21],[172,0,172,1],[172,2,172,3],[172,4,172,5],[172,6,172,7],[172,8,172,10],[172,13,172,14],[172,15,172,16],[172,17,172,18],[172,19,172,21],[173,0,173,1],[173,2,173,3],[173,4,173,5],[173,6,173,7],[173,8,173,10],[173,13,173,14],[173,15,173,16],[173,17,173,18],[173,19,173,21],[174,0,174,1],[174,2,174,3],[174,4,174,5],[174,6,174,7],[174,8,174,10],[174,13,174,14],[174,15,174,16],[174,17,174,18],[174,19,174,21],[175,0,175,1],[175,2,175,3],[175,4,175,5],[175,6,175,7],[175,8,175,10],[175,13,175,14],[175,15,175,16],[175,17,175,18],[175,19,175,21],[176,0,176,1],[176,2,176,3],[176,4,176,5],[176,6,176,7],[176,8,176,10],[176,13,176,14],[176,15,176,16],[176,17,176,18],[176,19,176,21],[177,0,177,1],[177,2,177,3],[177,4,177,5],[177,6,177,7],[177,8,177,10],[177,11,177,12],[177,13,177,14],[177,15,177,16],[177,17,177,18],[177,19,177,21],[177,22,177,23],[178,0,178,2],[178,4,178,18],[178,19,178,23],[179,4,179,5],[179,6,179,8],[179,15,179,17],[179,19,180,23],[180,4,180,5],[180,6,180,8],[181,3,181,6],[181,9,181,14],[181,17,181,21],[182,0,182,1],[182,3,183,6],[182,9,182,14],[182,15,182,16],[182,17,183,21],[183,0,183,1],[183,15,183,16],[184,0,184,23],[185,0,185,23],[186,2,186,6],[186,8,186,23],[187,2,187,6],[187,8,187,23],[189,0,189,10],[189,11,189,12],[189,13,189,23],[191,0,191,10],[191,11,191,12],[191,13,191,23],[193,2,193,10],[193,13,193,21],[194,2,194,5],[194,6,194,10],[194,13,194,16],[194,17,194,21],[195,0,195,1],[195,2,195,3],[195,4,195,5],[195,6,195,7],[195,8,195,10],[195,13,195,14],[195,15,195,16],[195,17,195,18],[195,19,195,21],[196,0,196,1],[196,2,196,3],[196,4,196,5],[196,6,196,7],[196,8,196,10],[196,13,196,14],[196,15,196,16],[196,17,196,18],[196,19,196,21],[197,0,197,1],[197,2,197,3],[197,4,197,5],[197,6,197,7],[197,8,197,10],[197,13,197,14],[197,15,197,16],[197,17,197,18],[197,19,197,21],[198,0,198,1],[198,2,198,3],[198,4,198,5],[198,6,198,7],[198,8,198,10],[198,13,198,14],[198,15,198,16],[198,17,198,18],[198,19,198,21],[199,0,199,1],[199,2,199,3],[199,4,199,5],[199,6,199,7],[199,8,199,10],[199,13,199,14],[199,15,199,16],[199,17,199,18],[199,19,199,21],[200,0,200,1],[200,2,200,3],[200,4,200,5],[200,6,200,7],[200,8,200,10],[200,11,200,12],[200,13,200,14],[200,15,200,16],[200,17,200,18],[200,19,200,21],[200,22,200,23],[201,0,201,2],[201,4,201,18],[201,19,201,23],[202,4,202,5],[202,6,202,8],[202,15,202,17],[202,19,203,23],[203,4,203,5],[203,6,203,8],[204,3,204,6],[204,9,204,14],[204,17,204,21],[205,0,205,1],[205,3,206,6],[205,9,205,14],[205,15,205,16],[205,17,206,21],[206,0,206,1],[206,15,206,16],[207,0,207,23],[208,0,208,23],[209,2,209,6],[209,8,209,23],[210,2,210,6],[210,8,210,23],[212,0,212,10],[212,11,212,12],[212,13,212,23],[214,0,214,10],[214,11,214,12],[214,13,214,23],[216,2,216,10],[216,13,216,21],[217,2,217,5],[217,6,217,10],[217,13,217,16],[217,17,217,21],[218,0,218,1],[218,2,218,3],[218,4,218,5],[218,6,218,7],[218,8,218,10],[218,13,218,14],[218,15,218,16],[218,17,218,18],[218,19,218,21],[219,0,219,1],[219,2,219,3],[219,4,219,5],[219,6,219,7],[219,8,219,10],[219,13,219,14],[219,15,219,16],[219,17,219,18],[219,19,219,21],[220,0,220,1],[220,2,220,3],[220,4,220,5],[220,6,220,7],[220,8,220,10],[220,13,220,14],[220,15,220,16],[220,17,220,18],[220,19,220,21],[221,0,221,1],[221,2,221,3],[221,4,221,5],[221,6,221,7],[221,8,221,10],[221,13,221,14],[221,15,221,16],[221,17,221,18],[221,19,221,21],[222,0,222,1],[222,2,222,3],[222,4,222,5],[222,6,222,7],[222,8,222,10],[222,13,222,14],[222,15,222,16],[222,17,222,18],[222,19,222,21],[223,0,223,1],[223,2,223,3],[223,4,223,5],[223,6,223,7],[223,8,223,10],[223,11,223,12],[223,13,223,14],[223,15,223,16],[223,17,223,18],[223,19,223,21],[223,22,223,23],[224,0,224,2],[224,4,224,18],[224,19,224,23],[225,4,225,5],[225,6,225,8],[225,15,225,17],[225,19,226,23],[226,4,226,5],[226,6,226,8],[227,3,227,6],[227,9,227,14],[227,17,227,21],[228,0,228,1],[228,3,229,6],[228,9,228,14],[228,15,228,16],[228,17,229,21],[229,0,229,1],[229,15,229,16],[230,0,230,23],[231,0,231,23],[232,2,232,6],[232,8,232,23],[233,2,233,6],[233,8,233,23],[235,0,235,10],[235,11,235,12],[235,13,235,23],[237,0,237,10],[237,11,237,12],[237,13,237,23],[239,2,239,10],[239,13,239,21],[240,2,240,5],[240,6,240,10],[240,13,240,16],[240,17,240,21],[241,0,241,1],[241,2,241,3],[241,4,241,5],[241,6,241,7],[241,8,241,10],[241,13,241,14],[241,15,241,16],[241,17,241,18],[241,19,241,21],[242,0,242,1],[242,2,242,3],[242,4,242,5],[242,6,242,7],[242,8,242,10],[242,13,242,14],[242,15,242,16],[242,17,242,18],[242,19,242,21],[243,0,243,1],[243,2,243,3],[243,4,243,5],[243,6,243,7],[243,8,243,10],[243,13,243,14],[243,15,243,16],[243,17,243,18],[243,19,243,21],[244,0,244,1],[244,2,244,3],[244,4,244,5],[244,6,244,7],[244,8,244,10],[244,13,244,14],[244,15,244,16],[245,0,245,1],[245,2,245,3],[245,4,245,5],[245,6,245,7],[245,8,245,10],[245,13,245,14],[245,15,245,16],[245,17,245,18],[245,19,245,21],[246,0,246,1],[246,2,246,3],[246,4,246,5],[246,6,246,7],[246,8,246,10],[246,11,246,12],[246,13,246,14]],"merged_total":3724,"flags":["merged_cut"]}
[{"$f":"Entries!$A$1","v":"2018 District 5 - Mixed Pairs"}]
["R O U N D  3"]
[null,null,"RINK",{"$nulls":5},"DATE"]
[null,null,{"$f":"DRAW!$J$5","v":0},{"$nulls":5},{"$f":"Entries!$A$2","v":"20th June 2018"}]
[]
[{"$f":"DRAW!$D$5","v":0},{"$nulls":10},"L",null,{"$f":"DRAW!$D$8","v":0}]
[]
[{"$f":"DRAW!$E$5","v":0},{"$nulls":10},"Sk",null,{"$f":"DRAW!$E$8","v":0}]
[]
[null,null,"First Set",{"$nulls":10},"Second Set"]
[null,null,{"$f":"DRAW!$E$5","v":0},{"$nulls":3},{"$f":"DRAW!$E$8","v":0},{"$nulls":6},{"$f":"DRAW!$E$5","v":0},{"$nulls":3},{"$f":"DRAW!$E$8","v":0}]
["End",null,"Shots",null,"Total",null,"Shots",null,"Total",{"$nulls":4},"Shots",null,"Total",null,"Shots",null,"Total"]
[1]
[2]
[3]
[4]
[5,{"$nulls":10},1,{"$nulls":10},1]
["Points",{"$nulls":3},"Tie Break",{"$nulls":14},"Points"]
[{"$nulls":4},"End",null,"Shots",{"$nulls":8},"Shots"]
[{"$nulls":4},1]
[{"$nulls":3},"TEAM No.",{"$nulls":5},"Time",{"$nulls":7},"TEAM No."]
["Sign",null,null,{"$f":"DRAW!$C$5","v":0},{"$nulls":5},"Completed",{"$nulls":5},"Sign",null,{"$f":"DRAW!$C$8","v":0}]
["i",{"$nulls":14},"i"]
[{"$f":"Entries!$A$1","v":"2018 District 5 - Mixed Pairs"}]
["R O U N D  3"]
[null,null,"RINK",{"$nulls":5},"DATE"]
[null,null,{"$f":"DRAW!$J$5","v":0},{"$nulls":5},{"$f":"Entries!$A$2","v":"20th June 2018"}]
[]
[{"$f":"DRAW!$D$8","v":0},{"$nulls":10},"L",null,{"$f":"DRAW!$D$5","v":0}]
[]
[{"$f":"DRAW!$E$8","v":0},{"$nulls":10},"Sk",null,{"$f":"DRAW!$E$5","v":0}]
[]
[null,null,"First Set",{"$nulls":10},"Second Set"]
[null,null,{"$f":"DRAW!$E$8","v":0},{"$nulls":3},{"$f":"DRAW!$E$5","v":0},{"$nulls":6},{"$f":"DRAW!$E$8","v":0},{"$nulls":3},{"$f":"DRAW!$E$5","v":0}]
["End",null,"Shots",null,"Total",null,"Shots",null,"Total",{"$nulls":4},"Shots",null,"Total",null,"Shots",null,"Total"]
[1]
[2]
[3]
[4]
[5,{"$nulls":10},2,{"$nulls":10},1]
["Points",{"$nulls":3},"Tie Break",{"$nulls":14},"Points"]
[{"$nulls":4},"End",null,"Shots",{"$nulls":8},"Shots"]
[{"$nulls":4},1]
[{"$nulls":3},"TEAM No.",{"$nulls":5},"Time",{"$nulls":7},"TEAM No."]
["Sign",null,null,{"$f":"DRAW!$C$8","v":0},{"$nulls":5},"Completed",{"$nulls":5},"Sign",null,{"$f":"DRAW!$C$5","v":0}]
["i",{"$nulls":14},"i"]
[{"$f":"Entries!$A$1","v":"2018 District 5 - Mixed Pairs"}]
["R O U N D  3"]
[null,null,"RINK",{"$nulls":5},"DATE"]
[null,null,{"$f":"DRAW!$J$6","v":0},{"$nulls":5},{"$f":"Entries!$A$2","v":"20th June 2018"}]
[]
[{"$f":"DRAW!$D$6","v":0},{"$nulls":10},"L",null,{"$f":"DRAW!$D$7","v":0}]
[]
[{"$f":"DRAW!$E$6","v":0},{"$nulls":10},"Sk",null,{"$f":"DRAW!$E$7","v":0}]
[]
[null,null,"First Set",{"$nulls":10},"Second Set"]
[null,null,{"$f":"DRAW!$E$6","v":0},{"$nulls":3},{"$f":"DRAW!$E$7","v":0},{"$nulls":6},{"$f":"DRAW!$E$6","v":0},{"$nulls":3},{"$f":"DRAW!$E$7","v":0}]
["End",null,"Shots",null,"Total",null,"Shots",null,"Total",{"$nulls":4},"Shots",null,"Total",null,"Shots",null,"Total"]
[1]
[2]
[3]
[4]
[6,{"$nulls":10},1,{"$nulls":10},1]
["Points",{"$nulls":3},"Tie Break",{"$nulls":14},"Points"]
[{"$nulls":4},"End",null,"Shots",{"$nulls":8},"Shots"]
[{"$nulls":4},1]
[{"$nulls":3},"TEAM No.",{"$nulls":5},"Time",{"$nulls":7},"TEAM No."]
["Sign",null,null,{"$f":"DRAW!$C$6","v":0},{"$nulls":5},"Completed",{"$nulls":5},"Sign",null,{"$f":"DRAW!$C$7","v":0}]
["i",{"$nulls":14},"i"]
[{"$f":"Entries!$A$1","v":"2018 District 5 - Mixed Pairs"}]
["R O U N D  3"]
[null,null,"RINK",{"$nulls":5},"DATE"]
[null,null,{"$f":"DRAW!$J$6","v":0},{"$nulls":5},{"$f":"Entries!$A$2","v":"20th June 2018"}]
[]
[{"$f":"DRAW!$D$7","v":0},{"$nulls":10},"L",null,{"$f":"DRAW!$D$6","v":0}]
[]
[{"$f":"DRAW!$E$7","v":0},{"$nulls":10},"Sk",null,{"$f":"DRAW!$E$6","v":0}]
[]
[null,null,"First Set",{"$nulls":10},"Second Set"]
[null,null,{"$f":"DRAW!$E$7","v":0},{"$nulls":3},{"$f":"DRAW!$E$6","v":0},{"$nulls":6},{"$f":"DRAW!$E$7","v":0},{"$nulls":3},{"$f":"DRAW!$E$6","v":0}]
["End",null,"Shots",null,"Total",null,"Shots",null,"Total",{"$nulls":4},"Shots",null,"Total",null,"Shots",null,"Total"]
[1]
[2]
[3]
[4]
[6,{"$nulls":10},2,{"$nulls":10},1]
["Points",{"$nulls":3},"Tie Break",{"$nulls":14},"Points"]
[{"$nulls":4},"End",null,"Shots",{"$nulls":8},"Shots"]
[{"$nulls":4},1]
[{"$nulls":3},"TEAM No.",{"$nulls":5},"Time",{"$nulls":7},"TEAM No."]
["Sign",null,null,{"$f":"DRAW!$C$7","v":0},{"$nulls":5},"Completed",{"$nulls":5},"Sign",null,{"$f":"DRAW!$C$6","v":0}]
["i",{"$nulls":14},"i"]
[{"$f":"Entries!$A$1","v":"2018 District 5 - Mixed Pairs"}]
["R O U N D  3"]
[null,null,"RINK",{"$nulls":5},"DATE"]
[null,null,{"$f":"DRAW!$J$9","v":0},{"$nulls":5},{"$f":"Entries!$A$2","v":"20th June 2018"}]
[]
[{"$f":"DRAW!$D$9","v":0},{"$nulls":10},"L",null,{"$f":"DRAW!$D$12","v":0}]
[]
[{"$f":"DRAW!$E$9","v":0},{"$nulls":10},"Sk",null,{"$f":"DRAW!$E$12","v":0}]
[]
[null,null,"First Set",{"$nulls":10},"Second Set"]
[null,null,{"$f":"DRAW!$E$9","v":0},{"$nulls":3},{"$f":"DRAW!$E$12","v":0},{"$nulls":6},{"$f":"DRAW!$E$9","v":0},{"$nulls":3},{"$f":"DRAW!$E$12","v":0}]
["End",null,"Shots",null,"Total",null,"Shots",null,"Total",{"$nulls":4},"Shots",null,"Total",null,"Shots",null,"Total"]
[1]
[2]
[3]
[4]
[9,{"$nulls":10},1,{"$nulls":10},1]
["Points",{"$nulls":3},"Tie Break",{"$nulls":14},"Points"]
[{"$nulls":4},"End",null,"Shots",{"$nulls":8},"Shots"]
[{"$nulls":4},1]
[{"$nulls":3},"TEAM No.",{"$nulls":5},"Time",{"$nulls":7},"TEAM No."]
["Sign",null,null,{"$f":"DRAW!$C$9","v":0},{"$nulls":5},"Completed",{"$nulls":5},"Sign",null,{"$f":"DRAW!$C$12","v":0}]
["i",{"$nulls":14},"i"]
[{"$f":"Entries!$A$1","v":"2018 District 5 - Mixed Pairs"}]
["R O U N D  3"]
[null,null,"RINK",{"$nulls":5},"DATE"]
[null,null,{"$f":"DRAW!$J$9","v":0},{"$nulls":5},{"$f":"Entries!$A$2","v":"20th June 2018"}]
[]
[{"$f":"DRAW!$D$12","v":0},{"$nulls":10},"L",null,{"$f":"DRAW!$D$9","v":0}]
[]
[{"$f":"DRAW!$E$12","v":0},{"$nulls":10},"Sk",null,{"$f":"DRAW!$E$9","v":0}]
[]
[null,null,"First Set",{"$nulls":10},"Second Set"]
[null,null,{"$f":"DRAW!$E$12","v":0},{"$nulls":3},{"$f":"DRAW!$E$9","v":0},{"$nulls":6},{"$f":"DRAW!$E$12","v":0},{"$nulls":3},{"$f":"DRAW!$E$9","v":0}]
["End",null,"Shots",null,"Total",null,"Shots",null,"Total",{"$nulls":4},"Shots",null,"Total",null,"Shots",null,"Total"]
[1]
[2]
[3]
[4]
[9,{"$nulls":10},2,{"$nulls":10},1]
["Points",{"$nulls":3},"Tie Break",{"$nulls":14},"Points"]
[{"$nulls":4},"End",null,"Shots",{"$nulls":8},"Shots"]
[{"$nulls":4},1]
[{"$nulls":3},"TEAM No.",{"$nulls":5},"Time",{"$nulls":7},"TEAM No."]
["Sign",null,null,{"$f":"DRAW!$C$12","v":0},{"$nulls":5},"Completed",{"$nulls":5},"Sign",null,{"$f":"DRAW!$C$9","v":0}]
["i",{"$nulls":14},"i"]
[{"$f":"Entries!$A$1","v":"2018 District 5 - Mixed Pairs"}]
["R O U N D  3"]
[null,null,"RINK",{"$nulls":5},"DATE"]
[null,null,{"$f":"DRAW!$J$10","v":0},{"$nulls":5},{"$f":"Entries!$A$2","v":"20th June 2018"}]
[]
[{"$f":"DRAW!$D$10","v":0},{"$nulls":10},"L",null,{"$f":"DRAW!$D$11","v":0}]
[]
[{"$f":"DRAW!$E$10","v":0},{"$nulls":10},"Sk",null,{"$f":"DRAW!$E$11","v":0}]
[]
[null,null,"First Set",{"$nulls":10},"Second Set"]
[null,null,{"$f":"DRAW!$E$10","v":0},{"$nulls":3},{"$f":"DRAW!$E$11","v":0},{"$nulls":6},{"$f":"DRAW!$E$10","v":0},{"$nulls":3},{"$f":"DRAW!$E$11","v":0}]
["End",null,"Shots",null,"Total",null,"Shots",null,"Total",{"$nulls":4},"Shots",null,"Total",null,"Shots",null,"Total"]
[1]
[2]
[3]
[4]
[10,{"$nulls":10},1,{"$nulls":10},1]
["Points",{"$nulls":3},"Tie Break",{"$nulls":14},"Points"]
[{"$nulls":4},"End",null,"Shots",{"$nulls":8},"Shots"]
[{"$nulls":4},1]
[{"$nulls":3},"TEAM No.",{"$nulls":5},"Time",{"$nulls":7},"TEAM No."]
["Sign",null,null,{"$f":"DRAW!$C$10","v":0},{"$nulls":5},"Completed",{"$nulls":5},"Sign",null,{"$f":"DRAW!$C$11","v":0}]
["i",{"$nulls":14},"i"]
[{"$f":"Entries!$A$1","v":"2018 District 5 - Mixed Pairs"}]
["R O U N D  3"]
[null,null,"RINK",{"$nulls":5},"DATE"]
[null,null,{"$f":"DRAW!$J$10","v":0},{"$nulls":5},{"$f":"Entries!$A$2","v":"20th June 2018"}]
[]
[{"$f":"DRAW!$D$11","v":0},{"$nulls":10},"L",null,{"$f":"DRAW!$D$10","v":0}]
[]
[{"$f":"DRAW!$E$11","v":0},{"$nulls":10},"Sk",null,{"$f":"DRAW!$E$10","v":0}]
[]
[null,null,"First Set",{"$nulls":10},"Second Set"]
[null,null,{"$f":"DRAW!$E$11","v":0},{"$nulls":3},{"$f":"DRAW!$E$10","v":0},{"$nulls":6},{"$f":"DRAW!$E$11","v":0},{"$nulls":3},{"$f":"DRAW!$E$10","v":0}]
["End",null,"Shots",null,"Total",null,"Shots",null,"Total",{"$nulls":4},"Shots",null,"Total",null,"Shots",null,"Total"]
[1]
[2]
[3]
[4]
[10,{"$nulls":10},2,{"$nulls":10},1]
["Points",{"$nulls":3},"Tie Break",{"$nulls":14},"Points"]
[{"$nulls":4},"End",null,"Shots",{"$nulls":8},"Shots"]
[{"$nulls":4},1]
[{"$nulls":3},"TEAM No.",{"$nulls":5},"Time",{"$nulls":7},"TEAM No."]
["Sign",null,null,{"$f":"DRAW!$C$11","v":0},{"$nulls":5},"Completed",{"$nulls":5},"Sign",null,{"$f":"DRAW!$C$10","v":0}]
["i",{"$nulls":14},"i"]
[{"$f":"Entries!$A$1","v":"2018 District 5 - Mixed Pairs"}]
["R O U N D  3"]
[null,null,"RINK",{"$nulls":5},"DATE"]
[null,null,{"$f":"DRAW!$J$13","v":0},{"$nulls":5},{"$f":"Entries!$A$2","v":"20th June 2018"}]
[]
[{"$f":"DRAW!$D$13","v":0},{"$nulls":10},"L",null,{"$f":"DRAW!$D$16","v":0}]
[]
[{"$f":"DRAW!$E$13","v":0},{"$nulls":10},"Sk",null,{"$f":"DRAW!$E$16","v":0}]
[]
[null,null,"First Set",{"$nulls":10},"Second Set"]
[null,null,{"$f":"DRAW!$E$13","v":0},{"$nulls":3},{"$f":"DRAW!$E$16","v":0},{"$nulls":6},{"$f":"DRAW!$E$13","v":0},{"$nulls":3},{"$f":"DRAW!$E$16","v":0}]
["End",null,"Shots",null,"Total",null,"Shots",null,"Total",{"$nulls":4},"Shots",null,"Total",null,"Shots",null,"Total"]
[1]
[2]
[3]
[4]
[13,{"$nulls":10},1,{"$nulls":10},1]
["Points",{"$nulls":3},"Tie Break",{"$nulls":14},"Points"]
[{"$nulls":4},"End",null,"Shots",{"$nulls":8},"Shots"]
[{"$nulls":4},1]
[{"$nulls":3},"TEAM No.",{"$nulls":5},"Time",{"$nulls":7},"TEAM No."]
["Sign",null,null,{"$f":"DRAW!$C$13","v":0},{"$nulls":5},"Completed",{"$nulls":5},"Sign",null,{"$f":"DRAW!$C$16","v":0}]
["i",{"$nulls":14},"i"]
[{"$f":"Entries!$A$1","v":"2018 District 5 - Mixed Pairs"}]
["R O U N D  3"]
[null,null,"RINK",{"$nulls":5},"DATE"]
[null,null,{"$f":"DRAW!$J$13","v":0},{"$nulls":5},{"$f":"Entries!$A$2","v":"20th June 2018"}]
[]
[{"$f":"DRAW!$D$16","v":0},{"$nulls":10},"L",null,{"$f":"DRAW!$D$13","v":0}]
[]
[{"$f":"DRAW!$E$16","v":0},{"$nulls":10},"Sk",null,{"$f":"DRAW!$E$13","v":0}]
[]
[null,null,"First Set",{"$nulls":10},"Second Set"]
[null,null,{"$f":"DRAW!$E$16","v":0},{"$nulls":3},{"$f":"DRAW!$E$13","v":0},{"$nulls":6},{"$f":"DRAW!$E$16","v":0},{"$nulls":3},{"$f":"DRAW!$E$13","v":0}]
["End",null,"Shots",null,"Total",null,"Shots",null,"Total",{"$nulls":4},"Shots",null,"Total",null,"Shots",null,"Total"]
[1]
[2]
[3]
[4]
[13,{"$nulls":10},2,{"$nulls":10},1]
["Points",{"$nulls":3},"Tie Break",{"$nulls":14},"Points"]
[{"$nulls":4},"End",null,"Shots",{"$nulls":8},"Shots"]
[{"$nulls":4},1]
[{"$nulls":3},"TEAM No.",{"$nulls":5},"Time",{"$nulls":7},"TEAM No."]
["Sign",null,null,{"$f":"DRAW!$C$16","v":0},{"$nulls":5},"Completed",{"$nulls":5},"Sign",null,{"$f":"DRAW!$C$13","v":0}]
["i",{"$nulls":14},"i"]
[{"$f":"Entries!$A$1","v":"2018 District 5 - Mixed Pairs"}]
["R O U N D  3"]
[null,null,"RINK",{"$nulls":5},"DATE"]
[null,null,{"$f":"DRAW!$J$15","v":0},{"$nulls":5},{"$f":"Entries!$A$2","v":"20th June 2018"}]
[]
[{"$f":"DRAW!$D$14","v":0},{"$nulls":10},"L",null,{"$f":"DRAW!$D$15","v":0}]
[]
[{"$f":"DRAW!$E$14","v":0},{"$nulls":10},"Sk",null,{"$f":"DRAW!$E$15","v":0}]
[]
[null,null,"First Set",{"$nulls":10},"Second Set"]
[null,null,{"$f":"DRAW!$E$14","v":0},{"$nulls":3},{"$f":"DRAW!$E$15","v":0},{"$nulls":6},{"$f":"DRAW!$E$14","v":0},{"$nulls":3},{"$f":"DRAW!$E$15","v":0}]
["End",null,"Shots",null,"Total",null,"Shots",null,"Total",{"$nulls":4},"Shots",null,"Total",null,"Shots",null,"Total"]
[1]
[2]
[3]
[4]
[15,{"$nulls":10},2,{"$nulls":10},1]
["Points",{"$nulls":3},"Tie Break",{"$nulls":14},"Points"]
[{"$nulls":4},"End",null,"Shots",{"$nulls":8},"Shots"]
[{"$nulls":4},1]
[{"$nulls":3},"TEAM No.",{"$nulls":5},"Time",{"$nulls":7},"TEAM No."]
["Sign",null,null,{"$f":"DRAW!$C$14","v":0},{"$nulls":5},"Completed",{"$nulls":5},"Sign",null,{"$f":"DRAW!$C$15","v":0}]
["i",{"$nulls":14},"i"]
[{"$f":"Entries!$A$1","v":"2018 District 5 - Mixed Pairs"}]
["R O U N D  3"]
[null,null,"RINK",{"$nulls":5},"DATE"]
[null,null,{"$f":"DRAW!$J$15","v":0},{"$nulls":5},{"$f":"Entries!$A$2","v":"20th June 2018"}]
[]
[{"$f":"DRAW!$D$15","v":0},{"$nulls":10},"L",null,{"$f":"DRAW!$D$14","v":0}]
[]
[{"$f":"DRAW!$E$15","v":0},{"$nulls":10},"Sk",null,{"$f":"DRAW!$E$14","v":0}]
[]
[null,null,"First Set",{"$nulls":10},"Second Set"]
[null,null,{"$f":"DRAW!$E$15","v":0},{"$nulls":3},{"$f":"DRAW!$E$14","v":0},{"$nulls":6},{"$f":"DRAW!$E$15","v":0},{"$nulls":3},{"$f":"DRAW!$E$14","v":0}]
["End",null,"Shots",null,"Total",null,"Shots",null,"Total",{"$nulls":4},"Shots",null,"Total",null,"Shots",null,"Total"]
[1]
[2]
[3]
[4]
[15,{"$nulls":10},1,{"$nulls":10},1]
["Points",{"$nulls":3},"Tie Break",{"$nulls":14},"Points"]
[{"$nulls":4},"End",null,"Shots",{"$nulls":8},"Shots"]
[{"$nulls":4},1]
[{"$nulls":3},"TEAM No.",{"$nulls":5},"Time",{"$nulls":7},"TEAM No."]
["Sign",null,null,{"$f":"DRAW!$C$15","v":0},{"$nulls":5},"Completed",{"$nulls":5},"Sign",null,{"$f":"DRAW!$C$14","v":0}]
["i",{"$nulls":14},"i"]
[{"$f":"Entries!$A$1","v":"2018 District 5 - Mixed Pairs"}]
["R O U N D  3"]
[null,null,"RINK",{"$nulls":5},"DATE"]
[null,null,{"$f":"DRAW!$J$17","v":0},{"$nulls":5},{"$f":"Entries!$A$2","v":"20th June 2018"}]
[]
[{"$f":"DRAW!$D$17","v":0},{"$nulls":10},"L",null,{"$f":"DRAW!$D$20","v":0}]
[]
[{"$f":"DRAW!$E$17","v":0},{"$nulls":10},"Sk",null,{"$f":"DRAW!$E$20","v":0}]
[]
[null,null,"First Set",{"$nulls":10},"Second Set"]
[null,null,{"$f":"DRAW!$E$17","v":0},{"$nulls":3},{"$f":"DRAW!$E$20","v":0},{"$nulls":6},{"$f":"DRAW!$E$17","v":0},{"$nulls":3},{"$f":"DRAW!$E$20","v":0}]
["End",null,"Shots",null,"Total",null,"Shots",null,"Total",{"$nulls":4},"Shots",null,"Total",null,"Shots",null,"Total"]
[1]
[2]
[3]
[4]
[17,{"$nulls":10},1,{"$nulls":10},1]
["Points",{"$nulls":3},"Tie Break",{"$nulls":14},"Points"]
[{"$nulls":4},"End",null,"Shots",{"$nulls":8},"Shots"]
[{"$nulls":4},1]
[{"$nulls":3},"TEAM No.",{"$nulls":5},"Time",{"$nulls":7},"TEAM No."]
["Sign",null,null,{"$f":"DRAW!$C$17","v":0},{"$nulls":5},"Completed",{"$nulls":5},"Sign",null,{"$f":"DRAW!$C$20","v":0}]
["i",{"$nulls":14},"i"]
[{"$f":"Entries!$A$1","v":"2018 District 5 - Mixed Pairs"}]
["R O U N D  3"]
[null,null,"RINK",{"$nulls":5},"DATE"]
[null,null,{"$f":"DRAW!$J$17","v":0},{"$nulls":5},{"$f":"Entries!$A$2","v":"20th June 2018"}]
[]
[{"$f":"DRAW!$D$20","v":0},{"$nulls":10},"L",null,{"$f":"DRAW!$D$17","v":0}]
[]
[{"$f":"DRAW!$E$20","v":0},{"$nulls":10},"Sk",null,{"$f":"DRAW!$E$17","v":0}]
[]
[null,null,"First Set",{"$nulls":10},"Second Set"]
[null,null,{"$f":"DRAW!$E$20","v":0},{"$nulls":3},{"$f":"DRAW!$E$17","v":0},{"$nulls":6},{"$f":"DRAW!$E$20","v":0},{"$nulls":3},{"$f":"DRAW!$E$17","v":0}]
["End",null,"Shots",null,"Total",null,"Shots",null,"Total",{"$nulls":4},"Shots",null,"Total",null,"Shots",null,"Total"]
[1]
[2]
[3]
[4]
[17,{"$nulls":10},2,{"$nulls":10},1]
["Points",{"$nulls":3},"Tie Break",{"$nulls":14},"Points"]
[{"$nulls":4},"End",null,"Shots",{"$nulls":8},"Shots"]
[{"$nulls":4},1]
[{"$nulls":3},"TEAM No.",{"$nulls":5},"Time",{"$nulls":7},"TEAM No."]
["Sign",null,null,{"$f":"DRAW!$C$20","v":0},{"$nulls":5},"Completed",{"$nulls":5},"Sign",null,{"$f":"DRAW!$C$17","v":0}]
["i",{"$nulls":14},"i"]
[{"$f":"Entries!$A$1","v":"2018 District 5 - Mixed Pairs"}]
["R O U N D  3"]
[null,null,"RINK",{"$nulls":5},"DATE"]
[null,null,{"$f":"DRAW!$J$19","v":0},{"$nulls":5},{"$f":"Entries!$A$2","v":"20th June 2018"}]
[]
[{"$f":"DRAW!$D$18","v":0},{"$nulls":10},"L",null,{"$f":"DRAW!$D$19","v":0}]
[]
[{"$f":"DRAW!$E$18","v":0},{"$nulls":10},"Sk",null,{"$f":"DRAW!$E$19","v":0}]
[]
[null,null,"First Set",{"$nulls":10},"Second Set"]
[null,null,{"$f":"DRAW!$E$18","v":0},{"$nulls":3},{"$f":"DRAW!$E$19","v":0},{"$nulls":6},{"$f":"DRAW!$E$18","v":0},{"$nulls":3},{"$f":"DRAW!$E$19","v":0}]
["End",null,"Shots",null,"Total",null,"Shots",null,"Total",{"$nulls":4},"Shots",null,"Total",null,"Shots",null,"Total"]
[1]
[2]
[3]
[4]
[19,{"$nulls":10},2,{"$nulls":10},1]
["Points",{"$nulls":3},"Tie Break",{"$nulls":14},"Points"]
[{"$nulls":4},"End",null,"Shots",{"$nulls":8},"Shots"]
[{"$nulls":4},1]
[{"$nulls":3},"TEAM No.",{"$nulls":5},"Time",{"$nulls":7},"TEAM No."]
["Sign",null,null,{"$f":"DRAW!$C$18","v":0},{"$nulls":5},"Completed",{"$nulls":5},"Sign",null,{"$f":"DRAW!$C$19","v":0}]
["i",{"$nulls":14},"i"]
[{"$f":"Entries!$A$1","v":"2018 District 5 - Mixed Pairs"}]
["R O U N D  3"]
[null,null,"RINK",{"$nulls":5},"DATE"]
[null,null,{"$f":"DRAW!$J$19","v":0},{"$nulls":5},{"$f":"Entries!$A$2","v":"20th June 2018"}]
[]
[{"$f":"DRAW!$D$19","v":0},{"$nulls":10},"L",null,{"$f":"DRAW!$D$18","v":0}]
[]
[{"$f":"DRAW!$E$19","v":0},{"$nulls":10},"Sk",null,{"$f":"DRAW!$E$18","v":0}]
[]
[null,null,"First Set",{"$nulls":10},"Second Set"]
[null,null,{"$f":"DRAW!$E$19","v":0},{"$nulls":3},{"$f":"DRAW!$E$18","v":0},{"$nulls":6},{"$f":"DRAW!$E$19","v":0},{"$nulls":3},{"$f":"DRAW!$E$18","v":0}]
["End",null,"Shots",null,"Total",null,"Shots",null,"Total",{"$nulls":4},"Shots",null,"Total",null,"Shots",null,"Total"]
[1]
[2]
[3]
[4]
[19,{"$nulls":10},1,{"$nulls":10},1]
["Points",{"$nulls":3},"Tie Break",{"$nulls":14},"Points"]
[{"$nulls":4},"End",null,"Shots",{"$nulls":8},"Shots"]
[{"$nulls":4},1]
[{"$nulls":3},"TEAM No.",{"$nulls":5},"Time",{"$nulls":7},"TEAM No."]
["Sign",null,null,{"$f":"DRAW!$C$19","v":0},{"$nulls":5},"Completed",{"$nulls":5},"Sign",null,{"$f":"DRAW!$C$18","v":0}]
["i",{"$nulls":14},"i"]
[{"$f":"Entries!$A$1","v":"2018 District 5 - Mixed Pairs"}]
["R O U N D  3"]
[null,null,"RINK",{"$nulls":5},"DATE"]
[null,null,{"$f":"DRAW!$J$21","v":0},{"$nulls":5},{"$f":"Entries!$A$2","v":"20th June 2018"}]
[]
[{"$f":"DRAW!$D$21","v":0},{"$nulls":10},"L",null,{"$f":"DRAW!$D$24","v":0}]
[]
[{"$f":"DRAW!$E$21","v":0},{"$nulls":10},"Sk",null,{"$f":"DRAW!$E$24","v":0}]
[]
[null,null,"First Set",{"$nulls":10},"Second Set"]
[null,null,{"$f":"DRAW!$E$21","v":0},{"$nulls":3},{"$f":"DRAW!$E$24","v":0},{"$nulls":6},{"$f":"DRAW!$E$21","v":0},{"$nulls":3},{"$f":"DRAW!$E$24","v":0}]
["End",null,"Shots",null,"Total",null,"Shots",null,"Total",{"$nulls":4},"Shots",null,"Total",null,"Shots",null,"Total"]
[1]
[2]
[3]
[4]
[21,{"$nulls":10},1,{"$nulls":10},1]
["Points",{"$nulls":3},"Tie Break",{"$nulls":14},"Points"]
[{"$nulls":4},"End",null,"Shots",{"$nulls":8},"Shots"]
[{"$nulls":4},1]
[{"$nulls":3},"TEAM No.",{"$nulls":5},"Time",{"$nulls":7},"TEAM No."]
["Sign",null,null,{"$f":"DRAW!$C$21","v":0},{"$nulls":5},"Completed",{"$nulls":5},"Sign",null,{"$f":"DRAW!$C$24","v":0}]
["i",{"$nulls":14},"i"]
[{"$f":"Entries!$A$1","v":"2018 District 5 - Mixed Pairs"}]
["R O U N D  3"]
[null,null,"RINK",{"$nulls":5},"DATE"]
[null,null,{"$f":"DRAW!$J$21","v":0},{"$nulls":5},{"$f":"Entries!$A$2","v":"20th June 2018"}]
[]
[{"$f":"DRAW!$D$24","v":0},{"$nulls":10},"L",null,{"$f":"DRAW!$D$21","v":0}]
[]
[{"$f":"DRAW!$E$24","v":0},{"$nulls":10},"Sk",null,{"$f":"DRAW!$E$21","v":0}]
[]
[null,null,"First Set",{"$nulls":10},"Second Set"]
[null,null,{"$f":"DRAW!$E$24","v":0},{"$nulls":3},{"$f":"DRAW!$E$21","v":0},{"$nulls":6},{"$f":"DRAW!$E$24","v":0},{"$nulls":3},{"$f":"DRAW!$E$21","v":0}]
["End",null,"Shots",null,"Total",null,"Shots",null,"Total",{"$nulls":4},"Shots",null,"Total",null,"Shots",null,"Total"]
[1]
[2]
[3]
[4]
[21,{"$nulls":10},2,{"$nulls":10},1]
["Points",{"$nulls":3},"Tie Break",{"$nulls":14},"Points"]
[{"$nulls":4},"End",null,"Shots",{"$nulls":8},"Shots"]
[{"$nulls":4},1]
[{"$nulls":3},"TEAM No.",{"$nulls":5},"Time",{"$nulls":7},"TEAM No."]
["Sign",null,null,{"$f":"DRAW!$C$24","v":0},{"$nulls":5},"Completed",{"$nulls":5},"Sign",null,{"$f":"DRAW!$C$21","v":0}]
["i",{"$nulls":14},"i"]
[{"$f":"Entries!$A$1","v":"2018 District 5 - Mixed Pairs"}]
["R O U N D  3"]
[null,null,"RINK",{"$nulls":5},"DATE"]
[null,null,{"$f":"DRAW!$J$23","v":0},{"$nulls":5},{"$f":"Entries!$A$2","v":"20th June 2018"}]
[]
[{"$f":"DRAW!$D$22","v":0},{"$nulls":10},"L",null,{"$f":"DRAW!$D$23","v":0}]
[]
[{"$f":"DRAW!$E$22","v":0},{"$nulls":10},"Sk",null,{"$f":"DRAW!$E$23","v":0}]
[]
[null,null,"First Set",{"$nulls":10},"Second Set"]
[null,null,{"$f":"DRAW!$E$22","v":0},{"$nulls":3},{"$f":"DRAW!$E$23","v":0},{"$nulls":6},{"$f":"DRAW!$E$22","v":0},{"$nulls":3},{"$f":"DRAW!$E$23","v":0}]
["End",null,"Shots",null,"Total",null,"Shots",null,"Total",{"$nulls":4},"Shots",null,"Total",null,"Shots",null,"Total"]
[1]
[2]
[3]
[4]
[23,{"$nulls":10},2,{"$nulls":10},1]
["Points",{"$nulls":3},"Tie Break",{"$nulls":14},"Points"]
[{"$nulls":4},"End",null,"Shots",{"$nulls":8},"Shots"]
[{"$nulls":4},1]
[{"$nulls":3},"TEAM No.",{"$nulls":5},"Time",{"$nulls":7},"TEAM No."]
["Sign",null,null,{"$f":"DRAW!$C$22","v":0},{"$nulls":5},"Completed",{"$nulls":5},"Sign",null,{"$f":"DRAW!$C$23","v":0}]
["i",{"$nulls":14},"i"]
[{"$f":"Entries!$A$1","v":"2018 District 5 - Mixed Pairs"}]
["R O U N D  3"]
[null,null,"RINK",{"$nulls":5},"DATE"]
[null,null,{"$f":"DRAW!$J$23","v":0},{"$nulls":5},{"$f":"Entries!$A$2","v":"20th June 2018"}]
[]
[{"$f":"DRAW!$D$23","v":0},{"$nulls":10},"L",null,{"$f":"DRAW!$D$22","v":0}]
[]
[{"$f":"DRAW!$E$23","v":0},{"$nulls":10},"Sk",null,{"$f":"DRAW!$E$22","v":0}]
[]
[null,null,"First Set",{"$nulls":10},"Second Set"]
[null,null,{"$f":"DRAW!$E$23","v":0},{"$nulls":3},{"$f":"DRAW!$E$22","v":0},{"$nulls":6},{"$f":"DRAW!$E$23","v":0},{"$nulls":3},{"$f":"DRAW!$E$22","v":0}]
["End",null,"Shots",null,"Total",null,"Shots",null,"Total",{"$nulls":4},"Shots",null,"Total",null,"Shots",null,"Total"]
[1]
[2]
[3]
[4]
[23,{"$nulls":10},1,{"$nulls":10},1]
["Points",{"$nulls":3},"Tie Break",{"$nulls":14},"Points"]
[{"$nulls":4},"End",null,"Shots",{"$nulls":8},"Shots"]
[{"$nulls":4},1]
[{"$nulls":3},"TEAM No.",{"$nulls":5},"Time",{"$nulls":7},"TEAM No."]
["Sign",null,null,{"$f":"DRAW!$C$23","v":0},{"$nulls":5},"Completed",{"$nulls":5},"Sign",null,{"$f":"DRAW!$C$22","v":0}]
["i",{"$nulls":14},"i"]
[{"$f":"Entries!$A$1","v":"2018 District 5 - Mixed Pairs"}]
["R O U N D  3"]
[null,null,"RINK",{"$nulls":5},"DATE"]
[null,null,{"$f":"DRAW!$J$25","v":0},{"$nulls":5},{"$f":"Entries!$A$2","v":"20th June 2018"}]
[]
[{"$f":"DRAW!$D$25","v":0},{"$nulls":10},"L",null,{"$f":"DRAW!$D$28","v":0}]
[]
[{"$f":"DRAW!$E$25","v":0},{"$nulls":10},"Sk",null,{"$f":"DRAW!$E$28","v":0}]
[]
[null,null,"First Set",{"$nulls":10},"Second Set"]
[null,null,{"$f":"DRAW!$E$25","v":0},{"$nulls":3},{"$f":"DRAW!$E$28","v":0},{"$nulls":6},{"$f":"DRAW!$E$25","v":0},{"$nulls":3},{"$f":"DRAW!$E$28","v":0}]
["End",null,"Shots",null,"Total",null,"Shots",null,"Total",{"$nulls":4},"Shots",null,"Total",null,"Shots",null,"Total"]
[1]
[2]
[3]
[4]
[25,{"$nulls":10},1,{"$nulls":10},1]
["Points",{"$nulls":3},"Tie Break",{"$nulls":14},"Points"]
[{"$nulls":4},"End",null,"Shots",{"$nulls":8},"Shots"]
[{"$nulls":4},1]
[{"$nulls":3},"TEAM No.",{"$nulls":5},"Time",{"$nulls":7},"TEAM No."]
["Sign",null,null,{"$f":"DRAW!$C$25","v":0},{"$nulls":5},"Completed",{"$nulls":5},"Sign",null,{"$f":"DRAW!$C$28","v":0}]
["i",{"$nulls":14},"i"]
[{"$f":"Entries!$A$1","v":"2018 District 5 - Mixed Pairs"}]
["R O U N D  3"]
[null,null,"RINK",{"$nulls":5},"DATE"]
[null,null,{"$f":"DRAW!$J$25","v":0},{"$nulls":5},{"$f":"Entries!$A$2","v":"20th June 2018"}]
[]
[{"$f":"DRAW!$D$28","v":0},{"$nulls":10},"L",null,{"$f":"DRAW!$D$25","v":0}]
[]
[{"$f":"DRAW!$E$28","v":0},{"$nulls":10},"Sk",null,{"$f":"DRAW!$E$25","v":0}]
[]
[null,null,"First Set",{"$nulls":10},"Second Set"]
[null,null,{"$f":"DRAW!$E$28","v":0},{"$nulls":3},{"$f":"DRAW!$E$25","v":0},{"$nulls":6},{"$f":"DRAW!$E$28","v":0},{"$nulls":3},{"$f":"DRAW!$E$25","v":0}]
["End",null,"Shots",null,"Total",null,"Shots",null,"Total",{"$nulls":4},"Shots",null,"Total",null,"Shots",null,"Total"]
[1]
[2]
[3]
[4]
[25,{"$nulls":10},2,{"$nulls":10},1]
["Points",{"$nulls":3},"Tie Break",{"$nulls":14},"Points"]
[{"$nulls":4},"End",null,"Shots",{"$nulls":8},"Shots"]
[{"$nulls":4},1]
[{"$nulls":3},"TEAM No.",{"$nulls":5},"Time",{"$nulls":7},"TEAM No."]
["Sign",null,null,{"$f":"DRAW!$C$28","v":0},{"$nulls":5},"Completed",{"$nulls":5},"Sign",null,{"$f":"DRAW!$C$25","v":0}]
["i",{"$nulls":14},"i"]
[{"$f":"Entries!$A$1","v":"2018 District 5 - Mixed Pairs"}]
["R O U N D  3"]
[null,null,"RINK",{"$nulls":5},"DATE"]
[null,null,{"$f":"DRAW!$J$27","v":0},{"$nulls":5},{"$f":"Entries!$A$2","v":"20th June 2018"}]
[]
[{"$f":"DRAW!$D$26","v":0},{"$nulls":10},"L",null,{"$f":"DRAW!$D$27","v":0}]
[]
[{"$f":"DRAW!$E$26","v":0},{"$nulls":10},"Sk",null,{"$f":"DRAW!$E$27","v":0}]
[]
[null,null,"First Set",{"$nulls":10},"Second Set"]
[null,null,{"$f":"DRAW!$E$26","v":0},{"$nulls":3},{"$f":"DRAW!$E$27","v":0},{"$nulls":6},{"$f":"DRAW!$E$26","v":0},{"$nulls":3},{"$f":"DRAW!$E$27","v":0}]
["End",null,"Shots",null,"Total",null,"Shots",null,"Total",{"$nulls":4},"Shots",null,"Total",null,"Shots",null,"Total"]
[1]
[2]
[3]
[4]
[27,{"$nulls":10},2,{"$nulls":10},1]
["Points",{"$nulls":3},"Tie Break",{"$nulls":14},"Points"]
[{"$nulls":4},"End",null,"Shots",{"$nulls":8},"Shots"]
[{"$nulls":4},1]
[{"$nulls":3},"TEAM No.",{"$nulls":5},"Time",{"$nulls":7},"TEAM No."]
["Sign",null,null,{"$f":"DRAW!$C$26","v":0},{"$nulls":5},"Completed",{"$nulls":5},"Sign",null,{"$f":"DRAW!$C$27","v":0}]
["i",{"$nulls":14},"i"]
[{"$f":"Entries!$A$1","v":"2018 District 5 - Mixed Pairs"}]
["R O U N D  3"]
[null,null,"RINK",{"$nulls":5},"DATE"]
[null,null,{"$f":"DRAW!$J$26","v":0},{"$nulls":5},{"$f":"Entries!$A$2","v":"20th June 2018"}]
[]
[{"$f":"DRAW!$D$27","v":0},{"$nulls":10},"L",null,{"$f":"DRAW!$D$26","v":0}]
[]
[{"$f":"DRAW!$E$27","v":0},{"$nulls":10},"Sk",null,{"$f":"DRAW!$E$26","v":0}]
[]
[null,null,"First Set",{"$nulls":10},"Second Set"]
[null,null,{"$f":"DRAW!$E$27","v":0},{"$nulls":3},{"$f":"DRAW!$E$26","v":0},{"$nulls":6},{"$f":"DRAW!$E$27","v":0},{"$nulls":3},{"$f":"DRAW!$E$26","v":0}]
["End",null,"Shots",null,"Total",null,"Shots",null,"Total",{"$nulls":4},"Shots",null,"Total",null,"Shots",null,"Total"]
[1]
[2]
[3]
[4]
[26,{"$nulls":10},2,{"$nulls":10},1]
["Points",{"$nulls":3},"Tie Break",{"$nulls":14},"Points"]
[{"$nulls":4},"End",null,"Shots",{"$nulls":8},"Shots"]
[{"$nulls":4},1]
[{"$nulls":3},"TEAM No.",{"$nulls":5},"Time",{"$nulls":7},"TEAM No."]
["Sign",null,null,{"$f":"DRAW!$C$27","v":0},{"$nulls":5},"Completed",{"$nulls":5},"Sign",null,{"$f":"DRAW!$C$26","v":0}]
["i",{"$nulls":14},"i"]
[{"$f":"Entries!$A$1","v":"2018 District 5 - Mixed Pairs"}]
["R O U N D  3"]
[null,null,"RINK",{"$nulls":5},"DATE"]
[null,null,{"$f":"DRAW!$J$29","v":0},{"$nulls":5},{"$f":"Entries!$A$2","v":"20th June 2018"}]
[]
[{"$f":"DRAW!$D$29","v":0},{"$nulls":10},"L",null,{"$f":"DRAW!$D$32","v":0}]
[]
[{"$f":"DRAW!$E$29","v":0},{"$nulls":10},"Sk",null,{"$f":"DRAW!$E$32","v":0}]
[]
[null,null,"First Set",{"$nulls":10},"Second Set"]
[null,null,{"$f":"DRAW!$E$29","v":0},{"$nulls":3},{"$f":"DRAW!$E$32","v":0},{"$nulls":6},{"$f":"DRAW!$E$29","v":0},{"$nulls":3},{"$f":"DRAW!$E$32","v":0}]
["End",null,"Shots",null,"Total",null,"Shots",null,"Total",{"$nulls":4},"Shots",null,"Total",null,"Shots",null,"Total"]
[1]
[2]
[3]
[4]
[29,{"$nulls":10},1,{"$nulls":10},1]
["Points",{"$nulls":3},"Tie Break",{"$nulls":14},"Points"]
[{"$nulls":4},"End",null,"Shots",{"$nulls":8},"Shots"]
[{"$nulls":4},1]
[{"$nulls":3},"TEAM No.",{"$nulls":5},"Time",{"$nulls":7},"TEAM No."]
["Sign",null,null,{"$f":"DRAW!$C$29","v":0},{"$nulls":5},"Completed",{"$nulls":5},"Sign",null,{"$f":"DRAW!$C$32","v":0}]
["i",{"$nulls":14},"i"]
[{"$f":"Entries!$A$1","v":"2018 District 5 - Mixed Pairs"}]
["R O U N D  3"]
[null,null,"RINK",{"$nulls":5},"DATE"]
[null,null,{"$f":"DRAW!$J$29","v":0},{"$nulls":5},{"$f":"Entries!$A$2","v":"20th June 2018"}]
[]
[{"$f":"DRAW!$D$32","v":0},{"$nulls":10},"L",null,{"$f":"DRAW!$D$29","v":0}]
[]
[{"$f":"DRAW!$E$32","v":0},{"$nulls":10},"Sk",null,{"$f":"DRAW!$E$29","v":0}]
[]
[null,null,"First Set",{"$nulls":10},"Second Set"]
[null,null,{"$f":"DRAW!$E$32","v":0},{"$nulls":3},{"$f":"DRAW!$E$29","v":0},{"$nulls":6},{"$f":"DRAW!$E$32","v":0},{"$nulls":3},{"$f":"DRAW!$E$29","v":0}]
["End",null,"Shots",null,"Total",null,"Shots",null,"Total",{"$nulls":4},"Shots",null,"Total",null,"Shots",null,"Total"]
[1]
[2]
[3]
[4]
[29,{"$nulls":10},2,{"$nulls":10},1]
["Points",{"$nulls":3},"Tie Break",{"$nulls":14},"Points"]
[{"$nulls":4},"End",null,"Shots",{"$nulls":8},"Shots"]
[{"$nulls":4},1]
[{"$nulls":3},"TEAM No.",{"$nulls":5},"Time",{"$nulls":7},"TEAM No."]
["Sign",null,null,{"$f":"DRAW!$C$32","v":0},{"$nulls":5},"Completed",{"$nulls":5},"Sign",null,{"$f":"DRAW!$C$29","v":0}]
["i",{"$nulls":14},"i"]
[{"$f":"Entries!$A$1","v":"2018 District 5 - Mixed Pairs"}]
["R O U N D  3"]
[null,null,"RINK",{"$nulls":5},"DATE"]
[null,null,{"$f":"DRAW!$J$31","v":0},{"$nulls":5},{"$f":"Entries!$A$2","v":"20th June 2018"}]
[]
[{"$f":"DRAW!$D$30","v":0},{"$nulls":10},"L",null,{"$f":"DRAW!$D$31","v":0}]
[]
[{"$f":"DRAW!$E$30","v":0},{"$nulls":10},"Sk",null,{"$f":"DRAW!$E$31","v":0}]
[]
[null,null,"First Set",{"$nulls":10},"Second Set"]
[null,null,{"$f":"DRAW!$E$30","v":0},{"$nulls":3},{"$f":"DRAW!$E$31","v":0},{"$nulls":6},{"$f":"DRAW!$E$30","v":0},{"$nulls":3},{"$f":"DRAW!$E$31","v":0}]
["End",null,"Shots",null,"Total",null,"Shots",null,"Total",{"$nulls":4},"Shots",null,"Total",null,"Shots",null,"Total"]
[1]
[2]
[3]
[4]
[31,{"$nulls":10},2,{"$nulls":10},1]
["Points",{"$nulls":3},"Tie Break",{"$nulls":14},"Points"]
[{"$nulls":4},"End",null,"Shots",{"$nulls":8},"Shots"]
[{"$nulls":4},1]
[{"$nulls":3},"TEAM No.",{"$nulls":5},"Time",{"$nulls":7},"TEAM No."]
["Sign",null,null,{"$f":"DRAW!$C$30","v":0},{"$nulls":5},"Completed",{"$nulls":5},"Sign",null,{"$f":"DRAW!$C$31","v":0}]
["i",{"$nulls":14},"i"]
[{"$f":"Entries!$A$1","v":"2018 District 5 - Mixed Pairs"}]
["R O U N D  3"]
[null,null,"RINK",{"$nulls":5},"DATE"]
[null,null,{"$f":"DRAW!$J$30","v":0},{"$nulls":5},{"$f":"Entries!$A$2","v":"20th June 2018"}]
[]
[{"$f":"DRAW!$D$31","v":0},{"$nulls":10},"L",null,{"$f":"DRAW!$D$30","v":0}]
[]
[{"$f":"DRAW!$E$31","v":0},{"$nulls":10},"Sk",null,{"$f":"DRAW!$E$30","v":0}]
[]
[null,null,"First Set",{"$nulls":10},"Second Set"]
[null,null,{"$f":"DRAW!$E$31","v":0},{"$nulls":3},{"$f":"DRAW!$E$30","v":0},{"$nulls":6},{"$f":"DRAW!$E$31","v":0},{"$nulls":3},{"$f":"DRAW!$E$30","v":0}]
["End",null,"Shots",null,"Total",null,"Shots",null,"Total",{"$nulls":4},"Shots",null,"Total",null,"Shots",null,"Total"]
[1]
[2]
[3]
[4]
[30,{"$nulls":10},2,{"$nulls":10},1]
["Points",{"$nulls":3},"Tie Break",{"$nulls":14},"Points"]
[{"$nulls":4},"End",null,"Shots",{"$nulls":8},"Shots"]
[{"$nulls":4},1]
[{"$nulls":3},"TEAM No.",{"$nulls":5},"Time",{"$nulls":7},"TEAM No."]
["Sign",null,null,{"$f":"DRAW!$C$31","v":0},{"$nulls":5},"Completed",{"$nulls":5},"Sign",null,{"$f":"DRAW!$C$30","v":0}]
["i",{"$nulls":14},"i"]
[{"$f":"Entries!$A$1","v":"2018 District 5 - Mixed Pairs"}]
["R O U N D  3"]
[null,null,"RINK",{"$nulls":5},"DATE"]
[null,null,{"$f":"DRAW!$J$33","v":0},{"$nulls":5},{"$f":"Entries!$A$2","v":"20th June 2018"}]
[]
[{"$f":"DRAW!$D$33","v":0},{"$nulls":10},"L",null,{"$f":"DRAW!$D$36","v":0}]
[]
[{"$f":"DRAW!$E$33","v":0},{"$nulls":10},"Sk",null,{"$f":"DRAW!$E$36","v":0}]
[]
[null,null,"First Set",{"$nulls":10},"Second Set"]
[null,null,{"$f":"DRAW!$E$33","v":0},{"$nulls":3},{"$f":"DRAW!$E$36","v":0},{"$nulls":6},{"$f":"DRAW!$E$33","v":0},{"$nulls":3},{"$f":"DRAW!$E$36","v":0}]
["End",null,"Shots",null,"Total",null,"Shots",null,"Total",{"$nulls":4},"Shots",null,"Total",null,"Shots",null,"Total"]
[1]
[2]
[3]
[4]
[33,{"$nulls":10},1,{"$nulls":10},1]
["Points",{"$nulls":3},"Tie Break",{"$nulls":14},"Points"]
[{"$nulls":4},"End",null,"Shots",{"$nulls":8},"Shots"]
[{"$nulls":4},1]
[{"$nulls":3},"TEAM No.",{"$nulls":5},"Time",{"$nulls":7},"TEAM No."]
["Sign",null,null,{"$f":"DRAW!$C$33","v":0},{"$nulls":5},"Completed",{"$nulls":5},"Sign",null,{"$f":"DRAW!$C$36","v":0}]
["i",{"$nulls":14},"i"]
[{"$f":"Entries!$A$1","v":"2018 District 5 - Mixed Pairs"}]
["R O U N D  3"]
[null,null,"RINK",{"$nulls":5},"DATE"]
[null,null,{"$f":"DRAW!$J$33","v":0},{"$nulls":5},{"$f":"Entries!$A$2","v":"20th June 2018"}]
[]
[{"$f":"DRAW!$D$36","v":0},{"$nulls":10},"L",null,{"$f":"DRAW!$D$33","v":0}]
[]
[{"$f":"DRAW!$E$36","v":0},{"$nulls":10},"Sk",null,{"$f":"DRAW!$E$33","v":0}]
[]
[null,null,"First Set",{"$nulls":10},"Second Set"]
[null,null,{"$f":"DRAW!$E$36","v":0},{"$nulls":3},{"$f":"DRAW!$E$33","v":0},{"$nulls":6},{"$f":"DRAW!$E$36","v":0},{"$nulls":3},{"$f":"DRAW!$E$33","v":0}]
["End",null,"Shots",null,"Total",null,"Shots",null,"Total",{"$nulls":4},"Shots",null,"Total",null,"Shots",null,"Total"]
[1]
[2]
[3]
[4]
[33,{"$nulls":10},2,{"$nulls":10},1]
["Points",{"$nulls":3},"Tie Break",{"$nulls":14},"Points"]
[{"$nulls":4},"End",null,"Shots",{"$nulls":8},"Shots"]
[{"$nulls":4},1]
[{"$nulls":3},"TEAM No.",{"$nulls":5},"Time",{"$nulls":7},"TEAM No."]
["Sign",null,null,{"$f":"DRAW!$C$36","v":0},{"$nulls":5},"Completed",{"$nulls":5},"Sign",null,{"$f":"DRAW!$C$33","v":0}]
["i",{"$nulls":14},"i"]
[{"$f":"Entries!$A$1","v":"2018 District 5 - Mixed Pairs"}]
["R O U N D  3"]
[null,null,"RINK",{"$nulls":5},"DATE"]
[null,null,{"$f":"DRAW!$J$35","v":0},{"$nulls":5},{"$f":"Entries!$A$2","v":"20th June 2018"}]
[]
[{"$f":"DRAW!$D$34","v":0},{"$nulls":10},"L",null,{"$f":"DRAW!$D$35","v":0}]
[]
[{"$f":"DRAW!$E$34","v":0},{"$nulls":10},"Sk",null,{"$f":"DRAW!$E$35","v":0}]
[]
[null,null,"First Set",{"$nulls":10},"Second Set"]
[null,null,{"$f":"DRAW!$E$34","v":0},{"$nulls":3},{"$f":"DRAW!$E$35","v":0},{"$nulls":6},{"$f":"DRAW!$E$34","v":0},{"$nulls":3},{"$f":"DRAW!$E$35","v":0}]
["End",null,"Shots",null,"Total",null,"Shots",null,"Total",{"$nulls":4},"Shots",null,"Total",null,"Shots",null,"Total"]
[1]
[2]
[3]
[4]
[35,{"$nulls":10},2,{"$nulls":10},1]
["Points",{"$nulls":3},"Tie Break",{"$nulls":14},"Points"]
[{"$nulls":4},"End",null,"Shots",{"$nulls":8},"Shots"]
[{"$nulls":4},1]
[{"$nulls":3},"TEAM No.",{"$nulls":5},"Time",{"$nulls":7},"TEAM No."]
["Sign",null,null,{"$f":"DRAW!$C$34","v":0},{"$nulls":5},"Completed",{"$nulls":5},"Sign",null,{"$f":"DRAW!$C$35","v":0}]
["i",{"$nulls":14},"i"]
[{"$f":"Entries!$A$1","v":"2018 District 5 - Mixed Pairs"}]
["R O U N D  3"]
[null,null,"RINK",{"$nulls":5},"DATE"]
[null,null,{"$f":"DRAW!$J$34","v":0},{"$nulls":5},{"$f":"Entries!$A$2","v":"20th June 2018"}]
[]
[{"$f":"DRAW!$D$35","v":0},{"$nulls":10},"L",null,{"$f":"DRAW!$D$34","v":0}]
[]
[{"$f":"DRAW!$E$35","v":0},{"$nulls":10},"Sk",null,{"$f":"DRAW!$E$34","v":0}]
[]
[null,null,"First Set",{"$nulls":10},"Second Set"]
[null,null,{"$f":"DRAW!$E$35","v":0},{"$nulls":3},{"$f":"DRAW!$E$34","v":0},{"$nulls":6},{"$f":"DRAW!$E$35","v":0},{"$nulls":3},{"$f":"DRAW!$E$34","v":0}]
["End",null,"Shots",null,"Total",null,"Shots",null,"Total",{"$nulls":4},"Shots",null,"Total",null,"Shots",null,"Total"]
[1]
[2]
[3]
[4]
[34,{"$nulls":10},2,{"$nulls":10},1]
["Points",{"$nulls":3},"Tie Break",{"$nulls":14},"Points"]
[{"$nulls":4},"End",null,"Shots",{"$nulls":8},"Shots"]
[{"$nulls":4},1]
[{"$nulls":3},"TEAM No.",{"$nulls":5},"Time",{"$nulls":7},"TEAM No."]
["Sign",null,null,{"$f":"DRAW!$C$35","v":0},{"$nulls":5},"Completed",{"$nulls":5},"Sign",null,{"$f":"DRAW!$C$34","v":0}]
["i",{"$nulls":14},"i"]
[{"$f":"Entries!$A$1","v":"2018 District 5 - Mixed Pairs"}]
["R O U N D  3"]
[null,null,"RINK",{"$nulls":5},"DATE"]
[null,null,{"$f":"DRAW!$J$37","v":0},{"$nulls":5},{"$f":"Entries!$A$2","v":"20th June 2018"}]
[]
[{"$f":"DRAW!$D$37","v":0},{"$nulls":10},"L",null,{"$f":"DRAW!$D$40","v":0}]
[]
[{"$f":"DRAW!$E$37","v":0},{"$nulls":10},"Sk",null,{"$f":"DRAW!$E$40","v":0}]
[]
[null,null,"First Set",{"$nulls":10},"Second Set"]
[null,null,{"$f":"DRAW!$E$37","v":0},{"$nulls":3},{"$f":"DRAW!$E$40","v":0},{"$nulls":6},{"$f":"DRAW!$E$37","v":0},{"$nulls":3},{"$f":"DRAW!$E$40","v":0}]
["End",null,"Shots",null,"Total",null,"Shots",null,"Total",{"$nulls":4},"Shots",null,"Total",null,"Shots",null,"Total"]
[1]
[2]
[3]
[4]
[37,{"$nulls":10},1,{"$nulls":10},1]
["Points",{"$nulls":3},"Tie Break",{"$nulls":14},"Points"]
[{"$nulls":4},"End",null,"Shots",{"$nulls":8},"Shots"]
[{"$nulls":4},1]
[{"$nulls":3},"TEAM No.",{"$nulls":5},"Time",{"$nulls":7},"TEAM No."]
["Sign",null,null,{"$f":"DRAW!$C$37","v":0},{"$nulls":5},"Completed",{"$nulls":5},"Sign",null,{"$f":"DRAW!$C$40","v":0}]
["i",{"$nulls":14},"i"]
[{"$f":"Entries!$A$1","v":"2018 District 5 - Mixed Pairs"}]
["R O U N D  3"]
[null,null,"RINK",{"$nulls":5},"DATE"]
[null,null,{"$f":"DRAW!$J$37","v":0},{"$nulls":5},{"$f":"Entries!$A$2","v":"20th June 2018"}]
[]
[{"$f":"DRAW!$D$40","v":0},{"$nulls":10},"L",null,{"$f":"DRAW!$D$37","v":0}]
[]
[{"$f":"DRAW!$E$40","v":0},{"$nulls":10},"Sk",null,{"$f":"DRAW!$E$37","v":0}]
[]
[null,null,"First Set",{"$nulls":10},"Second Set"]
[null,null,{"$f":"DRAW!$E$40","v":0},{"$nulls":3},{"$f":"DRAW!$E$37","v":0},{"$nulls":6},{"$f":"DRAW!$E$40","v":0},{"$nulls":3},{"$f":"DRAW!$E$37","v":0}]
["End",null,"Shots",null,"Total",null,"Shots",null,"Total",{"$nulls":4},"Shots",null,"Total",null,"Shots",null,"Total"]
[1]
[2]
[3]
[4]
[37,{"$nulls":10},2,{"$nulls":10},1]
["Points",{"$nulls":3},"Tie Break",{"$nulls":14},"Points"]
[{"$nulls":4},"End",null,"Shots",{"$nulls":8},"Shots"]
[{"$nulls":4},1]
[{"$nulls":3},"TEAM No.",{"$nulls":5},"Time",{"$nulls":7},"TEAM No."]
["Sign",null,null,{"$f":"DRAW!$C$40","v":0},{"$nulls":5},"Completed",{"$nulls":5},"Sign",null,{"$f":"DRAW!$C$37","v":0}]
["i",{"$nulls":14},"i"]
[{"$f":"Entries!$A$1","v":"2018 District 5 - Mixed Pairs"}]
["R O U N D  3"]
[null,null,"RINK",{"$nulls":5},"DATE"]
[null,null,{"$f":"DRAW!$J$39","v":0},{"$nulls":5},{"$f":"Entries!$A$2","v":"20th June 2018"}]
[]
[{"$f":"DRAW!$D$38","v":0},{"$nulls":10},"L",null,{"$f":"DRAW!$D$39","v":0}]
[]
[{"$f":"DRAW!$E$38","v":0},{"$nulls":10},"Sk",null,{"$f":"DRAW!$E$39","v":0}]
[]
[null,null,"First Set",{"$nulls":10},"Second Set"]
[null,null,{"$f":"DRAW!$E$38","v":0},{"$nulls":3},{"$f":"DRAW!$E$39","v":0},{"$nulls":6},{"$f":"DRAW!$E$38","v":0},{"$nulls":3},{"$f":"DRAW!$E$39","v":0}]
["End",null,"Shots",null,"Total",null,"Shots",null,"Total",{"$nulls":4},"Shots",null,"Total",null,"Shots",null,"Total"]
[1]
[2]
[3]
[4]
[39,{"$nulls":10},2,{"$nulls":10},1]
["Points",{"$nulls":3},"Tie Break",{"$nulls":14},"Points"]
[{"$nulls":4},"End",null,"Shots",{"$nulls":8},"Shots"]
[{"$nulls":4},1]
[{"$nulls":3},"TEAM No.",{"$nulls":5},"Time",{"$nulls":7},"TEAM No."]
["Sign",null,null,{"$f":"DRAW!$C$38","v":0},{"$nulls":5},"Completed",{"$nulls":5},"Sign",null,{"$f":"DRAW!$C$39","v":0}]
["i",{"$nulls":14},"i"]
[{"$f":"Entries!$A$1","v":"2018 District 5 - Mixed Pairs"}]
["R O U N D  3"]
[null,null,"RINK",{"$nulls":5},"DATE"]
[null,null,{"$f":"DRAW!$J$38","v":0},{"$nulls":5},{"$f":"Entries!$A$2","v":"20th June 2018"}]
[]
[{"$f":"DRAW!$D$39","v":0},{"$nulls":10},"L",null,{"$f":"DRAW!$D$38","v":0}]
[]
[{"$f":"DRAW!$E$39","v":0},{"$nulls":10},"Sk",null,{"$f":"DRAW!$E$38","v":0}]
[]
[null,null,"First Set",{"$nulls":10},"Second Set"]
[null,null,{"$f":"DRAW!$E$39","v":0},{"$nulls":3},{"$f":"DRAW!$E$38","v":0},{"$nulls":6},{"$f":"DRAW!$E$39","v":0},{"$nulls":3},{"$f":"DRAW!$E$38","v":0}]
["End",null,"Shots",null,"Total",null,"Shots",null,"Total",{"$nulls":4},"Shots",null,"Total",null,"Shots",null,"Total"]
[1]
[2]
[3]
[4]
[38,{"$nulls":10},2,{"$nulls":10},1]
["Points",{"$nulls":3},"Tie Break",{"$nulls":14},"Points"]
[{"$nulls":4},"End",null,"Shots",{"$nulls":8},"Shots"]
[{"$nulls":4},1]
[{"$nulls":3},"TEAM No.",{"$nulls":5},"Time",{"$nulls":7},"TEAM No."]
["Sign",null,null,{"$f":"DRAW!$C$39","v":0},{"$nulls":5},"Completed",{"$nulls":5},"Sign",null,{"$f":"DRAW!$C$38","v":0}]
["i",{"$nulls":14},"i"]
[{"$f":"Entries!$A$1","v":"2018 District 5 - Mixed Pairs"}]
["R O U N D  3"]
[null,null,"RINK",{"$nulls":5},"DATE"]
[null,null,{"$f":"DRAW!$J$41","v":0},{"$nulls":5},{"$f":"Entries!$A$2","v":"20th June 2018"}]
[]
[{"$f":"DRAW!$D$41","v":0},{"$nulls":10},"L",null,{"$f":"DRAW!$D$44","v":0}]
[]
[{"$f":"DRAW!$E$41","v":0},{"$nulls":10},"Sk",null,{"$f":"DRAW!$E$44","v":0}]
[]
[null,null,"First Set",{"$nulls":10},"Second Set"]
[null,null,{"$f":"DRAW!$E$41","v":0},{"$nulls":3},{"$f":"DRAW!$E$44","v":0},{"$nulls":6},{"$f":"DRAW!$E$41","v":0},{"$nulls":3},{"$f":"DRAW!$E$44","v":0}]
["End",null,"Shots",null,"Total",null,"Shots",null,"Total",{"$nulls":4},"Shots",null,"Total",null,"Shots",null,"Total"]
[1]
[2]
[3]
[4]
[41,{"$nulls":10},1,{"$nulls":10},1]
["Points",{"$nulls":3},"Tie Break",{"$nulls":14},"Points"]
[{"$nulls":4},"End",null,"Shots",{"$nulls":8},"Shots"]
[{"$nulls":4},1]
[{"$nulls":3},"TEAM No.",{"$nulls":5},"Time",{"$nulls":7},"TEAM No."]
["Sign",null,null,{"$f":"DRAW!$C$41","v":0},{"$nulls":5},"Completed",{"$nulls":5},"Sign",null,{"$f":"DRAW!$C$44","v":0}]
["i",{"$nulls":14},"i"]
[{"$f":"Entries!$A$1","v":"2018 District 5 - Mixed Pairs"}]
["R O U N D  3"]
[null,null,"RINK",{"$nulls":5},"DATE"]
[null,null,{"$f":"DRAW!$J$41","v":0},{"$nulls":5},{"$f":"Entries!$A$2","v":"20th June 2018"}]
[]
[{"$f":"DRAW!$D$44","v":0},{"$nulls":10},"L",null,{"$f":"DRAW!$D$41","v":0}]
[]
[{"$f":"DRAW!$E$44","v":0},{"$nulls":10},"Sk",null,{"$f":"DRAW!$E$41","v":0}]
[]
[null,null,"First Set",{"$nulls":10},"Second Set"]
[null,null,{"$f":"DRAW!$E$44","v":0},{"$nulls":3},{"$f":"DRAW!$E$41","v":0},{"$nulls":6},{"$f":"DRAW!$E$44","v":0},{"$nulls":3},{"$f":"DRAW!$E$41","v":0}]
["End",null,"Shots",null,"Total",null,"Shots",null,"Total",{"$nulls":4},"Shots",null,"Total",null,"Shots",null,"Total"]
[1]
[2]
[3]
[4]
[41,{"$nulls":10},2,{"$nulls":10},1]
["Points",{"$nulls":3},"Tie Break",{"$nulls":14},"Points"]
[{"$nulls":4},"End",null,"Shots",{"$nulls":8},"Shots"]
[{"$nulls":4},1]
[{"$nulls":3},"TEAM No.",{"$nulls":5},"Time",{"$nulls":7},"TEAM No."]
["Sign",null,null,{"$f":"DRAW!$C$44","v":0},{"$nulls":5},"Completed",{"$nulls":5},"Sign",null,{"$f":"DRAW!$C$41","v":0}]
["i",{"$nulls":14},"i"]
[{"$f":"Entries!$A$1","v":"2018 District 5 - Mixed Pairs"}]
["R O U N D  3"]
[null,null,"RINK",{"$nulls":5},"DATE"]
[null,null,{"$f":"DRAW!$J$43","v":0},{"$nulls":5},{"$f":"Entries!$A$2","v":"20th June 2018"}]
[]
[{"$f":"DRAW!$D$42","v":0},{"$nulls":10},"L",null,{"$f":"DRAW!$D$43","v":0}]
[]
[{"$f":"DRAW!$E$42","v":0},{"$nulls":10},"Sk",null,{"$f":"DRAW!$E$43","v":0}]
[]
[null,null,"First Set",{"$nulls":10},"Second Set"]
[null,null,{"$f":"DRAW!$E$42","v":0},{"$nulls":3},{"$f":"DRAW!$E$43","v":0},{"$nulls":6},{"$f":"DRAW!$E$42","v":0},{"$nulls":3},{"$f":"DRAW!$E$43","v":0}]
["End",null,"Shots",null,"Total",null,"Shots",null,"Total",{"$nulls":4},"Shots",null,"Total",null,"Shots",null,"Total"]
[1]
[2]
[3]
[4]
[43,{"$nulls":10},2,{"$nulls":10},1]
["Points",{"$nulls":3},"Tie Break",{"$nulls":14},"Points"]
[{"$nulls":4},"End",null,"Shots",{"$nulls":8},"Shots"]
[{"$nulls":4},1]
[{"$nulls":3},"TEAM No.",{"$nulls":5},"Time",{"$nulls":7},"TEAM No."]
["Sign",null,null,{"$f":"DRAW!$C$42","v":0},{"$nulls":5},"Completed",{"$nulls":5},"Sign",null,{"$f":"DRAW!$C$43","v":0}]
["i",{"$nulls":14},"i"]
[{"$f":"Entries!$A$1","v":"2018 District 5 - Mixed Pairs"}]
["R O U N D  3"]
[null,null,"RINK",{"$nulls":5},"DATE"]
[null,null,{"$f":"DRAW!$J$42","v":0},{"$nulls":5},{"$f":"Entries!$A$2","v":"20th June 2018"}]
[]
[{"$f":"DRAW!$D$43","v":0},{"$nulls":10},"L",null,{"$f":"DRAW!$D$42","v":0}]
[]
[{"$f":"DRAW!$E$43","v":0},{"$nulls":10},"Sk",null,{"$f":"DRAW!$E$42","v":0}]
[]
[null,null,"First Set",{"$nulls":10},"Second Set"]
[null,null,{"$f":"DRAW!$E$43","v":0},{"$nulls":3},{"$f":"DRAW!$E$42","v":0},{"$nulls":6},{"$f":"DRAW!$E$43","v":0},{"$nulls":3},{"$f":"DRAW!$E$42","v":0}]
["End",null,"Shots",null,"Total",null,"Shots",null,"Total",{"$nulls":4},"Shots",null,"Total",null,"Shots",null,"Total"]
[1]
[2]
[3]
[4]
[42,{"$nulls":10},2,{"$nulls":10},1]
["Points",{"$nulls":3},"Tie Break",{"$nulls":14},"Points"]
[{"$nulls":4},"End",null,"Shots",{"$nulls":8},"Shots"]
[{"$nulls":4},1]
[{"$nulls":3},"TEAM No.",{"$nulls":5},"Time",{"$nulls":7},"TEAM No."]
["Sign",null,null,{"$f":"DRAW!$C$43","v":0},{"$nulls":5},"Completed",{"$nulls":5},"Sign",null,{"$f":"DRAW!$C$42","v":0}]
["i",{"$nulls":14},"i"]

{"sheet":"Cards rear","index":13,"n_rows":493,"n_cols":10,"rows_kept":493,"merged":[[17,0,17,1],[17,5,17,9],[19,1,19,2],[19,3,19,4],[19,6,19,7],[19,8,19,9],[34,0,34,1],[34,5,34,9],[36,1,36,2],[36,3,36,4],[36,6,36,7],[36,8,36,9],[51,0,51,1],[51,5,51,9],[53,1,53,2],[53,3,53,4],[53,6,53,7],[53,8,53,9],[68,0,68,1],[68,5,68,9],[70,1,70,2],[70,3,70,4],[70,6,70,7],[70,8,70,9],[85,0,85,1],[85,5,85,9],[87,1,87,2],[87,3,87,4],[87,6,87,7],[87,8,87,9],[102,0,102,1],[102,5,102,9],[104,1,104,2],[104,3,104,4],[104,6,104,7],[104,8,104,9],[119,0,119,1],[119,5,119,9],[121,1,121,2],[121,3,121,4],[121,6,121,7],[121,8,121,9],[136,0,136,1],[136,5,136,9],[138,1,138,2],[138,3,138,4],[138,6,138,7],[138,8,138,9],[153,0,153,1],[153,5,153,9],[155,1,155,2],[155,3,155,4],[155,6,155,7],[155,8,155,9],[170,0,170,1],[170,5,170,9],[172,1,172,2],[172,3,172,4],[172,6,172,7],[172,8,172,9],[187,0,187,1],[187,5,187,9],[189,1,189,2],[189,3,189,4],[189,6,189,7],[189,8,189,9],[204,0,204,1],[204,5,204,9],[206,1,206,2],[206,3,206,4],[206,6,206,7],[206,8,206,9],[221,0,221,1],[221,5,221,9],[223,1,223,2],[223,3,223,4],[223,6,223,7],[223,8,223,9],[238,0,238,1],[238,5,238,9],[240,1,240,2],[240,3,240,4],[240,6,240,7],[240,8,240,9],[255,0,255,1],[255,5,255,9],[257,1,257,2],[257,3,257,4],[257,6,257,7],[257,8,257,9],[272,0,272,1],[272,5,272,9],[274,1,274,2],[274,3,274,4],[274,6,274,7],[274,8,274,9],[289,0,289,1],[289,5,289,9],[291,1,291,2],[291,3,291,4],[291,6,291,7],[291,8,291,9],[306,0,306,1],[306,5,306,9],[308,1,308,2],[308,3,308,4],[308,6,308,7],[308,8,308,9],[323,0,323,1],[323,5,323,9],[325,1,325,2],[325,3,325,4],[325,6,325,7],[325,8,325,9],[340,0,340,1],[340,5,340,9],[342,1,342,2],[342,3,342,4],[342,6,342,7],[342,8,342,9],[357,0,357,1],[357,5,357,9],[359,1,359,2],[359,3,359,4],[359,6,359,7],[359,8,359,9],[374,0,374,1],[374,5,374,9],[376,1,376,2],[376,3,376,4],[376,6,376,7],[376,8,376,9],[391,0,391,1],[391,5,391,9],[393,1,393,2],[393,3,393,4],[393,6,393,7],[393,8,393,9],[408,0,408,1],[408,5,408,9],[410,1,410,2],[410,3,410,4],[410,6,410,7],[410,8,410,9],[425,0,425,1],[425,5,425,9],[427,1,427,2],[427,3,427,4],[427,6,427,7],[427,8,427,9],[442,0,442,1],[442,5,442,9],[444,1,444,2],[444,3,444,4],[444,6,444,7],[444,8,444,9],[459,0,459,1],[459,5,459,9],[461,1,461,2],[461,3,461,4],[461,6,461,7],[461,8,461,9],[476,0,476,1],[476,5,476,9],[478,1,478,2],[478,3,478,4],[478,6,478,7],[478,8,478,9]]}
["Mixed Pairs Championships"]
["CONDITIONS OF PLAY:"]
["* Laws of the Sport of Bowls for Sets Play will apply."]
["* One female and one male who must be affiliated with WBNSW and Bowls NSW respectively (either can play skip)."]
["* Players do not need to be from the same club or district but entry is accepted from the affiliated Club of the female member."]
["* Sets play, 3 bowl pairs."]
["* 2 sets of 5 ends with a one end tie break if required."]
["* 2 trial ends before commencement of 1st set only.  "]
["* No dead ends – jack to be re-spotted on the “T”"]
["* One point for each set won."]
["* Half a point for a set draw."]
["* Three points for a match win."]
["* In the event a tie break end is required the game 2 winner takes the mat for the tie breaker."]
["* The section winners will be decided on most points and then margins if necessary. Tie break margins not included."]
[]
[]
[]
["RINK",null,{"$f":"[2]CARDS!$C$30","v":0},null,"SKIP",{"$f":"[2]CARDS!$A$38","v":3}]
[1]
[null,{"$f":"[2]CARDS!$A$38","v":3},null,{"$f":"[2]CARDS!$N$38","v":0},null,null,{"$f":"[2]CARDS!$A$38","v":3},null,{"$f":"[2]CARDS!$N$38","v":0}]
["End","Shots","Total","Shots","Total","End","Shots","Total","Shots","Total"]
[1,{"$nulls":4},14]
[2,{"$nulls":4},15]
[3,{"$nulls":4},16]
[4,{"$nulls":4},17]
[5,{"$nulls":4},18]
[6,{"$nulls":4},19]
[7,{"$nulls":4},20]
[8,{"$nulls":4},21]
[9,{"$nulls":4},22]
[10,{"$nulls":4},23]
[11,{"$nulls":4},24]
[12,{"$nulls":4},25]
[13,{"$nulls":4},"T"]
["RINK",null,{"$f":"[2]CARDS!$C$53","v":0},null,"SKIP",{"$f":"[2]CARDS!$A$61","v":3}]
[1]
[null,{"$f":"[2]CARDS!$A$61","v":3},null,{"$f":"[2]CARDS!$N$61","v":0},null,null,{"$f":"[2]CARDS!$A$61","v":3},null,{"$f":"[2]CARDS!$N$61","v":0}]
["End","Shots","Total","Shots","Total","End","Shots","Total","Shots","Total"]
[1,{"$nulls":4},14]
[2,{"$nulls":4},15]
[3,{"$nulls":4},16]
[4,{"$nulls":4},17]
[5,{"$nulls":4},18]
[6,{"$nulls":4},19]
[7,{"$nulls":4},20]
[8,{"$nulls":4},21]
[9,{"$nulls":4},22]
[10,{"$nulls":4},23]
[11,{"$nulls":4},24]
[12,{"$nulls":4},25]
[13,{"$nulls":4},"T"]
["RINK",null,{"$f":"[2]CARDS!$C$76","v":0},null,"SKIP",{"$f":"[2]CARDS!$A$84","v":3}]
[1]
[null,{"$f":"[2]CARDS!$A$84","v":3},null,{"$f":"[2]CARDS!$N$84","v":0},null,null,{"$f":"[2]CARDS!$A$84","v":3},null,{"$f":"[2]CARDS!$N$84","v":0}]
["End","Shots","Total","Shots","Total","End","Shots","Total","Shots","Total"]
[1,{"$nulls":4},14]
[2,{"$nulls":4},15]
[3,{"$nulls":4},16]
[4,{"$nulls":4},17]
[5,{"$nulls":4},18]
[6,{"$nulls":4},19]
[7,{"$nulls":4},20]
[8,{"$nulls":4},21]
[9,{"$nulls":4},22]
[10,{"$nulls":4},23]
[11,{"$nulls":4},24]
[12,{"$nulls":4},25]
[13,{"$nulls":4},"T"]
["RINK",null,{"$f":"[2]CARDS!$C$99","v":0},null,"SKIP",{"$f":"[2]CARDS!$A$107","v":3}]
[1]
[null,{"$f":"[2]CARDS!$A$107","v":3},null,{"$f":"[2]CARDS!$N$107","v":0},null,null,{"$f":"[2]CARDS!$A$107","v":3},null,{"$f":"[2]CARDS!$N$107","v":0}]
["End","Shots","Total","Shots","Total","End","Shots","Total","Shots","Total"]
[1,{"$nulls":4},14]
[2,{"$nulls":4},15]
[3,{"$nulls":4},16]
[4,{"$nulls":4},17]
[5,{"$nulls":4},18]
[6,{"$nulls":4},19]
[7,{"$nulls":4},20]
[8,{"$nulls":4},21]
[9,{"$nulls":4},22]
[10,{"$nulls":4},23]
[11,{"$nulls":4},24]
[12,{"$nulls":4},25]
[13,{"$nulls":4},"T"]
["RINK",null,{"$f":"[2]CARDS!$C$122","v":0},null,"SKIP",{"$f":"[2]CARDS!$A$130","v":3}]
[1]
[null,{"$f":"[2]CARDS!$A$130","v":3},null,{"$f":"[2]CARDS!$N$130","v":0},null,null,{"$f":"[2]CARDS!$A$130","v":3},null,{"$f":"[2]CARDS!$N$130","v":0}]
["End","Shots","Total","Shots","Total","End","Shots","Total","Shots","Total"]
[1,{"$nulls":4},14]
[2,{"$nulls":4},15]
[3,{"$nulls":4},16]
[4,{"$nulls":4},17]
[5,{"$nulls":4},18]
[6,{"$nulls":4},19]
[7,{"$nulls":4},20]
[8,{"$nulls":4},21]
[9,{"$nulls":4},22]
[10,{"$nulls":4},23]
[11,{"$nulls":4},24]
[12,{"$nulls":4},25]
[13,{"$nulls":4},"T"]
["RINK",null,{"$f":"[2]CARDS!$C$145","v":0},null,"SKIP",{"$f":"[2]CARDS!$A$153","v":3}]
[1]
[null,{"$f":"[2]CARDS!$A$153","v":3},null,{"$f":"[2]CARDS!$N$153","v":0},null,null,{"$f":"[2]CARDS!$A$153","v":3},null,{"$f":"[2]CARDS!$N$153","v":0}]
["End","Shots","Total","Shots","Total","End","Shots","Total","Shots","Total"]
[1,{"$nulls":4},14]
[2,{"$nulls":4},15]
[3,{"$nulls":4},16]
[4,{"$nulls":4},17]
[5,{"$nulls":4},18]
[6,{"$nulls":4},19]
[7,{"$nulls":4},20]
[8,{"$nulls":4},21]
[9,{"$nulls":4},22]
[10,{"$nulls":4},23]
[11,{"$nulls":4},24]
[12,{"$nulls":4},25]
[13,{"$nulls":4},"T"]
["RINK",null,{"$f":"[2]CARDS!$C$168","v":0},null,"SKIP",{"$f":"[2]CARDS!$A$176","v":3}]
[1]
[null,{"$f":"[2]CARDS!$A$176","v":3},null,{"$f":"[2]CARDS!$N$176","v":0},null,null,{"$f":"[2]CARDS!$A$176","v":3},null,{"$f":"[2]CARDS!$N$176","v":0}]
["End","Shots","Total","Shots","Total","End","Shots","Total","Shots","Total"]
[1,{"$nulls":4},14]
[2,{"$nulls":4},15]
[3,{"$nulls":4},16]
[4,{"$nulls":4},17]
[5,{"$nulls":4},18]
[6,{"$nulls":4},19]
[7,{"$nulls":4},20]
[8,{"$nulls":4},21]
[9,{"$nulls":4},22]
[10,{"$nulls":4},23]
[11,{"$nulls":4},24]
[12,{"$nulls":4},25]
[13,{"$nulls":4},"T"]
["RINK",null,{"$f":"[2]CARDS!$C$191","v":0},null,"SKIP",{"$f":"[2]CARDS!$A$199","v":3}]
[1]
[null,{"$f":"[2]CARDS!$A$199","v":3},null,{"$f":"[2]CARDS!$N$199","v":0},null,null,{"$f":"[2]CARDS!$A$199","v":3},null,{"$f":"[2]CARDS!$N$199","v":0}]
["End","Shots","Total","Shots","Total","End","Shots","Total","Shots","Total"]
[1,{"$nulls":4},14]
[2,{"$nulls":4},15]
[3,{"$nulls":4},16]
[4,{"$nulls":4},17]
[5,{"$nulls":4},18]
[6,{"$nulls":4},19]
[7,{"$nulls":4},20]
[8,{"$nulls":4},21]
[9,{"$nulls":4},22]
[10,{"$nulls":4},23]
[11,{"$nulls":4},24]
[12,{"$nulls":4},25]
[13,{"$nulls":4},"T"]
["RINK",null,{"$f":"[2]CARDS!$C$214","v":0},null,"SKIP",{"$f":"[2]CARDS!$A$222","v":3}]
[1]
[null,{"$f":"[2]CARDS!$A$222","v":3},null,{"$f":"[2]CARDS!$N$222","v":0},null,null,{"$f":"[2]CARDS!$A$222","v":3},null,{"$f":"[2]CARDS!$N$222","v":0}]
["End","Shots","Total","Shots","Total","End","Shots","Total","Shots","Total"]
[1,{"$nulls":4},14]
[2,{"$nulls":4},15]
[3,{"$nulls":4},16]
[4,{"$nulls":4},17]
[5,{"$nulls":4},18]
[6,{"$nulls":4},19]
[7,{"$nulls":4},20]
[8,{"$nulls":4},21]
[9,{"$nulls":4},22]
[10,{"$nulls":4},23]
[11,{"$nulls":4},24]
[12,{"$nulls":4},25]
[13,{"$nulls":4},"T"]
["RINK",null,{"$f":"[2]CARDS!$C$237","v":0},null,"SKIP",{"$f":"[2]CARDS!$A$245","v":3}]
[1]
[null,{"$f":"[2]CARDS!$A$245","v":3},null,{"$f":"[2]CARDS!$N$245","v":0},null,null,{"$f":"[2]CARDS!$A$245","v":3},null,{"$f":"[2]CARDS!$N$245","v":0}]
["End","Shots","Total","Shots","Total","End","Shots","Total","Shots","Total"]
[1,{"$nulls":4},14]
[2,{"$nulls":4},15]
[3,{"$nulls":4},16]
[4,{"$nulls":4},17]
[5,{"$nulls":4},18]
[6,{"$nulls":4},19]
[7,{"$nulls":4},20]
[8,{"$nulls":4},21]
[9,{"$nulls":4},22]
[10,{"$nulls":4},23]
[11,{"$nulls":4},24]
[12,{"$nulls":4},25]
[13,{"$nulls":4},"T"]
["RINK",null,{"$f":"[2]CARDS!$C$260","v":0},null,"SKIP",{"$f":"[2]CARDS!$A$268","v":3}]
[1]
[null,{"$f":"[2]CARDS!$A$268","v":3},null,{"$f":"[2]CARDS!$N$268","v":0},null,null,{"$f":"[2]CARDS!$A$268","v":3},null,{"$f":"[2]CARDS!$N$268","v":0}]
["End","Shots","Total","Shots","Total","End","Shots","Total","Shots","Total"]
[1,{"$nulls":4},14]
[2,{"$nulls":4},15]
[3,{"$nulls":4},16]
[4,{"$nulls":4},17]
[5,{"$nulls":4},18]
[6,{"$nulls":4},19]
[7,{"$nulls":4},20]
[8,{"$nulls":4},21]
[9,{"$nulls":4},22]
[10,{"$nulls":4},23]
[11,{"$nulls":4},24]
[12,{"$nulls":4},25]
[13,{"$nulls":4},"T"]
["RINK",null,{"$f":"[2]CARDS!$C$283","v":0},null,"SKIP",{"$f":"[2]CARDS!$A$291","v":3}]
[1]
[null,{"$f":"[2]CARDS!$A$291","v":3},null,{"$f":"[2]CARDS!$N$291","v":0},null,null,{"$f":"[2]CARDS!$A$291","v":3},null,{"$f":"[2]CARDS!$N$291","v":0}]
["End","Shots","Total","Shots","Total","End","Shots","Total","Shots","Total"]
[1,{"$nulls":4},14]
[2,{"$nulls":4},15]
[3,{"$nulls":4},16]
[4,{"$nulls":4},17]
[5,{"$nulls":4},18]
[6,{"$nulls":4},19]
[7,{"$nulls":4},20]
[8,{"$nulls":4},21]
[9,{"$nulls":4},22]
[10,{"$nulls":4},23]
[11,{"$nulls":4},24]
[12,{"$nulls":4},25]
[13,{"$nulls":4},"T"]
["RINK",null,{"$f":"[2]CARDS!$C$306","v":0},null,"SKIP",{"$f":"[2]CARDS!$A$314","v":3}]
[1]
[null,{"$f":"[2]CARDS!$A$314","v":3},null,{"$f":"[2]CARDS!$N$314","v":0},null,null,{"$f":"[2]CARDS!$A$314","v":3},null,{"$f":"[2]CARDS!$N$314","v":0}]
["End","Shots","Total","Shots","Total","End","Shots","Total","Shots","Total"]
[1,{"$nulls":4},14]
[2,{"$nulls":4},15]
[3,{"$nulls":4},16]
[4,{"$nulls":4},17]
[5,{"$nulls":4},18]
[6,{"$nulls":4},19]
[7,{"$nulls":4},20]
[8,{"$nulls":4},21]
[9,{"$nulls":4},22]
[10,{"$nulls":4},23]
[11,{"$nulls":4},24]
[12,{"$nulls":4},25]
[13,{"$nulls":4},"T"]
["RINK",null,{"$f":"[2]CARDS!$C$329","v":0},null,"SKIP",{"$f":"[2]CARDS!$A$337","v":3}]
[1]
[null,{"$f":"[2]CARDS!$A$337","v":3},null,{"$f":"[2]CARDS!$N$337","v":0},null,null,{"$f":"[2]CARDS!$A$337","v":3},null,{"$f":"[2]CARDS!$N$337","v":0}]
["End","Shots","Total","Shots","Total","End","Shots","Total","Shots","Total"]
[1,{"$nulls":4},14]
[2,{"$nulls":4},15]
[3,{"$nulls":4},16]
[4,{"$nulls":4},17]
[5,{"$nulls":4},18]
[6,{"$nulls":4},19]
[7,{"$nulls":4},20]
[8,{"$nulls":4},21]
[9,{"$nulls":4},22]
[10,{"$nulls":4},23]
[11,{"$nulls":4},24]
[12,{"$nulls":4},25]
[13,{"$nulls":4},"T"]
["RINK",null,{"$f":"[2]CARDS!$C$352","v":0},null,"SKIP",{"$f":"[2]CARDS!$A$360","v":3}]
[1]
[null,{"$f":"[2]CARDS!$A$360","v":3},null,{"$f":"[2]CARDS!$N$360","v":0},null,null,{"$f":"[2]CARDS!$A$360","v":3},null,{"$f":"[2]CARDS!$N$360","v":0}]
["End","Shots","Total","Shots","Total","End","Shots","Total","Shots","Total"]
[1,{"$nulls":4},14]
[2,{"$nulls":4},15]
[3,{"$nulls":4},16]
[4,{"$nulls":4},17]
[5,{"$nulls":4},18]
[6,{"$nulls":4},19]
[7,{"$nulls":4},20]
[8,{"$nulls":4},21]
[9,{"$nulls":4},22]
[10,{"$nulls":4},23]
[11,{"$nulls":4},24]
[12,{"$nulls":4},25]
[13,{"$nulls":4},"T"]
["RINK",null,{"$f":"[2]CARDS!$C$375","v":0},null,"SKIP",{"$f":"[2]CARDS!$A$383","v":3}]
[1]
[null,{"$f":"[2]CARDS!$A$383","v":3},null,{"$f":"[2]CARDS!$N$383","v":0},null,null,{"$f":"[2]CARDS!$A$383","v":3},null,{"$f":"[2]CARDS!$N$383","v":0}]
["End","Shots","Total","Shots","Total","End","Shots","Total","Shots","Total"]
[1,{"$nulls":4},14]
[2,{"$nulls":4},15]
[3,{"$nulls":4},16]
[4,{"$nulls":4},17]
[5,{"$nulls":4},18]
[6,{"$nulls":4},19]
[7,{"$nulls":4},20]
[8,{"$nulls":4},21]
[9,{"$nulls":4},22]
[10,{"$nulls":4},23]
[11,{"$nulls":4},24]
[12,{"$nulls":4},25]
[13,{"$nulls":4},"T"]
["RINK",null,{"$f":"[2]CARDS!$C$398","v":0},null,"SKIP",{"$f":"[2]CARDS!$A$406","v":3}]
[1]
[null,{"$f":"[2]CARDS!$A$406","v":3},null,{"$f":"[2]CARDS!$N$406","v":0},null,null,{"$f":"[2]CARDS!$A$406","v":3},null,{"$f":"[2]CARDS!$N$406","v":0}]
["End","Shots","Total","Shots","Total","End","Shots","Total","Shots","Total"]
[1,{"$nulls":4},14]
[2,{"$nulls":4},15]
[3,{"$nulls":4},16]
[4,{"$nulls":4},17]
[5,{"$nulls":4},18]
[6,{"$nulls":4},19]
[7,{"$nulls":4},20]
[8,{"$nulls":4},21]
[9,{"$nulls":4},22]
[10,{"$nulls":4},23]
[11,{"$nulls":4},24]
[12,{"$nulls":4},25]
[13,{"$nulls":4},"T"]
["RINK",null,{"$f":"[2]CARDS!$C$421","v":0},null,"SKIP",{"$f":"[2]CARDS!$A$429","v":3}]
[1]
[null,{"$f":"[2]CARDS!$A$429","v":3},null,{"$f":"[2]CARDS!$N$429","v":0},null,null,{"$f":"[2]CARDS!$A$429","v":3},null,{"$f":"[2]CARDS!$N$429","v":0}]
["End","Shots","Total","Shots","Total","End","Shots","Total","Shots","Total"]
[1,{"$nulls":4},14]
[2,{"$nulls":4},15]
[3,{"$nulls":4},16]
[4,{"$nulls":4},17]
[5,{"$nulls":4},18]
[6,{"$nulls":4},19]
[7,{"$nulls":4},20]
[8,{"$nulls":4},21]
[9,{"$nulls":4},22]
[10,{"$nulls":4},23]
[11,{"$nulls":4},24]
[12,{"$nulls":4},25]
[13,{"$nulls":4},"T"]
["RINK",null,{"$f":"[2]CARDS!$C$444","v":0},null,"SKIP",{"$f":"[2]CARDS!$A$452","v":3}]
[1]
[null,{"$f":"[2]CARDS!$A$452","v":3},null,{"$f":"[2]CARDS!$N$452","v":0},null,null,{"$f":"[2]CARDS!$A$452","v":3},null,{"$f":"[2]CARDS!$N$452","v":0}]
["End","Shots","Total","Shots","Total","End","Shots","Total","Shots","Total"]
[1,{"$nulls":4},14]
[2,{"$nulls":4},15]
[3,{"$nulls":4},16]
[4,{"$nulls":4},17]
[5,{"$nulls":4},18]
[6,{"$nulls":4},19]
[7,{"$nulls":4},20]
[8,{"$nulls":4},21]
[9,{"$nulls":4},22]
[10,{"$nulls":4},23]
[11,{"$nulls":4},24]
[12,{"$nulls":4},25]
[13,{"$nulls":4},"T"]
["RINK",null,{"$f":"[2]CARDS!$C$467","v":0},null,"SKIP",{"$f":"[2]CARDS!$A$475","v":3}]
[1]
[null,{"$f":"[2]CARDS!$A$475","v":3},null,{"$f":"[2]CARDS!$N$475","v":0},null,null,{"$f":"[2]CARDS!$A$475","v":3},null,{"$f":"[2]CARDS!$N$475","v":0}]
["End","Shots","Total","Shots","Total","End","Shots","Total","Shots","Total"]
[1,{"$nulls":4},14]
[2,{"$nulls":4},15]
[3,{"$nulls":4},16]
[4,{"$nulls":4},17]
[5,{"$nulls":4},18]
[6,{"$nulls":4},19]
[7,{"$nulls":4},20]
[8,{"$nulls":4},21]
[9,{"$nulls":4},22]
[10,{"$nulls":4},23]
[11,{"$nulls":4},24]
[12,{"$nulls":4},25]
[13,{"$nulls":4},"T"]
["RINK",null,{"$f":"[2]CARDS!$C$490","v":0},null,"SKIP",{"$f":"[2]CARDS!$A$498","v":3}]
[1]
[null,{"$f":"[2]CARDS!$A$498","v":3},null,{"$f":"[2]CARDS!$N$498","v":0},null,null,{"$f":"[2]CARDS!$A$498","v":3},null,{"$f":"[2]CARDS!$N$498","v":0}]
["End","Shots","Total","Shots","Total","End","Shots","Total","Shots","Total"]
[1,{"$nulls":4},14]
[2,{"$nulls":4},15]
[3,{"$nulls":4},16]
[4,{"$nulls":4},17]
[5,{"$nulls":4},18]
[6,{"$nulls":4},19]
[7,{"$nulls":4},20]
[8,{"$nulls":4},21]
[9,{"$nulls":4},22]
[10,{"$nulls":4},23]
[11,{"$nulls":4},24]
[12,{"$nulls":4},25]
[13,{"$nulls":4},"T"]
["RINK",null,{"$f":"[2]CARDS!#REF!","v":{"$error":"#REF!"}},null,"SKIP",{"$f":"[2]CARDS!#REF!","v":{"$error":"#REF!"}}]
[1]
[null,{"$f":"[2]CARDS!#REF!","v":{"$error":"#REF!"}},null,{"$f":"[2]CARDS!#REF!","v":{"$error":"#REF!"}},null,null,{"$f":"[2]CARDS!#REF!","v":{"$error":"#REF!"}},null,{"$f":"[2]CARDS!#REF!","v":{"$error":"#REF!"}}]
["End","Shots","Total","Shots","Total","End","Shots","Total","Shots","Total"]
[1,{"$nulls":4},14]
[2,{"$nulls":4},15]
[3,{"$nulls":4},16]
[4,{"$nulls":4},17]
[5,{"$nulls":4},18]
[6,{"$nulls":4},19]
[7,{"$nulls":4},20]
[8,{"$nulls":4},21]
[9,{"$nulls":4},22]
[10,{"$nulls":4},23]
[11,{"$nulls":4},24]
[12,{"$nulls":4},25]
[13,{"$nulls":4},"T"]
["RINK",null,{"$f":"[2]CARDS!#REF!","v":{"$error":"#REF!"}},null,"SKIP",{"$f":"[2]CARDS!#REF!","v":{"$error":"#REF!"}}]
[1]
[null,{"$f":"[2]CARDS!#REF!","v":{"$error":"#REF!"}},null,{"$f":"[2]CARDS!#REF!","v":{"$error":"#REF!"}},null,null,{"$f":"[2]CARDS!#REF!","v":{"$error":"#REF!"}},null,{"$f":"[2]CARDS!#REF!","v":{"$error":"#REF!"}}]
["End","Shots","Total","Shots","Total","End","Shots","Total","Shots","Total"]
[1,{"$nulls":4},14]
[2,{"$nulls":4},15]
[3,{"$nulls":4},16]
[4,{"$nulls":4},17]
[5,{"$nulls":4},18]
[6,{"$nulls":4},19]
[7,{"$nulls":4},20]
[8,{"$nulls":4},21]
[9,{"$nulls":4},22]
[10,{"$nulls":4},23]
[11,{"$nulls":4},24]
[12,{"$nulls":4},25]
[13,{"$nulls":4},"T"]
["RINK",null,{"$f":"[2]CARDS!#REF!","v":{"$error":"#REF!"}},null,"SKIP",{"$f":"[2]CARDS!#REF!","v":{"$error":"#REF!"}}]
[1]
[null,{"$f":"[2]CARDS!#REF!","v":{"$error":"#REF!"}},null,{"$f":"[2]CARDS!#REF!","v":{"$error":"#REF!"}},null,null,{"$f":"[2]CARDS!#REF!","v":{"$error":"#REF!"}},null,{"$f":"[2]CARDS!#REF!","v":{"$error":"#REF!"}}]
["End","Shots","Total","Shots","Total","End","Shots","Total","Shots","Total"]
[1,{"$nulls":4},14]
[2,{"$nulls":4},15]
[3,{"$nulls":4},16]
[4,{"$nulls":4},17]
[5,{"$nulls":4},18]
[6,{"$nulls":4},19]
[7,{"$nulls":4},20]
[8,{"$nulls":4},21]
[9,{"$nulls":4},22]
[10,{"$nulls":4},23]
[11,{"$nulls":4},24]
[12,{"$nulls":4},25]
[13,{"$nulls":4},"T"]
["RINK",null,{"$f":"[2]CARDS!#REF!","v":{"$error":"#REF!"}},null,"SKIP",{"$f":"[2]CARDS!#REF!","v":{"$error":"#REF!"}}]
[1]
[null,{"$f":"[2]CARDS!#REF!","v":{"$error":"#REF!"}},null,{"$f":"[2]CARDS!#REF!","v":{"$error":"#REF!"}},null,null,{"$f":"[2]CARDS!#REF!","v":{"$error":"#REF!"}},null,{"$f":"[2]CARDS!#REF!","v":{"$error":"#REF!"}}]
["End","Shots","Total","Shots","Total","End","Shots","Total","Shots","Total"]
[1,{"$nulls":4},14]
[2,{"$nulls":4},15]
[3,{"$nulls":4},16]
[4,{"$nulls":4},17]
[5,{"$nulls":4},18]
[6,{"$nulls":4},19]
[7,{"$nulls":4},20]
[8,{"$nulls":4},21]
[9,{"$nulls":4},22]
[10,{"$nulls":4},23]
[11,{"$nulls":4},24]
[12,{"$nulls":4},25]
[13,{"$nulls":4},"T"]
["RINK",null,{"$f":"[2]CARDS!#REF!","v":{"$error":"#REF!"}},null,"SKIP",{"$f":"[2]CARDS!#REF!","v":{"$error":"#REF!"}}]
[1]
[null,{"$f":"[2]CARDS!#REF!","v":{"$error":"#REF!"}},null,{"$f":"[2]CARDS!#REF!","v":{"$error":"#REF!"}},null,null,{"$f":"[2]CARDS!#REF!","v":{"$error":"#REF!"}},null,{"$f":"[2]CARDS!#REF!","v":{"$error":"#REF!"}}]
["End","Shots","Total","Shots","Total","End","Shots","Total","Shots","Total"]
[1,{"$nulls":4},14]
[2,{"$nulls":4},15]
[3,{"$nulls":4},16]
[4,{"$nulls":4},17]
[5,{"$nulls":4},18]
[6,{"$nulls":4},19]
[7,{"$nulls":4},20]
[8,{"$nulls":4},21]
[9,{"$nulls":4},22]
[10,{"$nulls":4},23]
[11,{"$nulls":4},24]
[12,{"$nulls":4},25]
[13,{"$nulls":4},"T"]
["RINK",null,{"$f":"[2]CARDS!#REF!","v":{"$error":"#REF!"}},null,"SKIP",{"$f":"[2]CARDS!#REF!","v":{"$error":"#REF!"}}]
[1]
[null,{"$f":"[2]CARDS!#REF!","v":{"$error":"#REF!"}},null,{"$f":"[2]CARDS!#REF!","v":{"$error":"#REF!"}},null,null,{"$f":"[2]CARDS!#REF!","v":{"$error":"#REF!"}},null,{"$f":"[2]CARDS!#REF!","v":{"$error":"#REF!"}}]
["End","Shots","Total","Shots","Total","End","Shots","Total","Shots","Total"]
[1,{"$nulls":4},14]
[2,{"$nulls":4},15]
[3,{"$nulls":4},16]
[4,{"$nulls":4},17]
[5,{"$nulls":4},18]
[6,{"$nulls":4},19]
[7,{"$nulls":4},20]
[8,{"$nulls":4},21]
[9,{"$nulls":4},22]
[10,{"$nulls":4},23]
[11,{"$nulls":4},24]
[12,{"$nulls":4},25]
[13,{"$nulls":4},"T"]
["RINK",{"$nulls":3},"SKIP"]
[1]
[]
["End","Shots","Total","Shots","Total","End","Shots","Total","Shots","Total"]
[1,{"$nulls":4},14]
[2,{"$nulls":4},15]
[3,{"$nulls":4},16]
[4,{"$nulls":4},17]
[5,{"$nulls":4},18]
[6,{"$nulls":4},19]
[7,{"$nulls":4},20]
[8,{"$nulls":4},21]
[9,{"$nulls":4},22]
[10,{"$nulls":4},23]
[11,{"$nulls":4},24]
[12,{"$nulls":4},25]
[13,{"$nulls":4},"T"]

{"sheet":"Finals 32-29","index":14,"n_rows":30,"n_cols":43,"rows_kept":30,"hidden":true,"merged":[[0,2,0,42],[1,2,2,42],[3,2,4,2],[3,3,4,3],[3,4,4,4],[3,5,4,5],[3,6,4,6],[3,8,4,8],[3,9,4,9],[3,11,4,11],[3,12,4,12],[3,14,4,14],[3,15,4,15],[3,17,4,17],[3,18,4,18],[3,19,4,19],[3,20,4,20],[3,21,4,21],[5,2,6,2],[5,5,6,5],[7,2,7,42],[8,2,9,2],[8,3,9,3],[8,4,9,4],[8,5,9,5],[8,6,9,6],[8,8,9,8],[8,9,9,9],[8,11,9,11],[8,12,9,12],[8,14,9,14],[8,15,9,15],[8,17,9,17],[8,18,9,18],[8,19,9,19],[8,20,9,20],[8,21,9,21],[8,23,9,23],[8,24,9,24],[8,25,9,25],[8,26,9,26],[8,27,9,27],[8,29,9,29],[8,30,9,30],[8,32,9,32],[8,33,9,33],[8,35,9,35],[8,36,9,36],[8,38,9,38],[8,39,9,39],[8,40,9,40],[8,41,9,41],[8,42,9,42],[10,2,11,2],[10,5,11,5],[10,23,11,23],[10,26,11,26],[13,2,14,2],[13,5,14,5],[13,23,14,23],[13,26,14,26],[16,2,17,2],[16,5,17,5],[16,23,17,23],[16,26,17,26],[18,2,18,42],[19,2,20,2],[19,5,20,5],[19,23,20,23],[19,26,20,26],[22,2,23,2],[22,5,23,5],[22,23,23,23],[22,26,23,26],[24,2,24,42],[25,2,26,2],[25,5,26,5],[25,23,26,23],[25,26,26,26],[27,2,27,42],[28,2,29,2],[28,5,29,5]]}
[null,null,"H E A D I N G  H E R E "]
[null,null,"R O U N D  1"]
[]
[null,null,"Sections","Team   #","Skips","Rink #","1st     Set",null,null,"2nd     Set",null,null,"Tie Break",null,null,"Set Points",null,null,"Game Points",null,"Total Points","RANK"]
[{"$nulls":7},"Set Points",null,null,"Set Points",null,null,"Set Points",null,null,"S+TBPts"]
[null,null,1,1,"Sec 8",null,null,{"$f":"IF(G6+G7>0,(IF(G6>G7,1,(IF(G6=G7,0.5,0)))),0)","v":0},{"$f":"(U6*1000)+O6","v":0},null,{"$f":"IF(J6+J7>0,(IF(J6>J7,1,(IF(J6=J7,0.5,0)))),0)","v":0},{"$f":"LARGE(I6:I7,1)","v":0},null,{"$f":"IF(M6+M7>0,(IF(M6>M7,1,(IF(M6=M7,0.5,0)))),0)","v":0},{"$f":"G6+J6+M6-G7-J7-M7","v":0},{"$f":"H6+K6","v":0},{"$f":"IF(P6>2,P6,H6+K6+N6)","v":0},null,{"$f":"IF(Q6+Q7>=1.5,(IF(Q6>Q7,3,0)),0)","v":0},null,{"$f":"IF((S6+S7)=3,(P6+S6),0)","v":0},{"$f":"IF(U6+U7=0,\"\",IF(I6=$L$6,\"1st\",\"\"))","v":""}]
[{"$nulls":3},2,"Sec 9",null,null,{"$f":"IF(G6+G7>0,(IF(G6<G7,1,(IF(G6=G7,0.5,0)))),0)","v":0},{"$f":"(U7*1000)+O7","v":0},null,{"$f":"IF(J6+J7>0,(IF(J6<J7,1,(IF(J6=J7,0.5,0)))),0)","v":0},null,null,{"$f":"IF(M6+M7>0,(IF(M6<M7,1,(IF(M6=M7,0.5,0)))),0)","v":0},{"$f":"G7+J7+M7-G6-J6-M6","v":0},{"$f":"+H7+K7","v":0},{"$f":"IF(P7>2,P7,H7+K7+N7)","v":0},null,{"$f":"IF(Q6+Q7>=1.5,(IF(Q6<Q7,3,0)),0)","v":0},null,{"$f":"IF((S6+S7)=3,(P7+S7),0)","v":0},{"$f":"IF(U7+U8=0,\"\",IF(I7=$L$6,\"1st\",\"\"))","v":""}]
[null,null,"Q U A R T E R  F I N A L"]
[null,null,"Sections","Team   #","Skips","Rink #","1st     Set",null,null,"2nd     Set",null,null,"Tie Break",null,null,"Set Points",null,null,"Game Points",null,"Total Points","RANK",null,"Sections","Team   #","Skips","Rink #","1st     Set",null,null,"2nd     Set",null,null,"Tie Break",null,null,"Set Points",null,null,"Game Points",null,"Total Points","RANK"]
[{"$nulls":7},"Set Points",null,null,"Set Points",null,null,"Set Points",null,null,"S+TBPts",{"$nulls":11},"Set Points",null,null,"Set Points",null,null,"Set Points",null,null,"S+TBPts"]
[null,null,1,3,"Sec 1",null,null,{"$f":"IF(G11+G12>0,(IF(G11>G12,1,(IF(G11=G12,0.5,0)))),0)","v":0},{"$f":"(U11*1000)+O11","v":0},null,{"$f":"IF(J11+J12>0,(IF(J11>J12,1,(IF(J11=J12,0.5,0)))),0)","v":0},{"$f":"LARGE(I11:I12,1)","v":0},null,{"$f":"IF(M11+M12>0,(IF(M11>M12,1,(IF(M11=M12,0.5,0)))),0)","v":0},{"$f":"G11+J11+M11-G12-J12-M12","v":0},{"$f":"+H11+K11","v":0},{"$f":"IF(P11>2,P11,H11+K11+N11)","v":0},null,{"$f":"IF(Q11+Q12>=1.5,(IF(Q11>Q12,3,0)),0)","v":0},null,{"$f":"IF((S11+S12)=3,(P11+S11),0)","v":0},{"$f":"IF(U11+U12=0,\"\",IF(I11=$L$11,\"1st\",\"\"))","v":""},null,2,null,"Sec 3",null,null,{"$f":"IF(AB11+AB12>0,(IF(AB11>AB12,1,(IF(AB11=AB12,0.5,0)))),0)","v":0},{"$f":"(AP11*1000)+AJ11","v":0},null,{"$f":"IF(AE11+AE12>0,(IF(AE11>AE12,1,(IF(AE11=AE12,0.5,0)))),0)","v":0},{"$f":"LARGE(AD11:AD12,1)","v":0},null,{"$f":"IF(AH11+AH12>0,(IF(AH11>AH12,1,(IF(AH11=AH12,0.5,0)))),0)","v":0},{"$f":"AB11+AE11+AH11-AB12-AE12-AH12","v":0},{"$f":"+AC11+AF11","v":0},{"$f":"IF(AK11>2,AK11,AC11+AF11+AI11)","v":0},null,{"$f":"IF(AL11+AL12>=1.5,(IF(AL11>AL12,3,0)),0)","v":0},null,{"$f":"IF((AN11+AN12)=3,(AK11+AN11),0)","v":0},{"$f":"IF(AP11+AP12=0,\"\",IF(AD11=$AG$11,\"1st\",\"\"))","v":""}]
[{"$nulls":3},4,"Sec 2",null,null,{"$f":"IF(G11+G12>0,(IF(G11<G12,1,(IF(G11=G12,0.5,0)))),0)","v":0},{"$f":"(U12*1000)+O12","v":0},null,{"$f":"IF(J11+J12>0,(IF(J11<J12,1,(IF(J11=J12,0.5,0)))),0)","v":0},null,null,{"$f":"IF(M11+M12>0,(IF(M11<M12,1,(IF(M11=M12,0.5,0)))),0)","v":0},{"$f":"G12+J12+M12-G11-J11-M11","v":0},{"$f":"+H12+K12","v":0},{"$f":"IF(P12>2,P12,H12+K12+N12)","v":0},null,{"$f":"IF(Q11+Q12>=1.5,(IF(Q11<Q12,3,0)),0)","v":0},null,{"$f":"IF((S11+S12)=3,(P12+S12),0)","v":0},{"$f":"IF(U12+U13=0,\"\",IF(I12=$L$11,\"1st\",\"\"))","v":""},{"$nulls":3},"Sec 4",null,null,{"$f":"IF(AB11+AB12>0,(IF(AB11<AB12,1,(IF(AB11=AB12,0.5,0)))),0)","v":0},{"$f":"(AP12*1000)+AJ12","v":0},null,{"$f":"IF(AE11+AE12>0,(IF(AE11<AE12,1,(IF(AE11=AE12,0.5,0)))),0)","v":0},null,null,{"$f":"IF(AH11+AH12>0,(IF(AH11<AH12,1,(IF(AH11=AH12,0.5,0)))),0)","v":0},{"$f":"AB12+AE12+AH12-AB11-AE11-AH11","v":0},{"$f":"+AC12+AF12","v":0},{"$f":"IF(AK12>2,AK12,AC12+AF12+AI12)","v":0},null,{"$f":"IF(AL11+AL12>=1.5,(IF(AL11<AL12,3,0)),0)","v":0},null,{"$f":"IF((AN11+AN12)=3,(AK12+AN12),0)","v":0},{"$f":"IF(AP12+AP13=0,\"\",IF(AD12=$AG$11,\"1st\",\"\"))","v":""}]
[]
[null,null,3,5,"Sec 5",null,null,{"$f":"IF(G14+G15>0,(IF(G14>G15,1,(IF(G14=G15,0.5,0)))),0)","v":0},{"$f":"(U14*1000)+O14","v":0},null,{"$f":"IF(J14+J15>0,(IF(J14>J15,1,(IF(J14=J15,0.5,0)))),0)","v":0},{"$f":"LARGE(I14:I15,1)","v":0},null,{"$f":"IF(M14+M15>0,(IF(M14>M15,1,(IF(M14=M15,0.5,0)))),0)","v":0},{"$f":"G14+J14+M14-G15-J15-M15","v":0},{"$f":"+H14+K14","v":0},{"$f":"IF(P14>2,P14,H14+K14+N14)","v":0},null,{"$f":"IF(Q14+Q15>=1.5,(IF(Q14>Q15,3,0)),0)","v":0},null,{"$f":"IF((S14+S15)=3,(P14+S14),0)","v":0},{"$f":"IF(U14+U15=0,\"\",IF(I14=$L$14,\"1st\",\"\"))","v":""},null,4,null,"Sec 7",null,null,{"$f":"IF(AB14+AB15>0,(IF(AB14>AB15,1,(IF(AB14=AB15,0.5,0)))),0)","v":0},{"$f":"(AP14*1000)+AJ14","v":0},null,{"$f":"IF(AE14+AE15>0,(IF(AE14>AE15,1,(IF(AE14=AE15,0.5,0)))),0)","v":0},{"$f":"LARGE(AD14:AD15,1)","v":0},null,{"$f":"IF(AH14+AH15>0,(IF(AH14>AH15,1,(IF(AH14=AH15,0.5,0)))),0)","v":0},{"$f":"AB14+AE14+AH14-AB15-AE15-AH15","v":0},{"$f":"+AC14+AF14","v":0},{"$f":"IF(AK14>2,AK14,AC14+AF14+AI14)","v":0},null,{"$f":"IF(AL14+AL15>=1.5,(IF(AL14>AL15,3,0)),0)","v":0},null,{"$f":"IF((AN14+AN15)=3,(AK14+AN14),0)","v":0},{"$f":"IF(AP14+AP15=0,\"\",IF(AD14=$AG$14,\"1st\",\"\"))","v":""}]
[{"$nulls":3},6,"Sec 6",null,null,{"$f":"IF(G14+G15>0,(IF(G14<G15,1,(IF(G14=G15,0.5,0)))),0)","v":0},{"$f":"(U15*1000)+O15","v":0},null,{"$f":"IF(J14+J15>0,(IF(J14<J15,1,(IF(J14=J15,0.5,0)))),0)","v":0},null,null,{"$f":"IF(M14+M15>0,(IF(M14<M15,1,(IF(M14=M15,0.5,0)))),0)","v":0},{"$f":"G15+J15+M15-G14-J14-M14","v":0},{"$f":"+H15+K15","v":0},{"$f":"IF(P15>2,P15,H15+K15+N15)","v":0},null,{"$f":"IF(Q14+Q15>=1.5,(IF(Q14<Q15,,0)),0)","v":0},null,{"$f":"IF((S14+S15)=3,(P15+S15),0)","v":0},{"$f":"IF(U15+U16=0,\"\",IF(I15=$L$14,\"1st\",\"\"))","v":""},{"$nulls":3},"Sec 8",null,null,{"$f":"IF(AB14+AB15>0,(IF(AB14<AB15,1,(IF(AB14=AB15,0.5,0)))),0)","v":0},{"$f":"(AP15*1000)+AJ15","v":0},null,{"$f":"IF(AE14+AE15>0,(IF(AE14<AE15,1,(IF(AE14=AE15,0.5,0)))),0)","v":0},null,null,{"$f":"IF(AH14+AH15>0,(IF(AH14<AH15,1,(IF(AH14=AH15,0.5,0)))),0)","v":0},{"$f":"AB15+AE15+AH15-AB14-AE14-AH14","v":0},{"$f":"+AC15+AF15","v":0},{"$f":"IF(AK15>2,AK15,AC15+AF15+AI15)","v":0},null,{"$f":"IF(AL14+AL15>=1.5,(IF(AL14<AL15,3,0)),0)","v":0},null,{"$f":"IF((AN14+AN15)=3,(AK15+AN15),0)","v":0},{"$f":"IF(AP15+AP16=0,\"\",IF(AD15=$AG$14,\"1st\",\"\"))","v":""}]
[]
[null,null,7,7,".",null,null,{"$f":"IF(G17+G18>0,(IF(G17>G18,1,(IF(G17=G18,0.5,0)))),0)","v":0},{"$f":"(U17*1000)+O17","v":0},null,{"$f":"IF(J17+J18>0,(IF(J17>J18,1,(IF(J17=J18,0.5,0)))),0)","v":0},{"$f":"LARGE(I17:I18,1)","v":0},null,{"$f":"IF(M17+M18>0,(IF(M17>M18,1,(IF(M17=M18,0.5,0)))),0)","v":0},{"$f":"G17+J17+M17-G18-J18-M18","v":0},{"$f":"+H17+K17","v":0},{"$f":"IF(P17>2,P17,H17+K17+N17)","v":0},null,{"$f":"IF(Q17+Q18>=1.5,(IF(Q17>Q18,3,0)),0)","v":0},null,{"$f":"IF((S17+S18)=3,(P17+S17),0)","v":0},{"$f":"IF(U17+U18=0,\"\",IF(I17=$L$17,\"1st\",\"\"))","v":""},null,8,null,".",null,null,{"$f":"IF(AB17+AB18>0,(IF(AB17>AB18,1,(IF(AB17=AB18,0.5,0)))),0)","v":0},{"$f":"(AP17*1000)+AJ17","v":0},null,{"$f":"IF(AE17+AE18>0,(IF(AE17>AE18,1,(IF(AE17=AE18,0.5,0)))),0)","v":0},{"$f":"LARGE(AD17:AD18,1)","v":0},null,{"$f":"IF(AH17+AH18>0,(IF(AH17>AH18,1,(IF(AH17=AH18,0.5,0)))),0)","v":0},{"$f":"AB17+AE17+AH17-AB18-AE18-AH18","v":0},{"$f":"+AC17+AF17","v":0},{"$f":"IF(AK17>2,AK17,AC17+AF17+AI17)","v":0},null,{"$f":"IF(AL17+AL18>=1.5,(IF(AL17>AL18,3,0)),0)","v":0},null,{"$f":"IF((AN17+AN18)=3,(AK17+AN17),0)","v":0},{"$f":"IF(AP17+AP18=0,\"\",IF(AD17=$AG$17,\"1st\",\"\"))","v":""}]
[{"$nulls":3},8,".",null,null,{"$f":"IF(G17+G18>0,(IF(G17<G18,1,(IF(G17=G18,0.5,0)))),0)","v":0},{"$f":"(U18*1000)+O18","v":0},null,{"$f":"IF(J17+J18>0,(IF(J17<J18,1,(IF(J17=J18,0.5,0)))),0)","v":0},null,null,{"$f":"IF(M17+M18>0,(IF(M17<M18,1,(IF(M17=M18,0.5,0)))),0)","v":0},{"$f":"G18+J18+M18-G17-J17-M17","v":0},{"$f":"+H18+K18","v":0},{"$f":"IF(P18>2,P18,H18+K18+N18)","v":0},null,{"$f":"IF(Q17+Q18>=1.5,(IF(Q17<Q18,3,0)),0)","v":0},null,{"$f":"IF((S17+S18)=3,(P18+S18),0)","v":0},{"$f":"IF(U18+U19=0,\"\",IF(I18=$L$17,\"1st\",\"\"))","v":""},{"$nulls":3},".",null,null,{"$f":"IF(AB17+AB18>0,(IF(AB17<AB18,1,(IF(AB17=AB18,0.5,0)))),0)","v":0},{"$f":"(AP18*1000)+AJ18","v":0},null,{"$f":"IF(AE17+AE18>0,(IF(AE17<AE18,1,(IF(AE17=AE18,0.5,0)))),0)","v":0},null,null,{"$f":"IF(AH17+AH18>0,(IF(AH17<AH18,1,(IF(AH17=AH18,0.5,0)))),0)","v":0},{"$f":"AB18+AE18+AH18-AB17-AE17-AH17","v":0},{"$f":"+AC18+AF18","v":0},{"$f":"IF(AK18>2,AK18,AC18+AF18+AI18)","v":0},null,{"$f":"IF(AL17+AL18>=1.5,(IF(AL17<AL18,3,0)),0)","v":0},null,{"$f":"IF((AN17+AN18)=3,(AK18+AN18),0)","v":0},{"$f":"IF(AP18+AP19=0,\"\",IF(AD18=$AG$17,\"1st\",\"\"))","v":""}]
[null,null,"S E M I  F I N A L "]
[null,null,1,9,"Q/F 1",null,null,{"$f":"IF(G20+G21>0,(IF(G20>G21,1,(IF(G20=G21,0.5,0)))),0)","v":0},{"$f":"(U20*1000)+O20","v":0},null,{"$f":"IF(J20+J21>0,(IF(J20>J21,1,(IF(J20=J21,0.5,0)))),0)","v":0},{"$f":"LARGE(I20:I21,1)","v":0},null,{"$f":"IF(M20+M21>0,(IF(M20>M21,1,(IF(M20=M21,0.5,0)))),0)","v":0},{"$f":"G20+J20+M20-G21-J21-M21","v":0},{"$f":"+H20+K20","v":0},{"$f":"IF(P20>2,P20,H20+K20+N20)","v":0},null,{"$f":"IF(Q20+Q21>=1.5,(IF(Q20>Q21,3,0)),0)","v":0},null,{"$f":"IF((S20+S21)=3,(P20+S20),0)","v":0},{"$f":"IF(U20+U21=0,\"\",IF(I20=$L$20,\"1st\",\"\"))","v":""},null,2,null,"Q/F 3",null,null,{"$f":"IF(AB20+AB21>0,(IF(AB20>AB21,1,(IF(AB20=AB21,0.5,0)))),0)","v":0},{"$f":"(AP20*1000)+AJ20","v":0},null,{"$f":"IF(AE20+AE21>0,(IF(AE20>AE21,1,(IF(AE20=AE21,0.5,0)))),0)","v":0},{"$f":"LARGE(AD20:AD21,1)","v":0},null,{"$f":"IF(AH20+AH21>0,(IF(AH20>AH21,1,(IF(AH20=AH21,0.5,0)))),0)","v":0},{"$f":"AB20+AE20+AH20-AB21-AE21-AH21","v":0},{"$f":"+AC20+AF20","v":0},{"$f":"IF(AK20>2,AK20,AC20+AF20+AI20)","v":0},null,{"$f":"IF(AL20+AL21>=1.5,(IF(AL20>AL21,3,0)),0)","v":0},null,{"$f":"IF((AN20+AN21)=3,(AK20+AN20),0)","v":0},{"$f":"IF(AP20+AP21=0,\"\",IF(AD20=$AG$20,\"1st\",\"\"))","v":""}]
[{"$nulls":3},10,"Q/F 2",null,null,{"$f":"IF(G20+G21>0,(IF(G20<G21,1,(IF(G20=G21,0.5,0)))),0)","v":0},{"$f":"(U21*1000)+O21","v":0},null,{"$f":"IF(J20+J21>0,(IF(J20<J21,1,(IF(J20=J21,0.5,0)))),0)","v":0},null,null,{"$f":"IF(M20+M21>0,(IF(M20<M21,1,(IF(M20=M21,0.5,0)))),0)","v":0},{"$f":"G21+J21+M21-G20-J20-M20","v":0},{"$f":"+H21+K21","v":0},{"$f":"IF(P21>2,P21,H21+K21+N21)","v":0},null,{"$f":"IF(Q20+Q21>=1.5,(IF(Q20<Q21,3,0)),0)","v":0},null,{"$f":"IF((S20+S21)=3,(P21+S21),0)","v":0},{"$f":"IF(U21+U22=0,\"\",IF(I21=$L$20,\"1st\",\"\"))","v":""},{"$nulls":3},"Q/F 4",null,null,{"$f":"IF(AB20+AB21>0,(IF(AB20<AB21,1,(IF(AB20=AB21,0.5,0)))),0)","v":0},{"$f":"(AP21*1000)+AJ21","v":0},null,{"$f":"IF(AE20+AE21>0,(IF(AE20<AE21,1,(IF(AE20=AE21,0.5,0)))),0)","v":0},null,null,{"$f":"IF(AH20+AH21>0,(IF(AH20<AH21,1,(IF(AH20=AH21,0.5,0)))),0)","v":0},{"$f":"AB21+AE21+AH21-AB20-AE20-AH20","v":0},{"$f":"+AC21+AF21","v":0},{"$f":"IF(AK21>2,AK21,AC21+AF21+AI21)","v":0},null,{"$f":"IF(AL20+AL21>=1.5,(IF(AL20<AL21,3,0)),0)","v":0},null,{"$f":"IF((AN20+AN21)=3,(AK21+AN21),0)","v":0},{"$f":"IF(AP21+AP22=0,\"\",IF(AD21=$AG$20,\"1st\",\"\"))","v":""}]
[]
[null,null,3,11,".",null,null,{"$f":"IF(G23+G24>0,(IF(G23>G24,1,(IF(G23=G24,0.5,0)))),0)","v":0},{"$f":"(U23*1000)+O23","v":0},null,{"$f":"IF(J23+J24>0,(IF(J23>J24,1,(IF(J23=J24,0.5,0)))),0)","v":0},{"$f":"LARGE(I23:I24,1)","v":0},null,{"$f":"IF(M23+M24>0,(IF(M23>M24,1,(IF(M23=M24,0.5,0)))),0)","v":0},{"$f":"G23+J23+M23-G24-J24-M24","v":0},{"$f":"+H23+K23","v":0},{"$f":"IF(P23>2,P23,H23+K23+N23)","v":0},null,{"$f":"IF(Q23+Q24>=1.5,(IF(Q23>Q24,3,0)),0)","v":0},null,{"$f":"IF((S23+S24)=3,(P23+S23),0)","v":0},{"$f":"IF(U23+U24=0,\"\",IF(I23=$L$23,\"1st\",\"\"))","v":""},null,4,null,".",null,null,{"$f":"IF(AB23+AB24>0,(IF(AB23>AB24,1,(IF(AB23=AB24,0.5,0)))),0)","v":0},{"$f":"(AP23*1000)+AJ23","v":0},null,{"$f":"IF(AE23+AE24>0,(IF(AE23>AE24,1,(IF(AE23=AE24,0.5,0)))),0)","v":0},{"$f":"LARGE(AD23:AD24,1)","v":0},null,{"$f":"IF(AH23+AH24>0,(IF(AH23>AH24,1,(IF(AH23=AH24,0.5,0)))),0)","v":0},{"$f":"AB23+AE23+AH23-AB24-AE24-AH24","v":0},{"$f":"+AC23+AF23","v":0},{"$f":"IF(AK23>2,AK23,AC23+AF23+AI23)","v":0},null,{"$f":"IF(AL23+AL24>=1.5,(IF(AL23>AL24,3,0)),0)","v":0},null,{"$f":"IF((AN23+AN24)=3,(AK23+AN23),0)","v":0},{"$f":"IF(AP23+AP24=0,\"\",IF(AD23=$AG$23,\"1st\",\"\"))","v":""}]
[{"$nulls":3},12,".",null,null,{"$f":"IF(G23+G24>0,(IF(G23<G24,1,(IF(G23=G24,0.5,0)))),0)","v":0},{"$f":"(U24*1000)+O24","v":0},null,{"$f":"IF(J23+J24>0,(IF(J23<J24,1,(IF(J23=J24,0.5,0)))),0)","v":0},null,null,{"$f":"IF(M23+M24>0,(IF(M23<M24,1,(IF(M23=M24,0.5,0)))),0)","v":0},{"$f":"G24+J24+M24-G23-J23-M23","v":0},{"$f":"+H24+K24","v":0},{"$f":"IF(P24>2,P24,H24+K24+N24)","v":0},null,{"$f":"IF(Q23+Q24>=1.5,(IF(Q23<Q24,3,0)),0)","v":0},null,{"$f":"IF((S23+S24)=3,(P24+S24),0)","v":0},{"$f":"IF(U24+U25=0,\"\",IF(I24=$L$23,\"1st\",\"\"))","v":""},{"$nulls":3},".",null,null,{"$f":"IF(AB23+AB24>0,(IF(AB23<AB24,1,(IF(AB23=AB24,0.5,0)))),0)","v":0},{"$f":"(AP24*1000)+AJ24","v":0},null,{"$f":"IF(AE23+AE24>0,(IF(AE23<AE24,1,(IF(AE23=AE24,0.5,0)))),0)","v":0},null,null,{"$f":"IF(AH23+AH24>0,(IF(AH23<AH24,1,(IF(AH23=AH24,0.5,0)))),0)","v":0},{"$f":"AB24+AE24+AH24-AB23-AE23-AH23","v":0},{"$f":"+AC24+AF24","v":0},{"$f":"IF(AK24>2,AK24,AC24+AF24+AI24)","v":0},null,{"$f":"IF(AL23+AL24>=1.5,(IF(AL23<AL24,3,0)),0)","v":0},null,{"$f":"IF((AN23+AN24)=3,(AK24+AN24),0)","v":0},{"$f":"IF(AP24+AP25=0,\"\",IF(AD24=$AG$23,\"1st\",\"\"))","v":""}]
[null,null,"S E M I  F I N A L "]
[null,null,1,13,".",null,null,{"$f":"IF(G26+G27>0,(IF(G26>G27,1,(IF(G26=G27,0.5,0)))),0)","v":0},{"$f":"(U26*1000)+O26","v":0},null,{"$f":"IF(J26+J27>0,(IF(J26>J27,1,(IF(J26=J27,0.5,0)))),0)","v":0},{"$f":"LARGE(I26:I27,1)","v":0},null,{"$f":"IF(M26+M27>0,(IF(M26>M27,1,(IF(M26=M27,0.5,0)))),0)","v":0},{"$f":"G26+J26+M26-G27-J27-M27","v":0},{"$f":"+H26+K26","v":0},{"$f":"IF(P26>2,P26,H26+K26+N26)","v":0},null,{"$f":"IF(Q26+Q27>=1.5,(IF(Q26>Q27,3,0)),0)","v":0},null,{"$f":"IF((S26+S27)=3,(P26+S26),0)","v":0},{"$f":"IF(U26+U27=0,\"\",IF(I26=$L$26,\"1st\",\"\"))","v":""},null,2,null,".",null,null,{"$f":"IF(AB26+AB27>0,(IF(AB26>AB27,1,(IF(AB26=AB27,0.5,0)))),0)","v":0},{"$f":"(AP26*1000)+AJ26","v":0},null,{"$f":"IF(AE26+AE27>0,(IF(AE26>AE27,1,(IF(AE26=AE27,0.5,0)))),0)","v":0},{"$f":"LARGE(AD26:AD27,1)","v":0},null,{"$f":"IF(AH26+AH27>0,(IF(AH26>AH27,1,(IF(AH26=AH27,0.5,0)))),0)","v":0},{"$f":"AB26+AE26+AH26-AB27-AE27-AH27","v":0},{"$f":"+AC26+AF26","v":0},{"$f":"IF(AK26>2,AK26,AC26+AF26+AI26)","v":0},null,{"$f":"IF(AL26+AL27>=1.5,(IF(AL26>AL27,3,0)),0)","v":0},null,{"$f":"IF((AN26+AN27)=3,(AK26+AN26),0)","v":0},{"$f":"IF(AP26+AP27=0,\"\",IF(AD26=$AG$26,\"1st\",\"\"))","v":""}]
[{"$nulls":3},14,".",null,null,{"$f":"IF(G26+G27>0,(IF(G26<G27,1,(IF(G26=G27,0.5,0)))),0)","v":0},{"$f":"(U27*1000)+O27","v":0},null,{"$f":"IF(J26+J27>0,(IF(J26<J27,1,(IF(J26=J27,0.5,0)))),0)","v":0},null,null,{"$f":"IF(M26+M27>0,(IF(M26<M27,1,(IF(M26=M27,0.5,0)))),0)","v":0},{"$f":"G27+J27+M27-G26-J26-M26","v":0},{"$f":"+H27+K27","v":0},{"$f":"IF(P27>2,P27,H27+K27+N27)","v":0},null,{"$f":"IF(Q26+Q27>=1.5,(IF(Q26<Q27,3,0)),0)","v":0},null,{"$f":"IF((S26+S27)=3,(P27+S27),0)","v":0},{"$f":"IF(U27+U28=0,\"\",IF(I27=$L$26,\"1st\",\"\"))","v":""},{"$nulls":3},".",null,null,{"$f":"IF(AB26+AB27>0,(IF(AB26<AB27,1,(IF(AB26=AB27,0.5,0)))),0)","v":0},{"$f":"(AP27*1000)+AJ27","v":0},null,{"$f":"IF(AE26+AE27>0,(IF(AE26<AE27,1,(IF(AE26=AE27,0.5,0)))),0)","v":0},null,null,{"$f":"IF(AH26+AH27>0,(IF(AH26<AH27,1,(IF(AH26=AH27,0.5,0)))),0)","v":0},{"$f":"AB27+AE27+AH27-AB26-AE26-AH26","v":0},{"$f":"+AC27+AF27","v":0},{"$f":"IF(AK27>2,AK27,AC27+AF27+AI27)","v":0},null,{"$f":"IF(AL26+AL27>=1.5,(IF(AL26<AL27,3,0)),0)","v":0},null,{"$f":"IF((AN26+AN27)=3,(AK27+AN27),0)","v":0},{"$f":"IF(AP27+AP28=0,\"\",IF(AD27=$AG$26,\"1st\",\"\"))","v":""}]
[null,null,"F I N A L "]
[null,null,1,13,"S/F 1",null,null,{"$f":"IF(G29+G30>0,(IF(G29>G30,1,(IF(G29=G30,0.5,0)))),0)","v":0},{"$f":"(U29*1000)+O29","v":0},null,{"$f":"IF(J29+J30>0,(IF(J29>J30,1,(IF(J29=J30,0.5,0)))),0)","v":0},{"$f":"LARGE(I29:I30,1)","v":0},null,{"$f":"IF(M29+M30>0,(IF(M29>M30,1,(IF(M29=M30,0.5,0)))),0)","v":0},{"$f":"G29+J29+M29-G30-J30-M30","v":0},{"$f":"+H29+K29","v":0},{"$f":"IF(P29>2,P29,H29+K29+N29)","v":0},null,{"$f":"IF(Q29+Q30>=1.5,(IF(Q29>Q30,3,0)),0)","v":0},null,{"$f":"IF((S29+S30)=3,(P29+S29),0)","v":0},{"$f":"IF(U29+U30=0,\"\",IF(I29=$L$29,\"1st\",\"\"))","v":""}]
[{"$nulls":3},14,"S/F 2",null,null,{"$f":"IF(G29+G30>0,(IF(G29<G30,1,(IF(G29=G30,0.5,0)))),0)","v":0},{"$f":"(U30*1000)+O30","v":0},null,{"$f":"IF(J29+J30>0,(IF(J29<J30,1,(IF(J29=J30,0.5,0)))),0)","v":0},null,null,{"$f":"IF(M29+M30>0,(IF(M29<M30,1,(IF(M29=M30,0.5,0)))),0)","v":0},{"$f":"G30+J30+M30-G29-J29-M29","v":0},{"$f":"+H30+K30","v":0},{"$f":"IF(P30>2,P30,H30+K30+N30)","v":0},null,{"$f":"IF(Q29+Q30>=1.5,(IF(Q29<Q30,3,0)),0)","v":0},null,{"$f":"IF((S29+S30)=3,(P30+S30),0)","v":0},{"$f":"IF(U30+U31=0,\"\",IF(I30=$L$29,\"1st\",\"\"))","v":""}]

{"sheet":"Finals 20 17","index":15,"n_rows":30,"n_cols":43,"rows_kept":30,"hidden":true,"merged":[[0,2,0,42],[1,2,2,42],[3,2,4,2],[3,3,4,3],[3,4,4,4],[3,5,4,5],[3,6,4,6],[3,8,4,8],[3,9,4,9],[3,11,4,11],[3,12,4,12],[3,14,4,14],[3,15,4,15],[3,17,4,17],[3,18,4,18],[3,19,4,19],[3,20,4,20],[3,21,4,21],[5,2,6,2],[5,5,6,5],[7,2,7,42],[8,2,9,2],[8,3,9,3],[8,4,9,4],[8,5,9,5],[8,6,9,6],[8,8,9,8],[8,9,9,9],[8,11,9,11],[8,12,9,12],[8,14,9,14],[8,15,9,15],[8,17,9,17],[8,18,9,18],[8,19,9,19],[8,20,9,20],[8,21,9,21],[8,23,9,23],[8,24,9,24],[8,25,9,25],[8,26,9,26],[8,27,9,27],[8,29,9,29],[8,30,9,30],[8,32,9,32],[8,33,9,33],[8,35,9,35],[8,36,9,36],[8,38,9,38],[8,39,9,39],[8,40,9,40],[8,41,9,41],[8,42,9,42],[10,2,11,2],[10,5,11,5],[13,2,14,2],[13,5,14,5],[16,2,17,2],[16,5,17,5],[16,23,17,23],[16,26,17,26],[18,2,18,42],[19,2,20,2],[19,5,20,5],[19,23,20,23],[19,26,20,26],[22,2,23,2],[22,5,23,5],[22,23,23,23],[22,26,23,26],[24,2,24,42],[25,2,26,2],[25,5,26,5],[25,23,26,23],[25,26,26,26],[27,2,27,42],[28,2,29,2],[28,5,29,5]]}
[null,null,"H E A D I N G  H E R E "]
[null,null,"R O U N D  1"]
[]
[null,null,"Sections","Team   #","Skips","Rink #","1st     Set",null,null,"2nd     Set",null,null,"Tie Break",null,null,"Set Points",null,null,"Game Points",null,"Total Points","RANK"]
[{"$nulls":7},"Set Points",null,null,"Set Points",null,null,"Set Points",null,null,"S+TBPts"]
[null,null,1,1,"Sec 8",null,null,{"$f":"IF(G6+G7>0,(IF(G6>G7,1,(IF(G6=G7,0.5,0)))),0)","v":0},{"$f":"(U6*1000)+O6","v":0},null,{"$f":"IF(J6+J7>0,(IF(J6>J7,1,(IF(J6=J7,0.5,0)))),0)","v":0},{"$f":"LARGE(I6:I7,1)","v":0},null,{"$f":"IF(M6+M7>0,(IF(M6>M7,1,(IF(M6=M7,0.5,0)))),0)","v":0},{"$f":"G6+J6+M6-G7-J7-M7","v":0},{"$f":"H6+K6","v":0},{"$f":"IF(P6>2,P6,H6+K6+N6)","v":0},null,{"$f":"IF(Q6+Q7>=1.5,(IF(Q6>Q7,3,0)),0)","v":0},null,{"$f":"IF((S6+S7)=3,(P6+S6),0)","v":0},{"$f":"IF(U6+U7=0,\"\",IF(I6=$L$6,\"1st\",\"\"))","v":""}]
[{"$nulls":3},2,"Sec 9",null,null,{"$f":"IF(G6+G7>0,(IF(G6<G7,1,(IF(G6=G7,0.5,0)))),0)","v":0},{"$f":"(U7*1000)+O7","v":0},null,{"$f":"IF(J6+J7>0,(IF(J6<J7,1,(IF(J6=J7,0.5,0)))),0)","v":0},null,null,{"$f":"IF(M6+M7>0,(IF(M6<M7,1,(IF(M6=M7,0.5,0)))),0)","v":0},{"$f":"G7+J7+M7-G6-J6-M6","v":0},{"$f":"+H7+K7","v":0},{"$f":"IF(P7>2,P7,H7+K7+N7)","v":0},null,{"$f":"IF(Q6+Q7>=1.5,(IF(Q6<Q7,3,0)),0)","v":0},null,{"$f":"IF((S6+S7)=3,(P7+S7),0)","v":0},{"$f":"IF(U7+U8=0,\"\",IF(I7=$L$6,\"1st\",\"\"))","v":""}]
[null,null,"Q U A R T E R  F I N A L"]
[null,null,"Sections","Team   #","Skips","Rink #","1st     Set",null,null,"2nd     Set",null,null,"Tie Break",null,null,"Set Points",null,null,"Game Points",null,"Total Points","RANK",null,"Sections","Team   #","Skips","Rink #","1st     Set",null,null,"2nd     Set",null,null,"Tie Break",null,null,"Set Points",null,null,"Game Points",null,"Total Points","RANK"]
[{"$nulls":7},"Set Points",null,null,"Set Points",null,null,"Set Points",null,null,"S+TBPts",{"$nulls":11},"Set Points",null,null,"Set Points",null,null,"Set Points",null,null,"S+TBPts"]
[null,null,1,3,"Sec 5",null,null,{"$f":"IF(G11+G12>0,(IF(G11>G12,1,(IF(G11=G12,0.5,0)))),0)","v":0},{"$f":"(U11*1000)+O11","v":0},null,{"$f":"IF(J11+J12>0,(IF(J11>J12,1,(IF(J11=J12,0.5,0)))),0)","v":0},{"$f":"LARGE(I11:I12,1)","v":0},null,{"$f":"IF(M11+M12>0,(IF(M11>M12,1,(IF(M11=M12,0.5,0)))),0)","v":0},{"$f":"G11+J11+M11-G12-J12-M12","v":0},{"$f":"+H11+K11","v":0},{"$f":"IF(P11>2,P11,H11+K11+N11)","v":0},null,{"$f":"IF(Q11+Q12>=1.5,(IF(Q11>Q12,3,0)),0)","v":0},null,{"$f":"IF((S11+S12)=3,(P11+S11),0)","v":0},{"$f":"IF(U11+U12=0,\"\",IF(I11=$L$11,\"1st\",\"\"))","v":""}]
[{"$nulls":3},4,"Sec 4",null,null,{"$f":"IF(G11+G12>0,(IF(G11<G12,1,(IF(G11=G12,0.5,0)))),0)","v":0},{"$f":"(U12*1000)+O12","v":0},null,{"$f":"IF(J11+J12>0,(IF(J11<J12,1,(IF(J11=J12,0.5,0)))),0)","v":0},null,null,{"$f":"IF(M11+M12>0,(IF(M11<M12,1,(IF(M11=M12,0.5,0)))),0)","v":0},{"$f":"G12+J12+M12-G11-J11-M11","v":0},{"$f":"+H12+K12","v":0},{"$f":"IF(P12>2,P12,H12+K12+N12)","v":0},null,{"$f":"IF(Q11+Q12>=1.5,(IF(Q11<Q12,3,0)),0)","v":0},null,{"$f":"IF((S11+S12)=3,(P12+S12),0)","v":0},{"$f":"IF(U12+U13=0,\"\",IF(I12=$L$11,\"1st\",\"\"))","v":""}]
[]
[null,null,3,5,"Sec 3",null,null,{"$f":"IF(G14+G15>0,(IF(G14>G15,1,(IF(G14=G15,0.5,0)))),0)","v":0},{"$f":"(U14*1000)+O14","v":0},null,{"$f":"IF(J14+J15>0,(IF(J14>J15,1,(IF(J14=J15,0.5,0)))),0)","v":0},{"$f":"LARGE(I14:I15,1)","v":0},null,{"$f":"IF(M14+M15>0,(IF(M14>M15,1,(IF(M14=M15,0.5,0)))),0)","v":0},{"$f":"G14+J14+M14-G15-J15-M15","v":0},{"$f":"+H14+K14","v":0},{"$f":"IF(P14>2,P14,H14+K14+N14)","v":0},null,{"$f":"IF(Q14+Q15>=1.5,(IF(Q14>Q15,3,0)),0)","v":0},null,{"$f":"IF((S14+S15)=3,(P14+S14),0)","v":0},{"$f":"IF(U14+U15=0,\"\",IF(I14=$L$14,\"1st\",\"\"))","v":""}]
[{"$nulls":3},6,"Sec 2",null,null,{"$f":"IF(G14+G15>0,(IF(G14<G15,1,(IF(G14=G15,0.5,0)))),0)","v":0},{"$f":"(U15*1000)+O15","v":0},null,{"$f":"IF(J14+J15>0,(IF(J14<J15,1,(IF(J14=J15,0.5,0)))),0)","v":0},null,null,{"$f":"IF(M14+M15>0,(IF(M14<M15,1,(IF(M14=M15,0.5,0)))),0)","v":0},{"$f":"G15+J15+M15-G14-J14-M14","v":0},{"$f":"+H15+K15","v":0},{"$f":"IF(P15>2,P15,H15+K15+N15)","v":0},null,{"$f":"IF(Q14+Q15>=1.5,(IF(Q14<Q15,,0)),0)","v":0},null,{"$f":"IF((S14+S15)=3,(P15+S15),0)","v":0},{"$f":"IF(U15+U16=0,\"\",IF(I15=$L$14,\"1st\",\"\"))","v":""}]
[]
[null,null,7,7,".",null,null,{"$f":"IF(G17+G18>0,(IF(G17>G18,1,(IF(G17=G18,0.5,0)))),0)","v":0},{"$f":"(U17*1000)+O17","v":0},null,{"$f":"IF(J17+J18>0,(IF(J17>J18,1,(IF(J17=J18,0.5,0)))),0)","v":0},{"$f":"LARGE(I17:I18,1)","v":0},null,{"$f":"IF(M17+M18>0,(IF(M17>M18,1,(IF(M17=M18,0.5,0)))),0)","v":0},{"$f":"G17+J17+M17-G18-J18-M18","v":0},{"$f":"+H17+K17","v":0},{"$f":"IF(P17>2,P17,H17+K17+N17)","v":0},null,{"$f":"IF(Q17+Q18>=1.5,(IF(Q17>Q18,3,0)),0)","v":0},null,{"$f":"IF((S17+S18)=3,(P17+S17),0)","v":0},{"$f":"IF(U17+U18=0,\"\",IF(I17=$L$17,\"1st\",\"\"))","v":""},null,8,null,".",null,null,{"$f":"IF(AB17+AB18>0,(IF(AB17>AB18,1,(IF(AB17=AB18,0.5,0)))),0)","v":0},{"$f":"(AP17*1000)+AJ17","v":0},null,{"$f":"IF(AE17+AE18>0,(IF(AE17>AE18,1,(IF(AE17=AE18,0.5,0)))),0)","v":0},{"$f":"LARGE(AD17:AD18,1)","v":0},null,{"$f":"IF(AH17+AH18>0,(IF(AH17>AH18,1,(IF(AH17=AH18,0.5,0)))),0)","v":0},{"$f":"AB17+AE17+AH17-AB18-AE18-AH18","v":0},{"$f":"+AC17+AF17","v":0},{"$f":"IF(AK17>2,AK17,AC17+AF17+AI17)","v":0},null,{"$f":"IF(AL17+AL18>=1.5,(IF(AL17>AL18,3,0)),0)","v":0},null,{"$f":"IF((AN17+AN18)=3,(AK17+AN17),0)","v":0},{"$f":"IF(AP17+AP18=0,\"\",IF(AD17=$AG$17,\"1st\",\"\"))","v":""}]
[{"$nulls":3},8,".",null,null,{"$f":"IF(G17+G18>0,(IF(G17<G18,1,(IF(G17=G18,0.5,0)))),0)","v":0},{"$f":"(U18*1000)+O18","v":0},null,{"$f":"IF(J17+J18>0,(IF(J17<J18,1,(IF(J17=J18,0.5,0)))),0)","v":0},null,null,{"$f":"IF(M17+M18>0,(IF(M17<M18,1,(IF(M17=M18,0.5,0)))),0)","v":0},{"$f":"G18+J18+M18-G17-J17-M17","v":0},{"$f":"+H18+K18","v":0},{"$f":"IF(P18>2,P18,H18+K18+N18)","v":0},null,{"$f":"IF(Q17+Q18>=1.5,(IF(Q17<Q18,3,0)),0)","v":0},null,{"$f":"IF((S17+S18)=3,(P18+S18),0)","v":0},{"$f":"IF(U18+U19=0,\"\",IF(I18=$L$17,\"1st\",\"\"))","v":""},{"$nulls":3},".",null,null,{"$f":"IF(AB17+AB18>0,(IF(AB17<AB18,1,(IF(AB17=AB18,0.5,0)))),0)","v":0},{"$f":"(AP18*1000)+AJ18","v":0},null,{"$f":"IF(AE17+AE18>0,(IF(AE17<AE18,1,(IF(AE17=AE18,0.5,0)))),0)","v":0},null,null,{"$f":"IF(AH17+AH18>0,(IF(AH17<AH18,1,(IF(AH17=AH18,0.5,0)))),0)","v":0},{"$f":"AB18+AE18+AH18-AB17-AE17-AH17","v":0},{"$f":"+AC18+AF18","v":0},{"$f":"IF(AK18>2,AK18,AC18+AF18+AI18)","v":0},null,{"$f":"IF(AL17+AL18>=1.5,(IF(AL17<AL18,3,0)),0)","v":0},null,{"$f":"IF((AN17+AN18)=3,(AK18+AN18),0)","v":0},{"$f":"IF(AP18+AP19=0,\"\",IF(AD18=$AG$17,\"1st\",\"\"))","v":""}]
[null,null,"S E M I  F I N A L "]
[null,null,1,9,"Q/F 1",null,null,{"$f":"IF(G20+G21>0,(IF(G20>G21,1,(IF(G20=G21,0.5,0)))),0)","v":0},{"$f":"(U20*1000)+O20","v":0},null,{"$f":"IF(J20+J21>0,(IF(J20>J21,1,(IF(J20=J21,0.5,0)))),0)","v":0},{"$f":"LARGE(I20:I21,1)","v":0},null,{"$f":"IF(M20+M21>0,(IF(M20>M21,1,(IF(M20=M21,0.5,0)))),0)","v":0},{"$f":"G20+J20+M20-G21-J21-M21","v":0},{"$f":"+H20+K20","v":0},{"$f":"IF(P20>2,P20,H20+K20+N20)","v":0},null,{"$f":"IF(Q20+Q21>=1.5,(IF(Q20>Q21,3,0)),0)","v":0},null,{"$f":"IF((S20+S21)=3,(P20+S20),0)","v":0},{"$f":"IF(U20+U21=0,\"\",IF(I20=$L$20,\"1st\",\"\"))","v":""},null,2,null,"Sec 2",null,null,{"$f":"IF(AB20+AB21>0,(IF(AB20>AB21,1,(IF(AB20=AB21,0.5,0)))),0)","v":0},{"$f":"(AP20*1000)+AJ20","v":0},null,{"$f":"IF(AE20+AE21>0,(IF(AE20>AE21,1,(IF(AE20=AE21,0.5,0)))),0)","v":0},{"$f":"LARGE(AD20:AD21,1)","v":0},null,{"$f":"IF(AH20+AH21>0,(IF(AH20>AH21,1,(IF(AH20=AH21,0.5,0)))),0)","v":0},{"$f":"AB20+AE20+AH20-AB21-AE21-AH21","v":0},{"$f":"+AC20+AF20","v":0},{"$f":"IF(AK20>2,AK20,AC20+AF20+AI20)","v":0},null,{"$f":"IF(AL20+AL21>=1.5,(IF(AL20>AL21,3,0)),0)","v":0},null,{"$f":"IF((AN20+AN21)=3,(AK20+AN20),0)","v":0},{"$f":"IF(AP20+AP21=0,\"\",IF(AD20=$AG$20,\"1st\",\"\"))","v":""}]
[{"$nulls":3},10,"Sec 3",null,null,{"$f":"IF(G20+G21>0,(IF(G20<G21,1,(IF(G20=G21,0.5,0)))),0)","v":0},{"$f":"(U21*1000)+O21","v":0},null,{"$f":"IF(J20+J21>0,(IF(J20<J21,1,(IF(J20=J21,0.5,0)))),0)","v":0},null,null,{"$f":"IF(M20+M21>0,(IF(M20<M21,1,(IF(M20=M21,0.5,0)))),0)","v":0},{"$f":"G21+J21+M21-G20-J20-M20","v":0},{"$f":"+H21+K21","v":0},{"$f":"IF(P21>2,P21,H21+K21+N21)","v":0},null,{"$f":"IF(Q20+Q21>=1.5,(IF(Q20<Q21,3,0)),0)","v":0},null,{"$f":"IF((S20+S21)=3,(P21+S21),0)","v":0},{"$f":"IF(U21+U22=0,\"\",IF(I21=$L$20,\"1st\",\"\"))","v":""},{"$nulls":3},"Sec 1",null,null,{"$f":"IF(AB20+AB21>0,(IF(AB20<AB21,1,(IF(AB20=AB21,0.5,0)))),0)","v":0},{"$f":"(AP21*1000)+AJ21","v":0},null,{"$f":"IF(AE20+AE21>0,(IF(AE20<AE21,1,(IF(AE20=AE21,0.5,0)))),0)","v":0},null,null,{"$f":"IF(AH20+AH21>0,(IF(AH20<AH21,1,(IF(AH20=AH21,0.5,0)))),0)","v":0},{"$f":"AB21+AE21+AH21-AB20-AE20-AH20","v":0},{"$f":"+AC21+AF21","v":0},{"$f":"IF(AK21>2,AK21,AC21+AF21+AI21)","v":0},null,{"$f":"IF(AL20+AL21>=1.5,(IF(AL20<AL21,3,0)),0)","v":0},null,{"$f":"IF((AN20+AN21)=3,(AK21+AN21),0)","v":0},{"$f":"IF(AP21+AP22=0,\"\",IF(AD21=$AG$20,\"1st\",\"\"))","v":""}]
[]
[null,null,3,11,".",null,null,{"$f":"IF(G23+G24>0,(IF(G23>G24,1,(IF(G23=G24,0.5,0)))),0)","v":0},{"$f":"(U23*1000)+O23","v":0},null,{"$f":"IF(J23+J24>0,(IF(J23>J24,1,(IF(J23=J24,0.5,0)))),0)","v":0},{"$f":"LARGE(I23:I24,1)","v":0},null,{"$f":"IF(M23+M24>0,(IF(M23>M24,1,(IF(M23=M24,0.5,0)))),0)","v":0},{"$f":"G23+J23+M23-G24-J24-M24","v":0},{"$f":"+H23+K23","v":0},{"$f":"IF(P23>2,P23,H23+K23+N23)","v":0},null,{"$f":"IF(Q23+Q24>=1.5,(IF(Q23>Q24,3,0)),0)","v":0},null,{"$f":"IF((S23+S24)=3,(P23+S23),0)","v":0},{"$f":"IF(U23+U24=0,\"\",IF(I23=$L$23,\"1st\",\"\"))","v":""},null,4,null,".",null,null,{"$f":"IF(AB23+AB24>0,(IF(AB23>AB24,1,(IF(AB23=AB24,0.5,0)))),0)","v":0},{"$f":"(AP23*1000)+AJ23","v":0},null,{"$f":"IF(AE23+AE24>0,(IF(AE23>AE24,1,(IF(AE23=AE24,0.5,0)))),0)","v":0},{"$f":"LARGE(AD23:AD24,1)","v":0},null,{"$f":"IF(AH23+AH24>0,(IF(AH23>AH24,1,(IF(AH23=AH24,0.5,0)))),0)","v":0},{"$f":"AB23+AE23+AH23-AB24-AE24-AH24","v":0},{"$f":"+AC23+AF23","v":0},{"$f":"IF(AK23>2,AK23,AC23+AF23+AI23)","v":0},null,{"$f":"IF(AL23+AL24>=1.5,(IF(AL23>AL24,3,0)),0)","v":0},null,{"$f":"IF((AN23+AN24)=3,(AK23+AN23),0)","v":0},{"$f":"IF(AP23+AP24=0,\"\",IF(AD23=$AG$23,\"1st\",\"\"))","v":""}]
[{"$nulls":3},12,".",null,null,{"$f":"IF(G23+G24>0,(IF(G23<G24,1,(IF(G23=G24,0.5,0)))),0)","v":0},{"$f":"(U24*1000)+O24","v":0},null,{"$f":"IF(J23+J24>0,(IF(J23<J24,1,(IF(J23=J24,0.5,0)))),0)","v":0},null,null,{"$f":"IF(M23+M24>0,(IF(M23<M24,1,(IF(M23=M24,0.5,0)))),0)","v":0},{"$f":"G24+J24+M24-G23-J23-M23","v":0},{"$f":"+H24+K24","v":0},{"$f":"IF(P24>2,P24,H24+K24+N24)","v":0},null,{"$f":"IF(Q23+Q24>=1.5,(IF(Q23<Q24,3,0)),0)","v":0},null,{"$f":"IF((S23+S24)=3,(P24+S24),0)","v":0},{"$f":"IF(U24+U25=0,\"\",IF(I24=$L$23,\"1st\",\"\"))","v":""},{"$nulls":3},".",null,null,{"$f":"IF(AB23+AB24>0,(IF(AB23<AB24,1,(IF(AB23=AB24,0.5,0)))),0)","v":0},{"$f":"(AP24*1000)+AJ24","v":0},null,{"$f":"IF(AE23+AE24>0,(IF(AE23<AE24,1,(IF(AE23=AE24,0.5,0)))),0)","v":0},null,null,{"$f":"IF(AH23+AH24>0,(IF(AH23<AH24,1,(IF(AH23=AH24,0.5,0)))),0)","v":0},{"$f":"AB24+AE24+AH24-AB23-AE23-AH23","v":0},{"$f":"+AC24+AF24","v":0},{"$f":"IF(AK24>2,AK24,AC24+AF24+AI24)","v":0},null,{"$f":"IF(AL23+AL24>=1.5,(IF(AL23<AL24,3,0)),0)","v":0},null,{"$f":"IF((AN23+AN24)=3,(AK24+AN24),0)","v":0},{"$f":"IF(AP24+AP25=0,\"\",IF(AD24=$AG$23,\"1st\",\"\"))","v":""}]
[null,null,"S E M I  F I N A L "]
[null,null,1,13,".",null,null,{"$f":"IF(G26+G27>0,(IF(G26>G27,1,(IF(G26=G27,0.5,0)))),0)","v":0},{"$f":"(U26*1000)+O26","v":0},null,{"$f":"IF(J26+J27>0,(IF(J26>J27,1,(IF(J26=J27,0.5,0)))),0)","v":0},{"$f":"LARGE(I26:I27,1)","v":0},null,{"$f":"IF(M26+M27>0,(IF(M26>M27,1,(IF(M26=M27,0.5,0)))),0)","v":0},{"$f":"G26+J26+M26-G27-J27-M27","v":0},{"$f":"+H26+K26","v":0},{"$f":"IF(P26>2,P26,H26+K26+N26)","v":0},null,{"$f":"IF(Q26+Q27>=1.5,(IF(Q26>Q27,3,0)),0)","v":0},null,{"$f":"IF((S26+S27)=3,(P26+S26),0)","v":0},{"$f":"IF(U26+U27=0,\"\",IF(I26=$L$26,\"1st\",\"\"))","v":""},null,2,null,".",null,null,{"$f":"IF(AB26+AB27>0,(IF(AB26>AB27,1,(IF(AB26=AB27,0.5,0)))),0)","v":0},{"$f":"(AP26*1000)+AJ26","v":0},null,{"$f":"IF(AE26+AE27>0,(IF(AE26>AE27,1,(IF(AE26=AE27,0.5,0)))),0)","v":0},{"$f":"LARGE(AD26:AD27,1)","v":0},null,{"$f":"IF(AH26+AH27>0,(IF(AH26>AH27,1,(IF(AH26=AH27,0.5,0)))),0)","v":0},{"$f":"AB26+AE26+AH26-AB27-AE27-AH27","v":0},{"$f":"+AC26+AF26","v":0},{"$f":"IF(AK26>2,AK26,AC26+AF26+AI26)","v":0},null,{"$f":"IF(AL26+AL27>=1.5,(IF(AL26>AL27,3,0)),0)","v":0},null,{"$f":"IF((AN26+AN27)=3,(AK26+AN26),0)","v":0},{"$f":"IF(AP26+AP27=0,\"\",IF(AD26=$AG$26,\"1st\",\"\"))","v":""}]
[{"$nulls":3},14,".",null,null,{"$f":"IF(G26+G27>0,(IF(G26<G27,1,(IF(G26=G27,0.5,0)))),0)","v":0},{"$f":"(U27*1000)+O27","v":0},null,{"$f":"IF(J26+J27>0,(IF(J26<J27,1,(IF(J26=J27,0.5,0)))),0)","v":0},null,null,{"$f":"IF(M26+M27>0,(IF(M26<M27,1,(IF(M26=M27,0.5,0)))),0)","v":0},{"$f":"G27+J27+M27-G26-J26-M26","v":0},{"$f":"+H27+K27","v":0},{"$f":"IF(P27>2,P27,H27+K27+N27)","v":0},null,{"$f":"IF(Q26+Q27>=1.5,(IF(Q26<Q27,3,0)),0)","v":0},null,{"$f":"IF((S26+S27)=3,(P27+S27),0)","v":0},{"$f":"IF(U27+U28=0,\"\",IF(I27=$L$26,\"1st\",\"\"))","v":""},{"$nulls":3},".",null,null,{"$f":"IF(AB26+AB27>0,(IF(AB26<AB27,1,(IF(AB26=AB27,0.5,0)))),0)","v":0},{"$f":"(AP27*1000)+AJ27","v":0},null,{"$f":"IF(AE26+AE27>0,(IF(AE26<AE27,1,(IF(AE26=AE27,0.5,0)))),0)","v":0},null,null,{"$f":"IF(AH26+AH27>0,(IF(AH26<AH27,1,(IF(AH26=AH27,0.5,0)))),0)","v":0},{"$f":"AB27+AE27+AH27-AB26-AE26-AH26","v":0},{"$f":"+AC27+AF27","v":0},{"$f":"IF(AK27>2,AK27,AC27+AF27+AI27)","v":0},null,{"$f":"IF(AL26+AL27>=1.5,(IF(AL26<AL27,3,0)),0)","v":0},null,{"$f":"IF((AN26+AN27)=3,(AK27+AN27),0)","v":0},{"$f":"IF(AP27+AP28=0,\"\",IF(AD27=$AG$26,\"1st\",\"\"))","v":""}]
[null,null,"F I N A L "]
[null,null,1,13,"S/F 1",null,null,{"$f":"IF(G29+G30>0,(IF(G29>G30,1,(IF(G29=G30,0.5,0)))),0)","v":0},{"$f":"(U29*1000)+O29","v":0},null,{"$f":"IF(J29+J30>0,(IF(J29>J30,1,(IF(J29=J30,0.5,0)))),0)","v":0},{"$f":"LARGE(I29:I30,1)","v":0},null,{"$f":"IF(M29+M30>0,(IF(M29>M30,1,(IF(M29=M30,0.5,0)))),0)","v":0},{"$f":"G29+J29+M29-G30-J30-M30","v":0},{"$f":"+H29+K29","v":0},{"$f":"IF(P29>2,P29,H29+K29+N29)","v":0},null,{"$f":"IF(Q29+Q30>=1.5,(IF(Q29>Q30,3,0)),0)","v":0},null,{"$f":"IF((S29+S30)=3,(P29+S29),0)","v":0},{"$f":"IF(U29+U30=0,\"\",IF(I29=$L$29,\"1st\",\"\"))","v":""}]
[{"$nulls":3},14,"S/F 2",null,null,{"$f":"IF(G29+G30>0,(IF(G29<G30,1,(IF(G29=G30,0.5,0)))),0)","v":0},{"$f":"(U30*1000)+O30","v":0},null,{"$f":"IF(J29+J30>0,(IF(J29<J30,1,(IF(J29=J30,0.5,0)))),0)","v":0},null,null,{"$f":"IF(M29+M30>0,(IF(M29<M30,1,(IF(M29=M30,0.5,0)))),0)","v":0},{"$f":"G30+J30+M30-G29-J29-M29","v":0},{"$f":"+H30+K30","v":0},{"$f":"IF(P30>2,P30,H30+K30+N30)","v":0},null,{"$f":"IF(Q29+Q30>=1.5,(IF(Q29<Q30,3,0)),0)","v":0},null,{"$f":"IF((S29+S30)=3,(P30+S30),0)","v":0},{"$f":"IF(U30+U31=0,\"\",IF(I30=$L$29,\"1st\",\"\"))","v":""}]

{"sheet":"Finals 32 29","index":16,"n_rows":19,"n_cols":43,"rows_kept":19,"hidden":true,"merged":[[0,2,0,42],[1,2,1,42],[2,2,2,42],[3,2,4,2],[3,3,4,3],[3,4,4,4],[3,5,4,5],[3,6,4,6],[3,8,4,8],[3,9,4,9],[3,11,4,11],[3,12,4,12],[3,14,4,14],[3,15,4,15],[3,17,4,17],[3,18,4,18],[3,19,4,19],[3,20,4,20],[3,21,4,21],[3,23,4,23],[3,24,4,24],[3,25,4,25],[3,26,4,26],[3,27,4,27],[3,29,4,29],[3,30,4,30],[3,32,4,32],[3,33,4,33],[3,35,4,35],[3,36,4,36],[3,38,4,38],[3,39,4,39],[3,40,4,40],[3,41,4,41],[3,42,4,42],[5,2,6,2],[5,5,6,5],[5,23,6,23],[5,26,6,26],[8,2,9,2],[8,5,9,5],[8,23,9,23],[8,26,9,26],[10,2,10,42],[11,2,12,2],[11,5,12,5],[11,23,12,23],[11,26,12,26],[16,2,16,42],[17,2,18,2],[17,5,18,5]]}
[null,null,{"$f":"Entries!$A$1","v":"2018 District 5 - Mixed Pairs"}]
[null,null,"Q U A R T E R  F I N A L"]
[]
[null,null,"Sections","Team   #","Skips","Rink #","1st     Set",null,null,"2nd     Set",null,null,"Tie Break",null,null,"Set Points",null,null,"Game Points",null,"Total Points","RANK",null,"Sections","Team   #","Skips","Rink #","1st     Set",null,null,"2nd     Set",null,null,"Tie Break",null,null,"Set Points",null,null,"Game Points",null,"Total Points","RANK"]
[{"$nulls":7},"Set Points",null,null,"Set Points",null,null,"Set Points",null,null,"S+TBPts",{"$nulls":11},"Set Points",null,null,"Set Points",null,null,"Set Points",null,null,"S+TBPts"]
[null,null,1,3,"Sec 1",1,null,{"$f":"IF(G6+G7>0,(IF(G6>G7,1,(IF(G6=G7,0.5,0)))),0)","v":0},{"$f":"(U6*1000)+O6","v":0},null,{"$f":"IF(J6+J7>0,(IF(J6>J7,1,(IF(J6=J7,0.5,0)))),0)","v":0},{"$f":"LARGE(I6:I7,1)","v":0},null,{"$f":"IF(M6+M7>0,(IF(M6>M7,1,(IF(M6=M7,0.5,0)))),0)","v":0},{"$f":"G6+J6+M6-G7-J7-M7","v":0},{"$f":"H6+K6","v":0},{"$f":"IF(P6>2,P6,H6+K6+N6)","v":0},null,{"$f":"IF(Q6+Q7>=1.5,(IF(Q6>Q7,3,0)),0)","v":0},null,{"$f":"IF((S6+S7)=3,(P6+S6),0)","v":0},{"$f":"IF(U6+U7=0,\"\",IF(I6=$L$6,\"1st\",\"\"))","v":""},null,2,null,"Sec 3",2,null,{"$f":"IF(AB6+AB7>0,(IF(AB6>AB7,1,(IF(AB6=AB7,0.5,0)))),0)","v":0},{"$f":"(AP6*1000)+AJ6","v":0},null,{"$f":"IF(AE6+AE7>0,(IF(AE6>AE7,1,(IF(AE6=AE7,0.5,0)))),0)","v":0},{"$f":"LARGE(AD6:AD7,1)","v":0},null,{"$f":"IF(AH6+AH7>0,(IF(AH6>AH7,1,(IF(AH6=AH7,0.5,0)))),0)","v":0},{"$f":"AB6+AE6+AH6-AB7-AE7-AH7","v":0},{"$f":"AC6+AF6","v":0},{"$f":"IF(AK6>2,AK6,AC6+AF6+AI6)","v":0},null,{"$f":"IF(AL6+AL7>=1.5,(IF(AL6>AL7,3,0)),0)","v":0},null,{"$f":"IF((AN6+AN7)=3,(AK6+AN6),0)","v":0},{"$f":"IF(AP6+AP7=0,\"\",IF(AD6=$AG$6,\"1st\",\"\"))","v":""}]
[{"$nulls":3},4,"Sec 2",null,null,{"$f":"IF(G6+G7>0,(IF(G6<G7,1,(IF(G6=G7,0.5,0)))),0)","v":0},{"$f":"(U7*1000)+O7","v":0},null,{"$f":"IF(J6+J7>0,(IF(J6<J7,1,(IF(J6=J7,0.5,0)))),0)","v":0},null,null,{"$f":"IF(M6+M7>0,(IF(M6<M7,1,(IF(M6=M7,0.5,0)))),0)","v":0},{"$f":"G7+J7+M7-G6-J6-M6","v":0},{"$f":"+H7+K7","v":0},{"$f":"IF(P7>2,P7,H7+K7+N7)","v":0},null,{"$f":"IF(Q6+Q7>=1.5,(IF(Q6<Q7,3,0)),0)","v":0},null,{"$f":"IF((S6+S7)=3,(P7+S7),0)","v":0},{"$f":"IF(U7+U8=0,\"\",IF(I7=$L$6,\"1st\",\"\"))","v":""},{"$nulls":3},"Sec 4",null,null,{"$f":"IF(AB6+AB7>0,(IF(AB6<AB7,1,(IF(AB6=AB7,0.5,0)))),0)","v":0},{"$f":"(AP7*1000)+AJ7","v":0},null,{"$f":"IF(AE6+AE7>0,(IF(AE6<AE7,1,(IF(AE6=AE7,0.5,0)))),0)","v":0},null,null,{"$f":"IF(AH6+AH7>0,(IF(AH6<AH7,1,(IF(AH6=AH7,0.5,0)))),0)","v":0},{"$f":"AB7+AE7+AH7-AB6-AE6-AH6","v":0},{"$f":"+AC7+AF7","v":0},{"$f":"IF(AK7>2,AK7,AC7+AF7+AI7)","v":0},null,{"$f":"IF(AL6+AL7>=1.5,(IF(AL6<AL7,3,0)),0)","v":0},null,{"$f":"IF((AN6+AN7)=3,(AK7+AN7),0)","v":0},{"$f":"IF(AP7+AP8=0,\"\",IF(AD7=$AG$6,\"1st\",\"\"))","v":""}]
[]
[null,null,3,5,"Sec 5",3,null,{"$f":"IF(G9+G10>0,(IF(G9>G10,1,(IF(G9=G10,0.5,0)))),0)","v":0},{"$f":"(U9*1000)+O9","v":0},null,{"$f":"IF(J9+J10>0,(IF(J9>J10,1,(IF(J9=J10,0.5,0)))),0)","v":0},{"$f":"LARGE(I9:I10,1)","v":0},null,{"$f":"IF(M9+M10>0,(IF(M9>M10,1,(IF(M9=M10,0.5,0)))),0)","v":0},{"$f":"G9+J9+M9-G10-J10-M10","v":0},{"$f":"+H9+K9","v":0},{"$f":"IF(P9>2,P9,H9+K9+N9)","v":0},null,{"$f":"IF(Q9+Q10>=1.5,(IF(Q9>Q10,3,0)),0)","v":0},null,{"$f":"IF((S9+S10)=3,(P9+S9),0)","v":0},{"$f":"IF(U9+U10=0,\"\",IF(I9=$L$9,\"1st\",\"\"))","v":""},null,4,null,"Sec 7",4,null,{"$f":"IF(AB9+AB10>0,(IF(AB9>AB10,1,(IF(AB9=AB10,0.5,0)))),0)","v":0},{"$f":"(AP9*1000)+AJ9","v":0},null,{"$f":"IF(AE9+AE10>0,(IF(AE9>AE10,1,(IF(AE9=AE10,0.5,0)))),0)","v":0},{"$f":"LARGE(AD9:AD10,1)","v":0},null,{"$f":"IF(AH9+AH10>0,(IF(AH9>AH10,1,(IF(AH9=AH10,0.5,0)))),0)","v":0},{"$f":"AB9+AE9+AH9-AB10-AE10-AH10","v":0},{"$f":"+AC9+AF9","v":0},{"$f":"IF(AK9>2,AK9,AC9+AF9+AI9)","v":0},null,{"$f":"IF(AL9+AL10>=1.5,(IF(AL9>AL10,3,0)),0)","v":0},null,{"$f":"IF((AN9+AN10)=3,(AK9+AN9),0)","v":0},{"$f":"IF(AP9+AP10=0,\"\",IF(AD9=$AG$9,\"1st\",\"\"))","v":""}]
[{"$nulls":3},6,"Sec 6",null,null,{"$f":"IF(G9+G10>0,(IF(G9<G10,1,(IF(G9=G10,0.5,0)))),0)","v":0},{"$f":"(U10*1000)+O10","v":0},null,{"$f":"IF(J9+J10>0,(IF(J9<J10,1,(IF(J9=J10,0.5,0)))),0)","v":0},null,null,{"$f":"IF(M9+M10>0,(IF(M9<M10,1,(IF(M9=M10,0.5,0)))),0)","v":0},{"$f":"G10+J10+M10-G9-J9-M9","v":0},{"$f":"+H10+K10","v":0},{"$f":"IF(P10>2,P10,H10+K10+N10)","v":0},null,{"$f":"IF(Q9+Q10>=1.5,(IF(Q9<Q10,3,0)),0)","v":0},null,{"$f":"IF((S9+S10)=3,(P10+S10),0)","v":0},{"$f":"IF(U10+U11=0,\"\",IF(I10=$L$9,\"1st\",\"\"))","v":""},{"$nulls":3},"Sec 8",null,null,{"$f":"IF(AB9+AB10>0,(IF(AB9<AB10,1,(IF(AB9=AB10,0.5,0)))),0)","v":0},{"$f":"(AP10*1000)+AJ10","v":0},null,{"$f":"IF(AE9+AE10>0,(IF(AE9<AE10,1,(IF(AE9=AE10,0.5,0)))),0)","v":0},null,null,{"$f":"IF(AH9+AH10>0,(IF(AH9<AH10,1,(IF(AH9=AH10,0.5,0)))),0)","v":0},{"$f":"AB10+AE10+AH10-AB9-AE9-AH9","v":0},{"$f":"+AC10+AF10","v":0},{"$f":"IF(AK10>2,AK10,AC10+AF10+AI10)","v":0},null,{"$f":"IF(AL9+AL10>=1.5,(IF(AL9<AL10,3,0)),0)","v":0},null,{"$f":"IF((AN9+AN10)=3,(AK10+AN10),0)","v":0},{"$f":"IF(AP10+AP11=0,\"\",IF(AD10=$AG$9,\"1st\",\"\"))","v":""}]
[null,null,"S E M I  F I N A L "]
[null,null,1,9,"Q/F 1",5,null,{"$f":"IF(G12+G13>0,(IF(G12>G13,1,(IF(G12=G13,0.5,0)))),0)","v":0},{"$f":"(U12*1000)+O12","v":0},null,{"$f":"IF(J12+J13>0,(IF(J12>J13,1,(IF(J12=J13,0.5,0)))),0)","v":0},{"$f":"LARGE(I12:I13,1)","v":0},null,{"$f":"IF(M12+M13>0,(IF(M12>M13,1,(IF(M12=M13,0.5,0)))),0)","v":0},{"$f":"G12+J12+M12-G13-J13-M13","v":0},{"$f":"+H12+K12","v":0},{"$f":"IF(P12>2,P12,H12+K12+N12)","v":0},null,{"$f":"IF(Q12+Q13>=1.5,(IF(Q12>Q13,3,0)),0)","v":0},null,{"$f":"IF((S12+S13)=3,(P12+S12),0)","v":0},{"$f":"IF(U12+U13=0,\"\",IF(I12=$L$12,\"1st\",\"\"))","v":""},null,2,null,"Q/F 3",6,null,{"$f":"IF(AB12+AB13>0,(IF(AB12>AB13,1,(IF(AB12=AB13,0.5,0)))),0)","v":0},{"$f":"(AP12*1000)+AJ12","v":0},null,{"$f":"IF(AE12+AE13>0,(IF(AE12>AE13,1,(IF(AE12=AE13,0.5,0)))),0)","v":0},{"$f":"LARGE(AD12:AD13,1)","v":0},null,{"$f":"IF(AH12+AH13>0,(IF(AH12>AH13,1,(IF(AH12=AH13,0.5,0)))),0)","v":0},{"$f":"AB12+AE12+AH12-AB13-AE13-AH13","v":0},{"$f":"+AC12+AF12","v":0},{"$f":"IF(AK12>2,AK12,AC12+AF12+AI12)","v":0},null,{"$f":"IF(AL12+AL13>=1.5,(IF(AL12>AL13,3,0)),0)","v":0},null,{"$f":"IF((AN12+AN13)=3,(AK12+AN12),0)","v":0},{"$f":"IF(AP12+AP13=0,\"\",IF(AD12=$AG$12,\"1st\",\"\"))","v":""}]
[{"$nulls":3},10,"Q/F 2",null,null,{"$f":"IF(G12+G13>0,(IF(G12<G13,1,(IF(G12=G13,0.5,0)))),0)","v":0},{"$f":"(U13*1000)+O13","v":0},null,{"$f":"IF(J12+J13>0,(IF(J12<J13,1,(IF(J12=J13,0.5,0)))),0)","v":0},null,null,{"$f":"IF(M12+M13>0,(IF(M12<M13,1,(IF(M12=M13,0.5,0)))),0)","v":0},{"$f":"G13+J13+M13-G12-J12-M12","v":0},{"$f":"+H13+K13","v":0},{"$f":"IF(P13>2,P13,H13+K13+N13)","v":0},null,{"$f":"IF(Q12+Q13>=1.5,(IF(Q12<Q13,3,0)),0)","v":0},null,{"$f":"IF((S12+S13)=3,(P13+S13),0)","v":0},{"$f":"IF(U13+U14=0,\"\",IF(I13=$L$12,\"1st\",\"\"))","v":""},{"$nulls":3},"Q/F 4",null,null,{"$f":"IF(AB12+AB13>0,(IF(AB12<AB13,1,(IF(AB12=AB13,0.5,0)))),0)","v":0},{"$f":"(AP13*1000)+AJ13","v":0},null,{"$f":"IF(AE12+AE13>0,(IF(AE12<AE13,1,(IF(AE12=AE13,0.5,0)))),0)","v":0},null,null,{"$f":"IF(AH12+AH13>0,(IF(AH12<AH13,1,(IF(AH12=AH13,0.5,0)))),0)","v":0},{"$f":"AB13+AE13+AH13-AB12-AE12-AH12","v":0},{"$f":"+AC13+AF13","v":0},{"$f":"IF(AK13>2,AK13,AC13+AF13+AI13)","v":0},null,{"$f":"IF(AL12+AL13>=1.5,(IF(AL12<AL13,3,0)),0)","v":0},null,{"$f":"IF((AN12+AN13)=3,(AK13+AN13),0)","v":0},{"$f":"IF(AP13+AP14=0,\"\",IF(AD13=$AG$12,\"1st\",\"\"))","v":""}]
[]
[]
[]
[null,null,"F I N A L "]
[null,null,1,13,"S/F 1",7,null,{"$f":"IF(G18+G19>0,(IF(G18>G19,1,(IF(G18=G19,0.5,0)))),0)","v":0},{"$f":"(U18*1000)+O18","v":0},null,{"$f":"IF(J18+J19>0,(IF(J18>J19,1,(IF(J18=J19,0.5,0)))),0)","v":0},{"$f":"LARGE(I18:I19,1)","v":0},null,{"$f":"IF(M18+M19>0,(IF(M18>M19,1,(IF(M18=M19,0.5,0)))),0)","v":0},{"$f":"G18+J18+M18-G19-J19-M19","v":0},{"$f":"+H18+K18","v":0},{"$f":"IF(P18>2,P18,H18+K18+N18)","v":0},null,{"$f":"IF(Q18+Q19>=1.5,(IF(Q18>Q19,3,0)),0)","v":0},null,{"$f":"IF((S18+S19)=3,(P18+S18),0)","v":0},{"$f":"IF(U18+U19=0,\"\",IF(I18=$L$18,\"1st\",\"\"))","v":""}]
[{"$nulls":3},14,"S/F 2",null,null,{"$f":"IF(G18+G19>0,(IF(G18<G19,1,(IF(G18=G19,0.5,0)))),0)","v":0},{"$f":"(U19*1000)+O19","v":0},null,{"$f":"IF(J18+J19>0,(IF(J18<J19,1,(IF(J18=J19,0.5,0)))),0)","v":0},null,null,{"$f":"IF(M18+M19>0,(IF(M18<M19,1,(IF(M18=M19,0.5,0)))),0)","v":0},{"$f":"G19+J19+M19-G18-J18-M18","v":0},{"$f":"+H19+K19","v":0},{"$f":"IF(P19>2,P19,H19+K19+N19)","v":0},null,{"$f":"IF(Q18+Q19>=1.5,(IF(Q18<Q19,3,0)),0)","v":0},null,{"$f":"IF((S18+S19)=3,(P19+S19),0)","v":0},{"$f":"IF(U19+U20=0,\"\",IF(I19=$L$18,\"1st\",\"\"))","v":""}]

{"sheet":"Finals 28 25","index":17,"n_rows":19,"n_cols":43,"rows_kept":19,"hidden":true,"merged":[[0,2,0,42],[2,2,2,42],[3,2,4,2],[3,3,4,3],[3,4,4,4],[3,5,4,5],[3,6,4,6],[3,8,4,8],[3,9,4,9],[3,11,4,11],[3,12,4,12],[3,14,4,14],[3,15,4,15],[3,17,4,17],[3,18,4,18],[3,19,4,19],[3,20,4,20],[3,21,4,21],[3,23,4,23],[3,24,4,24],[3,25,4,25],[3,26,4,26],[3,27,4,27],[3,29,4,29],[3,30,4,30],[3,32,4,32],[3,33,4,33],[3,35,4,35],[3,36,4,36],[3,38,4,38],[3,39,4,39],[3,40,4,40],[3,41,4,41],[3,42,4,42],[5,2,6,2],[5,5,6,5],[5,23,6,23],[5,26,6,26],[8,2,9,2],[8,5,9,5],[10,2,10,42],[11,2,12,2],[11,5,12,5],[11,23,12,23],[11,26,12,26],[16,2,16,42],[17,2,18,2],[17,5,18,5]]}
[null,null,{"$f":"Entries!$A$1","v":"2018 District 5 - Mixed Pairs"}]
[]
[null,null,"Q U A R T E R  F I N A L"]
[null,null,"Sections","Team   #","Skips","Rink #","1st     Set",null,null,"2nd     Set",null,null,"Tie Break",null,null,"Set Points",null,null,"Game Points",null,"Total Points","RANK",null,"Sections","Team   #","Skips","Rink #","1st     Set",null,null,"2nd     Set",null,null,"Tie Break",null,null,"Set Points",null,null,"Game Points",null,"Total Points","RANK"]
[{"$nulls":7},"Set Points",null,null,"Set Points",null,null,"Set Points",null,null,"S+TBPts",{"$nulls":11},"Set Points",null,null,"Set Points",null,null,"Set Points",null,null,"S+TBPts"]
[null,null,1,3,"Sec 7",1,null,{"$f":"IF(G6+G7>0,(IF(G6>G7,1,(IF(G6=G7,0.5,0)))),0)","v":0},{"$f":"(U6*1000)+O6","v":0},null,{"$f":"IF(J6+J7>0,(IF(J6>J7,1,(IF(J6=J7,0.5,0)))),0)","v":0},{"$f":"LARGE(I6:I7,1)","v":0},null,{"$f":"IF(M6+M7>0,(IF(M6>M7,1,(IF(M6=M7,0.5,0)))),0)","v":0},{"$f":"G6+J6+M6-G7-J7-M7","v":0},{"$f":"H6+K6","v":0},{"$f":"IF(P6>2,P6,H6+K6+N6)","v":0},null,{"$f":"IF(Q6+Q7>=1.5,(IF(Q6>Q7,3,0)),0)","v":0},null,{"$f":"IF((S6+S7)=3,(P6+S6),0)","v":0},{"$f":"IF(U6+U7=0,\"\",IF(I6=$L$6,\"1st\",\"\"))","v":""},null,2,null,"Sec 5",2,null,{"$f":"IF(AB6+AB7>0,(IF(AB6>AB7,1,(IF(AB6=AB7,0.5,0)))),0)","v":0},{"$f":"(AP6*1000)+AJ6","v":0},null,{"$f":"IF(AE6+AE7>0,(IF(AE6>AE7,1,(IF(AE6=AE7,0.5,0)))),0)","v":0},{"$f":"LARGE(AD6:AD7,1)","v":0},null,{"$f":"IF(AH6+AH7>0,(IF(AH6>AH7,1,(IF(AH6=AH7,0.5,0)))),0)","v":0},{"$f":"AB6+AE6+AH6-AB7-AE7-AH7","v":0},{"$f":"AC6+AF6","v":0},{"$f":"IF(AK6>2,AK6,AC6+AF6+AI6)","v":0},null,{"$f":"IF(AL6+AL7>=1.5,(IF(AL6>AL7,3,0)),0)","v":0},null,{"$f":"IF((AN6+AN7)=3,(AK6+AN6),0)","v":0},{"$f":"IF(AP6+AP7=0,\"\",IF(AD6=$AG$6,\"1st\",\"\"))","v":""}]
[{"$nulls":3},4,"Sec 6",null,null,{"$f":"IF(G6+G7>0,(IF(G6<G7,1,(IF(G6=G7,0.5,0)))),0)","v":0},{"$f":"(U7*1000)+O7","v":0},null,{"$f":"IF(J6+J7>0,(IF(J6<J7,1,(IF(J6=J7,0.5,0)))),0)","v":0},null,null,{"$f":"IF(M6+M7>0,(IF(M6<M7,1,(IF(M6=M7,0.5,0)))),0)","v":0},{"$f":"G7+J7+M7-G6-J6-M6","v":0},{"$f":"+H7+K7","v":0},{"$f":"IF(P7>2,P7,H7+K7+N7)","v":0},null,{"$f":"IF(Q6+Q7>=1.5,(IF(Q6<Q7,3,0)),0)","v":0},null,{"$f":"IF((S6+S7)=3,(P7+S7),0)","v":0},{"$f":"IF(U7+U8=0,\"\",IF(I7=$L$6,\"1st\",\"\"))","v":""},{"$nulls":3},"Sec 4",null,null,{"$f":"IF(AB6+AB7>0,(IF(AB6<AB7,1,(IF(AB6=AB7,0.5,0)))),0)","v":0},{"$f":"(AP7*1000)+AJ7","v":0},null,{"$f":"IF(AE6+AE7>0,(IF(AE6<AE7,1,(IF(AE6=AE7,0.5,0)))),0)","v":0},null,null,{"$f":"IF(AH6+AH7>0,(IF(AH6<AH7,1,(IF(AH6=AH7,0.5,0)))),0)","v":0},{"$f":"AB7+AE7+AH7-AB6-AE6-AH6","v":0},{"$f":"+AC7+AF7","v":0},{"$f":"IF(AK7>2,AK7,AC7+AF7+AI7)","v":0},null,{"$f":"IF(AL6+AL7>=1.5,(IF(AL6<AL7,3,0)),0)","v":0},null,{"$f":"IF((AN6+AN7)=3,(AK7+AN7),0)","v":0},{"$f":"IF(AP7+AP8=0,\"\",IF(AD7=$AG$6,\"1st\",\"\"))","v":""}]
[]
[null,null,3,5,"Sec 3",3,null,{"$f":"IF(G9+G10>0,(IF(G9>G10,1,(IF(G9=G10,0.5,0)))),0)","v":0},{"$f":"(U9*1000)+O9","v":0},null,{"$f":"IF(J9+J10>0,(IF(J9>J10,1,(IF(J9=J10,0.5,0)))),0)","v":0},{"$f":"LARGE(I9:I10,1)","v":0},null,{"$f":"IF(M9+M10>0,(IF(M9>M10,1,(IF(M9=M10,0.5,0)))),0)","v":0},{"$f":"G9+J9+M9-G10-J10-M10","v":0},{"$f":"+H9+K9","v":0},{"$f":"IF(P9>2,P9,H9+K9+N9)","v":0},null,{"$f":"IF(Q9+Q10>=1.5,(IF(Q9>Q10,3,0)),0)","v":0},null,{"$f":"IF((S9+S10)=3,(P9+S9),0)","v":0},{"$f":"IF(U9+U10=0,\"\",IF(I9=$L$9,\"1st\",\"\"))","v":""}]
[{"$nulls":3},6,"Sec 2",null,null,{"$f":"IF(G9+G10>0,(IF(G9<G10,1,(IF(G9=G10,0.5,0)))),0)","v":0},{"$f":"(U10*1000)+O10","v":0},null,{"$f":"IF(J9+J10>0,(IF(J9<J10,1,(IF(J9=J10,0.5,0)))),0)","v":0},null,null,{"$f":"IF(M9+M10>0,(IF(M9<M10,1,(IF(M9=M10,0.5,0)))),0)","v":0},{"$f":"G10+J10+M10-G9-J9-M9","v":0},{"$f":"+H10+K10","v":0},{"$f":"IF(P10>2,P10,H10+K10+N10)","v":0},null,{"$f":"IF(Q9+Q10>=1.5,(IF(Q9<Q10,3,0)),0)","v":0},null,{"$f":"IF((S9+S10)=3,(P10+S10),0)","v":0},{"$f":"IF(U10+U11=0,\"\",IF(I10=$L$9,\"1st\",\"\"))","v":""}]
[null,null,"S E M I  F I N A L "]
[null,null,1,9,"Q/F 1",4,null,{"$f":"IF(G12+G13>0,(IF(G12>G13,1,(IF(G12=G13,0.5,0)))),0)","v":0},{"$f":"(U12*1000)+O12","v":0},null,{"$f":"IF(J12+J13>0,(IF(J12>J13,1,(IF(J12=J13,0.5,0)))),0)","v":0},{"$f":"LARGE(I12:I13,1)","v":0},null,{"$f":"IF(M12+M13>0,(IF(M12>M13,1,(IF(M12=M13,0.5,0)))),0)","v":0},{"$f":"G12+J12+M12-G13-J13-M13","v":0},{"$f":"+H12+K12","v":0},{"$f":"IF(P12>2,P12,H12+K12+N12)","v":0},null,{"$f":"IF(Q12+Q13>=1.5,(IF(Q12>Q13,3,0)),0)","v":0},null,{"$f":"IF((S12+S13)=3,(P12+S12),0)","v":0},{"$f":"IF(U12+U13=0,\"\",IF(I12=$L$12,\"1st\",\"\"))","v":""},null,2,null,"Q/F 3",5,null,{"$f":"IF(AB12+AB13>0,(IF(AB12>AB13,1,(IF(AB12=AB13,0.5,0)))),0)","v":0},{"$f":"(AP12*1000)+AJ12","v":0},null,{"$f":"IF(AE12+AE13>0,(IF(AE12>AE13,1,(IF(AE12=AE13,0.5,0)))),0)","v":0},{"$f":"LARGE(AD12:AD13,1)","v":0},null,{"$f":"IF(AH12+AH13>0,(IF(AH12>AH13,1,(IF(AH12=AH13,0.5,0)))),0)","v":0},{"$f":"AB12+AE12+AH12-AB13-AE13-AH13","v":0},{"$f":"+AC12+AF12","v":0},{"$f":"IF(AK12>2,AK12,AC12+AF12+AI12)","v":0},null,{"$f":"IF(AL12+AL13>=1.5,(IF(AL12>AL13,3,0)),0)","v":0},null,{"$f":"IF((AN12+AN13)=3,(AK12+AN12),0)","v":0},{"$f":"IF(AP12+AP13=0,\"\",IF(AD12=$AG$12,\"1st\",\"\"))","v":""}]
[{"$nulls":3},10,"Q/F 2",null,null,{"$f":"IF(G12+G13>0,(IF(G12<G13,1,(IF(G12=G13,0.5,0)))),0)","v":0},{"$f":"(U13*1000)+O13","v":0},null,{"$f":"IF(J12+J13>0,(IF(J12<J13,1,(IF(J12=J13,0.5,0)))),0)","v":0},null,null,{"$f":"IF(M12+M13>0,(IF(M12<M13,1,(IF(M12=M13,0.5,0)))),0)","v":0},{"$f":"G13+J13+M13-G12-J12-M12","v":0},{"$f":"+H13+K13","v":0},{"$f":"IF(P13>2,P13,H13+K13+N13)","v":0},null,{"$f":"IF(Q12+Q13>=1.5,(IF(Q12<Q13,3,0)),0)","v":0},null,{"$f":"IF((S12+S13)=3,(P13+S13),0)","v":0},{"$f":"IF(U13+U14=0,\"\",IF(I13=$L$12,\"1st\",\"\"))","v":""},{"$nulls":3},"Sec 1",null,null,{"$f":"IF(AB12+AB13>0,(IF(AB12<AB13,1,(IF(AB12=AB13,0.5,0)))),0)","v":0},{"$f":"(AP13*1000)+AJ13","v":0},null,{"$f":"IF(AE12+AE13>0,(IF(AE12<AE13,1,(IF(AE12=AE13,0.5,0)))),0)","v":0},null,null,{"$f":"IF(AH12+AH13>0,(IF(AH12<AH13,1,(IF(AH12=AH13,0.5,0)))),0)","v":0},{"$f":"AB13+AE13+AH13-AB12-AE12-AH12","v":0},{"$f":"+AC13+AF13","v":0},{"$f":"IF(AK13>2,AK13,AC13+AF13+AI13)","v":0},null,{"$f":"IF(AL12+AL13>=1.5,(IF(AL12<AL13,3,0)),0)","v":0},null,{"$f":"IF((AN12+AN13)=3,(AK13+AN13),0)","v":0},{"$f":"IF(AP13+AP14=0,\"\",IF(AD13=$AG$12,\"1st\",\"\"))","v":""}]
[]
[]
[]
[null,null,"F I N A L "]
[null,null,1,13,"S/F 1",6,null,{"$f":"IF(G18+G19>0,(IF(G18>G19,1,(IF(G18=G19,0.5,0)))),0)","v":0},{"$f":"(U18*1000)+O18","v":0},null,{"$f":"IF(J18+J19>0,(IF(J18>J19,1,(IF(J18=J19,0.5,0)))),0)","v":0},{"$f":"LARGE(I18:I19,1)","v":0},null,{"$f":"IF(M18+M19>0,(IF(M18>M19,1,(IF(M18=M19,0.5,0)))),0)","v":0},{"$f":"G18+J18+M18-G19-J19-M19","v":0},{"$f":"+H18+K18","v":0},{"$f":"IF(P18>2,P18,H18+K18+N18)","v":0},null,{"$f":"IF(Q18+Q19>=1.5,(IF(Q18>Q19,3,0)),0)","v":0},null,{"$f":"IF((S18+S19)=3,(P18+S18),0)","v":0},{"$f":"IF(U18+U19=0,\"\",IF(I18=$L$18,\"1st\",\"\"))","v":""}]
[{"$nulls":3},14,"S/F 2",null,null,{"$f":"IF(G18+G19>0,(IF(G18<G19,1,(IF(G18=G19,0.5,0)))),0)","v":0},{"$f":"(U19*1000)+O19","v":0},null,{"$f":"IF(J18+J19>0,(IF(J18<J19,1,(IF(J18=J19,0.5,0)))),0)","v":0},null,null,{"$f":"IF(M18+M19>0,(IF(M18<M19,1,(IF(M18=M19,0.5,0)))),0)","v":0},{"$f":"G19+J19+M19-G18-J18-M18","v":0},{"$f":"+H19+K19","v":0},{"$f":"IF(P19>2,P19,H19+K19+N19)","v":0},null,{"$f":"IF(Q18+Q19>=1.5,(IF(Q18<Q19,3,0)),0)","v":0},null,{"$f":"IF((S18+S19)=3,(P19+S19),0)","v":0},{"$f":"IF(U19+U20=0,\"\",IF(I19=$L$18,\"1st\",\"\"))","v":""}]

{"sheet":"Finals 24 21","index":18,"n_rows":26,"n_cols":43,"rows_kept":26,"hidden":true,"merged":[[0,2,0,42],[2,2,2,42],[3,2,4,2],[3,3,4,3],[3,4,4,4],[3,5,4,5],[3,6,4,6],[3,8,4,8],[3,9,4,9],[3,11,4,11],[3,12,4,12],[3,14,4,14],[3,15,4,15],[3,17,4,17],[3,18,4,18],[3,19,4,19],[3,20,4,20],[3,21,4,21],[3,23,4,23],[3,24,4,24],[3,25,4,25],[3,26,4,26],[3,27,4,27],[3,29,4,29],[3,30,4,30],[3,32,4,32],[3,33,4,33],[3,35,4,35],[3,36,4,36],[3,38,4,38],[3,39,4,39],[3,40,4,40],[3,41,4,41],[3,42,4,42],[5,2,6,2],[5,5,6,5],[5,23,6,23],[5,26,6,26],[8,2,9,2],[8,5,9,5],[10,2,10,42],[11,2,12,2],[11,5,12,5],[11,23,12,23],[11,26,12,26],[16,2,16,42],[17,2,18,2],[17,5,18,5]]}
[null,null,{"$f":"Entries!$A$1","v":"2018 District 5 - Mixed Pairs"}]
[]
[null,null,"Q U A R T E R  F I N A L"]
[null,null,"Sections","Team   #","Skips","Rink #","1st     Set",null,null,"2nd     Set",null,null,"Tie Break",null,null,"Set Points",null,null,"Game Points",null,"Total Points","RANK",null,"Sections","Team   #","Skips","Rink #","1st     Set",null,null,"2nd     Set",null,null,"Tie Break",null,null,"Set Points",null,null,"Game Points",null,"Total Points","RANK"]
[{"$nulls":7},"Set Points",null,null,"Set Points",null,null,"Set Points",null,null,"S+TBPts",{"$nulls":11},"Set Points",null,null,"Set Points",null,null,"Set Points",null,null,"S+TBPts"]
[null,null,1,3,"Sec 6",1,null,{"$f":"IF(G6+G7>0,(IF(G6>G7,1,(IF(G6=G7,0.5,0)))),0)","v":0},{"$f":"(U6*1000)+O6","v":0},null,{"$f":"IF(J6+J7>0,(IF(J6>J7,1,(IF(J6=J7,0.5,0)))),0)","v":0},{"$f":"LARGE(I6:I7,1)","v":0},null,{"$f":"IF(M6+M7>0,(IF(M6>M7,1,(IF(M6=M7,0.5,0)))),0)","v":0},{"$f":"G6+J6+M6-G7-J7-M7","v":0},{"$f":"H6+K6","v":0},{"$f":"IF(P6>2,P6,H6+K6+N6)","v":0},null,{"$f":"IF(Q6+Q7>=1.5,(IF(Q6>Q7,3,0)),0)","v":0},null,{"$f":"IF((S6+S7)=3,(P6+S6),0)","v":0},{"$f":"IF(U6+U7=0,\"\",IF(I6=$L$6,\"1st\",\"\"))","v":""},null,2,null,"Sec 4",2,null,{"$f":"IF(AB6+AB7>0,(IF(AB6>AB7,1,(IF(AB6=AB7,0.5,0)))),0)","v":0},{"$f":"(AP6*1000)+AJ6","v":0},null,{"$f":"IF(AE6+AE7>0,(IF(AE6>AE7,1,(IF(AE6=AE7,0.5,0)))),0)","v":0},{"$f":"LARGE(AD6:AD7,1)","v":0},null,{"$f":"IF(AH6+AH7>0,(IF(AH6>AH7,1,(IF(AH6=AH7,0.5,0)))),0)","v":0},{"$f":"AB6+AE6+AH6-AB7-AE7-AH7","v":0},{"$f":"AC6+AF6","v":0},{"$f":"IF(AK6>2,AK6,AC6+AF6+AI6)","v":0},null,{"$f":"IF(AL6+AL7>=1.5,(IF(AL6>AL7,3,0)),0)","v":0},null,{"$f":"IF((AN6+AN7)=3,(AK6+AN6),0)","v":0},{"$f":"IF(AP6+AP7=0,\"\",IF(AD6=$AG$6,\"1st\",\"\"))","v":""}]
[{"$nulls":3},4,"Sec 5",null,null,{"$f":"IF(G6+G7>0,(IF(G6<G7,1,(IF(G6=G7,0.5,0)))),0)","v":0},{"$f":"(U7*1000)+O7","v":0},null,{"$f":"IF(J6+J7>0,(IF(J6<J7,1,(IF(J6=J7,0.5,0)))),0)","v":0},null,null,{"$f":"IF(M6+M7>0,(IF(M6<M7,1,(IF(M6=M7,0.5,0)))),0)","v":0},{"$f":"G7+J7+M7-G6-J6-M6","v":0},{"$f":"+H7+K7","v":0},{"$f":"IF(P7>2,P7,H7+K7+N7)","v":0},null,{"$f":"IF(Q6+Q7>=1.5,(IF(Q6<Q7,3,0)),0)","v":0},null,{"$f":"IF((S6+S7)=3,(P7+S7),0)","v":0},{"$f":"IF(U7+U8=0,\"\",IF(I7=$L$6,\"1st\",\"\"))","v":""},{"$nulls":3},"Sec 3",null,null,{"$f":"IF(AB6+AB7>0,(IF(AB6<AB7,1,(IF(AB6=AB7,0.5,0)))),0)","v":0},{"$f":"(AP7*1000)+AJ7","v":0},null,{"$f":"IF(AE6+AE7>0,(IF(AE6<AE7,1,(IF(AE6=AE7,0.5,0)))),0)","v":0},null,null,{"$f":"IF(AH6+AH7>0,(IF(AH6<AH7,1,(IF(AH6=AH7,0.5,0)))),0)","v":0},{"$f":"AB7+AE7+AH7-AB6-AE6-AH6","v":0},{"$f":"+AC7+AF7","v":0},{"$f":"IF(AK7>2,AK7,AC7+AF7+AI7)","v":0},null,{"$f":"IF(AL6+AL7>=1.5,(IF(AL6<AL7,3,0)),0)","v":0},null,{"$f":"IF((AN6+AN7)=3,(AK7+AN7),0)","v":0},{"$f":"IF(AP7+AP8=0,\"\",IF(AD7=$AG$6,\"1st\",\"\"))","v":""}]
[]
[null,null,3,5,"Sec 2",3,null,{"$f":"IF(G9+G10>0,(IF(G9>G10,1,(IF(G9=G10,0.5,0)))),0)","v":0},{"$f":"(U9*1000)+O9","v":0},null,{"$f":"IF(J9+J10>0,(IF(J9>J10,1,(IF(J9=J10,0.5,0)))),0)","v":0},{"$f":"LARGE(I9:I10,1)","v":0},null,{"$f":"IF(M9+M10>0,(IF(M9>M10,1,(IF(M9=M10,0.5,0)))),0)","v":0},{"$f":"G9+J9+M9-G10-J10-M10","v":0},{"$f":"+H9+K9","v":0},{"$f":"IF(P9>2,P9,H9+K9+N9)","v":0},null,{"$f":"IF(Q9+Q10>=1.5,(IF(Q9>Q10,3,0)),0)","v":0},null,{"$f":"IF((S9+S10)=3,(P9+S9),0)","v":0},{"$f":"IF(U9+U10=0,\"\",IF(I9=$L$9,\"1st\",\"\"))","v":""}]
[{"$nulls":3},6,"Sec 1",null,null,{"$f":"IF(G9+G10>0,(IF(G9<G10,1,(IF(G9=G10,0.5,0)))),0)","v":0},{"$f":"(U10*1000)+O10","v":0},null,{"$f":"IF(J9+J10>0,(IF(J9<J10,1,(IF(J9=J10,0.5,0)))),0)","v":0},null,null,{"$f":"IF(M9+M10>0,(IF(M9<M10,1,(IF(M9=M10,0.5,0)))),0)","v":0},{"$f":"G10+J10+M10-G9-J9-M9","v":0},{"$f":"+H10+K10","v":0},{"$f":"IF(P10>2,P10,H10+K10+N10)","v":0},null,{"$f":"IF(Q9+Q10>=1.5,(IF(Q9<Q10,3,0)),0)","v":0},null,{"$f":"IF((S9+S10)=3,(P10+S10),0)","v":0},{"$f":"IF(U10+U11=0,\"\",IF(I10=$L$9,\"1st\",\"\"))","v":""}]
[null,null,"S E M I  F I N A L "]
[null,null,1,9,"Sec 2",3,null,{"$f":"IF(G12+G13>0,(IF(G12>G13,1,(IF(G12=G13,0.5,0)))),0)","v":0},{"$f":"(U12*1000)+O12","v":0},null,{"$f":"IF(J12+J13>0,(IF(J12>J13,1,(IF(J12=J13,0.5,0)))),0)","v":0},{"$f":"LARGE(I12:I13,1)","v":0},null,{"$f":"IF(M12+M13>0,(IF(M12>M13,1,(IF(M12=M13,0.5,0)))),0)","v":0},{"$f":"G12+J12+M12-G13-J13-M13","v":0},{"$f":"+H12+K12","v":0},{"$f":"IF(P12>2,P12,H12+K12+N12)","v":0},null,{"$f":"IF(Q12+Q13>=1.5,(IF(Q12>Q13,3,0)),0)","v":0},null,{"$f":"IF((S12+S13)=3,(P12+S12),0)","v":0},{"$f":"IF(U12+U13=0,\"\",IF(I12=$L$12,\"1st\",\"\"))","v":""},null,4,null,"Q/F 1",5,null,{"$f":"IF(AB12+AB13>0,(IF(AB12>AB13,1,(IF(AB12=AB13,0.5,0)))),0)","v":0},{"$f":"(AP12*1000)+AJ12","v":0},null,{"$f":"IF(AE12+AE13>0,(IF(AE12>AE13,1,(IF(AE12=AE13,0.5,0)))),0)","v":0},{"$f":"LARGE(AD12:AD13,1)","v":0},null,{"$f":"IF(AH12+AH13>0,(IF(AH12>AH13,1,(IF(AH12=AH13,0.5,0)))),0)","v":0},{"$f":"AB12+AE12+AH12-AB13-AE13-AH13","v":0},{"$f":"+AC12+AF12","v":0},{"$f":"IF(AK12>2,AK12,AC12+AF12+AI12)","v":0},null,{"$f":"IF(AL12+AL13>=1.5,(IF(AL12>AL13,3,0)),0)","v":0},null,{"$f":"IF((AN12+AN13)=3,(AK12+AN12),0)","v":0},{"$f":"IF(AP12+AP13=0,\"\",IF(AD12=$AG$12,\"1st\",\"\"))","v":""}]
[{"$nulls":3},10,"Sec 1",null,null,{"$f":"IF(G12+G13>0,(IF(G12<G13,1,(IF(G12=G13,0.5,0)))),0)","v":0},{"$f":"(U13*1000)+O13","v":0},null,{"$f":"IF(J12+J13>0,(IF(J12<J13,1,(IF(J12=J13,0.5,0)))),0)","v":0},null,null,{"$f":"IF(M12+M13>0,(IF(M12<M13,1,(IF(M12=M13,0.5,0)))),0)","v":0},{"$f":"G13+J13+M13-G12-J12-M12","v":0},{"$f":"+H13+K13","v":0},{"$f":"IF(P13>2,P13,H13+K13+N13)","v":0},null,{"$f":"IF(Q12+Q13>=1.5,(IF(Q12<Q13,3,0)),0)","v":0},null,{"$f":"IF((S12+S13)=3,(P13+S13),0)","v":0},{"$f":"IF(U13+U14=0,\"\",IF(I13=$L$12,\"1st\",\"\"))","v":""},{"$nulls":3},"Q/F 2",null,null,{"$f":"IF(AB12+AB13>0,(IF(AB12<AB13,1,(IF(AB12=AB13,0.5,0)))),0)","v":0},{"$f":"(AP13*1000)+AJ13","v":0},null,{"$f":"IF(AE12+AE13>0,(IF(AE12<AE13,1,(IF(AE12=AE13,0.5,0)))),0)","v":0},null,null,{"$f":"IF(AH12+AH13>0,(IF(AH12<AH13,1,(IF(AH12=AH13,0.5,0)))),0)","v":0},{"$f":"AB13+AE13+AH13-AB12-AE12-AH12","v":0},{"$f":"+AC13+AF13","v":0},{"$f":"IF(AK13>2,AK13,AC13+AF13+AI13)","v":0},null,{"$f":"IF(AL12+AL13>=1.5,(IF(AL12<AL13,3,0)),0)","v":0},null,{"$f":"IF((AN12+AN13)=3,(AK13+AN13),0)","v":0},{"$f":"IF(AP13+AP14=0,\"\",IF(AD13=$AG$12,\"1st\",\"\"))","v":""}]
[]
[]
[]
[null,null,"F I N A L "]
[null,null,1,13,"S/F 1",6,null,{"$f":"IF(G18+G19>0,(IF(G18>G19,1,(IF(G18=G19,0.5,0)))),0)","v":0},{"$f":"(U18*1000)+O18","v":0},null,{"$f":"IF(J18+J19>0,(IF(J18>J19,1,(IF(J18=J19,0.5,0)))),0)","v":0},{"$f":"LARGE(I18:I19,1)","v":0},null,{"$f":"IF(M18+M19>0,(IF(M18>M19,1,(IF(M18=M19,0.5,0)))),0)","v":0},{"$f":"G18+J18+M18-G19-J19-M19","v":0},{"$f":"+H18+K18","v":0},{"$f":"IF(P18>2,P18,H18+K18+N18)","v":0},null,{"$f":"IF(Q18+Q19>=1.5,(IF(Q18>Q19,3,0)),0)","v":0},null,{"$f":"IF((S18+S19)=3,(P18+S18),0)","v":0},{"$f":"IF(U18+U19=0,\"\",IF(I18=$L$18,\"1st\",\"\"))","v":""}]
[{"$nulls":3},14,"S/F 2",null,null,{"$f":"IF(G18+G19>0,(IF(G18<G19,1,(IF(G18=G19,0.5,0)))),0)","v":0},{"$f":"(U19*1000)+O19","v":0},null,{"$f":"IF(J18+J19>0,(IF(J18<J19,1,(IF(J18=J19,0.5,0)))),0)","v":0},null,null,{"$f":"IF(M18+M19>0,(IF(M18<M19,1,(IF(M18=M19,0.5,0)))),0)","v":0},{"$f":"G19+J19+M19-G18-J18-M18","v":0},{"$f":"+H19+K19","v":0},{"$f":"IF(P19>2,P19,H19+K19+N19)","v":0},null,{"$f":"IF(Q18+Q19>=1.5,(IF(Q18<Q19,3,0)),0)","v":0},null,{"$f":"IF((S18+S19)=3,(P19+S19),0)","v":0},{"$f":"IF(U19+U20=0,\"\",IF(I19=$L$18,\"1st\",\"\"))","v":""}]
[]
[]
[]
[]
[]
[]
[{"$nulls":15},5]

{"sheet":"19","index":19,"n_rows":23,"n_cols":11,"rows_kept":23,"hidden":true,"merged":[[0,2,0,10],[1,2,1,10],[2,3,2,4],[2,5,2,6],[2,7,2,8],[2,9,2,10],[4,1,7,1],[8,1,11,1],[12,1,15,1],[16,1,19,1],[20,1,23,1]]}
[null,null,{"$f":"Entries!$A$1","v":"2018 District 5 - Mixed Pairs"}]
[null,null,"DRAW"]
[{"$nulls":5},"R O U N D  1",null,"R O U N D  2",null,"R O U N D  3"]
[null,"Section","Team No.","Lead","Skip","Rink","Versus","Rink","Versus","Rink","Versus"]
[null,1,1,{"$f":"Entries!$Q$5","v":0},{"$f":"Entries!$R$5","v":0},2,2,11,3,5,4]
[null,null,2,{"$f":"Entries!$Q$6","v":0},{"$f":"Entries!$R$6","v":0},2,1,12,4,6,3]
[null,null,3,{"$f":"Entries!$Q$7","v":0},{"$f":"Entries!$R$7","v":0},3,4,11,1,6,2]
[null,null,4,{"$f":"Entries!$Q$8","v":0},{"$f":"Entries!$R$8","v":0},3,3,12,2,5,1]
[null,2,5,{"$f":"Entries!$Q$9","v":0},{"$f":"Entries!$R$9","v":0},4,6,9,7,2,8]
[null,null,6,{"$f":"Entries!$Q$10","v":0},{"$f":"Entries!$R$10","v":0},4,5,10,8,3,7]
[null,null,7,{"$f":"Entries!$Q$11","v":0},{"$f":"Entries!$R$11","v":0},5,8,9,5,3,6]
[null,null,8,{"$f":"Entries!$Q$12","v":0},{"$f":"Entries!$R$12","v":0},5,7,10,6,2,5]
[null,3,9,{"$f":"Entries!$Q$13","v":0},{"$f":"Entries!$R$13","v":0},9,10,2,11,11,12]
[null,null,10,{"$f":"Entries!$Q$14","v":0},{"$f":"Entries!$R$14","v":0},9,9,3,12,12,11]
[null,null,11,{"$f":"Entries!$Q$15","v":0},{"$f":"Entries!$R$15","v":0},10,12,2,9,12,10]
[null,null,12,{"$f":"Entries!$Q$16","v":0},{"$f":"Entries!$R$16","v":0},10,11,3,10,11,9]
[null,4,13,{"$f":"Entries!$Q$17","v":0},{"$f":"Entries!$R$17","v":0},11,14,4,15,9,16]
[null,null,14,{"$f":"Entries!$Q$18","v":0},{"$f":"Entries!$R$18","v":0},11,13,5,16,10,15]
[null,null,15,{"$f":"Entries!$Q$19","v":0},{"$f":"Entries!$R$19","v":0},12,16,4,13,10,14]
[null,null,16,{"$f":"Entries!$Q$20","v":0},{"$f":"Entries!$R$20","v":0},12,15,5,14,9,13]
[null,5,17,{"$f":"Entries!$Q$21","v":0},{"$f":"Entries!$R$21","v":0},6,18,13,19,"Bye"]
[null,null,18,{"$f":"Entries!$Q$22","v":0},{"$f":"Entries!$R$22","v":0},6,17,"Bye",null,4,19]
[null,null,19,{"$f":"Entries!$Q$23","v":0},{"$f":"Entries!$R$23","v":0},"Bye",null,13,17,4,18]

{"sheet":"18","index":20,"n_rows":23,"n_cols":11,"rows_kept":23,"hidden":true,"merged":[[0,2,0,10],[1,2,1,10],[2,3,2,4],[2,5,2,6],[2,7,2,8],[2,9,2,10],[4,1,7,1],[8,1,11,1],[12,1,15,1],[16,1,19,1],[20,1,23,1]]}
[null,null,{"$f":"Entries!$A$1","v":"2018 District 5 - Mixed Pairs"}]
[null,null,"DRAW"]
[{"$nulls":5},"R O U N D  1",null,"R O U N D  2",null,"R O U N D  3"]
[null,"Section","Team No.","Lead","Skip","Rink","Versus","Rink","Versus","Rink","Versus"]
[null,1,1,{"$f":"Entries!$Q$5","v":0},{"$f":"Entries!$R$5","v":0},2,2,11,3,5,4]
[null,null,2,{"$f":"Entries!$Q$6","v":0},{"$f":"Entries!$R$6","v":0},2,1,12,4,6,3]
[null,null,3,{"$f":"Entries!$Q$7","v":0},{"$f":"Entries!$R$7","v":0},3,4,11,1,6,2]
[null,null,4,{"$f":"Entries!$Q$8","v":0},{"$f":"Entries!$R$8","v":0},3,3,12,2,5,1]
[null,2,5,{"$f":"Entries!$Q$9","v":0},{"$f":"Entries!$R$9","v":0},4,6,9,7,2,8]
[null,null,6,{"$f":"Entries!$Q$10","v":0},{"$f":"Entries!$R$10","v":0},4,5,10,8,3,7]
[null,null,7,{"$f":"Entries!$Q$11","v":0},{"$f":"Entries!$R$11","v":0},5,8,9,5,3,6]
[null,null,8,{"$f":"Entries!$Q$12","v":0},{"$f":"Entries!$R$12","v":0},5,7,10,6,2,5]
[null,3,9,{"$f":"Entries!$Q$13","v":0},{"$f":"Entries!$R$13","v":0},9,10,2,11,11,12]
[null,null,10,{"$f":"Entries!$Q$14","v":0},{"$f":"Entries!$R$14","v":0},9,9,3,12,12,11]
[null,null,11,{"$f":"Entries!$Q$15","v":0},{"$f":"Entries!$R$15","v":0},10,12,2,9,12,10]
[null,null,12,{"$f":"Entries!$Q$16","v":0},{"$f":"Entries!$R$16","v":0},10,11,3,10,11,9]
[null,4,13,{"$f":"Entries!$Q$17","v":0},{"$f":"Entries!$R$17","v":0},11,14,4,15,"Bye"]
[null,null,14,{"$f":"Entries!$Q$18","v":0},{"$f":"Entries!$R$18","v":0},11,13,"Bye",null,10,15]
[null,null,15,{"$f":"Entries!$Q$19","v":0},{"$f":"Entries!$R$19","v":0},"Bye",null,4,13,10,14]
[]
[null,5,16,{"$f":"Entries!$Q$20","v":0},{"$f":"Entries!$R$20","v":0},6,17,13,18,"Bye"]
[null,null,17,{"$f":"Entries!$Q$21","v":0},{"$f":"Entries!$R$21","v":0},6,16,"Bye",null,4,18]
[null,null,18,{"$f":"Entries!$Q$22","v":0},{"$f":"Entries!$R$22","v":0},"Bye",null,13,16,4,17]

{"sheet":"17","index":21,"n_rows":23,"n_cols":11,"rows_kept":23,"hidden":true,"merged":[[0,2,0,10],[1,2,1,10],[2,3,2,4],[2,5,2,6],[2,7,2,8],[2,9,2,10],[4,1,7,1],[8,1,11,1],[12,1,15,1],[16,1,19,1],[20,1,23,1]]}
[null,null,{"$f":"Entries!$A$1","v":"2018 District 5 - Mixed Pairs"}]
[null,null,"DRAW"]
[{"$nulls":5},"R O U N D  1",null,"R O U N D  2",null,"R O U N D  3"]
[null,"Section","Team No.","Lead","Skip","Rink","Versus","Rink","Versus","Rink","Versus"]
[null,1,1,{"$f":"Entries!$Q$5","v":0},{"$f":"Entries!$R$5","v":0},2,2,11,3,5,4]
[null,null,2,{"$f":"Entries!$Q$6","v":0},{"$f":"Entries!$R$6","v":0},2,1,12,4,6,3]
[null,null,3,{"$f":"Entries!$Q$7","v":0},{"$f":"Entries!$R$7","v":0},3,4,11,1,6,2]
[null,null,4,{"$f":"Entries!$Q$8","v":0},{"$f":"Entries!$R$8","v":0},3,3,12,2,5,1]
[null,2,5,{"$f":"Entries!$Q$9","v":0},{"$f":"Entries!$R$9","v":0},4,6,9,7,2,8]
[null,null,6,{"$f":"Entries!$Q$10","v":0},{"$f":"Entries!$R$10","v":0},4,5,10,8,3,7]
[null,null,7,{"$f":"Entries!$Q$11","v":0},{"$f":"Entries!$R$11","v":0},5,8,9,5,3,6]
[null,null,8,{"$f":"Entries!$Q$12","v":0},{"$f":"Entries!$R$12","v":0},5,7,10,6,2,5]
[null,3,9,{"$f":"Entries!$Q$13","v":0},{"$f":"Entries!$R$13","v":0},9,10,2,11,"Bye"]
[null,null,10,{"$f":"Entries!$Q$14","v":0},{"$f":"Entries!$R$14","v":0},9,9,"Bye",null,12,11]
[null,null,11,{"$f":"Entries!$Q$15","v":0},{"$f":"Entries!$R$15","v":0},"Bye",null,2,9,12,10]
[]
[null,4,12,{"$f":"Entries!$Q$16","v":0},{"$f":"Entries!$R$16","v":0},11,13,4,14,"Bye"]
[null,null,13,{"$f":"Entries!$Q$17","v":0},{"$f":"Entries!$R$17","v":0},11,12,"Bye",null,10,14]
[null,null,14,{"$f":"Entries!$Q$18","v":0},{"$f":"Entries!$R$18","v":0},"Bye",null,4,12,10,13]
[]
[null,5,15,{"$f":"Entries!$Q$19","v":0},{"$f":"Entries!$R$19","v":0},10,16,3,17,"Bye"]
[null,null,16,{"$f":"Entries!$Q$20","v":0},{"$f":"Entries!$R$20","v":0},10,15,"Bye",null,11,17]
[null,null,17,{"$f":"Entries!$Q$21","v":0},{"$f":"Entries!$R$21","v":0},"Bye",null,3,15,11,16]

{"sheet":"16","index":22,"n_rows":20,"n_cols":11,"rows_kept":20,"hidden":true,"merged":[[0,2,0,10],[1,2,1,10],[2,3,2,4],[2,5,2,6],[2,7,2,8],[2,9,2,10],[4,1,7,1],[8,1,11,1],[12,1,15,1],[16,1,19,1]]}
[null,null,{"$f":"Entries!$A$1","v":"2018 District 5 - Mixed Pairs"}]
[null,null,"DRAW"]
[{"$nulls":5},"R O U N D  1",null,"R O U N D  2",null,"R O U N D  3"]
[null,"Section","Team No.","Lead","Skip","Rink","Versus","Rink","Versus","Rink","Versus"]
[null,1,1,{"$f":"Entries!$Q$5","v":0},{"$f":"Entries!$R$5","v":0},2,2,11,3,5,4]
[null,null,2,{"$f":"Entries!$Q$6","v":0},{"$f":"Entries!$R$6","v":0},2,1,12,4,4,3]
[null,null,3,{"$f":"Entries!$Q$7","v":0},{"$f":"Entries!$R$7","v":0},3,4,11,1,4,2]
[null,null,4,{"$f":"Entries!$Q$8","v":0},{"$f":"Entries!$R$8","v":0},3,3,12,2,5,1]
[null,2,5,{"$f":"Entries!$Q$9","v":0},{"$f":"Entries!$R$9","v":0},4,6,9,7,3,8]
[null,null,6,{"$f":"Entries!$Q$10","v":0},{"$f":"Entries!$R$10","v":0},4,5,10,8,2,7]
[null,null,7,{"$f":"Entries!$Q$11","v":0},{"$f":"Entries!$R$11","v":0},5,8,9,5,2,6]
[null,null,8,{"$f":"Entries!$Q$12","v":0},{"$f":"Entries!$R$12","v":0},5,7,10,6,3,5]
[null,3,9,{"$f":"Entries!$Q$13","v":0},{"$f":"Entries!$R$13","v":0},9,10,2,11,11,12]
[null,null,10,{"$f":"Entries!$Q$14","v":0},{"$f":"Entries!$R$14","v":0},9,9,3,12,12,11]
[null,null,11,{"$f":"Entries!$Q$15","v":0},{"$f":"Entries!$R$15","v":0},10,12,2,9,12,10]
[null,null,12,{"$f":"Entries!$Q$16","v":0},{"$f":"Entries!$R$16","v":0},10,11,3,10,11,9]
[null,4,13,{"$f":"Entries!$Q$17","v":0},{"$f":"Entries!$R$17","v":0},11,14,4,15,9,16]
[null,null,14,{"$f":"Entries!$Q$18","v":0},{"$f":"Entries!$R$18","v":0},11,13,5,16,10,15]
[null,null,15,{"$f":"Entries!$Q$19","v":0},{"$f":"Entries!$R$19","v":0},12,16,4,13,10,14]
[null,null,16,{"$f":"Entries!$Q$20","v":0},{"$f":"Entries!$R$20","v":0},12,15,5,14,9,13]

{"sheet":"15","index":23,"n_rows":19,"n_cols":11,"rows_kept":19,"hidden":true,"merged":[[0,2,0,10],[1,2,1,10],[2,3,2,4],[2,5,2,6],[2,7,2,8],[2,9,2,10],[4,1,7,1],[8,1,11,1],[12,1,15,1],[16,1,19,1]]}
[null,null,{"$f":"Entries!$A$1","v":"2018 District 5 - Mixed Pairs"}]
[null,null,"DRAW"]
[{"$nulls":5},"R O U N D  1",null,"R O U N D  2",null,"R O U N D  3"]
[null,"Section","Team No.","Lead","Skip","Rink","Versus","Rink","Versus","Rink","Versus"]
[null,1,1,{"$f":"Entries!$Q$5","v":0},{"$f":"Entries!$R$5","v":0},2,2,5,3,1,4]
[null,null,2,{"$f":"Entries!$Q$6","v":0},{"$f":"Entries!$R$6","v":0},2,1,4,4,6,3]
[null,null,3,{"$f":"Entries!$Q$7","v":0},{"$f":"Entries!$R$7","v":0},3,4,5,1,6,2]
[null,null,4,{"$f":"Entries!$Q$8","v":0},{"$f":"Entries!$R$8","v":0},3,3,4,2,1,1]
[null,2,5,{"$f":"Entries!$Q$9","v":0},{"$f":"Entries!$R$9","v":0},4,6,6,7,3,8]
[null,null,6,{"$f":"Entries!$Q$10","v":0},{"$f":"Entries!$R$10","v":0},4,5,7,8,2,7]
[null,null,7,{"$f":"Entries!$Q$11","v":0},{"$f":"Entries!$R$11","v":0},5,8,6,5,2,6]
[null,null,8,{"$f":"Entries!$Q$12","v":0},{"$f":"Entries!$R$12","v":0},5,7,7,6,3,5]
[null,3,9,{"$f":"Entries!$Q$13","v":0},{"$f":"Entries!$R$13","v":0},6,10,1,11,4,12]
[null,null,10,{"$f":"Entries!$Q$14","v":0},{"$f":"Entries!$R$14","v":0},6,9,2,12,5,11]
[null,null,11,{"$f":"Entries!$Q$15","v":0},{"$f":"Entries!$R$15","v":0},7,12,1,9,5,10]
[null,null,12,{"$f":"Entries!$Q$16","v":0},{"$f":"Entries!$R$16","v":0},7,11,2,10,4,9]
[null,4,13,{"$f":"Entries!$Q$17","v":0},{"$f":"Entries!$R$17","v":0},1,14,3,15,"Bye"]
[null,null,14,{"$f":"Entries!$Q$18","v":0},{"$f":"Entries!$R$18","v":0},1,13,"Bye",null,7,15]
[null,null,15,{"$f":"Entries!$Q$19","v":0},{"$f":"Entries!$R$19","v":0},"Bye",null,3,13,7,14]

{"sheet":"14","index":24,"n_rows":19,"n_cols":11,"rows_kept":19,"hidden":true,"merged":[[0,2,0,10],[1,2,1,10],[2,3,2,4],[2,5,2,6],[2,7,2,8],[2,9,2,10],[4,1,7,1],[8,1,11,1],[12,1,15,1],[16,1,19,1]]}
[null,null,{"$f":"Entries!$A$1","v":"2018 District 5 - Mixed Pairs"}]
[null,null,"DRAW"]
[{"$nulls":5},"R O U N D  1",null,"R O U N D  2",null,"R O U N D  3"]
[null,"Section","Team No.","Lead","Skip","Rink","Versus","Rink","Versus","Rink","Versus"]
[null,1,1,{"$f":"Entries!$Q$5","v":0},{"$f":"Entries!$R$5","v":0},2,2,5,3,1,4]
[null,null,2,{"$f":"Entries!$Q$6","v":0},{"$f":"Entries!$R$6","v":0},2,1,4,4,6,3]
[null,null,3,{"$f":"Entries!$Q$7","v":0},{"$f":"Entries!$R$7","v":0},3,4,5,1,6,2]
[null,null,4,{"$f":"Entries!$Q$8","v":0},{"$f":"Entries!$R$8","v":0},3,3,4,2,1,1]
[null,2,5,{"$f":"Entries!$Q$9","v":0},{"$f":"Entries!$R$9","v":0},4,6,6,7,3,8]
[null,null,6,{"$f":"Entries!$Q$10","v":0},{"$f":"Entries!$R$10","v":0},4,5,7,8,2,7]
[null,null,7,{"$f":"Entries!$Q$11","v":0},{"$f":"Entries!$R$11","v":0},5,8,6,5,2,6]
[null,null,8,{"$f":"Entries!$Q$12","v":0},{"$f":"Entries!$R$12","v":0},5,7,7,6,3,5]
[null,3,9,{"$f":"Entries!$Q$13","v":0},{"$f":"Entries!$R$13","v":0},6,10,2,11,"Bye"]
[null,null,10,{"$f":"Entries!$Q$14","v":0},{"$f":"Entries!$R$14","v":0},6,9,"Bye",null,5,11]
[null,null,11,{"$f":"Entries!$Q$15","v":0},{"$f":"Entries!$R$15","v":0},"Bye",null,2,9,5,10]
[]
[null,4,12,{"$f":"Entries!$Q$16","v":0},{"$f":"Entries!$R$16","v":0},1,13,3,14,"Bye"]
[null,null,13,{"$f":"Entries!$Q$17","v":0},{"$f":"Entries!$R$17","v":0},1,12,"Bye",null,4,14]
[null,null,14,{"$f":"Entries!$Q$18","v":0},{"$f":"Entries!$R$18","v":0},"Bye",null,3,12,4,13]

{"sheet":"13","index":25,"n_rows":19,"n_cols":11,"rows_kept":19,"hidden":true,"merged":[[0,2,0,10],[1,2,1,10],[2,3,2,4],[2,5,2,6],[2,7,2,8],[2,9,2,10],[4,1,7,1],[8,1,11,1],[12,1,15,1],[16,1,19,1]]}
[null,null,{"$f":"Entries!$A$1","v":"2018 District 5 - Mixed Pairs"}]
[null,null,"DRAW"]
[{"$nulls":5},"R O U N D  1",null,"R O U N D  2",null,"R O U N D  3"]
[null,"Section","Team No.","Lead","Skip","Rink","Versus","Rink","Versus","Rink","Versus"]
[null,1,1,{"$f":"Entries!$Q$5","v":0},{"$f":"Entries!$R$5","v":0},2,2,5,3,1,4]
[null,null,2,{"$f":"Entries!$Q$6","v":0},{"$f":"Entries!$R$6","v":0},2,1,4,4,6,3]
[null,null,3,{"$f":"Entries!$Q$7","v":0},{"$f":"Entries!$R$7","v":0},3,4,5,1,6,2]
[null,null,4,{"$f":"Entries!$Q$8","v":0},{"$f":"Entries!$R$8","v":0},3,3,4,2,1,1]
[null,2,5,{"$f":"Entries!$Q$9","v":0},{"$f":"Entries!$R$9","v":0},4,6,6,7,"Bye"]
[null,null,6,{"$f":"Entries!$Q$10","v":0},{"$f":"Entries!$R$10","v":0},4,5,"Bye",null,2,7]
[null,null,7,{"$f":"Entries!$Q$11","v":0},{"$f":"Entries!$R$11","v":0},"Bye",null,6,5,2,6]
[]
[null,3,8,{"$f":"Entries!$Q$12","v":0},{"$f":"Entries!$R$12","v":0},6,9,2,10,"Bye"]
[null,null,9,{"$f":"Entries!$Q$13","v":0},{"$f":"Entries!$R$13","v":0},6,8,"Bye",null,5,10]
[null,null,10,{"$f":"Entries!$Q$14","v":0},{"$f":"Entries!$R$14","v":0},"Bye",null,2,8,5,9]
[]
[null,4,11,{"$f":"Entries!$Q$15","v":0},{"$f":"Entries!$R$15","v":0},5,12,3,13,"Bye"]
[null,null,12,{"$f":"Entries!$Q$16","v":0},{"$f":"Entries!$R$16","v":0},5,11,"Bye",null,4,13]
[null,null,13,{"$f":"Entries!$Q$17","v":0},{"$f":"Entries!$R$17","v":0},"Bye",null,3,11,4,12]

{"sheet":"12","index":26,"n_rows":16,"n_cols":11,"rows_kept":16,"hidden":true,"merged":[[0,2,0,10],[1,2,1,10],[2,3,2,4],[2,5,2,6],[2,7,2,8],[2,9,2,10],[4,1,7,1],[8,1,11,1],[12,1,15,1]]}
[null,null,{"$f":"Entries!$A$1","v":"2018 District 5 - Mixed Pairs"}]
[null,null,"DRAW"]
[{"$nulls":5},"R O U N D  1",null,"R O U N D  2",null,"R O U N D  3"]
[null,"Section","Team No.","Lead","Skip","Rink","Versus","Rink","Versus","Rink","Versus"]
[null,1,1,{"$f":"Entries!$Q$5","v":0},{"$f":"Entries!$R$5","v":0},2,2,4,3,6,4]
[null,null,2,{"$f":"Entries!$Q$6","v":0},{"$f":"Entries!$R$6","v":0},2,1,5,4,7,3]
[null,null,3,{"$f":"Entries!$Q$7","v":0},{"$f":"Entries!$R$7","v":0},3,4,4,1,7,2]
[null,null,4,{"$f":"Entries!$Q$8","v":0},{"$f":"Entries!$R$8","v":0},3,3,5,2,6,1]
[null,2,5,{"$f":"Entries!$Q$9","v":0},{"$f":"Entries!$R$9","v":0},4,6,6,7,3,8]
[null,null,6,{"$f":"Entries!$Q$10","v":0},{"$f":"Entries!$R$10","v":0},4,5,7,8,2,7]
[null,null,7,{"$f":"Entries!$Q$11","v":0},{"$f":"Entries!$R$11","v":0},5,8,6,5,2,6]
[null,null,8,{"$f":"Entries!$Q$12","v":0},{"$f":"Entries!$R$12","v":0},5,7,7,6,3,5]
[null,3,9,{"$f":"Entries!$Q$13","v":0},{"$f":"Entries!$R$13","v":0},6,10,2,11,4,12]
[null,null,10,{"$f":"Entries!$Q$14","v":0},{"$f":"Entries!$R$14","v":0},6,9,3,12,5,11]
[null,null,11,{"$f":"Entries!$Q$15","v":0},{"$f":"Entries!$R$15","v":0},7,12,2,9,5,10]
[null,null,12,{"$f":"Entries!$Q$16","v":0},{"$f":"Entries!$R$16","v":0},7,11,3,10,4,9]

{"sheet":"11","index":27,"n_rows":15,"n_cols":11,"rows_kept":15,"hidden":true,"merged":[[0,2,0,10],[1,2,1,10],[2,3,2,4],[2,5,2,6],[2,7,2,8],[2,9,2,10],[4,1,7,1],[8,1,11,1],[12,1,15,1]]}
[null,null,{"$f":"Entries!$A$1","v":"2018 District 5 - Mixed Pairs"}]
[null,null,"DRAW"]
[{"$nulls":5},"R O U N D  1",null,"R O U N D  2",null,"R O U N D  3"]
[null,"Section","Team No.","Lead","Skip","Rink","Versus","Rink","Versus","Rink","Versus"]
[null,1,1,{"$f":"Entries!$Q$5","v":0},{"$f":"Entries!$R$5","v":0},2,2,4,3,6,4]
[null,null,2,{"$f":"Entries!$Q$6","v":0},{"$f":"Entries!$R$6","v":0},2,1,5,4,3,3]
[null,null,3,{"$f":"Entries!$Q$7","v":0},{"$f":"Entries!$R$7","v":0},3,4,4,1,3,2]
[null,null,4,{"$f":"Entries!$Q$8","v":0},{"$f":"Entries!$R$8","v":0},3,3,5,2,6,1]
[null,2,5,{"$f":"Entries!$Q$9","v":0},{"$f":"Entries!$R$9","v":0},4,6,6,7,4,8]
[null,null,6,{"$f":"Entries!$Q$10","v":0},{"$f":"Entries!$R$10","v":0},4,5,3,8,2,7]
[null,null,7,{"$f":"Entries!$Q$11","v":0},{"$f":"Entries!$R$11","v":0},5,8,6,5,2,6]
[null,null,8,{"$f":"Entries!$Q$12","v":0},{"$f":"Entries!$R$12","v":0},5,7,3,6,4,5]
[null,3,9,{"$f":"Entries!$Q$13","v":0},{"$f":"Entries!$R$13","v":0},6,10,2,11,"Bye"]
[null,null,10,{"$f":"Entries!$Q$14","v":0},{"$f":"Entries!$R$14","v":0},6,9,"Bye",null,5,11]
[null,null,11,{"$f":"Entries!$Q$15","v":0},{"$f":"Entries!$R$15","v":0},"Bye",null,2,9,5,10]

{"sheet":"10","index":28,"n_rows":15,"n_cols":11,"rows_kept":15,"hidden":true,"merged":[[0,2,0,10],[1,2,1,10],[2,3,2,4],[2,5,2,6],[2,7,2,8],[2,9,2,10],[4,1,7,1],[8,1,11,1],[12,1,15,1]]}
[null,null,{"$f":"Entries!$A$1","v":"2018 District 5 - Mixed Pairs"}]
[null,null,"DRAW"]
[{"$nulls":5},"R O U N D  1",null,"R O U N D  2",null,"R O U N D  3"]
[null,"Section","Team No.","Lead","Skip","Rink","Versus","Rink","Versus","Rink","Versus"]
[null,1,1,{"$f":"Entries!$Q$5","v":0},{"$f":"Entries!$R$5","v":0},2,2,4,3,6,4]
[null,null,2,{"$f":"Entries!$Q$6","v":0},{"$f":"Entries!$R$6","v":0},2,1,5,4,3,3]
[null,null,3,{"$f":"Entries!$Q$7","v":0},{"$f":"Entries!$R$7","v":0},3,4,4,1,3,2]
[null,null,4,{"$f":"Entries!$Q$8","v":0},{"$f":"Entries!$R$8","v":0},3,3,5,2,6,1]
[null,2,5,{"$f":"Entries!$Q$9","v":0},{"$f":"Entries!$R$9","v":0},4,6,6,7,"Bye"]
[null,null,6,{"$f":"Entries!$Q$10","v":0},{"$f":"Entries!$R$10","v":0},4,5,"Bye",null,5,7]
[null,null,7,{"$f":"Entries!$Q$11","v":0},{"$f":"Entries!$R$11","v":0},"Bye",null,6,5,5,6]
[]
[null,3,8,{"$f":"Entries!$Q$12","v":0},{"$f":"Entries!$R$12","v":0},5,9,3,10,"Bye"]
[null,null,9,{"$f":"Entries!$Q$13","v":0},{"$f":"Entries!$R$13","v":0},5,8,"Bye",null,2,10]
[null,null,10,{"$f":"Entries!$Q$14","v":0},{"$f":"Entries!$R$14","v":0},"Bye",null,3,8,2,9]

{"sheet":"Finals 16 13","index":29,"n_rows":30,"n_cols":43,"rows_kept":30,"hidden":true,"merged":[[0,2,0,42],[1,2,2,42],[3,2,4,2],[3,3,4,3],[3,4,4,4],[3,5,4,5],[3,6,4,6],[3,8,4,8],[3,9,4,9],[3,11,4,11],[3,12,4,12],[3,14,4,14],[3,15,4,15],[3,17,4,17],[3,18,4,18],[3,19,4,19],[3,20,4,20],[3,21,4,21],[5,2,6,2],[5,5,6,5],[7,2,7,42],[8,2,9,2],[8,3,9,3],[8,4,9,4],[8,5,9,5],[8,6,9,6],[8,8,9,8],[8,9,9,9],[8,11,9,11],[8,12,9,12],[8,14,9,14],[8,15,9,15],[8,17,9,17],[8,18,9,18],[8,19,9,19],[8,20,9,20],[8,21,9,21],[8,23,9,23],[8,24,9,24],[8,25,9,25],[8,26,9,26],[8,27,9,27],[8,29,9,29],[8,30,9,30],[8,32,9,32],[8,33,9,33],[8,35,9,35],[8,36,9,36],[8,38,9,38],[8,39,9,39],[8,40,9,40],[8,41,9,41],[8,42,9,42],[10,2,11,2],[10,5,11,5],[13,2,14,2],[13,5,14,5],[16,2,17,2],[16,5,17,5],[16,23,17,23],[16,26,17,26],[18,2,18,42],[19,2,20,2],[19,5,20,5],[19,23,20,23],[19,26,20,26],[22,2,23,2],[22,5,23,5],[22,23,23,23],[22,26,23,26],[24,2,24,42],[25,2,26,2],[25,5,26,5],[25,23,26,23],[25,26,26,26],[27,2,27,42],[28,2,29,2],[28,5,29,5]]}
[null,null,"H E A D I N G  H E R E "]
[null,null,"R O U N D  1"]
[]
[null,null,"Sections","Team   #","Skips","Rink #","1st     Set",null,null,"2nd     Set",null,null,"Tie Break",null,null,"Set Points",null,null,"Game Points",null,"Total Points","RANK"]
[{"$nulls":7},"Set Points",null,null,"Set Points",null,null,"Set Points",null,null,"S+TBPts"]
[null,null,1,1,"Sec 8",null,null,{"$f":"IF(G6+G7>0,(IF(G6>G7,1,(IF(G6=G7,0.5,0)))),0)","v":0},{"$f":"(U6*1000)+O6","v":0},null,{"$f":"IF(J6+J7>0,(IF(J6>J7,1,(IF(J6=J7,0.5,0)))),0)","v":0},{"$f":"LARGE(I6:I7,1)","v":0},null,{"$f":"IF(M6+M7>0,(IF(M6>M7,1,(IF(M6=M7,0.5,0)))),0)","v":0},{"$f":"G6+J6+M6-G7-J7-M7","v":0},{"$f":"H6+K6","v":0},{"$f":"IF(P6>2,P6,H6+K6+N6)","v":0},null,{"$f":"IF(Q6+Q7>=1.5,(IF(Q6>Q7,3,0)),0)","v":0},null,{"$f":"IF((S6+S7)=3,(P6+S6),0)","v":0},{"$f":"IF(U6+U7=0,\"\",IF(I6=$L$6,\"1st\",\"\"))","v":""}]
[{"$nulls":3},2,"Sec 9",null,null,{"$f":"IF(G6+G7>0,(IF(G6<G7,1,(IF(G6=G7,0.5,0)))),0)","v":0},{"$f":"(U7*1000)+O7","v":0},null,{"$f":"IF(J6+J7>0,(IF(J6<J7,1,(IF(J6=J7,0.5,0)))),0)","v":0},null,null,{"$f":"IF(M6+M7>0,(IF(M6<M7,1,(IF(M6=M7,0.5,0)))),0)","v":0},{"$f":"G7+J7+M7-G6-J6-M6","v":0},{"$f":"+H7+K7","v":0},{"$f":"IF(P7>2,P7,H7+K7+N7)","v":0},null,{"$f":"IF(Q6+Q7>=1.5,(IF(Q6<Q7,3,0)),0)","v":0},null,{"$f":"IF((S6+S7)=3,(P7+S7),0)","v":0},{"$f":"IF(U7+U8=0,\"\",IF(I7=$L$6,\"1st\",\"\"))","v":""}]
[null,null,"Q U A R T E R  F I N A L"]
[null,null,"Sections","Team   #","Skips","Rink #","1st     Set",null,null,"2nd     Set",null,null,"Tie Break",null,null,"Set Points",null,null,"Game Points",null,"Total Points","RANK",null,"Sections","Team   #","Skips","Rink #","1st     Set",null,null,"2nd     Set",null,null,"Tie Break",null,null,"Set Points",null,null,"Game Points",null,"Total Points","RANK"]
[{"$nulls":7},"Set Points",null,null,"Set Points",null,null,"Set Points",null,null,"S+TBPts",{"$nulls":11},"Set Points",null,null,"Set Points",null,null,"Set Points",null,null,"S+TBPts"]
[null,null,1,3,"Sec 5",null,null,{"$f":"IF(G11+G12>0,(IF(G11>G12,1,(IF(G11=G12,0.5,0)))),0)","v":0},{"$f":"(U11*1000)+O11","v":0},null,{"$f":"IF(J11+J12>0,(IF(J11>J12,1,(IF(J11=J12,0.5,0)))),0)","v":0},{"$f":"LARGE(I11:I12,1)","v":0},null,{"$f":"IF(M11+M12>0,(IF(M11>M12,1,(IF(M11=M12,0.5,0)))),0)","v":0},{"$f":"G11+J11+M11-G12-J12-M12","v":0},{"$f":"+H11+K11","v":0},{"$f":"IF(P11>2,P11,H11+K11+N11)","v":0},null,{"$f":"IF(Q11+Q12>=1.5,(IF(Q11>Q12,3,0)),0)","v":0},null,{"$f":"IF((S11+S12)=3,(P11+S11),0)","v":0},{"$f":"IF(U11+U12=0,\"\",IF(I11=$L$11,\"1st\",\"\"))","v":""}]
[{"$nulls":3},4,"Sec 4",null,null,{"$f":"IF(G11+G12>0,(IF(G11<G12,1,(IF(G11=G12,0.5,0)))),0)","v":0},{"$f":"(U12*1000)+O12","v":0},null,{"$f":"IF(J11+J12>0,(IF(J11<J12,1,(IF(J11=J12,0.5,0)))),0)","v":0},null,null,{"$f":"IF(M11+M12>0,(IF(M11<M12,1,(IF(M11=M12,0.5,0)))),0)","v":0},{"$f":"G12+J12+M12-G11-J11-M11","v":0},{"$f":"+H12+K12","v":0},{"$f":"IF(P12>2,P12,H12+K12+N12)","v":0},null,{"$f":"IF(Q11+Q12>=1.5,(IF(Q11<Q12,3,0)),0)","v":0},null,{"$f":"IF((S11+S12)=3,(P12+S12),0)","v":0},{"$f":"IF(U12+U13=0,\"\",IF(I12=$L$11,\"1st\",\"\"))","v":""}]
[]
[null,null,3,5,"Sec 3",null,null,{"$f":"IF(G14+G15>0,(IF(G14>G15,1,(IF(G14=G15,0.5,0)))),0)","v":0},{"$f":"(U14*1000)+O14","v":0},null,{"$f":"IF(J14+J15>0,(IF(J14>J15,1,(IF(J14=J15,0.5,0)))),0)","v":0},{"$f":"LARGE(I14:I15,1)","v":0},null,{"$f":"IF(M14+M15>0,(IF(M14>M15,1,(IF(M14=M15,0.5,0)))),0)","v":0},{"$f":"G14+J14+M14-G15-J15-M15","v":0},{"$f":"+H14+K14","v":0},{"$f":"IF(P14>2,P14,H14+K14+N14)","v":0},null,{"$f":"IF(Q14+Q15>=1.5,(IF(Q14>Q15,3,0)),0)","v":0},null,{"$f":"IF((S14+S15)=3,(P14+S14),0)","v":0},{"$f":"IF(U14+U15=0,\"\",IF(I14=$L$14,\"1st\",\"\"))","v":""}]
[{"$nulls":3},6,"Sec 2",null,null,{"$f":"IF(G14+G15>0,(IF(G14<G15,1,(IF(G14=G15,0.5,0)))),0)","v":0},{"$f":"(U15*1000)+O15","v":0},null,{"$f":"IF(J14+J15>0,(IF(J14<J15,1,(IF(J14=J15,0.5,0)))),0)","v":0},null,null,{"$f":"IF(M14+M15>0,(IF(M14<M15,1,(IF(M14=M15,0.5,0)))),0)","v":0},{"$f":"G15+J15+M15-G14-J14-M14","v":0},{"$f":"+H15+K15","v":0},{"$f":"IF(P15>2,P15,H15+K15+N15)","v":0},null,{"$f":"IF(Q14+Q15>=1.5,(IF(Q14<Q15,,0)),0)","v":0},null,{"$f":"IF((S14+S15)=3,(P15+S15),0)","v":0},{"$f":"IF(U15+U16=0,\"\",IF(I15=$L$14,\"1st\",\"\"))","v":""}]
[]
[null,null,7,7,".",null,null,{"$f":"IF(G17+G18>0,(IF(G17>G18,1,(IF(G17=G18,0.5,0)))),0)","v":0},{"$f":"(U17*1000)+O17","v":0},null,{"$f":"IF(J17+J18>0,(IF(J17>J18,1,(IF(J17=J18,0.5,0)))),0)","v":0},{"$f":"LARGE(I17:I18,1)","v":0},null,{"$f":"IF(M17+M18>0,(IF(M17>M18,1,(IF(M17=M18,0.5,0)))),0)","v":0},{"$f":"G17+J17+M17-G18-J18-M18","v":0},{"$f":"+H17+K17","v":0},{"$f":"IF(P17>2,P17,H17+K17+N17)","v":0},null,{"$f":"IF(Q17+Q18>=1.5,(IF(Q17>Q18,3,0)),0)","v":0},null,{"$f":"IF((S17+S18)=3,(P17+S17),0)","v":0},{"$f":"IF(U17+U18=0,\"\",IF(I17=$L$17,\"1st\",\"\"))","v":""},null,8,null,".",null,null,{"$f":"IF(AB17+AB18>0,(IF(AB17>AB18,1,(IF(AB17=AB18,0.5,0)))),0)","v":0},{"$f":"(AP17*1000)+AJ17","v":0},null,{"$f":"IF(AE17+AE18>0,(IF(AE17>AE18,1,(IF(AE17=AE18,0.5,0)))),0)","v":0},{"$f":"LARGE(AD17:AD18,1)","v":0},null,{"$f":"IF(AH17+AH18>0,(IF(AH17>AH18,1,(IF(AH17=AH18,0.5,0)))),0)","v":0},{"$f":"AB17+AE17+AH17-AB18-AE18-AH18","v":0},{"$f":"+AC17+AF17","v":0},{"$f":"IF(AK17>2,AK17,AC17+AF17+AI17)","v":0},null,{"$f":"IF(AL17+AL18>=1.5,(IF(AL17>AL18,3,0)),0)","v":0},null,{"$f":"IF((AN17+AN18)=3,(AK17+AN17),0)","v":0},{"$f":"IF(AP17+AP18=0,\"\",IF(AD17=$AG$17,\"1st\",\"\"))","v":""}]
[{"$nulls":3},8,".",null,null,{"$f":"IF(G17+G18>0,(IF(G17<G18,1,(IF(G17=G18,0.5,0)))),0)","v":0},{"$f":"(U18*1000)+O18","v":0},null,{"$f":"IF(J17+J18>0,(IF(J17<J18,1,(IF(J17=J18,0.5,0)))),0)","v":0},null,null,{"$f":"IF(M17+M18>0,(IF(M17<M18,1,(IF(M17=M18,0.5,0)))),0)","v":0},{"$f":"G18+J18+M18-G17-J17-M17","v":0},{"$f":"+H18+K18","v":0},{"$f":"IF(P18>2,P18,H18+K18+N18)","v":0},null,{"$f":"IF(Q17+Q18>=1.5,(IF(Q17<Q18,3,0)),0)","v":0},null,{"$f":"IF((S17+S18)=3,(P18+S18),0)","v":0},{"$f":"IF(U18+U19=0,\"\",IF(I18=$L$17,\"1st\",\"\"))","v":""},{"$nulls":3},".",null,null,{"$f":"IF(AB17+AB18>0,(IF(AB17<AB18,1,(IF(AB17=AB18,0.5,0)))),0)","v":0},{"$f":"(AP18*1000)+AJ18","v":0},null,{"$f":"IF(AE17+AE18>0,(IF(AE17<AE18,1,(IF(AE17=AE18,0.5,0)))),0)","v":0},null,null,{"$f":"IF(AH17+AH18>0,(IF(AH17<AH18,1,(IF(AH17=AH18,0.5,0)))),0)","v":0},{"$f":"AB18+AE18+AH18-AB17-AE17-AH17","v":0},{"$f":"+AC18+AF18","v":0},{"$f":"IF(AK18>2,AK18,AC18+AF18+AI18)","v":0},null,{"$f":"IF(AL17+AL18>=1.5,(IF(AL17<AL18,3,0)),0)","v":0},null,{"$f":"IF((AN17+AN18)=3,(AK18+AN18),0)","v":0},{"$f":"IF(AP18+AP19=0,\"\",IF(AD18=$AG$17,\"1st\",\"\"))","v":""}]
[null,null,"S E M I  F I N A L "]
[null,null,1,9,"Sec 4",null,null,{"$f":"IF(G20+G21>0,(IF(G20>G21,1,(IF(G20=G21,0.5,0)))),0)","v":0},{"$f":"(U20*1000)+O20","v":0},null,{"$f":"IF(J20+J21>0,(IF(J20>J21,1,(IF(J20=J21,0.5,0)))),0)","v":0},{"$f":"LARGE(I20:I21,1)","v":0},null,{"$f":"IF(M20+M21>0,(IF(M20>M21,1,(IF(M20=M21,0.5,0)))),0)","v":0},{"$f":"G20+J20+M20-G21-J21-M21","v":0},{"$f":"+H20+K20","v":0},{"$f":"IF(P20>2,P20,H20+K20+N20)","v":0},null,{"$f":"IF(Q20+Q21>=1.5,(IF(Q20>Q21,3,0)),0)","v":0},null,{"$f":"IF((S20+S21)=3,(P20+S20),0)","v":0},{"$f":"IF(U20+U21=0,\"\",IF(I20=$L$20,\"1st\",\"\"))","v":""},null,2,null,"Sec 2",null,null,{"$f":"IF(AB20+AB21>0,(IF(AB20>AB21,1,(IF(AB20=AB21,0.5,0)))),0)","v":0},{"$f":"(AP20*1000)+AJ20","v":0},null,{"$f":"IF(AE20+AE21>0,(IF(AE20>AE21,1,(IF(AE20=AE21,0.5,0)))),0)","v":0},{"$f":"LARGE(AD20:AD21,1)","v":0},null,{"$f":"IF(AH20+AH21>0,(IF(AH20>AH21,1,(IF(AH20=AH21,0.5,0)))),0)","v":0},{"$f":"AB20+AE20+AH20-AB21-AE21-AH21","v":0},{"$f":"+AC20+AF20","v":0},{"$f":"IF(AK20>2,AK20,AC20+AF20+AI20)","v":0},null,{"$f":"IF(AL20+AL21>=1.5,(IF(AL20>AL21,3,0)),0)","v":0},null,{"$f":"IF((AN20+AN21)=3,(AK20+AN20),0)","v":0},{"$f":"IF(AP20+AP21=0,\"\",IF(AD20=$AG$20,\"1st\",\"\"))","v":""}]
[{"$nulls":3},10,"Sec 3",null,null,{"$f":"IF(G20+G21>0,(IF(G20<G21,1,(IF(G20=G21,0.5,0)))),0)","v":0},{"$f":"(U21*1000)+O21","v":0},null,{"$f":"IF(J20+J21>0,(IF(J20<J21,1,(IF(J20=J21,0.5,0)))),0)","v":0},null,null,{"$f":"IF(M20+M21>0,(IF(M20<M21,1,(IF(M20=M21,0.5,0)))),0)","v":0},{"$f":"G21+J21+M21-G20-J20-M20","v":0},{"$f":"+H21+K21","v":0},{"$f":"IF(P21>2,P21,H21+K21+N21)","v":0},null,{"$f":"IF(Q20+Q21>=1.5,(IF(Q20<Q21,3,0)),0)","v":0},null,{"$f":"IF((S20+S21)=3,(P21+S21),0)","v":0},{"$f":"IF(U21+U22=0,\"\",IF(I21=$L$20,\"1st\",\"\"))","v":""},{"$nulls":3},"Sec 1",null,null,{"$f":"IF(AB20+AB21>0,(IF(AB20<AB21,1,(IF(AB20=AB21,0.5,0)))),0)","v":0},{"$f":"(AP21*1000)+AJ21","v":0},null,{"$f":"IF(AE20+AE21>0,(IF(AE20<AE21,1,(IF(AE20=AE21,0.5,0)))),0)","v":0},null,null,{"$f":"IF(AH20+AH21>0,(IF(AH20<AH21,1,(IF(AH20=AH21,0.5,0)))),0)","v":0},{"$f":"AB21+AE21+AH21-AB20-AE20-AH20","v":0},{"$f":"+AC21+AF21","v":0},{"$f":"IF(AK21>2,AK21,AC21+AF21+AI21)","v":0},null,{"$f":"IF(AL20+AL21>=1.5,(IF(AL20<AL21,3,0)),0)","v":0},null,{"$f":"IF((AN20+AN21)=3,(AK21+AN21),0)","v":0},{"$f":"IF(AP21+AP22=0,\"\",IF(AD21=$AG$20,\"1st\",\"\"))","v":""}]
[]
[null,null,3,11,".",null,null,{"$f":"IF(G23+G24>0,(IF(G23>G24,1,(IF(G23=G24,0.5,0)))),0)","v":0},{"$f":"(U23*1000)+O23","v":0},null,{"$f":"IF(J23+J24>0,(IF(J23>J24,1,(IF(J23=J24,0.5,0)))),0)","v":0},{"$f":"LARGE(I23:I24,1)","v":0},null,{"$f":"IF(M23+M24>0,(IF(M23>M24,1,(IF(M23=M24,0.5,0)))),0)","v":0},{"$f":"G23+J23+M23-G24-J24-M24","v":0},{"$f":"+H23+K23","v":0},{"$f":"IF(P23>2,P23,H23+K23+N23)","v":0},null,{"$f":"IF(Q23+Q24>=1.5,(IF(Q23>Q24,3,0)),0)","v":0},null,{"$f":"IF((S23+S24)=3,(P23+S23),0)","v":0},{"$f":"IF(U23+U24=0,\"\",IF(I23=$L$23,\"1st\",\"\"))","v":""},null,4,null,".",null,null,{"$f":"IF(AB23+AB24>0,(IF(AB23>AB24,1,(IF(AB23=AB24,0.5,0)))),0)","v":0},{"$f":"(AP23*1000)+AJ23","v":0},null,{"$f":"IF(AE23+AE24>0,(IF(AE23>AE24,1,(IF(AE23=AE24,0.5,0)))),0)","v":0},{"$f":"LARGE(AD23:AD24,1)","v":0},null,{"$f":"IF(AH23+AH24>0,(IF(AH23>AH24,1,(IF(AH23=AH24,0.5,0)))),0)","v":0},{"$f":"AB23+AE23+AH23-AB24-AE24-AH24","v":0},{"$f":"+AC23+AF23","v":0},{"$f":"IF(AK23>2,AK23,AC23+AF23+AI23)","v":0},null,{"$f":"IF(AL23+AL24>=1.5,(IF(AL23>AL24,3,0)),0)","v":0},null,{"$f":"IF((AN23+AN24)=3,(AK23+AN23),0)","v":0},{"$f":"IF(AP23+AP24=0,\"\",IF(AD23=$AG$23,\"1st\",\"\"))","v":""}]
[{"$nulls":3},12,".",null,null,{"$f":"IF(G23+G24>0,(IF(G23<G24,1,(IF(G23=G24,0.5,0)))),0)","v":0},{"$f":"(U24*1000)+O24","v":0},null,{"$f":"IF(J23+J24>0,(IF(J23<J24,1,(IF(J23=J24,0.5,0)))),0)","v":0},null,null,{"$f":"IF(M23+M24>0,(IF(M23<M24,1,(IF(M23=M24,0.5,0)))),0)","v":0},{"$f":"G24+J24+M24-G23-J23-M23","v":0},{"$f":"+H24+K24","v":0},{"$f":"IF(P24>2,P24,H24+K24+N24)","v":0},null,{"$f":"IF(Q23+Q24>=1.5,(IF(Q23<Q24,3,0)),0)","v":0},null,{"$f":"IF((S23+S24)=3,(P24+S24),0)","v":0},{"$f":"IF(U24+U25=0,\"\",IF(I24=$L$23,\"1st\",\"\"))","v":""},{"$nulls":3},".",null,null,{"$f":"IF(AB23+AB24>0,(IF(AB23<AB24,1,(IF(AB23=AB24,0.5,0)))),0)","v":0},{"$f":"(AP24*1000)+AJ24","v":0},null,{"$f":"IF(AE23+AE24>0,(IF(AE23<AE24,1,(IF(AE23=AE24,0.5,0)))),0)","v":0},null,null,{"$f":"IF(AH23+AH24>0,(IF(AH23<AH24,1,(IF(AH23=AH24,0.5,0)))),0)","v":0},{"$f":"AB24+AE24+AH24-AB23-AE23-AH23","v":0},{"$f":"+AC24+AF24","v":0},{"$f":"IF(AK24>2,AK24,AC24+AF24+AI24)","v":0},null,{"$f":"IF(AL23+AL24>=1.5,(IF(AL23<AL24,3,0)),0)","v":0},null,{"$f":"IF((AN23+AN24)=3,(AK24+AN24),0)","v":0},{"$f":"IF(AP24+AP25=0,\"\",IF(AD24=$AG$23,\"1st\",\"\"))","v":""}]
[null,null,"S E M I  F I N A L "]
[null,null,1,13,".",null,null,{"$f":"IF(G26+G27>0,(IF(G26>G27,1,(IF(G26=G27,0.5,0)))),0)","v":0},{"$f":"(U26*1000)+O26","v":0},null,{"$f":"IF(J26+J27>0,(IF(J26>J27,1,(IF(J26=J27,0.5,0)))),0)","v":0},{"$f":"LARGE(I26:I27,1)","v":0},null,{"$f":"IF(M26+M27>0,(IF(M26>M27,1,(IF(M26=M27,0.5,0)))),0)","v":0},{"$f":"G26+J26+M26-G27-J27-M27","v":0},{"$f":"+H26+K26","v":0},{"$f":"IF(P26>2,P26,H26+K26+N26)","v":0},null,{"$f":"IF(Q26+Q27>=1.5,(IF(Q26>Q27,3,0)),0)","v":0},null,{"$f":"IF((S26+S27)=3,(P26+S26),0)","v":0},{"$f":"IF(U26+U27=0,\"\",IF(I26=$L$26,\"1st\",\"\"))","v":""},null,2,null,".",null,null,{"$f":"IF(AB26+AB27>0,(IF(AB26>AB27,1,(IF(AB26=AB27,0.5,0)))),0)","v":0},{"$f":"(AP26*1000)+AJ26","v":0},null,{"$f":"IF(AE26+AE27>0,(IF(AE26>AE27,1,(IF(AE26=AE27,0.5,0)))),0)","v":0},{"$f":"LARGE(AD26:AD27,1)","v":0},null,{"$f":"IF(AH26+AH27>0,(IF(AH26>AH27,1,(IF(AH26=AH27,0.5,0)))),0)","v":0},{"$f":"AB26+AE26+AH26-AB27-AE27-AH27","v":0},{"$f":"+AC26+AF26","v":0},{"$f":"IF(AK26>2,AK26,AC26+AF26+AI26)","v":0},null,{"$f":"IF(AL26+AL27>=1.5,(IF(AL26>AL27,3,0)),0)","v":0},null,{"$f":"IF((AN26+AN27)=3,(AK26+AN26),0)","v":0},{"$f":"IF(AP26+AP27=0,\"\",IF(AD26=$AG$26,\"1st\",\"\"))","v":""}]
[{"$nulls":3},14,".",null,null,{"$f":"IF(G26+G27>0,(IF(G26<G27,1,(IF(G26=G27,0.5,0)))),0)","v":0},{"$f":"(U27*1000)+O27","v":0},null,{"$f":"IF(J26+J27>0,(IF(J26<J27,1,(IF(J26=J27,0.5,0)))),0)","v":0},null,null,{"$f":"IF(M26+M27>0,(IF(M26<M27,1,(IF(M26=M27,0.5,0)))),0)","v":0},{"$f":"G27+J27+M27-G26-J26-M26","v":0},{"$f":"+H27+K27","v":0},{"$f":"IF(P27>2,P27,H27+K27+N27)","v":0},null,{"$f":"IF(Q26+Q27>=1.5,(IF(Q26<Q27,3,0)),0)","v":0},null,{"$f":"IF((S26+S27)=3,(P27+S27),0)","v":0},{"$f":"IF(U27+U28=0,\"\",IF(I27=$L$26,\"1st\",\"\"))","v":""},{"$nulls":3},".",null,null,{"$f":"IF(AB26+AB27>0,(IF(AB26<AB27,1,(IF(AB26=AB27,0.5,0)))),0)","v":0},{"$f":"(AP27*1000)+AJ27","v":0},null,{"$f":"IF(AE26+AE27>0,(IF(AE26<AE27,1,(IF(AE26=AE27,0.5,0)))),0)","v":0},null,null,{"$f":"IF(AH26+AH27>0,(IF(AH26<AH27,1,(IF(AH26=AH27,0.5,0)))),0)","v":0},{"$f":"AB27+AE27+AH27-AB26-AE26-AH26","v":0},{"$f":"+AC27+AF27","v":0},{"$f":"IF(AK27>2,AK27,AC27+AF27+AI27)","v":0},null,{"$f":"IF(AL26+AL27>=1.5,(IF(AL26<AL27,3,0)),0)","v":0},null,{"$f":"IF((AN26+AN27)=3,(AK27+AN27),0)","v":0},{"$f":"IF(AP27+AP28=0,\"\",IF(AD27=$AG$26,\"1st\",\"\"))","v":""}]
[null,null,"F I N A L "]
[null,null,1,13,"S/F 1",null,null,{"$f":"IF(G29+G30>0,(IF(G29>G30,1,(IF(G29=G30,0.5,0)))),0)","v":0},{"$f":"(U29*1000)+O29","v":0},null,{"$f":"IF(J29+J30>0,(IF(J29>J30,1,(IF(J29=J30,0.5,0)))),0)","v":0},{"$f":"LARGE(I29:I30,1)","v":0},null,{"$f":"IF(M29+M30>0,(IF(M29>M30,1,(IF(M29=M30,0.5,0)))),0)","v":0},{"$f":"G29+J29+M29-G30-J30-M30","v":0},{"$f":"+H29+K29","v":0},{"$f":"IF(P29>2,P29,H29+K29+N29)","v":0},null,{"$f":"IF(Q29+Q30>=1.5,(IF(Q29>Q30,3,0)),0)","v":0},null,{"$f":"IF((S29+S30)=3,(P29+S29),0)","v":0},{"$f":"IF(U29+U30=0,\"\",IF(I29=$L$29,\"1st\",\"\"))","v":""}]
[{"$nulls":3},14,"S/F 2",null,null,{"$f":"IF(G29+G30>0,(IF(G29<G30,1,(IF(G29=G30,0.5,0)))),0)","v":0},{"$f":"(U30*1000)+O30","v":0},null,{"$f":"IF(J29+J30>0,(IF(J29<J30,1,(IF(J29=J30,0.5,0)))),0)","v":0},null,null,{"$f":"IF(M29+M30>0,(IF(M29<M30,1,(IF(M29=M30,0.5,0)))),0)","v":0},{"$f":"G30+J30+M30-G29-J29-M29","v":0},{"$f":"+H30+K30","v":0},{"$f":"IF(P30>2,P30,H30+K30+N30)","v":0},null,{"$f":"IF(Q29+Q30>=1.5,(IF(Q29<Q30,3,0)),0)","v":0},null,{"$f":"IF((S29+S30)=3,(P30+S30),0)","v":0},{"$f":"IF(U30+U31=0,\"\",IF(I30=$L$29,\"1st\",\"\"))","v":""}]

{"sheet":"Finals 12 10","index":30,"n_rows":30,"n_cols":43,"rows_kept":30,"hidden":true,"merged":[[0,2,0,42],[1,2,2,42],[3,2,4,2],[3,3,4,3],[3,4,4,4],[3,5,4,5],[3,6,4,6],[3,8,4,8],[3,9,4,9],[3,11,4,11],[3,12,4,12],[3,14,4,14],[3,15,4,15],[3,17,4,17],[3,18,4,18],[3,19,4,19],[3,20,4,20],[3,21,4,21],[5,2,6,2],[5,5,6,5],[7,2,7,42],[8,2,9,2],[8,3,9,3],[8,4,9,4],[8,5,9,5],[8,6,9,6],[8,8,9,8],[8,9,9,9],[8,11,9,11],[8,12,9,12],[8,14,9,14],[8,15,9,15],[8,17,9,17],[8,18,9,18],[8,19,9,19],[8,20,9,20],[8,21,9,21],[8,23,9,23],[8,24,9,24],[8,25,9,25],[8,26,9,26],[8,27,9,27],[8,29,9,29],[8,30,9,30],[8,32,9,32],[8,33,9,33],[8,35,9,35],[8,36,9,36],[8,38,9,38],[8,39,9,39],[8,40,9,40],[8,41,9,41],[8,42,9,42],[10,2,11,2],[10,5,11,5],[13,2,14,2],[13,5,14,5],[16,2,17,2],[16,5,17,5],[16,23,17,23],[16,26,17,26],[18,2,18,42],[19,2,20,2],[19,5,20,5],[19,23,20,23],[19,26,20,26],[22,2,23,2],[22,5,23,5],[22,23,23,23],[22,26,23,26],[24,2,24,42],[25,2,26,2],[25,5,26,5],[25,23,26,23],[25,26,26,26],[27,2,27,42],[28,2,29,2],[28,5,29,5]]}
[null,null,"H E A D I N G  H E R E "]
[null,null,"R O U N D  1"]
[]
[null,null,"Sections","Team   #","Skips","Rink #","1st     Set",null,null,"2nd     Set",null,null,"Tie Break",null,null,"Set Points",null,null,"Game Points",null,"Total Points","RANK"]
[{"$nulls":7},"Set Points",null,null,"Set Points",null,null,"Set Points",null,null,"S+TBPts"]
[null,null,1,1,"Sec 8",null,null,{"$f":"IF(G6+G7>0,(IF(G6>G7,1,(IF(G6=G7,0.5,0)))),0)","v":0},{"$f":"(U6*1000)+O6","v":0},null,{"$f":"IF(J6+J7>0,(IF(J6>J7,1,(IF(J6=J7,0.5,0)))),0)","v":0},{"$f":"LARGE(I6:I7,1)","v":0},null,{"$f":"IF(M6+M7>0,(IF(M6>M7,1,(IF(M6=M7,0.5,0)))),0)","v":0},{"$f":"G6+J6+M6-G7-J7-M7","v":0},{"$f":"H6+K6","v":0},{"$f":"IF(P6>2,P6,H6+K6+N6)","v":0},null,{"$f":"IF(Q6+Q7>=1.5,(IF(Q6>Q7,3,0)),0)","v":0},null,{"$f":"IF((S6+S7)=3,(P6+S6),0)","v":0},{"$f":"IF(U6+U7=0,\"\",IF(I6=$L$6,\"1st\",\"\"))","v":""}]
[{"$nulls":3},2,"Sec 9",null,null,{"$f":"IF(G6+G7>0,(IF(G6<G7,1,(IF(G6=G7,0.5,0)))),0)","v":0},{"$f":"(U7*1000)+O7","v":0},null,{"$f":"IF(J6+J7>0,(IF(J6<J7,1,(IF(J6=J7,0.5,0)))),0)","v":0},null,null,{"$f":"IF(M6+M7>0,(IF(M6<M7,1,(IF(M6=M7,0.5,0)))),0)","v":0},{"$f":"G7+J7+M7-G6-J6-M6","v":0},{"$f":"+H7+K7","v":0},{"$f":"IF(P7>2,P7,H7+K7+N7)","v":0},null,{"$f":"IF(Q6+Q7>=1.5,(IF(Q6<Q7,3,0)),0)","v":0},null,{"$f":"IF((S6+S7)=3,(P7+S7),0)","v":0},{"$f":"IF(U7+U8=0,\"\",IF(I7=$L$6,\"1st\",\"\"))","v":""}]
[null,null,"Q U A R T E R  F I N A L"]
[null,null,"Sections","Team   #","Skips","Rink #","1st     Set",null,null,"2nd     Set",null,null,"Tie Break",null,null,"Set Points",null,null,"Game Points",null,"Total Points","RANK",null,"Sections","Team   #","Skips","Rink #","1st     Set",null,null,"2nd     Set",null,null,"Tie Break",null,null,"Set Points",null,null,"Game Points",null,"Total Points","RANK"]
[{"$nulls":7},"Set Points",null,null,"Set Points",null,null,"Set Points",null,null,"S+TBPts",{"$nulls":11},"Set Points",null,null,"Set Points",null,null,"Set Points",null,null,"S+TBPts"]
[null,null,1,3,"Sec 5",null,null,{"$f":"IF(G11+G12>0,(IF(G11>G12,1,(IF(G11=G12,0.5,0)))),0)","v":0},{"$f":"(U11*1000)+O11","v":0},null,{"$f":"IF(J11+J12>0,(IF(J11>J12,1,(IF(J11=J12,0.5,0)))),0)","v":0},{"$f":"LARGE(I11:I12,1)","v":0},null,{"$f":"IF(M11+M12>0,(IF(M11>M12,1,(IF(M11=M12,0.5,0)))),0)","v":0},{"$f":"G11+J11+M11-G12-J12-M12","v":0},{"$f":"+H11+K11","v":0},{"$f":"IF(P11>2,P11,H11+K11+N11)","v":0},null,{"$f":"IF(Q11+Q12>=1.5,(IF(Q11>Q12,3,0)),0)","v":0},null,{"$f":"IF((S11+S12)=3,(P11+S11),0)","v":0},{"$f":"IF(U11+U12=0,\"\",IF(I11=$L$11,\"1st\",\"\"))","v":""}]
[{"$nulls":3},4,"Sec 4",null,null,{"$f":"IF(G11+G12>0,(IF(G11<G12,1,(IF(G11=G12,0.5,0)))),0)","v":0},{"$f":"(U12*1000)+O12","v":0},null,{"$f":"IF(J11+J12>0,(IF(J11<J12,1,(IF(J11=J12,0.5,0)))),0)","v":0},null,null,{"$f":"IF(M11+M12>0,(IF(M11<M12,1,(IF(M11=M12,0.5,0)))),0)","v":0},{"$f":"G12+J12+M12-G11-J11-M11","v":0},{"$f":"+H12+K12","v":0},{"$f":"IF(P12>2,P12,H12+K12+N12)","v":0},null,{"$f":"IF(Q11+Q12>=1.5,(IF(Q11<Q12,3,0)),0)","v":0},null,{"$f":"IF((S11+S12)=3,(P12+S12),0)","v":0},{"$f":"IF(U12+U13=0,\"\",IF(I12=$L$11,\"1st\",\"\"))","v":""}]
[]
[null,null,3,5,"Sec 3",null,null,{"$f":"IF(G14+G15>0,(IF(G14>G15,1,(IF(G14=G15,0.5,0)))),0)","v":0},{"$f":"(U14*1000)+O14","v":0},null,{"$f":"IF(J14+J15>0,(IF(J14>J15,1,(IF(J14=J15,0.5,0)))),0)","v":0},{"$f":"LARGE(I14:I15,1)","v":0},null,{"$f":"IF(M14+M15>0,(IF(M14>M15,1,(IF(M14=M15,0.5,0)))),0)","v":0},{"$f":"G14+J14+M14-G15-J15-M15","v":0},{"$f":"+H14+K14","v":0},{"$f":"IF(P14>2,P14,H14+K14+N14)","v":0},null,{"$f":"IF(Q14+Q15>=1.5,(IF(Q14>Q15,3,0)),0)","v":0},null,{"$f":"IF((S14+S15)=3,(P14+S14),0)","v":0},{"$f":"IF(U14+U15=0,\"\",IF(I14=$L$14,\"1st\",\"\"))","v":""}]
[{"$nulls":3},6,"Sec 2",null,null,{"$f":"IF(G14+G15>0,(IF(G14<G15,1,(IF(G14=G15,0.5,0)))),0)","v":0},{"$f":"(U15*1000)+O15","v":0},null,{"$f":"IF(J14+J15>0,(IF(J14<J15,1,(IF(J14=J15,0.5,0)))),0)","v":0},null,null,{"$f":"IF(M14+M15>0,(IF(M14<M15,1,(IF(M14=M15,0.5,0)))),0)","v":0},{"$f":"G15+J15+M15-G14-J14-M14","v":0},{"$f":"+H15+K15","v":0},{"$f":"IF(P15>2,P15,H15+K15+N15)","v":0},null,{"$f":"IF(Q14+Q15>=1.5,(IF(Q14<Q15,,0)),0)","v":0},null,{"$f":"IF((S14+S15)=3,(P15+S15),0)","v":0},{"$f":"IF(U15+U16=0,\"\",IF(I15=$L$14,\"1st\",\"\"))","v":""}]
[]
[null,null,7,7,".",null,null,{"$f":"IF(G17+G18>0,(IF(G17>G18,1,(IF(G17=G18,0.5,0)))),0)","v":0},{"$f":"(U17*1000)+O17","v":0},null,{"$f":"IF(J17+J18>0,(IF(J17>J18,1,(IF(J17=J18,0.5,0)))),0)","v":0},{"$f":"LARGE(I17:I18,1)","v":0},null,{"$f":"IF(M17+M18>0,(IF(M17>M18,1,(IF(M17=M18,0.5,0)))),0)","v":0},{"$f":"G17+J17+M17-G18-J18-M18","v":0},{"$f":"+H17+K17","v":0},{"$f":"IF(P17>2,P17,H17+K17+N17)","v":0},null,{"$f":"IF(Q17+Q18>=1.5,(IF(Q17>Q18,3,0)),0)","v":0},null,{"$f":"IF((S17+S18)=3,(P17+S17),0)","v":0},{"$f":"IF(U17+U18=0,\"\",IF(I17=$L$17,\"1st\",\"\"))","v":""},null,8,null,".",null,null,{"$f":"IF(AB17+AB18>0,(IF(AB17>AB18,1,(IF(AB17=AB18,0.5,0)))),0)","v":0},{"$f":"(AP17*1000)+AJ17","v":0},null,{"$f":"IF(AE17+AE18>0,(IF(AE17>AE18,1,(IF(AE17=AE18,0.5,0)))),0)","v":0},{"$f":"LARGE(AD17:AD18,1)","v":0},null,{"$f":"IF(AH17+AH18>0,(IF(AH17>AH18,1,(IF(AH17=AH18,0.5,0)))),0)","v":0},{"$f":"AB17+AE17+AH17-AB18-AE18-AH18","v":0},{"$f":"+AC17+AF17","v":0},{"$f":"IF(AK17>2,AK17,AC17+AF17+AI17)","v":0},null,{"$f":"IF(AL17+AL18>=1.5,(IF(AL17>AL18,3,0)),0)","v":0},null,{"$f":"IF((AN17+AN18)=3,(AK17+AN17),0)","v":0},{"$f":"IF(AP17+AP18=0,\"\",IF(AD17=$AG$17,\"1st\",\"\"))","v":""}]
[{"$nulls":3},8,".",null,null,{"$f":"IF(G17+G18>0,(IF(G17<G18,1,(IF(G17=G18,0.5,0)))),0)","v":0},{"$f":"(U18*1000)+O18","v":0},null,{"$f":"IF(J17+J18>0,(IF(J17<J18,1,(IF(J17=J18,0.5,0)))),0)","v":0},null,null,{"$f":"IF(M17+M18>0,(IF(M17<M18,1,(IF(M17=M18,0.5,0)))),0)","v":0},{"$f":"G18+J18+M18-G17-J17-M17","v":0},{"$f":"+H18+K18","v":0},{"$f":"IF(P18>2,P18,H18+K18+N18)","v":0},null,{"$f":"IF(Q17+Q18>=1.5,(IF(Q17<Q18,3,0)),0)","v":0},null,{"$f":"IF((S17+S18)=3,(P18+S18),0)","v":0},{"$f":"IF(U18+U19=0,\"\",IF(I18=$L$17,\"1st\",\"\"))","v":""},{"$nulls":3},".",null,null,{"$f":"IF(AB17+AB18>0,(IF(AB17<AB18,1,(IF(AB17=AB18,0.5,0)))),0)","v":0},{"$f":"(AP18*1000)+AJ18","v":0},null,{"$f":"IF(AE17+AE18>0,(IF(AE17<AE18,1,(IF(AE17=AE18,0.5,0)))),0)","v":0},null,null,{"$f":"IF(AH17+AH18>0,(IF(AH17<AH18,1,(IF(AH17=AH18,0.5,0)))),0)","v":0},{"$f":"AB18+AE18+AH18-AB17-AE17-AH17","v":0},{"$f":"+AC18+AF18","v":0},{"$f":"IF(AK18>2,AK18,AC18+AF18+AI18)","v":0},null,{"$f":"IF(AL17+AL18>=1.5,(IF(AL17<AL18,3,0)),0)","v":0},null,{"$f":"IF((AN17+AN18)=3,(AK18+AN18),0)","v":0},{"$f":"IF(AP18+AP19=0,\"\",IF(AD18=$AG$17,\"1st\",\"\"))","v":""}]
[null,null,"S E M I  F I N A L "]
[null,null,1,9,"Sec 2",null,null,{"$f":"IF(G20+G21>0,(IF(G20>G21,1,(IF(G20=G21,0.5,0)))),0)","v":0},{"$f":"(U20*1000)+O20","v":0},null,{"$f":"IF(J20+J21>0,(IF(J20>J21,1,(IF(J20=J21,0.5,0)))),0)","v":0},{"$f":"LARGE(I20:I21,1)","v":0},null,{"$f":"IF(M20+M21>0,(IF(M20>M21,1,(IF(M20=M21,0.5,0)))),0)","v":0},{"$f":"G20+J20+M20-G21-J21-M21","v":0},{"$f":"+H20+K20","v":0},{"$f":"IF(P20>2,P20,H20+K20+N20)","v":0},null,{"$f":"IF(Q20+Q21>=1.5,(IF(Q20>Q21,3,0)),0)","v":0},null,{"$f":"IF((S20+S21)=3,(P20+S20),0)","v":0},{"$f":"IF(U20+U21=0,\"\",IF(I20=$L$20,\"1st\",\"\"))","v":""},null,2,null,"Sec 2",null,null,{"$f":"IF(AB20+AB21>0,(IF(AB20>AB21,1,(IF(AB20=AB21,0.5,0)))),0)","v":0},{"$f":"(AP20*1000)+AJ20","v":0},null,{"$f":"IF(AE20+AE21>0,(IF(AE20>AE21,1,(IF(AE20=AE21,0.5,0)))),0)","v":0},{"$f":"LARGE(AD20:AD21,1)","v":0},null,{"$f":"IF(AH20+AH21>0,(IF(AH20>AH21,1,(IF(AH20=AH21,0.5,0)))),0)","v":0},{"$f":"AB20+AE20+AH20-AB21-AE21-AH21","v":0},{"$nulls":6},{"$f":"IF(AP20+AP21=0,\"\",IF(AD20=$AG$20,\"1st\",\"\"))","v":""}]
[{"$nulls":3},10,"Sec 3",null,null,{"$f":"IF(G20+G21>0,(IF(G20<G21,1,(IF(G20=G21,0.5,0)))),0)","v":0},{"$f":"(U21*1000)+O21","v":0},null,{"$f":"IF(J20+J21>0,(IF(J20<J21,1,(IF(J20=J21,0.5,0)))),0)","v":0},null,null,{"$f":"IF(M20+M21>0,(IF(M20<M21,1,(IF(M20=M21,0.5,0)))),0)","v":0},{"$f":"G21+J21+M21-G20-J20-M20","v":0},{"$f":"+H21+K21","v":0},{"$f":"IF(P21>2,P21,H21+K21+N21)","v":0},null,{"$f":"IF(Q20+Q21>=1.5,(IF(Q20<Q21,3,0)),0)","v":0},null,{"$f":"IF((S20+S21)=3,(P21+S21),0)","v":0},{"$f":"IF(U21+U22=0,\"\",IF(I21=$L$20,\"1st\",\"\"))","v":""},{"$nulls":3},"Sec 1",null,null,{"$f":"IF(AB20+AB21>0,(IF(AB20<AB21,1,(IF(AB20=AB21,0.5,0)))),0)","v":0},{"$f":"(AP21*1000)+AJ21","v":0},null,{"$f":"IF(AE20+AE21>0,(IF(AE20<AE21,1,(IF(AE20=AE21,0.5,0)))),0)","v":0},null,null,{"$f":"IF(AH20+AH21>0,(IF(AH20<AH21,1,(IF(AH20=AH21,0.5,0)))),0)","v":0},{"$f":"AB21+AE21+AH21-AB20-AE20-AH20","v":0},{"$nulls":6},{"$f":"IF(AP21+AP22=0,\"\",IF(AD21=$AG$20,\"1st\",\"\"))","v":""}]
[]
[null,null,3,11,".",null,null,{"$f":"IF(G23+G24>0,(IF(G23>G24,1,(IF(G23=G24,0.5,0)))),0)","v":0},{"$f":"(U23*1000)+O23","v":0},null,{"$f":"IF(J23+J24>0,(IF(J23>J24,1,(IF(J23=J24,0.5,0)))),0)","v":0},{"$f":"LARGE(I23:I24,1)","v":0},null,{"$f":"IF(M23+M24>0,(IF(M23>M24,1,(IF(M23=M24,0.5,0)))),0)","v":0},{"$f":"G23+J23+M23-G24-J24-M24","v":0},{"$f":"+H23+K23","v":0},{"$f":"IF(P23>2,P23,H23+K23+N23)","v":0},null,{"$f":"IF(Q23+Q24>=1.5,(IF(Q23>Q24,3,0)),0)","v":0},null,{"$f":"IF((S23+S24)=3,(P23+S23),0)","v":0},{"$f":"IF(U23+U24=0,\"\",IF(I23=$L$23,\"1st\",\"\"))","v":""},null,4,null,".",null,null,{"$f":"IF(AB23+AB24>0,(IF(AB23>AB24,1,(IF(AB23=AB24,0.5,0)))),0)","v":0},{"$f":"(AP23*1000)+AJ23","v":0},null,{"$f":"IF(AE23+AE24>0,(IF(AE23>AE24,1,(IF(AE23=AE24,0.5,0)))),0)","v":0},{"$f":"LARGE(AD23:AD24,1)","v":0},null,{"$f":"IF(AH23+AH24>0,(IF(AH23>AH24,1,(IF(AH23=AH24,0.5,0)))),0)","v":0},{"$f":"AB23+AE23+AH23-AB24-AE24-AH24","v":0},{"$f":"+AC23+AF23","v":0},{"$f":"IF(AK23>2,AK23,AC23+AF23+AI23)","v":0},null,{"$f":"IF(AL23+AL24>=1.5,(IF(AL23>AL24,3,0)),0)","v":0},null,{"$f":"IF((AN23+AN24)=3,(AK23+AN23),0)","v":0},{"$f":"IF(AP23+AP24=0,\"\",IF(AD23=$AG$23,\"1st\",\"\"))","v":""}]
[{"$nulls":3},12,".",null,null,{"$f":"IF(G23+G24>0,(IF(G23<G24,1,(IF(G23=G24,0.5,0)))),0)","v":0},{"$f":"(U24*1000)+O24","v":0},null,{"$f":"IF(J23+J24>0,(IF(J23<J24,1,(IF(J23=J24,0.5,0)))),0)","v":0},null,null,{"$f":"IF(M23+M24>0,(IF(M23<M24,1,(IF(M23=M24,0.5,0)))),0)","v":0},{"$f":"G24+J24+M24-G23-J23-M23","v":0},{"$f":"+H24+K24","v":0},{"$f":"IF(P24>2,P24,H24+K24+N24)","v":0},null,{"$f":"IF(Q23+Q24>=1.5,(IF(Q23<Q24,3,0)),0)","v":0},null,{"$f":"IF((S23+S24)=3,(P24+S24),0)","v":0},{"$f":"IF(U24+U25=0,\"\",IF(I24=$L$23,\"1st\",\"\"))","v":""},{"$nulls":3},".",null,null,{"$f":"IF(AB23+AB24>0,(IF(AB23<AB24,1,(IF(AB23=AB24,0.5,0)))),0)","v":0},{"$f":"(AP24*1000)+AJ24","v":0},null,{"$f":"IF(AE23+AE24>0,(IF(AE23<AE24,1,(IF(AE23=AE24,0.5,0)))),0)","v":0},null,null,{"$f":"IF(AH23+AH24>0,(IF(AH23<AH24,1,(IF(AH23=AH24,0.5,0)))),0)","v":0},{"$f":"AB24+AE24+AH24-AB23-AE23-AH23","v":0},{"$f":"+AC24+AF24","v":0},{"$f":"IF(AK24>2,AK24,AC24+AF24+AI24)","v":0},null,{"$f":"IF(AL23+AL24>=1.5,(IF(AL23<AL24,3,0)),0)","v":0},null,{"$f":"IF((AN23+AN24)=3,(AK24+AN24),0)","v":0},{"$f":"IF(AP24+AP25=0,\"\",IF(AD24=$AG$23,\"1st\",\"\"))","v":""}]
[null,null,"S E M I  F I N A L "]
[null,null,1,13,".",null,null,{"$f":"IF(G26+G27>0,(IF(G26>G27,1,(IF(G26=G27,0.5,0)))),0)","v":0},{"$f":"(U26*1000)+O26","v":0},null,{"$f":"IF(J26+J27>0,(IF(J26>J27,1,(IF(J26=J27,0.5,0)))),0)","v":0},{"$f":"LARGE(I26:I27,1)","v":0},null,{"$f":"IF(M26+M27>0,(IF(M26>M27,1,(IF(M26=M27,0.5,0)))),0)","v":0},{"$f":"G26+J26+M26-G27-J27-M27","v":0},{"$f":"+H26+K26","v":0},{"$f":"IF(P26>2,P26,H26+K26+N26)","v":0},null,{"$f":"IF(Q26+Q27>=1.5,(IF(Q26>Q27,3,0)),0)","v":0},null,{"$f":"IF((S26+S27)=3,(P26+S26),0)","v":0},{"$f":"IF(U26+U27=0,\"\",IF(I26=$L$26,\"1st\",\"\"))","v":""},null,2,null,".",null,null,{"$f":"IF(AB26+AB27>0,(IF(AB26>AB27,1,(IF(AB26=AB27,0.5,0)))),0)","v":0},{"$f":"(AP26*1000)+AJ26","v":0},null,{"$f":"IF(AE26+AE27>0,(IF(AE26>AE27,1,(IF(AE26=AE27,0.5,0)))),0)","v":0},{"$f":"LARGE(AD26:AD27,1)","v":0},null,{"$f":"IF(AH26+AH27>0,(IF(AH26>AH27,1,(IF(AH26=AH27,0.5,0)))),0)","v":0},{"$f":"AB26+AE26+AH26-AB27-AE27-AH27","v":0},{"$f":"+AC26+AF26","v":0},{"$f":"IF(AK26>2,AK26,AC26+AF26+AI26)","v":0},null,{"$f":"IF(AL26+AL27>=1.5,(IF(AL26>AL27,3,0)),0)","v":0},null,{"$f":"IF((AN26+AN27)=3,(AK26+AN26),0)","v":0},{"$f":"IF(AP26+AP27=0,\"\",IF(AD26=$AG$26,\"1st\",\"\"))","v":""}]
[{"$nulls":3},14,".",null,null,{"$f":"IF(G26+G27>0,(IF(G26<G27,1,(IF(G26=G27,0.5,0)))),0)","v":0},{"$f":"(U27*1000)+O27","v":0},null,{"$f":"IF(J26+J27>0,(IF(J26<J27,1,(IF(J26=J27,0.5,0)))),0)","v":0},null,null,{"$f":"IF(M26+M27>0,(IF(M26<M27,1,(IF(M26=M27,0.5,0)))),0)","v":0},{"$f":"G27+J27+M27-G26-J26-M26","v":0},{"$f":"+H27+K27","v":0},{"$f":"IF(P27>2,P27,H27+K27+N27)","v":0},null,{"$f":"IF(Q26+Q27>=1.5,(IF(Q26<Q27,3,0)),0)","v":0},null,{"$f":"IF((S26+S27)=3,(P27+S27),0)","v":0},{"$f":"IF(U27+U28=0,\"\",IF(I27=$L$26,\"1st\",\"\"))","v":""},{"$nulls":3},".",null,null,{"$f":"IF(AB26+AB27>0,(IF(AB26<AB27,1,(IF(AB26=AB27,0.5,0)))),0)","v":0},{"$f":"(AP27*1000)+AJ27","v":0},null,{"$f":"IF(AE26+AE27>0,(IF(AE26<AE27,1,(IF(AE26=AE27,0.5,0)))),0)","v":0},null,null,{"$f":"IF(AH26+AH27>0,(IF(AH26<AH27,1,(IF(AH26=AH27,0.5,0)))),0)","v":0},{"$f":"AB27+AE27+AH27-AB26-AE26-AH26","v":0},{"$f":"+AC27+AF27","v":0},{"$f":"IF(AK27>2,AK27,AC27+AF27+AI27)","v":0},null,{"$f":"IF(AL26+AL27>=1.5,(IF(AL26<AL27,3,0)),0)","v":0},null,{"$f":"IF((AN26+AN27)=3,(AK27+AN27),0)","v":0},{"$f":"IF(AP27+AP28=0,\"\",IF(AD27=$AG$26,\"1st\",\"\"))","v":""}]
[null,null,"F I N A L "]
[null,null,1,13,"S/F 1",null,null,{"$f":"IF(G29+G30>0,(IF(G29>G30,1,(IF(G29=G30,0.5,0)))),0)","v":0},{"$f":"(U29*1000)+O29","v":0},null,{"$f":"IF(J29+J30>0,(IF(J29>J30,1,(IF(J29=J30,0.5,0)))),0)","v":0},{"$f":"LARGE(I29:I30,1)","v":0},null,{"$f":"IF(M29+M30>0,(IF(M29>M30,1,(IF(M29=M30,0.5,0)))),0)","v":0},{"$f":"G29+J29+M29-G30-J30-M30","v":0},{"$f":"+H29+K29","v":0},{"$f":"IF(P29>2,P29,H29+K29+N29)","v":0},null,{"$f":"IF(Q29+Q30>=1.5,(IF(Q29>Q30,3,0)),0)","v":0},null,{"$f":"IF((S29+S30)=3,(P29+S29),0)","v":0},{"$f":"IF(U29+U30=0,\"\",IF(I29=$L$29,\"1st\",\"\"))","v":""}]
[{"$nulls":3},14,"Sec 1",null,null,{"$f":"IF(G29+G30>0,(IF(G29<G30,1,(IF(G29=G30,0.5,0)))),0)","v":0},{"$f":"(U30*1000)+O30","v":0},null,{"$f":"IF(J29+J30>0,(IF(J29<J30,1,(IF(J29=J30,0.5,0)))),0)","v":0},null,null,{"$f":"IF(M29+M30>0,(IF(M29<M30,1,(IF(M29=M30,0.5,0)))),0)","v":0},{"$f":"G30+J30+M30-G29-J29-M29","v":0},{"$f":"+H30+K30","v":0},{"$f":"IF(P30>2,P30,H30+K30+N30)","v":0},null,{"$f":"IF(Q29+Q30>=1.5,(IF(Q29<Q30,3,0)),0)","v":0},null,{"$f":"IF((S29+S30)=3,(P30+S30),0)","v":0},{"$f":"IF(U30+U31=0,\"\",IF(I30=$L$29,\"1st\",\"\"))","v":""}]

{"sheet":"Fins 12 10 cds","index":31,"n_rows":874,"n_cols":23,"rows_kept":874,"hidden":true,"merged":[[0,0,0,23],[1,0,1,23],[2,2,2,6],[2,8,2,23],[3,2,3,6],[3,8,3,23],[5,0,5,10],[5,11,5,12],[5,13,5,23],[7,0,7,10],[7,11,7,12],[7,13,7,23],[9,2,9,10],[9,13,9,21],[10,2,10,5],[10,6,10,10],[10,13,10,16],[10,17,10,21],[11,0,11,1],[11,2,11,3],[11,4,11,5],[11,6,11,7],[11,8,11,10],[11,13,11,14],[11,15,11,16],[11,17,11,18],[11,19,11,21],[12,0,12,1],[12,2,12,3],[12,4,12,5],[12,6,12,7],[12,8,12,10],[12,13,12,14],[12,15,12,16],[12,17,12,18],[12,19,12,21],[13,0,13,1],[13,2,13,3],[13,4,13,5],[13,6,13,7],[13,8,13,10],[13,13,13,14],[13,15,13,16],[13,17,13,18],[13,19,13,21],[14,0,14,1],[14,2,14,3],[14,4,14,5],[14,6,14,7],[14,8,14,10],[14,13,14,14],[14,15,14,16],[14,17,14,18],[14,19,14,21],[15,0,15,1],[15,2,15,3],[15,4,15,5],[15,6,15,7],[15,8,15,10],[15,13,15,14],[15,15,15,16],[15,17,15,18],[15,19,15,21],[16,0,16,1],[16,2,16,3],[16,4,16,5],[16,6,16,7],[16,8,16,10],[16,11,16,12],[16,13,16,14],[16,15,16,16],[16,17,16,18],[16,19,16,21],[16,22,16,23],[17,0,17,2],[17,4,17,18],[17,19,17,23],[18,0,19,2],[18,4,18,5],[18,6,18,8],[18,15,18,17],[18,19,19,23],[19,4,19,5],[19,6,19,8],[20,3,20,6],[20,9,20,14],[20,17,20,21],[21,0,21,1],[21,3,22,6],[21,9,21,14],[21,15,21,16],[21,17,22,21],[22,0,22,1],[22,15,22,16],[23,0,23,23],[24,0,24,23],[25,2,25,6],[25,8,25,23],[26,2,26,6],[26,8,26,23],[28,0,28,10],[28,11,28,12],[28,13,28,23],[30,0,30,10],[30,11,30,12],[30,13,30,23],[32,2,32,10],[32,13,32,21],[33,2,33,5],[33,6,33,10],[33,13,33,16],[33,17,33,21],[34,0,34,1],[34,2,34,3],[34,4,34,5],[34,6,34,7],[34,8,34,10],[34,13,34,14],[34,15,34,16],[34,17,34,18],[34,19,34,21],[35,0,35,1],[35,2,35,3],[35,4,35,5],[35,6,35,7],[35,8,35,10],[35,13,35,14],[35,15,35,16],[35,17,35,18],[35,19,35,21],[36,0,36,1],[36,2,36,3],[36,4,36,5],[36,6,36,7],[36,8,36,10],[36,13,36,14],[36,15,36,16],[36,17,36,18],[36,19,36,21],[37,0,37,1],[37,2,37,3],[37,4,37,5],[37,6,37,7],[37,8,37,10],[37,13,37,14],[37,15,37,16],[37,17,37,18],[37,19,37,21],[38,0,38,1],[38,2,38,3],[38,4,38,5],[38,6,38,7],[38,8,38,10],[38,13,38,14],[38,15,38,16],[38,17,38,18],[38,19,38,21],[39,0,39,1],[39,2,39,3],[39,4,39,5],[39,6,39,7],[39,8,39,10],[39,11,39,12],[39,13,39,14],[39,15,39,16],[39,17,39,18],[39,19,39,21],[39,22,39,23],[40,0,40,2],[40,4,40,18],[40,19,40,23],[41,4,41,5],[41,6,41,8],[41,15,41,17],[41,19,42,23],[42,4,42,5],[42,6,42,8],[43,3,43,6],[43,9,43,14],[43,17,43,21],[44,0,44,1],[44,3,45,6],[44,9,44,14],[44,15,44,16],[44,17,45,21],[45,0,45,1],[45,15,45,16],[46,0,46,23],[47,0,47,23],[48,2,48,6],[48,8,48,23],[49,2,49,6],[49,8,49,23],[51,0,51,10],[51,11,51,12],[51,13,51,23],[53,0,53,10],[53,11,53,12],[53,13,53,23],[55,2,55,10],[55,13,55,21],[56,2,56,5],[56,6,56,10],[56,13,56,16],[56,17,56,21],[57,0,57,1],[57,2,57,3],[57,4,57,5],[57,6,57,7],[57,8,57,10],[57,13,57,14],[57,15,57,16],[57,17,57,18],[57,19,57,21],[58,0,58,1],[58,2,58,3],[58,4,58,5],[58,6,58,7],[58,8,58,10],[58,13,58,14],[58,15,58,16],[58,17,58,18],[58,19,58,21],[59,0,59,1],[59,2,59,3],[59,4,59,5],[59,6,59,7],[59,8,59,10],[59,13,59,14],[59,15,59,16],[59,17,59,18],[59,19,59,21],[60,0,60,1],[60,2,60,3],[60,4,60,5],[60,6,60,7],[60,8,60,10],[60,13,60,14],[60,15,60,16],[60,17,60,18],[60,19,60,21],[61,0,61,1],[61,2,61,3],[61,4,61,5],[61,6,61,7],[61,8,61,10],[61,13,61,14],[61,15,61,16],[61,17,61,18],[61,19,61,21],[62,0,62,1],[62,2,62,3],[62,4,62,5],[62,6,62,7],[62,8,62,10],[62,11,62,12],[62,13,62,14],[62,15,62,16],[62,17,62,18],[62,19,62,21],[62,22,62,23],[63,0,63,2],[63,4,63,18],[63,19,63,23],[64,4,64,5],[64,6,64,8],[64,15,64,17],[64,19,65,23],[65,4,65,5],[65,6,65,8],[66,3,66,6],[66,9,66,14],[66,17,66,21],[67,0,67,1],[67,3,68,6],[67,9,67,14],[67,15,67,16],[67,17,68,21],[68,0,68,1],[68,15,68,16],[69,0,69,23],[70,0,70,23],[71,2,71,6],[71,8,71,23],[72,2,72,6],[72,8,72,23],[74,0,74,10],[74,11,74,12],[74,13,74,23],[76,0,76,10],[76,11,76,12],[76,13,76,23],[78,2,78,10],[78,13,78,21],[79,2,79,5],[79,6,79,10],[79,13,79,16],[79,17,79,21],[80,0,80,1],[80,2,80,3],[80,4,80,5],[80,6,80,7],[80,8,80,10],[80,13,80,14],[80,15,80,16],[80,17,80,18],[80,19,80,21],[81,0,81,1],[81,2,81,3],[81,4,81,5],[81,6,81,7],[81,8,81,10],[81,13,81,14],[81,15,81,16],[81,17,81,18],[81,19,81,21],[82,0,82,1],[82,2,82,3],[82,4,82,5],[82,6,82,7],[82,8,82,10],[82,13,82,14],[82,15,82,16],[82,17,82,18],[82,19,82,21],[83,0,83,1],[83,2,83,3],[83,4,83,5],[83,6,83,7],[83,8,83,10],[83,13,83,14],[83,15,83,16],[83,17,83,18],[83,19,83,21],[84,0,84,1],[84,2,84,3],[84,4,84,5],[84,6,84,7],[84,8,84,10],[84,13,84,14],[84,15,84,16],[84,17,84,18],[84,19,84,21],[85,0,85,1],[85,2,85,3],[85,4,85,5],[85,6,85,7],[85,8,85,10],[85,11,85,12],[85,13,85,14],[85,15,85,16],[85,17,85,18],[85,19,85,21],[85,22,85,23],[86,0,86,2],[86,4,86,18],[86,19,86,23],[87,4,87,5],[87,6,87,8],[87,15,87,17],[87,19,88,23],[88,4,88,5],[88,6,88,8],[89,3,89,6],[89,9,89,14],[89,17,89,21],[90,0,90,1],[90,3,91,6],[90,9,90,14],[90,15,90,16],[90,17,91,21],[91,0,91,1],[91,15,91,16],[92,0,92,23],[93,0,93,23],[94,2,94,6],[94,8,94,23],[95,2,95,6],[95,8,95,23],[97,0,97,10],[97,11,97,12],[97,13,97,23],[99,0,99,10],[99,11,99,12],[99,13,99,23],[101,2,101,10],[101,13,101,21],[102,2,102,5],[102,6,102,10],[102,13,102,16],[102,17,102,21],[103,0,103,1],[103,2,103,3],[103,4,103,5],[103,6,103,7],[103,8,103,10],[103,13,103,14],[103,15,103,16],[103,17,103,18],[103,19,103,21],[104,0,104,1],[104,2,104,3],[104,4,104,5],[104,6,104,7],[104,8,104,10],[104,13,104,14],[104,15,104,16],[104,17,104,18],[104,19,104,21],[105,0,105,1],[105,2,105,3],[105,4,105,5],[105,6,105,7],[105,8,105,10],[105,13,105,14],[105,15,105,16],[105,17,105,18],[105,19,105,21],[106,0,106,1],[106,2,106,3],[106,4,106,5],[106,6,106,7],[106,8,106,10],[106,13,106,14],[106,15,106,16],[106,17,106,18],[106,19,106,21],[107,0,107,1],[107,2,107,3],[107,4,107,5],[107,6,107,7],[107,8,107,10],[107,13,107,14],[107,15,107,16],[107,17,107,18],[107,19,107,21],[108,0,108,1],[108,2,108,3],[108,4,108,5],[108,6,108,7],[108,8,108,10],[108,11,108,12],[108,13,108,14],[108,15,108,16],[108,17,108,18],[108,19,108,21],[108,22,108,23],[109,0,109,2],[109,4,109,18],[109,19,109,23],[110,0,111,2],[110,4,110,5],[110,6,110,8],[110,15,110,17],[110,19,111,23],[111,4,111,5],[111,6,111,8],[112,3,112,6],[112,9,112,14],[112,17,112,21],[113,0,113,1],[113,3,114,6],[113,9,113,14],[113,15,113,16],[113,17,114,21],[114,0,114,1],[114,15,114,16],[115,0,115,23],[116,0,116,23],[117,2,117,6],[117,8,117,23],[118,2,118,6],[118,8,118,23],[120,0,120,10],[120,11,120,12],[120,13,120,23],[122,0,122,10],[122,11,122,12],[122,13,122,23],[124,2,124,10],[124,13,124,21],[125,2,125,5],[125,6,125,10],[125,13,125,16],[125,17,125,21],[126,0,126,1],[126,2,126,3],[126,4,126,5],[126,6,126,7],[126,8,126,10],[126,13,126,14],[126,15,126,16],[126,17,126,18],[126,19,126,21],[127,0,127,1],[127,2,127,3],[127,4,127,5],[127,6,127,7],[127,8,127,10],[127,13,127,14],[127,15,127,16],[127,17,127,18],[127,19,127,21],[128,0,128,1],[128,2,128,3],[128,4,128,5],[128,6,128,7],[128,8,128,10],[128,13,128,14],[128,15,128,16],[128,17,128,18],[128,19,128,21],[129,0,129,1],[129,2,129,3],[129,4,129,5],[129,6,129,7],[129,8,129,10],[129,13,129,14],[129,15,129,16],[129,17,129,18],[129,19,129,21],[130,0,130,1],[130,2,130,3],[130,4,130,5],[130,6,130,7],[130,8,130,10],[130,13,130,14],[130,15,130,16],[130,17,130,18],[130,19,130,21],[131,0,131,1],[131,2,131,3],[131,4,131,5],[131,6,131,7],[131,8,131,10],[131,11,131,12],[131,13,131,14],[131,15,131,16],[131,17,131,18],[131,19,131,21],[131,22,131,23],[132,0,132,2],[132,4,132,18],[132,19,132,23],[133,0,134,2],[133,4,133,5],[133,6,133,8],[133,15,133,17],[133,19,134,23],[134,4,134,5],[134,6,134,8],[135,3,135,6],[135,9,135,14],[135,17,135,21],[136,0,136,1],[136,3,137,6],[136,9,136,14],[136,15,136,16],[136,17,137,21],[137,0,137,1],[137,15,137,16],[138,0,138,23],[139,0,139,23],[140,2,140,6],[140,8,140,23],[141,2,141,6],[141,8,141,23],[143,0,143,10],[143,11,143,12],[143,13,143,23],[145,0,145,10],[145,11,145,12],[145,13,145,23],[147,2,147,10],[147,13,147,21],[148,2,148,5],[148,6,148,10],[148,13,148,16],[148,17,148,21],[149,0,149,1],[149,2,149,3],[149,4,149,5],[149,6,149,7],[149,8,149,10],[149,13,149,14],[149,15,149,16],[149,17,149,18],[149,19,149,21],[150,0,150,1],[150,2,150,3],[150,4,150,5],[150,6,150,7],[150,8,150,10],[150,13,150,14],[150,15,150,16],[150,17,150,18],[150,19,150,21],[151,0,151,1],[151,2,151,3],[151,4,151,5],[151,6,151,7],[151,8,151,10],[151,13,151,14],[151,15,151,16],[151,17,151,18],[151,19,151,21],[152,0,152,1],[152,2,152,3],[152,4,152,5],[152,6,152,7],[152,8,152,10],[152,13,152,14],[152,15,152,16],[152,17,152,18],[152,19,152,21],[153,0,153,1],[153,2,153,3],[153,4,153,5],[153,6,153,7],[153,8,153,10],[153,13,153,14],[153,15,153,16],[153,17,153,18],[153,19,153,21],[154,0,154,1],[154,2,154,3],[154,4,154,5],[154,6,154,7],[154,8,154,10],[154,11,154,12],[154,13,154,14],[154,15,154,16],[154,17,154,18],[154,19,154,21],[154,22,154,23],[155,0,155,2],[155,4,155,18],[155,19,155,23],[156,0,157,2],[156,4,156,5],[156,6,156,8],[156,15,156,17],[156,19,157,23],[157,4,157,5],[157,6,157,8],[158,3,158,6],[158,9,158,14],[158,17,158,21],[159,0,159,1],[159,3,160,6],[159,9,159,14],[159,15,159,16],[159,17,160,21],[160,0,160,1],[160,15,160,16],[161,0,161,23],[162,0,162,23],[163,2,163,6],[163,8,163,23],[164,2,164,6],[164,8,164,23],[166,0,166,10],[166,11,166,12],[166,13,166,23],[168,0,168,10],[168,11,168,12],[168,13,168,23],[170,2,170,10],[170,13,170,21],[171,2,171,5],[171,6,171,10],[171,13,171,16],[171,17,171,21],[172,0,172,1],[172,2,172,3],[172,4,172,5],[172,6,172,7],[172,8,172,10],[172,13,172,14],[172,15,172,16],[172,17,172,18],[172,19,172,21],[173,0,173,1],[173,2,173,3],[173,4,173,5],[173,6,173,7],[173,8,173,10],[173,13,173,14],[173,15,173,16],[173,17,173,18],[173,19,173,21],[174,0,174,1],[174,2,174,3],[174,4,174,5],[174,6,174,7],[174,8,174,10],[174,13,174,14],[174,15,174,16],[174,17,174,18],[174,19,174,21],[175,0,175,1],[175,2,175,3],[175,4,175,5],[175,6,175,7],[175,8,175,10],[175,13,175,14],[175,15,175,16],[175,17,175,18],[175,19,175,21],[176,0,176,1],[176,2,176,3],[176,4,176,5],[176,6,176,7],[176,8,176,10],[176,13,176,14],[176,15,176,16],[176,17,176,18],[176,19,176,21],[177,0,177,1],[177,2,177,3],[177,4,177,5],[177,6,177,7],[177,8,177,10],[177,11,177,12],[177,13,177,14],[177,15,177,16],[177,17,177,18],[177,19,177,21],[177,22,177,23],[178,0,178,2],[178,4,178,18],[178,19,178,23],[179,0,180,2],[179,4,179,5],[179,6,179,8],[179,15,179,17],[179,19,180,23],[180,4,180,5],[180,6,180,8],[181,3,181,6],[181,9,181,14],[181,17,181,21],[182,0,182,1],[182,3,183,6],[182,9,182,14],[182,15,182,16],[182,17,183,21],[183,0,183,1],[183,15,183,16],[184,0,184,23],[185,0,185,23],[186,2,186,6],[186,8,186,23],[187,2,187,6],[187,8,187,23],[189,0,189,10],[189,11,189,12],[189,13,189,23],[191,0,191,10],[191,11,191,12],[191,13,191,23],[193,2,193,10],[193,13,193,21],[194,2,194,5],[194,6,194,10],[194,13,194,16],[194,17,194,21],[195,0,195,1],[195,2,195,3],[195,4,195,5],[195,6,195,7],[195,8,195,10],[195,13,195,14],[195,15,195,16],[195,17,195,18],[195,19,195,21],[196,0,196,1],[196,2,196,3],[196,4,196,5],[196,6,196,7],[196,8,196,10],[196,13,196,14],[196,15,196,16],[196,17,196,18],[196,19,196,21],[197,0,197,1],[197,2,197,3],[197,4,197,5],[197,6,197,7],[197,8,197,10],[197,13,197,14],[197,15,197,16],[197,17,197,18],[197,19,197,21],[198,0,198,1],[198,2,198,3],[198,4,198,5],[198,6,198,7],[198,8,198,10],[198,13,198,14],[198,15,198,16],[198,17,198,18],[198,19,198,21],[199,0,199,1],[199,2,199,3],[199,4,199,5],[199,6,199,7],[199,8,199,10],[199,13,199,14],[199,15,199,16],[199,17,199,18],[199,19,199,21],[200,0,200,1],[200,2,200,3],[200,4,200,5],[200,6,200,7],[200,8,200,10],[200,11,200,12],[200,13,200,14],[200,15,200,16],[200,17,200,18],[200,19,200,21],[200,22,200,23],[201,0,201,2],[201,4,201,18],[201,19,201,23],[202,0,203,2],[202,4,202,5],[202,6,202,8],[202,15,202,17],[202,19,203,23],[203,4,203,5],[203,6,203,8],[204,3,204,6],[204,9,204,14],[204,17,204,21],[205,0,205,1],[205,3,206,6],[205,9,205,14],[205,15,205,16],[205,17,206,21],[206,0,206,1],[206,15,206,16],[207,0,207,23],[208,0,208,23],[209,2,209,6],[209,8,209,23],[210,2,210,6],[210,8,210,23],[212,0,212,10],[212,11,212,12],[212,13,212,23],[214,0,214,10],[214,11,214,12],[214,13,214,23],[216,2,216,10],[216,13,216,21],[217,2,217,5],[217,6,217,10],[217,13,217,16],[217,17,217,21],[218,0,218,1],[218,2,218,3],[218,4,218,5],[218,6,218,7],[218,8,218,10],[218,13,218,14],[218,15,218,16],[218,17,218,18],[218,19,218,21],[219,0,219,1],[219,2,219,3],[219,4,219,5],[219,6,219,7],[219,8,219,10],[219,13,219,14],[219,15,219,16],[219,17,219,18],[219,19,219,21],[220,0,220,1],[220,2,220,3],[220,4,220,5],[220,6,220,7],[220,8,220,10],[220,13,220,14],[220,15,220,16],[220,17,220,18],[220,19,220,21],[221,0,221,1],[221,2,221,3],[221,4,221,5],[221,6,221,7],[221,8,221,10],[221,13,221,14],[221,15,221,16],[221,17,221,18],[221,19,221,21],[222,0,222,1],[222,2,222,3],[222,4,222,5],[222,6,222,7],[222,8,222,10],[222,13,222,14],[222,15,222,16],[222,17,222,18],[222,19,222,21],[223,0,223,1],[223,2,223,3],[223,4,223,5],[223,6,223,7],[223,8,223,10],[223,11,223,12],[223,13,223,14],[223,15,223,16],[223,17,223,18],[223,19,223,21],[223,22,223,23],[224,0,224,2],[224,4,224,18],[224,19,224,23],[225,0,226,2],[225,4,225,5],[225,6,225,8],[225,15,225,17],[225,19,226,23],[226,4,226,5],[226,6,226,8],[227,3,227,6],[227,9,227,14],[227,17,227,21],[228,0,228,1],[228,3,229,6],[228,9,228,14],[228,15,228,16],[228,17,229,21],[229,0,229,1],[229,15,229,16],[230,0,230,23],[231,0,231,23],[232,2,232,6],[232,8,232,23],[233,2,233,6],[233,8,233,23],[235,0,235,10],[235,11,235,12],[235,13,235,23],[237,0,237,10],[237,11,237,12],[237,13,237,23],[239,2,239,10],[239,13,239,21],[240,2,240,5],[240,6,240,10],[240,13,240,16],[240,17,240,21],[241,0,241,1],[241,2,241,3],[241,4,241,5],[241,6,241,7],[241,8,241,10],[241,13,241,14],[241,15,241,16],[241,17,241,18],[241,19,241,21],[242,0,242,1],[242,2,242,3],[242,4,242,5],[242,6,242,7],[242,8,242,10],[242,13,242,14],[242,15,242,16],[242,17,242,18],[242,19,242,21],[243,0,243,1],[243,2,243,3],[243,4,243,5],[243,6,243,7],[243,8,243,10],[243,13,243,14],[243,15,243,16],[243,17,243,18],[243,19,243,21],[244,0,244,1],[244,2,244,3],[244,4,244,5],[244,6,244,7],[244,8,244,10],[244,13,244,14],[244,15,244,16],[244,17,244,18],[244,19,244,21],[246,15,246,16],[246,17,246,18],[248,0,249,2],[248,4,248,5],[248,6,248,8],[248,15,248,17],[248,19,249,23],[249,4,249,5],[249,6,249,8]],"merged_total":3548,"flags":["merged_cut"]}
[{"$f":"Entries!$A$1","v":"2018 District 5 - Mixed Pairs"}]
[{"$f":"'Finals 12 10'!$C$3","v":0}]
[null,null,"RINK",{"$nulls":5},"DATE"]
[null,null,{"$f":"'Finals 12 10'!$F$6","v":0},{"$nulls":5},{"$f":"Entries!$A$2","v":"20th June 2018"}]
[]
[{"$nulls":11},"L"]
[]
[{"$f":"'Finals 12 10'!$E$6","v":"Sec 8"},{"$nulls":10},"Sk",null,{"$f":"'Finals 12 10'!$E$7","v":"Sec 9"}]
[]
[null,null,"First Set",{"$nulls":10},"Second Set"]
[null,null,{"$f":"'Finals 12 10'!$E$6","v":"Sec 8"},{"$nulls":3},{"$f":"'Finals 12 10'!$E$7","v":"Sec 9"},{"$nulls":6},{"$f":"'Finals 12 10'!$E$6","v":"Sec 8"},{"$nulls":3},{"$f":"'Finals 12 10'!$E$7","v":"Sec 9"}]
["End",null,"Shots",null,"Total",null,"Shots",null,"Total",{"$nulls":4},"Shots",null,"Total",null,"Shots",null,"Total"]
[1]
[2]
[3]
[4]
[5,{"$nulls":10},1,{"$nulls":10},1]
["Points",{"$nulls":3},"Tie Break",{"$nulls":14},"Points"]
[{"$nulls":4},"End",null,"Shots",{"$nulls":8},"Shots"]
[{"$nulls":4},1]
[{"$nulls":9},"Time"]
["Sign",{"$nulls":8},"Completed",{"$nulls":5},"Sign"]
["i",{"$nulls":14},"i"]
[{"$f":"Entries!$A$1","v":"2018 District 5 - Mixed Pairs"}]
[{"$f":"'Finals 12 10'!$C$3","v":0}]
[null,null,"RINK",{"$nulls":5},"DATE"]
[null,null,{"$f":"'Finals 12 10'!$F$6","v":0},{"$nulls":5},{"$f":"Entries!$A$2","v":"20th June 2018"}]
[]
[{"$nulls":11},"L"]
[]
[{"$f":"'Finals 12 10'!$E$7","v":"Sec 9"},{"$nulls":10},"Sk",null,{"$f":"'Finals 12 10'!$E$6","v":"Sec 8"}]
[]
[null,null,"First Set",{"$nulls":10},"Second Set"]
[null,null,{"$f":"'Finals 12 10'!$E$7","v":"Sec 9"},{"$nulls":3},{"$f":"'Finals 12 10'!$E$6","v":"Sec 8"},{"$nulls":6},{"$f":"'Finals 12 10'!$E$7","v":"Sec 9"},{"$nulls":3},{"$f":"'Finals 12 10'!$E$6","v":"Sec 8"}]
["End",null,"Shots",null,"Total",null,"Shots",null,"Total",{"$nulls":4},"Shots",null,"Total",null,"Shots",null,"Total"]
[1]
[2]
[3]
[4]
[5,{"$nulls":10},2,{"$nulls":10},1]
["Points",{"$nulls":3},"Tie Break",{"$nulls":14},"Points"]
[{"$nulls":4},"End",null,"Shots",{"$nulls":8},"Shots"]
[{"$nulls":4},1]
[{"$nulls":9},"Time"]
["Sign",{"$nulls":8},"Completed",{"$nulls":5},"Sign"]
["i",{"$nulls":14},"i"]
[{"$f":"Entries!$A$1","v":"2018 District 5 - Mixed Pairs"}]
[{"$f":"'Finals 12 10'!$C$3","v":0}]
[null,null,"RINK",{"$nulls":5},"DATE"]
[null,null,{"$f":"'Finals 12 10'!$AA$6","v":0},{"$nulls":5},{"$f":"Entries!$A$2","v":"20th June 2018"}]
[]
[{"$nulls":11},"L"]
[]
[{"$f":"'Finals 12 10'!$Z$6","v":0},{"$nulls":10},"Sk",null,{"$f":"'Finals 12 10'!$Z$7","v":0}]
[]
[null,null,"First Set",{"$nulls":10},"Second Set"]
[null,null,{"$f":"'Finals 12 10'!$Z$6","v":0},{"$nulls":3},{"$f":"'Finals 12 10'!$Z$7","v":0},{"$nulls":6},{"$f":"'Finals 12 10'!$Z$6","v":0},{"$nulls":3},{"$f":"'Finals 12 10'!$Z$7","v":0}]
["End",null,"Shots",null,"Total",null,"Shots",null,"Total",{"$nulls":4},"Shots",null,"Total",null,"Shots",null,"Total"]
[1]
[2]
[3]
[4]
[5,{"$nulls":10},1,{"$nulls":10},1]
["Points",{"$nulls":3},"Tie Break",{"$nulls":14},"Points"]
[{"$nulls":4},"End",null,"Shots",{"$nulls":8},"Shots"]
[{"$nulls":4},1]
[{"$nulls":9},"Time"]
["Sign",{"$nulls":8},"Completed",{"$nulls":5},"Sign"]
["i",{"$nulls":14},"i"]
[{"$f":"Entries!$A$1","v":"2018 District 5 - Mixed Pairs"}]
[{"$f":"'Finals 12 10'!$C$3","v":0}]
[null,null,"RINK",{"$nulls":5},"DATE"]
[null,null,{"$f":"'Finals 12 10'!$AA$6","v":0},{"$nulls":5},{"$f":"Entries!$A$2","v":"20th June 2018"}]
[]
[{"$nulls":11},"L"]
[]
[{"$f":"'Finals 12 10'!$Z$7","v":0},{"$nulls":10},"Sk",null,{"$f":"'Finals 12 10'!$Z$6","v":0}]
[]
[null,null,"First Set",{"$nulls":10},"Second Set"]
[null,null,{"$f":"'Finals 12 10'!$Z$7","v":0},{"$nulls":3},{"$f":"'Finals 12 10'!$Z$6","v":0},{"$nulls":6},{"$f":"'Finals 12 10'!$Z$7","v":0},{"$nulls":3},{"$f":"'Finals 12 10'!$Z$6","v":0}]
["End",null,"Shots",null,"Total",null,"Shots",null,"Total",{"$nulls":4},"Shots",null,"Total",null,"Shots",null,"Total"]
[1]
[2]
[3]
[4]
[5,{"$nulls":10},2,{"$nulls":10},1]
["Points",{"$nulls":3},"Tie Break",{"$nulls":14},"Points"]
[{"$nulls":4},"End",null,"Shots",{"$nulls":8},"Shots"]
[{"$nulls":4},1]
[{"$nulls":9},"Time"]
["Sign",{"$nulls":8},"Completed",{"$nulls":5},"Sign"]
["i",{"$nulls":14},"i"]
[{"$f":"Entries!$A$1","v":"2018 District 5 - Mixed Pairs"}]
[{"$f":"'Finals 28 25'!$C$11","v":"S E M I  F I N A L "}]
[null,null,"RINK",{"$nulls":5},"DATE"]
[null,null,{"$f":"'Finals 12 10'!$F$12","v":0},{"$nulls":5},{"$f":"Entries!$A$2","v":"20th June 2018"}]
[]
[{"$nulls":11},"L"]
[]
[{"$f":"'Finals 12 10'!$E$12","v":"Sec 4"},{"$nulls":10},"Sk",null,{"$f":"'Finals 12 10'!$E$13","v":0}]
[]
[null,null,"First Set",{"$nulls":10},"Second Set"]
[null,null,{"$f":"'Finals 12 10'!$E$12","v":"Sec 4"},{"$nulls":3},{"$f":"'Finals 12 10'!$E$13","v":0},{"$nulls":6},{"$f":"'Finals 12 10'!$E$12","v":"Sec 4"},{"$nulls":3},{"$f":"'Finals 12 10'!$E$13","v":0}]
["End",null,"Shots",null,"Total",null,"Shots",null,"Total",{"$nulls":4},"Shots",null,"Total",null,"Shots",null,"Total"]
[1]
[2]
[3]
[4]
[5,{"$nulls":10},1,{"$nulls":10},1]
["Points",{"$nulls":3},"Tie Break",{"$nulls":14},"Points"]
[{"$nulls":4},"End",null,"Shots",{"$nulls":8},"Shots"]
[{"$nulls":4},1]
[{"$nulls":9},"Time"]
["Sign",{"$nulls":8},"Completed",{"$nulls":5},"Sign"]
["i",{"$nulls":14},"i"]
[{"$f":"Entries!$A$1","v":"2018 District 5 - Mixed Pairs"}]
[{"$f":"'Finals 28 25'!$C$11","v":"S E M I  F I N A L "}]
[null,null,"RINK",{"$nulls":5},"DATE"]
[null,null,{"$f":"'Finals 12 10'!$F$12","v":0},{"$nulls":5},{"$f":"Entries!$A$2","v":"20th June 2018"}]
[]
[{"$nulls":11},"L"]
[]
[{"$f":"'Finals 12 10'!$E$13","v":0},{"$nulls":10},"Sk",null,{"$f":"'Finals 12 10'!$E$12","v":"Sec 4"}]
[]
[null,null,"First Set",{"$nulls":10},"Second Set"]
[null,null,{"$f":"'Finals 12 10'!$E$13","v":0},{"$nulls":3},{"$f":"'Finals 12 10'!$E$12","v":"Sec 4"},{"$nulls":6},{"$f":"'Finals 12 10'!$E$13","v":0},{"$nulls":3},{"$f":"'Finals 12 10'!$E$12","v":"Sec 4"}]
["End",null,"Shots",null,"Total",null,"Shots",null,"Total",{"$nulls":4},"Shots",null,"Total",null,"Shots",null,"Total"]
[1]
[2]
[3]
[4]
[5,{"$nulls":10},2,{"$nulls":10},1]
["Points",{"$nulls":3},"Tie Break",{"$nulls":14},"Points"]
[{"$nulls":4},"End",null,"Shots",{"$nulls":8},"Shots"]
[{"$nulls":4},1]
[{"$nulls":9},"Time"]
["Sign",{"$nulls":8},"Completed",{"$nulls":5},"Sign"]
["i",{"$nulls":14},"i"]
[{"$f":"Entries!$A$1","v":"2018 District 5 - Mixed Pairs"}]
[{"$f":"'Finals 28 25'!$C$11","v":"S E M I  F I N A L "}]
[null,null,"RINK",{"$nulls":5},"DATE"]
[null,null,{"$f":"'Finals 12 10'!$AA$12","v":0},{"$nulls":5},{"$f":"Entries!$A$2","v":"20th June 2018"}]
[]
[{"$nulls":11},"L"]
[]
[{"$f":"'Finals 12 10'!$Z$12","v":0},{"$nulls":10},"Sk",null,{"$f":"'Finals 12 10'!$Z$13","v":0}]
[]
[null,null,"First Set",{"$nulls":10},"Second Set"]
[null,null,{"$f":"'Finals 12 10'!$Z$12","v":0},{"$nulls":3},{"$f":"'Finals 12 10'!$Z$13","v":0},{"$nulls":6},{"$f":"'Finals 12 10'!$Z$12","v":0},{"$nulls":3},{"$f":"'Finals 12 10'!$Z$13","v":0}]
["End",null,"Shots",null,"Total",null,"Shots",null,"Total",{"$nulls":4},"Shots",null,"Total",null,"Shots",null,"Total"]
[1]
[2]
[3]
[4]
[5,{"$nulls":10},1,{"$nulls":10},1]
["Points",{"$nulls":3},"Tie Break",{"$nulls":14},"Points"]
[{"$nulls":4},"End",null,"Shots",{"$nulls":8},"Shots"]
[{"$nulls":4},1]
[{"$nulls":9},"Time"]
["Sign",{"$nulls":8},"Completed",{"$nulls":5},"Sign"]
["i",{"$nulls":14},"i"]
[{"$f":"Entries!$A$1","v":"2018 District 5 - Mixed Pairs"}]
[{"$f":"'Finals 28 25'!$C$11","v":"S E M I  F I N A L "}]
[null,null,"RINK",{"$nulls":5},"DATE"]
[null,null,{"$f":"'Finals 12 10'!$AA$12","v":0},{"$nulls":5},{"$f":"Entries!$A$2","v":"20th June 2018"}]
[]
[{"$nulls":11},"L"]
[]
[{"$f":"'Finals 12 10'!$Z$13","v":0},{"$nulls":10},"Sk",null,{"$f":"'Finals 12 10'!$Z$12","v":0}]
[]
[null,null,"First Set",{"$nulls":10},"Second Set"]
[null,null,{"$f":"'Finals 12 10'!$Z$13","v":0},{"$nulls":3},{"$f":"'Finals 12 10'!$Z$12","v":0},{"$nulls":6},{"$f":"'Finals 12 10'!$Z$13","v":0},{"$nulls":3},{"$f":"'Finals 12 10'!$Z$12","v":0}]
["End",null,"Shots",null,"Total",null,"Shots",null,"Total",{"$nulls":4},"Shots",null,"Total",null,"Shots",null,"Total"]
[1]
[2]
[3]
[4]
[5,{"$nulls":10},2,{"$nulls":10},1]
["Points",{"$nulls":3},"Tie Break",{"$nulls":14},"Points"]
[{"$nulls":4},"End",null,"Shots",{"$nulls":8},"Shots"]
[{"$nulls":4},1]
[{"$nulls":9},"Time"]
["Sign",{"$nulls":8},"Completed",{"$nulls":5},"Sign"]
["i",{"$nulls":14},"i"]
[{"$f":"Entries!$A$1","v":"2018 District 5 - Mixed Pairs"}]
["S E M I   F I N A L"]
[null,null,"RINK",{"$nulls":5},"DATE"]
[null,null,{"$f":"'Finals 12 10'!$F$20","v":0},{"$nulls":5},{"$f":"Entries!$A$2","v":"20th June 2018"}]
[]
[{"$nulls":11},"L"]
[]
[{"$f":"'Finals 12 10'!$E$20","v":"Sec 2"},{"$nulls":10},"Sk",null,{"$f":"'Finals 12 10'!$E$21","v":"Sec 3"}]
[]
[null,null,"First Set",{"$nulls":10},"Second Set"]
[null,null,{"$f":"'Finals 12 10'!$E$20","v":"Sec 2"},{"$nulls":3},{"$f":"'Finals 12 10'!$E$21","v":"Sec 3"},{"$nulls":6},{"$f":"'Finals 12 10'!$E$20","v":"Sec 2"},{"$nulls":3},{"$f":"'Finals 12 10'!$E$21","v":"Sec 3"}]
["End",null,"Shots",null,"Total",null,"Shots",null,"Total",{"$nulls":4},"Shots",null,"Total",null,"Shots",null,"Total"]
[1]
[2]
[3]
[4]
[5,{"$nulls":10},1,{"$nulls":10},1]
["Points",{"$nulls":3},"Tie Break",{"$nulls":14},"Points"]
[{"$nulls":4},"End",null,"Shots",{"$nulls":8},"Shots"]
[{"$nulls":4},1]
[{"$nulls":9},"Time"]
["Sign",{"$nulls":8},"Completed",{"$nulls":5},"Sign"]
["i",{"$nulls":14},"i"]
[{"$f":"Entries!$A$1","v":"2018 District 5 - Mixed Pairs"}]
["S E M I   F I N A L"]
[null,null,"RINK",{"$nulls":5},"DATE"]
[null,null,{"$f":"'Finals 12 10'!$F$20","v":0},{"$nulls":5},{"$f":"Entries!$A$2","v":"20th June 2018"}]
[]
[{"$nulls":11},"L"]
[]
[{"$f":"'Finals 12 10'!$E$21","v":"Sec 3"},{"$nulls":10},"Sk",null,{"$f":"'Finals 12 10'!$E$20","v":"Sec 2"}]
[]
[null,null,"First Set",{"$nulls":10},"Second Set"]
[null,null,{"$f":"'Finals 12 10'!$E$21","v":"Sec 3"},{"$nulls":3},{"$f":"'Finals 12 10'!$E$20","v":"Sec 2"},{"$nulls":6},{"$f":"'Finals 12 10'!$E$21","v":"Sec 3"},{"$nulls":3},{"$f":"'Finals 12 10'!$E$20","v":"Sec 2"}]
["End",null,"Shots",null,"Total",null,"Shots",null,"Total",{"$nulls":4},"Shots",null,"Total",null,"Shots",null,"Total"]
[1]
[2]
[3]
[4]
[5,{"$nulls":10},2,{"$nulls":10},1]
["Points",{"$nulls":3},"Tie Break",{"$nulls":14},"Points"]
[{"$nulls":4},"End",null,"Shots",{"$nulls":8},"Shots"]
[{"$nulls":4},1]
[{"$nulls":9},"Time"]
["Sign",{"$nulls":8},"Completed",{"$nulls":5},"Sign"]
["i",{"$nulls":14},"i"]
[{"$f":"Entries!$A$1","v":"2018 District 5 - Mixed Pairs"}]
[]
[null,null,"RINK",{"$nulls":5},"DATE"]
[]
[]
[{"$nulls":11},"L"]
[]
[{"$nulls":11},"Sk"]
[]
[null,null,"First Set",{"$nulls":10},"Second Set"]
[null,null,{"$f":"'Finals 12 10'!$E$18","v":"."},{"$nulls":3},{"$f":"'Finals 12 10'!$E$19","v":0},{"$nulls":6},{"$f":"'Finals 12 10'!$E$18","v":"."},{"$nulls":3},{"$f":"'Finals 12 10'!$E$19","v":0}]
["End",null,"Shots",null,"Total",null,"Shots",null,"Total",{"$nulls":4},"Shots",null,"Total",null,"Shots",null,"Total"]
[1]
[2]
[3]
[4]
[5,{"$nulls":10},1,{"$nulls":10},1]
["Points",{"$nulls":3},"Tie Break",{"$nulls":14},"Points"]
[{"$nulls":4},"End",null,"Shots",{"$nulls":8},"Shots"]
[{"$nulls":4},1]
[{"$nulls":9},"Time"]
["Sign",{"$nulls":8},"Completed",{"$nulls":5},"Sign"]
["i",{"$nulls":14},"i"]
[{"$f":"Entries!$A$1","v":"2018 District 5 - Mixed Pairs"}]
[{"$f":"'Finals 16 13'!$C$17","v":7}]
[null,null,"RINK",{"$nulls":5},"DATE"]
[null,null,{"$f":"'Finals 16 13'!$F$18","v":0}]
[]
[{"$nulls":11},"L"]
[]
[{"$f":"'Finals 16 13'!$E$19","v":0},{"$nulls":10},"Sk",null,{"$f":"'Finals 16 13'!$E$18","v":"."}]
[]
[null,null,"First Set",{"$nulls":10},"Second Set"]
[null,null,{"$f":"'Finals 16 13'!$E$19","v":0},{"$nulls":3},{"$f":"'Finals 16 13'!$E$18","v":"."},{"$nulls":6},{"$f":"'Finals 16 13'!$E$19","v":0},{"$nulls":3},{"$f":"'Finals 16 13'!$E$18","v":"."}]
["End",null,"Shots",null,"Total",null,"Shots",null,"Total",{"$nulls":4},"Shots",null,"Total",null,"Shots",null,"Total"]
[1]
[2]
[3]
[4]
[5,{"$nulls":10},2,{"$nulls":10},1]
["Points",{"$nulls":3},"Tie Break",{"$nulls":14},"Points"]
[{"$nulls":4},"End",null,"Shots",{"$nulls":8},"Shots"]
[{"$nulls":4},1]
[{"$nulls":9},"Time"]
["Sign",{"$nulls":8},"Completed",{"$nulls":5},"Sign"]
["i",{"$nulls":14},"i"]
[{"$f":"Entries!$A$1","v":"2018 District 5 - Mixed Pairs"}]
[{"$f":"'Finals 16 13'!$C$17","v":7}]
[null,null,"RINK",{"$nulls":5},"DATE"]
[null,null,{"$f":"'Finals 16 13'!$X$18","v":0}]
[{"$nulls":9},"      "]
[{"$nulls":11},"L"]
[]
[{"$f":"'Finals 16 13'!$Z$18","v":"."},{"$nulls":10},"Sk",null,{"$f":"'Finals 16 13'!$Z$19","v":0}]
[]
[null,null,"First Set",{"$nulls":10},"Second Set"]
[null,null,{"$f":"'Finals 16 13'!$Z$18","v":"."},{"$nulls":3},{"$f":"'Finals 16 13'!$Z$19","v":0},{"$nulls":6},{"$f":"'Finals 16 13'!$Z$18","v":"."},{"$nulls":3},{"$f":"'Finals 16 13'!$Z$19","v":0}]
["End",null,"Shots",null,"Total",null,"Shots",null,"Total",{"$nulls":4},"Shots",null,"Total",null,"Shots",null,"Total"]
[1]
[2]
[3]
[4]
[5,{"$nulls":10},1,{"$nulls":10},1]
["Points",{"$nulls":3},"Tie Break",{"$nulls":14},"Points"]
[{"$nulls":4},"End",null,"Shots",{"$nulls":8},"Shots"]
[{"$nulls":4},1]
[{"$nulls":9},"Time"]
["Sign",{"$nulls":8},"Completed",{"$nulls":5},"Sign"]
["i",{"$nulls":14},"i"]
[{"$f":"Entries!$A$1","v":"2018 District 5 - Mixed Pairs"}]
[{"$f":"'Finals 16 13'!$C$17","v":7}]
[null,null,"RINK",{"$nulls":5},"DATE"]
[null,null,{"$f":"'Finals 16 13'!$X$18","v":0}]
[]
[{"$nulls":11},"L"]
[]
[{"$f":"'Finals 16 13'!$Z$19","v":0},{"$nulls":10},"Sk",null,{"$f":"'Finals 16 13'!$Z$18","v":"."}]
[]
[null,null,"First Set",{"$nulls":10},"Second Set"]
[null,null,{"$f":"'Finals 16 13'!$Z$19","v":0},{"$nulls":3},{"$f":"'Finals 16 13'!$Z$18","v":"."},{"$nulls":6},{"$f":"'Finals 16 13'!$Z$19","v":0},{"$nulls":3},{"$f":"'Finals 16 13'!$Z$18","v":"."}]
["End",null,"Shots",null,"Total",null,"Shots",null,"Total",{"$nulls":4},"Shots",null,"Total",null,"Shots",null,"Total"]
[1]
[2]
[3]
[4]
[5,{"$nulls":10},2,{"$nulls":10},1]
["Points",{"$nulls":3},"Tie Break",{"$nulls":14},"Points"]
[{"$nulls":4},"End",null,"Shots",{"$nulls":8},"Shots"]
[{"$nulls":4},1]
[{"$nulls":9},"Time"]
["Sign",{"$nulls":8},"Completed",{"$nulls":5},"Sign"]
["i",{"$nulls":14},"i"]
[{"$f":"Entries!$A$1","v":"2018 District 5 - Mixed Pairs"}]
["F I N A L"]
[null,null,"RINK",{"$nulls":5},"DATE"]
[null,null,{"$f":"'Finals 12 10'!$F$29","v":0}]
[]
[{"$nulls":11},"L"]
[]
[{"$f":"'Finals 12 10'!$E$29","v":"S/F 1"},{"$nulls":10},"Sk",null,{"$f":"'Finals 12 10'!$E$30","v":"Sec 1"}]
[]
[null,null,"First Set",{"$nulls":10},"Second Set"]
[null,null,{"$f":"'Finals 12 10'!$E$29","v":"S/F 1"},{"$nulls":3},{"$f":"'Finals 12 10'!$E$30","v":"Sec 1"},{"$nulls":6},{"$f":"'Finals 12 10'!$E$29","v":"S/F 1"},{"$nulls":3},{"$f":"'Finals 12 10'!$E$30","v":"Sec 1"}]
["End",null,"Shots",null,"Total",null,"Shots",null,"Total",{"$nulls":4},"Shots",null,"Total",null,"Shots",null,"Total"]
[1]
[2]
[3]
[4]
[5,{"$nulls":10},1,{"$nulls":10},1]
["Points",{"$nulls":3},"Tie Break",{"$nulls":14},"Points"]
[{"$nulls":4},"End",null,"Shots",{"$nulls":8},"Shots"]
[{"$nulls":4},1]
[{"$nulls":9},"Time"]
["Sign",{"$nulls":8},"Completed",{"$nulls":5},"Sign"]
["i",{"$nulls":14},"i"]
[{"$f":"Entries!$A$1","v":"2018 District 5 - Mixed Pairs"}]
["F I N A L"]
[null,null,"RINK",{"$nulls":5},"DATE"]
[null,null,{"$f":"'Finals 12 10'!$F$29","v":0}]
[]
[{"$nulls":11},"L"]
[]
[{"$f":"'Finals 12 10'!$E$30","v":"Sec 1"},{"$nulls":10},"Sk",null,{"$f":"'Finals 12 10'!$E$29","v":"S/F 1"}]
[]
[null,null,"First Set",{"$nulls":10},"Second Set"]
[null,null,{"$f":"'Finals 12 10'!$E$30","v":"Sec 1"},{"$nulls":3},{"$f":"'Finals 12 10'!$E$29","v":"S/F 1"},{"$nulls":6},{"$f":"'Finals 12 10'!$E$30","v":"Sec 1"},{"$nulls":3},{"$f":"'Finals 12 10'!$E$29","v":"S/F 1"}]
["End",null,"Shots",null,"Total",null,"Shots",null,"Total",{"$nulls":4},"Shots",null,"Total",null,"Shots",null,"Total"]
[1]
[2]
[3]
[4]
[5,{"$nulls":10},2,{"$nulls":10},1]
["Points",{"$nulls":3},"Tie Break",{"$nulls":14},"Points"]
[{"$nulls":4},"End",null,"Shots",{"$nulls":8},"Shots"]
[{"$nulls":4},1]
[{"$nulls":9},"Time"]
["Sign",{"$nulls":8},"Completed",{"$nulls":5},"Sign"]
["i",{"$nulls":14},"i"]
[{"$f":"Entries!$A$1","v":"2018 District 5 - Mixed Pairs"}]
[]
[null,null,"RINK",{"$nulls":5},"DATE"]
[]
[]
[{"$nulls":11},"L"]
[]
[{"$nulls":11},"Sk"]
[]
[null,null,"First Set",{"$nulls":10},"Second Set"]
[]
["End",null,"Shots",null,"Total",null,"Shots",null,"Total",{"$nulls":4},"Shots",null,"Total",null,"Shots",null,"Total"]
[1]
[2]
[3]
[4]
[5,{"$nulls":10},1,{"$nulls":10},1]
["Points",{"$nulls":3},"Tie Break",{"$nulls":14},"Points"]
[{"$nulls":4},"End",null,"Shots",{"$nulls":8},"Shots"]
[{"$nulls":4},1]
[{"$nulls":9},"Time"]
["Sign",{"$nulls":8},"Completed",{"$nulls":5},"Sign"]
["i",{"$nulls":14},"i"]
[{"$f":"Entries!$A$1","v":"2018 District 5 - Mixed Pairs"}]
["R O U N D  1"]
[null,null,"RINK",{"$nulls":5},"DATE"]
[null,null,{"$f":"DRAW!$F$23","v":0}]
[]
[{"$f":"DRAW!$D$24","v":0},{"$nulls":10},"L",null,{"$f":"DRAW!$D$23","v":0}]
[]
[{"$f":"DRAW!$E$24","v":0},{"$nulls":10},"Sk",null,{"$f":"DRAW!$E$23","v":0}]
[]
[null,null,"First Set",{"$nulls":10},"Second Set"]
[null,null,{"$f":"DRAW!$E$24","v":0},{"$nulls":3},{"$f":"DRAW!$E$23","v":0},{"$nulls":6},{"$f":"DRAW!$E$24","v":0},{"$nulls":3},{"$f":"DRAW!$E$23","v":0}]
["End",null,"Shots",null,"Total",null,"Shots",null,"Total",{"$nulls":4},"Shots",null,"Total",null,"Shots",null,"Total"]
[1]
[2]
[3]
[4]
[5,{"$nulls":10},2,{"$nulls":10},1]
["Points",{"$nulls":3},"Tie Break",{"$nulls":14},"Points"]
[{"$nulls":4},"End",null,"Shots",{"$nulls":8},"Shots"]
[{"$nulls":4},1]
[{"$nulls":3},"TEAM No.",{"$nulls":5},"Time",{"$nulls":7},"TEAM No."]
["Sign",null,null,{"$f":"DRAW!$C$24","v":0},{"$nulls":5},"Completed",{"$nulls":5},"Sign",null,{"$f":"DRAW!$C$23","v":0}]
["i",{"$nulls":14},"i"]
[{"$f":"Entries!$A$1","v":"2018 District 5 - Mixed Pairs"}]
["R O U N D  1"]
[null,null,"RINK",{"$nulls":5},"DATE"]
[null,null,{"$f":"DRAW!$F$25","v":0}]
[]
[{"$f":"DRAW!$D$25","v":0},{"$nulls":10},"L",null,{"$f":"DRAW!$D$26","v":0}]
[]
[{"$f":"DRAW!$E$25","v":0},{"$nulls":10},"Sk",null,{"$f":"DRAW!$E$26","v":0}]
[]
[null,null,"First Set",{"$nulls":10},"Second Set"]
[null,null,{"$f":"DRAW!$E$25","v":0},{"$nulls":3},{"$f":"DRAW!$E$26","v":0},{"$nulls":6},{"$f":"DRAW!$E$25","v":0},{"$nulls":3},{"$f":"DRAW!$E$26","v":0}]
["End",null,"Shots",null,"Total",null,"Shots",null,"Total",{"$nulls":4},"Shots",null,"Total",null,"Shots",null,"Total"]
[1]
[2]
[3]
[4]
[5,{"$nulls":10},1,{"$nulls":10},1]
["Points",{"$nulls":3},"Tie Break",{"$nulls":14},"Points"]
[{"$nulls":4},"End",null,"Shots",{"$nulls":8},"Shots"]
[{"$nulls":4},1]
[{"$nulls":3},"TEAM No.",{"$nulls":5},"Time",{"$nulls":7},"TEAM No."]
["Sign",null,null,{"$f":"DRAW!$C$25","v":0},{"$nulls":5},"Completed",{"$nulls":5},"Sign",null,{"$f":"DRAW!$C$26","v":0}]
["i",{"$nulls":14},"i"]
[{"$f":"Entries!$A$1","v":"2018 District 5 - Mixed Pairs"}]
["R O U N D  1"]
[null,null,"RINK",{"$nulls":5},"DATE"]
[null,null,{"$f":"DRAW!$F$25","v":0}]
[]
[{"$f":"DRAW!$D$26","v":0},{"$nulls":10},"L",null,{"$f":"DRAW!$D$25","v":0}]
[]
[{"$f":"DRAW!$E$26","v":0},{"$nulls":10},"Sk",null,{"$f":"DRAW!$E$25","v":0}]
[]
[null,null,"First Set",{"$nulls":10},"Second Set"]
[null,null,{"$f":"DRAW!$E$26","v":0},{"$nulls":3},{"$f":"DRAW!$E$25","v":0},{"$nulls":6},{"$f":"DRAW!$E$26","v":0},{"$nulls":3},{"$f":"DRAW!$E$25","v":0}]
["End",null,"Shots",null,"Total",null,"Shots",null,"Total",{"$nulls":4},"Shots",null,"Total",null,"Shots",null,"Total"]
[1]
[2]
[3]
[4]
[5,{"$nulls":10},2,{"$nulls":10},1]
["Points",{"$nulls":3},"Tie Break",{"$nulls":14},"Points"]
[{"$nulls":4},"End",null,"Shots",{"$nulls":8},"Shots"]
[{"$nulls":4},1]
[{"$nulls":3},"TEAM No.",{"$nulls":5},"Time",{"$nulls":7},"TEAM No."]
["Sign",null,null,{"$f":"DRAW!$C$26","v":0},{"$nulls":5},"Completed",{"$nulls":5},"Sign",null,{"$f":"DRAW!$C$25","v":0}]
["i",{"$nulls":14},"i"]
[{"$f":"Entries!$A$1","v":"2018 District 5 - Mixed Pairs"}]
["R O U N D  1"]
[null,null,"RINK",{"$nulls":5},"DATE"]
[null,null,{"$f":"DRAW!$F$27","v":0}]
[]
[{"$f":"DRAW!$D$27","v":0},{"$nulls":10},"L",null,{"$f":"DRAW!$D$28","v":0}]
[]
[{"$f":"DRAW!$E$27","v":0},{"$nulls":10},"Sk",null,{"$f":"DRAW!$E$28","v":0}]
[]
[null,null,"First Set",{"$nulls":10},"Second Set"]
[null,null,{"$f":"DRAW!$E$27","v":0},{"$nulls":3},{"$f":"DRAW!$E$28","v":0},{"$nulls":6},{"$f":"DRAW!$E$27","v":0},{"$nulls":3},{"$f":"DRAW!$E$28","v":0}]
["End",null,"Shots",null,"Total",null,"Shots",null,"Total",{"$nulls":4},"Shots",null,"Total",null,"Shots",null,"Total"]
[1]
[2]
[3]
[4]
[5,{"$nulls":10},1,{"$nulls":10},1]
["Points",{"$nulls":3},"Tie Break",{"$nulls":14},"Points"]
[{"$nulls":4},"End",null,"Shots",{"$nulls":8},"Shots"]
[{"$nulls":4},1]
[{"$nulls":3},"TEAM No.",{"$nulls":5},"Time",{"$nulls":7},"TEAM No."]
["Sign",null,null,{"$f":"DRAW!$C$27","v":0},{"$nulls":5},"Completed",{"$nulls":5},"Sign",null,{"$f":"DRAW!$C$28","v":0}]
["i",{"$nulls":14},"i"]
[{"$f":"Entries!$A$1","v":"2018 District 5 - Mixed Pairs"}]
["R O U N D  1"]
[null,null,"RINK",{"$nulls":5},"DATE"]
[null,null,{"$f":"DRAW!$F$27","v":0}]
[]
[{"$f":"DRAW!$D$28","v":0},{"$nulls":10},"L",null,{"$f":"DRAW!$D$27","v":0}]
[]
[{"$f":"DRAW!$E$28","v":0},{"$nulls":10},"Sk",null,{"$f":"DRAW!$E$27","v":0}]
[]
[null,null,"First Set",{"$nulls":10},"Second Set"]
[null,null,{"$f":"DRAW!$E$28","v":0},{"$nulls":3},{"$f":"DRAW!$E$27","v":0},{"$nulls":6},{"$f":"DRAW!$E$28","v":0},{"$nulls":3},{"$f":"DRAW!$E$27","v":0}]
["End",null,"Shots",null,"Total",null,"Shots",null,"Total",{"$nulls":4},"Shots",null,"Total",null,"Shots",null,"Total"]
[1]
[2]
[3]
[4]
[5,{"$nulls":10},2,{"$nulls":10},1]
["Points",{"$nulls":3},"Tie Break",{"$nulls":14},"Points"]
[{"$nulls":4},"End",null,"Shots",{"$nulls":8},"Shots"]
[{"$nulls":4},1]
[{"$nulls":3},"TEAM No.",{"$nulls":5},"Time",{"$nulls":7},"TEAM No."]
["Sign",null,null,{"$f":"DRAW!$C$28","v":0},{"$nulls":5},"Completed",{"$nulls":5},"Sign",null,{"$f":"DRAW!$C$27","v":0}]
["i",{"$nulls":14},"i"]
[{"$f":"Entries!$A$1","v":"2018 District 5 - Mixed Pairs"}]
["R O U N D  1"]
[null,null,"RINK",{"$nulls":5},"DATE"]
[null,null,{"$f":"DRAW!$F$29","v":0}]
[]
[{"$f":"DRAW!$D$29","v":0},{"$nulls":10},"L",null,{"$f":"DRAW!$D$30","v":0}]
[]
[{"$f":"DRAW!$E$29","v":0},{"$nulls":10},"Sk",null,{"$f":"DRAW!$E$30","v":0}]
[]
[null,null,"First Set",{"$nulls":10},"Second Set"]
[null,null,{"$f":"DRAW!$E$29","v":0},{"$nulls":3},{"$f":"DRAW!$E$30","v":0},{"$nulls":6},{"$f":"DRAW!$E$29","v":0},{"$nulls":3},{"$f":"DRAW!$E$30","v":0}]
["End",null,"Shots",null,"Total",null,"Shots",null,"Total",{"$nulls":4},"Shots",null,"Total",null,"Shots",null,"Total"]
[1]
[2]
[3]
[4]
[5,{"$nulls":10},1,{"$nulls":10},1]
["Points",{"$nulls":3},"Tie Break",{"$nulls":14},"Points"]
[{"$nulls":4},"End",null,"Shots",{"$nulls":8},"Shots"]
[{"$nulls":4},1]
[{"$nulls":3},"TEAM No.",{"$nulls":5},"Time",{"$nulls":7},"TEAM No."]
["Sign",null,null,{"$f":"DRAW!$C$29","v":0},{"$nulls":5},"Completed",{"$nulls":5},"Sign",null,{"$f":"DRAW!$C$30","v":0}]
["i",{"$nulls":14},"i"]
[{"$f":"Entries!$A$1","v":"2018 District 5 - Mixed Pairs"}]
["R O U N D  1"]
[null,null,"RINK",{"$nulls":5},"DATE"]
[null,null,{"$f":"DRAW!$F$29","v":0}]
[]
[{"$f":"DRAW!$D$30","v":0},{"$nulls":10},"L",null,{"$f":"DRAW!$D$29","v":0}]
[]
[{"$f":"DRAW!$E$30","v":0},{"$nulls":10},"Sk",null,{"$f":"DRAW!$E$29","v":0}]
[]
[null,null,"First Set",{"$nulls":10},"Second Set"]
[null,null,{"$f":"DRAW!$E$30","v":0},{"$nulls":3},{"$f":"DRAW!$E$29","v":0},{"$nulls":6},{"$f":"DRAW!$E$30","v":0},{"$nulls":3},{"$f":"DRAW!$E$29","v":0}]
["End",null,"Shots",null,"Total",null,"Shots",null,"Total",{"$nulls":4},"Shots",null,"Total",null,"Shots",null,"Total"]
[1]
[2]
[3]
[4]
[5,{"$nulls":10},2,{"$nulls":10},1]
["Points",{"$nulls":3},"Tie Break",{"$nulls":14},"Points"]
[{"$nulls":4},"End",null,"Shots",{"$nulls":8},"Shots"]
[{"$nulls":4},1]
[{"$nulls":3},"TEAM No.",{"$nulls":5},"Time",{"$nulls":7},"TEAM No."]
["Sign",null,null,{"$f":"DRAW!$C$30","v":0},{"$nulls":5},"Completed",{"$nulls":5},"Sign",null,{"$f":"DRAW!$C$29","v":0}]
["i",{"$nulls":14},"i"]
[{"$f":"Entries!$A$1","v":"2018 District 5 - Mixed Pairs"}]
["R O U N D  1"]
[null,null,"RINK",{"$nulls":5},"DATE"]
[null,null,{"$f":"DRAW!$F$31","v":0}]
[]
[{"$f":"DRAW!$D$31","v":0},{"$nulls":10},"L",null,{"$f":"DRAW!$D$32","v":0}]
[]
[{"$f":"DRAW!$E$31","v":0},{"$nulls":10},"Sk",null,{"$f":"DRAW!$E$32","v":0}]
[]
[null,null,"First Set",{"$nulls":10},"Second Set"]
[null,null,{"$f":"DRAW!$E$31","v":0},{"$nulls":3},{"$f":"DRAW!$E$32","v":0},{"$nulls":6},{"$f":"DRAW!$E$31","v":0},{"$nulls":3},{"$f":"DRAW!$E$32","v":0}]
["End",null,"Shots",null,"Total",null,"Shots",null,"Total",{"$nulls":4},"Shots",null,"Total",null,"Shots",null,"Total"]
[1]
[2]
[3]
[4]
[5,{"$nulls":10},1,{"$nulls":10},1]
["Points",{"$nulls":3},"Tie Break",{"$nulls":14},"Points"]
[{"$nulls":4},"End",null,"Shots",{"$nulls":8},"Shots"]
[{"$nulls":4},1]
[{"$nulls":3},"TEAM No.",{"$nulls":5},"Time",{"$nulls":7},"TEAM No."]
["Sign",null,null,{"$f":"DRAW!$C$31","v":0},{"$nulls":5},"Completed",{"$nulls":5},"Sign",null,{"$f":"DRAW!$C$32","v":0}]
["i",{"$nulls":14},"i"]
[{"$f":"Entries!$A$1","v":"2018 District 5 - Mixed Pairs"}]
["R O U N D  1"]
[null,null,"RINK",{"$nulls":5},"DATE"]
[null,null,{"$f":"DRAW!$F$31","v":0}]
[]
[{"$f":"DRAW!$D$32","v":0},{"$nulls":10},"L",null,{"$f":"DRAW!$D$31","v":0}]
[]
[{"$f":"DRAW!$E$32","v":0},{"$nulls":10},"Sk",null,{"$f":"DRAW!$E$31","v":0}]
[]
[null,null,"First Set",{"$nulls":10},"Second Set"]
[null,null,{"$f":"DRAW!$E$32","v":0},{"$nulls":3},{"$f":"DRAW!$E$31","v":0},{"$nulls":6},{"$f":"DRAW!$E$32","v":0},{"$nulls":3},{"$f":"DRAW!$E$31","v":0}]
["End",null,"Shots",null,"Total",null,"Shots",null,"Total",{"$nulls":4},"Shots",null,"Total",null,"Shots",null,"Total"]
[1]
[2]
[3]
[4]
[5,{"$nulls":10},2,{"$nulls":10},1]
["Points",{"$nulls":3},"Tie Break",{"$nulls":14},"Points"]
[{"$nulls":4},"End",null,"Shots",{"$nulls":8},"Shots"]
[{"$nulls":4},1]
[{"$nulls":3},"TEAM No.",{"$nulls":5},"Time",{"$nulls":7},"TEAM No."]
["Sign",null,null,{"$f":"DRAW!$C$32","v":0},{"$nulls":5},"Completed",{"$nulls":5},"Sign",null,{"$f":"DRAW!$C$31","v":0}]
["i",{"$nulls":14},"i"]
[{"$f":"Entries!$A$1","v":"2018 District 5 - Mixed Pairs"}]
["R O U N D  1"]
[null,null,"RINK",{"$nulls":5},"DATE"]
[null,null,{"$f":"DRAW!$F$33","v":0}]
[]
[{"$f":"DRAW!$D$33","v":0},{"$nulls":10},"L",null,{"$f":"DRAW!$D$34","v":0}]
[]
[{"$f":"DRAW!$E$33","v":0},{"$nulls":10},"Sk",null,{"$f":"DRAW!$E$34","v":0}]
[]
[null,null,"First Set",{"$nulls":10},"Second Set"]
[null,null,{"$f":"DRAW!$E$33","v":0},{"$nulls":3},{"$f":"DRAW!$E$34","v":0},{"$nulls":6},{"$f":"DRAW!$E$33","v":0},{"$nulls":3},{"$f":"DRAW!$E$34","v":0}]
["End",null,"Shots",null,"Total",null,"Shots",null,"Total",{"$nulls":4},"Shots",null,"Total",null,"Shots",null,"Total"]
[1]
[2]
[3]
[4]
[5,{"$nulls":10},1,{"$nulls":10},1]
["Points",{"$nulls":3},"Tie Break",{"$nulls":14},"Points"]
[{"$nulls":4},"End",null,"Shots",{"$nulls":8},"Shots"]
[{"$nulls":4},1]
[{"$nulls":3},"TEAM No.",{"$nulls":5},"Time",{"$nulls":7},"TEAM No."]
["Sign",null,null,{"$f":"DRAW!$C$33","v":0},{"$nulls":5},"Completed",{"$nulls":5},"Sign",null,{"$f":"DRAW!$C$34","v":0}]
["i",{"$nulls":14},"i"]
[{"$f":"Entries!$A$1","v":"2018 District 5 - Mixed Pairs"}]
["R O U N D  1"]
[null,null,"RINK",{"$nulls":5},"DATE"]
[null,null,{"$f":"DRAW!$F$33","v":0}]
[]
[{"$f":"DRAW!$D$34","v":0},{"$nulls":10},"L",null,{"$f":"DRAW!$D$33","v":0}]
[]
[{"$f":"DRAW!$E$34","v":0},{"$nulls":10},"Sk",null,{"$f":"DRAW!$E$33","v":0}]
[]
[null,null,"First Set",{"$nulls":10},"Second Set"]
[null,null,{"$f":"DRAW!$E$34","v":0},{"$nulls":3},{"$f":"DRAW!$E$33","v":0},{"$nulls":6},{"$f":"DRAW!$E$34","v":0},{"$nulls":3},{"$f":"DRAW!$E$33","v":0}]
["End",null,"Shots",null,"Total",null,"Shots",null,"Total",{"$nulls":4},"Shots",null,"Total",null,"Shots",null,"Total"]
[1]
[2]
[3]
[4]
[5,{"$nulls":10},2,{"$nulls":10},1]
["Points",{"$nulls":3},"Tie Break",{"$nulls":14},"Points"]
[{"$nulls":4},"End",null,"Shots",{"$nulls":8},"Shots"]
[{"$nulls":4},1]
[{"$nulls":3},"TEAM No.",{"$nulls":5},"Time",{"$nulls":7},"TEAM No."]
["Sign",null,null,{"$f":"DRAW!$C$34","v":0},{"$nulls":5},"Completed",{"$nulls":5},"Sign",null,{"$f":"DRAW!$C$33","v":0}]
["i",{"$nulls":14},"i"]
[{"$f":"Entries!$A$1","v":"2018 District 5 - Mixed Pairs"}]
["R O U N D  1"]
[null,null,"RINK",{"$nulls":5},"DATE"]
[null,null,{"$f":"DRAW!$F$35","v":0}]
[]
[{"$f":"DRAW!$D$35","v":0},{"$nulls":10},"L",null,{"$f":"DRAW!$D$36","v":0}]
[]
[{"$f":"DRAW!$E$35","v":0},{"$nulls":10},"Sk",null,{"$f":"DRAW!$E$36","v":0}]
[]
[null,null,"First Set",{"$nulls":10},"Second Set"]
[null,null,{"$f":"DRAW!$E$35","v":0},{"$nulls":3},{"$f":"DRAW!$E$36","v":0},{"$nulls":6},{"$f":"DRAW!$E$35","v":0},{"$nulls":3},{"$f":"DRAW!$E$36","v":0}]
["End",null,"Shots",null,"Total",null,"Shots",null,"Total",{"$nulls":4},"Shots",null,"Total",null,"Shots",null,"Total"]
[1]
[2]
[3]
[4]
[5,{"$nulls":10},1,{"$nulls":10},1]
["Points",{"$nulls":3},"Tie Break",{"$nulls":14},"Points"]
[{"$nulls":4},"End",null,"Shots",{"$nulls":8},"Shots"]
[{"$nulls":4},1]
[{"$nulls":3},"TEAM No.",{"$nulls":5},"Time",{"$nulls":7},"TEAM No."]
["Sign",null,null,{"$f":"DRAW!$C$35","v":0},{"$nulls":5},"Completed",{"$nulls":5},"Sign",null,{"$f":"DRAW!$C$36","v":0}]
["i",{"$nulls":14},"i"]
[{"$f":"Entries!$A$1","v":"2018 District 5 - Mixed Pairs"}]
["R O U N D  1"]
[null,null,"RINK",{"$nulls":5},"DATE"]
[null,null,{"$f":"DRAW!$F$35","v":0}]
[]
[{"$f":"DRAW!$D$36","v":0},{"$nulls":10},"L",null,{"$f":"DRAW!$D$35","v":0}]
[]
[{"$f":"DRAW!$E$36","v":0},{"$nulls":10},"Sk",null,{"$f":"DRAW!$E$35","v":0}]
[]
[null,null,"First Set",{"$nulls":10},"Second Set"]
[null,null,{"$f":"DRAW!$E$36","v":0},{"$nulls":3},{"$f":"DRAW!$E$35","v":0},{"$nulls":6},{"$f":"DRAW!$E$36","v":0},{"$nulls":3},{"$f":"DRAW!$E$35","v":0}]
["End",null,"Shots",null,"Total",null,"Shots",null,"Total",{"$nulls":4},"Shots",null,"Total",null,"Shots",null,"Total"]
[1]
[2]
[3]
[4]
[5,{"$nulls":10},2,{"$nulls":10},1]
["Points",{"$nulls":3},"Tie Break",{"$nulls":14},"Points"]
[{"$nulls":4},"End",null,"Shots",{"$nulls":8},"Shots"]
[{"$nulls":4},1]
[{"$nulls":3},"TEAM No.",{"$nulls":5},"Time",{"$nulls":7},"TEAM No."]
["Sign",null,null,{"$f":"DRAW!$C$36","v":0},{"$nulls":5},"Completed",{"$nulls":5},"Sign",null,{"$f":"DRAW!$C$35","v":0}]
["i",{"$nulls":14},"i"]
[{"$f":"Entries!$A$1","v":"2018 District 5 - Mixed Pairs"}]
["R O U N D  1"]
[null,null,"RINK",{"$nulls":5},"DATE"]
[null,null,{"$f":"DRAW!$F$37","v":0}]
[]
[{"$f":"DRAW!$D$37","v":0},{"$nulls":10},"L",null,{"$f":"DRAW!$D$38","v":0}]
[]
[{"$f":"DRAW!$E$37","v":0},{"$nulls":10},"Sk",null,{"$f":"DRAW!$E$38","v":0}]
[]
[null,null,"First Set",{"$nulls":10},"Second Set"]
[null,null,{"$f":"DRAW!$E$37","v":0},{"$nulls":3},{"$f":"DRAW!$E$38","v":0},{"$nulls":6},{"$f":"DRAW!$E$37","v":0},{"$nulls":3},{"$f":"DRAW!$E$38","v":0}]
["End",null,"Shots",null,"Total",null,"Shots",null,"Total",{"$nulls":4},"Shots",null,"Total",null,"Shots",null,"Total"]
[1]
[2]
[3]
[4]
[5,{"$nulls":10},1,{"$nulls":10},1]
["Points",{"$nulls":3},"Tie Break",{"$nulls":14},"Points"]
[{"$nulls":4},"End",null,"Shots",{"$nulls":8},"Shots"]
[{"$nulls":4},1]
[{"$nulls":3},"TEAM No.",{"$nulls":5},"Time",{"$nulls":7},"TEAM No."]
["Sign",null,null,{"$f":"DRAW!$C$37","v":0},{"$nulls":5},"Completed",{"$nulls":5},"Sign",null,{"$f":"DRAW!$C$38","v":0}]
["i",{"$nulls":14},"i"]
[{"$f":"Entries!$A$1","v":"2018 District 5 - Mixed Pairs"}]
["R O U N D  1"]
[null,null,"RINK",{"$nulls":5},"DATE"]
[null,null,{"$f":"DRAW!$F$37","v":0}]
[]
[{"$f":"DRAW!$D$38","v":0},{"$nulls":10},"L",null,{"$f":"DRAW!$D$37","v":0}]
[]
[{"$f":"DRAW!$E$38","v":0},{"$nulls":10},"Sk",null,{"$f":"DRAW!$E$37","v":0}]
[]
[null,null,"First Set",{"$nulls":10},"Second Set"]
[null,null,{"$f":"DRAW!$E$38","v":0},{"$nulls":3},{"$f":"DRAW!$E$37","v":0},{"$nulls":6},{"$f":"DRAW!$E$38","v":0},{"$nulls":3},{"$f":"DRAW!$E$37","v":0}]
["End",null,"Shots",null,"Total",null,"Shots",null,"Total",{"$nulls":4},"Shots",null,"Total",null,"Shots",null,"Total"]
[1]
[2]
[3]
[4]
[5,{"$nulls":10},2,{"$nulls":10},1]
["Points",{"$nulls":3},"Tie Break",{"$nulls":14},"Points"]
[{"$nulls":4},"End",null,"Shots",{"$nulls":8},"Shots"]
[{"$nulls":4},1]
[{"$nulls":3},"TEAM No.",{"$nulls":5},"Time",{"$nulls":7},"TEAM No."]
["Sign",null,null,{"$f":"DRAW!$C$38","v":0},{"$nulls":5},"Completed",{"$nulls":5},"Sign",null,{"$f":"DRAW!$C$37","v":0}]
["i",{"$nulls":14},"i"]
[{"$f":"Entries!$A$1","v":"2018 District 5 - Mixed Pairs"}]
["R O U N D  1"]
[null,null,"RINK",{"$nulls":5},"DATE"]
[null,null,{"$f":"DRAW!$F$39","v":0}]
[]
[{"$f":"DRAW!$D$39","v":0},{"$nulls":10},"L",null,{"$f":"DRAW!$D$40","v":0}]
[]
[{"$f":"DRAW!$E$39","v":0},{"$nulls":10},"Sk",null,{"$f":"DRAW!$E$40","v":0}]
[]
[null,null,"First Set",{"$nulls":10},"Second Set"]
[null,null,{"$f":"DRAW!$E$39","v":0},{"$nulls":3},{"$f":"DRAW!$E$40","v":0},{"$nulls":6},{"$f":"DRAW!$E$39","v":0},{"$nulls":3},{"$f":"DRAW!$E$40","v":0}]
["End",null,"Shots",null,"Total",null,"Shots",null,"Total",{"$nulls":4},"Shots",null,"Total",null,"Shots",null,"Total"]
[1]
[2]
[3]
[4]
[5,{"$nulls":10},1,{"$nulls":10},1]
["Points",{"$nulls":3},"Tie Break",{"$nulls":14},"Points"]
[{"$nulls":4},"End",null,"Shots",{"$nulls":8},"Shots"]
[{"$nulls":4},1]
[{"$nulls":3},"TEAM No.",{"$nulls":5},"Time",{"$nulls":7},"TEAM No."]
["Sign",null,null,{"$f":"DRAW!$C$39","v":0},{"$nulls":5},"Completed",{"$nulls":5},"Sign",null,{"$f":"DRAW!$C$40","v":0}]
["i",{"$nulls":14},"i"]
[{"$f":"Entries!$A$1","v":"2018 District 5 - Mixed Pairs"}]
["R O U N D  1"]
[null,null,"RINK",{"$nulls":5},"DATE"]
[null,null,{"$f":"DRAW!$F$39","v":0}]
[]
[{"$f":"DRAW!$D$40","v":0},{"$nulls":10},"L",null,{"$f":"DRAW!$D$39","v":0}]
[]
[{"$f":"DRAW!$E$40","v":0},{"$nulls":10},"Sk",null,{"$f":"DRAW!$E$39","v":0}]
[]
[null,null,"First Set",{"$nulls":10},"Second Set"]
[null,null,{"$f":"DRAW!$E$40","v":0},{"$nulls":3},{"$f":"DRAW!$E$39","v":0},{"$nulls":6},{"$f":"DRAW!$E$40","v":0},{"$nulls":3},{"$f":"DRAW!$E$39","v":0}]
["End",null,"Shots",null,"Total",null,"Shots",null,"Total",{"$nulls":4},"Shots",null,"Total",null,"Shots",null,"Total"]
[1]
[2]
[3]
[4]
[5,{"$nulls":10},2,{"$nulls":10},1]
["Points",{"$nulls":3},"Tie Break",{"$nulls":14},"Points"]
[{"$nulls":4},"End",null,"Shots",{"$nulls":8},"Shots"]
[{"$nulls":4},1]
[{"$nulls":3},"TEAM No.",{"$nulls":5},"Time",{"$nulls":7},"TEAM No."]
["Sign",null,null,{"$f":"DRAW!$C$40","v":0},{"$nulls":5},"Completed",{"$nulls":5},"Sign",null,{"$f":"DRAW!$C$39","v":0}]
["i",{"$nulls":14},"i"]
[{"$f":"Entries!$A$1","v":"2018 District 5 - Mixed Pairs"}]
["R O U N D  1"]
[null,null,"RINK",{"$nulls":5},"DATE"]
[null,null,{"$f":"DRAW!$F$41","v":0}]
[]
[{"$f":"DRAW!$D$41","v":0},{"$nulls":10},"L",null,{"$f":"DRAW!$D$42","v":0}]
[]
[{"$f":"DRAW!$E$41","v":0},{"$nulls":10},"Sk",null,{"$f":"DRAW!$E$42","v":0}]
[]
[null,null,"First Set",{"$nulls":10},"Second Set"]
[null,null,{"$f":"DRAW!$E$41","v":0},{"$nulls":3},{"$f":"DRAW!$E$42","v":0},{"$nulls":6},{"$f":"DRAW!$E$41","v":0},{"$nulls":3},{"$f":"DRAW!$E$42","v":0}]
["End",null,"Shots",null,"Total",null,"Shots",null,"Total",{"$nulls":4},"Shots",null,"Total",null,"Shots",null,"Total"]
[1]
[2]
[3]
[4]
[5,{"$nulls":10},1,{"$nulls":10},1]
["Points",{"$nulls":3},"Tie Break",{"$nulls":14},"Points"]
[{"$nulls":4},"End",null,"Shots",{"$nulls":8},"Shots"]
[{"$nulls":4},1]
[{"$nulls":3},"TEAM No.",{"$nulls":5},"Time",{"$nulls":7},"TEAM No."]
["Sign",null,null,{"$f":"DRAW!$C$41","v":0},{"$nulls":5},"Completed",{"$nulls":5},"Sign",null,{"$f":"DRAW!$C$42","v":0}]
["i",{"$nulls":14},"i"]
[{"$f":"Entries!$A$1","v":"2018 District 5 - Mixed Pairs"}]
["R O U N D  1"]
[null,null,"RINK",{"$nulls":5},"DATE"]
[null,null,{"$f":"DRAW!$F$41","v":0}]
[]
[{"$f":"DRAW!$D$42","v":0},{"$nulls":10},"L",null,{"$f":"DRAW!$D$41","v":0}]
[]
[{"$f":"DRAW!$E$42","v":0},{"$nulls":10},"Sk",null,{"$f":"DRAW!$E$41","v":0}]
[]
[null,null,"First Set",{"$nulls":10},"Second Set"]
[null,null,{"$f":"DRAW!$E$42","v":0},{"$nulls":3},{"$f":"DRAW!$E$41","v":0},{"$nulls":6},{"$f":"DRAW!$E$42","v":0},{"$nulls":3},{"$f":"DRAW!$E$41","v":0}]
["End",null,"Shots",null,"Total",null,"Shots",null,"Total",{"$nulls":4},"Shots",null,"Total",null,"Shots",null,"Total"]
[1]
[2]
[3]
[4]
[5,{"$nulls":10},2,{"$nulls":10},1]
["Points",{"$nulls":3},"Tie Break",{"$nulls":14},"Points"]
[{"$nulls":4},"End",null,"Shots",{"$nulls":8},"Shots"]
[{"$nulls":4},1]
[{"$nulls":3},"TEAM No.",{"$nulls":5},"Time",{"$nulls":7},"TEAM No."]
["Sign",null,null,{"$f":"DRAW!$C$42","v":0},{"$nulls":5},"Completed",{"$nulls":5},"Sign",null,{"$f":"DRAW!$C$41","v":0}]
["i",{"$nulls":14},"i"]
[{"$f":"Entries!$A$1","v":"2018 District 5 - Mixed Pairs"}]
["R O U N D  1"]
[null,null,"RINK",{"$nulls":5},"DATE"]
[null,null,{"$f":"DRAW!$F$43","v":0}]
[]
[{"$f":"DRAW!$D$43","v":0},{"$nulls":10},"L",null,{"$f":"DRAW!$D$44","v":0}]
[]
[{"$f":"DRAW!$E$43","v":0},{"$nulls":10},"Sk",null,{"$f":"DRAW!$E$44","v":0}]
[]
[null,null,"First Set",{"$nulls":10},"Second Set"]
[null,null,{"$f":"DRAW!$E$43","v":0},{"$nulls":3},{"$f":"DRAW!$E$44","v":0},{"$nulls":6},{"$f":"DRAW!$E$43","v":0},{"$nulls":3},{"$f":"DRAW!$E$44","v":0}]
["End",null,"Shots",null,"Total",null,"Shots",null,"Total",{"$nulls":4},"Shots",null,"Total",null,"Shots",null,"Total"]
[1]
[2]
[3]
[4]
[5,{"$nulls":10},1,{"$nulls":10},1]
["Points",{"$nulls":3},"Tie Break",{"$nulls":14},"Points"]
[{"$nulls":4},"End",null,"Shots",{"$nulls":8},"Shots"]
[{"$nulls":4},1]
[{"$nulls":3},"TEAM No.",{"$nulls":5},"Time",{"$nulls":7},"TEAM No."]
["Sign",null,null,{"$f":"DRAW!$C$43","v":0},{"$nulls":5},"Completed",{"$nulls":5},"Sign",null,{"$f":"DRAW!$C$44","v":0}]
["i",{"$nulls":14},"i"]
[{"$f":"Entries!$A$1","v":"2018 District 5 - Mixed Pairs"}]
["R O U N D  1"]
[null,null,"RINK",{"$nulls":5},"DATE"]
[null,null,{"$f":"DRAW!$F$43","v":0}]
[]
[{"$f":"DRAW!$D$44","v":0},{"$nulls":10},"L",null,{"$f":"DRAW!$D$43","v":0}]
[]
[{"$f":"DRAW!$E$44","v":0},{"$nulls":10},"Sk",null,{"$f":"DRAW!$E$43","v":0}]
[]
[null,null,"First Set",{"$nulls":10},"Second Set"]
[null,null,{"$f":"DRAW!$E$44","v":0},{"$nulls":3},{"$f":"DRAW!$E$43","v":0},{"$nulls":6},{"$f":"DRAW!$E$44","v":0},{"$nulls":3},{"$f":"DRAW!$E$43","v":0}]
["End",null,"Shots",null,"Total",null,"Shots",null,"Total",{"$nulls":4},"Shots",null,"Total",null,"Shots",null,"Total"]
[1]
[2]
[3]
[4]
[5,{"$nulls":10},2,{"$nulls":10},1]
["Points",{"$nulls":3},"Tie Break",{"$nulls":14},"Points"]
[{"$nulls":4},"End",null,"Shots",{"$nulls":8},"Shots"]
[{"$nulls":4},1]
[{"$nulls":3},"TEAM No.",{"$nulls":5},"Time",{"$nulls":7},"TEAM No."]
["Sign",null,null,{"$f":"DRAW!$C$44","v":0},{"$nulls":5},"Completed",{"$nulls":5},"Sign",null,{"$f":"DRAW!$C$43","v":0}]
["i",{"$nulls":14},"i"]

{"sheet":"Fins16 13 cds","index":32,"n_rows":874,"n_cols":23,"rows_kept":874,"hidden":true,"merged":[[632,0,632,1],[632,15,632,16],[632,17,632,18],[632,19,632,21],[633,0,633,1],[633,2,633,3],[633,4,633,5],[633,6,633,7],[633,8,633,10],[633,13,633,14],[633,15,633,16],[633,17,633,18],[633,19,633,21],[634,0,634,1],[634,2,634,3],[634,4,634,5],[634,6,634,7],[634,8,634,10],[634,13,634,14],[634,15,634,16],[634,17,634,18],[634,19,634,21],[635,0,635,1],[635,2,635,3],[635,4,635,5],[635,6,635,7],[635,8,635,10],[635,13,635,14],[635,15,635,16],[635,17,635,18],[635,19,635,21],[636,0,636,1],[636,2,636,3],[636,4,636,5],[636,6,636,7],[636,8,636,10],[636,13,636,14],[636,15,636,16],[636,17,636,18],[636,19,636,21],[637,0,637,1],[637,2,637,3],[637,4,637,5],[637,6,637,7],[637,8,637,10],[637,11,637,12],[637,13,637,14],[637,15,637,16],[637,17,637,18],[637,19,637,21],[637,22,637,23],[638,0,638,2],[638,4,638,18],[638,19,638,23],[639,4,639,5],[639,6,639,8],[639,15,639,17],[639,19,640,23],[640,4,640,5],[640,6,640,8],[641,3,641,6],[641,9,641,14],[641,17,641,21],[642,0,642,1],[642,3,643,6],[642,9,642,14],[642,15,642,16],[642,17,643,21],[643,0,643,1],[643,15,643,16],[644,0,644,23],[645,0,645,23],[646,2,646,6],[646,8,646,23],[647,2,647,6],[647,8,647,23],[649,0,649,10],[649,11,649,12],[649,13,649,23],[651,0,651,10],[651,11,651,12],[651,13,651,23],[653,2,653,10],[653,13,653,21],[654,2,654,5],[654,6,654,10],[654,13,654,16],[654,17,654,21],[655,0,655,1],[655,2,655,3],[655,4,655,5],[655,6,655,7],[655,8,655,10],[655,13,655,14],[655,15,655,16],[655,17,655,18],[655,19,655,21],[656,0,656,1],[656,2,656,3],[656,4,656,5],[656,6,656,7],[656,8,656,10],[656,13,656,14],[656,15,656,16],[656,17,656,18],[656,19,656,21],[657,0,657,1],[657,2,657,3],[657,4,657,5],[657,6,657,7],[657,8,657,10],[657,13,657,14],[657,15,657,16],[657,17,657,18],[657,19,657,21],[658,0,658,1],[658,2,658,3],[658,4,658,5],[658,6,658,7],[658,8,658,10],[658,13,658,14],[658,15,658,16],[658,17,658,18],[658,19,658,21],[659,0,659,1],[659,2,659,3],[659,4,659,5],[659,6,659,7],[659,8,659,10],[659,13,659,14],[659,15,659,16],[659,17,659,18],[659,19,659,21],[660,0,660,1],[660,2,660,3],[660,4,660,5],[660,6,660,7],[660,8,660,10],[660,11,660,12],[660,13,660,14],[660,15,660,16],[660,17,660,18],[660,19,660,21],[660,22,660,23],[661,0,661,2],[661,4,661,18],[661,19,661,23],[662,4,662,5],[662,6,662,8],[662,15,662,17],[662,19,663,23],[663,4,663,5],[663,6,663,8],[664,3,664,6],[664,9,664,14],[664,17,664,21],[665,0,665,1],[665,3,666,6],[665,9,665,14],[665,15,665,16],[665,17,666,21],[666,0,666,1],[666,15,666,16],[667,0,667,23],[668,0,668,23],[669,2,669,6],[669,8,669,23],[670,2,670,6],[670,8,670,23],[672,0,672,10],[672,11,672,12],[672,13,672,23],[674,0,674,10],[674,11,674,12],[674,13,674,23],[676,2,676,10],[676,13,676,21],[677,2,677,5],[677,6,677,10],[677,13,677,16],[677,17,677,21],[678,0,678,1],[678,2,678,3],[678,4,678,5],[678,6,678,7],[678,8,678,10],[678,13,678,14],[678,15,678,16],[678,17,678,18],[678,19,678,21],[679,0,679,1],[679,2,679,3],[679,4,679,5],[679,6,679,7],[679,8,679,10],[679,13,679,14],[679,15,679,16],[679,17,679,18],[679,19,679,21],[680,0,680,1],[680,2,680,3],[680,4,680,5],[680,6,680,7],[680,8,680,10],[680,13,680,14],[680,15,680,16],[680,17,680,18],[680,19,680,21],[681,0,681,1],[681,2,681,3],[681,4,681,5],[681,6,681,7],[681,8,681,10],[681,13,681,14],[681,15,681,16],[681,17,681,18],[681,19,681,21],[682,0,682,1],[682,2,682,3],[682,4,682,5],[682,6,682,7],[682,8,682,10],[682,13,682,14],[682,15,682,16],[682,17,682,18],[682,19,682,21],[683,0,683,1],[683,2,683,3],[683,4,683,5],[683,6,683,7],[683,8,683,10],[683,11,683,12],[683,13,683,14],[683,15,683,16],[683,17,683,18],[683,19,683,21],[683,22,683,23],[684,0,684,2],[684,4,684,18],[684,19,684,23],[685,4,685,5],[685,6,685,8],[685,15,685,17],[685,19,686,23],[686,4,686,5],[686,6,686,8],[687,3,687,6],[687,9,687,14],[687,17,687,21],[688,0,688,1],[688,3,689,6],[688,9,688,14],[688,15,688,16],[688,17,689,21],[689,0,689,1],[689,15,689,16],[690,0,690,23],[691,0,691,23],[692,2,692,6],[692,8,692,23],[693,2,693,6],[693,8,693,23],[695,0,695,10],[695,11,695,12],[695,13,695,23],[697,0,697,10],[697,11,697,12],[697,13,697,23],[699,2,699,10],[699,13,699,21],[700,2,700,5],[700,6,700,10],[700,13,700,16],[700,17,700,21],[701,0,701,1],[701,2,701,3],[701,4,701,5],[701,6,701,7],[701,8,701,10],[701,13,701,14],[701,15,701,16],[701,17,701,18],[701,19,701,21],[702,0,702,1],[702,2,702,3],[702,4,702,5],[702,6,702,7],[702,8,702,10],[702,13,702,14],[702,15,702,16],[702,17,702,18],[702,19,702,21],[703,0,703,1],[703,2,703,3],[703,4,703,5],[703,6,703,7],[703,8,703,10],[703,13,703,14],[703,15,703,16],[703,17,703,18],[703,19,703,21],[704,0,704,1],[704,2,704,3],[704,4,704,5],[704,6,704,7],[704,8,704,10],[704,13,704,14],[704,15,704,16],[704,17,704,18],[704,19,704,21],[705,0,705,1],[705,2,705,3],[705,4,705,5],[705,6,705,7],[705,8,705,10],[705,13,705,14],[705,15,705,16],[705,17,705,18],[705,19,705,21],[706,0,706,1],[706,2,706,3],[706,4,706,5],[706,6,706,7],[706,8,706,10],[706,11,706,12],[706,13,706,14],[706,15,706,16],[706,17,706,18],[706,19,706,21],[706,22,706,23],[707,0,707,2],[707,4,707,18],[707,19,707,23],[708,4,708,5],[708,6,708,8],[708,15,708,17],[708,19,709,23],[709,4,709,5],[709,6,709,8],[710,3,710,6],[710,9,710,14],[710,17,710,21],[711,0,711,1],[711,3,712,6],[711,9,711,14],[711,15,711,16],[711,17,712,21],[712,0,712,1],[712,15,712,16],[713,0,713,23],[714,0,714,23],[715,2,715,6],[715,8,715,23],[716,2,716,6],[716,8,716,23],[718,0,718,10],[718,11,718,12],[718,13,718,23],[720,0,720,10],[720,11,720,12],[720,13,720,23],[722,2,722,10],[722,13,722,21],[723,2,723,5],[723,6,723,10],[723,13,723,16],[723,17,723,21],[724,0,724,1],[724,2,724,3],[724,4,724,5],[724,6,724,7],[724,8,724,10],[724,13,724,14],[724,15,724,16],[724,17,724,18],[724,19,724,21],[725,0,725,1],[725,2,725,3],[725,4,725,5],[725,6,725,7],[725,8,725,10],[725,13,725,14],[725,15,725,16],[725,17,725,18],[725,19,725,21],[726,0,726,1],[726,2,726,3],[726,4,726,5],[726,6,726,7],[726,8,726,10],[726,13,726,14],[726,15,726,16],[726,17,726,18],[726,19,726,21],[727,0,727,1],[727,2,727,3],[727,4,727,5],[727,6,727,7],[727,8,727,10],[727,13,727,14],[727,15,727,16],[727,17,727,18],[727,19,727,21],[728,0,728,1],[728,2,728,3],[728,4,728,5],[728,6,728,7],[728,8,728,10],[728,13,728,14],[728,15,728,16],[728,17,728,18],[728,19,728,21],[729,0,729,1],[729,2,729,3],[729,4,729,5],[729,6,729,7],[729,8,729,10],[729,11,729,12],[729,13,729,14],[729,15,729,16],[729,17,729,18],[729,19,729,21],[729,22,729,23],[730,0,730,2],[730,4,730,18],[730,19,730,23],[731,4,731,5],[731,6,731,8],[731,15,731,17],[731,19,732,23],[732,4,732,5],[732,6,732,8],[733,3,733,6],[733,9,733,14],[733,17,733,21],[734,0,734,1],[734,3,735,6],[734,9,734,14],[734,15,734,16],[734,17,735,21],[735,0,735,1],[735,15,735,16],[736,0,736,23],[737,0,737,23],[738,2,738,6],[738,8,738,23],[739,2,739,6],[739,8,739,23],[741,0,741,10],[741,11,741,12],[741,13,741,23],[743,0,743,10],[743,11,743,12],[743,13,743,23],[745,2,745,10],[745,13,745,21],[746,2,746,5],[746,6,746,10],[746,13,746,16],[746,17,746,21],[747,0,747,1],[747,2,747,3],[747,4,747,5],[747,6,747,7],[747,8,747,10],[747,13,747,14],[747,15,747,16],[747,17,747,18],[747,19,747,21],[748,0,748,1],[748,2,748,3],[748,4,748,5],[748,6,748,7],[748,8,748,10],[748,13,748,14],[748,15,748,16],[748,17,748,18],[748,19,748,21],[749,0,749,1],[749,2,749,3],[749,4,749,5],[749,6,749,7],[749,8,749,10],[749,13,749,14],[749,15,749,16],[749,17,749,18],[749,19,749,21],[750,0,750,1],[750,2,750,3],[750,4,750,5],[750,6,750,7],[750,8,750,10],[750,13,750,14],[750,15,750,16],[750,17,750,18],[750,19,750,21],[751,0,751,1],[751,2,751,3],[751,4,751,5],[751,6,751,7],[751,8,751,10],[751,13,751,14],[751,15,751,16],[751,17,751,18],[751,19,751,21],[752,0,752,1],[752,2,752,3],[752,4,752,5],[752,6,752,7],[752,8,752,10],[752,11,752,12],[752,13,752,14],[752,15,752,16],[752,17,752,18],[752,19,752,21],[752,22,752,23],[753,0,753,2],[753,4,753,18],[753,19,753,23],[754,4,754,5],[754,6,754,8],[754,15,754,17],[754,19,755,23],[755,4,755,5],[755,6,755,8],[756,3,756,6],[756,9,756,14],[756,17,756,21],[757,0,757,1],[757,3,758,6],[757,9,757,14],[757,15,757,16],[757,17,758,21],[758,0,758,1],[758,15,758,16],[759,0,759,23],[760,0,760,23],[761,2,761,6],[761,8,761,23],[762,2,762,6],[762,8,762,23],[764,0,764,10],[764,11,764,12],[764,13,764,23],[766,0,766,10],[766,11,766,12],[766,13,766,23],[768,2,768,10],[768,13,768,21],[769,2,769,5],[769,6,769,10],[769,13,769,16],[769,17,769,21],[770,0,770,1],[770,2,770,3],[770,4,770,5],[770,6,770,7],[770,8,770,10],[770,13,770,14],[770,15,770,16],[770,17,770,18],[770,19,770,21],[771,0,771,1],[771,2,771,3],[771,4,771,5],[771,6,771,7],[771,8,771,10],[771,13,771,14],[771,15,771,16],[771,17,771,18],[771,19,771,21],[772,0,772,1],[772,2,772,3],[772,4,772,5],[772,6,772,7],[772,8,772,10],[772,13,772,14],[772,15,772,16],[772,17,772,18],[772,19,772,21],[773,0,773,1],[773,2,773,3],[773,4,773,5],[773,6,773,7],[773,8,773,10],[773,13,773,14],[773,15,773,16],[773,17,773,18],[773,19,773,21],[774,0,774,1],[774,2,774,3],[774,4,774,5],[774,6,774,7],[774,8,774,10],[774,13,774,14],[774,15,774,16],[774,17,774,18],[774,19,774,21],[775,0,775,1],[775,2,775,3],[775,4,775,5],[775,6,775,7],[775,8,775,10],[775,11,775,12],[775,13,775,14],[775,15,775,16],[775,17,775,18],[775,19,775,21],[775,22,775,23],[776,0,776,2],[776,4,776,18],[776,19,776,23],[777,4,777,5],[777,6,777,8],[777,15,777,17],[777,19,778,23],[778,4,778,5],[778,6,778,8],[779,3,779,6],[779,9,779,14],[779,17,779,21],[780,0,780,1],[780,3,781,6],[780,9,780,14],[780,15,780,16],[780,17,781,21],[781,0,781,1],[781,15,781,16],[782,0,782,23],[783,0,783,23],[784,2,784,6],[784,8,784,23],[785,2,785,6],[785,8,785,23],[787,0,787,10],[787,11,787,12],[787,13,787,23],[789,0,789,10],[789,11,789,12],[789,13,789,23],[791,2,791,10],[791,13,791,21],[792,2,792,5],[792,6,792,10],[792,13,792,16],[792,17,792,21],[793,0,793,1],[793,2,793,3],[793,4,793,5],[793,6,793,7],[793,8,793,10],[793,13,793,14],[793,15,793,16],[793,17,793,18],[793,19,793,21],[794,0,794,1],[794,2,794,3],[794,4,794,5],[794,6,794,7],[794,8,794,10],[794,13,794,14],[794,15,794,16],[794,17,794,18],[794,19,794,21],[795,0,795,1],[795,2,795,3],[795,4,795,5],[795,6,795,7],[795,8,795,10],[795,13,795,14],[795,15,795,16],[795,17,795,18],[795,19,795,21],[796,0,796,1],[796,2,796,3],[796,4,796,5],[796,6,796,7],[796,8,796,10],[796,13,796,14],[796,15,796,16],[796,17,796,18],[796,19,796,21],[797,0,797,1],[797,2,797,3],[797,4,797,5],[797,6,797,7],[797,8,797,10],[797,13,797,14],[797,15,797,16],[797,17,797,18],[797,19,797,21],[798,0,798,1],[798,2,798,3],[798,4,798,5],[798,6,798,7],[798,8,798,10],[798,11,798,12],[798,13,798,14],[798,15,798,16],[798,17,798,18],[798,19,798,21],[798,22,798,23],[799,0,799,2],[799,4,799,18],[799,19,799,23],[800,4,800,5],[800,6,800,8],[800,15,800,17],[800,19,801,23],[801,4,801,5],[801,6,801,8],[802,3,802,6],[802,9,802,14],[802,17,802,21],[803,0,803,1],[803,3,804,6],[803,9,803,14],[803,15,803,16],[803,17,804,21],[804,0,804,1],[804,15,804,16],[805,0,805,23],[806,0,806,23],[807,2,807,6],[807,8,807,23],[808,2,808,6],[808,8,808,23],[810,0,810,10],[810,11,810,12],[810,13,810,23],[812,0,812,10],[812,11,812,12],[812,13,812,23],[814,2,814,10],[814,13,814,21],[815,2,815,5],[815,6,815,10],[815,13,815,16],[815,17,815,21],[816,0,816,1],[816,2,816,3],[816,4,816,5],[816,6,816,7],[816,8,816,10],[816,13,816,14],[816,15,816,16],[816,17,816,18],[816,19,816,21],[817,0,817,1],[817,2,817,3],[817,4,817,5],[817,6,817,7],[817,8,817,10],[817,13,817,14],[817,15,817,16],[817,17,817,18],[817,19,817,21],[818,0,818,1],[818,2,818,3],[818,4,818,5],[818,6,818,7],[818,8,818,10],[818,13,818,14],[818,15,818,16],[818,17,818,18],[818,19,818,21],[819,0,819,1],[819,2,819,3],[819,4,819,5],[819,6,819,7],[819,8,819,10],[819,13,819,14],[819,15,819,16],[819,17,819,18],[819,19,819,21],[820,0,820,1],[820,2,820,3],[820,4,820,5],[820,6,820,7],[820,8,820,10],[820,13,820,14],[820,15,820,16],[820,17,820,18],[820,19,820,21],[821,0,821,1],[821,2,821,3],[821,4,821,5],[821,6,821,7],[821,8,821,10],[821,11,821,12],[821,13,821,14],[821,15,821,16],[821,17,821,18],[821,19,821,21],[821,22,821,23],[822,0,822,2],[822,4,822,18],[822,19,822,23],[823,4,823,5],[823,6,823,8],[823,15,823,17],[823,19,824,23],[824,4,824,5],[824,6,824,8],[825,3,825,6],[825,9,825,14],[825,17,825,21],[826,0,826,1],[826,3,827,6],[826,9,826,14],[826,15,826,16],[826,17,827,21],[827,0,827,1],[827,15,827,16],[828,0,828,23],[829,0,829,23],[830,2,830,6],[830,8,830,23],[831,2,831,6],[831,8,831,23],[833,0,833,10],[833,11,833,12],[833,13,833,23],[835,0,835,10],[835,11,835,12],[835,13,835,23],[837,2,837,10],[837,13,837,21],[838,2,838,5],[838,6,838,10],[838,13,838,16],[838,17,838,21],[839,0,839,1],[839,2,839,3],[839,4,839,5],[839,6,839,7],[839,8,839,10],[839,13,839,14],[839,15,839,16],[839,17,839,18],[839,19,839,21],[840,0,840,1],[840,2,840,3],[840,4,840,5],[840,6,840,7],[840,8,840,10],[840,13,840,14],[840,15,840,16],[840,17,840,18],[840,19,840,21],[841,0,841,1],[841,2,841,3],[841,4,841,5],[841,6,841,7],[841,8,841,10],[841,13,841,14],[841,15,841,16],[841,17,841,18],[841,19,841,21],[842,0,842,1],[842,2,842,3],[842,4,842,5],[842,6,842,7],[842,8,842,10],[842,13,842,14],[842,15,842,16],[842,17,842,18],[842,19,842,21],[843,0,843,1],[843,2,843,3],[843,4,843,5],[843,6,843,7],[843,8,843,10],[843,13,843,14],[843,15,843,16],[843,17,843,18],[843,19,843,21],[844,0,844,1],[844,2,844,3],[844,4,844,5],[844,6,844,7],[844,8,844,10],[844,11,844,12],[844,13,844,14],[844,15,844,16],[844,17,844,18],[844,19,844,21],[844,22,844,23],[845,0,845,2],[845,4,845,18],[845,19,845,23],[846,4,846,5],[846,6,846,8],[846,15,846,17],[846,19,847,23],[847,4,847,5],[847,6,847,8],[848,3,848,6],[848,9,848,14],[848,17,848,21],[849,0,849,1],[849,3,850,6],[849,9,849,14],[849,15,849,16],[849,17,850,21],[850,0,850,1],[850,15,850,16],[851,0,851,23],[852,0,852,23],[853,2,853,6],[853,8,853,23],[854,2,854,6],[854,8,854,23],[856,0,856,10],[856,11,856,12],[856,13,856,23],[858,0,858,10],[858,11,858,12],[858,13,858,23],[860,2,860,10],[860,13,860,21],[861,2,861,5],[861,6,861,10],[861,13,861,16],[861,17,861,21],[862,0,862,1],[862,2,862,3],[862,4,862,5],[862,6,862,7],[862,8,862,10],[862,13,862,14],[862,15,862,16],[862,17,862,18],[862,19,862,21],[863,0,863,1],[863,2,863,3],[863,4,863,5],[863,6,863,7],[863,8,863,10],[863,13,863,14],[863,15,863,16],[863,17,863,18],[863,19,863,21],[864,0,864,1],[864,2,864,3],[864,4,864,5],[864,6,864,7],[864,8,864,10],[864,13,864,14],[864,15,864,16],[864,17,864,18],[864,19,864,21],[865,0,865,1],[865,2,865,3],[865,4,865,5],[865,6,865,7],[865,8,865,10],[865,13,865,14],[865,15,865,16],[865,17,865,18],[865,19,865,21],[866,0,866,1],[866,2,866,3],[866,4,866,5],[866,6,866,7],[866,8,866,10],[866,13,866,14],[866,15,866,16],[866,17,866,18],[866,19,866,21],[867,0,867,1],[867,2,867,3],[867,4,867,5],[867,6,867,7],[867,8,867,10],[867,11,867,12],[867,13,867,14],[867,15,867,16],[867,17,867,18],[867,19,867,21],[867,22,867,23],[868,0,868,2],[868,4,868,18],[868,19,868,23],[869,4,869,5],[869,6,869,8],[869,15,869,17],[869,19,870,23],[870,4,870,5],[870,6,870,8],[871,3,871,6],[871,9,871,14],[871,17,871,21],[872,0,872,1],[872,3,873,6],[872,9,872,14],[872,15,872,16],[872,17,873,21],[873,0,873,1],[873,15,873,16]],"merged_total":3548,"flags":["merged_cut"]}
[{"$f":"Entries!$A$1","v":"2018 District 5 - Mixed Pairs"}]
[{"$f":"'Finals 16 13'!$C$3","v":0}]
[null,null,"RINK",{"$nulls":5},"DATE"]
[null,null,{"$f":"'Finals 16 13'!$F$6","v":0},{"$nulls":5},{"$f":"Entries!$A$2","v":"20th June 2018"}]
[]
[{"$nulls":11},"L"]
[]
[{"$f":"'Finals 16 13'!$E$6","v":"Sec 8"},{"$nulls":10},"Sk",null,{"$f":"'Finals 16 13'!$E$7","v":"Sec 9"}]
[]
[null,null,"First Set",{"$nulls":10},"Second Set"]
[null,null,{"$f":"'Finals 16 13'!$E$6","v":"Sec 8"},{"$nulls":3},{"$f":"'Finals 16 13'!$E$7","v":"Sec 9"},{"$nulls":6},{"$f":"'Finals 16 13'!$E$6","v":"Sec 8"},{"$nulls":3},{"$f":"'Finals 16 13'!$E$7","v":"Sec 9"}]
["End",null,"Shots",null,"Total",null,"Shots",null,"Total",{"$nulls":4},"Shots",null,"Total",null,"Shots",null,"Total"]
[1]
[2]
[3]
[4]
[5,{"$nulls":10},1,{"$nulls":10},1]
["Points",{"$nulls":3},"Tie Break",{"$nulls":14},"Points"]
[{"$nulls":4},"End",null,"Shots",{"$nulls":8},"Shots"]
[{"$nulls":4},1]
[{"$nulls":9},"Time"]
["Sign",{"$nulls":8},"Completed",{"$nulls":5},"Sign"]
["i",{"$nulls":14},"i"]
[{"$f":"Entries!$A$1","v":"2018 District 5 - Mixed Pairs"}]
[{"$f":"'Finals 16 13'!$C$3","v":0}]
[null,null,"RINK",{"$nulls":5},"DATE"]
[null,null,{"$f":"'Finals 16 13'!$F$6","v":0},{"$nulls":5},{"$f":"Entries!$A$2","v":"20th June 2018"}]
[]
[{"$nulls":11},"L"]
[]
[{"$f":"'Finals 16 13'!$E$7","v":"Sec 9"},{"$nulls":10},"Sk",null,{"$f":"'Finals 16 13'!$E$6","v":"Sec 8"}]
[]
[null,null,"First Set",{"$nulls":10},"Second Set"]
[null,null,{"$f":"'Finals 16 13'!$E$7","v":"Sec 9"},{"$nulls":3},{"$f":"'Finals 16 13'!$E$6","v":"Sec 8"},{"$nulls":6},{"$f":"'Finals 16 13'!$E$7","v":"Sec 9"},{"$nulls":3},{"$f":"'Finals 16 13'!$E$6","v":"Sec 8"}]
["End",null,"Shots",null,"Total",null,"Shots",null,"Total",{"$nulls":4},"Shots",null,"Total",null,"Shots",null,"Total"]
[1]
[2]
[3]
[4]
[5,{"$nulls":10},2,{"$nulls":10},1]
["Points",{"$nulls":3},"Tie Break",{"$nulls":14},"Points"]
[{"$nulls":4},"End",null,"Shots",{"$nulls":8},"Shots"]
[{"$nulls":4},1]
[{"$nulls":9},"Time"]
["Sign",{"$nulls":8},"Completed",{"$nulls":5},"Sign"]
["i",{"$nulls":14},"i"]
[{"$f":"Entries!$A$1","v":"2018 District 5 - Mixed Pairs"}]
[{"$f":"'Finals 16 13'!$C$3","v":0}]
[null,null,"RINK",{"$nulls":5},"DATE"]
[null,null,{"$f":"'Finals 16 13'!$AA$6","v":0},{"$nulls":5},{"$f":"Entries!$A$2","v":"20th June 2018"}]
[]
[{"$nulls":11},"L"]
[]
[{"$f":"'Finals 16 13'!$Z$6","v":0},{"$nulls":10},"Sk",null,{"$f":"'Finals 16 13'!$Z$7","v":0}]
[]
[null,null,"First Set",{"$nulls":10},"Second Set"]
[null,null,{"$f":"'Finals 16 13'!$Z$6","v":0},{"$nulls":3},{"$f":"'Finals 16 13'!$Z$7","v":0},{"$nulls":6},{"$f":"'Finals 16 13'!$Z$6","v":0},{"$nulls":3},{"$f":"'Finals 16 13'!$Z$7","v":0}]
["End",null,"Shots",null,"Total",null,"Shots",null,"Total",{"$nulls":4},"Shots",null,"Total",null,"Shots",null,"Total"]
[1]
[2]
[3]
[4]
[5,{"$nulls":10},1,{"$nulls":10},1]
["Points",{"$nulls":3},"Tie Break",{"$nulls":14},"Points"]
[{"$nulls":4},"End",null,"Shots",{"$nulls":8},"Shots"]
[{"$nulls":4},1]
[{"$nulls":9},"Time"]
["Sign",{"$nulls":8},"Completed",{"$nulls":5},"Sign"]
["i",{"$nulls":14},"i"]
[{"$f":"Entries!$A$1","v":"2018 District 5 - Mixed Pairs"}]
[{"$f":"'Finals 16 13'!$C$3","v":0}]
[null,null,"RINK",{"$nulls":5},"DATE"]
[null,null,{"$f":"'Finals 16 13'!$AA$6","v":0},{"$nulls":5},{"$f":"Entries!$A$2","v":"20th June 2018"}]
[]
[{"$nulls":11},"L"]
[]
[{"$f":"'Finals 16 13'!$Z$7","v":0},{"$nulls":10},"Sk",null,{"$f":"'Finals 16 13'!$Z$6","v":0}]
[]
[null,null,"First Set",{"$nulls":10},"Second Set"]
[null,null,{"$f":"'Finals 16 13'!$Z$7","v":0},{"$nulls":3},{"$f":"'Finals 16 13'!$Z$6","v":0},{"$nulls":6},{"$f":"'Finals 16 13'!$Z$7","v":0},{"$nulls":3},{"$f":"'Finals 16 13'!$Z$6","v":0}]
["End",null,"Shots",null,"Total",null,"Shots",null,"Total",{"$nulls":4},"Shots",null,"Total",null,"Shots",null,"Total"]
[1]
[2]
[3]
[4]
[5,{"$nulls":10},2,{"$nulls":10},1]
["Points",{"$nulls":3},"Tie Break",{"$nulls":14},"Points"]
[{"$nulls":4},"End",null,"Shots",{"$nulls":8},"Shots"]
[{"$nulls":4},1]
[{"$nulls":9},"Time"]
["Sign",{"$nulls":8},"Completed",{"$nulls":5},"Sign"]
["i",{"$nulls":14},"i"]
[{"$f":"Entries!$A$1","v":"2018 District 5 - Mixed Pairs"}]
[{"$f":"'Finals 28 25'!$C$11","v":"S E M I  F I N A L "}]
[null,null,"RINK",{"$nulls":5},"DATE"]
[null,null,{"$f":"'Finals 16 13'!$F$12","v":0},{"$nulls":5},{"$f":"Entries!$A$2","v":"20th June 2018"}]
[]
[{"$nulls":11},"L"]
[]
[{"$f":"'Finals 16 13'!$E$12","v":"Sec 4"},{"$nulls":10},"Sk",null,{"$f":"'Finals 16 13'!$E$13","v":0}]
[]
[null,null,"First Set",{"$nulls":10},"Second Set"]
[null,null,{"$f":"'Finals 16 13'!$E$12","v":"Sec 4"},{"$nulls":3},{"$f":"'Finals 16 13'!$E$13","v":0},{"$nulls":6},{"$f":"'Finals 16 13'!$E$12","v":"Sec 4"},{"$nulls":3},{"$f":"'Finals 16 13'!$E$13","v":0}]
["End",null,"Shots",null,"Total",null,"Shots",null,"Total",{"$nulls":4},"Shots",null,"Total",null,"Shots",null,"Total"]
[1]
[2]
[3]
[4]
[5,{"$nulls":10},1,{"$nulls":10},1]
["Points",{"$nulls":3},"Tie Break",{"$nulls":14},"Points"]
[{"$nulls":4},"End",null,"Shots",{"$nulls":8},"Shots"]
[{"$nulls":4},1]
[{"$nulls":9},"Time"]
["Sign",{"$nulls":8},"Completed",{"$nulls":5},"Sign"]
["i",{"$nulls":14},"i"]
[{"$f":"Entries!$A$1","v":"2018 District 5 - Mixed Pairs"}]
[{"$f":"'Finals 28 25'!$C$11","v":"S E M I  F I N A L "}]
[null,null,"RINK",{"$nulls":5},"DATE"]
[null,null,{"$f":"'Finals 16 13'!$F$12","v":0},{"$nulls":5},{"$f":"Entries!$A$2","v":"20th June 2018"}]
[]
[{"$nulls":11},"L"]
[]
[{"$f":"'Finals 16 13'!$E$13","v":0},{"$nulls":10},"Sk",null,{"$f":"'Finals 16 13'!$E$12","v":"Sec 4"}]
[]
[null,null,"First Set",{"$nulls":10},"Second Set"]
[null,null,{"$f":"'Finals 16 13'!$E$13","v":0},{"$nulls":3},{"$f":"'Finals 16 13'!$E$12","v":"Sec 4"},{"$nulls":6},{"$f":"'Finals 16 13'!$E$13","v":0},{"$nulls":3},{"$f":"'Finals 16 13'!$E$12","v":"Sec 4"}]
["End",null,"Shots",null,"Total",null,"Shots",null,"Total",{"$nulls":4},"Shots",null,"Total",null,"Shots",null,"Total"]
[1]
[2]
[3]
[4]
[5,{"$nulls":10},2,{"$nulls":10},1]
["Points",{"$nulls":3},"Tie Break",{"$nulls":14},"Points"]
[{"$nulls":4},"End",null,"Shots",{"$nulls":8},"Shots"]
[{"$nulls":4},1]
[{"$nulls":9},"Time"]
["Sign",{"$nulls":8},"Completed",{"$nulls":5},"Sign"]
["i",{"$nulls":14},"i"]
[{"$f":"Entries!$A$1","v":"2018 District 5 - Mixed Pairs"}]
[{"$f":"'Finals 28 25'!$C$11","v":"S E M I  F I N A L "}]
[null,null,"RINK",{"$nulls":5},"DATE"]
[null,null,{"$f":"'Finals 16 13'!$AA$12","v":0},{"$nulls":5},{"$f":"Entries!$A$2","v":"20th June 2018"}]
[]
[{"$nulls":11},"L"]
[]
[{"$f":"'Finals 16 13'!$Z$12","v":0},{"$nulls":10},"Sk",null,{"$f":"'Finals 16 13'!$Z$13","v":0}]
[]
[null,null,"First Set",{"$nulls":10},"Second Set"]
[null,null,{"$f":"'Finals 16 13'!$Z$12","v":0},{"$nulls":3},{"$f":"'Finals 16 13'!$Z$13","v":0},{"$nulls":6},{"$f":"'Finals 16 13'!$Z$12","v":0},{"$nulls":3},{"$f":"'Finals 16 13'!$Z$13","v":0}]
["End",null,"Shots",null,"Total",null,"Shots",null,"Total",{"$nulls":4},"Shots",null,"Total",null,"Shots",null,"Total"]
[1]
[2]
[3]
[4]
[5,{"$nulls":10},1,{"$nulls":10},1]
["Points",{"$nulls":3},"Tie Break",{"$nulls":14},"Points"]
[{"$nulls":4},"End",null,"Shots",{"$nulls":8},"Shots"]
[{"$nulls":4},1]
[{"$nulls":9},"Time"]
["Sign",{"$nulls":8},"Completed",{"$nulls":5},"Sign"]
["i",{"$nulls":14},"i"]
[{"$f":"Entries!$A$1","v":"2018 District 5 - Mixed Pairs"}]
[{"$f":"'Finals 28 25'!$C$11","v":"S E M I  F I N A L "}]
[null,null,"RINK",{"$nulls":5},"DATE"]
[null,null,{"$f":"'Finals 16 13'!$AA$12","v":0},{"$nulls":5},{"$f":"Entries!$A$2","v":"20th June 2018"}]
[]
[{"$nulls":11},"L"]
[]
[{"$f":"'Finals 16 13'!$Z$13","v":0},{"$nulls":10},"Sk",null,{"$f":"'Finals 16 13'!$Z$12","v":0}]
[]
[null,null,"First Set",{"$nulls":10},"Second Set"]
[null,null,{"$f":"'Finals 16 13'!$Z$13","v":0},{"$nulls":3},{"$f":"'Finals 16 13'!$Z$12","v":0},{"$nulls":6},{"$f":"'Finals 16 13'!$Z$13","v":0},{"$nulls":3},{"$f":"'Finals 16 13'!$Z$12","v":0}]
["End",null,"Shots",null,"Total",null,"Shots",null,"Total",{"$nulls":4},"Shots",null,"Total",null,"Shots",null,"Total"]
[1]
[2]
[3]
[4]
[5,{"$nulls":10},2,{"$nulls":10},1]
["Points",{"$nulls":3},"Tie Break",{"$nulls":14},"Points"]
[{"$nulls":4},"End",null,"Shots",{"$nulls":8},"Shots"]
[{"$nulls":4},1]
[{"$nulls":9},"Time"]
["Sign",{"$nulls":8},"Completed",{"$nulls":5},"Sign"]
["i",{"$nulls":14},"i"]
[{"$f":"Entries!$A$1","v":"2018 District 5 - Mixed Pairs"}]
["S E M I  F I N A L"]
[null,null,"RINK",{"$nulls":5},"DATE"]
[null,null,{"$f":"'Finals 16 13'!$F$20","v":0},{"$nulls":5},{"$f":"Entries!$A$2","v":"20th June 2018"}]
[]
[{"$nulls":11},"L"]
[]
[{"$f":"'Finals 16 13'!$E$20","v":"Sec 4"},{"$nulls":10},"Sk",null,{"$f":"'Finals 16 13'!$E$21","v":"Sec 3"}]
[]
[null,null,"First Set",{"$nulls":10},"Second Set"]
[null,null,{"$f":"'Finals 16 13'!$E$20","v":"Sec 4"},{"$nulls":3},{"$f":"'Finals 16 13'!$E$21","v":"Sec 3"},{"$nulls":6},{"$f":"'Finals 16 13'!$E$20","v":"Sec 4"},{"$nulls":3},{"$f":"'Finals 16 13'!$E$21","v":"Sec 3"}]
["End",null,"Shots",null,"Total",null,"Shots",null,"Total",{"$nulls":4},"Shots",null,"Total",null,"Shots",null,"Total"]
[1]
[2]
[3]
[4]
[5,{"$nulls":10},1,{"$nulls":10},1]
["Points",{"$nulls":3},"Tie Break",{"$nulls":14},"Points"]
[{"$nulls":4},"End",null,"Shots",{"$nulls":8},"Shots"]
[{"$nulls":4},1]
[{"$nulls":9},"Time"]
["Sign",{"$nulls":8},"Completed",{"$nulls":5},"Sign"]
["i",{"$nulls":14},"i"]
[{"$f":"Entries!$A$1","v":"2018 District 5 - Mixed Pairs"}]
["S E M I  F I N A L"]
[null,null,"RINK",{"$nulls":5},"DATE"]
[null,null,{"$f":"'Finals 16 13'!$F$20","v":0},{"$nulls":5},{"$f":"Entries!$A$2","v":"20th June 2018"}]
[]
[{"$nulls":11},"L"]
[]
[{"$f":"'Finals 16 13'!$E$21","v":"Sec 3"},{"$nulls":10},"Sk",null,{"$f":"'Finals 16 13'!$E$20","v":"Sec 4"}]
[]
[null,null,"First Set",{"$nulls":10},"Second Set"]
[null,null,{"$f":"'Finals 16 13'!$E$21","v":"Sec 3"},{"$nulls":3},{"$f":"'Finals 16 13'!$E$20","v":"Sec 4"},{"$nulls":6},{"$f":"'Finals 16 13'!$E$21","v":"Sec 3"},{"$nulls":3},{"$f":"'Finals 16 13'!$E$20","v":"Sec 4"}]
["End",null,"Shots",null,"Total",null,"Shots",null,"Total",{"$nulls":4},"Shots",null,"Total",null,"Shots",null,"Total"]
[1]
[2]
[3]
[4]
[5,{"$nulls":10},2,{"$nulls":10},1]
["Points",{"$nulls":3},"Tie Break",{"$nulls":14},"Points"]
[{"$nulls":4},"End",null,"Shots",{"$nulls":8},"Shots"]
[{"$nulls":4},1]
[{"$nulls":9},"Time"]
["Sign",{"$nulls":8},"Completed",{"$nulls":5},"Sign"]
["i",{"$nulls":14},"i"]
[{"$f":"Entries!$A$1","v":"2018 District 5 - Mixed Pairs"}]
["S E M I  F I N A L"]
[null,null,"RINK",{"$nulls":5},"DATE"]
[null,null,{"$f":"'Finals 16 13'!$F$20","v":0},{"$nulls":5},{"$f":"Entries!$A$2","v":"20th June 2018"}]
[]
[{"$nulls":11},"L"]
[]
[{"$f":"'Finals 16 13'!$Z$20","v":"Sec 2"},{"$nulls":10},"Sk",null,{"$f":"'Finals 16 13'!$Z$21","v":"Sec 1"}]
[]
[null,null,"First Set",{"$nulls":10},"Second Set"]
[null,null,{"$f":"'Finals 16 13'!$Z$20","v":"Sec 2"},{"$nulls":3},{"$f":"'Finals 16 13'!$Z$21","v":"Sec 1"},{"$nulls":6},{"$f":"'Finals 16 13'!$Z$20","v":"Sec 2"},{"$nulls":3},{"$f":"'Finals 16 13'!$Z$21","v":"Sec 1"}]
["End",null,"Shots",null,"Total",null,"Shots",null,"Total",{"$nulls":4},"Shots",null,"Total",null,"Shots",null,"Total"]
[1]
[2]
[3]
[4]
[5,{"$nulls":10},1,{"$nulls":10},1]
["Points",{"$nulls":3},"Tie Break",{"$nulls":14},"Points"]
[{"$nulls":4},"End",null,"Shots",{"$nulls":8},"Shots"]
[{"$nulls":4},1]
[{"$nulls":9},"Time"]
["Sign",{"$nulls":8},"Completed",{"$nulls":5},"Sign"]
["i",{"$nulls":14},"i"]
[{"$f":"Entries!$A$1","v":"2018 District 5 - Mixed Pairs"}]
["S E M I  F I N A L"]
[null,null,"RINK",{"$nulls":5},"DATE"]
[null,null,{"$f":"'Finals 16 13'!$F$20","v":0},{"$nulls":5},{"$f":"Entries!$A$2","v":"20th June 2018"}]
[]
[{"$nulls":11},"L"]
[]
[{"$f":"'Finals 16 13'!$Z$21","v":"Sec 1"},{"$nulls":10},"Sk",null,{"$f":"'Finals 16 13'!$Z$20","v":"Sec 2"}]
[]
[null,null,"First Set",{"$nulls":10},"Second Set"]
[null,null,{"$f":"'Finals 16 13'!$Z$21","v":"Sec 1"},{"$nulls":3},{"$f":"'Finals 16 13'!$Z$20","v":"Sec 2"},{"$nulls":6},{"$f":"'Finals 16 13'!$Z$21","v":"Sec 1"},{"$nulls":3},{"$f":"'Finals 16 13'!$Z$20","v":"Sec 2"}]
["End",null,"Shots",null,"Total",null,"Shots",null,"Total",{"$nulls":4},"Shots",null,"Total",null,"Shots",null,"Total"]
[1]
[2]
[3]
[4]
[5,{"$nulls":10},2,{"$nulls":10},1]
["Points",{"$nulls":3},"Tie Break",{"$nulls":14},"Points"]
[{"$nulls":4},"End",null,"Shots",{"$nulls":8},"Shots"]
[{"$nulls":4},1]
[{"$nulls":9},"Time"]
["Sign",{"$nulls":8},"Completed",{"$nulls":5},"Sign"]
["i",{"$nulls":14},"i"]
[{"$f":"Entries!$A$1","v":"2018 District 5 - Mixed Pairs"}]
[{"$f":"'Finals 16 13'!$C$17","v":7}]
[null,null,"RINK",{"$nulls":5},"DATE"]
[null,null,{"$f":"'Finals 16 13'!$X$18","v":0}]
[{"$nulls":9},"      "]
[{"$nulls":11},"L"]
[]
[{"$f":"'Finals 16 13'!$Z$18","v":"."},{"$nulls":10},"Sk",null,{"$f":"'Finals 16 13'!$Z$19","v":0}]
[]
[null,null,"First Set",{"$nulls":10},"Second Set"]
[null,null,{"$f":"'Finals 16 13'!$Z$18","v":"."},{"$nulls":3},{"$f":"'Finals 16 13'!$Z$19","v":0},{"$nulls":6},{"$f":"'Finals 16 13'!$Z$18","v":"."},{"$nulls":3},{"$f":"'Finals 16 13'!$Z$19","v":0}]
["End",null,"Shots",null,"Total",null,"Shots",null,"Total",{"$nulls":4},"Shots",null,"Total",null,"Shots",null,"Total"]
[1]
[2]
[3]
[4]
[5,{"$nulls":10},1,{"$nulls":10},1]
["Points",{"$nulls":3},"Tie Break",{"$nulls":14},"Points"]
[{"$nulls":4},"End",null,"Shots",{"$nulls":8},"Shots"]
[{"$nulls":4},1]
[{"$nulls":9},"Time"]
["Sign",{"$nulls":8},"Completed",{"$nulls":5},"Sign"]
["i",{"$nulls":14},"i"]
[{"$f":"Entries!$A$1","v":"2018 District 5 - Mixed Pairs"}]
[{"$f":"'Finals 16 13'!$C$17","v":7}]
[null,null,"RINK",{"$nulls":5},"DATE"]
[null,null,{"$f":"'Finals 16 13'!$X$18","v":0}]
[]
[{"$nulls":11},"L"]
[]
[{"$f":"'Finals 16 13'!$Z$19","v":0},{"$nulls":10},"Sk",null,{"$f":"'Finals 16 13'!$Z$18","v":"."}]
[]
[null,null,"First Set",{"$nulls":10},"Second Set"]
[null,null,{"$f":"'Finals 16 13'!$Z$19","v":0},{"$nulls":3},{"$f":"'Finals 16 13'!$Z$18","v":"."},{"$nulls":6},{"$f":"'Finals 16 13'!$Z$19","v":0},{"$nulls":3},{"$f":"'Finals 16 13'!$Z$18","v":"."}]
["End",null,"Shots",null,"Total",null,"Shots",null,"Total",{"$nulls":4},"Shots",null,"Total",null,"Shots",null,"Total"]
[1]
[2]
[3]
[4]
[5,{"$nulls":10},2,{"$nulls":10},1]
["Points",{"$nulls":3},"Tie Break",{"$nulls":14},"Points"]
[{"$nulls":4},"End",null,"Shots",{"$nulls":8},"Shots"]
[{"$nulls":4},1]
[{"$nulls":9},"Time"]
["Sign",{"$nulls":8},"Completed",{"$nulls":5},"Sign"]
["i",{"$nulls":14},"i"]
[{"$f":"Entries!$A$1","v":"2018 District 5 - Mixed Pairs"}]
["F I N A L"]
[null,null,"RINK",{"$nulls":5},"DATE"]
[null,null,{"$f":"'Finals 16 13'!$F$29","v":0}]
[]
[{"$nulls":11},"L"]
[]
[{"$f":"'Finals 16 13'!$E$29","v":"S/F 1"},{"$nulls":10},"Sk",null,{"$f":"'Finals 16 13'!$E$30","v":"S/F 2"}]
[]
[null,null,"First Set",{"$nulls":10},"Second Set"]
[null,null,{"$f":"'Finals 16 13'!$E$29","v":"S/F 1"},{"$nulls":3},{"$f":"'Finals 16 13'!$E$30","v":"S/F 2"},{"$nulls":6},{"$f":"'Finals 16 13'!$E$29","v":"S/F 1"},{"$nulls":3},{"$f":"'Finals 16 13'!$E$30","v":"S/F 2"}]
["End",null,"Shots",null,"Total",null,"Shots",null,"Total",{"$nulls":4},"Shots",null,"Total",null,"Shots",null,"Total"]
[1]
[2]
[3]
[4]
[5,{"$nulls":10},1,{"$nulls":10},1]
["Points",{"$nulls":3},"Tie Break",{"$nulls":14},"Points"]
[{"$nulls":4},"End",null,"Shots",{"$nulls":8},"Shots"]
[{"$nulls":4},1]
[{"$nulls":9},"Time"]
["Sign",{"$nulls":8},"Completed",{"$nulls":5},"Sign"]
["i",{"$nulls":14},"i"]
[{"$f":"Entries!$A$1","v":"2018 District 5 - Mixed Pairs"}]
["F I N A L"]
[null,null,"RINK",{"$nulls":5},"DATE"]
[null,null,{"$f":"'Finals 16 13'!$F$29","v":0}]
[]
[{"$nulls":11},"L"]
[]
[{"$f":"'Finals 16 13'!$E$30","v":"S/F 2"},{"$nulls":10},"Sk",null,{"$f":"'Finals 16 13'!$E$29","v":"S/F 1"}]
[]
[null,null,"First Set",{"$nulls":10},"Second Set"]
[null,null,{"$f":"'Finals 16 13'!$E$30","v":"S/F 2"},{"$nulls":3},{"$f":"'Finals 16 13'!$E$29","v":"S/F 1"},{"$nulls":6},{"$f":"'Finals 16 13'!$E$30","v":"S/F 2"},{"$nulls":3},{"$f":"'Finals 16 13'!$E$29","v":"S/F 1"}]
["End",null,"Shots",null,"Total",null,"Shots",null,"Total",{"$nulls":4},"Shots",null,"Total",null,"Shots",null,"Total"]
[1]
[2]
[3]
[4]
[5,{"$nulls":10},2,{"$nulls":10},1]
["Points",{"$nulls":3},"Tie Break",{"$nulls":14},"Points"]
[{"$nulls":4},"End",null,"Shots",{"$nulls":8},"Shots"]
[{"$nulls":4},1]
[{"$nulls":9},"Time"]
["Sign",{"$nulls":8},"Completed",{"$nulls":5},"Sign"]
["i",{"$nulls":14},"i"]
[{"$f":"Entries!$A$1","v":"2018 District 5 - Mixed Pairs"}]
[]
[null,null,"RINK",{"$nulls":5},"DATE"]
[]
[]
[{"$nulls":11},"L"]
[]
[{"$nulls":11},"Sk"]
[]
[null,null,"First Set",{"$nulls":10},"Second Set"]
[]
["End",null,"Shots",null,"Total",null,"Shots",null,"Total",{"$nulls":4},"Shots",null,"Total",null,"Shots",null,"Total"]
[1]
[2]
[3]
[4]
[5,{"$nulls":10},1,{"$nulls":10},1]
["Points",{"$nulls":3},"Tie Break",{"$nulls":14},"Points"]
[{"$nulls":4},"End",null,"Shots",{"$nulls":8},"Shots"]
[{"$nulls":4},1]
[{"$nulls":9},"Time"]
["Sign",{"$nulls":8},"Completed",{"$nulls":5},"Sign"]
["i",{"$nulls":14},"i"]
[{"$f":"Entries!$A$1","v":"2018 District 5 - Mixed Pairs"}]
["R O U N D  1"]
[null,null,"RINK",{"$nulls":5},"DATE"]
[null,null,{"$f":"DRAW!$F$23","v":0}]
[]
[{"$f":"DRAW!$D$24","v":0},{"$nulls":10},"L",null,{"$f":"DRAW!$D$23","v":0}]
[]
[{"$f":"DRAW!$E$24","v":0},{"$nulls":10},"Sk",null,{"$f":"DRAW!$E$23","v":0}]
[]
[null,null,"First Set",{"$nulls":10},"Second Set"]
[null,null,{"$f":"DRAW!$E$24","v":0},{"$nulls":3},{"$f":"DRAW!$E$23","v":0},{"$nulls":6},{"$f":"DRAW!$E$24","v":0},{"$nulls":3},{"$f":"DRAW!$E$23","v":0}]
["End",null,"Shots",null,"Total",null,"Shots",null,"Total",{"$nulls":4},"Shots",null,"Total",null,"Shots",null,"Total"]
[1]
[2]
[3]
[4]
[5,{"$nulls":10},2,{"$nulls":10},1]
["Points",{"$nulls":3},"Tie Break",{"$nulls":14},"Points"]
[{"$nulls":4},"End",null,"Shots",{"$nulls":8},"Shots"]
[{"$nulls":4},1]
[{"$nulls":3},"TEAM No.",{"$nulls":5},"Time",{"$nulls":7},"TEAM No."]
["Sign",null,null,{"$f":"DRAW!$C$24","v":0},{"$nulls":5},"Completed",{"$nulls":5},"Sign",null,{"$f":"DRAW!$C$23","v":0}]
["i",{"$nulls":14},"i"]
[{"$f":"Entries!$A$1","v":"2018 District 5 - Mixed Pairs"}]
["R O U N D  1"]
[null,null,"RINK",{"$nulls":5},"DATE"]
[null,null,{"$f":"DRAW!$F$25","v":0}]
[]
[{"$f":"DRAW!$D$25","v":0},{"$nulls":10},"L",null,{"$f":"DRAW!$D$26","v":0}]
[]
[{"$f":"DRAW!$E$25","v":0},{"$nulls":10},"Sk",null,{"$f":"DRAW!$E$26","v":0}]
[]
[null,null,"First Set",{"$nulls":10},"Second Set"]
[null,null,{"$f":"DRAW!$E$25","v":0},{"$nulls":3},{"$f":"DRAW!$E$26","v":0},{"$nulls":6},{"$f":"DRAW!$E$25","v":0},{"$nulls":3},{"$f":"DRAW!$E$26","v":0}]
["End",null,"Shots",null,"Total",null,"Shots",null,"Total",{"$nulls":4},"Shots",null,"Total",null,"Shots",null,"Total"]
[1]
[2]
[3]
[4]
[5,{"$nulls":10},1,{"$nulls":10},1]
["Points",{"$nulls":3},"Tie Break",{"$nulls":14},"Points"]
[{"$nulls":4},"End",null,"Shots",{"$nulls":8},"Shots"]
[{"$nulls":4},1]
[{"$nulls":3},"TEAM No.",{"$nulls":5},"Time",{"$nulls":7},"TEAM No."]
["Sign",null,null,{"$f":"DRAW!$C$25","v":0},{"$nulls":5},"Completed",{"$nulls":5},"Sign",null,{"$f":"DRAW!$C$26","v":0}]
["i",{"$nulls":14},"i"]
[{"$f":"Entries!$A$1","v":"2018 District 5 - Mixed Pairs"}]
["R O U N D  1"]
[null,null,"RINK",{"$nulls":5},"DATE"]
[null,null,{"$f":"DRAW!$F$25","v":0}]
[]
[{"$f":"DRAW!$D$26","v":0},{"$nulls":10},"L",null,{"$f":"DRAW!$D$25","v":0}]
[]
[{"$f":"DRAW!$E$26","v":0},{"$nulls":10},"Sk",null,{"$f":"DRAW!$E$25","v":0}]
[]
[null,null,"First Set",{"$nulls":10},"Second Set"]
[null,null,{"$f":"DRAW!$E$26","v":0},{"$nulls":3},{"$f":"DRAW!$E$25","v":0},{"$nulls":6},{"$f":"DRAW!$E$26","v":0},{"$nulls":3},{"$f":"DRAW!$E$25","v":0}]
["End",null,"Shots",null,"Total",null,"Shots",null,"Total",{"$nulls":4},"Shots",null,"Total",null,"Shots",null,"Total"]
[1]
[2]
[3]
[4]
[5,{"$nulls":10},2,{"$nulls":10},1]
["Points",{"$nulls":3},"Tie Break",{"$nulls":14},"Points"]
[{"$nulls":4},"End",null,"Shots",{"$nulls":8},"Shots"]
[{"$nulls":4},1]
[{"$nulls":3},"TEAM No.",{"$nulls":5},"Time",{"$nulls":7},"TEAM No."]
["Sign",null,null,{"$f":"DRAW!$C$26","v":0},{"$nulls":5},"Completed",{"$nulls":5},"Sign",null,{"$f":"DRAW!$C$25","v":0}]
["i",{"$nulls":14},"i"]
[{"$f":"Entries!$A$1","v":"2018 District 5 - Mixed Pairs"}]
["R O U N D  1"]
[null,null,"RINK",{"$nulls":5},"DATE"]
[null,null,{"$f":"DRAW!$F$27","v":0}]
[]
[{"$f":"DRAW!$D$27","v":0},{"$nulls":10},"L",null,{"$f":"DRAW!$D$28","v":0}]
[]
[{"$f":"DRAW!$E$27","v":0},{"$nulls":10},"Sk",null,{"$f":"DRAW!$E$28","v":0}]
[]
[null,null,"First Set",{"$nulls":10},"Second Set"]
[null,null,{"$f":"DRAW!$E$27","v":0},{"$nulls":3},{"$f":"DRAW!$E$28","v":0},{"$nulls":6},{"$f":"DRAW!$E$27","v":0},{"$nulls":3},{"$f":"DRAW!$E$28","v":0}]
["End",null,"Shots",null,"Total",null,"Shots",null,"Total",{"$nulls":4},"Shots",null,"Total",null,"Shots",null,"Total"]
[1]
[2]
[3]
[4]
[5,{"$nulls":10},1,{"$nulls":10},1]
["Points",{"$nulls":3},"Tie Break",{"$nulls":14},"Points"]
[{"$nulls":4},"End",null,"Shots",{"$nulls":8},"Shots"]
[{"$nulls":4},1]
[{"$nulls":3},"TEAM No.",{"$nulls":5},"Time",{"$nulls":7},"TEAM No."]
["Sign",null,null,{"$f":"DRAW!$C$27","v":0},{"$nulls":5},"Completed",{"$nulls":5},"Sign",null,{"$f":"DRAW!$C$28","v":0}]
["i",{"$nulls":14},"i"]
[{"$f":"Entries!$A$1","v":"2018 District 5 - Mixed Pairs"}]
["R O U N D  1"]
[null,null,"RINK",{"$nulls":5},"DATE"]
[null,null,{"$f":"DRAW!$F$27","v":0}]
[]
[{"$f":"DRAW!$D$28","v":0},{"$nulls":10},"L",null,{"$f":"DRAW!$D$27","v":0}]
[]
[{"$f":"DRAW!$E$28","v":0},{"$nulls":10},"Sk",null,{"$f":"DRAW!$E$27","v":0}]
[]
[null,null,"First Set",{"$nulls":10},"Second Set"]
[null,null,{"$f":"DRAW!$E$28","v":0},{"$nulls":3},{"$f":"DRAW!$E$27","v":0},{"$nulls":6},{"$f":"DRAW!$E$28","v":0},{"$nulls":3},{"$f":"DRAW!$E$27","v":0}]
["End",null,"Shots",null,"Total",null,"Shots",null,"Total",{"$nulls":4},"Shots",null,"Total",null,"Shots",null,"Total"]
[1]
[2]
[3]
[4]
[5,{"$nulls":10},2,{"$nulls":10},1]
["Points",{"$nulls":3},"Tie Break",{"$nulls":14},"Points"]
[{"$nulls":4},"End",null,"Shots",{"$nulls":8},"Shots"]
[{"$nulls":4},1]
[{"$nulls":3},"TEAM No.",{"$nulls":5},"Time",{"$nulls":7},"TEAM No."]
["Sign",null,null,{"$f":"DRAW!$C$28","v":0},{"$nulls":5},"Completed",{"$nulls":5},"Sign",null,{"$f":"DRAW!$C$27","v":0}]
["i",{"$nulls":14},"i"]
[{"$f":"Entries!$A$1","v":"2018 District 5 - Mixed Pairs"}]
["R O U N D  1"]
[null,null,"RINK",{"$nulls":5},"DATE"]
[null,null,{"$f":"DRAW!$F$29","v":0}]
[]
[{"$f":"DRAW!$D$29","v":0},{"$nulls":10},"L",null,{"$f":"DRAW!$D$30","v":0}]
[]
[{"$f":"DRAW!$E$29","v":0},{"$nulls":10},"Sk",null,{"$f":"DRAW!$E$30","v":0}]
[]
[null,null,"First Set",{"$nulls":10},"Second Set"]
[null,null,{"$f":"DRAW!$E$29","v":0},{"$nulls":3},{"$f":"DRAW!$E$30","v":0},{"$nulls":6},{"$f":"DRAW!$E$29","v":0},{"$nulls":3},{"$f":"DRAW!$E$30","v":0}]
["End",null,"Shots",null,"Total",null,"Shots",null,"Total",{"$nulls":4},"Shots",null,"Total",null,"Shots",null,"Total"]
[1]
[2]
[3]
[4]
[5,{"$nulls":10},1,{"$nulls":10},1]
["Points",{"$nulls":3},"Tie Break",{"$nulls":14},"Points"]
[{"$nulls":4},"End",null,"Shots",{"$nulls":8},"Shots"]
[{"$nulls":4},1]
[{"$nulls":3},"TEAM No.",{"$nulls":5},"Time",{"$nulls":7},"TEAM No."]
["Sign",null,null,{"$f":"DRAW!$C$29","v":0},{"$nulls":5},"Completed",{"$nulls":5},"Sign",null,{"$f":"DRAW!$C$30","v":0}]
["i",{"$nulls":14},"i"]
[{"$f":"Entries!$A$1","v":"2018 District 5 - Mixed Pairs"}]
["R O U N D  1"]
[null,null,"RINK",{"$nulls":5},"DATE"]
[null,null,{"$f":"DRAW!$F$29","v":0}]
[]
[{"$f":"DRAW!$D$30","v":0},{"$nulls":10},"L",null,{"$f":"DRAW!$D$29","v":0}]
[]
[{"$f":"DRAW!$E$30","v":0},{"$nulls":10},"Sk",null,{"$f":"DRAW!$E$29","v":0}]
[]
[null,null,"First Set",{"$nulls":10},"Second Set"]
[null,null,{"$f":"DRAW!$E$30","v":0},{"$nulls":3},{"$f":"DRAW!$E$29","v":0},{"$nulls":6},{"$f":"DRAW!$E$30","v":0},{"$nulls":3},{"$f":"DRAW!$E$29","v":0}]
["End",null,"Shots",null,"Total",null,"Shots",null,"Total",{"$nulls":4},"Shots",null,"Total",null,"Shots",null,"Total"]
[1]
[2]
[3]
[4]
[5,{"$nulls":10},2,{"$nulls":10},1]
["Points",{"$nulls":3},"Tie Break",{"$nulls":14},"Points"]
[{"$nulls":4},"End",null,"Shots",{"$nulls":8},"Shots"]
[{"$nulls":4},1]
[{"$nulls":3},"TEAM No.",{"$nulls":5},"Time",{"$nulls":7},"TEAM No."]
["Sign",null,null,{"$f":"DRAW!$C$30","v":0},{"$nulls":5},"Completed",{"$nulls":5},"Sign",null,{"$f":"DRAW!$C$29","v":0}]
["i",{"$nulls":14},"i"]
[{"$f":"Entries!$A$1","v":"2018 District 5 - Mixed Pairs"}]
["R O U N D  1"]
[null,null,"RINK",{"$nulls":5},"DATE"]
[null,null,{"$f":"DRAW!$F$31","v":0}]
[]
[{"$f":"DRAW!$D$31","v":0},{"$nulls":10},"L",null,{"$f":"DRAW!$D$32","v":0}]
[]
[{"$f":"DRAW!$E$31","v":0},{"$nulls":10},"Sk",null,{"$f":"DRAW!$E$32","v":0}]
[]
[null,null,"First Set",{"$nulls":10},"Second Set"]
[null,null,{"$f":"DRAW!$E$31","v":0},{"$nulls":3},{"$f":"DRAW!$E$32","v":0},{"$nulls":6},{"$f":"DRAW!$E$31","v":0},{"$nulls":3},{"$f":"DRAW!$E$32","v":0}]
["End",null,"Shots",null,"Total",null,"Shots",null,"Total",{"$nulls":4},"Shots",null,"Total",null,"Shots",null,"Total"]
[1]
[2]
[3]
[4]
[5,{"$nulls":10},1,{"$nulls":10},1]
["Points",{"$nulls":3},"Tie Break",{"$nulls":14},"Points"]
[{"$nulls":4},"End",null,"Shots",{"$nulls":8},"Shots"]
[{"$nulls":4},1]
[{"$nulls":3},"TEAM No.",{"$nulls":5},"Time",{"$nulls":7},"TEAM No."]
["Sign",null,null,{"$f":"DRAW!$C$31","v":0},{"$nulls":5},"Completed",{"$nulls":5},"Sign",null,{"$f":"DRAW!$C$32","v":0}]
["i",{"$nulls":14},"i"]
[{"$f":"Entries!$A$1","v":"2018 District 5 - Mixed Pairs"}]
["R O U N D  1"]
[null,null,"RINK",{"$nulls":5},"DATE"]
[null,null,{"$f":"DRAW!$F$31","v":0}]
[]
[{"$f":"DRAW!$D$32","v":0},{"$nulls":10},"L",null,{"$f":"DRAW!$D$31","v":0}]
[]
[{"$f":"DRAW!$E$32","v":0},{"$nulls":10},"Sk",null,{"$f":"DRAW!$E$31","v":0}]
[]
[null,null,"First Set",{"$nulls":10},"Second Set"]
[null,null,{"$f":"DRAW!$E$32","v":0},{"$nulls":3},{"$f":"DRAW!$E$31","v":0},{"$nulls":6},{"$f":"DRAW!$E$32","v":0},{"$nulls":3},{"$f":"DRAW!$E$31","v":0}]
["End",null,"Shots",null,"Total",null,"Shots",null,"Total",{"$nulls":4},"Shots",null,"Total",null,"Shots",null,"Total"]
[1]
[2]
[3]
[4]
[5,{"$nulls":10},2,{"$nulls":10},1]
["Points",{"$nulls":3},"Tie Break",{"$nulls":14},"Points"]
[{"$nulls":4},"End",null,"Shots",{"$nulls":8},"Shots"]
[{"$nulls":4},1]
[{"$nulls":3},"TEAM No.",{"$nulls":5},"Time",{"$nulls":7},"TEAM No."]
["Sign",null,null,{"$f":"DRAW!$C$32","v":0},{"$nulls":5},"Completed",{"$nulls":5},"Sign",null,{"$f":"DRAW!$C$31","v":0}]
["i",{"$nulls":14},"i"]
[{"$f":"Entries!$A$1","v":"2018 District 5 - Mixed Pairs"}]
["R O U N D  1"]
[null,null,"RINK",{"$nulls":5},"DATE"]
[null,null,{"$f":"DRAW!$F$33","v":0}]
[]
[{"$f":"DRAW!$D$33","v":0},{"$nulls":10},"L",null,{"$f":"DRAW!$D$34","v":0}]
[]
[{"$f":"DRAW!$E$33","v":0},{"$nulls":10},"Sk",null,{"$f":"DRAW!$E$34","v":0}]
[]
[null,null,"First Set",{"$nulls":10},"Second Set"]
[null,null,{"$f":"DRAW!$E$33","v":0},{"$nulls":3},{"$f":"DRAW!$E$34","v":0},{"$nulls":6},{"$f":"DRAW!$E$33","v":0},{"$nulls":3},{"$f":"DRAW!$E$34","v":0}]
["End",null,"Shots",null,"Total",null,"Shots",null,"Total",{"$nulls":4},"Shots",null,"Total",null,"Shots",null,"Total"]
[1]
[2]
[3]
[4]
[5,{"$nulls":10},1,{"$nulls":10},1]
["Points",{"$nulls":3},"Tie Break",{"$nulls":14},"Points"]
[{"$nulls":4},"End",null,"Shots",{"$nulls":8},"Shots"]
[{"$nulls":4},1]
[{"$nulls":3},"TEAM No.",{"$nulls":5},"Time",{"$nulls":7},"TEAM No."]
["Sign",null,null,{"$f":"DRAW!$C$33","v":0},{"$nulls":5},"Completed",{"$nulls":5},"Sign",null,{"$f":"DRAW!$C$34","v":0}]
["i",{"$nulls":14},"i"]
[{"$f":"Entries!$A$1","v":"2018 District 5 - Mixed Pairs"}]
["R O U N D  1"]
[null,null,"RINK",{"$nulls":5},"DATE"]
[null,null,{"$f":"DRAW!$F$33","v":0}]
[]
[{"$f":"DRAW!$D$34","v":0},{"$nulls":10},"L",null,{"$f":"DRAW!$D$33","v":0}]
[]
[{"$f":"DRAW!$E$34","v":0},{"$nulls":10},"Sk",null,{"$f":"DRAW!$E$33","v":0}]
[]
[null,null,"First Set",{"$nulls":10},"Second Set"]
[null,null,{"$f":"DRAW!$E$34","v":0},{"$nulls":3},{"$f":"DRAW!$E$33","v":0},{"$nulls":6},{"$f":"DRAW!$E$34","v":0},{"$nulls":3},{"$f":"DRAW!$E$33","v":0}]
["End",null,"Shots",null,"Total",null,"Shots",null,"Total",{"$nulls":4},"Shots",null,"Total",null,"Shots",null,"Total"]
[1]
[2]
[3]
[4]
[5,{"$nulls":10},2,{"$nulls":10},1]
["Points",{"$nulls":3},"Tie Break",{"$nulls":14},"Points"]
[{"$nulls":4},"End",null,"Shots",{"$nulls":8},"Shots"]
[{"$nulls":4},1]
[{"$nulls":3},"TEAM No.",{"$nulls":5},"Time",{"$nulls":7},"TEAM No."]
["Sign",null,null,{"$f":"DRAW!$C$34","v":0},{"$nulls":5},"Completed",{"$nulls":5},"Sign",null,{"$f":"DRAW!$C$33","v":0}]
["i",{"$nulls":14},"i"]
[{"$f":"Entries!$A$1","v":"2018 District 5 - Mixed Pairs"}]
["R O U N D  1"]
[null,null,"RINK",{"$nulls":5},"DATE"]
[null,null,{"$f":"DRAW!$F$35","v":0}]
[]
[{"$f":"DRAW!$D$35","v":0},{"$nulls":10},"L",null,{"$f":"DRAW!$D$36","v":0}]
[]
[{"$f":"DRAW!$E$35","v":0},{"$nulls":10},"Sk",null,{"$f":"DRAW!$E$36","v":0}]
[]
[null,null,"First Set",{"$nulls":10},"Second Set"]
[null,null,{"$f":"DRAW!$E$35","v":0},{"$nulls":3},{"$f":"DRAW!$E$36","v":0},{"$nulls":6},{"$f":"DRAW!$E$35","v":0},{"$nulls":3},{"$f":"DRAW!$E$36","v":0}]
["End",null,"Shots",null,"Total",null,"Shots",null,"Total",{"$nulls":4},"Shots",null,"Total",null,"Shots",null,"Total"]
[1]
[2]
[3]
[4]
[5,{"$nulls":10},1,{"$nulls":10},1]
["Points",{"$nulls":3},"Tie Break",{"$nulls":14},"Points"]
[{"$nulls":4},"End",null,"Shots",{"$nulls":8},"Shots"]
[{"$nulls":4},1]
[{"$nulls":3},"TEAM No.",{"$nulls":5},"Time",{"$nulls":7},"TEAM No."]
["Sign",null,null,{"$f":"DRAW!$C$35","v":0},{"$nulls":5},"Completed",{"$nulls":5},"Sign",null,{"$f":"DRAW!$C$36","v":0}]
["i",{"$nulls":14},"i"]
[{"$f":"Entries!$A$1","v":"2018 District 5 - Mixed Pairs"}]
["R O U N D  1"]
[null,null,"RINK",{"$nulls":5},"DATE"]
[null,null,{"$f":"DRAW!$F$35","v":0}]
[]
[{"$f":"DRAW!$D$36","v":0},{"$nulls":10},"L",null,{"$f":"DRAW!$D$35","v":0}]
[]
[{"$f":"DRAW!$E$36","v":0},{"$nulls":10},"Sk",null,{"$f":"DRAW!$E$35","v":0}]
[]
[null,null,"First Set",{"$nulls":10},"Second Set"]
[null,null,{"$f":"DRAW!$E$36","v":0},{"$nulls":3},{"$f":"DRAW!$E$35","v":0},{"$nulls":6},{"$f":"DRAW!$E$36","v":0},{"$nulls":3},{"$f":"DRAW!$E$35","v":0}]
["End",null,"Shots",null,"Total",null,"Shots",null,"Total",{"$nulls":4},"Shots",null,"Total",null,"Shots",null,"Total"]
[1]
[2]
[3]
[4]
[5,{"$nulls":10},2,{"$nulls":10},1]
["Points",{"$nulls":3},"Tie Break",{"$nulls":14},"Points"]
[{"$nulls":4},"End",null,"Shots",{"$nulls":8},"Shots"]
[{"$nulls":4},1]
[{"$nulls":3},"TEAM No.",{"$nulls":5},"Time",{"$nulls":7},"TEAM No."]
["Sign",null,null,{"$f":"DRAW!$C$36","v":0},{"$nulls":5},"Completed",{"$nulls":5},"Sign",null,{"$f":"DRAW!$C$35","v":0}]
["i",{"$nulls":14},"i"]
[{"$f":"Entries!$A$1","v":"2018 District 5 - Mixed Pairs"}]
["R O U N D  1"]
[null,null,"RINK",{"$nulls":5},"DATE"]
[null,null,{"$f":"DRAW!$F$37","v":0}]
[]
[{"$f":"DRAW!$D$37","v":0},{"$nulls":10},"L",null,{"$f":"DRAW!$D$38","v":0}]
[]
[{"$f":"DRAW!$E$37","v":0},{"$nulls":10},"Sk",null,{"$f":"DRAW!$E$38","v":0}]
[]
[null,null,"First Set",{"$nulls":10},"Second Set"]
[null,null,{"$f":"DRAW!$E$37","v":0},{"$nulls":3},{"$f":"DRAW!$E$38","v":0},{"$nulls":6},{"$f":"DRAW!$E$37","v":0},{"$nulls":3},{"$f":"DRAW!$E$38","v":0}]
["End",null,"Shots",null,"Total",null,"Shots",null,"Total",{"$nulls":4},"Shots",null,"Total",null,"Shots",null,"Total"]
[1]
[2]
[3]
[4]
[5,{"$nulls":10},1,{"$nulls":10},1]
["Points",{"$nulls":3},"Tie Break",{"$nulls":14},"Points"]
[{"$nulls":4},"End",null,"Shots",{"$nulls":8},"Shots"]
[{"$nulls":4},1]
[{"$nulls":3},"TEAM No.",{"$nulls":5},"Time",{"$nulls":7},"TEAM No."]
["Sign",null,null,{"$f":"DRAW!$C$37","v":0},{"$nulls":5},"Completed",{"$nulls":5},"Sign",null,{"$f":"DRAW!$C$38","v":0}]
["i",{"$nulls":14},"i"]
[{"$f":"Entries!$A$1","v":"2018 District 5 - Mixed Pairs"}]
["R O U N D  1"]
[null,null,"RINK",{"$nulls":5},"DATE"]
[null,null,{"$f":"DRAW!$F$37","v":0}]
[]
[{"$f":"DRAW!$D$38","v":0},{"$nulls":10},"L",null,{"$f":"DRAW!$D$37","v":0}]
[]
[{"$f":"DRAW!$E$38","v":0},{"$nulls":10},"Sk",null,{"$f":"DRAW!$E$37","v":0}]
[]
[null,null,"First Set",{"$nulls":10},"Second Set"]
[null,null,{"$f":"DRAW!$E$38","v":0},{"$nulls":3},{"$f":"DRAW!$E$37","v":0},{"$nulls":6},{"$f":"DRAW!$E$38","v":0},{"$nulls":3},{"$f":"DRAW!$E$37","v":0}]
["End",null,"Shots",null,"Total",null,"Shots",null,"Total",{"$nulls":4},"Shots",null,"Total",null,"Shots",null,"Total"]
[1]
[2]
[3]
[4]
[5,{"$nulls":10},2,{"$nulls":10},1]
["Points",{"$nulls":3},"Tie Break",{"$nulls":14},"Points"]
[{"$nulls":4},"End",null,"Shots",{"$nulls":8},"Shots"]
[{"$nulls":4},1]
[{"$nulls":3},"TEAM No.",{"$nulls":5},"Time",{"$nulls":7},"TEAM No."]
["Sign",null,null,{"$f":"DRAW!$C$38","v":0},{"$nulls":5},"Completed",{"$nulls":5},"Sign",null,{"$f":"DRAW!$C$37","v":0}]
["i",{"$nulls":14},"i"]
[{"$f":"Entries!$A$1","v":"2018 District 5 - Mixed Pairs"}]
["R O U N D  1"]
[null,null,"RINK",{"$nulls":5},"DATE"]
[null,null,{"$f":"DRAW!$F$39","v":0}]
[]
[{"$f":"DRAW!$D$39","v":0},{"$nulls":10},"L",null,{"$f":"DRAW!$D$40","v":0}]
[]
[{"$f":"DRAW!$E$39","v":0},{"$nulls":10},"Sk",null,{"$f":"DRAW!$E$40","v":0}]
[]
[null,null,"First Set",{"$nulls":10},"Second Set"]
[null,null,{"$f":"DRAW!$E$39","v":0},{"$nulls":3},{"$f":"DRAW!$E$40","v":0},{"$nulls":6},{"$f":"DRAW!$E$39","v":0},{"$nulls":3},{"$f":"DRAW!$E$40","v":0}]
["End",null,"Shots",null,"Total",null,"Shots",null,"Total",{"$nulls":4},"Shots",null,"Total",null,"Shots",null,"Total"]
[1]
[2]
[3]
[4]
[5,{"$nulls":10},1,{"$nulls":10},1]
["Points",{"$nulls":3},"Tie Break",{"$nulls":14},"Points"]
[{"$nulls":4},"End",null,"Shots",{"$nulls":8},"Shots"]
[{"$nulls":4},1]
[{"$nulls":3},"TEAM No.",{"$nulls":5},"Time",{"$nulls":7},"TEAM No."]
["Sign",null,null,{"$f":"DRAW!$C$39","v":0},{"$nulls":5},"Completed",{"$nulls":5},"Sign",null,{"$f":"DRAW!$C$40","v":0}]
["i",{"$nulls":14},"i"]
[{"$f":"Entries!$A$1","v":"2018 District 5 - Mixed Pairs"}]
["R O U N D  1"]
[null,null,"RINK",{"$nulls":5},"DATE"]
[null,null,{"$f":"DRAW!$F$39","v":0}]
[]
[{"$f":"DRAW!$D$40","v":0},{"$nulls":10},"L",null,{"$f":"DRAW!$D$39","v":0}]
[]
[{"$f":"DRAW!$E$40","v":0},{"$nulls":10},"Sk",null,{"$f":"DRAW!$E$39","v":0}]
[]
[null,null,"First Set",{"$nulls":10},"Second Set"]
[null,null,{"$f":"DRAW!$E$40","v":0},{"$nulls":3},{"$f":"DRAW!$E$39","v":0},{"$nulls":6},{"$f":"DRAW!$E$40","v":0},{"$nulls":3},{"$f":"DRAW!$E$39","v":0}]
["End",null,"Shots",null,"Total",null,"Shots",null,"Total",{"$nulls":4},"Shots",null,"Total",null,"Shots",null,"Total"]
[1]
[2]
[3]
[4]
[5,{"$nulls":10},2,{"$nulls":10},1]
["Points",{"$nulls":3},"Tie Break",{"$nulls":14},"Points"]
[{"$nulls":4},"End",null,"Shots",{"$nulls":8},"Shots"]
[{"$nulls":4},1]
[{"$nulls":3},"TEAM No.",{"$nulls":5},"Time",{"$nulls":7},"TEAM No."]
["Sign",null,null,{"$f":"DRAW!$C$40","v":0},{"$nulls":5},"Completed",{"$nulls":5},"Sign",null,{"$f":"DRAW!$C$39","v":0}]
["i",{"$nulls":14},"i"]
[{"$f":"Entries!$A$1","v":"2018 District 5 - Mixed Pairs"}]
["R O U N D  1"]
[null,null,"RINK",{"$nulls":5},"DATE"]
[null,null,{"$f":"DRAW!$F$41","v":0}]
[]
[{"$f":"DRAW!$D$41","v":0},{"$nulls":10},"L",null,{"$f":"DRAW!$D$42","v":0}]
[]
[{"$f":"DRAW!$E$41","v":0},{"$nulls":10},"Sk",null,{"$f":"DRAW!$E$42","v":0}]
[]
[null,null,"First Set",{"$nulls":10},"Second Set"]
[null,null,{"$f":"DRAW!$E$41","v":0},{"$nulls":3},{"$f":"DRAW!$E$42","v":0},{"$nulls":6},{"$f":"DRAW!$E$41","v":0},{"$nulls":3},{"$f":"DRAW!$E$42","v":0}]
["End",null,"Shots",null,"Total",null,"Shots",null,"Total",{"$nulls":4},"Shots",null,"Total",null,"Shots",null,"Total"]
[1]
[2]
[3]
[4]
[5,{"$nulls":10},1,{"$nulls":10},1]
["Points",{"$nulls":3},"Tie Break",{"$nulls":14},"Points"]
[{"$nulls":4},"End",null,"Shots",{"$nulls":8},"Shots"]
[{"$nulls":4},1]
[{"$nulls":3},"TEAM No.",{"$nulls":5},"Time",{"$nulls":7},"TEAM No."]
["Sign",null,null,{"$f":"DRAW!$C$41","v":0},{"$nulls":5},"Completed",{"$nulls":5},"Sign",null,{"$f":"DRAW!$C$42","v":0}]
["i",{"$nulls":14},"i"]
[{"$f":"Entries!$A$1","v":"2018 District 5 - Mixed Pairs"}]
["R O U N D  1"]
[null,null,"RINK",{"$nulls":5},"DATE"]
[null,null,{"$f":"DRAW!$F$41","v":0}]
[]
[{"$f":"DRAW!$D$42","v":0},{"$nulls":10},"L",null,{"$f":"DRAW!$D$41","v":0}]
[]
[{"$f":"DRAW!$E$42","v":0},{"$nulls":10},"Sk",null,{"$f":"DRAW!$E$41","v":0}]
[]
[null,null,"First Set",{"$nulls":10},"Second Set"]
[null,null,{"$f":"DRAW!$E$42","v":0},{"$nulls":3},{"$f":"DRAW!$E$41","v":0},{"$nulls":6},{"$f":"DRAW!$E$42","v":0},{"$nulls":3},{"$f":"DRAW!$E$41","v":0}]
["End",null,"Shots",null,"Total",null,"Shots",null,"Total",{"$nulls":4},"Shots",null,"Total",null,"Shots",null,"Total"]
[1]
[2]
[3]
[4]
[5,{"$nulls":10},2,{"$nulls":10},1]
["Points",{"$nulls":3},"Tie Break",{"$nulls":14},"Points"]
[{"$nulls":4},"End",null,"Shots",{"$nulls":8},"Shots"]
[{"$nulls":4},1]
[{"$nulls":3},"TEAM No.",{"$nulls":5},"Time",{"$nulls":7},"TEAM No."]
["Sign",null,null,{"$f":"DRAW!$C$42","v":0},{"$nulls":5},"Completed",{"$nulls":5},"Sign",null,{"$f":"DRAW!$C$41","v":0}]
["i",{"$nulls":14},"i"]
[{"$f":"Entries!$A$1","v":"2018 District 5 - Mixed Pairs"}]
["R O U N D  1"]
[null,null,"RINK",{"$nulls":5},"DATE"]
[null,null,{"$f":"DRAW!$F$43","v":0}]
[]
[{"$f":"DRAW!$D$43","v":0},{"$nulls":10},"L",null,{"$f":"DRAW!$D$44","v":0}]
[]
[{"$f":"DRAW!$E$43","v":0},{"$nulls":10},"Sk",null,{"$f":"DRAW!$E$44","v":0}]
[]
[null,null,"First Set",{"$nulls":10},"Second Set"]
[null,null,{"$f":"DRAW!$E$43","v":0},{"$nulls":3},{"$f":"DRAW!$E$44","v":0},{"$nulls":6},{"$f":"DRAW!$E$43","v":0},{"$nulls":3},{"$f":"DRAW!$E$44","v":0}]
["End",null,"Shots",null,"Total",null,"Shots",null,"Total",{"$nulls":4},"Shots",null,"Total",null,"Shots",null,"Total"]
[1]
[2]
[3]
[4]
[5,{"$nulls":10},1,{"$nulls":10},1]
["Points",{"$nulls":3},"Tie Break",{"$nulls":14},"Points"]
[{"$nulls":4},"End",null,"Shots",{"$nulls":8},"Shots"]
[{"$nulls":4},1]
[{"$nulls":3},"TEAM No.",{"$nulls":5},"Time",{"$nulls":7},"TEAM No."]
["Sign",null,null,{"$f":"DRAW!$C$43","v":0},{"$nulls":5},"Completed",{"$nulls":5},"Sign",null,{"$f":"DRAW!$C$44","v":0}]
["i",{"$nulls":14},"i"]
[{"$f":"Entries!$A$1","v":"2018 District 5 - Mixed Pairs"}]
["R O U N D  1"]
[null,null,"RINK",{"$nulls":5},"DATE"]
[null,null,{"$f":"DRAW!$F$43","v":0}]
[]
[{"$f":"DRAW!$D$44","v":0},{"$nulls":10},"L",null,{"$f":"DRAW!$D$43","v":0}]
[]
[{"$f":"DRAW!$E$44","v":0},{"$nulls":10},"Sk",null,{"$f":"DRAW!$E$43","v":0}]
[]
[null,null,"First Set",{"$nulls":10},"Second Set"]
[null,null,{"$f":"DRAW!$E$44","v":0},{"$nulls":3},{"$f":"DRAW!$E$43","v":0},{"$nulls":6},{"$f":"DRAW!$E$44","v":0},{"$nulls":3},{"$f":"DRAW!$E$43","v":0}]
["End",null,"Shots",null,"Total",null,"Shots",null,"Total",{"$nulls":4},"Shots",null,"Total",null,"Shots",null,"Total"]
[1]
[2]
[3]
[4]
[5,{"$nulls":10},2,{"$nulls":10},1]
["Points",{"$nulls":3},"Tie Break",{"$nulls":14},"Points"]
[{"$nulls":4},"End",null,"Shots",{"$nulls":8},"Shots"]
[{"$nulls":4},1]
[{"$nulls":3},"TEAM No.",{"$nulls":5},"Time",{"$nulls":7},"TEAM No."]
["Sign",null,null,{"$f":"DRAW!$C$44","v":0},{"$nulls":5},"Completed",{"$nulls":5},"Sign",null,{"$f":"DRAW!$C$43","v":0}]
["i",{"$nulls":14},"i"]

{"sheet":"Finals 36 33","index":33,"n_rows":28,"n_cols":43,"rows_kept":28,"hidden":true,"merged":[[0,2,0,42],[1,2,2,42],[3,2,4,2],[3,3,4,3],[3,4,4,4],[3,5,4,5],[3,6,4,6],[3,8,4,8],[3,9,4,9],[3,11,4,11],[3,12,4,12],[3,14,4,14],[3,15,4,15],[3,17,4,17],[3,18,4,18],[3,19,4,19],[3,20,4,20],[3,21,4,21],[3,23,4,23],[3,24,4,24],[3,25,4,25],[3,26,4,26],[3,27,4,27],[3,29,4,29],[3,30,4,30],[3,32,4,32],[3,33,4,33],[3,35,4,35],[3,36,4,36],[3,38,4,38],[3,39,4,39],[3,40,4,40],[3,41,4,41],[3,42,4,42],[5,2,6,2],[5,5,6,5],[7,2,7,42],[8,2,9,2],[8,5,9,5],[8,23,9,23],[8,26,9,26],[11,2,12,2],[11,5,12,5],[11,23,12,23],[11,26,12,26],[14,2,15,2],[14,5,15,5],[14,23,15,23],[14,26,15,26],[16,2,16,42],[17,2,18,2],[17,5,18,5],[17,23,18,23],[17,26,18,26],[20,2,21,2],[20,5,21,5],[20,23,21,23],[20,26,21,26],[22,2,22,42],[23,2,24,2],[23,5,24,5],[23,23,24,23],[23,26,24,26],[25,2,25,42],[26,2,27,2],[26,5,27,5]]}
[null,null,{"$f":"Entries!$A$1","v":"2018 District 5 - Mixed Pairs"}]
[null,null,"R O U N D  1"]
[]
[null,null,"Sections","Team   #","Skips","Rink #","1st     Set",null,null,"2nd     Set",null,null,"Tie Break",null,null,"Set Points",null,null,"Game Points",null,"Total Points","RANK",null,"Sections","Team   #","Skips","Rink #","1st     Set",null,null,"2nd     Set",null,null,"Tie Break",null,null,"Set Points",null,null,"Game Points",null,"Total Points","RANK"]
[{"$nulls":7},"Set Points",null,null,"Set Points",null,null,"Set Points",null,null,"S+TBPts",{"$nulls":11},"Set Points",null,null,"Set Points",null,null,"Set Points",null,null,"S+TBPts"]
[null,null,1,1,"Sec 8",1,null,{"$f":"IF(G6+G7>0,(IF(G6>G7,1,(IF(G6=G7,0.5,0)))),0)","v":0},{"$f":"(U6*1000)+O6","v":0},null,{"$f":"IF(J6+J7>0,(IF(J6>J7,1,(IF(J6=J7,0.5,0)))),0)","v":0},{"$f":"LARGE(I6:I7,1)","v":0},null,{"$f":"IF(M6+M7>0,(IF(M6>M7,1,(IF(M6=M7,0.5,0)))),0)","v":0},{"$f":"G6+J6+M6-G7-J7-M7","v":0},{"$f":"H6+K6","v":0},{"$f":"IF(P6>2,P6,H6+K6+N6)","v":0},null,{"$f":"IF(Q6+Q7>=1.5,(IF(Q6>Q7,3,0)),0)","v":0},null,{"$f":"IF((S6+S7)=3,(P6+S6),0)","v":0},{"$f":"IF(U6+U7=0,\"\",IF(I6=$L$6,\"1st\",\"\"))","v":""}]
[{"$nulls":3},2,"Sec 9",null,null,{"$f":"IF(G6+G7>0,(IF(G6<G7,1,(IF(G6=G7,0.5,0)))),0)","v":0},{"$f":"(U7*1000)+O7","v":0},null,{"$f":"IF(J6+J7>0,(IF(J6<J7,1,(IF(J6=J7,0.5,0)))),0)","v":0},null,null,{"$f":"IF(M6+M7>0,(IF(M6<M7,1,(IF(M6=M7,0.5,0)))),0)","v":0},{"$f":"G7+J7+M7-G6-J6-M6","v":0},{"$f":"+H7+K7","v":0},{"$f":"IF(P7>2,P7,H7+K7+N7)","v":0},null,{"$f":"IF(Q6+Q7>=1.5,(IF(Q6<Q7,3,0)),0)","v":0},null,{"$f":"IF((S6+S7)=3,(P7+S7),0)","v":0},{"$f":"IF(U7+U8=0,\"\",IF(I7=$L$6,\"1st\",\"\"))","v":""}]
[null,null,"Q U A R T E R  F I N A L"]
[null,null,1,3,"Round 1 Sec 1",2,null,{"$f":"IF(G9+G10>0,(IF(G9>G10,1,(IF(G9=G10,0.5,0)))),0)","v":0},{"$f":"(U9*1000)+O9","v":0},null,{"$f":"IF(J9+J10>0,(IF(J9>J10,1,(IF(J9=J10,0.5,0)))),0)","v":0},{"$f":"LARGE(I9:I10,1)","v":0},null,{"$f":"IF(M9+M10>0,(IF(M9>M10,1,(IF(M9=M10,0.5,0)))),0)","v":0},{"$f":"G9+J9+M9-G10-J10-M10","v":0},{"$f":"+H9+K9","v":0},{"$f":"IF(P9>2,P9,H9+K9+N9)","v":0},null,{"$f":"IF(Q9+Q10>=1.5,(IF(Q9>Q10,3,0)),0)","v":0},null,{"$f":"IF((S9+S10)=3,(P9+S9),0)","v":0},{"$f":"IF(U9+U10=0,\"\",IF(I9=$L$9,\"1st\",\"\"))","v":""},null,2,null,"Sec 2",3,null,{"$f":"IF(AB9+AB10>0,(IF(AB9>AB10,1,(IF(AB9=AB10,0.5,0)))),0)","v":0},{"$f":"(AP9*1000)+AJ9","v":0},null,{"$f":"IF(AE9+AE10>0,(IF(AE9>AE10,1,(IF(AE9=AE10,0.5,0)))),0)","v":0},{"$f":"LARGE(AD9:AD10,1)","v":0},null,{"$f":"IF(AH9+AH10>0,(IF(AH9>AH10,1,(IF(AH9=AH10,0.5,0)))),0)","v":0},{"$f":"AB9+AE9+AH9-AB10-AE10-AH10","v":0},{"$f":"+AC9+AF9","v":0},{"$f":"IF(AK9>2,AK9,AC9+AF9+AI9)","v":0},null,{"$f":"IF(AL9+AL10>=1.5,(IF(AL9>AL10,3,0)),0)","v":0},null,{"$f":"IF((AN9+AN10)=3,(AK9+AN9),0)","v":0},{"$f":"IF(AP9+AP10=0,\"\",IF(AD9=$AG$9,\"1st\",\"\"))","v":""}]
[{"$nulls":3},4,"Sec 1",null,null,{"$f":"IF(G9+G10>0,(IF(G9<G10,1,(IF(G9=G10,0.5,0)))),0)","v":0},{"$f":"(U10*1000)+O10","v":0},null,{"$f":"IF(J9+J10>0,(IF(J9<J10,1,(IF(J9=J10,0.5,0)))),0)","v":0},null,null,{"$f":"IF(M9+M10>0,(IF(M9<M10,1,(IF(M9=M10,0.5,0)))),0)","v":0},{"$f":"G10+J10+M10-G9-J9-M9","v":0},{"$f":"+H10+K10","v":0},{"$f":"IF(P10>2,P10,H10+K10+N10)","v":0},null,{"$f":"IF(Q9+Q10>=1.5,(IF(Q9<Q10,3,0)),0)","v":0},null,{"$f":"IF((S9+S10)=3,(P10+S10),0)","v":0},{"$f":"IF(U10+U11=0,\"\",IF(I10=$L$9,\"1st\",\"\"))","v":""},{"$nulls":3},"Sec 3",null,null,{"$f":"IF(AB9+AB10>0,(IF(AB9<AB10,1,(IF(AB9=AB10,0.5,0)))),0)","v":0},{"$f":"(AP10*1000)+AJ10","v":0},null,{"$f":"IF(AE9+AE10>0,(IF(AE9<AE10,1,(IF(AE9=AE10,0.5,0)))),0)","v":0},null,null,{"$f":"IF(AH9+AH10>0,(IF(AH9<AH10,1,(IF(AH9=AH10,0.5,0)))),0)","v":0},{"$f":"AB10+AE10+AH10-AB9-AE9-AH9","v":0},{"$f":"+AC10+AF10","v":0},{"$f":"IF(AK10>2,AK10,AC10+AF10+AI10)","v":0},null,{"$f":"IF(AL9+AL10>=1.5,(IF(AL9<AL10,3,0)),0)","v":0},null,{"$f":"IF((AN9+AN10)=3,(AK10+AN10),0)","v":0},{"$f":"IF(AP10+AP11=0,\"\",IF(AD10=$AG$9,\"1st\",\"\"))","v":""}]
[]
[null,null,3,5,"Sec 4",4,null,{"$f":"IF(G12+G13>0,(IF(G12>G13,1,(IF(G12=G13,0.5,0)))),0)","v":0},{"$f":"(U12*1000)+O12","v":0},null,{"$f":"IF(J12+J13>0,(IF(J12>J13,1,(IF(J12=J13,0.5,0)))),0)","v":0},{"$f":"LARGE(I12:I13,1)","v":0},null,{"$f":"IF(M12+M13>0,(IF(M12>M13,1,(IF(M12=M13,0.5,0)))),0)","v":0},{"$f":"G12+J12+M12-G13-J13-M13","v":0},{"$f":"+H12+K12","v":0},{"$f":"IF(P12>2,P12,H12+K12+N12)","v":0},null,{"$f":"IF(Q12+Q13>=1.5,(IF(Q12>Q13,3,0)),0)","v":0},null,{"$f":"IF((S12+S13)=3,(P12+S12),0)","v":0},{"$f":"IF(U12+U13=0,\"\",IF(I12=$L$12,\"1st\",\"\"))","v":""},null,4,null,"Sec 6",5,null,{"$f":"IF(AB12+AB13>0,(IF(AB12>AB13,1,(IF(AB12=AB13,0.5,0)))),0)","v":0},{"$f":"(AP12*1000)+AJ12","v":0},null,{"$f":"IF(AE12+AE13>0,(IF(AE12>AE13,1,(IF(AE12=AE13,0.5,0)))),0)","v":0},{"$f":"LARGE(AD12:AD13,1)","v":0},null,{"$f":"IF(AH12+AH13>0,(IF(AH12>AH13,1,(IF(AH12=AH13,0.5,0)))),0)","v":0},{"$f":"AB12+AE12+AH12-AB13-AE13-AH13","v":0},{"$f":"+AC12+AF12","v":0},{"$f":"IF(AK12>2,AK12,AC12+AF12+AI12)","v":0},null,{"$f":"IF(AL12+AL13>=1.5,(IF(AL12>AL13,3,0)),0)","v":0},null,{"$f":"IF((AN12+AN13)=3,(AK12+AN12),0)","v":0},{"$f":"IF(AP12+AP13=0,\"\",IF(AD12=$AG$12,\"1st\",\"\"))","v":""}]
[{"$nulls":3},6,"Sec 5",null,null,{"$f":"IF(G12+G13>0,(IF(G12<G13,1,(IF(G12=G13,0.5,0)))),0)","v":0},{"$f":"(U13*1000)+O13","v":0},null,{"$f":"IF(J12+J13>0,(IF(J12<J13,1,(IF(J12=J13,0.5,0)))),0)","v":0},null,null,{"$f":"IF(M12+M13>0,(IF(M12<M13,1,(IF(M12=M13,0.5,0)))),0)","v":0},{"$f":"G13+J13+M13-G12-J12-M12","v":0},{"$f":"+H13+K13","v":0},{"$f":"IF(P13>2,P13,H13+K13+N13)","v":0},null,{"$f":"IF(Q12+Q13>=1.5,(IF(Q12<Q13,3,0)),0)","v":0},null,{"$f":"IF((S12+S13)=3,(P13+S13),0)","v":0},{"$f":"IF(U13+U14=0,\"\",IF(I13=$L$12,\"1st\",\"\"))","v":""},{"$nulls":3},"Sec 7",null,null,{"$f":"IF(AB12+AB13>0,(IF(AB12<AB13,1,(IF(AB12=AB13,0.5,0)))),0)","v":0},{"$f":"(AP13*1000)+AJ13","v":0},null,{"$f":"IF(AE12+AE13>0,(IF(AE12<AE13,1,(IF(AE12=AE13,0.5,0)))),0)","v":0},null,null,{"$f":"IF(AH12+AH13>0,(IF(AH12<AH13,1,(IF(AH12=AH13,0.5,0)))),0)","v":0},{"$f":"AB13+AE13+AH13-AB12-AE12-AH12","v":0},{"$f":"+AC13+AF13","v":0},{"$f":"IF(AK13>2,AK13,AC13+AF13+AI13)","v":0},null,{"$f":"IF(AL12+AL13>=1.5,(IF(AL12<AL13,3,0)),0)","v":0},null,{"$f":"IF((AN12+AN13)=3,(AK13+AN13),0)","v":0},{"$f":"IF(AP13+AP14=0,\"\",IF(AD13=$AG$12,\"1st\",\"\"))","v":""}]
[]
[null,null,7,7,".",null,null,{"$f":"IF(G15+G16>0,(IF(G15>G16,1,(IF(G15=G16,0.5,0)))),0)","v":0},{"$f":"(U15*1000)+O15","v":0},null,{"$f":"IF(J15+J16>0,(IF(J15>J16,1,(IF(J15=J16,0.5,0)))),0)","v":0},{"$f":"LARGE(I15:I16,1)","v":0},null,{"$f":"IF(M15+M16>0,(IF(M15>M16,1,(IF(M15=M16,0.5,0)))),0)","v":0},{"$f":"G15+J15+M15-G16-J16-M16","v":0},{"$f":"+H15+K15","v":0},{"$f":"IF(P15>2,P15,H15+K15+N15)","v":0},null,{"$f":"IF(Q15+Q16>=1.5,(IF(Q15>Q16,3,0)),0)","v":0},null,{"$f":"IF((S15+S16)=3,(P15+S15),0)","v":0},{"$f":"IF(U15+U16=0,\"\",IF(I15=$L$15,\"1st\",\"\"))","v":""},null,8,null,".",null,null,{"$f":"IF(AB15+AB16>0,(IF(AB15>AB16,1,(IF(AB15=AB16,0.5,0)))),0)","v":0},{"$f":"(AP15*1000)+AJ15","v":0},null,{"$f":"IF(AE15+AE16>0,(IF(AE15>AE16,1,(IF(AE15=AE16,0.5,0)))),0)","v":0},{"$f":"LARGE(AD15:AD16,1)","v":0},null,{"$f":"IF(AH15+AH16>0,(IF(AH15>AH16,1,(IF(AH15=AH16,0.5,0)))),0)","v":0},{"$f":"AB15+AE15+AH15-AB16-AE16-AH16","v":0},{"$f":"+AC15+AF15","v":0},{"$f":"IF(AK15>2,AK15,AC15+AF15+AI15)","v":0},null,{"$f":"IF(AL15+AL16>=1.5,(IF(AL15>AL16,3,0)),0)","v":0},null,{"$f":"IF((AN15+AN16)=3,(AK15+AN15),0)","v":0},{"$f":"IF(AP15+AP16=0,\"\",IF(AD15=$AG$15,\"1st\",\"\"))","v":""}]
[{"$nulls":3},8,".",null,null,{"$f":"IF(G15+G16>0,(IF(G15<G16,1,(IF(G15=G16,0.5,0)))),0)","v":0},{"$f":"(U16*1000)+O16","v":0},null,{"$f":"IF(J15+J16>0,(IF(J15<J16,1,(IF(J15=J16,0.5,0)))),0)","v":0},null,null,{"$f":"IF(M15+M16>0,(IF(M15<M16,1,(IF(M15=M16,0.5,0)))),0)","v":0},{"$f":"G16+J16+M16-G15-J15-M15","v":0},{"$f":"+H16+K16","v":0},{"$f":"IF(P16>2,P16,H16+K16+N16)","v":0},null,{"$f":"IF(Q15+Q16>=1.5,(IF(Q15<Q16,3,0)),0)","v":0},null,{"$f":"IF((S15+S16)=3,(P16+S16),0)","v":0},{"$f":"IF(U16+U17=0,\"\",IF(I16=$L$15,\"1st\",\"\"))","v":""},{"$nulls":3},".",null,null,{"$f":"IF(AB15+AB16>0,(IF(AB15<AB16,1,(IF(AB15=AB16,0.5,0)))),0)","v":0},{"$f":"(AP16*1000)+AJ16","v":0},null,{"$f":"IF(AE15+AE16>0,(IF(AE15<AE16,1,(IF(AE15=AE16,0.5,0)))),0)","v":0},null,null,{"$f":"IF(AH15+AH16>0,(IF(AH15<AH16,1,(IF(AH15=AH16,0.5,0)))),0)","v":0},{"$f":"AB16+AE16+AH16-AB15-AE15-AH15","v":0},{"$f":"+AC16+AF16","v":0},{"$f":"IF(AK16>2,AK16,AC16+AF16+AI16)","v":0},null,{"$f":"IF(AL15+AL16>=1.5,(IF(AL15<AL16,3,0)),0)","v":0},null,{"$f":"IF((AN15+AN16)=3,(AK16+AN16),0)","v":0},{"$f":"IF(AP16+AP17=0,\"\",IF(AD16=$AG$15,\"1st\",\"\"))","v":""}]
[null,null,"S E M I  F I N A L "]
[null,null,1,9,"Q/F 1",6,null,{"$f":"IF(G18+G19>0,(IF(G18>G19,1,(IF(G18=G19,0.5,0)))),0)","v":0},{"$f":"(U18*1000)+O18","v":0},null,{"$f":"IF(J18+J19>0,(IF(J18>J19,1,(IF(J18=J19,0.5,0)))),0)","v":0},{"$f":"LARGE(I18:I19,1)","v":0},null,{"$f":"IF(M18+M19>0,(IF(M18>M19,1,(IF(M18=M19,0.5,0)))),0)","v":0},{"$f":"G18+J18+M18-G19-J19-M19","v":0},{"$f":"+H18+K18","v":0},{"$f":"IF(P18>2,P18,H18+K18+N18)","v":0},null,{"$f":"IF(Q18+Q19>=1.5,(IF(Q18>Q19,3,0)),0)","v":0},null,{"$f":"IF((S18+S19)=3,(P18+S18),0)","v":0},{"$f":"IF(U18+U19=0,\"\",IF(I18=$L$18,\"1st\",\"\"))","v":""},null,2,null,"Q/F 3",7,null,{"$f":"IF(AB18+AB19>0,(IF(AB18>AB19,1,(IF(AB18=AB19,0.5,0)))),0)","v":0},{"$f":"(AP18*1000)+AJ18","v":0},null,{"$f":"IF(AE18+AE19>0,(IF(AE18>AE19,1,(IF(AE18=AE19,0.5,0)))),0)","v":0},{"$f":"LARGE(AD18:AD19,1)","v":0},null,{"$f":"IF(AH18+AH19>0,(IF(AH18>AH19,1,(IF(AH18=AH19,0.5,0)))),0)","v":0},{"$f":"AB18+AE18+AH18-AB19-AE19-AH19","v":0},{"$f":"+AC18+AF18","v":0},{"$f":"IF(AK18>2,AK18,AC18+AF18+AI18)","v":0},null,{"$f":"IF(AL18+AL19>=1.5,(IF(AL18>AL19,3,0)),0)","v":0},null,{"$f":"IF((AN18+AN19)=3,(AK18+AN18),0)","v":0},{"$f":"IF(AP18+AP19=0,\"\",IF(AD18=$AG$18,\"1st\",\"\"))","v":""}]
[{"$nulls":3},10,"Q/F 2",null,null,{"$f":"IF(G18+G19>0,(IF(G18<G19,1,(IF(G18=G19,0.5,0)))),0)","v":0},{"$f":"(U19*1000)+O19","v":0},null,{"$f":"IF(J18+J19>0,(IF(J18<J19,1,(IF(J18=J19,0.5,0)))),0)","v":0},null,null,{"$f":"IF(M18+M19>0,(IF(M18<M19,1,(IF(M18=M19,0.5,0)))),0)","v":0},{"$f":"G19+J19+M19-G18-J18-M18","v":0},{"$f":"+H19+K19","v":0},{"$f":"IF(P19>2,P19,H19+K19+N19)","v":0},null,{"$f":"IF(Q18+Q19>=1.5,(IF(Q18<Q19,3,0)),0)","v":0},null,{"$f":"IF((S18+S19)=3,(P19+S19),0)","v":0},{"$f":"IF(U19+U20=0,\"\",IF(I19=$L$18,\"1st\",\"\"))","v":""},{"$nulls":3},"Q/F 4",null,null,{"$f":"IF(AB18+AB19>0,(IF(AB18<AB19,1,(IF(AB18=AB19,0.5,0)))),0)","v":0},{"$f":"(AP19*1000)+AJ19","v":0},null,{"$f":"IF(AE18+AE19>0,(IF(AE18<AE19,1,(IF(AE18=AE19,0.5,0)))),0)","v":0},null,null,{"$f":"IF(AH18+AH19>0,(IF(AH18<AH19,1,(IF(AH18=AH19,0.5,0)))),0)","v":0},{"$f":"AB19+AE19+AH19-AB18-AE18-AH18","v":0},{"$f":"+AC19+AF19","v":0},{"$f":"IF(AK19>2,AK19,AC19+AF19+AI19)","v":0},null,{"$f":"IF(AL18+AL19>=1.5,(IF(AL18<AL19,3,0)),0)","v":0},null,{"$f":"IF((AN18+AN19)=3,(AK19+AN19),0)","v":0},{"$f":"IF(AP19+AP20=0,\"\",IF(AD19=$AG$18,\"1st\",\"\"))","v":""}]
[]
[null,null,3,11,".",null,null,{"$f":"IF(G21+G22>0,(IF(G21>G22,1,(IF(G21=G22,0.5,0)))),0)","v":0},{"$f":"(U21*1000)+O21","v":0},null,{"$f":"IF(J21+J22>0,(IF(J21>J22,1,(IF(J21=J22,0.5,0)))),0)","v":0},{"$f":"LARGE(I21:I22,1)","v":0},null,{"$f":"IF(M21+M22>0,(IF(M21>M22,1,(IF(M21=M22,0.5,0)))),0)","v":0},{"$f":"G21+J21+M21-G22-J22-M22","v":0},{"$f":"+H21+K21","v":0},{"$f":"IF(P21>2,P21,H21+K21+N21)","v":0},null,{"$f":"IF(Q21+Q22>=1.5,(IF(Q21>Q22,3,0)),0)","v":0},null,{"$f":"IF((S21+S22)=3,(P21+S21),0)","v":0},{"$f":"IF(U21+U22=0,\"\",IF(I21=$L$21,\"1st\",\"\"))","v":""},null,4,null,".",null,null,{"$f":"IF(AB21+AB22>0,(IF(AB21>AB22,1,(IF(AB21=AB22,0.5,0)))),0)","v":0},{"$f":"(AP21*1000)+AJ21","v":0},null,{"$f":"IF(AE21+AE22>0,(IF(AE21>AE22,1,(IF(AE21=AE22,0.5,0)))),0)","v":0},{"$f":"LARGE(AD21:AD22,1)","v":0},null,{"$f":"IF(AH21+AH22>0,(IF(AH21>AH22,1,(IF(AH21=AH22,0.5,0)))),0)","v":0},{"$f":"AB21+AE21+AH21-AB22-AE22-AH22","v":0},{"$f":"+AC21+AF21","v":0},{"$f":"IF(AK21>2,AK21,AC21+AF21+AI21)","v":0},null,{"$f":"IF(AL21+AL22>=1.5,(IF(AL21>AL22,3,0)),0)","v":0},null,{"$f":"IF((AN21+AN22)=3,(AK21+AN21),0)","v":0},{"$f":"IF(AP21+AP22=0,\"\",IF(AD21=$AG$21,\"1st\",\"\"))","v":""}]
[{"$nulls":3},12,".",null,null,{"$f":"IF(G21+G22>0,(IF(G21<G22,1,(IF(G21=G22,0.5,0)))),0)","v":0},{"$f":"(U22*1000)+O22","v":0},null,{"$f":"IF(J21+J22>0,(IF(J21<J22,1,(IF(J21=J22,0.5,0)))),0)","v":0},null,null,{"$f":"IF(M21+M22>0,(IF(M21<M22,1,(IF(M21=M22,0.5,0)))),0)","v":0},{"$f":"G22+J22+M22-G21-J21-M21","v":0},{"$f":"+H22+K22","v":0},{"$f":"IF(P22>2,P22,H22+K22+N22)","v":0},null,{"$f":"IF(Q21+Q22>=1.5,(IF(Q21<Q22,3,0)),0)","v":0},null,{"$f":"IF((S21+S22)=3,(P22+S22),0)","v":0},{"$f":"IF(U22+U23=0,\"\",IF(I22=$L$21,\"1st\",\"\"))","v":""},{"$nulls":3},".",null,null,{"$f":"IF(AB21+AB22>0,(IF(AB21<AB22,1,(IF(AB21=AB22,0.5,0)))),0)","v":0},{"$f":"(AP22*1000)+AJ22","v":0},null,{"$f":"IF(AE21+AE22>0,(IF(AE21<AE22,1,(IF(AE21=AE22,0.5,0)))),0)","v":0},null,null,{"$f":"IF(AH21+AH22>0,(IF(AH21<AH22,1,(IF(AH21=AH22,0.5,0)))),0)","v":0},{"$f":"AB22+AE22+AH22-AB21-AE21-AH21","v":0},{"$f":"+AC22+AF22","v":0},{"$f":"IF(AK22>2,AK22,AC22+AF22+AI22)","v":0},null,{"$f":"IF(AL21+AL22>=1.5,(IF(AL21<AL22,3,0)),0)","v":0},null,{"$f":"IF((AN21+AN22)=3,(AK22+AN22),0)","v":0},{"$f":"IF(AP22+AP23=0,\"\",IF(AD22=$AG$21,\"1st\",\"\"))","v":""}]
[null,null,"S E M I  F I N A L "]
[null,null,1,13,".",null,null,{"$f":"IF(G24+G25>0,(IF(G24>G25,1,(IF(G24=G25,0.5,0)))),0)","v":0},{"$f":"(U24*1000)+O24","v":0},null,{"$f":"IF(J24+J25>0,(IF(J24>J25,1,(IF(J24=J25,0.5,0)))),0)","v":0},{"$f":"LARGE(I24:I25,1)","v":0},null,{"$f":"IF(M24+M25>0,(IF(M24>M25,1,(IF(M24=M25,0.5,0)))),0)","v":0},{"$f":"G24+J24+M24-G25-J25-M25","v":0},{"$f":"+H24+K24","v":0},{"$f":"IF(P24>2,P24,H24+K24+N24)","v":0},null,{"$f":"IF(Q24+Q25>=1.5,(IF(Q24>Q25,3,0)),0)","v":0},null,{"$f":"IF((S24+S25)=3,(P24+S24),0)","v":0},{"$f":"IF(U24+U25=0,\"\",IF(I24=$L$24,\"1st\",\"\"))","v":""},null,2,null,".",null,null,{"$f":"IF(AB24+AB25>0,(IF(AB24>AB25,1,(IF(AB24=AB25,0.5,0)))),0)","v":0},{"$f":"(AP24*1000)+AJ24","v":0},null,{"$f":"IF(AE24+AE25>0,(IF(AE24>AE25,1,(IF(AE24=AE25,0.5,0)))),0)","v":0},{"$f":"LARGE(AD24:AD25,1)","v":0},null,{"$f":"IF(AH24+AH25>0,(IF(AH24>AH25,1,(IF(AH24=AH25,0.5,0)))),0)","v":0},{"$f":"AB24+AE24+AH24-AB25-AE25-AH25","v":0},{"$f":"+AC24+AF24","v":0},{"$f":"IF(AK24>2,AK24,AC24+AF24+AI24)","v":0},null,{"$f":"IF(AL24+AL25>=1.5,(IF(AL24>AL25,3,0)),0)","v":0},null,{"$f":"IF((AN24+AN25)=3,(AK24+AN24),0)","v":0},{"$f":"IF(AP24+AP25=0,\"\",IF(AD24=$AG$24,\"1st\",\"\"))","v":""}]
[{"$nulls":3},14,".",null,null,{"$f":"IF(G24+G25>0,(IF(G24<G25,1,(IF(G24=G25,0.5,0)))),0)","v":0},{"$f":"(U25*1000)+O25","v":0},null,{"$f":"IF(J24+J25>0,(IF(J24<J25,1,(IF(J24=J25,0.5,0)))),0)","v":0},null,null,{"$f":"IF(M24+M25>0,(IF(M24<M25,1,(IF(M24=M25,0.5,0)))),0)","v":0},{"$f":"G25+J25+M25-G24-J24-M24","v":0},{"$f":"+H25+K25","v":0},{"$f":"IF(P25>2,P25,H25+K25+N25)","v":0},null,{"$f":"IF(Q24+Q25>=1.5,(IF(Q24<Q25,3,0)),0)","v":0},null,{"$f":"IF((S24+S25)=3,(P25+S25),0)","v":0},{"$f":"IF(U25+U26=0,\"\",IF(I25=$L$24,\"1st\",\"\"))","v":""},{"$nulls":3},".",null,null,{"$f":"IF(AB24+AB25>0,(IF(AB24<AB25,1,(IF(AB24=AB25,0.5,0)))),0)","v":0},{"$f":"(AP25*1000)+AJ25","v":0},null,{"$f":"IF(AE24+AE25>0,(IF(AE24<AE25,1,(IF(AE24=AE25,0.5,0)))),0)","v":0},null,null,{"$f":"IF(AH24+AH25>0,(IF(AH24<AH25,1,(IF(AH24=AH25,0.5,0)))),0)","v":0},{"$f":"AB25+AE25+AH25-AB24-AE24-AH24","v":0},{"$f":"+AC25+AF25","v":0},{"$f":"IF(AK25>2,AK25,AC25+AF25+AI25)","v":0},null,{"$f":"IF(AL24+AL25>=1.5,(IF(AL24<AL25,3,0)),0)","v":0},null,{"$f":"IF((AN24+AN25)=3,(AK25+AN25),0)","v":0},{"$f":"IF(AP25+AP26=0,\"\",IF(AD25=$AG$24,\"1st\",\"\"))","v":""}]
[null,null,"F I N A L "]
[null,null,1,13,"S/F 1",8,null,{"$f":"IF(G27+G28>0,(IF(G27>G28,1,(IF(G27=G28,0.5,0)))),0)","v":0},{"$f":"(U27*1000)+O27","v":0},null,{"$f":"IF(J27+J28>0,(IF(J27>J28,1,(IF(J27=J28,0.5,0)))),0)","v":0},{"$f":"LARGE(I27:I28,1)","v":0},null,{"$f":"IF(M27+M28>0,(IF(M27>M28,1,(IF(M27=M28,0.5,0)))),0)","v":0},{"$f":"G27+J27+M27-G28-J28-M28","v":0},{"$f":"+H27+K27","v":0},{"$f":"IF(P27>2,P27,H27+K27+N27)","v":0},null,{"$f":"IF(Q27+Q28>=1.5,(IF(Q27>Q28,3,0)),0)","v":0},null,{"$f":"IF((S27+S28)=3,(P27+S27),0)","v":0},{"$f":"IF(U27+U28=0,\"\",IF(I27=$L$27,\"1st\",\"\"))","v":""}]
[{"$nulls":3},14,"S/F 2",null,null,{"$f":"IF(G27+G28>0,(IF(G27<G28,1,(IF(G27=G28,0.5,0)))),0)","v":0},{"$f":"(U28*1000)+O28","v":0},null,{"$f":"IF(J27+J28>0,(IF(J27<J28,1,(IF(J27=J28,0.5,0)))),0)","v":0},null,null,{"$f":"IF(M27+M28>0,(IF(M27<M28,1,(IF(M27=M28,0.5,0)))),0)","v":0},{"$f":"G28+J28+M28-G27-J27-M27","v":0},{"$f":"+H28+K28","v":0},{"$f":"IF(P28>2,P28,H28+K28+N28)","v":0},null,{"$f":"IF(Q27+Q28>=1.5,(IF(Q27<Q28,3,0)),0)","v":0},null,{"$f":"IF((S27+S28)=3,(P28+S28),0)","v":0},{"$f":"IF(U28+U29=0,\"\",IF(I28=$L$27,\"1st\",\"\"))","v":""}]

{"sheet":"Finals 40-37","index":34,"n_rows":28,"n_cols":43,"rows_kept":28,"hidden":true,"merged":[[0,2,0,42],[1,2,2,42],[3,2,4,2],[3,3,4,3],[3,4,4,4],[3,5,4,5],[3,6,4,6],[3,8,4,8],[3,9,4,9],[3,11,4,11],[3,12,4,12],[3,14,4,14],[3,15,4,15],[3,17,4,17],[3,18,4,18],[3,19,4,19],[3,20,4,20],[3,21,4,21],[3,23,4,23],[3,24,4,24],[3,25,4,25],[3,26,4,26],[3,27,4,27],[3,29,4,29],[3,30,4,30],[3,32,4,32],[3,33,4,33],[3,35,4,35],[3,36,4,36],[3,38,4,38],[3,39,4,39],[3,40,4,40],[3,41,4,41],[3,42,4,42],[5,2,6,2],[5,5,6,5],[5,23,6,23],[5,26,6,26],[7,2,7,42],[8,2,9,2],[8,5,9,5],[8,23,9,23],[8,26,9,26],[11,2,12,2],[11,5,12,5],[11,23,12,23],[11,26,12,26],[14,2,15,2],[14,5,15,5],[14,23,15,23],[14,26,15,26],[16,2,16,42],[17,2,18,2],[17,5,18,5],[17,23,18,23],[17,26,18,26],[20,2,21,2],[20,5,21,5],[20,23,21,23],[20,26,21,26],[22,2,22,42],[23,2,24,2],[23,5,24,5],[23,23,24,23],[23,26,24,26],[25,2,25,42],[26,2,27,2],[26,5,27,5]]}
[null,null,"H E A D I N G  H E R E "]
[null,null,"R O U N D  1"]
[]
[null,null,"Sections","Team   #","Skips","Rink #","1st     Set",null,null,"2nd     Set",null,null,"Tie Break",null,null,"Set Points",null,null,"Game Points",null,"Total Points","RANK",null,"Sections","Team   #","Skips","Rink #","1st     Set",null,null,"2nd     Set",null,null,"Tie Break",null,null,"Set Points",null,null,"Game Points",null,"Total Points","RANK"]
[{"$nulls":7},"Set Points",null,null,"Set Points",null,null,"Set Points",null,null,"S+TBPts",{"$nulls":11},"Set Points",null,null,"Set Points",null,null,"Set Points",null,null,"S+TBPts"]
[null,null,1,1,"Sec 1",null,null,{"$f":"IF(G6+G7>0,(IF(G6>G7,1,(IF(G6=G7,0.5,0)))),0)","v":0},{"$f":"(U6*1000)+O6","v":0},null,{"$f":"IF(J6+J7>0,(IF(J6>J7,1,(IF(J6=J7,0.5,0)))),0)","v":0},{"$f":"LARGE(I6:I7,1)","v":0},null,{"$f":"IF(M6+M7>0,(IF(M6>M7,1,(IF(M6=M7,0.5,0)))),0)","v":0},{"$f":"G6+J6+M6-G7-J7-M7","v":0},{"$f":"H6+K6","v":0},{"$f":"IF(P6>2,P6,H6+K6+N6)","v":0},null,{"$f":"IF(Q6+Q7>=1.5,(IF(Q6>Q7,3,0)),0)","v":0},null,{"$f":"IF((S6+S7)=3,(P6+S6),0)","v":0},{"$f":"IF(U6+U7=0,\"\",IF(I6=$L$6,\"1st\",\"\"))","v":""},null,2,null,"Sec 3",null,null,{"$f":"IF(AB6+AB7>0,(IF(AB6>AB7,1,(IF(AB6=AB7,0.5,0)))),0)","v":0},{"$f":"(AP6*1000)+AJ6","v":0},null,{"$f":"IF(AE6+AE7>0,(IF(AE6>AE7,1,(IF(AE6=AE7,0.5,0)))),0)","v":0},{"$f":"LARGE(AD6:AD7,1)","v":0},null,{"$f":"IF(AH6+AH7>0,(IF(AH6>AH7,1,(IF(AH6=AH7,0.5,0)))),0)","v":0},{"$f":"AB6+AE6+AH6-AB7-AE7-AH7","v":0},{"$f":"AC6+AF6","v":0},{"$f":"IF(AK6>2,AK6,AC6+AF6+AI6)","v":0},null,{"$f":"IF(AL6+AL7>=1.5,(IF(AL6>AL7,3,0)),0)","v":0},null,{"$f":"IF((AN6+AN7)=3,(AK6+AN6),0)","v":0},{"$f":"IF(AP6+AP7=0,\"\",IF(AD6=$AG$6,\"1st\",\"\"))","v":""}]
[{"$nulls":3},2,"Sec 2",null,null,{"$f":"IF(G6+G7>0,(IF(G6<G7,1,(IF(G6=G7,0.5,0)))),0)","v":0},{"$f":"(U7*1000)+O7","v":0},null,{"$f":"IF(J6+J7>0,(IF(J6<J7,1,(IF(J6=J7,0.5,0)))),0)","v":0},null,null,{"$f":"IF(M6+M7>0,(IF(M6<M7,1,(IF(M6=M7,0.5,0)))),0)","v":0},{"$f":"G7+J7+M7-G6-J6-M6","v":0},{"$f":"+H7+K7","v":0},{"$f":"IF(P7>2,P7,H7+K7+N7)","v":0},null,{"$f":"IF(Q6+Q7>=1.5,(IF(Q6<Q7,3,0)),0)","v":0},null,{"$f":"IF((S6+S7)=3,(P7+S7),0)","v":0},{"$f":"IF(U7+U8=0,\"\",IF(I7=$L$6,\"1st\",\"\"))","v":""},{"$nulls":3},"Sec 4",null,null,{"$f":"IF(AB6+AB7>0,(IF(AB6<AB7,1,(IF(AB6=AB7,0.5,0)))),0)","v":0},{"$f":"(AP7*1000)+AJ7","v":0},null,{"$f":"IF(AE6+AE7>0,(IF(AE6<AE7,1,(IF(AE6=AE7,0.5,0)))),0)","v":0},null,null,{"$f":"IF(AH6+AH7>0,(IF(AH6<AH7,1,(IF(AH6=AH7,0.5,0)))),0)","v":0},{"$f":"AB7+AE7+AH7-AB6-AE6-AH6","v":0},{"$f":"+AC7+AF7","v":0},{"$f":"IF(AK7>2,AK7,AC7+AF7+AI7)","v":0},null,{"$f":"IF(AL6+AL7>=1.5,(IF(AL6<AL7,3,0)),0)","v":0},null,{"$f":"IF((AN6+AN7)=3,(AK7+AN7),0)","v":0},{"$f":"IF(AP7+AP8=0,\"\",IF(AD7=$AG$6,\"1st\",\"\"))","v":""}]
[null,null,"Q U A R T E R  F I N A L"]
[null,null,1,3,"Round 1 Sec 1",null,null,{"$f":"IF(G9+G10>0,(IF(G9>G10,1,(IF(G9=G10,0.5,0)))),0)","v":0},{"$f":"(U9*1000)+O9","v":0},null,{"$f":"IF(J9+J10>0,(IF(J9>J10,1,(IF(J9=J10,0.5,0)))),0)","v":0},{"$f":"LARGE(I9:I10,1)","v":0},null,{"$f":"IF(M9+M10>0,(IF(M9>M10,1,(IF(M9=M10,0.5,0)))),0)","v":0},{"$f":"G9+J9+M9-G10-J10-M10","v":0},{"$f":"+H9+K9","v":0},{"$f":"IF(P9>2,P9,H9+K9+N9)","v":0},null,{"$f":"IF(Q9+Q10>=1.5,(IF(Q9>Q10,3,0)),0)","v":0},null,{"$f":"IF((S9+S10)=3,(P9+S9),0)","v":0},{"$f":"IF(U9+U10=0,\"\",IF(I9=$L$9,\"1st\",\"\"))","v":""},null,2,null,"Sec 5",null,null,{"$f":"IF(AB9+AB10>0,(IF(AB9>AB10,1,(IF(AB9=AB10,0.5,0)))),0)","v":0},{"$f":"(AP9*1000)+AJ9","v":0},null,{"$f":"IF(AE9+AE10>0,(IF(AE9>AE10,1,(IF(AE9=AE10,0.5,0)))),0)","v":0},{"$f":"LARGE(AD9:AD10,1)","v":0},null,{"$f":"IF(AH9+AH10>0,(IF(AH9>AH10,1,(IF(AH9=AH10,0.5,0)))),0)","v":0},{"$f":"AB9+AE9+AH9-AB10-AE10-AH10","v":0},{"$f":"+AC9+AF9","v":0},{"$f":"IF(AK9>2,AK9,AC9+AF9+AI9)","v":0},null,{"$f":"IF(AL9+AL10>=1.5,(IF(AL9>AL10,3,0)),0)","v":0},null,{"$f":"IF((AN9+AN10)=3,(AK9+AN9),0)","v":0},{"$f":"IF(AP9+AP10=0,\"\",IF(AD9=$AG$9,\"1st\",\"\"))","v":""}]
[{"$nulls":3},4,"Round 1 Sec 2",null,null,{"$f":"IF(G9+G10>0,(IF(G9<G10,1,(IF(G9=G10,0.5,0)))),0)","v":0},{"$f":"(U10*1000)+O10","v":0},null,{"$f":"IF(J9+J10>0,(IF(J9<J10,1,(IF(J9=J10,0.5,0)))),0)","v":0},null,null,{"$f":"IF(M9+M10>0,(IF(M9<M10,1,(IF(M9=M10,0.5,0)))),0)","v":0},{"$f":"G10+J10+M10-G9-J9-M9","v":0},{"$f":"+H10+K10","v":0},{"$f":"IF(P10>2,P10,H10+K10+N10)","v":0},null,{"$f":"IF(Q9+Q10>=1.5,(IF(Q9<Q10,3,0)),0)","v":0},null,{"$f":"IF((S9+S10)=3,(P10+S10),0)","v":0},{"$f":"IF(U10+U11=0,\"\",IF(I10=$L$9,\"1st\",\"\"))","v":""},{"$nulls":3},"Sec 6",null,null,{"$f":"IF(AB9+AB10>0,(IF(AB9<AB10,1,(IF(AB9=AB10,0.5,0)))),0)","v":0},{"$f":"(AP10*1000)+AJ10","v":0},null,{"$f":"IF(AE9+AE10>0,(IF(AE9<AE10,1,(IF(AE9=AE10,0.5,0)))),0)","v":0},null,null,{"$f":"IF(AH9+AH10>0,(IF(AH9<AH10,1,(IF(AH9=AH10,0.5,0)))),0)","v":0},{"$f":"AB10+AE10+AH10-AB9-AE9-AH9","v":0},{"$f":"+AC10+AF10","v":0},{"$f":"IF(AK10>2,AK10,AC10+AF10+AI10)","v":0},null,{"$f":"IF(AL9+AL10>=1.5,(IF(AL9<AL10,3,0)),0)","v":0},null,{"$f":"IF((AN9+AN10)=3,(AK10+AN10),0)","v":0},{"$f":"IF(AP10+AP11=0,\"\",IF(AD10=$AG$9,\"1st\",\"\"))","v":""}]
[]
[null,null,3,5,"Sec 7",null,null,{"$f":"IF(G12+G13>0,(IF(G12>G13,1,(IF(G12=G13,0.5,0)))),0)","v":0},{"$f":"(U12*1000)+O12","v":0},null,{"$f":"IF(J12+J13>0,(IF(J12>J13,1,(IF(J12=J13,0.5,0)))),0)","v":0},{"$f":"LARGE(I12:I13,1)","v":0},null,{"$f":"IF(M12+M13>0,(IF(M12>M13,1,(IF(M12=M13,0.5,0)))),0)","v":0},{"$f":"G12+J12+M12-G13-J13-M13","v":0},{"$f":"+H12+K12","v":0},{"$f":"IF(P12>2,P12,H12+K12+N12)","v":0},null,{"$f":"IF(Q12+Q13>=1.5,(IF(Q12>Q13,3,0)),0)","v":0},null,{"$f":"IF((S12+S13)=3,(P12+S12),0)","v":0},{"$f":"IF(U12+U13=0,\"\",IF(I12=$L$12,\"1st\",\"\"))","v":""},null,4,null,"Sec 9",null,null,{"$f":"IF(AB12+AB13>0,(IF(AB12>AB13,1,(IF(AB12=AB13,0.5,0)))),0)","v":0},{"$f":"(AP12*1000)+AJ12","v":0},null,{"$f":"IF(AE12+AE13>0,(IF(AE12>AE13,1,(IF(AE12=AE13,0.5,0)))),0)","v":0},{"$f":"LARGE(AD12:AD13,1)","v":0},null,{"$f":"IF(AH12+AH13>0,(IF(AH12>AH13,1,(IF(AH12=AH13,0.5,0)))),0)","v":0},{"$f":"AB12+AE12+AH12-AB13-AE13-AH13","v":0},{"$f":"+AC12+AF12","v":0},{"$f":"IF(AK12>2,AK12,AC12+AF12+AI12)","v":0},null,{"$f":"IF(AL12+AL13>=1.5,(IF(AL12>AL13,3,0)),0)","v":0},null,{"$f":"IF((AN12+AN13)=3,(AK12+AN12),0)","v":0},{"$f":"IF(AP12+AP13=0,\"\",IF(AD12=$AG$12,\"1st\",\"\"))","v":""}]
[{"$nulls":3},6,"Sec 8",null,null,{"$f":"IF(G12+G13>0,(IF(G12<G13,1,(IF(G12=G13,0.5,0)))),0)","v":0},{"$f":"(U13*1000)+O13","v":0},null,{"$f":"IF(J12+J13>0,(IF(J12<J13,1,(IF(J12=J13,0.5,0)))),0)","v":0},null,null,{"$f":"IF(M12+M13>0,(IF(M12<M13,1,(IF(M12=M13,0.5,0)))),0)","v":0},{"$f":"G13+J13+M13-G12-J12-M12","v":0},{"$f":"+H13+K13","v":0},{"$f":"IF(P13>2,P13,H13+K13+N13)","v":0},null,{"$f":"IF(Q12+Q13>=1.5,(IF(Q12<Q13,,0)),0)","v":0},null,{"$f":"IF((S12+S13)=3,(P13+S13),0)","v":0},{"$f":"IF(U13+U14=0,\"\",IF(I13=$L$12,\"1st\",\"\"))","v":""},{"$nulls":3},"Sec 10",null,null,{"$f":"IF(AB12+AB13>0,(IF(AB12<AB13,1,(IF(AB12=AB13,0.5,0)))),0)","v":0},{"$f":"(AP13*1000)+AJ13","v":0},null,{"$f":"IF(AE12+AE13>0,(IF(AE12<AE13,1,(IF(AE12=AE13,0.5,0)))),0)","v":0},null,null,{"$f":"IF(AH12+AH13>0,(IF(AH12<AH13,1,(IF(AH12=AH13,0.5,0)))),0)","v":0},{"$f":"AB13+AE13+AH13-AB12-AE12-AH12","v":0},{"$f":"+AC13+AF13","v":0},{"$f":"IF(AK13>2,AK13,AC13+AF13+AI13)","v":0},null,{"$f":"IF(AL12+AL13>=1.5,(IF(AL12<AL13,3,0)),0)","v":0},null,{"$f":"IF((AN12+AN13)=3,(AK13+AN13),0)","v":0},{"$f":"IF(AP13+AP14=0,\"\",IF(AD13=$AG$12,\"1st\",\"\"))","v":""}]
[]
[null,null,7,7,".",null,null,{"$f":"IF(G15+G16>0,(IF(G15>G16,1,(IF(G15=G16,0.5,0)))),0)","v":0},{"$f":"(U15*1000)+O15","v":0},null,{"$f":"IF(J15+J16>0,(IF(J15>J16,1,(IF(J15=J16,0.5,0)))),0)","v":0},{"$f":"LARGE(I15:I16,1)","v":0},null,{"$f":"IF(M15+M16>0,(IF(M15>M16,1,(IF(M15=M16,0.5,0)))),0)","v":0},{"$f":"G15+J15+M15-G16-J16-M16","v":0},{"$f":"+H15+K15","v":0},{"$f":"IF(P15>2,P15,H15+K15+N15)","v":0},null,{"$f":"IF(Q15+Q16>=1.5,(IF(Q15>Q16,3,0)),0)","v":0},null,{"$f":"IF((S15+S16)=3,(P15+S15),0)","v":0},{"$f":"IF(U15+U16=0,\"\",IF(I15=$L$15,\"1st\",\"\"))","v":""},null,8,null,".",null,null,{"$f":"IF(AB15+AB16>0,(IF(AB15>AB16,1,(IF(AB15=AB16,0.5,0)))),0)","v":0},{"$f":"(AP15*1000)+AJ15","v":0},null,{"$f":"IF(AE15+AE16>0,(IF(AE15>AE16,1,(IF(AE15=AE16,0.5,0)))),0)","v":0},{"$f":"LARGE(AD15:AD16,1)","v":0},null,{"$f":"IF(AH15+AH16>0,(IF(AH15>AH16,1,(IF(AH15=AH16,0.5,0)))),0)","v":0},{"$f":"AB15+AE15+AH15-AB16-AE16-AH16","v":0},{"$f":"+AC15+AF15","v":0},{"$f":"IF(AK15>2,AK15,AC15+AF15+AI15)","v":0},null,{"$f":"IF(AL15+AL16>=1.5,(IF(AL15>AL16,3,0)),0)","v":0},null,{"$f":"IF((AN15+AN16)=3,(AK15+AN15),0)","v":0},{"$f":"IF(AP15+AP16=0,\"\",IF(AD15=$AG$15,\"1st\",\"\"))","v":""}]
[{"$nulls":3},8,".",null,null,{"$f":"IF(G15+G16>0,(IF(G15<G16,1,(IF(G15=G16,0.5,0)))),0)","v":0},{"$f":"(U16*1000)+O16","v":0},null,{"$f":"IF(J15+J16>0,(IF(J15<J16,1,(IF(J15=J16,0.5,0)))),0)","v":0},null,null,{"$f":"IF(M15+M16>0,(IF(M15<M16,1,(IF(M15=M16,0.5,0)))),0)","v":0},{"$f":"G16+J16+M16-G15-J15-M15","v":0},{"$f":"+H16+K16","v":0},{"$f":"IF(P16>2,P16,H16+K16+N16)","v":0},null,{"$f":"IF(Q15+Q16>=1.5,(IF(Q15<Q16,3,0)),0)","v":0},null,{"$f":"IF((S15+S16)=3,(P16+S16),0)","v":0},{"$f":"IF(U16+U17=0,\"\",IF(I16=$L$15,\"1st\",\"\"))","v":""},{"$nulls":3},".",null,null,{"$f":"IF(AB15+AB16>0,(IF(AB15<AB16,1,(IF(AB15=AB16,0.5,0)))),0)","v":0},{"$f":"(AP16*1000)+AJ16","v":0},null,{"$f":"IF(AE15+AE16>0,(IF(AE15<AE16,1,(IF(AE15=AE16,0.5,0)))),0)","v":0},null,null,{"$f":"IF(AH15+AH16>0,(IF(AH15<AH16,1,(IF(AH15=AH16,0.5,0)))),0)","v":0},{"$f":"AB16+AE16+AH16-AB15-AE15-AH15","v":0},{"$f":"+AC16+AF16","v":0},{"$f":"IF(AK16>2,AK16,AC16+AF16+AI16)","v":0},null,{"$f":"IF(AL15+AL16>=1.5,(IF(AL15<AL16,3,0)),0)","v":0},null,{"$f":"IF((AN15+AN16)=3,(AK16+AN16),0)","v":0},{"$f":"IF(AP16+AP17=0,\"\",IF(AD16=$AG$15,\"1st\",\"\"))","v":""}]
[null,null,"S E M I  F I N A L "]
[null,null,1,9,"Q/F 1",null,null,{"$f":"IF(G18+G19>0,(IF(G18>G19,1,(IF(G18=G19,0.5,0)))),0)","v":0},{"$f":"(U18*1000)+O18","v":0},null,{"$f":"IF(J18+J19>0,(IF(J18>J19,1,(IF(J18=J19,0.5,0)))),0)","v":0},{"$f":"LARGE(I18:I19,1)","v":0},null,{"$f":"IF(M18+M19>0,(IF(M18>M19,1,(IF(M18=M19,0.5,0)))),0)","v":0},{"$f":"G18+J18+M18-G19-J19-M19","v":0},{"$f":"+H18+K18","v":0},{"$f":"IF(P18>2,P18,H18+K18+N18)","v":0},null,{"$f":"IF(Q18+Q19>=1.5,(IF(Q18>Q19,3,0)),0)","v":0},null,{"$f":"IF((S18+S19)=3,(P18+S18),0)","v":0},{"$f":"IF(U18+U19=0,\"\",IF(I18=$L$18,\"1st\",\"\"))","v":""},null,2,null,"Q/F 3",null,null,{"$f":"IF(AB18+AB19>0,(IF(AB18>AB19,1,(IF(AB18=AB19,0.5,0)))),0)","v":0},{"$f":"(AP18*1000)+AJ18","v":0},null,{"$f":"IF(AE18+AE19>0,(IF(AE18>AE19,1,(IF(AE18=AE19,0.5,0)))),0)","v":0},{"$f":"LARGE(AD18:AD19,1)","v":0},null,{"$f":"IF(AH18+AH19>0,(IF(AH18>AH19,1,(IF(AH18=AH19,0.5,0)))),0)","v":0},{"$f":"AB18+AE18+AH18-AB19-AE19-AH19","v":0},{"$f":"+AC18+AF18","v":0},{"$f":"IF(AK18>2,AK18,AC18+AF18+AI18)","v":0},null,{"$f":"IF(AL18+AL19>=1.5,(IF(AL18>AL19,3,0)),0)","v":0},null,{"$f":"IF((AN18+AN19)=3,(AK18+AN18),0)","v":0},{"$f":"IF(AP18+AP19=0,\"\",IF(AD18=$AG$18,\"1st\",\"\"))","v":""}]
[{"$nulls":3},10,"Q/F 2",null,null,{"$f":"IF(G18+G19>0,(IF(G18<G19,1,(IF(G18=G19,0.5,0)))),0)","v":0},{"$f":"(U19*1000)+O19","v":0},null,{"$f":"IF(J18+J19>0,(IF(J18<J19,1,(IF(J18=J19,0.5,0)))),0)","v":0},null,null,{"$f":"IF(M18+M19>0,(IF(M18<M19,1,(IF(M18=M19,0.5,0)))),0)","v":0},{"$f":"G19+J19+M19-G18-J18-M18","v":0},{"$f":"+H19+K19","v":0},{"$f":"IF(P19>2,P19,H19+K19+N19)","v":0},null,{"$f":"IF(Q18+Q19>=1.5,(IF(Q18<Q19,3,0)),0)","v":0},null,{"$f":"IF((S18+S19)=3,(P19+S19),0)","v":0},{"$f":"IF(U19+U20=0,\"\",IF(I19=$L$18,\"1st\",\"\"))","v":""},{"$nulls":3},"Q/F 4",null,null,{"$f":"IF(AB18+AB19>0,(IF(AB18<AB19,1,(IF(AB18=AB19,0.5,0)))),0)","v":0},{"$f":"(AP19*1000)+AJ19","v":0},null,{"$f":"IF(AE18+AE19>0,(IF(AE18<AE19,1,(IF(AE18=AE19,0.5,0)))),0)","v":0},null,null,{"$f":"IF(AH18+AH19>0,(IF(AH18<AH19,1,(IF(AH18=AH19,0.5,0)))),0)","v":0},{"$f":"AB19+AE19+AH19-AB18-AE18-AH18","v":0},{"$f":"+AC19+AF19","v":0},{"$f":"IF(AK19>2,AK19,AC19+AF19+AI19)","v":0},null,{"$f":"IF(AL18+AL19>=1.5,(IF(AL18<AL19,3,0)),0)","v":0},null,{"$f":"IF((AN18+AN19)=3,(AK19+AN19),0)","v":0},{"$f":"IF(AP19+AP20=0,\"\",IF(AD19=$AG$18,\"1st\",\"\"))","v":""}]
[]
[null,null,3,11,".",null,null,{"$f":"IF(G21+G22>0,(IF(G21>G22,1,(IF(G21=G22,0.5,0)))),0)","v":0},{"$f":"(U21*1000)+O21","v":0},null,{"$f":"IF(J21+J22>0,(IF(J21>J22,1,(IF(J21=J22,0.5,0)))),0)","v":0},{"$f":"LARGE(I21:I22,1)","v":0},null,{"$f":"IF(M21+M22>0,(IF(M21>M22,1,(IF(M21=M22,0.5,0)))),0)","v":0},{"$f":"G21+J21+M21-G22-J22-M22","v":0},{"$f":"+H21+K21","v":0},{"$f":"IF(P21>2,P21,H21+K21+N21)","v":0},null,{"$f":"IF(Q21+Q22>=1.5,(IF(Q21>Q22,3,0)),0)","v":0},null,{"$f":"IF((S21+S22)=3,(P21+S21),0)","v":0},{"$f":"IF(U21+U22=0,\"\",IF(I21=$L$21,\"1st\",\"\"))","v":""},null,4,null,".",null,null,{"$f":"IF(AB21+AB22>0,(IF(AB21>AB22,1,(IF(AB21=AB22,0.5,0)))),0)","v":0},{"$f":"(AP21*1000)+AJ21","v":0},null,{"$f":"IF(AE21+AE22>0,(IF(AE21>AE22,1,(IF(AE21=AE22,0.5,0)))),0)","v":0},{"$f":"LARGE(AD21:AD22,1)","v":0},null,{"$f":"IF(AH21+AH22>0,(IF(AH21>AH22,1,(IF(AH21=AH22,0.5,0)))),0)","v":0},{"$f":"AB21+AE21+AH21-AB22-AE22-AH22","v":0},{"$f":"+AC21+AF21","v":0},{"$f":"IF(AK21>2,AK21,AC21+AF21+AI21)","v":0},null,{"$f":"IF(AL21+AL22>=1.5,(IF(AL21>AL22,3,0)),0)","v":0},null,{"$f":"IF((AN21+AN22)=3,(AK21+AN21),0)","v":0},{"$f":"IF(AP21+AP22=0,\"\",IF(AD21=$AG$21,\"1st\",\"\"))","v":""}]
[{"$nulls":3},12,".",null,null,{"$f":"IF(G21+G22>0,(IF(G21<G22,1,(IF(G21=G22,0.5,0)))),0)","v":0},{"$f":"(U22*1000)+O22","v":0},null,{"$f":"IF(J21+J22>0,(IF(J21<J22,1,(IF(J21=J22,0.5,0)))),0)","v":0},null,null,{"$f":"IF(M21+M22>0,(IF(M21<M22,1,(IF(M21=M22,0.5,0)))),0)","v":0},{"$f":"G22+J22+M22-G21-J21-M21","v":0},{"$f":"+H22+K22","v":0},{"$f":"IF(P22>2,P22,H22+K22+N22)","v":0},null,{"$f":"IF(Q21+Q22>=1.5,(IF(Q21<Q22,3,0)),0)","v":0},null,{"$f":"IF((S21+S22)=3,(P22+S22),0)","v":0},{"$f":"IF(U22+U23=0,\"\",IF(I22=$L$21,\"1st\",\"\"))","v":""},{"$nulls":3},".",null,null,{"$f":"IF(AB21+AB22>0,(IF(AB21<AB22,1,(IF(AB21=AB22,0.5,0)))),0)","v":0},{"$f":"(AP22*1000)+AJ22","v":0},null,{"$f":"IF(AE21+AE22>0,(IF(AE21<AE22,1,(IF(AE21=AE22,0.5,0)))),0)","v":0},null,null,{"$f":"IF(AH21+AH22>0,(IF(AH21<AH22,1,(IF(AH21=AH22,0.5,0)))),0)","v":0},{"$f":"AB22+AE22+AH22-AB21-AE21-AH21","v":0},{"$f":"+AC22+AF22","v":0},{"$f":"IF(AK22>2,AK22,AC22+AF22+AI22)","v":0},null,{"$f":"IF(AL21+AL22>=1.5,(IF(AL21<AL22,3,0)),0)","v":0},null,{"$f":"IF((AN21+AN22)=3,(AK22+AN22),0)","v":0},{"$f":"IF(AP22+AP23=0,\"\",IF(AD22=$AG$21,\"1st\",\"\"))","v":""}]
[null,null,"S E M I  F I N A L "]
[null,null,1,13,".",null,null,{"$f":"IF(G24+G25>0,(IF(G24>G25,1,(IF(G24=G25,0.5,0)))),0)","v":0},{"$f":"(U24*1000)+O24","v":0},null,{"$f":"IF(J24+J25>0,(IF(J24>J25,1,(IF(J24=J25,0.5,0)))),0)","v":0},{"$f":"LARGE(I24:I25,1)","v":0},null,{"$f":"IF(M24+M25>0,(IF(M24>M25,1,(IF(M24=M25,0.5,0)))),0)","v":0},{"$f":"G24+J24+M24-G25-J25-M25","v":0},{"$f":"+H24+K24","v":0},{"$f":"IF(P24>2,P24,H24+K24+N24)","v":0},null,{"$f":"IF(Q24+Q25>=1.5,(IF(Q24>Q25,3,0)),0)","v":0},null,{"$f":"IF((S24+S25)=3,(P24+S24),0)","v":0},{"$f":"IF(U24+U25=0,\"\",IF(I24=$L$24,\"1st\",\"\"))","v":""},null,2,null,".",null,null,{"$f":"IF(AB24+AB25>0,(IF(AB24>AB25,1,(IF(AB24=AB25,0.5,0)))),0)","v":0},{"$f":"(AP24*1000)+AJ24","v":0},null,{"$f":"IF(AE24+AE25>0,(IF(AE24>AE25,1,(IF(AE24=AE25,0.5,0)))),0)","v":0},{"$f":"LARGE(AD24:AD25,1)","v":0},null,{"$f":"IF(AH24+AH25>0,(IF(AH24>AH25,1,(IF(AH24=AH25,0.5,0)))),0)","v":0},{"$f":"AB24+AE24+AH24-AB25-AE25-AH25","v":0},{"$f":"+AC24+AF24","v":0},{"$f":"IF(AK24>2,AK24,AC24+AF24+AI24)","v":0},null,{"$f":"IF(AL24+AL25>=1.5,(IF(AL24>AL25,3,0)),0)","v":0},null,{"$f":"IF((AN24+AN25)=3,(AK24+AN24),0)","v":0},{"$f":"IF(AP24+AP25=0,\"\",IF(AD24=$AG$24,\"1st\",\"\"))","v":""}]
[{"$nulls":3},14,".",null,null,{"$f":"IF(G24+G25>0,(IF(G24<G25,1,(IF(G24=G25,0.5,0)))),0)","v":0},{"$f":"(U25*1000)+O25","v":0},null,{"$f":"IF(J24+J25>0,(IF(J24<J25,1,(IF(J24=J25,0.5,0)))),0)","v":0},null,null,{"$f":"IF(M24+M25>0,(IF(M24<M25,1,(IF(M24=M25,0.5,0)))),0)","v":0},{"$f":"G25+J25+M25-G24-J24-M24","v":0},{"$f":"+H25+K25","v":0},{"$f":"IF(P25>2,P25,H25+K25+N25)","v":0},null,{"$f":"IF(Q24+Q25>=1.5,(IF(Q24<Q25,3,0)),0)","v":0},null,{"$f":"IF((S24+S25)=3,(P25+S25),0)","v":0},{"$f":"IF(U25+U26=0,\"\",IF(I25=$L$24,\"1st\",\"\"))","v":""},{"$nulls":3},".",null,null,{"$f":"IF(AB24+AB25>0,(IF(AB24<AB25,1,(IF(AB24=AB25,0.5,0)))),0)","v":0},{"$f":"(AP25*1000)+AJ25","v":0},null,{"$f":"IF(AE24+AE25>0,(IF(AE24<AE25,1,(IF(AE24=AE25,0.5,0)))),0)","v":0},null,null,{"$f":"IF(AH24+AH25>0,(IF(AH24<AH25,1,(IF(AH24=AH25,0.5,0)))),0)","v":0},{"$f":"AB25+AE25+AH25-AB24-AE24-AH24","v":0},{"$f":"+AC25+AF25","v":0},{"$f":"IF(AK25>2,AK25,AC25+AF25+AI25)","v":0},null,{"$f":"IF(AL24+AL25>=1.5,(IF(AL24<AL25,3,0)),0)","v":0},null,{"$f":"IF((AN24+AN25)=3,(AK25+AN25),0)","v":0},{"$f":"IF(AP25+AP26=0,\"\",IF(AD25=$AG$24,\"1st\",\"\"))","v":""}]
[null,null,"F I N A L "]
[null,null,1,13,"S/F 1",null,null,{"$f":"IF(G27+G28>0,(IF(G27>G28,1,(IF(G27=G28,0.5,0)))),0)","v":0},{"$f":"(U27*1000)+O27","v":0},null,{"$f":"IF(J27+J28>0,(IF(J27>J28,1,(IF(J27=J28,0.5,0)))),0)","v":0},{"$f":"LARGE(I27:I28,1)","v":0},null,{"$f":"IF(M27+M28>0,(IF(M27>M28,1,(IF(M27=M28,0.5,0)))),0)","v":0},{"$f":"G27+J27+M27-G28-J28-M28","v":0},{"$f":"+H27+K27","v":0},{"$f":"IF(P27>2,P27,H27+K27+N27)","v":0},null,{"$f":"IF(Q27+Q28>=1.5,(IF(Q27>Q28,3,0)),0)","v":0},null,{"$f":"IF((S27+S28)=3,(P27+S27),0)","v":0},{"$f":"IF(U27+U28=0,\"\",IF(I27=$L$27,\"1st\",\"\"))","v":""}]
[{"$nulls":3},14,"S/F 2",null,null,{"$f":"IF(G27+G28>0,(IF(G27<G28,1,(IF(G27=G28,0.5,0)))),0)","v":0},{"$f":"(U28*1000)+O28","v":0},null,{"$f":"IF(J27+J28>0,(IF(J27<J28,1,(IF(J27=J28,0.5,0)))),0)","v":0},null,null,{"$f":"IF(M27+M28>0,(IF(M27<M28,1,(IF(M27=M28,0.5,0)))),0)","v":0},{"$f":"G28+J28+M28-G27-J27-M27","v":0},{"$f":"+H28+K28","v":0},{"$f":"IF(P28>2,P28,H28+K28+N28)","v":0},null,{"$f":"IF(Q27+Q28>=1.5,(IF(Q27<Q28,3,0)),0)","v":0},null,{"$f":"IF((S27+S28)=3,(P28+S28),0)","v":0},{"$f":"IF(U28+U29=0,\"\",IF(I28=$L$27,\"1st\",\"\"))","v":""}]

{"sheet":"Finals 40 37","index":35,"n_rows":28,"n_cols":43,"rows_kept":28,"hidden":true,"merged":[[0,2,0,42],[1,2,2,42],[3,2,4,2],[3,3,4,3],[3,4,4,4],[3,5,4,5],[3,6,4,6],[3,8,4,8],[3,9,4,9],[3,11,4,11],[3,12,4,12],[3,14,4,14],[3,15,4,15],[3,17,4,17],[3,18,4,18],[3,19,4,19],[3,20,4,20],[3,21,4,21],[3,23,4,23],[3,24,4,24],[3,25,4,25],[3,26,4,26],[3,27,4,27],[3,29,4,29],[3,30,4,30],[3,32,4,32],[3,33,4,33],[3,35,4,35],[3,36,4,36],[3,38,4,38],[3,39,4,39],[3,40,4,40],[3,41,4,41],[3,42,4,42],[5,2,6,2],[5,5,6,5],[5,23,6,23],[5,26,6,26],[7,2,7,42],[8,2,9,2],[8,5,9,5],[8,23,9,23],[8,26,9,26],[11,2,12,2],[11,5,12,5],[11,23,12,23],[11,26,12,26],[14,2,15,2],[14,5,15,5],[14,23,15,23],[14,26,15,26],[16,2,16,42],[17,2,18,2],[17,5,18,5],[17,23,18,23],[17,26,18,26],[20,2,21,2],[20,5,21,5],[20,23,21,23],[20,26,21,26],[22,2,22,42],[23,2,24,2],[23,5,24,5],[23,23,24,23],[23,26,24,26],[25,2,25,42],[26,2,27,2],[26,5,27,5]]}
[null,null,{"$f":"Entries!$A$1","v":"2018 District 5 - Mixed Pairs"}]
[null,null,"R O U N D  1"]
[]
[null,null,"Sections","Team   #","Skips","Rink #","1st     Set",null,null,"2nd     Set",null,null,"Tie Break",null,null,"Set Points",null,null,"Game Points",null,"Total Points","RANK",null,"Sections","Team   #","Skips","Rink #","1st     Set",null,null,"2nd     Set",null,null,"Tie Break",null,null,"Set Points",null,null,"Game Points",null,"Total Points","RANK"]
[{"$nulls":7},"Set Points",null,null,"Set Points",null,null,"Set Points",null,null,"S+TBPts",{"$nulls":11},"Set Points",null,null,"Set Points",null,null,"Set Points",null,null,"S+TBPts"]
[null,null,1,1,"Sec 1",1,null,{"$f":"IF(G6+G7>0,(IF(G6>G7,1,(IF(G6=G7,0.5,0)))),0)","v":0},{"$f":"(U6*1000)+O6","v":0},null,{"$f":"IF(J6+J7>0,(IF(J6>J7,1,(IF(J6=J7,0.5,0)))),0)","v":0},{"$f":"LARGE(I6:I7,1)","v":0},null,{"$f":"IF(M6+M7>0,(IF(M6>M7,1,(IF(M6=M7,0.5,0)))),0)","v":0},{"$f":"G6+J6+M6-G7-J7-M7","v":0},{"$f":"H6+K6","v":0},{"$f":"IF(P6>2,P6,H6+K6+N6)","v":0},null,{"$f":"IF(Q6+Q7>=1.5,(IF(Q6>Q7,3,0)),0)","v":0},null,{"$f":"IF((S6+S7)=3,(P6+S6),0)","v":0},{"$f":"IF(U6+U7=0,\"\",IF(I6=$L$6,\"1st\",\"\"))","v":""},null,2,null,"Sec 3",2,null,{"$f":"IF(AB6+AB7>0,(IF(AB6>AB7,1,(IF(AB6=AB7,0.5,0)))),0)","v":0},{"$f":"(AP6*1000)+AJ6","v":0},null,{"$f":"IF(AE6+AE7>0,(IF(AE6>AE7,1,(IF(AE6=AE7,0.5,0)))),0)","v":0},{"$f":"LARGE(AD6:AD7,1)","v":0},null,{"$f":"IF(AH6+AH7>0,(IF(AH6>AH7,1,(IF(AH6=AH7,0.5,0)))),0)","v":0},{"$f":"AB6+AE6+AH6-AB7-AE7-AH7","v":0},{"$f":"AC6+AF6","v":0},{"$f":"IF(AK6>2,AK6,AC6+AF6+AI6)","v":0},null,{"$f":"IF(AL6+AL7>=1.5,(IF(AL6>AL7,3,0)),0)","v":0},null,{"$f":"IF((AN6+AN7)=3,(AK6+AN6),0)","v":0},{"$f":"IF(AP6+AP7=0,\"\",IF(AD6=$AG$6,\"1st\",\"\"))","v":""}]
[{"$nulls":3},2,"Sec 2",null,null,{"$f":"IF(G6+G7>0,(IF(G6<G7,1,(IF(G6=G7,0.5,0)))),0)","v":0},{"$f":"(U7*1000)+O7","v":0},null,{"$f":"IF(J6+J7>0,(IF(J6<J7,1,(IF(J6=J7,0.5,0)))),0)","v":0},null,null,{"$f":"IF(M6+M7>0,(IF(M6<M7,1,(IF(M6=M7,0.5,0)))),0)","v":0},{"$f":"G7+J7+M7-G6-J6-M6","v":0},{"$f":"+H7+K7","v":0},{"$f":"IF(P7>2,P7,H7+K7+N7)","v":0},null,{"$f":"IF(Q6+Q7>=1.5,(IF(Q6<Q7,3,0)),0)","v":0},null,{"$f":"IF((S6+S7)=3,(P7+S7),0)","v":0},{"$f":"IF(U7+U8=0,\"\",IF(I7=$L$6,\"1st\",\"\"))","v":""},{"$nulls":3},"Sec 4",null,null,{"$f":"IF(AB6+AB7>0,(IF(AB6<AB7,1,(IF(AB6=AB7,0.5,0)))),0)","v":0},{"$f":"(AP7*1000)+AJ7","v":0},null,{"$f":"IF(AE6+AE7>0,(IF(AE6<AE7,1,(IF(AE6=AE7,0.5,0)))),0)","v":0},null,null,{"$f":"IF(AH6+AH7>0,(IF(AH6<AH7,1,(IF(AH6=AH7,0.5,0)))),0)","v":0},{"$f":"AB7+AE7+AH7-AB6-AE6-AH6","v":0},{"$f":"+AC7+AF7","v":0},{"$f":"IF(AK7>2,AK7,AC7+AF7+AI7)","v":0},null,{"$f":"IF(AL6+AL7>=1.5,(IF(AL6<AL7,3,0)),0)","v":0},null,{"$f":"IF((AN6+AN7)=3,(AK7+AN7),0)","v":0},{"$f":"IF(AP7+AP8=0,\"\",IF(AD7=$AG$6,\"1st\",\"\"))","v":""}]
[null,null,"Q U A R T E R  F I N A L"]
[null,null,1,3,"Round 1 Sec 1",3,null,{"$f":"IF(G9+G10>0,(IF(G9>G10,1,(IF(G9=G10,0.5,0)))),0)","v":0},{"$f":"(U9*1000)+O9","v":0},null,{"$f":"IF(J9+J10>0,(IF(J9>J10,1,(IF(J9=J10,0.5,0)))),0)","v":0},{"$f":"LARGE(I9:I10,1)","v":0},null,{"$f":"IF(M9+M10>0,(IF(M9>M10,1,(IF(M9=M10,0.5,0)))),0)","v":0},{"$f":"G9+J9+M9-G10-J10-M10","v":0},{"$f":"+H9+K9","v":0},{"$f":"IF(P9>2,P9,H9+K9+N9)","v":0},null,{"$f":"IF(Q9+Q10>=1.5,(IF(Q9>Q10,3,0)),0)","v":0},null,{"$f":"IF((S9+S10)=3,(P9+S9),0)","v":0},{"$f":"IF(U9+U10=0,\"\",IF(I9=$L$9,\"1st\",\"\"))","v":""},null,2,null,"Sec 5",4,null,{"$f":"IF(AB9+AB10>0,(IF(AB9>AB10,1,(IF(AB9=AB10,0.5,0)))),0)","v":0},{"$f":"(AP9*1000)+AJ9","v":0},null,{"$f":"IF(AE9+AE10>0,(IF(AE9>AE10,1,(IF(AE9=AE10,0.5,0)))),0)","v":0},{"$f":"LARGE(AD9:AD10,1)","v":0},null,{"$f":"IF(AH9+AH10>0,(IF(AH9>AH10,1,(IF(AH9=AH10,0.5,0)))),0)","v":0},{"$f":"AB9+AE9+AH9-AB10-AE10-AH10","v":0},{"$f":"+AC9+AF9","v":0},{"$f":"IF(AK9>2,AK9,AC9+AF9+AI9)","v":0},null,{"$f":"IF(AL9+AL10>=1.5,(IF(AL9>AL10,3,0)),0)","v":0},null,{"$f":"IF((AN9+AN10)=3,(AK9+AN9),0)","v":0},{"$f":"IF(AP9+AP10=0,\"\",IF(AD9=$AG$9,\"1st\",\"\"))","v":""}]
[{"$nulls":3},4,"Round 1 Sec 2",null,null,{"$f":"IF(G9+G10>0,(IF(G9<G10,1,(IF(G9=G10,0.5,0)))),0)","v":0},{"$f":"(U10*1000)+O10","v":0},null,{"$f":"IF(J9+J10>0,(IF(J9<J10,1,(IF(J9=J10,0.5,0)))),0)","v":0},null,null,{"$f":"IF(M9+M10>0,(IF(M9<M10,1,(IF(M9=M10,0.5,0)))),0)","v":0},{"$f":"G10+J10+M10-G9-J9-M9","v":0},{"$f":"+H10+K10","v":0},{"$f":"IF(P10>2,P10,H10+K10+N10)","v":0},null,{"$f":"IF(Q9+Q10>=1.5,(IF(Q9<Q10,3,0)),0)","v":0},null,{"$f":"IF((S9+S10)=3,(P10+S10),0)","v":0},{"$f":"IF(U10+U11=0,\"\",IF(I10=$L$9,\"1st\",\"\"))","v":""},{"$nulls":3},"Sec 6",null,null,{"$f":"IF(AB9+AB10>0,(IF(AB9<AB10,1,(IF(AB9=AB10,0.5,0)))),0)","v":0},{"$f":"(AP10*1000)+AJ10","v":0},null,{"$f":"IF(AE9+AE10>0,(IF(AE9<AE10,1,(IF(AE9=AE10,0.5,0)))),0)","v":0},null,null,{"$f":"IF(AH9+AH10>0,(IF(AH9<AH10,1,(IF(AH9=AH10,0.5,0)))),0)","v":0},{"$f":"AB10+AE10+AH10-AB9-AE9-AH9","v":0},{"$f":"+AC10+AF10","v":0},{"$f":"IF(AK10>2,AK10,AC10+AF10+AI10)","v":0},null,{"$f":"IF(AL9+AL10>=1.5,(IF(AL9<AL10,3,0)),0)","v":0},null,{"$f":"IF((AN9+AN10)=3,(AK10+AN10),0)","v":0},{"$f":"IF(AP10+AP11=0,\"\",IF(AD10=$AG$9,\"1st\",\"\"))","v":""}]
[]
[null,null,3,5,"Sec 7",5,null,{"$f":"IF(G12+G13>0,(IF(G12>G13,1,(IF(G12=G13,0.5,0)))),0)","v":0},{"$f":"(U12*1000)+O12","v":0},null,{"$f":"IF(J12+J13>0,(IF(J12>J13,1,(IF(J12=J13,0.5,0)))),0)","v":0},{"$f":"LARGE(I12:I13,1)","v":0},null,{"$f":"IF(M12+M13>0,(IF(M12>M13,1,(IF(M12=M13,0.5,0)))),0)","v":0},{"$f":"G12+J12+M12-G13-J13-M13","v":0},{"$f":"+H12+K12","v":0},{"$f":"IF(P12>2,P12,H12+K12+N12)","v":0},null,{"$f":"IF(Q12+Q13>=1.5,(IF(Q12>Q13,3,0)),0)","v":0},null,{"$f":"IF((S12+S13)=3,(P12+S12),0)","v":0},{"$f":"IF(U12+U13=0,\"\",IF(I12=$L$12,\"1st\",\"\"))","v":""},null,4,null,"Sec 9",6,null,{"$f":"IF(AB12+AB13>0,(IF(AB12>AB13,1,(IF(AB12=AB13,0.5,0)))),0)","v":0},{"$f":"(AP12*1000)+AJ12","v":0},null,{"$f":"IF(AE12+AE13>0,(IF(AE12>AE13,1,(IF(AE12=AE13,0.5,0)))),0)","v":0},{"$f":"LARGE(AD12:AD13,1)","v":0},null,{"$f":"IF(AH12+AH13>0,(IF(AH12>AH13,1,(IF(AH12=AH13,0.5,0)))),0)","v":0},{"$f":"AB12+AE12+AH12-AB13-AE13-AH13","v":0},{"$f":"+AC12+AF12","v":0},{"$f":"IF(AK12>2,AK12,AC12+AF12+AI12)","v":0},null,{"$f":"IF(AL12+AL13>=1.5,(IF(AL12>AL13,3,0)),0)","v":0},null,{"$f":"IF((AN12+AN13)=3,(AK12+AN12),0)","v":0},{"$f":"IF(AP12+AP13=0,\"\",IF(AD12=$AG$12,\"1st\",\"\"))","v":""}]
[{"$nulls":3},6,"Sec 8",null,null,{"$f":"IF(G12+G13>0,(IF(G12<G13,1,(IF(G12=G13,0.5,0)))),0)","v":0},{"$f":"(U13*1000)+O13","v":0},null,{"$f":"IF(J12+J13>0,(IF(J12<J13,1,(IF(J12=J13,0.5,0)))),0)","v":0},null,null,{"$f":"IF(M12+M13>0,(IF(M12<M13,1,(IF(M12=M13,0.5,0)))),0)","v":0},{"$f":"G13+J13+M13-G12-J12-M12","v":0},{"$f":"+H13+K13","v":0},{"$f":"IF(P13>2,P13,H13+K13+N13)","v":0},null,{"$f":"IF(Q12+Q13>=1.5,(IF(Q12<Q13,3,0)),0)","v":0},null,{"$f":"IF((S12+S13)=3,(P13+S13),0)","v":0},{"$f":"IF(U13+U14=0,\"\",IF(I13=$L$12,\"1st\",\"\"))","v":""},{"$nulls":3},"Sec 10",null,null,{"$f":"IF(AB12+AB13>0,(IF(AB12<AB13,1,(IF(AB12=AB13,0.5,0)))),0)","v":0},{"$f":"(AP13*1000)+AJ13","v":0},null,{"$f":"IF(AE12+AE13>0,(IF(AE12<AE13,1,(IF(AE12=AE13,0.5,0)))),0)","v":0},null,null,{"$f":"IF(AH12+AH13>0,(IF(AH12<AH13,1,(IF(AH12=AH13,0.5,0)))),0)","v":0},{"$f":"AB13+AE13+AH13-AB12-AE12-AH12","v":0},{"$f":"+AC13+AF13","v":0},{"$f":"IF(AK13>2,AK13,AC13+AF13+AI13)","v":0},null,{"$f":"IF(AL12+AL13>=1.5,(IF(AL12<AL13,3,0)),0)","v":0},null,{"$f":"IF((AN12+AN13)=3,(AK13+AN13),0)","v":0},{"$f":"IF(AP13+AP14=0,\"\",IF(AD13=$AG$12,\"1st\",\"\"))","v":""}]
[]
[null,null,7,7,".",null,null,{"$f":"IF(G15+G16>0,(IF(G15>G16,1,(IF(G15=G16,0.5,0)))),0)","v":0},{"$f":"(U15*1000)+O15","v":0},null,{"$f":"IF(J15+J16>0,(IF(J15>J16,1,(IF(J15=J16,0.5,0)))),0)","v":0},{"$f":"LARGE(I15:I16,1)","v":0},null,{"$f":"IF(M15+M16>0,(IF(M15>M16,1,(IF(M15=M16,0.5,0)))),0)","v":0},{"$f":"G15+J15+M15-G16-J16-M16","v":0},{"$f":"+H15+K15","v":0},{"$f":"IF(P15>2,P15,H15+K15+N15)","v":0},null,{"$f":"IF(Q15+Q16>=1.5,(IF(Q15>Q16,3,0)),0)","v":0},null,{"$f":"IF((S15+S16)=3,(P15+S15),0)","v":0},{"$f":"IF(U15+U16=0,\"\",IF(I15=$L$15,\"1st\",\"\"))","v":""},null,8,null,".",null,null,{"$f":"IF(AB15+AB16>0,(IF(AB15>AB16,1,(IF(AB15=AB16,0.5,0)))),0)","v":0},{"$f":"(AP15*1000)+AJ15","v":0},null,{"$f":"IF(AE15+AE16>0,(IF(AE15>AE16,1,(IF(AE15=AE16,0.5,0)))),0)","v":0},{"$f":"LARGE(AD15:AD16,1)","v":0},null,{"$f":"IF(AH15+AH16>0,(IF(AH15>AH16,1,(IF(AH15=AH16,0.5,0)))),0)","v":0},{"$f":"AB15+AE15+AH15-AB16-AE16-AH16","v":0},{"$f":"+AC15+AF15","v":0},{"$f":"IF(AK15>2,AK15,AC15+AF15+AI15)","v":0},null,{"$f":"IF(AL15+AL16>=1.5,(IF(AL15>AL16,3,0)),0)","v":0},null,{"$f":"IF((AN15+AN16)=3,(AK15+AN15),0)","v":0},{"$f":"IF(AP15+AP16=0,\"\",IF(AD15=$AG$15,\"1st\",\"\"))","v":""}]
[{"$nulls":3},8,".",null,null,{"$f":"IF(G15+G16>0,(IF(G15<G16,1,(IF(G15=G16,0.5,0)))),0)","v":0},{"$f":"(U16*1000)+O16","v":0},null,{"$f":"IF(J15+J16>0,(IF(J15<J16,1,(IF(J15=J16,0.5,0)))),0)","v":0},null,null,{"$f":"IF(M15+M16>0,(IF(M15<M16,1,(IF(M15=M16,0.5,0)))),0)","v":0},{"$f":"G16+J16+M16-G15-J15-M15","v":0},{"$f":"+H16+K16","v":0},{"$f":"IF(P16>2,P16,H16+K16+N16)","v":0},null,{"$f":"IF(Q15+Q16>=1.5,(IF(Q15<Q16,3,0)),0)","v":0},null,{"$f":"IF((S15+S16)=3,(P16+S16),0)","v":0},{"$f":"IF(U16+U17=0,\"\",IF(I16=$L$15,\"1st\",\"\"))","v":""},{"$nulls":3},".",null,null,{"$f":"IF(AB15+AB16>0,(IF(AB15<AB16,1,(IF(AB15=AB16,0.5,0)))),0)","v":0},{"$f":"(AP16*1000)+AJ16","v":0},null,{"$f":"IF(AE15+AE16>0,(IF(AE15<AE16,1,(IF(AE15=AE16,0.5,0)))),0)","v":0},null,null,{"$f":"IF(AH15+AH16>0,(IF(AH15<AH16,1,(IF(AH15=AH16,0.5,0)))),0)","v":0},{"$f":"AB16+AE16+AH16-AB15-AE15-AH15","v":0},{"$f":"+AC16+AF16","v":0},{"$f":"IF(AK16>2,AK16,AC16+AF16+AI16)","v":0},null,{"$f":"IF(AL15+AL16>=1.5,(IF(AL15<AL16,3,0)),0)","v":0},null,{"$f":"IF((AN15+AN16)=3,(AK16+AN16),0)","v":0},{"$f":"IF(AP16+AP17=0,\"\",IF(AD16=$AG$15,\"1st\",\"\"))","v":""}]
[null,null,"S E M I  F I N A L "]
[null,null,1,9,"Q/F 1",7,null,{"$f":"IF(G18+G19>0,(IF(G18>G19,1,(IF(G18=G19,0.5,0)))),0)","v":0},{"$f":"(U18*1000)+O18","v":0},null,{"$f":"IF(J18+J19>0,(IF(J18>J19,1,(IF(J18=J19,0.5,0)))),0)","v":0},{"$f":"LARGE(I18:I19,1)","v":0},null,{"$f":"IF(M18+M19>0,(IF(M18>M19,1,(IF(M18=M19,0.5,0)))),0)","v":0},{"$f":"G18+J18+M18-G19-J19-M19","v":0},{"$f":"+H18+K18","v":0},{"$f":"IF(P18>2,P18,H18+K18+N18)","v":0},null,{"$f":"IF(Q18+Q19>=1.5,(IF(Q18>Q19,3,0)),0)","v":0},null,{"$f":"IF((S18+S19)=3,(P18+S18),0)","v":0},{"$f":"IF(U18+U19=0,\"\",IF(I18=$L$18,\"1st\",\"\"))","v":""},null,2,null,"Q/F 3",8,null,{"$f":"IF(AB18+AB19>0,(IF(AB18>AB19,1,(IF(AB18=AB19,0.5,0)))),0)","v":0},{"$f":"(AP18*1000)+AJ18","v":0},null,{"$f":"IF(AE18+AE19>0,(IF(AE18>AE19,1,(IF(AE18=AE19,0.5,0)))),0)","v":0},{"$f":"LARGE(AD18:AD19,1)","v":0},null,{"$f":"IF(AH18+AH19>0,(IF(AH18>AH19,1,(IF(AH18=AH19,0.5,0)))),0)","v":0},{"$f":"AB18+AE18+AH18-AB19-AE19-AH19","v":0},{"$f":"+AC18+AF18","v":0},{"$f":"IF(AK18>2,AK18,AC18+AF18+AI18)","v":0},null,{"$f":"IF(AL18+AL19>=1.5,(IF(AL18>AL19,3,0)),0)","v":0},null,{"$f":"IF((AN18+AN19)=3,(AK18+AN18),0)","v":0},{"$f":"IF(AP18+AP19=0,\"\",IF(AD18=$AG$18,\"1st\",\"\"))","v":""}]
[{"$nulls":3},10,"Q/F 2",null,null,{"$f":"IF(G18+G19>0,(IF(G18<G19,1,(IF(G18=G19,0.5,0)))),0)","v":0},{"$f":"(U19*1000)+O19","v":0},null,{"$f":"IF(J18+J19>0,(IF(J18<J19,1,(IF(J18=J19,0.5,0)))),0)","v":0},null,null,{"$f":"IF(M18+M19>0,(IF(M18<M19,1,(IF(M18=M19,0.5,0)))),0)","v":0},{"$f":"G19+J19+M19-G18-J18-M18","v":0},{"$f":"+H19+K19","v":0},{"$f":"IF(P19>2,P19,H19+K19+N19)","v":0},null,{"$f":"IF(Q18+Q19>=1.5,(IF(Q18<Q19,3,0)),0)","v":0},null,{"$f":"IF((S18+S19)=3,(P19+S19),0)","v":0},{"$f":"IF(U19+U20=0,\"\",IF(I19=$L$18,\"1st\",\"\"))","v":""},{"$nulls":3},"Q/F 4",null,null,{"$f":"IF(AB18+AB19>0,(IF(AB18<AB19,1,(IF(AB18=AB19,0.5,0)))),0)","v":0},{"$f":"(AP19*1000)+AJ19","v":0},null,{"$f":"IF(AE18+AE19>0,(IF(AE18<AE19,1,(IF(AE18=AE19,0.5,0)))),0)","v":0},null,null,{"$f":"IF(AH18+AH19>0,(IF(AH18<AH19,1,(IF(AH18=AH19,0.5,0)))),0)","v":0},{"$f":"AB19+AE19+AH19-AB18-AE18-AH18","v":0},{"$f":"+AC19+AF19","v":0},{"$f":"IF(AK19>2,AK19,AC19+AF19+AI19)","v":0},null,{"$f":"IF(AL18+AL19>=1.5,(IF(AL18<AL19,3,0)),0)","v":0},null,{"$f":"IF((AN18+AN19)=3,(AK19+AN19),0)","v":0},{"$f":"IF(AP19+AP20=0,\"\",IF(AD19=$AG$18,\"1st\",\"\"))","v":""}]
[]
[null,null,3,11,".",null,null,{"$f":"IF(G21+G22>0,(IF(G21>G22,1,(IF(G21=G22,0.5,0)))),0)","v":0},{"$f":"(U21*1000)+O21","v":0},null,{"$f":"IF(J21+J22>0,(IF(J21>J22,1,(IF(J21=J22,0.5,0)))),0)","v":0},{"$f":"LARGE(I21:I22,1)","v":0},null,{"$f":"IF(M21+M22>0,(IF(M21>M22,1,(IF(M21=M22,0.5,0)))),0)","v":0},{"$f":"G21+J21+M21-G22-J22-M22","v":0},{"$f":"+H21+K21","v":0},{"$f":"IF(P21>2,P21,H21+K21+N21)","v":0},null,{"$f":"IF(Q21+Q22>=1.5,(IF(Q21>Q22,3,0)),0)","v":0},null,{"$f":"IF((S21+S22)=3,(P21+S21),0)","v":0},{"$f":"IF(U21+U22=0,\"\",IF(I21=$L$21,\"1st\",\"\"))","v":""},null,4,null,".",null,null,{"$f":"IF(AB21+AB22>0,(IF(AB21>AB22,1,(IF(AB21=AB22,0.5,0)))),0)","v":0},{"$f":"(AP21*1000)+AJ21","v":0},null,{"$f":"IF(AE21+AE22>0,(IF(AE21>AE22,1,(IF(AE21=AE22,0.5,0)))),0)","v":0},{"$f":"LARGE(AD21:AD22,1)","v":0},null,{"$f":"IF(AH21+AH22>0,(IF(AH21>AH22,1,(IF(AH21=AH22,0.5,0)))),0)","v":0},{"$f":"AB21+AE21+AH21-AB22-AE22-AH22","v":0},{"$f":"+AC21+AF21","v":0},{"$f":"IF(AK21>2,AK21,AC21+AF21+AI21)","v":0},null,{"$f":"IF(AL21+AL22>=1.5,(IF(AL21>AL22,3,0)),0)","v":0},null,{"$f":"IF((AN21+AN22)=3,(AK21+AN21),0)","v":0},{"$f":"IF(AP21+AP22=0,\"\",IF(AD21=$AG$21,\"1st\",\"\"))","v":""}]
[{"$nulls":3},12,".",null,null,{"$f":"IF(G21+G22>0,(IF(G21<G22,1,(IF(G21=G22,0.5,0)))),0)","v":0},{"$f":"(U22*1000)+O22","v":0},null,{"$f":"IF(J21+J22>0,(IF(J21<J22,1,(IF(J21=J22,0.5,0)))),0)","v":0},null,null,{"$f":"IF(M21+M22>0,(IF(M21<M22,1,(IF(M21=M22,0.5,0)))),0)","v":0},{"$f":"G22+J22+M22-G21-J21-M21","v":0},{"$f":"+H22+K22","v":0},{"$f":"IF(P22>2,P22,H22+K22+N22)","v":0},null,{"$f":"IF(Q21+Q22>=1.5,(IF(Q21<Q22,3,0)),0)","v":0},null,{"$f":"IF((S21+S22)=3,(P22+S22),0)","v":0},{"$f":"IF(U22+U23=0,\"\",IF(I22=$L$21,\"1st\",\"\"))","v":""},{"$nulls":3},".",null,null,{"$f":"IF(AB21+AB22>0,(IF(AB21<AB22,1,(IF(AB21=AB22,0.5,0)))),0)","v":0},{"$f":"(AP22*1000)+AJ22","v":0},null,{"$f":"IF(AE21+AE22>0,(IF(AE21<AE22,1,(IF(AE21=AE22,0.5,0)))),0)","v":0},null,null,{"$f":"IF(AH21+AH22>0,(IF(AH21<AH22,1,(IF(AH21=AH22,0.5,0)))),0)","v":0},{"$f":"AB22+AE22+AH22-AB21-AE21-AH21","v":0},{"$f":"+AC22+AF22","v":0},{"$f":"IF(AK22>2,AK22,AC22+AF22+AI22)","v":0},null,{"$f":"IF(AL21+AL22>=1.5,(IF(AL21<AL22,3,0)),0)","v":0},null,{"$f":"IF((AN21+AN22)=3,(AK22+AN22),0)","v":0},{"$f":"IF(AP22+AP23=0,\"\",IF(AD22=$AG$21,\"1st\",\"\"))","v":""}]
[null,null,"S E M I  F I N A L "]
[null,null,1,13,".",null,null,{"$f":"IF(G24+G25>0,(IF(G24>G25,1,(IF(G24=G25,0.5,0)))),0)","v":0},{"$f":"(U24*1000)+O24","v":0},null,{"$f":"IF(J24+J25>0,(IF(J24>J25,1,(IF(J24=J25,0.5,0)))),0)","v":0},{"$f":"LARGE(I24:I25,1)","v":0},null,{"$f":"IF(M24+M25>0,(IF(M24>M25,1,(IF(M24=M25,0.5,0)))),0)","v":0},{"$f":"G24+J24+M24-G25-J25-M25","v":0},{"$f":"+H24+K24","v":0},{"$f":"IF(P24>2,P24,H24+K24+N24)","v":0},null,{"$f":"IF(Q24+Q25>=1.5,(IF(Q24>Q25,3,0)),0)","v":0},null,{"$f":"IF((S24+S25)=3,(P24+S24),0)","v":0},{"$f":"IF(U24+U25=0,\"\",IF(I24=$L$24,\"1st\",\"\"))","v":""},null,2,null,".",null,null,{"$f":"IF(AB24+AB25>0,(IF(AB24>AB25,1,(IF(AB24=AB25,0.5,0)))),0)","v":0},{"$f":"(AP24*1000)+AJ24","v":0},null,{"$f":"IF(AE24+AE25>0,(IF(AE24>AE25,1,(IF(AE24=AE25,0.5,0)))),0)","v":0},{"$f":"LARGE(AD24:AD25,1)","v":0},null,{"$f":"IF(AH24+AH25>0,(IF(AH24>AH25,1,(IF(AH24=AH25,0.5,0)))),0)","v":0},{"$f":"AB24+AE24+AH24-AB25-AE25-AH25","v":0},{"$f":"+AC24+AF24","v":0},{"$f":"IF(AK24>2,AK24,AC24+AF24+AI24)","v":0},null,{"$f":"IF(AL24+AL25>=1.5,(IF(AL24>AL25,3,0)),0)","v":0},null,{"$f":"IF((AN24+AN25)=3,(AK24+AN24),0)","v":0},{"$f":"IF(AP24+AP25=0,\"\",IF(AD24=$AG$24,\"1st\",\"\"))","v":""}]
[{"$nulls":3},14,".",null,null,{"$f":"IF(G24+G25>0,(IF(G24<G25,1,(IF(G24=G25,0.5,0)))),0)","v":0},{"$f":"(U25*1000)+O25","v":0},null,{"$f":"IF(J24+J25>0,(IF(J24<J25,1,(IF(J24=J25,0.5,0)))),0)","v":0},null,null,{"$f":"IF(M24+M25>0,(IF(M24<M25,1,(IF(M24=M25,0.5,0)))),0)","v":0},{"$f":"G25+J25+M25-G24-J24-M24","v":0},{"$f":"+H25+K25","v":0},{"$f":"IF(P25>2,P25,H25+K25+N25)","v":0},null,{"$f":"IF(Q24+Q25>=1.5,(IF(Q24<Q25,3,0)),0)","v":0},null,{"$f":"IF((S24+S25)=3,(P25+S25),0)","v":0},{"$f":"IF(U25+U26=0,\"\",IF(I25=$L$24,\"1st\",\"\"))","v":""},{"$nulls":3},".",null,null,{"$f":"IF(AB24+AB25>0,(IF(AB24<AB25,1,(IF(AB24=AB25,0.5,0)))),0)","v":0},{"$f":"(AP25*1000)+AJ25","v":0},null,{"$f":"IF(AE24+AE25>0,(IF(AE24<AE25,1,(IF(AE24=AE25,0.5,0)))),0)","v":0},null,null,{"$f":"IF(AH24+AH25>0,(IF(AH24<AH25,1,(IF(AH24=AH25,0.5,0)))),0)","v":0},{"$f":"AB25+AE25+AH25-AB24-AE24-AH24","v":0},{"$f":"+AC25+AF25","v":0},{"$f":"IF(AK25>2,AK25,AC25+AF25+AI25)","v":0},null,{"$f":"IF(AL24+AL25>=1.5,(IF(AL24<AL25,3,0)),0)","v":0},null,{"$f":"IF((AN24+AN25)=3,(AK25+AN25),0)","v":0},{"$f":"IF(AP25+AP26=0,\"\",IF(AD25=$AG$24,\"1st\",\"\"))","v":""}]
[null,null,"F I N A L "]
[null,null,1,13,"S/F 1",9,null,{"$f":"IF(G27+G28>0,(IF(G27>G28,1,(IF(G27=G28,0.5,0)))),0)","v":0},{"$f":"(U27*1000)+O27","v":0},null,{"$f":"IF(J27+J28>0,(IF(J27>J28,1,(IF(J27=J28,0.5,0)))),0)","v":0},{"$f":"LARGE(I27:I28,1)","v":0},null,{"$f":"IF(M27+M28>0,(IF(M27>M28,1,(IF(M27=M28,0.5,0)))),0)","v":0},{"$f":"G27+J27+M27-G28-J28-M28","v":0},{"$f":"+H27+K27","v":0},{"$f":"IF(P27>2,P27,H27+K27+N27)","v":0},null,{"$f":"IF(Q27+Q28>=1.5,(IF(Q27>Q28,3,0)),0)","v":0},null,{"$f":"IF((S27+S28)=3,(P27+S27),0)","v":0},{"$f":"IF(U27+U28=0,\"\",IF(I27=$L$27,\"1st\",\"\"))","v":""}]
[{"$nulls":3},14,"S/F 2",null,null,{"$f":"IF(G27+G28>0,(IF(G27<G28,1,(IF(G27=G28,0.5,0)))),0)","v":0},{"$f":"(U28*1000)+O28","v":0},null,{"$f":"IF(J27+J28>0,(IF(J27<J28,1,(IF(J27=J28,0.5,0)))),0)","v":0},null,null,{"$f":"IF(M27+M28>0,(IF(M27<M28,1,(IF(M27=M28,0.5,0)))),0)","v":0},{"$f":"G28+J28+M28-G27-J27-M27","v":0},{"$f":"+H28+K28","v":0},{"$f":"IF(P28>2,P28,H28+K28+N28)","v":0},null,{"$f":"IF(Q27+Q28>=1.5,(IF(Q27<Q28,3,0)),0)","v":0},null,{"$f":"IF((S27+S28)=3,(P28+S28),0)","v":0},{"$f":"IF(U28+U29=0,\"\",IF(I28=$L$27,\"1st\",\"\"))","v":""}]

{"sheet":"Fins 40 37 cds","index":36,"n_rows":920,"n_cols":23,"rows_kept":920,"hidden":true,"merged":[[0,0,0,23],[1,0,1,23],[2,2,2,6],[2,8,2,23],[3,2,3,6],[3,8,3,23],[5,0,5,10],[5,11,5,12],[5,13,5,23],[7,0,7,10],[7,11,7,12],[7,13,7,23],[9,2,9,10],[9,13,9,21],[10,2,10,5],[10,6,10,10],[10,13,10,16],[10,17,10,21],[11,0,11,1],[11,2,11,3],[11,4,11,5],[11,6,11,7],[11,8,11,10],[11,13,11,14],[11,15,11,16],[11,17,11,18],[11,19,11,21],[12,0,12,1],[12,2,12,3],[12,4,12,5],[12,6,12,7],[12,8,12,10],[12,13,12,14],[12,15,12,16],[12,17,12,18],[12,19,12,21],[13,0,13,1],[13,2,13,3],[13,4,13,5],[13,6,13,7],[13,8,13,10],[13,13,13,14],[13,15,13,16],[13,17,13,18],[13,19,13,21],[14,0,14,1],[14,2,14,3],[14,4,14,5],[14,6,14,7],[14,8,14,10],[14,13,14,14],[14,15,14,16],[14,17,14,18],[14,19,14,21],[15,0,15,1],[15,2,15,3],[15,4,15,5],[15,6,15,7],[15,8,15,10],[15,13,15,14],[15,15,15,16],[15,17,15,18],[15,19,15,21],[16,0,16,1],[16,2,16,3],[16,4,16,5],[16,6,16,7],[16,8,16,10],[16,11,16,12],[16,13,16,14],[16,15,16,16],[16,17,16,18],[16,19,16,21],[16,22,16,23],[17,0,17,2],[17,4,17,18],[17,19,17,23],[18,0,19,2],[18,4,18,5],[18,6,18,8],[18,15,18,17],[18,19,19,23],[19,4,19,5],[19,6,19,8],[20,3,20,6],[20,9,20,14],[20,17,20,21],[21,0,21,1],[21,3,22,6],[21,9,21,14],[21,15,21,16],[21,17,22,21],[22,0,22,1],[22,15,22,16],[23,0,23,23],[24,0,24,23],[25,2,25,6],[25,8,25,23],[26,2,26,6],[26,8,26,23],[28,0,28,10],[28,11,28,12],[28,13,28,23],[30,0,30,10],[30,11,30,12],[30,13,30,23],[32,2,32,10],[32,13,32,21],[33,2,33,5],[33,6,33,10],[33,13,33,16],[33,17,33,21],[34,0,34,1],[34,2,34,3],[34,4,34,5],[34,6,34,7],[34,8,34,10],[34,13,34,14],[34,15,34,16],[34,17,34,18],[34,19,34,21],[35,0,35,1],[35,2,35,3],[35,4,35,5],[35,6,35,7],[35,8,35,10],[35,13,35,14],[35,15,35,16],[35,17,35,18],[35,19,35,21],[36,0,36,1],[36,2,36,3],[36,4,36,5],[36,6,36,7],[36,8,36,10],[36,13,36,14],[36,15,36,16],[36,17,36,18],[36,19,36,21],[37,0,37,1],[37,2,37,3],[37,4,37,5],[37,6,37,7],[37,8,37,10],[37,13,37,14],[37,15,37,16],[37,17,37,18],[37,19,37,21],[38,0,38,1],[38,2,38,3],[38,4,38,5],[38,6,38,7],[38,8,38,10],[38,13,38,14],[38,15,38,16],[38,17,38,18],[38,19,38,21],[39,0,39,1],[39,2,39,3],[39,4,39,5],[39,6,39,7],[39,8,39,10],[39,11,39,12],[39,13,39,14],[39,15,39,16],[39,17,39,18],[39,19,39,21],[39,22,39,23],[40,0,40,2],[40,4,40,18],[40,19,40,23],[41,4,41,5],[41,6,41,8],[41,15,41,17],[41,19,42,23],[42,4,42,5],[42,6,42,8],[43,3,43,6],[43,9,43,14],[43,17,43,21],[44,0,44,1],[44,3,45,6],[44,9,44,14],[44,15,44,16],[44,17,45,21],[45,0,45,1],[45,15,45,16],[46,0,46,23],[47,0,47,23],[48,2,48,6],[48,8,48,23],[49,2,49,6],[49,8,49,23],[51,0,51,10],[51,11,51,12],[51,13,51,23],[53,0,53,10],[53,11,53,12],[53,13,53,23],[55,2,55,10],[55,13,55,21],[56,2,56,5],[56,6,56,10],[56,13,56,16],[56,17,56,21],[57,0,57,1],[57,2,57,3],[57,4,57,5],[57,6,57,7],[57,8,57,10],[57,13,57,14],[57,15,57,16],[57,17,57,18],[57,19,57,21],[58,0,58,1],[58,2,58,3],[58,4,58,5],[58,6,58,7],[58,8,58,10],[58,13,58,14],[58,15,58,16],[58,17,58,18],[58,19,58,21],[59,0,59,1],[59,2,59,3],[59,4,59,5],[59,6,59,7],[59,8,59,10],[59,13,59,14],[59,15,59,16],[59,17,59,18],[59,19,59,21],[60,0,60,1],[60,2,60,3],[60,4,60,5],[60,6,60,7],[60,8,60,10],[60,13,60,14],[60,15,60,16],[60,17,60,18],[60,19,60,21],[61,0,61,1],[61,2,61,3],[61,4,61,5],[61,6,61,7],[61,8,61,10],[61,13,61,14],[61,15,61,16],[61,17,61,18],[61,19,61,21],[62,0,62,1],[62,2,62,3],[62,4,62,5],[62,6,62,7],[62,8,62,10],[62,11,62,12],[62,13,62,14],[62,15,62,16],[62,17,62,18],[62,19,62,21],[62,22,62,23],[63,0,63,2],[63,4,63,18],[63,19,63,23],[64,4,64,5],[64,6,64,8],[64,15,64,17],[64,19,65,23],[65,4,65,5],[65,6,65,8],[66,3,66,6],[66,9,66,14],[66,17,66,21],[67,0,67,1],[67,3,68,6],[67,9,67,14],[67,15,67,16],[67,17,68,21],[68,0,68,1],[68,15,68,16],[69,0,69,23],[70,0,70,23],[71,2,71,6],[71,8,71,23],[72,2,72,6],[72,8,72,23],[74,0,74,10],[74,11,74,12],[74,13,74,23],[76,0,76,10],[76,11,76,12],[76,13,76,23],[78,2,78,10],[78,13,78,21],[79,2,79,5],[79,6,79,10],[79,13,79,16],[79,17,79,21],[80,0,80,1],[80,2,80,3],[80,4,80,5],[80,6,80,7],[80,8,80,10],[80,13,80,14],[80,15,80,16],[80,17,80,18],[80,19,80,21],[81,0,81,1],[81,2,81,3],[81,4,81,5],[81,6,81,7],[81,8,81,10],[81,13,81,14],[81,15,81,16],[81,17,81,18],[81,19,81,21],[82,0,82,1],[82,2,82,3],[82,4,82,5],[82,6,82,7],[82,8,82,10],[82,13,82,14],[82,15,82,16],[82,17,82,18],[82,19,82,21],[83,0,83,1],[83,2,83,3],[83,4,83,5],[83,6,83,7],[83,8,83,10],[83,13,83,14],[83,15,83,16],[83,17,83,18],[83,19,83,21],[84,0,84,1],[84,2,84,3],[84,4,84,5],[84,6,84,7],[84,8,84,10],[84,13,84,14],[84,15,84,16],[84,17,84,18],[84,19,84,21],[85,0,85,1],[85,2,85,3],[85,4,85,5],[85,6,85,7],[85,8,85,10],[85,11,85,12],[85,13,85,14],[85,15,85,16],[85,17,85,18],[85,19,85,21],[85,22,85,23],[86,0,86,2],[86,4,86,18],[86,19,86,23],[87,4,87,5],[87,6,87,8],[87,15,87,17],[87,19,88,23],[88,4,88,5],[88,6,88,8],[89,3,89,6],[89,9,89,14],[89,17,89,21],[90,0,90,1],[90,3,91,6],[90,9,90,14],[90,15,90,16],[90,17,91,21],[91,0,91,1],[91,15,91,16],[92,0,92,23],[93,0,93,23],[94,2,94,6],[94,8,94,23],[95,2,95,6],[95,8,95,23],[97,0,97,10],[97,11,97,12],[97,13,97,23],[99,0,99,10],[99,11,99,12],[99,13,99,23],[101,2,101,10],[101,13,101,21],[102,2,102,5],[102,6,102,10],[102,13,102,16],[102,17,102,21],[103,0,103,1],[103,2,103,3],[103,4,103,5],[103,6,103,7],[103,8,103,10],[103,13,103,14],[103,15,103,16],[103,17,103,18],[103,19,103,21],[104,0,104,1],[104,2,104,3],[104,4,104,5],[104,6,104,7],[104,8,104,10],[104,13,104,14],[104,15,104,16],[104,17,104,18],[104,19,104,21],[105,0,105,1],[105,2,105,3],[105,4,105,5],[105,6,105,7],[105,8,105,10],[105,13,105,14],[105,15,105,16],[105,17,105,18],[105,19,105,21],[106,0,106,1],[106,2,106,3],[106,4,106,5],[106,6,106,7],[106,8,106,10],[106,13,106,14],[106,15,106,16],[106,17,106,18],[106,19,106,21],[107,0,107,1],[107,2,107,3],[107,4,107,5],[107,6,107,7],[107,8,107,10],[107,13,107,14],[107,15,107,16],[107,17,107,18],[107,19,107,21],[108,0,108,1],[108,2,108,3],[108,4,108,5],[108,6,108,7],[108,8,108,10],[108,11,108,12],[108,13,108,14],[108,15,108,16],[108,17,108,18],[108,19,108,21],[108,22,108,23],[109,0,109,2],[109,4,109,18],[109,19,109,23],[110,0,111,2],[110,4,110,5],[110,6,110,8],[110,15,110,17],[110,19,111,23],[111,4,111,5],[111,6,111,8],[112,3,112,6],[112,9,112,14],[112,17,112,21],[113,0,113,1],[113,3,114,6],[113,9,113,14],[113,15,113,16],[113,17,114,21],[114,0,114,1],[114,15,114,16],[115,0,115,23],[116,0,116,23],[117,2,117,6],[117,8,117,23],[118,2,118,6],[118,8,118,23],[120,0,120,10],[120,11,120,12],[120,13,120,23],[122,0,122,10],[122,11,122,12],[122,13,122,23],[124,2,124,10],[124,13,124,21],[125,2,125,5],[125,6,125,10],[125,13,125,16],[125,17,125,21],[126,0,126,1],[126,2,126,3],[126,4,126,5],[126,6,126,7],[126,8,126,10],[126,13,126,14],[126,15,126,16],[126,17,126,18],[126,19,126,21],[127,0,127,1],[127,2,127,3],[127,4,127,5],[127,6,127,7],[127,8,127,10],[127,13,127,14],[127,15,127,16],[127,17,127,18],[127,19,127,21],[128,0,128,1],[128,2,128,3],[128,4,128,5],[128,6,128,7],[128,8,128,10],[128,13,128,14],[128,15,128,16],[128,17,128,18],[128,19,128,21],[129,0,129,1],[129,2,129,3],[129,4,129,5],[129,6,129,7],[129,8,129,10],[129,13,129,14],[129,15,129,16],[129,17,129,18],[129,19,129,21],[130,0,130,1],[130,2,130,3],[130,4,130,5],[130,6,130,7],[130,8,130,10],[130,13,130,14],[130,15,130,16],[130,17,130,18],[130,19,130,21],[131,0,131,1],[131,2,131,3],[131,4,131,5],[131,6,131,7],[131,8,131,10],[131,11,131,12],[131,13,131,14],[131,15,131,16],[131,17,131,18],[131,19,131,21],[131,22,131,23],[132,0,132,2],[132,4,132,18],[132,19,132,23],[133,0,134,2],[133,4,133,5],[133,6,133,8],[133,15,133,17],[133,19,134,23],[134,4,134,5],[134,6,134,8],[135,3,135,6],[135,9,135,14],[135,17,135,21],[136,0,136,1],[136,3,137,6],[136,9,136,14],[136,15,136,16],[136,17,137,21],[137,0,137,1],[137,15,137,16],[138,0,138,23],[139,0,139,23],[140,2,140,6],[140,8,140,23],[141,2,141,6],[141,8,141,23],[143,0,143,10],[143,11,143,12],[143,13,143,23],[145,0,145,10],[145,11,145,12],[145,13,145,23],[147,2,147,10],[147,13,147,21],[148,2,148,5],[148,6,148,10],[148,13,148,16],[148,17,148,21],[149,0,149,1],[149,2,149,3],[149,4,149,5],[149,6,149,7],[149,8,149,10],[149,13,149,14],[149,15,149,16],[149,17,149,18],[149,19,149,21],[150,0,150,1],[150,2,150,3],[150,4,150,5],[150,6,150,7],[150,8,150,10],[150,13,150,14],[150,15,150,16],[150,17,150,18],[150,19,150,21],[151,0,151,1],[151,2,151,3],[151,4,151,5],[151,6,151,7],[151,8,151,10],[151,13,151,14],[151,15,151,16],[151,17,151,18],[151,19,151,21],[152,0,152,1],[152,2,152,3],[152,4,152,5],[152,6,152,7],[152,8,152,10],[152,13,152,14],[152,15,152,16],[152,17,152,18],[152,19,152,21],[153,0,153,1],[153,2,153,3],[153,4,153,5],[153,6,153,7],[153,8,153,10],[153,13,153,14],[153,15,153,16],[153,17,153,18],[153,19,153,21],[154,0,154,1],[154,2,154,3],[154,4,154,5],[154,6,154,7],[154,8,154,10],[154,11,154,12],[154,13,154,14],[154,15,154,16],[154,17,154,18],[154,19,154,21],[154,22,154,23],[155,0,155,2],[155,4,155,18],[155,19,155,23],[156,0,157,2],[156,4,156,5],[156,6,156,8],[156,15,156,17],[156,19,157,23],[157,4,157,5],[157,6,157,8],[158,3,158,6],[158,9,158,14],[158,17,158,21],[159,0,159,1],[159,3,160,6],[159,9,159,14],[159,15,159,16],[159,17,160,21],[160,0,160,1],[160,15,160,16],[161,0,161,23],[162,0,162,23],[163,2,163,6],[163,8,163,23],[164,2,164,6],[164,8,164,23],[166,0,166,10],[166,11,166,12],[166,13,166,23],[168,0,168,10],[168,11,168,12],[168,13,168,23],[170,2,170,10],[170,13,170,21],[171,2,171,5],[171,6,171,10],[171,13,171,16],[171,17,171,21],[172,0,172,1],[172,2,172,3],[172,4,172,5],[172,6,172,7],[172,8,172,10],[172,13,172,14],[172,15,172,16],[172,17,172,18],[172,19,172,21],[173,0,173,1],[173,2,173,3],[173,4,173,5],[173,6,173,7],[173,8,173,10],[173,13,173,14],[173,15,173,16],[173,17,173,18],[173,19,173,21],[174,0,174,1],[174,2,174,3],[174,4,174,5],[174,6,174,7],[174,8,174,10],[174,13,174,14],[174,15,174,16],[174,17,174,18],[174,19,174,21],[175,0,175,1],[175,2,175,3],[175,4,175,5],[175,6,175,7],[175,8,175,10],[175,13,175,14],[175,15,175,16],[175,17,175,18],[175,19,175,21],[176,0,176,1],[176,2,176,3],[176,4,176,5],[176,6,176,7],[176,8,176,10],[176,13,176,14],[176,15,176,16],[176,17,176,18],[176,19,176,21],[177,0,177,1],[177,2,177,3],[177,4,177,5],[177,6,177,7],[177,8,177,10],[177,11,177,12],[177,13,177,14],[177,15,177,16],[177,17,177,18],[177,19,177,21],[177,22,177,23],[178,0,178,2],[178,4,178,18],[178,19,178,23],[179,0,180,2],[179,4,179,5],[179,6,179,8],[179,15,179,17],[179,19,180,23],[180,4,180,5],[180,6,180,8],[181,3,181,6],[181,9,181,14],[181,17,181,21],[182,0,182,1],[182,3,183,6],[182,9,182,14],[182,15,182,16],[182,17,183,21],[183,0,183,1],[183,15,183,16],[184,0,184,23],[185,0,185,23],[186,2,186,6],[186,8,186,23],[187,2,187,6],[187,8,187,23],[189,0,189,10],[189,11,189,12],[189,13,189,23],[191,0,191,10],[191,11,191,12],[191,13,191,23],[193,2,193,10],[193,13,193,21],[194,2,194,5],[194,6,194,10],[194,13,194,16],[194,17,194,21],[195,0,195,1],[195,2,195,3],[195,4,195,5],[195,6,195,7],[195,8,195,10],[195,13,195,14],[195,15,195,16],[195,17,195,18],[195,19,195,21],[196,0,196,1],[196,2,196,3],[196,4,196,5],[196,6,196,7],[196,8,196,10],[196,13,196,14],[196,15,196,16],[196,17,196,18],[196,19,196,21],[197,0,197,1],[197,2,197,3],[197,4,197,5],[197,6,197,7],[197,8,197,10],[197,13,197,14],[197,15,197,16],[197,17,197,18],[197,19,197,21],[198,0,198,1],[198,2,198,3],[198,4,198,5],[198,6,198,7],[198,8,198,10],[198,13,198,14],[198,15,198,16],[198,17,198,18],[198,19,198,21],[199,0,199,1],[199,2,199,3],[199,4,199,5],[199,6,199,7],[199,8,199,10],[199,13,199,14],[199,15,199,16],[199,17,199,18],[199,19,199,21],[200,0,200,1],[200,2,200,3],[200,4,200,5],[200,6,200,7],[200,8,200,10],[200,11,200,12],[200,13,200,14],[200,15,200,16],[200,17,200,18],[200,19,200,21],[200,22,200,23],[201,0,201,2],[201,4,201,18],[201,19,201,23],[202,0,203,2],[202,4,202,5],[202,6,202,8],[202,15,202,17],[202,19,203,23],[203,4,203,5],[203,6,203,8],[204,3,204,6],[204,9,204,14],[204,17,204,21],[205,0,205,1],[205,3,206,6],[205,9,205,14],[205,15,205,16],[205,17,206,21],[206,0,206,1],[206,15,206,16],[207,0,207,23],[208,0,208,23],[209,2,209,6],[209,8,209,23],[210,2,210,6],[210,8,210,23],[212,0,212,10],[212,11,212,12],[212,13,212,23],[214,0,214,10],[214,11,214,12],[214,13,214,23],[216,2,216,10],[216,13,216,21],[217,2,217,5],[217,6,217,10],[217,13,217,16],[217,17,217,21],[218,0,218,1],[218,2,218,3],[218,4,218,5],[218,6,218,7],[218,8,218,10],[218,13,218,14],[218,15,218,16],[218,17,218,18],[218,19,218,21],[219,0,219,1],[219,2,219,3],[219,4,219,5],[219,6,219,7],[219,8,219,10],[219,13,219,14],[219,15,219,16],[219,17,219,18],[219,19,219,21],[220,0,220,1],[220,2,220,3],[220,4,220,5],[220,6,220,7],[220,8,220,10],[220,13,220,14],[220,15,220,16],[220,17,220,18],[220,19,220,21],[221,0,221,1],[221,2,221,3],[221,4,221,5],[221,6,221,7],[221,8,221,10],[221,13,221,14],[221,15,221,16],[221,17,221,18],[221,19,221,21],[222,0,222,1],[222,2,222,3],[222,4,222,5],[222,6,222,7],[222,8,222,10],[222,13,222,14],[222,15,222,16],[222,17,222,18],[222,19,222,21],[223,0,223,1],[223,2,223,3],[223,4,223,5],[223,6,223,7],[223,8,223,10],[223,11,223,12],[223,13,223,14],[223,15,223,16],[223,17,223,18],[223,19,223,21],[223,22,223,23],[224,0,224,2],[224,4,224,18],[224,19,224,23],[225,0,226,2],[225,4,225,5],[225,6,225,8],[225,15,225,17],[225,19,226,23],[226,4,226,5],[226,6,226,8],[227,3,227,6],[227,9,227,14],[227,17,227,21],[228,0,228,1],[228,3,229,6],[228,9,228,14],[228,15,228,16],[228,17,229,21],[229,0,229,1],[229,15,229,16],[230,0,230,23],[231,0,231,23],[232,2,232,6],[232,8,232,23],[233,2,233,6],[233,8,233,23],[235,0,235,10],[235,11,235,12],[235,13,235,23],[237,0,237,10],[237,11,237,12],[237,13,237,23],[239,2,239,10],[239,13,239,21],[240,2,240,5],[240,6,240,10],[240,13,240,16],[240,17,240,21],[241,0,241,1],[241,2,241,3],[241,4,241,5],[241,6,241,7],[241,8,241,10],[241,13,241,14],[241,15,241,16],[241,17,241,18],[241,19,241,21],[242,0,242,1],[242,2,242,3],[242,4,242,5],[242,6,242,7],[242,8,242,10],[242,13,242,14],[242,15,242,16],[242,17,242,18],[242,19,242,21],[243,0,243,1],[243,2,243,3],[243,4,243,5],[243,6,243,7],[243,8,243,10],[243,13,243,14],[243,15,243,16],[243,17,243,18],[245,0,245,1],[245,2,245,3],[245,4,245,5],[245,6,245,7],[245,8,245,10],[245,13,245,14],[245,15,245,16],[245,17,245,18],[245,19,245,21],[246,0,246,1],[246,2,246,3],[246,4,246,5],[246,6,246,7],[246,8,246,10],[246,11,246,12],[246,13,246,14],[294,0,295,2],[317,0,318,2],[340,0,341,2]],"merged_total":3736,"flags":["merged_cut"]}
[{"$f":"Entries!$A$1","v":"2018 District 5 - Mixed Pairs"}]
[{"$f":"'Finals 40 37'!$C$2","v":"R O U N D  1"}]
[null,null,"RINK",{"$nulls":5},"DATE"]
[null,null,{"$f":"'Finals 40 37'!$F$6","v":1},{"$nulls":5},{"$f":"Entries!$A$2","v":"20th June 2018"}]
[]
[{"$nulls":11},"L"]
[]
[{"$f":"'Finals 40 37'!$E$6","v":"Sec 1"},{"$nulls":10},"Sk",null,{"$f":"'Finals 40 37'!$E$7","v":"Sec 2"}]
[]
[null,null,"First Set",{"$nulls":10},"Second Set"]
[null,null,{"$f":"'Finals 40 37'!$E$6","v":"Sec 1"},{"$nulls":3},{"$f":"'Finals 40 37'!$E$7","v":"Sec 2"},{"$nulls":6},{"$f":"'Finals 40 37'!$E$6","v":"Sec 1"},{"$nulls":3},{"$f":"'Finals 40 37'!$E$7","v":"Sec 2"}]
["End",null,"Shots",null,"Total",null,"Shots",null,"Total",{"$nulls":4},"Shots",null,"Total",null,"Shots",null,"Total"]
[1]
[2]
[3]
[4]
[5,{"$nulls":10},1,{"$nulls":10},1]
["Points",{"$nulls":3},"Tie Break",{"$nulls":14},"Points"]
[{"$nulls":4},"End",null,"Shots",{"$nulls":8},"Shots"]
[{"$nulls":4},1]
[{"$nulls":9},"Time"]
["Sign",{"$nulls":8},"Completed",{"$nulls":5},"Sign"]
["i",{"$nulls":14},"i"]
[{"$f":"Entries!$A$1","v":"2018 District 5 - Mixed Pairs"}]
["R O U N D  1"]
[null,null,"RINK",{"$nulls":5},"DATE"]
[null,null,{"$f":"'Finals 40 37'!$F$6","v":1},{"$nulls":5},{"$f":"Entries!$A$2","v":"20th June 2018"}]
[]
[{"$nulls":11},"L"]
[]
[{"$f":"'Finals 40 37'!$E$7","v":"Sec 2"},{"$nulls":10},"Sk",null,{"$f":"'Finals 40 37'!$E$6","v":"Sec 1"}]
[]
[null,null,"First Set",{"$nulls":10},"Second Set"]
[null,null,{"$f":"'Finals 40 37'!$E$7","v":"Sec 2"},{"$nulls":3},{"$f":"'Finals 40 37'!$E$6","v":"Sec 1"},{"$nulls":6},{"$f":"'Finals 40 37'!$E$7","v":"Sec 2"},{"$nulls":3},{"$f":"'Finals 40 37'!$E$6","v":"Sec 1"}]
["End",null,"Shots",null,"Total",null,"Shots",null,"Total",{"$nulls":4},"Shots",null,"Total",null,"Shots",null,"Total"]
[1]
[2]
[3]
[4]
[5,{"$nulls":10},2,{"$nulls":10},1]
["Points",{"$nulls":3},"Tie Break",{"$nulls":14},"Points"]
[{"$nulls":4},"End",null,"Shots",{"$nulls":8},"Shots"]
[{"$nulls":4},1]
[{"$nulls":9},"Time"]
["Sign",{"$nulls":8},"Completed",{"$nulls":5},"Sign"]
["i",{"$nulls":14},"i"]
[{"$f":"Entries!$A$1","v":"2018 District 5 - Mixed Pairs"}]
["R O U N D  1"]
[null,null,"RINK",{"$nulls":5},"DATE"]
[null,null,{"$f":"'Finals 40 37'!$AA$6","v":2},{"$nulls":5},{"$f":"Entries!$A$2","v":"20th June 2018"}]
[]
[{"$nulls":11},"L"]
[]
[{"$f":"'Finals 40 37'!$Z$6","v":"Sec 3"},{"$nulls":10},"Sk",null,{"$f":"'Finals 40 37'!$Z$7","v":"Sec 4"}]
[]
[null,null,"First Set",{"$nulls":10},"Second Set"]
[null,null,{"$f":"'Finals 40 37'!$Z$6","v":"Sec 3"},{"$nulls":3},{"$f":"'Finals 40 37'!$Z$7","v":"Sec 4"},{"$nulls":6},{"$f":"'Finals 40 37'!$Z$6","v":"Sec 3"},{"$nulls":3},{"$f":"'Finals 40 37'!$Z$7","v":"Sec 4"}]
["End",null,"Shots",null,"Total",null,"Shots",null,"Total",{"$nulls":4},"Shots",null,"Total",null,"Shots",null,"Total"]
[1]
[2]
[3]
[4]
[5,{"$nulls":10},1,{"$nulls":10},1]
["Points",{"$nulls":3},"Tie Break",{"$nulls":14},"Points"]
[{"$nulls":4},"End",null,"Shots",{"$nulls":8},"Shots"]
[{"$nulls":4},1]
[{"$nulls":9},"Time"]
["Sign",{"$nulls":8},"Completed",{"$nulls":5},"Sign"]
["i",{"$nulls":14},"i"]
[{"$f":"Entries!$A$1","v":"2018 District 5 - Mixed Pairs"}]
[{"$f":"'Finals 40 37'!$C$2","v":"R O U N D  1"}]
[null,null,"RINK",{"$nulls":5},"DATE"]
[null,null,{"$f":"'Finals 40 37'!$AA$6","v":2},{"$nulls":5},{"$f":"Entries!$A$2","v":"20th June 2018"}]
[]
[{"$nulls":11},"L"]
[]
[{"$f":"'Finals 40 37'!$Z$7","v":"Sec 4"},{"$nulls":10},"Sk",null,{"$f":"'Finals 40 37'!$Z$6","v":"Sec 3"}]
[]
[null,null,"First Set",{"$nulls":10},"Second Set"]
[null,null,{"$f":"'Finals 40 37'!$Z$7","v":"Sec 4"},{"$nulls":3},{"$f":"'Finals 40 37'!$Z$6","v":"Sec 3"},{"$nulls":6},{"$f":"'Finals 40 37'!$Z$7","v":"Sec 4"},{"$nulls":3},{"$f":"'Finals 40 37'!$Z$6","v":"Sec 3"}]
["End",null,"Shots",null,"Total",null,"Shots",null,"Total",{"$nulls":4},"Shots",null,"Total",null,"Shots",null,"Total"]
[1]
[2]
[3]
[4]
[5,{"$nulls":10},2,{"$nulls":10},1]
["Points",{"$nulls":3},"Tie Break",{"$nulls":14},"Points"]
[{"$nulls":4},"End",null,"Shots",{"$nulls":8},"Shots"]
[{"$nulls":4},1]
[{"$nulls":9},"Time"]
["Sign",{"$nulls":8},"Completed",{"$nulls":5},"Sign"]
["i",{"$nulls":14},"i"]
[{"$f":"Entries!$A$1","v":"2018 District 5 - Mixed Pairs"}]
[{"$f":"'Finals 40 37'!$C$8","v":"Q U A R T E R  F I N A L"}]
[null,null,"RINK",{"$nulls":5},"DATE"]
[null,null,{"$f":"'Finals 40 37'!$F$9","v":3},{"$nulls":5},{"$f":"Entries!$A$2","v":"20th June 2018"}]
[]
[{"$nulls":11},"L"]
[]
[{"$f":"'Finals 40 37'!$E$9","v":"Round 1 Sec 1"},{"$nulls":10},"Sk",null,{"$f":"'Finals 40 37'!$E$10","v":"Round 1 Sec 2"}]
[]
[null,null,"First Set",{"$nulls":10},"Second Set"]
[null,null,{"$f":"'Finals 40 37'!$E$9","v":"Round 1 Sec 1"},{"$nulls":3},{"$f":"'Finals 40 37'!$E$10","v":"Round 1 Sec 2"},{"$nulls":6},{"$f":"'Finals 40 37'!$E$9","v":"Round 1 Sec 1"},{"$nulls":3},{"$f":"'Finals 40 37'!$E$10","v":"Round 1 Sec 2"}]
["End",null,"Shots",null,"Total",null,"Shots",null,"Total",{"$nulls":4},"Shots",null,"Total",null,"Shots",null,"Total"]
[1]
[2]
[3]
[4]
[5,{"$nulls":10},1,{"$nulls":10},1]
["Points",{"$nulls":3},"Tie Break",{"$nulls":14},"Points"]
[{"$nulls":4},"End",null,"Shots",{"$nulls":8},"Shots"]
[{"$nulls":4},1]
[{"$nulls":9},"Time"]
["Sign",{"$nulls":8},"Completed",{"$nulls":5},"Sign"]
["i",{"$nulls":14},"i"]
[{"$f":"Entries!$A$1","v":"2018 District 5 - Mixed Pairs"}]
[{"$f":"'Finals 40 37'!$C$8","v":"Q U A R T E R  F I N A L"}]
[null,null,"RINK",{"$nulls":5},"DATE"]
[null,null,{"$f":"'Finals 40 37'!$F$9","v":3},{"$nulls":5},{"$f":"Entries!$A$2","v":"20th June 2018"}]
[]
[{"$nulls":11},"L"]
[]
[{"$f":"'Finals 40 37'!$E$10","v":"Round 1 Sec 2"},{"$nulls":10},"Sk",null,{"$f":"'Finals 40 37'!$E$9","v":"Round 1 Sec 1"}]
[]
[null,null,"First Set",{"$nulls":10},"Second Set"]
[null,null,{"$f":"'Finals 40 37'!$E$10","v":"Round 1 Sec 2"},{"$nulls":3},{"$f":"'Finals 40 37'!$E$9","v":"Round 1 Sec 1"},{"$nulls":6},{"$f":"'Finals 40 37'!$E$10","v":"Round 1 Sec 2"},{"$nulls":3},{"$f":"'Finals 40 37'!$E$9","v":"Round 1 Sec 1"}]
["End",null,"Shots",null,"Total",null,"Shots",null,"Total",{"$nulls":4},"Shots",null,"Total",null,"Shots",null,"Total"]
[1]
[2]
[3]
[4]
[5,{"$nulls":10},2,{"$nulls":10},1]
["Points",{"$nulls":3},"Tie Break",{"$nulls":14},"Points"]
[{"$nulls":4},"End",null,"Shots",{"$nulls":8},"Shots"]
[{"$nulls":4},1]
[{"$nulls":9},"Time"]
["Sign",{"$nulls":8},"Completed",{"$nulls":5},"Sign"]
["i",{"$nulls":14},"i"]
[{"$f":"Entries!$A$1","v":"2018 District 5 - Mixed Pairs"}]
[{"$f":"'Finals 40 37'!$C$8","v":"Q U A R T E R  F I N A L"}]
[null,null,"RINK",{"$nulls":5},"DATE"]
[null,null,{"$f":"'Finals 40 37'!$AA$9","v":4},{"$nulls":5},{"$f":"Entries!$A$2","v":"20th June 2018"}]
[{"$nulls":9},"      "]
[{"$nulls":11},"L"]
[]
[{"$f":"'Finals 40 37'!$Z$9","v":"Sec 5"},{"$nulls":10},"Sk",null,{"$f":"'Finals 40 37'!$Z$10","v":"Sec 6"}]
[]
[null,null,"First Set",{"$nulls":10},"Second Set"]
[null,null,{"$f":"'Finals 40 37'!$Z$9","v":"Sec 5"},{"$nulls":3},{"$f":"'Finals 40 37'!$Z$10","v":"Sec 6"},{"$nulls":6},{"$f":"'Finals 40 37'!$Z$9","v":"Sec 5"},{"$nulls":3},{"$f":"'Finals 40 37'!$Z$10","v":"Sec 6"}]
["End",null,"Shots",null,"Total",null,"Shots",null,"Total",{"$nulls":4},"Shots",null,"Total",null,"Shots",null,"Total"]
[1]
[2]
[3]
[4]
[5,{"$nulls":10},1,{"$nulls":10},1]
["Points",{"$nulls":3},"Tie Break",{"$nulls":14},"Points"]
[{"$nulls":4},"End",null,"Shots",{"$nulls":8},"Shots"]
[{"$nulls":4},1]
[{"$nulls":9},"Time"]
["Sign",{"$nulls":8},"Completed",{"$nulls":5},"Sign"]
["i",{"$nulls":14},"i"]
[{"$f":"Entries!$A$1","v":"2018 District 5 - Mixed Pairs"}]
[{"$f":"'Finals 40 37'!$C$8","v":"Q U A R T E R  F I N A L"}]
[null,null,"RINK",{"$nulls":5},"DATE"]
[null,null,{"$f":"'Finals 40 37'!$AA$9","v":4},{"$nulls":5},{"$f":"Entries!$A$2","v":"20th June 2018"}]
[]
[{"$nulls":11},"L"]
[]
[{"$f":"'Finals 40 37'!$Z$10","v":"Sec 6"},{"$nulls":10},"Sk",null,{"$f":"'Finals 40 37'!$Z$9","v":"Sec 5"}]
[]
[null,null,"First Set",{"$nulls":10},"Second Set"]
[null,null,{"$f":"'Finals 40 37'!$Z$10","v":"Sec 6"},{"$nulls":3},{"$f":"'Finals 40 37'!$Z$9","v":"Sec 5"},{"$nulls":6},{"$f":"'Finals 40 37'!$Z$10","v":"Sec 6"},{"$nulls":3},{"$f":"'Finals 40 37'!$Z$9","v":"Sec 5"}]
["End",null,"Shots",null,"Total",null,"Shots",null,"Total",{"$nulls":4},"Shots",null,"Total",null,"Shots",null,"Total"]
[1]
[2]
[3]
[4]
[5,{"$nulls":10},2,{"$nulls":10},1]
["Points",{"$nulls":3},"Tie Break",{"$nulls":14},"Points"]
[{"$nulls":4},"End",null,"Shots",{"$nulls":8},"Shots"]
[{"$nulls":4},1]
[{"$nulls":9},"Time"]
["Sign",{"$nulls":8},"Completed",{"$nulls":5},"Sign"]
["i",{"$nulls":14},"i"]
[{"$f":"Entries!$A$1","v":"2018 District 5 - Mixed Pairs"}]
[{"$f":"'Finals 40 37'!$C$8","v":"Q U A R T E R  F I N A L"}]
[null,null,"RINK",{"$nulls":5},"DATE"]
[null,null,{"$f":"'Finals 40 37'!$F$12","v":5},{"$nulls":5},{"$f":"Entries!$A$2","v":"20th June 2018"}]
[]
[{"$nulls":11},"L"]
[]
[{"$f":"'Finals 40 37'!$E$12","v":"Sec 7"},{"$nulls":10},"Sk",null,{"$f":"'Finals 40 37'!$E$13","v":"Sec 8"}]
[]
[null,null,"First Set",{"$nulls":10},"Second Set"]
[null,null,{"$f":"'Finals 40 37'!$E$12","v":"Sec 7"},{"$nulls":3},{"$f":"'Finals 40 37'!$E$13","v":"Sec 8"},{"$nulls":6},{"$f":"'Finals 40 37'!$E$12","v":"Sec 7"},{"$nulls":3},{"$f":"'Finals 40 37'!$E$13","v":"Sec 8"}]
["End",null,"Shots",null,"Total",null,"Shots",null,"Total",{"$nulls":4},"Shots",null,"Total",null,"Shots",null,"Total"]
[1]
[2]
[3]
[4]
[5,{"$nulls":10},1,{"$nulls":10},1]
["Points",{"$nulls":3},"Tie Break",{"$nulls":14},"Points"]
[{"$nulls":4},"End",null,"Shots",{"$nulls":8},"Shots"]
[{"$nulls":4},1]
[{"$nulls":9},"Time"]
["Sign",{"$nulls":8},"Completed",{"$nulls":5},"Sign"]
["i",{"$nulls":14},"i"]
[{"$f":"Entries!$A$1","v":"2018 District 5 - Mixed Pairs"}]
[{"$f":"'Finals 40 37'!$C$8","v":"Q U A R T E R  F I N A L"}]
[null,null,"RINK",{"$nulls":5},"DATE"]
[null,null,{"$f":"'Finals 40 37'!$F$12","v":5},{"$nulls":5},{"$f":"Entries!$A$2","v":"20th June 2018"}]
[]
[{"$nulls":11},"L"]
[]
[{"$f":"'Finals 40 37'!$E$13","v":"Sec 8"},{"$nulls":10},"Sk",null,{"$f":"'Finals 40 37'!$E$12","v":"Sec 7"}]
[]
[null,null,"First Set",{"$nulls":10},"Second Set"]
[null,null,{"$f":"'Finals 40 37'!$E$13","v":"Sec 8"},{"$nulls":3},{"$f":"'Finals 40 37'!$E$12","v":"Sec 7"},{"$nulls":6},{"$f":"'Finals 40 37'!$E$13","v":"Sec 8"},{"$nulls":3},{"$f":"'Finals 40 37'!$E$12","v":"Sec 7"}]
["End",null,"Shots",null,"Total",null,"Shots",null,"Total",{"$nulls":4},"Shots",null,"Total",null,"Shots",null,"Total"]
[1]
[2]
[3]
[4]
[5,{"$nulls":10},2,{"$nulls":10},1]
["Points",{"$nulls":3},"Tie Break",{"$nulls":14},"Points"]
[{"$nulls":4},"End",null,"Shots",{"$nulls":8},"Shots"]
[{"$nulls":4},1]
[{"$nulls":9},"Time"]
["Sign",{"$nulls":8},"Completed",{"$nulls":5},"Sign"]
["i",{"$nulls":14},"i"]
[{"$f":"Entries!$A$1","v":"2018 District 5 - Mixed Pairs"}]
[{"$f":"'Finals 40 37'!$C$8","v":"Q U A R T E R  F I N A L"}]
[null,null,"RINK",{"$nulls":5},"DATE"]
[null,null,{"$f":"'Finals 40 37'!$AA$12","v":6},{"$nulls":5},{"$f":"Entries!$A$2","v":"20th June 2018"}]
[{"$nulls":9},"      "]
[{"$nulls":11},"L"]
[]
[{"$f":"'Finals 40 37'!$Z$12","v":"Sec 9"},{"$nulls":10},"Sk",null,{"$f":"'Finals 40 37'!$Z$13","v":"Sec 10"}]
[]
[null,null,"First Set",{"$nulls":10},"Second Set"]
[null,null,{"$f":"'Finals 40 37'!$Z$12","v":"Sec 9"},{"$nulls":3},{"$f":"'Finals 40 37'!$Z$13","v":"Sec 10"},{"$nulls":6},{"$f":"'Finals 40 37'!$Z$12","v":"Sec 9"},{"$nulls":3},{"$f":"'Finals 40 37'!$Z$13","v":"Sec 10"}]
["End",null,"Shots",null,"Total",null,"Shots",null,"Total",{"$nulls":4},"Shots",null,"Total",null,"Shots",null,"Total"]
[1]
[2]
[3]
[4]
[5,{"$nulls":10},1,{"$nulls":10},1]
["Points",{"$nulls":3},"Tie Break",{"$nulls":14},"Points"]
[{"$nulls":4},"End",null,"Shots",{"$nulls":8},"Shots"]
[{"$nulls":4},1]
[{"$nulls":9},"Time"]
["Sign",{"$nulls":8},"Completed",{"$nulls":5},"Sign"]
["i",{"$nulls":14},"i"]
[{"$f":"Entries!$A$1","v":"2018 District 5 - Mixed Pairs"}]
[{"$f":"'Finals 40 37'!$C$8","v":"Q U A R T E R  F I N A L"}]
[null,null,"RINK",{"$nulls":5},"DATE"]
[null,null,{"$f":"'Finals 40 37'!$AA$12","v":6},{"$nulls":5},{"$f":"Entries!$A$2","v":"20th June 2018"}]
[]
[{"$nulls":11},"L"]
[]
[{"$f":"'Finals 40 37'!$Z$13","v":"Sec 10"},{"$nulls":10},"Sk",null,{"$f":"'Finals 40 37'!$Z$12","v":"Sec 9"}]
[]
[null,null,"First Set",{"$nulls":10},"Second Set"]
[null,null,{"$f":"'Finals 40 37'!$Z$13","v":"Sec 10"},{"$nulls":3},{"$f":"'Finals 40 37'!$Z$12","v":"Sec 9"},{"$nulls":6},{"$f":"'Finals 40 37'!$Z$13","v":"Sec 10"},{"$nulls":3},{"$f":"'Finals 40 37'!$Z$12","v":"Sec 9"}]
["End",null,"Shots",null,"Total",null,"Shots",null,"Total",{"$nulls":4},"Shots",null,"Total",null,"Shots",null,"Total"]
[1]
[2]
[3]
[4]
[5,{"$nulls":10},2,{"$nulls":10},1]
["Points",{"$nulls":3},"Tie Break",{"$nulls":14},"Points"]
[{"$nulls":4},"End",null,"Shots",{"$nulls":8},"Shots"]
[{"$nulls":4},1]
[{"$nulls":9},"Time"]
["Sign",{"$nulls":8},"Completed",{"$nulls":5},"Sign"]
["i",{"$nulls":14},"i"]
[{"$f":"Entries!$A$1","v":"2018 District 5 - Mixed Pairs"}]
[{"$f":"'Finals 40 37'!$C$17","v":"S E M I  F I N A L "}]
[null,null,"RINK",{"$nulls":5},"DATE"]
[null,null,{"$f":"'Finals 40 37'!$F$18","v":7},{"$nulls":5},{"$f":"Entries!$A$2","v":"20th June 2018"}]
[]
[{"$nulls":11},"L"]
[]
[{"$f":"'Finals 40 37'!$E$18","v":"Q/F 1"},{"$nulls":10},"Sk",null,{"$f":"'Finals 40 37'!$E$19","v":"Q/F 2"}]
[]
[null,null,"First Set",{"$nulls":10},"Second Set"]
[null,null,{"$f":"'Finals 40 37'!$E$18","v":"Q/F 1"},{"$nulls":3},{"$f":"'Finals 40 37'!$E$19","v":"Q/F 2"},{"$nulls":6},{"$f":"'Finals 40 37'!$E$18","v":"Q/F 1"},{"$nulls":3},{"$f":"'Finals 40 37'!$E$19","v":"Q/F 2"}]
["End",null,"Shots",null,"Total",null,"Shots",null,"Total",{"$nulls":4},"Shots",null,"Total",null,"Shots",null,"Total"]
[1]
[2]
[3]
[4]
[5,{"$nulls":10},1,{"$nulls":10},1]
["Points",{"$nulls":3},"Tie Break",{"$nulls":14},"Points"]
[{"$nulls":4},"End",null,"Shots",{"$nulls":8},"Shots"]
[{"$nulls":4},1]
[{"$nulls":9},"Time"]
["Sign",{"$nulls":8},"Completed",{"$nulls":5},"Sign"]
["i",{"$nulls":14},"i"]
[{"$f":"Entries!$A$1","v":"2018 District 5 - Mixed Pairs"}]
[{"$f":"'Finals 40 37'!$C$17","v":"S E M I  F I N A L "}]
[null,null,"RINK",{"$nulls":5},"DATE"]
[null,null,{"$f":"'Finals 40 37'!$F$18","v":7},{"$nulls":5},{"$f":"Entries!$A$2","v":"20th June 2018"}]
[]
[{"$nulls":11},"L"]
[]
[{"$f":"'Finals 40 37'!$E$19","v":"Q/F 2"},{"$nulls":10},"Sk",null,{"$f":"'Finals 40 37'!$E$18","v":"Q/F 1"}]
[]
[null,null,"First Set",{"$nulls":10},"Second Set"]
[null,null,{"$f":"'Finals 40 37'!$E$19","v":"Q/F 2"},{"$nulls":3},{"$f":"'Finals 40 37'!$E$18","v":"Q/F 1"},{"$nulls":6},{"$f":"'Finals 40 37'!$E$19","v":"Q/F 2"},{"$nulls":3},{"$f":"'Finals 40 37'!$E$18","v":"Q/F 1"}]
["End",null,"Shots",null,"Total",null,"Shots",null,"Total",{"$nulls":4},"Shots",null,"Total",null,"Shots",null,"Total"]
[1]
[2]
[3]
[4]
[5,{"$nulls":10},2,{"$nulls":10},1]
["Points",{"$nulls":3},"Tie Break",{"$nulls":14},"Points"]
[{"$nulls":4},"End",null,"Shots",{"$nulls":8},"Shots"]
[{"$nulls":4},1]
[{"$nulls":9},"Time"]
["Sign",{"$nulls":8},"Completed",{"$nulls":5},"Sign"]
["i",{"$nulls":14},"i"]
[{"$f":"Entries!$A$1","v":"2018 District 5 - Mixed Pairs"}]
[{"$f":"'Finals 40 37'!$C$17","v":"S E M I  F I N A L "}]
[null,null,"RINK",{"$nulls":5},"DATE"]
[null,null,{"$f":"'Finals 40 37'!$AA$18","v":8},{"$nulls":5},{"$f":"Entries!$A$2","v":"20th June 2018"}]
[{"$nulls":9},"      "]
[{"$nulls":11},"L"]
[]
[{"$f":"'Finals 40 37'!$Z$18","v":"Q/F 3"},{"$nulls":10},"Sk",null,{"$f":"'Finals 40 37'!$Z$19","v":"Q/F 4"}]
[]
[null,null,"First Set",{"$nulls":10},"Second Set"]
[null,null,{"$f":"'Finals 40 37'!$Z$18","v":"Q/F 3"},{"$nulls":3},{"$f":"'Finals 40 37'!$Z$19","v":"Q/F 4"},{"$nulls":6},{"$f":"'Finals 40 37'!$Z$18","v":"Q/F 3"},{"$nulls":3},{"$f":"'Finals 40 37'!$Z$19","v":"Q/F 4"}]
["End",null,"Shots",null,"Total",null,"Shots",null,"Total",{"$nulls":4},"Shots",null,"Total",null,"Shots",null,"Total"]
[1]
[2]
[3]
[4]
[5,{"$nulls":10},1,{"$nulls":10},1]
["Points",{"$nulls":3},"Tie Break",{"$nulls":14},"Points"]
[{"$nulls":4},"End",null,"Shots",{"$nulls":8},"Shots"]
[{"$nulls":4},1]
[{"$nulls":9},"Time"]
["Sign",{"$nulls":8},"Completed",{"$nulls":5},"Sign"]
["i",{"$nulls":14},"i"]
[{"$f":"Entries!$A$1","v":"2018 District 5 - Mixed Pairs"}]
[{"$f":"'Finals 40 37'!$C$17","v":"S E M I  F I N A L "}]
[null,null,"RINK",{"$nulls":5},"DATE"]
[null,null,{"$f":"'Finals 40 37'!$AA$18","v":8},{"$nulls":5},{"$f":"Entries!$A$2","v":"20th June 2018"}]
[]
[{"$nulls":11},"L"]
[]
[{"$f":"'Finals 40 37'!$Z$19","v":"Q/F 4"},{"$nulls":10},"Sk",null,{"$f":"'Finals 40 37'!$Z$18","v":"Q/F 3"}]
[]
[null,null,"First Set",{"$nulls":10},"Second Set"]
[null,null,{"$f":"'Finals 40 37'!$Z$19","v":"Q/F 4"},{"$nulls":3},{"$f":"'Finals 40 37'!$Z$18","v":"Q/F 3"},{"$nulls":6},{"$f":"'Finals 40 37'!$Z$19","v":"Q/F 4"},{"$nulls":3},{"$f":"'Finals 40 37'!$Z$18","v":"Q/F 3"}]
["End",null,"Shots",null,"Total",null,"Shots",null,"Total",{"$nulls":4},"Shots",null,"Total",null,"Shots",null,"Total"]
[1]
[2]
[3]
[4]
[5,{"$nulls":10},2,{"$nulls":10},1]
["Points",{"$nulls":3},"Tie Break",{"$nulls":14},"Points"]
[{"$nulls":4},"End",null,"Shots",{"$nulls":8},"Shots"]
[{"$nulls":4},1]
[{"$nulls":9},"Time"]
["Sign",{"$nulls":8},"Completed",{"$nulls":5},"Sign"]
["i",{"$nulls":14},"i"]
[{"$f":"Entries!$A$1","v":"2018 District 5 - Mixed Pairs"}]
[{"$f":"'Finals 40 37'!$C$26","v":"F I N A L "}]
[null,null,"RINK",{"$nulls":5},"DATE"]
[null,null,{"$f":"'Finals 40 37'!$F$27","v":9},{"$nulls":5},{"$f":"Entries!$A$2","v":"20th June 2018"}]
[]
[{"$nulls":11},"L"]
[]
[{"$f":"'Finals 40 37'!$E$27","v":"S/F 1"},{"$nulls":10},"Sk",null,{"$f":"'Finals 40 37'!$E$28","v":"S/F 2"}]
[]
[null,null,"First Set",{"$nulls":10},"Second Set"]
[null,null,{"$f":"'Finals 40 37'!$E$27","v":"S/F 1"},{"$nulls":3},{"$f":"'Finals 40 37'!$E$28","v":"S/F 2"},{"$nulls":6},{"$f":"'Finals 40 37'!$E$27","v":"S/F 1"},{"$nulls":3},{"$f":"'Finals 40 37'!$E$28","v":"S/F 2"}]
["End",null,"Shots",null,"Total",null,"Shots",null,"Total",{"$nulls":4},"Shots",null,"Total",null,"Shots",null,"Total"]
[1]
[2]
[3]
[4]
[5,{"$nulls":10},1,{"$nulls":10},1]
["Points",{"$nulls":3},"Tie Break",{"$nulls":14},"Points"]
[{"$nulls":4},"End",null,"Shots",{"$nulls":8},"Shots"]
[{"$nulls":4},1]
[{"$nulls":9},"Time"]
["Sign",{"$nulls":8},"Completed",{"$nulls":5},"Sign"]
["i",{"$nulls":14},"i"]
[{"$f":"Entries!$A$1","v":"2018 District 5 - Mixed Pairs"}]
[{"$f":"'Finals 40 37'!$C$26","v":"F I N A L "}]
[null,null,"RINK",{"$nulls":5},"DATE"]
[null,null,{"$f":"'Finals 40 37'!$F$27","v":9},{"$nulls":5},{"$f":"Entries!$A$2","v":"20th June 2018"}]
[]
[{"$nulls":11},"L"]
[]
[{"$f":"'Finals 40 37'!$E$28","v":"S/F 2"},{"$nulls":10},"Sk",null,{"$f":"'Finals 40 37'!$E$27","v":"S/F 1"}]
[]
[null,null,"First Set",{"$nulls":10},"Second Set"]
[null,null,{"$f":"'Finals 40 37'!$E$28","v":"S/F 2"},{"$nulls":3},{"$f":"'Finals 40 37'!$E$27","v":"S/F 1"},{"$nulls":6},{"$f":"'Finals 40 37'!$E$28","v":"S/F 2"},{"$nulls":3},{"$f":"'Finals 40 37'!$E$27","v":"S/F 1"}]
["End",null,"Shots",null,"Total",null,"Shots",null,"Total",{"$nulls":4},"Shots",null,"Total",null,"Shots",null,"Total"]
[1]
[2]
[3]
[4]
[5,{"$nulls":10},2,{"$nulls":10},1]
["Points",{"$nulls":3},"Tie Break",{"$nulls":14},"Points"]
[{"$nulls":4},"End",null,"Shots",{"$nulls":8},"Shots"]
[{"$nulls":4},1]
[{"$nulls":9},"Time"]
["Sign",{"$nulls":8},"Completed",{"$nulls":5},"Sign"]
["i",{"$nulls":14},"i"]
[{"$f":"Entries!$A$1","v":"2018 District 5 - Mixed Pairs"}]
[]
[null,null,"RINK",{"$nulls":5},"DATE"]
[]
[]
[{"$nulls":11},"L"]
[]
[{"$nulls":11},"Sk"]
[]
[null,null,"First Set",{"$nulls":10},"Second Set"]
[]
["End",null,"Shots",null,"Total",null,"Shots",null,"Total",{"$nulls":4},"Shots",null,"Total",null,"Shots",null,"Total"]
[1]
[2]
[3]
[4]
[5,{"$nulls":10},1,{"$nulls":10},1]
["Points",{"$nulls":3},"Tie Break",{"$nulls":14},"Points"]
[{"$nulls":4},"End",null,"Shots",{"$nulls":8},"Shots"]
[{"$nulls":4},1]
[{"$nulls":9},"Time"]
["Sign",{"$nulls":8},"Completed",{"$nulls":5},"Sign"]
["i",{"$nulls":14},"i"]
[{"$f":"Entries!$A$1","v":"2018 District 5 - Mixed Pairs"}]
["R O U N D  1"]
[null,null,"RINK",{"$nulls":5},"DATE"]
[null,null,{"$f":"DRAW!$F$23","v":0}]
[]
[{"$f":"DRAW!$D$24","v":0},{"$nulls":10},"L",null,{"$f":"DRAW!$D$23","v":0}]
[]
[{"$f":"DRAW!$E$24","v":0},{"$nulls":10},"Sk",null,{"$f":"DRAW!$E$23","v":0}]
[]
[null,null,"First Set",{"$nulls":10},"Second Set"]
[null,null,{"$f":"DRAW!$E$24","v":0},{"$nulls":3},{"$f":"DRAW!$E$23","v":0},{"$nulls":6},{"$f":"DRAW!$E$24","v":0},{"$nulls":3},{"$f":"DRAW!$E$23","v":0}]
["End",null,"Shots",null,"Total",null,"Shots",null,"Total",{"$nulls":4},"Shots",null,"Total",null,"Shots",null,"Total"]
[1]
[2]
[3]
[4]
[5,{"$nulls":10},2,{"$nulls":10},1]
["Points",{"$nulls":3},"Tie Break",{"$nulls":14},"Points"]
[{"$nulls":4},"End",null,"Shots",{"$nulls":8},"Shots"]
[{"$nulls":4},1]
[{"$nulls":3},"TEAM No.",{"$nulls":5},"Time",{"$nulls":7},"TEAM No."]
["Sign",null,null,{"$f":"DRAW!$C$24","v":0},{"$nulls":5},"Completed",{"$nulls":5},"Sign",null,{"$f":"DRAW!$C$23","v":0}]
["i",{"$nulls":14},"i"]
[{"$f":"Entries!$A$1","v":"2018 District 5 - Mixed Pairs"}]
["R O U N D  1"]
[null,null,"RINK",{"$nulls":5},"DATE"]
[null,null,{"$f":"DRAW!$F$25","v":0}]
[]
[{"$f":"DRAW!$D$25","v":0},{"$nulls":10},"L",null,{"$f":"DRAW!$D$26","v":0}]
[]
[{"$f":"DRAW!$E$25","v":0},{"$nulls":10},"Sk",null,{"$f":"DRAW!$E$26","v":0}]
[]
[null,null,"First Set",{"$nulls":10},"Second Set"]
[null,null,{"$f":"DRAW!$E$25","v":0},{"$nulls":3},{"$f":"DRAW!$E$26","v":0},{"$nulls":6},{"$f":"DRAW!$E$25","v":0},{"$nulls":3},{"$f":"DRAW!$E$26","v":0}]
["End",null,"Shots",null,"Total",null,"Shots",null,"Total",{"$nulls":4},"Shots",null,"Total",null,"Shots",null,"Total"]
[1]
[2]
[3]
[4]
[5,{"$nulls":10},1,{"$nulls":10},1]
["Points",{"$nulls":3},"Tie Break",{"$nulls":14},"Points"]
[{"$nulls":4},"End",null,"Shots",{"$nulls":8},"Shots"]
[{"$nulls":4},1]
[{"$nulls":3},"TEAM No.",{"$nulls":5},"Time",{"$nulls":7},"TEAM No."]
["Sign",null,null,{"$f":"DRAW!$C$25","v":0},{"$nulls":5},"Completed",{"$nulls":5},"Sign",null,{"$f":"DRAW!$C$26","v":0}]
["i",{"$nulls":14},"i"]
[{"$f":"Entries!$A$1","v":"2018 District 5 - Mixed Pairs"}]
["R O U N D  1"]
[null,null,"RINK",{"$nulls":5},"DATE"]
[null,null,{"$f":"DRAW!$F$25","v":0}]
[]
[{"$f":"DRAW!$D$26","v":0},{"$nulls":10},"L",null,{"$f":"DRAW!$D$25","v":0}]
[]
[{"$f":"DRAW!$E$26","v":0},{"$nulls":10},"Sk",null,{"$f":"DRAW!$E$25","v":0}]
[]
[null,null,"First Set",{"$nulls":10},"Second Set"]
[null,null,{"$f":"DRAW!$E$26","v":0},{"$nulls":3},{"$f":"DRAW!$E$25","v":0},{"$nulls":6},{"$f":"DRAW!$E$26","v":0},{"$nulls":3},{"$f":"DRAW!$E$25","v":0}]
["End",null,"Shots",null,"Total",null,"Shots",null,"Total",{"$nulls":4},"Shots",null,"Total",null,"Shots",null,"Total"]
[1]
[2]
[3]
[4]
[5,{"$nulls":10},2,{"$nulls":10},1]
["Points",{"$nulls":3},"Tie Break",{"$nulls":14},"Points"]
[{"$nulls":4},"End",null,"Shots",{"$nulls":8},"Shots"]
[{"$nulls":4},1]
[{"$nulls":3},"TEAM No.",{"$nulls":5},"Time",{"$nulls":7},"TEAM No."]
["Sign",null,null,{"$f":"DRAW!$C$26","v":0},{"$nulls":5},"Completed",{"$nulls":5},"Sign",null,{"$f":"DRAW!$C$25","v":0}]
["i",{"$nulls":14},"i"]
[{"$f":"Entries!$A$1","v":"2018 District 5 - Mixed Pairs"}]
["R O U N D  1"]
[null,null,"RINK",{"$nulls":5},"DATE"]
[null,null,{"$f":"DRAW!$F$27","v":0}]
[]
[{"$f":"DRAW!$D$27","v":0},{"$nulls":10},"L",null,{"$f":"DRAW!$D$28","v":0}]
[]
[{"$f":"DRAW!$E$27","v":0},{"$nulls":10},"Sk",null,{"$f":"DRAW!$E$28","v":0}]
[]
[null,null,"First Set",{"$nulls":10},"Second Set"]
[null,null,{"$f":"DRAW!$E$27","v":0},{"$nulls":3},{"$f":"DRAW!$E$28","v":0},{"$nulls":6},{"$f":"DRAW!$E$27","v":0},{"$nulls":3},{"$f":"DRAW!$E$28","v":0}]
["End",null,"Shots",null,"Total",null,"Shots",null,"Total",{"$nulls":4},"Shots",null,"Total",null,"Shots",null,"Total"]
[1]
[2]
[3]
[4]
[5,{"$nulls":10},1,{"$nulls":10},1]
["Points",{"$nulls":3},"Tie Break",{"$nulls":14},"Points"]
[{"$nulls":4},"End",null,"Shots",{"$nulls":8},"Shots"]
[{"$nulls":4},1]
[{"$nulls":3},"TEAM No.",{"$nulls":5},"Time",{"$nulls":7},"TEAM No."]
["Sign",null,null,{"$f":"DRAW!$C$27","v":0},{"$nulls":5},"Completed",{"$nulls":5},"Sign",null,{"$f":"DRAW!$C$28","v":0}]
["i",{"$nulls":14},"i"]
[{"$f":"Entries!$A$1","v":"2018 District 5 - Mixed Pairs"}]
["R O U N D  1"]
[null,null,"RINK",{"$nulls":5},"DATE"]
[null,null,{"$f":"DRAW!$F$27","v":0}]
[]
[{"$f":"DRAW!$D$28","v":0},{"$nulls":10},"L",null,{"$f":"DRAW!$D$27","v":0}]
[]
[{"$f":"DRAW!$E$28","v":0},{"$nulls":10},"Sk",null,{"$f":"DRAW!$E$27","v":0}]
[]
[null,null,"First Set",{"$nulls":10},"Second Set"]
[null,null,{"$f":"DRAW!$E$28","v":0},{"$nulls":3},{"$f":"DRAW!$E$27","v":0},{"$nulls":6},{"$f":"DRAW!$E$28","v":0},{"$nulls":3},{"$f":"DRAW!$E$27","v":0}]
["End",null,"Shots",null,"Total",null,"Shots",null,"Total",{"$nulls":4},"Shots",null,"Total",null,"Shots",null,"Total"]
[1]
[2]
[3]
[4]
[5,{"$nulls":10},2,{"$nulls":10},1]
["Points",{"$nulls":3},"Tie Break",{"$nulls":14},"Points"]
[{"$nulls":4},"End",null,"Shots",{"$nulls":8},"Shots"]
[{"$nulls":4},1]
[{"$nulls":3},"TEAM No.",{"$nulls":5},"Time",{"$nulls":7},"TEAM No."]
["Sign",null,null,{"$f":"DRAW!$C$28","v":0},{"$nulls":5},"Completed",{"$nulls":5},"Sign",null,{"$f":"DRAW!$C$27","v":0}]
["i",{"$nulls":14},"i"]
[{"$f":"Entries!$A$1","v":"2018 District 5 - Mixed Pairs"}]
["R O U N D  1"]
[null,null,"RINK",{"$nulls":5},"DATE"]
[null,null,{"$f":"DRAW!$F$29","v":0}]
[]
[{"$f":"DRAW!$D$29","v":0},{"$nulls":10},"L",null,{"$f":"DRAW!$D$30","v":0}]
[]
[{"$f":"DRAW!$E$29","v":0},{"$nulls":10},"Sk",null,{"$f":"DRAW!$E$30","v":0}]
[]
[null,null,"First Set",{"$nulls":10},"Second Set"]
[null,null,{"$f":"DRAW!$E$29","v":0},{"$nulls":3},{"$f":"DRAW!$E$30","v":0},{"$nulls":6},{"$f":"DRAW!$E$29","v":0},{"$nulls":3},{"$f":"DRAW!$E$30","v":0}]
["End",null,"Shots",null,"Total",null,"Shots",null,"Total",{"$nulls":4},"Shots",null,"Total",null,"Shots",null,"Total"]
[1]
[2]
[3]
[4]
[5,{"$nulls":10},1,{"$nulls":10},1]
["Points",{"$nulls":3},"Tie Break",{"$nulls":14},"Points"]
[{"$nulls":4},"End",null,"Shots",{"$nulls":8},"Shots"]
[{"$nulls":4},1]
[{"$nulls":3},"TEAM No.",{"$nulls":5},"Time",{"$nulls":7},"TEAM No."]
["Sign",null,null,{"$f":"DRAW!$C$29","v":0},{"$nulls":5},"Completed",{"$nulls":5},"Sign",null,{"$f":"DRAW!$C$30","v":0}]
["i",{"$nulls":14},"i"]
[{"$f":"Entries!$A$1","v":"2018 District 5 - Mixed Pairs"}]
["R O U N D  1"]
[null,null,"RINK",{"$nulls":5},"DATE"]
[null,null,{"$f":"DRAW!$F$29","v":0}]
[]
[{"$f":"DRAW!$D$30","v":0},{"$nulls":10},"L",null,{"$f":"DRAW!$D$29","v":0}]
[]
[{"$f":"DRAW!$E$30","v":0},{"$nulls":10},"Sk",null,{"$f":"DRAW!$E$29","v":0}]
[]
[null,null,"First Set",{"$nulls":10},"Second Set"]
[null,null,{"$f":"DRAW!$E$30","v":0},{"$nulls":3},{"$f":"DRAW!$E$29","v":0},{"$nulls":6},{"$f":"DRAW!$E$30","v":0},{"$nulls":3},{"$f":"DRAW!$E$29","v":0}]
["End",null,"Shots",null,"Total",null,"Shots",null,"Total",{"$nulls":4},"Shots",null,"Total",null,"Shots",null,"Total"]
[1]
[2]
[3]
[4]
[5,{"$nulls":10},2,{"$nulls":10},1]
["Points",{"$nulls":3},"Tie Break",{"$nulls":14},"Points"]
[{"$nulls":4},"End",null,"Shots",{"$nulls":8},"Shots"]
[{"$nulls":4},1]
[{"$nulls":3},"TEAM No.",{"$nulls":5},"Time",{"$nulls":7},"TEAM No."]
["Sign",null,null,{"$f":"DRAW!$C$30","v":0},{"$nulls":5},"Completed",{"$nulls":5},"Sign",null,{"$f":"DRAW!$C$29","v":0}]
["i",{"$nulls":14},"i"]
[{"$f":"Entries!$A$1","v":"2018 District 5 - Mixed Pairs"}]
["R O U N D  1"]
[null,null,"RINK",{"$nulls":5},"DATE"]
[null,null,{"$f":"DRAW!$F$31","v":0}]
[]
[{"$f":"DRAW!$D$31","v":0},{"$nulls":10},"L",null,{"$f":"DRAW!$D$32","v":0}]
[]
[{"$f":"DRAW!$E$31","v":0},{"$nulls":10},"Sk",null,{"$f":"DRAW!$E$32","v":0}]
[]
[null,null,"First Set",{"$nulls":10},"Second Set"]
[null,null,{"$f":"DRAW!$E$31","v":0},{"$nulls":3},{"$f":"DRAW!$E$32","v":0},{"$nulls":6},{"$f":"DRAW!$E$31","v":0},{"$nulls":3},{"$f":"DRAW!$E$32","v":0}]
["End",null,"Shots",null,"Total",null,"Shots",null,"Total",{"$nulls":4},"Shots",null,"Total",null,"Shots",null,"Total"]
[1]
[2]
[3]
[4]
[5,{"$nulls":10},1,{"$nulls":10},1]
["Points",{"$nulls":3},"Tie Break",{"$nulls":14},"Points"]
[{"$nulls":4},"End",null,"Shots",{"$nulls":8},"Shots"]
[{"$nulls":4},1]
[{"$nulls":3},"TEAM No.",{"$nulls":5},"Time",{"$nulls":7},"TEAM No."]
["Sign",null,null,{"$f":"DRAW!$C$31","v":0},{"$nulls":5},"Completed",{"$nulls":5},"Sign",null,{"$f":"DRAW!$C$32","v":0}]
["i",{"$nulls":14},"i"]
[{"$f":"Entries!$A$1","v":"2018 District 5 - Mixed Pairs"}]
["R O U N D  1"]
[null,null,"RINK",{"$nulls":5},"DATE"]
[null,null,{"$f":"DRAW!$F$31","v":0}]
[]
[{"$f":"DRAW!$D$32","v":0},{"$nulls":10},"L",null,{"$f":"DRAW!$D$31","v":0}]
[]
[{"$f":"DRAW!$E$32","v":0},{"$nulls":10},"Sk",null,{"$f":"DRAW!$E$31","v":0}]
[]
[null,null,"First Set",{"$nulls":10},"Second Set"]
[null,null,{"$f":"DRAW!$E$32","v":0},{"$nulls":3},{"$f":"DRAW!$E$31","v":0},{"$nulls":6},{"$f":"DRAW!$E$32","v":0},{"$nulls":3},{"$f":"DRAW!$E$31","v":0}]
["End",null,"Shots",null,"Total",null,"Shots",null,"Total",{"$nulls":4},"Shots",null,"Total",null,"Shots",null,"Total"]
[1]
[2]
[3]
[4]
[5,{"$nulls":10},2,{"$nulls":10},1]
["Points",{"$nulls":3},"Tie Break",{"$nulls":14},"Points"]
[{"$nulls":4},"End",null,"Shots",{"$nulls":8},"Shots"]
[{"$nulls":4},1]
[{"$nulls":3},"TEAM No.",{"$nulls":5},"Time",{"$nulls":7},"TEAM No."]
["Sign",null,null,{"$f":"DRAW!$C$32","v":0},{"$nulls":5},"Completed",{"$nulls":5},"Sign",null,{"$f":"DRAW!$C$31","v":0}]
["i",{"$nulls":14},"i"]
[{"$f":"Entries!$A$1","v":"2018 District 5 - Mixed Pairs"}]
["R O U N D  1"]
[null,null,"RINK",{"$nulls":5},"DATE"]
[null,null,{"$f":"DRAW!$F$33","v":0}]
[]
[{"$f":"DRAW!$D$33","v":0},{"$nulls":10},"L",null,{"$f":"DRAW!$D$34","v":0}]
[]
[{"$f":"DRAW!$E$33","v":0},{"$nulls":10},"Sk",null,{"$f":"DRAW!$E$34","v":0}]
[]
[null,null,"First Set",{"$nulls":10},"Second Set"]
[null,null,{"$f":"DRAW!$E$33","v":0},{"$nulls":3},{"$f":"DRAW!$E$34","v":0},{"$nulls":6},{"$f":"DRAW!$E$33","v":0},{"$nulls":3},{"$f":"DRAW!$E$34","v":0}]
["End",null,"Shots",null,"Total",null,"Shots",null,"Total",{"$nulls":4},"Shots",null,"Total",null,"Shots",null,"Total"]
[1]
[2]
[3]
[4]
[5,{"$nulls":10},1,{"$nulls":10},1]
["Points",{"$nulls":3},"Tie Break",{"$nulls":14},"Points"]
[{"$nulls":4},"End",null,"Shots",{"$nulls":8},"Shots"]
[{"$nulls":4},1]
[{"$nulls":3},"TEAM No.",{"$nulls":5},"Time",{"$nulls":7},"TEAM No."]
["Sign",null,null,{"$f":"DRAW!$C$33","v":0},{"$nulls":5},"Completed",{"$nulls":5},"Sign",null,{"$f":"DRAW!$C$34","v":0}]
["i",{"$nulls":14},"i"]
[{"$f":"Entries!$A$1","v":"2018 District 5 - Mixed Pairs"}]
["R O U N D  1"]
[null,null,"RINK",{"$nulls":5},"DATE"]
[null,null,{"$f":"DRAW!$F$33","v":0}]
[]
[{"$f":"DRAW!$D$34","v":0},{"$nulls":10},"L",null,{"$f":"DRAW!$D$33","v":0}]
[]
[{"$f":"DRAW!$E$34","v":0},{"$nulls":10},"Sk",null,{"$f":"DRAW!$E$33","v":0}]
[]
[null,null,"First Set",{"$nulls":10},"Second Set"]
[null,null,{"$f":"DRAW!$E$34","v":0},{"$nulls":3},{"$f":"DRAW!$E$33","v":0},{"$nulls":6},{"$f":"DRAW!$E$34","v":0},{"$nulls":3},{"$f":"DRAW!$E$33","v":0}]
["End",null,"Shots",null,"Total",null,"Shots",null,"Total",{"$nulls":4},"Shots",null,"Total",null,"Shots",null,"Total"]
[1]
[2]
[3]
[4]
[5,{"$nulls":10},2,{"$nulls":10},1]
["Points",{"$nulls":3},"Tie Break",{"$nulls":14},"Points"]
[{"$nulls":4},"End",null,"Shots",{"$nulls":8},"Shots"]
[{"$nulls":4},1]
[{"$nulls":3},"TEAM No.",{"$nulls":5},"Time",{"$nulls":7},"TEAM No."]
["Sign",null,null,{"$f":"DRAW!$C$34","v":0},{"$nulls":5},"Completed",{"$nulls":5},"Sign",null,{"$f":"DRAW!$C$33","v":0}]
["i",{"$nulls":14},"i"]
[{"$f":"Entries!$A$1","v":"2018 District 5 - Mixed Pairs"}]
["R O U N D  1"]
[null,null,"RINK",{"$nulls":5},"DATE"]
[null,null,{"$f":"DRAW!$F$35","v":0}]
[]
[{"$f":"DRAW!$D$35","v":0},{"$nulls":10},"L",null,{"$f":"DRAW!$D$36","v":0}]
[]
[{"$f":"DRAW!$E$35","v":0},{"$nulls":10},"Sk",null,{"$f":"DRAW!$E$36","v":0}]
[]
[null,null,"First Set",{"$nulls":10},"Second Set"]
[null,null,{"$f":"DRAW!$E$35","v":0},{"$nulls":3},{"$f":"DRAW!$E$36","v":0},{"$nulls":6},{"$f":"DRAW!$E$35","v":0},{"$nulls":3},{"$f":"DRAW!$E$36","v":0}]
["End",null,"Shots",null,"Total",null,"Shots",null,"Total",{"$nulls":4},"Shots",null,"Total",null,"Shots",null,"Total"]
[1]
[2]
[3]
[4]
[5,{"$nulls":10},1,{"$nulls":10},1]
["Points",{"$nulls":3},"Tie Break",{"$nulls":14},"Points"]
[{"$nulls":4},"End",null,"Shots",{"$nulls":8},"Shots"]
[{"$nulls":4},1]
[{"$nulls":3},"TEAM No.",{"$nulls":5},"Time",{"$nulls":7},"TEAM No."]
["Sign",null,null,{"$f":"DRAW!$C$35","v":0},{"$nulls":5},"Completed",{"$nulls":5},"Sign",null,{"$f":"DRAW!$C$36","v":0}]
["i",{"$nulls":14},"i"]
[{"$f":"Entries!$A$1","v":"2018 District 5 - Mixed Pairs"}]
["R O U N D  1"]
[null,null,"RINK",{"$nulls":5},"DATE"]
[null,null,{"$f":"DRAW!$F$35","v":0}]
[]
[{"$f":"DRAW!$D$36","v":0},{"$nulls":10},"L",null,{"$f":"DRAW!$D$35","v":0}]
[]
[{"$f":"DRAW!$E$36","v":0},{"$nulls":10},"Sk",null,{"$f":"DRAW!$E$35","v":0}]
[]
[null,null,"First Set",{"$nulls":10},"Second Set"]
[null,null,{"$f":"DRAW!$E$36","v":0},{"$nulls":3},{"$f":"DRAW!$E$35","v":0},{"$nulls":6},{"$f":"DRAW!$E$36","v":0},{"$nulls":3},{"$f":"DRAW!$E$35","v":0}]
["End",null,"Shots",null,"Total",null,"Shots",null,"Total",{"$nulls":4},"Shots",null,"Total",null,"Shots",null,"Total"]
[1]
[2]
[3]
[4]
[5,{"$nulls":10},2,{"$nulls":10},1]
["Points",{"$nulls":3},"Tie Break",{"$nulls":14},"Points"]
[{"$nulls":4},"End",null,"Shots",{"$nulls":8},"Shots"]
[{"$nulls":4},1]
[{"$nulls":3},"TEAM No.",{"$nulls":5},"Time",{"$nulls":7},"TEAM No."]
["Sign",null,null,{"$f":"DRAW!$C$36","v":0},{"$nulls":5},"Completed",{"$nulls":5},"Sign",null,{"$f":"DRAW!$C$35","v":0}]
["i",{"$nulls":14},"i"]
[{"$f":"Entries!$A$1","v":"2018 District 5 - Mixed Pairs"}]
["R O U N D  1"]
[null,null,"RINK",{"$nulls":5},"DATE"]
[null,null,{"$f":"DRAW!$F$37","v":0}]
[]
[{"$f":"DRAW!$D$37","v":0},{"$nulls":10},"L",null,{"$f":"DRAW!$D$38","v":0}]
[]
[{"$f":"DRAW!$E$37","v":0},{"$nulls":10},"Sk",null,{"$f":"DRAW!$E$38","v":0}]
[]
[null,null,"First Set",{"$nulls":10},"Second Set"]
[null,null,{"$f":"DRAW!$E$37","v":0},{"$nulls":3},{"$f":"DRAW!$E$38","v":0},{"$nulls":6},{"$f":"DRAW!$E$37","v":0},{"$nulls":3},{"$f":"DRAW!$E$38","v":0}]
["End",null,"Shots",null,"Total",null,"Shots",null,"Total",{"$nulls":4},"Shots",null,"Total",null,"Shots",null,"Total"]
[1]
[2]
[3]
[4]
[5,{"$nulls":10},1,{"$nulls":10},1]
["Points",{"$nulls":3},"Tie Break",{"$nulls":14},"Points"]
[{"$nulls":4},"End",null,"Shots",{"$nulls":8},"Shots"]
[{"$nulls":4},1]
[{"$nulls":3},"TEAM No.",{"$nulls":5},"Time",{"$nulls":7},"TEAM No."]
["Sign",null,null,{"$f":"DRAW!$C$37","v":0},{"$nulls":5},"Completed",{"$nulls":5},"Sign",null,{"$f":"DRAW!$C$38","v":0}]
["i",{"$nulls":14},"i"]
[{"$f":"Entries!$A$1","v":"2018 District 5 - Mixed Pairs"}]
["R O U N D  1"]
[null,null,"RINK",{"$nulls":5},"DATE"]
[null,null,{"$f":"DRAW!$F$37","v":0}]
[]
[{"$f":"DRAW!$D$38","v":0},{"$nulls":10},"L",null,{"$f":"DRAW!$D$37","v":0}]
[]
[{"$f":"DRAW!$E$38","v":0},{"$nulls":10},"Sk",null,{"$f":"DRAW!$E$37","v":0}]
[]
[null,null,"First Set",{"$nulls":10},"Second Set"]
[null,null,{"$f":"DRAW!$E$38","v":0},{"$nulls":3},{"$f":"DRAW!$E$37","v":0},{"$nulls":6},{"$f":"DRAW!$E$38","v":0},{"$nulls":3},{"$f":"DRAW!$E$37","v":0}]
["End",null,"Shots",null,"Total",null,"Shots",null,"Total",{"$nulls":4},"Shots",null,"Total",null,"Shots",null,"Total"]
[1]
[2]
[3]
[4]
[5,{"$nulls":10},2,{"$nulls":10},1]
["Points",{"$nulls":3},"Tie Break",{"$nulls":14},"Points"]
[{"$nulls":4},"End",null,"Shots",{"$nulls":8},"Shots"]
[{"$nulls":4},1]
[{"$nulls":3},"TEAM No.",{"$nulls":5},"Time",{"$nulls":7},"TEAM No."]
["Sign",null,null,{"$f":"DRAW!$C$38","v":0},{"$nulls":5},"Completed",{"$nulls":5},"Sign",null,{"$f":"DRAW!$C$37","v":0}]
["i",{"$nulls":14},"i"]
[{"$f":"Entries!$A$1","v":"2018 District 5 - Mixed Pairs"}]
["R O U N D  1"]
[null,null,"RINK",{"$nulls":5},"DATE"]
[null,null,{"$f":"DRAW!$F$39","v":0}]
[]
[{"$f":"DRAW!$D$39","v":0},{"$nulls":10},"L",null,{"$f":"DRAW!$D$40","v":0}]
[]
[{"$f":"DRAW!$E$39","v":0},{"$nulls":10},"Sk",null,{"$f":"DRAW!$E$40","v":0}]
[]
[null,null,"First Set",{"$nulls":10},"Second Set"]
[null,null,{"$f":"DRAW!$E$39","v":0},{"$nulls":3},{"$f":"DRAW!$E$40","v":0},{"$nulls":6},{"$f":"DRAW!$E$39","v":0},{"$nulls":3},{"$f":"DRAW!$E$40","v":0}]
["End",null,"Shots",null,"Total",null,"Shots",null,"Total",{"$nulls":4},"Shots",null,"Total",null,"Shots",null,"Total"]
[1]
[2]
[3]
[4]
[5,{"$nulls":10},1,{"$nulls":10},1]
["Points",{"$nulls":3},"Tie Break",{"$nulls":14},"Points"]
[{"$nulls":4},"End",null,"Shots",{"$nulls":8},"Shots"]
[{"$nulls":4},1]
[{"$nulls":3},"TEAM No.",{"$nulls":5},"Time",{"$nulls":7},"TEAM No."]
["Sign",null,null,{"$f":"DRAW!$C$39","v":0},{"$nulls":5},"Completed",{"$nulls":5},"Sign",null,{"$f":"DRAW!$C$40","v":0}]
["i",{"$nulls":14},"i"]
[{"$f":"Entries!$A$1","v":"2018 District 5 - Mixed Pairs"}]
["R O U N D  1"]
[null,null,"RINK",{"$nulls":5},"DATE"]
[null,null,{"$f":"DRAW!$F$39","v":0}]
[]
[{"$f":"DRAW!$D$40","v":0},{"$nulls":10},"L",null,{"$f":"DRAW!$D$39","v":0}]
[]
[{"$f":"DRAW!$E$40","v":0},{"$nulls":10},"Sk",null,{"$f":"DRAW!$E$39","v":0}]
[]
[null,null,"First Set",{"$nulls":10},"Second Set"]
[null,null,{"$f":"DRAW!$E$40","v":0},{"$nulls":3},{"$f":"DRAW!$E$39","v":0},{"$nulls":6},{"$f":"DRAW!$E$40","v":0},{"$nulls":3},{"$f":"DRAW!$E$39","v":0}]
["End",null,"Shots",null,"Total",null,"Shots",null,"Total",{"$nulls":4},"Shots",null,"Total",null,"Shots",null,"Total"]
[1]
[2]
[3]
[4]
[5,{"$nulls":10},2,{"$nulls":10},1]
["Points",{"$nulls":3},"Tie Break",{"$nulls":14},"Points"]
[{"$nulls":4},"End",null,"Shots",{"$nulls":8},"Shots"]
[{"$nulls":4},1]
[{"$nulls":3},"TEAM No.",{"$nulls":5},"Time",{"$nulls":7},"TEAM No."]
["Sign",null,null,{"$f":"DRAW!$C$40","v":0},{"$nulls":5},"Completed",{"$nulls":5},"Sign",null,{"$f":"DRAW!$C$39","v":0}]
["i",{"$nulls":14},"i"]
[{"$f":"Entries!$A$1","v":"2018 District 5 - Mixed Pairs"}]
["R O U N D  1"]
[null,null,"RINK",{"$nulls":5},"DATE"]
[null,null,{"$f":"DRAW!$F$41","v":0}]
[]
[{"$f":"DRAW!$D$41","v":0},{"$nulls":10},"L",null,{"$f":"DRAW!$D$42","v":0}]
[]
[{"$f":"DRAW!$E$41","v":0},{"$nulls":10},"Sk",null,{"$f":"DRAW!$E$42","v":0}]
[]
[null,null,"First Set",{"$nulls":10},"Second Set"]
[null,null,{"$f":"DRAW!$E$41","v":0},{"$nulls":3},{"$f":"DRAW!$E$42","v":0},{"$nulls":6},{"$f":"DRAW!$E$41","v":0},{"$nulls":3},{"$f":"DRAW!$E$42","v":0}]
["End",null,"Shots",null,"Total",null,"Shots",null,"Total",{"$nulls":4},"Shots",null,"Total",null,"Shots",null,"Total"]
[1]
[2]
[3]
[4]
[5,{"$nulls":10},1,{"$nulls":10},1]
["Points",{"$nulls":3},"Tie Break",{"$nulls":14},"Points"]
[{"$nulls":4},"End",null,"Shots",{"$nulls":8},"Shots"]
[{"$nulls":4},1]
[{"$nulls":3},"TEAM No.",{"$nulls":5},"Time",{"$nulls":7},"TEAM No."]
["Sign",null,null,{"$f":"DRAW!$C$41","v":0},{"$nulls":5},"Completed",{"$nulls":5},"Sign",null,{"$f":"DRAW!$C$42","v":0}]
["i",{"$nulls":14},"i"]
[{"$f":"Entries!$A$1","v":"2018 District 5 - Mixed Pairs"}]
["R O U N D  1"]
[null,null,"RINK",{"$nulls":5},"DATE"]
[null,null,{"$f":"DRAW!$F$41","v":0}]
[]
[{"$f":"DRAW!$D$42","v":0},{"$nulls":10},"L",null,{"$f":"DRAW!$D$41","v":0}]
[]
[{"$f":"DRAW!$E$42","v":0},{"$nulls":10},"Sk",null,{"$f":"DRAW!$E$41","v":0}]
[]
[null,null,"First Set",{"$nulls":10},"Second Set"]
[null,null,{"$f":"DRAW!$E$42","v":0},{"$nulls":3},{"$f":"DRAW!$E$41","v":0},{"$nulls":6},{"$f":"DRAW!$E$42","v":0},{"$nulls":3},{"$f":"DRAW!$E$41","v":0}]
["End",null,"Shots",null,"Total",null,"Shots",null,"Total",{"$nulls":4},"Shots",null,"Total",null,"Shots",null,"Total"]
[1]
[2]
[3]
[4]
[5,{"$nulls":10},2,{"$nulls":10},1]
["Points",{"$nulls":3},"Tie Break",{"$nulls":14},"Points"]
[{"$nulls":4},"End",null,"Shots",{"$nulls":8},"Shots"]
[{"$nulls":4},1]
[{"$nulls":3},"TEAM No.",{"$nulls":5},"Time",{"$nulls":7},"TEAM No."]
["Sign",null,null,{"$f":"DRAW!$C$42","v":0},{"$nulls":5},"Completed",{"$nulls":5},"Sign",null,{"$f":"DRAW!$C$41","v":0}]
["i",{"$nulls":14},"i"]
[{"$f":"Entries!$A$1","v":"2018 District 5 - Mixed Pairs"}]
["R O U N D  1"]
[null,null,"RINK",{"$nulls":5},"DATE"]
[null,null,{"$f":"DRAW!$F$43","v":0}]
[]
[{"$f":"DRAW!$D$43","v":0},{"$nulls":10},"L",null,{"$f":"DRAW!$D$44","v":0}]
[]
[{"$f":"DRAW!$E$43","v":0},{"$nulls":10},"Sk",null,{"$f":"DRAW!$E$44","v":0}]
[]
[null,null,"First Set",{"$nulls":10},"Second Set"]
[null,null,{"$f":"DRAW!$E$43","v":0},{"$nulls":3},{"$f":"DRAW!$E$44","v":0},{"$nulls":6},{"$f":"DRAW!$E$43","v":0},{"$nulls":3},{"$f":"DRAW!$E$44","v":0}]
["End",null,"Shots",null,"Total",null,"Shots",null,"Total",{"$nulls":4},"Shots",null,"Total",null,"Shots",null,"Total"]
[1]
[2]
[3]
[4]
[5,{"$nulls":10},1,{"$nulls":10},1]
["Points",{"$nulls":3},"Tie Break",{"$nulls":14},"Points"]
[{"$nulls":4},"End",null,"Shots",{"$nulls":8},"Shots"]
[{"$nulls":4},1]
[{"$nulls":3},"TEAM No.",{"$nulls":5},"Time",{"$nulls":7},"TEAM No."]
["Sign",null,null,{"$f":"DRAW!$C$43","v":0},{"$nulls":5},"Completed",{"$nulls":5},"Sign",null,{"$f":"DRAW!$C$44","v":0}]
["i",{"$nulls":14},"i"]
[{"$f":"Entries!$A$1","v":"2018 District 5 - Mixed Pairs"}]
["R O U N D  1"]
[null,null,"RINK",{"$nulls":5},"DATE"]
[null,null,{"$f":"DRAW!$F$43","v":0}]
[]
[{"$f":"DRAW!$D$44","v":0},{"$nulls":10},"L",null,{"$f":"DRAW!$D$43","v":0}]
[]
[{"$f":"DRAW!$E$44","v":0},{"$nulls":10},"Sk",null,{"$f":"DRAW!$E$43","v":0}]
[]
[null,null,"First Set",{"$nulls":10},"Second Set"]
[null,null,{"$f":"DRAW!$E$44","v":0},{"$nulls":3},{"$f":"DRAW!$E$43","v":0},{"$nulls":6},{"$f":"DRAW!$E$44","v":0},{"$nulls":3},{"$f":"DRAW!$E$43","v":0}]
["End",null,"Shots",null,"Total",null,"Shots",null,"Total",{"$nulls":4},"Shots",null,"Total",null,"Shots",null,"Total"]
[1]
[2]
[3]
[4]
[5,{"$nulls":10},2,{"$nulls":10},1]
["Points",{"$nulls":3},"Tie Break",{"$nulls":14},"Points"]
[{"$nulls":4},"End",null,"Shots",{"$nulls":8},"Shots"]
[{"$nulls":4},1]
[{"$nulls":3},"TEAM No.",{"$nulls":5},"Time",{"$nulls":7},"TEAM No."]
["Sign",null,null,{"$f":"DRAW!$C$44","v":0},{"$nulls":5},"Completed",{"$nulls":5},"Sign",null,{"$f":"DRAW!$C$43","v":0}]
["i",{"$nulls":14},"i"]

{"sheet":"Fins 36 33 cds","index":37,"n_rows":874,"n_cols":23,"rows_kept":874,"hidden":true,"merged":[[0,0,0,23],[1,0,1,23],[2,2,2,6],[2,8,2,23],[3,2,3,6],[3,8,3,23],[5,0,5,10],[5,11,5,12],[5,13,5,23],[7,0,7,10],[7,11,7,12],[7,13,7,23],[9,2,9,10],[9,13,9,21],[10,2,10,5],[10,6,10,10],[10,13,10,16],[10,17,10,21],[11,0,11,1],[11,2,11,3],[11,4,11,5],[11,6,11,7],[11,8,11,10],[11,13,11,14],[11,15,11,16],[11,17,11,18],[11,19,11,21],[12,0,12,1],[12,2,12,3],[12,4,12,5],[12,6,12,7],[12,8,12,10],[12,13,12,14],[12,15,12,16],[12,17,12,18],[12,19,12,21],[13,0,13,1],[13,2,13,3],[13,4,13,5],[13,6,13,7],[13,8,13,10],[13,13,13,14],[13,15,13,16],[13,17,13,18],[13,19,13,21],[14,0,14,1],[14,2,14,3],[14,4,14,5],[14,6,14,7],[14,8,14,10],[14,13,14,14],[14,15,14,16],[14,17,14,18],[14,19,14,21],[15,0,15,1],[15,2,15,3],[15,4,15,5],[15,6,15,7],[15,8,15,10],[15,13,15,14],[15,15,15,16],[15,17,15,18],[15,19,15,21],[16,0,16,1],[16,2,16,3],[16,4,16,5],[16,6,16,7],[16,8,16,10],[16,11,16,12],[16,13,16,14],[16,15,16,16],[16,17,16,18],[16,19,16,21],[16,22,16,23],[17,0,17,2],[17,4,17,18],[17,19,17,23],[18,0,19,2],[18,4,18,5],[18,6,18,8],[18,15,18,17],[18,19,19,23],[19,4,19,5],[19,6,19,8],[20,3,20,6],[20,9,20,14],[20,17,20,21],[21,0,21,1],[21,3,22,6],[21,9,21,14],[21,15,21,16],[21,17,22,21],[22,0,22,1],[22,15,22,16],[23,0,23,23],[24,0,24,23],[25,2,25,6],[25,8,25,23],[26,2,26,6],[26,8,26,23],[28,0,28,10],[28,11,28,12],[28,13,28,23],[30,0,30,10],[30,11,30,12],[30,13,30,23],[32,2,32,10],[32,13,32,21],[33,2,33,5],[33,6,33,10],[33,13,33,16],[33,17,33,21],[34,0,34,1],[34,2,34,3],[34,4,34,5],[34,6,34,7],[34,8,34,10],[34,13,34,14],[34,15,34,16],[34,17,34,18],[34,19,34,21],[35,0,35,1],[35,2,35,3],[35,4,35,5],[35,6,35,7],[35,8,35,10],[35,13,35,14],[35,15,35,16],[35,17,35,18],[35,19,35,21],[36,0,36,1],[36,2,36,3],[36,4,36,5],[36,6,36,7],[36,8,36,10],[36,13,36,14],[36,15,36,16],[36,17,36,18],[36,19,36,21],[37,0,37,1],[37,2,37,3],[37,4,37,5],[37,6,37,7],[37,8,37,10],[37,13,37,14],[37,15,37,16],[37,17,37,18],[37,19,37,21],[38,0,38,1],[38,2,38,3],[38,4,38,5],[38,6,38,7],[38,8,38,10],[38,13,38,14],[38,15,38,16],[38,17,38,18],[38,19,38,21],[39,0,39,1],[39,2,39,3],[39,4,39,5],[39,6,39,7],[39,8,39,10],[39,11,39,12],[39,13,39,14],[39,15,39,16],[39,17,39,18],[39,19,39,21],[39,22,39,23],[40,0,40,2],[40,4,40,18],[40,19,40,23],[41,4,41,5],[41,6,41,8],[41,15,41,17],[41,19,42,23],[42,4,42,5],[42,6,42,8],[43,3,43,6],[43,9,43,14],[43,17,43,21],[44,0,44,1],[44,3,45,6],[44,9,44,14],[44,15,44,16],[44,17,45,21],[45,0,45,1],[45,15,45,16],[46,0,46,23],[47,0,47,23],[48,2,48,6],[48,8,48,23],[49,2,49,6],[49,8,49,23],[51,0,51,10],[51,11,51,12],[51,13,51,23],[53,0,53,10],[53,11,53,12],[53,13,53,23],[55,2,55,10],[55,13,55,21],[56,2,56,5],[56,6,56,10],[56,13,56,16],[56,17,56,21],[57,0,57,1],[57,2,57,3],[57,4,57,5],[57,6,57,7],[57,8,57,10],[57,13,57,14],[57,15,57,16],[57,17,57,18],[57,19,57,21],[58,0,58,1],[58,2,58,3],[58,4,58,5],[58,6,58,7],[58,8,58,10],[58,13,58,14],[58,15,58,16],[58,17,58,18],[58,19,58,21],[59,0,59,1],[59,2,59,3],[59,4,59,5],[59,6,59,7],[59,8,59,10],[59,13,59,14],[59,15,59,16],[59,17,59,18],[59,19,59,21],[60,0,60,1],[60,2,60,3],[60,4,60,5],[60,6,60,7],[60,8,60,10],[60,13,60,14],[60,15,60,16],[60,17,60,18],[60,19,60,21],[61,0,61,1],[61,2,61,3],[61,4,61,5],[61,6,61,7],[61,8,61,10],[61,13,61,14],[61,15,61,16],[61,17,61,18],[61,19,61,21],[62,0,62,1],[62,2,62,3],[62,4,62,5],[62,6,62,7],[62,8,62,10],[62,11,62,12],[62,13,62,14],[62,15,62,16],[62,17,62,18],[62,19,62,21],[62,22,62,23],[63,0,63,2],[63,4,63,18],[63,19,63,23],[64,0,65,2],[64,4,64,5],[64,6,64,8],[64,15,64,17],[64,19,65,23],[65,4,65,5],[65,6,65,8],[66,3,66,6],[66,9,66,14],[66,17,66,21],[67,0,67,1],[67,3,68,6],[67,9,67,14],[67,15,67,16],[67,17,68,21],[68,0,68,1],[68,15,68,16],[69,0,69,23],[70,0,70,23],[71,2,71,6],[71,8,71,23],[72,2,72,6],[72,8,72,23],[74,0,74,10],[74,11,74,12],[74,13,74,23],[76,0,76,10],[76,11,76,12],[76,13,76,23],[78,2,78,10],[78,13,78,21],[79,2,79,5],[79,6,79,10],[79,13,79,16],[79,17,79,21],[80,0,80,1],[80,2,80,3],[80,4,80,5],[80,6,80,7],[80,8,80,10],[80,13,80,14],[80,15,80,16],[80,17,80,18],[80,19,80,21],[81,0,81,1],[81,2,81,3],[81,4,81,5],[81,6,81,7],[81,8,81,10],[81,13,81,14],[81,15,81,16],[81,17,81,18],[81,19,81,21],[82,0,82,1],[82,2,82,3],[82,4,82,5],[82,6,82,7],[82,8,82,10],[82,13,82,14],[82,15,82,16],[82,17,82,18],[82,19,82,21],[83,0,83,1],[83,2,83,3],[83,4,83,5],[83,6,83,7],[83,8,83,10],[83,13,83,14],[83,15,83,16],[83,17,83,18],[83,19,83,21],[84,0,84,1],[84,2,84,3],[84,4,84,5],[84,6,84,7],[84,8,84,10],[84,13,84,14],[84,15,84,16],[84,17,84,18],[84,19,84,21],[85,0,85,1],[85,2,85,3],[85,4,85,5],[85,6,85,7],[85,8,85,10],[85,11,85,12],[85,13,85,14],[85,15,85,16],[85,17,85,18],[85,19,85,21],[85,22,85,23],[86,0,86,2],[86,4,86,18],[86,19,86,23],[87,0,88,2],[87,4,87,5],[87,6,87,8],[87,15,87,17],[87,19,88,23],[88,4,88,5],[88,6,88,8],[89,3,89,6],[89,9,89,14],[89,17,89,21],[90,0,90,1],[90,3,91,6],[90,9,90,14],[90,15,90,16],[90,17,91,21],[91,0,91,1],[91,15,91,16],[92,0,92,23],[93,0,93,23],[94,2,94,6],[94,8,94,23],[95,2,95,6],[95,8,95,23],[97,0,97,10],[97,11,97,12],[97,13,97,23],[99,0,99,10],[99,11,99,12],[99,13,99,23],[101,2,101,10],[101,13,101,21],[102,2,102,5],[102,6,102,10],[102,13,102,16],[102,17,102,21],[103,0,103,1],[103,2,103,3],[103,4,103,5],[103,6,103,7],[103,8,103,10],[103,13,103,14],[103,15,103,16],[103,17,103,18],[103,19,103,21],[104,0,104,1],[104,2,104,3],[104,4,104,5],[104,6,104,7],[104,8,104,10],[104,13,104,14],[104,15,104,16],[104,17,104,18],[104,19,104,21],[105,0,105,1],[105,2,105,3],[105,4,105,5],[105,6,105,7],[105,8,105,10],[105,13,105,14],[105,15,105,16],[105,17,105,18],[105,19,105,21],[106,0,106,1],[106,2,106,3],[106,4,106,5],[106,6,106,7],[106,8,106,10],[106,13,106,14],[106,15,106,16],[106,17,106,18],[106,19,106,21],[107,0,107,1],[107,2,107,3],[107,4,107,5],[107,6,107,7],[107,8,107,10],[107,13,107,14],[107,15,107,16],[107,17,107,18],[107,19,107,21],[108,0,108,1],[108,2,108,3],[108,4,108,5],[108,6,108,7],[108,8,108,10],[108,11,108,12],[108,13,108,14],[108,15,108,16],[108,17,108,18],[108,19,108,21],[108,22,108,23],[109,0,109,2],[109,4,109,18],[109,19,109,23],[110,0,111,2],[110,4,110,5],[110,6,110,8],[110,15,110,17],[110,19,111,23],[111,4,111,5],[111,6,111,8],[112,3,112,6],[112,9,112,14],[112,17,112,21],[113,0,113,1],[113,3,114,6],[113,9,113,14],[113,15,113,16],[113,17,114,21],[114,0,114,1],[114,15,114,16],[115,0,115,23],[116,0,116,23],[117,2,117,6],[117,8,117,23],[118,2,118,6],[118,8,118,23],[120,0,120,10],[120,11,120,12],[120,13,120,23],[122,0,122,10],[122,11,122,12],[122,13,122,23],[124,2,124,10],[124,13,124,21],[125,2,125,5],[125,6,125,10],[125,13,125,16],[125,17,125,21],[126,0,126,1],[126,2,126,3],[126,4,126,5],[126,6,126,7],[126,8,126,10],[126,13,126,14],[126,15,126,16],[126,17,126,18],[126,19,126,21],[127,0,127,1],[127,2,127,3],[127,4,127,5],[127,6,127,7],[127,8,127,10],[127,13,127,14],[127,15,127,16],[127,17,127,18],[127,19,127,21],[128,0,128,1],[128,2,128,3],[128,4,128,5],[128,6,128,7],[128,8,128,10],[128,13,128,14],[128,15,128,16],[128,17,128,18],[128,19,128,21],[129,0,129,1],[129,2,129,3],[129,4,129,5],[129,6,129,7],[129,8,129,10],[129,13,129,14],[129,15,129,16],[129,17,129,18],[129,19,129,21],[130,0,130,1],[130,2,130,3],[130,4,130,5],[130,6,130,7],[130,8,130,10],[130,13,130,14],[130,15,130,16],[130,17,130,18],[130,19,130,21],[131,0,131,1],[131,2,131,3],[131,4,131,5],[131,6,131,7],[131,8,131,10],[131,11,131,12],[131,13,131,14],[131,15,131,16],[131,17,131,18],[131,19,131,21],[131,22,131,23],[132,0,132,2],[132,4,132,18],[132,19,132,23],[133,0,134,2],[133,4,133,5],[133,6,133,8],[133,15,133,17],[133,19,134,23],[134,4,134,5],[134,6,134,8],[135,3,135,6],[135,9,135,14],[135,17,135,21],[136,0,136,1],[136,3,137,6],[136,9,136,14],[136,15,136,16],[136,17,137,21],[137,0,137,1],[137,15,137,16],[138,0,138,23],[139,0,139,23],[140,2,140,6],[140,8,140,23],[141,2,141,6],[141,8,141,23],[143,0,143,10],[143,11,143,12],[143,13,143,23],[145,0,145,10],[145,11,145,12],[145,13,145,23],[147,2,147,10],[147,13,147,21],[148,2,148,5],[148,6,148,10],[148,13,148,16],[148,17,148,21],[149,0,149,1],[149,2,149,3],[149,4,149,5],[149,6,149,7],[149,8,149,10],[149,13,149,14],[149,15,149,16],[149,17,149,18],[149,19,149,21],[150,0,150,1],[150,2,150,3],[150,4,150,5],[150,6,150,7],[150,8,150,10],[150,13,150,14],[150,15,150,16],[150,17,150,18],[150,19,150,21],[151,0,151,1],[151,2,151,3],[151,4,151,5],[151,6,151,7],[151,8,151,10],[151,13,151,14],[151,15,151,16],[151,17,151,18],[151,19,151,21],[152,0,152,1],[152,2,152,3],[152,4,152,5],[152,6,152,7],[152,8,152,10],[152,13,152,14],[152,15,152,16],[152,17,152,18],[152,19,152,21],[153,0,153,1],[153,2,153,3],[153,4,153,5],[153,6,153,7],[153,8,153,10],[153,13,153,14],[153,15,153,16],[153,17,153,18],[153,19,153,21],[154,0,154,1],[154,2,154,3],[154,4,154,5],[154,6,154,7],[154,8,154,10],[154,11,154,12],[154,13,154,14],[154,15,154,16],[154,17,154,18],[154,19,154,21],[154,22,154,23],[155,0,155,2],[155,4,155,18],[155,19,155,23],[156,0,157,2],[156,4,156,5],[156,6,156,8],[156,15,156,17],[156,19,157,23],[157,4,157,5],[157,6,157,8],[158,3,158,6],[158,9,158,14],[158,17,158,21],[159,0,159,1],[159,3,160,6],[159,9,159,14],[159,15,159,16],[159,17,160,21],[160,0,160,1],[160,15,160,16],[161,0,161,23],[162,0,162,23],[163,2,163,6],[163,8,163,23],[164,2,164,6],[164,8,164,23],[166,0,166,10],[166,11,166,12],[166,13,166,23],[168,0,168,10],[168,11,168,12],[168,13,168,23],[170,2,170,10],[170,13,170,21],[171,2,171,5],[171,6,171,10],[171,13,171,16],[171,17,171,21],[172,0,172,1],[172,2,172,3],[172,4,172,5],[172,6,172,7],[172,8,172,10],[172,13,172,14],[172,15,172,16],[172,17,172,18],[172,19,172,21],[173,0,173,1],[173,2,173,3],[173,4,173,5],[173,6,173,7],[173,8,173,10],[173,13,173,14],[173,15,173,16],[173,17,173,18],[173,19,173,21],[174,0,174,1],[174,2,174,3],[174,4,174,5],[174,6,174,7],[174,8,174,10],[174,13,174,14],[174,15,174,16],[174,17,174,18],[174,19,174,21],[175,0,175,1],[175,2,175,3],[175,4,175,5],[175,6,175,7],[175,8,175,10],[175,13,175,14],[175,15,175,16],[175,17,175,18],[175,19,175,21],[176,0,176,1],[176,2,176,3],[176,4,176,5],[176,6,176,7],[176,8,176,10],[176,13,176,14],[176,15,176,16],[176,17,176,18],[176,19,176,21],[177,0,177,1],[177,2,177,3],[177,4,177,5],[177,6,177,7],[177,8,177,10],[177,11,177,12],[177,13,177,14],[177,15,177,16],[177,17,177,18],[177,19,177,21],[177,22,177,23],[178,0,178,2],[178,4,178,18],[178,19,178,23],[179,0,180,2],[179,4,179,5],[179,6,179,8],[179,15,179,17],[179,19,180,23],[180,4,180,5],[180,6,180,8],[181,3,181,6],[181,9,181,14],[181,17,181,21],[182,0,182,1],[182,3,183,6],[182,9,182,14],[182,15,182,16],[182,17,183,21],[183,0,183,1],[183,15,183,16],[184,0,184,23],[185,0,185,23],[186,2,186,6],[186,8,186,23],[187,2,187,6],[187,8,187,23],[189,0,189,10],[189,11,189,12],[189,13,189,23],[191,0,191,10],[191,11,191,12],[191,13,191,23],[193,2,193,10],[193,13,193,21],[194,2,194,5],[194,6,194,10],[194,13,194,16],[194,17,194,21],[195,0,195,1],[195,2,195,3],[195,4,195,5],[195,6,195,7],[195,8,195,10],[195,13,195,14],[195,15,195,16],[195,17,195,18],[195,19,195,21],[196,0,196,1],[196,2,196,3],[196,4,196,5],[196,6,196,7],[196,8,196,10],[196,13,196,14],[196,15,196,16],[196,17,196,18],[196,19,196,21],[197,0,197,1],[197,2,197,3],[197,4,197,5],[197,6,197,7],[197,8,197,10],[197,13,197,14],[197,15,197,16],[197,17,197,18],[197,19,197,21],[198,0,198,1],[198,2,198,3],[198,4,198,5],[198,6,198,7],[198,8,198,10],[198,13,198,14],[198,15,198,16],[198,17,198,18],[198,19,198,21],[199,0,199,1],[199,2,199,3],[199,4,199,5],[199,6,199,7],[199,8,199,10],[199,13,199,14],[199,15,199,16],[199,17,199,18],[199,19,199,21],[200,0,200,1],[200,2,200,3],[200,4,200,5],[200,6,200,7],[200,8,200,10],[200,11,200,12],[200,13,200,14],[200,15,200,16],[200,17,200,18],[200,19,200,21],[200,22,200,23],[201,0,201,2],[201,4,201,18],[201,19,201,23],[202,0,203,2],[202,4,202,5],[202,6,202,8],[202,15,202,17],[202,19,203,23],[203,4,203,5],[203,6,203,8],[204,3,204,6],[204,9,204,14],[204,17,204,21],[205,0,205,1],[205,3,206,6],[205,9,205,14],[205,15,205,16],[205,17,206,21],[206,0,206,1],[206,15,206,16],[207,0,207,23],[208,0,208,23],[209,2,209,6],[209,8,209,23],[210,2,210,6],[210,8,210,23],[212,0,212,10],[212,11,212,12],[212,13,212,23],[214,0,214,10],[214,11,214,12],[214,13,214,23],[216,2,216,10],[216,13,216,21],[217,2,217,5],[217,6,217,10],[217,13,217,16],[217,17,217,21],[218,0,218,1],[218,2,218,3],[218,4,218,5],[218,6,218,7],[218,8,218,10],[218,13,218,14],[218,15,218,16],[218,17,218,18],[218,19,218,21],[219,0,219,1],[219,2,219,3],[219,4,219,5],[219,6,219,7],[219,8,219,10],[219,13,219,14],[219,15,219,16],[219,17,219,18],[219,19,219,21],[220,0,220,1],[220,2,220,3],[220,4,220,5],[220,6,220,7],[220,8,220,10],[220,13,220,14],[220,15,220,16],[220,17,220,18],[220,19,220,21],[221,0,221,1],[221,2,221,3],[221,4,221,5],[221,6,221,7],[221,8,221,10],[221,13,221,14],[221,15,221,16],[221,17,221,18],[221,19,221,21],[222,0,222,1],[222,2,222,3],[222,4,222,5],[222,6,222,7],[222,8,222,10],[222,13,222,14],[222,15,222,16],[222,17,222,18],[222,19,222,21],[223,0,223,1],[223,2,223,3],[223,4,223,5],[223,6,223,7],[223,8,223,10],[223,11,223,12],[223,13,223,14],[223,15,223,16],[223,17,223,18],[223,19,223,21],[223,22,223,23],[224,0,224,2],[224,4,224,18],[224,19,224,23],[225,0,226,2],[225,4,225,5],[225,6,225,8],[225,15,225,17],[225,19,226,23],[226,4,226,5],[226,6,226,8],[227,3,227,6],[227,9,227,14],[227,17,227,21],[228,0,228,1],[228,3,229,6],[228,9,228,14],[228,15,228,16],[228,17,229,21],[229,0,229,1],[229,15,229,16],[230,0,230,23],[231,0,231,23],[232,2,232,6],[232,8,232,23],[233,2,233,6],[233,8,233,23],[235,0,235,10],[235,11,235,12],[235,13,235,23],[237,0,237,10],[237,11,237,12],[237,13,237,23],[239,2,239,10],[239,13,239,21],[240,2,240,5],[240,6,240,10],[240,13,240,16],[240,17,240,21],[241,0,241,1],[241,2,241,3],[241,4,241,5],[241,6,241,7],[241,8,241,10],[241,13,241,14],[241,15,241,16],[241,17,241,18],[241,19,241,21],[242,0,242,1],[242,2,242,3],[242,4,242,5],[242,6,242,7],[242,8,242,10],[242,13,242,14],[242,15,242,16],[242,17,242,18],[242,19,242,21],[243,0,243,1],[243,2,243,3],[243,4,243,5],[243,6,243,7],[243,8,243,10],[243,13,243,14],[243,15,243,16],[243,17,243,18],[243,19,243,21],[244,0,244,1],[244,2,244,3],[244,4,244,5],[244,6,244,7],[244,8,244,10],[244,13,244,14],[244,15,244,16],[244,17,244,18],[244,19,244,21],[248,0,249,2],[248,4,248,5],[248,6,248,8],[248,15,248,17],[248,19,249,23],[249,4,249,5],[249,6,249,8]],"merged_total":3550,"flags":["merged_cut"]}
[{"$f":"Entries!$A$1","v":"2018 District 5 - Mixed Pairs"}]
[{"$f":"'Finals 36 33'!$C$2","v":"R O U N D  1"}]
[null,null,"RINK",{"$nulls":5},"DATE"]
[null,null,{"$f":"'Finals 36 33'!$F$6","v":1},{"$nulls":5},{"$f":"Entries!$A$2","v":"20th June 2018"}]
[]
[{"$nulls":11},"L"]
[]
[{"$f":"'Finals 36 33'!$E$6","v":"Sec 8"},{"$nulls":10},"Sk",null,{"$f":"'Finals 36 33'!$E$7","v":"Sec 9"}]
[]
[null,null,"First Set",{"$nulls":10},"Second Set"]
[null,null,{"$f":"'Finals 36 33'!$E$6","v":"Sec 8"},{"$nulls":3},{"$f":"'Finals 36 33'!$E$7","v":"Sec 9"},{"$nulls":6},{"$f":"'Finals 36 33'!$E$6","v":"Sec 8"},{"$nulls":3},{"$f":"'Finals 36 33'!$E$7","v":"Sec 9"}]
["End",null,"Shots",null,"Total",null,"Shots",null,"Total",{"$nulls":4},"Shots",null,"Total",null,"Shots",null,"Total"]
[1]
[2]
[3]
[4]
[5,{"$nulls":10},1,{"$nulls":10},1]
["Points",{"$nulls":3},"Tie Break",{"$nulls":14},"Points"]
[{"$nulls":4},"End",null,"Shots",{"$nulls":8},"Shots"]
[{"$nulls":4},1]
[{"$nulls":9},"Time"]
["Sign",{"$nulls":8},"Completed",{"$nulls":5},"Sign"]
["i",{"$nulls":14},"i"]
[{"$f":"Entries!$A$1","v":"2018 District 5 - Mixed Pairs"}]
["R O U N D  1"]
[null,null,"RINK",{"$nulls":5},"DATE"]
[null,null,{"$f":"'Finals 36 33'!$F$6","v":1},{"$nulls":5},{"$f":"Entries!$A$2","v":"20th June 2018"}]
[]
[{"$nulls":11},"L"]
[]
[{"$f":"'Finals 36 33'!$E$7","v":"Sec 9"},{"$nulls":10},"Sk",null,{"$f":"'Finals 36 33'!$E$6","v":"Sec 8"}]
[]
[null,null,"First Set",{"$nulls":10},"Second Set"]
[null,null,{"$f":"'Finals 36 33'!$E$7","v":"Sec 9"},{"$nulls":3},{"$f":"'Finals 36 33'!$E$6","v":"Sec 8"},{"$nulls":6},{"$f":"'Finals 36 33'!$E$7","v":"Sec 9"},{"$nulls":3},{"$f":"'Finals 36 33'!$E$6","v":"Sec 8"}]
["End",null,"Shots",null,"Total",null,"Shots",null,"Total",{"$nulls":4},"Shots",null,"Total",null,"Shots",null,"Total"]
[1]
[2]
[3]
[4]
[5,{"$nulls":10},2,{"$nulls":10},1]
["Points",{"$nulls":3},"Tie Break",{"$nulls":14},"Points"]
[{"$nulls":4},"End",null,"Shots",{"$nulls":8},"Shots"]
[{"$nulls":4},1]
[{"$nulls":9},"Time"]
["Sign",{"$nulls":8},"Completed",{"$nulls":5},"Sign"]
["i",{"$nulls":14},"i"]
[{"$f":"Entries!$A$1","v":"2018 District 5 - Mixed Pairs"}]
[{"$f":"'Finals 36 33'!$C$8","v":"Q U A R T E R  F I N A L"}]
[null,null,"RINK",{"$nulls":5},"DATE"]
[null,null,{"$f":"'Finals 36 33'!$F$9","v":2},{"$nulls":5},{"$f":"Entries!$A$2","v":"20th June 2018"}]
[]
[{"$nulls":11},"L"]
[]
[{"$f":"'Finals 36 33'!$E$9","v":"Round 1 Sec 1"},{"$nulls":10},"Sk",null,{"$f":"'Finals 36 33'!$E$10","v":"Sec 1"}]
[]
[null,null,"First Set",{"$nulls":10},"Second Set"]
[null,null,{"$f":"'Finals 36 33'!$E$9","v":"Round 1 Sec 1"},{"$nulls":3},{"$f":"'Finals 36 33'!$E$10","v":"Sec 1"},{"$nulls":6},{"$f":"'Finals 36 33'!$E$9","v":"Round 1 Sec 1"},{"$nulls":3},{"$f":"'Finals 36 33'!$E$10","v":"Sec 1"}]
["End",null,"Shots",null,"Total",null,"Shots",null,"Total",{"$nulls":4},"Shots",null,"Total",null,"Shots",null,"Total"]
[1]
[2]
[3]
[4]
[5,{"$nulls":10},1,{"$nulls":10},1]
["Points",{"$nulls":3},"Tie Break",{"$nulls":14},"Points"]
[{"$nulls":4},"End",null,"Shots",{"$nulls":8},"Shots"]
[{"$nulls":4},1]
[{"$nulls":9},"Time"]
["Sign",{"$nulls":8},"Completed",{"$nulls":5},"Sign"]
["i",{"$nulls":14},"i"]
[{"$f":"Entries!$A$1","v":"2018 District 5 - Mixed Pairs"}]
[{"$f":"'Finals 36 33'!$C$8","v":"Q U A R T E R  F I N A L"}]
[null,null,"RINK",{"$nulls":5},"DATE"]
[null,null,{"$f":"'Finals 36 33'!$F$9","v":2},{"$nulls":5},{"$f":"Entries!$A$2","v":"20th June 2018"}]
[]
[{"$nulls":11},"L"]
[]
[{"$f":"'Finals 36 33'!$E$10","v":"Sec 1"},{"$nulls":10},"Sk",null,{"$f":"'Finals 36 33'!$E$9","v":"Round 1 Sec 1"}]
[]
[null,null,"First Set",{"$nulls":10},"Second Set"]
[null,null,{"$f":"'Finals 36 33'!$E$10","v":"Sec 1"},{"$nulls":3},{"$f":"'Finals 36 33'!$E$9","v":"Round 1 Sec 1"},{"$nulls":6},{"$f":"'Finals 36 33'!$E$10","v":"Sec 1"},{"$nulls":3},{"$f":"'Finals 36 33'!$E$9","v":"Round 1 Sec 1"}]
["End",null,"Shots",null,"Total",null,"Shots",null,"Total",{"$nulls":4},"Shots",null,"Total",null,"Shots",null,"Total"]
[1]
[2]
[3]
[4]
[5,{"$nulls":10},2,{"$nulls":10},1]
["Points",{"$nulls":3},"Tie Break",{"$nulls":14},"Points"]
[{"$nulls":4},"End",null,"Shots",{"$nulls":8},"Shots"]
[{"$nulls":4},1]
[{"$nulls":9},"Time"]
["Sign",{"$nulls":8},"Completed",{"$nulls":5},"Sign"]
["i",{"$nulls":14},"i"]
[{"$f":"Entries!$A$1","v":"2018 District 5 - Mixed Pairs"}]
[{"$f":"'Finals 36 33'!$C$8","v":"Q U A R T E R  F I N A L"}]
[null,null,"RINK",{"$nulls":5},"DATE"]
[null,null,{"$f":"'Finals 36 33'!$AA$9","v":3},{"$nulls":5},{"$f":"Entries!$A$2","v":"20th June 2018"}]
[{"$nulls":9},"      "]
[{"$nulls":11},"L"]
[]
[{"$f":"'Finals 36 33'!$Z$9","v":"Sec 2"},{"$nulls":10},"Sk",null,{"$f":"'Finals 36 33'!$Z$10","v":"Sec 3"}]
[]
[null,null,"First Set",{"$nulls":10},"Second Set"]
[null,null,{"$f":"'Finals 36 33'!$Z$9","v":"Sec 2"},{"$nulls":3},{"$f":"'Finals 36 33'!$Z$10","v":"Sec 3"},{"$nulls":6},{"$f":"'Finals 36 33'!$Z$9","v":"Sec 2"},{"$nulls":3},{"$f":"'Finals 36 33'!$Z$10","v":"Sec 3"}]
["End",null,"Shots",null,"Total",null,"Shots",null,"Total",{"$nulls":4},"Shots",null,"Total",null,"Shots",null,"Total"]
[1]
[2]
[3]
[4]
[5,{"$nulls":10},1,{"$nulls":10},1]
["Points",{"$nulls":3},"Tie Break",{"$nulls":14},"Points"]
[{"$nulls":4},"End",null,"Shots",{"$nulls":8},"Shots"]
[{"$nulls":4},1]
[{"$nulls":9},"Time"]
["Sign",{"$nulls":8},"Completed",{"$nulls":5},"Sign"]
["i",{"$nulls":14},"i"]
[{"$f":"Entries!$A$1","v":"2018 District 5 - Mixed Pairs"}]
[{"$f":"'Finals 36 33'!$C$8","v":"Q U A R T E R  F I N A L"}]
[null,null,"RINK",{"$nulls":5},"DATE"]
[null,null,{"$f":"'Finals 36 33'!$AA$9","v":3},{"$nulls":5},{"$f":"Entries!$A$2","v":"20th June 2018"}]
[]
[{"$nulls":11},"L"]
[]
[{"$f":"'Finals 36 33'!$Z$10","v":"Sec 3"},{"$nulls":10},"Sk",null,{"$f":"'Finals 36 33'!$Z$9","v":"Sec 2"}]
[]
[null,null,"First Set",{"$nulls":10},"Second Set"]
[null,null,{"$f":"'Finals 36 33'!$Z$10","v":"Sec 3"},{"$nulls":3},{"$f":"'Finals 36 33'!$Z$9","v":"Sec 2"},{"$nulls":6},{"$f":"'Finals 36 33'!$Z$10","v":"Sec 3"},{"$nulls":3},{"$f":"'Finals 36 33'!$Z$9","v":"Sec 2"}]
["End",null,"Shots",null,"Total",null,"Shots",null,"Total",{"$nulls":4},"Shots",null,"Total",null,"Shots",null,"Total"]
[1]
[2]
[3]
[4]
[5,{"$nulls":10},2,{"$nulls":10},1]
["Points",{"$nulls":3},"Tie Break",{"$nulls":14},"Points"]
[{"$nulls":4},"End",null,"Shots",{"$nulls":8},"Shots"]
[{"$nulls":4},1]
[{"$nulls":9},"Time"]
["Sign",{"$nulls":8},"Completed",{"$nulls":5},"Sign"]
["i",{"$nulls":14},"i"]
[{"$f":"Entries!$A$1","v":"2018 District 5 - Mixed Pairs"}]
[{"$f":"'Finals 36 33'!$C$8","v":"Q U A R T E R  F I N A L"}]
[null,null,"RINK",{"$nulls":5},"DATE"]
[null,null,{"$f":"'Finals 36 33'!$F$12","v":4},{"$nulls":5},{"$f":"Entries!$A$2","v":"20th June 2018"}]
[]
[{"$nulls":11},"L"]
[]
[{"$f":"'Finals 36 33'!$E$12","v":"Sec 4"},{"$nulls":10},"Sk",null,{"$f":"'Finals 36 33'!$E$13","v":"Sec 5"}]
[]
[null,null,"First Set",{"$nulls":10},"Second Set"]
[null,null,{"$f":"'Finals 36 33'!$E$12","v":"Sec 4"},{"$nulls":3},{"$f":"'Finals 36 33'!$E$13","v":"Sec 5"},{"$nulls":6},{"$f":"'Finals 36 33'!$E$12","v":"Sec 4"},{"$nulls":3},{"$f":"'Finals 36 33'!$E$13","v":"Sec 5"}]
["End",null,"Shots",null,"Total",null,"Shots",null,"Total",{"$nulls":4},"Shots",null,"Total",null,"Shots",null,"Total"]
[1]
[2]
[3]
[4]
[5,{"$nulls":10},1,{"$nulls":10},1]
["Points",{"$nulls":3},"Tie Break",{"$nulls":14},"Points"]
[{"$nulls":4},"End",null,"Shots",{"$nulls":8},"Shots"]
[{"$nulls":4},1]
[{"$nulls":9},"Time"]
["Sign",{"$nulls":8},"Completed",{"$nulls":5},"Sign"]
["i",{"$nulls":14},"i"]
[{"$f":"Entries!$A$1","v":"2018 District 5 - Mixed Pairs"}]
[{"$f":"'Finals 36 33'!$C$8","v":"Q U A R T E R  F I N A L"}]
[null,null,"RINK",{"$nulls":5},"DATE"]
[null,null,{"$f":"'Finals 36 33'!$F$12","v":4},{"$nulls":5},{"$f":"Entries!$A$2","v":"20th June 2018"}]
[]
[{"$nulls":11},"L"]
[]
[{"$f":"'Finals 36 33'!$E$13","v":"Sec 5"},{"$nulls":10},"Sk",null,{"$f":"'Finals 36 33'!$E$12","v":"Sec 4"}]
[]
[null,null,"First Set",{"$nulls":10},"Second Set"]
[null,null,{"$f":"'Finals 36 33'!$E$13","v":"Sec 5"},{"$nulls":3},{"$f":"'Finals 36 33'!$E$12","v":"Sec 4"},{"$nulls":6},{"$f":"'Finals 36 33'!$E$13","v":"Sec 5"},{"$nulls":3},{"$f":"'Finals 36 33'!$E$12","v":"Sec 4"}]
["End",null,"Shots",null,"Total",null,"Shots",null,"Total",{"$nulls":4},"Shots",null,"Total",null,"Shots",null,"Total"]
[1]
[2]
[3]
[4]
[5,{"$nulls":10},2,{"$nulls":10},1]
["Points",{"$nulls":3},"Tie Break",{"$nulls":14},"Points"]
[{"$nulls":4},"End",null,"Shots",{"$nulls":8},"Shots"]
[{"$nulls":4},1]
[{"$nulls":9},"Time"]
["Sign",{"$nulls":8},"Completed",{"$nulls":5},"Sign"]
["i",{"$nulls":14},"i"]
[{"$f":"Entries!$A$1","v":"2018 District 5 - Mixed Pairs"}]
[{"$f":"'Finals 36 33'!$C$8","v":"Q U A R T E R  F I N A L"}]
[null,null,"RINK",{"$nulls":5},"DATE"]
[null,null,{"$f":"'Finals 36 33'!$AA$12","v":5},{"$nulls":5},{"$f":"Entries!$A$2","v":"20th June 2018"}]
[{"$nulls":9},"      "]
[{"$nulls":11},"L"]
[]
[{"$f":"'Finals 36 33'!$Z$12","v":"Sec 6"},{"$nulls":10},"Sk",null,{"$f":"'Finals 36 33'!$Z$13","v":"Sec 7"}]
[]
[null,null,"First Set",{"$nulls":10},"Second Set"]
[null,null,{"$f":"'Finals 36 33'!$Z$12","v":"Sec 6"},{"$nulls":3},{"$f":"'Finals 36 33'!$Z$13","v":"Sec 7"},{"$nulls":6},{"$f":"'Finals 36 33'!$Z$12","v":"Sec 6"},{"$nulls":3},{"$f":"'Finals 36 33'!$Z$13","v":"Sec 7"}]
["End",null,"Shots",null,"Total",null,"Shots",null,"Total",{"$nulls":4},"Shots",null,"Total",null,"Shots",null,"Total"]
[1]
[2]
[3]
[4]
[5,{"$nulls":10},1,{"$nulls":10},1]
["Points",{"$nulls":3},"Tie Break",{"$nulls":14},"Points"]
[{"$nulls":4},"End",null,"Shots",{"$nulls":8},"Shots"]
[{"$nulls":4},1]
[{"$nulls":9},"Time"]
["Sign",{"$nulls":8},"Completed",{"$nulls":5},"Sign"]
["i",{"$nulls":14},"i"]
[{"$f":"Entries!$A$1","v":"2018 District 5 - Mixed Pairs"}]
[{"$f":"'Finals 36 33'!$C$8","v":"Q U A R T E R  F I N A L"}]
[null,null,"RINK",{"$nulls":5},"DATE"]
[null,null,{"$f":"'Finals 36 33'!$AA$12","v":5},{"$nulls":5},{"$f":"Entries!$A$2","v":"20th June 2018"}]
[]
[{"$nulls":11},"L"]
[]
[{"$f":"'Finals 36 33'!$Z$13","v":"Sec 7"},{"$nulls":10},"Sk",null,{"$f":"'Finals 36 33'!$Z$12","v":"Sec 6"}]
[]
[null,null,"First Set",{"$nulls":10},"Second Set"]
[null,null,{"$f":"'Finals 36 33'!$Z$13","v":"Sec 7"},{"$nulls":3},{"$f":"'Finals 36 33'!$Z$12","v":"Sec 6"},{"$nulls":6},{"$f":"'Finals 36 33'!$Z$13","v":"Sec 7"},{"$nulls":3},{"$f":"'Finals 36 33'!$Z$12","v":"Sec 6"}]
["End",null,"Shots",null,"Total",null,"Shots",null,"Total",{"$nulls":4},"Shots",null,"Total",null,"Shots",null,"Total"]
[1]
[2]
[3]
[4]
[5,{"$nulls":10},2,{"$nulls":10},1]
["Points",{"$nulls":3},"Tie Break",{"$nulls":14},"Points"]
[{"$nulls":4},"End",null,"Shots",{"$nulls":8},"Shots"]
[{"$nulls":4},1]
[{"$nulls":9},"Time"]
["Sign",{"$nulls":8},"Completed",{"$nulls":5},"Sign"]
["i",{"$nulls":14},"i"]
[{"$f":"Entries!$A$1","v":"2018 District 5 - Mixed Pairs"}]
[{"$f":"'Finals 36 33'!$C$17","v":"S E M I  F I N A L "}]
[null,null,"RINK",{"$nulls":5},"DATE"]
[null,null,{"$f":"'Finals 36 33'!$F$18","v":6},{"$nulls":5},{"$f":"Entries!$A$2","v":"20th June 2018"}]
[]
[{"$nulls":11},"L"]
[]
[{"$f":"'Finals 36 33'!$E$18","v":"Q/F 1"},{"$nulls":10},"Sk",null,{"$f":"'Finals 36 33'!$E$19","v":"Q/F 2"}]
[]
[null,null,"First Set",{"$nulls":10},"Second Set"]
[null,null,{"$f":"'Finals 36 33'!$E$18","v":"Q/F 1"},{"$nulls":3},{"$f":"'Finals 36 33'!$E$19","v":"Q/F 2"},{"$nulls":6},{"$f":"'Finals 36 33'!$E$18","v":"Q/F 1"},{"$nulls":3},{"$f":"'Finals 36 33'!$E$19","v":"Q/F 2"}]
["End",null,"Shots",null,"Total",null,"Shots",null,"Total",{"$nulls":4},"Shots",null,"Total",null,"Shots",null,"Total"]
[1]
[2]
[3]
[4]
[5,{"$nulls":10},1,{"$nulls":10},1]
["Points",{"$nulls":3},"Tie Break",{"$nulls":14},"Points"]
[{"$nulls":4},"End",null,"Shots",{"$nulls":8},"Shots"]
[{"$nulls":4},1]
[{"$nulls":9},"Time"]
["Sign",{"$nulls":8},"Completed",{"$nulls":5},"Sign"]
["i",{"$nulls":14},"i"]
[{"$f":"Entries!$A$1","v":"2018 District 5 - Mixed Pairs"}]
[{"$f":"'Finals 36 33'!$C$17","v":"S E M I  F I N A L "}]
[null,null,"RINK",{"$nulls":5},"DATE"]
[null,null,{"$f":"'Finals 36 33'!$F$18","v":6},{"$nulls":5},{"$f":"Entries!$A$2","v":"20th June 2018"}]
[]
[{"$nulls":11},"L"]
[]
[{"$f":"'Finals 36 33'!$E$19","v":"Q/F 2"},{"$nulls":10},"Sk",null,{"$f":"'Finals 36 33'!$E$18","v":"Q/F 1"}]
[]
[null,null,"First Set",{"$nulls":10},"Second Set"]
[null,null,{"$f":"'Finals 36 33'!$E$19","v":"Q/F 2"},{"$nulls":3},{"$f":"'Finals 36 33'!$E$18","v":"Q/F 1"},{"$nulls":6},{"$f":"'Finals 36 33'!$E$19","v":"Q/F 2"},{"$nulls":3},{"$f":"'Finals 36 33'!$E$18","v":"Q/F 1"}]
["End",null,"Shots",null,"Total",null,"Shots",null,"Total",{"$nulls":4},"Shots",null,"Total",null,"Shots",null,"Total"]
[1]
[2]
[3]
[4]
[5,{"$nulls":10},2,{"$nulls":10},1]
["Points",{"$nulls":3},"Tie Break",{"$nulls":14},"Points"]
[{"$nulls":4},"End",null,"Shots",{"$nulls":8},"Shots"]
[{"$nulls":4},1]
[{"$nulls":9},"Time"]
["Sign",{"$nulls":8},"Completed",{"$nulls":5},"Sign"]
["i",{"$nulls":14},"i"]
[{"$f":"Entries!$A$1","v":"2018 District 5 - Mixed Pairs"}]
[{"$f":"'Finals 36 33'!$C$17","v":"S E M I  F I N A L "}]
[null,null,"RINK",{"$nulls":5},"DATE"]
[null,null,{"$f":"'Finals 36 33'!$AA$18","v":7},{"$nulls":5},{"$f":"Entries!$A$2","v":"20th June 2018"}]
[{"$nulls":9},"      "]
[{"$nulls":11},"L"]
[]
[{"$f":"'Finals 36 33'!$Z$18","v":"Q/F 3"},{"$nulls":10},"Sk",null,{"$f":"'Finals 36 33'!$Z$19","v":"Q/F 4"}]
[]
[null,null,"First Set",{"$nulls":10},"Second Set"]
[null,null,{"$f":"'Finals 36 33'!$Z$18","v":"Q/F 3"},{"$nulls":3},{"$f":"'Finals 36 33'!$Z$19","v":"Q/F 4"},{"$nulls":6},{"$f":"'Finals 36 33'!$Z$18","v":"Q/F 3"},{"$nulls":3},{"$f":"'Finals 36 33'!$Z$19","v":"Q/F 4"}]
["End",null,"Shots",null,"Total",null,"Shots",null,"Total",{"$nulls":4},"Shots",null,"Total",null,"Shots",null,"Total"]
[1]
[2]
[3]
[4]
[5,{"$nulls":10},1,{"$nulls":10},1]
["Points",{"$nulls":3},"Tie Break",{"$nulls":14},"Points"]
[{"$nulls":4},"End",null,"Shots",{"$nulls":8},"Shots"]
[{"$nulls":4},1]
[{"$nulls":9},"Time"]
["Sign",{"$nulls":8},"Completed",{"$nulls":5},"Sign"]
["i",{"$nulls":14},"i"]
[{"$f":"Entries!$A$1","v":"2018 District 5 - Mixed Pairs"}]
[{"$f":"'Finals 36 33'!$C$17","v":"S E M I  F I N A L "}]
[null,null,"RINK",{"$nulls":5},"DATE"]
[null,null,{"$f":"'Finals 36 33'!$AA$18","v":7},{"$nulls":5},{"$f":"Entries!$A$2","v":"20th June 2018"}]
[]
[{"$nulls":11},"L"]
[]
[{"$f":"'Finals 36 33'!$Z$19","v":"Q/F 4"},{"$nulls":10},"Sk",null,{"$f":"'Finals 36 33'!$Z$18","v":"Q/F 3"}]
[]
[null,null,"First Set",{"$nulls":10},"Second Set"]
[null,null,{"$f":"'Finals 36 33'!$Z$19","v":"Q/F 4"},{"$nulls":3},{"$f":"'Finals 36 33'!$Z$18","v":"Q/F 3"},{"$nulls":6},{"$f":"'Finals 36 33'!$Z$19","v":"Q/F 4"},{"$nulls":3},{"$f":"'Finals 36 33'!$Z$18","v":"Q/F 3"}]
["End",null,"Shots",null,"Total",null,"Shots",null,"Total",{"$nulls":4},"Shots",null,"Total",null,"Shots",null,"Total"]
[1]
[2]
[3]
[4]
[5,{"$nulls":10},2,{"$nulls":10},1]
["Points",{"$nulls":3},"Tie Break",{"$nulls":14},"Points"]
[{"$nulls":4},"End",null,"Shots",{"$nulls":8},"Shots"]
[{"$nulls":4},1]
[{"$nulls":9},"Time"]
["Sign",{"$nulls":8},"Completed",{"$nulls":5},"Sign"]
["i",{"$nulls":14},"i"]
[{"$f":"Entries!$A$1","v":"2018 District 5 - Mixed Pairs"}]
[{"$f":"'Finals 36 33'!$C$26","v":"F I N A L "}]
[null,null,"RINK",{"$nulls":5},"DATE"]
[null,null,{"$f":"'Finals 36 33'!$F$27","v":8},{"$nulls":5},{"$f":"Entries!$A$2","v":"20th June 2018"}]
[]
[{"$nulls":11},"L"]
[]
[{"$f":"'Finals 36 33'!$E$27","v":"S/F 1"},{"$nulls":10},"Sk",null,{"$f":"'Finals 36 33'!$E$28","v":"S/F 2"}]
[]
[null,null,"First Set",{"$nulls":10},"Second Set"]
[null,null,{"$f":"'Finals 36 33'!$E$27","v":"S/F 1"},{"$nulls":3},{"$f":"'Finals 36 33'!$E$28","v":"S/F 2"},{"$nulls":6},{"$f":"'Finals 36 33'!$E$27","v":"S/F 1"},{"$nulls":3},{"$f":"'Finals 36 33'!$E$28","v":"S/F 2"}]
["End",null,"Shots",null,"Total",null,"Shots",null,"Total",{"$nulls":4},"Shots",null,"Total",null,"Shots",null,"Total"]
[1]
[2]
[3]
[4]
[5,{"$nulls":10},1,{"$nulls":10},1]
["Points",{"$nulls":3},"Tie Break",{"$nulls":14},"Points"]
[{"$nulls":4},"End",null,"Shots",{"$nulls":8},"Shots"]
[{"$nulls":4},1]
[{"$nulls":9},"Time"]
["Sign",{"$nulls":8},"Completed",{"$nulls":5},"Sign"]
["i",{"$nulls":14},"i"]
[{"$f":"Entries!$A$1","v":"2018 District 5 - Mixed Pairs"}]
[{"$f":"'Finals 36 33'!$C$26","v":"F I N A L "}]
[null,null,"RINK",{"$nulls":5},"DATE"]
[null,null,{"$f":"'Finals 36 33'!$F$27","v":8},{"$nulls":5},{"$f":"Entries!$A$2","v":"20th June 2018"}]
[]
[{"$nulls":11},"L"]
[]
[{"$f":"'Finals 36 33'!$E$28","v":"S/F 2"},{"$nulls":10},"Sk",null,{"$f":"'Finals 36 33'!$E$27","v":"S/F 1"}]
[]
[null,null,"First Set",{"$nulls":10},"Second Set"]
[null,null,{"$f":"'Finals 36 33'!$E$28","v":"S/F 2"},{"$nulls":3},{"$f":"'Finals 36 33'!$E$27","v":"S/F 1"},{"$nulls":6},{"$f":"'Finals 36 33'!$E$28","v":"S/F 2"},{"$nulls":3},{"$f":"'Finals 36 33'!$E$27","v":"S/F 1"}]
["End",null,"Shots",null,"Total",null,"Shots",null,"Total",{"$nulls":4},"Shots",null,"Total",null,"Shots",null,"Total"]
[1]
[2]
[3]
[4]
[5,{"$nulls":10},2,{"$nulls":10},1]
["Points",{"$nulls":3},"Tie Break",{"$nulls":14},"Points"]
[{"$nulls":4},"End",null,"Shots",{"$nulls":8},"Shots"]
[{"$nulls":4},1]
[{"$nulls":9},"Time"]
["Sign",{"$nulls":8},"Completed",{"$nulls":5},"Sign"]
["i",{"$nulls":14},"i"]
[{"$f":"Entries!$A$1","v":"2018 District 5 - Mixed Pairs"}]
[]
[null,null,"RINK",{"$nulls":5},"DATE"]
[]
[]
[{"$nulls":11},"L"]
[]
[{"$nulls":11},"Sk"]
[]
[null,null,"First Set",{"$nulls":10},"Second Set"]
[]
["End",null,"Shots",null,"Total",null,"Shots",null,"Total",{"$nulls":4},"Shots",null,"Total",null,"Shots",null,"Total"]
[1]
[2]
[3]
[4]
[5,{"$nulls":10},1,{"$nulls":10},1]
["Points",{"$nulls":3},"Tie Break",{"$nulls":14},"Points"]
[{"$nulls":4},"End",null,"Shots",{"$nulls":8},"Shots"]
[{"$nulls":4},1]
[{"$nulls":9},"Time"]
["Sign",{"$nulls":8},"Completed",{"$nulls":5},"Sign"]
["i",{"$nulls":14},"i"]
[{"$f":"Entries!$A$1","v":"2018 District 5 - Mixed Pairs"}]
["R O U N D  1"]
[null,null,"RINK",{"$nulls":5},"DATE"]
[null,null,{"$f":"DRAW!$F$23","v":0}]
[]
[{"$f":"DRAW!$D$24","v":0},{"$nulls":10},"L",null,{"$f":"DRAW!$D$23","v":0}]
[]
[{"$f":"DRAW!$E$24","v":0},{"$nulls":10},"Sk",null,{"$f":"DRAW!$E$23","v":0}]
[]
[null,null,"First Set",{"$nulls":10},"Second Set"]
[null,null,{"$f":"DRAW!$E$24","v":0},{"$nulls":3},{"$f":"DRAW!$E$23","v":0},{"$nulls":6},{"$f":"DRAW!$E$24","v":0},{"$nulls":3},{"$f":"DRAW!$E$23","v":0}]
["End",null,"Shots",null,"Total",null,"Shots",null,"Total",{"$nulls":4},"Shots",null,"Total",null,"Shots",null,"Total"]
[1]
[2]
[3]
[4]
[5,{"$nulls":10},2,{"$nulls":10},1]
["Points",{"$nulls":3},"Tie Break",{"$nulls":14},"Points"]
[{"$nulls":4},"End",null,"Shots",{"$nulls":8},"Shots"]
[{"$nulls":4},1]
[{"$nulls":3},"TEAM No.",{"$nulls":5},"Time",{"$nulls":7},"TEAM No."]
["Sign",null,null,{"$f":"DRAW!$C$24","v":0},{"$nulls":5},"Completed",{"$nulls":5},"Sign",null,{"$f":"DRAW!$C$23","v":0}]
["i",{"$nulls":14},"i"]
[{"$f":"Entries!$A$1","v":"2018 District 5 - Mixed Pairs"}]
["R O U N D  1"]
[null,null,"RINK",{"$nulls":5},"DATE"]
[null,null,{"$f":"DRAW!$F$25","v":0}]
[]
[{"$f":"DRAW!$D$25","v":0},{"$nulls":10},"L",null,{"$f":"DRAW!$D$26","v":0}]
[]
[{"$f":"DRAW!$E$25","v":0},{"$nulls":10},"Sk",null,{"$f":"DRAW!$E$26","v":0}]
[]
[null,null,"First Set",{"$nulls":10},"Second Set"]
[null,null,{"$f":"DRAW!$E$25","v":0},{"$nulls":3},{"$f":"DRAW!$E$26","v":0},{"$nulls":6},{"$f":"DRAW!$E$25","v":0},{"$nulls":3},{"$f":"DRAW!$E$26","v":0}]
["End",null,"Shots",null,"Total",null,"Shots",null,"Total",{"$nulls":4},"Shots",null,"Total",null,"Shots",null,"Total"]
[1]
[2]
[3]
[4]
[5,{"$nulls":10},1,{"$nulls":10},1]
["Points",{"$nulls":3},"Tie Break",{"$nulls":14},"Points"]
[{"$nulls":4},"End",null,"Shots",{"$nulls":8},"Shots"]
[{"$nulls":4},1]
[{"$nulls":3},"TEAM No.",{"$nulls":5},"Time",{"$nulls":7},"TEAM No."]
["Sign",null,null,{"$f":"DRAW!$C$25","v":0},{"$nulls":5},"Completed",{"$nulls":5},"Sign",null,{"$f":"DRAW!$C$26","v":0}]
["i",{"$nulls":14},"i"]
[{"$f":"Entries!$A$1","v":"2018 District 5 - Mixed Pairs"}]
["R O U N D  1"]
[null,null,"RINK",{"$nulls":5},"DATE"]
[null,null,{"$f":"DRAW!$F$25","v":0}]
[]
[{"$f":"DRAW!$D$26","v":0},{"$nulls":10},"L",null,{"$f":"DRAW!$D$25","v":0}]
[]
[{"$f":"DRAW!$E$26","v":0},{"$nulls":10},"Sk",null,{"$f":"DRAW!$E$25","v":0}]
[]
[null,null,"First Set",{"$nulls":10},"Second Set"]
[null,null,{"$f":"DRAW!$E$26","v":0},{"$nulls":3},{"$f":"DRAW!$E$25","v":0},{"$nulls":6},{"$f":"DRAW!$E$26","v":0},{"$nulls":3},{"$f":"DRAW!$E$25","v":0}]
["End",null,"Shots",null,"Total",null,"Shots",null,"Total",{"$nulls":4},"Shots",null,"Total",null,"Shots",null,"Total"]
[1]
[2]
[3]
[4]
[5,{"$nulls":10},2,{"$nulls":10},1]
["Points",{"$nulls":3},"Tie Break",{"$nulls":14},"Points"]
[{"$nulls":4},"End",null,"Shots",{"$nulls":8},"Shots"]
[{"$nulls":4},1]
[{"$nulls":3},"TEAM No.",{"$nulls":5},"Time",{"$nulls":7},"TEAM No."]
["Sign",null,null,{"$f":"DRAW!$C$26","v":0},{"$nulls":5},"Completed",{"$nulls":5},"Sign",null,{"$f":"DRAW!$C$25","v":0}]
["i",{"$nulls":14},"i"]
[{"$f":"Entries!$A$1","v":"2018 District 5 - Mixed Pairs"}]
["R O U N D  1"]
[null,null,"RINK",{"$nulls":5},"DATE"]
[null,null,{"$f":"DRAW!$F$27","v":0}]
[]
[{"$f":"DRAW!$D$27","v":0},{"$nulls":10},"L",null,{"$f":"DRAW!$D$28","v":0}]
[]
[{"$f":"DRAW!$E$27","v":0},{"$nulls":10},"Sk",null,{"$f":"DRAW!$E$28","v":0}]
[]
[null,null,"First Set",{"$nulls":10},"Second Set"]
[null,null,{"$f":"DRAW!$E$27","v":0},{"$nulls":3},{"$f":"DRAW!$E$28","v":0},{"$nulls":6},{"$f":"DRAW!$E$27","v":0},{"$nulls":3},{"$f":"DRAW!$E$28","v":0}]
["End",null,"Shots",null,"Total",null,"Shots",null,"Total",{"$nulls":4},"Shots",null,"Total",null,"Shots",null,"Total"]
[1]
[2]
[3]
[4]
[5,{"$nulls":10},1,{"$nulls":10},1]
["Points",{"$nulls":3},"Tie Break",{"$nulls":14},"Points"]
[{"$nulls":4},"End",null,"Shots",{"$nulls":8},"Shots"]
[{"$nulls":4},1]
[{"$nulls":3},"TEAM No.",{"$nulls":5},"Time",{"$nulls":7},"TEAM No."]
["Sign",null,null,{"$f":"DRAW!$C$27","v":0},{"$nulls":5},"Completed",{"$nulls":5},"Sign",null,{"$f":"DRAW!$C$28","v":0}]
["i",{"$nulls":14},"i"]
[{"$f":"Entries!$A$1","v":"2018 District 5 - Mixed Pairs"}]
["R O U N D  1"]
[null,null,"RINK",{"$nulls":5},"DATE"]
[null,null,{"$f":"DRAW!$F$27","v":0}]
[]
[{"$f":"DRAW!$D$28","v":0},{"$nulls":10},"L",null,{"$f":"DRAW!$D$27","v":0}]
[]
[{"$f":"DRAW!$E$28","v":0},{"$nulls":10},"Sk",null,{"$f":"DRAW!$E$27","v":0}]
[]
[null,null,"First Set",{"$nulls":10},"Second Set"]
[null,null,{"$f":"DRAW!$E$28","v":0},{"$nulls":3},{"$f":"DRAW!$E$27","v":0},{"$nulls":6},{"$f":"DRAW!$E$28","v":0},{"$nulls":3},{"$f":"DRAW!$E$27","v":0}]
["End",null,"Shots",null,"Total",null,"Shots",null,"Total",{"$nulls":4},"Shots",null,"Total",null,"Shots",null,"Total"]
[1]
[2]
[3]
[4]
[5,{"$nulls":10},2,{"$nulls":10},1]
["Points",{"$nulls":3},"Tie Break",{"$nulls":14},"Points"]
[{"$nulls":4},"End",null,"Shots",{"$nulls":8},"Shots"]
[{"$nulls":4},1]
[{"$nulls":3},"TEAM No.",{"$nulls":5},"Time",{"$nulls":7},"TEAM No."]
["Sign",null,null,{"$f":"DRAW!$C$28","v":0},{"$nulls":5},"Completed",{"$nulls":5},"Sign",null,{"$f":"DRAW!$C$27","v":0}]
["i",{"$nulls":14},"i"]
[{"$f":"Entries!$A$1","v":"2018 District 5 - Mixed Pairs"}]
["R O U N D  1"]
[null,null,"RINK",{"$nulls":5},"DATE"]
[null,null,{"$f":"DRAW!$F$29","v":0}]
[]
[{"$f":"DRAW!$D$29","v":0},{"$nulls":10},"L",null,{"$f":"DRAW!$D$30","v":0}]
[]
[{"$f":"DRAW!$E$29","v":0},{"$nulls":10},"Sk",null,{"$f":"DRAW!$E$30","v":0}]
[]
[null,null,"First Set",{"$nulls":10},"Second Set"]
[null,null,{"$f":"DRAW!$E$29","v":0},{"$nulls":3},{"$f":"DRAW!$E$30","v":0},{"$nulls":6},{"$f":"DRAW!$E$29","v":0},{"$nulls":3},{"$f":"DRAW!$E$30","v":0}]
["End",null,"Shots",null,"Total",null,"Shots",null,"Total",{"$nulls":4},"Shots",null,"Total",null,"Shots",null,"Total"]
[1]
[2]
[3]
[4]
[5,{"$nulls":10},1,{"$nulls":10},1]
["Points",{"$nulls":3},"Tie Break",{"$nulls":14},"Points"]
[{"$nulls":4},"End",null,"Shots",{"$nulls":8},"Shots"]
[{"$nulls":4},1]
[{"$nulls":3},"TEAM No.",{"$nulls":5},"Time",{"$nulls":7},"TEAM No."]
["Sign",null,null,{"$f":"DRAW!$C$29","v":0},{"$nulls":5},"Completed",{"$nulls":5},"Sign",null,{"$f":"DRAW!$C$30","v":0}]
["i",{"$nulls":14},"i"]
[{"$f":"Entries!$A$1","v":"2018 District 5 - Mixed Pairs"}]
["R O U N D  1"]
[null,null,"RINK",{"$nulls":5},"DATE"]
[null,null,{"$f":"DRAW!$F$29","v":0}]
[]
[{"$f":"DRAW!$D$30","v":0},{"$nulls":10},"L",null,{"$f":"DRAW!$D$29","v":0}]
[]
[{"$f":"DRAW!$E$30","v":0},{"$nulls":10},"Sk",null,{"$f":"DRAW!$E$29","v":0}]
[]
[null,null,"First Set",{"$nulls":10},"Second Set"]
[null,null,{"$f":"DRAW!$E$30","v":0},{"$nulls":3},{"$f":"DRAW!$E$29","v":0},{"$nulls":6},{"$f":"DRAW!$E$30","v":0},{"$nulls":3},{"$f":"DRAW!$E$29","v":0}]
["End",null,"Shots",null,"Total",null,"Shots",null,"Total",{"$nulls":4},"Shots",null,"Total",null,"Shots",null,"Total"]
[1]
[2]
[3]
[4]
[5,{"$nulls":10},2,{"$nulls":10},1]
["Points",{"$nulls":3},"Tie Break",{"$nulls":14},"Points"]
[{"$nulls":4},"End",null,"Shots",{"$nulls":8},"Shots"]
[{"$nulls":4},1]
[{"$nulls":3},"TEAM No.",{"$nulls":5},"Time",{"$nulls":7},"TEAM No."]
["Sign",null,null,{"$f":"DRAW!$C$30","v":0},{"$nulls":5},"Completed",{"$nulls":5},"Sign",null,{"$f":"DRAW!$C$29","v":0}]
["i",{"$nulls":14},"i"]
[{"$f":"Entries!$A$1","v":"2018 District 5 - Mixed Pairs"}]
["R O U N D  1"]
[null,null,"RINK",{"$nulls":5},"DATE"]
[null,null,{"$f":"DRAW!$F$31","v":0}]
[]
[{"$f":"DRAW!$D$31","v":0},{"$nulls":10},"L",null,{"$f":"DRAW!$D$32","v":0}]
[]
[{"$f":"DRAW!$E$31","v":0},{"$nulls":10},"Sk",null,{"$f":"DRAW!$E$32","v":0}]
[]
[null,null,"First Set",{"$nulls":10},"Second Set"]
[null,null,{"$f":"DRAW!$E$31","v":0},{"$nulls":3},{"$f":"DRAW!$E$32","v":0},{"$nulls":6},{"$f":"DRAW!$E$31","v":0},{"$nulls":3},{"$f":"DRAW!$E$32","v":0}]
["End",null,"Shots",null,"Total",null,"Shots",null,"Total",{"$nulls":4},"Shots",null,"Total",null,"Shots",null,"Total"]
[1]
[2]
[3]
[4]
[5,{"$nulls":10},1,{"$nulls":10},1]
["Points",{"$nulls":3},"Tie Break",{"$nulls":14},"Points"]
[{"$nulls":4},"End",null,"Shots",{"$nulls":8},"Shots"]
[{"$nulls":4},1]
[{"$nulls":3},"TEAM No.",{"$nulls":5},"Time",{"$nulls":7},"TEAM No."]
["Sign",null,null,{"$f":"DRAW!$C$31","v":0},{"$nulls":5},"Completed",{"$nulls":5},"Sign",null,{"$f":"DRAW!$C$32","v":0}]
["i",{"$nulls":14},"i"]
[{"$f":"Entries!$A$1","v":"2018 District 5 - Mixed Pairs"}]
["R O U N D  1"]
[null,null,"RINK",{"$nulls":5},"DATE"]
[null,null,{"$f":"DRAW!$F$31","v":0}]
[]
[{"$f":"DRAW!$D$32","v":0},{"$nulls":10},"L",null,{"$f":"DRAW!$D$31","v":0}]
[]
[{"$f":"DRAW!$E$32","v":0},{"$nulls":10},"Sk",null,{"$f":"DRAW!$E$31","v":0}]
[]
[null,null,"First Set",{"$nulls":10},"Second Set"]
[null,null,{"$f":"DRAW!$E$32","v":0},{"$nulls":3},{"$f":"DRAW!$E$31","v":0},{"$nulls":6},{"$f":"DRAW!$E$32","v":0},{"$nulls":3},{"$f":"DRAW!$E$31","v":0}]
["End",null,"Shots",null,"Total",null,"Shots",null,"Total",{"$nulls":4},"Shots",null,"Total",null,"Shots",null,"Total"]
[1]
[2]
[3]
[4]
[5,{"$nulls":10},2,{"$nulls":10},1]
["Points",{"$nulls":3},"Tie Break",{"$nulls":14},"Points"]
[{"$nulls":4},"End",null,"Shots",{"$nulls":8},"Shots"]
[{"$nulls":4},1]
[{"$nulls":3},"TEAM No.",{"$nulls":5},"Time",{"$nulls":7},"TEAM No."]
["Sign",null,null,{"$f":"DRAW!$C$32","v":0},{"$nulls":5},"Completed",{"$nulls":5},"Sign",null,{"$f":"DRAW!$C$31","v":0}]
["i",{"$nulls":14},"i"]
[{"$f":"Entries!$A$1","v":"2018 District 5 - Mixed Pairs"}]
["R O U N D  1"]
[null,null,"RINK",{"$nulls":5},"DATE"]
[null,null,{"$f":"DRAW!$F$33","v":0}]
[]
[{"$f":"DRAW!$D$33","v":0},{"$nulls":10},"L",null,{"$f":"DRAW!$D$34","v":0}]
[]
[{"$f":"DRAW!$E$33","v":0},{"$nulls":10},"Sk",null,{"$f":"DRAW!$E$34","v":0}]
[]
[null,null,"First Set",{"$nulls":10},"Second Set"]
[null,null,{"$f":"DRAW!$E$33","v":0},{"$nulls":3},{"$f":"DRAW!$E$34","v":0},{"$nulls":6},{"$f":"DRAW!$E$33","v":0},{"$nulls":3},{"$f":"DRAW!$E$34","v":0}]
["End",null,"Shots",null,"Total",null,"Shots",null,"Total",{"$nulls":4},"Shots",null,"Total",null,"Shots",null,"Total"]
[1]
[2]
[3]
[4]
[5,{"$nulls":10},1,{"$nulls":10},1]
["Points",{"$nulls":3},"Tie Break",{"$nulls":14},"Points"]
[{"$nulls":4},"End",null,"Shots",{"$nulls":8},"Shots"]
[{"$nulls":4},1]
[{"$nulls":3},"TEAM No.",{"$nulls":5},"Time",{"$nulls":7},"TEAM No."]
["Sign",null,null,{"$f":"DRAW!$C$33","v":0},{"$nulls":5},"Completed",{"$nulls":5},"Sign",null,{"$f":"DRAW!$C$34","v":0}]
["i",{"$nulls":14},"i"]
[{"$f":"Entries!$A$1","v":"2018 District 5 - Mixed Pairs"}]
["R O U N D  1"]
[null,null,"RINK",{"$nulls":5},"DATE"]
[null,null,{"$f":"DRAW!$F$33","v":0}]
[]
[{"$f":"DRAW!$D$34","v":0},{"$nulls":10},"L",null,{"$f":"DRAW!$D$33","v":0}]
[]
[{"$f":"DRAW!$E$34","v":0},{"$nulls":10},"Sk",null,{"$f":"DRAW!$E$33","v":0}]
[]
[null,null,"First Set",{"$nulls":10},"Second Set"]
[null,null,{"$f":"DRAW!$E$34","v":0},{"$nulls":3},{"$f":"DRAW!$E$33","v":0},{"$nulls":6},{"$f":"DRAW!$E$34","v":0},{"$nulls":3},{"$f":"DRAW!$E$33","v":0}]
["End",null,"Shots",null,"Total",null,"Shots",null,"Total",{"$nulls":4},"Shots",null,"Total",null,"Shots",null,"Total"]
[1]
[2]
[3]
[4]
[5,{"$nulls":10},2,{"$nulls":10},1]
["Points",{"$nulls":3},"Tie Break",{"$nulls":14},"Points"]
[{"$nulls":4},"End",null,"Shots",{"$nulls":8},"Shots"]
[{"$nulls":4},1]
[{"$nulls":3},"TEAM No.",{"$nulls":5},"Time",{"$nulls":7},"TEAM No."]
["Sign",null,null,{"$f":"DRAW!$C$34","v":0},{"$nulls":5},"Completed",{"$nulls":5},"Sign",null,{"$f":"DRAW!$C$33","v":0}]
["i",{"$nulls":14},"i"]
[{"$f":"Entries!$A$1","v":"2018 District 5 - Mixed Pairs"}]
["R O U N D  1"]
[null,null,"RINK",{"$nulls":5},"DATE"]
[null,null,{"$f":"DRAW!$F$35","v":0}]
[]
[{"$f":"DRAW!$D$35","v":0},{"$nulls":10},"L",null,{"$f":"DRAW!$D$36","v":0}]
[]
[{"$f":"DRAW!$E$35","v":0},{"$nulls":10},"Sk",null,{"$f":"DRAW!$E$36","v":0}]
[]
[null,null,"First Set",{"$nulls":10},"Second Set"]
[null,null,{"$f":"DRAW!$E$35","v":0},{"$nulls":3},{"$f":"DRAW!$E$36","v":0},{"$nulls":6},{"$f":"DRAW!$E$35","v":0},{"$nulls":3},{"$f":"DRAW!$E$36","v":0}]
["End",null,"Shots",null,"Total",null,"Shots",null,"Total",{"$nulls":4},"Shots",null,"Total",null,"Shots",null,"Total"]
[1]
[2]
[3]
[4]
[5,{"$nulls":10},1,{"$nulls":10},1]
["Points",{"$nulls":3},"Tie Break",{"$nulls":14},"Points"]
[{"$nulls":4},"End",null,"Shots",{"$nulls":8},"Shots"]
[{"$nulls":4},1]
[{"$nulls":3},"TEAM No.",{"$nulls":5},"Time",{"$nulls":7},"TEAM No."]
["Sign",null,null,{"$f":"DRAW!$C$35","v":0},{"$nulls":5},"Completed",{"$nulls":5},"Sign",null,{"$f":"DRAW!$C$36","v":0}]
["i",{"$nulls":14},"i"]
[{"$f":"Entries!$A$1","v":"2018 District 5 - Mixed Pairs"}]
["R O U N D  1"]
[null,null,"RINK",{"$nulls":5},"DATE"]
[null,null,{"$f":"DRAW!$F$35","v":0}]
[]
[{"$f":"DRAW!$D$36","v":0},{"$nulls":10},"L",null,{"$f":"DRAW!$D$35","v":0}]
[]
[{"$f":"DRAW!$E$36","v":0},{"$nulls":10},"Sk",null,{"$f":"DRAW!$E$35","v":0}]
[]
[null,null,"First Set",{"$nulls":10},"Second Set"]
[null,null,{"$f":"DRAW!$E$36","v":0},{"$nulls":3},{"$f":"DRAW!$E$35","v":0},{"$nulls":6},{"$f":"DRAW!$E$36","v":0},{"$nulls":3},{"$f":"DRAW!$E$35","v":0}]
["End",null,"Shots",null,"Total",null,"Shots",null,"Total",{"$nulls":4},"Shots",null,"Total",null,"Shots",null,"Total"]
[1]
[2]
[3]
[4]
[5,{"$nulls":10},2,{"$nulls":10},1]
["Points",{"$nulls":3},"Tie Break",{"$nulls":14},"Points"]
[{"$nulls":4},"End",null,"Shots",{"$nulls":8},"Shots"]
[{"$nulls":4},1]
[{"$nulls":3},"TEAM No.",{"$nulls":5},"Time",{"$nulls":7},"TEAM No."]
["Sign",null,null,{"$f":"DRAW!$C$36","v":0},{"$nulls":5},"Completed",{"$nulls":5},"Sign",null,{"$f":"DRAW!$C$35","v":0}]
["i",{"$nulls":14},"i"]
[{"$f":"Entries!$A$1","v":"2018 District 5 - Mixed Pairs"}]
["R O U N D  1"]
[null,null,"RINK",{"$nulls":5},"DATE"]
[null,null,{"$f":"DRAW!$F$37","v":0}]
[]
[{"$f":"DRAW!$D$37","v":0},{"$nulls":10},"L",null,{"$f":"DRAW!$D$38","v":0}]
[]
[{"$f":"DRAW!$E$37","v":0},{"$nulls":10},"Sk",null,{"$f":"DRAW!$E$38","v":0}]
[]
[null,null,"First Set",{"$nulls":10},"Second Set"]
[null,null,{"$f":"DRAW!$E$37","v":0},{"$nulls":3},{"$f":"DRAW!$E$38","v":0},{"$nulls":6},{"$f":"DRAW!$E$37","v":0},{"$nulls":3},{"$f":"DRAW!$E$38","v":0}]
["End",null,"Shots",null,"Total",null,"Shots",null,"Total",{"$nulls":4},"Shots",null,"Total",null,"Shots",null,"Total"]
[1]
[2]
[3]
[4]
[5,{"$nulls":10},1,{"$nulls":10},1]
["Points",{"$nulls":3},"Tie Break",{"$nulls":14},"Points"]
[{"$nulls":4},"End",null,"Shots",{"$nulls":8},"Shots"]
[{"$nulls":4},1]
[{"$nulls":3},"TEAM No.",{"$nulls":5},"Time",{"$nulls":7},"TEAM No."]
["Sign",null,null,{"$f":"DRAW!$C$37","v":0},{"$nulls":5},"Completed",{"$nulls":5},"Sign",null,{"$f":"DRAW!$C$38","v":0}]
["i",{"$nulls":14},"i"]
[{"$f":"Entries!$A$1","v":"2018 District 5 - Mixed Pairs"}]
["R O U N D  1"]
[null,null,"RINK",{"$nulls":5},"DATE"]
[null,null,{"$f":"DRAW!$F$37","v":0}]
[]
[{"$f":"DRAW!$D$38","v":0},{"$nulls":10},"L",null,{"$f":"DRAW!$D$37","v":0}]
[]
[{"$f":"DRAW!$E$38","v":0},{"$nulls":10},"Sk",null,{"$f":"DRAW!$E$37","v":0}]
[]
[null,null,"First Set",{"$nulls":10},"Second Set"]
[null,null,{"$f":"DRAW!$E$38","v":0},{"$nulls":3},{"$f":"DRAW!$E$37","v":0},{"$nulls":6},{"$f":"DRAW!$E$38","v":0},{"$nulls":3},{"$f":"DRAW!$E$37","v":0}]
["End",null,"Shots",null,"Total",null,"Shots",null,"Total",{"$nulls":4},"Shots",null,"Total",null,"Shots",null,"Total"]
[1]
[2]
[3]
[4]
[5,{"$nulls":10},2,{"$nulls":10},1]
["Points",{"$nulls":3},"Tie Break",{"$nulls":14},"Points"]
[{"$nulls":4},"End",null,"Shots",{"$nulls":8},"Shots"]
[{"$nulls":4},1]
[{"$nulls":3},"TEAM No.",{"$nulls":5},"Time",{"$nulls":7},"TEAM No."]
["Sign",null,null,{"$f":"DRAW!$C$38","v":0},{"$nulls":5},"Completed",{"$nulls":5},"Sign",null,{"$f":"DRAW!$C$37","v":0}]
["i",{"$nulls":14},"i"]
[{"$f":"Entries!$A$1","v":"2018 District 5 - Mixed Pairs"}]
["R O U N D  1"]
[null,null,"RINK",{"$nulls":5},"DATE"]
[null,null,{"$f":"DRAW!$F$39","v":0}]
[]
[{"$f":"DRAW!$D$39","v":0},{"$nulls":10},"L",null,{"$f":"DRAW!$D$40","v":0}]
[]
[{"$f":"DRAW!$E$39","v":0},{"$nulls":10},"Sk",null,{"$f":"DRAW!$E$40","v":0}]
[]
[null,null,"First Set",{"$nulls":10},"Second Set"]
[null,null,{"$f":"DRAW!$E$39","v":0},{"$nulls":3},{"$f":"DRAW!$E$40","v":0},{"$nulls":6},{"$f":"DRAW!$E$39","v":0},{"$nulls":3},{"$f":"DRAW!$E$40","v":0}]
["End",null,"Shots",null,"Total",null,"Shots",null,"Total",{"$nulls":4},"Shots",null,"Total",null,"Shots",null,"Total"]
[1]
[2]
[3]
[4]
[5,{"$nulls":10},1,{"$nulls":10},1]
["Points",{"$nulls":3},"Tie Break",{"$nulls":14},"Points"]
[{"$nulls":4},"End",null,"Shots",{"$nulls":8},"Shots"]
[{"$nulls":4},1]
[{"$nulls":3},"TEAM No.",{"$nulls":5},"Time",{"$nulls":7},"TEAM No."]
["Sign",null,null,{"$f":"DRAW!$C$39","v":0},{"$nulls":5},"Completed",{"$nulls":5},"Sign",null,{"$f":"DRAW!$C$40","v":0}]
["i",{"$nulls":14},"i"]
[{"$f":"Entries!$A$1","v":"2018 District 5 - Mixed Pairs"}]
["R O U N D  1"]
[null,null,"RINK",{"$nulls":5},"DATE"]
[null,null,{"$f":"DRAW!$F$39","v":0}]
[]
[{"$f":"DRAW!$D$40","v":0},{"$nulls":10},"L",null,{"$f":"DRAW!$D$39","v":0}]
[]
[{"$f":"DRAW!$E$40","v":0},{"$nulls":10},"Sk",null,{"$f":"DRAW!$E$39","v":0}]
[]
[null,null,"First Set",{"$nulls":10},"Second Set"]
[null,null,{"$f":"DRAW!$E$40","v":0},{"$nulls":3},{"$f":"DRAW!$E$39","v":0},{"$nulls":6},{"$f":"DRAW!$E$40","v":0},{"$nulls":3},{"$f":"DRAW!$E$39","v":0}]
["End",null,"Shots",null,"Total",null,"Shots",null,"Total",{"$nulls":4},"Shots",null,"Total",null,"Shots",null,"Total"]
[1]
[2]
[3]
[4]
[5,{"$nulls":10},2,{"$nulls":10},1]
["Points",{"$nulls":3},"Tie Break",{"$nulls":14},"Points"]
[{"$nulls":4},"End",null,"Shots",{"$nulls":8},"Shots"]
[{"$nulls":4},1]
[{"$nulls":3},"TEAM No.",{"$nulls":5},"Time",{"$nulls":7},"TEAM No."]
["Sign",null,null,{"$f":"DRAW!$C$40","v":0},{"$nulls":5},"Completed",{"$nulls":5},"Sign",null,{"$f":"DRAW!$C$39","v":0}]
["i",{"$nulls":14},"i"]
[{"$f":"Entries!$A$1","v":"2018 District 5 - Mixed Pairs"}]
["R O U N D  1"]
[null,null,"RINK",{"$nulls":5},"DATE"]
[null,null,{"$f":"DRAW!$F$41","v":0}]
[]
[{"$f":"DRAW!$D$41","v":0},{"$nulls":10},"L",null,{"$f":"DRAW!$D$42","v":0}]
[]
[{"$f":"DRAW!$E$41","v":0},{"$nulls":10},"Sk",null,{"$f":"DRAW!$E$42","v":0}]
[]
[null,null,"First Set",{"$nulls":10},"Second Set"]
[null,null,{"$f":"DRAW!$E$41","v":0},{"$nulls":3},{"$f":"DRAW!$E$42","v":0},{"$nulls":6},{"$f":"DRAW!$E$41","v":0},{"$nulls":3},{"$f":"DRAW!$E$42","v":0}]
["End",null,"Shots",null,"Total",null,"Shots",null,"Total",{"$nulls":4},"Shots",null,"Total",null,"Shots",null,"Total"]
[1]
[2]
[3]
[4]
[5,{"$nulls":10},1,{"$nulls":10},1]
["Points",{"$nulls":3},"Tie Break",{"$nulls":14},"Points"]
[{"$nulls":4},"End",null,"Shots",{"$nulls":8},"Shots"]
[{"$nulls":4},1]
[{"$nulls":3},"TEAM No.",{"$nulls":5},"Time",{"$nulls":7},"TEAM No."]
["Sign",null,null,{"$f":"DRAW!$C$41","v":0},{"$nulls":5},"Completed",{"$nulls":5},"Sign",null,{"$f":"DRAW!$C$42","v":0}]
["i",{"$nulls":14},"i"]
[{"$f":"Entries!$A$1","v":"2018 District 5 - Mixed Pairs"}]
["R O U N D  1"]
[null,null,"RINK",{"$nulls":5},"DATE"]
[null,null,{"$f":"DRAW!$F$41","v":0}]
[]
[{"$f":"DRAW!$D$42","v":0},{"$nulls":10},"L",null,{"$f":"DRAW!$D$41","v":0}]
[]
[{"$f":"DRAW!$E$42","v":0},{"$nulls":10},"Sk",null,{"$f":"DRAW!$E$41","v":0}]
[]
[null,null,"First Set",{"$nulls":10},"Second Set"]
[null,null,{"$f":"DRAW!$E$42","v":0},{"$nulls":3},{"$f":"DRAW!$E$41","v":0},{"$nulls":6},{"$f":"DRAW!$E$42","v":0},{"$nulls":3},{"$f":"DRAW!$E$41","v":0}]
["End",null,"Shots",null,"Total",null,"Shots",null,"Total",{"$nulls":4},"Shots",null,"Total",null,"Shots",null,"Total"]
[1]
[2]
[3]
[4]
[5,{"$nulls":10},2,{"$nulls":10},1]
["Points",{"$nulls":3},"Tie Break",{"$nulls":14},"Points"]
[{"$nulls":4},"End",null,"Shots",{"$nulls":8},"Shots"]
[{"$nulls":4},1]
[{"$nulls":3},"TEAM No.",{"$nulls":5},"Time",{"$nulls":7},"TEAM No."]
["Sign",null,null,{"$f":"DRAW!$C$42","v":0},{"$nulls":5},"Completed",{"$nulls":5},"Sign",null,{"$f":"DRAW!$C$41","v":0}]
["i",{"$nulls":14},"i"]
[{"$f":"Entries!$A$1","v":"2018 District 5 - Mixed Pairs"}]
["R O U N D  1"]
[null,null,"RINK",{"$nulls":5},"DATE"]
[null,null,{"$f":"DRAW!$F$43","v":0}]
[]
[{"$f":"DRAW!$D$43","v":0},{"$nulls":10},"L",null,{"$f":"DRAW!$D$44","v":0}]
[]
[{"$f":"DRAW!$E$43","v":0},{"$nulls":10},"Sk",null,{"$f":"DRAW!$E$44","v":0}]
[]
[null,null,"First Set",{"$nulls":10},"Second Set"]
[null,null,{"$f":"DRAW!$E$43","v":0},{"$nulls":3},{"$f":"DRAW!$E$44","v":0},{"$nulls":6},{"$f":"DRAW!$E$43","v":0},{"$nulls":3},{"$f":"DRAW!$E$44","v":0}]
["End",null,"Shots",null,"Total",null,"Shots",null,"Total",{"$nulls":4},"Shots",null,"Total",null,"Shots",null,"Total"]
[1]
[2]
[3]
[4]
[5,{"$nulls":10},1,{"$nulls":10},1]
["Points",{"$nulls":3},"Tie Break",{"$nulls":14},"Points"]
[{"$nulls":4},"End",null,"Shots",{"$nulls":8},"Shots"]
[{"$nulls":4},1]
[{"$nulls":3},"TEAM No.",{"$nulls":5},"Time",{"$nulls":7},"TEAM No."]
["Sign",null,null,{"$f":"DRAW!$C$43","v":0},{"$nulls":5},"Completed",{"$nulls":5},"Sign",null,{"$f":"DRAW!$C$44","v":0}]
["i",{"$nulls":14},"i"]
[{"$f":"Entries!$A$1","v":"2018 District 5 - Mixed Pairs"}]
["R O U N D  1"]
[null,null,"RINK",{"$nulls":5},"DATE"]
[null,null,{"$f":"DRAW!$F$43","v":0}]
[]
[{"$f":"DRAW!$D$44","v":0},{"$nulls":10},"L",null,{"$f":"DRAW!$D$43","v":0}]
[]
[{"$f":"DRAW!$E$44","v":0},{"$nulls":10},"Sk",null,{"$f":"DRAW!$E$43","v":0}]
[]
[null,null,"First Set",{"$nulls":10},"Second Set"]
[null,null,{"$f":"DRAW!$E$44","v":0},{"$nulls":3},{"$f":"DRAW!$E$43","v":0},{"$nulls":6},{"$f":"DRAW!$E$44","v":0},{"$nulls":3},{"$f":"DRAW!$E$43","v":0}]
["End",null,"Shots",null,"Total",null,"Shots",null,"Total",{"$nulls":4},"Shots",null,"Total",null,"Shots",null,"Total"]
[1]
[2]
[3]
[4]
[5,{"$nulls":10},2,{"$nulls":10},1]
["Points",{"$nulls":3},"Tie Break",{"$nulls":14},"Points"]
[{"$nulls":4},"End",null,"Shots",{"$nulls":8},"Shots"]
[{"$nulls":4},1]
[{"$nulls":3},"TEAM No.",{"$nulls":5},"Time",{"$nulls":7},"TEAM No."]
["Sign",null,null,{"$f":"DRAW!$C$44","v":0},{"$nulls":5},"Completed",{"$nulls":5},"Sign",null,{"$f":"DRAW!$C$43","v":0}]
["i",{"$nulls":14},"i"]

{"sheet":"Fins 32 29 cds","index":38,"n_rows":920,"n_cols":23,"rows_kept":920,"hidden":true,"merged":[[0,0,0,23],[1,0,1,23],[2,2,2,6],[2,8,2,23],[3,2,3,6],[3,8,3,23],[5,0,5,10],[5,11,5,12],[5,13,5,23],[7,0,7,10],[7,11,7,12],[7,13,7,23],[9,2,9,10],[9,13,9,21],[10,2,10,5],[10,6,10,10],[10,13,10,16],[10,17,10,21],[11,0,11,1],[11,2,11,3],[11,4,11,5],[11,6,11,7],[11,8,11,10],[11,13,11,14],[11,15,11,16],[11,17,11,18],[11,19,11,21],[12,0,12,1],[12,2,12,3],[12,4,12,5],[12,6,12,7],[12,8,12,10],[12,13,12,14],[12,15,12,16],[12,17,12,18],[12,19,12,21],[13,0,13,1],[13,2,13,3],[13,4,13,5],[13,6,13,7],[13,8,13,10],[13,13,13,14],[13,15,13,16],[13,17,13,18],[13,19,13,21],[14,0,14,1],[14,2,14,3],[14,4,14,5],[14,6,14,7],[14,8,14,10],[14,13,14,14],[14,15,14,16],[14,17,14,18],[14,19,14,21],[15,0,15,1],[15,2,15,3],[15,4,15,5],[15,6,15,7],[15,8,15,10],[15,13,15,14],[15,15,15,16],[15,17,15,18],[15,19,15,21],[16,0,16,1],[16,2,16,3],[16,4,16,5],[16,6,16,7],[16,8,16,10],[16,11,16,12],[16,13,16,14],[16,15,16,16],[16,17,16,18],[16,19,16,21],[16,22,16,23],[17,0,17,2],[17,4,17,18],[17,19,17,23],[18,0,19,2],[18,4,18,5],[18,6,18,8],[18,15,18,17],[18,19,19,23],[19,4,19,5],[19,6,19,8],[20,3,20,6],[20,9,20,14],[20,17,20,21],[21,0,21,1],[21,3,22,6],[21,9,21,14],[21,15,21,16],[21,17,22,21],[22,0,22,1],[22,15,22,16],[23,0,23,23],[24,0,24,23],[25,2,25,6],[25,8,25,23],[26,2,26,6],[26,8,26,23],[28,0,28,10],[28,11,28,12],[28,13,28,23],[30,0,30,10],[30,11,30,12],[30,13,30,23],[32,2,32,10],[32,13,32,21],[33,2,33,5],[33,6,33,10],[33,13,33,16],[33,17,33,21],[34,0,34,1],[34,2,34,3],[34,4,34,5],[34,6,34,7],[34,8,34,10],[34,13,34,14],[34,15,34,16],[34,17,34,18],[34,19,34,21],[35,0,35,1],[35,2,35,3],[35,4,35,5],[35,6,35,7],[35,8,35,10],[35,13,35,14],[35,15,35,16],[35,17,35,18],[35,19,35,21],[36,0,36,1],[36,2,36,3],[36,4,36,5],[36,6,36,7],[36,8,36,10],[36,13,36,14],[36,15,36,16],[36,17,36,18],[36,19,36,21],[37,0,37,1],[37,2,37,3],[37,4,37,5],[37,6,37,7],[37,8,37,10],[37,13,37,14],[37,15,37,16],[37,17,37,18],[37,19,37,21],[38,0,38,1],[38,2,38,3],[38,4,38,5],[38,6,38,7],[38,8,38,10],[38,13,38,14],[38,15,38,16],[38,17,38,18],[38,19,38,21],[39,0,39,1],[39,2,39,3],[39,4,39,5],[39,6,39,7],[39,8,39,10],[39,11,39,12],[39,13,39,14],[39,15,39,16],[39,17,39,18],[39,19,39,21],[39,22,39,23],[40,0,40,2],[40,4,40,18],[40,19,40,23],[41,4,41,5],[41,6,41,8],[41,15,41,17],[41,19,42,23],[42,4,42,5],[42,6,42,8],[43,3,43,6],[43,9,43,14],[43,17,43,21],[44,0,44,1],[44,3,45,6],[44,9,44,14],[44,15,44,16],[44,17,45,21],[45,0,45,1],[45,15,45,16],[46,0,46,23],[47,0,47,23],[48,2,48,6],[48,8,48,23],[49,2,49,6],[49,8,49,23],[51,0,51,10],[51,11,51,12],[51,13,51,23],[53,0,53,10],[53,11,53,12],[53,13,53,23],[55,2,55,10],[55,13,55,21],[56,2,56,5],[56,6,56,10],[56,13,56,16],[56,17,56,21],[57,0,57,1],[57,2,57,3],[57,4,57,5],[57,6,57,7],[57,8,57,10],[57,13,57,14],[57,15,57,16],[57,17,57,18],[57,19,57,21],[58,0,58,1],[58,2,58,3],[58,4,58,5],[58,6,58,7],[58,8,58,10],[58,13,58,14],[58,15,58,16],[58,17,58,18],[58,19,58,21],[59,0,59,1],[59,2,59,3],[59,4,59,5],[59,6,59,7],[59,8,59,10],[59,13,59,14],[59,15,59,16],[59,17,59,18],[59,19,59,21],[60,0,60,1],[60,2,60,3],[60,4,60,5],[60,6,60,7],[60,8,60,10],[60,13,60,14],[60,15,60,16],[60,17,60,18],[60,19,60,21],[61,0,61,1],[61,2,61,3],[61,4,61,5],[61,6,61,7],[61,8,61,10],[61,13,61,14],[61,15,61,16],[61,17,61,18],[61,19,61,21],[62,0,62,1],[62,2,62,3],[62,4,62,5],[62,6,62,7],[62,8,62,10],[62,11,62,12],[62,13,62,14],[62,15,62,16],[62,17,62,18],[62,19,62,21],[62,22,62,23],[63,0,63,2],[63,4,63,18],[63,19,63,23],[64,4,64,5],[64,6,64,8],[64,15,64,17],[64,19,65,23],[65,4,65,5],[65,6,65,8],[66,3,66,6],[66,9,66,14],[66,17,66,21],[67,0,67,1],[67,3,68,6],[67,9,67,14],[67,15,67,16],[67,17,68,21],[68,0,68,1],[68,15,68,16],[69,0,69,23],[70,0,70,23],[71,2,71,6],[71,8,71,23],[72,2,72,6],[72,8,72,23],[74,0,74,10],[74,11,74,12],[74,13,74,23],[76,0,76,10],[76,11,76,12],[76,13,76,23],[78,2,78,10],[78,13,78,21],[79,2,79,5],[79,6,79,10],[79,13,79,16],[79,17,79,21],[80,0,80,1],[80,2,80,3],[80,4,80,5],[80,6,80,7],[80,8,80,10],[80,13,80,14],[80,15,80,16],[80,17,80,18],[80,19,80,21],[81,0,81,1],[81,2,81,3],[81,4,81,5],[81,6,81,7],[81,8,81,10],[81,13,81,14],[81,15,81,16],[81,17,81,18],[81,19,81,21],[82,0,82,1],[82,2,82,3],[82,4,82,5],[82,6,82,7],[82,8,82,10],[82,13,82,14],[82,15,82,16],[82,17,82,18],[82,19,82,21],[83,0,83,1],[83,2,83,3],[83,4,83,5],[83,6,83,7],[83,8,83,10],[83,13,83,14],[83,15,83,16],[83,17,83,18],[83,19,83,21],[84,0,84,1],[84,2,84,3],[84,4,84,5],[84,6,84,7],[84,8,84,10],[84,13,84,14],[84,15,84,16],[84,17,84,18],[84,19,84,21],[85,0,85,1],[85,2,85,3],[85,4,85,5],[85,6,85,7],[85,8,85,10],[85,11,85,12],[85,13,85,14],[85,15,85,16],[85,17,85,18],[85,19,85,21],[85,22,85,23],[86,0,86,2],[86,4,86,18],[86,19,86,23],[87,4,87,5],[87,6,87,8],[87,15,87,17],[87,19,88,23],[88,4,88,5],[88,6,88,8],[89,3,89,6],[89,9,89,14],[89,17,89,21],[90,0,90,1],[90,3,91,6],[90,9,90,14],[90,15,90,16],[90,17,91,21],[91,0,91,1],[91,15,91,16],[92,0,92,23],[93,0,93,23],[94,2,94,6],[94,8,94,23],[95,2,95,6],[95,8,95,23],[97,0,97,10],[97,11,97,12],[97,13,97,23],[99,0,99,10],[99,11,99,12],[99,13,99,23],[101,2,101,10],[101,13,101,21],[102,2,102,5],[102,6,102,10],[102,13,102,16],[102,17,102,21],[103,0,103,1],[103,2,103,3],[103,4,103,5],[103,6,103,7],[103,8,103,10],[103,13,103,14],[103,15,103,16],[103,17,103,18],[103,19,103,21],[104,0,104,1],[104,2,104,3],[104,4,104,5],[104,6,104,7],[104,8,104,10],[104,13,104,14],[104,15,104,16],[104,17,104,18],[104,19,104,21],[105,0,105,1],[105,2,105,3],[105,4,105,5],[105,6,105,7],[105,8,105,10],[105,13,105,14],[105,15,105,16],[105,17,105,18],[105,19,105,21],[106,0,106,1],[106,2,106,3],[106,4,106,5],[106,6,106,7],[106,8,106,10],[106,13,106,14],[106,15,106,16],[106,17,106,18],[106,19,106,21],[107,0,107,1],[107,2,107,3],[107,4,107,5],[107,6,107,7],[107,8,107,10],[107,13,107,14],[107,15,107,16],[107,17,107,18],[107,19,107,21],[108,0,108,1],[108,2,108,3],[108,4,108,5],[108,6,108,7],[108,8,108,10],[108,11,108,12],[108,13,108,14],[108,15,108,16],[108,17,108,18],[108,19,108,21],[108,22,108,23],[109,0,109,2],[109,4,109,18],[109,19,109,23],[110,0,111,2],[110,4,110,5],[110,6,110,8],[110,15,110,17],[110,19,111,23],[111,4,111,5],[111,6,111,8],[112,3,112,6],[112,9,112,14],[112,17,112,21],[113,0,113,1],[113,3,114,6],[113,9,113,14],[113,15,113,16],[113,17,114,21],[114,0,114,1],[114,15,114,16],[115,0,115,23],[116,0,116,23],[117,2,117,6],[117,8,117,23],[118,2,118,6],[118,8,118,23],[120,0,120,10],[120,11,120,12],[120,13,120,23],[122,0,122,10],[122,11,122,12],[122,13,122,23],[124,2,124,10],[124,13,124,21],[125,2,125,5],[125,6,125,10],[125,13,125,16],[125,17,125,21],[126,0,126,1],[126,2,126,3],[126,4,126,5],[126,6,126,7],[126,8,126,10],[126,13,126,14],[126,15,126,16],[126,17,126,18],[126,19,126,21],[127,0,127,1],[127,2,127,3],[127,4,127,5],[127,6,127,7],[127,8,127,10],[127,13,127,14],[127,15,127,16],[127,17,127,18],[127,19,127,21],[128,0,128,1],[128,2,128,3],[128,4,128,5],[128,6,128,7],[128,8,128,10],[128,13,128,14],[128,15,128,16],[128,17,128,18],[128,19,128,21],[129,0,129,1],[129,2,129,3],[129,4,129,5],[129,6,129,7],[129,8,129,10],[129,13,129,14],[129,15,129,16],[129,17,129,18],[129,19,129,21],[130,0,130,1],[130,2,130,3],[130,4,130,5],[130,6,130,7],[130,8,130,10],[130,13,130,14],[130,15,130,16],[130,17,130,18],[130,19,130,21],[131,0,131,1],[131,2,131,3],[131,4,131,5],[131,6,131,7],[131,8,131,10],[131,11,131,12],[131,13,131,14],[131,15,131,16],[131,17,131,18],[131,19,131,21],[131,22,131,23],[132,0,132,2],[132,4,132,18],[132,19,132,23],[133,0,134,2],[133,4,133,5],[133,6,133,8],[133,15,133,17],[133,19,134,23],[134,4,134,5],[134,6,134,8],[135,3,135,6],[135,9,135,14],[135,17,135,21],[136,0,136,1],[136,3,137,6],[136,9,136,14],[136,15,136,16],[136,17,137,21],[137,0,137,1],[137,15,137,16],[138,0,138,23],[139,0,139,23],[140,2,140,6],[140,8,140,23],[141,2,141,6],[141,8,141,23],[143,0,143,10],[143,11,143,12],[143,13,143,23],[145,0,145,10],[145,11,145,12],[145,13,145,23],[147,2,147,10],[147,13,147,21],[148,2,148,5],[148,6,148,10],[148,13,148,16],[148,17,148,21],[149,0,149,1],[149,2,149,3],[149,4,149,5],[149,6,149,7],[149,8,149,10],[149,13,149,14],[149,15,149,16],[149,17,149,18],[149,19,149,21],[150,0,150,1],[150,2,150,3],[150,4,150,5],[150,6,150,7],[150,8,150,10],[150,13,150,14],[150,15,150,16],[150,17,150,18],[150,19,150,21],[151,0,151,1],[151,2,151,3],[151,4,151,5],[151,6,151,7],[151,8,151,10],[151,13,151,14],[151,15,151,16],[151,17,151,18],[151,19,151,21],[152,0,152,1],[152,2,152,3],[152,4,152,5],[152,6,152,7],[152,8,152,10],[152,13,152,14],[152,15,152,16],[152,17,152,18],[152,19,152,21],[153,0,153,1],[153,2,153,3],[153,4,153,5],[153,6,153,7],[153,8,153,10],[153,13,153,14],[153,15,153,16],[153,17,153,18],[153,19,153,21],[154,0,154,1],[154,2,154,3],[154,4,154,5],[154,6,154,7],[154,8,154,10],[154,11,154,12],[154,13,154,14],[154,15,154,16],[154,17,154,18],[154,19,154,21],[154,22,154,23],[155,0,155,2],[155,4,155,18],[155,19,155,23],[156,0,157,2],[156,4,156,5],[156,6,156,8],[156,15,156,17],[156,19,157,23],[157,4,157,5],[157,6,157,8],[158,3,158,6],[158,9,158,14],[158,17,158,21],[159,0,159,1],[159,3,160,6],[159,9,159,14],[159,15,159,16],[159,17,160,21],[160,0,160,1],[160,15,160,16],[161,0,161,23],[162,0,162,23],[163,2,163,6],[163,8,163,23],[164,2,164,6],[164,8,164,23],[166,0,166,10],[166,11,166,12],[166,13,166,23],[168,0,168,10],[168,11,168,12],[168,13,168,23],[170,2,170,10],[170,13,170,21],[171,2,171,5],[171,6,171,10],[171,13,171,16],[171,17,171,21],[172,0,172,1],[172,2,172,3],[172,4,172,5],[172,6,172,7],[172,8,172,10],[172,13,172,14],[172,15,172,16],[172,17,172,18],[172,19,172,21],[173,0,173,1],[173,2,173,3],[173,4,173,5],[173,6,173,7],[173,8,173,10],[173,13,173,14],[173,15,173,16],[173,17,173,18],[173,19,173,21],[174,0,174,1],[174,2,174,3],[174,4,174,5],[174,6,174,7],[174,8,174,10],[174,13,174,14],[174,15,174,16],[174,17,174,18],[174,19,174,21],[175,0,175,1],[175,2,175,3],[175,4,175,5],[175,6,175,7],[175,8,175,10],[175,13,175,14],[175,15,175,16],[175,17,175,18],[175,19,175,21],[176,0,176,1],[176,2,176,3],[176,4,176,5],[176,6,176,7],[176,8,176,10],[176,13,176,14],[176,15,176,16],[176,17,176,18],[176,19,176,21],[177,0,177,1],[177,2,177,3],[177,4,177,5],[177,6,177,7],[177,8,177,10],[177,11,177,12],[177,13,177,14],[177,15,177,16],[177,17,177,18],[177,19,177,21],[177,22,177,23],[178,0,178,2],[178,4,178,18],[178,19,178,23],[179,0,180,2],[179,4,179,5],[179,6,179,8],[179,15,179,17],[179,19,180,23],[180,4,180,5],[180,6,180,8],[181,3,181,6],[181,9,181,14],[181,17,181,21],[182,0,182,1],[182,3,183,6],[182,9,182,14],[182,15,182,16],[182,17,183,21],[183,0,183,1],[183,15,183,16],[184,0,184,23],[185,0,185,23],[186,2,186,6],[186,8,186,23],[187,2,187,6],[187,8,187,23],[189,0,189,10],[189,11,189,12],[189,13,189,23],[191,0,191,10],[191,11,191,12],[191,13,191,23],[193,2,193,10],[193,13,193,21],[194,2,194,5],[194,6,194,10],[194,13,194,16],[194,17,194,21],[195,0,195,1],[195,2,195,3],[195,4,195,5],[195,6,195,7],[195,8,195,10],[195,13,195,14],[195,15,195,16],[195,17,195,18],[195,19,195,21],[196,0,196,1],[196,2,196,3],[196,4,196,5],[196,6,196,7],[196,8,196,10],[196,13,196,14],[196,15,196,16],[196,17,196,18],[196,19,196,21],[197,0,197,1],[197,2,197,3],[197,4,197,5],[197,6,197,7],[197,8,197,10],[197,13,197,14],[197,15,197,16],[197,17,197,18],[197,19,197,21],[198,0,198,1],[198,2,198,3],[198,4,198,5],[198,6,198,7],[198,8,198,10],[198,13,198,14],[198,15,198,16],[198,17,198,18],[198,19,198,21],[199,0,199,1],[199,2,199,3],[199,4,199,5],[199,6,199,7],[199,8,199,10],[199,13,199,14],[199,15,199,16],[199,17,199,18],[199,19,199,21],[200,0,200,1],[200,2,200,3],[200,4,200,5],[200,6,200,7],[200,8,200,10],[200,11,200,12],[200,13,200,14],[200,15,200,16],[200,17,200,18],[200,19,200,21],[200,22,200,23],[201,0,201,2],[201,4,201,18],[201,19,201,23],[202,0,203,2],[202,4,202,5],[202,6,202,8],[202,15,202,17],[202,19,203,23],[203,4,203,5],[203,6,203,8],[204,3,204,6],[204,9,204,14],[204,17,204,21],[205,0,205,1],[205,3,206,6],[205,9,205,14],[205,15,205,16],[205,17,206,21],[206,0,206,1],[206,15,206,16],[207,0,207,23],[208,0,208,23],[209,2,209,6],[209,8,209,23],[210,2,210,6],[210,8,210,23],[212,0,212,10],[212,11,212,12],[212,13,212,23],[214,0,214,10],[214,11,214,12],[214,13,214,23],[216,2,216,10],[216,13,216,21],[217,2,217,5],[217,6,217,10],[217,13,217,16],[217,17,217,21],[218,0,218,1],[218,2,218,3],[218,4,218,5],[218,6,218,7],[218,8,218,10],[218,13,218,14],[218,15,218,16],[218,17,218,18],[218,19,218,21],[219,0,219,1],[219,2,219,3],[219,4,219,5],[219,6,219,7],[219,8,219,10],[219,13,219,14],[219,15,219,16],[219,17,219,18],[219,19,219,21],[220,0,220,1],[220,2,220,3],[220,4,220,5],[220,6,220,7],[220,8,220,10],[220,13,220,14],[220,15,220,16],[220,17,220,18],[220,19,220,21],[221,0,221,1],[221,2,221,3],[221,4,221,5],[221,6,221,7],[221,8,221,10],[221,13,221,14],[221,15,221,16],[221,17,221,18],[221,19,221,21],[222,0,222,1],[222,2,222,3],[222,4,222,5],[222,6,222,7],[222,8,222,10],[222,13,222,14],[222,15,222,16],[222,17,222,18],[222,19,222,21],[223,0,223,1],[223,2,223,3],[223,4,223,5],[223,6,223,7],[223,8,223,10],[223,11,223,12],[223,13,223,14],[223,15,223,16],[223,17,223,18],[223,19,223,21],[223,22,223,23],[224,0,224,2],[224,4,224,18],[224,19,224,23],[225,0,226,2],[225,4,225,5],[225,6,225,8],[225,15,225,17],[225,19,226,23],[226,4,226,5],[226,6,226,8],[227,3,227,6],[227,9,227,14],[227,17,227,21],[228,0,228,1],[228,3,229,6],[228,9,228,14],[228,15,228,16],[228,17,229,21],[229,0,229,1],[229,15,229,16],[230,0,230,23],[231,0,231,23],[232,2,232,6],[232,8,232,23],[233,2,233,6],[233,8,233,23],[235,0,235,10],[235,11,235,12],[235,13,235,23],[237,0,237,10],[237,11,237,12],[237,13,237,23],[239,2,239,10],[239,13,239,21],[240,2,240,5],[240,6,240,10],[240,13,240,16],[240,17,240,21],[241,0,241,1],[241,2,241,3],[241,4,241,5],[241,6,241,7],[241,8,241,10],[241,13,241,14],[241,15,241,16],[241,17,241,18],[241,19,241,21],[242,0,242,1],[242,2,242,3],[242,4,242,5],[242,6,242,7],[242,8,242,10],[242,13,242,14],[242,15,242,16],[242,17,242,18],[242,19,242,21],[243,0,243,1],[243,2,243,3],[243,4,243,5],[243,6,243,7],[243,8,243,10],[243,13,243,14],[243,15,243,16],[243,17,243,18],[243,19,243,21],[244,0,244,1],[244,2,244,3],[244,4,244,5],[244,6,244,7],[244,8,244,10],[244,13,244,14],[244,15,244,16],[244,17,244,18],[244,19,244,21],[246,15,246,16],[246,17,246,18],[248,0,249,2],[248,4,248,5],[248,6,248,8],[248,15,248,17],[248,19,249,23],[249,4,249,5],[249,6,249,8]],"merged_total":3741,"flags":["merged_cut"]}
[{"$f":"Entries!$A$1","v":"2018 District 5 - Mixed Pairs"}]
[{"$f":"'Finals 32 29'!$C$2","v":"Q U A R T E R  F I N A L"}]
[null,null,"RINK",{"$nulls":5},"DATE"]
[null,null,{"$f":"'Finals 32 29'!$F$6","v":1},{"$nulls":5},{"$f":"Entries!$A$2","v":"20th June 2018"}]
[]
[{"$nulls":11},"L"]
[]
[{"$f":"'Finals 32 29'!$E$6","v":"Sec 1"},{"$nulls":10},"Sk",null,{"$f":"'Finals 32 29'!$E$7","v":"Sec 2"}]
[]
[null,null,"First Set",{"$nulls":10},"Second Set"]
[null,null,{"$f":"'Finals 32 29'!$E$6","v":"Sec 1"},{"$nulls":3},{"$f":"'Finals 32 29'!$E$7","v":"Sec 2"},{"$nulls":6},{"$f":"'Finals 32 29'!$E$6","v":"Sec 1"},{"$nulls":3},{"$f":"'Finals 32 29'!$E$7","v":"Sec 2"}]
["End",null,"Shots",null,"Total",null,"Shots",null,"Total",{"$nulls":4},"Shots",null,"Total",null,"Shots",null,"Total"]
[1]
[2]
[3]
[4]
[5,{"$nulls":10},1,{"$nulls":10},1]
["Points",{"$nulls":3},"Tie Break",{"$nulls":14},"Points"]
[{"$nulls":4},"End",null,"Shots",{"$nulls":8},"Shots"]
[{"$nulls":4},1]
[{"$nulls":9},"Time"]
["Sign",{"$nulls":8},"Completed",{"$nulls":5},"Sign"]
["i",{"$nulls":14},"i"]
[{"$f":"Entries!$A$1","v":"2018 District 5 - Mixed Pairs"}]
[{"$f":"'Finals 32 29'!$C$2","v":"Q U A R T E R  F I N A L"}]
[null,null,"RINK",{"$nulls":5},"DATE"]
[null,null,{"$f":"'Finals 32 29'!$F$6","v":1},{"$nulls":5},{"$f":"Entries!$A$2","v":"20th June 2018"}]
[]
[{"$nulls":11},"L"]
[]
[{"$f":"'Finals 32 29'!$E$7","v":"Sec 2"},{"$nulls":10},"Sk",null,{"$f":"'Finals 32 29'!$E$6","v":"Sec 1"}]
[]
[null,null,"First Set",{"$nulls":10},"Second Set"]
[null,null,{"$f":"'Finals 32 29'!$E$7","v":"Sec 2"},{"$nulls":3},{"$f":"'Finals 32 29'!$E$6","v":"Sec 1"},{"$nulls":6},{"$f":"'Finals 32 29'!$E$7","v":"Sec 2"},{"$nulls":3},{"$f":"'Finals 32 29'!$E$6","v":"Sec 1"}]
["End",null,"Shots",null,"Total",null,"Shots",null,"Total",{"$nulls":4},"Shots",null,"Total",null,"Shots",null,"Total"]
[1]
[2]
[3]
[4]
[5,{"$nulls":10},2,{"$nulls":10},1]
["Points",{"$nulls":3},"Tie Break",{"$nulls":14},"Points"]
[{"$nulls":4},"End",null,"Shots",{"$nulls":8},"Shots"]
[{"$nulls":4},1]
[{"$nulls":9},"Time"]
["Sign",{"$nulls":8},"Completed",{"$nulls":5},"Sign"]
["i",{"$nulls":14},"i"]
[{"$f":"Entries!$A$1","v":"2018 District 5 - Mixed Pairs"}]
[{"$f":"'Finals 32 29'!$C$2","v":"Q U A R T E R  F I N A L"}]
[null,null,"RINK",{"$nulls":5},"DATE"]
[null,null,{"$f":"'Finals 32 29'!$AA$6","v":2},{"$nulls":5},{"$f":"Entries!$A$2","v":"20th June 2018"}]
[]
[{"$nulls":11},"L"]
[]
[{"$f":"'Finals 32 29'!$Z$6","v":"Sec 3"},{"$nulls":10},"Sk",null,{"$f":"'Finals 32 29'!$Z$7","v":"Sec 4"}]
[]
[null,null,"First Set",{"$nulls":10},"Second Set"]
[null,null,{"$f":"'Finals 32 29'!$Z$6","v":"Sec 3"},{"$nulls":3},{"$f":"'Finals 32 29'!$Z$7","v":"Sec 4"},{"$nulls":6},{"$f":"'Finals 32 29'!$Z$6","v":"Sec 3"},{"$nulls":3},{"$f":"'Finals 32 29'!$Z$7","v":"Sec 4"}]
["End",null,"Shots",null,"Total",null,"Shots",null,"Total",{"$nulls":4},"Shots",null,"Total",null,"Shots",null,"Total"]
[1]
[2]
[3]
[4]
[5,{"$nulls":10},1,{"$nulls":10},1]
["Points",{"$nulls":3},"Tie Break",{"$nulls":14},"Points"]
[{"$nulls":4},"End",null,"Shots",{"$nulls":8},"Shots"]
[{"$nulls":4},1]
[{"$nulls":9},"Time"]
["Sign",{"$nulls":8},"Completed",{"$nulls":5},"Sign"]
["i",{"$nulls":14},"i"]
[{"$f":"Entries!$A$1","v":"2018 District 5 - Mixed Pairs"}]
[{"$f":"'Finals 32 29'!$C$2","v":"Q U A R T E R  F I N A L"}]
[null,null,"RINK",{"$nulls":5},"DATE"]
[null,null,{"$f":"'Finals 32 29'!$AA$6","v":2},{"$nulls":5},{"$f":"Entries!$A$2","v":"20th June 2018"}]
[]
[{"$nulls":11},"L"]
[]
[{"$f":"'Finals 32 29'!$Z$7","v":"Sec 4"},{"$nulls":10},"Sk",null,{"$f":"'Finals 32 29'!$Z$6","v":"Sec 3"}]
[]
[null,null,"First Set",{"$nulls":10},"Second Set"]
[null,null,{"$f":"'Finals 32 29'!$Z$7","v":"Sec 4"},{"$nulls":3},{"$f":"'Finals 32 29'!$Z$6","v":"Sec 3"},{"$nulls":6},{"$f":"'Finals 32 29'!$Z$7","v":"Sec 4"},{"$nulls":3},{"$f":"'Finals 32 29'!$Z$6","v":"Sec 3"}]
["End",null,"Shots",null,"Total",null,"Shots",null,"Total",{"$nulls":4},"Shots",null,"Total",null,"Shots",null,"Total"]
[1]
[2]
[3]
[4]
[5,{"$nulls":10},2,{"$nulls":10},1]
["Points",{"$nulls":3},"Tie Break",{"$nulls":14},"Points"]
[{"$nulls":4},"End",null,"Shots",{"$nulls":8},"Shots"]
[{"$nulls":4},1]
[{"$nulls":9},"Time"]
["Sign",{"$nulls":8},"Completed",{"$nulls":5},"Sign"]
["i",{"$nulls":14},"i"]
[{"$f":"Entries!$A$1","v":"2018 District 5 - Mixed Pairs"}]
[{"$f":"'Finals 32 29'!$C$2","v":"Q U A R T E R  F I N A L"}]
[null,null,"RINK",{"$nulls":5},"DATE"]
[null,null,{"$f":"'Finals 32 29'!$F$9","v":3},{"$nulls":5},{"$f":"Entries!$A$2","v":"20th June 2018"}]
[]
[{"$nulls":11},"L"]
[]
[{"$f":"'Finals 32 29'!$E$9","v":"Sec 5"},{"$nulls":10},"Sk",null,{"$f":"'Finals 32 29'!$E$10","v":"Sec 6"}]
[]
[null,null,"First Set",{"$nulls":10},"Second Set"]
[null,null,{"$f":"'Finals 32 29'!$E$9","v":"Sec 5"},{"$nulls":3},{"$f":"'Finals 32 29'!$E$10","v":"Sec 6"},{"$nulls":6},{"$f":"'Finals 32 29'!$E$9","v":"Sec 5"},{"$nulls":3},{"$f":"'Finals 32 29'!$E$10","v":"Sec 6"}]
["End",null,"Shots",null,"Total",null,"Shots",null,"Total",{"$nulls":4},"Shots",null,"Total",null,"Shots",null,"Total"]
[1]
[2]
[3]
[4]
[5,{"$nulls":10},1,{"$nulls":10},1]
["Points",{"$nulls":3},"Tie Break",{"$nulls":14},"Points"]
[{"$nulls":4},"End",null,"Shots",{"$nulls":8},"Shots"]
[{"$nulls":4},1]
[{"$nulls":9},"Time"]
["Sign",{"$nulls":8},"Completed",{"$nulls":5},"Sign"]
["i",{"$nulls":14},"i"]
[{"$f":"Entries!$A$1","v":"2018 District 5 - Mixed Pairs"}]
[{"$f":"'Finals 32 29'!$C$2","v":"Q U A R T E R  F I N A L"}]
[null,null,"RINK",{"$nulls":5},"DATE"]
[null,null,{"$f":"'Finals 32 29'!$F$9","v":3},{"$nulls":5},{"$f":"Entries!$A$2","v":"20th June 2018"}]
[]
[{"$nulls":11},"L"]
[]
[{"$f":"'Finals 32 29'!$E$10","v":"Sec 6"},{"$nulls":10},"Sk",null,{"$f":"'Finals 32 29'!$E$9","v":"Sec 5"}]
[]
[null,null,"First Set",{"$nulls":10},"Second Set"]
[null,null,{"$f":"'Finals 32 29'!$E$10","v":"Sec 6"},{"$nulls":3},{"$f":"'Finals 32 29'!$E$9","v":"Sec 5"},{"$nulls":6},{"$f":"'Finals 32 29'!$E$10","v":"Sec 6"},{"$nulls":3},{"$f":"'Finals 32 29'!$E$9","v":"Sec 5"}]
["End",null,"Shots",null,"Total",null,"Shots",null,"Total",{"$nulls":4},"Shots",null,"Total",null,"Shots",null,"Total"]
[1]
[2]
[3]
[4]
[5,{"$nulls":10},2,{"$nulls":10},1]
["Points",{"$nulls":3},"Tie Break",{"$nulls":14},"Points"]
[{"$nulls":4},"End",null,"Shots",{"$nulls":8},"Shots"]
[{"$nulls":4},1]
[{"$nulls":9},"Time"]
["Sign",{"$nulls":8},"Completed",{"$nulls":5},"Sign"]
["i",{"$nulls":14},"i"]
[{"$f":"Entries!$A$1","v":"2018 District 5 - Mixed Pairs"}]
[{"$f":"'Finals 32 29'!$C$2","v":"Q U A R T E R  F I N A L"}]
[null,null,"RINK",{"$nulls":5},"DATE"]
[null,null,{"$f":"'Finals 32 29'!$AA$9","v":4},{"$nulls":5},{"$f":"Entries!$A$2","v":"20th June 2018"}]
[{"$nulls":9},"      "]
[{"$nulls":11},"L"]
[]
[{"$f":"'Finals 32 29'!$Z$9","v":"Sec 7"},{"$nulls":10},"Sk",null,{"$f":"'Finals 32 29'!$Z$10","v":"Sec 8"}]
[]
[null,null,"First Set",{"$nulls":10},"Second Set"]
[null,null,{"$f":"'Finals 32 29'!$Z$9","v":"Sec 7"},{"$nulls":3},{"$f":"'Finals 32 29'!$Z$10","v":"Sec 8"},{"$nulls":6},{"$f":"'Finals 32 29'!$Z$9","v":"Sec 7"},{"$nulls":3},{"$f":"'Finals 32 29'!$Z$10","v":"Sec 8"}]
["End",null,"Shots",null,"Total",null,"Shots",null,"Total",{"$nulls":4},"Shots",null,"Total",null,"Shots",null,"Total"]
[1]
[2]
[3]
[4]
[5,{"$nulls":10},1,{"$nulls":10},1]
["Points",{"$nulls":3},"Tie Break",{"$nulls":14},"Points"]
[{"$nulls":4},"End",null,"Shots",{"$nulls":8},"Shots"]
[{"$nulls":4},1]
[{"$nulls":9},"Time"]
["Sign",{"$nulls":8},"Completed",{"$nulls":5},"Sign"]
["i",{"$nulls":14},"i"]
[{"$f":"Entries!$A$1","v":"2018 District 5 - Mixed Pairs"}]
[{"$f":"'Finals 32 29'!$C$2","v":"Q U A R T E R  F I N A L"}]
[null,null,"RINK",{"$nulls":5},"DATE"]
[null,null,{"$f":"'Finals 32 29'!$AA$9","v":4},{"$nulls":5},{"$f":"Entries!$A$2","v":"20th June 2018"}]
[]
[{"$nulls":11},"L"]
[]
[{"$f":"'Finals 32 29'!$Z$10","v":"Sec 8"},{"$nulls":10},"Sk",null,{"$f":"'Finals 32 29'!$Z$9","v":"Sec 7"}]
[]
[null,null,"First Set",{"$nulls":10},"Second Set"]
[null,null,{"$f":"'Finals 32 29'!$Z$10","v":"Sec 8"},{"$nulls":3},{"$f":"'Finals 32 29'!$Z$9","v":"Sec 7"},{"$nulls":6},{"$f":"'Finals 32 29'!$Z$10","v":"Sec 8"},{"$nulls":3},{"$f":"'Finals 32 29'!$Z$9","v":"Sec 7"}]
["End",null,"Shots",null,"Total",null,"Shots",null,"Total",{"$nulls":4},"Shots",null,"Total",null,"Shots",null,"Total"]
[1]
[2]
[3]
[4]
[5,{"$nulls":10},2,{"$nulls":10},1]
["Points",{"$nulls":3},"Tie Break",{"$nulls":14},"Points"]
[{"$nulls":4},"End",null,"Shots",{"$nulls":8},"Shots"]
[{"$nulls":4},1]
[{"$nulls":9},"Time"]
["Sign",{"$nulls":8},"Completed",{"$nulls":5},"Sign"]
["i",{"$nulls":14},"i"]
[{"$f":"Entries!$A$1","v":"2018 District 5 - Mixed Pairs"}]
[{"$f":"'Finals 32 29'!$C$11","v":"S E M I  F I N A L "}]
[null,null,"RINK",{"$nulls":5},"DATE"]
[null,null,{"$f":"'Finals 32 29'!$F$12","v":5},{"$nulls":5},{"$f":"Entries!$A$2","v":"20th June 2018"}]
[]
[{"$nulls":11},"L"]
[]
[{"$f":"'Finals 32 29'!$E$12","v":"Q/F 1"},{"$nulls":10},"Sk",null,{"$f":"'Finals 32 29'!$E$13","v":"Q/F 2"}]
[]
[null,null,"First Set",{"$nulls":10},"Second Set"]
[null,null,{"$f":"'Finals 32 29'!$E$12","v":"Q/F 1"},{"$nulls":3},{"$f":"'Finals 32 29'!$E$13","v":"Q/F 2"},{"$nulls":6},{"$f":"'Finals 32 29'!$E$12","v":"Q/F 1"},{"$nulls":3},{"$f":"'Finals 32 29'!$E$13","v":"Q/F 2"}]
["End",null,"Shots",null,"Total",null,"Shots",null,"Total",{"$nulls":4},"Shots",null,"Total",null,"Shots",null,"Total"]
[1]
[2]
[3]
[4]
[5,{"$nulls":10},1,{"$nulls":10},1]
["Points",{"$nulls":3},"Tie Break",{"$nulls":14},"Points"]
[{"$nulls":4},"End",null,"Shots",{"$nulls":8},"Shots"]
[{"$nulls":4},1]
[{"$nulls":9},"Time"]
["Sign",{"$nulls":8},"Completed",{"$nulls":5},"Sign"]
["i",{"$nulls":14},"i"]
[{"$f":"Entries!$A$1","v":"2018 District 5 - Mixed Pairs"}]
[{"$f":"'Finals 32 29'!$C$11","v":"S E M I  F I N A L "}]
[null,null,"RINK",{"$nulls":5},"DATE"]
[null,null,{"$f":"'Finals 32 29'!$F$12","v":5},{"$nulls":5},{"$f":"Entries!$A$2","v":"20th June 2018"}]
[]
[{"$nulls":11},"L"]
[]
[{"$f":"'Finals 32 29'!$E$13","v":"Q/F 2"},{"$nulls":10},"Sk",null,{"$f":"'Finals 32 29'!$E$12","v":"Q/F 1"}]
[]
[null,null,"First Set",{"$nulls":10},"Second Set"]
[null,null,{"$f":"'Finals 32 29'!$E$13","v":"Q/F 2"},{"$nulls":3},{"$f":"'Finals 32 29'!$E$12","v":"Q/F 1"},{"$nulls":6},{"$f":"'Finals 32 29'!$E$13","v":"Q/F 2"},{"$nulls":3},{"$f":"'Finals 32 29'!$E$12","v":"Q/F 1"}]
["End",null,"Shots",null,"Total",null,"Shots",null,"Total",{"$nulls":4},"Shots",null,"Total",null,"Shots",null,"Total"]
[1]
[2]
[3]
[4]
[5,{"$nulls":10},2,{"$nulls":10},1]
["Points",{"$nulls":3},"Tie Break",{"$nulls":14},"Points"]
[{"$nulls":4},"End",null,"Shots",{"$nulls":8},"Shots"]
[{"$nulls":4},1]
[{"$nulls":9},"Time"]
["Sign",{"$nulls":8},"Completed",{"$nulls":5},"Sign"]
["i",{"$nulls":14},"i"]
[{"$f":"Entries!$A$1","v":"2018 District 5 - Mixed Pairs"}]
[{"$f":"'Finals 32 29'!$C$11","v":"S E M I  F I N A L "}]
[null,null,"RINK",{"$nulls":5},"DATE"]
[null,null,{"$f":"'Finals 32 29'!$AA$12","v":6},{"$nulls":5},{"$f":"Entries!$A$2","v":"20th June 2018"}]
[{"$nulls":9},"      "]
[{"$nulls":11},"L"]
[]
[{"$f":"'Finals 32 29'!$Z$12","v":"Q/F 3"},{"$nulls":10},"Sk",null,{"$f":"'Finals 32 29'!$Z$13","v":"Q/F 4"}]
[]
[null,null,"First Set",{"$nulls":10},"Second Set"]
[null,null,{"$f":"'Finals 32 29'!$Z$12","v":"Q/F 3"},{"$nulls":3},{"$f":"'Finals 32 29'!$Z$13","v":"Q/F 4"},{"$nulls":6},{"$f":"'Finals 32 29'!$Z$12","v":"Q/F 3"},{"$nulls":3},{"$f":"'Finals 32 29'!$Z$13","v":"Q/F 4"}]
["End",null,"Shots",null,"Total",null,"Shots",null,"Total",{"$nulls":4},"Shots",null,"Total",null,"Shots",null,"Total"]
[1]
[2]
[3]
[4]
[5,{"$nulls":10},1,{"$nulls":10},1]
["Points",{"$nulls":3},"Tie Break",{"$nulls":14},"Points"]
[{"$nulls":4},"End",null,"Shots",{"$nulls":8},"Shots"]
[{"$nulls":4},1]
[{"$nulls":9},"Time"]
["Sign",{"$nulls":8},"Completed",{"$nulls":5},"Sign"]
["i",{"$nulls":14},"i"]
[{"$f":"Entries!$A$1","v":"2018 District 5 - Mixed Pairs"}]
[{"$f":"'Finals 32 29'!$C$11","v":"S E M I  F I N A L "}]
[null,null,"RINK",{"$nulls":5},"DATE"]
[null,null,{"$f":"'Finals 32 29'!$AA$12","v":6},{"$nulls":5},{"$f":"Entries!$A$2","v":"20th June 2018"}]
[]
[{"$nulls":11},"L"]
[]
[{"$f":"'Finals 32 29'!$Z$13","v":"Q/F 4"},{"$nulls":10},"Sk",null,{"$f":"'Finals 32 29'!$Z$12","v":"Q/F 3"}]
[]
[null,null,"First Set",{"$nulls":10},"Second Set"]
[null,null,{"$f":"'Finals 32 29'!$Z$13","v":"Q/F 4"},{"$nulls":3},{"$f":"'Finals 32 29'!$Z$12","v":"Q/F 3"},{"$nulls":6},{"$f":"'Finals 32 29'!$Z$13","v":"Q/F 4"},{"$nulls":3},{"$f":"'Finals 32 29'!$Z$12","v":"Q/F 3"}]
["End",null,"Shots",null,"Total",null,"Shots",null,"Total",{"$nulls":4},"Shots",null,"Total",null,"Shots",null,"Total"]
[1]
[2]
[3]
[4]
[5,{"$nulls":10},2,{"$nulls":10},1]
["Points",{"$nulls":3},"Tie Break",{"$nulls":14},"Points"]
[{"$nulls":4},"End",null,"Shots",{"$nulls":8},"Shots"]
[{"$nulls":4},1]
[{"$nulls":9},"Time"]
["Sign",{"$nulls":8},"Completed",{"$nulls":5},"Sign"]
["i",{"$nulls":14},"i"]
[{"$f":"Entries!$A$1","v":"2018 District 5 - Mixed Pairs"}]
[{"$f":"'Finals 32 29'!$C$17","v":"F I N A L "}]
[null,null,"RINK",{"$nulls":5},"DATE"]
[null,null,{"$f":"'Finals 32 29'!$F$18","v":7},{"$nulls":5},{"$f":"Entries!$A$2","v":"20th June 2018"}]
[]
[{"$nulls":11},"L"]
[]
[{"$f":"'Finals 32 29'!$E$18","v":"S/F 1"},{"$nulls":10},"Sk",null,{"$f":"'Finals 32 29'!$E$19","v":"S/F 2"}]
[]
[null,null,"First Set",{"$nulls":10},"Second Set"]
[null,null,{"$f":"'Finals 32 29'!$E$18","v":"S/F 1"},{"$nulls":3},{"$f":"'Finals 32 29'!$E$19","v":"S/F 2"},{"$nulls":6},{"$f":"'Finals 32 29'!$E$18","v":"S/F 1"},{"$nulls":3},{"$f":"'Finals 32 29'!$E$19","v":"S/F 2"}]
["End",null,"Shots",null,"Total",null,"Shots",null,"Total",{"$nulls":4},"Shots",null,"Total",null,"Shots",null,"Total"]
[1]
[2]
[3]
[4]
[5,{"$nulls":10},1,{"$nulls":10},1]
["Points",{"$nulls":3},"Tie Break",{"$nulls":14},"Points"]
[{"$nulls":4},"End",null,"Shots",{"$nulls":8},"Shots"]
[{"$nulls":4},1]
[{"$nulls":9},"Time"]
["Sign",{"$nulls":8},"Completed",{"$nulls":5},"Sign"]
["i",{"$nulls":14},"i"]
[{"$f":"Entries!$A$1","v":"2018 District 5 - Mixed Pairs"}]
[{"$f":"'Finals 32 29'!$C$17","v":"F I N A L "}]
[null,null,"RINK",{"$nulls":5},"DATE"]
[null,null,{"$f":"'Finals 32 29'!$F$18","v":7},{"$nulls":5},{"$f":"Entries!$A$2","v":"20th June 2018"}]
[]
[{"$nulls":11},"L"]
[]
[{"$f":"'Finals 32 29'!$E$19","v":"S/F 2"},{"$nulls":10},"Sk",null,{"$f":"'Finals 32 29'!$E$18","v":"S/F 1"}]
[]
[null,null,"First Set",{"$nulls":10},"Second Set"]
[null,null,{"$f":"'Finals 32 29'!$E$19","v":"S/F 2"},{"$nulls":3},{"$f":"'Finals 32 29'!$E$18","v":"S/F 1"},{"$nulls":6},{"$f":"'Finals 32 29'!$E$19","v":"S/F 2"},{"$nulls":3},{"$f":"'Finals 32 29'!$E$18","v":"S/F 1"}]
["End",null,"Shots",null,"Total",null,"Shots",null,"Total",{"$nulls":4},"Shots",null,"Total",null,"Shots",null,"Total"]
[1]
[2]
[3]
[4]
[5,{"$nulls":10},2,{"$nulls":10},1]
["Points",{"$nulls":3},"Tie Break",{"$nulls":14},"Points"]
[{"$nulls":4},"End",null,"Shots",{"$nulls":8},"Shots"]
[{"$nulls":4},1]
[{"$nulls":9},"Time"]
["Sign",{"$nulls":8},"Completed",{"$nulls":5},"Sign"]
["i",{"$nulls":14},"i"]
[{"$f":"Entries!$A$1","v":"2018 District 5 - Mixed Pairs"}]
[{"$f":"'Finals 32 29'!$C$17","v":"F I N A L "}]
[null,null,"RINK",{"$nulls":5},"DATE"]
[null,null,{"$f":"'Finals 32 29'!$X$18","v":0}]
[{"$nulls":9},"      "]
[{"$nulls":11},"L"]
[]
[{"$f":"'Finals 32 29'!$Z$18","v":0},{"$nulls":10},"Sk",null,{"$f":"'Finals 32 29'!$Z$19","v":0}]
[]
[null,null,"First Set",{"$nulls":10},"Second Set"]
[null,null,{"$f":"'Finals 32 29'!$Z$18","v":0},{"$nulls":3},{"$f":"'Finals 32 29'!$Z$19","v":0},{"$nulls":6},{"$f":"'Finals 32 29'!$Z$18","v":0},{"$nulls":3},{"$f":"'Finals 32 29'!$Z$19","v":0}]
["End",null,"Shots",null,"Total",null,"Shots",null,"Total",{"$nulls":4},"Shots",null,"Total",null,"Shots",null,"Total"]
[1]
[2]
[3]
[4]
[5,{"$nulls":10},1,{"$nulls":10},1]
["Points",{"$nulls":18},"Points"]
[]
[]
[{"$nulls":9},"Time"]
["Sign",{"$nulls":8},"Completed",{"$nulls":5},"Sign"]
["i",{"$nulls":14},"i"]
[{"$f":"Entries!$A$1","v":"2018 District 5 - Mixed Pairs"}]
[{"$f":"'Finals 32 29'!$C$17","v":"F I N A L "}]
[null,null,"RINK",{"$nulls":5},"DATE"]
[null,null,{"$f":"'Finals 32 29'!$X$18","v":0}]
[]
[{"$nulls":11},"L"]
[]
[{"$f":"'Finals 32 29'!$Z$19","v":0},{"$nulls":10},"Sk",null,{"$f":"'Finals 32 29'!$Z$18","v":0}]
[]
[null,null,"First Set",{"$nulls":10},"Second Set"]
[null,null,{"$f":"'Finals 32 29'!$Z$19","v":0},{"$nulls":3},{"$f":"'Finals 32 29'!$Z$18","v":0},{"$nulls":6},{"$f":"'Finals 32 29'!$Z$19","v":0},{"$nulls":3},{"$f":"'Finals 32 29'!$Z$18","v":0}]
["End",null,"Shots",null,"Total",null,"Shots",null,"Total",{"$nulls":4},"Shots",null,"Total",null,"Shots",null,"Total"]
[1]
[2]
[3]
[4]
[5,{"$nulls":10},2,{"$nulls":10},1]
["Points",{"$nulls":18},"Points"]
[]
[]
[{"$nulls":9},"Time"]
["Sign",{"$nulls":8},"Completed",{"$nulls":5},"Sign"]
["i",{"$nulls":14},"i"]
[{"$f":"Entries!$A$1","v":"2018 District 5 - Mixed Pairs"}]
[{"$f":"'Finals 32 29'!$C$26","v":0}]
[null,null,"RINK",{"$nulls":5},"DATE"]
[null,null,{"$f":"'Finals 32 29'!$F$27","v":0}]
[]
[{"$nulls":11},"L"]
[]
[{"$f":"'Finals 32 29'!$E$27","v":0},{"$nulls":10},"Sk",null,{"$f":"'Finals 32 29'!$E$28","v":0}]
[]
[null,null,"First Set",{"$nulls":10},"Second Set"]
[null,null,{"$f":"'Finals 32 29'!$E$27","v":0},{"$nulls":3},{"$f":"'Finals 32 29'!$E$28","v":0},{"$nulls":6},{"$f":"'Finals 32 29'!$E$27","v":0},{"$nulls":3},{"$f":"'Finals 32 29'!$E$28","v":0}]
["End",null,"Shots",null,"Total",null,"Shots",null,"Total",{"$nulls":4},"Shots",null,"Total",null,"Shots",null,"Total"]
[1]
[2]
[3]
[4]
[5,{"$nulls":10},1,{"$nulls":10},1]
["Points",{"$nulls":18},"Points"]
[]
[]
[{"$nulls":9},"Time"]
["Sign",{"$nulls":8},"Completed",{"$nulls":5},"Sign"]
["i",{"$nulls":14},"i"]
[{"$f":"Entries!$A$1","v":"2018 District 5 - Mixed Pairs"}]
[{"$f":"'Finals 32 29'!$C$26","v":0}]
[null,null,"RINK",{"$nulls":5},"DATE"]
[null,null,{"$f":"'Finals 32 29'!$F$27","v":0}]
[]
[{"$nulls":11},"L"]
[]
[{"$f":"'Finals 32 29'!$E$28","v":0},{"$nulls":10},"Sk",null,{"$f":"'Finals 32 29'!$E$27","v":0}]
[]
[null,null,"First Set",{"$nulls":10},"Second Set"]
[null,null,{"$f":"'Finals 32 29'!$E$28","v":0},{"$nulls":3},{"$f":"'Finals 32 29'!$E$27","v":0},{"$nulls":6},{"$f":"'Finals 32 29'!$E$28","v":0},{"$nulls":3},{"$f":"'Finals 32 29'!$E$27","v":0}]
["End",null,"Shots",null,"Total",null,"Shots",null,"Total",{"$nulls":4},"Shots",null,"Total",null,"Shots",null,"Total"]
[1]
[2]
[3]
[4]
[5,{"$nulls":10},2,{"$nulls":10},1]
["Points",{"$nulls":18},"Points"]
[]
[]
[{"$nulls":9},"Time"]
["Sign",{"$nulls":8},"Completed",{"$nulls":5},"Sign"]
["i",{"$nulls":14},"i"]
[{"$f":"Entries!$A$1","v":"2018 District 5 - Mixed Pairs"}]
[]
[null,null,"RINK",{"$nulls":5},"DATE"]
[]
[]
[{"$nulls":11},"L"]
[]
[{"$nulls":11},"Sk"]
[]
[null,null,"First Set",{"$nulls":10},"Second Set"]
[]
["End",null,"Shots",null,"Total",null,"Shots",null,"Total",{"$nulls":4},"Shots",null,"Total",null,"Shots",null,"Total"]
[1]
[2]
[3]
[4]
[5,{"$nulls":10},1,{"$nulls":10},1]
["Points",{"$nulls":18},"Points"]
[]
[]
[{"$nulls":9},"Time"]
["Sign",{"$nulls":8},"Completed",{"$nulls":5},"Sign"]
["i",{"$nulls":14},"i"]
[{"$f":"Entries!$A$1","v":"2018 District 5 - Mixed Pairs"}]
["R O U N D  1"]
[null,null,"RINK",{"$nulls":5},"DATE"]
[null,null,{"$f":"DRAW!$F$23","v":0}]
[]
[{"$f":"DRAW!$D$24","v":0},{"$nulls":10},"L",null,{"$f":"DRAW!$D$23","v":0}]
[]
[{"$f":"DRAW!$E$24","v":0},{"$nulls":10},"Sk",null,{"$f":"DRAW!$E$23","v":0}]
[]
[null,null,"First Set",{"$nulls":10},"Second Set"]
[null,null,{"$f":"DRAW!$E$24","v":0},{"$nulls":3},{"$f":"DRAW!$E$23","v":0},{"$nulls":6},{"$f":"DRAW!$E$24","v":0},{"$nulls":3},{"$f":"DRAW!$E$23","v":0}]
["End",null,"Shots",null,"Total",null,"Shots",null,"Total",{"$nulls":4},"Shots",null,"Total",null,"Shots",null,"Total"]
[1]
[2]
[3]
[4]
[5,{"$nulls":10},2,{"$nulls":10},1]
["Points",{"$nulls":3},"Tie Break",{"$nulls":14},"Points"]
[{"$nulls":4},"End",null,"Shots",{"$nulls":8},"Shots"]
[{"$nulls":4},1]
[{"$nulls":3},"TEAM No.",{"$nulls":5},"Time",{"$nulls":7},"TEAM No."]
["Sign",null,null,{"$f":"DRAW!$C$24","v":0},{"$nulls":5},"Completed",{"$nulls":5},"Sign",null,{"$f":"DRAW!$C$23","v":0}]
["i",{"$nulls":14},"i"]
[{"$f":"Entries!$A$1","v":"2018 District 5 - Mixed Pairs"}]
["R O U N D  1"]
[null,null,"RINK",{"$nulls":5},"DATE"]
[null,null,{"$f":"DRAW!$F$25","v":0}]
[]
[{"$f":"DRAW!$D$25","v":0},{"$nulls":10},"L",null,{"$f":"DRAW!$D$26","v":0}]
[]
[{"$f":"DRAW!$E$25","v":0},{"$nulls":10},"Sk",null,{"$f":"DRAW!$E$26","v":0}]
[]
[null,null,"First Set",{"$nulls":10},"Second Set"]
[null,null,{"$f":"DRAW!$E$25","v":0},{"$nulls":3},{"$f":"DRAW!$E$26","v":0},{"$nulls":6},{"$f":"DRAW!$E$25","v":0},{"$nulls":3},{"$f":"DRAW!$E$26","v":0}]
["End",null,"Shots",null,"Total",null,"Shots",null,"Total",{"$nulls":4},"Shots",null,"Total",null,"Shots",null,"Total"]
[1]
[2]
[3]
[4]
[5,{"$nulls":10},1,{"$nulls":10},1]
["Points",{"$nulls":3},"Tie Break",{"$nulls":14},"Points"]
[{"$nulls":4},"End",null,"Shots",{"$nulls":8},"Shots"]
[{"$nulls":4},1]
[{"$nulls":3},"TEAM No.",{"$nulls":5},"Time",{"$nulls":7},"TEAM No."]
["Sign",null,null,{"$f":"DRAW!$C$25","v":0},{"$nulls":5},"Completed",{"$nulls":5},"Sign",null,{"$f":"DRAW!$C$26","v":0}]
["i",{"$nulls":14},"i"]
[{"$f":"Entries!$A$1","v":"2018 District 5 - Mixed Pairs"}]
["R O U N D  1"]
[null,null,"RINK",{"$nulls":5},"DATE"]
[null,null,{"$f":"DRAW!$F$25","v":0}]
[]
[{"$f":"DRAW!$D$26","v":0},{"$nulls":10},"L",null,{"$f":"DRAW!$D$25","v":0}]
[]
[{"$f":"DRAW!$E$26","v":0},{"$nulls":10},"Sk",null,{"$f":"DRAW!$E$25","v":0}]
[]
[null,null,"First Set",{"$nulls":10},"Second Set"]
[null,null,{"$f":"DRAW!$E$26","v":0},{"$nulls":3},{"$f":"DRAW!$E$25","v":0},{"$nulls":6},{"$f":"DRAW!$E$26","v":0},{"$nulls":3},{"$f":"DRAW!$E$25","v":0}]
["End",null,"Shots",null,"Total",null,"Shots",null,"Total",{"$nulls":4},"Shots",null,"Total",null,"Shots",null,"Total"]
[1]
[2]
[3]
[4]
[5,{"$nulls":10},2,{"$nulls":10},1]
["Points",{"$nulls":3},"Tie Break",{"$nulls":14},"Points"]
[{"$nulls":4},"End",null,"Shots",{"$nulls":8},"Shots"]
[{"$nulls":4},1]
[{"$nulls":3},"TEAM No.",{"$nulls":5},"Time",{"$nulls":7},"TEAM No."]
["Sign",null,null,{"$f":"DRAW!$C$26","v":0},{"$nulls":5},"Completed",{"$nulls":5},"Sign",null,{"$f":"DRAW!$C$25","v":0}]
["i",{"$nulls":14},"i"]
[{"$f":"Entries!$A$1","v":"2018 District 5 - Mixed Pairs"}]
["R O U N D  1"]
[null,null,"RINK",{"$nulls":5},"DATE"]
[null,null,{"$f":"DRAW!$F$27","v":0}]
[]
[{"$f":"DRAW!$D$27","v":0},{"$nulls":10},"L",null,{"$f":"DRAW!$D$28","v":0}]
[]
[{"$f":"DRAW!$E$27","v":0},{"$nulls":10},"Sk",null,{"$f":"DRAW!$E$28","v":0}]
[]
[null,null,"First Set",{"$nulls":10},"Second Set"]
[null,null,{"$f":"DRAW!$E$27","v":0},{"$nulls":3},{"$f":"DRAW!$E$28","v":0},{"$nulls":6},{"$f":"DRAW!$E$27","v":0},{"$nulls":3},{"$f":"DRAW!$E$28","v":0}]
["End",null,"Shots",null,"Total",null,"Shots",null,"Total",{"$nulls":4},"Shots",null,"Total",null,"Shots",null,"Total"]
[1]
[2]
[3]
[4]
[5,{"$nulls":10},1,{"$nulls":10},1]
["Points",{"$nulls":3},"Tie Break",{"$nulls":14},"Points"]
[{"$nulls":4},"End",null,"Shots",{"$nulls":8},"Shots"]
[{"$nulls":4},1]
[{"$nulls":3},"TEAM No.",{"$nulls":5},"Time",{"$nulls":7},"TEAM No."]
["Sign",null,null,{"$f":"DRAW!$C$27","v":0},{"$nulls":5},"Completed",{"$nulls":5},"Sign",null,{"$f":"DRAW!$C$28","v":0}]
["i",{"$nulls":14},"i"]
[{"$f":"Entries!$A$1","v":"2018 District 5 - Mixed Pairs"}]
["R O U N D  1"]
[null,null,"RINK",{"$nulls":5},"DATE"]
[null,null,{"$f":"DRAW!$F$27","v":0}]
[]
[{"$f":"DRAW!$D$28","v":0},{"$nulls":10},"L",null,{"$f":"DRAW!$D$27","v":0}]
[]
[{"$f":"DRAW!$E$28","v":0},{"$nulls":10},"Sk",null,{"$f":"DRAW!$E$27","v":0}]
[]
[null,null,"First Set",{"$nulls":10},"Second Set"]
[null,null,{"$f":"DRAW!$E$28","v":0},{"$nulls":3},{"$f":"DRAW!$E$27","v":0},{"$nulls":6},{"$f":"DRAW!$E$28","v":0},{"$nulls":3},{"$f":"DRAW!$E$27","v":0}]
["End",null,"Shots",null,"Total",null,"Shots",null,"Total",{"$nulls":4},"Shots",null,"Total",null,"Shots",null,"Total"]
[1]
[2]
[3]
[4]
[5,{"$nulls":10},2,{"$nulls":10},1]
["Points",{"$nulls":3},"Tie Break",{"$nulls":14},"Points"]
[{"$nulls":4},"End",null,"Shots",{"$nulls":8},"Shots"]
[{"$nulls":4},1]
[{"$nulls":3},"TEAM No.",{"$nulls":5},"Time",{"$nulls":7},"TEAM No."]
["Sign",null,null,{"$f":"DRAW!$C$28","v":0},{"$nulls":5},"Completed",{"$nulls":5},"Sign",null,{"$f":"DRAW!$C$27","v":0}]
["i",{"$nulls":14},"i"]
[{"$f":"Entries!$A$1","v":"2018 District 5 - Mixed Pairs"}]
["R O U N D  1"]
[null,null,"RINK",{"$nulls":5},"DATE"]
[null,null,{"$f":"DRAW!$F$29","v":0}]
[]
[{"$f":"DRAW!$D$29","v":0},{"$nulls":10},"L",null,{"$f":"DRAW!$D$30","v":0}]
[]
[{"$f":"DRAW!$E$29","v":0},{"$nulls":10},"Sk",null,{"$f":"DRAW!$E$30","v":0}]
[]
[null,null,"First Set",{"$nulls":10},"Second Set"]
[null,null,{"$f":"DRAW!$E$29","v":0},{"$nulls":3},{"$f":"DRAW!$E$30","v":0},{"$nulls":6},{"$f":"DRAW!$E$29","v":0},{"$nulls":3},{"$f":"DRAW!$E$30","v":0}]
["End",null,"Shots",null,"Total",null,"Shots",null,"Total",{"$nulls":4},"Shots",null,"Total",null,"Shots",null,"Total"]
[1]
[2]
[3]
[4]
[5,{"$nulls":10},1,{"$nulls":10},1]
["Points",{"$nulls":3},"Tie Break",{"$nulls":14},"Points"]
[{"$nulls":4},"End",null,"Shots",{"$nulls":8},"Shots"]
[{"$nulls":4},1]
[{"$nulls":3},"TEAM No.",{"$nulls":5},"Time",{"$nulls":7},"TEAM No."]
["Sign",null,null,{"$f":"DRAW!$C$29","v":0},{"$nulls":5},"Completed",{"$nulls":5},"Sign",null,{"$f":"DRAW!$C$30","v":0}]
["i",{"$nulls":14},"i"]
[{"$f":"Entries!$A$1","v":"2018 District 5 - Mixed Pairs"}]
["R O U N D  1"]
[null,null,"RINK",{"$nulls":5},"DATE"]
[null,null,{"$f":"DRAW!$F$29","v":0}]
[]
[{"$f":"DRAW!$D$30","v":0},{"$nulls":10},"L",null,{"$f":"DRAW!$D$29","v":0}]
[]
[{"$f":"DRAW!$E$30","v":0},{"$nulls":10},"Sk",null,{"$f":"DRAW!$E$29","v":0}]
[]
[null,null,"First Set",{"$nulls":10},"Second Set"]
[null,null,{"$f":"DRAW!$E$30","v":0},{"$nulls":3},{"$f":"DRAW!$E$29","v":0},{"$nulls":6},{"$f":"DRAW!$E$30","v":0},{"$nulls":3},{"$f":"DRAW!$E$29","v":0}]
["End",null,"Shots",null,"Total",null,"Shots",null,"Total",{"$nulls":4},"Shots",null,"Total",null,"Shots",null,"Total"]
[1]
[2]
[3]
[4]
[5,{"$nulls":10},2,{"$nulls":10},1]
["Points",{"$nulls":3},"Tie Break",{"$nulls":14},"Points"]
[{"$nulls":4},"End",null,"Shots",{"$nulls":8},"Shots"]
[{"$nulls":4},1]
[{"$nulls":3},"TEAM No.",{"$nulls":5},"Time",{"$nulls":7},"TEAM No."]
["Sign",null,null,{"$f":"DRAW!$C$30","v":0},{"$nulls":5},"Completed",{"$nulls":5},"Sign",null,{"$f":"DRAW!$C$29","v":0}]
["i",{"$nulls":14},"i"]
[{"$f":"Entries!$A$1","v":"2018 District 5 - Mixed Pairs"}]
["R O U N D  1"]
[null,null,"RINK",{"$nulls":5},"DATE"]
[null,null,{"$f":"DRAW!$F$31","v":0}]
[]
[{"$f":"DRAW!$D$31","v":0},{"$nulls":10},"L",null,{"$f":"DRAW!$D$32","v":0}]
[]
[{"$f":"DRAW!$E$31","v":0},{"$nulls":10},"Sk",null,{"$f":"DRAW!$E$32","v":0}]
[]
[null,null,"First Set",{"$nulls":10},"Second Set"]
[null,null,{"$f":"DRAW!$E$31","v":0},{"$nulls":3},{"$f":"DRAW!$E$32","v":0},{"$nulls":6},{"$f":"DRAW!$E$31","v":0},{"$nulls":3},{"$f":"DRAW!$E$32","v":0}]
["End",null,"Shots",null,"Total",null,"Shots",null,"Total",{"$nulls":4},"Shots",null,"Total",null,"Shots",null,"Total"]
[1]
[2]
[3]
[4]
[5,{"$nulls":10},1,{"$nulls":10},1]
["Points",{"$nulls":3},"Tie Break",{"$nulls":14},"Points"]
[{"$nulls":4},"End",null,"Shots",{"$nulls":8},"Shots"]
[{"$nulls":4},1]
[{"$nulls":3},"TEAM No.",{"$nulls":5},"Time",{"$nulls":7},"TEAM No."]
["Sign",null,null,{"$f":"DRAW!$C$31","v":0},{"$nulls":5},"Completed",{"$nulls":5},"Sign",null,{"$f":"DRAW!$C$32","v":0}]
["i",{"$nulls":14},"i"]
[{"$f":"Entries!$A$1","v":"2018 District 5 - Mixed Pairs"}]
["R O U N D  1"]
[null,null,"RINK",{"$nulls":5},"DATE"]
[null,null,{"$f":"DRAW!$F$31","v":0}]
[]
[{"$f":"DRAW!$D$32","v":0},{"$nulls":10},"L",null,{"$f":"DRAW!$D$31","v":0}]
[]
[{"$f":"DRAW!$E$32","v":0},{"$nulls":10},"Sk",null,{"$f":"DRAW!$E$31","v":0}]
[]
[null,null,"First Set",{"$nulls":10},"Second Set"]
[null,null,{"$f":"DRAW!$E$32","v":0},{"$nulls":3},{"$f":"DRAW!$E$31","v":0},{"$nulls":6},{"$f":"DRAW!$E$32","v":0},{"$nulls":3},{"$f":"DRAW!$E$31","v":0}]
["End",null,"Shots",null,"Total",null,"Shots",null,"Total",{"$nulls":4},"Shots",null,"Total",null,"Shots",null,"Total"]
[1]
[2]
[3]
[4]
[5,{"$nulls":10},2,{"$nulls":10},1]
["Points",{"$nulls":3},"Tie Break",{"$nulls":14},"Points"]
[{"$nulls":4},"End",null,"Shots",{"$nulls":8},"Shots"]
[{"$nulls":4},1]
[{"$nulls":3},"TEAM No.",{"$nulls":5},"Time",{"$nulls":7},"TEAM No."]
["Sign",null,null,{"$f":"DRAW!$C$32","v":0},{"$nulls":5},"Completed",{"$nulls":5},"Sign",null,{"$f":"DRAW!$C$31","v":0}]
["i",{"$nulls":14},"i"]
[{"$f":"Entries!$A$1","v":"2018 District 5 - Mixed Pairs"}]
["R O U N D  1"]
[null,null,"RINK",{"$nulls":5},"DATE"]
[null,null,{"$f":"DRAW!$F$33","v":0}]
[]
[{"$f":"DRAW!$D$33","v":0},{"$nulls":10},"L",null,{"$f":"DRAW!$D$34","v":0}]
[]
[{"$f":"DRAW!$E$33","v":0},{"$nulls":10},"Sk",null,{"$f":"DRAW!$E$34","v":0}]
[]
[null,null,"First Set",{"$nulls":10},"Second Set"]
[null,null,{"$f":"DRAW!$E$33","v":0},{"$nulls":3},{"$f":"DRAW!$E$34","v":0},{"$nulls":6},{"$f":"DRAW!$E$33","v":0},{"$nulls":3},{"$f":"DRAW!$E$34","v":0}]
["End",null,"Shots",null,"Total",null,"Shots",null,"Total",{"$nulls":4},"Shots",null,"Total",null,"Shots",null,"Total"]
[1]
[2]
[3]
[4]
[5,{"$nulls":10},1,{"$nulls":10},1]
["Points",{"$nulls":3},"Tie Break",{"$nulls":14},"Points"]
[{"$nulls":4},"End",null,"Shots",{"$nulls":8},"Shots"]
[{"$nulls":4},1]
[{"$nulls":3},"TEAM No.",{"$nulls":5},"Time",{"$nulls":7},"TEAM No."]
["Sign",null,null,{"$f":"DRAW!$C$33","v":0},{"$nulls":5},"Completed",{"$nulls":5},"Sign",null,{"$f":"DRAW!$C$34","v":0}]
["i",{"$nulls":14},"i"]
[{"$f":"Entries!$A$1","v":"2018 District 5 - Mixed Pairs"}]
["R O U N D  1"]
[null,null,"RINK",{"$nulls":5},"DATE"]
[null,null,{"$f":"DRAW!$F$33","v":0}]
[]
[{"$f":"DRAW!$D$34","v":0},{"$nulls":10},"L",null,{"$f":"DRAW!$D$33","v":0}]
[]
[{"$f":"DRAW!$E$34","v":0},{"$nulls":10},"Sk",null,{"$f":"DRAW!$E$33","v":0}]
[]
[null,null,"First Set",{"$nulls":10},"Second Set"]
[null,null,{"$f":"DRAW!$E$34","v":0},{"$nulls":3},{"$f":"DRAW!$E$33","v":0},{"$nulls":6},{"$f":"DRAW!$E$34","v":0},{"$nulls":3},{"$f":"DRAW!$E$33","v":0}]
["End",null,"Shots",null,"Total",null,"Shots",null,"Total",{"$nulls":4},"Shots",null,"Total",null,"Shots",null,"Total"]
[1]
[2]
[3]
[4]
[5,{"$nulls":10},2,{"$nulls":10},1]
["Points",{"$nulls":3},"Tie Break",{"$nulls":14},"Points"]
[{"$nulls":4},"End",null,"Shots",{"$nulls":8},"Shots"]
[{"$nulls":4},1]
[{"$nulls":3},"TEAM No.",{"$nulls":5},"Time",{"$nulls":7},"TEAM No."]
["Sign",null,null,{"$f":"DRAW!$C$34","v":0},{"$nulls":5},"Completed",{"$nulls":5},"Sign",null,{"$f":"DRAW!$C$33","v":0}]
["i",{"$nulls":14},"i"]
[{"$f":"Entries!$A$1","v":"2018 District 5 - Mixed Pairs"}]
["R O U N D  1"]
[null,null,"RINK",{"$nulls":5},"DATE"]
[null,null,{"$f":"DRAW!$F$35","v":0}]
[]
[{"$f":"DRAW!$D$35","v":0},{"$nulls":10},"L",null,{"$f":"DRAW!$D$36","v":0}]
[]
[{"$f":"DRAW!$E$35","v":0},{"$nulls":10},"Sk",null,{"$f":"DRAW!$E$36","v":0}]
[]
[null,null,"First Set",{"$nulls":10},"Second Set"]
[null,null,{"$f":"DRAW!$E$35","v":0},{"$nulls":3},{"$f":"DRAW!$E$36","v":0},{"$nulls":6},{"$f":"DRAW!$E$35","v":0},{"$nulls":3},{"$f":"DRAW!$E$36","v":0}]
["End",null,"Shots",null,"Total",null,"Shots",null,"Total",{"$nulls":4},"Shots",null,"Total",null,"Shots",null,"Total"]
[1]
[2]
[3]
[4]
[5,{"$nulls":10},1,{"$nulls":10},1]
["Points",{"$nulls":3},"Tie Break",{"$nulls":14},"Points"]
[{"$nulls":4},"End",null,"Shots",{"$nulls":8},"Shots"]
[{"$nulls":4},1]
[{"$nulls":3},"TEAM No.",{"$nulls":5},"Time",{"$nulls":7},"TEAM No."]
["Sign",null,null,{"$f":"DRAW!$C$35","v":0},{"$nulls":5},"Completed",{"$nulls":5},"Sign",null,{"$f":"DRAW!$C$36","v":0}]
["i",{"$nulls":14},"i"]
[{"$f":"Entries!$A$1","v":"2018 District 5 - Mixed Pairs"}]
["R O U N D  1"]
[null,null,"RINK",{"$nulls":5},"DATE"]
[null,null,{"$f":"DRAW!$F$35","v":0}]
[]
[{"$f":"DRAW!$D$36","v":0},{"$nulls":10},"L",null,{"$f":"DRAW!$D$35","v":0}]
[]
[{"$f":"DRAW!$E$36","v":0},{"$nulls":10},"Sk",null,{"$f":"DRAW!$E$35","v":0}]
[]
[null,null,"First Set",{"$nulls":10},"Second Set"]
[null,null,{"$f":"DRAW!$E$36","v":0},{"$nulls":3},{"$f":"DRAW!$E$35","v":0},{"$nulls":6},{"$f":"DRAW!$E$36","v":0},{"$nulls":3},{"$f":"DRAW!$E$35","v":0}]
["End",null,"Shots",null,"Total",null,"Shots",null,"Total",{"$nulls":4},"Shots",null,"Total",null,"Shots",null,"Total"]
[1]
[2]
[3]
[4]
[5,{"$nulls":10},2,{"$nulls":10},1]
["Points",{"$nulls":3},"Tie Break",{"$nulls":14},"Points"]
[{"$nulls":4},"End",null,"Shots",{"$nulls":8},"Shots"]
[{"$nulls":4},1]
[{"$nulls":3},"TEAM No.",{"$nulls":5},"Time",{"$nulls":7},"TEAM No."]
["Sign",null,null,{"$f":"DRAW!$C$36","v":0},{"$nulls":5},"Completed",{"$nulls":5},"Sign",null,{"$f":"DRAW!$C$35","v":0}]
["i",{"$nulls":14},"i"]
[{"$f":"Entries!$A$1","v":"2018 District 5 - Mixed Pairs"}]
["R O U N D  1"]
[null,null,"RINK",{"$nulls":5},"DATE"]
[null,null,{"$f":"DRAW!$F$37","v":0}]
[]
[{"$f":"DRAW!$D$37","v":0},{"$nulls":10},"L",null,{"$f":"DRAW!$D$38","v":0}]
[]
[{"$f":"DRAW!$E$37","v":0},{"$nulls":10},"Sk",null,{"$f":"DRAW!$E$38","v":0}]
[]
[null,null,"First Set",{"$nulls":10},"Second Set"]
[null,null,{"$f":"DRAW!$E$37","v":0},{"$nulls":3},{"$f":"DRAW!$E$38","v":0},{"$nulls":6},{"$f":"DRAW!$E$37","v":0},{"$nulls":3},{"$f":"DRAW!$E$38","v":0}]
["End",null,"Shots",null,"Total",null,"Shots",null,"Total",{"$nulls":4},"Shots",null,"Total",null,"Shots",null,"Total"]
[1]
[2]
[3]
[4]
[5,{"$nulls":10},1,{"$nulls":10},1]
["Points",{"$nulls":3},"Tie Break",{"$nulls":14},"Points"]
[{"$nulls":4},"End",null,"Shots",{"$nulls":8},"Shots"]
[{"$nulls":4},1]
[{"$nulls":3},"TEAM No.",{"$nulls":5},"Time",{"$nulls":7},"TEAM No."]
["Sign",null,null,{"$f":"DRAW!$C$37","v":0},{"$nulls":5},"Completed",{"$nulls":5},"Sign",null,{"$f":"DRAW!$C$38","v":0}]
["i",{"$nulls":14},"i"]
[{"$f":"Entries!$A$1","v":"2018 District 5 - Mixed Pairs"}]
["R O U N D  1"]
[null,null,"RINK",{"$nulls":5},"DATE"]
[null,null,{"$f":"DRAW!$F$37","v":0}]
[]
[{"$f":"DRAW!$D$38","v":0},{"$nulls":10},"L",null,{"$f":"DRAW!$D$37","v":0}]
[]
[{"$f":"DRAW!$E$38","v":0},{"$nulls":10},"Sk",null,{"$f":"DRAW!$E$37","v":0}]
[]
[null,null,"First Set",{"$nulls":10},"Second Set"]
[null,null,{"$f":"DRAW!$E$38","v":0},{"$nulls":3},{"$f":"DRAW!$E$37","v":0},{"$nulls":6},{"$f":"DRAW!$E$38","v":0},{"$nulls":3},{"$f":"DRAW!$E$37","v":0}]
["End",null,"Shots",null,"Total",null,"Shots",null,"Total",{"$nulls":4},"Shots",null,"Total",null,"Shots",null,"Total"]
[1]
[2]
[3]
[4]
[5,{"$nulls":10},2,{"$nulls":10},1]
["Points",{"$nulls":3},"Tie Break",{"$nulls":14},"Points"]
[{"$nulls":4},"End",null,"Shots",{"$nulls":8},"Shots"]
[{"$nulls":4},1]
[{"$nulls":3},"TEAM No.",{"$nulls":5},"Time",{"$nulls":7},"TEAM No."]
["Sign",null,null,{"$f":"DRAW!$C$38","v":0},{"$nulls":5},"Completed",{"$nulls":5},"Sign",null,{"$f":"DRAW!$C$37","v":0}]
["i",{"$nulls":14},"i"]
[{"$f":"Entries!$A$1","v":"2018 District 5 - Mixed Pairs"}]
["R O U N D  1"]
[null,null,"RINK",{"$nulls":5},"DATE"]
[null,null,{"$f":"DRAW!$F$39","v":0}]
[]
[{"$f":"DRAW!$D$39","v":0},{"$nulls":10},"L",null,{"$f":"DRAW!$D$40","v":0}]
[]
[{"$f":"DRAW!$E$39","v":0},{"$nulls":10},"Sk",null,{"$f":"DRAW!$E$40","v":0}]
[]
[null,null,"First Set",{"$nulls":10},"Second Set"]
[null,null,{"$f":"DRAW!$E$39","v":0},{"$nulls":3},{"$f":"DRAW!$E$40","v":0},{"$nulls":6},{"$f":"DRAW!$E$39","v":0},{"$nulls":3},{"$f":"DRAW!$E$40","v":0}]
["End",null,"Shots",null,"Total",null,"Shots",null,"Total",{"$nulls":4},"Shots",null,"Total",null,"Shots",null,"Total"]
[1]
[2]
[3]
[4]
[5,{"$nulls":10},1,{"$nulls":10},1]
["Points",{"$nulls":3},"Tie Break",{"$nulls":14},"Points"]
[{"$nulls":4},"End",null,"Shots",{"$nulls":8},"Shots"]
[{"$nulls":4},1]
[{"$nulls":3},"TEAM No.",{"$nulls":5},"Time",{"$nulls":7},"TEAM No."]
["Sign",null,null,{"$f":"DRAW!$C$39","v":0},{"$nulls":5},"Completed",{"$nulls":5},"Sign",null,{"$f":"DRAW!$C$40","v":0}]
["i",{"$nulls":14},"i"]
[{"$f":"Entries!$A$1","v":"2018 District 5 - Mixed Pairs"}]
["R O U N D  1"]
[null,null,"RINK",{"$nulls":5},"DATE"]
[null,null,{"$f":"DRAW!$F$39","v":0}]
[]
[{"$f":"DRAW!$D$40","v":0},{"$nulls":10},"L",null,{"$f":"DRAW!$D$39","v":0}]
[]
[{"$f":"DRAW!$E$40","v":0},{"$nulls":10},"Sk",null,{"$f":"DRAW!$E$39","v":0}]
[]
[null,null,"First Set",{"$nulls":10},"Second Set"]
[null,null,{"$f":"DRAW!$E$40","v":0},{"$nulls":3},{"$f":"DRAW!$E$39","v":0},{"$nulls":6},{"$f":"DRAW!$E$40","v":0},{"$nulls":3},{"$f":"DRAW!$E$39","v":0}]
["End",null,"Shots",null,"Total",null,"Shots",null,"Total",{"$nulls":4},"Shots",null,"Total",null,"Shots",null,"Total"]
[1]
[2]
[3]
[4]
[5,{"$nulls":10},2,{"$nulls":10},1]
["Points",{"$nulls":3},"Tie Break",{"$nulls":14},"Points"]
[{"$nulls":4},"End",null,"Shots",{"$nulls":8},"Shots"]
[{"$nulls":4},1]
[{"$nulls":3},"TEAM No.",{"$nulls":5},"Time",{"$nulls":7},"TEAM No."]
["Sign",null,null,{"$f":"DRAW!$C$40","v":0},{"$nulls":5},"Completed",{"$nulls":5},"Sign",null,{"$f":"DRAW!$C$39","v":0}]
["i",{"$nulls":14},"i"]
[{"$f":"Entries!$A$1","v":"2018 District 5 - Mixed Pairs"}]
["R O U N D  1"]
[null,null,"RINK",{"$nulls":5},"DATE"]
[null,null,{"$f":"DRAW!$F$41","v":0}]
[]
[{"$f":"DRAW!$D$41","v":0},{"$nulls":10},"L",null,{"$f":"DRAW!$D$42","v":0}]
[]
[{"$f":"DRAW!$E$41","v":0},{"$nulls":10},"Sk",null,{"$f":"DRAW!$E$42","v":0}]
[]
[null,null,"First Set",{"$nulls":10},"Second Set"]
[null,null,{"$f":"DRAW!$E$41","v":0},{"$nulls":3},{"$f":"DRAW!$E$42","v":0},{"$nulls":6},{"$f":"DRAW!$E$41","v":0},{"$nulls":3},{"$f":"DRAW!$E$42","v":0}]
["End",null,"Shots",null,"Total",null,"Shots",null,"Total",{"$nulls":4},"Shots",null,"Total",null,"Shots",null,"Total"]
[1]
[2]
[3]
[4]
[5,{"$nulls":10},1,{"$nulls":10},1]
["Points",{"$nulls":3},"Tie Break",{"$nulls":14},"Points"]
[{"$nulls":4},"End",null,"Shots",{"$nulls":8},"Shots"]
[{"$nulls":4},1]
[{"$nulls":3},"TEAM No.",{"$nulls":5},"Time",{"$nulls":7},"TEAM No."]
["Sign",null,null,{"$f":"DRAW!$C$41","v":0},{"$nulls":5},"Completed",{"$nulls":5},"Sign",null,{"$f":"DRAW!$C$42","v":0}]
["i",{"$nulls":14},"i"]
[{"$f":"Entries!$A$1","v":"2018 District 5 - Mixed Pairs"}]
["R O U N D  1"]
[null,null,"RINK",{"$nulls":5},"DATE"]
[null,null,{"$f":"DRAW!$F$41","v":0}]
[]
[{"$f":"DRAW!$D$42","v":0},{"$nulls":10},"L",null,{"$f":"DRAW!$D$41","v":0}]
[]
[{"$f":"DRAW!$E$42","v":0},{"$nulls":10},"Sk",null,{"$f":"DRAW!$E$41","v":0}]
[]
[null,null,"First Set",{"$nulls":10},"Second Set"]
[null,null,{"$f":"DRAW!$E$42","v":0},{"$nulls":3},{"$f":"DRAW!$E$41","v":0},{"$nulls":6},{"$f":"DRAW!$E$42","v":0},{"$nulls":3},{"$f":"DRAW!$E$41","v":0}]
["End",null,"Shots",null,"Total",null,"Shots",null,"Total",{"$nulls":4},"Shots",null,"Total",null,"Shots",null,"Total"]
[1]
[2]
[3]
[4]
[5,{"$nulls":10},2,{"$nulls":10},1]
["Points",{"$nulls":3},"Tie Break",{"$nulls":14},"Points"]
[{"$nulls":4},"End",null,"Shots",{"$nulls":8},"Shots"]
[{"$nulls":4},1]
[{"$nulls":3},"TEAM No.",{"$nulls":5},"Time",{"$nulls":7},"TEAM No."]
["Sign",null,null,{"$f":"DRAW!$C$42","v":0},{"$nulls":5},"Completed",{"$nulls":5},"Sign",null,{"$f":"DRAW!$C$41","v":0}]
["i",{"$nulls":14},"i"]
[{"$f":"Entries!$A$1","v":"2018 District 5 - Mixed Pairs"}]
["R O U N D  1"]
[null,null,"RINK",{"$nulls":5},"DATE"]
[null,null,{"$f":"DRAW!$F$43","v":0}]
[]
[{"$f":"DRAW!$D$43","v":0},{"$nulls":10},"L",null,{"$f":"DRAW!$D$44","v":0}]
[]
[{"$f":"DRAW!$E$43","v":0},{"$nulls":10},"Sk",null,{"$f":"DRAW!$E$44","v":0}]
[]
[null,null,"First Set",{"$nulls":10},"Second Set"]
[null,null,{"$f":"DRAW!$E$43","v":0},{"$nulls":3},{"$f":"DRAW!$E$44","v":0},{"$nulls":6},{"$f":"DRAW!$E$43","v":0},{"$nulls":3},{"$f":"DRAW!$E$44","v":0}]
["End",null,"Shots",null,"Total",null,"Shots",null,"Total",{"$nulls":4},"Shots",null,"Total",null,"Shots",null,"Total"]
[1]
[2]
[3]
[4]
[5,{"$nulls":10},1,{"$nulls":10},1]
["Points",{"$nulls":3},"Tie Break",{"$nulls":14},"Points"]
[{"$nulls":4},"End",null,"Shots",{"$nulls":8},"Shots"]
[{"$nulls":4},1]
[{"$nulls":3},"TEAM No.",{"$nulls":5},"Time",{"$nulls":7},"TEAM No."]
["Sign",null,null,{"$f":"DRAW!$C$43","v":0},{"$nulls":5},"Completed",{"$nulls":5},"Sign",null,{"$f":"DRAW!$C$44","v":0}]
["i",{"$nulls":14},"i"]
[{"$f":"Entries!$A$1","v":"2018 District 5 - Mixed Pairs"}]
["R O U N D  1"]
[null,null,"RINK",{"$nulls":5},"DATE"]
[null,null,{"$f":"DRAW!$F$43","v":0}]
[]
[{"$f":"DRAW!$D$44","v":0},{"$nulls":10},"L",null,{"$f":"DRAW!$D$43","v":0}]
[]
[{"$f":"DRAW!$E$44","v":0},{"$nulls":10},"Sk",null,{"$f":"DRAW!$E$43","v":0}]
[]
[null,null,"First Set",{"$nulls":10},"Second Set"]
[null,null,{"$f":"DRAW!$E$44","v":0},{"$nulls":3},{"$f":"DRAW!$E$43","v":0},{"$nulls":6},{"$f":"DRAW!$E$44","v":0},{"$nulls":3},{"$f":"DRAW!$E$43","v":0}]
["End",null,"Shots",null,"Total",null,"Shots",null,"Total",{"$nulls":4},"Shots",null,"Total",null,"Shots",null,"Total"]
[1]
[2]
[3]
[4]
[5,{"$nulls":10},2,{"$nulls":10},1]
["Points",{"$nulls":3},"Tie Break",{"$nulls":14},"Points"]
[{"$nulls":4},"End",null,"Shots",{"$nulls":8},"Shots"]
[{"$nulls":4},1]
[{"$nulls":3},"TEAM No.",{"$nulls":5},"Time",{"$nulls":7},"TEAM No."]
["Sign",null,null,{"$f":"DRAW!$C$44","v":0},{"$nulls":5},"Completed",{"$nulls":5},"Sign",null,{"$f":"DRAW!$C$43","v":0}]
["i",{"$nulls":14},"i"]

{"sheet":"Fins 28 25 cds","index":39,"n_rows":920,"n_cols":23,"rows_kept":920,"hidden":true,"merged":[[0,0,0,23],[1,0,1,23],[2,2,2,6],[2,8,2,23],[3,2,3,6],[3,8,3,23],[5,0,5,10],[5,11,5,12],[5,13,5,23],[7,0,7,10],[7,11,7,12],[7,13,7,23],[9,2,9,10],[9,13,9,21],[10,2,10,5],[10,6,10,10],[10,13,10,16],[10,17,10,21],[11,0,11,1],[11,2,11,3],[11,4,11,5],[11,6,11,7],[11,8,11,10],[11,13,11,14],[11,15,11,16],[11,17,11,18],[11,19,11,21],[12,0,12,1],[12,2,12,3],[12,4,12,5],[12,6,12,7],[12,8,12,10],[12,13,12,14],[12,15,12,16],[12,17,12,18],[12,19,12,21],[13,0,13,1],[13,2,13,3],[13,4,13,5],[13,6,13,7],[13,8,13,10],[13,13,13,14],[13,15,13,16],[13,17,13,18],[13,19,13,21],[14,0,14,1],[14,2,14,3],[14,4,14,5],[14,6,14,7],[14,8,14,10],[14,13,14,14],[14,15,14,16],[14,17,14,18],[14,19,14,21],[15,0,15,1],[15,2,15,3],[15,4,15,5],[15,6,15,7],[15,8,15,10],[15,13,15,14],[15,15,15,16],[15,17,15,18],[15,19,15,21],[16,0,16,1],[16,2,16,3],[16,4,16,5],[16,6,16,7],[16,8,16,10],[16,11,16,12],[16,13,16,14],[16,15,16,16],[16,17,16,18],[16,19,16,21],[16,22,16,23],[17,0,17,2],[17,4,17,18],[17,19,17,23],[18,0,19,2],[18,4,18,5],[18,6,18,8],[18,15,18,17],[18,19,19,23],[19,4,19,5],[19,6,19,8],[20,3,20,6],[20,9,20,14],[20,17,20,21],[21,0,21,1],[21,3,22,6],[21,9,21,14],[21,15,21,16],[21,17,22,21],[22,0,22,1],[22,15,22,16],[23,0,23,23],[24,0,24,23],[25,2,25,6],[25,8,25,23],[26,2,26,6],[26,8,26,23],[28,0,28,10],[28,11,28,12],[28,13,28,23],[30,0,30,10],[30,11,30,12],[30,13,30,23],[32,2,32,10],[32,13,32,21],[33,2,33,5],[33,6,33,10],[33,13,33,16],[33,17,33,21],[34,0,34,1],[34,2,34,3],[34,4,34,5],[34,6,34,7],[34,8,34,10],[34,13,34,14],[34,15,34,16],[34,17,34,18],[34,19,34,21],[35,0,35,1],[35,2,35,3],[35,4,35,5],[35,6,35,7],[35,8,35,10],[35,13,35,14],[35,15,35,16],[35,17,35,18],[35,19,35,21],[36,0,36,1],[36,2,36,3],[36,4,36,5],[36,6,36,7],[36,8,36,10],[36,13,36,14],[36,15,36,16],[36,17,36,18],[36,19,36,21],[37,0,37,1],[37,2,37,3],[37,4,37,5],[37,6,37,7],[37,8,37,10],[37,13,37,14],[37,15,37,16],[37,17,37,18],[37,19,37,21],[38,0,38,1],[38,2,38,3],[38,4,38,5],[38,6,38,7],[38,8,38,10],[38,13,38,14],[38,15,38,16],[38,17,38,18],[38,19,38,21],[39,0,39,1],[39,2,39,3],[39,4,39,5],[39,6,39,7],[39,8,39,10],[39,11,39,12],[39,13,39,14],[39,15,39,16],[39,17,39,18],[39,19,39,21],[39,22,39,23],[40,0,40,2],[40,4,40,18],[40,19,40,23],[41,4,41,5],[41,6,41,8],[41,15,41,17],[41,19,42,23],[42,4,42,5],[42,6,42,8],[43,3,43,6],[43,9,43,14],[43,17,43,21],[44,0,44,1],[44,3,45,6],[44,9,44,14],[44,15,44,16],[44,17,45,21],[45,0,45,1],[45,15,45,16],[46,0,46,23],[47,0,47,23],[48,2,48,6],[48,8,48,23],[49,2,49,6],[49,8,49,23],[51,0,51,10],[51,11,51,12],[51,13,51,23],[53,0,53,10],[53,11,53,12],[53,13,53,23],[55,2,55,10],[55,13,55,21],[56,2,56,5],[56,6,56,10],[56,13,56,16],[56,17,56,21],[57,0,57,1],[57,2,57,3],[57,4,57,5],[57,6,57,7],[57,8,57,10],[57,13,57,14],[57,15,57,16],[57,17,57,18],[57,19,57,21],[58,0,58,1],[58,2,58,3],[58,4,58,5],[58,6,58,7],[58,8,58,10],[58,13,58,14],[58,15,58,16],[58,17,58,18],[58,19,58,21],[59,0,59,1],[59,2,59,3],[59,4,59,5],[59,6,59,7],[59,8,59,10],[59,13,59,14],[59,15,59,16],[59,17,59,18],[59,19,59,21],[60,0,60,1],[60,2,60,3],[60,4,60,5],[60,6,60,7],[60,8,60,10],[60,13,60,14],[60,15,60,16],[60,17,60,18],[60,19,60,21],[61,0,61,1],[61,2,61,3],[61,4,61,5],[61,6,61,7],[61,8,61,10],[61,13,61,14],[61,15,61,16],[61,17,61,18],[61,19,61,21],[62,0,62,1],[62,2,62,3],[62,4,62,5],[62,6,62,7],[62,8,62,10],[62,11,62,12],[62,13,62,14],[62,15,62,16],[62,17,62,18],[62,19,62,21],[62,22,62,23],[63,0,63,2],[63,4,63,18],[63,19,63,23],[64,4,64,5],[64,6,64,8],[64,15,64,17],[64,19,65,23],[65,4,65,5],[65,6,65,8],[66,3,66,6],[66,9,66,14],[66,17,66,21],[67,0,67,1],[67,3,68,6],[67,9,67,14],[67,15,67,16],[67,17,68,21],[68,0,68,1],[68,15,68,16],[69,0,69,23],[70,0,70,23],[71,2,71,6],[71,8,71,23],[72,2,72,6],[72,8,72,23],[74,0,74,10],[74,11,74,12],[74,13,74,23],[76,0,76,10],[76,11,76,12],[76,13,76,23],[78,2,78,10],[78,13,78,21],[79,2,79,5],[79,6,79,10],[79,13,79,16],[79,17,79,21],[80,0,80,1],[80,2,80,3],[80,4,80,5],[80,6,80,7],[80,8,80,10],[80,13,80,14],[80,15,80,16],[80,17,80,18],[80,19,80,21],[81,0,81,1],[81,2,81,3],[81,4,81,5],[81,6,81,7],[81,8,81,10],[81,13,81,14],[81,15,81,16],[81,17,81,18],[81,19,81,21],[82,0,82,1],[82,2,82,3],[82,4,82,5],[82,6,82,7],[82,8,82,10],[82,13,82,14],[82,15,82,16],[82,17,82,18],[82,19,82,21],[83,0,83,1],[83,2,83,3],[83,4,83,5],[83,6,83,7],[83,8,83,10],[83,13,83,14],[83,15,83,16],[83,17,83,18],[83,19,83,21],[84,0,84,1],[84,2,84,3],[84,4,84,5],[84,6,84,7],[84,8,84,10],[84,13,84,14],[84,15,84,16],[84,17,84,18],[84,19,84,21],[85,0,85,1],[85,2,85,3],[85,4,85,5],[85,6,85,7],[85,8,85,10],[85,11,85,12],[85,13,85,14],[85,15,85,16],[85,17,85,18],[85,19,85,21],[85,22,85,23],[86,0,86,2],[86,4,86,18],[86,19,86,23],[87,4,87,5],[87,6,87,8],[87,15,87,17],[87,19,88,23],[88,4,88,5],[88,6,88,8],[89,3,89,6],[89,9,89,14],[89,17,89,21],[90,0,90,1],[90,3,91,6],[90,9,90,14],[90,15,90,16],[90,17,91,21],[91,0,91,1],[91,15,91,16],[92,0,92,23],[93,0,93,23],[94,2,94,6],[94,8,94,23],[95,2,95,6],[95,8,95,23],[97,0,97,10],[97,11,97,12],[97,13,97,23],[99,0,99,10],[99,11,99,12],[99,13,99,23],[101,2,101,10],[101,13,101,21],[102,2,102,5],[102,6,102,10],[102,13,102,16],[102,17,102,21],[103,0,103,1],[103,2,103,3],[103,4,103,5],[103,6,103,7],[103,8,103,10],[103,13,103,14],[103,15,103,16],[103,17,103,18],[103,19,103,21],[104,0,104,1],[104,2,104,3],[104,4,104,5],[104,6,104,7],[104,8,104,10],[104,13,104,14],[104,15,104,16],[104,17,104,18],[104,19,104,21],[105,0,105,1],[105,2,105,3],[105,4,105,5],[105,6,105,7],[105,8,105,10],[105,13,105,14],[105,15,105,16],[105,17,105,18],[105,19,105,21],[106,0,106,1],[106,2,106,3],[106,4,106,5],[106,6,106,7],[106,8,106,10],[106,13,106,14],[106,15,106,16],[106,17,106,18],[106,19,106,21],[107,0,107,1],[107,2,107,3],[107,4,107,5],[107,6,107,7],[107,8,107,10],[107,13,107,14],[107,15,107,16],[107,17,107,18],[107,19,107,21],[108,0,108,1],[108,2,108,3],[108,4,108,5],[108,6,108,7],[108,8,108,10],[108,11,108,12],[108,13,108,14],[108,15,108,16],[108,17,108,18],[108,19,108,21],[108,22,108,23],[109,0,109,2],[109,4,109,18],[109,19,109,23],[110,0,111,2],[110,4,110,5],[110,6,110,8],[110,15,110,17],[110,19,111,23],[111,4,111,5],[111,6,111,8],[112,3,112,6],[112,9,112,14],[112,17,112,21],[113,0,113,1],[113,3,114,6],[113,9,113,14],[113,15,113,16],[113,17,114,21],[114,0,114,1],[114,15,114,16],[115,0,115,23],[116,0,116,23],[117,2,117,6],[117,8,117,23],[118,2,118,6],[118,8,118,23],[120,0,120,10],[120,11,120,12],[120,13,120,23],[122,0,122,10],[122,11,122,12],[122,13,122,23],[124,2,124,10],[124,13,124,21],[125,2,125,5],[125,6,125,10],[125,13,125,16],[125,17,125,21],[126,0,126,1],[126,2,126,3],[126,4,126,5],[126,6,126,7],[126,8,126,10],[126,13,126,14],[126,15,126,16],[126,17,126,18],[126,19,126,21],[127,0,127,1],[127,2,127,3],[127,4,127,5],[127,6,127,7],[127,8,127,10],[127,13,127,14],[127,15,127,16],[127,17,127,18],[127,19,127,21],[128,0,128,1],[128,2,128,3],[128,4,128,5],[128,6,128,7],[128,8,128,10],[128,13,128,14],[128,15,128,16],[128,17,128,18],[128,19,128,21],[129,0,129,1],[129,2,129,3],[129,4,129,5],[129,6,129,7],[129,8,129,10],[129,13,129,14],[129,15,129,16],[129,17,129,18],[129,19,129,21],[130,0,130,1],[130,2,130,3],[130,4,130,5],[130,6,130,7],[130,8,130,10],[130,13,130,14],[130,15,130,16],[130,17,130,18],[130,19,130,21],[131,0,131,1],[131,2,131,3],[131,4,131,5],[131,6,131,7],[131,8,131,10],[131,11,131,12],[131,13,131,14],[131,15,131,16],[131,17,131,18],[131,19,131,21],[131,22,131,23],[132,0,132,2],[132,4,132,18],[132,19,132,23],[133,0,134,2],[133,4,133,5],[133,6,133,8],[133,15,133,17],[133,19,134,23],[134,4,134,5],[134,6,134,8],[135,3,135,6],[135,9,135,14],[135,17,135,21],[136,0,136,1],[136,3,137,6],[136,9,136,14],[136,15,136,16],[136,17,137,21],[137,0,137,1],[137,15,137,16],[138,0,138,23],[139,0,139,23],[140,2,140,6],[140,8,140,23],[141,2,141,6],[141,8,141,23],[143,0,143,10],[143,11,143,12],[143,13,143,23],[145,0,145,10],[145,11,145,12],[145,13,145,23],[147,2,147,10],[147,13,147,21],[148,2,148,5],[148,6,148,10],[148,13,148,16],[148,17,148,21],[149,0,149,1],[149,2,149,3],[149,4,149,5],[149,6,149,7],[149,8,149,10],[149,13,149,14],[149,15,149,16],[149,17,149,18],[149,19,149,21],[150,0,150,1],[150,2,150,3],[150,4,150,5],[150,6,150,7],[150,8,150,10],[150,13,150,14],[150,15,150,16],[150,17,150,18],[150,19,150,21],[151,0,151,1],[151,2,151,3],[151,4,151,5],[151,6,151,7],[151,8,151,10],[151,13,151,14],[151,15,151,16],[151,17,151,18],[151,19,151,21],[152,0,152,1],[152,2,152,3],[152,4,152,5],[152,6,152,7],[152,8,152,10],[152,13,152,14],[152,15,152,16],[152,17,152,18],[152,19,152,21],[153,0,153,1],[153,2,153,3],[153,4,153,5],[153,6,153,7],[153,8,153,10],[153,13,153,14],[153,15,153,16],[153,17,153,18],[153,19,153,21],[154,0,154,1],[154,2,154,3],[154,4,154,5],[154,6,154,7],[154,8,154,10],[154,11,154,12],[154,13,154,14],[154,15,154,16],[154,17,154,18],[154,19,154,21],[154,22,154,23],[155,0,155,2],[155,4,155,18],[155,19,155,23],[156,0,157,2],[156,4,156,5],[156,6,156,8],[156,15,156,17],[156,19,157,23],[157,4,157,5],[157,6,157,8],[158,3,158,6],[158,9,158,14],[158,17,158,21],[159,0,159,1],[159,3,160,6],[159,9,159,14],[159,15,159,16],[159,17,160,21],[160,0,160,1],[160,15,160,16],[161,0,161,23],[162,0,162,23],[163,2,163,6],[163,8,163,23],[164,2,164,6],[164,8,164,23],[166,0,166,10],[166,11,166,12],[166,13,166,23],[168,0,168,10],[168,11,168,12],[168,13,168,23],[170,2,170,10],[170,13,170,21],[171,2,171,5],[171,6,171,10],[171,13,171,16],[171,17,171,21],[172,0,172,1],[172,2,172,3],[172,4,172,5],[172,6,172,7],[172,8,172,10],[172,13,172,14],[172,15,172,16],[172,17,172,18],[172,19,172,21],[173,0,173,1],[173,2,173,3],[173,4,173,5],[173,6,173,7],[173,8,173,10],[173,13,173,14],[173,15,173,16],[173,17,173,18],[173,19,173,21],[174,0,174,1],[174,2,174,3],[174,4,174,5],[174,6,174,7],[174,8,174,10],[174,13,174,14],[174,15,174,16],[174,17,174,18],[174,19,174,21],[175,0,175,1],[175,2,175,3],[175,4,175,5],[175,6,175,7],[175,8,175,10],[175,13,175,14],[175,15,175,16],[175,17,175,18],[175,19,175,21],[176,0,176,1],[176,2,176,3],[176,4,176,5],[176,6,176,7],[176,8,176,10],[176,13,176,14],[176,15,176,16],[176,17,176,18],[176,19,176,21],[177,0,177,1],[177,2,177,3],[177,4,177,5],[177,6,177,7],[177,8,177,10],[177,11,177,12],[177,13,177,14],[177,15,177,16],[177,17,177,18],[177,19,177,21],[177,22,177,23],[178,0,178,2],[178,4,178,18],[178,19,178,23],[179,0,180,2],[179,4,179,5],[179,6,179,8],[179,15,179,17],[179,19,180,23],[180,4,180,5],[180,6,180,8],[181,3,181,6],[181,9,181,14],[181,17,181,21],[182,0,182,1],[182,3,183,6],[182,9,182,14],[182,15,182,16],[182,17,183,21],[183,0,183,1],[183,15,183,16],[184,0,184,23],[185,0,185,23],[186,2,186,6],[186,8,186,23],[187,2,187,6],[187,8,187,23],[189,0,189,10],[189,11,189,12],[189,13,189,23],[191,0,191,10],[191,11,191,12],[191,13,191,23],[193,2,193,10],[193,13,193,21],[194,2,194,5],[194,6,194,10],[194,13,194,16],[194,17,194,21],[195,0,195,1],[195,2,195,3],[195,4,195,5],[195,6,195,7],[195,8,195,10],[195,13,195,14],[195,15,195,16],[195,17,195,18],[195,19,195,21],[196,0,196,1],[196,2,196,3],[196,4,196,5],[196,6,196,7],[196,8,196,10],[196,13,196,14],[196,15,196,16],[196,17,196,18],[196,19,196,21],[197,0,197,1],[197,2,197,3],[197,4,197,5],[197,6,197,7],[197,8,197,10],[197,13,197,14],[197,15,197,16],[197,17,197,18],[197,19,197,21],[198,0,198,1],[198,2,198,3],[198,4,198,5],[198,6,198,7],[198,8,198,10],[198,13,198,14],[198,15,198,16],[198,17,198,18],[198,19,198,21],[199,0,199,1],[199,2,199,3],[199,4,199,5],[199,6,199,7],[199,8,199,10],[199,13,199,14],[199,15,199,16],[199,17,199,18],[199,19,199,21],[200,0,200,1],[200,2,200,3],[200,4,200,5],[200,6,200,7],[200,8,200,10],[200,11,200,12],[200,13,200,14],[200,15,200,16],[200,17,200,18],[200,19,200,21],[200,22,200,23],[201,0,201,2],[201,4,201,18],[201,19,201,23],[202,0,203,2],[202,4,202,5],[202,6,202,8],[202,15,202,17],[202,19,203,23],[203,4,203,5],[203,6,203,8],[204,3,204,6],[204,9,204,14],[204,17,204,21],[205,0,205,1],[205,3,206,6],[205,9,205,14],[205,15,205,16],[205,17,206,21],[206,0,206,1],[206,15,206,16],[207,0,207,23],[208,0,208,23],[209,2,209,6],[209,8,209,23],[210,2,210,6],[210,8,210,23],[212,0,212,10],[212,11,212,12],[212,13,212,23],[214,0,214,10],[214,11,214,12],[214,13,214,23],[216,2,216,10],[216,13,216,21],[217,2,217,5],[217,6,217,10],[217,13,217,16],[217,17,217,21],[218,0,218,1],[218,2,218,3],[218,4,218,5],[218,6,218,7],[218,8,218,10],[218,13,218,14],[218,15,218,16],[218,17,218,18],[218,19,218,21],[219,0,219,1],[219,2,219,3],[219,4,219,5],[219,6,219,7],[219,8,219,10],[219,13,219,14],[219,15,219,16],[219,17,219,18],[219,19,219,21],[220,0,220,1],[220,2,220,3],[220,4,220,5],[220,6,220,7],[220,8,220,10],[220,13,220,14],[220,15,220,16],[220,17,220,18],[220,19,220,21],[221,0,221,1],[221,2,221,3],[221,4,221,5],[221,6,221,7],[221,8,221,10],[221,13,221,14],[221,15,221,16],[221,17,221,18],[221,19,221,21],[222,0,222,1],[222,2,222,3],[222,4,222,5],[222,6,222,7],[222,8,222,10],[222,13,222,14],[222,15,222,16],[222,17,222,18],[222,19,222,21],[223,0,223,1],[223,2,223,3],[223,4,223,5],[223,6,223,7],[223,8,223,10],[223,11,223,12],[223,13,223,14],[223,15,223,16],[223,17,223,18],[223,19,223,21],[223,22,223,23],[224,0,224,2],[224,4,224,18],[224,19,224,23],[225,0,226,2],[225,4,225,5],[225,6,225,8],[225,15,225,17],[225,19,226,23],[226,4,226,5],[226,6,226,8],[227,3,227,6],[227,9,227,14],[227,17,227,21],[228,0,228,1],[228,3,229,6],[228,9,228,14],[228,15,228,16],[228,17,229,21],[229,0,229,1],[229,15,229,16],[230,0,230,23],[231,0,231,23],[232,2,232,6],[232,8,232,23],[233,2,233,6],[233,8,233,23],[235,0,235,10],[235,11,235,12],[235,13,235,23],[237,0,237,10],[237,11,237,12],[237,13,237,23],[239,2,239,10],[239,13,239,21],[240,2,240,5],[240,6,240,10],[240,13,240,16],[240,17,240,21],[241,0,241,1],[241,2,241,3],[241,4,241,5],[241,6,241,7],[241,8,241,10],[241,13,241,14],[241,15,241,16],[241,17,241,18],[241,19,241,21],[242,0,242,1],[242,2,242,3],[242,4,242,5],[242,6,242,7],[242,8,242,10],[242,13,242,14],[242,15,242,16],[242,17,242,18],[242,19,242,21],[243,0,243,1],[243,2,243,3],[243,4,243,5],[243,6,243,7],[243,8,243,10],[243,13,243,14],[243,15,243,16],[243,17,243,18],[243,19,243,21],[244,0,244,1],[244,2,244,3],[244,4,244,5],[244,6,244,7],[244,8,244,10],[244,13,244,14],[244,15,244,16],[244,17,244,18],[244,19,244,21],[246,15,246,16],[246,17,246,18],[248,0,249,2],[248,4,248,5],[248,6,248,8],[248,15,248,17],[248,19,249,23],[249,4,249,5],[249,6,249,8]],"merged_total":3736,"flags":["merged_cut"]}
[{"$f":"Entries!$A$1","v":"2018 District 5 - Mixed Pairs"}]
[{"$f":"'Finals 28 25'!$C$3","v":"Q U A R T E R  F I N A L"}]
[null,null,"RINK",{"$nulls":5},"DATE"]
[null,null,{"$f":"'Finals 28 25'!$F$6","v":1},{"$nulls":5},{"$f":"Entries!$A$2","v":"20th June 2018"}]
[]
[{"$nulls":11},"L"]
[]
[{"$f":"'Finals 28 25'!$E$6","v":"Sec 7"},{"$nulls":10},"Sk",null,{"$f":"'Finals 28 25'!$E$7","v":"Sec 6"}]
[]
[null,null,"First Set",{"$nulls":10},"Second Set"]
[null,null,{"$f":"'Finals 28 25'!$E$6","v":"Sec 7"},{"$nulls":3},{"$f":"'Finals 28 25'!$E$7","v":"Sec 6"},{"$nulls":6},{"$f":"'Finals 28 25'!$E$6","v":"Sec 7"},{"$nulls":3},{"$f":"'Finals 28 25'!$E$7","v":"Sec 6"}]
["End",null,"Shots",null,"Total",null,"Shots",null,"Total",{"$nulls":4},"Shots",null,"Total",null,"Shots",null,"Total"]
[1]
[2]
[3]
[4]
[5,{"$nulls":10},1,{"$nulls":10},1]
["Points",{"$nulls":3},"Tie Break",{"$nulls":14},"Points"]
[{"$nulls":4},"End",null,"Shots",{"$nulls":8},"Shots"]
[{"$nulls":4},1]
[{"$nulls":9},"Time"]
["Sign",{"$nulls":8},"Completed",{"$nulls":5},"Sign"]
["i",{"$nulls":14},"i"]
[{"$f":"Entries!$A$1","v":"2018 District 5 - Mixed Pairs"}]
[{"$f":"'Finals 28 25'!$C$3","v":"Q U A R T E R  F I N A L"}]
[null,null,"RINK",{"$nulls":5},"DATE"]
[null,null,{"$f":"'Finals 28 25'!$F$6","v":1},{"$nulls":5},{"$f":"Entries!$A$2","v":"20th June 2018"}]
[]
[{"$nulls":11},"L"]
[]
[{"$f":"'Finals 28 25'!$E$7","v":"Sec 6"},{"$nulls":10},"Sk",null,{"$f":"'Finals 28 25'!$E$6","v":"Sec 7"}]
[]
[null,null,"First Set",{"$nulls":10},"Second Set"]
[null,null,{"$f":"'Finals 28 25'!$E$7","v":"Sec 6"},{"$nulls":3},{"$f":"'Finals 28 25'!$E$6","v":"Sec 7"},{"$nulls":6},{"$f":"'Finals 28 25'!$E$7","v":"Sec 6"},{"$nulls":3},{"$f":"'Finals 28 25'!$E$6","v":"Sec 7"}]
["End",null,"Shots",null,"Total",null,"Shots",null,"Total",{"$nulls":4},"Shots",null,"Total",null,"Shots",null,"Total"]
[1]
[2]
[3]
[4]
[5,{"$nulls":10},2,{"$nulls":10},1]
["Points",{"$nulls":3},"Tie Break",{"$nulls":14},"Points"]
[{"$nulls":4},"End",null,"Shots",{"$nulls":8},"Shots"]
[{"$nulls":4},1]
[{"$nulls":9},"Time"]
["Sign",{"$nulls":8},"Completed",{"$nulls":5},"Sign"]
["i",{"$nulls":14},"i"]
[{"$f":"Entries!$A$1","v":"2018 District 5 - Mixed Pairs"}]
[{"$f":"'Finals 28 25'!$C$3","v":"Q U A R T E R  F I N A L"}]
[null,null,"RINK",{"$nulls":5},"DATE"]
[null,null,{"$f":"'Finals 28 25'!$AA$6","v":2},{"$nulls":5},{"$f":"Entries!$A$2","v":"20th June 2018"}]
[]
[{"$nulls":11},"L"]
[]
[{"$f":"'Finals 28 25'!$Z$6","v":"Sec 5"},{"$nulls":10},"Sk",null,{"$f":"'Finals 28 25'!$Z$7","v":"Sec 4"}]
[]
[null,null,"First Set",{"$nulls":10},"Second Set"]
[null,null,{"$f":"'Finals 28 25'!$Z$6","v":"Sec 5"},{"$nulls":3},{"$f":"'Finals 28 25'!$Z$7","v":"Sec 4"},{"$nulls":6},{"$f":"'Finals 28 25'!$Z$6","v":"Sec 5"},{"$nulls":3},{"$f":"'Finals 28 25'!$Z$7","v":"Sec 4"}]
["End",null,"Shots",null,"Total",null,"Shots",null,"Total",{"$nulls":4},"Shots",null,"Total",null,"Shots",null,"Total"]
[1]
[2]
[3]
[4]
[5,{"$nulls":10},1,{"$nulls":10},1]
["Points",{"$nulls":3},"Tie Break",{"$nulls":14},"Points"]
[{"$nulls":4},"End",null,"Shots",{"$nulls":8},"Shots"]
[{"$nulls":4},1]
[{"$nulls":9},"Time"]
["Sign",{"$nulls":8},"Completed",{"$nulls":5},"Sign"]
["i",{"$nulls":14},"i"]
[{"$f":"Entries!$A$1","v":"2018 District 5 - Mixed Pairs"}]
[{"$f":"'Finals 28 25'!$C$3","v":"Q U A R T E R  F I N A L"}]
[null,null,"RINK",{"$nulls":5},"DATE"]
[null,null,{"$f":"'Finals 28 25'!$AA$6","v":2},{"$nulls":5},{"$f":"Entries!$A$2","v":"20th June 2018"}]
[]
[{"$nulls":11},"L"]
[]
[{"$f":"'Finals 28 25'!$Z$7","v":"Sec 4"},{"$nulls":10},"Sk",null,{"$f":"'Finals 28 25'!$Z$6","v":"Sec 5"}]
[]
[null,null,"First Set",{"$nulls":10},"Second Set"]
[null,null,{"$f":"'Finals 28 25'!$Z$7","v":"Sec 4"},{"$nulls":3},{"$f":"'Finals 28 25'!$Z$6","v":"Sec 5"},{"$nulls":6},{"$f":"'Finals 28 25'!$Z$7","v":"Sec 4"},{"$nulls":3},{"$f":"'Finals 28 25'!$Z$6","v":"Sec 5"}]
["End",null,"Shots",null,"Total",null,"Shots",null,"Total",{"$nulls":4},"Shots",null,"Total",null,"Shots",null,"Total"]
[1]
[2]
[3]
[4]
[5,{"$nulls":10},2,{"$nulls":10},1]
["Points",{"$nulls":3},"Tie Break",{"$nulls":14},"Points"]
[{"$nulls":4},"End",null,"Shots",{"$nulls":8},"Shots"]
[{"$nulls":4},1]
[{"$nulls":9},"Time"]
["Sign",{"$nulls":8},"Completed",{"$nulls":5},"Sign"]
["i",{"$nulls":14},"i"]
[{"$f":"Entries!$A$1","v":"2018 District 5 - Mixed Pairs"}]
[{"$f":"'Finals 28 25'!$C$3","v":"Q U A R T E R  F I N A L"}]
[null,null,"RINK",{"$nulls":5},"DATE"]
[null,null,{"$f":"'Finals 28 25'!$F$9","v":3},{"$nulls":5},{"$f":"Entries!$A$2","v":"20th June 2018"}]
[]
[{"$nulls":11},"L"]
[]
[{"$f":"'Finals 28 25'!$E$9","v":"Sec 3"},{"$nulls":10},"Sk",null,{"$f":"'Finals 28 25'!$E$10","v":"Sec 2"}]
[]
[null,null,"First Set",{"$nulls":10},"Second Set"]
[null,null,{"$f":"'Finals 28 25'!$E$9","v":"Sec 3"},{"$nulls":3},{"$f":"'Finals 28 25'!$E$10","v":"Sec 2"},{"$nulls":6},{"$f":"'Finals 28 25'!$E$9","v":"Sec 3"},{"$nulls":3},{"$f":"'Finals 28 25'!$E$10","v":"Sec 2"}]
["End",null,"Shots",null,"Total",null,"Shots",null,"Total",{"$nulls":4},"Shots",null,"Total",null,"Shots",null,"Total"]
[1]
[2]
[3]
[4]
[5,{"$nulls":10},1,{"$nulls":10},1]
["Points",{"$nulls":3},"Tie Break",{"$nulls":14},"Points"]
[{"$nulls":4},"End",null,"Shots",{"$nulls":8},"Shots"]
[{"$nulls":4},1]
[{"$nulls":9},"Time"]
["Sign",{"$nulls":8},"Completed",{"$nulls":5},"Sign"]
["i",{"$nulls":14},"i"]
[{"$f":"Entries!$A$1","v":"2018 District 5 - Mixed Pairs"}]
[{"$f":"'Finals 28 25'!$C$3","v":"Q U A R T E R  F I N A L"}]
[null,null,"RINK",{"$nulls":5},"DATE"]
[null,null,{"$f":"'Finals 28 25'!$F$9","v":3},{"$nulls":5},{"$f":"Entries!$A$2","v":"20th June 2018"}]
[]
[{"$nulls":11},"L"]
[]
[{"$f":"'Finals 28 25'!$E$10","v":"Sec 2"},{"$nulls":10},"Sk",null,{"$f":"'Finals 28 25'!$E$9","v":"Sec 3"}]
[]
[null,null,"First Set",{"$nulls":10},"Second Set"]
[null,null,{"$f":"'Finals 28 25'!$E$10","v":"Sec 2"},{"$nulls":3},{"$f":"'Finals 28 25'!$E$9","v":"Sec 3"},{"$nulls":6},{"$f":"'Finals 28 25'!$E$10","v":"Sec 2"},{"$nulls":3},{"$f":"'Finals 28 25'!$E$9","v":"Sec 3"}]
["End",null,"Shots",null,"Total",null,"Shots",null,"Total",{"$nulls":4},"Shots",null,"Total",null,"Shots",null,"Total"]
[1]
[2]
[3]
[4]
[5,{"$nulls":10},2,{"$nulls":10},1]
["Points",{"$nulls":3},"Tie Break",{"$nulls":14},"Points"]
[{"$nulls":4},"End",null,"Shots",{"$nulls":8},"Shots"]
[{"$nulls":4},1]
[{"$nulls":9},"Time"]
["Sign",{"$nulls":8},"Completed",{"$nulls":5},"Sign"]
["i",{"$nulls":14},"i"]
[{"$f":"Entries!$A$1","v":"2018 District 5 - Mixed Pairs"}]
[{"$f":"'Finals 28 25'!$C$11","v":"S E M I  F I N A L "}]
[null,null,"RINK",{"$nulls":5},"DATE"]
[null,null,{"$f":"'Finals 28 25'!$F$12","v":4},{"$nulls":5},{"$f":"Entries!$A$2","v":"20th June 2018"}]
[]
[{"$nulls":11},"L"]
[]
[{"$f":"'Finals 28 25'!$E$12","v":"Q/F 1"},{"$nulls":10},"Sk",null,{"$f":"'Finals 28 25'!$E$13","v":"Q/F 2"}]
[]
[null,null,"First Set",{"$nulls":10},"Second Set"]
[null,null,{"$f":"'Finals 28 25'!$E$12","v":"Q/F 1"},{"$nulls":3},{"$f":"'Finals 28 25'!$E$13","v":"Q/F 2"},{"$nulls":6},{"$f":"'Finals 28 25'!$E$12","v":"Q/F 1"},{"$nulls":3},{"$f":"'Finals 28 25'!$E$13","v":"Q/F 2"}]
["End",null,"Shots",null,"Total",null,"Shots",null,"Total",{"$nulls":4},"Shots",null,"Total",null,"Shots",null,"Total"]
[1]
[2]
[3]
[4]
[5,{"$nulls":10},2,{"$nulls":10},1]
["Points",{"$nulls":3},"Tie Break",{"$nulls":14},"Points"]
[{"$nulls":4},"End",null,"Shots",{"$nulls":8},"Shots"]
[{"$nulls":4},1]
[{"$nulls":9},"Time"]
["Sign",{"$nulls":8},"Completed",{"$nulls":5},"Sign"]
["i",{"$nulls":14},"i"]
[{"$f":"Entries!$A$1","v":"2018 District 5 - Mixed Pairs"}]
[{"$f":"'Finals 28 25'!$C$11","v":"S E M I  F I N A L "}]
[null,null,"RINK",{"$nulls":5},"DATE"]
[null,null,{"$f":"'Finals 28 25'!$F$12","v":4},{"$nulls":5},{"$f":"Entries!$A$2","v":"20th June 2018"}]
[]
[{"$nulls":11},"L"]
[]
[{"$f":"'Finals 28 25'!$E$13","v":"Q/F 2"},{"$nulls":10},"Sk",null,{"$f":"'Finals 28 25'!$E$12","v":"Q/F 1"}]
[]
[null,null,"First Set",{"$nulls":10},"Second Set"]
[null,null,{"$f":"'Finals 28 25'!$E$13","v":"Q/F 2"},{"$nulls":3},{"$f":"'Finals 28 25'!$E$12","v":"Q/F 1"},{"$nulls":6},{"$f":"'Finals 28 25'!$E$13","v":"Q/F 2"},{"$nulls":3},{"$f":"'Finals 28 25'!$E$12","v":"Q/F 1"}]
["End",null,"Shots",null,"Total",null,"Shots",null,"Total",{"$nulls":4},"Shots",null,"Total",null,"Shots",null,"Total"]
[1]
[2]
[3]
[4]
[5,{"$nulls":10},1,{"$nulls":10},1]
["Points",{"$nulls":3},"Tie Break",{"$nulls":14},"Points"]
[{"$nulls":4},"End",null,"Shots",{"$nulls":8},"Shots"]
[{"$nulls":4},1]
[{"$nulls":9},"Time"]
["Sign",{"$nulls":8},"Completed",{"$nulls":5},"Sign"]
["i",{"$nulls":14},"i"]
[{"$f":"Entries!$A$1","v":"2018 District 5 - Mixed Pairs"}]
[{"$f":"'Finals 28 25'!$C$11","v":"S E M I  F I N A L "}]
[null,null,"RINK",{"$nulls":5},"DATE"]
[null,null,{"$f":"'Finals 28 25'!$AA$12","v":5},{"$nulls":5},{"$f":"Entries!$A$2","v":"20th June 2018"}]
[]
[{"$nulls":11},"L"]
[]
[{"$f":"'Finals 28 25'!$Z$12","v":"Q/F 3"},{"$nulls":10},"Sk",null,{"$f":"'Finals 28 25'!$Z$13","v":"Sec 1"}]
[]
[null,null,"First Set",{"$nulls":10},"Second Set"]
[null,null,{"$f":"'Finals 28 25'!$Z$12","v":"Q/F 3"},{"$nulls":3},{"$f":"'Finals 28 25'!$Z$13","v":"Sec 1"},{"$nulls":6},{"$f":"'Finals 28 25'!$Z$12","v":"Q/F 3"},{"$nulls":3},{"$f":"'Finals 28 25'!$Z$13","v":"Sec 1"}]
["End",null,"Shots",null,"Total",null,"Shots",null,"Total",{"$nulls":4},"Shots",null,"Total",null,"Shots",null,"Total"]
[1]
[2]
[3]
[4]
[5,{"$nulls":10},1,{"$nulls":10},1]
["Points",{"$nulls":3},"Tie Break",{"$nulls":14},"Points"]
[{"$nulls":4},"End",null,"Shots",{"$nulls":8},"Shots"]
[{"$nulls":4},1]
[{"$nulls":9},"Time"]
["Sign",{"$nulls":8},"Completed",{"$nulls":5},"Sign"]
["i",{"$nulls":14},"i"]
[{"$f":"Entries!$A$1","v":"2018 District 5 - Mixed Pairs"}]
[{"$f":"'Finals 28 25'!$C$11","v":"S E M I  F I N A L "}]
[null,null,"RINK",{"$nulls":5},"DATE"]
[null,null,{"$f":"'Finals 28 25'!$AA$12","v":5},{"$nulls":5},{"$f":"Entries!$A$2","v":"20th June 2018"}]
[]
[{"$nulls":11},"L"]
[]
[{"$f":"'Finals 28 25'!$Z$13","v":"Sec 1"},{"$nulls":10},"Sk",null,{"$f":"'Finals 28 25'!$Z$12","v":"Q/F 3"}]
[]
[null,null,"First Set",{"$nulls":10},"Second Set"]
[null,null,{"$f":"'Finals 28 25'!$Z$13","v":"Sec 1"},{"$nulls":3},{"$f":"'Finals 28 25'!$Z$12","v":"Q/F 3"},{"$nulls":6},{"$f":"'Finals 28 25'!$Z$13","v":"Sec 1"},{"$nulls":3},{"$f":"'Finals 28 25'!$Z$12","v":"Q/F 3"}]
["End",null,"Shots",null,"Total",null,"Shots",null,"Total",{"$nulls":4},"Shots",null,"Total",null,"Shots",null,"Total"]
[1]
[2]
[3]
[4]
[5,{"$nulls":10},2,{"$nulls":10},1]
["Points",{"$nulls":3},"Tie Break",{"$nulls":14},"Points"]
[{"$nulls":4},"End",null,"Shots",{"$nulls":8},"Shots"]
[{"$nulls":4},1]
[{"$nulls":9},"Time"]
["Sign",{"$nulls":8},"Completed",{"$nulls":5},"Sign"]
["i",{"$nulls":14},"i"]
[{"$f":"Entries!$A$1","v":"2018 District 5 - Mixed Pairs"}]
[{"$f":"'Finals 28 25'!$C$17","v":"F I N A L "}]
[null,null,"RINK",{"$nulls":5},"DATE"]
[null,null,{"$f":"'Finals 28 25'!$F$18","v":6},{"$nulls":5},{"$f":"Entries!$A$2","v":"20th June 2018"}]
[]
[{"$nulls":11},"L"]
[]
[{"$f":"'Finals 28 25'!$E$18","v":"S/F 1"},{"$nulls":10},"Sk",null,{"$f":"'Finals 28 25'!$E$19","v":"S/F 2"}]
[]
[null,null,"First Set",{"$nulls":10},"Second Set"]
[null,null,{"$f":"'Finals 28 25'!$E$18","v":"S/F 1"},{"$nulls":3},{"$f":"'Finals 28 25'!$E$19","v":"S/F 2"},{"$nulls":6},{"$f":"'Finals 28 25'!$E$18","v":"S/F 1"},{"$nulls":3},{"$f":"'Finals 28 25'!$E$19","v":"S/F 2"}]
["End",null,"Shots",null,"Total",null,"Shots",null,"Total",{"$nulls":4},"Shots",null,"Total",null,"Shots",null,"Total"]
[1]
[2]
[3]
[4]
[5,{"$nulls":10},2,{"$nulls":10},1]
["Points",{"$nulls":3},"Tie Break",{"$nulls":14},"Points"]
[{"$nulls":4},"End",null,"Shots",{"$nulls":8},"Shots"]
[{"$nulls":4},1]
[{"$nulls":9},"Time"]
["Sign",{"$nulls":8},"Completed",{"$nulls":5},"Sign"]
["i",{"$nulls":14},"i"]
[{"$f":"Entries!$A$1","v":"2018 District 5 - Mixed Pairs"}]
[{"$f":"'Finals 28 25'!$C$17","v":"F I N A L "}]
[null,null,"RINK",{"$nulls":5},"DATE"]
[null,null,{"$f":"'Finals 28 25'!$F$18","v":6},{"$nulls":5},{"$f":"Entries!$A$2","v":"20th June 2018"}]
[]
[{"$nulls":11},"L"]
[]
[{"$f":"'Finals 28 25'!$E$19","v":"S/F 2"},{"$nulls":10},"Sk",null,{"$f":"'Finals 28 25'!$E$18","v":"S/F 1"}]
[]
[null,null,"First Set",{"$nulls":10},"Second Set"]
[null,null,{"$f":"'Finals 28 25'!$E$19","v":"S/F 2"},{"$nulls":3},{"$f":"'Finals 28 25'!$E$18","v":"S/F 1"},{"$nulls":6},{"$f":"'Finals 28 25'!$E$19","v":"S/F 2"},{"$nulls":3},{"$f":"'Finals 28 25'!$E$18","v":"S/F 1"}]
["End",null,"Shots",null,"Total",null,"Shots",null,"Total",{"$nulls":4},"Shots",null,"Total",null,"Shots",null,"Total"]
[1]
[2]
[3]
[4]
[5,{"$nulls":10},1,{"$nulls":10},1]
["Points",{"$nulls":3},"Tie Break",{"$nulls":14},"Points"]
[{"$nulls":4},"End",null,"Shots",{"$nulls":8},"Shots"]
[{"$nulls":4},1]
[{"$nulls":9},"Time"]
["Sign",{"$nulls":8},"Completed",{"$nulls":5},"Sign"]
["i",{"$nulls":14},"i"]
[{"$f":"Entries!$A$1","v":"2018 District 5 - Mixed Pairs"}]
[]
[null,null,"RINK",{"$nulls":5},"DATE"]
[]
[]
[{"$nulls":11},"L"]
[]
[{"$nulls":11},"Sk"]
[]
[null,null,"First Set",{"$nulls":10},"Second Set"]
[]
["End",null,"Shots",null,"Total",null,"Shots",null,"Total",{"$nulls":4},"Shots",null,"Total",null,"Shots",null,"Total"]
[1]
[2]
[3]
[4]
[5,{"$nulls":10},1,{"$nulls":10},1]
["Points",{"$nulls":3},"Tie Break",{"$nulls":14},"Points"]
[{"$nulls":4},"End",null,"Shots",{"$nulls":8},"Shots"]
[{"$nulls":4},1]
[{"$nulls":9},"Time"]
["Sign",{"$nulls":8},"Completed",{"$nulls":5},"Sign"]
["i",{"$nulls":14},"i"]
[{"$f":"Entries!$A$1","v":"2018 District 5 - Mixed Pairs"}]
[{"$f":"'Finals 28 25'!$C$17","v":"F I N A L "}]
[null,null,"RINK",{"$nulls":5},"DATE"]
[null,null,{"$f":"'Finals 28 25'!$F$18","v":6}]
[]
[{"$nulls":11},"L"]
[]
[{"$f":"'Finals 28 25'!$E$19","v":"S/F 2"},{"$nulls":10},"Sk",null,{"$f":"'Finals 28 25'!$E$18","v":"S/F 1"}]
[]
[null,null,"First Set",{"$nulls":10},"Second Set"]
[null,null,{"$f":"'Finals 28 25'!$E$19","v":"S/F 2"},{"$nulls":3},{"$f":"'Finals 28 25'!$E$18","v":"S/F 1"},{"$nulls":6},{"$f":"'Finals 28 25'!$E$19","v":"S/F 2"},{"$nulls":3},{"$f":"'Finals 28 25'!$E$18","v":"S/F 1"}]
["End",null,"Shots",null,"Total",null,"Shots",null,"Total",{"$nulls":4},"Shots",null,"Total",null,"Shots",null,"Total"]
[1]
[2]
[3]
[4]
[5,{"$nulls":10},2,{"$nulls":10},1]
["Points",{"$nulls":3},"Tie Break",{"$nulls":14},"Points"]
[{"$nulls":4},"End",null,"Shots",{"$nulls":8},"Shots"]
[{"$nulls":4},1]
[{"$nulls":9},"Time"]
["Sign",{"$nulls":8},"Completed",{"$nulls":5},"Sign"]
["i",{"$nulls":14},"i"]
[{"$f":"Entries!$A$1","v":"2018 District 5 - Mixed Pairs"}]
[{"$f":"'Finals 28 25'!$C$17","v":"F I N A L "}]
[null,null,"RINK",{"$nulls":5},"DATE"]
[null,null,{"$f":"'Finals 28 25'!$X$18","v":0}]
[{"$nulls":9},"      "]
[{"$nulls":11},"L"]
[]
[{"$f":"'Finals 28 25'!$Z$18","v":0},{"$nulls":10},"Sk",null,{"$f":"'Finals 28 25'!$Z$19","v":0}]
[]
[null,null,"First Set",{"$nulls":10},"Second Set"]
[null,null,{"$f":"'Finals 28 25'!$Z$18","v":0},{"$nulls":3},{"$f":"'Finals 28 25'!$Z$19","v":0},{"$nulls":6},{"$f":"'Finals 28 25'!$Z$18","v":0},{"$nulls":3},{"$f":"'Finals 28 25'!$Z$19","v":0}]
["End",null,"Shots",null,"Total",null,"Shots",null,"Total",{"$nulls":4},"Shots",null,"Total",null,"Shots",null,"Total"]
[1]
[2]
[3]
[4]
[5,{"$nulls":10},1,{"$nulls":10},1]
["Points",{"$nulls":3},"Tie Break",{"$nulls":14},"Points"]
[{"$nulls":4},"End",null,"Shots",{"$nulls":8},"Shots"]
[{"$nulls":4},1]
[{"$nulls":9},"Time"]
["Sign",{"$nulls":8},"Completed",{"$nulls":5},"Sign"]
["i",{"$nulls":14},"i"]
[{"$f":"Entries!$A$1","v":"2018 District 5 - Mixed Pairs"}]
[{"$f":"'Finals 28 25'!$C$17","v":"F I N A L "}]
[null,null,"RINK",{"$nulls":5},"DATE"]
[null,null,{"$f":"'Finals 28 25'!$X$18","v":0}]
[]
[{"$nulls":11},"L"]
[]
[{"$f":"'Finals 28 25'!$Z$19","v":0},{"$nulls":10},"Sk",null,{"$f":"'Finals 28 25'!$Z$18","v":0}]
[]
[null,null,"First Set",{"$nulls":10},"Second Set"]
[null,null,{"$f":"'Finals 28 25'!$Z$19","v":0},{"$nulls":3},{"$f":"'Finals 28 25'!$Z$18","v":0},{"$nulls":6},{"$f":"'Finals 28 25'!$Z$19","v":0},{"$nulls":3},{"$f":"'Finals 28 25'!$Z$18","v":0}]
["End",null,"Shots",null,"Total",null,"Shots",null,"Total",{"$nulls":4},"Shots",null,"Total",null,"Shots",null,"Total"]
[1]
[2]
[3]
[4]
[5,{"$nulls":10},2,{"$nulls":10},1]
["Points",{"$nulls":3},"Tie Break",{"$nulls":14},"Points"]
[{"$nulls":4},"End",null,"Shots",{"$nulls":8},"Shots"]
[{"$nulls":4},1]
[{"$nulls":9},"Time"]
["Sign",{"$nulls":8},"Completed",{"$nulls":5},"Sign"]
["i",{"$nulls":14},"i"]
[{"$f":"Entries!$A$1","v":"2018 District 5 - Mixed Pairs"}]
[{"$f":"'Finals 28 25'!$C$26","v":0}]
[null,null,"RINK",{"$nulls":5},"DATE"]
[null,null,{"$f":"'Finals 28 25'!$F$27","v":0}]
[]
[{"$nulls":11},"L"]
[]
[{"$f":"'Finals 28 25'!$E$27","v":0},{"$nulls":10},"Sk",null,{"$f":"'Finals 28 25'!$E$28","v":0}]
[]
[null,null,"First Set",{"$nulls":10},"Second Set"]
[null,null,{"$f":"'Finals 28 25'!$E$27","v":0},{"$nulls":3},{"$f":"'Finals 28 25'!$E$28","v":0},{"$nulls":6},{"$f":"'Finals 28 25'!$E$27","v":0},{"$nulls":3},{"$f":"'Finals 28 25'!$E$28","v":0}]
["End",null,"Shots",null,"Total",null,"Shots",null,"Total",{"$nulls":4},"Shots",null,"Total",null,"Shots",null,"Total"]
[1]
[2]
[3]
[4]
[5,{"$nulls":10},1,{"$nulls":10},1]
["Points",{"$nulls":3},"Tie Break",{"$nulls":14},"Points"]
[{"$nulls":4},"End",null,"Shots",{"$nulls":8},"Shots"]
[{"$nulls":4},1]
[{"$nulls":9},"Time"]
["Sign",{"$nulls":8},"Completed",{"$nulls":5},"Sign"]
["i",{"$nulls":14},"i"]
[{"$f":"Entries!$A$1","v":"2018 District 5 - Mixed Pairs"}]
[{"$f":"'Finals 28 25'!$C$26","v":0}]
[null,null,"RINK",{"$nulls":5},"DATE"]
[null,null,{"$f":"'Finals 28 25'!$F$27","v":0}]
[]
[{"$nulls":11},"L"]
[]
[{"$f":"'Finals 28 25'!$E$28","v":0},{"$nulls":10},"Sk",null,{"$f":"'Finals 28 25'!$E$27","v":0}]
[]
[null,null,"First Set",{"$nulls":10},"Second Set"]
[null,null,{"$f":"'Finals 28 25'!$E$28","v":0},{"$nulls":3},{"$f":"'Finals 28 25'!$E$27","v":0},{"$nulls":6},{"$f":"'Finals 28 25'!$E$28","v":0},{"$nulls":3},{"$f":"'Finals 28 25'!$E$27","v":0}]
["End",null,"Shots",null,"Total",null,"Shots",null,"Total",{"$nulls":4},"Shots",null,"Total",null,"Shots",null,"Total"]
[1]
[2]
[3]
[4]
[5,{"$nulls":10},2,{"$nulls":10},1]
["Points",{"$nulls":3},"Tie Break",{"$nulls":14},"Points"]
[{"$nulls":4},"End",null,"Shots",{"$nulls":8},"Shots"]
[{"$nulls":4},1]
[{"$nulls":9},"Time"]
["Sign",{"$nulls":8},"Completed",{"$nulls":5},"Sign"]
["i",{"$nulls":14},"i"]
[{"$f":"Entries!$A$1","v":"2018 District 5 - Mixed Pairs"}]
[]
[null,null,"RINK",{"$nulls":5},"DATE"]
[]
[]
[{"$nulls":11},"L"]
[]
[{"$nulls":11},"Sk"]
[]
[null,null,"First Set",{"$nulls":10},"Second Set"]
[]
["End",null,"Shots",null,"Total",null,"Shots",null,"Total",{"$nulls":4},"Shots",null,"Total",null,"Shots",null,"Total"]
[1]
[2]
[3]
[4]
[5,{"$nulls":10},1,{"$nulls":10},1]
["Points",{"$nulls":3},"Tie Break",{"$nulls":14},"Points"]
[{"$nulls":4},"End",null,"Shots",{"$nulls":8},"Shots"]
[{"$nulls":4},1]
[{"$nulls":9},"Time"]
["Sign",{"$nulls":8},"Completed",{"$nulls":5},"Sign"]
["i",{"$nulls":14},"i"]
[{"$f":"Entries!$A$1","v":"2018 District 5 - Mixed Pairs"}]
["R O U N D  1"]
[null,null,"RINK",{"$nulls":5},"DATE"]
[null,null,{"$f":"DRAW!$F$23","v":0}]
[]
[{"$f":"DRAW!$D$24","v":0},{"$nulls":10},"L",null,{"$f":"DRAW!$D$23","v":0}]
[]
[{"$f":"DRAW!$E$24","v":0},{"$nulls":10},"Sk",null,{"$f":"DRAW!$E$23","v":0}]
[]
[null,null,"First Set",{"$nulls":10},"Second Set"]
[null,null,{"$f":"DRAW!$E$24","v":0},{"$nulls":3},{"$f":"DRAW!$E$23","v":0},{"$nulls":6},{"$f":"DRAW!$E$24","v":0},{"$nulls":3},{"$f":"DRAW!$E$23","v":0}]
["End",null,"Shots",null,"Total",null,"Shots",null,"Total",{"$nulls":4},"Shots",null,"Total",null,"Shots",null,"Total"]
[1]
[2]
[3]
[4]
[5,{"$nulls":10},2,{"$nulls":10},1]
["Points",{"$nulls":3},"Tie Break",{"$nulls":14},"Points"]
[{"$nulls":4},"End",null,"Shots",{"$nulls":8},"Shots"]
[{"$nulls":4},1]
[{"$nulls":3},"TEAM No.",{"$nulls":5},"Time",{"$nulls":7},"TEAM No."]
["Sign",null,null,{"$f":"DRAW!$C$24","v":0},{"$nulls":5},"Completed",{"$nulls":5},"Sign",null,{"$f":"DRAW!$C$23","v":0}]
["i",{"$nulls":14},"i"]
[{"$f":"Entries!$A$1","v":"2018 District 5 - Mixed Pairs"}]
["R O U N D  1"]
[null,null,"RINK",{"$nulls":5},"DATE"]
[null,null,{"$f":"DRAW!$F$25","v":0}]
[]
[{"$f":"DRAW!$D$25","v":0},{"$nulls":10},"L",null,{"$f":"DRAW!$D$26","v":0}]
[]
[{"$f":"DRAW!$E$25","v":0},{"$nulls":10},"Sk",null,{"$f":"DRAW!$E$26","v":0}]
[]
[null,null,"First Set",{"$nulls":10},"Second Set"]
[null,null,{"$f":"DRAW!$E$25","v":0},{"$nulls":3},{"$f":"DRAW!$E$26","v":0},{"$nulls":6},{"$f":"DRAW!$E$25","v":0},{"$nulls":3},{"$f":"DRAW!$E$26","v":0}]
["End",null,"Shots",null,"Total",null,"Shots",null,"Total",{"$nulls":4},"Shots",null,"Total",null,"Shots",null,"Total"]
[1]
[2]
[3]
[4]
[5,{"$nulls":10},1,{"$nulls":10},1]
["Points",{"$nulls":3},"Tie Break",{"$nulls":14},"Points"]
[{"$nulls":4},"End",null,"Shots",{"$nulls":8},"Shots"]
[{"$nulls":4},1]
[{"$nulls":3},"TEAM No.",{"$nulls":5},"Time",{"$nulls":7},"TEAM No."]
["Sign",null,null,{"$f":"DRAW!$C$25","v":0},{"$nulls":5},"Completed",{"$nulls":5},"Sign",null,{"$f":"DRAW!$C$26","v":0}]
["i",{"$nulls":14},"i"]
[{"$f":"Entries!$A$1","v":"2018 District 5 - Mixed Pairs"}]
["R O U N D  1"]
[null,null,"RINK",{"$nulls":5},"DATE"]
[null,null,{"$f":"DRAW!$F$25","v":0}]
[]
[{"$f":"DRAW!$D$26","v":0},{"$nulls":10},"L",null,{"$f":"DRAW!$D$25","v":0}]
[]
[{"$f":"DRAW!$E$26","v":0},{"$nulls":10},"Sk",null,{"$f":"DRAW!$E$25","v":0}]
[]
[null,null,"First Set",{"$nulls":10},"Second Set"]
[null,null,{"$f":"DRAW!$E$26","v":0},{"$nulls":3},{"$f":"DRAW!$E$25","v":0},{"$nulls":6},{"$f":"DRAW!$E$26","v":0},{"$nulls":3},{"$f":"DRAW!$E$25","v":0}]
["End",null,"Shots",null,"Total",null,"Shots",null,"Total",{"$nulls":4},"Shots",null,"Total",null,"Shots",null,"Total"]
[1]
[2]
[3]
[4]
[5,{"$nulls":10},2,{"$nulls":10},1]
["Points",{"$nulls":3},"Tie Break",{"$nulls":14},"Points"]
[{"$nulls":4},"End",null,"Shots",{"$nulls":8},"Shots"]
[{"$nulls":4},1]
[{"$nulls":3},"TEAM No.",{"$nulls":5},"Time",{"$nulls":7},"TEAM No."]
["Sign",null,null,{"$f":"DRAW!$C$26","v":0},{"$nulls":5},"Completed",{"$nulls":5},"Sign",null,{"$f":"DRAW!$C$25","v":0}]
["i",{"$nulls":14},"i"]
[{"$f":"Entries!$A$1","v":"2018 District 5 - Mixed Pairs"}]
["R O U N D  1"]
[null,null,"RINK",{"$nulls":5},"DATE"]
[null,null,{"$f":"DRAW!$F$27","v":0}]
[]
[{"$f":"DRAW!$D$27","v":0},{"$nulls":10},"L",null,{"$f":"DRAW!$D$28","v":0}]
[]
[{"$f":"DRAW!$E$27","v":0},{"$nulls":10},"Sk",null,{"$f":"DRAW!$E$28","v":0}]
[]
[null,null,"First Set",{"$nulls":10},"Second Set"]
[null,null,{"$f":"DRAW!$E$27","v":0},{"$nulls":3},{"$f":"DRAW!$E$28","v":0},{"$nulls":6},{"$f":"DRAW!$E$27","v":0},{"$nulls":3},{"$f":"DRAW!$E$28","v":0}]
["End",null,"Shots",null,"Total",null,"Shots",null,"Total",{"$nulls":4},"Shots",null,"Total",null,"Shots",null,"Total"]
[1]
[2]
[3]
[4]
[5,{"$nulls":10},1,{"$nulls":10},1]
["Points",{"$nulls":3},"Tie Break",{"$nulls":14},"Points"]
[{"$nulls":4},"End",null,"Shots",{"$nulls":8},"Shots"]
[{"$nulls":4},1]
[{"$nulls":3},"TEAM No.",{"$nulls":5},"Time",{"$nulls":7},"TEAM No."]
["Sign",null,null,{"$f":"DRAW!$C$27","v":0},{"$nulls":5},"Completed",{"$nulls":5},"Sign",null,{"$f":"DRAW!$C$28","v":0}]
["i",{"$nulls":14},"i"]
[{"$f":"Entries!$A$1","v":"2018 District 5 - Mixed Pairs"}]
["R O U N D  1"]
[null,null,"RINK",{"$nulls":5},"DATE"]
[null,null,{"$f":"DRAW!$F$27","v":0}]
[]
[{"$f":"DRAW!$D$28","v":0},{"$nulls":10},"L",null,{"$f":"DRAW!$D$27","v":0}]
[]
[{"$f":"DRAW!$E$28","v":0},{"$nulls":10},"Sk",null,{"$f":"DRAW!$E$27","v":0}]
[]
[null,null,"First Set",{"$nulls":10},"Second Set"]
[null,null,{"$f":"DRAW!$E$28","v":0},{"$nulls":3},{"$f":"DRAW!$E$27","v":0},{"$nulls":6},{"$f":"DRAW!$E$28","v":0},{"$nulls":3},{"$f":"DRAW!$E$27","v":0}]
["End",null,"Shots",null,"Total",null,"Shots",null,"Total",{"$nulls":4},"Shots",null,"Total",null,"Shots",null,"Total"]
[1]
[2]
[3]
[4]
[5,{"$nulls":10},2,{"$nulls":10},1]
["Points",{"$nulls":3},"Tie Break",{"$nulls":14},"Points"]
[{"$nulls":4},"End",null,"Shots",{"$nulls":8},"Shots"]
[{"$nulls":4},1]
[{"$nulls":3},"TEAM No.",{"$nulls":5},"Time",{"$nulls":7},"TEAM No."]
["Sign",null,null,{"$f":"DRAW!$C$28","v":0},{"$nulls":5},"Completed",{"$nulls":5},"Sign",null,{"$f":"DRAW!$C$27","v":0}]
["i",{"$nulls":14},"i"]
[{"$f":"Entries!$A$1","v":"2018 District 5 - Mixed Pairs"}]
["R O U N D  1"]
[null,null,"RINK",{"$nulls":5},"DATE"]
[null,null,{"$f":"DRAW!$F$29","v":0}]
[]
[{"$f":"DRAW!$D$29","v":0},{"$nulls":10},"L",null,{"$f":"DRAW!$D$30","v":0}]
[]
[{"$f":"DRAW!$E$29","v":0},{"$nulls":10},"Sk",null,{"$f":"DRAW!$E$30","v":0}]
[]
[null,null,"First Set",{"$nulls":10},"Second Set"]
[null,null,{"$f":"DRAW!$E$29","v":0},{"$nulls":3},{"$f":"DRAW!$E$30","v":0},{"$nulls":6},{"$f":"DRAW!$E$29","v":0},{"$nulls":3},{"$f":"DRAW!$E$30","v":0}]
["End",null,"Shots",null,"Total",null,"Shots",null,"Total",{"$nulls":4},"Shots",null,"Total",null,"Shots",null,"Total"]
[1]
[2]
[3]
[4]
[5,{"$nulls":10},1,{"$nulls":10},1]
["Points",{"$nulls":3},"Tie Break",{"$nulls":14},"Points"]
[{"$nulls":4},"End",null,"Shots",{"$nulls":8},"Shots"]
[{"$nulls":4},1]
[{"$nulls":3},"TEAM No.",{"$nulls":5},"Time",{"$nulls":7},"TEAM No."]
["Sign",null,null,{"$f":"DRAW!$C$29","v":0},{"$nulls":5},"Completed",{"$nulls":5},"Sign",null,{"$f":"DRAW!$C$30","v":0}]
["i",{"$nulls":14},"i"]
[{"$f":"Entries!$A$1","v":"2018 District 5 - Mixed Pairs"}]
["R O U N D  1"]
[null,null,"RINK",{"$nulls":5},"DATE"]
[null,null,{"$f":"DRAW!$F$29","v":0}]
[]
[{"$f":"DRAW!$D$30","v":0},{"$nulls":10},"L",null,{"$f":"DRAW!$D$29","v":0}]
[]
[{"$f":"DRAW!$E$30","v":0},{"$nulls":10},"Sk",null,{"$f":"DRAW!$E$29","v":0}]
[]
[null,null,"First Set",{"$nulls":10},"Second Set"]
[null,null,{"$f":"DRAW!$E$30","v":0},{"$nulls":3},{"$f":"DRAW!$E$29","v":0},{"$nulls":6},{"$f":"DRAW!$E$30","v":0},{"$nulls":3},{"$f":"DRAW!$E$29","v":0}]
["End",null,"Shots",null,"Total",null,"Shots",null,"Total",{"$nulls":4},"Shots",null,"Total",null,"Shots",null,"Total"]
[1]
[2]
[3]
[4]
[5,{"$nulls":10},2,{"$nulls":10},1]
["Points",{"$nulls":3},"Tie Break",{"$nulls":14},"Points"]
[{"$nulls":4},"End",null,"Shots",{"$nulls":8},"Shots"]
[{"$nulls":4},1]
[{"$nulls":3},"TEAM No.",{"$nulls":5},"Time",{"$nulls":7},"TEAM No."]
["Sign",null,null,{"$f":"DRAW!$C$30","v":0},{"$nulls":5},"Completed",{"$nulls":5},"Sign",null,{"$f":"DRAW!$C$29","v":0}]
["i",{"$nulls":14},"i"]
[{"$f":"Entries!$A$1","v":"2018 District 5 - Mixed Pairs"}]
["R O U N D  1"]
[null,null,"RINK",{"$nulls":5},"DATE"]
[null,null,{"$f":"DRAW!$F$31","v":0}]
[]
[{"$f":"DRAW!$D$31","v":0},{"$nulls":10},"L",null,{"$f":"DRAW!$D$32","v":0}]
[]
[{"$f":"DRAW!$E$31","v":0},{"$nulls":10},"Sk",null,{"$f":"DRAW!$E$32","v":0}]
[]
[null,null,"First Set",{"$nulls":10},"Second Set"]
[null,null,{"$f":"DRAW!$E$31","v":0},{"$nulls":3},{"$f":"DRAW!$E$32","v":0},{"$nulls":6},{"$f":"DRAW!$E$31","v":0},{"$nulls":3},{"$f":"DRAW!$E$32","v":0}]
["End",null,"Shots",null,"Total",null,"Shots",null,"Total",{"$nulls":4},"Shots",null,"Total",null,"Shots",null,"Total"]
[1]
[2]
[3]
[4]
[5,{"$nulls":10},1,{"$nulls":10},1]
["Points",{"$nulls":3},"Tie Break",{"$nulls":14},"Points"]
[{"$nulls":4},"End",null,"Shots",{"$nulls":8},"Shots"]
[{"$nulls":4},1]
[{"$nulls":3},"TEAM No.",{"$nulls":5},"Time",{"$nulls":7},"TEAM No."]
["Sign",null,null,{"$f":"DRAW!$C$31","v":0},{"$nulls":5},"Completed",{"$nulls":5},"Sign",null,{"$f":"DRAW!$C$32","v":0}]
["i",{"$nulls":14},"i"]
[{"$f":"Entries!$A$1","v":"2018 District 5 - Mixed Pairs"}]
["R O U N D  1"]
[null,null,"RINK",{"$nulls":5},"DATE"]
[null,null,{"$f":"DRAW!$F$31","v":0}]
[]
[{"$f":"DRAW!$D$32","v":0},{"$nulls":10},"L",null,{"$f":"DRAW!$D$31","v":0}]
[]
[{"$f":"DRAW!$E$32","v":0},{"$nulls":10},"Sk",null,{"$f":"DRAW!$E$31","v":0}]
[]
[null,null,"First Set",{"$nulls":10},"Second Set"]
[null,null,{"$f":"DRAW!$E$32","v":0},{"$nulls":3},{"$f":"DRAW!$E$31","v":0},{"$nulls":6},{"$f":"DRAW!$E$32","v":0},{"$nulls":3},{"$f":"DRAW!$E$31","v":0}]
["End",null,"Shots",null,"Total",null,"Shots",null,"Total",{"$nulls":4},"Shots",null,"Total",null,"Shots",null,"Total"]
[1]
[2]
[3]
[4]
[5,{"$nulls":10},2,{"$nulls":10},1]
["Points",{"$nulls":3},"Tie Break",{"$nulls":14},"Points"]
[{"$nulls":4},"End",null,"Shots",{"$nulls":8},"Shots"]
[{"$nulls":4},1]
[{"$nulls":3},"TEAM No.",{"$nulls":5},"Time",{"$nulls":7},"TEAM No."]
["Sign",null,null,{"$f":"DRAW!$C$32","v":0},{"$nulls":5},"Completed",{"$nulls":5},"Sign",null,{"$f":"DRAW!$C$31","v":0}]
["i",{"$nulls":14},"i"]
[{"$f":"Entries!$A$1","v":"2018 District 5 - Mixed Pairs"}]
["R O U N D  1"]
[null,null,"RINK",{"$nulls":5},"DATE"]
[null,null,{"$f":"DRAW!$F$33","v":0}]
[]
[{"$f":"DRAW!$D$33","v":0},{"$nulls":10},"L",null,{"$f":"DRAW!$D$34","v":0}]
[]
[{"$f":"DRAW!$E$33","v":0},{"$nulls":10},"Sk",null,{"$f":"DRAW!$E$34","v":0}]
[]
[null,null,"First Set",{"$nulls":10},"Second Set"]
[null,null,{"$f":"DRAW!$E$33","v":0},{"$nulls":3},{"$f":"DRAW!$E$34","v":0},{"$nulls":6},{"$f":"DRAW!$E$33","v":0},{"$nulls":3},{"$f":"DRAW!$E$34","v":0}]
["End",null,"Shots",null,"Total",null,"Shots",null,"Total",{"$nulls":4},"Shots",null,"Total",null,"Shots",null,"Total"]
[1]
[2]
[3]
[4]
[5,{"$nulls":10},1,{"$nulls":10},1]
["Points",{"$nulls":3},"Tie Break",{"$nulls":14},"Points"]
[{"$nulls":4},"End",null,"Shots",{"$nulls":8},"Shots"]
[{"$nulls":4},1]
[{"$nulls":3},"TEAM No.",{"$nulls":5},"Time",{"$nulls":7},"TEAM No."]
["Sign",null,null,{"$f":"DRAW!$C$33","v":0},{"$nulls":5},"Completed",{"$nulls":5},"Sign",null,{"$f":"DRAW!$C$34","v":0}]
["i",{"$nulls":14},"i"]
[{"$f":"Entries!$A$1","v":"2018 District 5 - Mixed Pairs"}]
["R O U N D  1"]
[null,null,"RINK",{"$nulls":5},"DATE"]
[null,null,{"$f":"DRAW!$F$33","v":0}]
[]
[{"$f":"DRAW!$D$34","v":0},{"$nulls":10},"L",null,{"$f":"DRAW!$D$33","v":0}]
[]
[{"$f":"DRAW!$E$34","v":0},{"$nulls":10},"Sk",null,{"$f":"DRAW!$E$33","v":0}]
[]
[null,null,"First Set",{"$nulls":10},"Second Set"]
[null,null,{"$f":"DRAW!$E$34","v":0},{"$nulls":3},{"$f":"DRAW!$E$33","v":0},{"$nulls":6},{"$f":"DRAW!$E$34","v":0},{"$nulls":3},{"$f":"DRAW!$E$33","v":0}]
["End",null,"Shots",null,"Total",null,"Shots",null,"Total",{"$nulls":4},"Shots",null,"Total",null,"Shots",null,"Total"]
[1]
[2]
[3]
[4]
[5,{"$nulls":10},2,{"$nulls":10},1]
["Points",{"$nulls":3},"Tie Break",{"$nulls":14},"Points"]
[{"$nulls":4},"End",null,"Shots",{"$nulls":8},"Shots"]
[{"$nulls":4},1]
[{"$nulls":3},"TEAM No.",{"$nulls":5},"Time",{"$nulls":7},"TEAM No."]
["Sign",null,null,{"$f":"DRAW!$C$34","v":0},{"$nulls":5},"Completed",{"$nulls":5},"Sign",null,{"$f":"DRAW!$C$33","v":0}]
["i",{"$nulls":14},"i"]
[{"$f":"Entries!$A$1","v":"2018 District 5 - Mixed Pairs"}]
["R O U N D  1"]
[null,null,"RINK",{"$nulls":5},"DATE"]
[null,null,{"$f":"DRAW!$F$35","v":0}]
[]
[{"$f":"DRAW!$D$35","v":0},{"$nulls":10},"L",null,{"$f":"DRAW!$D$36","v":0}]
[]
[{"$f":"DRAW!$E$35","v":0},{"$nulls":10},"Sk",null,{"$f":"DRAW!$E$36","v":0}]
[]
[null,null,"First Set",{"$nulls":10},"Second Set"]
[null,null,{"$f":"DRAW!$E$35","v":0},{"$nulls":3},{"$f":"DRAW!$E$36","v":0},{"$nulls":6},{"$f":"DRAW!$E$35","v":0},{"$nulls":3},{"$f":"DRAW!$E$36","v":0}]
["End",null,"Shots",null,"Total",null,"Shots",null,"Total",{"$nulls":4},"Shots",null,"Total",null,"Shots",null,"Total"]
[1]
[2]
[3]
[4]
[5,{"$nulls":10},1,{"$nulls":10},1]
["Points",{"$nulls":3},"Tie Break",{"$nulls":14},"Points"]
[{"$nulls":4},"End",null,"Shots",{"$nulls":8},"Shots"]
[{"$nulls":4},1]
[{"$nulls":3},"TEAM No.",{"$nulls":5},"Time",{"$nulls":7},"TEAM No."]
["Sign",null,null,{"$f":"DRAW!$C$35","v":0},{"$nulls":5},"Completed",{"$nulls":5},"Sign",null,{"$f":"DRAW!$C$36","v":0}]
["i",{"$nulls":14},"i"]
[{"$f":"Entries!$A$1","v":"2018 District 5 - Mixed Pairs"}]
["R O U N D  1"]
[null,null,"RINK",{"$nulls":5},"DATE"]
[null,null,{"$f":"DRAW!$F$35","v":0}]
[]
[{"$f":"DRAW!$D$36","v":0},{"$nulls":10},"L",null,{"$f":"DRAW!$D$35","v":0}]
[]
[{"$f":"DRAW!$E$36","v":0},{"$nulls":10},"Sk",null,{"$f":"DRAW!$E$35","v":0}]
[]
[null,null,"First Set",{"$nulls":10},"Second Set"]
[null,null,{"$f":"DRAW!$E$36","v":0},{"$nulls":3},{"$f":"DRAW!$E$35","v":0},{"$nulls":6},{"$f":"DRAW!$E$36","v":0},{"$nulls":3},{"$f":"DRAW!$E$35","v":0}]
["End",null,"Shots",null,"Total",null,"Shots",null,"Total",{"$nulls":4},"Shots",null,"Total",null,"Shots",null,"Total"]
[1]
[2]
[3]
[4]
[5,{"$nulls":10},2,{"$nulls":10},1]
["Points",{"$nulls":3},"Tie Break",{"$nulls":14},"Points"]
[{"$nulls":4},"End",null,"Shots",{"$nulls":8},"Shots"]
[{"$nulls":4},1]
[{"$nulls":3},"TEAM No.",{"$nulls":5},"Time",{"$nulls":7},"TEAM No."]
["Sign",null,null,{"$f":"DRAW!$C$36","v":0},{"$nulls":5},"Completed",{"$nulls":5},"Sign",null,{"$f":"DRAW!$C$35","v":0}]
["i",{"$nulls":14},"i"]
[{"$f":"Entries!$A$1","v":"2018 District 5 - Mixed Pairs"}]
["R O U N D  1"]
[null,null,"RINK",{"$nulls":5},"DATE"]
[null,null,{"$f":"DRAW!$F$37","v":0}]
[]
[{"$f":"DRAW!$D$37","v":0},{"$nulls":10},"L",null,{"$f":"DRAW!$D$38","v":0}]
[]
[{"$f":"DRAW!$E$37","v":0},{"$nulls":10},"Sk",null,{"$f":"DRAW!$E$38","v":0}]
[]
[null,null,"First Set",{"$nulls":10},"Second Set"]
[null,null,{"$f":"DRAW!$E$37","v":0},{"$nulls":3},{"$f":"DRAW!$E$38","v":0},{"$nulls":6},{"$f":"DRAW!$E$37","v":0},{"$nulls":3},{"$f":"DRAW!$E$38","v":0}]
["End",null,"Shots",null,"Total",null,"Shots",null,"Total",{"$nulls":4},"Shots",null,"Total",null,"Shots",null,"Total"]
[1]
[2]
[3]
[4]
[5,{"$nulls":10},1,{"$nulls":10},1]
["Points",{"$nulls":3},"Tie Break",{"$nulls":14},"Points"]
[{"$nulls":4},"End",null,"Shots",{"$nulls":8},"Shots"]
[{"$nulls":4},1]
[{"$nulls":3},"TEAM No.",{"$nulls":5},"Time",{"$nulls":7},"TEAM No."]
["Sign",null,null,{"$f":"DRAW!$C$37","v":0},{"$nulls":5},"Completed",{"$nulls":5},"Sign",null,{"$f":"DRAW!$C$38","v":0}]
["i",{"$nulls":14},"i"]
[{"$f":"Entries!$A$1","v":"2018 District 5 - Mixed Pairs"}]
["R O U N D  1"]
[null,null,"RINK",{"$nulls":5},"DATE"]
[null,null,{"$f":"DRAW!$F$37","v":0}]
[]
[{"$f":"DRAW!$D$38","v":0},{"$nulls":10},"L",null,{"$f":"DRAW!$D$37","v":0}]
[]
[{"$f":"DRAW!$E$38","v":0},{"$nulls":10},"Sk",null,{"$f":"DRAW!$E$37","v":0}]
[]
[null,null,"First Set",{"$nulls":10},"Second Set"]
[null,null,{"$f":"DRAW!$E$38","v":0},{"$nulls":3},{"$f":"DRAW!$E$37","v":0},{"$nulls":6},{"$f":"DRAW!$E$38","v":0},{"$nulls":3},{"$f":"DRAW!$E$37","v":0}]
["End",null,"Shots",null,"Total",null,"Shots",null,"Total",{"$nulls":4},"Shots",null,"Total",null,"Shots",null,"Total"]
[1]
[2]
[3]
[4]
[5,{"$nulls":10},2,{"$nulls":10},1]
["Points",{"$nulls":3},"Tie Break",{"$nulls":14},"Points"]
[{"$nulls":4},"End",null,"Shots",{"$nulls":8},"Shots"]
[{"$nulls":4},1]
[{"$nulls":3},"TEAM No.",{"$nulls":5},"Time",{"$nulls":7},"TEAM No."]
["Sign",null,null,{"$f":"DRAW!$C$38","v":0},{"$nulls":5},"Completed",{"$nulls":5},"Sign",null,{"$f":"DRAW!$C$37","v":0}]
["i",{"$nulls":14},"i"]
[{"$f":"Entries!$A$1","v":"2018 District 5 - Mixed Pairs"}]
["R O U N D  1"]
[null,null,"RINK",{"$nulls":5},"DATE"]
[null,null,{"$f":"DRAW!$F$39","v":0}]
[]
[{"$f":"DRAW!$D$39","v":0},{"$nulls":10},"L",null,{"$f":"DRAW!$D$40","v":0}]
[]
[{"$f":"DRAW!$E$39","v":0},{"$nulls":10},"Sk",null,{"$f":"DRAW!$E$40","v":0}]
[]
[null,null,"First Set",{"$nulls":10},"Second Set"]
[null,null,{"$f":"DRAW!$E$39","v":0},{"$nulls":3},{"$f":"DRAW!$E$40","v":0},{"$nulls":6},{"$f":"DRAW!$E$39","v":0},{"$nulls":3},{"$f":"DRAW!$E$40","v":0}]
["End",null,"Shots",null,"Total",null,"Shots",null,"Total",{"$nulls":4},"Shots",null,"Total",null,"Shots",null,"Total"]
[1]
[2]
[3]
[4]
[5,{"$nulls":10},1,{"$nulls":10},1]
["Points",{"$nulls":3},"Tie Break",{"$nulls":14},"Points"]
[{"$nulls":4},"End",null,"Shots",{"$nulls":8},"Shots"]
[{"$nulls":4},1]
[{"$nulls":3},"TEAM No.",{"$nulls":5},"Time",{"$nulls":7},"TEAM No."]
["Sign",null,null,{"$f":"DRAW!$C$39","v":0},{"$nulls":5},"Completed",{"$nulls":5},"Sign",null,{"$f":"DRAW!$C$40","v":0}]
["i",{"$nulls":14},"i"]
[{"$f":"Entries!$A$1","v":"2018 District 5 - Mixed Pairs"}]
["R O U N D  1"]
[null,null,"RINK",{"$nulls":5},"DATE"]
[null,null,{"$f":"DRAW!$F$39","v":0}]
[]
[{"$f":"DRAW!$D$40","v":0},{"$nulls":10},"L",null,{"$f":"DRAW!$D$39","v":0}]
[]
[{"$f":"DRAW!$E$40","v":0},{"$nulls":10},"Sk",null,{"$f":"DRAW!$E$39","v":0}]
[]
[null,null,"First Set",{"$nulls":10},"Second Set"]
[null,null,{"$f":"DRAW!$E$40","v":0},{"$nulls":3},{"$f":"DRAW!$E$39","v":0},{"$nulls":6},{"$f":"DRAW!$E$40","v":0},{"$nulls":3},{"$f":"DRAW!$E$39","v":0}]
["End",null,"Shots",null,"Total",null,"Shots",null,"Total",{"$nulls":4},"Shots",null,"Total",null,"Shots",null,"Total"]
[1]
[2]
[3]
[4]
[5,{"$nulls":10},2,{"$nulls":10},1]
["Points",{"$nulls":3},"Tie Break",{"$nulls":14},"Points"]
[{"$nulls":4},"End",null,"Shots",{"$nulls":8},"Shots"]
[{"$nulls":4},1]
[{"$nulls":3},"TEAM No.",{"$nulls":5},"Time",{"$nulls":7},"TEAM No."]
["Sign",null,null,{"$f":"DRAW!$C$40","v":0},{"$nulls":5},"Completed",{"$nulls":5},"Sign",null,{"$f":"DRAW!$C$39","v":0}]
["i",{"$nulls":14},"i"]
[{"$f":"Entries!$A$1","v":"2018 District 5 - Mixed Pairs"}]
["R O U N D  1"]
[null,null,"RINK",{"$nulls":5},"DATE"]
[null,null,{"$f":"DRAW!$F$41","v":0}]
[]
[{"$f":"DRAW!$D$41","v":0},{"$nulls":10},"L",null,{"$f":"DRAW!$D$42","v":0}]
[]
[{"$f":"DRAW!$E$41","v":0},{"$nulls":10},"Sk",null,{"$f":"DRAW!$E$42","v":0}]
[]
[null,null,"First Set",{"$nulls":10},"Second Set"]
[null,null,{"$f":"DRAW!$E$41","v":0},{"$nulls":3},{"$f":"DRAW!$E$42","v":0},{"$nulls":6},{"$f":"DRAW!$E$41","v":0},{"$nulls":3},{"$f":"DRAW!$E$42","v":0}]
["End",null,"Shots",null,"Total",null,"Shots",null,"Total",{"$nulls":4},"Shots",null,"Total",null,"Shots",null,"Total"]
[1]
[2]
[3]
[4]
[5,{"$nulls":10},1,{"$nulls":10},1]
["Points",{"$nulls":3},"Tie Break",{"$nulls":14},"Points"]
[{"$nulls":4},"End",null,"Shots",{"$nulls":8},"Shots"]
[{"$nulls":4},1]
[{"$nulls":3},"TEAM No.",{"$nulls":5},"Time",{"$nulls":7},"TEAM No."]
["Sign",null,null,{"$f":"DRAW!$C$41","v":0},{"$nulls":5},"Completed",{"$nulls":5},"Sign",null,{"$f":"DRAW!$C$42","v":0}]
["i",{"$nulls":14},"i"]
[{"$f":"Entries!$A$1","v":"2018 District 5 - Mixed Pairs"}]
["R O U N D  1"]
[null,null,"RINK",{"$nulls":5},"DATE"]
[null,null,{"$f":"DRAW!$F$41","v":0}]
[]
[{"$f":"DRAW!$D$42","v":0},{"$nulls":10},"L",null,{"$f":"DRAW!$D$41","v":0}]
[]
[{"$f":"DRAW!$E$42","v":0},{"$nulls":10},"Sk",null,{"$f":"DRAW!$E$41","v":0}]
[]
[null,null,"First Set",{"$nulls":10},"Second Set"]
[null,null,{"$f":"DRAW!$E$42","v":0},{"$nulls":3},{"$f":"DRAW!$E$41","v":0},{"$nulls":6},{"$f":"DRAW!$E$42","v":0},{"$nulls":3},{"$f":"DRAW!$E$41","v":0}]
["End",null,"Shots",null,"Total",null,"Shots",null,"Total",{"$nulls":4},"Shots",null,"Total",null,"Shots",null,"Total"]
[1]
[2]
[3]
[4]
[5,{"$nulls":10},2,{"$nulls":10},1]
["Points",{"$nulls":3},"Tie Break",{"$nulls":14},"Points"]
[{"$nulls":4},"End",null,"Shots",{"$nulls":8},"Shots"]
[{"$nulls":4},1]
[{"$nulls":3},"TEAM No.",{"$nulls":5},"Time",{"$nulls":7},"TEAM No."]
["Sign",null,null,{"$f":"DRAW!$C$42","v":0},{"$nulls":5},"Completed",{"$nulls":5},"Sign",null,{"$f":"DRAW!$C$41","v":0}]
["i",{"$nulls":14},"i"]
[{"$f":"Entries!$A$1","v":"2018 District 5 - Mixed Pairs"}]
["R O U N D  1"]
[null,null,"RINK",{"$nulls":5},"DATE"]
[null,null,{"$f":"DRAW!$F$43","v":0}]
[]
[{"$f":"DRAW!$D$43","v":0},{"$nulls":10},"L",null,{"$f":"DRAW!$D$44","v":0}]
[]
[{"$f":"DRAW!$E$43","v":0},{"$nulls":10},"Sk",null,{"$f":"DRAW!$E$44","v":0}]
[]
[null,null,"First Set",{"$nulls":10},"Second Set"]
[null,null,{"$f":"DRAW!$E$43","v":0},{"$nulls":3},{"$f":"DRAW!$E$44","v":0},{"$nulls":6},{"$f":"DRAW!$E$43","v":0},{"$nulls":3},{"$f":"DRAW!$E$44","v":0}]
["End",null,"Shots",null,"Total",null,"Shots",null,"Total",{"$nulls":4},"Shots",null,"Total",null,"Shots",null,"Total"]
[1]
[2]
[3]
[4]
[5,{"$nulls":10},1,{"$nulls":10},1]
["Points",{"$nulls":3},"Tie Break",{"$nulls":14},"Points"]
[{"$nulls":4},"End",null,"Shots",{"$nulls":8},"Shots"]
[{"$nulls":4},1]
[{"$nulls":3},"TEAM No.",{"$nulls":5},"Time",{"$nulls":7},"TEAM No."]
["Sign",null,null,{"$f":"DRAW!$C$43","v":0},{"$nulls":5},"Completed",{"$nulls":5},"Sign",null,{"$f":"DRAW!$C$44","v":0}]
["i",{"$nulls":14},"i"]
[{"$f":"Entries!$A$1","v":"2018 District 5 - Mixed Pairs"}]
["R O U N D  1"]
[null,null,"RINK",{"$nulls":5},"DATE"]
[null,null,{"$f":"DRAW!$F$43","v":0}]
[]
[{"$f":"DRAW!$D$44","v":0},{"$nulls":10},"L",null,{"$f":"DRAW!$D$43","v":0}]
[]
[{"$f":"DRAW!$E$44","v":0},{"$nulls":10},"Sk",null,{"$f":"DRAW!$E$43","v":0}]
[]
[null,null,"First Set",{"$nulls":10},"Second Set"]
[null,null,{"$f":"DRAW!$E$44","v":0},{"$nulls":3},{"$f":"DRAW!$E$43","v":0},{"$nulls":6},{"$f":"DRAW!$E$44","v":0},{"$nulls":3},{"$f":"DRAW!$E$43","v":0}]
["End",null,"Shots",null,"Total",null,"Shots",null,"Total",{"$nulls":4},"Shots",null,"Total",null,"Shots",null,"Total"]
[1]
[2]
[3]
[4]
[5,{"$nulls":10},2,{"$nulls":10},1]
["Points",{"$nulls":3},"Tie Break",{"$nulls":14},"Points"]
[{"$nulls":4},"End",null,"Shots",{"$nulls":8},"Shots"]
[{"$nulls":4},1]
[{"$nulls":3},"TEAM No.",{"$nulls":5},"Time",{"$nulls":7},"TEAM No."]
["Sign",null,null,{"$f":"DRAW!$C$44","v":0},{"$nulls":5},"Completed",{"$nulls":5},"Sign",null,{"$f":"DRAW!$C$43","v":0}]
["i",{"$nulls":14},"i"]

{"sheet":"Fins 24 21 cds","index":40,"n_rows":874,"n_cols":23,"rows_kept":874,"hidden":true,"merged":[[0,0,0,23],[1,0,1,23],[2,2,2,6],[2,8,2,23],[3,2,3,6],[3,8,3,23],[5,0,5,10],[5,11,5,12],[5,13,5,23],[7,0,7,10],[7,11,7,12],[7,13,7,23],[9,2,9,10],[9,13,9,21],[10,2,10,5],[10,6,10,10],[10,13,10,16],[10,17,10,21],[11,0,11,1],[11,2,11,3],[11,4,11,5],[11,6,11,7],[11,8,11,10],[11,13,11,14],[11,15,11,16],[11,17,11,18],[11,19,11,21],[12,0,12,1],[12,2,12,3],[12,4,12,5],[12,6,12,7],[12,8,12,10],[12,13,12,14],[12,15,12,16],[12,17,12,18],[12,19,12,21],[13,0,13,1],[13,2,13,3],[13,4,13,5],[13,6,13,7],[13,8,13,10],[13,13,13,14],[13,15,13,16],[13,17,13,18],[13,19,13,21],[14,0,14,1],[14,2,14,3],[14,4,14,5],[14,6,14,7],[14,8,14,10],[14,13,14,14],[14,15,14,16],[14,17,14,18],[14,19,14,21],[15,0,15,1],[15,2,15,3],[15,4,15,5],[15,6,15,7],[15,8,15,10],[15,13,15,14],[15,15,15,16],[15,17,15,18],[15,19,15,21],[16,0,16,1],[16,2,16,3],[16,4,16,5],[16,6,16,7],[16,8,16,10],[16,11,16,12],[16,13,16,14],[16,15,16,16],[16,17,16,18],[16,19,16,21],[16,22,16,23],[17,0,17,2],[17,4,17,18],[17,19,17,23],[18,0,19,2],[18,4,18,5],[18,6,18,8],[18,15,18,17],[18,19,19,23],[19,4,19,5],[19,6,19,8],[20,3,20,6],[20,9,20,14],[20,17,20,21],[21,0,21,1],[21,3,22,6],[21,9,21,14],[21,15,21,16],[21,17,22,21],[22,0,22,1],[22,15,22,16],[23,0,23,23],[24,0,24,23],[25,2,25,6],[25,8,25,23],[26,2,26,6],[26,8,26,23],[28,0,28,10],[28,11,28,12],[28,13,28,23],[30,0,30,10],[30,11,30,12],[30,13,30,23],[32,2,32,10],[32,13,32,21],[33,2,33,5],[33,6,33,10],[33,13,33,16],[33,17,33,21],[34,0,34,1],[34,2,34,3],[34,4,34,5],[34,6,34,7],[34,8,34,10],[34,13,34,14],[34,15,34,16],[34,17,34,18],[34,19,34,21],[35,0,35,1],[35,2,35,3],[35,4,35,5],[35,6,35,7],[35,8,35,10],[35,13,35,14],[35,15,35,16],[35,17,35,18],[35,19,35,21],[36,0,36,1],[36,2,36,3],[36,4,36,5],[36,6,36,7],[36,8,36,10],[36,13,36,14],[36,15,36,16],[36,17,36,18],[36,19,36,21],[37,0,37,1],[37,2,37,3],[37,4,37,5],[37,6,37,7],[37,8,37,10],[37,13,37,14],[37,15,37,16],[37,17,37,18],[37,19,37,21],[38,0,38,1],[38,2,38,3],[38,4,38,5],[38,6,38,7],[38,8,38,10],[38,13,38,14],[38,15,38,16],[38,17,38,18],[38,19,38,21],[39,0,39,1],[39,2,39,3],[39,4,39,5],[39,6,39,7],[39,8,39,10],[39,11,39,12],[39,13,39,14],[39,15,39,16],[39,17,39,18],[39,19,39,21],[39,22,39,23],[40,0,40,2],[40,4,40,18],[40,19,40,23],[41,4,41,5],[41,6,41,8],[41,15,41,17],[41,19,42,23],[42,4,42,5],[42,6,42,8],[43,3,43,6],[43,9,43,14],[43,17,43,21],[44,0,44,1],[44,3,45,6],[44,9,44,14],[44,15,44,16],[44,17,45,21],[45,0,45,1],[45,15,45,16],[46,0,46,23],[47,0,47,23],[48,2,48,6],[48,8,48,23],[49,2,49,6],[49,8,49,23],[51,0,51,10],[51,11,51,12],[51,13,51,23],[53,0,53,10],[53,11,53,12],[53,13,53,23],[55,2,55,10],[55,13,55,21],[56,2,56,5],[56,6,56,10],[56,13,56,16],[56,17,56,21],[57,0,57,1],[57,2,57,3],[57,4,57,5],[57,6,57,7],[57,8,57,10],[57,13,57,14],[57,15,57,16],[57,17,57,18],[57,19,57,21],[58,0,58,1],[58,2,58,3],[58,4,58,5],[58,6,58,7],[58,8,58,10],[58,13,58,14],[58,15,58,16],[58,17,58,18],[58,19,58,21],[59,0,59,1],[59,2,59,3],[59,4,59,5],[59,6,59,7],[59,8,59,10],[59,13,59,14],[59,15,59,16],[59,17,59,18],[59,19,59,21],[60,0,60,1],[60,2,60,3],[60,4,60,5],[60,6,60,7],[60,8,60,10],[60,13,60,14],[60,15,60,16],[60,17,60,18],[60,19,60,21],[61,0,61,1],[61,2,61,3],[61,4,61,5],[61,6,61,7],[61,8,61,10],[61,13,61,14],[61,15,61,16],[61,17,61,18],[61,19,61,21],[62,0,62,1],[62,2,62,3],[62,4,62,5],[62,6,62,7],[62,8,62,10],[62,11,62,12],[62,13,62,14],[62,15,62,16],[62,17,62,18],[62,19,62,21],[62,22,62,23],[63,0,63,2],[63,4,63,18],[63,19,63,23],[64,4,64,5],[64,6,64,8],[64,15,64,17],[64,19,65,23],[65,4,65,5],[65,6,65,8],[66,3,66,6],[66,9,66,14],[66,17,66,21],[67,0,67,1],[67,3,68,6],[67,9,67,14],[67,15,67,16],[67,17,68,21],[68,0,68,1],[68,15,68,16],[69,0,69,23],[70,0,70,23],[71,2,71,6],[71,8,71,23],[72,2,72,6],[72,8,72,23],[74,0,74,10],[74,11,74,12],[74,13,74,23],[76,0,76,10],[76,11,76,12],[76,13,76,23],[78,2,78,10],[78,13,78,21],[79,2,79,5],[79,6,79,10],[79,13,79,16],[79,17,79,21],[80,0,80,1],[80,2,80,3],[80,4,80,5],[80,6,80,7],[80,8,80,10],[80,13,80,14],[80,15,80,16],[80,17,80,18],[80,19,80,21],[81,0,81,1],[81,2,81,3],[81,4,81,5],[81,6,81,7],[81,8,81,10],[81,13,81,14],[81,15,81,16],[81,17,81,18],[81,19,81,21],[82,0,82,1],[82,2,82,3],[82,4,82,5],[82,6,82,7],[82,8,82,10],[82,13,82,14],[82,15,82,16],[82,17,82,18],[82,19,82,21],[83,0,83,1],[83,2,83,3],[83,4,83,5],[83,6,83,7],[83,8,83,10],[83,13,83,14],[83,15,83,16],[83,17,83,18],[83,19,83,21],[84,0,84,1],[84,2,84,3],[84,4,84,5],[84,6,84,7],[84,8,84,10],[84,13,84,14],[84,15,84,16],[84,17,84,18],[84,19,84,21],[85,0,85,1],[85,2,85,3],[85,4,85,5],[85,6,85,7],[85,8,85,10],[85,11,85,12],[85,13,85,14],[85,15,85,16],[85,17,85,18],[85,19,85,21],[85,22,85,23],[86,0,86,2],[86,4,86,18],[86,19,86,23],[87,4,87,5],[87,6,87,8],[87,15,87,17],[87,19,88,23],[88,4,88,5],[88,6,88,8],[89,3,89,6],[89,9,89,14],[89,17,89,21],[90,0,90,1],[90,3,91,6],[90,9,90,14],[90,15,90,16],[90,17,91,21],[91,0,91,1],[91,15,91,16],[92,0,92,23],[93,0,93,23],[94,2,94,6],[94,8,94,23],[95,2,95,6],[95,8,95,23],[97,0,97,10],[97,11,97,12],[97,13,97,23],[99,0,99,10],[99,11,99,12],[99,13,99,23],[101,2,101,10],[101,13,101,21],[102,2,102,5],[102,6,102,10],[102,13,102,16],[102,17,102,21],[103,0,103,1],[103,2,103,3],[103,4,103,5],[103,6,103,7],[103,8,103,10],[103,13,103,14],[103,15,103,16],[103,17,103,18],[103,19,103,21],[104,0,104,1],[104,2,104,3],[104,4,104,5],[104,6,104,7],[104,8,104,10],[104,13,104,14],[104,15,104,16],[104,17,104,18],[104,19,104,21],[105,0,105,1],[105,2,105,3],[105,4,105,5],[105,6,105,7],[105,8,105,10],[105,13,105,14],[105,15,105,16],[105,17,105,18],[105,19,105,21],[106,0,106,1],[106,2,106,3],[106,4,106,5],[106,6,106,7],[106,8,106,10],[106,13,106,14],[106,15,106,16],[106,17,106,18],[106,19,106,21],[107,0,107,1],[107,2,107,3],[107,4,107,5],[107,6,107,7],[107,8,107,10],[107,13,107,14],[107,15,107,16],[107,17,107,18],[107,19,107,21],[108,0,108,1],[108,2,108,3],[108,4,108,5],[108,6,108,7],[108,8,108,10],[108,11,108,12],[108,13,108,14],[108,15,108,16],[108,17,108,18],[108,19,108,21],[108,22,108,23],[109,0,109,2],[109,4,109,18],[109,19,109,23],[110,0,111,2],[110,4,110,5],[110,6,110,8],[110,15,110,17],[110,19,111,23],[111,4,111,5],[111,6,111,8],[112,3,112,6],[112,9,112,14],[112,17,112,21],[113,0,113,1],[113,3,114,6],[113,9,113,14],[113,15,113,16],[113,17,114,21],[114,0,114,1],[114,15,114,16],[115,0,115,23],[116,0,116,23],[117,2,117,6],[117,8,117,23],[118,2,118,6],[118,8,118,23],[120,0,120,10],[120,11,120,12],[120,13,120,23],[122,0,122,10],[122,11,122,12],[122,13,122,23],[124,2,124,10],[124,13,124,21],[125,2,125,5],[125,6,125,10],[125,13,125,16],[125,17,125,21],[126,0,126,1],[126,2,126,3],[126,4,126,5],[126,6,126,7],[126,8,126,10],[126,13,126,14],[126,15,126,16],[126,17,126,18],[126,19,126,21],[127,0,127,1],[127,2,127,3],[127,4,127,5],[127,6,127,7],[127,8,127,10],[127,13,127,14],[127,15,127,16],[127,17,127,18],[127,19,127,21],[128,0,128,1],[128,2,128,3],[128,4,128,5],[128,6,128,7],[128,8,128,10],[128,13,128,14],[128,15,128,16],[128,17,128,18],[128,19,128,21],[129,0,129,1],[129,2,129,3],[129,4,129,5],[129,6,129,7],[129,8,129,10],[129,13,129,14],[129,15,129,16],[129,17,129,18],[129,19,129,21],[130,0,130,1],[130,2,130,3],[130,4,130,5],[130,6,130,7],[130,8,130,10],[130,13,130,14],[130,15,130,16],[130,17,130,18],[130,19,130,21],[131,0,131,1],[131,2,131,3],[131,4,131,5],[131,6,131,7],[131,8,131,10],[131,11,131,12],[131,13,131,14],[131,15,131,16],[131,17,131,18],[131,19,131,21],[131,22,131,23],[132,0,132,2],[132,4,132,18],[132,19,132,23],[133,0,134,2],[133,4,133,5],[133,6,133,8],[133,15,133,17],[133,19,134,23],[134,4,134,5],[134,6,134,8],[135,3,135,6],[135,9,135,14],[135,17,135,21],[136,0,136,1],[136,3,137,6],[136,9,136,14],[136,15,136,16],[136,17,137,21],[137,0,137,1],[137,15,137,16],[138,0,138,23],[139,0,139,23],[140,2,140,6],[140,8,140,23],[141,2,141,6],[141,8,141,23],[143,0,143,10],[143,11,143,12],[143,13,143,23],[145,0,145,10],[145,11,145,12],[145,13,145,23],[147,2,147,10],[147,13,147,21],[148,2,148,5],[148,6,148,10],[148,13,148,16],[148,17,148,21],[149,0,149,1],[149,2,149,3],[149,4,149,5],[149,6,149,7],[149,8,149,10],[149,13,149,14],[149,15,149,16],[149,17,149,18],[149,19,149,21],[150,0,150,1],[150,2,150,3],[150,4,150,5],[150,6,150,7],[150,8,150,10],[150,13,150,14],[150,15,150,16],[150,17,150,18],[150,19,150,21],[151,0,151,1],[151,2,151,3],[151,4,151,5],[151,6,151,7],[151,8,151,10],[151,13,151,14],[151,15,151,16],[151,17,151,18],[151,19,151,21],[152,0,152,1],[152,2,152,3],[152,4,152,5],[152,6,152,7],[152,8,152,10],[152,13,152,14],[152,15,152,16],[152,17,152,18],[152,19,152,21],[153,0,153,1],[153,2,153,3],[153,4,153,5],[153,6,153,7],[153,8,153,10],[153,13,153,14],[153,15,153,16],[153,17,153,18],[153,19,153,21],[154,0,154,1],[154,2,154,3],[154,4,154,5],[154,6,154,7],[154,8,154,10],[154,11,154,12],[154,13,154,14],[154,15,154,16],[154,17,154,18],[154,19,154,21],[154,22,154,23],[155,0,155,2],[155,4,155,18],[155,19,155,23],[156,0,157,2],[156,4,156,5],[156,6,156,8],[156,15,156,17],[156,19,157,23],[157,4,157,5],[157,6,157,8],[158,3,158,6],[158,9,158,14],[158,17,158,21],[159,0,159,1],[159,3,160,6],[159,9,159,14],[159,15,159,16],[159,17,160,21],[160,0,160,1],[160,15,160,16],[161,0,161,23],[162,0,162,23],[163,2,163,6],[163,8,163,23],[164,2,164,6],[164,8,164,23],[166,0,166,10],[166,11,166,12],[166,13,166,23],[168,0,168,10],[168,11,168,12],[168,13,168,23],[170,2,170,10],[170,13,170,21],[171,2,171,5],[171,6,171,10],[171,13,171,16],[171,17,171,21],[172,0,172,1],[172,2,172,3],[172,4,172,5],[172,6,172,7],[172,8,172,10],[172,13,172,14],[172,15,172,16],[172,17,172,18],[172,19,172,21],[173,0,173,1],[173,2,173,3],[173,4,173,5],[173,6,173,7],[173,8,173,10],[173,13,173,14],[173,15,173,16],[173,17,173,18],[173,19,173,21],[174,0,174,1],[174,2,174,3],[174,4,174,5],[174,6,174,7],[174,8,174,10],[174,13,174,14],[174,15,174,16],[174,17,174,18],[174,19,174,21],[175,0,175,1],[175,2,175,3],[175,4,175,5],[175,6,175,7],[175,8,175,10],[175,13,175,14],[175,15,175,16],[175,17,175,18],[175,19,175,21],[176,0,176,1],[176,2,176,3],[176,4,176,5],[176,6,176,7],[176,8,176,10],[176,13,176,14],[176,15,176,16],[176,17,176,18],[176,19,176,21],[177,0,177,1],[177,2,177,3],[177,4,177,5],[177,6,177,7],[177,8,177,10],[177,11,177,12],[177,13,177,14],[177,15,177,16],[177,17,177,18],[177,19,177,21],[177,22,177,23],[178,0,178,2],[178,4,178,18],[178,19,178,23],[179,0,180,2],[179,4,179,5],[179,6,179,8],[179,15,179,17],[179,19,180,23],[180,4,180,5],[180,6,180,8],[181,3,181,6],[181,9,181,14],[181,17,181,21],[182,0,182,1],[182,3,183,6],[182,9,182,14],[182,15,182,16],[182,17,183,21],[183,0,183,1],[183,15,183,16],[184,0,184,23],[185,0,185,23],[186,2,186,6],[186,8,186,23],[187,2,187,6],[187,8,187,23],[189,0,189,10],[189,11,189,12],[189,13,189,23],[191,0,191,10],[191,11,191,12],[191,13,191,23],[193,2,193,10],[193,13,193,21],[194,2,194,5],[194,6,194,10],[194,13,194,16],[194,17,194,21],[195,0,195,1],[195,2,195,3],[195,4,195,5],[195,6,195,7],[195,8,195,10],[195,13,195,14],[195,15,195,16],[195,17,195,18],[195,19,195,21],[196,0,196,1],[196,2,196,3],[196,4,196,5],[196,6,196,7],[196,8,196,10],[196,13,196,14],[196,15,196,16],[196,17,196,18],[196,19,196,21],[197,0,197,1],[197,2,197,3],[197,4,197,5],[197,6,197,7],[197,8,197,10],[197,13,197,14],[197,15,197,16],[197,17,197,18],[197,19,197,21],[198,0,198,1],[198,2,198,3],[198,4,198,5],[198,6,198,7],[198,8,198,10],[198,13,198,14],[198,15,198,16],[198,17,198,18],[198,19,198,21],[199,0,199,1],[199,2,199,3],[199,4,199,5],[199,6,199,7],[199,8,199,10],[199,13,199,14],[199,15,199,16],[199,17,199,18],[199,19,199,21],[200,0,200,1],[200,2,200,3],[200,4,200,5],[200,6,200,7],[200,8,200,10],[200,11,200,12],[200,13,200,14],[200,15,200,16],[200,17,200,18],[200,19,200,21],[200,22,200,23],[201,0,201,2],[201,4,201,18],[201,19,201,23],[202,0,203,2],[202,4,202,5],[202,6,202,8],[202,15,202,17],[202,19,203,23],[203,4,203,5],[203,6,203,8],[204,3,204,6],[204,9,204,14],[204,17,204,21],[205,0,205,1],[205,3,206,6],[205,9,205,14],[205,15,205,16],[205,17,206,21],[206,0,206,1],[206,15,206,16],[207,0,207,23],[208,0,208,23],[209,2,209,6],[209,8,209,23],[210,2,210,6],[210,8,210,23],[212,0,212,10],[212,11,212,12],[212,13,212,23],[214,0,214,10],[214,11,214,12],[214,13,214,23],[216,2,216,10],[216,13,216,21],[217,2,217,5],[217,6,217,10],[217,13,217,16],[217,17,217,21],[218,0,218,1],[218,2,218,3],[218,4,218,5],[218,6,218,7],[218,8,218,10],[218,13,218,14],[218,15,218,16],[218,17,218,18],[218,19,218,21],[219,0,219,1],[219,2,219,3],[219,4,219,5],[219,6,219,7],[219,8,219,10],[219,13,219,14],[219,15,219,16],[219,17,219,18],[219,19,219,21],[220,0,220,1],[220,2,220,3],[220,4,220,5],[220,6,220,7],[220,8,220,10],[220,13,220,14],[220,15,220,16],[220,17,220,18],[220,19,220,21],[221,0,221,1],[221,2,221,3],[221,4,221,5],[221,6,221,7],[221,8,221,10],[221,13,221,14],[221,15,221,16],[221,17,221,18],[221,19,221,21],[222,0,222,1],[222,2,222,3],[222,4,222,5],[222,6,222,7],[222,8,222,10],[222,13,222,14],[222,15,222,16],[222,17,222,18],[222,19,222,21],[223,0,223,1],[223,2,223,3],[223,4,223,5],[223,6,223,7],[223,8,223,10],[223,11,223,12],[223,13,223,14],[223,15,223,16],[223,17,223,18],[223,19,223,21],[223,22,223,23],[224,0,224,2],[224,4,224,18],[224,19,224,23],[225,0,226,2],[225,4,225,5],[225,6,225,8],[225,15,225,17],[225,19,226,23],[226,4,226,5],[226,6,226,8],[227,3,227,6],[227,9,227,14],[227,17,227,21],[228,0,228,1],[228,3,229,6],[228,9,228,14],[228,15,228,16],[228,17,229,21],[229,0,229,1],[229,15,229,16],[230,0,230,23],[231,0,231,23],[232,2,232,6],[232,8,232,23],[233,2,233,6],[233,8,233,23],[235,0,235,10],[235,11,235,12],[235,13,235,23],[237,0,237,10],[237,11,237,12],[237,13,237,23],[239,2,239,10],[239,13,239,21],[240,2,240,5],[240,6,240,10],[240,13,240,16],[240,17,240,21],[241,0,241,1],[241,2,241,3],[241,4,241,5],[241,6,241,7],[241,8,241,10],[241,13,241,14],[241,15,241,16],[241,17,241,18],[241,19,241,21],[242,0,242,1],[242,2,242,3],[242,4,242,5],[242,6,242,7],[242,8,242,10],[242,13,242,14],[242,15,242,16],[242,17,242,18],[242,19,242,21],[243,0,243,1],[243,2,243,3],[243,4,243,5],[243,6,243,7],[243,8,243,10],[243,13,243,14],[243,15,243,16],[243,17,243,18],[243,19,243,21],[244,0,244,1],[244,2,244,3],[244,4,244,5],[244,6,244,7],[244,8,244,10],[244,13,244,14],[244,15,244,16],[244,17,244,18],[244,19,244,21],[246,15,246,16],[246,17,246,18],[248,0,249,2],[248,4,248,5],[248,6,248,8],[248,15,248,17],[248,19,249,23],[249,4,249,5],[249,6,249,8]],"merged_total":3548,"flags":["merged_cut"]}
[{"$f":"Entries!$A$1","v":"2018 District 5 - Mixed Pairs"}]
[{"$f":"'Finals 24 21'!$C$3","v":"Q U A R T E R  F I N A L"}]
[null,null,"RINK",{"$nulls":5},"DATE"]
[null,null,{"$f":"'Finals 24 21'!$F$6","v":1},{"$nulls":5},{"$f":"Entries!$A$2","v":"20th June 2018"}]
[]
[{"$nulls":11},"L"]
[]
[{"$f":"'Finals 24 21'!$E$6","v":"Sec 6"},{"$nulls":10},"Sk",null,{"$f":"'Finals 24 21'!$E$7","v":"Sec 5"}]
[]
[null,null,"First Set",{"$nulls":10},"Second Set"]
[null,null,{"$f":"'Finals 24 21'!$E$6","v":"Sec 6"},{"$nulls":3},{"$f":"'Finals 24 21'!$E$7","v":"Sec 5"},{"$nulls":6},{"$f":"'Finals 24 21'!$E$6","v":"Sec 6"},{"$nulls":3},{"$f":"'Finals 24 21'!$E$7","v":"Sec 5"}]
["End",null,"Shots",null,"Total",null,"Shots",null,"Total",{"$nulls":4},"Shots",null,"Total",null,"Shots",null,"Total"]
[1]
[2]
[3]
[4]
[5,{"$nulls":10},1,{"$nulls":10},1]
["Points",{"$nulls":3},"Tie Break",{"$nulls":14},"Points"]
[{"$nulls":4},"End",null,"Shots",{"$nulls":8},"Shots"]
[{"$nulls":4},1]
[{"$nulls":9},"Time"]
["Sign",{"$nulls":8},"Completed",{"$nulls":5},"Sign"]
["i",{"$nulls":14},"i"]
[{"$f":"Entries!$A$1","v":"2018 District 5 - Mixed Pairs"}]
[{"$f":"'Finals 24 21'!$C$3","v":"Q U A R T E R  F I N A L"}]
[null,null,"RINK",{"$nulls":5},"DATE"]
[null,null,{"$f":"'Finals 24 21'!$F$6","v":1},{"$nulls":5},{"$f":"Entries!$A$2","v":"20th June 2018"}]
[]
[{"$nulls":11},"L"]
[]
[{"$f":"'Finals 24 21'!$E$7","v":"Sec 5"},{"$nulls":10},"Sk",null,{"$f":"'Finals 24 21'!$E$6","v":"Sec 6"}]
[]
[null,null,"First Set",{"$nulls":10},"Second Set"]
[null,null,{"$f":"'Finals 24 21'!$E$7","v":"Sec 5"},{"$nulls":3},{"$f":"'Finals 24 21'!$E$6","v":"Sec 6"},{"$nulls":6},{"$f":"'Finals 24 21'!$E$7","v":"Sec 5"},{"$nulls":3},{"$f":"'Finals 24 21'!$E$6","v":"Sec 6"}]
["End",null,"Shots",null,"Total",null,"Shots",null,"Total",{"$nulls":4},"Shots",null,"Total",null,"Shots",null,"Total"]
[1]
[2]
[3]
[4]
[5,{"$nulls":10},2,{"$nulls":10},1]
["Points",{"$nulls":3},"Tie Break",{"$nulls":14},"Points"]
[{"$nulls":4},"End",null,"Shots",{"$nulls":8},"Shots"]
[{"$nulls":4},1]
[{"$nulls":9},"Time"]
["Sign",{"$nulls":8},"Completed",{"$nulls":5},"Sign"]
["i",{"$nulls":14},"i"]
[{"$f":"Entries!$A$1","v":"2018 District 5 - Mixed Pairs"}]
[{"$f":"'Finals 24 21'!$C$3","v":"Q U A R T E R  F I N A L"}]
[null,null,"RINK",{"$nulls":5},"DATE"]
[null,null,{"$f":"'Finals 24 21'!$AA$6","v":2},{"$nulls":5},{"$f":"Entries!$A$2","v":"20th June 2018"}]
[]
[{"$nulls":11},"L"]
[]
[{"$f":"'Finals 24 21'!$Z$6","v":"Sec 4"},{"$nulls":10},"Sk",null,{"$f":"'Finals 24 21'!$Z$7","v":"Sec 3"}]
[]
[null,null,"First Set",{"$nulls":10},"Second Set"]
[null,null,{"$f":"'Finals 24 21'!$Z$6","v":"Sec 4"},{"$nulls":3},{"$f":"'Finals 24 21'!$Z$7","v":"Sec 3"},{"$nulls":6},{"$f":"'Finals 24 21'!$Z$6","v":"Sec 4"},{"$nulls":3},{"$f":"'Finals 24 21'!$Z$7","v":"Sec 3"}]
["End",null,"Shots",null,"Total",null,"Shots",null,"Total",{"$nulls":4},"Shots",null,"Total",null,"Shots",null,"Total"]
[1]
[2]
[3]
[4]
[5,{"$nulls":10},1,{"$nulls":10},1]
["Points",{"$nulls":3},"Tie Break",{"$nulls":14},"Points"]
[{"$nulls":4},"End",null,"Shots",{"$nulls":8},"Shots"]
[{"$nulls":4},1]
[{"$nulls":9},"Time"]
["Sign",{"$nulls":8},"Completed",{"$nulls":5},"Sign"]
["i",{"$nulls":14},"i"]
[{"$f":"Entries!$A$1","v":"2018 District 5 - Mixed Pairs"}]
[{"$f":"'Finals 24 21'!$C$3","v":"Q U A R T E R  F I N A L"}]
[null,null,"RINK",{"$nulls":5},"DATE"]
[null,null,{"$f":"'Finals 24 21'!$AA$6","v":2},{"$nulls":5},{"$f":"Entries!$A$2","v":"20th June 2018"}]
[]
[{"$nulls":11},"L"]
[]
[{"$f":"'Finals 24 21'!$Z$7","v":"Sec 3"},{"$nulls":10},"Sk",null,{"$f":"'Finals 24 21'!$Z$6","v":"Sec 4"}]
[]
[null,null,"First Set",{"$nulls":10},"Second Set"]
[null,null,{"$f":"'Finals 24 21'!$Z$7","v":"Sec 3"},{"$nulls":3},{"$f":"'Finals 24 21'!$Z$6","v":"Sec 4"},{"$nulls":6},{"$f":"'Finals 24 21'!$Z$7","v":"Sec 3"},{"$nulls":3},{"$f":"'Finals 24 21'!$Z$6","v":"Sec 4"}]
["End",null,"Shots",null,"Total",null,"Shots",null,"Total",{"$nulls":4},"Shots",null,"Total",null,"Shots",null,"Total"]
[1]
[2]
[3]
[4]
[5,{"$nulls":10},2,{"$nulls":10},1]
["Points",{"$nulls":3},"Tie Break",{"$nulls":14},"Points"]
[{"$nulls":4},"End",null,"Shots",{"$nulls":8},"Shots"]
[{"$nulls":4},1]
[{"$nulls":9},"Time"]
["Sign",{"$nulls":8},"Completed",{"$nulls":5},"Sign"]
["i",{"$nulls":14},"i"]
[{"$f":"Entries!$A$1","v":"2018 District 5 - Mixed Pairs"}]
[{"$f":"'Finals 28 25'!$C$11","v":"S E M I  F I N A L "}]
[null,null,"RINK",{"$nulls":5},"DATE"]
[null,null,{"$f":"'Finals 24 21'!$F$12","v":3},{"$nulls":5},{"$f":"Entries!$A$2","v":"20th June 2018"}]
[]
[{"$nulls":11},"L"]
[]
[{"$f":"'Finals 24 21'!$E$12","v":"Sec 2"},{"$nulls":10},"Sk",null,{"$f":"'Finals 24 21'!$E$13","v":"Sec 1"}]
[]
[null,null,"First Set",{"$nulls":10},"Second Set"]
[null,null,{"$f":"'Finals 24 21'!$E$12","v":"Sec 2"},{"$nulls":3},{"$f":"'Finals 24 21'!$E$13","v":"Sec 1"},{"$nulls":6},{"$f":"'Finals 24 21'!$E$12","v":"Sec 2"},{"$nulls":3},{"$f":"'Finals 24 21'!$E$13","v":"Sec 1"}]
["End",null,"Shots",null,"Total",null,"Shots",null,"Total",{"$nulls":4},"Shots",null,"Total",null,"Shots",null,"Total"]
[1]
[2]
[3]
[4]
[5,{"$nulls":10},1,{"$nulls":10},1]
["Points",{"$nulls":3},"Tie Break",{"$nulls":14},"Points"]
[{"$nulls":4},"End",null,"Shots",{"$nulls":8},"Shots"]
[{"$nulls":4},1]
[{"$nulls":9},"Time"]
["Sign",{"$nulls":8},"Completed",{"$nulls":5},"Sign"]
["i",{"$nulls":14},"i"]
[{"$f":"Entries!$A$1","v":"2018 District 5 - Mixed Pairs"}]
[{"$f":"'Finals 28 25'!$C$11","v":"S E M I  F I N A L "}]
[null,null,"RINK",{"$nulls":5},"DATE"]
[null,null,{"$f":"'Finals 24 21'!$F$12","v":3},{"$nulls":5},{"$f":"Entries!$A$2","v":"20th June 2018"}]
[]
[{"$nulls":11},"L"]
[]
[{"$f":"'Finals 24 21'!$E$13","v":"Sec 1"},{"$nulls":10},"Sk",null,{"$f":"'Finals 24 21'!$E$12","v":"Sec 2"}]
[]
[null,null,"First Set",{"$nulls":10},"Second Set"]
[null,null,{"$f":"'Finals 24 21'!$E$13","v":"Sec 1"},{"$nulls":3},{"$f":"'Finals 24 21'!$E$12","v":"Sec 2"},{"$nulls":6},{"$f":"'Finals 24 21'!$E$13","v":"Sec 1"},{"$nulls":3},{"$f":"'Finals 24 21'!$E$12","v":"Sec 2"}]
["End",null,"Shots",null,"Total",null,"Shots",null,"Total",{"$nulls":4},"Shots",null,"Total",null,"Shots",null,"Total"]
[1]
[2]
[3]
[4]
[5,{"$nulls":10},2,{"$nulls":10},1]
["Points",{"$nulls":3},"Tie Break",{"$nulls":14},"Points"]
[{"$nulls":4},"End",null,"Shots",{"$nulls":8},"Shots"]
[{"$nulls":4},1]
[{"$nulls":9},"Time"]
["Sign",{"$nulls":8},"Completed",{"$nulls":5},"Sign"]
["i",{"$nulls":14},"i"]
[{"$f":"Entries!$A$1","v":"2018 District 5 - Mixed Pairs"}]
[{"$f":"'Finals 28 25'!$C$11","v":"S E M I  F I N A L "}]
[null,null,"RINK",{"$nulls":5},"DATE"]
[null,null,{"$f":"'Finals 24 21'!$AA$12","v":5},{"$nulls":5},{"$f":"Entries!$A$2","v":"20th June 2018"}]
[]
[{"$nulls":11},"L"]
[]
[{"$f":"'Finals 24 21'!$Z$12","v":"Q/F 1"},{"$nulls":10},"Sk",null,{"$f":"'Finals 24 21'!$Z$13","v":"Q/F 2"}]
[]
[null,null,"First Set",{"$nulls":10},"Second Set"]
[null,null,{"$f":"'Finals 24 21'!$Z$12","v":"Q/F 1"},{"$nulls":3},{"$f":"'Finals 24 21'!$Z$13","v":"Q/F 2"},{"$nulls":6},{"$f":"'Finals 24 21'!$Z$12","v":"Q/F 1"},{"$nulls":3},{"$f":"'Finals 24 21'!$Z$13","v":"Q/F 2"}]
["End",null,"Shots",null,"Total",null,"Shots",null,"Total",{"$nulls":4},"Shots",null,"Total",null,"Shots",null,"Total"]
[1]
[2]
[3]
[4]
[5,{"$nulls":10},1,{"$nulls":10},1]
["Points",{"$nulls":3},"Tie Break",{"$nulls":14},"Points"]
[{"$nulls":4},"End",null,"Shots",{"$nulls":8},"Shots"]
[{"$nulls":4},1]
[{"$nulls":9},"Time"]
["Sign",{"$nulls":8},"Completed",{"$nulls":5},"Sign"]
["i",{"$nulls":14},"i"]
[{"$f":"Entries!$A$1","v":"2018 District 5 - Mixed Pairs"}]
[{"$f":"'Finals 28 25'!$C$11","v":"S E M I  F I N A L "}]
[null,null,"RINK",{"$nulls":5},"DATE"]
[null,null,{"$f":"'Finals 24 21'!$AA$12","v":5},{"$nulls":5},{"$f":"Entries!$A$2","v":"20th June 2018"}]
[]
[{"$nulls":11},"L"]
[]
[{"$f":"'Finals 24 21'!$Z$13","v":"Q/F 2"},{"$nulls":10},"Sk",null,{"$f":"'Finals 24 21'!$Z$12","v":"Q/F 1"}]
[]
[null,null,"First Set",{"$nulls":10},"Second Set"]
[null,null,{"$f":"'Finals 24 21'!$Z$13","v":"Q/F 2"},{"$nulls":3},{"$f":"'Finals 24 21'!$Z$12","v":"Q/F 1"},{"$nulls":6},{"$f":"'Finals 24 21'!$Z$13","v":"Q/F 2"},{"$nulls":3},{"$f":"'Finals 24 21'!$Z$12","v":"Q/F 1"}]
["End",null,"Shots",null,"Total",null,"Shots",null,"Total",{"$nulls":4},"Shots",null,"Total",null,"Shots",null,"Total"]
[1]
[2]
[3]
[4]
[5,{"$nulls":10},2,{"$nulls":10},1]
["Points",{"$nulls":3},"Tie Break",{"$nulls":14},"Points"]
[{"$nulls":4},"End",null,"Shots",{"$nulls":8},"Shots"]
[{"$nulls":4},1]
[{"$nulls":9},"Time"]
["Sign",{"$nulls":8},"Completed",{"$nulls":5},"Sign"]
["i",{"$nulls":14},"i"]
[{"$f":"Entries!$A$1","v":"2018 District 5 - Mixed Pairs"}]
[{"$f":"'Finals 28 25'!$C$17","v":"F I N A L "}]
[null,null,"RINK",{"$nulls":5},"DATE"]
[null,null,{"$f":"'Finals 24 21'!$F$18","v":6},{"$nulls":5},{"$f":"Entries!$A$2","v":"20th June 2018"}]
[]
[{"$nulls":11},"L"]
[]
[{"$f":"'Finals 24 21'!$E$18","v":"S/F 1"},{"$nulls":10},"Sk",null,{"$f":"'Finals 24 21'!$E$19","v":"S/F 2"}]
[]
[null,null,"First Set",{"$nulls":10},"Second Set"]
[null,null,{"$f":"'Finals 24 21'!$E$18","v":"S/F 1"},{"$nulls":3},{"$f":"'Finals 24 21'!$E$19","v":"S/F 2"},{"$nulls":6},{"$f":"'Finals 24 21'!$E$18","v":"S/F 1"},{"$nulls":3},{"$f":"'Finals 24 21'!$E$19","v":"S/F 2"}]
["End",null,"Shots",null,"Total",null,"Shots",null,"Total",{"$nulls":4},"Shots",null,"Total",null,"Shots",null,"Total"]
[1]
[2]
[3]
[4]
[5,{"$nulls":10},1,{"$nulls":10},1]
["Points",{"$nulls":3},"Tie Break",{"$nulls":14},"Points"]
[{"$nulls":4},"End",null,"Shots",{"$nulls":8},"Shots"]
[{"$nulls":4},1]
[{"$nulls":9},"Time"]
["Sign",{"$nulls":8},"Completed",{"$nulls":5},"Sign"]
["i",{"$nulls":14},"i"]
[{"$f":"Entries!$A$1","v":"2018 District 5 - Mixed Pairs"}]
[{"$f":"'Finals 28 25'!$C$17","v":"F I N A L "}]
[null,null,"RINK",{"$nulls":5},"DATE"]
[null,null,{"$f":"'Finals 24 21'!$F$18","v":6},{"$nulls":5},{"$f":"Entries!$A$2","v":"20th June 2018"}]
[]
[{"$nulls":11},"L"]
[]
[{"$f":"'Finals 24 21'!$E$19","v":"S/F 2"},{"$nulls":10},"Sk",null,{"$f":"'Finals 24 21'!$E$18","v":"S/F 1"}]
[]
[null,null,"First Set",{"$nulls":10},"Second Set"]
[null,null,{"$f":"'Finals 24 21'!$E$19","v":"S/F 2"},{"$nulls":3},{"$f":"'Finals 24 21'!$E$18","v":"S/F 1"},{"$nulls":6},{"$f":"'Finals 24 21'!$E$19","v":"S/F 2"},{"$nulls":3},{"$f":"'Finals 24 21'!$E$18","v":"S/F 1"}]
["End",null,"Shots",null,"Total",null,"Shots",null,"Total",{"$nulls":4},"Shots",null,"Total",null,"Shots",null,"Total"]
[1]
[2]
[3]
[4]
[5,{"$nulls":10},2,{"$nulls":10},1]
["Points",{"$nulls":3},"Tie Break",{"$nulls":14},"Points"]
[{"$nulls":4},"End",null,"Shots",{"$nulls":8},"Shots"]
[{"$nulls":4},1]
[{"$nulls":9},"Time"]
["Sign",{"$nulls":8},"Completed",{"$nulls":5},"Sign"]
["i",{"$nulls":14},"i"]
[{"$f":"Entries!$A$1","v":"2018 District 5 - Mixed Pairs"}]
[]
[null,null,"RINK",{"$nulls":5},"DATE"]
[]
[]
[{"$nulls":11},"L"]
[]
[{"$nulls":11},"Sk"]
[]
[null,null,"First Set",{"$nulls":10},"Second Set"]
[null,null,{"$f":"'Finals 24 21'!$E$18","v":"S/F 1"},{"$nulls":3},{"$f":"'Finals 24 21'!$E$19","v":"S/F 2"},{"$nulls":6},{"$f":"'Finals 24 21'!$E$18","v":"S/F 1"},{"$nulls":3},{"$f":"'Finals 24 21'!$E$19","v":"S/F 2"}]
["End",null,"Shots",null,"Total",null,"Shots",null,"Total",{"$nulls":4},"Shots",null,"Total",null,"Shots",null,"Total"]
[1]
[2]
[3]
[4]
[5,{"$nulls":10},1,{"$nulls":10},1]
["Points",{"$nulls":3},"Tie Break",{"$nulls":14},"Points"]
[{"$nulls":4},"End",null,"Shots",{"$nulls":8},"Shots"]
[{"$nulls":4},1]
[{"$nulls":9},"Time"]
["Sign",{"$nulls":8},"Completed",{"$nulls":5},"Sign"]
["i",{"$nulls":14},"i"]
[{"$f":"Entries!$A$1","v":"2018 District 5 - Mixed Pairs"}]
[{"$f":"'Finals 24 21'!$C$17","v":"F I N A L "}]
[null,null,"RINK",{"$nulls":5},"DATE"]
[null,null,{"$f":"'Finals 24 21'!$F$18","v":6}]
[]
[{"$nulls":11},"L"]
[]
[{"$f":"'Finals 24 21'!$E$19","v":"S/F 2"},{"$nulls":10},"Sk",null,{"$f":"'Finals 24 21'!$E$18","v":"S/F 1"}]
[]
[null,null,"First Set",{"$nulls":10},"Second Set"]
[null,null,{"$f":"'Finals 24 21'!$E$19","v":"S/F 2"},{"$nulls":3},{"$f":"'Finals 24 21'!$E$18","v":"S/F 1"},{"$nulls":6},{"$f":"'Finals 24 21'!$E$19","v":"S/F 2"},{"$nulls":3},{"$f":"'Finals 24 21'!$E$18","v":"S/F 1"}]
["End",null,"Shots",null,"Total",null,"Shots",null,"Total",{"$nulls":4},"Shots",null,"Total",null,"Shots",null,"Total"]
[1]
[2]
[3]
[4]
[5,{"$nulls":10},2,{"$nulls":10},1]
["Points",{"$nulls":3},"Tie Break",{"$nulls":14},"Points"]
[{"$nulls":4},"End",null,"Shots",{"$nulls":8},"Shots"]
[{"$nulls":4},1]
[{"$nulls":9},"Time"]
["Sign",{"$nulls":8},"Completed",{"$nulls":5},"Sign"]
["i",{"$nulls":14},"i"]
[{"$f":"Entries!$A$1","v":"2018 District 5 - Mixed Pairs"}]
[{"$f":"'Finals 24 21'!$C$17","v":"F I N A L "}]
[null,null,"RINK",{"$nulls":5},"DATE"]
[null,null,{"$f":"'Finals 24 21'!$X$18","v":0}]
[{"$nulls":9},"      "]
[{"$nulls":11},"L"]
[]
[{"$f":"'Finals 24 21'!$Z$18","v":0},{"$nulls":10},"Sk",null,{"$f":"'Finals 24 21'!$Z$19","v":0}]
[]
[null,null,"First Set",{"$nulls":10},"Second Set"]
[null,null,{"$f":"'Finals 24 21'!$Z$18","v":0},{"$nulls":3},{"$f":"'Finals 24 21'!$Z$19","v":0},{"$nulls":6},{"$f":"'Finals 24 21'!$Z$18","v":0},{"$nulls":3},{"$f":"'Finals 24 21'!$Z$19","v":0}]
["End",null,"Shots",null,"Total",null,"Shots",null,"Total",{"$nulls":4},"Shots",null,"Total",null,"Shots",null,"Total"]
[1]
[2]
[3]
[4]
[5,{"$nulls":10},1,{"$nulls":10},1]
["Points",{"$nulls":3},"Tie Break",{"$nulls":14},"Points"]
[{"$nulls":4},"End",null,"Shots",{"$nulls":8},"Shots"]
[{"$nulls":4},1]
[{"$nulls":9},"Time"]
["Sign",{"$nulls":8},"Completed",{"$nulls":5},"Sign"]
["i",{"$nulls":14},"i"]
[{"$f":"Entries!$A$1","v":"2018 District 5 - Mixed Pairs"}]
[{"$f":"'Finals 24 21'!$C$17","v":"F I N A L "}]
[null,null,"RINK",{"$nulls":5},"DATE"]
[null,null,{"$f":"'Finals 24 21'!$X$18","v":0}]
[]
[{"$nulls":11},"L"]
[]
[{"$f":"'Finals 24 21'!$Z$19","v":0},{"$nulls":10},"Sk",null,{"$f":"'Finals 24 21'!$Z$18","v":0}]
[]
[null,null,"First Set",{"$nulls":10},"Second Set"]
[null,null,{"$f":"'Finals 24 21'!$Z$19","v":0},{"$nulls":3},{"$f":"'Finals 24 21'!$Z$18","v":0},{"$nulls":6},{"$f":"'Finals 24 21'!$Z$19","v":0},{"$nulls":3},{"$f":"'Finals 24 21'!$Z$18","v":0}]
["End",null,"Shots",null,"Total",null,"Shots",null,"Total",{"$nulls":4},"Shots",null,"Total",null,"Shots",null,"Total"]
[1]
[2]
[3]
[4]
[5,{"$nulls":10},2,{"$nulls":10},1]
["Points",{"$nulls":3},"Tie Break",{"$nulls":14},"Points"]
[{"$nulls":4},"End",null,"Shots",{"$nulls":8},"Shots"]
[{"$nulls":4},1]
[{"$nulls":9},"Time"]
["Sign",{"$nulls":8},"Completed",{"$nulls":5},"Sign"]
["i",{"$nulls":14},"i"]
[{"$f":"Entries!$A$1","v":"2018 District 5 - Mixed Pairs"}]
[{"$f":"'Finals 24 21'!$C$26","v":0}]
[null,null,"RINK",{"$nulls":5},"DATE"]
[null,null,{"$f":"'Finals 24 21'!$F$27","v":0}]
[]
[{"$nulls":11},"L"]
[]
[{"$f":"'Finals 24 21'!$E$27","v":0},{"$nulls":10},"Sk",null,{"$f":"'Finals 24 21'!$E$28","v":0}]
[]
[null,null,"First Set",{"$nulls":10},"Second Set"]
[null,null,{"$f":"'Finals 24 21'!$E$27","v":0},{"$nulls":3},{"$f":"'Finals 24 21'!$E$28","v":0},{"$nulls":6},{"$f":"'Finals 24 21'!$E$27","v":0},{"$nulls":3},{"$f":"'Finals 24 21'!$E$28","v":0}]
["End",null,"Shots",null,"Total",null,"Shots",null,"Total",{"$nulls":4},"Shots",null,"Total",null,"Shots",null,"Total"]
[1]
[2]
[3]
[4]
[5,{"$nulls":10},1,{"$nulls":10},1]
["Points",{"$nulls":3},"Tie Break",{"$nulls":14},"Points"]
[{"$nulls":4},"End",null,"Shots",{"$nulls":8},"Shots"]
[{"$nulls":4},1]
[{"$nulls":9},"Time"]
["Sign",{"$nulls":8},"Completed",{"$nulls":5},"Sign"]
["i",{"$nulls":14},"i"]
[{"$f":"Entries!$A$1","v":"2018 District 5 - Mixed Pairs"}]
[{"$f":"'Finals 24 21'!$C$26","v":0}]
[null,null,"RINK",{"$nulls":5},"DATE"]
[null,null,{"$f":"'Finals 24 21'!$F$27","v":0}]
[]
[{"$nulls":11},"L"]
[]
[{"$f":"'Finals 24 21'!$E$28","v":0},{"$nulls":10},"Sk",null,{"$f":"'Finals 24 21'!$E$27","v":0}]
[]
[null,null,"First Set",{"$nulls":10},"Second Set"]
[null,null,{"$f":"'Finals 24 21'!$E$28","v":0},{"$nulls":3},{"$f":"'Finals 24 21'!$E$27","v":0},{"$nulls":6},{"$f":"'Finals 24 21'!$E$28","v":0},{"$nulls":3},{"$f":"'Finals 24 21'!$E$27","v":0}]
["End",null,"Shots",null,"Total",null,"Shots",null,"Total",{"$nulls":4},"Shots",null,"Total",null,"Shots",null,"Total"]
[1]
[2]
[3]
[4]
[5,{"$nulls":10},2,{"$nulls":10},1]
["Points",{"$nulls":3},"Tie Break",{"$nulls":14},"Points"]
[{"$nulls":4},"End",null,"Shots",{"$nulls":8},"Shots"]
[{"$nulls":4},1]
[{"$nulls":9},"Time"]
["Sign",{"$nulls":8},"Completed",{"$nulls":5},"Sign"]
["i",{"$nulls":14},"i"]
[{"$f":"Entries!$A$1","v":"2018 District 5 - Mixed Pairs"}]
[]
[null,null,"RINK",{"$nulls":5},"DATE"]
[]
[]
[{"$nulls":11},"L"]
[]
[{"$nulls":11},"Sk"]
[]
[null,null,"First Set",{"$nulls":10},"Second Set"]
[]
["End",null,"Shots",null,"Total",null,"Shots",null,"Total",{"$nulls":4},"Shots",null,"Total",null,"Shots",null,"Total"]
[1]
[2]
[3]
[4]
[5,{"$nulls":10},1,{"$nulls":10},1]
["Points",{"$nulls":3},"Tie Break",{"$nulls":14},"Points"]
[{"$nulls":4},"End",null,"Shots",{"$nulls":8},"Shots"]
[{"$nulls":4},1]
[{"$nulls":9},"Time"]
["Sign",{"$nulls":8},"Completed",{"$nulls":5},"Sign"]
["i",{"$nulls":14},"i"]
[{"$f":"Entries!$A$1","v":"2018 District 5 - Mixed Pairs"}]
["R O U N D  1"]
[null,null,"RINK",{"$nulls":5},"DATE"]
[null,null,{"$f":"DRAW!$F$23","v":0}]
[]
[{"$f":"DRAW!$D$24","v":0},{"$nulls":10},"L",null,{"$f":"DRAW!$D$23","v":0}]
[]
[{"$f":"DRAW!$E$24","v":0},{"$nulls":10},"Sk",null,{"$f":"DRAW!$E$23","v":0}]
[]
[null,null,"First Set",{"$nulls":10},"Second Set"]
[null,null,{"$f":"DRAW!$E$24","v":0},{"$nulls":3},{"$f":"DRAW!$E$23","v":0},{"$nulls":6},{"$f":"DRAW!$E$24","v":0},{"$nulls":3},{"$f":"DRAW!$E$23","v":0}]
["End",null,"Shots",null,"Total",null,"Shots",null,"Total",{"$nulls":4},"Shots",null,"Total",null,"Shots",null,"Total"]
[1]
[2]
[3]
[4]
[5,{"$nulls":10},2,{"$nulls":10},1]
["Points",{"$nulls":3},"Tie Break",{"$nulls":14},"Points"]
[{"$nulls":4},"End",null,"Shots",{"$nulls":8},"Shots"]
[{"$nulls":4},1]
[{"$nulls":3},"TEAM No.",{"$nulls":5},"Time",{"$nulls":7},"TEAM No."]
["Sign",null,null,{"$f":"DRAW!$C$24","v":0},{"$nulls":5},"Completed",{"$nulls":5},"Sign",null,{"$f":"DRAW!$C$23","v":0}]
["i",{"$nulls":14},"i"]
[{"$f":"Entries!$A$1","v":"2018 District 5 - Mixed Pairs"}]
["R O U N D  1"]
[null,null,"RINK",{"$nulls":5},"DATE"]
[null,null,{"$f":"DRAW!$F$25","v":0}]
[]
[{"$f":"DRAW!$D$25","v":0},{"$nulls":10},"L",null,{"$f":"DRAW!$D$26","v":0}]
[]
[{"$f":"DRAW!$E$25","v":0},{"$nulls":10},"Sk",null,{"$f":"DRAW!$E$26","v":0}]
[]
[null,null,"First Set",{"$nulls":10},"Second Set"]
[null,null,{"$f":"DRAW!$E$25","v":0},{"$nulls":3},{"$f":"DRAW!$E$26","v":0},{"$nulls":6},{"$f":"DRAW!$E$25","v":0},{"$nulls":3},{"$f":"DRAW!$E$26","v":0}]
["End",null,"Shots",null,"Total",null,"Shots",null,"Total",{"$nulls":4},"Shots",null,"Total",null,"Shots",null,"Total"]
[1]
[2]
[3]
[4]
[5,{"$nulls":10},1,{"$nulls":10},1]
["Points",{"$nulls":3},"Tie Break",{"$nulls":14},"Points"]
[{"$nulls":4},"End",null,"Shots",{"$nulls":8},"Shots"]
[{"$nulls":4},1]
[{"$nulls":3},"TEAM No.",{"$nulls":5},"Time",{"$nulls":7},"TEAM No."]
["Sign",null,null,{"$f":"DRAW!$C$25","v":0},{"$nulls":5},"Completed",{"$nulls":5},"Sign",null,{"$f":"DRAW!$C$26","v":0}]
["i",{"$nulls":14},"i"]
[{"$f":"Entries!$A$1","v":"2018 District 5 - Mixed Pairs"}]
["R O U N D  1"]
[null,null,"RINK",{"$nulls":5},"DATE"]
[null,null,{"$f":"DRAW!$F$25","v":0}]
[]
[{"$f":"DRAW!$D$26","v":0},{"$nulls":10},"L",null,{"$f":"DRAW!$D$25","v":0}]
[]
[{"$f":"DRAW!$E$26","v":0},{"$nulls":10},"Sk",null,{"$f":"DRAW!$E$25","v":0}]
[]
[null,null,"First Set",{"$nulls":10},"Second Set"]
[null,null,{"$f":"DRAW!$E$26","v":0},{"$nulls":3},{"$f":"DRAW!$E$25","v":0},{"$nulls":6},{"$f":"DRAW!$E$26","v":0},{"$nulls":3},{"$f":"DRAW!$E$25","v":0}]
["End",null,"Shots",null,"Total",null,"Shots",null,"Total",{"$nulls":4},"Shots",null,"Total",null,"Shots",null,"Total"]
[1]
[2]
[3]
[4]
[5,{"$nulls":10},2,{"$nulls":10},1]
["Points",{"$nulls":3},"Tie Break",{"$nulls":14},"Points"]
[{"$nulls":4},"End",null,"Shots",{"$nulls":8},"Shots"]
[{"$nulls":4},1]
[{"$nulls":3},"TEAM No.",{"$nulls":5},"Time",{"$nulls":7},"TEAM No."]
["Sign",null,null,{"$f":"DRAW!$C$26","v":0},{"$nulls":5},"Completed",{"$nulls":5},"Sign",null,{"$f":"DRAW!$C$25","v":0}]
["i",{"$nulls":14},"i"]
[{"$f":"Entries!$A$1","v":"2018 District 5 - Mixed Pairs"}]
["R O U N D  1"]
[null,null,"RINK",{"$nulls":5},"DATE"]
[null,null,{"$f":"DRAW!$F$27","v":0}]
[]
[{"$f":"DRAW!$D$27","v":0},{"$nulls":10},"L",null,{"$f":"DRAW!$D$28","v":0}]
[]
[{"$f":"DRAW!$E$27","v":0},{"$nulls":10},"Sk",null,{"$f":"DRAW!$E$28","v":0}]
[]
[null,null,"First Set",{"$nulls":10},"Second Set"]
[null,null,{"$f":"DRAW!$E$27","v":0},{"$nulls":3},{"$f":"DRAW!$E$28","v":0},{"$nulls":6},{"$f":"DRAW!$E$27","v":0},{"$nulls":3},{"$f":"DRAW!$E$28","v":0}]
["End",null,"Shots",null,"Total",null,"Shots",null,"Total",{"$nulls":4},"Shots",null,"Total",null,"Shots",null,"Total"]
[1]
[2]
[3]
[4]
[5,{"$nulls":10},1,{"$nulls":10},1]
["Points",{"$nulls":3},"Tie Break",{"$nulls":14},"Points"]
[{"$nulls":4},"End",null,"Shots",{"$nulls":8},"Shots"]
[{"$nulls":4},1]
[{"$nulls":3},"TEAM No.",{"$nulls":5},"Time",{"$nulls":7},"TEAM No."]
["Sign",null,null,{"$f":"DRAW!$C$27","v":0},{"$nulls":5},"Completed",{"$nulls":5},"Sign",null,{"$f":"DRAW!$C$28","v":0}]
["i",{"$nulls":14},"i"]
[{"$f":"Entries!$A$1","v":"2018 District 5 - Mixed Pairs"}]
["R O U N D  1"]
[null,null,"RINK",{"$nulls":5},"DATE"]
[null,null,{"$f":"DRAW!$F$27","v":0}]
[]
[{"$f":"DRAW!$D$28","v":0},{"$nulls":10},"L",null,{"$f":"DRAW!$D$27","v":0}]
[]
[{"$f":"DRAW!$E$28","v":0},{"$nulls":10},"Sk",null,{"$f":"DRAW!$E$27","v":0}]
[]
[null,null,"First Set",{"$nulls":10},"Second Set"]
[null,null,{"$f":"DRAW!$E$28","v":0},{"$nulls":3},{"$f":"DRAW!$E$27","v":0},{"$nulls":6},{"$f":"DRAW!$E$28","v":0},{"$nulls":3},{"$f":"DRAW!$E$27","v":0}]
["End",null,"Shots",null,"Total",null,"Shots",null,"Total",{"$nulls":4},"Shots",null,"Total",null,"Shots",null,"Total"]
[1]
[2]
[3]
[4]
[5,{"$nulls":10},2,{"$nulls":10},1]
["Points",{"$nulls":3},"Tie Break",{"$nulls":14},"Points"]
[{"$nulls":4},"End",null,"Shots",{"$nulls":8},"Shots"]
[{"$nulls":4},1]
[{"$nulls":3},"TEAM No.",{"$nulls":5},"Time",{"$nulls":7},"TEAM No."]
["Sign",null,null,{"$f":"DRAW!$C$28","v":0},{"$nulls":5},"Completed",{"$nulls":5},"Sign",null,{"$f":"DRAW!$C$27","v":0}]
["i",{"$nulls":14},"i"]
[{"$f":"Entries!$A$1","v":"2018 District 5 - Mixed Pairs"}]
["R O U N D  1"]
[null,null,"RINK",{"$nulls":5},"DATE"]
[null,null,{"$f":"DRAW!$F$29","v":0}]
[]
[{"$f":"DRAW!$D$29","v":0},{"$nulls":10},"L",null,{"$f":"DRAW!$D$30","v":0}]
[]
[{"$f":"DRAW!$E$29","v":0},{"$nulls":10},"Sk",null,{"$f":"DRAW!$E$30","v":0}]
[]
[null,null,"First Set",{"$nulls":10},"Second Set"]
[null,null,{"$f":"DRAW!$E$29","v":0},{"$nulls":3},{"$f":"DRAW!$E$30","v":0},{"$nulls":6},{"$f":"DRAW!$E$29","v":0},{"$nulls":3},{"$f":"DRAW!$E$30","v":0}]
["End",null,"Shots",null,"Total",null,"Shots",null,"Total",{"$nulls":4},"Shots",null,"Total",null,"Shots",null,"Total"]
[1]
[2]
[3]
[4]
[5,{"$nulls":10},1,{"$nulls":10},1]
["Points",{"$nulls":3},"Tie Break",{"$nulls":14},"Points"]
[{"$nulls":4},"End",null,"Shots",{"$nulls":8},"Shots"]
[{"$nulls":4},1]
[{"$nulls":3},"TEAM No.",{"$nulls":5},"Time",{"$nulls":7},"TEAM No."]
["Sign",null,null,{"$f":"DRAW!$C$29","v":0},{"$nulls":5},"Completed",{"$nulls":5},"Sign",null,{"$f":"DRAW!$C$30","v":0}]
["i",{"$nulls":14},"i"]
[{"$f":"Entries!$A$1","v":"2018 District 5 - Mixed Pairs"}]
["R O U N D  1"]
[null,null,"RINK",{"$nulls":5},"DATE"]
[null,null,{"$f":"DRAW!$F$29","v":0}]
[]
[{"$f":"DRAW!$D$30","v":0},{"$nulls":10},"L",null,{"$f":"DRAW!$D$29","v":0}]
[]
[{"$f":"DRAW!$E$30","v":0},{"$nulls":10},"Sk",null,{"$f":"DRAW!$E$29","v":0}]
[]
[null,null,"First Set",{"$nulls":10},"Second Set"]
[null,null,{"$f":"DRAW!$E$30","v":0},{"$nulls":3},{"$f":"DRAW!$E$29","v":0},{"$nulls":6},{"$f":"DRAW!$E$30","v":0},{"$nulls":3},{"$f":"DRAW!$E$29","v":0}]
["End",null,"Shots",null,"Total",null,"Shots",null,"Total",{"$nulls":4},"Shots",null,"Total",null,"Shots",null,"Total"]
[1]
[2]
[3]
[4]
[5,{"$nulls":10},2,{"$nulls":10},1]
["Points",{"$nulls":3},"Tie Break",{"$nulls":14},"Points"]
[{"$nulls":4},"End",null,"Shots",{"$nulls":8},"Shots"]
[{"$nulls":4},1]
[{"$nulls":3},"TEAM No.",{"$nulls":5},"Time",{"$nulls":7},"TEAM No."]
["Sign",null,null,{"$f":"DRAW!$C$30","v":0},{"$nulls":5},"Completed",{"$nulls":5},"Sign",null,{"$f":"DRAW!$C$29","v":0}]
["i",{"$nulls":14},"i"]
[{"$f":"Entries!$A$1","v":"2018 District 5 - Mixed Pairs"}]
["R O U N D  1"]
[null,null,"RINK",{"$nulls":5},"DATE"]
[null,null,{"$f":"DRAW!$F$31","v":0}]
[]
[{"$f":"DRAW!$D$31","v":0},{"$nulls":10},"L",null,{"$f":"DRAW!$D$32","v":0}]
[]
[{"$f":"DRAW!$E$31","v":0},{"$nulls":10},"Sk",null,{"$f":"DRAW!$E$32","v":0}]
[]
[null,null,"First Set",{"$nulls":10},"Second Set"]
[null,null,{"$f":"DRAW!$E$31","v":0},{"$nulls":3},{"$f":"DRAW!$E$32","v":0},{"$nulls":6},{"$f":"DRAW!$E$31","v":0},{"$nulls":3},{"$f":"DRAW!$E$32","v":0}]
["End",null,"Shots",null,"Total",null,"Shots",null,"Total",{"$nulls":4},"Shots",null,"Total",null,"Shots",null,"Total"]
[1]
[2]
[3]
[4]
[5,{"$nulls":10},1,{"$nulls":10},1]
["Points",{"$nulls":3},"Tie Break",{"$nulls":14},"Points"]
[{"$nulls":4},"End",null,"Shots",{"$nulls":8},"Shots"]
[{"$nulls":4},1]
[{"$nulls":3},"TEAM No.",{"$nulls":5},"Time",{"$nulls":7},"TEAM No."]
["Sign",null,null,{"$f":"DRAW!$C$31","v":0},{"$nulls":5},"Completed",{"$nulls":5},"Sign",null,{"$f":"DRAW!$C$32","v":0}]
["i",{"$nulls":14},"i"]
[{"$f":"Entries!$A$1","v":"2018 District 5 - Mixed Pairs"}]
["R O U N D  1"]
[null,null,"RINK",{"$nulls":5},"DATE"]
[null,null,{"$f":"DRAW!$F$31","v":0}]
[]
[{"$f":"DRAW!$D$32","v":0},{"$nulls":10},"L",null,{"$f":"DRAW!$D$31","v":0}]
[]
[{"$f":"DRAW!$E$32","v":0},{"$nulls":10},"Sk",null,{"$f":"DRAW!$E$31","v":0}]
[]
[null,null,"First Set",{"$nulls":10},"Second Set"]
[null,null,{"$f":"DRAW!$E$32","v":0},{"$nulls":3},{"$f":"DRAW!$E$31","v":0},{"$nulls":6},{"$f":"DRAW!$E$32","v":0},{"$nulls":3},{"$f":"DRAW!$E$31","v":0}]
["End",null,"Shots",null,"Total",null,"Shots",null,"Total",{"$nulls":4},"Shots",null,"Total",null,"Shots",null,"Total"]
[1]
[2]
[3]
[4]
[5,{"$nulls":10},2,{"$nulls":10},1]
["Points",{"$nulls":3},"Tie Break",{"$nulls":14},"Points"]
[{"$nulls":4},"End",null,"Shots",{"$nulls":8},"Shots"]
[{"$nulls":4},1]
[{"$nulls":3},"TEAM No.",{"$nulls":5},"Time",{"$nulls":7},"TEAM No."]
["Sign",null,null,{"$f":"DRAW!$C$32","v":0},{"$nulls":5},"Completed",{"$nulls":5},"Sign",null,{"$f":"DRAW!$C$31","v":0}]
["i",{"$nulls":14},"i"]
[{"$f":"Entries!$A$1","v":"2018 District 5 - Mixed Pairs"}]
["R O U N D  1"]
[null,null,"RINK",{"$nulls":5},"DATE"]
[null,null,{"$f":"DRAW!$F$33","v":0}]
[]
[{"$f":"DRAW!$D$33","v":0},{"$nulls":10},"L",null,{"$f":"DRAW!$D$34","v":0}]
[]
[{"$f":"DRAW!$E$33","v":0},{"$nulls":10},"Sk",null,{"$f":"DRAW!$E$34","v":0}]
[]
[null,null,"First Set",{"$nulls":10},"Second Set"]
[null,null,{"$f":"DRAW!$E$33","v":0},{"$nulls":3},{"$f":"DRAW!$E$34","v":0},{"$nulls":6},{"$f":"DRAW!$E$33","v":0},{"$nulls":3},{"$f":"DRAW!$E$34","v":0}]
["End",null,"Shots",null,"Total",null,"Shots",null,"Total",{"$nulls":4},"Shots",null,"Total",null,"Shots",null,"Total"]
[1]
[2]
[3]
[4]
[5,{"$nulls":10},1,{"$nulls":10},1]
["Points",{"$nulls":3},"Tie Break",{"$nulls":14},"Points"]
[{"$nulls":4},"End",null,"Shots",{"$nulls":8},"Shots"]
[{"$nulls":4},1]
[{"$nulls":3},"TEAM No.",{"$nulls":5},"Time",{"$nulls":7},"TEAM No."]
["Sign",null,null,{"$f":"DRAW!$C$33","v":0},{"$nulls":5},"Completed",{"$nulls":5},"Sign",null,{"$f":"DRAW!$C$34","v":0}]
["i",{"$nulls":14},"i"]
[{"$f":"Entries!$A$1","v":"2018 District 5 - Mixed Pairs"}]
["R O U N D  1"]
[null,null,"RINK",{"$nulls":5},"DATE"]
[null,null,{"$f":"DRAW!$F$33","v":0}]
[]
[{"$f":"DRAW!$D$34","v":0},{"$nulls":10},"L",null,{"$f":"DRAW!$D$33","v":0}]
[]
[{"$f":"DRAW!$E$34","v":0},{"$nulls":10},"Sk",null,{"$f":"DRAW!$E$33","v":0}]
[]
[null,null,"First Set",{"$nulls":10},"Second Set"]
[null,null,{"$f":"DRAW!$E$34","v":0},{"$nulls":3},{"$f":"DRAW!$E$33","v":0},{"$nulls":6},{"$f":"DRAW!$E$34","v":0},{"$nulls":3},{"$f":"DRAW!$E$33","v":0}]
["End",null,"Shots",null,"Total",null,"Shots",null,"Total",{"$nulls":4},"Shots",null,"Total",null,"Shots",null,"Total"]
[1]
[2]
[3]
[4]
[5,{"$nulls":10},2,{"$nulls":10},1]
["Points",{"$nulls":3},"Tie Break",{"$nulls":14},"Points"]
[{"$nulls":4},"End",null,"Shots",{"$nulls":8},"Shots"]
[{"$nulls":4},1]
[{"$nulls":3},"TEAM No.",{"$nulls":5},"Time",{"$nulls":7},"TEAM No."]
["Sign",null,null,{"$f":"DRAW!$C$34","v":0},{"$nulls":5},"Completed",{"$nulls":5},"Sign",null,{"$f":"DRAW!$C$33","v":0}]
["i",{"$nulls":14},"i"]
[{"$f":"Entries!$A$1","v":"2018 District 5 - Mixed Pairs"}]
["R O U N D  1"]
[null,null,"RINK",{"$nulls":5},"DATE"]
[null,null,{"$f":"DRAW!$F$35","v":0}]
[]
[{"$f":"DRAW!$D$35","v":0},{"$nulls":10},"L",null,{"$f":"DRAW!$D$36","v":0}]
[]
[{"$f":"DRAW!$E$35","v":0},{"$nulls":10},"Sk",null,{"$f":"DRAW!$E$36","v":0}]
[]
[null,null,"First Set",{"$nulls":10},"Second Set"]
[null,null,{"$f":"DRAW!$E$35","v":0},{"$nulls":3},{"$f":"DRAW!$E$36","v":0},{"$nulls":6},{"$f":"DRAW!$E$35","v":0},{"$nulls":3},{"$f":"DRAW!$E$36","v":0}]
["End",null,"Shots",null,"Total",null,"Shots",null,"Total",{"$nulls":4},"Shots",null,"Total",null,"Shots",null,"Total"]
[1]
[2]
[3]
[4]
[5,{"$nulls":10},1,{"$nulls":10},1]
["Points",{"$nulls":3},"Tie Break",{"$nulls":14},"Points"]
[{"$nulls":4},"End",null,"Shots",{"$nulls":8},"Shots"]
[{"$nulls":4},1]
[{"$nulls":3},"TEAM No.",{"$nulls":5},"Time",{"$nulls":7},"TEAM No."]
["Sign",null,null,{"$f":"DRAW!$C$35","v":0},{"$nulls":5},"Completed",{"$nulls":5},"Sign",null,{"$f":"DRAW!$C$36","v":0}]
["i",{"$nulls":14},"i"]
[{"$f":"Entries!$A$1","v":"2018 District 5 - Mixed Pairs"}]
["R O U N D  1"]
[null,null,"RINK",{"$nulls":5},"DATE"]
[null,null,{"$f":"DRAW!$F$35","v":0}]
[]
[{"$f":"DRAW!$D$36","v":0},{"$nulls":10},"L",null,{"$f":"DRAW!$D$35","v":0}]
[]
[{"$f":"DRAW!$E$36","v":0},{"$nulls":10},"Sk",null,{"$f":"DRAW!$E$35","v":0}]
[]
[null,null,"First Set",{"$nulls":10},"Second Set"]
[null,null,{"$f":"DRAW!$E$36","v":0},{"$nulls":3},{"$f":"DRAW!$E$35","v":0},{"$nulls":6},{"$f":"DRAW!$E$36","v":0},{"$nulls":3},{"$f":"DRAW!$E$35","v":0}]
["End",null,"Shots",null,"Total",null,"Shots",null,"Total",{"$nulls":4},"Shots",null,"Total",null,"Shots",null,"Total"]
[1]
[2]
[3]
[4]
[5,{"$nulls":10},2,{"$nulls":10},1]
["Points",{"$nulls":3},"Tie Break",{"$nulls":14},"Points"]
[{"$nulls":4},"End",null,"Shots",{"$nulls":8},"Shots"]
[{"$nulls":4},1]
[{"$nulls":3},"TEAM No.",{"$nulls":5},"Time",{"$nulls":7},"TEAM No."]
["Sign",null,null,{"$f":"DRAW!$C$36","v":0},{"$nulls":5},"Completed",{"$nulls":5},"Sign",null,{"$f":"DRAW!$C$35","v":0}]
["i",{"$nulls":14},"i"]
[{"$f":"Entries!$A$1","v":"2018 District 5 - Mixed Pairs"}]
["R O U N D  1"]
[null,null,"RINK",{"$nulls":5},"DATE"]
[null,null,{"$f":"DRAW!$F$37","v":0}]
[]
[{"$f":"DRAW!$D$37","v":0},{"$nulls":10},"L",null,{"$f":"DRAW!$D$38","v":0}]
[]
[{"$f":"DRAW!$E$37","v":0},{"$nulls":10},"Sk",null,{"$f":"DRAW!$E$38","v":0}]
[]
[null,null,"First Set",{"$nulls":10},"Second Set"]
[null,null,{"$f":"DRAW!$E$37","v":0},{"$nulls":3},{"$f":"DRAW!$E$38","v":0},{"$nulls":6},{"$f":"DRAW!$E$37","v":0},{"$nulls":3},{"$f":"DRAW!$E$38","v":0}]
["End",null,"Shots",null,"Total",null,"Shots",null,"Total",{"$nulls":4},"Shots",null,"Total",null,"Shots",null,"Total"]
[1]
[2]
[3]
[4]
[5,{"$nulls":10},1,{"$nulls":10},1]
["Points",{"$nulls":3},"Tie Break",{"$nulls":14},"Points"]
[{"$nulls":4},"End",null,"Shots",{"$nulls":8},"Shots"]
[{"$nulls":4},1]
[{"$nulls":3},"TEAM No.",{"$nulls":5},"Time",{"$nulls":7},"TEAM No."]
["Sign",null,null,{"$f":"DRAW!$C$37","v":0},{"$nulls":5},"Completed",{"$nulls":5},"Sign",null,{"$f":"DRAW!$C$38","v":0}]
["i",{"$nulls":14},"i"]
[{"$f":"Entries!$A$1","v":"2018 District 5 - Mixed Pairs"}]
["R O U N D  1"]
[null,null,"RINK",{"$nulls":5},"DATE"]
[null,null,{"$f":"DRAW!$F$37","v":0}]
[]
[{"$f":"DRAW!$D$38","v":0},{"$nulls":10},"L",null,{"$f":"DRAW!$D$37","v":0}]
[]
[{"$f":"DRAW!$E$38","v":0},{"$nulls":10},"Sk",null,{"$f":"DRAW!$E$37","v":0}]
[]
[null,null,"First Set",{"$nulls":10},"Second Set"]
[null,null,{"$f":"DRAW!$E$38","v":0},{"$nulls":3},{"$f":"DRAW!$E$37","v":0},{"$nulls":6},{"$f":"DRAW!$E$38","v":0},{"$nulls":3},{"$f":"DRAW!$E$37","v":0}]
["End",null,"Shots",null,"Total",null,"Shots",null,"Total",{"$nulls":4},"Shots",null,"Total",null,"Shots",null,"Total"]
[1]
[2]
[3]
[4]
[5,{"$nulls":10},2,{"$nulls":10},1]
["Points",{"$nulls":3},"Tie Break",{"$nulls":14},"Points"]
[{"$nulls":4},"End",null,"Shots",{"$nulls":8},"Shots"]
[{"$nulls":4},1]
[{"$nulls":3},"TEAM No.",{"$nulls":5},"Time",{"$nulls":7},"TEAM No."]
["Sign",null,null,{"$f":"DRAW!$C$38","v":0},{"$nulls":5},"Completed",{"$nulls":5},"Sign",null,{"$f":"DRAW!$C$37","v":0}]
["i",{"$nulls":14},"i"]
[{"$f":"Entries!$A$1","v":"2018 District 5 - Mixed Pairs"}]
["R O U N D  1"]
[null,null,"RINK",{"$nulls":5},"DATE"]
[null,null,{"$f":"DRAW!$F$39","v":0}]
[]
[{"$f":"DRAW!$D$39","v":0},{"$nulls":10},"L",null,{"$f":"DRAW!$D$40","v":0}]
[]
[{"$f":"DRAW!$E$39","v":0},{"$nulls":10},"Sk",null,{"$f":"DRAW!$E$40","v":0}]
[]
[null,null,"First Set",{"$nulls":10},"Second Set"]
[null,null,{"$f":"DRAW!$E$39","v":0},{"$nulls":3},{"$f":"DRAW!$E$40","v":0},{"$nulls":6},{"$f":"DRAW!$E$39","v":0},{"$nulls":3},{"$f":"DRAW!$E$40","v":0}]
["End",null,"Shots",null,"Total",null,"Shots",null,"Total",{"$nulls":4},"Shots",null,"Total",null,"Shots",null,"Total"]
[1]
[2]
[3]
[4]
[5,{"$nulls":10},1,{"$nulls":10},1]
["Points",{"$nulls":3},"Tie Break",{"$nulls":14},"Points"]
[{"$nulls":4},"End",null,"Shots",{"$nulls":8},"Shots"]
[{"$nulls":4},1]
[{"$nulls":3},"TEAM No.",{"$nulls":5},"Time",{"$nulls":7},"TEAM No."]
["Sign",null,null,{"$f":"DRAW!$C$39","v":0},{"$nulls":5},"Completed",{"$nulls":5},"Sign",null,{"$f":"DRAW!$C$40","v":0}]
["i",{"$nulls":14},"i"]
[{"$f":"Entries!$A$1","v":"2018 District 5 - Mixed Pairs"}]
["R O U N D  1"]
[null,null,"RINK",{"$nulls":5},"DATE"]
[null,null,{"$f":"DRAW!$F$39","v":0}]
[]
[{"$f":"DRAW!$D$40","v":0},{"$nulls":10},"L",null,{"$f":"DRAW!$D$39","v":0}]
[]
[{"$f":"DRAW!$E$40","v":0},{"$nulls":10},"Sk",null,{"$f":"DRAW!$E$39","v":0}]
[]
[null,null,"First Set",{"$nulls":10},"Second Set"]
[null,null,{"$f":"DRAW!$E$40","v":0},{"$nulls":3},{"$f":"DRAW!$E$39","v":0},{"$nulls":6},{"$f":"DRAW!$E$40","v":0},{"$nulls":3},{"$f":"DRAW!$E$39","v":0}]
["End",null,"Shots",null,"Total",null,"Shots",null,"Total",{"$nulls":4},"Shots",null,"Total",null,"Shots",null,"Total"]
[1]
[2]
[3]
[4]
[5,{"$nulls":10},2,{"$nulls":10},1]
["Points",{"$nulls":3},"Tie Break",{"$nulls":14},"Points"]
[{"$nulls":4},"End",null,"Shots",{"$nulls":8},"Shots"]
[{"$nulls":4},1]
[{"$nulls":3},"TEAM No.",{"$nulls":5},"Time",{"$nulls":7},"TEAM No."]
["Sign",null,null,{"$f":"DRAW!$C$40","v":0},{"$nulls":5},"Completed",{"$nulls":5},"Sign",null,{"$f":"DRAW!$C$39","v":0}]
["i",{"$nulls":14},"i"]
[{"$f":"Entries!$A$1","v":"2018 District 5 - Mixed Pairs"}]
["R O U N D  1"]
[null,null,"RINK",{"$nulls":5},"DATE"]
[null,null,{"$f":"DRAW!$F$41","v":0}]
[]
[{"$f":"DRAW!$D$41","v":0},{"$nulls":10},"L",null,{"$f":"DRAW!$D$42","v":0}]
[]
[{"$f":"DRAW!$E$41","v":0},{"$nulls":10},"Sk",null,{"$f":"DRAW!$E$42","v":0}]
[]
[null,null,"First Set",{"$nulls":10},"Second Set"]
[null,null,{"$f":"DRAW!$E$41","v":0},{"$nulls":3},{"$f":"DRAW!$E$42","v":0},{"$nulls":6},{"$f":"DRAW!$E$41","v":0},{"$nulls":3},{"$f":"DRAW!$E$42","v":0}]
["End",null,"Shots",null,"Total",null,"Shots",null,"Total",{"$nulls":4},"Shots",null,"Total",null,"Shots",null,"Total"]
[1]
[2]
[3]
[4]
[5,{"$nulls":10},1,{"$nulls":10},1]
["Points",{"$nulls":3},"Tie Break",{"$nulls":14},"Points"]
[{"$nulls":4},"End",null,"Shots",{"$nulls":8},"Shots"]
[{"$nulls":4},1]
[{"$nulls":3},"TEAM No.",{"$nulls":5},"Time",{"$nulls":7},"TEAM No."]
["Sign",null,null,{"$f":"DRAW!$C$41","v":0},{"$nulls":5},"Completed",{"$nulls":5},"Sign",null,{"$f":"DRAW!$C$42","v":0}]
["i",{"$nulls":14},"i"]
[{"$f":"Entries!$A$1","v":"2018 District 5 - Mixed Pairs"}]
["R O U N D  1"]
[null,null,"RINK",{"$nulls":5},"DATE"]
[null,null,{"$f":"DRAW!$F$41","v":0}]
[]
[{"$f":"DRAW!$D$42","v":0},{"$nulls":10},"L",null,{"$f":"DRAW!$D$41","v":0}]
[]
[{"$f":"DRAW!$E$42","v":0},{"$nulls":10},"Sk",null,{"$f":"DRAW!$E$41","v":0}]
[]
[null,null,"First Set",{"$nulls":10},"Second Set"]
[null,null,{"$f":"DRAW!$E$42","v":0},{"$nulls":3},{"$f":"DRAW!$E$41","v":0},{"$nulls":6},{"$f":"DRAW!$E$42","v":0},{"$nulls":3},{"$f":"DRAW!$E$41","v":0}]
["End",null,"Shots",null,"Total",null,"Shots",null,"Total",{"$nulls":4},"Shots",null,"Total",null,"Shots",null,"Total"]
[1]
[2]
[3]
[4]
[5,{"$nulls":10},2,{"$nulls":10},1]
["Points",{"$nulls":3},"Tie Break",{"$nulls":14},"Points"]
[{"$nulls":4},"End",null,"Shots",{"$nulls":8},"Shots"]
[{"$nulls":4},1]
[{"$nulls":3},"TEAM No.",{"$nulls":5},"Time",{"$nulls":7},"TEAM No."]
["Sign",null,null,{"$f":"DRAW!$C$42","v":0},{"$nulls":5},"Completed",{"$nulls":5},"Sign",null,{"$f":"DRAW!$C$41","v":0}]
["i",{"$nulls":14},"i"]
[{"$f":"Entries!$A$1","v":"2018 District 5 - Mixed Pairs"}]
["R O U N D  1"]
[null,null,"RINK",{"$nulls":5},"DATE"]
[null,null,{"$f":"DRAW!$F$43","v":0}]
[]
[{"$f":"DRAW!$D$43","v":0},{"$nulls":10},"L",null,{"$f":"DRAW!$D$44","v":0}]
[]
[{"$f":"DRAW!$E$43","v":0},{"$nulls":10},"Sk",null,{"$f":"DRAW!$E$44","v":0}]
[]
[null,null,"First Set",{"$nulls":10},"Second Set"]
[null,null,{"$f":"DRAW!$E$43","v":0},{"$nulls":3},{"$f":"DRAW!$E$44","v":0},{"$nulls":6},{"$f":"DRAW!$E$43","v":0},{"$nulls":3},{"$f":"DRAW!$E$44","v":0}]
["End",null,"Shots",null,"Total",null,"Shots",null,"Total",{"$nulls":4},"Shots",null,"Total",null,"Shots",null,"Total"]
[1]
[2]
[3]
[4]
[5,{"$nulls":10},1,{"$nulls":10},1]
["Points",{"$nulls":3},"Tie Break",{"$nulls":14},"Points"]
[{"$nulls":4},"End",null,"Shots",{"$nulls":8},"Shots"]
[{"$nulls":4},1]
[{"$nulls":3},"TEAM No.",{"$nulls":5},"Time",{"$nulls":7},"TEAM No."]
["Sign",null,null,{"$f":"DRAW!$C$43","v":0},{"$nulls":5},"Completed",{"$nulls":5},"Sign",null,{"$f":"DRAW!$C$44","v":0}]
["i",{"$nulls":14},"i"]
[{"$f":"Entries!$A$1","v":"2018 District 5 - Mixed Pairs"}]
["R O U N D  1"]
[null,null,"RINK",{"$nulls":5},"DATE"]
[null,null,{"$f":"DRAW!$F$43","v":0}]
[]
[{"$f":"DRAW!$D$44","v":0},{"$nulls":10},"L",null,{"$f":"DRAW!$D$43","v":0}]
[]
[{"$f":"DRAW!$E$44","v":0},{"$nulls":10},"Sk",null,{"$f":"DRAW!$E$43","v":0}]
[]
[null,null,"First Set",{"$nulls":10},"Second Set"]
[null,null,{"$f":"DRAW!$E$44","v":0},{"$nulls":3},{"$f":"DRAW!$E$43","v":0},{"$nulls":6},{"$f":"DRAW!$E$44","v":0},{"$nulls":3},{"$f":"DRAW!$E$43","v":0}]
["End",null,"Shots",null,"Total",null,"Shots",null,"Total",{"$nulls":4},"Shots",null,"Total",null,"Shots",null,"Total"]
[1]
[2]
[3]
[4]
[5,{"$nulls":10},2,{"$nulls":10},1]
["Points",{"$nulls":3},"Tie Break",{"$nulls":14},"Points"]
[{"$nulls":4},"End",null,"Shots",{"$nulls":8},"Shots"]
[{"$nulls":4},1]
[{"$nulls":3},"TEAM No.",{"$nulls":5},"Time",{"$nulls":7},"TEAM No."]
["Sign",null,null,{"$f":"DRAW!$C$44","v":0},{"$nulls":5},"Completed",{"$nulls":5},"Sign",null,{"$f":"DRAW!$C$43","v":0}]
["i",{"$nulls":14},"i"]

{"sheet":"Fins 20 17 cds","index":41,"n_rows":874,"n_cols":23,"rows_kept":874,"hidden":true,"merged":[[0,0,0,23],[1,0,1,23],[2,2,2,6],[2,8,2,23],[3,2,3,6],[3,8,3,23],[5,0,5,10],[5,11,5,12],[5,13,5,23],[7,0,7,10],[7,11,7,12],[7,13,7,23],[9,2,9,10],[9,13,9,21],[10,2,10,5],[10,6,10,10],[10,13,10,16],[10,17,10,21],[11,0,11,1],[11,2,11,3],[11,4,11,5],[11,6,11,7],[11,8,11,10],[11,13,11,14],[11,15,11,16],[11,17,11,18],[11,19,11,21],[12,0,12,1],[12,2,12,3],[12,4,12,5],[12,6,12,7],[12,8,12,10],[12,13,12,14],[12,15,12,16],[12,17,12,18],[12,19,12,21],[13,0,13,1],[13,2,13,3],[13,4,13,5],[13,6,13,7],[13,8,13,10],[13,13,13,14],[13,15,13,16],[13,17,13,18],[13,19,13,21],[14,0,14,1],[14,2,14,3],[14,4,14,5],[14,6,14,7],[14,8,14,10],[14,13,14,14],[14,15,14,16],[14,17,14,18],[14,19,14,21],[15,0,15,1],[15,2,15,3],[15,4,15,5],[15,6,15,7],[15,8,15,10],[15,13,15,14],[15,15,15,16],[15,17,15,18],[15,19,15,21],[16,0,16,1],[16,2,16,3],[16,4,16,5],[16,6,16,7],[16,8,16,10],[16,11,16,12],[16,13,16,14],[16,15,16,16],[16,17,16,18],[16,19,16,21],[16,22,16,23],[17,0,17,2],[17,4,17,18],[17,19,17,23],[18,0,19,2],[18,4,18,5],[18,6,18,8],[18,15,18,17],[18,19,19,23],[19,4,19,5],[19,6,19,8],[20,3,20,6],[20,9,20,14],[20,17,20,21],[21,0,21,1],[21,3,22,6],[21,9,21,14],[21,15,21,16],[21,17,22,21],[22,0,22,1],[22,15,22,16],[23,0,23,23],[24,0,24,23],[25,2,25,6],[25,8,25,23],[26,2,26,6],[26,8,26,23],[28,0,28,10],[28,11,28,12],[28,13,28,23],[30,0,30,10],[30,11,30,12],[30,13,30,23],[32,2,32,10],[32,13,32,21],[33,2,33,5],[33,6,33,10],[33,13,33,16],[33,17,33,21],[34,0,34,1],[34,2,34,3],[34,4,34,5],[34,6,34,7],[34,8,34,10],[34,13,34,14],[34,15,34,16],[34,17,34,18],[34,19,34,21],[35,0,35,1],[35,2,35,3],[35,4,35,5],[35,6,35,7],[35,8,35,10],[35,13,35,14],[35,15,35,16],[35,17,35,18],[35,19,35,21],[36,0,36,1],[36,2,36,3],[36,4,36,5],[36,6,36,7],[36,8,36,10],[36,13,36,14],[36,15,36,16],[36,17,36,18],[36,19,36,21],[37,0,37,1],[37,2,37,3],[37,4,37,5],[37,6,37,7],[37,8,37,10],[37,13,37,14],[37,15,37,16],[37,17,37,18],[37,19,37,21],[38,0,38,1],[38,2,38,3],[38,4,38,5],[38,6,38,7],[38,8,38,10],[38,13,38,14],[38,15,38,16],[38,17,38,18],[38,19,38,21],[39,0,39,1],[39,2,39,3],[39,4,39,5],[39,6,39,7],[39,8,39,10],[39,11,39,12],[39,13,39,14],[39,15,39,16],[39,17,39,18],[39,19,39,21],[39,22,39,23],[40,0,40,2],[40,4,40,18],[40,19,40,23],[41,4,41,5],[41,6,41,8],[41,15,41,17],[41,19,42,23],[42,4,42,5],[42,6,42,8],[43,3,43,6],[43,9,43,14],[43,17,43,21],[44,0,44,1],[44,3,45,6],[44,9,44,14],[44,15,44,16],[44,17,45,21],[45,0,45,1],[45,15,45,16],[46,0,46,23],[47,0,47,23],[48,2,48,6],[48,8,48,23],[49,2,49,6],[49,8,49,23],[51,0,51,10],[51,11,51,12],[51,13,51,23],[53,0,53,10],[53,11,53,12],[53,13,53,23],[55,2,55,10],[55,13,55,21],[56,2,56,5],[56,6,56,10],[56,13,56,16],[56,17,56,21],[57,0,57,1],[57,2,57,3],[57,4,57,5],[57,6,57,7],[57,8,57,10],[57,13,57,14],[57,15,57,16],[57,17,57,18],[57,19,57,21],[58,0,58,1],[58,2,58,3],[58,4,58,5],[58,6,58,7],[58,8,58,10],[58,13,58,14],[58,15,58,16],[58,17,58,18],[58,19,58,21],[59,0,59,1],[59,2,59,3],[59,4,59,5],[59,6,59,7],[59,8,59,10],[59,13,59,14],[59,15,59,16],[59,17,59,18],[59,19,59,21],[60,0,60,1],[60,2,60,3],[60,4,60,5],[60,6,60,7],[60,8,60,10],[60,13,60,14],[60,15,60,16],[60,17,60,18],[60,19,60,21],[61,0,61,1],[61,2,61,3],[61,4,61,5],[61,6,61,7],[61,8,61,10],[61,13,61,14],[61,15,61,16],[61,17,61,18],[61,19,61,21],[62,0,62,1],[62,2,62,3],[62,4,62,5],[62,6,62,7],[62,8,62,10],[62,11,62,12],[62,13,62,14],[62,15,62,16],[62,17,62,18],[62,19,62,21],[62,22,62,23],[63,0,63,2],[63,4,63,18],[63,19,63,23],[64,4,64,5],[64,6,64,8],[64,15,64,17],[64,19,65,23],[65,4,65,5],[65,6,65,8],[66,3,66,6],[66,9,66,14],[66,17,66,21],[67,0,67,1],[67,3,68,6],[67,9,67,14],[67,15,67,16],[67,17,68,21],[68,0,68,1],[68,15,68,16],[69,0,69,23],[70,0,70,23],[71,2,71,6],[71,8,71,23],[72,2,72,6],[72,8,72,23],[74,0,74,10],[74,11,74,12],[74,13,74,23],[76,0,76,10],[76,11,76,12],[76,13,76,23],[78,2,78,10],[78,13,78,21],[79,2,79,5],[79,6,79,10],[79,13,79,16],[79,17,79,21],[80,0,80,1],[80,2,80,3],[80,4,80,5],[80,6,80,7],[80,8,80,10],[80,13,80,14],[80,15,80,16],[80,17,80,18],[80,19,80,21],[81,0,81,1],[81,2,81,3],[81,4,81,5],[81,6,81,7],[81,8,81,10],[81,13,81,14],[81,15,81,16],[81,17,81,18],[81,19,81,21],[82,0,82,1],[82,2,82,3],[82,4,82,5],[82,6,82,7],[82,8,82,10],[82,13,82,14],[82,15,82,16],[82,17,82,18],[82,19,82,21],[83,0,83,1],[83,2,83,3],[83,4,83,5],[83,6,83,7],[83,8,83,10],[83,13,83,14],[83,15,83,16],[83,17,83,18],[83,19,83,21],[84,0,84,1],[84,2,84,3],[84,4,84,5],[84,6,84,7],[84,8,84,10],[84,13,84,14],[84,15,84,16],[84,17,84,18],[84,19,84,21],[85,0,85,1],[85,2,85,3],[85,4,85,5],[85,6,85,7],[85,8,85,10],[85,11,85,12],[85,13,85,14],[85,15,85,16],[85,17,85,18],[85,19,85,21],[85,22,85,23],[86,0,86,2],[86,4,86,18],[86,19,86,23],[87,4,87,5],[87,6,87,8],[87,15,87,17],[87,19,88,23],[88,4,88,5],[88,6,88,8],[89,3,89,6],[89,9,89,14],[89,17,89,21],[90,0,90,1],[90,3,91,6],[90,9,90,14],[90,15,90,16],[90,17,91,21],[91,0,91,1],[91,15,91,16],[92,0,92,23],[93,0,93,23],[94,2,94,6],[94,8,94,23],[95,2,95,6],[95,8,95,23],[97,0,97,10],[97,11,97,12],[97,13,97,23],[99,0,99,10],[99,11,99,12],[99,13,99,23],[101,2,101,10],[101,13,101,21],[102,2,102,5],[102,6,102,10],[102,13,102,16],[102,17,102,21],[103,0,103,1],[103,2,103,3],[103,4,103,5],[103,6,103,7],[103,8,103,10],[103,13,103,14],[103,15,103,16],[103,17,103,18],[103,19,103,21],[104,0,104,1],[104,2,104,3],[104,4,104,5],[104,6,104,7],[104,8,104,10],[104,13,104,14],[104,15,104,16],[104,17,104,18],[104,19,104,21],[105,0,105,1],[105,2,105,3],[105,4,105,5],[105,6,105,7],[105,8,105,10],[105,13,105,14],[105,15,105,16],[105,17,105,18],[105,19,105,21],[106,0,106,1],[106,2,106,3],[106,4,106,5],[106,6,106,7],[106,8,106,10],[106,13,106,14],[106,15,106,16],[106,17,106,18],[106,19,106,21],[107,0,107,1],[107,2,107,3],[107,4,107,5],[107,6,107,7],[107,8,107,10],[107,13,107,14],[107,15,107,16],[107,17,107,18],[107,19,107,21],[108,0,108,1],[108,2,108,3],[108,4,108,5],[108,6,108,7],[108,8,108,10],[108,11,108,12],[108,13,108,14],[108,15,108,16],[108,17,108,18],[108,19,108,21],[108,22,108,23],[109,0,109,2],[109,4,109,18],[109,19,109,23],[110,0,111,2],[110,4,110,5],[110,6,110,8],[110,15,110,17],[110,19,111,23],[111,4,111,5],[111,6,111,8],[112,3,112,6],[112,9,112,14],[112,17,112,21],[113,0,113,1],[113,3,114,6],[113,9,113,14],[113,15,113,16],[113,17,114,21],[114,0,114,1],[114,15,114,16],[115,0,115,23],[116,0,116,23],[117,2,117,6],[117,8,117,23],[118,2,118,6],[118,8,118,23],[120,0,120,10],[120,11,120,12],[120,13,120,23],[122,0,122,10],[122,11,122,12],[122,13,122,23],[124,2,124,10],[124,13,124,21],[125,2,125,5],[125,6,125,10],[125,13,125,16],[125,17,125,21],[126,0,126,1],[126,2,126,3],[126,4,126,5],[126,6,126,7],[126,8,126,10],[126,13,126,14],[126,15,126,16],[126,17,126,18],[126,19,126,21],[127,0,127,1],[127,2,127,3],[127,4,127,5],[127,6,127,7],[127,8,127,10],[127,13,127,14],[127,15,127,16],[127,17,127,18],[127,19,127,21],[128,0,128,1],[128,2,128,3],[128,4,128,5],[128,6,128,7],[128,8,128,10],[128,13,128,14],[128,15,128,16],[128,17,128,18],[128,19,128,21],[129,0,129,1],[129,2,129,3],[129,4,129,5],[129,6,129,7],[129,8,129,10],[129,13,129,14],[129,15,129,16],[129,17,129,18],[129,19,129,21],[130,0,130,1],[130,2,130,3],[130,4,130,5],[130,6,130,7],[130,8,130,10],[130,13,130,14],[130,15,130,16],[130,17,130,18],[130,19,130,21],[131,0,131,1],[131,2,131,3],[131,4,131,5],[131,6,131,7],[131,8,131,10],[131,11,131,12],[131,13,131,14],[131,15,131,16],[131,17,131,18],[131,19,131,21],[131,22,131,23],[132,0,132,2],[132,4,132,18],[132,19,132,23],[133,0,134,2],[133,4,133,5],[133,6,133,8],[133,15,133,17],[133,19,134,23],[134,4,134,5],[134,6,134,8],[135,3,135,6],[135,9,135,14],[135,17,135,21],[136,0,136,1],[136,3,137,6],[136,9,136,14],[136,15,136,16],[136,17,137,21],[137,0,137,1],[137,15,137,16],[138,0,138,23],[139,0,139,23],[140,2,140,6],[140,8,140,23],[141,2,141,6],[141,8,141,23],[143,0,143,10],[143,11,143,12],[143,13,143,23],[145,0,145,10],[145,11,145,12],[145,13,145,23],[147,2,147,10],[147,13,147,21],[148,2,148,5],[148,6,148,10],[148,13,148,16],[148,17,148,21],[149,0,149,1],[149,2,149,3],[149,4,149,5],[149,6,149,7],[149,8,149,10],[149,13,149,14],[149,15,149,16],[149,17,149,18],[149,19,149,21],[150,0,150,1],[150,2,150,3],[150,4,150,5],[150,6,150,7],[150,8,150,10],[150,13,150,14],[150,15,150,16],[150,17,150,18],[150,19,150,21],[151,0,151,1],[151,2,151,3],[151,4,151,5],[151,6,151,7],[151,8,151,10],[151,13,151,14],[151,15,151,16],[151,17,151,18],[151,19,151,21],[152,0,152,1],[152,2,152,3],[152,4,152,5],[152,6,152,7],[152,8,152,10],[152,13,152,14],[152,15,152,16],[152,17,152,18],[152,19,152,21],[153,0,153,1],[153,2,153,3],[153,4,153,5],[153,6,153,7],[153,8,153,10],[153,13,153,14],[153,15,153,16],[153,17,153,18],[153,19,153,21],[154,0,154,1],[154,2,154,3],[154,4,154,5],[154,6,154,7],[154,8,154,10],[154,11,154,12],[154,13,154,14],[154,15,154,16],[154,17,154,18],[154,19,154,21],[154,22,154,23],[155,0,155,2],[155,4,155,18],[155,19,155,23],[156,0,157,2],[156,4,156,5],[156,6,156,8],[156,15,156,17],[156,19,157,23],[157,4,157,5],[157,6,157,8],[158,3,158,6],[158,9,158,14],[158,17,158,21],[159,0,159,1],[159,3,160,6],[159,9,159,14],[159,15,159,16],[159,17,160,21],[160,0,160,1],[160,15,160,16],[161,0,161,23],[162,0,162,23],[163,2,163,6],[163,8,163,23],[164,2,164,6],[164,8,164,23],[166,0,166,10],[166,11,166,12],[166,13,166,23],[168,0,168,10],[168,11,168,12],[168,13,168,23],[170,2,170,10],[170,13,170,21],[171,2,171,5],[171,6,171,10],[171,13,171,16],[171,17,171,21],[172,0,172,1],[172,2,172,3],[172,4,172,5],[172,6,172,7],[172,8,172,10],[172,13,172,14],[172,15,172,16],[172,17,172,18],[172,19,172,21],[173,0,173,1],[173,2,173,3],[173,4,173,5],[173,6,173,7],[173,8,173,10],[173,13,173,14],[173,15,173,16],[173,17,173,18],[173,19,173,21],[174,0,174,1],[174,2,174,3],[174,4,174,5],[174,6,174,7],[174,8,174,10],[174,13,174,14],[174,15,174,16],[174,17,174,18],[174,19,174,21],[175,0,175,1],[175,2,175,3],[175,4,175,5],[175,6,175,7],[175,8,175,10],[175,13,175,14],[175,15,175,16],[175,17,175,18],[175,19,175,21],[176,0,176,1],[176,2,176,3],[176,4,176,5],[176,6,176,7],[176,8,176,10],[176,13,176,14],[176,15,176,16],[176,17,176,18],[176,19,176,21],[177,0,177,1],[177,2,177,3],[177,4,177,5],[177,6,177,7],[177,8,177,10],[177,11,177,12],[177,13,177,14],[177,15,177,16],[177,17,177,18],[177,19,177,21],[177,22,177,23],[178,0,178,2],[178,4,178,18],[178,19,178,23],[179,0,180,2],[179,4,179,5],[179,6,179,8],[179,15,179,17],[179,19,180,23],[180,4,180,5],[180,6,180,8],[181,3,181,6],[181,9,181,14],[181,17,181,21],[182,0,182,1],[182,3,183,6],[182,9,182,14],[182,15,182,16],[182,17,183,21],[183,0,183,1],[183,15,183,16],[184,0,184,23],[185,0,185,23],[186,2,186,6],[186,8,186,23],[187,2,187,6],[187,8,187,23],[189,0,189,10],[189,11,189,12],[189,13,189,23],[191,0,191,10],[191,11,191,12],[191,13,191,23],[193,2,193,10],[193,13,193,21],[194,2,194,5],[194,6,194,10],[194,13,194,16],[194,17,194,21],[195,0,195,1],[195,2,195,3],[195,4,195,5],[195,6,195,7],[195,8,195,10],[195,13,195,14],[195,15,195,16],[195,17,195,18],[195,19,195,21],[196,0,196,1],[196,2,196,3],[196,4,196,5],[196,6,196,7],[196,8,196,10],[196,13,196,14],[196,15,196,16],[196,17,196,18],[196,19,196,21],[197,0,197,1],[197,2,197,3],[197,4,197,5],[197,6,197,7],[197,8,197,10],[197,13,197,14],[197,15,197,16],[197,17,197,18],[197,19,197,21],[198,0,198,1],[198,2,198,3],[198,4,198,5],[198,6,198,7],[198,8,198,10],[198,13,198,14],[198,15,198,16],[198,17,198,18],[198,19,198,21],[199,0,199,1],[199,2,199,3],[199,4,199,5],[199,6,199,7],[199,8,199,10],[199,13,199,14],[199,15,199,16],[199,17,199,18],[199,19,199,21],[200,0,200,1],[200,2,200,3],[200,4,200,5],[200,6,200,7],[200,8,200,10],[200,11,200,12],[200,13,200,14],[200,15,200,16],[200,17,200,18],[200,19,200,21],[200,22,200,23],[201,0,201,2],[201,4,201,18],[201,19,201,23],[202,0,203,2],[202,4,202,5],[202,6,202,8],[202,15,202,17],[202,19,203,23],[203,4,203,5],[203,6,203,8],[204,3,204,6],[204,9,204,14],[204,17,204,21],[205,0,205,1],[205,3,206,6],[205,9,205,14],[205,15,205,16],[205,17,206,21],[206,0,206,1],[206,15,206,16],[207,0,207,23],[208,0,208,23],[209,2,209,6],[209,8,209,23],[210,2,210,6],[210,8,210,23],[212,0,212,10],[212,11,212,12],[212,13,212,23],[214,0,214,10],[214,11,214,12],[214,13,214,23],[216,2,216,10],[216,13,216,21],[217,2,217,5],[217,6,217,10],[217,13,217,16],[217,17,217,21],[218,0,218,1],[218,2,218,3],[218,4,218,5],[218,6,218,7],[218,8,218,10],[218,13,218,14],[218,15,218,16],[218,17,218,18],[218,19,218,21],[219,0,219,1],[219,2,219,3],[219,4,219,5],[219,6,219,7],[219,8,219,10],[219,13,219,14],[219,15,219,16],[219,17,219,18],[219,19,219,21],[220,0,220,1],[220,2,220,3],[220,4,220,5],[220,6,220,7],[220,8,220,10],[220,13,220,14],[220,15,220,16],[220,17,220,18],[220,19,220,21],[221,0,221,1],[221,2,221,3],[221,4,221,5],[221,6,221,7],[221,8,221,10],[221,13,221,14],[221,15,221,16],[221,17,221,18],[221,19,221,21],[222,0,222,1],[222,2,222,3],[222,4,222,5],[222,6,222,7],[222,8,222,10],[222,13,222,14],[222,15,222,16],[222,17,222,18],[222,19,222,21],[223,0,223,1],[223,2,223,3],[223,4,223,5],[223,6,223,7],[223,8,223,10],[223,11,223,12],[223,13,223,14],[223,15,223,16],[223,17,223,18],[223,19,223,21],[223,22,223,23],[224,0,224,2],[224,4,224,18],[224,19,224,23],[225,0,226,2],[225,4,225,5],[225,6,225,8],[225,15,225,17],[225,19,226,23],[226,4,226,5],[226,6,226,8],[227,3,227,6],[227,9,227,14],[227,17,227,21],[228,0,228,1],[228,3,229,6],[228,9,228,14],[228,15,228,16],[228,17,229,21],[229,0,229,1],[229,15,229,16],[230,0,230,23],[231,0,231,23],[232,2,232,6],[232,8,232,23],[233,2,233,6],[233,8,233,23],[235,0,235,10],[235,11,235,12],[235,13,235,23],[237,0,237,10],[237,11,237,12],[237,13,237,23],[239,2,239,10],[239,13,239,21],[240,2,240,5],[240,6,240,10],[240,13,240,16],[240,17,240,21],[241,0,241,1],[241,2,241,3],[241,4,241,5],[241,6,241,7],[241,8,241,10],[241,13,241,14],[241,15,241,16],[241,17,241,18],[241,19,241,21],[242,0,242,1],[242,2,242,3],[242,4,242,5],[242,6,242,7],[242,8,242,10],[242,13,242,14],[242,15,242,16],[242,17,242,18],[242,19,242,21],[243,0,243,1],[243,2,243,3],[243,4,243,5],[243,6,243,7],[243,8,243,10],[243,13,243,14],[243,15,243,16],[243,17,243,18],[243,19,243,21],[244,0,244,1],[244,2,244,3],[244,4,244,5],[244,6,244,7],[244,8,244,10],[244,13,244,14],[244,15,244,16],[244,17,244,18],[244,19,244,21],[246,15,246,16],[246,17,246,18],[248,0,249,2],[248,4,248,5],[248,6,248,8],[248,15,248,17],[248,19,249,23],[249,4,249,5],[249,6,249,8]],"merged_total":3548,"flags":["merged_cut"]}
[{"$f":"Entries!$A$1","v":"2018 District 5 - Mixed Pairs"}]
[{"$f":"'Finals 20 17'!$C$3","v":0}]
[null,null,"RINK",{"$nulls":5},"DATE"]
[null,null,{"$f":"'Finals 20 17'!$F$6","v":0},{"$nulls":5},{"$f":"Entries!$A$2","v":"20th June 2018"}]
[]
[{"$nulls":11},"L"]
[]
[{"$f":"'Finals 20 17'!$E$6","v":"Sec 8"},{"$nulls":10},"Sk",null,{"$f":"'Finals 20 17'!$E$7","v":"Sec 9"}]
[]
[null,null,"First Set",{"$nulls":10},"Second Set"]
[null,null,{"$f":"'Finals 20 17'!$E$6","v":"Sec 8"},{"$nulls":3},{"$f":"'Finals 20 17'!$E$7","v":"Sec 9"},{"$nulls":6},{"$f":"'Finals 20 17'!$E$6","v":"Sec 8"},{"$nulls":3},{"$f":"'Finals 20 17'!$E$7","v":"Sec 9"}]
["End",null,"Shots",null,"Total",null,"Shots",null,"Total",{"$nulls":4},"Shots",null,"Total",null,"Shots",null,"Total"]
[1]
[2]
[3]
[4]
[5,{"$nulls":10},1,{"$nulls":10},1]
["Points",{"$nulls":3},"Tie Break",{"$nulls":14},"Points"]
[{"$nulls":4},"End",null,"Shots",{"$nulls":8},"Shots"]
[{"$nulls":4},1]
[{"$nulls":9},"Time"]
["Sign",{"$nulls":8},"Completed",{"$nulls":5},"Sign"]
["i",{"$nulls":14},"i"]
[{"$f":"Entries!$A$1","v":"2018 District 5 - Mixed Pairs"}]
[{"$f":"'Finals 20 17'!$C$3","v":0}]
[null,null,"RINK",{"$nulls":5},"DATE"]
[null,null,{"$f":"'Finals 20 17'!$F$6","v":0},{"$nulls":5},{"$f":"Entries!$A$2","v":"20th June 2018"}]
[]
[{"$nulls":11},"L"]
[]
[{"$f":"'Finals 20 17'!$E$7","v":"Sec 9"},{"$nulls":10},"Sk",null,{"$f":"'Finals 20 17'!$E$6","v":"Sec 8"}]
[]
[null,null,"First Set",{"$nulls":10},"Second Set"]
[null,null,{"$f":"'Finals 20 17'!$E$7","v":"Sec 9"},{"$nulls":3},{"$f":"'Finals 20 17'!$E$6","v":"Sec 8"},{"$nulls":6},{"$f":"'Finals 20 17'!$E$7","v":"Sec 9"},{"$nulls":3},{"$f":"'Finals 20 17'!$E$6","v":"Sec 8"}]
["End",null,"Shots",null,"Total",null,"Shots",null,"Total",{"$nulls":4},"Shots",null,"Total",null,"Shots",null,"Total"]
[1]
[2]
[3]
[4]
[5,{"$nulls":10},2,{"$nulls":10},1]
["Points",{"$nulls":3},"Tie Break",{"$nulls":14},"Points"]
[{"$nulls":4},"End",null,"Shots",{"$nulls":8},"Shots"]
[{"$nulls":4},1]
[{"$nulls":9},"Time"]
["Sign",{"$nulls":8},"Completed",{"$nulls":5},"Sign"]
["i",{"$nulls":14},"i"]
[{"$f":"Entries!$A$1","v":"2018 District 5 - Mixed Pairs"}]
[{"$f":"'Finals 20 17'!$C$3","v":0}]
[null,null,"RINK",{"$nulls":5},"DATE"]
[null,null,{"$f":"'Finals 20 17'!$AA$6","v":0},{"$nulls":5},{"$f":"Entries!$A$2","v":"20th June 2018"}]
[]
[{"$nulls":11},"L"]
[]
[{"$f":"'Finals 20 17'!$Z$6","v":0},{"$nulls":10},"Sk",null,{"$f":"'Finals 20 17'!$Z$7","v":0}]
[]
[null,null,"First Set",{"$nulls":10},"Second Set"]
[null,null,{"$f":"'Finals 20 17'!$Z$6","v":0},{"$nulls":3},{"$f":"'Finals 20 17'!$Z$7","v":0},{"$nulls":6},{"$f":"'Finals 20 17'!$Z$6","v":0},{"$nulls":3},{"$f":"'Finals 20 17'!$Z$7","v":0}]
["End",null,"Shots",null,"Total",null,"Shots",null,"Total",{"$nulls":4},"Shots",null,"Total",null,"Shots",null,"Total"]
[1]
[2]
[3]
[4]
[5,{"$nulls":10},1,{"$nulls":10},1]
["Points",{"$nulls":3},"Tie Break",{"$nulls":14},"Points"]
[{"$nulls":4},"End",null,"Shots",{"$nulls":8},"Shots"]
[{"$nulls":4},1]
[{"$nulls":9},"Time"]
["Sign",{"$nulls":8},"Completed",{"$nulls":5},"Sign"]
["i",{"$nulls":14},"i"]
[{"$f":"Entries!$A$1","v":"2018 District 5 - Mixed Pairs"}]
[{"$f":"'Finals 20 17'!$C$3","v":0}]
[null,null,"RINK",{"$nulls":5},"DATE"]
[null,null,{"$f":"'Finals 20 17'!$AA$6","v":0},{"$nulls":5},{"$f":"Entries!$A$2","v":"20th June 2018"}]
[]
[{"$nulls":11},"L"]
[]
[{"$f":"'Finals 20 17'!$Z$7","v":0},{"$nulls":10},"Sk",null,{"$f":"'Finals 20 17'!$Z$6","v":0}]
[]
[null,null,"First Set",{"$nulls":10},"Second Set"]
[null,null,{"$f":"'Finals 20 17'!$Z$7","v":0},{"$nulls":3},{"$f":"'Finals 20 17'!$Z$6","v":0},{"$nulls":6},{"$f":"'Finals 20 17'!$Z$7","v":0},{"$nulls":3},{"$f":"'Finals 20 17'!$Z$6","v":0}]
["End",null,"Shots",null,"Total",null,"Shots",null,"Total",{"$nulls":4},"Shots",null,"Total",null,"Shots",null,"Total"]
[1]
[2]
[3]
[4]
[5,{"$nulls":10},2,{"$nulls":10},1]
["Points",{"$nulls":3},"Tie Break",{"$nulls":14},"Points"]
[{"$nulls":4},"End",null,"Shots",{"$nulls":8},"Shots"]
[{"$nulls":4},1]
[{"$nulls":9},"Time"]
["Sign",{"$nulls":8},"Completed",{"$nulls":5},"Sign"]
["i",{"$nulls":14},"i"]
[{"$f":"Entries!$A$1","v":"2018 District 5 - Mixed Pairs"}]
["Q U A R T E R  F I N A L S"]
[null,null,"RINK",{"$nulls":5},"DATE"]
[null,null,{"$f":"'Finals 20 17'!$F$11","v":0},{"$nulls":5},{"$f":"Entries!$A$2","v":"20th June 2018"}]
[]
[{"$nulls":11},"L"]
[]
[{"$f":"'Finals 20 17'!$E$11","v":"Sec 5"},{"$nulls":10},"Sk",null,{"$f":"'Finals 20 17'!$E$12","v":"Sec 4"}]
[]
[null,null,"First Set",{"$nulls":10},"Second Set"]
[null,null,{"$f":"'Finals 20 17'!$E$11","v":"Sec 5"},{"$nulls":3},{"$f":"'Finals 20 17'!$E$12","v":"Sec 4"},{"$nulls":6},{"$f":"'Finals 20 17'!$E$11","v":"Sec 5"},{"$nulls":3},{"$f":"'Finals 20 17'!$E$12","v":"Sec 4"}]
["End",null,"Shots",null,"Total",null,"Shots",null,"Total",{"$nulls":4},"Shots",null,"Total",null,"Shots",null,"Total"]
[1]
[2]
[3]
[4]
[5,{"$nulls":10},1,{"$nulls":10},1]
["Points",{"$nulls":3},"Tie Break",{"$nulls":14},"Points"]
[{"$nulls":4},"End",null,"Shots",{"$nulls":8},"Shots"]
[{"$nulls":4},1]
[{"$nulls":9},"Time"]
["Sign",{"$nulls":8},"Completed",{"$nulls":5},"Sign"]
["i",{"$nulls":14},"i"]
[{"$f":"Entries!$A$1","v":"2018 District 5 - Mixed Pairs"}]
["Q U A R T E R  F I N A L S"]
[null,null,"RINK",{"$nulls":5},"DATE"]
[null,null,{"$f":"'Finals 20 17'!$F$11","v":0},{"$nulls":5},{"$f":"Entries!$A$2","v":"20th June 2018"}]
[]
[{"$nulls":11},"L"]
[]
[{"$f":"'Finals 20 17'!$E$12","v":"Sec 4"},{"$nulls":10},"Sk",null,{"$f":"'Finals 20 17'!$E$11","v":"Sec 5"}]
[]
[null,null,"First Set",{"$nulls":10},"Second Set"]
[null,null,{"$f":"'Finals 20 17'!$E$12","v":"Sec 4"},{"$nulls":3},{"$f":"'Finals 20 17'!$E$11","v":"Sec 5"},{"$nulls":6},{"$f":"'Finals 20 17'!$E$12","v":"Sec 4"},{"$nulls":3},{"$f":"'Finals 20 17'!$E$11","v":"Sec 5"}]
["End",null,"Shots",null,"Total",null,"Shots",null,"Total",{"$nulls":4},"Shots",null,"Total",null,"Shots",null,"Total"]
[1]
[2]
[3]
[4]
[5,{"$nulls":10},2,{"$nulls":10},1]
["Points",{"$nulls":3},"Tie Break",{"$nulls":14},"Points"]
[{"$nulls":4},"End",null,"Shots",{"$nulls":8},"Shots"]
[{"$nulls":4},1]
[{"$nulls":9},"Time"]
["Sign",{"$nulls":8},"Completed",{"$nulls":5},"Sign"]
["i",{"$nulls":14},"i"]
[{"$f":"Entries!$A$1","v":"2018 District 5 - Mixed Pairs"}]
[{"$f":"'Finals 28 25'!$C$11","v":"S E M I  F I N A L "}]
[null,null,"RINK",{"$nulls":5},"DATE"]
[null,null,{"$f":"'Finals 20 17'!$AA$12","v":0},{"$nulls":5},{"$f":"Entries!$A$2","v":"20th June 2018"}]
[]
[{"$nulls":11},"L"]
[]
[{"$f":"'Finals 20 17'!$Z$12","v":0},{"$nulls":10},"Sk",null,{"$f":"'Finals 20 17'!$Z$13","v":0}]
[]
[null,null,"First Set",{"$nulls":10},"Second Set"]
[null,null,{"$f":"'Finals 20 17'!$Z$12","v":0},{"$nulls":3},{"$f":"'Finals 20 17'!$Z$13","v":0},{"$nulls":6},{"$f":"'Finals 20 17'!$Z$12","v":0},{"$nulls":3},{"$f":"'Finals 20 17'!$Z$13","v":0}]
["End",null,"Shots",null,"Total",null,"Shots",null,"Total",{"$nulls":4},"Shots",null,"Total",null,"Shots",null,"Total"]
[1]
[2]
[3]
[4]
[5,{"$nulls":10},1,{"$nulls":10},1]
["Points",{"$nulls":3},"Tie Break",{"$nulls":14},"Points"]
[{"$nulls":4},"End",null,"Shots",{"$nulls":8},"Shots"]
[{"$nulls":4},1]
[{"$nulls":9},"Time"]
["Sign",{"$nulls":8},"Completed",{"$nulls":5},"Sign"]
["i",{"$nulls":14},"i"]
[{"$f":"Entries!$A$1","v":"2018 District 5 - Mixed Pairs"}]
[{"$f":"'Finals 28 25'!$C$11","v":"S E M I  F I N A L "}]
[null,null,"RINK",{"$nulls":5},"DATE"]
[null,null,{"$f":"'Finals 20 17'!$AA$12","v":0},{"$nulls":5},{"$f":"Entries!$A$2","v":"20th June 2018"}]
[]
[{"$nulls":11},"L"]
[]
[{"$f":"'Finals 20 17'!$Z$13","v":0},{"$nulls":10},"Sk",null,{"$f":"'Finals 20 17'!$Z$12","v":0}]
[]
[null,null,"First Set",{"$nulls":10},"Second Set"]
[null,null,{"$f":"'Finals 20 17'!$Z$13","v":0},{"$nulls":3},{"$f":"'Finals 20 17'!$Z$12","v":0},{"$nulls":6},{"$f":"'Finals 20 17'!$Z$13","v":0},{"$nulls":3},{"$f":"'Finals 20 17'!$Z$12","v":0}]
["End",null,"Shots",null,"Total",null,"Shots",null,"Total",{"$nulls":4},"Shots",null,"Total",null,"Shots",null,"Total"]
[1]
[2]
[3]
[4]
[5,{"$nulls":10},2,{"$nulls":10},1]
["Points",{"$nulls":3},"Tie Break",{"$nulls":14},"Points"]
[{"$nulls":4},"End",null,"Shots",{"$nulls":8},"Shots"]
[{"$nulls":4},1]
[{"$nulls":9},"Time"]
["Sign",{"$nulls":8},"Completed",{"$nulls":5},"Sign"]
["i",{"$nulls":14},"i"]
[{"$f":"Entries!$A$1","v":"2018 District 5 - Mixed Pairs"}]
["S E M I  F I N A L"]
[null,null,"RINK",{"$nulls":5},"DATE"]
[null,null,{"$f":"'Finals 20 17'!$F$20","v":0},{"$nulls":5},{"$f":"Entries!$A$2","v":"20th June 2018"}]
[]
[{"$nulls":11},"L"]
[]
[{"$f":"'Finals 20 17'!$E$20","v":"Q/F 1"},{"$nulls":10},"Sk",null,{"$f":"'Finals 20 17'!$E$21","v":"Sec 3"}]
[]
[null,null,"First Set",{"$nulls":10},"Second Set"]
[null,null,{"$f":"'Finals 20 17'!$E$20","v":"Q/F 1"},{"$nulls":3},{"$f":"'Finals 20 17'!$E$21","v":"Sec 3"},{"$nulls":6},{"$f":"'Finals 20 17'!$E$20","v":"Q/F 1"},{"$nulls":3},{"$f":"'Finals 20 17'!$E$21","v":"Sec 3"}]
["End",null,"Shots",null,"Total",null,"Shots",null,"Total",{"$nulls":4},"Shots",null,"Total",null,"Shots",null,"Total"]
[1]
[2]
[3]
[4]
[5,{"$nulls":10},1,{"$nulls":10},1]
["Points",{"$nulls":3},"Tie Break",{"$nulls":14},"Points"]
[{"$nulls":4},"End",null,"Shots",{"$nulls":8},"Shots"]
[{"$nulls":4},1]
[{"$nulls":9},"Time"]
["Sign",{"$nulls":8},"Completed",{"$nulls":5},"Sign"]
["i",{"$nulls":14},"i"]
[{"$f":"Entries!$A$1","v":"2018 District 5 - Mixed Pairs"}]
["S E M I  F I N A L"]
[null,null,"RINK",{"$nulls":5},"DATE"]
[null,null,{"$f":"'Finals 20 17'!$F$20","v":0},{"$nulls":5},{"$f":"Entries!$A$2","v":"20th June 2018"}]
[]
[{"$nulls":11},"L"]
[]
[{"$f":"'Finals 20 17'!$E$21","v":"Sec 3"},{"$nulls":10},"Sk",null,{"$f":"'Finals 20 17'!$E$20","v":"Q/F 1"}]
[]
[null,null,"First Set",{"$nulls":10},"Second Set"]
[null,null,{"$f":"'Finals 20 17'!$E$21","v":"Sec 3"},{"$nulls":3},{"$f":"'Finals 20 17'!$E$20","v":"Q/F 1"},{"$nulls":6},{"$f":"'Finals 20 17'!$E$21","v":"Sec 3"},{"$nulls":3},{"$f":"'Finals 20 17'!$E$20","v":"Q/F 1"}]
["End",null,"Shots",null,"Total",null,"Shots",null,"Total",{"$nulls":4},"Shots",null,"Total",null,"Shots",null,"Total"]
[1]
[2]
[3]
[4]
[5,{"$nulls":10},2,{"$nulls":10},1]
["Points",{"$nulls":3},"Tie Break",{"$nulls":14},"Points"]
[{"$nulls":4},"End",null,"Shots",{"$nulls":8},"Shots"]
[{"$nulls":4},1]
[{"$nulls":9},"Time"]
["Sign",{"$nulls":8},"Completed",{"$nulls":5},"Sign"]
["i",{"$nulls":14},"i"]
[{"$f":"Entries!$A$1","v":"2018 District 5 - Mixed Pairs"}]
["S E M I  F I N A L"]
[null,null,"RINK",{"$nulls":5},"DATE"]
[null,null,{"$f":"'Finals 20 17'!$F$20","v":0},{"$nulls":5},{"$f":"Entries!$A$2","v":"20th June 2018"}]
[]
[{"$nulls":11},"L"]
[]
[{"$f":"'Finals 20 17'!$Z$20","v":"Sec 2"},{"$nulls":10},"Sk",null,{"$f":"'Finals 20 17'!$Z$21","v":"Sec 1"}]
[]
[null,null,"First Set",{"$nulls":10},"Second Set"]
[null,null,{"$f":"'Finals 20 17'!$Z$20","v":"Sec 2"},{"$nulls":3},{"$f":"'Finals 20 17'!$Z$21","v":"Sec 1"},{"$nulls":6},{"$f":"'Finals 20 17'!$Z$20","v":"Sec 2"},{"$nulls":3},{"$f":"'Finals 20 17'!$Z$21","v":"Sec 1"}]
["End",null,"Shots",null,"Total",null,"Shots",null,"Total",{"$nulls":4},"Shots",null,"Total",null,"Shots",null,"Total"]
[1]
[2]
[3]
[4]
[5,{"$nulls":10},1,{"$nulls":10},1]
["Points",{"$nulls":3},"Tie Break",{"$nulls":14},"Points"]
[{"$nulls":4},"End",null,"Shots",{"$nulls":8},"Shots"]
[{"$nulls":4},1]
[{"$nulls":9},"Time"]
["Sign",{"$nulls":8},"Completed",{"$nulls":5},"Sign"]
["i",{"$nulls":14},"i"]
[{"$f":"Entries!$A$1","v":"2018 District 5 - Mixed Pairs"}]
["S E M I  F I N A L"]
[null,null,"RINK",{"$nulls":5},"DATE"]
[null,null,{"$f":"'Finals 20 17'!$F$20","v":0},{"$nulls":5},{"$f":"Entries!$A$2","v":"20th June 2018"}]
[]
[{"$nulls":11},"L"]
[]
[{"$f":"'Finals 20 17'!$Z$21","v":"Sec 1"},{"$nulls":10},"Sk",null,{"$f":"'Finals 20 17'!$Z$20","v":"Sec 2"}]
[]
[null,null,"First Set",{"$nulls":10},"Second Set"]
[null,null,{"$f":"'Finals 20 17'!$Z$21","v":"Sec 1"},{"$nulls":3},{"$f":"'Finals 20 17'!$Z$20","v":"Sec 2"},{"$nulls":6},{"$f":"'Finals 20 17'!$Z$21","v":"Sec 1"},{"$nulls":3},{"$f":"'Finals 20 17'!$Z$20","v":"Sec 2"}]
["End",null,"Shots",null,"Total",null,"Shots",null,"Total",{"$nulls":4},"Shots",null,"Total",null,"Shots",null,"Total"]
[1]
[2]
[3]
[4]
[5,{"$nulls":10},2,{"$nulls":10},1]
["Points",{"$nulls":3},"Tie Break",{"$nulls":14},"Points"]
[{"$nulls":4},"End",null,"Shots",{"$nulls":8},"Shots"]
[{"$nulls":4},1]
[{"$nulls":9},"Time"]
["Sign",{"$nulls":8},"Completed",{"$nulls":5},"Sign"]
["i",{"$nulls":14},"i"]
[{"$f":"Entries!$A$1","v":"2018 District 5 - Mixed Pairs"}]
["F I N A L "]
[null,null,"RINK",{"$nulls":5},"DATE"]
[null,null,{"$f":"'Finals 20 17'!$X$18","v":0}]
[{"$nulls":9},"      "]
[{"$nulls":11},"L"]
[]
[{"$f":"'Finals 20 17'!$Z$18","v":"."},{"$nulls":10},"Sk",null,{"$f":"'Finals 20 17'!$Z$19","v":0}]
[]
[null,null,"First Set",{"$nulls":10},"Second Set"]
[null,null,{"$f":"'Finals 20 17'!$Z$18","v":"."},{"$nulls":3},{"$f":"'Finals 20 17'!$Z$19","v":0},{"$nulls":6},{"$f":"'Finals 20 17'!$Z$18","v":"."},{"$nulls":3},{"$f":"'Finals 20 17'!$Z$19","v":0}]
["End",null,"Shots",null,"Total",null,"Shots",null,"Total",{"$nulls":4},"Shots",null,"Total",null,"Shots",null,"Total"]
[1]
[2]
[3]
[4]
[5,{"$nulls":10},1,{"$nulls":10},1]
["Points",{"$nulls":3},"Tie Break",{"$nulls":14},"Points"]
[{"$nulls":4},"End",null,"Shots",{"$nulls":8},"Shots"]
[{"$nulls":4},1]
[{"$nulls":9},"Time"]
["Sign",{"$nulls":8},"Completed",{"$nulls":5},"Sign"]
["i",{"$nulls":14},"i"]
[{"$f":"Entries!$A$1","v":"2018 District 5 - Mixed Pairs"}]
[{"$f":"'Finals 20 17'!$C$17","v":7}]
[null,null,"RINK",{"$nulls":5},"DATE"]
[null,null,{"$f":"'Finals 20 17'!$X$18","v":0}]
[]
[{"$nulls":11},"L"]
[]
[{"$f":"'Finals 20 17'!$Z$19","v":0},{"$nulls":10},"Sk",null,{"$f":"'Finals 20 17'!$Z$18","v":"."}]
[]
[null,null,"First Set",{"$nulls":10},"Second Set"]
[null,null,{"$f":"'Finals 20 17'!$Z$19","v":0},{"$nulls":3},{"$f":"'Finals 20 17'!$Z$18","v":"."},{"$nulls":6},{"$f":"'Finals 20 17'!$Z$19","v":0},{"$nulls":3},{"$f":"'Finals 20 17'!$Z$18","v":"."}]
["End",null,"Shots",null,"Total",null,"Shots",null,"Total",{"$nulls":4},"Shots",null,"Total",null,"Shots",null,"Total"]
[1]
[2]
[3]
[4]
[5,{"$nulls":10},2,{"$nulls":10},1]
["Points",{"$nulls":3},"Tie Break",{"$nulls":14},"Points"]
[{"$nulls":4},"End",null,"Shots",{"$nulls":8},"Shots"]
[{"$nulls":4},1]
[{"$nulls":9},"Time"]
["Sign",{"$nulls":8},"Completed",{"$nulls":5},"Sign"]
["i",{"$nulls":14},"i"]
[{"$f":"Entries!$A$1","v":"2018 District 5 - Mixed Pairs"}]
["F I N A L "]
[null,null,"RINK",{"$nulls":5},"DATE"]
[null,null,{"$f":"'Finals 20 17'!$F$29","v":0}]
[]
[{"$nulls":11},"L"]
[]
[{"$f":"'Finals 20 17'!$E$29","v":"S/F 1"},{"$nulls":10},"Sk",null,{"$f":"'Finals 20 17'!$E$30","v":"S/F 2"}]
[]
[null,null,"First Set",{"$nulls":10},"Second Set"]
[null,null,{"$f":"'Finals 20 17'!$E$29","v":"S/F 1"},{"$nulls":3},{"$f":"'Finals 20 17'!$E$30","v":"S/F 2"},{"$nulls":6},{"$f":"'Finals 20 17'!$E$29","v":"S/F 1"},{"$nulls":3},{"$f":"'Finals 20 17'!$E$30","v":"S/F 2"}]
["End",null,"Shots",null,"Total",null,"Shots",null,"Total",{"$nulls":4},"Shots",null,"Total",null,"Shots",null,"Total"]
[1]
[2]
[3]
[4]
[5,{"$nulls":10},1,{"$nulls":10},1]
["Points",{"$nulls":3},"Tie Break",{"$nulls":14},"Points"]
[{"$nulls":4},"End",null,"Shots",{"$nulls":8},"Shots"]
[{"$nulls":4},1]
[{"$nulls":9},"Time"]
["Sign",{"$nulls":8},"Completed",{"$nulls":5},"Sign"]
["i",{"$nulls":14},"i"]
[{"$f":"Entries!$A$1","v":"2018 District 5 - Mixed Pairs"}]
["F I N A L "]
[null,null,"RINK",{"$nulls":5},"DATE"]
[null,null,{"$f":"'Finals 20 17'!$F$29","v":0}]
[]
[{"$nulls":11},"L"]
[]
[{"$f":"'Finals 20 17'!$E$30","v":"S/F 2"},{"$nulls":10},"Sk",null,{"$f":"'Finals 20 17'!$E$29","v":"S/F 1"}]
[]
[null,null,"First Set",{"$nulls":10},"Second Set"]
[null,null,{"$f":"'Finals 20 17'!$E$30","v":"S/F 2"},{"$nulls":3},{"$f":"'Finals 20 17'!$E$29","v":"S/F 1"},{"$nulls":6},{"$f":"'Finals 20 17'!$E$30","v":"S/F 2"},{"$nulls":3},{"$f":"'Finals 20 17'!$E$29","v":"S/F 1"}]
["End",null,"Shots",null,"Total",null,"Shots",null,"Total",{"$nulls":4},"Shots",null,"Total",null,"Shots",null,"Total"]
[1]
[2]
[3]
[4]
[5,{"$nulls":10},2,{"$nulls":10},1]
["Points",{"$nulls":3},"Tie Break",{"$nulls":14},"Points"]
[{"$nulls":4},"End",null,"Shots",{"$nulls":8},"Shots"]
[{"$nulls":4},1]
[{"$nulls":9},"Time"]
["Sign",{"$nulls":8},"Completed",{"$nulls":5},"Sign"]
["i",{"$nulls":14},"i"]
[{"$f":"Entries!$A$1","v":"2018 District 5 - Mixed Pairs"}]
[]
[null,null,"RINK",{"$nulls":5},"DATE"]
[]
[]
[{"$nulls":11},"L"]
[]
[{"$nulls":11},"Sk"]
[]
[null,null,"First Set",{"$nulls":10},"Second Set"]
[]
["End",null,"Shots",null,"Total",null,"Shots",null,"Total",{"$nulls":4},"Shots",null,"Total",null,"Shots",null,"Total"]
[1]
[2]
[3]
[4]
[5,{"$nulls":10},1,{"$nulls":10},1]
["Points",{"$nulls":3},"Tie Break",{"$nulls":14},"Points"]
[{"$nulls":4},"End",null,"Shots",{"$nulls":8},"Shots"]
[{"$nulls":4},1]
[{"$nulls":9},"Time"]
["Sign",{"$nulls":8},"Completed",{"$nulls":5},"Sign"]
["i",{"$nulls":14},"i"]
[{"$f":"Entries!$A$1","v":"2018 District 5 - Mixed Pairs"}]
["R O U N D  1"]
[null,null,"RINK",{"$nulls":5},"DATE"]
[null,null,{"$f":"DRAW!$F$23","v":0}]
[]
[{"$f":"DRAW!$D$24","v":0},{"$nulls":10},"L",null,{"$f":"DRAW!$D$23","v":0}]
[]
[{"$f":"DRAW!$E$24","v":0},{"$nulls":10},"Sk",null,{"$f":"DRAW!$E$23","v":0}]
[]
[null,null,"First Set",{"$nulls":10},"Second Set"]
[null,null,{"$f":"DRAW!$E$24","v":0},{"$nulls":3},{"$f":"DRAW!$E$23","v":0},{"$nulls":6},{"$f":"DRAW!$E$24","v":0},{"$nulls":3},{"$f":"DRAW!$E$23","v":0}]
["End",null,"Shots",null,"Total",null,"Shots",null,"Total",{"$nulls":4},"Shots",null,"Total",null,"Shots",null,"Total"]
[1]
[2]
[3]
[4]
[5,{"$nulls":10},2,{"$nulls":10},1]
["Points",{"$nulls":3},"Tie Break",{"$nulls":14},"Points"]
[{"$nulls":4},"End",null,"Shots",{"$nulls":8},"Shots"]
[{"$nulls":4},1]
[{"$nulls":3},"TEAM No.",{"$nulls":5},"Time",{"$nulls":7},"TEAM No."]
["Sign",null,null,{"$f":"DRAW!$C$24","v":0},{"$nulls":5},"Completed",{"$nulls":5},"Sign",null,{"$f":"DRAW!$C$23","v":0}]
["i",{"$nulls":14},"i"]
[{"$f":"Entries!$A$1","v":"2018 District 5 - Mixed Pairs"}]
["R O U N D  1"]
[null,null,"RINK",{"$nulls":5},"DATE"]
[null,null,{"$f":"DRAW!$F$25","v":0}]
[]
[{"$f":"DRAW!$D$25","v":0},{"$nulls":10},"L",null,{"$f":"DRAW!$D$26","v":0}]
[]
[{"$f":"DRAW!$E$25","v":0},{"$nulls":10},"Sk",null,{"$f":"DRAW!$E$26","v":0}]
[]
[null,null,"First Set",{"$nulls":10},"Second Set"]
[null,null,{"$f":"DRAW!$E$25","v":0},{"$nulls":3},{"$f":"DRAW!$E$26","v":0},{"$nulls":6},{"$f":"DRAW!$E$25","v":0},{"$nulls":3},{"$f":"DRAW!$E$26","v":0}]
["End",null,"Shots",null,"Total",null,"Shots",null,"Total",{"$nulls":4},"Shots",null,"Total",null,"Shots",null,"Total"]
[1]
[2]
[3]
[4]
[5,{"$nulls":10},1,{"$nulls":10},1]
["Points",{"$nulls":3},"Tie Break",{"$nulls":14},"Points"]
[{"$nulls":4},"End",null,"Shots",{"$nulls":8},"Shots"]
[{"$nulls":4},1]
[{"$nulls":3},"TEAM No.",{"$nulls":5},"Time",{"$nulls":7},"TEAM No."]
["Sign",null,null,{"$f":"DRAW!$C$25","v":0},{"$nulls":5},"Completed",{"$nulls":5},"Sign",null,{"$f":"DRAW!$C$26","v":0}]
["i",{"$nulls":14},"i"]
[{"$f":"Entries!$A$1","v":"2018 District 5 - Mixed Pairs"}]
["R O U N D  1"]
[null,null,"RINK",{"$nulls":5},"DATE"]
[null,null,{"$f":"DRAW!$F$25","v":0}]
[]
[{"$f":"DRAW!$D$26","v":0},{"$nulls":10},"L",null,{"$f":"DRAW!$D$25","v":0}]
[]
[{"$f":"DRAW!$E$26","v":0},{"$nulls":10},"Sk",null,{"$f":"DRAW!$E$25","v":0}]
[]
[null,null,"First Set",{"$nulls":10},"Second Set"]
[null,null,{"$f":"DRAW!$E$26","v":0},{"$nulls":3},{"$f":"DRAW!$E$25","v":0},{"$nulls":6},{"$f":"DRAW!$E$26","v":0},{"$nulls":3},{"$f":"DRAW!$E$25","v":0}]
["End",null,"Shots",null,"Total",null,"Shots",null,"Total",{"$nulls":4},"Shots",null,"Total",null,"Shots",null,"Total"]
[1]
[2]
[3]
[4]
[5,{"$nulls":10},2,{"$nulls":10},1]
["Points",{"$nulls":3},"Tie Break",{"$nulls":14},"Points"]
[{"$nulls":4},"End",null,"Shots",{"$nulls":8},"Shots"]
[{"$nulls":4},1]
[{"$nulls":3},"TEAM No.",{"$nulls":5},"Time",{"$nulls":7},"TEAM No."]
["Sign",null,null,{"$f":"DRAW!$C$26","v":0},{"$nulls":5},"Completed",{"$nulls":5},"Sign",null,{"$f":"DRAW!$C$25","v":0}]
["i",{"$nulls":14},"i"]
[{"$f":"Entries!$A$1","v":"2018 District 5 - Mixed Pairs"}]
["R O U N D  1"]
[null,null,"RINK",{"$nulls":5},"DATE"]
[null,null,{"$f":"DRAW!$F$27","v":0}]
[]
[{"$f":"DRAW!$D$27","v":0},{"$nulls":10},"L",null,{"$f":"DRAW!$D$28","v":0}]
[]
[{"$f":"DRAW!$E$27","v":0},{"$nulls":10},"Sk",null,{"$f":"DRAW!$E$28","v":0}]
[]
[null,null,"First Set",{"$nulls":10},"Second Set"]
[null,null,{"$f":"DRAW!$E$27","v":0},{"$nulls":3},{"$f":"DRAW!$E$28","v":0},{"$nulls":6},{"$f":"DRAW!$E$27","v":0},{"$nulls":3},{"$f":"DRAW!$E$28","v":0}]
["End",null,"Shots",null,"Total",null,"Shots",null,"Total",{"$nulls":4},"Shots",null,"Total",null,"Shots",null,"Total"]
[1]
[2]
[3]
[4]
[5,{"$nulls":10},1,{"$nulls":10},1]
["Points",{"$nulls":3},"Tie Break",{"$nulls":14},"Points"]
[{"$nulls":4},"End",null,"Shots",{"$nulls":8},"Shots"]
[{"$nulls":4},1]
[{"$nulls":3},"TEAM No.",{"$nulls":5},"Time",{"$nulls":7},"TEAM No."]
["Sign",null,null,{"$f":"DRAW!$C$27","v":0},{"$nulls":5},"Completed",{"$nulls":5},"Sign",null,{"$f":"DRAW!$C$28","v":0}]
["i",{"$nulls":14},"i"]
[{"$f":"Entries!$A$1","v":"2018 District 5 - Mixed Pairs"}]
["R O U N D  1"]
[null,null,"RINK",{"$nulls":5},"DATE"]
[null,null,{"$f":"DRAW!$F$27","v":0}]
[]
[{"$f":"DRAW!$D$28","v":0},{"$nulls":10},"L",null,{"$f":"DRAW!$D$27","v":0}]
[]
[{"$f":"DRAW!$E$28","v":0},{"$nulls":10},"Sk",null,{"$f":"DRAW!$E$27","v":0}]
[]
[null,null,"First Set",{"$nulls":10},"Second Set"]
[null,null,{"$f":"DRAW!$E$28","v":0},{"$nulls":3},{"$f":"DRAW!$E$27","v":0},{"$nulls":6},{"$f":"DRAW!$E$28","v":0},{"$nulls":3},{"$f":"DRAW!$E$27","v":0}]
["End",null,"Shots",null,"Total",null,"Shots",null,"Total",{"$nulls":4},"Shots",null,"Total",null,"Shots",null,"Total"]
[1]
[2]
[3]
[4]
[5,{"$nulls":10},2,{"$nulls":10},1]
["Points",{"$nulls":3},"Tie Break",{"$nulls":14},"Points"]
[{"$nulls":4},"End",null,"Shots",{"$nulls":8},"Shots"]
[{"$nulls":4},1]
[{"$nulls":3},"TEAM No.",{"$nulls":5},"Time",{"$nulls":7},"TEAM No."]
["Sign",null,null,{"$f":"DRAW!$C$28","v":0},{"$nulls":5},"Completed",{"$nulls":5},"Sign",null,{"$f":"DRAW!$C$27","v":0}]
["i",{"$nulls":14},"i"]
[{"$f":"Entries!$A$1","v":"2018 District 5 - Mixed Pairs"}]
["R O U N D  1"]
[null,null,"RINK",{"$nulls":5},"DATE"]
[null,null,{"$f":"DRAW!$F$29","v":0}]
[]
[{"$f":"DRAW!$D$29","v":0},{"$nulls":10},"L",null,{"$f":"DRAW!$D$30","v":0}]
[]
[{"$f":"DRAW!$E$29","v":0},{"$nulls":10},"Sk",null,{"$f":"DRAW!$E$30","v":0}]
[]
[null,null,"First Set",{"$nulls":10},"Second Set"]
[null,null,{"$f":"DRAW!$E$29","v":0},{"$nulls":3},{"$f":"DRAW!$E$30","v":0},{"$nulls":6},{"$f":"DRAW!$E$29","v":0},{"$nulls":3},{"$f":"DRAW!$E$30","v":0}]
["End",null,"Shots",null,"Total",null,"Shots",null,"Total",{"$nulls":4},"Shots",null,"Total",null,"Shots",null,"Total"]
[1]
[2]
[3]
[4]
[5,{"$nulls":10},1,{"$nulls":10},1]
["Points",{"$nulls":3},"Tie Break",{"$nulls":14},"Points"]
[{"$nulls":4},"End",null,"Shots",{"$nulls":8},"Shots"]
[{"$nulls":4},1]
[{"$nulls":3},"TEAM No.",{"$nulls":5},"Time",{"$nulls":7},"TEAM No."]
["Sign",null,null,{"$f":"DRAW!$C$29","v":0},{"$nulls":5},"Completed",{"$nulls":5},"Sign",null,{"$f":"DRAW!$C$30","v":0}]
["i",{"$nulls":14},"i"]
[{"$f":"Entries!$A$1","v":"2018 District 5 - Mixed Pairs"}]
["R O U N D  1"]
[null,null,"RINK",{"$nulls":5},"DATE"]
[null,null,{"$f":"DRAW!$F$29","v":0}]
[]
[{"$f":"DRAW!$D$30","v":0},{"$nulls":10},"L",null,{"$f":"DRAW!$D$29","v":0}]
[]
[{"$f":"DRAW!$E$30","v":0},{"$nulls":10},"Sk",null,{"$f":"DRAW!$E$29","v":0}]
[]
[null,null,"First Set",{"$nulls":10},"Second Set"]
[null,null,{"$f":"DRAW!$E$30","v":0},{"$nulls":3},{"$f":"DRAW!$E$29","v":0},{"$nulls":6},{"$f":"DRAW!$E$30","v":0},{"$nulls":3},{"$f":"DRAW!$E$29","v":0}]
["End",null,"Shots",null,"Total",null,"Shots",null,"Total",{"$nulls":4},"Shots",null,"Total",null,"Shots",null,"Total"]
[1]
[2]
[3]
[4]
[5,{"$nulls":10},2,{"$nulls":10},1]
["Points",{"$nulls":3},"Tie Break",{"$nulls":14},"Points"]
[{"$nulls":4},"End",null,"Shots",{"$nulls":8},"Shots"]
[{"$nulls":4},1]
[{"$nulls":3},"TEAM No.",{"$nulls":5},"Time",{"$nulls":7},"TEAM No."]
["Sign",null,null,{"$f":"DRAW!$C$30","v":0},{"$nulls":5},"Completed",{"$nulls":5},"Sign",null,{"$f":"DRAW!$C$29","v":0}]
["i",{"$nulls":14},"i"]
[{"$f":"Entries!$A$1","v":"2018 District 5 - Mixed Pairs"}]
["R O U N D  1"]
[null,null,"RINK",{"$nulls":5},"DATE"]
[null,null,{"$f":"DRAW!$F$31","v":0}]
[]
[{"$f":"DRAW!$D$31","v":0},{"$nulls":10},"L",null,{"$f":"DRAW!$D$32","v":0}]
[]
[{"$f":"DRAW!$E$31","v":0},{"$nulls":10},"Sk",null,{"$f":"DRAW!$E$32","v":0}]
[]
[null,null,"First Set",{"$nulls":10},"Second Set"]
[null,null,{"$f":"DRAW!$E$31","v":0},{"$nulls":3},{"$f":"DRAW!$E$32","v":0},{"$nulls":6},{"$f":"DRAW!$E$31","v":0},{"$nulls":3},{"$f":"DRAW!$E$32","v":0}]
["End",null,"Shots",null,"Total",null,"Shots",null,"Total",{"$nulls":4},"Shots",null,"Total",null,"Shots",null,"Total"]
[1]
[2]
[3]
[4]
[5,{"$nulls":10},1,{"$nulls":10},1]
["Points",{"$nulls":3},"Tie Break",{"$nulls":14},"Points"]
[{"$nulls":4},"End",null,"Shots",{"$nulls":8},"Shots"]
[{"$nulls":4},1]
[{"$nulls":3},"TEAM No.",{"$nulls":5},"Time",{"$nulls":7},"TEAM No."]
["Sign",null,null,{"$f":"DRAW!$C$31","v":0},{"$nulls":5},"Completed",{"$nulls":5},"Sign",null,{"$f":"DRAW!$C$32","v":0}]
["i",{"$nulls":14},"i"]
[{"$f":"Entries!$A$1","v":"2018 District 5 - Mixed Pairs"}]
["R O U N D  1"]
[null,null,"RINK",{"$nulls":5},"DATE"]
[null,null,{"$f":"DRAW!$F$31","v":0}]
[]
[{"$f":"DRAW!$D$32","v":0},{"$nulls":10},"L",null,{"$f":"DRAW!$D$31","v":0}]
[]
[{"$f":"DRAW!$E$32","v":0},{"$nulls":10},"Sk",null,{"$f":"DRAW!$E$31","v":0}]
[]
[null,null,"First Set",{"$nulls":10},"Second Set"]
[null,null,{"$f":"DRAW!$E$32","v":0},{"$nulls":3},{"$f":"DRAW!$E$31","v":0},{"$nulls":6},{"$f":"DRAW!$E$32","v":0},{"$nulls":3},{"$f":"DRAW!$E$31","v":0}]
["End",null,"Shots",null,"Total",null,"Shots",null,"Total",{"$nulls":4},"Shots",null,"Total",null,"Shots",null,"Total"]
[1]
[2]
[3]
[4]
[5,{"$nulls":10},2,{"$nulls":10},1]
["Points",{"$nulls":3},"Tie Break",{"$nulls":14},"Points"]
[{"$nulls":4},"End",null,"Shots",{"$nulls":8},"Shots"]
[{"$nulls":4},1]
[{"$nulls":3},"TEAM No.",{"$nulls":5},"Time",{"$nulls":7},"TEAM No."]
["Sign",null,null,{"$f":"DRAW!$C$32","v":0},{"$nulls":5},"Completed",{"$nulls":5},"Sign",null,{"$f":"DRAW!$C$31","v":0}]
["i",{"$nulls":14},"i"]
[{"$f":"Entries!$A$1","v":"2018 District 5 - Mixed Pairs"}]
["R O U N D  1"]
[null,null,"RINK",{"$nulls":5},"DATE"]
[null,null,{"$f":"DRAW!$F$33","v":0}]
[]
[{"$f":"DRAW!$D$33","v":0},{"$nulls":10},"L",null,{"$f":"DRAW!$D$34","v":0}]
[]
[{"$f":"DRAW!$E$33","v":0},{"$nulls":10},"Sk",null,{"$f":"DRAW!$E$34","v":0}]
[]
[null,null,"First Set",{"$nulls":10},"Second Set"]
[null,null,{"$f":"DRAW!$E$33","v":0},{"$nulls":3},{"$f":"DRAW!$E$34","v":0},{"$nulls":6},{"$f":"DRAW!$E$33","v":0},{"$nulls":3},{"$f":"DRAW!$E$34","v":0}]
["End",null,"Shots",null,"Total",null,"Shots",null,"Total",{"$nulls":4},"Shots",null,"Total",null,"Shots",null,"Total"]
[1]
[2]
[3]
[4]
[5,{"$nulls":10},1,{"$nulls":10},1]
["Points",{"$nulls":3},"Tie Break",{"$nulls":14},"Points"]
[{"$nulls":4},"End",null,"Shots",{"$nulls":8},"Shots"]
[{"$nulls":4},1]
[{"$nulls":3},"TEAM No.",{"$nulls":5},"Time",{"$nulls":7},"TEAM No."]
["Sign",null,null,{"$f":"DRAW!$C$33","v":0},{"$nulls":5},"Completed",{"$nulls":5},"Sign",null,{"$f":"DRAW!$C$34","v":0}]
["i",{"$nulls":14},"i"]
[{"$f":"Entries!$A$1","v":"2018 District 5 - Mixed Pairs"}]
["R O U N D  1"]
[null,null,"RINK",{"$nulls":5},"DATE"]
[null,null,{"$f":"DRAW!$F$33","v":0}]
[]
[{"$f":"DRAW!$D$34","v":0},{"$nulls":10},"L",null,{"$f":"DRAW!$D$33","v":0}]
[]
[{"$f":"DRAW!$E$34","v":0},{"$nulls":10},"Sk",null,{"$f":"DRAW!$E$33","v":0}]
[]
[null,null,"First Set",{"$nulls":10},"Second Set"]
[null,null,{"$f":"DRAW!$E$34","v":0},{"$nulls":3},{"$f":"DRAW!$E$33","v":0},{"$nulls":6},{"$f":"DRAW!$E$34","v":0},{"$nulls":3},{"$f":"DRAW!$E$33","v":0}]
["End",null,"Shots",null,"Total",null,"Shots",null,"Total",{"$nulls":4},"Shots",null,"Total",null,"Shots",null,"Total"]
[1]
[2]
[3]
[4]
[5,{"$nulls":10},2,{"$nulls":10},1]
["Points",{"$nulls":3},"Tie Break",{"$nulls":14},"Points"]
[{"$nulls":4},"End",null,"Shots",{"$nulls":8},"Shots"]
[{"$nulls":4},1]
[{"$nulls":3},"TEAM No.",{"$nulls":5},"Time",{"$nulls":7},"TEAM No."]
["Sign",null,null,{"$f":"DRAW!$C$34","v":0},{"$nulls":5},"Completed",{"$nulls":5},"Sign",null,{"$f":"DRAW!$C$33","v":0}]
["i",{"$nulls":14},"i"]
[{"$f":"Entries!$A$1","v":"2018 District 5 - Mixed Pairs"}]
["R O U N D  1"]
[null,null,"RINK",{"$nulls":5},"DATE"]
[null,null,{"$f":"DRAW!$F$35","v":0}]
[]
[{"$f":"DRAW!$D$35","v":0},{"$nulls":10},"L",null,{"$f":"DRAW!$D$36","v":0}]
[]
[{"$f":"DRAW!$E$35","v":0},{"$nulls":10},"Sk",null,{"$f":"DRAW!$E$36","v":0}]
[]
[null,null,"First Set",{"$nulls":10},"Second Set"]
[null,null,{"$f":"DRAW!$E$35","v":0},{"$nulls":3},{"$f":"DRAW!$E$36","v":0},{"$nulls":6},{"$f":"DRAW!$E$35","v":0},{"$nulls":3},{"$f":"DRAW!$E$36","v":0}]
["End",null,"Shots",null,"Total",null,"Shots",null,"Total",{"$nulls":4},"Shots",null,"Total",null,"Shots",null,"Total"]
[1]
[2]
[3]
[4]
[5,{"$nulls":10},1,{"$nulls":10},1]
["Points",{"$nulls":3},"Tie Break",{"$nulls":14},"Points"]
[{"$nulls":4},"End",null,"Shots",{"$nulls":8},"Shots"]
[{"$nulls":4},1]
[{"$nulls":3},"TEAM No.",{"$nulls":5},"Time",{"$nulls":7},"TEAM No."]
["Sign",null,null,{"$f":"DRAW!$C$35","v":0},{"$nulls":5},"Completed",{"$nulls":5},"Sign",null,{"$f":"DRAW!$C$36","v":0}]
["i",{"$nulls":14},"i"]
[{"$f":"Entries!$A$1","v":"2018 District 5 - Mixed Pairs"}]
["R O U N D  1"]
[null,null,"RINK",{"$nulls":5},"DATE"]
[null,null,{"$f":"DRAW!$F$35","v":0}]
[]
[{"$f":"DRAW!$D$36","v":0},{"$nulls":10},"L",null,{"$f":"DRAW!$D$35","v":0}]
[]
[{"$f":"DRAW!$E$36","v":0},{"$nulls":10},"Sk",null,{"$f":"DRAW!$E$35","v":0}]
[]
[null,null,"First Set",{"$nulls":10},"Second Set"]
[null,null,{"$f":"DRAW!$E$36","v":0},{"$nulls":3},{"$f":"DRAW!$E$35","v":0},{"$nulls":6},{"$f":"DRAW!$E$36","v":0},{"$nulls":3},{"$f":"DRAW!$E$35","v":0}]
["End",null,"Shots",null,"Total",null,"Shots",null,"Total",{"$nulls":4},"Shots",null,"Total",null,"Shots",null,"Total"]
[1]
[2]
[3]
[4]
[5,{"$nulls":10},2,{"$nulls":10},1]
["Points",{"$nulls":3},"Tie Break",{"$nulls":14},"Points"]
[{"$nulls":4},"End",null,"Shots",{"$nulls":8},"Shots"]
[{"$nulls":4},1]
[{"$nulls":3},"TEAM No.",{"$nulls":5},"Time",{"$nulls":7},"TEAM No."]
["Sign",null,null,{"$f":"DRAW!$C$36","v":0},{"$nulls":5},"Completed",{"$nulls":5},"Sign",null,{"$f":"DRAW!$C$35","v":0}]
["i",{"$nulls":14},"i"]
[{"$f":"Entries!$A$1","v":"2018 District 5 - Mixed Pairs"}]
["R O U N D  1"]
[null,null,"RINK",{"$nulls":5},"DATE"]
[null,null,{"$f":"DRAW!$F$37","v":0}]
[]
[{"$f":"DRAW!$D$37","v":0},{"$nulls":10},"L",null,{"$f":"DRAW!$D$38","v":0}]
[]
[{"$f":"DRAW!$E$37","v":0},{"$nulls":10},"Sk",null,{"$f":"DRAW!$E$38","v":0}]
[]
[null,null,"First Set",{"$nulls":10},"Second Set"]
[null,null,{"$f":"DRAW!$E$37","v":0},{"$nulls":3},{"$f":"DRAW!$E$38","v":0},{"$nulls":6},{"$f":"DRAW!$E$37","v":0},{"$nulls":3},{"$f":"DRAW!$E$38","v":0}]
["End",null,"Shots",null,"Total",null,"Shots",null,"Total",{"$nulls":4},"Shots",null,"Total",null,"Shots",null,"Total"]
[1]
[2]
[3]
[4]
[5,{"$nulls":10},1,{"$nulls":10},1]
["Points",{"$nulls":3},"Tie Break",{"$nulls":14},"Points"]
[{"$nulls":4},"End",null,"Shots",{"$nulls":8},"Shots"]
[{"$nulls":4},1]
[{"$nulls":3},"TEAM No.",{"$nulls":5},"Time",{"$nulls":7},"TEAM No."]
["Sign",null,null,{"$f":"DRAW!$C$37","v":0},{"$nulls":5},"Completed",{"$nulls":5},"Sign",null,{"$f":"DRAW!$C$38","v":0}]
["i",{"$nulls":14},"i"]
[{"$f":"Entries!$A$1","v":"2018 District 5 - Mixed Pairs"}]
["R O U N D  1"]
[null,null,"RINK",{"$nulls":5},"DATE"]
[null,null,{"$f":"DRAW!$F$37","v":0}]
[]
[{"$f":"DRAW!$D$38","v":0},{"$nulls":10},"L",null,{"$f":"DRAW!$D$37","v":0}]
[]
[{"$f":"DRAW!$E$38","v":0},{"$nulls":10},"Sk",null,{"$f":"DRAW!$E$37","v":0}]
[]
[null,null,"First Set",{"$nulls":10},"Second Set"]
[null,null,{"$f":"DRAW!$E$38","v":0},{"$nulls":3},{"$f":"DRAW!$E$37","v":0},{"$nulls":6},{"$f":"DRAW!$E$38","v":0},{"$nulls":3},{"$f":"DRAW!$E$37","v":0}]
["End",null,"Shots",null,"Total",null,"Shots",null,"Total",{"$nulls":4},"Shots",null,"Total",null,"Shots",null,"Total"]
[1]
[2]
[3]
[4]
[5,{"$nulls":10},2,{"$nulls":10},1]
["Points",{"$nulls":3},"Tie Break",{"$nulls":14},"Points"]
[{"$nulls":4},"End",null,"Shots",{"$nulls":8},"Shots"]
[{"$nulls":4},1]
[{"$nulls":3},"TEAM No.",{"$nulls":5},"Time",{"$nulls":7},"TEAM No."]
["Sign",null,null,{"$f":"DRAW!$C$38","v":0},{"$nulls":5},"Completed",{"$nulls":5},"Sign",null,{"$f":"DRAW!$C$37","v":0}]
["i",{"$nulls":14},"i"]
[{"$f":"Entries!$A$1","v":"2018 District 5 - Mixed Pairs"}]
["R O U N D  1"]
[null,null,"RINK",{"$nulls":5},"DATE"]
[null,null,{"$f":"DRAW!$F$39","v":0}]
[]
[{"$f":"DRAW!$D$39","v":0},{"$nulls":10},"L",null,{"$f":"DRAW!$D$40","v":0}]
[]
[{"$f":"DRAW!$E$39","v":0},{"$nulls":10},"Sk",null,{"$f":"DRAW!$E$40","v":0}]
[]
[null,null,"First Set",{"$nulls":10},"Second Set"]
[null,null,{"$f":"DRAW!$E$39","v":0},{"$nulls":3},{"$f":"DRAW!$E$40","v":0},{"$nulls":6},{"$f":"DRAW!$E$39","v":0},{"$nulls":3},{"$f":"DRAW!$E$40","v":0}]
["End",null,"Shots",null,"Total",null,"Shots",null,"Total",{"$nulls":4},"Shots",null,"Total",null,"Shots",null,"Total"]
[1]
[2]
[3]
[4]
[5,{"$nulls":10},1,{"$nulls":10},1]
["Points",{"$nulls":3},"Tie Break",{"$nulls":14},"Points"]
[{"$nulls":4},"End",null,"Shots",{"$nulls":8},"Shots"]
[{"$nulls":4},1]
[{"$nulls":3},"TEAM No.",{"$nulls":5},"Time",{"$nulls":7},"TEAM No."]
["Sign",null,null,{"$f":"DRAW!$C$39","v":0},{"$nulls":5},"Completed",{"$nulls":5},"Sign",null,{"$f":"DRAW!$C$40","v":0}]
["i",{"$nulls":14},"i"]
[{"$f":"Entries!$A$1","v":"2018 District 5 - Mixed Pairs"}]
["R O U N D  1"]
[null,null,"RINK",{"$nulls":5},"DATE"]
[null,null,{"$f":"DRAW!$F$39","v":0}]
[]
[{"$f":"DRAW!$D$40","v":0},{"$nulls":10},"L",null,{"$f":"DRAW!$D$39","v":0}]
[]
[{"$f":"DRAW!$E$40","v":0},{"$nulls":10},"Sk",null,{"$f":"DRAW!$E$39","v":0}]
[]
[null,null,"First Set",{"$nulls":10},"Second Set"]
[null,null,{"$f":"DRAW!$E$40","v":0},{"$nulls":3},{"$f":"DRAW!$E$39","v":0},{"$nulls":6},{"$f":"DRAW!$E$40","v":0},{"$nulls":3},{"$f":"DRAW!$E$39","v":0}]
["End",null,"Shots",null,"Total",null,"Shots",null,"Total",{"$nulls":4},"Shots",null,"Total",null,"Shots",null,"Total"]
[1]
[2]
[3]
[4]
[5,{"$nulls":10},2,{"$nulls":10},1]
["Points",{"$nulls":3},"Tie Break",{"$nulls":14},"Points"]
[{"$nulls":4},"End",null,"Shots",{"$nulls":8},"Shots"]
[{"$nulls":4},1]
[{"$nulls":3},"TEAM No.",{"$nulls":5},"Time",{"$nulls":7},"TEAM No."]
["Sign",null,null,{"$f":"DRAW!$C$40","v":0},{"$nulls":5},"Completed",{"$nulls":5},"Sign",null,{"$f":"DRAW!$C$39","v":0}]
["i",{"$nulls":14},"i"]
[{"$f":"Entries!$A$1","v":"2018 District 5 - Mixed Pairs"}]
["R O U N D  1"]
[null,null,"RINK",{"$nulls":5},"DATE"]
[null,null,{"$f":"DRAW!$F$41","v":0}]
[]
[{"$f":"DRAW!$D$41","v":0},{"$nulls":10},"L",null,{"$f":"DRAW!$D$42","v":0}]
[]
[{"$f":"DRAW!$E$41","v":0},{"$nulls":10},"Sk",null,{"$f":"DRAW!$E$42","v":0}]
[]
[null,null,"First Set",{"$nulls":10},"Second Set"]
[null,null,{"$f":"DRAW!$E$41","v":0},{"$nulls":3},{"$f":"DRAW!$E$42","v":0},{"$nulls":6},{"$f":"DRAW!$E$41","v":0},{"$nulls":3},{"$f":"DRAW!$E$42","v":0}]
["End",null,"Shots",null,"Total",null,"Shots",null,"Total",{"$nulls":4},"Shots",null,"Total",null,"Shots",null,"Total"]
[1]
[2]
[3]
[4]
[5,{"$nulls":10},1,{"$nulls":10},1]
["Points",{"$nulls":3},"Tie Break",{"$nulls":14},"Points"]
[{"$nulls":4},"End",null,"Shots",{"$nulls":8},"Shots"]
[{"$nulls":4},1]
[{"$nulls":3},"TEAM No.",{"$nulls":5},"Time",{"$nulls":7},"TEAM No."]
["Sign",null,null,{"$f":"DRAW!$C$41","v":0},{"$nulls":5},"Completed",{"$nulls":5},"Sign",null,{"$f":"DRAW!$C$42","v":0}]
["i",{"$nulls":14},"i"]
[{"$f":"Entries!$A$1","v":"2018 District 5 - Mixed Pairs"}]
["R O U N D  1"]
[null,null,"RINK",{"$nulls":5},"DATE"]
[null,null,{"$f":"DRAW!$F$41","v":0}]
[]
[{"$f":"DRAW!$D$42","v":0},{"$nulls":10},"L",null,{"$f":"DRAW!$D$41","v":0}]
[]
[{"$f":"DRAW!$E$42","v":0},{"$nulls":10},"Sk",null,{"$f":"DRAW!$E$41","v":0}]
[]
[null,null,"First Set",{"$nulls":10},"Second Set"]
[null,null,{"$f":"DRAW!$E$42","v":0},{"$nulls":3},{"$f":"DRAW!$E$41","v":0},{"$nulls":6},{"$f":"DRAW!$E$42","v":0},{"$nulls":3},{"$f":"DRAW!$E$41","v":0}]
["End",null,"Shots",null,"Total",null,"Shots",null,"Total",{"$nulls":4},"Shots",null,"Total",null,"Shots",null,"Total"]
[1]
[2]
[3]
[4]
[5,{"$nulls":10},2,{"$nulls":10},1]
["Points",{"$nulls":3},"Tie Break",{"$nulls":14},"Points"]
[{"$nulls":4},"End",null,"Shots",{"$nulls":8},"Shots"]
[{"$nulls":4},1]
[{"$nulls":3},"TEAM No.",{"$nulls":5},"Time",{"$nulls":7},"TEAM No."]
["Sign",null,null,{"$f":"DRAW!$C$42","v":0},{"$nulls":5},"Completed",{"$nulls":5},"Sign",null,{"$f":"DRAW!$C$41","v":0}]
["i",{"$nulls":14},"i"]
[{"$f":"Entries!$A$1","v":"2018 District 5 - Mixed Pairs"}]
["R O U N D  1"]
[null,null,"RINK",{"$nulls":5},"DATE"]
[null,null,{"$f":"DRAW!$F$43","v":0}]
[]
[{"$f":"DRAW!$D$43","v":0},{"$nulls":10},"L",null,{"$f":"DRAW!$D$44","v":0}]
[]
[{"$f":"DRAW!$E$43","v":0},{"$nulls":10},"Sk",null,{"$f":"DRAW!$E$44","v":0}]
[]
[null,null,"First Set",{"$nulls":10},"Second Set"]
[null,null,{"$f":"DRAW!$E$43","v":0},{"$nulls":3},{"$f":"DRAW!$E$44","v":0},{"$nulls":6},{"$f":"DRAW!$E$43","v":0},{"$nulls":3},{"$f":"DRAW!$E$44","v":0}]
["End",null,"Shots",null,"Total",null,"Shots",null,"Total",{"$nulls":4},"Shots",null,"Total",null,"Shots",null,"Total"]
[1]
[2]
[3]
[4]
[5,{"$nulls":10},1,{"$nulls":10},1]
["Points",{"$nulls":3},"Tie Break",{"$nulls":14},"Points"]
[{"$nulls":4},"End",null,"Shots",{"$nulls":8},"Shots"]
[{"$nulls":4},1]
[{"$nulls":3},"TEAM No.",{"$nulls":5},"Time",{"$nulls":7},"TEAM No."]
["Sign",null,null,{"$f":"DRAW!$C$43","v":0},{"$nulls":5},"Completed",{"$nulls":5},"Sign",null,{"$f":"DRAW!$C$44","v":0}]
["i",{"$nulls":14},"i"]
[{"$f":"Entries!$A$1","v":"2018 District 5 - Mixed Pairs"}]
["R O U N D  1"]
[null,null,"RINK",{"$nulls":5},"DATE"]
[null,null,{"$f":"DRAW!$F$43","v":0}]
[]
[{"$f":"DRAW!$D$44","v":0},{"$nulls":10},"L",null,{"$f":"DRAW!$D$43","v":0}]
[]
[{"$f":"DRAW!$E$44","v":0},{"$nulls":10},"Sk",null,{"$f":"DRAW!$E$43","v":0}]
[]
[null,null,"First Set",{"$nulls":10},"Second Set"]
[null,null,{"$f":"DRAW!$E$44","v":0},{"$nulls":3},{"$f":"DRAW!$E$43","v":0},{"$nulls":6},{"$f":"DRAW!$E$44","v":0},{"$nulls":3},{"$f":"DRAW!$E$43","v":0}]
["End",null,"Shots",null,"Total",null,"Shots",null,"Total",{"$nulls":4},"Shots",null,"Total",null,"Shots",null,"Total"]
[1]
[2]
[3]
[4]
[5,{"$nulls":10},2,{"$nulls":10},1]
["Points",{"$nulls":3},"Tie Break",{"$nulls":14},"Points"]
[{"$nulls":4},"End",null,"Shots",{"$nulls":8},"Shots"]
[{"$nulls":4},1]
[{"$nulls":3},"TEAM No.",{"$nulls":5},"Time",{"$nulls":7},"TEAM No."]
["Sign",null,null,{"$f":"DRAW!$C$44","v":0},{"$nulls":5},"Completed",{"$nulls":5},"Sign",null,{"$f":"DRAW!$C$43","v":0}]
["i",{"$nulls":14},"i"]

{"sheet":"40","index":42,"n_rows":44,"n_cols":11,"rows_kept":44,"hidden":true,"merged":[[0,2,0,10],[1,2,1,10],[2,3,2,4],[2,5,2,6],[2,7,2,8],[2,9,2,10],[4,1,7,1],[8,1,11,1],[12,1,15,1],[16,1,19,1],[20,1,23,1],[24,1,27,1],[28,1,31,1],[32,1,35,1],[36,1,39,1],[40,1,43,1]]}
[null,null,{"$f":"Entries!$A$1","v":"2018 District 5 - Mixed Pairs"}]
[null,null,"DRAW"]
[{"$nulls":5},"R O U N D  1",null,"R O U N D  2",null,"R O U N D  3"]
[null,"Section","Team No.","Lead","Skip","Rink","Versus","Rink","Versus","Rink","Versus"]
[null,1,1,{"$f":"Entries!$Q$5","v":0},{"$f":"Entries!$R$5","v":0},1,2,10,3,19,4]
[null,null,2,{"$f":"Entries!$Q$6","v":0},{"$f":"Entries!$R$6","v":0},1,1,11,4,20,3]
[null,null,3,{"$f":"Entries!$Q$7","v":0},{"$f":"Entries!$R$7","v":0},2,4,10,1,20,2]
[null,null,4,{"$f":"Entries!$Q$8","v":0},{"$f":"Entries!$R$8","v":0},2,3,11,2,19,1]
[null,2,5,{"$f":"Entries!$Q$9","v":0},{"$f":"Entries!$R$9","v":0},3,6,8,7,17,8]
[null,null,6,{"$f":"Entries!$Q$10","v":0},{"$f":"Entries!$R$10","v":0},3,5,9,8,18,7]
[null,null,7,{"$f":"Entries!$Q$11","v":0},{"$f":"Entries!$R$11","v":0},4,8,8,5,18,6]
[null,null,8,{"$f":"Entries!$Q$12","v":0},{"$f":"Entries!$R$12","v":0},4,7,9,6,17,5]
[null,3,9,{"$f":"Entries!$Q$13","v":0},{"$f":"Entries!$R$13","v":0},5,10,12,11,15,12]
[null,null,10,{"$f":"Entries!$Q$14","v":0},{"$f":"Entries!$R$14","v":0},5,9,13,12,16,11]
[null,null,11,{"$f":"Entries!$Q$15","v":0},{"$f":"Entries!$R$15","v":0},6,12,12,9,16,10]
[null,null,12,{"$f":"Entries!$Q$16","v":0},{"$f":"Entries!$R$16","v":0},6,11,13,10,15,9]
[null,4,13,{"$f":"Entries!$Q$17","v":0},{"$f":"Entries!$R$17","v":0},8,14,17,15,3,16]
[null,null,14,{"$f":"Entries!$Q$18","v":0},{"$f":"Entries!$R$18","v":0},8,13,18,16,4,15]
[null,null,15,{"$f":"Entries!$Q$19","v":0},{"$f":"Entries!$R$19","v":0},9,16,17,13,4,14]
[null,null,16,{"$f":"Entries!$Q$20","v":0},{"$f":"Entries!$R$20","v":0},9,15,18,14,3,13]
[null,5,17,{"$f":"Entries!$Q$21","v":0},{"$f":"Entries!$R$21","v":0},10,18,7,19,1,20]
[null,null,18,{"$f":"Entries!$Q$22","v":0},{"$f":"Entries!$R$22","v":0},10,17,14,20,2,19]
[null,null,19,{"$f":"Entries!$Q$23","v":0},{"$f":"Entries!$R$23","v":0},11,20,7,17,2,18]
[null,null,20,{"$f":"Entries!$Q$24","v":0},{"$f":"Entries!$R$24","v":0},11,19,14,18,1,17]
[null,6,21,{"$f":"Entries!$Q$25","v":0},{"$f":"Entries!$R$25","v":0},12,22,19,23,7,24]
[null,null,22,{"$f":"Entries!$Q$26","v":0},{"$f":"Entries!$R$26","v":0},12,21,20,24,14,23]
[null,null,23,{"$f":"Entries!$Q$27","v":0},{"$f":"Entries!$R$27","v":0},13,24,19,21,14,22]
[null,null,24,{"$f":"Entries!$Q$28","v":0},{"$f":"Entries!$R$28","v":0},13,23,20,22,7,21]
[null,7,25,{"$f":"Entries!$Q$29","v":0},{"$f":"Entries!$R$29","v":0},15,26,3,27,10,28]
[null,null,26,{"$f":"Entries!$Q$30","v":0},{"$f":"Entries!$R$30","v":0},15,25,4,28,11,27]
[null,null,27,{"$f":"Entries!$Q$31","v":0},{"$f":"Entries!$R$31","v":0},16,28,3,25,11,26]
[null,null,28,{"$f":"Entries!$Q$32","v":0},{"$f":"Entries!$R$32","v":0},16,27,4,26,10,25]
[null,8,29,{"$f":"Entries!$Q$33","v":0},{"$f":"Entries!$R$33","v":0},17,30,1,31,12,32]
[null,null,30,{"$f":"Entries!$Q$34","v":0},{"$f":"Entries!$R$34","v":0},17,29,2,32,13,31]
[null,null,31,{"$f":"Entries!$Q$35","v":0},{"$f":"Entries!$R$35","v":0},18,32,1,29,13,30]
[null,null,32,{"$f":"Entries!$Q$36","v":0},{"$f":"Entries!$R$36","v":0},18,31,2,30,12,29]
[null,9,33,{"$f":"Entries!$Q$37","v":0},{"$f":"Entries!$R$37","v":0},19,34,5,35,8,36]
[null,null,34,{"$f":"Entries!$Q$38","v":0},{"$f":"Entries!$R$38","v":0},19,33,6,36,9,35]
[null,null,35,{"$f":"Entries!$Q$39","v":0},{"$f":"Entries!$R$39","v":0},20,36,5,33,9,34]
[null,null,36,{"$f":"Entries!$Q$40","v":0},{"$f":"Entries!$R$40","v":0},20,35,6,34,8,33]
[null,10,37,{"$f":"Entries!$Q$41","v":0},{"$f":"Entries!$R$41","v":0},7,38,15,39,5,40]
[null,null,38,{"$f":"Entries!$Q$42","v":0},{"$f":"Entries!$R$42","v":0},7,37,16,40,6,39]
[null,null,39,{"$f":"Entries!$Q$43","v":0},{"$f":"Entries!$R$43","v":0},14,40,15,37,6,38]
[null,null,40,{"$f":"Entries!$Q$44","v":0},{"$f":"Entries!$R$44","v":0},14,39,16,38,5,37]

{"sheet":"39","index":43,"n_rows":43,"n_cols":11,"rows_kept":43,"hidden":true,"merged":[[0,2,0,10],[1,2,1,10],[2,3,2,4],[2,5,2,6],[2,7,2,8],[2,9,2,10],[4,1,7,1],[8,1,11,1],[12,1,15,1],[16,1,19,1],[20,1,23,1],[24,1,27,1],[28,1,31,1],[32,1,35,1],[36,1,39,1],[40,1,43,1]]}
[null,null,{"$f":"Entries!$A$1","v":"2018 District 5 - Mixed Pairs"}]
[null,null,"DRAW"]
[{"$nulls":5},"R O U N D  1",null,"R O U N D  2",null,"R O U N D  3"]
[null,"Section","Team No.","Lead","Skip","Rink","Versus","Rink","Versus","Rink","Versus"]
[null,1,1,{"$f":"Entries!$Q$5","v":0},{"$f":"Entries!$R$5","v":0},1,2,10,3,19,4]
[null,null,2,{"$f":"Entries!$Q$6","v":0},{"$f":"Entries!$R$6","v":0},1,1,11,4,20,3]
[null,null,3,{"$f":"Entries!$Q$7","v":0},{"$f":"Entries!$R$7","v":0},2,4,10,1,20,2]
[null,null,4,{"$f":"Entries!$Q$8","v":0},{"$f":"Entries!$R$8","v":0},2,3,11,2,19,1]
[null,2,5,{"$f":"Entries!$Q$9","v":0},{"$f":"Entries!$R$9","v":0},3,6,8,7,17,8]
[null,null,6,{"$f":"Entries!$Q$10","v":0},{"$f":"Entries!$R$10","v":0},3,5,9,8,18,7]
[null,null,7,{"$f":"Entries!$Q$11","v":0},{"$f":"Entries!$R$11","v":0},4,8,8,5,18,6]
[null,null,8,{"$f":"Entries!$Q$12","v":0},{"$f":"Entries!$R$12","v":0},4,7,9,6,17,5]
[null,3,9,{"$f":"Entries!$Q$13","v":0},{"$f":"Entries!$R$13","v":0},5,10,12,11,15,12]
[null,null,10,{"$f":"Entries!$Q$14","v":0},{"$f":"Entries!$R$14","v":0},5,9,13,12,16,11]
[null,null,11,{"$f":"Entries!$Q$15","v":0},{"$f":"Entries!$R$15","v":0},6,12,12,9,16,10]
[null,null,12,{"$f":"Entries!$Q$16","v":0},{"$f":"Entries!$R$16","v":0},6,11,13,10,15,9]
[null,4,13,{"$f":"Entries!$Q$17","v":0},{"$f":"Entries!$R$17","v":0},8,14,17,15,3,16]
[null,null,14,{"$f":"Entries!$Q$18","v":0},{"$f":"Entries!$R$18","v":0},8,13,18,16,4,15]
[null,null,15,{"$f":"Entries!$Q$19","v":0},{"$f":"Entries!$R$19","v":0},9,16,17,13,4,14]
[null,null,16,{"$f":"Entries!$Q$20","v":0},{"$f":"Entries!$R$20","v":0},9,15,18,14,3,13]
[null,5,17,{"$f":"Entries!$Q$21","v":0},{"$f":"Entries!$R$21","v":0},10,18,7,19,1,20]
[null,null,18,{"$f":"Entries!$Q$22","v":0},{"$f":"Entries!$R$22","v":0},10,17,14,20,2,19]
[null,null,19,{"$f":"Entries!$Q$23","v":0},{"$f":"Entries!$R$23","v":0},11,20,7,17,2,18]
[null,null,20,{"$f":"Entries!$Q$24","v":0},{"$f":"Entries!$R$24","v":0},11,19,14,18,1,17]
[null,6,21,{"$f":"Entries!$Q$25","v":0},{"$f":"Entries!$R$25","v":0},12,22,19,23,7,24]
[null,null,22,{"$f":"Entries!$Q$26","v":0},{"$f":"Entries!$R$26","v":0},12,21,20,24,14,23]
[null,null,23,{"$f":"Entries!$Q$27","v":0},{"$f":"Entries!$R$27","v":0},13,24,19,21,14,22]
[null,null,24,{"$f":"Entries!$Q$28","v":0},{"$f":"Entries!$R$28","v":0},13,23,20,22,7,21]
[null,7,25,{"$f":"Entries!$Q$29","v":0},{"$f":"Entries!$R$29","v":0},15,26,3,27,10,28]
[null,null,26,{"$f":"Entries!$Q$30","v":0},{"$f":"Entries!$R$30","v":0},15,25,4,28,11,27]
[null,null,27,{"$f":"Entries!$Q$31","v":0},{"$f":"Entries!$R$31","v":0},16,28,3,25,11,26]
[null,null,28,{"$f":"Entries!$Q$32","v":0},{"$f":"Entries!$R$32","v":0},16,27,4,26,10,25]
[null,8,29,{"$f":"Entries!$Q$33","v":0},{"$f":"Entries!$R$33","v":0},17,30,1,31,12,32]
[null,null,30,{"$f":"Entries!$Q$34","v":0},{"$f":"Entries!$R$34","v":0},17,29,2,32,13,31]
[null,null,31,{"$f":"Entries!$Q$35","v":0},{"$f":"Entries!$R$35","v":0},18,32,1,29,13,30]
[null,null,32,{"$f":"Entries!$Q$36","v":0},{"$f":"Entries!$R$36","v":0},18,31,2,30,12,29]
[null,9,33,{"$f":"Entries!$Q$37","v":0},{"$f":"Entries!$R$37","v":0},19,34,5,35,8,36]
[null,null,34,{"$f":"Entries!$Q$38","v":0},{"$f":"Entries!$R$38","v":0},19,33,6,36,9,35]
[null,null,35,{"$f":"Entries!$Q$39","v":0},{"$f":"Entries!$R$39","v":0},20,36,5,33,9,34]
[null,null,36,{"$f":"Entries!$Q$40","v":0},{"$f":"Entries!$R$40","v":0},20,35,6,34,8,33]
[null,10,37,{"$f":"Entries!$Q$41","v":0},{"$f":"Entries!$R$41","v":0},7,38,15,39,"BYE"]
[null,null,38,{"$f":"Entries!$Q$42","v":0},{"$f":"Entries!$R$42","v":0},7,37,"BYE",null,6,39]
[null,null,39,{"$f":"Entries!$Q$43","v":0},{"$f":"Entries!$R$43","v":0},"BYE",null,15,37,6,38]

{"sheet":"38","index":44,"n_rows":43,"n_cols":11,"rows_kept":43,"hidden":true,"merged":[[0,2,0,10],[1,2,1,10],[2,3,2,4],[2,5,2,6],[2,7,2,8],[2,9,2,10],[4,1,7,1],[8,1,11,1],[12,1,15,1],[16,1,19,1],[20,1,23,1],[24,1,27,1],[28,1,31,1],[32,1,35,1],[36,1,39,1],[40,1,43,1]]}
[null,null,{"$f":"Entries!$A$1","v":"2018 District 5 - Mixed Pairs"}]
[null,null,"DRAW"]
[{"$nulls":5},"R O U N D  1",null,"R O U N D  2",null,"R O U N D  3"]
[null,"Section","Team No.","Lead","Skip","Rink","Versus","Rink","Versus","Rink","Versus"]
[null,1,1,{"$f":"Entries!$Q$5","v":0},{"$f":"Entries!$R$5","v":0},1,2,10,3,19,4]
[null,null,2,{"$f":"Entries!$Q$6","v":0},{"$f":"Entries!$R$6","v":0},1,1,11,4,20,3]
[null,null,3,{"$f":"Entries!$Q$7","v":0},{"$f":"Entries!$R$7","v":0},2,4,10,1,20,2]
[null,null,4,{"$f":"Entries!$Q$8","v":0},{"$f":"Entries!$R$8","v":0},2,3,11,2,19,1]
[null,2,5,{"$f":"Entries!$Q$9","v":0},{"$f":"Entries!$R$9","v":0},3,6,8,7,17,8]
[null,null,6,{"$f":"Entries!$Q$10","v":0},{"$f":"Entries!$R$10","v":0},3,5,9,8,18,7]
[null,null,7,{"$f":"Entries!$Q$11","v":0},{"$f":"Entries!$R$11","v":0},4,8,8,5,18,6]
[null,null,8,{"$f":"Entries!$Q$12","v":0},{"$f":"Entries!$R$12","v":0},4,7,9,6,17,5]
[null,3,9,{"$f":"Entries!$Q$13","v":0},{"$f":"Entries!$R$13","v":0},5,10,12,11,15,12]
[null,null,10,{"$f":"Entries!$Q$14","v":0},{"$f":"Entries!$R$14","v":0},5,9,13,12,16,11]
[null,null,11,{"$f":"Entries!$Q$15","v":0},{"$f":"Entries!$R$15","v":0},6,12,12,9,16,10]
[null,null,12,{"$f":"Entries!$Q$16","v":0},{"$f":"Entries!$R$16","v":0},6,11,13,10,15,9]
[null,4,13,{"$f":"Entries!$Q$17","v":0},{"$f":"Entries!$R$17","v":0},8,14,17,15,3,16]
[null,null,14,{"$f":"Entries!$Q$18","v":0},{"$f":"Entries!$R$18","v":0},8,13,18,16,4,15]
[null,null,15,{"$f":"Entries!$Q$19","v":0},{"$f":"Entries!$R$19","v":0},9,16,17,13,4,14]
[null,null,16,{"$f":"Entries!$Q$20","v":0},{"$f":"Entries!$R$20","v":0},9,15,18,14,3,13]
[null,5,17,{"$f":"Entries!$Q$21","v":0},{"$f":"Entries!$R$21","v":0},10,18,7,19,1,20]
[null,null,18,{"$f":"Entries!$Q$22","v":0},{"$f":"Entries!$R$22","v":0},10,17,14,20,2,19]
[null,null,19,{"$f":"Entries!$Q$23","v":0},{"$f":"Entries!$R$23","v":0},11,20,7,17,2,18]
[null,null,20,{"$f":"Entries!$Q$24","v":0},{"$f":"Entries!$R$24","v":0},11,19,14,18,1,17]
[null,6,21,{"$f":"Entries!$Q$25","v":0},{"$f":"Entries!$R$25","v":0},12,22,19,23,7,24]
[null,null,22,{"$f":"Entries!$Q$26","v":0},{"$f":"Entries!$R$26","v":0},12,21,20,24,14,23]
[null,null,23,{"$f":"Entries!$Q$27","v":0},{"$f":"Entries!$R$27","v":0},13,24,19,21,14,22]
[null,null,24,{"$f":"Entries!$Q$28","v":0},{"$f":"Entries!$R$28","v":0},13,23,20,22,7,21]
[null,7,25,{"$f":"Entries!$Q$29","v":0},{"$f":"Entries!$R$29","v":0},15,26,3,27,10,28]
[null,null,26,{"$f":"Entries!$Q$30","v":0},{"$f":"Entries!$R$30","v":0},15,25,4,28,11,27]
[null,null,27,{"$f":"Entries!$Q$31","v":0},{"$f":"Entries!$R$31","v":0},16,28,3,25,11,26]
[null,null,28,{"$f":"Entries!$Q$32","v":0},{"$f":"Entries!$R$32","v":0},16,27,4,26,10,25]
[null,8,29,{"$f":"Entries!$Q$33","v":0},{"$f":"Entries!$R$33","v":0},17,30,1,31,12,32]
[null,null,30,{"$f":"Entries!$Q$34","v":0},{"$f":"Entries!$R$34","v":0},17,29,2,32,13,31]
[null,null,31,{"$f":"Entries!$Q$35","v":0},{"$f":"Entries!$R$35","v":0},18,32,1,29,13,30]
[null,null,32,{"$f":"Entries!$Q$36","v":0},{"$f":"Entries!$R$36","v":0},18,31,2,30,12,29]
[null,9,33,{"$f":"Entries!$Q$37","v":0},{"$f":"Entries!$R$37","v":0},19,34,5,35,"BYE"]
[null,null,34,{"$f":"Entries!$Q$38","v":0},{"$f":"Entries!$R$38","v":0},19,33,"BYE",null,9,35]
[null,null,35,{"$f":"Entries!$Q$39","v":0},{"$f":"Entries!$R$39","v":0},"BYE",null,5,33,9,34]
[]
[null,10,36,{"$f":"Entries!$Q$40","v":0},{"$f":"Entries!$R$40","v":0},7,37,15,38,"BYE"]
[null,null,37,{"$f":"Entries!$Q$41","v":0},{"$f":"Entries!$R$41","v":0},7,36,"BYE",null,6,38]
[null,null,38,{"$f":"Entries!$Q$42","v":0},{"$f":"Entries!$R$42","v":0},"BYE",null,15,36,6,37]

{"sheet":"37","index":45,"n_rows":43,"n_cols":11,"rows_kept":43,"hidden":true,"merged":[[0,2,0,10],[1,2,1,10],[2,3,2,4],[2,5,2,6],[2,7,2,8],[2,9,2,10],[4,1,7,1],[8,1,11,1],[12,1,15,1],[16,1,19,1],[20,1,23,1],[24,1,27,1],[28,1,31,1],[32,1,35,1],[36,1,39,1],[40,1,43,1]]}
[null,null,{"$f":"Entries!$A$1","v":"2018 District 5 - Mixed Pairs"}]
[null,null,"DRAW"]
[{"$nulls":5},"R O U N D  1",null,"R O U N D  2",null,"R O U N D  3"]
[null,"Section","Team No.","Lead","Skip","Rink","Versus","Rink","Versus","Rink","Versus"]
[null,1,1,{"$f":"Entries!$Q$5","v":0},{"$f":"Entries!$R$5","v":0},1,2,10,3,19,4]
[null,null,2,{"$f":"Entries!$Q$6","v":0},{"$f":"Entries!$R$6","v":0},1,1,11,4,20,3]
[null,null,3,{"$f":"Entries!$Q$7","v":0},{"$f":"Entries!$R$7","v":0},2,4,10,1,20,2]
[null,null,4,{"$f":"Entries!$Q$8","v":0},{"$f":"Entries!$R$8","v":0},2,3,11,2,19,1]
[null,2,5,{"$f":"Entries!$Q$9","v":0},{"$f":"Entries!$R$9","v":0},3,6,8,7,17,8]
[null,null,6,{"$f":"Entries!$Q$10","v":0},{"$f":"Entries!$R$10","v":0},3,5,9,8,18,7]
[null,null,7,{"$f":"Entries!$Q$11","v":0},{"$f":"Entries!$R$11","v":0},4,8,8,5,18,6]
[null,null,8,{"$f":"Entries!$Q$12","v":0},{"$f":"Entries!$R$12","v":0},4,7,9,6,17,5]
[null,3,9,{"$f":"Entries!$Q$13","v":0},{"$f":"Entries!$R$13","v":0},5,10,12,11,15,12]
[null,null,10,{"$f":"Entries!$Q$14","v":0},{"$f":"Entries!$R$14","v":0},5,9,13,12,16,11]
[null,null,11,{"$f":"Entries!$Q$15","v":0},{"$f":"Entries!$R$15","v":0},6,12,12,9,16,10]
[null,null,12,{"$f":"Entries!$Q$16","v":0},{"$f":"Entries!$R$16","v":0},6,11,13,10,15,9]
[null,4,13,{"$f":"Entries!$Q$17","v":0},{"$f":"Entries!$R$17","v":0},8,14,17,15,3,16]
[null,null,14,{"$f":"Entries!$Q$18","v":0},{"$f":"Entries!$R$18","v":0},8,13,18,16,4,15]
[null,null,15,{"$f":"Entries!$Q$19","v":0},{"$f":"Entries!$R$19","v":0},9,16,17,13,4,14]
[null,null,16,{"$f":"Entries!$Q$20","v":0},{"$f":"Entries!$R$20","v":0},9,15,18,14,3,13]
[null,5,17,{"$f":"Entries!$Q$21","v":0},{"$f":"Entries!$R$21","v":0},10,18,7,19,1,20]
[null,null,18,{"$f":"Entries!$Q$22","v":0},{"$f":"Entries!$R$22","v":0},10,17,14,20,2,19]
[null,null,19,{"$f":"Entries!$Q$23","v":0},{"$f":"Entries!$R$23","v":0},11,20,7,17,2,18]
[null,null,20,{"$f":"Entries!$Q$24","v":0},{"$f":"Entries!$R$24","v":0},11,19,14,18,1,17]
[null,6,21,{"$f":"Entries!$Q$25","v":0},{"$f":"Entries!$R$25","v":0},12,22,19,23,7,24]
[null,null,22,{"$f":"Entries!$Q$26","v":0},{"$f":"Entries!$R$26","v":0},12,21,20,24,14,23]
[null,null,23,{"$f":"Entries!$Q$27","v":0},{"$f":"Entries!$R$27","v":0},13,24,19,21,14,22]
[null,null,24,{"$f":"Entries!$Q$28","v":0},{"$f":"Entries!$R$28","v":0},13,23,20,22,7,21]
[null,7,25,{"$f":"Entries!$Q$29","v":0},{"$f":"Entries!$R$29","v":0},15,26,3,27,10,28]
[null,null,26,{"$f":"Entries!$Q$30","v":0},{"$f":"Entries!$R$30","v":0},15,25,4,28,11,27]
[null,null,27,{"$f":"Entries!$Q$31","v":0},{"$f":"Entries!$R$31","v":0},16,28,3,25,11,26]
[null,null,28,{"$f":"Entries!$Q$32","v":0},{"$f":"Entries!$R$32","v":0},16,27,4,26,10,25]
[null,8,29,{"$f":"Entries!$Q$33","v":0},{"$f":"Entries!$R$33","v":0},17,30,1,31,null,"BYE"]
[null,null,30,{"$f":"Entries!$Q$34","v":0},{"$f":"Entries!$R$34","v":0},17,29,null,"BYE",13,31]
[null,null,31,{"$f":"Entries!$Q$35","v":0},{"$f":"Entries!$R$35","v":0},null,"BYE",1,29,13,30]
[]
[null,9,32,{"$f":"Entries!$Q$36","v":0},{"$f":"Entries!$R$36","v":0},19,33,5,34,null,"BYE"]
[null,null,33,{"$f":"Entries!$Q$37","v":0},{"$f":"Entries!$R$37","v":0},19,32,null,"BYE",9,34]
[null,null,34,{"$f":"Entries!$Q$38","v":0},{"$f":"Entries!$R$38","v":0},null,"BYE",5,32,9,33]
[]
[null,10,35,{"$f":"Entries!$Q$39","v":0},{"$f":"Entries!$R$39","v":0},7,36,15,37,null,"BYE"]
[null,null,36,{"$f":"Entries!$Q$40","v":0},{"$f":"Entries!$R$40","v":0},7,35,null,"BYE",6,37]
[null,null,37,{"$f":"Entries!$Q$41","v":0},{"$f":"Entries!$R$41","v":0},null,"BYE",15,35,6,36]

{"sheet":"Finals 36-33","index":46,"n_rows":28,"n_cols":43,"rows_kept":28,"hidden":true,"merged":[[0,2,0,42],[1,2,2,42],[3,2,4,2],[3,3,4,3],[3,4,4,4],[3,5,4,5],[3,6,4,6],[3,8,4,8],[3,9,4,9],[3,11,4,11],[3,12,4,12],[3,14,4,14],[3,15,4,15],[3,17,4,17],[3,18,4,18],[3,19,4,19],[3,20,4,20],[3,21,4,21],[3,23,4,23],[3,24,4,24],[3,25,4,25],[3,26,4,26],[3,27,4,27],[3,29,4,29],[3,30,4,30],[3,32,4,32],[3,33,4,33],[3,35,4,35],[3,36,4,36],[3,38,4,38],[3,39,4,39],[3,40,4,40],[3,41,4,41],[3,42,4,42],[5,2,6,2],[5,5,6,5],[7,2,7,42],[8,2,9,2],[8,5,9,5],[8,23,9,23],[8,26,9,26],[11,2,12,2],[11,5,12,5],[11,23,12,23],[11,26,12,26],[14,2,15,2],[14,5,15,5],[14,23,15,23],[14,26,15,26],[16,2,16,42],[17,2,18,2],[17,5,18,5],[17,23,18,23],[17,26,18,26],[20,2,21,2],[20,5,21,5],[20,23,21,23],[20,26,21,26],[22,2,22,42],[23,2,24,2],[23,5,24,5],[23,23,24,23],[23,26,24,26],[25,2,25,42],[26,2,27,2],[26,5,27,5]]}
[null,null,"H E A D I N G  H E R E "]
[null,null,"R O U N D  1"]
[]
[null,null,"Sections","Team   #","Skips","Rink #","1st     Set",null,null,"2nd     Set",null,null,"Tie Break",null,null,"Set Points",null,null,"Game Points",null,"Total Points","RANK",null,"Sections","Team   #","Skips","Rink #","1st     Set",null,null,"2nd     Set",null,null,"Tie Break",null,null,"Set Points",null,null,"Game Points",null,"Total Points","RANK"]
[{"$nulls":7},"Set Points",null,null,"Set Points",null,null,"Set Points",null,null,"S+TBPts",{"$nulls":11},"Set Points",null,null,"Set Points",null,null,"Set Points",null,null,"S+TBPts"]
[null,null,1,1,"Sec 8",null,null,{"$f":"IF(G6+G7>0,(IF(G6>G7,1,(IF(G6=G7,0.5,0)))),0)","v":0},{"$f":"(U6*1000)+O6","v":0},null,{"$f":"IF(J6+J7>0,(IF(J6>J7,1,(IF(J6=J7,0.5,0)))),0)","v":0},{"$f":"LARGE(I6:I7,1)","v":0},null,{"$f":"IF(M6+M7>0,(IF(M6>M7,1,(IF(M6=M7,0.5,0)))),0)","v":0},{"$f":"G6+J6+M6-G7-J7-M7","v":0},{"$f":"H6+K6","v":0},{"$f":"IF(P6>2,P6,H6+K6+N6)","v":0},null,{"$f":"IF(Q6+Q7>=1.5,(IF(Q6>Q7,3,0)),0)","v":0},null,{"$f":"IF((S6+S7)=3,(P6+S6),0)","v":0},{"$f":"IF(U6+U7=0,\"\",IF(I6=$L$6,\"1st\",\"\"))","v":""}]
[{"$nulls":3},2,"Sec 9",null,null,{"$f":"IF(G6+G7>0,(IF(G6<G7,1,(IF(G6=G7,0.5,0)))),0)","v":0},{"$f":"(U7*1000)+O7","v":0},null,{"$f":"IF(J6+J7>0,(IF(J6<J7,1,(IF(J6=J7,0.5,0)))),0)","v":0},null,null,{"$f":"IF(M6+M7>0,(IF(M6<M7,1,(IF(M6=M7,0.5,0)))),0)","v":0},{"$f":"G7+J7+M7-G6-J6-M6","v":0},{"$f":"+H7+K7","v":0},{"$f":"IF(P7>2,P7,H7+K7+N7)","v":0},null,{"$f":"IF(Q6+Q7>=1.5,(IF(Q6<Q7,3,0)),0)","v":0},null,{"$f":"IF((S6+S7)=3,(P7+S7),0)","v":0},{"$f":"IF(U7+U8=0,\"\",IF(I7=$L$6,\"1st\",\"\"))","v":""}]
[null,null,"Q U A R T E R  F I N A L"]
[null,null,1,3,"Round 1 Sec 1",null,null,{"$f":"IF(G9+G10>0,(IF(G9>G10,1,(IF(G9=G10,0.5,0)))),0)","v":0},{"$f":"(U9*1000)+O9","v":0},null,{"$f":"IF(J9+J10>0,(IF(J9>J10,1,(IF(J9=J10,0.5,0)))),0)","v":0},{"$f":"LARGE(I9:I10,1)","v":0},null,{"$f":"IF(M9+M10>0,(IF(M9>M10,1,(IF(M9=M10,0.5,0)))),0)","v":0},{"$f":"G9+J9+M9-G10-J10-M10","v":0},{"$f":"+H9+K9","v":0},{"$f":"IF(P9>2,P9,H9+K9+N9)","v":0},null,{"$f":"IF(Q9+Q10>=1.5,(IF(Q9>Q10,3,0)),0)","v":0},null,{"$f":"IF((S9+S10)=3,(P9+S9),0)","v":0},{"$f":"IF(U9+U10=0,\"\",IF(I9=$L$9,\"1st\",\"\"))","v":""},null,2,null,"Sec 2",null,null,{"$f":"IF(AB9+AB10>0,(IF(AB9>AB10,1,(IF(AB9=AB10,0.5,0)))),0)","v":0},{"$f":"(AP9*1000)+AJ9","v":0},null,{"$f":"IF(AE9+AE10>0,(IF(AE9>AE10,1,(IF(AE9=AE10,0.5,0)))),0)","v":0},{"$f":"LARGE(AD9:AD10,1)","v":0},null,{"$f":"IF(AH9+AH10>0,(IF(AH9>AH10,1,(IF(AH9=AH10,0.5,0)))),0)","v":0},{"$f":"AB9+AE9+AH9-AB10-AE10-AH10","v":0},{"$f":"+AC9+AF9","v":0},{"$f":"IF(AK9>2,AK9,AC9+AF9+AI9)","v":0},null,{"$f":"IF(AL9+AL10>=1.5,(IF(AL9>AL10,3,0)),0)","v":0},null,{"$f":"IF((AN9+AN10)=3,(AK9+AN9),0)","v":0},{"$f":"IF(AP9+AP10=0,\"\",IF(AD9=$AG$9,\"1st\",\"\"))","v":""}]
[{"$nulls":3},4,"Sec 1",null,null,{"$f":"IF(G9+G10>0,(IF(G9<G10,1,(IF(G9=G10,0.5,0)))),0)","v":0},{"$f":"(U10*1000)+O10","v":0},null,{"$f":"IF(J9+J10>0,(IF(J9<J10,1,(IF(J9=J10,0.5,0)))),0)","v":0},null,null,{"$f":"IF(M9+M10>0,(IF(M9<M10,1,(IF(M9=M10,0.5,0)))),0)","v":0},{"$f":"G10+J10+M10-G9-J9-M9","v":0},{"$f":"+H10+K10","v":0},{"$f":"IF(P10>2,P10,H10+K10+N10)","v":0},null,{"$f":"IF(Q9+Q10>=1.5,(IF(Q9<Q10,3,0)),0)","v":0},null,{"$f":"IF((S9+S10)=3,(P10+S10),0)","v":0},{"$f":"IF(U10+U11=0,\"\",IF(I10=$L$9,\"1st\",\"\"))","v":""},{"$nulls":3},"Sec 3",null,null,{"$f":"IF(AB9+AB10>0,(IF(AB9<AB10,1,(IF(AB9=AB10,0.5,0)))),0)","v":0},{"$f":"(AP10*1000)+AJ10","v":0},null,{"$f":"IF(AE9+AE10>0,(IF(AE9<AE10,1,(IF(AE9=AE10,0.5,0)))),0)","v":0},null,null,{"$f":"IF(AH9+AH10>0,(IF(AH9<AH10,1,(IF(AH9=AH10,0.5,0)))),0)","v":0},{"$f":"AB10+AE10+AH10-AB9-AE9-AH9","v":0},{"$f":"+AC10+AF10","v":0},{"$f":"IF(AK10>2,AK10,AC10+AF10+AI10)","v":0},null,{"$f":"IF(AL9+AL10>=1.5,(IF(AL9<AL10,3,0)),0)","v":0},null,{"$f":"IF((AN9+AN10)=3,(AK10+AN10),0)","v":0},{"$f":"IF(AP10+AP11=0,\"\",IF(AD10=$AG$9,\"1st\",\"\"))","v":""}]
[]
[null,null,3,5,"Sec 4",null,null,{"$f":"IF(G12+G13>0,(IF(G12>G13,1,(IF(G12=G13,0.5,0)))),0)","v":0},{"$f":"(U12*1000)+O12","v":0},null,{"$f":"IF(J12+J13>0,(IF(J12>J13,1,(IF(J12=J13,0.5,0)))),0)","v":0},{"$f":"LARGE(I12:I13,1)","v":0},null,{"$f":"IF(M12+M13>0,(IF(M12>M13,1,(IF(M12=M13,0.5,0)))),0)","v":0},{"$f":"G12+J12+M12-G13-J13-M13","v":0},{"$f":"+H12+K12","v":0},{"$f":"IF(P12>2,P12,H12+K12+N12)","v":0},null,{"$f":"IF(Q12+Q13>=1.5,(IF(Q12>Q13,3,0)),0)","v":0},null,{"$f":"IF((S12+S13)=3,(P12+S12),0)","v":0},{"$f":"IF(U12+U13=0,\"\",IF(I12=$L$12,\"1st\",\"\"))","v":""},null,4,null,"Sec 6",null,null,{"$f":"IF(AB12+AB13>0,(IF(AB12>AB13,1,(IF(AB12=AB13,0.5,0)))),0)","v":0},{"$f":"(AP12*1000)+AJ12","v":0},null,{"$f":"IF(AE12+AE13>0,(IF(AE12>AE13,1,(IF(AE12=AE13,0.5,0)))),0)","v":0},{"$f":"LARGE(AD12:AD13,1)","v":0},null,{"$f":"IF(AH12+AH13>0,(IF(AH12>AH13,1,(IF(AH12=AH13,0.5,0)))),0)","v":0},{"$f":"AB12+AE12+AH12-AB13-AE13-AH13","v":0},{"$f":"+AC12+AF12","v":0},{"$f":"IF(AK12>2,AK12,AC12+AF12+AI12)","v":0},null,{"$f":"IF(AL12+AL13>=1.5,(IF(AL12>AL13,3,0)),0)","v":0},null,{"$f":"IF((AN12+AN13)=3,(AK12+AN12),0)","v":0},{"$f":"IF(AP12+AP13=0,\"\",IF(AD12=$AG$12,\"1st\",\"\"))","v":""}]
[{"$nulls":3},6,"Sec 5",null,null,{"$f":"IF(G12+G13>0,(IF(G12<G13,1,(IF(G12=G13,0.5,0)))),0)","v":0},{"$f":"(U13*1000)+O13","v":0},null,{"$f":"IF(J12+J13>0,(IF(J12<J13,1,(IF(J12=J13,0.5,0)))),0)","v":0},null,null,{"$f":"IF(M12+M13>0,(IF(M12<M13,1,(IF(M12=M13,0.5,0)))),0)","v":0},{"$f":"G13+J13+M13-G12-J12-M12","v":0},{"$f":"+H13+K13","v":0},{"$f":"IF(P13>2,P13,H13+K13+N13)","v":0},null,{"$f":"IF(Q12+Q13>=1.5,(IF(Q12<Q13,,0)),0)","v":0},null,{"$f":"IF((S12+S13)=3,(P13+S13),0)","v":0},{"$f":"IF(U13+U14=0,\"\",IF(I13=$L$12,\"1st\",\"\"))","v":""},{"$nulls":3},"Sec 7",null,null,{"$f":"IF(AB12+AB13>0,(IF(AB12<AB13,1,(IF(AB12=AB13,0.5,0)))),0)","v":0},{"$f":"(AP13*1000)+AJ13","v":0},null,{"$f":"IF(AE12+AE13>0,(IF(AE12<AE13,1,(IF(AE12=AE13,0.5,0)))),0)","v":0},null,null,{"$f":"IF(AH12+AH13>0,(IF(AH12<AH13,1,(IF(AH12=AH13,0.5,0)))),0)","v":0},{"$f":"AB13+AE13+AH13-AB12-AE12-AH12","v":0},{"$f":"+AC13+AF13","v":0},{"$f":"IF(AK13>2,AK13,AC13+AF13+AI13)","v":0},null,{"$f":"IF(AL12+AL13>=1.5,(IF(AL12<AL13,3,0)),0)","v":0},null,{"$f":"IF((AN12+AN13)=3,(AK13+AN13),0)","v":0},{"$f":"IF(AP13+AP14=0,\"\",IF(AD13=$AG$12,\"1st\",\"\"))","v":""}]
[]
[null,null,7,7,".",null,null,{"$f":"IF(G15+G16>0,(IF(G15>G16,1,(IF(G15=G16,0.5,0)))),0)","v":0},{"$f":"(U15*1000)+O15","v":0},null,{"$f":"IF(J15+J16>0,(IF(J15>J16,1,(IF(J15=J16,0.5,0)))),0)","v":0},{"$f":"LARGE(I15:I16,1)","v":0},null,{"$f":"IF(M15+M16>0,(IF(M15>M16,1,(IF(M15=M16,0.5,0)))),0)","v":0},{"$f":"G15+J15+M15-G16-J16-M16","v":0},{"$f":"+H15+K15","v":0},{"$f":"IF(P15>2,P15,H15+K15+N15)","v":0},null,{"$f":"IF(Q15+Q16>=1.5,(IF(Q15>Q16,3,0)),0)","v":0},null,{"$f":"IF((S15+S16)=3,(P15+S15),0)","v":0},{"$f":"IF(U15+U16=0,\"\",IF(I15=$L$15,\"1st\",\"\"))","v":""},null,8,null,".",null,null,{"$f":"IF(AB15+AB16>0,(IF(AB15>AB16,1,(IF(AB15=AB16,0.5,0)))),0)","v":0},{"$f":"(AP15*1000)+AJ15","v":0},null,{"$f":"IF(AE15+AE16>0,(IF(AE15>AE16,1,(IF(AE15=AE16,0.5,0)))),0)","v":0},{"$f":"LARGE(AD15:AD16,1)","v":0},null,{"$f":"IF(AH15+AH16>0,(IF(AH15>AH16,1,(IF(AH15=AH16,0.5,0)))),0)","v":0},{"$f":"AB15+AE15+AH15-AB16-AE16-AH16","v":0},{"$f":"+AC15+AF15","v":0},{"$f":"IF(AK15>2,AK15,AC15+AF15+AI15)","v":0},null,{"$f":"IF(AL15+AL16>=1.5,(IF(AL15>AL16,3,0)),0)","v":0},null,{"$f":"IF((AN15+AN16)=3,(AK15+AN15),0)","v":0},{"$f":"IF(AP15+AP16=0,\"\",IF(AD15=$AG$15,\"1st\",\"\"))","v":""}]
[{"$nulls":3},8,".",null,null,{"$f":"IF(G15+G16>0,(IF(G15<G16,1,(IF(G15=G16,0.5,0)))),0)","v":0},{"$f":"(U16*1000)+O16","v":0},null,{"$f":"IF(J15+J16>0,(IF(J15<J16,1,(IF(J15=J16,0.5,0)))),0)","v":0},null,null,{"$f":"IF(M15+M16>0,(IF(M15<M16,1,(IF(M15=M16,0.5,0)))),0)","v":0},{"$f":"G16+J16+M16-G15-J15-M15","v":0},{"$f":"+H16+K16","v":0},{"$f":"IF(P16>2,P16,H16+K16+N16)","v":0},null,{"$f":"IF(Q15+Q16>=1.5,(IF(Q15<Q16,3,0)),0)","v":0},null,{"$f":"IF((S15+S16)=3,(P16+S16),0)","v":0},{"$f":"IF(U16+U17=0,\"\",IF(I16=$L$15,\"1st\",\"\"))","v":""},{"$nulls":3},".",null,null,{"$f":"IF(AB15+AB16>0,(IF(AB15<AB16,1,(IF(AB15=AB16,0.5,0)))),0)","v":0},{"$f":"(AP16*1000)+AJ16","v":0},null,{"$f":"IF(AE15+AE16>0,(IF(AE15<AE16,1,(IF(AE15=AE16,0.5,0)))),0)","v":0},null,null,{"$f":"IF(AH15+AH16>0,(IF(AH15<AH16,1,(IF(AH15=AH16,0.5,0)))),0)","v":0},{"$f":"AB16+AE16+AH16-AB15-AE15-AH15","v":0},{"$f":"+AC16+AF16","v":0},{"$f":"IF(AK16>2,AK16,AC16+AF16+AI16)","v":0},null,{"$f":"IF(AL15+AL16>=1.5,(IF(AL15<AL16,3,0)),0)","v":0},null,{"$f":"IF((AN15+AN16)=3,(AK16+AN16),0)","v":0},{"$f":"IF(AP16+AP17=0,\"\",IF(AD16=$AG$15,\"1st\",\"\"))","v":""}]
[null,null,"S E M I  F I N A L "]
[null,null,1,9,"Q/F 1",null,null,{"$f":"IF(G18+G19>0,(IF(G18>G19,1,(IF(G18=G19,0.5,0)))),0)","v":0},{"$f":"(U18*1000)+O18","v":0},null,{"$f":"IF(J18+J19>0,(IF(J18>J19,1,(IF(J18=J19,0.5,0)))),0)","v":0},{"$f":"LARGE(I18:I19,1)","v":0},null,{"$f":"IF(M18+M19>0,(IF(M18>M19,1,(IF(M18=M19,0.5,0)))),0)","v":0},{"$f":"G18+J18+M18-G19-J19-M19","v":0},{"$f":"+H18+K18","v":0},{"$f":"IF(P18>2,P18,H18+K18+N18)","v":0},null,{"$f":"IF(Q18+Q19>=1.5,(IF(Q18>Q19,3,0)),0)","v":0},null,{"$f":"IF((S18+S19)=3,(P18+S18),0)","v":0},{"$f":"IF(U18+U19=0,\"\",IF(I18=$L$18,\"1st\",\"\"))","v":""},null,2,null,"Q/F 3",null,null,{"$f":"IF(AB18+AB19>0,(IF(AB18>AB19,1,(IF(AB18=AB19,0.5,0)))),0)","v":0},{"$f":"(AP18*1000)+AJ18","v":0},null,{"$f":"IF(AE18+AE19>0,(IF(AE18>AE19,1,(IF(AE18=AE19,0.5,0)))),0)","v":0},{"$f":"LARGE(AD18:AD19,1)","v":0},null,{"$f":"IF(AH18+AH19>0,(IF(AH18>AH19,1,(IF(AH18=AH19,0.5,0)))),0)","v":0},{"$f":"AB18+AE18+AH18-AB19-AE19-AH19","v":0},{"$f":"+AC18+AF18","v":0},{"$f":"IF(AK18>2,AK18,AC18+AF18+AI18)","v":0},null,{"$f":"IF(AL18+AL19>=1.5,(IF(AL18>AL19,3,0)),0)","v":0},null,{"$f":"IF((AN18+AN19)=3,(AK18+AN18),0)","v":0},{"$f":"IF(AP18+AP19=0,\"\",IF(AD18=$AG$18,\"1st\",\"\"))","v":""}]
[{"$nulls":3},10,"Q/F 2",null,null,{"$f":"IF(G18+G19>0,(IF(G18<G19,1,(IF(G18=G19,0.5,0)))),0)","v":0},{"$f":"(U19*1000)+O19","v":0},null,{"$f":"IF(J18+J19>0,(IF(J18<J19,1,(IF(J18=J19,0.5,0)))),0)","v":0},null,null,{"$f":"IF(M18+M19>0,(IF(M18<M19,1,(IF(M18=M19,0.5,0)))),0)","v":0},{"$f":"G19+J19+M19-G18-J18-M18","v":0},{"$f":"+H19+K19","v":0},{"$f":"IF(P19>2,P19,H19+K19+N19)","v":0},null,{"$f":"IF(Q18+Q19>=1.5,(IF(Q18<Q19,3,0)),0)","v":0},null,{"$f":"IF((S18+S19)=3,(P19+S19),0)","v":0},{"$f":"IF(U19+U20=0,\"\",IF(I19=$L$18,\"1st\",\"\"))","v":""},{"$nulls":3},"Q/F 4",null,null,{"$f":"IF(AB18+AB19>0,(IF(AB18<AB19,1,(IF(AB18=AB19,0.5,0)))),0)","v":0},{"$f":"(AP19*1000)+AJ19","v":0},null,{"$f":"IF(AE18+AE19>0,(IF(AE18<AE19,1,(IF(AE18=AE19,0.5,0)))),0)","v":0},null,null,{"$f":"IF(AH18+AH19>0,(IF(AH18<AH19,1,(IF(AH18=AH19,0.5,0)))),0)","v":0},{"$f":"AB19+AE19+AH19-AB18-AE18-AH18","v":0},{"$f":"+AC19+AF19","v":0},{"$f":"IF(AK19>2,AK19,AC19+AF19+AI19)","v":0},null,{"$f":"IF(AL18+AL19>=1.5,(IF(AL18<AL19,3,0)),0)","v":0},null,{"$f":"IF((AN18+AN19)=3,(AK19+AN19),0)","v":0},{"$f":"IF(AP19+AP20=0,\"\",IF(AD19=$AG$18,\"1st\",\"\"))","v":""}]
[]
[null,null,3,11,".",null,null,{"$f":"IF(G21+G22>0,(IF(G21>G22,1,(IF(G21=G22,0.5,0)))),0)","v":0},{"$f":"(U21*1000)+O21","v":0},null,{"$f":"IF(J21+J22>0,(IF(J21>J22,1,(IF(J21=J22,0.5,0)))),0)","v":0},{"$f":"LARGE(I21:I22,1)","v":0},null,{"$f":"IF(M21+M22>0,(IF(M21>M22,1,(IF(M21=M22,0.5,0)))),0)","v":0},{"$f":"G21+J21+M21-G22-J22-M22","v":0},{"$f":"+H21+K21","v":0},{"$f":"IF(P21>2,P21,H21+K21+N21)","v":0},null,{"$f":"IF(Q21+Q22>=1.5,(IF(Q21>Q22,3,0)),0)","v":0},null,{"$f":"IF((S21+S22)=3,(P21+S21),0)","v":0},{"$f":"IF(U21+U22=0,\"\",IF(I21=$L$21,\"1st\",\"\"))","v":""},null,4,null,".",null,null,{"$f":"IF(AB21+AB22>0,(IF(AB21>AB22,1,(IF(AB21=AB22,0.5,0)))),0)","v":0},{"$f":"(AP21*1000)+AJ21","v":0},null,{"$f":"IF(AE21+AE22>0,(IF(AE21>AE22,1,(IF(AE21=AE22,0.5,0)))),0)","v":0},{"$f":"LARGE(AD21:AD22,1)","v":0},null,{"$f":"IF(AH21+AH22>0,(IF(AH21>AH22,1,(IF(AH21=AH22,0.5,0)))),0)","v":0},{"$f":"AB21+AE21+AH21-AB22-AE22-AH22","v":0},{"$f":"+AC21+AF21","v":0},{"$f":"IF(AK21>2,AK21,AC21+AF21+AI21)","v":0},null,{"$f":"IF(AL21+AL22>=1.5,(IF(AL21>AL22,3,0)),0)","v":0},null,{"$f":"IF((AN21+AN22)=3,(AK21+AN21),0)","v":0},{"$f":"IF(AP21+AP22=0,\"\",IF(AD21=$AG$21,\"1st\",\"\"))","v":""}]
[{"$nulls":3},12,".",null,null,{"$f":"IF(G21+G22>0,(IF(G21<G22,1,(IF(G21=G22,0.5,0)))),0)","v":0},{"$f":"(U22*1000)+O22","v":0},null,{"$f":"IF(J21+J22>0,(IF(J21<J22,1,(IF(J21=J22,0.5,0)))),0)","v":0},null,null,{"$f":"IF(M21+M22>0,(IF(M21<M22,1,(IF(M21=M22,0.5,0)))),0)","v":0},{"$f":"G22+J22+M22-G21-J21-M21","v":0},{"$f":"+H22+K22","v":0},{"$f":"IF(P22>2,P22,H22+K22+N22)","v":0},null,{"$f":"IF(Q21+Q22>=1.5,(IF(Q21<Q22,3,0)),0)","v":0},null,{"$f":"IF((S21+S22)=3,(P22+S22),0)","v":0},{"$f":"IF(U22+U23=0,\"\",IF(I22=$L$21,\"1st\",\"\"))","v":""},{"$nulls":3},".",null,null,{"$f":"IF(AB21+AB22>0,(IF(AB21<AB22,1,(IF(AB21=AB22,0.5,0)))),0)","v":0},{"$f":"(AP22*1000)+AJ22","v":0},null,{"$f":"IF(AE21+AE22>0,(IF(AE21<AE22,1,(IF(AE21=AE22,0.5,0)))),0)","v":0},null,null,{"$f":"IF(AH21+AH22>0,(IF(AH21<AH22,1,(IF(AH21=AH22,0.5,0)))),0)","v":0},{"$f":"AB22+AE22+AH22-AB21-AE21-AH21","v":0},{"$f":"+AC22+AF22","v":0},{"$f":"IF(AK22>2,AK22,AC22+AF22+AI22)","v":0},null,{"$f":"IF(AL21+AL22>=1.5,(IF(AL21<AL22,3,0)),0)","v":0},null,{"$f":"IF((AN21+AN22)=3,(AK22+AN22),0)","v":0},{"$f":"IF(AP22+AP23=0,\"\",IF(AD22=$AG$21,\"1st\",\"\"))","v":""}]
[null,null,"S E M I  F I N A L "]
[null,null,1,13,".",null,null,{"$f":"IF(G24+G25>0,(IF(G24>G25,1,(IF(G24=G25,0.5,0)))),0)","v":0},{"$f":"(U24*1000)+O24","v":0},null,{"$f":"IF(J24+J25>0,(IF(J24>J25,1,(IF(J24=J25,0.5,0)))),0)","v":0},{"$f":"LARGE(I24:I25,1)","v":0},null,{"$f":"IF(M24+M25>0,(IF(M24>M25,1,(IF(M24=M25,0.5,0)))),0)","v":0},{"$f":"G24+J24+M24-G25-J25-M25","v":0},{"$f":"+H24+K24","v":0},{"$f":"IF(P24>2,P24,H24+K24+N24)","v":0},null,{"$f":"IF(Q24+Q25>=1.5,(IF(Q24>Q25,3,0)),0)","v":0},null,{"$f":"IF((S24+S25)=3,(P24+S24),0)","v":0},{"$f":"IF(U24+U25=0,\"\",IF(I24=$L$24,\"1st\",\"\"))","v":""},null,2,null,".",null,null,{"$f":"IF(AB24+AB25>0,(IF(AB24>AB25,1,(IF(AB24=AB25,0.5,0)))),0)","v":0},{"$f":"(AP24*1000)+AJ24","v":0},null,{"$f":"IF(AE24+AE25>0,(IF(AE24>AE25,1,(IF(AE24=AE25,0.5,0)))),0)","v":0},{"$f":"LARGE(AD24:AD25,1)","v":0},null,{"$f":"IF(AH24+AH25>0,(IF(AH24>AH25,1,(IF(AH24=AH25,0.5,0)))),0)","v":0},{"$f":"AB24+AE24+AH24-AB25-AE25-AH25","v":0},{"$f":"+AC24+AF24","v":0},{"$f":"IF(AK24>2,AK24,AC24+AF24+AI24)","v":0},null,{"$f":"IF(AL24+AL25>=1.5,(IF(AL24>AL25,3,0)),0)","v":0},null,{"$f":"IF((AN24+AN25)=3,(AK24+AN24),0)","v":0},{"$f":"IF(AP24+AP25=0,\"\",IF(AD24=$AG$24,\"1st\",\"\"))","v":""}]
[{"$nulls":3},14,".",null,null,{"$f":"IF(G24+G25>0,(IF(G24<G25,1,(IF(G24=G25,0.5,0)))),0)","v":0},{"$f":"(U25*1000)+O25","v":0},null,{"$f":"IF(J24+J25>0,(IF(J24<J25,1,(IF(J24=J25,0.5,0)))),0)","v":0},null,null,{"$f":"IF(M24+M25>0,(IF(M24<M25,1,(IF(M24=M25,0.5,0)))),0)","v":0},{"$f":"G25+J25+M25-G24-J24-M24","v":0},{"$f":"+H25+K25","v":0},{"$f":"IF(P25>2,P25,H25+K25+N25)","v":0},null,{"$f":"IF(Q24+Q25>=1.5,(IF(Q24<Q25,3,0)),0)","v":0},null,{"$f":"IF((S24+S25)=3,(P25+S25),0)","v":0},{"$f":"IF(U25+U26=0,\"\",IF(I25=$L$24,\"1st\",\"\"))","v":""},{"$nulls":3},".",null,null,{"$f":"IF(AB24+AB25>0,(IF(AB24<AB25,1,(IF(AB24=AB25,0.5,0)))),0)","v":0},{"$f":"(AP25*1000)+AJ25","v":0},null,{"$f":"IF(AE24+AE25>0,(IF(AE24<AE25,1,(IF(AE24=AE25,0.5,0)))),0)","v":0},null,null,{"$f":"IF(AH24+AH25>0,(IF(AH24<AH25,1,(IF(AH24=AH25,0.5,0)))),0)","v":0},{"$f":"AB25+AE25+AH25-AB24-AE24-AH24","v":0},{"$f":"+AC25+AF25","v":0},{"$f":"IF(AK25>2,AK25,AC25+AF25+AI25)","v":0},null,{"$f":"IF(AL24+AL25>=1.5,(IF(AL24<AL25,3,0)),0)","v":0},null,{"$f":"IF((AN24+AN25)=3,(AK25+AN25),0)","v":0},{"$f":"IF(AP25+AP26=0,\"\",IF(AD25=$AG$24,\"1st\",\"\"))","v":""}]
[null,null,"F I N A L "]
[null,null,1,13,"S/F 1",null,null,{"$f":"IF(G27+G28>0,(IF(G27>G28,1,(IF(G27=G28,0.5,0)))),0)","v":0},{"$f":"(U27*1000)+O27","v":0},null,{"$f":"IF(J27+J28>0,(IF(J27>J28,1,(IF(J27=J28,0.5,0)))),0)","v":0},{"$f":"LARGE(I27:I28,1)","v":0},null,{"$f":"IF(M27+M28>0,(IF(M27>M28,1,(IF(M27=M28,0.5,0)))),0)","v":0},{"$f":"G27+J27+M27-G28-J28-M28","v":0},{"$f":"+H27+K27","v":0},{"$f":"IF(P27>2,P27,H27+K27+N27)","v":0},null,{"$f":"IF(Q27+Q28>=1.5,(IF(Q27>Q28,3,0)),0)","v":0},null,{"$f":"IF((S27+S28)=3,(P27+S27),0)","v":0},{"$f":"IF(U27+U28=0,\"\",IF(I27=$L$27,\"1st\",\"\"))","v":""}]
[{"$nulls":3},14,"S/F 2",null,null,{"$f":"IF(G27+G28>0,(IF(G27<G28,1,(IF(G27=G28,0.5,0)))),0)","v":0},{"$f":"(U28*1000)+O28","v":0},null,{"$f":"IF(J27+J28>0,(IF(J27<J28,1,(IF(J27=J28,0.5,0)))),0)","v":0},null,null,{"$f":"IF(M27+M28>0,(IF(M27<M28,1,(IF(M27=M28,0.5,0)))),0)","v":0},{"$f":"G28+J28+M28-G27-J27-M27","v":0},{"$f":"+H28+K28","v":0},{"$f":"IF(P28>2,P28,H28+K28+N28)","v":0},null,{"$f":"IF(Q27+Q28>=1.5,(IF(Q27<Q28,3,0)),0)","v":0},null,{"$f":"IF((S27+S28)=3,(P28+S28),0)","v":0},{"$f":"IF(U28+U29=0,\"\",IF(I28=$L$27,\"1st\",\"\"))","v":""}]

{"sheet":"36","index":47,"n_rows":40,"n_cols":11,"rows_kept":40,"hidden":true,"merged":[[0,2,0,10],[1,2,1,10],[2,3,2,4],[2,5,2,6],[2,7,2,8],[2,9,2,10],[4,1,7,1],[8,1,11,1],[12,1,15,1],[16,1,19,1],[20,1,23,1],[24,1,27,1],[28,1,31,1],[32,1,35,1],[36,1,39,1]]}
[null,null,{"$f":"Entries!$A$1","v":"2018 District 5 - Mixed Pairs"}]
[null,null,"DRAW"]
[{"$nulls":5},"R O U N D  1",null,"R O U N D  2",null,"R O U N D  3"]
[null,"Section","Team No.","Lead","Skip","Rink","Versus","Rink","Versus","Rink","Versus"]
[null,1,1,{"$f":"Entries!$Q$5","v":0},{"$f":"Entries!$R$5","v":0},1,2,10,3,19,4]
[null,null,2,{"$f":"Entries!$Q$6","v":0},{"$f":"Entries!$R$6","v":0},1,1,11,4,20,3]
[null,null,3,{"$f":"Entries!$Q$7","v":0},{"$f":"Entries!$R$7","v":0},2,4,10,1,20,2]
[null,null,4,{"$f":"Entries!$Q$8","v":0},{"$f":"Entries!$R$8","v":0},2,3,11,2,19,1]
[null,2,5,{"$f":"Entries!$Q$9","v":0},{"$f":"Entries!$R$9","v":0},3,6,8,7,17,8]
[null,null,6,{"$f":"Entries!$Q$10","v":0},{"$f":"Entries!$R$10","v":0},3,5,9,8,18,7]
[null,null,7,{"$f":"Entries!$Q$11","v":0},{"$f":"Entries!$R$11","v":0},4,8,8,5,18,6]
[null,null,8,{"$f":"Entries!$Q$12","v":0},{"$f":"Entries!$R$12","v":0},4,7,9,6,17,5]
[null,3,9,{"$f":"Entries!$Q$13","v":0},{"$f":"Entries!$R$13","v":0},5,10,12,11,15,12]
[null,null,10,{"$f":"Entries!$Q$14","v":0},{"$f":"Entries!$R$14","v":0},5,9,13,12,16,11]
[null,null,11,{"$f":"Entries!$Q$15","v":0},{"$f":"Entries!$R$15","v":0},6,12,12,9,16,10]
[null,null,12,{"$f":"Entries!$Q$16","v":0},{"$f":"Entries!$R$16","v":0},6,11,13,10,15,9]
[null,4,13,{"$f":"Entries!$Q$17","v":0},{"$f":"Entries!$R$17","v":0},8,14,17,15,3,16]
[null,null,14,{"$f":"Entries!$Q$18","v":0},{"$f":"Entries!$R$18","v":0},8,13,18,16,4,15]
[null,null,15,{"$f":"Entries!$Q$19","v":0},{"$f":"Entries!$R$19","v":0},9,16,17,13,4,14]
[null,null,16,{"$f":"Entries!$Q$20","v":0},{"$f":"Entries!$R$20","v":0},9,15,18,14,3,13]
[null,5,17,{"$f":"Entries!$Q$21","v":0},{"$f":"Entries!$R$21","v":0},10,18,15,19,1,20]
[null,null,18,{"$f":"Entries!$Q$22","v":0},{"$f":"Entries!$R$22","v":0},10,17,16,20,2,19]
[null,null,19,{"$f":"Entries!$Q$23","v":0},{"$f":"Entries!$R$23","v":0},11,20,15,17,2,18]
[null,null,20,{"$f":"Entries!$Q$24","v":0},{"$f":"Entries!$R$24","v":0},11,19,16,18,1,17]
[null,6,21,{"$f":"Entries!$Q$25","v":0},{"$f":"Entries!$R$25","v":0},12,22,19,23,5,24]
[null,null,22,{"$f":"Entries!$Q$26","v":0},{"$f":"Entries!$R$26","v":0},12,21,20,24,6,23]
[null,null,23,{"$f":"Entries!$Q$27","v":0},{"$f":"Entries!$R$27","v":0},13,24,19,21,6,22]
[null,null,24,{"$f":"Entries!$Q$28","v":0},{"$f":"Entries!$R$28","v":0},13,23,20,22,5,21]
[null,7,25,{"$f":"Entries!$Q$29","v":0},{"$f":"Entries!$R$29","v":0},15,26,3,27,10,28]
[null,null,26,{"$f":"Entries!$Q$30","v":0},{"$f":"Entries!$R$30","v":0},15,25,4,28,11,27]
[null,null,27,{"$f":"Entries!$Q$31","v":0},{"$f":"Entries!$R$31","v":0},16,28,3,25,11,26]
[null,null,28,{"$f":"Entries!$Q$32","v":0},{"$f":"Entries!$R$32","v":0},16,27,4,26,10,25]
[null,8,29,{"$f":"Entries!$Q$33","v":0},{"$f":"Entries!$R$33","v":0},17,30,1,31,12,32]
[null,null,30,{"$f":"Entries!$Q$34","v":0},{"$f":"Entries!$R$34","v":0},17,29,2,32,13,31]
[null,null,31,{"$f":"Entries!$Q$35","v":0},{"$f":"Entries!$R$35","v":0},18,32,1,29,13,30]
[null,null,32,{"$f":"Entries!$Q$36","v":0},{"$f":"Entries!$R$36","v":0},18,31,2,30,12,29]
[null,9,33,{"$f":"Entries!$Q$37","v":0},{"$f":"Entries!$R$37","v":0},19,34,5,35,8,36]
[null,null,34,{"$f":"Entries!$Q$38","v":0},{"$f":"Entries!$R$38","v":0},19,33,6,36,9,35]
[null,null,35,{"$f":"Entries!$Q$39","v":0},{"$f":"Entries!$R$39","v":0},20,36,5,33,9,34]
[null,null,36,{"$f":"Entries!$Q$40","v":0},{"$f":"Entries!$R$40","v":0},20,35,6,34,8,33]

{"sheet":"35","index":48,"n_rows":39,"n_cols":11,"rows_kept":39,"hidden":true,"merged":[[0,2,0,10],[1,2,1,10],[2,3,2,4],[2,5,2,6],[2,7,2,8],[2,9,2,10],[4,1,7,1],[8,1,11,1],[12,1,15,1],[16,1,19,1],[20,1,23,1],[24,1,27,1],[28,1,31,1],[32,1,35,1],[36,1,39,1]]}
[null,null,{"$f":"Entries!$A$1","v":"2018 District 5 - Mixed Pairs"}]
[null,null,"DRAW"]
[{"$nulls":5},"R O U N D  1",null,"R O U N D  2",null,"R O U N D  3"]
[null,"Section","Team No.","Lead","Skip","Rink","Versus","Rink","Versus","Rink","Versus"]
[null,1,1,{"$f":"Entries!$Q$5","v":0},{"$f":"Entries!$R$5","v":0},1,2,10,3,19,4]
[null,null,2,{"$f":"Entries!$Q$6","v":0},{"$f":"Entries!$R$6","v":0},1,1,11,4,20,3]
[null,null,3,{"$f":"Entries!$Q$7","v":0},{"$f":"Entries!$R$7","v":0},2,4,10,1,20,2]
[null,null,4,{"$f":"Entries!$Q$8","v":0},{"$f":"Entries!$R$8","v":0},2,3,11,2,19,1]
[null,2,5,{"$f":"Entries!$Q$9","v":0},{"$f":"Entries!$R$9","v":0},3,6,8,7,17,8]
[null,null,6,{"$f":"Entries!$Q$10","v":0},{"$f":"Entries!$R$10","v":0},3,5,9,8,18,7]
[null,null,7,{"$f":"Entries!$Q$11","v":0},{"$f":"Entries!$R$11","v":0},4,8,8,5,18,6]
[null,null,8,{"$f":"Entries!$Q$12","v":0},{"$f":"Entries!$R$12","v":0},4,7,9,6,17,5]
[null,3,9,{"$f":"Entries!$Q$13","v":0},{"$f":"Entries!$R$13","v":0},5,10,12,11,15,12]
[null,null,10,{"$f":"Entries!$Q$14","v":0},{"$f":"Entries!$R$14","v":0},5,9,13,12,16,11]
[null,null,11,{"$f":"Entries!$Q$15","v":0},{"$f":"Entries!$R$15","v":0},6,12,12,9,16,10]
[null,null,12,{"$f":"Entries!$Q$16","v":0},{"$f":"Entries!$R$16","v":0},6,11,13,10,15,9]
[null,4,13,{"$f":"Entries!$Q$17","v":0},{"$f":"Entries!$R$17","v":0},8,14,17,15,3,16]
[null,null,14,{"$f":"Entries!$Q$18","v":0},{"$f":"Entries!$R$18","v":0},8,13,18,16,4,15]
[null,null,15,{"$f":"Entries!$Q$19","v":0},{"$f":"Entries!$R$19","v":0},9,16,17,13,4,14]
[null,null,16,{"$f":"Entries!$Q$20","v":0},{"$f":"Entries!$R$20","v":0},9,15,18,14,3,13]
[null,5,17,{"$f":"Entries!$Q$21","v":0},{"$f":"Entries!$R$21","v":0},10,18,7,19,1,20]
[null,null,18,{"$f":"Entries!$Q$22","v":0},{"$f":"Entries!$R$22","v":0},10,17,14,20,2,19]
[null,null,19,{"$f":"Entries!$Q$23","v":0},{"$f":"Entries!$R$23","v":0},11,20,7,17,2,18]
[null,null,20,{"$f":"Entries!$Q$24","v":0},{"$f":"Entries!$R$24","v":0},11,19,14,18,1,17]
[null,6,21,{"$f":"Entries!$Q$25","v":0},{"$f":"Entries!$R$25","v":0},12,22,19,23,7,24]
[null,null,22,{"$f":"Entries!$Q$26","v":0},{"$f":"Entries!$R$26","v":0},12,21,20,24,14,23]
[null,null,23,{"$f":"Entries!$Q$27","v":0},{"$f":"Entries!$R$27","v":0},13,24,19,21,14,22]
[null,null,24,{"$f":"Entries!$Q$28","v":0},{"$f":"Entries!$R$28","v":0},13,23,20,22,7,21]
[null,7,25,{"$f":"Entries!$Q$29","v":0},{"$f":"Entries!$R$29","v":0},15,26,3,27,10,28]
[null,null,26,{"$f":"Entries!$Q$30","v":0},{"$f":"Entries!$R$30","v":0},15,25,4,28,11,27]
[null,null,27,{"$f":"Entries!$Q$31","v":0},{"$f":"Entries!$R$31","v":0},16,28,3,25,11,26]
[null,null,28,{"$f":"Entries!$Q$32","v":0},{"$f":"Entries!$R$32","v":0},16,27,4,26,10,25]
[null,8,29,{"$f":"Entries!$Q$33","v":0},{"$f":"Entries!$R$33","v":0},17,30,1,31,12,32]
[null,null,30,{"$f":"Entries!$Q$34","v":0},{"$f":"Entries!$R$34","v":0},17,29,2,32,13,31]
[null,null,31,{"$f":"Entries!$Q$35","v":0},{"$f":"Entries!$R$35","v":0},18,32,1,29,13,30]
[null,null,32,{"$f":"Entries!$Q$36","v":0},{"$f":"Entries!$R$36","v":0},18,31,2,30,12,29]
[null,9,33,{"$f":"Entries!$Q$37","v":0},{"$f":"Entries!$R$37","v":0},19,34,5,35,null,"BYE"]
[null,null,34,{"$f":"Entries!$Q$38","v":0},{"$f":"Entries!$R$38","v":0},19,33,null,"BYE",9,35]
[null,null,35,{"$f":"Entries!$Q$39","v":0},{"$f":"Entries!$R$39","v":0},null,"BYE",5,33,9,34]

{"sheet":"34","index":49,"n_rows":39,"n_cols":11,"rows_kept":39,"hidden":true,"merged":[[0,2,0,10],[1,2,1,10],[2,3,2,4],[2,5,2,6],[2,7,2,8],[2,9,2,10],[4,1,7,1],[8,1,11,1],[12,1,15,1],[16,1,19,1],[20,1,23,1],[24,1,27,1],[28,1,31,1],[32,1,35,1],[36,1,39,1]]}
[null,null,{"$f":"Entries!$A$1","v":"2018 District 5 - Mixed Pairs"}]
[null,null,"DRAW"]
[{"$nulls":5},"R O U N D  1",null,"R O U N D  2",null,"R O U N D  3"]
[null,"Section","Team No.","Lead","Skip","Rink","Versus","Rink","Versus","Rink","Versus"]
[null,1,1,{"$f":"Entries!$Q$5","v":0},{"$f":"Entries!$R$5","v":0},1,2,10,3,19,4]
[null,null,2,{"$f":"Entries!$Q$6","v":0},{"$f":"Entries!$R$6","v":0},1,1,11,4,20,3]
[null,null,3,{"$f":"Entries!$Q$7","v":0},{"$f":"Entries!$R$7","v":0},2,4,10,1,20,2]
[null,null,4,{"$f":"Entries!$Q$8","v":0},{"$f":"Entries!$R$8","v":0},2,3,11,2,19,1]
[null,2,5,{"$f":"Entries!$Q$9","v":0},{"$f":"Entries!$R$9","v":0},3,6,8,7,17,8]
[null,null,6,{"$f":"Entries!$Q$10","v":0},{"$f":"Entries!$R$10","v":0},3,5,9,8,18,7]
[null,null,7,{"$f":"Entries!$Q$11","v":0},{"$f":"Entries!$R$11","v":0},4,8,8,5,18,6]
[null,null,8,{"$f":"Entries!$Q$12","v":0},{"$f":"Entries!$R$12","v":0},4,7,9,6,17,5]
[null,3,9,{"$f":"Entries!$Q$13","v":0},{"$f":"Entries!$R$13","v":0},5,10,12,11,15,12]
[null,null,10,{"$f":"Entries!$Q$14","v":0},{"$f":"Entries!$R$14","v":0},5,9,13,12,16,11]
[null,null,11,{"$f":"Entries!$Q$15","v":0},{"$f":"Entries!$R$15","v":0},6,12,12,9,16,10]
[null,null,12,{"$f":"Entries!$Q$16","v":0},{"$f":"Entries!$R$16","v":0},6,11,13,10,15,9]
[null,4,13,{"$f":"Entries!$Q$17","v":0},{"$f":"Entries!$R$17","v":0},8,14,17,15,3,16]
[null,null,14,{"$f":"Entries!$Q$18","v":0},{"$f":"Entries!$R$18","v":0},8,13,18,16,4,15]
[null,null,15,{"$f":"Entries!$Q$19","v":0},{"$f":"Entries!$R$19","v":0},9,16,17,13,4,14]
[null,null,16,{"$f":"Entries!$Q$20","v":0},{"$f":"Entries!$R$20","v":0},9,15,18,14,3,13]
[null,5,17,{"$f":"Entries!$Q$21","v":0},{"$f":"Entries!$R$21","v":0},10,18,7,19,1,20]
[null,null,18,{"$f":"Entries!$Q$22","v":0},{"$f":"Entries!$R$22","v":0},10,17,14,20,2,19]
[null,null,19,{"$f":"Entries!$Q$23","v":0},{"$f":"Entries!$R$23","v":0},11,20,7,17,2,18]
[null,null,20,{"$f":"Entries!$Q$24","v":0},{"$f":"Entries!$R$24","v":0},11,19,14,18,1,17]
[null,6,21,{"$f":"Entries!$Q$25","v":0},{"$f":"Entries!$R$25","v":0},12,22,19,23,7,24]
[null,null,22,{"$f":"Entries!$Q$26","v":0},{"$f":"Entries!$R$26","v":0},12,21,20,24,14,23]
[null,null,23,{"$f":"Entries!$Q$27","v":0},{"$f":"Entries!$R$27","v":0},13,24,19,21,14,22]
[null,null,24,{"$f":"Entries!$Q$28","v":0},{"$f":"Entries!$R$28","v":0},13,23,20,22,7,21]
[null,7,25,{"$f":"Entries!$Q$29","v":0},{"$f":"Entries!$R$29","v":0},15,26,3,27,10,28]
[null,null,26,{"$f":"Entries!$Q$30","v":0},{"$f":"Entries!$R$30","v":0},15,25,4,28,11,27]
[null,null,27,{"$f":"Entries!$Q$31","v":0},{"$f":"Entries!$R$31","v":0},16,28,3,25,11,26]
[null,null,28,{"$f":"Entries!$Q$32","v":0},{"$f":"Entries!$R$32","v":0},16,27,4,26,10,25]
[null,8,29,{"$f":"Entries!$Q$33","v":0},{"$f":"Entries!$R$33","v":0},17,30,2,31,null,"BYE"]
[null,null,30,{"$f":"Entries!$Q$34","v":0},{"$f":"Entries!$R$34","v":0},17,29,null,"BYE",13,31]
[null,null,31,{"$f":"Entries!$Q$35","v":0},{"$f":"Entries!$R$35","v":0},null,"BYE",2,29,13,30]
[]
[null,9,32,{"$f":"Entries!$Q$36","v":0},{"$f":"Entries!$R$36","v":0},19,33,5,34,null,"BYE"]
[null,null,33,{"$f":"Entries!$Q$37","v":0},{"$f":"Entries!$R$37","v":0},19,32,null,"BYE",9,34]
[null,null,34,{"$f":"Entries!$Q$38","v":0},{"$f":"Entries!$R$38","v":0},null,"BYE",5,32,9,33]

{"sheet":"33","index":50,"n_rows":39,"n_cols":11,"rows_kept":39,"hidden":true,"merged":[[0,2,0,10],[1,2,1,10],[2,3,2,4],[2,5,2,6],[2,7,2,8],[2,9,2,10],[4,1,7,1],[8,1,11,1],[12,1,15,1],[16,1,19,1],[20,1,23,1],[24,1,27,1],[28,1,31,1],[32,1,35,1],[36,1,39,1]]}
[null,null,{"$f":"Entries!$A$1","v":"2018 District 5 - Mixed Pairs"}]
[null,null,"DRAW"]
[{"$nulls":5},"R O U N D  1",null,"R O U N D  2",null,"R O U N D  3"]
[null,"Section","Team No.","Lead","Skip","Rink","Versus","Rink","Versus","Rink","Versus"]
[null,1,1,{"$f":"Entries!$Q$5","v":0},{"$f":"Entries!$R$5","v":0},1,2,10,3,19,4]
[null,null,2,{"$f":"Entries!$Q$6","v":0},{"$f":"Entries!$R$6","v":0},1,1,11,4,20,3]
[null,null,3,{"$f":"Entries!$Q$7","v":0},{"$f":"Entries!$R$7","v":0},2,4,10,1,20,2]
[null,null,4,{"$f":"Entries!$Q$8","v":0},{"$f":"Entries!$R$8","v":0},2,3,11,2,19,1]
[null,2,5,{"$f":"Entries!$Q$9","v":0},{"$f":"Entries!$R$9","v":0},3,6,8,7,17,8]
[null,null,6,{"$f":"Entries!$Q$10","v":0},{"$f":"Entries!$R$10","v":0},3,5,9,8,18,7]
[null,null,7,{"$f":"Entries!$Q$11","v":0},{"$f":"Entries!$R$11","v":0},4,8,8,5,18,6]
[null,null,8,{"$f":"Entries!$Q$12","v":0},{"$f":"Entries!$R$12","v":0},4,7,9,6,17,5]
[null,3,9,{"$f":"Entries!$Q$13","v":0},{"$f":"Entries!$R$13","v":0},5,10,12,11,15,12]
[null,null,10,{"$f":"Entries!$Q$14","v":0},{"$f":"Entries!$R$14","v":0},5,9,13,12,16,11]
[null,null,11,{"$f":"Entries!$Q$15","v":0},{"$f":"Entries!$R$15","v":0},6,12,12,9,16,10]
[null,null,12,{"$f":"Entries!$Q$16","v":0},{"$f":"Entries!$R$16","v":0},6,11,13,10,15,9]
[null,4,13,{"$f":"Entries!$Q$17","v":0},{"$f":"Entries!$R$17","v":0},8,14,17,15,3,16]
[null,null,14,{"$f":"Entries!$Q$18","v":0},{"$f":"Entries!$R$18","v":0},8,13,18,16,4,15]
[null,null,15,{"$f":"Entries!$Q$19","v":0},{"$f":"Entries!$R$19","v":0},9,16,17,13,4,14]
[null,null,16,{"$f":"Entries!$Q$20","v":0},{"$f":"Entries!$R$20","v":0},9,15,18,14,3,13]
[null,5,17,{"$f":"Entries!$Q$21","v":0},{"$f":"Entries!$R$21","v":0},10,18,7,19,1,20]
[null,null,18,{"$f":"Entries!$Q$22","v":0},{"$f":"Entries!$R$22","v":0},10,17,14,20,2,19]
[null,null,19,{"$f":"Entries!$Q$23","v":0},{"$f":"Entries!$R$23","v":0},11,20,7,17,2,18]
[null,null,20,{"$f":"Entries!$Q$24","v":0},{"$f":"Entries!$R$24","v":0},11,19,14,18,1,17]
[null,6,21,{"$f":"Entries!$Q$25","v":0},{"$f":"Entries!$R$25","v":0},12,22,19,23,7,24]
[null,null,22,{"$f":"Entries!$Q$26","v":0},{"$f":"Entries!$R$26","v":0},12,21,20,24,14,23]
[null,null,23,{"$f":"Entries!$Q$27","v":0},{"$f":"Entries!$R$27","v":0},13,24,19,21,14,22]
[null,null,24,{"$f":"Entries!$Q$28","v":0},{"$f":"Entries!$R$28","v":0},13,23,20,22,7,21]
[null,7,25,{"$f":"Entries!$Q$29","v":0},{"$f":"Entries!$R$29","v":0},15,26,3,27,null,"BYE"]
[null,null,26,{"$f":"Entries!$Q$30","v":0},{"$f":"Entries!$R$30","v":0},15,25,null,"BYE",11,27]
[null,null,27,{"$f":"Entries!$Q$31","v":0},{"$f":"Entries!$R$31","v":0},null,"BYE",3,25,11,26]
[]
[null,8,28,{"$f":"Entries!$Q$32","v":0},{"$f":"Entries!$R$32","v":0},17,29,2,30,null,"BYE"]
[null,null,29,{"$f":"Entries!$Q$33","v":0},{"$f":"Entries!$R$33","v":0},17,28,null,"BYE",13,30]
[null,null,30,{"$f":"Entries!$Q$34","v":0},{"$f":"Entries!$R$34","v":0},null,"BYE",2,28,13,29]
[]
[null,9,31,{"$f":"Entries!$Q$35","v":0},{"$f":"Entries!$R$35","v":0},19,32,5,33,null,"BYE"]
[null,null,32,{"$f":"Entries!$Q$36","v":0},{"$f":"Entries!$R$36","v":0},19,31,null,"BYE",9,33]
[null,null,33,{"$f":"Entries!$Q$37","v":0},{"$f":"Entries!$R$37","v":0},null,"BYE",5,31,9,32]

{"sheet":"32","index":51,"n_rows":36,"n_cols":11,"rows_kept":36,"hidden":true,"merged":[[0,2,0,10],[1,2,1,10],[2,3,2,4],[2,5,2,6],[2,7,2,8],[2,9,2,10],[4,1,7,1],[8,1,11,1],[12,1,15,1],[16,1,19,1],[20,1,23,1],[24,1,27,1],[28,1,31,1],[32,1,35,1]]}
[null,null,{"$f":"Entries!$A$1","v":"2018 District 5 - Mixed Pairs"}]
[null,null,"DRAW"]
[{"$nulls":5},"R O U N D  1",null,"R O U N D  2",null,"R O U N D  3"]
[null,"Section","Team No.","Lead","Skip","Rink","Versus","Rink","Versus","Rink","Versus"]
[null,1,1,{"$f":"Entries!$Q$5","v":0},{"$f":"Entries!$R$5","v":0},1,2,10,3,19,4]
[null,null,2,{"$f":"Entries!$Q$6","v":0},{"$f":"Entries!$R$6","v":0},1,1,11,4,20,3]
[null,null,3,{"$f":"Entries!$Q$7","v":0},{"$f":"Entries!$R$7","v":0},2,4,10,1,20,2]
[null,null,4,{"$f":"Entries!$Q$8","v":0},{"$f":"Entries!$R$8","v":0},2,3,11,2,19,1]
[null,2,5,{"$f":"Entries!$Q$9","v":0},{"$f":"Entries!$R$9","v":0},3,6,8,7,17,8]
[null,null,6,{"$f":"Entries!$Q$10","v":0},{"$f":"Entries!$R$10","v":0},3,5,9,8,18,7]
[null,null,7,{"$f":"Entries!$Q$11","v":0},{"$f":"Entries!$R$11","v":0},4,8,8,5,18,6]
[null,null,8,{"$f":"Entries!$Q$12","v":0},{"$f":"Entries!$R$12","v":0},4,7,9,6,17,5]
[null,3,9,{"$f":"Entries!$Q$13","v":0},{"$f":"Entries!$R$13","v":0},5,10,12,11,15,12]
[null,null,10,{"$f":"Entries!$Q$14","v":0},{"$f":"Entries!$R$14","v":0},5,9,13,12,16,11]
[null,null,11,{"$f":"Entries!$Q$15","v":0},{"$f":"Entries!$R$15","v":0},6,12,12,9,16,10]
[null,null,12,{"$f":"Entries!$Q$16","v":0},{"$f":"Entries!$R$16","v":0},6,11,13,10,15,9]
[null,4,13,{"$f":"Entries!$Q$17","v":0},{"$f":"Entries!$R$17","v":0},8,14,17,15,3,16]
[null,null,14,{"$f":"Entries!$Q$18","v":0},{"$f":"Entries!$R$18","v":0},8,13,18,16,4,15]
[null,null,15,{"$f":"Entries!$Q$19","v":0},{"$f":"Entries!$R$19","v":0},9,16,17,13,4,14]
[null,null,16,{"$f":"Entries!$Q$20","v":0},{"$f":"Entries!$R$20","v":0},9,15,18,14,3,13]
[null,5,17,{"$f":"Entries!$Q$21","v":0},{"$f":"Entries!$R$21","v":0},10,18,5,19,1,20]
[null,null,18,{"$f":"Entries!$Q$22","v":0},{"$f":"Entries!$R$22","v":0},10,17,6,20,2,19]
[null,null,19,{"$f":"Entries!$Q$23","v":0},{"$f":"Entries!$R$23","v":0},11,20,5,17,2,18]
[null,null,20,{"$f":"Entries!$Q$24","v":0},{"$f":"Entries!$R$24","v":0},11,19,6,18,1,17]
[null,6,21,{"$f":"Entries!$Q$25","v":0},{"$f":"Entries!$R$25","v":0},12,22,19,23,5,24]
[null,null,22,{"$f":"Entries!$Q$26","v":0},{"$f":"Entries!$R$26","v":0},12,21,20,24,6,23]
[null,null,23,{"$f":"Entries!$Q$27","v":0},{"$f":"Entries!$R$27","v":0},13,24,19,21,6,22]
[null,null,24,{"$f":"Entries!$Q$28","v":0},{"$f":"Entries!$R$28","v":0},13,23,20,22,5,21]
[null,7,25,{"$f":"Entries!$Q$29","v":0},{"$f":"Entries!$R$29","v":0},19,26,3,27,10,28]
[null,null,26,{"$f":"Entries!$Q$30","v":0},{"$f":"Entries!$R$30","v":0},19,25,4,28,11,27]
[null,null,27,{"$f":"Entries!$Q$31","v":0},{"$f":"Entries!$R$31","v":0},20,28,3,25,11,26]
[null,null,28,{"$f":"Entries!$Q$32","v":0},{"$f":"Entries!$R$32","v":0},20,27,4,26,10,25]
[null,8,29,{"$f":"Entries!$Q$33","v":0},{"$f":"Entries!$R$33","v":0},17,30,1,31,12,32]
[null,null,30,{"$f":"Entries!$Q$34","v":0},{"$f":"Entries!$R$34","v":0},17,29,2,32,13,31]
[null,null,31,{"$f":"Entries!$Q$35","v":0},{"$f":"Entries!$R$35","v":0},18,32,1,29,13,30]
[null,null,32,{"$f":"Entries!$Q$36","v":0},{"$f":"Entries!$R$36","v":0},18,31,2,30,12,29]

{"sheet":"31","index":52,"n_rows":35,"n_cols":11,"rows_kept":35,"hidden":true,"merged":[[0,2,0,10],[1,2,1,10],[2,3,2,4],[2,5,2,6],[2,7,2,8],[2,9,2,10],[4,1,7,1],[8,1,11,1],[12,1,15,1],[16,1,19,1],[20,1,23,1],[24,1,27,1],[28,1,31,1],[32,1,35,1]]}
[null,null,{"$f":"Entries!$A$1","v":"2018 District 5 - Mixed Pairs"}]
[null,null,"DRAW"]
[{"$nulls":5},"R O U N D  1",null,"R O U N D  2",null,"R O U N D  3"]
[null,"Section","Team No.","Lead","Skip","Rink","Versus","Rink","Versus","Rink","Versus"]
[null,1,1,{"$f":"Entries!$Q$5","v":0},{"$f":"Entries!$R$5","v":0},1,2,10,3,19,4]
[null,null,2,{"$f":"Entries!$Q$6","v":0},{"$f":"Entries!$R$6","v":0},1,1,11,4,20,3]
[null,null,3,{"$f":"Entries!$Q$7","v":0},{"$f":"Entries!$R$7","v":0},2,4,10,1,20,2]
[null,null,4,{"$f":"Entries!$Q$8","v":0},{"$f":"Entries!$R$8","v":0},2,3,11,2,19,1]
[null,2,5,{"$f":"Entries!$Q$9","v":0},{"$f":"Entries!$R$9","v":0},3,6,8,7,17,8]
[null,null,6,{"$f":"Entries!$Q$10","v":0},{"$f":"Entries!$R$10","v":0},3,5,9,8,18,7]
[null,null,7,{"$f":"Entries!$Q$11","v":0},{"$f":"Entries!$R$11","v":0},4,8,8,5,18,6]
[null,null,8,{"$f":"Entries!$Q$12","v":0},{"$f":"Entries!$R$12","v":0},4,7,9,6,17,5]
[null,3,9,{"$f":"Entries!$Q$13","v":0},{"$f":"Entries!$R$13","v":0},5,10,12,11,15,12]
[null,null,10,{"$f":"Entries!$Q$14","v":0},{"$f":"Entries!$R$14","v":0},5,9,13,12,16,11]
[null,null,11,{"$f":"Entries!$Q$15","v":0},{"$f":"Entries!$R$15","v":0},6,12,12,9,16,10]
[null,null,12,{"$f":"Entries!$Q$16","v":0},{"$f":"Entries!$R$16","v":0},6,11,13,10,15,9]
[null,4,13,{"$f":"Entries!$Q$17","v":0},{"$f":"Entries!$R$17","v":0},8,14,17,15,3,16]
[null,null,14,{"$f":"Entries!$Q$18","v":0},{"$f":"Entries!$R$18","v":0},8,13,18,16,4,15]
[null,null,15,{"$f":"Entries!$Q$19","v":0},{"$f":"Entries!$R$19","v":0},9,16,17,13,4,14]
[null,null,16,{"$f":"Entries!$Q$20","v":0},{"$f":"Entries!$R$20","v":0},9,15,18,14,3,13]
[null,5,17,{"$f":"Entries!$Q$21","v":0},{"$f":"Entries!$R$21","v":0},10,18,5,19,1,20]
[null,null,18,{"$f":"Entries!$Q$22","v":0},{"$f":"Entries!$R$22","v":0},10,17,6,20,2,19]
[null,null,19,{"$f":"Entries!$Q$23","v":0},{"$f":"Entries!$R$23","v":0},11,20,5,17,2,18]
[null,null,20,{"$f":"Entries!$Q$24","v":0},{"$f":"Entries!$R$24","v":0},11,19,6,18,1,17]
[null,6,21,{"$f":"Entries!$Q$25","v":0},{"$f":"Entries!$R$25","v":0},12,22,19,23,5,24]
[null,null,22,{"$f":"Entries!$Q$26","v":0},{"$f":"Entries!$R$26","v":0},12,21,20,24,6,23]
[null,null,23,{"$f":"Entries!$Q$27","v":0},{"$f":"Entries!$R$27","v":0},13,24,19,21,6,22]
[null,null,24,{"$f":"Entries!$Q$28","v":0},{"$f":"Entries!$R$28","v":0},13,23,20,22,5,21]
[null,7,25,{"$f":"Entries!$Q$29","v":0},{"$f":"Entries!$R$29","v":0},19,26,3,27,10,28]
[null,null,26,{"$f":"Entries!$Q$30","v":0},{"$f":"Entries!$R$30","v":0},19,25,4,28,11,27]
[null,null,27,{"$f":"Entries!$Q$31","v":0},{"$f":"Entries!$R$31","v":0},20,28,3,25,11,26]
[null,null,28,{"$f":"Entries!$Q$32","v":0},{"$f":"Entries!$R$32","v":0},20,27,4,26,10,25]
[null,8,29,{"$f":"Entries!$Q$33","v":0},{"$f":"Entries!$R$33","v":0},17,30,2,31,null,"BYE"]
[null,null,30,{"$f":"Entries!$Q$34","v":0},{"$f":"Entries!$R$34","v":0},17,29,null,"BYE",13,31]
[null,null,31,{"$f":"Entries!$Q$35","v":0},{"$f":"Entries!$R$35","v":0},null,"BYE",2,29,13,30]

{"sheet":"30","index":53,"n_rows":35,"n_cols":11,"rows_kept":35,"hidden":true,"merged":[[0,2,0,10],[1,2,1,10],[2,3,2,4],[2,5,2,6],[2,7,2,8],[2,9,2,10],[4,1,7,1],[8,1,11,1],[12,1,15,1],[16,1,19,1],[20,1,23,1],[24,1,27,1],[28,1,31,1],[32,1,35,1]]}
[null,null,{"$f":"Entries!$A$1","v":"2018 District 5 - Mixed Pairs"}]
[null,null,"DRAW"]
[{"$nulls":5},"R O U N D  1",null,"R O U N D  2",null,"R O U N D  3"]
[null,"Section","Team No.","Lead","Skip","Rink","Versus","Rink","Versus","Rink","Versus"]
[null,1,1,{"$f":"Entries!$Q$5","v":0},{"$f":"Entries!$R$5","v":0},1,2,10,3,19,4]
[null,null,2,{"$f":"Entries!$Q$6","v":0},{"$f":"Entries!$R$6","v":0},1,1,11,4,20,3]
[null,null,3,{"$f":"Entries!$Q$7","v":0},{"$f":"Entries!$R$7","v":0},2,4,10,1,20,2]
[null,null,4,{"$f":"Entries!$Q$8","v":0},{"$f":"Entries!$R$8","v":0},2,3,11,2,19,1]
[null,2,5,{"$f":"Entries!$Q$9","v":0},{"$f":"Entries!$R$9","v":0},3,6,8,7,17,8]
[null,null,6,{"$f":"Entries!$Q$10","v":0},{"$f":"Entries!$R$10","v":0},3,5,9,8,18,7]
[null,null,7,{"$f":"Entries!$Q$11","v":0},{"$f":"Entries!$R$11","v":0},4,8,8,5,18,6]
[null,null,8,{"$f":"Entries!$Q$12","v":0},{"$f":"Entries!$R$12","v":0},4,7,9,6,17,5]
[null,3,9,{"$f":"Entries!$Q$13","v":0},{"$f":"Entries!$R$13","v":0},5,10,12,11,15,12]
[null,null,10,{"$f":"Entries!$Q$14","v":0},{"$f":"Entries!$R$14","v":0},5,9,13,12,16,11]
[null,null,11,{"$f":"Entries!$Q$15","v":0},{"$f":"Entries!$R$15","v":0},6,12,12,9,16,10]
[null,null,12,{"$f":"Entries!$Q$16","v":0},{"$f":"Entries!$R$16","v":0},6,11,13,10,15,9]
[null,4,13,{"$f":"Entries!$Q$17","v":0},{"$f":"Entries!$R$17","v":0},8,14,17,15,3,16]
[null,null,14,{"$f":"Entries!$Q$18","v":0},{"$f":"Entries!$R$18","v":0},8,13,18,16,4,15]
[null,null,15,{"$f":"Entries!$Q$19","v":0},{"$f":"Entries!$R$19","v":0},9,16,17,13,4,14]
[null,null,16,{"$f":"Entries!$Q$20","v":0},{"$f":"Entries!$R$20","v":0},9,15,18,14,3,13]
[null,5,17,{"$f":"Entries!$Q$21","v":0},{"$f":"Entries!$R$21","v":0},10,18,5,19,1,20]
[null,null,18,{"$f":"Entries!$Q$22","v":0},{"$f":"Entries!$R$22","v":0},10,17,6,20,2,19]
[null,null,19,{"$f":"Entries!$Q$23","v":0},{"$f":"Entries!$R$23","v":0},11,20,5,17,2,18]
[null,null,20,{"$f":"Entries!$Q$24","v":0},{"$f":"Entries!$R$24","v":0},11,19,6,18,1,17]
[null,6,21,{"$f":"Entries!$Q$25","v":0},{"$f":"Entries!$R$25","v":0},12,22,19,23,5,24]
[null,null,22,{"$f":"Entries!$Q$26","v":0},{"$f":"Entries!$R$26","v":0},12,21,20,24,6,23]
[null,null,23,{"$f":"Entries!$Q$27","v":0},{"$f":"Entries!$R$27","v":0},13,24,19,21,6,22]
[null,null,24,{"$f":"Entries!$Q$28","v":0},{"$f":"Entries!$R$28","v":0},13,23,20,22,5,21]
[null,7,25,{"$f":"Entries!$Q$29","v":0},{"$f":"Entries!$R$29","v":0},19,26,3,27,null,"BYE"]
[null,null,26,{"$f":"Entries!$Q$30","v":0},{"$f":"Entries!$R$30","v":0},19,25,null,"BYE",11,27]
[null,null,27,{"$f":"Entries!$Q$31","v":0},{"$f":"Entries!$R$31","v":0},null,"BYE",3,25,11,26]
[]
[null,8,28,{"$f":"Entries!$Q$32","v":0},{"$f":"Entries!$R$32","v":0},17,29,2,30,null,"BYE"]
[null,null,29,{"$f":"Entries!$Q$33","v":0},{"$f":"Entries!$R$33","v":0},17,28,null,"BYE",13,30]
[null,null,30,{"$f":"Entries!$Q$34","v":0},{"$f":"Entries!$R$34","v":0},null,"BYE",2,28,13,29]

{"sheet":"29","index":54,"n_rows":35,"n_cols":11,"rows_kept":35,"hidden":true,"merged":[[0,2,0,10],[1,2,1,10],[2,3,2,4],[2,5,2,6],[2,7,2,8],[2,9,2,10],[4,1,7,1],[8,1,11,1],[12,1,15,1],[16,1,19,1],[20,1,23,1],[24,1,27,1],[28,1,31,1],[32,1,35,1]]}
[null,null,{"$f":"Entries!$A$1","v":"2018 District 5 - Mixed Pairs"}]
[null,null,"DRAW"]
[{"$nulls":5},"R O U N D  1",null,"R O U N D  2",null,"R O U N D  3"]
[null,"Section","Team No.","Lead","Skip","Rink","Versus","Rink","Versus","Rink","Versus"]
[null,1,1,{"$f":"Entries!$Q$5","v":0},{"$f":"Entries!$R$5","v":0},1,2,10,3,19,4]
[null,null,2,{"$f":"Entries!$Q$6","v":0},{"$f":"Entries!$R$6","v":0},1,1,11,4,20,3]
[null,null,3,{"$f":"Entries!$Q$7","v":0},{"$f":"Entries!$R$7","v":0},2,4,10,1,20,2]
[null,null,4,{"$f":"Entries!$Q$8","v":0},{"$f":"Entries!$R$8","v":0},2,3,11,2,19,1]
[null,2,5,{"$f":"Entries!$Q$9","v":0},{"$f":"Entries!$R$9","v":0},3,6,8,7,17,8]
[null,null,6,{"$f":"Entries!$Q$10","v":0},{"$f":"Entries!$R$10","v":0},3,5,9,8,18,7]
[null,null,7,{"$f":"Entries!$Q$11","v":0},{"$f":"Entries!$R$11","v":0},4,8,8,5,18,6]
[null,null,8,{"$f":"Entries!$Q$12","v":0},{"$f":"Entries!$R$12","v":0},4,7,9,6,17,5]
[null,3,9,{"$f":"Entries!$Q$13","v":0},{"$f":"Entries!$R$13","v":0},5,10,12,11,15,12]
[null,null,10,{"$f":"Entries!$Q$14","v":0},{"$f":"Entries!$R$14","v":0},5,9,13,12,16,11]
[null,null,11,{"$f":"Entries!$Q$15","v":0},{"$f":"Entries!$R$15","v":0},6,12,12,9,16,10]
[null,null,12,{"$f":"Entries!$Q$16","v":0},{"$f":"Entries!$R$16","v":0},6,11,13,10,15,9]
[null,4,13,{"$f":"Entries!$Q$17","v":0},{"$f":"Entries!$R$17","v":0},8,14,17,15,3,16]
[null,null,14,{"$f":"Entries!$Q$18","v":0},{"$f":"Entries!$R$18","v":0},8,13,18,16,4,15]
[null,null,15,{"$f":"Entries!$Q$19","v":0},{"$f":"Entries!$R$19","v":0},9,16,17,13,4,14]
[null,null,16,{"$f":"Entries!$Q$20","v":0},{"$f":"Entries!$R$20","v":0},9,15,18,14,3,13]
[null,5,17,{"$f":"Entries!$Q$21","v":0},{"$f":"Entries!$R$21","v":0},10,18,5,19,1,20]
[null,null,18,{"$f":"Entries!$Q$22","v":0},{"$f":"Entries!$R$22","v":0},10,17,6,20,2,19]
[null,null,19,{"$f":"Entries!$Q$23","v":0},{"$f":"Entries!$R$23","v":0},11,20,5,17,2,18]
[null,null,20,{"$f":"Entries!$Q$24","v":0},{"$f":"Entries!$R$24","v":0},11,19,6,18,1,17]
[null,6,21,{"$f":"Entries!$Q$25","v":0},{"$f":"Entries!$R$25","v":0},12,22,19,23,null,"BYE"]
[null,null,22,{"$f":"Entries!$Q$26","v":0},{"$f":"Entries!$R$26","v":0},12,21,null,"BYE",5,23]
[null,null,23,{"$f":"Entries!$Q$27","v":0},{"$f":"Entries!$R$27","v":0},null,"BYE",19,21,5,22]
[]
[null,7,24,{"$f":"Entries!$Q$28","v":0},{"$f":"Entries!$R$28","v":0},19,25,3,26,null,"BYE"]
[null,null,25,{"$f":"Entries!$Q$29","v":0},{"$f":"Entries!$R$29","v":0},19,24,null,"BYE",11,26]
[null,null,26,{"$f":"Entries!$Q$30","v":0},{"$f":"Entries!$R$30","v":0},null,"BYE",3,24,11,25]
[]
[null,8,27,{"$f":"Entries!$Q$31","v":0},{"$f":"Entries!$R$31","v":0},17,28,2,29,null,"BYE"]
[null,null,28,{"$f":"Entries!$Q$32","v":0},{"$f":"Entries!$R$32","v":0},17,27,null,"BYE",13,29]
[null,null,29,{"$f":"Entries!$Q$33","v":0},{"$f":"Entries!$R$33","v":0},null,"BYE",2,27,13,28]

{"sheet":"28","index":55,"n_rows":32,"n_cols":11,"rows_kept":32,"hidden":true,"merged":[[0,2,0,10],[1,2,1,10],[2,3,2,4],[2,5,2,6],[2,7,2,8],[2,9,2,10],[4,1,7,1],[8,1,11,1],[12,1,15,1],[16,1,19,1],[20,1,23,1],[24,1,27,1],[28,1,31,1]]}
[null,null,{"$f":"Entries!$A$1","v":"2018 District 5 - Mixed Pairs"}]
[null,null,"DRAW"]
[{"$nulls":5},"R O U N D  1",null,"R O U N D  2",null,"R O U N D  3"]
[null,"Section","Team No.","Lead","Skip","Rink","Versus","Rink","Versus","Rink","Versus"]
[null,1,1,{"$f":"Entries!$Q$5","v":0},{"$f":"Entries!$R$5","v":0},1,2,9,3,3,4]
[null,null,2,{"$f":"Entries!$Q$6","v":0},{"$f":"Entries!$R$6","v":0},1,1,10,4,4,3]
[null,null,3,{"$f":"Entries!$Q$7","v":0},{"$f":"Entries!$R$7","v":0},2,4,9,1,4,2]
[null,null,4,{"$f":"Entries!$Q$8","v":0},{"$f":"Entries!$R$8","v":0},2,3,10,2,3,1]
[null,2,5,{"$f":"Entries!$Q$9","v":0},{"$f":"Entries!$R$9","v":0},3,6,13,7,5,8]
[null,null,6,{"$f":"Entries!$Q$10","v":0},{"$f":"Entries!$R$10","v":0},3,5,14,8,6,7]
[null,null,7,{"$f":"Entries!$Q$11","v":0},{"$f":"Entries!$R$11","v":0},4,8,13,5,6,6]
[null,null,8,{"$f":"Entries!$Q$12","v":0},{"$f":"Entries!$R$12","v":0},4,7,14,6,5,5]
[null,3,9,{"$f":"Entries!$Q$13","v":0},{"$f":"Entries!$R$13","v":0},5,10,11,11,1,12]
[null,null,10,{"$f":"Entries!$Q$14","v":0},{"$f":"Entries!$R$14","v":0},5,9,12,12,2,11]
[null,null,11,{"$f":"Entries!$Q$15","v":0},{"$f":"Entries!$R$15","v":0},6,12,11,9,2,10]
[null,null,12,{"$f":"Entries!$Q$16","v":0},{"$f":"Entries!$R$16","v":0},6,11,12,10,1,9]
[null,4,13,{"$f":"Entries!$Q$17","v":0},{"$f":"Entries!$R$17","v":0},9,14,5,15,7,16]
[null,null,14,{"$f":"Entries!$Q$18","v":0},{"$f":"Entries!$R$18","v":0},9,13,6,16,8,15]
[null,null,15,{"$f":"Entries!$Q$19","v":0},{"$f":"Entries!$R$19","v":0},10,16,5,13,8,14]
[null,null,16,{"$f":"Entries!$Q$20","v":0},{"$f":"Entries!$R$20","v":0},10,15,6,14,7,13]
[null,5,17,{"$f":"Entries!$Q$21","v":0},{"$f":"Entries!$R$21","v":0},11,18,1,19,9,20]
[null,null,18,{"$f":"Entries!$Q$22","v":0},{"$f":"Entries!$R$22","v":0},11,17,2,20,10,19]
[null,null,19,{"$f":"Entries!$Q$23","v":0},{"$f":"Entries!$R$23","v":0},12,20,1,17,10,18]
[null,null,20,{"$f":"Entries!$Q$24","v":0},{"$f":"Entries!$R$24","v":0},12,19,2,18,9,17]
[null,6,21,{"$f":"Entries!$Q$25","v":0},{"$f":"Entries!$R$25","v":0},13,22,7,23,11,24]
[null,null,22,{"$f":"Entries!$Q$26","v":0},{"$f":"Entries!$R$26","v":0},13,21,8,24,12,23]
[null,null,23,{"$f":"Entries!$Q$27","v":0},{"$f":"Entries!$R$27","v":0},14,24,7,21,12,22]
[null,null,24,{"$f":"Entries!$Q$28","v":0},{"$f":"Entries!$R$28","v":0},14,23,8,22,11,21]
[null,7,25,{"$f":"Entries!$Q$29","v":0},{"$f":"Entries!$R$29","v":0},7,26,3,27,13,28]
[null,null,26,{"$f":"Entries!$Q$30","v":0},{"$f":"Entries!$R$30","v":0},7,25,4,28,14,27]
[null,null,27,{"$f":"Entries!$Q$31","v":0},{"$f":"Entries!$R$31","v":0},8,28,3,25,14,26]
[null,null,28,{"$f":"Entries!$Q$32","v":0},{"$f":"Entries!$R$32","v":0},8,27,4,26,13,25]

{"sheet":"27","index":56,"n_rows":31,"n_cols":11,"rows_kept":31,"hidden":true,"merged":[[0,2,0,10],[1,2,1,10],[2,3,2,4],[2,5,2,6],[2,7,2,8],[2,9,2,10],[4,1,7,1],[8,1,11,1],[12,1,15,1],[16,1,19,1],[20,1,23,1],[24,1,27,1],[28,1,31,1]]}
[null,null,{"$f":"Entries!$A$1","v":"2018 District 5 - Mixed Pairs"}]
[null,null,"DRAW"]
[{"$nulls":5},"R O U N D  1",null,"R O U N D  2",null,"R O U N D  3"]
[null,"Section","Team No.","Lead","Skip","Rink","Versus","Rink","Versus","Rink","Versus"]
[null,1,1,{"$f":"Entries!$Q$5","v":0},{"$f":"Entries!$R$5","v":0},1,2,9,3,3,4]
[null,null,2,{"$f":"Entries!$Q$6","v":0},{"$f":"Entries!$R$6","v":0},1,1,10,4,4,3]
[null,null,3,{"$f":"Entries!$Q$7","v":0},{"$f":"Entries!$R$7","v":0},2,4,9,1,4,2]
[null,null,4,{"$f":"Entries!$Q$8","v":0},{"$f":"Entries!$R$8","v":0},2,3,10,2,3,1]
[null,2,5,{"$f":"Entries!$Q$9","v":0},{"$f":"Entries!$R$9","v":0},3,6,13,7,5,8]
[null,null,6,{"$f":"Entries!$Q$10","v":0},{"$f":"Entries!$R$10","v":0},3,5,14,8,6,7]
[null,null,7,{"$f":"Entries!$Q$11","v":0},{"$f":"Entries!$R$11","v":0},4,8,13,5,6,6]
[null,null,8,{"$f":"Entries!$Q$12","v":0},{"$f":"Entries!$R$12","v":0},4,7,14,6,5,5]
[null,3,9,{"$f":"Entries!$Q$13","v":0},{"$f":"Entries!$R$13","v":0},5,10,11,11,1,12]
[null,null,10,{"$f":"Entries!$Q$14","v":0},{"$f":"Entries!$R$14","v":0},5,9,12,12,2,11]
[null,null,11,{"$f":"Entries!$Q$15","v":0},{"$f":"Entries!$R$15","v":0},6,12,11,9,2,10]
[null,null,12,{"$f":"Entries!$Q$16","v":0},{"$f":"Entries!$R$16","v":0},6,11,12,10,1,9]
[null,4,13,{"$f":"Entries!$Q$17","v":0},{"$f":"Entries!$R$17","v":0},9,14,4,15,7,16]
[null,null,14,{"$f":"Entries!$Q$18","v":0},{"$f":"Entries!$R$18","v":0},9,13,5,16,8,15]
[null,null,15,{"$f":"Entries!$Q$19","v":0},{"$f":"Entries!$R$19","v":0},10,16,4,13,8,14]
[null,null,16,{"$f":"Entries!$Q$20","v":0},{"$f":"Entries!$R$20","v":0},10,15,5,14,7,13]
[null,5,17,{"$f":"Entries!$Q$21","v":0},{"$f":"Entries!$R$21","v":0},11,18,1,19,9,20]
[null,null,18,{"$f":"Entries!$Q$22","v":0},{"$f":"Entries!$R$22","v":0},11,17,2,20,10,19]
[null,null,19,{"$f":"Entries!$Q$23","v":0},{"$f":"Entries!$R$23","v":0},12,20,1,17,10,18]
[null,null,20,{"$f":"Entries!$Q$24","v":0},{"$f":"Entries!$R$24","v":0},12,19,2,18,9,17]
[null,6,21,{"$f":"Entries!$Q$25","v":0},{"$f":"Entries!$R$25","v":0},13,22,6,23,11,24]
[null,null,22,{"$f":"Entries!$Q$26","v":0},{"$f":"Entries!$R$26","v":0},13,21,8,24,12,23]
[null,null,23,{"$f":"Entries!$Q$27","v":0},{"$f":"Entries!$R$27","v":0},14,24,6,21,12,22]
[null,null,24,{"$f":"Entries!$Q$28","v":0},{"$f":"Entries!$R$28","v":0},14,23,8,22,11,21]
[null,7,25,{"$f":"Entries!$Q$29","v":0},{"$f":"Entries!$R$29","v":0},7,26,3,27,null,"BYE"]
[null,null,26,{"$f":"Entries!$Q$30","v":0},{"$f":"Entries!$R$30","v":0},7,25,null,"BYE",13,27]
[null,null,27,{"$f":"Entries!$Q$31","v":0},{"$f":"Entries!$R$31","v":0},null,"BYE",3,25,13,26]

{"sheet":"26","index":57,"n_rows":31,"n_cols":11,"rows_kept":31,"hidden":true,"merged":[[0,2,0,10],[1,2,1,10],[2,3,2,4],[2,5,2,6],[2,7,2,8],[2,9,2,10],[4,1,7,1],[8,1,11,1],[12,1,15,1],[16,1,19,1],[20,1,23,1],[24,1,27,1],[28,1,31,1]]}
[null,null,{"$f":"Entries!$A$1","v":"2018 District 5 - Mixed Pairs"}]
[null,null,"DRAW"]
[{"$nulls":5},"R O U N D  1",null,"R O U N D  2",null,"R O U N D  3"]
[null,"Section","Team No.","Lead","Skip","Rink","Versus","Rink","Versus","Rink","Versus"]
[null,1,1,{"$f":"Entries!$Q$5","v":0},{"$f":"Entries!$R$5","v":0},1,2,9,3,3,4]
[null,null,2,{"$f":"Entries!$Q$6","v":0},{"$f":"Entries!$R$6","v":0},1,1,10,4,4,3]
[null,null,3,{"$f":"Entries!$Q$7","v":0},{"$f":"Entries!$R$7","v":0},2,4,9,1,4,2]
[null,null,4,{"$f":"Entries!$Q$8","v":0},{"$f":"Entries!$R$8","v":0},2,3,10,2,3,1]
[null,2,5,{"$f":"Entries!$Q$9","v":0},{"$f":"Entries!$R$9","v":0},3,6,13,7,5,8]
[null,null,6,{"$f":"Entries!$Q$10","v":0},{"$f":"Entries!$R$10","v":0},3,5,14,8,6,7]
[null,null,7,{"$f":"Entries!$Q$11","v":0},{"$f":"Entries!$R$11","v":0},4,8,13,5,6,6]
[null,null,8,{"$f":"Entries!$Q$12","v":0},{"$f":"Entries!$R$12","v":0},4,7,14,6,5,5]
[null,3,9,{"$f":"Entries!$Q$13","v":0},{"$f":"Entries!$R$13","v":0},5,10,11,11,1,12]
[null,null,10,{"$f":"Entries!$Q$14","v":0},{"$f":"Entries!$R$14","v":0},5,9,12,12,2,11]
[null,null,11,{"$f":"Entries!$Q$15","v":0},{"$f":"Entries!$R$15","v":0},6,12,11,9,2,10]
[null,null,12,{"$f":"Entries!$Q$16","v":0},{"$f":"Entries!$R$16","v":0},6,11,12,10,1,9]
[null,4,13,{"$f":"Entries!$Q$17","v":0},{"$f":"Entries!$R$17","v":0},9,14,4,15,8,16]
[null,null,14,{"$f":"Entries!$Q$18","v":0},{"$f":"Entries!$R$18","v":0},9,13,5,16,9,15]
[null,null,15,{"$f":"Entries!$Q$19","v":0},{"$f":"Entries!$R$19","v":0},10,16,4,13,9,14]
[null,null,16,{"$f":"Entries!$Q$20","v":0},{"$f":"Entries!$R$20","v":0},10,15,5,14,8,13]
[null,5,17,{"$f":"Entries!$Q$21","v":0},{"$f":"Entries!$R$21","v":0},11,18,1,19,10,20]
[null,null,18,{"$f":"Entries!$Q$22","v":0},{"$f":"Entries!$R$22","v":0},11,17,2,20,11,19]
[null,null,19,{"$f":"Entries!$Q$23","v":0},{"$f":"Entries!$R$23","v":0},12,20,1,17,11,18]
[null,null,20,{"$f":"Entries!$Q$24","v":0},{"$f":"Entries!$R$24","v":0},12,19,2,18,10,17]
[null,6,21,{"$f":"Entries!$Q$25","v":0},{"$f":"Entries!$R$25","v":0},13,22,6,23,null,"BYE"]
[null,null,22,{"$f":"Entries!$Q$26","v":0},{"$f":"Entries!$R$26","v":0},13,21,null,"BYE",12,23]
[null,null,23,{"$f":"Entries!$Q$27","v":0},{"$f":"Entries!$R$27","v":0},null,"BYE",6,21,12,22]
[]
[null,7,24,{"$f":"Entries!$Q$28","v":0},{"$f":"Entries!$R$28","v":0},7,25,3,26,null,"BYE"]
[null,null,25,{"$f":"Entries!$Q$29","v":0},{"$f":"Entries!$R$29","v":0},7,24,null,"BYE",13,26]
[null,null,26,{"$f":"Entries!$Q$30","v":0},{"$f":"Entries!$R$30","v":0},null,"BYE",3,24,13,25]

{"sheet":"25","index":58,"n_rows":31,"n_cols":11,"rows_kept":31,"hidden":true,"merged":[[0,2,0,10],[1,2,1,10],[2,3,2,4],[2,5,2,6],[2,7,2,8],[2,9,2,10],[4,1,7,1],[8,1,11,1],[12,1,15,1],[16,1,19,1],[20,1,23,1],[24,1,27,1],[28,1,31,1]]}
[null,null,{"$f":"Entries!$A$1","v":"2018 District 5 - Mixed Pairs"}]
[null,null,"DRAW"]
[{"$nulls":5},"R O U N D  1",null,"R O U N D  2",null,"R O U N D  3"]
[null,"Section","Team No.","Lead","Skip","Rink","Versus","Rink","Versus","Rink","Versus"]
[null,1,1,{"$f":"Entries!$Q$5","v":0},{"$f":"Entries!$R$5","v":0},1,2,9,3,3,4]
[null,null,2,{"$f":"Entries!$Q$6","v":0},{"$f":"Entries!$R$6","v":0},1,1,10,4,4,3]
[null,null,3,{"$f":"Entries!$Q$7","v":0},{"$f":"Entries!$R$7","v":0},2,4,9,1,4,2]
[null,null,4,{"$f":"Entries!$Q$8","v":0},{"$f":"Entries!$R$8","v":0},2,3,10,2,3,1]
[null,2,5,{"$f":"Entries!$Q$9","v":0},{"$f":"Entries!$R$9","v":0},3,6,13,7,5,8]
[null,null,6,{"$f":"Entries!$Q$10","v":0},{"$f":"Entries!$R$10","v":0},3,5,14,8,6,7]
[null,null,7,{"$f":"Entries!$Q$11","v":0},{"$f":"Entries!$R$11","v":0},4,8,13,5,6,6]
[null,null,8,{"$f":"Entries!$Q$12","v":0},{"$f":"Entries!$R$12","v":0},4,7,14,6,5,5]
[null,3,9,{"$f":"Entries!$Q$13","v":0},{"$f":"Entries!$R$13","v":0},5,10,11,11,1,12]
[null,null,10,{"$f":"Entries!$Q$14","v":0},{"$f":"Entries!$R$14","v":0},5,9,12,12,2,11]
[null,null,11,{"$f":"Entries!$Q$15","v":0},{"$f":"Entries!$R$15","v":0},6,12,11,9,2,10]
[null,null,12,{"$f":"Entries!$Q$16","v":0},{"$f":"Entries!$R$16","v":0},6,11,12,10,1,9]
[null,4,13,{"$f":"Entries!$Q$17","v":0},{"$f":"Entries!$R$17","v":0},10,14,4,15,9,16]
[null,null,14,{"$f":"Entries!$Q$18","v":0},{"$f":"Entries!$R$18","v":0},10,13,5,16,10,15]
[null,null,15,{"$f":"Entries!$Q$19","v":0},{"$f":"Entries!$R$19","v":0},11,16,4,13,9,14]
[null,null,16,{"$f":"Entries!$Q$20","v":0},{"$f":"Entries!$R$20","v":0},11,15,5,14,10,13]
[null,5,17,{"$f":"Entries!$Q$21","v":0},{"$f":"Entries!$R$21","v":0},12,18,1,19,null,"BYE"]
[null,null,18,{"$f":"Entries!$Q$22","v":0},{"$f":"Entries!$R$22","v":0},12,17,null,"BYE",11,19]
[null,null,19,{"$f":"Entries!$Q$23","v":0},{"$f":"Entries!$R$23","v":0},null,"BYE",1,17,11,18]
[]
[null,6,20,{"$f":"Entries!$Q$24","v":0},{"$f":"Entries!$R$24","v":0},13,21,6,22,null,"BYE"]
[null,null,21,{"$f":"Entries!$Q$25","v":0},{"$f":"Entries!$R$25","v":0},13,20,null,"BYE",12,22]
[null,null,22,{"$f":"Entries!$Q$26","v":0},{"$f":"Entries!$R$26","v":0},null,"BYE",6,20,12,21]
[]
[null,7,23,{"$f":"Entries!$Q$27","v":0},{"$f":"Entries!$R$27","v":0},9,24,3,25,null,"BYE"]
[null,null,24,{"$f":"Entries!$Q$28","v":0},{"$f":"Entries!$R$28","v":0},9,23,null,"BYE",13,25]
[null,null,25,{"$f":"Entries!$Q$29","v":0},{"$f":"Entries!$R$29","v":0},null,"BYE",3,23,13,24]

{"sheet":"24","index":59,"n_rows":28,"n_cols":11,"rows_kept":28,"hidden":true,"merged":[[0,2,0,10],[1,2,1,10],[2,3,2,4],[2,5,2,6],[2,7,2,8],[2,9,2,10],[4,1,7,1],[8,1,11,1],[12,1,15,1],[16,1,19,1],[20,1,23,1],[24,1,27,1]]}
[null,null,{"$f":"Entries!$A$1","v":"2018 District 5 - Mixed Pairs"}]
[null,null,"DRAW"]
[{"$nulls":5},"R O U N D  1",null,"R O U N D  2",null,"R O U N D  3"]
[null,"Section","Team No.","Lead","Skip","Rink","Versus","Rink","Versus","Rink","Versus"]
[null,1,1,{"$f":"Entries!$Q$5","v":0},{"$f":"Entries!$R$5","v":0},1,2,9,3,3,4]
[null,null,2,{"$f":"Entries!$Q$6","v":0},{"$f":"Entries!$R$6","v":0},1,1,10,4,4,3]
[null,null,3,{"$f":"Entries!$Q$7","v":0},{"$f":"Entries!$R$7","v":0},2,4,9,1,4,2]
[null,null,4,{"$f":"Entries!$Q$8","v":0},{"$f":"Entries!$R$8","v":0},2,3,10,2,3,1]
[null,2,5,{"$f":"Entries!$Q$9","v":0},{"$f":"Entries!$R$9","v":0},3,6,13,7,5,8]
[null,null,6,{"$f":"Entries!$Q$10","v":0},{"$f":"Entries!$R$10","v":0},3,5,14,8,6,7]
[null,null,7,{"$f":"Entries!$Q$11","v":0},{"$f":"Entries!$R$11","v":0},4,8,13,5,6,6]
[null,null,8,{"$f":"Entries!$Q$12","v":0},{"$f":"Entries!$R$12","v":0},4,7,14,6,5,5]
[null,3,9,{"$f":"Entries!$Q$13","v":0},{"$f":"Entries!$R$13","v":0},5,10,11,11,1,12]
[null,null,10,{"$f":"Entries!$Q$14","v":0},{"$f":"Entries!$R$14","v":0},5,9,12,12,2,11]
[null,null,11,{"$f":"Entries!$Q$15","v":0},{"$f":"Entries!$R$15","v":0},6,12,11,9,2,10]
[null,null,12,{"$f":"Entries!$Q$16","v":0},{"$f":"Entries!$R$16","v":0},6,11,12,10,1,9]
[null,4,13,{"$f":"Entries!$Q$17","v":0},{"$f":"Entries!$R$17","v":0},9,14,3,15,14,16]
[null,null,14,{"$f":"Entries!$Q$18","v":0},{"$f":"Entries!$R$18","v":0},9,13,4,16,13,15]
[null,null,15,{"$f":"Entries!$Q$19","v":0},{"$f":"Entries!$R$19","v":0},10,16,3,13,13,14]
[null,null,16,{"$f":"Entries!$Q$20","v":0},{"$f":"Entries!$R$20","v":0},10,15,4,14,14,13]
[null,5,17,{"$f":"Entries!$Q$21","v":0},{"$f":"Entries!$R$21","v":0},11,18,1,19,9,20]
[null,null,18,{"$f":"Entries!$Q$22","v":0},{"$f":"Entries!$R$22","v":0},11,17,2,20,10,19]
[null,null,19,{"$f":"Entries!$Q$23","v":0},{"$f":"Entries!$R$23","v":0},12,20,1,17,10,18]
[null,null,20,{"$f":"Entries!$Q$24","v":0},{"$f":"Entries!$R$24","v":0},12,19,2,18,9,17]
[null,6,21,{"$f":"Entries!$Q$25","v":0},{"$f":"Entries!$R$25","v":0},13,22,5,23,11,24]
[null,null,22,{"$f":"Entries!$Q$26","v":0},{"$f":"Entries!$R$26","v":0},13,21,6,24,12,23]
[null,null,23,{"$f":"Entries!$Q$27","v":0},{"$f":"Entries!$R$27","v":0},14,24,5,21,12,22]
[null,null,24,{"$f":"Entries!$Q$28","v":0},{"$f":"Entries!$R$28","v":0},14,23,6,22,11,21]

{"sheet":"23","index":60,"n_rows":27,"n_cols":11,"rows_kept":27,"hidden":true,"merged":[[0,2,0,10],[1,2,1,10],[2,3,2,4],[2,5,2,6],[2,7,2,8],[2,9,2,10],[4,1,7,1],[8,1,11,1],[12,1,15,1],[16,1,19,1],[20,1,23,1],[24,1,27,1]]}
[null,null,{"$f":"Entries!$A$1","v":"2018 District 5 - Mixed Pairs"}]
[null,null,"DRAW"]
[{"$nulls":5},"R O U N D  1",null,"R O U N D  2",null,"R O U N D  3"]
[null,"Section","Team No.","Lead","Skip","Rink","Versus","Rink","Versus","Rink","Versus"]
[null,1,1,{"$f":"Entries!$Q$5","v":0},{"$f":"Entries!$R$5","v":0},1,2,9,3,3,4]
[null,null,2,{"$f":"Entries!$Q$6","v":0},{"$f":"Entries!$R$6","v":0},1,1,10,4,4,3]
[null,null,3,{"$f":"Entries!$Q$7","v":0},{"$f":"Entries!$R$7","v":0},2,4,9,1,4,2]
[null,null,4,{"$f":"Entries!$Q$8","v":0},{"$f":"Entries!$R$8","v":0},2,3,10,2,3,1]
[null,2,5,{"$f":"Entries!$Q$9","v":0},{"$f":"Entries!$R$9","v":0},3,6,13,7,5,8]
[null,null,6,{"$f":"Entries!$Q$10","v":0},{"$f":"Entries!$R$10","v":0},3,5,14,8,6,7]
[null,null,7,{"$f":"Entries!$Q$11","v":0},{"$f":"Entries!$R$11","v":0},4,8,13,5,6,6]
[null,null,8,{"$f":"Entries!$Q$12","v":0},{"$f":"Entries!$R$12","v":0},4,7,14,6,5,5]
[null,3,9,{"$f":"Entries!$Q$13","v":0},{"$f":"Entries!$R$13","v":0},5,10,11,11,1,12]
[null,null,10,{"$f":"Entries!$Q$14","v":0},{"$f":"Entries!$R$14","v":0},5,9,12,12,2,11]
[null,null,11,{"$f":"Entries!$Q$15","v":0},{"$f":"Entries!$R$15","v":0},6,12,11,9,2,10]
[null,null,12,{"$f":"Entries!$Q$16","v":0},{"$f":"Entries!$R$16","v":0},6,11,12,10,1,9]
[null,4,13,{"$f":"Entries!$Q$17","v":0},{"$f":"Entries!$R$17","v":0},9,14,3,15,13,16]
[null,null,14,{"$f":"Entries!$Q$18","v":0},{"$f":"Entries!$R$18","v":0},9,13,4,16,12,15]
[null,null,15,{"$f":"Entries!$Q$19","v":0},{"$f":"Entries!$R$19","v":0},10,16,3,13,12,14]
[null,null,16,{"$f":"Entries!$Q$20","v":0},{"$f":"Entries!$R$20","v":0},10,15,4,14,13,13]
[null,5,17,{"$f":"Entries!$Q$21","v":0},{"$f":"Entries!$R$21","v":0},11,18,1,19,9,20]
[null,null,18,{"$f":"Entries!$Q$22","v":0},{"$f":"Entries!$R$22","v":0},11,17,2,20,10,19]
[null,null,19,{"$f":"Entries!$Q$23","v":0},{"$f":"Entries!$R$23","v":0},12,20,1,17,10,18]
[null,null,20,{"$f":"Entries!$Q$24","v":0},{"$f":"Entries!$R$24","v":0},12,19,2,18,9,17]
[null,6,21,{"$f":"Entries!$Q$25","v":0},{"$f":"Entries!$R$25","v":0},13,22,5,23,null,"BYE"]
[null,null,22,{"$f":"Entries!$Q$26","v":0},{"$f":"Entries!$R$26","v":0},13,21,null,"BYE",11,23]
[null,null,23,{"$f":"Entries!$Q$27","v":0},{"$f":"Entries!$R$27","v":0},null,"BYE",5,21,11,22]

{"sheet":"22","index":61,"n_rows":27,"n_cols":11,"rows_kept":27,"hidden":true,"merged":[[0,2,0,10],[1,2,1,10],[2,3,2,4],[2,5,2,6],[2,7,2,8],[2,9,2,10],[4,1,7,1],[8,1,11,1],[12,1,15,1],[16,1,19,1],[20,1,23,1],[24,1,27,1]]}
[null,null,{"$f":"Entries!$A$1","v":"2018 District 5 - Mixed Pairs"}]
[null,null,"DRAW"]
[{"$nulls":5},"R O U N D  1",null,"R O U N D  2",null,"R O U N D  3"]
[null,"Section","Team No.","Lead","Skip","Rink","Versus","Rink","Versus","Rink","Versus"]
[null,1,1,{"$f":"Entries!$Q$5","v":0},{"$f":"Entries!$R$5","v":0},1,2,9,3,3,4]
[null,null,2,{"$f":"Entries!$Q$6","v":0},{"$f":"Entries!$R$6","v":0},1,1,10,4,4,3]
[null,null,3,{"$f":"Entries!$Q$7","v":0},{"$f":"Entries!$R$7","v":0},2,4,9,1,4,2]
[null,null,4,{"$f":"Entries!$Q$8","v":0},{"$f":"Entries!$R$8","v":0},2,3,10,2,3,1]
[null,2,5,{"$f":"Entries!$Q$9","v":0},{"$f":"Entries!$R$9","v":0},3,6,13,7,5,8]
[null,null,6,{"$f":"Entries!$Q$10","v":0},{"$f":"Entries!$R$10","v":0},3,5,14,8,6,7]
[null,null,7,{"$f":"Entries!$Q$11","v":0},{"$f":"Entries!$R$11","v":0},4,8,13,5,6,6]
[null,null,8,{"$f":"Entries!$Q$12","v":0},{"$f":"Entries!$R$12","v":0},4,7,14,6,5,5]
[null,3,9,{"$f":"Entries!$Q$13","v":0},{"$f":"Entries!$R$13","v":0},5,10,11,11,1,12]
[null,null,10,{"$f":"Entries!$Q$14","v":0},{"$f":"Entries!$R$14","v":0},5,9,12,12,2,11]
[null,null,11,{"$f":"Entries!$Q$15","v":0},{"$f":"Entries!$R$15","v":0},6,12,11,9,2,10]
[null,null,12,{"$f":"Entries!$Q$16","v":0},{"$f":"Entries!$R$16","v":0},6,11,12,10,1,9]
[null,4,13,{"$f":"Entries!$Q$17","v":0},{"$f":"Entries!$R$17","v":0},9,14,3,15,13,16]
[null,null,14,{"$f":"Entries!$Q$18","v":0},{"$f":"Entries!$R$18","v":0},9,13,4,16,12,15]
[null,null,15,{"$f":"Entries!$Q$19","v":0},{"$f":"Entries!$R$19","v":0},10,16,3,13,12,14]
[null,null,16,{"$f":"Entries!$Q$20","v":0},{"$f":"Entries!$R$20","v":0},10,15,4,14,13,13]
[null,5,17,{"$f":"Entries!$Q$21","v":0},{"$f":"Entries!$R$21","v":0},11,18,2,19,null,"BYE"]
[null,null,18,{"$f":"Entries!$Q$22","v":0},{"$f":"Entries!$R$22","v":0},11,17,null,"BYE",10,19]
[null,null,19,{"$f":"Entries!$Q$23","v":0},{"$f":"Entries!$R$23","v":0},null,"BYE",2,17,10,18]
[]
[null,6,20,{"$f":"Entries!$Q$24","v":0},{"$f":"Entries!$R$24","v":0},12,21,5,22,null,"BYE"]
[null,null,21,{"$f":"Entries!$Q$25","v":0},{"$f":"Entries!$R$25","v":0},12,20,null,"BYE",11,22]
[null,null,22,{"$f":"Entries!$Q$26","v":0},{"$f":"Entries!$R$26","v":0},null,"BYE",5,20,11,21]

{"sheet":"21","index":62,"n_rows":27,"n_cols":11,"rows_kept":27,"hidden":true,"merged":[[0,2,0,10],[1,2,1,10],[2,3,2,4],[2,5,2,6],[2,7,2,8],[2,9,2,10],[4,1,7,1],[8,1,11,1],[12,1,15,1],[16,1,19,1],[20,1,23,1],[24,1,27,1]]}
[null,null,{"$f":"Entries!$A$1","v":"2018 District 5 - Mixed Pairs"}]
[null,null,"DRAW"]
[{"$nulls":5},"R O U N D  1",null,"R O U N D  2",null,"R O U N D  3"]
[null,"Section","Team No.","Lead","Skip","Rink","Versus","Rink","Versus","Rink","Versus"]
[null,1,1,{"$f":"Entries!$Q$5","v":0},{"$f":"Entries!$R$5","v":0},9,2,5,3,11,4]
[null,null,2,{"$f":"Entries!$Q$6","v":0},{"$f":"Entries!$R$6","v":0},9,1,6,4,12,3]
[null,null,3,{"$f":"Entries!$Q$7","v":0},{"$f":"Entries!$R$7","v":0},10,4,5,1,12,2]
[null,null,4,{"$f":"Entries!$Q$8","v":0},{"$f":"Entries!$R$8","v":0},10,3,6,2,11,1]
[null,2,5,{"$f":"Entries!$Q$9","v":0},{"$f":"Entries!$R$9","v":0},3,6,11,7,5,8]
[null,null,6,{"$f":"Entries!$Q$10","v":0},{"$f":"Entries!$R$10","v":0},3,5,12,8,6,7]
[null,null,7,{"$f":"Entries!$Q$11","v":0},{"$f":"Entries!$R$11","v":0},4,8,11,5,6,6]
[null,null,8,{"$f":"Entries!$Q$12","v":0},{"$f":"Entries!$R$12","v":0},4,7,12,6,5,5]
[null,3,9,{"$f":"Entries!$Q$13","v":0},{"$f":"Entries!$R$13","v":0},5,10,9,11,2,12]
[null,null,10,{"$f":"Entries!$Q$14","v":0},{"$f":"Entries!$R$14","v":0},5,9,10,12,3,11]
[null,null,11,{"$f":"Entries!$Q$15","v":0},{"$f":"Entries!$R$15","v":0},6,12,9,9,3,10]
[null,null,12,{"$f":"Entries!$Q$16","v":0},{"$f":"Entries!$R$16","v":0},6,11,10,10,2,9]
[null,4,13,{"$f":"Entries!$Q$17","v":0},{"$f":"Entries!$R$17","v":0},11,14,3,15,null,"BYE"]
[null,null,14,{"$f":"Entries!$Q$18","v":0},{"$f":"Entries!$R$18","v":0},11,13,null,"BYE",13,15]
[null,null,15,{"$f":"Entries!$Q$19","v":0},{"$f":"Entries!$R$19","v":0},null,"BYE",3,13,13,14]
[]
[null,5,16,{"$f":"Entries!$Q$20","v":0},{"$f":"Entries!$R$20","v":0},12,17,2,18,null,"BYE"]
[null,null,17,{"$f":"Entries!$Q$21","v":0},{"$f":"Entries!$R$21","v":0},12,16,null,"BYE",9,18]
[null,null,18,{"$f":"Entries!$Q$22","v":0},{"$f":"Entries!$R$22","v":0},null,"BYE",2,16,9,17]
[]
[null,6,19,{"$f":"Entries!$Q$23","v":0},{"$f":"Entries!$R$23","v":0},13,20,4,21,null,"BYE"]
[null,null,20,{"$f":"Entries!$Q$24","v":0},{"$f":"Entries!$R$24","v":0},13,19,null,"BYE",10,21]
[null,null,21,{"$f":"Entries!$Q$25","v":0},{"$f":"Entries!$R$25","v":0},null,"BYE",4,19,10,20]

{"sheet":"20","index":63,"n_rows":24,"n_cols":11,"rows_kept":24,"hidden":true,"merged":[[0,2,0,10],[1,2,1,10],[2,3,2,4],[2,5,2,6],[2,7,2,8],[2,9,2,10],[4,1,7,1],[8,1,11,1],[12,1,15,1],[16,1,19,1],[20,1,23,1]]}
[null,null,{"$f":"Entries!$A$1","v":"2018 District 5 - Mixed Pairs"}]
[null,null,"DRAW"]
[{"$nulls":5},"R O U N D  1",null,"R O U N D  2",null,"R O U N D  3"]
[null,"Section","Team No.","Lead","Skip","Rink","Versus","Rink","Versus","Rink","Versus"]
[null,1,1,{"$f":"Entries!$Q$5","v":0},{"$f":"Entries!$R$5","v":0},2,2,10,3,5,4]
[null,null,2,{"$f":"Entries!$Q$6","v":0},{"$f":"Entries!$R$6","v":0},2,1,11,4,6,3]
[null,null,3,{"$f":"Entries!$Q$7","v":0},{"$f":"Entries!$R$7","v":0},3,4,10,1,6,2]
[null,null,4,{"$f":"Entries!$Q$8","v":0},{"$f":"Entries!$R$8","v":0},3,3,11,2,5,1]
[null,2,5,{"$f":"Entries!$Q$9","v":0},{"$f":"Entries!$R$9","v":0},4,6,8,7,1,8]
[null,null,6,{"$f":"Entries!$Q$10","v":0},{"$f":"Entries!$R$10","v":0},4,5,9,8,2,7]
[null,null,7,{"$f":"Entries!$Q$11","v":0},{"$f":"Entries!$R$11","v":0},5,8,8,5,2,6]
[null,null,8,{"$f":"Entries!$Q$12","v":0},{"$f":"Entries!$R$12","v":0},5,7,9,6,1,5]
[null,3,9,{"$f":"Entries!$Q$13","v":0},{"$f":"Entries!$R$13","v":0},9,10,2,11,11,12]
[null,null,10,{"$f":"Entries!$Q$14","v":0},{"$f":"Entries!$R$14","v":0},9,9,3,12,12,11]
[null,null,11,{"$f":"Entries!$Q$15","v":0},{"$f":"Entries!$R$15","v":0},10,12,2,9,12,10]
[null,null,12,{"$f":"Entries!$Q$16","v":0},{"$f":"Entries!$R$16","v":0},10,11,3,10,11,9]
[null,4,13,{"$f":"Entries!$Q$17","v":0},{"$f":"Entries!$R$17","v":0},11,14,4,15,9,16]
[null,null,14,{"$f":"Entries!$Q$18","v":0},{"$f":"Entries!$R$18","v":0},11,13,5,16,10,15]
[null,null,15,{"$f":"Entries!$Q$19","v":0},{"$f":"Entries!$R$19","v":0},12,16,4,13,10,14]
[null,null,16,{"$f":"Entries!$Q$20","v":0},{"$f":"Entries!$R$20","v":0},12,15,5,14,9,13]
[null,5,17,{"$f":"Entries!$Q$21","v":0},{"$f":"Entries!$R$21","v":0},7,18,12,19,3,20]
[null,null,18,{"$f":"Entries!$Q$22","v":0},{"$f":"Entries!$R$22","v":0},7,17,13,20,4,19]
[null,null,19,{"$f":"Entries!$Q$23","v":0},{"$f":"Entries!$R$23","v":0},6,20,12,17,4,18]
[null,null,20,{"$f":"Entries!$Q$24","v":0},{"$f":"Entries!$R$24","v":0},6,19,13,18,3,17]