{"text_format":"3","workbook":"xlsx","n_sheets":17,"sheets":["Notes","Players","Sheet1","DRAW","Score Cards","Rnd 1","Rnd 2","Rnd 3","Rnd 4","Rnd 5","Rnd 6","Rnd 7","Rnd 8","Formula","PRINT","Half Sheet","Sheet2"],"not_rendered":{"images":2,"macros":1,"defined_names":3},"read":"whole","date_system":"1900"}

{"sheet":"Notes","index":0,"n_rows":0,"n_cols":0,"rows_kept":0}

{"sheet":"Players","index":1,"n_rows":50,"n_cols":5,"rows_kept":50}
["Entries","Lead","Second","Third","Skip"]
[]
[1]
[2]
[3]
[4]
[5]
[6]
[7]
[8]
[9]
[10]
[11]
[12]
[13]
[14]
[15]
[16]
[17]
[18]
[19]
[20]
[21]
[22]
[23]
[24]
[25]
[26]
[27]
[28]
[29]
[30]
[31]
[32]
[33]
[34]
[35]
[36]
[37]
[38]
[39]
[40]
[41]
[42]
[43]
[44]
[45]
[46]
[47]
[48]

{"sheet":"Sheet1","index":2,"n_rows":48,"n_cols":87,"rows_kept":48,"merged":[[0,1,0,78],[1,1,1,78],[2,0,2,1],[2,3,2,6],[2,11,2,14],[3,3,3,8],[3,11,3,16],[3,19,3,24],[3,27,3,32],[3,35,3,40],[3,43,3,48],[3,51,3,56],[3,59,3,64],[3,74,4,77],[4,68,4,70]]}
[null,"Tournament Name etc. Here."]
[null,"Other heading info"]
[{"$nulls":3},"Points for a win =",{"$nulls":3},{"v":2,"d":"2.0"},{"$nulls":3},"Points for draw=",{"$nulls":3},{"v":1,"d":"1.0"}]
[{"$nulls":3},"ROUND 1",{"$nulls":7},"ROUND 2",{"$nulls":7},"ROUND 3",{"$nulls":7},"ROUND 4",{"$nulls":7},"ROUND 5",{"$nulls":7},"ROUND 6",{"$nulls":7},"ROUND 7",{"$nulls":7},"ROUND 8",{"$nulls":8},{"$f":"SUM(BQ7:BQ20)-SUM(BR7:BR20)","v":0},{"$f":"SUM(BR7:BR20)-SUM(BQ7:BQ20)","v":0},{"$f":"SUM(BS7:BS20)","v":0},{"$nulls":3},"TOTALS"]
[null,{"$f":"SUM(B7:B48)","v":903},{"$nulls":3},{"$f":"SUM(F7:F48)-SUM(G7:G48)","v":0},{"$f":"SUM(G7:G48)-SUM(F7:F48)","v":0},{"$nulls":6},{"$f":"SUM(N7:N48)-SUM(O7:O48)","v":0},{"$f":"SUM(O7:O48)-SUM(N7:N48)","v":0},{"$nulls":6},{"$f":"SUM(V7:V48)-SUM(W7:W48)","v":0},{"$f":"SUM(W7:W48)-SUM(V7:V48)","v":0},{"$nulls":6},{"$f":"SUM(AD7:AD48)-SUM(AE7:AE48)","v":0},{"$f":"SUM(AE7:AE48)-SUM(AD7:AD48)","v":0},{"$nulls":6},{"$f":"SUM(AL7:AL48)-SUM(AM7:AM48)","v":0},{"$f":"SUM(AM7:AM48)-SUM(AL7:AL48)","v":0},{"$nulls":6},{"$f":"SUM(AT7:AT48)-SUM(AU7:AU48)","v":0},{"$f":"SUM(AU7:AU48)-SUM(AT7:AT48)","v":0},{"$nulls":6},{"$f":"SUM(BB7:BB48)-SUM(BC7:BC48)","v":0},{"$f":"SUM(BC7:BC48)-SUM(BB7:BB48)","v":0},{"$nulls":6},{"$f":"SUM(BJ7:BJ48)-SUM(BK7:BK48)","v":0},{"$f":"SUM(BK7:BK48)-SUM(BJ7:BJ48)","v":0},{"$nulls":5},"ROUND 9",{"$nulls":9},"CLICK to SORT RANKINGS"]
[null,"Team #","Skips","V's","Rink","F","A","M'gin","Extra",null,null,"V's","Rink","F","A","M'gin","Extra",null,null,"V's","Rink","F","A","M'gin","Extra",null,null,"V's","Rink","F","A","M'gin","Extra",null,null,"V's","Rink","F","A","M'gin","Extra",null,null,"V's","Rink","F","A","M'gin","Extra",null,null,"V's","Rink","F","A","M'gin","Extra",null,null,"V's","Rink","F","A","M'gin","Extra",null,null,"shots against","F","A","M'gin",{"$nulls":3},"Points","Extra","Margin",null,"Ranking",2,3,4,5,6,7,8,9]
[{"$f":"B8","v":2},1,null,2,1,null,null,{"$f":"IF(F7+G7=0,0,F7-G7)","v":0},null,{"$f":"IF(K7=\"W\",$H$3,IF(K7=\"D\",$P$3,0))","v":{"v":0,"d":"0.0"}},{"$f":"IF(F7>G7,\"W\",IF(F7<G7,\"L\",IF(F7+G7=0,\"\",IF(F7=G7,\"D\",0))))","v":""},{"$nulls":4},{"$f":"IF(N7+O7=0,0,N7-O7)","v":0},null,{"$f":"IF(S7=\"W\",$H$3,IF(S7=\"D\",$P$3,0))","v":{"v":0,"d":"0.0"}},{"$f":"IF(N7>O7,\"W\",IF(N7<O7,\"L\",IF(N7+O7=0,\"\",IF(N7=O7,\"D\",0))))","v":""},{"$nulls":4},{"$f":"IF(V7+W7=0,0,V7-W7)","v":0},null,{"$f":"IF(AA7=\"W\",$H$3,IF(AA7=\"D\",$P$3,0))","v":{"v":0,"d":"0.0"}},{"$f":"IF(V7>W7,\"W\",IF(V7<W7,\"L\",IF(V7+W7=0,\"\",IF(V7=W7,\"D\",0))))","v":""},{"$nulls":4},{"$f":"IF(AD7+AE7=0,0,AD7-AE7)","v":0},null,{"$f":"IF(AI7=\"W\",$H$3,IF(AI7=\"D\",$P$3,0))","v":{"v":0,"d":"0.0"}},{"$f":"IF(AD7>AE7,\"W\",IF(AD7<AE7,\"L\",IF(AD7+AE7=0,\"\",IF(AD7=AE7,\"D\",0))))","v":""},{"$nulls":4},{"$f":"IF(AL7+AM7=0,0,AL7-AM7)","v":0},null,{"$f":"IF(AQ7=\"W\",$H$3,IF(AQ7=\"D\",$P$3,0))","v":{"v":0,"d":"0.0"}},{"$f":"IF(AL7>AM7,\"W\",IF(AL7<AM7,\"L\",IF(AL7+AM7=0,\"\",IF(AL7=AM7,\"D\",0))))","v":""},{"$nulls":4},{"$f":"IF(AT7+AU7=0,0,AT7-AU7)","v":0},null,{"$f":"IF(AY7=\"W\",$H$3,IF(AY7=\"D\",$P$3,0))","v":{"v":0,"d":"0.0"}},{"$f":"IF(AT7>AU7,\"W\",IF(AT7<AU7,\"L\",IF(AT7+AU7=0,\"\",IF(AT7=AU7,\"D\",0))))","v":""},{"$nulls":4},{"$f":"IF(BB7+BC7=0,0,BB7-BC7)","v":0},null,{"$f":"IF(BG7=\"W\",$H$3,IF(BG7=\"D\",$P$3,0))","v":{"v":0,"d":"0.0"}},{"$f":"IF(BB7>BC7,\"W\",IF(BB7<BC7,\"L\",IF(BB7+BC7=0,\"\",IF(BB7=BC7,\"D\",0))))","v":""},{"$nulls":4},{"$f":"IF(BJ7+BK7=0,0,BJ7-BK7)","v":0},null,{"$f":"IF(BO7=\"W\",$H$3,IF(BO7=\"D\",$P$3,0))","v":{"v":0,"d":"0.0"}},{"$f":"IF(BJ7>BK7,\"W\",IF(BJ7<BK7,\"L\",IF(BJ7+BK7=0,\"\",IF(BJ7=BK7,\"D\",0))))","v":""},{"$f":"G7+O7+W7+AE7+AM7+AU7+BC7+BK7","v":0},null,null,{"$f":"IF(BV7=\"D\",\"D\",IF(BV7=\"W\",BT7,IF(BV7=\"L\",BT7,0)))","v":0},{"$f":"IF(BQ7+BR7=0,0,IF(BQ7+BR7>0.1,BQ7-BR7,0))","v":0},{"$f":"IF(BV7=\"W\",1,IF(BV7=\"D\",0.5,0))","v":{"v":0,"d":"0.0"}},{"$f":"IF(BQ7>BR7,\"W\",IF(BQ7<BR7,\"L\",IF(BQ7=0,\"\",IF(BQ7=BR7,\"D\",0))))","v":""},{"$f":"(J7+R7+Z7+AH7+AP7+AX7+BF7+BN7+BU7)","v":0},{"$f":"I7+Q7+Y7+AG7+AO7+AW7+BE7+BM7","v":0},{"$f":"BL7+BD7+AV7+AN7+AF7+X7+P7+H7","v":0},{"$f":"((BW7+BX7)*1000000)+BY7","v":0},{"$f":"IF($BZ$7:$BZ$48=0,\"\",RANK(BZ7,$BZ$7:$BZ$48))","v":""},{"$f":"((J7+I7)*10000)+H7","v":{"v":0,"d":"0.0"}},{"$f":"((R7+Q7)*10000)+P7","v":{"v":0,"d":"0.0"}},{"$f":"((Z7+Y7)*10000)+X7","v":{"v":0,"d":"0.0"}},{"$f":"((AH7+AG7)*10000)+AF7","v":{"v":0,"d":"0.0"}},{"$f":"((AP7+AO7)*10000)+AN7","v":{"v":0,"d":"0.0"}},{"$f":"((AX7+AW7)*10000)+AV7","v":{"v":0,"d":"0.0"}},{"$f":"((BF7+BE7)*10000)+BD7","v":{"v":0,"d":"0.0"}},{"$f":"((BN7+BM7)*10000)+BL7","v":0}]
[{"$f":"B7","v":1},2,null,1,1,null,null,0,null,{"v":0,"d":"0.0"},"",{"$nulls":4},0,null,{"v":0,"d":"0.0"},"",{"$nulls":4},0,null,{"v":0,"d":"0.0"},"",{"$nulls":4},0,null,{"v":0,"d":"0.0"},"",{"$nulls":4},0,null,{"v":0,"d":"0.0"},"",{"$nulls":4},0,null,{"v":0,"d":"0.0"},"",{"$nulls":4},0,null,{"v":0,"d":"0.0"},"",{"$nulls":4},0,null,{"v":0,"d":"0.0"},"",0,null,null,0,0,{"v":0,"d":"0.0"},"",0,0,0,0,"",{"v":0,"d":"0.0"},{"v":0,"d":"0.0"},{"v":0,"d":"0.0"},{"v":0,"d":"0.0"},{"v":0,"d":"0.0"},{"v":0,"d":"0.0"},{"v":0,"d":"0.0"},0]
[{"$f":"B10","v":4},3,null,14,2,null,null,0,null,{"v":0,"d":"0.0"},"",{"$nulls":4},0,null,{"v":0,"d":"0.0"},"",{"$nulls":4},0,null,{"v":0,"d":"0.0"},"",{"$nulls":4},0,null,{"v":0,"d":"0.0"},"",{"$nulls":4},0,null,{"v":0,"d":"0.0"},"",{"$nulls":4},0,null,{"v":0,"d":"0.0"},"",{"$nulls":4},0,null,{"v":0,"d":"0.0"},"",{"$nulls":4},0,null,{"v":0,"d":"0.0"},"",0,null,null,0,0,{"v":0,"d":"0.0"},"",0,0,0,0,"",{"v":0,"d":"0.0"},{"v":0,"d":"0.0"},{"v":0,"d":"0.0"},{"v":0,"d":"0.0"},{"v":0,"d":"0.0"},{"v":0,"d":"0.0"},{"v":0,"d":"0.0"},0]
[{"$f":"B9","v":3},4,null,13,3,null,null,0,null,{"v":0,"d":"0.0"},"",{"$nulls":4},0,null,{"v":0,"d":"0.0"},"",{"$nulls":4},0,null,{"v":0,"d":"0.0"},"",{"$nulls":4},0,null,{"v":0,"d":"0.0"},"",{"$nulls":4},0,null,{"v":0,"d":"0.0"},"",{"$nulls":4},0,null,{"v":0,"d":"0.0"},"",{"$nulls":4},0,null,{"v":0,"d":"0.0"},"",{"$nulls":4},0,null,{"v":0,"d":"0.0"},"",0,null,null,0,0,{"v":0,"d":"0.0"},"",0,0,0,0,"",{"v":0,"d":"0.0"},{"v":0,"d":"0.0"},{"v":0,"d":"0.0"},{"v":0,"d":"0.0"},{"v":0,"d":"0.0"},{"v":0,"d":"0.0"},{"v":0,"d":"0.0"},0]
[{"$f":"B12","v":6},5,null,12,4,null,null,0,null,{"v":0,"d":"0.0"},"",{"$nulls":4},0,null,{"v":0,"d":"0.0"},"",{"$nulls":4},0,null,{"v":0,"d":"0.0"},"",{"$nulls":4},0,null,{"v":0,"d":"0.0"},"",{"$nulls":4},0,null,{"v":0,"d":"0.0"},"",{"$nulls":4},0,null,{"v":0,"d":"0.0"},"",{"$nulls":4},0,null,{"v":0,"d":"0.0"},"",{"$nulls":4},0,null,{"v":0,"d":"0.0"},"",0,null,null,0,0,{"v":0,"d":"0.0"},"",0,0,0,0,"",{"v":0,"d":"0.0"},{"v":0,"d":"0.0"},{"v":0,"d":"0.0"},{"v":0,"d":"0.0"},{"v":0,"d":"0.0"},{"v":0,"d":"0.0"},{"v":0,"d":"0.0"},0]
[{"$f":"B11","v":5},6,null,11,5,null,null,0,null,{"v":0,"d":"0.0"},"",{"$nulls":4},0,null,{"v":0,"d":"0.0"},"",{"$nulls":4},0,null,{"v":0,"d":"0.0"},"",{"$nulls":4},0,null,{"v":0,"d":"0.0"},"",{"$nulls":4},0,null,{"v":0,"d":"0.0"},"",{"$nulls":4},0,null,{"v":0,"d":"0.0"},"",{"$nulls":4},0,null,{"v":0,"d":"0.0"},"",{"$nulls":4},0,null,{"v":0,"d":"0.0"},"",0,null,null,0,0,{"v":0,"d":"0.0"},"",0,0,0,0,"",{"v":0,"d":"0.0"},{"v":0,"d":"0.0"},{"v":0,"d":"0.0"},{"v":0,"d":"0.0"},{"v":0,"d":"0.0"},{"v":0,"d":"0.0"},{"v":0,"d":"0.0"},0]
[{"$f":"B14","v":8},7,null,10,6,null,null,0,null,{"v":0,"d":"0.0"},"",{"$nulls":4},0,null,{"v":0,"d":"0.0"},"",{"$nulls":4},0,null,{"v":0,"d":"0.0"},"",{"$nulls":4},0,null,{"v":0,"d":"0.0"},"",{"$nulls":4},0,null,{"v":0,"d":"0.0"},"",{"$nulls":4},0,null,{"v":0,"d":"0.0"},"",{"$nulls":4},0,null,{"v":0,"d":"0.0"},"",{"$nulls":4},0,null,{"v":0,"d":"0.0"},"",0,null,null,0,0,{"v":0,"d":"0.0"},"",0,0,0,0,"",{"v":0,"d":"0.0"},{"v":0,"d":"0.0"},{"v":0,"d":"0.0"},{"v":0,"d":"0.0"},{"v":0,"d":"0.0"},{"v":0,"d":"0.0"},{"v":0,"d":"0.0"},0]
[{"$f":"B13","v":7},8,null,9,7,null,null,0,null,{"v":0,"d":"0.0"},"",{"$nulls":4},0,null,{"v":0,"d":"0.0"},"",{"$nulls":4},0,null,{"v":0,"d":"0.0"},"",{"$nulls":4},0,null,{"v":0,"d":"0.0"},"",{"$nulls":4},0,null,{"v":0,"d":"0.0"},"",{"$nulls":4},0,null,{"v":0,"d":"0.0"},"",{"$nulls":4},0,null,{"v":0,"d":"0.0"},"",{"$nulls":4},0,null,{"v":0,"d":"0.0"},"",0,null,null,0,0,{"v":0,"d":"0.0"},"",0,0,0,0,"",{"v":0,"d":"0.0"},{"v":0,"d":"0.0"},{"v":0,"d":"0.0"},{"v":0,"d":"0.0"},{"v":0,"d":"0.0"},{"v":0,"d":"0.0"},{"v":0,"d":"0.0"},0]
[{"$f":"B16","v":10},9,null,8,7,null,null,0,null,{"v":0,"d":"0.0"},"",{"$nulls":4},0,null,{"v":0,"d":"0.0"},"",{"$nulls":4},0,null,{"v":0,"d":"0.0"},"",{"$nulls":4},0,null,{"v":0,"d":"0.0"},"",{"$nulls":4},0,null,{"v":0,"d":"0.0"},"",{"$nulls":4},0,null,{"v":0,"d":"0.0"},"",{"$nulls":4},0,null,{"v":0,"d":"0.0"},"",{"$nulls":4},0,null,{"v":0,"d":"0.0"},"",0,null,null,0,0,{"v":0,"d":"0.0"},"",0,0,0,0,"",{"v":0,"d":"0.0"},{"v":0,"d":"0.0"},{"v":0,"d":"0.0"},{"v":0,"d":"0.0"},{"v":0,"d":"0.0"},{"v":0,"d":"0.0"},{"v":0,"d":"0.0"},0]
[{"$f":"B15","v":9},10,null,7,6,null,null,0,null,{"v":0,"d":"0.0"},"",{"$nulls":4},0,null,{"v":0,"d":"0.0"},"",{"$nulls":4},0,null,{"v":0,"d":"0.0"},"",{"$nulls":4},0,null,{"v":0,"d":"0.0"},"",{"$nulls":4},0,null,{"v":0,"d":"0.0"},"",{"$nulls":4},0,null,{"v":0,"d":"0.0"},"",{"$nulls":4},0,null,{"v":0,"d":"0.0"},"",{"$nulls":4},0,null,{"v":0,"d":"0.0"},"",0,null,null,0,0,{"v":0,"d":"0.0"},"",0,0,0,0,"",{"v":0,"d":"0.0"},{"v":0,"d":"0.0"},{"v":0,"d":"0.0"},{"v":0,"d":"0.0"},{"v":0,"d":"0.0"},{"v":0,"d":"0.0"},{"v":0,"d":"0.0"},0]
[{"$f":"B18","v":12},11,null,6,5,null,null,0,null,{"v":0,"d":"0.0"},"",{"$nulls":4},0,null,{"v":0,"d":"0.0"},"",{"$nulls":4},0,null,{"v":0,"d":"0.0"},"",{"$nulls":4},0,null,{"v":0,"d":"0.0"},"",{"$nulls":4},0,null,{"v":0,"d":"0.0"},"",{"$nulls":4},0,null,{"v":0,"d":"0.0"},"",{"$nulls":4},0,null,{"v":0,"d":"0.0"},"",{"$nulls":4},0,null,{"v":0,"d":"0.0"},"",0,null,null,0,0,{"v":0,"d":"0.0"},"",0,0,0,0,"",{"v":0,"d":"0.0"},{"v":0,"d":"0.0"},{"v":0,"d":"0.0"},{"v":0,"d":"0.0"},{"v":0,"d":"0.0"},{"v":0,"d":"0.0"},{"v":0,"d":"0.0"},0]
[{"$f":"B17","v":11},12,null,5,4,null,null,0,null,{"v":0,"d":"0.0"},"",{"$nulls":4},0,null,{"v":0,"d":"0.0"},"",{"$nulls":4},0,null,{"v":0,"d":"0.0"},"",{"$nulls":4},0,null,{"v":0,"d":"0.0"},"",{"$nulls":4},0,null,{"v":0,"d":"0.0"},"",{"$nulls":4},0,null,{"v":0,"d":"0.0"},"",{"$nulls":4},0,null,{"v":0,"d":"0.0"},"",{"$nulls":4},0,null,{"v":0,"d":"0.0"},"",0,null,null,0,0,{"v":0,"d":"0.0"},"",0,0,0,0,"",{"v":0,"d":"0.0"},{"v":0,"d":"0.0"},{"v":0,"d":"0.0"},{"v":0,"d":"0.0"},{"v":0,"d":"0.0"},{"v":0,"d":"0.0"},{"v":0,"d":"0.0"},0]
[{"$f":"B20","v":14},13,null,4,3,null,null,0,null,{"v":0,"d":"0.0"},"",{"$nulls":4},0,null,{"v":0,"d":"0.0"},"",{"$nulls":4},0,null,{"v":0,"d":"0.0"},"",{"$nulls":4},0,null,{"v":0,"d":"0.0"},"",{"$nulls":4},0,null,{"v":0,"d":"0.0"},"",{"$nulls":4},0,null,{"v":0,"d":"0.0"},"",{"$nulls":4},0,null,{"v":0,"d":"0.0"},"",{"$nulls":4},0,null,{"v":0,"d":"0.0"},"",0,null,null,0,0,{"v":0,"d":"0.0"},"",0,0,0,0,"",{"v":0,"d":"0.0"},{"v":0,"d":"0.0"},{"v":0,"d":"0.0"},{"v":0,"d":"0.0"},{"v":0,"d":"0.0"},{"v":0,"d":"0.0"},{"v":0,"d":"0.0"},0]
[{"$f":"B19","v":13},14,null,3,2,null,null,0,null,{"v":0,"d":"0.0"},"",{"$nulls":4},0,null,{"v":0,"d":"0.0"},"",{"$nulls":4},0,null,{"v":0,"d":"0.0"},"",{"$nulls":4},0,null,{"v":0,"d":"0.0"},"",{"$nulls":4},0,null,{"v":0,"d":"0.0"},"",{"$nulls":4},0,null,{"v":0,"d":"0.0"},"",{"$nulls":4},0,null,{"v":0,"d":"0.0"},"",{"$nulls":4},0,null,{"v":0,"d":"0.0"},"",0,null,null,0,0,{"v":0,"d":"0.0"},"",0,0,0,0,"",{"v":0,"d":"0.0"},{"v":0,"d":"0.0"},{"v":0,"d":"0.0"},{"v":0,"d":"0.0"},{"v":0,"d":"0.0"},{"v":0,"d":"0.0"},{"v":0,"d":"0.0"},0]
[{"$f":"B22","v":16},15,null,16,8,null,null,0,null,{"v":0,"d":"0.0"},"",{"$nulls":4},0,null,{"v":0,"d":"0.0"},"",{"$nulls":4},0,null,{"v":0,"d":"0.0"},"",{"$nulls":4},0,null,{"v":0,"d":"0.0"},"",{"$nulls":4},0,null,{"v":0,"d":"0.0"},"",{"$nulls":4},0,null,{"v":0,"d":"0.0"},"",{"$nulls":4},0,null,{"v":0,"d":"0.0"},"",{"$nulls":4},0,null,{"v":0,"d":"0.0"},"",0,null,null,0,0,{"v":0,"d":"0.0"},"",0,0,0,0,"",{"v":0,"d":"0.0"},{"v":0,"d":"0.0"},{"v":0,"d":"0.0"},{"v":0,"d":"0.0"},{"v":0,"d":"0.0"},{"v":0,"d":"0.0"},{"v":0,"d":"0.0"},0]
[{"$f":"B21","v":15},16,null,15,8,null,null,0,null,{"v":0,"d":"0.0"},"",{"$nulls":4},0,null,{"v":0,"d":"0.0"},"",{"$nulls":4},0,null,{"v":0,"d":"0.0"},"",{"$nulls":4},0,null,{"v":0,"d":"0.0"},"",{"$nulls":4},0,null,{"v":0,"d":"0.0"},"",{"$nulls":4},0,null,{"v":0,"d":"0.0"},"",{"$nulls":4},0,null,{"v":0,"d":"0.0"},"",{"$nulls":4},0,null,{"v":0,"d":"0.0"},"",0,null,null,0,0,{"v":0,"d":"0.0"},"",0,0,0,0,"",{"v":0,"d":"0.0"},{"v":0,"d":"0.0"},{"v":0,"d":"0.0"},{"v":0,"d":"0.0"},{"v":0,"d":"0.0"},{"v":0,"d":"0.0"},{"v":0,"d":"0.0"},0]
[{"$f":"B24","v":18},17,null,28,9,null,null,0,null,{"v":0,"d":"0.0"},"",{"$nulls":4},0,null,{"v":0,"d":"0.0"},"",{"$nulls":4},0,null,{"v":0,"d":"0.0"},"",{"$nulls":4},0,null,{"v":0,"d":"0.0"},"",{"$nulls":4},0,null,{"v":0,"d":"0.0"},"",{"$nulls":4},0,null,{"v":0,"d":"0.0"},"",{"$nulls":4},0,null,{"v":0,"d":"0.0"},"",{"$nulls":4},0,null,{"v":0,"d":"0.0"},"",0,null,null,0,0,{"v":0,"d":"0.0"},"",0,0,0,0,"",{"v":0,"d":"0.0"},{"v":0,"d":"0.0"},{"v":0,"d":"0.0"},{"v":0,"d":"0.0"},{"v":0,"d":"0.0"},{"v":0,"d":"0.0"},{"v":0,"d":"0.0"},0]
[{"$f":"B23","v":17},18,null,27,10,null,null,0,null,{"v":0,"d":"0.0"},"",{"$nulls":4},0,null,{"v":0,"d":"0.0"},"",{"$nulls":4},0,null,{"v":0,"d":"0.0"},"",{"$nulls":4},0,null,{"v":0,"d":"0.0"},"",{"$nulls":4},0,null,{"v":0,"d":"0.0"},"",{"$nulls":4},0,null,{"v":0,"d":"0.0"},"",{"$nulls":4},0,null,{"v":0,"d":"0.0"},"",{"$nulls":4},0,null,{"v":0,"d":"0.0"},"",0,null,null,0,0,{"v":0,"d":"0.0"},"",0,0,0,0,"",{"v":0,"d":"0.0"},{"v":0,"d":"0.0"},{"v":0,"d":"0.0"},{"v":0,"d":"0.0"},{"v":0,"d":"0.0"},{"v":0,"d":"0.0"},{"v":0,"d":"0.0"},0]
[{"$f":"B26","v":20},19,null,26,11,null,null,0,null,{"v":0,"d":"0.0"},"",{"$nulls":4},0,null,{"v":0,"d":"0.0"},"",{"$nulls":4},0,null,{"v":0,"d":"0.0"},"",{"$nulls":4},0,null,{"v":0,"d":"0.0"},"",{"$nulls":4},0,null,{"v":0,"d":"0.0"},"",{"$nulls":4},0,null,{"v":0,"d":"0.0"},"",{"$nulls":4},0,null,{"v":0,"d":"0.0"},"",{"$nulls":4},0,null,{"v":0,"d":"0.0"},"",0,null,null,0,0,{"v":0,"d":"0.0"},"",0,0,0,0,"",{"v":0,"d":"0.0"},{"v":0,"d":"0.0"},{"v":0,"d":"0.0"},{"v":0,"d":"0.0"},{"v":0,"d":"0.0"},{"v":0,"d":"0.0"},{"v":0,"d":"0.0"},0]
[{"$f":"B25","v":19},20,null,25,12,null,null,0,null,{"v":0,"d":"0.0"},"",{"$nulls":4},0,null,{"v":0,"d":"0.0"},"",{"$nulls":4},0,null,{"v":0,"d":"0.0"},"",{"$nulls":4},0,null,{"v":0,"d":"0.0"},"",{"$nulls":4},0,null,{"v":0,"d":"0.0"},"",{"$nulls":4},0,null,{"v":0,"d":"0.0"},"",{"$nulls":4},0,null,{"v":0,"d":"0.0"},"",{"$nulls":4},0,null,{"v":0,"d":"0.0"},"",0,null,null,0,0,{"v":0,"d":"0.0"},"",0,0,0,0,"",{"v":0,"d":"0.0"},{"v":0,"d":"0.0"},{"v":0,"d":"0.0"},{"v":0,"d":"0.0"},{"v":0,"d":"0.0"},{"v":0,"d":"0.0"},{"v":0,"d":"0.0"},0]
[{"$f":"B28","v":22},21,null,24,13,null,null,0,null,{"v":0,"d":"0.0"},"",{"$nulls":4},0,null,{"v":0,"d":"0.0"},"",{"$nulls":4},0,null,{"v":0,"d":"0.0"},"",{"$nulls":4},0,null,{"v":0,"d":"0.0"},"",{"$nulls":4},0,null,{"v":0,"d":"0.0"},"",{"$nulls":4},0,null,{"v":0,"d":"0.0"},"",{"$nulls":4},0,null,{"v":0,"d":"0.0"},"",{"$nulls":4},0,null,{"v":0,"d":"0.0"},"",0,null,null,0,0,{"v":0,"d":"0.0"},"",0,0,0,0,"",{"v":0,"d":"0.0"},{"v":0,"d":"0.0"},{"v":0,"d":"0.0"},{"v":0,"d":"0.0"},{"v":0,"d":"0.0"},{"v":0,"d":"0.0"},{"v":0,"d":"0.0"},0]
[{"$f":"B27","v":21},22,null,23,14,null,null,0,null,{"v":0,"d":"0.0"},"",{"$nulls":4},0,null,{"v":0,"d":"0.0"},"",{"$nulls":4},0,null,{"v":0,"d":"0.0"},"",{"$nulls":4},0,null,{"v":0,"d":"0.0"},"",{"$nulls":4},0,null,{"v":0,"d":"0.0"},"",{"$nulls":4},0,null,{"v":0,"d":"0.0"},"",{"$nulls":4},0,null,{"v":0,"d":"0.0"},"",{"$nulls":4},0,null,{"v":0,"d":"0.0"},"",0,null,null,0,0,{"v":0,"d":"0.0"},"",0,0,0,0,"",{"v":0,"d":"0.0"},{"v":0,"d":"0.0"},{"v":0,"d":"0.0"},{"v":0,"d":"0.0"},{"v":0,"d":"0.0"},{"v":0,"d":"0.0"},{"v":0,"d":"0.0"},0]
[{"$f":"B30","v":24},23,null,22,14,null,null,0,null,{"v":0,"d":"0.0"},"",{"$nulls":4},0,null,{"v":0,"d":"0.0"},"",{"$nulls":4},0,null,{"v":0,"d":"0.0"},"",{"$nulls":4},0,null,{"v":0,"d":"0.0"},"",{"$nulls":4},0,null,{"v":0,"d":"0.0"},"",{"$nulls":4},0,null,{"v":0,"d":"0.0"},"",{"$nulls":4},0,null,{"v":0,"d":"0.0"},"",{"$nulls":4},0,null,{"v":0,"d":"0.0"},"",0,null,null,0,0,{"v":0,"d":"0.0"},"",0,0,0,0,"",{"v":0,"d":"0.0"},{"v":0,"d":"0.0"},{"v":0,"d":"0.0"},{"v":0,"d":"0.0"},{"v":0,"d":"0.0"},{"v":0,"d":"0.0"},{"v":0,"d":"0.0"},0]
[{"$f":"B29","v":23},24,null,21,13,null,null,0,null,{"v":0,"d":"0.0"},"",{"$nulls":4},0,null,{"v":0,"d":"0.0"},"",{"$nulls":4},0,null,{"v":0,"d":"0.0"},"",{"$nulls":4},0,null,{"v":0,"d":"0.0"},"",{"$nulls":4},0,null,{"v":0,"d":"0.0"},"",{"$nulls":4},0,null,{"v":0,"d":"0.0"},"",{"$nulls":4},0,null,{"v":0,"d":"0.0"},"",{"$nulls":4},0,null,{"v":0,"d":"0.0"},"",0,null,null,0,0,{"v":0,"d":"0.0"},"",0,0,0,0,"",{"v":0,"d":"0.0"},{"v":0,"d":"0.0"},{"v":0,"d":"0.0"},{"v":0,"d":"0.0"},{"v":0,"d":"0.0"},{"v":0,"d":"0.0"},{"v":0,"d":"0.0"},0]
[{"$f":"B32","v":26},25,null,20,12,null,null,0,null,{"v":0,"d":"0.0"},"",{"$nulls":4},0,null,{"v":0,"d":"0.0"},"",{"$nulls":4},0,null,{"v":0,"d":"0.0"},"",{"$nulls":4},0,null,{"v":0,"d":"0.0"},"",{"$nulls":4},0,null,{"v":0,"d":"0.0"},"",{"$nulls":4},0,null,{"v":0,"d":"0.0"},"",{"$nulls":4},0,null,{"v":0,"d":"0.0"},"",{"$nulls":4},0,null,{"v":0,"d":"0.0"},"",0,null,null,0,0,{"v":0,"d":"0.0"},"",0,0,0,0,"",{"v":0,"d":"0.0"},{"v":0,"d":"0.0"},{"v":0,"d":"0.0"},{"v":0,"d":"0.0"},{"v":0,"d":"0.0"},{"v":0,"d":"0.0"},{"v":0,"d":"0.0"},0]
[{"$f":"B31","v":25},26,null,19,11,null,null,0,null,{"v":0,"d":"0.0"},"",{"$nulls":4},0,null,{"v":0,"d":"0.0"},"",{"$nulls":4},0,null,{"v":0,"d":"0.0"},"",{"$nulls":4},0,null,{"v":0,"d":"0.0"},"",{"$nulls":4},0,null,{"v":0,"d":"0.0"},"",{"$nulls":4},0,null,{"v":0,"d":"0.0"},"",{"$nulls":4},0,null,{"v":0,"d":"0.0"},"",{"$nulls":4},0,null,{"v":0,"d":"0.0"},"",0,null,null,0,0,{"v":0,"d":"0.0"},"",0,0,0,0,"",{"v":0,"d":"0.0"},{"v":0,"d":"0.0"},{"v":0,"d":"0.0"},{"v":0,"d":"0.0"},{"v":0,"d":"0.0"},{"v":0,"d":"0.0"},{"v":0,"d":"0.0"},0]
[{"$f":"B34","v":28},27,null,18,10,null,null,0,null,{"v":0,"d":"0.0"},"",{"$nulls":4},0,null,{"v":0,"d":"0.0"},"",{"$nulls":4},0,null,{"v":0,"d":"0.0"},"",{"$nulls":4},0,null,{"v":0,"d":"0.0"},"",{"$nulls":4},0,null,{"v":0,"d":"0.0"},"",{"$nulls":4},0,null,{"v":0,"d":"0.0"},"",{"$nulls":4},0,null,{"v":0,"d":"0.0"},"",{"$nulls":4},0,null,{"v":0,"d":"0.0"},"",0,null,null,0,0,{"v":0,"d":"0.0"},"",0,0,0,0,"",{"v":0,"d":"0.0"},{"v":0,"d":"0.0"},{"v":0,"d":"0.0"},{"v":0,"d":"0.0"},{"v":0,"d":"0.0"},{"v":0,"d":"0.0"},{"v":0,"d":"0.0"},0]
[{"$f":"B33","v":27},28,null,17,9,null,null,0,null,{"v":0,"d":"0.0"},"",{"$nulls":4},0,null,{"v":0,"d":"0.0"},"",{"$nulls":4},0,null,{"v":0,"d":"0.0"},"",{"$nulls":4},0,null,{"v":0,"d":"0.0"},"",{"$nulls":4},0,null,{"v":0,"d":"0.0"},"",{"$nulls":4},0,null,{"v":0,"d":"0.0"},"",{"$nulls":4},0,null,{"v":0,"d":"0.0"},"",{"$nulls":4},0,null,{"v":0,"d":"0.0"},"",0,null,null,0,0,{"v":0,"d":"0.0"},"",0,0,0,0,"",{"v":0,"d":"0.0"},{"v":0,"d":"0.0"},{"v":0,"d":"0.0"},{"v":0,"d":"0.0"},{"v":0,"d":"0.0"},{"v":0,"d":"0.0"},{"v":0,"d":"0.0"},0]
[{"$f":"B36","v":30},29,null,30,15,null,null,0,null,{"v":0,"d":"0.0"},"",{"$nulls":4},0,null,{"v":0,"d":"0.0"},"",{"$nulls":4},0,null,{"v":0,"d":"0.0"},"",{"$nulls":4},0,null,{"v":0,"d":"0.0"},"",{"$nulls":4},0,null,{"v":0,"d":"0.0"},"",{"$nulls":4},0,null,{"v":0,"d":"0.0"},"",{"$nulls":4},0,null,{"v":0,"d":"0.0"},"",{"$nulls":4},0,null,{"v":0,"d":"0.0"},"",0,null,null,0,0,{"v":0,"d":"0.0"},"",0,0,0,0,"",{"v":0,"d":"0.0"},{"v":0,"d":"0.0"},{"v":0,"d":"0.0"},{"v":0,"d":"0.0"},{"v":0,"d":"0.0"},{"v":0,"d":"0.0"},{"v":0,"d":"0.0"},0]
[{"$f":"B35","v":29},30,null,29,15,null,null,0,null,{"v":0,"d":"0.0"},"",{"$nulls":4},0,null,{"v":0,"d":"0.0"},"",{"$nulls":4},0,null,{"v":0,"d":"0.0"},"",{"$nulls":4},0,null,{"v":0,"d":"0.0"},"",{"$nulls":4},0,null,{"v":0,"d":"0.0"},"",{"$nulls":4},0,null,{"v":0,"d":"0.0"},"",{"$nulls":4},0,null,{"v":0,"d":"0.0"},"",{"$nulls":4},0,null,{"v":0,"d":"0.0"},"",0,null,null,0,0,{"v":0,"d":"0.0"},"",0,0,0,0,"",{"v":0,"d":"0.0"},{"v":0,"d":"0.0"},{"v":0,"d":"0.0"},{"v":0,"d":"0.0"},{"v":0,"d":"0.0"},{"v":0,"d":"0.0"},{"v":0,"d":"0.0"},0]
[{"$f":"B38","v":32},31,null,42,16,null,null,0,null,{"v":0,"d":"0.0"},"",{"$nulls":4},0,null,{"v":0,"d":"0.0"},"",{"$nulls":4},0,null,{"v":0,"d":"0.0"},"",{"$nulls":4},0,null,{"v":0,"d":"0.0"},"",{"$nulls":4},0,null,{"v":0,"d":"0.0"},"",{"$nulls":4},0,null,{"v":0,"d":"0.0"},"",{"$nulls":4},0,null,{"v":0,"d":"0.0"},"",{"$nulls":4},0,null,{"v":0,"d":"0.0"},"",0,null,null,0,0,{"v":0,"d":"0.0"},"",0,0,0,0,"",{"v":0,"d":"0.0"},{"v":0,"d":"0.0"},{"v":0,"d":"0.0"},{"v":0,"d":"0.0"},{"v":0,"d":"0.0"},{"v":0,"d":"0.0"},{"v":0,"d":"0.0"},0]
[{"$f":"B37","v":31},32,null,41,17,null,null,0,null,{"v":0,"d":"0.0"},"",{"$nulls":4},0,null,{"v":0,"d":"0.0"},"",{"$nulls":4},0,null,{"v":0,"d":"0.0"},"",{"$nulls":4},0,null,{"v":0,"d":"0.0"},"",{"$nulls":4},0,null,{"v":0,"d":"0.0"},"",{"$nulls":4},0,null,{"v":0,"d":"0.0"},"",{"$nulls":4},0,null,{"v":0,"d":"0.0"},"",{"$nulls":4},0,null,{"v":0,"d":"0.0"},"",0,null,null,0,0,{"v":0,"d":"0.0"},"",0,0,0,0,"",{"v":0,"d":"0.0"},{"v":0,"d":"0.0"},{"v":0,"d":"0.0"},{"v":0,"d":"0.0"},{"v":0,"d":"0.0"},{"v":0,"d":"0.0"},{"v":0,"d":"0.0"},0]
[{"$f":"B40","v":34},33,null,40,18,null,null,0,null,{"v":0,"d":"0.0"},"",{"$nulls":4},0,null,{"v":0,"d":"0.0"},"",{"$nulls":4},0,null,{"v":0,"d":"0.0"},"",{"$nulls":4},0,null,{"v":0,"d":"0.0"},"",{"$nulls":4},0,null,{"v":0,"d":"0.0"},"",{"$nulls":4},0,null,{"v":0,"d":"0.0"},"",{"$nulls":4},0,null,{"v":0,"d":"0.0"},"",{"$nulls":4},0,null,{"v":0,"d":"0.0"},"",0,null,null,0,0,{"v":0,"d":"0.0"},"",0,0,0,0,"",{"v":0,"d":"0.0"},{"v":0,"d":"0.0"},{"v":0,"d":"0.0"},{"v":0,"d":"0.0"},{"v":0,"d":"0.0"},{"v":0,"d":"0.0"},{"v":0,"d":"0.0"},0]
[{"$f":"B39","v":33},34,null,39,19,null,null,0,null,{"v":0,"d":"0.0"},"",{"$nulls":4},0,null,{"v":0,"d":"0.0"},"",{"$nulls":4},0,null,{"v":0,"d":"0.0"},"",{"$nulls":4},0,null,{"v":0,"d":"0.0"},"",{"$nulls":4},0,null,{"v":0,"d":"0.0"},"",{"$nulls":4},0,null,{"v":0,"d":"0.0"},"",{"$nulls":4},0,null,{"v":0,"d":"0.0"},"",{"$nulls":4},0,null,{"v":0,"d":"0.0"},"",0,null,null,0,0,{"v":0,"d":"0.0"},"",0,0,0,0,"",{"v":0,"d":"0.0"},{"v":0,"d":"0.0"},{"v":0,"d":"0.0"},{"v":0,"d":"0.0"},{"v":0,"d":"0.0"},{"v":0,"d":"0.0"},{"v":0,"d":"0.0"},0]
[{"$f":"B42","v":36},35,null,38,20,null,null,0,null,{"v":0,"d":"0.0"},"",{"$nulls":4},0,null,{"v":0,"d":"0.0"},"",{"$nulls":4},0,null,{"v":0,"d":"0.0"},"",{"$nulls":4},0,null,{"v":0,"d":"0.0"},"",{"$nulls":4},0,null,{"v":0,"d":"0.0"},"",{"$nulls":4},0,null,{"v":0,"d":"0.0"},"",{"$nulls":4},0,null,{"v":0,"d":"0.0"},"",{"$nulls":4},0,null,{"v":0,"d":"0.0"},"",0,null,null,0,0,{"v":0,"d":"0.0"},"",0,0,0,0,"",{"v":0,"d":"0.0"},{"v":0,"d":"0.0"},{"v":0,"d":"0.0"},{"v":0,"d":"0.0"},{"v":0,"d":"0.0"},{"v":0,"d":"0.0"},{"v":0,"d":"0.0"},0]
[{"$f":"B41","v":35},36,null,37,21,null,null,0,null,{"v":0,"d":"0.0"},"",{"$nulls":4},0,null,{"v":0,"d":"0.0"},"",{"$nulls":4},0,null,{"v":0,"d":"0.0"},"",{"$nulls":4},0,null,{"v":0,"d":"0.0"},"",{"$nulls":4},0,null,{"v":0,"d":"0.0"},"",{"$nulls":4},0,null,{"v":0,"d":"0.0"},"",{"$nulls":4},0,null,{"v":0,"d":"0.0"},"",{"$nulls":4},0,null,{"v":0,"d":"0.0"},"",0,null,null,0,0,{"v":0,"d":"0.0"},"",0,0,0,0,"",{"v":0,"d":"0.0"},{"v":0,"d":"0.0"},{"v":0,"d":"0.0"},{"v":0,"d":"0.0"},{"v":0,"d":"0.0"},{"v":0,"d":"0.0"},{"v":0,"d":"0.0"},0]
[{"$f":"B44","v":38},37,null,36,21,null,null,0,null,{"v":0,"d":"0.0"},"",{"$nulls":4},0,null,{"v":0,"d":"0.0"},"",{"$nulls":4},0,null,{"v":0,"d":"0.0"},"",{"$nulls":4},0,null,{"v":0,"d":"0.0"},"",{"$nulls":4},0,null,{"v":0,"d":"0.0"},"",{"$nulls":4},0,null,{"v":0,"d":"0.0"},"",{"$nulls":4},0,null,{"v":0,"d":"0.0"},"",{"$nulls":4},0,null,{"v":0,"d":"0.0"},"",0,null,null,0,0,{"v":0,"d":"0.0"},"",0,0,0,0,"",{"v":0,"d":"0.0"},{"v":0,"d":"0.0"},{"v":0,"d":"0.0"},{"v":0,"d":"0.0"},{"v":0,"d":"0.0"},{"v":0,"d":"0.0"},{"v":0,"d":"0.0"},0]
[{"$f":"B43","v":37},38,null,35,20,null,null,0,null,{"v":0,"d":"0.0"},"",{"$nulls":4},0,null,{"v":0,"d":"0.0"},"",{"$nulls":4},0,null,{"v":0,"d":"0.0"},"",{"$nulls":4},0,null,{"v":0,"d":"0.0"},"",{"$nulls":4},0,null,{"v":0,"d":"0.0"},"",{"$nulls":4},0,null,{"v":0,"d":"0.0"},"",{"$nulls":4},0,null,{"v":0,"d":"0.0"},"",{"$nulls":4},0,null,{"v":0,"d":"0.0"},"",0,null,null,0,0,{"v":0,"d":"0.0"},"",0,0,0,0,"",{"v":0,"d":"0.0"},{"v":0,"d":"0.0"},{"v":0,"d":"0.0"},{"v":0,"d":"0.0"},{"v":0,"d":"0.0"},{"v":0,"d":"0.0"},{"v":0,"d":"0.0"},0]
[{"$f":"B46","v":40},39,null,34,19,null,null,0,null,{"v":0,"d":"0.0"},"",{"$nulls":4},0,null,{"v":0,"d":"0.0"},"",{"$nulls":4},0,null,{"v":0,"d":"0.0"},"",{"$nulls":4},0,null,{"v":0,"d":"0.0"},"",{"$nulls":4},0,null,{"v":0,"d":"0.0"},"",{"$nulls":4},0,null,{"v":0,"d":"0.0"},"",{"$nulls":4},0,null,{"v":0,"d":"0.0"},"",{"$nulls":4},0,null,{"v":0,"d":"0.0"},"",0,null,null,0,0,{"v":0,"d":"0.0"},"",0,0,0,0,"",{"v":0,"d":"0.0"},{"v":0,"d":"0.0"},{"v":0,"d":"0.0"},{"v":0,"d":"0.0"},{"v":0,"d":"0.0"},{"v":0,"d":"0.0"},{"v":0,"d":"0.0"},0]
[{"$f":"B45","v":39},40,null,33,18,null,null,0,null,{"v":0,"d":"0.0"},"",{"$nulls":4},0,null,{"v":0,"d":"0.0"},"",{"$nulls":4},0,null,{"v":0,"d":"0.0"},"",{"$nulls":4},0,null,{"v":0,"d":"0.0"},"",{"$nulls":4},0,null,{"v":0,"d":"0.0"},"",{"$nulls":4},0,null,{"v":0,"d":"0.0"},"",{"$nulls":4},0,null,{"v":0,"d":"0.0"},"",{"$nulls":4},0,null,{"v":0,"d":"0.0"},"",0,null,null,0,0,{"v":0,"d":"0.0"},"",0,0,0,0,"",{"v":0,"d":"0.0"},{"v":0,"d":"0.0"},{"v":0,"d":"0.0"},{"v":0,"d":"0.0"},{"v":0,"d":"0.0"},{"v":0,"d":"0.0"},{"v":0,"d":"0.0"},0]
[{"$f":"B48","v":42},41,null,32,17,null,null,0,null,{"v":0,"d":"0.0"},"",{"$nulls":4},0,null,{"v":0,"d":"0.0"},"",{"$nulls":4},0,null,{"v":0,"d":"0.0"},"",{"$nulls":4},0,null,{"v":0,"d":"0.0"},"",{"$nulls":4},0,null,{"v":0,"d":"0.0"},"",{"$nulls":4},0,null,{"v":0,"d":"0.0"},"",{"$nulls":4},0,null,{"v":0,"d":"0.0"},"",{"$nulls":4},0,null,{"v":0,"d":"0.0"},"",0,null,null,0,0,{"v":0,"d":"0.0"},"",0,0,0,0,"",{"v":0,"d":"0.0"},{"v":0,"d":"0.0"},{"v":0,"d":"0.0"},{"v":0,"d":"0.0"},{"v":0,"d":"0.0"},{"v":0,"d":"0.0"},{"v":0,"d":"0.0"},0]
[{"$f":"B47","v":41},42,null,31,16,null,null,0,null,{"v":0,"d":"0.0"},"",{"$nulls":4},0,null,{"v":0,"d":"0.0"},"",{"$nulls":4},0,null,{"v":0,"d":"0.0"},"",{"$nulls":4},0,null,{"v":0,"d":"0.0"},"",{"$nulls":4},0,null,{"v":0,"d":"0.0"},"",{"$nulls":4},0,null,{"v":0,"d":"0.0"},"",{"$nulls":4},0,null,{"v":0,"d":"0.0"},"",{"$nulls":4},0,null,{"v":0,"d":"0.0"},"",0,null,null,0,0,{"v":0,"d":"0.0"},"",0,0,0,0,"",{"v":0,"d":"0.0"},{"v":0,"d":"0.0"},{"v":0,"d":"0.0"},{"v":0,"d":"0.0"},{"v":0,"d":"0.0"},{"v":0,"d":"0.0"},{"v":0,"d":"0.0"},0]

{"sheet":"DRAW","index":3,"n_rows":48,"n_cols":21,"rows_kept":48,"merged":[[0,1,0,18],[1,1,1,18],[4,1,4,2],[4,3,4,4],[4,5,4,6],[4,7,4,8],[4,9,4,10],[4,11,4,12],[4,13,4,14],[4,15,4,16],[4,17,4,18],[4,19,4,20]]}
[null,"Tournament Name etc. Here."]
[null,"Other heading info"]
[]
[]
[null,"RINK DRAW",null,"Round 1",null,"Round 2",null,"Round 3",null,"Round 4",null,"Round 5",null,"Round 6",null,"Round 7",null,"Round 8",null,"Round 9"]
[null,"Team","Skips Name","vs","Rink","vs","Rink","vs","Rink","vs","Rink","vs","Rink","vs","Rink","vs","Rink","vs","Rink","vs","Rink"]
[null,1,null,2,1]
[null,2,null,1,1]
[null,3,null,14,2]
[null,4,null,13,3]
[null,5,null,12,4]
[null,6,null,11,5]
[null,7,null,10,6]
[null,8,null,9,7]
[null,9,null,8,7]
[null,10,null,7,6]
[null,11,null,6,5]
[null,12,null,5,4]
[null,13,null,4,3]
[null,14,null,3,2]
[null,15,null,16,8]
[null,16,null,15,8,{"$nulls":14},17]
[null,17,null,28,9]
[null,18,null,27,10]
[null,19,null,26,11]
[null,20,null,25,12]
[null,21,null,24,13]
[null,22,null,23,14]
[null,23,null,22,14]
[null,24,null,21,13]
[null,25,null,20,12]
[null,26,null,19,11]
[null,27,null,18,10]
[null,28,null,17,9]
[null,29,null,30,15]
[null,30,null,29,15]
[null,31,null,42,16]
[null,32,null,41,17]
[null,33,null,40,18]
[null,34,null,39,19]
[null,35,null,38,20]
[null,36,null,37,21]
[null,37,null,36,21]
[null,38,null,35,20]
[null,39,null,34,19]
[null,40,null,33,18]
[null,41,null,32,17]
[null,42,null,31,16]

{"sheet":"Score Cards","index":4,"n_rows":1092,"n_cols":57,"rows_kept":1092,"merged":[[0,1,0,6],[0,8,0,13],[0,15,0,20],[0,22,0,27],[0,29,0,34],[0,36,0,41],[1,1,2,3],[1,4,2,6],[1,11,2,13],[1,18,2,20],[1,25,2,27],[1,32,2,34],[3,1,3,3],[3,4,3,6],[3,11,3,13],[3,18,3,20],[3,25,3,27],[3,32,3,34],[24,1,25,1],[24,8,25,8],[24,15,25,15],[24,22,25,22],[24,29,25,29],[26,1,26,6],[26,8,26,13],[26,15,26,20],[26,22,26,27],[26,29,26,34],[27,1,28,3],[27,4,28,6],[27,18,28,20],[27,25,28,27],[27,32,28,34],[29,1,29,3],[29,4,29,6],[29,18,29,20],[29,25,29,27],[50,1,51,1],[50,15,51,15],[50,22,51,22],[52,1,52,6],[52,8,52,13],[52,15,52,20],[52,22,52,27],[53,1,54,3],[53,4,54,6],[53,11,54,13],[53,18,54,20],[55,1,55,3],[55,4,55,6],[55,11,55,13],[55,18,55,20],[55,25,55,27],[76,1,77,1],[76,8,77,8],[76,15,77,15],[76,22,77,22],[78,1,78,6],[78,8,78,13],[78,15,78,20],[78,22,78,27],[78,29,78,34],[79,1,80,3],[79,4,80,6],[79,18,80,20],[79,25,80,27],[81,1,81,3],[81,4,81,6],[81,11,81,13],[81,18,81,20],[81,25,81,27],[81,32,81,34],[102,1,103,1],[102,15,103,15],[102,22,103,22],[102,29,103,29],[104,1,104,6],[104,8,104,13],[104,15,104,20],[104,22,104,27],[104,29,104,34],[105,1,106,3],[105,4,106,6],[105,8,107,10],[105,11,106,13],[105,18,106,20],[105,25,106,27],[105,32,106,34],[107,1,107,3],[107,4,107,6],[107,11,107,13],[107,18,107,20],[107,25,107,27],[107,32,107,34],[128,1,129,1],[128,8,129,8],[128,15,129,15],[128,22,129,22],[128,29,129,29],[130,1,130,6],[130,22,130,27],[131,1,132,3],[131,4,132,6],[131,8,133,10],[131,11,132,13],[131,15,133,17],[131,22,133,24],[131,25,132,27],[133,1,133,3],[133,4,133,6],[133,11,133,13],[133,25,133,27],[133,32,133,34],[154,1,155,1],[154,8,155,8],[154,15,155,15],[154,22,155,22],[156,1,156,6],[156,15,156,20],[156,22,156,27],[156,29,156,34],[157,1,158,3],[157,4,158,6],[157,18,158,20],[157,25,158,27],[157,32,158,34],[159,1,159,3],[159,4,159,6],[159,18,159,20],[180,1,181,1],[180,8,181,8],[180,15,181,15],[180,22,181,22],[180,29,181,29],[182,1,182,6],[182,8,182,13],[182,15,182,20],[182,22,182,27],[182,29,182,34],[183,1,184,3],[183,4,184,6],[183,8,185,10],[183,11,184,13],[183,15,185,17],[183,18,184,20],[183,22,185,24],[183,25,184,27],[183,29,185,31],[183,32,184,34],[185,1,185,3],[185,4,185,6],[185,11,185,13],[185,18,185,20],[185,25,185,27],[185,32,185,34],[206,1,207,1],[206,15,207,15],[206,22,207,22],[206,29,207,29],[208,1,208,6],[208,8,208,13],[208,15,208,20],[208,22,208,27],[208,29,208,34],[208,36,208,41],[209,1,210,3],[209,4,210,6],[209,11,210,13],[209,18,210,20],[209,25,210,27],[209,32,210,34],[209,39,210,41],[211,1,211,3],[211,4,211,6],[211,11,211,13],[211,18,211,20],[211,25,211,27],[211,39,211,41],[232,1,233,1],[232,8,233,8],[232,15,233,15],[232,22,233,22],[232,29,233,29],[232,36,233,36],[234,1,234,6],[234,8,234,13],[234,15,234,20],[234,22,234,27],[234,36,234,41],[235,1,236,3],[235,4,236,6],[235,11,236,13],[235,18,236,20],[235,25,236,27],[235,32,236,34],[237,1,237,3],[237,4,237,6],[237,11,237,13],[237,25,237,27],[237,32,237,34],[237,39,237,41],[258,1,259,1],[258,8,259,8],[258,15,259,15],[258,22,259,22],[258,29,259,29],[258,36,259,36],[260,1,260,6],[260,8,260,13],[260,15,260,20],[260,22,260,27],[260,29,260,34],[260,36,260,41],[261,1,262,3],[261,4,262,6],[261,8,263,10],[261,11,262,13],[261,15,263,17],[261,18,262,20],[261,22,263,24],[261,25,262,27],[261,29,263,31],[261,32,262,34],[261,36,263,38],[261,39,262,41],[263,1,263,3],[263,4,263,6],[263,11,263,13],[263,18,263,20],[263,25,263,27],[263,32,263,34],[263,39,263,41],[284,1,285,1],[284,8,285,8],[284,15,285,15],[284,22,285,22],[284,29,285,29],[284,36,285,36],[286,1,286,6],[286,8,286,13],[286,15,286,20],[286,22,286,27],[286,29,286,34],[286,36,286,41],[287,1,288,3],[287,4,288,6],[287,8,289,10],[287,11,288,13],[287,15,289,17],[287,18,288,20],[287,22,289,24],[287,25,288,27],[287,29,289,31],[287,32,288,34],[287,36,289,38],[287,39,288,41],[289,1,289,3],[289,4,289,6],[289,11,289,13],[289,18,289,20],[289,25,289,27],[289,32,289,34],[289,39,289,41],[310,1,311,1],[310,8,311,8],[310,15,311,15],[310,22,311,22],[310,29,311,29],[310,36,311,36],[312,1,312,6],[312,8,312,13],[312,15,312,20],[312,22,312,27],[312,29,312,34],[312,36,312,41],[313,1,314,3],[313,4,314,6],[313,8,315,10],[313,11,314,13],[313,15,315,17],[313,18,314,20],[313,22,315,24],[313,25,314,27],[313,29,315,31],[313,32,314,34],[313,36,315,38],[313,39,314,41],[315,1,315,3],[315,4,315,6],[315,11,315,13],[315,18,315,20],[315,25,315,27],[315,32,315,34],[315,39,315,41],[336,1,337,1],[336,8,337,8],[336,15,337,15],[336,22,337,22],[336,29,337,29],[338,1,338,6],[338,8,338,13],[338,15,338,20],[338,22,338,27],[338,29,338,34],[339,1,340,3],[339,4,340,6],[339,11,340,13],[339,15,341,17],[339,22,341,24],[339,25,340,27],[339,29,341,31],[339,32,340,34],[341,1,341,3],[341,4,341,6],[341,11,341,13],[341,18,341,20],[341,25,341,27],[341,32,341,34],[362,1,363,1],[362,22,363,22],[362,29,363,29],[364,1,364,6],[364,15,364,20],[364,22,364,27],[364,29,364,34],[365,1,366,3],[365,4,366,6],[365,25,366,27],[365,32,366,34],[367,1,367,3],[367,4,367,6],[367,11,367,13],[367,18,367,20],[367,25,367,27],[367,32,367,34],[388,1,389,1],[388,15,389,15],[388,22,389,22],[388,29,389,29],[390,1,390,6],[390,8,390,13],[390,15,390,20],[390,22,390,27],[390,29,390,34],[391,1,392,3],[391,4,392,6],[391,18,392,20],[391,25,392,27],[391,32,392,34],[393,1,393,3],[393,4,393,6],[393,25,393,27],[393,32,393,34],[414,1,415,1],[414,8,415,8],[414,15,415,15],[414,22,415,22],[414,29,415,29],[414,36,415,36],[416,1,416,6],[416,8,416,13],[416,15,416,20],[416,22,416,27],[416,29,416,34],[416,36,416,41],[417,1,418,3],[417,4,418,6],[417,8,419,10],[417,15,419,17],[417,18,418,20],[417,22,419,24],[417,25,418,27],[417,29,419,31],[417,32,418,34],[417,36,419,38],[417,39,418,41],[419,1,419,3],[419,4,419,6],[419,11,419,13],[419,18,419,20],[419,32,419,34],[419,39,419,41],[440,1,441,1],[440,15,441,15],[440,29,441,29],[440,36,441,36],[442,1,442,6],[442,15,442,20],[442,29,442,34],[443,1,444,3],[443,4,444,6],[443,11,444,13],[443,18,444,20],[443,32,444,34],[443,39,444,41],[445,1,445,3],[445,4,445,6],[445,11,445,13],[445,18,445,20],[445,39,445,41],[466,1,467,1],[466,8,467,8],[466,15,467,15],[466,29,467,29],[466,36,467,36],[468,1,468,6],[468,15,468,20],[468,22,468,27],[468,29,468,34],[468,36,468,41],[469,1,470,3],[469,4,470,6],[469,11,470,13],[469,18,470,20],[469,25,470,27],[469,32,470,34],[471,1,471,3],[471,4,471,6],[471,18,471,20],[471,25,471,27],[471,32,471,34],[471,39,471,41],[492,1,493,1],[492,8,493,8],[492,15,493,15],[492,22,493,22],[492,29,493,29],[492,36,493,36],[494,1,494,6],[494,8,494,13],[494,15,494,20],[494,22,494,27],[494,29,494,34],[494,36,494,41],[495,1,496,3],[495,4,496,6],[495,8,497,10],[495,11,496,13],[495,15,497,17],[495,18,496,20],[495,22,497,24],[495,25,496,27],[495,29,497,31],[495,32,496,34],[495,36,497,38],[495,39,496,41],[497,1,497,3],[497,4,497,6],[497,11,497,13],[497,18,497,20],[497,25,497,27],[497,32,497,34],[497,39,497,41],[518,1,519,1],[518,8,519,8],[518,15,519,15],[518,22,519,22],[518,29,519,29],[518,36,519,36],[520,1,520,6],[520,8,520,13],[520,15,520,20],[520,22,520,27],[520,29,520,34],[520,36,520,41],[521,1,522,3],[521,4,522,6],[521,8,523,10],[521,11,522,13],[521,15,523,17],[521,18,522,20],[521,22,523,24],[521,25,522,27],[521,29,523,31],[521,32,522,34],[521,36,523,38],[521,39,522,41],[523,1,523,3],[523,4,523,6],[523,11,523,13],[523,18,523,20],[523,25,523,27],[523,32,523,34],[523,39,523,41],[544,1,545,1],[544,8,545,8],[544,15,545,15],[544,22,545,22],[544,29,545,29],[544,36,545,36],[546,1,546,6],[546,8,546,13],[546,15,546,20],[546,22,546,27],[546,29,546,34],[546,36,546,41],[547,1,548,3],[547,4,548,6],[547,8,549,10],[547,11,548,13],[547,15,549,17],[547,18,548,20],[547,22,549,24],[547,25,548,27],[547,29,549,31],[547,32,548,34],[547,36,549,38],[547,39,548,41],[549,1,549,3],[549,4,549,6],[549,11,549,13],[549,18,549,20],[549,25,549,27],[549,32,549,34],[549,39,549,41],[570,1,571,1],[570,8,571,8],[570,15,571,15],[570,22,571,22],[570,29,571,29],[570,36,571,36],[572,1,572,6],[572,15,572,20],[572,22,572,27],[572,29,572,34],[572,36,572,41],[573,1,574,3],[573,4,574,6],[573,8,575,10],[573,15,575,17],[573,18,574,20],[573,22,575,24],[573,25,574,27],[573,29,575,31],[573,32,574,34],[573,36,575,38],[573,39,574,41],[575,1,575,3],[575,4,575,6],[575,18,575,20],[575,25,575,27],[575,32,575,34],[575,39,575,41],[596,1,597,1],[596,15,597,15],[596,22,597,22],[596,36,597,36],[598,1,598,6],[598,8,598,13],[598,15,598,20],[598,22,598,27],[598,36,598,41],[599,1,600,3],[599,4,600,6],[599,8,601,10],[599,11,600,13],[599,15,601,17],[599,18,600,20],[599,22,601,24],[599,25,600,27],[599,29,601,31],[599,36,601,38],[599,39,600,41],[601,1,601,3],[601,4,601,6],[601,11,601,13],[601,18,601,20],[601,25,601,27],[601,32,601,34],[601,39,601,41],[622,1,623,1],[622,8,623,8],[622,15,623,15],[622,22,623,22],[622,36,623,36],[624,1,624,6],[624,15,624,20],[624,36,624,41],[625,1,626,3],[625,4,626,6],[625,8,627,10],[625,11,626,13],[625,15,627,17],[625,18,626,20],[625,22,627,24],[625,29,627,31],[625,36,627,38],[625,39,626,41],[627,1,627,3],[627,4,627,6],[627,11,627,13],[627,18,627,20],[627,25,627,27],[627,39,627,41],[648,1,649,1],[648,8,649,8],[648,15,649,15],[648,22,649,22],[648,36,649,36],[650,1,650,6],[650,8,650,13],[650,15,650,20],[650,22,650,27],[650,36,650,41],[651,1,652,3],[651,4,652,6],[651,8,653,10],[651,11,652,13],[651,18,652,20],[651,25,652,27],[651,39,652,41],[653,1,653,3],[653,4,653,6],[653,11,653,13],[653,18,653,20],[653,25,653,27],[653,39,653,41],[674,1,675,1],[674,8,675,8],[674,15,675,15],[674,22,675,22],[674,36,675,36],[676,1,676,6],[676,8,676,13],[676,15,676,20],[676,22,676,27],[676,29,676,34],[676,36,676,41],[677,1,678,3],[677,4,678,6],[677,11,678,13],[677,18,678,20],[677,25,678,27],[677,32,678,34],[679,1,679,3],[679,4,679,6],[679,11,679,13],[679,18,679,20],[700,1,701,1],[700,8,701,8],[700,22,701,22],[702,1,702,6],[702,8,702,13],[702,22,702,27],[703,1,704,3],[703,4,704,6],[703,8,705,10],[703,11,704,13],[703,15,705,17],[703,22,705,24],[703,25,704,27],[703,29,705,31],[705,1,705,3],[705,4,705,6],[705,18,705,20],[705,25,705,27],[705,32,705,34],[726,1,727,1],[726,8,727,8],[726,22,727,22],[726,29,727,29],[728,1,728,6],[728,8,728,13],[728,15,728,20],[728,22,728,27],[728,29,728,34],[729,1,730,3],[729,4,730,6],[729,8,731,10],[729,11,730,13],[729,18,730,20],[729,25,730,27],[731,1,731,3],[731,4,731,6],[731,11,731,13],[731,18,731,20],[731,25,731,27],[731,32,731,34],[752,1,753,1],[752,8,753,8],[752,15,753,15],[752,22,753,22],[752,29,753,29],[752,36,753,36],[754,1,754,6],[754,15,754,20],[754,22,754,27],[754,29,754,34],[755,1,756,3],[755,4,756,6],[755,8,757,10],[755,11,756,13],[755,15,757,17],[755,18,756,20],[755,22,757,24],[755,25,756,27],[755,29,757,31],[755,32,756,34],[755,36,757,38],[755,39,756,41],[757,1,757,3],[757,4,757,6],[757,25,757,27],[757,39,757,41],[778,1,779,1],[778,8,779,8],[778,22,779,22],[778,29,779,29],[778,36,779,36],[780,1,780,6],[780,8,780,13],[780,29,780,34],[780,36,780,41],[781,1,782,3],[781,4,782,6],[781,11,782,13],[781,32,782,34],[783,1,783,3],[783,4,783,6],[783,11,783,13],[783,25,783,27],[783,32,783,34],[783,39,783,41],[804,1,805,1],[804,8,805,8],[804,15,805,15],[804,22,805,22],[804,29,805,29],[804,36,805,36],[806,1,806,6],[806,8,806,13],[806,15,806,20],[806,22,806,27],[806,29,806,34],[806,36,806,41],[807,1,808,3],[807,4,808,6],[807,8,809,10],[807,11,808,13],[807,15,809,17],[807,18,808,20],[807,22,809,24],[807,25,808,27],[807,29,809,31],[807,32,808,34],[807,36,809,38],[807,39,808,41],[809,1,809,3],[809,4,809,6],[809,11,809,13],[809,18,809,20],[809,25,809,27],[809,32,809,34],[809,39,809,41],[830,1,831,1],[830,8,831,8],[830,15,831,15],[830,22,831,22],[830,29,831,29],[830,36,831,36],[832,1,832,6],[832,8,832,13],[832,15,832,20],[832,22,832,27],[832,29,832,34],[832,36,832,41],[833,1,834,3],[833,4,834,6],[833,8,835,10],[833,15,835,17],[833,18,834,20],[833,25,834,27],[833,32,834,34],[833,39,834,41],[835,1,835,3],[835,4,835,6],[835,11,835,13],[835,32,835,34],[835,39,835,41],[856,1,857,1],[856,15,857,15],[856,22,857,22],[856,29,857,29],[856,36,857,36],[858,1,858,6],[858,8,858,13],[858,15,858,20],[858,22,858,27],[858,29,858,34],[858,36,858,41],[859,1,860,3],[859,4,860,6],[859,18,860,20],[859,25,860,27],[859,32,860,34],[859,39,860,41],[861,1,861,3],[861,4,861,6],[861,18,861,20],[861,25,861,27],[861,32,861,34],[861,39,861,41],[882,1,883,1],[882,8,883,8],[882,15,883,15],[882,22,883,22],[882,29,883,29],[884,1,884,6],[884,8,884,13],[884,15,884,20],[884,22,884,27],[884,29,884,34],[885,1,886,3],[885,4,886,6],[885,11,886,13],[885,18,886,20],[885,25,886,27],[887,1,887,3],[887,4,887,6],[887,11,887,13],[887,18,887,20],[887,25,887,27],[887,32,887,34],[908,1,909,1],[908,8,909,8],[908,15,909,15],[908,22,909,22],[908,29,909,29],[908,36,909,36],[910,1,910,6],[910,8,910,13],[910,15,910,20],[910,22,910,27],[910,29,910,34],[910,36,910,41],[911,1,912,3],[911,4,912,6],[911,8,913,10],[911,11,912,13],[911,15,913,17],[911,18,912,20],[911,22,913,24],[911,25,912,27],[911,29,913,31],[911,32,912,34],[911,36,913,38],[911,39,912,41],[913,1,913,3],[913,4,913,6],[913,11,913,13],[913,18,913,20],[913,25,913,27],[913,39,913,41],[934,1,935,1],[934,8,935,8],[934,15,935,15],[934,22,935,22],[934,29,935,29],[934,36,935,36],[936,1,936,6],[936,15,936,20],[936,22,936,27],[936,36,936,41],[937,1,938,3],[937,4,938,6],[937,18,938,20],[937,25,938,27],[939,1,939,3],[939,4,939,6],[939,11,939,13],[939,18,939,20],[939,39,939,41],[960,1,961,1],[960,15,961,15],[960,22,961,22],[960,36,961,36],[962,1,962,6],[962,8,962,13],[962,15,962,20],[962,22,962,27],[962,36,962,41],[963,1,964,3],[963,4,964,6],[963,18,964,20],[963,39,964,41],[965,1,965,3],[965,4,965,6],[965,11,965,13],[965,18,965,20],[965,25,965,27],[965,39,965,41],[986,1,987,1],[986,8,987,8],[986,15,987,15],[986,22,987,22],[986,29,987,29],[986,36,987,36],[988,1,988,6],[988,8,988,13],[988,15,988,20],[988,22,988,27],[988,29,988,34],[988,36,988,41],[989,1,990,3],[989,4,990,6],[989,11,990,13],[989,18,990,20],[989,25,990,27],[989,32,990,34],[991,1,991,3],[991,4,991,6],[991,11,991,13],[991,18,991,20],[991,25,991,27],[991,32,991,34],[991,39,991,41],[1012,1,1013,1],[1012,8,1013,8],[1012,15,1013,15],[1012,22,1013,22],[1012,29,1013,29],[1012,36,1013,36],[1014,1,1014,6],[1014,8,1014,13],[1014,15,1014,20],[1014,29,1014,34],[1014,36,1014,41],[1015,1,1016,3],[1015,4,1016,6],[1015,11,1016,13],[1015,18,1016,20],[1015,25,1016,27],[1015,32,1016,34],[1015,39,1016,41],[1017,1,1017,3],[1017,4,1017,6],[1017,11,1017,13],[1017,18,1017,20],[1017,25,1017,27],[1017,32,1017,34],[1017,39,1017,41],[1038,1,1039,1],[1038,8,1039,8],[1038,15,1039,15],[1038,22,1039,22],[1038,29,1039,29],[1038,36,1039,36],[1040,1,1040,6],[1040,8,1040,13],[1040,15,1040,20],[1040,22,1040,27],[1040,29,1040,34],[1040,36,1040,41],[1041,1,1042,3],[1041,4,1042,6],[1041,11,1042,13],[1041,18,1042,20],[1041,25,1042,27],[1041,32,1042,34],[1041,39,1042,41],[1043,1,1043,3],[1043,4,1043,6],[1043,11,1043,13],[1043,18,1043,20],[1043,25,1043,27],[1043,32,1043,34],[1043,39,1043,41],[1064,1,1065,1],[1064,8,1065,8],[1064,15,1065,15],[1064,22,1065,22],[1064,29,1065,29],[1064,36,1065,36],[1066,1,1066,6],[1066,8,1066,13],[1066,15,1066,20],[1066,29,1066,34],[1066,36,1066,41],[1067,1,1068,3],[1067,4,1068,6],[1067,8,1069,10],[1067,11,1068,13],[1067,15,1069,17],[1067,18,1068,20],[1067,22,1069,24],[1067,32,1068,34],[1067,39,1068,41],[1069,1,1069,3],[1069,4,1069,6],[1069,11,1069,13],[1069,18,1069,20],[1069,25,1069,27],[1069,32,1069,34],[1069,39,1069,41],[1090,1,1091,1],[1090,8,1091,8],[1090,15,1091,15],[1090,22,1091,22],[1090,29,1091,29],[1090,36,1091,36]],"merged_total":1722,"flags":["merged_cut"]}
[1,"1st Game ",{"$nulls":5},1,"2nd Game ",{"$nulls":5},1,"3rd Game ",{"$nulls":5},1,"4th Game",{"$nulls":5},1,"5th Game",{"$nulls":5},1,"6th Game",{"$nulls":5},1,"7th Game",{"$nulls":5},1,"8th Game",{"$nulls":5},1]
[1,"Team No",null,null,"Rink No",null,null,1,{"$f":"VLOOKUP(A4,Sheet1!$B$7:'Sheet1'!C48,2,0)","v":0},null,null,"Rink No",null,null,1,{"$f":"VLOOKUP(A4,Sheet1!$B$7:'Sheet1'!C48,2,0)","v":0},null,null,"Rink No",null,null,1,{"$f":"VLOOKUP(A4,Sheet1!$B$7:'Sheet1'!C48,2,0)","v":0},null,null,"Rink No",null,null,1,{"$f":"VLOOKUP(A4,Sheet1!$B$7:'Sheet1'!C48,2,0)","v":0},null,null,"Rink No",null,null,1,{"$f":"VLOOKUP(A4,Sheet1!$B$7:'Sheet1'!C48,2,0)","v":0},null,null,"Rink No",null,null,1,{"$f":"VLOOKUP(A4,Sheet1!$B$7:'Sheet1'!C48,2,0)","v":0},null,null,"Rink No",null,null,1,{"$f":"VLOOKUP(A4,Sheet1!$B$7:'Sheet1'!C48,2,0)","v":0},null,null,"Rink No",null,null,1]
[1,{"$nulls":6},1,{"$nulls":6},1,{"$nulls":6},1,{"$nulls":6},1,{"$nulls":6},1,{"$nulls":6},1,{"$nulls":6},1,{"$nulls":6},1]
[1,{"$f":"DRAW!$B$7","v":1},null,null,{"$f":"DRAW!$E$7","v":1},null,null,1,{"$nulls":3},{"$f":"DRAW!$G$7","v":0},null,null,1,{"$nulls":3},{"$f":"DRAW!$I$7","v":0},null,null,1,{"$nulls":3},{"$f":"DRAW!$K$7","v":0},null,null,1,{"$nulls":3},{"$f":"DRAW!$M$7","v":0},null,null,1,{"$nulls":3},{"$f":"DRAW!$O$7","v":0},null,null,1,{"$nulls":3},{"$f":"DRAW!$Q$7","v":0},null,null,1,{"$nulls":3},{"$f":"DRAW!$S$7","v":0},null,null,1]
[1,null,"Team",{"$f":"DRAW!$B$7","v":1},"V","Team",{"$f":"DRAW!$D$7","v":2},1,null,"Team",{"$f":"DRAW!$B$7","v":1},"V","Team",{"$f":"DRAW!$F$7","v":0},1,null,"Team",{"$f":"DRAW!$B$7","v":1},"V","Team",{"$f":"DRAW!$H$7","v":0},1,null,"Team",{"$f":"DRAW!$B$7","v":1},"V","Team",{"$f":"DRAW!$J$7","v":0},1,null,"Team",{"$f":"DRAW!$B$7","v":1},"V","Team",{"$f":"DRAW!$L$7","v":0},1,null,"Team",{"$f":"DRAW!$B$7","v":1},"V","Team",{"$f":"DRAW!$N$7","v":0},1,null,"Team",{"$f":"DRAW!$B$7","v":1},"V","Team",{"$f":"DRAW!$P$7","v":0},1,null,"Team",{"$f":"DRAW!$B$7","v":1},"V","Team",{"$f":"DRAW!$R$7","v":0},1]
[1,"Ends","Shots","Total",null,"Shots","Total",1,"Ends","Shots","Total",null,"Shots","Total",1,"Ends","Shots","Total",null,"Shots","Total",1,"Ends","Shots","Total",null,"Shots","Total",1,"Ends","Shots","Total",null,"Shots","Total",1,"Ends","Shots","Total",null,"Shots","Total",1,"Ends","Shots","Total",null,"Shots","Total",1,"Ends","Shots","Total",null,"shots","Total",1]
[1,1,{"$nulls":5},1,1,{"$nulls":5},1,1,{"$nulls":5},1,1,{"$nulls":5},1,1,{"$nulls":5},1,1,{"$nulls":5},1,1,{"$nulls":5},1,1,{"$nulls":5},1]
[1,2,{"$nulls":5},1,2,{"$nulls":5},1,2,{"$nulls":5},1,2,{"$nulls":5},1,2,{"$nulls":5},1,2,{"$nulls":5},1,2,{"$nulls":5},1,2,{"$nulls":5},1]
[1,3,{"$nulls":5},1,3,{"$nulls":5},1,3,{"$nulls":5},1,3,{"$nulls":5},1,3,{"$nulls":5},1,3,{"$nulls":5},1,3,{"$nulls":5},1,3,{"$nulls":5},1]
[1,4,{"$nulls":5},1,4,{"$nulls":5},1,4,{"$nulls":5},1,4,{"$nulls":5},1,4,{"$nulls":5},1,4,{"$nulls":5},1,4,{"$nulls":5},1,4,{"$nulls":5},1]
[1,5,{"$nulls":5},1,5,{"$nulls":5},1,5,{"$nulls":5},1,5,{"$nulls":5},1,5,{"$nulls":5},1,5,{"$nulls":5},1,5,{"$nulls":5},1,5,{"$nulls":5},1]
[1,6,{"$nulls":5},1,6,{"$nulls":5},1,6,{"$nulls":5},1,6,{"$nulls":5},1,6,{"$nulls":5},1,6,{"$nulls":5},1,6,{"$nulls":5},1,6,{"$nulls":5},1]
[1,7,{"$nulls":5},1,7,{"$nulls":5},1,7,{"$nulls":5},1,7,{"$nulls":5},1,7,{"$nulls":5},1,7,{"$nulls":5},1,7,{"$nulls":5},1,7,{"$nulls":5},1]
[1,8,{"$nulls":5},1,8,{"$nulls":5},1,8,{"$nulls":5},1,8,{"$nulls":5},1,8,{"$nulls":5},1,8,{"$nulls":5},1,8,{"$nulls":5},1,8,{"$nulls":5},1]
[1,9,{"$nulls":5},1,9,{"$nulls":5},1,9,{"$nulls":5},1,9,{"$nulls":5},1,9,{"$nulls":5},1,9,{"$nulls":5},1,9,{"$nulls":5},1,9,{"$nulls":5},1]
[1,10,{"$nulls":5},1,10,{"$nulls":5},1,10,{"$nulls":5},1,10,{"$nulls":5},1,10,{"$nulls":5},1,10,{"$nulls":5},1,10,{"$nulls":5},1,10,{"$nulls":5},1]
[1,11,{"$nulls":5},1,11,{"$nulls":5},1,11,{"$nulls":5},1,11,{"$nulls":5},1,11,{"$nulls":5},1,11,{"$nulls":5},1,11,{"$nulls":5},1,11,{"$nulls":5},1]
[1,12,{"$nulls":5},1,12,{"$nulls":5},1,12,{"$nulls":5},1,12,{"$nulls":5},1,12,{"$nulls":5},1,12,{"$nulls":5},1,12,{"$nulls":5},1,12,{"$nulls":5},1]
[1,13,{"$nulls":5},1,13,{"$nulls":5},1,13,{"$nulls":5},1,13,{"$nulls":5},1,13,{"$nulls":5},1,13,{"$nulls":5},1,13,{"$nulls":5},1,13,{"$nulls":5},1]
[1,14,{"$nulls":5},1,14,{"$nulls":5},1,14,{"$nulls":5},1,14,{"$nulls":5},1,14,{"$nulls":5},1,14,{"$nulls":5},1,14,{"$nulls":5},1,14,{"$nulls":5},1]
[1,15,{"$nulls":5},1,15,{"$nulls":5},1,15,{"$nulls":5},1,15,{"$nulls":5},1,15,{"$nulls":5},1,15,{"$nulls":5},1,15,{"$nulls":5},1,15,{"$nulls":5},1]
[1,16,{"$nulls":5},1,16,{"$nulls":5},1,16,{"$nulls":5},1,16,{"$nulls":5},1,16,{"$nulls":5},1,16,{"$nulls":5},1,16,{"$nulls":5},1,16,{"$nulls":5},1]
[1,17,{"$nulls":5},1,17,{"$nulls":5},1,17,{"$nulls":5},1,17,{"$nulls":5},1,17,{"$nulls":5},1,17,{"$nulls":5},1,17,{"$nulls":5},1,17,{"$nulls":5},1]
[1,18,{"$nulls":5},1,18,{"$nulls":5},1,18,{"$nulls":5},1,18,{"$nulls":5},1,18,{"$nulls":5},1,18,{"$nulls":5},1,18,{"$nulls":5},1,18,{"$nulls":5},1]
[1,"Total","Shots",null,null,"Shots",null,1,"Total","Shots",null,null,"Shots",null,1,"Total","Shots",null,null,"Shots",null,1,"Total","Shots",null,null,"Shots",null,1,"Total","Shots",null,null,"Shots",null,1,"Total","Shots",null,null,"Shots",null,1,"Total","Shots",null,null,"Shots",null,1,"Total","Shots",null,null,"shots",null,1]
[1,null,"Ends",null,null,"Ends",null,1,null,"Ends",null,null,"Ends",null,1,null,"Ends",null,null,"Ends",null,1,null,"Ends",null,null,"Ends",null,1,null,"Ends",null,null,"Ends",null,1,null,"Ends",null,null,"Ends",null,1,null,"Ends",null,null,"Ends",null,1,null,"Ends",null,null,"Ends",null,1]
[1,"1st Game ",{"$nulls":5},1,"2nd Game ",{"$nulls":5},1,"3rd Game ",{"$nulls":5},1,"4th Game",{"$nulls":5},1,"5th Game",{"$nulls":5},1,"6th Game",{"$nulls":5},1,"7th Game",{"$nulls":5},1,"8th Game",{"$nulls":5},1]
[1,"Team No",null,null,"Rink No",null,null,1,{"$f":"VLOOKUP(A30,Sheet1!$B$7:'Sheet1'!C48,2,0)","v":0},null,null,"Rink No",null,null,1,{"$f":"VLOOKUP(A30,Sheet1!$B$7:'Sheet1'!C48,2,0)","v":0},null,null,"Rink No",null,null,1,{"$f":"VLOOKUP(A30,Sheet1!$B$7:'Sheet1'!C48,2,0)","v":0},null,null,"Rink No",null,null,1,{"$f":"VLOOKUP(A30,Sheet1!$B$7:'Sheet1'!C48,2,0)","v":0},null,null,"Rink No",null,null,1,{"$f":"VLOOKUP(A30,Sheet1!$B$7:'Sheet1'!C48,2,0)","v":0},null,null,"Rink No",null,null,1,{"$f":"VLOOKUP(A30,Sheet1!$B$7:'Sheet1'!C48,2,0)","v":0},null,null,"Rink No",null,null,1,{"$f":"VLOOKUP(A30,Sheet1!$B$7:'Sheet1'!C48,2,0)","v":0},null,null,"Rink No",null,null,1]
[1,{"$nulls":6},1,{"$nulls":6},1,{"$nulls":6},1,{"$nulls":6},1,{"$nulls":6},1,{"$nulls":6},1,{"$nulls":6},1,{"$nulls":6},1]
[2,{"$f":"DRAW!$B$8","v":2},null,null,{"$f":"DRAW!$E$8","v":1},null,null,1,{"$nulls":3},{"$f":"DRAW!$G$8","v":0},null,null,1,{"$nulls":3},{"$f":"DRAW!$I$8","v":0},null,null,1,{"$nulls":3},{"$f":"DRAW!$K$8","v":0},null,null,1,{"$nulls":3},{"$f":"DRAW!$M$8","v":0},null,null,1,{"$nulls":3},{"$f":"DRAW!$O$8","v":0},null,null,1,{"$nulls":3},{"$f":"DRAW!$Q$8","v":0},null,null,1,{"$nulls":3},{"$f":"DRAW!$S$8","v":0},null,null,1]
[2,null,"Team",{"$f":"DRAW!$B$8","v":2},"V","Team",{"$f":"DRAW!$D$8","v":1},1,null,"Team",{"$f":"DRAW!$B$8","v":2},"V","Team",{"$f":"DRAW!$F$8","v":0},1,null,"Team",{"$f":"DRAW!$B$8","v":2},"V","Team",{"$f":"DRAW!$H$8","v":0},1,null,"Team",{"$f":"DRAW!$B$8","v":2},"V","Team",{"$f":"DRAW!$J$8","v":0},1,null,"Team",{"$f":"DRAW!$B$8","v":2},"V","Team",{"$f":"DRAW!$L$8","v":0},1,null,"Team",{"$f":"DRAW!$B$8","v":2},"V","Team",{"$f":"DRAW!$N$8","v":0},1,null,"Team",{"$f":"DRAW!$B$8","v":2},"V","Team",{"$f":"DRAW!$P$8","v":0},1,null,"Team",{"$f":"DRAW!$B$8","v":2},"V","Team",{"$f":"DRAW!$R$8","v":0},1]
[2,"Ends","Shots","Total",null,"Shots","Total",1,"Ends","Shots","Total",null,"Shots","Total",1,"Ends","Shots","Total",null,"Shots","Total",1,"Ends","Shots","Total",null,"Shots","Total",1,"Ends","Shots","Total",null,"Shots","Total",1,"Ends","Shots","Total",null,"Shots","Total",1,"Ends","Shots","Total",null,"Shots","Total",1,"Ends","Shots","Total",null,"shots","Total",1]
[2,1,{"$nulls":5},1,1,{"$nulls":5},1,1,{"$nulls":5},1,1,{"$nulls":5},1,1,{"$nulls":5},1,1,{"$nulls":5},1,1,{"$nulls":5},1,1,{"$nulls":5},1]
[2,2,{"$nulls":5},1,2,{"$nulls":5},1,2,{"$nulls":5},1,2,{"$nulls":5},1,2,{"$nulls":5},1,2,{"$nulls":5},1,2,{"$nulls":5},1,2,{"$nulls":5},1]
[2,3,{"$nulls":5},1,3,{"$nulls":5},1,3,{"$nulls":5},1,3,{"$nulls":5},1,3,{"$nulls":5},1,3,{"$nulls":5},1,3,{"$nulls":5},1,3,{"$nulls":5},1]
[2,4,{"$nulls":5},1,4,{"$nulls":5},1,4,{"$nulls":5},1,4,{"$nulls":5},1,4,{"$nulls":5},1,4,{"$nulls":5},1,4,{"$nulls":5},1,4,{"$nulls":5},1]
[2,5,{"$nulls":5},1,5,{"$nulls":5},1,5,{"$nulls":5},1,5,{"$nulls":5},1,5,{"$nulls":5},1,5,{"$nulls":5},1,5,{"$nulls":5},1,5,{"$nulls":5},1]
[2,6,{"$nulls":5},1,6,{"$nulls":5},1,6,{"$nulls":5},1,6,{"$nulls":5},1,6,{"$nulls":5},1,6,{"$nulls":5},1,6,{"$nulls":5},1,6,{"$nulls":5},1]
[2,7,{"$nulls":5},1,7,{"$nulls":5},1,7,{"$nulls":5},1,7,{"$nulls":5},1,7,{"$nulls":5},1,7,{"$nulls":5},1,7,{"$nulls":5},1,7,{"$nulls":5},1]
[2,8,{"$nulls":5},1,8,{"$nulls":5},1,8,{"$nulls":5},1,8,{"$nulls":5},1,8,{"$nulls":5},1,8,{"$nulls":5},1,8,{"$nulls":5},1,8,{"$nulls":5},1]
[2,9,{"$nulls":5},1,9,{"$nulls":5},1,9,{"$nulls":5},1,9,{"$nulls":5},1,9,{"$nulls":5},1,9,{"$nulls":5},1,9,{"$nulls":5},1,9,{"$nulls":5},1]
[2,10,{"$nulls":5},1,10,{"$nulls":5},1,10,{"$nulls":5},1,10,{"$nulls":5},1,10,{"$nulls":5},1,10,{"$nulls":5},1,10,{"$nulls":5},1,10,{"$nulls":5},1]
[2,11,{"$nulls":5},1,11,{"$nulls":5},1,11,{"$nulls":5},1,11,{"$nulls":5},1,11,{"$nulls":5},1,11,{"$nulls":5},1,11,{"$nulls":5},1,11,{"$nulls":5},1]
[2,12,{"$nulls":5},1,12,{"$nulls":5},1,12,{"$nulls":5},1,12,{"$nulls":5},1,12,{"$nulls":5},1,12,{"$nulls":5},1,12,{"$nulls":5},1,12,{"$nulls":5},1]
[2,13,{"$nulls":5},1,13,{"$nulls":5},1,13,{"$nulls":5},1,13,{"$nulls":5},1,13,{"$nulls":5},1,13,{"$nulls":5},1,13,{"$nulls":5},1,13,{"$nulls":5},1]
[2,14,{"$nulls":5},1,14,{"$nulls":5},1,14,{"$nulls":5},1,14,{"$nulls":5},1,14,{"$nulls":5},1,14,{"$nulls":5},1,14,{"$nulls":5},1,14,{"$nulls":5},1]
[2,15,{"$nulls":5},1,15,{"$nulls":5},1,15,{"$nulls":5},1,15,{"$nulls":5},1,15,{"$nulls":5},1,15,{"$nulls":5},1,15,{"$nulls":5},1,15,{"$nulls":5},1]
[2,16,{"$nulls":5},1,16,{"$nulls":5},1,16,{"$nulls":5},1,16,{"$nulls":5},1,16,{"$nulls":5},1,16,{"$nulls":5},1,16,{"$nulls":5},1,16,{"$nulls":5},1]
[2,17,{"$nulls":5},1,17,{"$nulls":5},1,17,{"$nulls":5},1,17,{"$nulls":5},1,17,{"$nulls":5},1,17,{"$nulls":5},1,17,{"$nulls":5},1,17,{"$nulls":5},1]
[2,18,{"$nulls":5},1,18,{"$nulls":5},1,18,{"$nulls":5},1,18,{"$nulls":5},1,18,{"$nulls":5},1,18,{"$nulls":5},1,18,{"$nulls":5},1,18,{"$nulls":5},1]
[2,"Total","Shots",null,null,"Shots",null,1,"Total","Shots",null,null,"Shots",null,1,"Total","Shots",null,null,"Shots",null,1,"Total","Shots",null,null,"Shots",null,1,"Total","Shots",null,null,"Shots",null,1,"Total","Shots",null,null,"Shots",null,1,"Total","Shots",null,null,"Shots",null,1,"Total","Shots",null,null,"shots",null,1]
[2,null,"Ends",null,null,"Ends",null,1,null,"Ends",null,null,"Ends",null,1,null,"Ends",null,null,"Ends",null,1,null,"Ends",null,null,"Ends",null,1,null,"Ends",null,null,"Ends",null,1,null,"Ends",null,null,"Ends",null,1,null,"Ends",null,null,"Ends",null,1,null,"Ends",null,null,"Ends",null,1]
[2,"1st Game ",{"$nulls":5},1,"2nd Game ",{"$nulls":5},1,"3rd Game ",{"$nulls":5},1,"4th Game",{"$nulls":5},1,"5th Game",{"$nulls":5},1,"6th Game",{"$nulls":5},1,"7th Game",{"$nulls":5},1,"8th Game",{"$nulls":5},1]
[2,"Team No",null,null,"Rink No",null,null,1,{"$f":"VLOOKUP(A56,Sheet1!$B$7:'Sheet1'!C48,2,0)","v":0},null,null,"Rink No",null,null,1,{"$f":"VLOOKUP(A56,Sheet1!$B$7:'Sheet1'!C48,2,0)","v":0},null,null,"Rink No",null,null,1,{"$f":"VLOOKUP(A56,Sheet1!$B$7:'Sheet1'!C48,2,0)","v":0},null,null,"Rink No",null,null,1,{"$f":"VLOOKUP(A56,Sheet1!$B$7:'Sheet1'!C48,2,0)","v":0},null,null,"Rink No",null,null,1,{"$f":"VLOOKUP(A56,Sheet1!$B$7:'Sheet1'!C48,2,0)","v":0},null,null,"Rink No",null,null,1,{"$f":"VLOOKUP(A56,Sheet1!$B$7:'Sheet1'!C48,2,0)","v":0},null,null,"Rink No",null,null,1,{"$f":"VLOOKUP(A56,Sheet1!$B$7:'Sheet1'!C48,2,0)","v":0},null,null,"Rink No",null,null,1]
[2,{"$nulls":6},1,{"$nulls":6},1,{"$nulls":6},1,{"$nulls":6},1,{"$nulls":6},1,{"$nulls":6},1,{"$nulls":6},1,{"$nulls":6},1]
[3,{"$f":"DRAW!$B$9","v":3},null,null,{"$f":"DRAW!$E$9","v":2},null,null,1,{"$nulls":3},{"$f":"DRAW!$G$9","v":0},null,null,1,{"$nulls":3},{"$f":"DRAW!$I$9","v":0},null,null,1,{"$nulls":3},{"$f":"DRAW!$K$9","v":0},null,null,1,{"$nulls":3},{"$f":"DRAW!$M$9","v":0},null,null,1,{"$nulls":3},{"$f":"DRAW!$O$9","v":0},null,null,1,{"$nulls":3},{"$f":"DRAW!$Q$9","v":0},null,null,1,{"$nulls":3},{"$f":"DRAW!$S$9","v":0},null,null,1]
[3,null,"Team",{"$f":"DRAW!$B$9","v":3},"V","Team",{"$f":"DRAW!$D$9","v":14},1,null,"Team",{"$f":"DRAW!$B$9","v":3},"V","Team",{"$f":"DRAW!$F$9","v":0},1,null,"Team",{"$f":"DRAW!$B$9","v":3},"V","Team",{"$f":"DRAW!$H$9","v":0},1,null,"Team",{"$f":"DRAW!$B$9","v":3},"V","Team",{"$f":"DRAW!$J$9","v":0},1,null,"Team",{"$f":"DRAW!$B$9","v":3},"V","Team",{"$f":"DRAW!$L$9","v":0},1,null,"Team",{"$f":"DRAW!$B$9","v":3},"V","Team",{"$f":"DRAW!$N$9","v":0},1,null,"Team",{"$f":"DRAW!$B$9","v":3},"V","Team",{"$f":"DRAW!$P$9","v":0},1,null,"Team",{"$f":"DRAW!$B$9","v":3},"V","Team",{"$f":"DRAW!$R$9","v":0},1]
[3,"Ends","Shots","Total",null,"Shots","Total",1,"Ends","Shots","Total",null,"Shots","Total",1,"Ends","Shots","Total",null,"Shots","Total",1,"Ends","Shots","Total",null,"Shots","Total",1,"Ends","Shots","Total",null,"Shots","Total",1,"Ends","Shots","Total",null,"Shots","Total",1,"Ends","Shots","Total",null,"Shots","Total",1,"Ends","Shots","Total",null,"shots","Total",1]
[3,1,{"$nulls":5},1,1,{"$nulls":5},1,1,{"$nulls":5},1,1,{"$nulls":5},1,1,{"$nulls":5},1,1,{"$nulls":5},1,1,{"$nulls":5},1,1,{"$nulls":5},1]
[3,2,{"$nulls":5},1,2,{"$nulls":5},1,2,{"$nulls":5},1,2,{"$nulls":5},1,2,{"$nulls":5},1,2,{"$nulls":5},1,2,{"$nulls":5},1,2,{"$nulls":5},1]
[3,3,{"$nulls":5},1,3,{"$nulls":5},1,3,{"$nulls":5},1,3,{"$nulls":5},1,3,{"$nulls":5},1,3,{"$nulls":5},1,3,{"$nulls":5},1,3,{"$nulls":5},1]
[3,4,{"$nulls":5},1,4,{"$nulls":5},1,4,{"$nulls":5},1,4,{"$nulls":5},1,4,{"$nulls":5},1,4,{"$nulls":5},1,4,{"$nulls":5},1,4,{"$nulls":5},1]
[3,5,{"$nulls":5},1,5,{"$nulls":5},1,5,{"$nulls":5},1,5,{"$nulls":5},1,5,{"$nulls":5},1,5,{"$nulls":5},1,5,{"$nulls":5},1,5,{"$nulls":5},1]
[3,6,{"$nulls":5},1,6,{"$nulls":5},1,6,{"$nulls":5},1,6,{"$nulls":5},1,6,{"$nulls":5},1,6,{"$nulls":5},1,6,{"$nulls":5},1,6,{"$nulls":5},1]
[3,7,{"$nulls":5},1,7,{"$nulls":5},1,7,{"$nulls":5},1,7,{"$nulls":5},1,7,{"$nulls":5},1,7,{"$nulls":5},1,7,{"$nulls":5},1,7,{"$nulls":5},1]
[3,8,{"$nulls":5},1,8,{"$nulls":5},1,8,{"$nulls":5},1,8,{"$nulls":5},1,8,{"$nulls":5},1,8,{"$nulls":5},1,8,{"$nulls":5},1,8,{"$nulls":5},1]
[3,9,{"$nulls":5},1,9,{"$nulls":5},1,9,{"$nulls":5},1,9,{"$nulls":5},1,9,{"$nulls":5},1,9,{"$nulls":5},1,9,{"$nulls":5},1,9,{"$nulls":5},1]
[3,10,{"$nulls":5},1,10,{"$nulls":5},1,10,{"$nulls":5},1,10,{"$nulls":5},1,10,{"$nulls":5},1,10,{"$nulls":5},1,10,{"$nulls":5},1,10,{"$nulls":5},1]
[3,11,{"$nulls":5},1,11,{"$nulls":5},1,11,{"$nulls":5},1,11,{"$nulls":5},1,11,{"$nulls":5},1,11,{"$nulls":5},1,11,{"$nulls":5},1,11,{"$nulls":5},1]
[3,12,{"$nulls":5},1,12,{"$nulls":5},1,12,{"$nulls":5},1,12,{"$nulls":5},1,12,{"$nulls":5},1,12,{"$nulls":5},1,12,{"$nulls":5},1,12,{"$nulls":5},1]
[3,13,{"$nulls":5},1,13,{"$nulls":5},1,13,{"$nulls":5},1,13,{"$nulls":5},1,13,{"$nulls":5},1,13,{"$nulls":5},1,13,{"$nulls":5},1,13,{"$nulls":5},1]
[3,14,{"$nulls":5},1,14,{"$nulls":5},1,14,{"$nulls":5},1,14,{"$nulls":5},1,14,{"$nulls":5},1,14,{"$nulls":5},1,14,{"$nulls":5},1,14,{"$nulls":5},1]
[3,15,{"$nulls":5},1,15,{"$nulls":5},1,15,{"$nulls":5},1,15,{"$nulls":5},1,15,{"$nulls":5},1,15,{"$nulls":5},1,15,{"$nulls":5},1,15,{"$nulls":5},1]
[3,16,{"$nulls":5},1,16,{"$nulls":5},1,16,{"$nulls":5},1,16,{"$nulls":5},1,16,{"$nulls":5},1,16,{"$nulls":5},1,16,{"$nulls":5},1,16,{"$nulls":5},1]
[3,17,{"$nulls":5},1,17,{"$nulls":5},1,17,{"$nulls":5},1,17,{"$nulls":5},1,17,{"$nulls":5},1,17,{"$nulls":5},1,17,{"$nulls":5},1,17,{"$nulls":5},1]
[3,18,{"$nulls":5},1,18,{"$nulls":5},1,18,{"$nulls":5},1,18,{"$nulls":5},1,18,{"$nulls":5},1,18,{"$nulls":5},1,18,{"$nulls":5},1,18,{"$nulls":5},1]
[3,"Total","Shots",null,null,"Shots",null,1,"Total","Shots",null,null,"Shots",null,1,"Total","Shots",null,null,"Shots",null,1,"Total","Shots",null,null,"Shots",null,1,"Total","Shots",null,null,"Shots",null,1,"Total","Shots",null,null,"Shots",null,1,"Total","Shots",null,null,"Shots",null,1,"Total","Shots",null,null,"shots",null,1]
[3,null,"Ends",null,null,"Ends",null,1,null,"Ends",null,null,"Ends",null,1,null,"Ends",null,null,"Ends",null,1,null,"Ends",null,null,"Ends",null,1,null,"Ends",null,null,"Ends",null,1,null,"Ends",null,null,"Ends",null,1,null,"Ends",null,null,"Ends",null,1,null,"Ends",null,null,"Ends",null,1]
[3,"1st Game ",{"$nulls":5},1,"2nd Game ",{"$nulls":5},1,"3rd Game ",{"$nulls":5},1,"4th Game",{"$nulls":5},1,"5th Game",{"$nulls":5},1,"6th Game",{"$nulls":5},1,"7th Game",{"$nulls":5},1,"8th Game",{"$nulls":5},1]
[3,"Team No",null,null,"Rink No",null,null,1,{"$f":"VLOOKUP(A82,Sheet1!$B$7:'Sheet1'!C48,2,0)","v":0},null,null,"Rink No",null,null,1,{"$f":"VLOOKUP(A82,Sheet1!$B$7:'Sheet1'!C48,2,0)","v":0},null,null,"Rink No",null,null,1,{"$f":"VLOOKUP(A82,Sheet1!$B$7:'Sheet1'!C48,2,0)","v":0},null,null,"Rink No",null,null,1,{"$f":"VLOOKUP(A82,Sheet1!$B$7:'Sheet1'!C48,2,0)","v":0},null,null,"Rink No",null,null,1,{"$f":"VLOOKUP(A82,Sheet1!$B$7:'Sheet1'!C48,2,0)","v":0},null,null,"Rink No",null,null,1,{"$f":"VLOOKUP(A82,Sheet1!$B$7:'Sheet1'!C48,2,0)","v":0},null,null,"Rink No",null,null,1,{"$f":"VLOOKUP(A82,Sheet1!$B$7:'Sheet1'!C48,2,0)","v":0},null,null,"Rink No",null,null,1]
[3,{"$nulls":6},1,{"$nulls":6},1,{"$nulls":6},1,{"$nulls":6},1,{"$nulls":6},1,{"$nulls":6},1,{"$nulls":6},1,{"$nulls":6},1]
[4,{"$f":"DRAW!$B$10","v":4},null,null,{"$f":"DRAW!$E$10","v":3},null,null,1,{"$nulls":3},{"$f":"DRAW!$G$10","v":0},null,null,1,{"$nulls":3},{"$f":"DRAW!$I$10","v":0},null,null,1,{"$nulls":3},{"$f":"DRAW!$K$10","v":0},null,null,1,{"$nulls":3},{"$f":"DRAW!$M$10","v":0},null,null,1,{"$nulls":3},{"$f":"DRAW!$O$10","v":0},null,null,1,{"$nulls":3},{"$f":"DRAW!$Q$10","v":0},null,null,1,{"$nulls":3},{"$f":"DRAW!$S$10","v":0},null,null,1]
[4,null,"Team",{"$f":"DRAW!$B$10","v":4},"V","Team",{"$f":"DRAW!$D$10","v":13},1,null,"Team",{"$f":"DRAW!$B$10","v":4},"V","Team",{"$f":"DRAW!$F$10","v":0},1,null,"Team",{"$f":"DRAW!$B$10","v":4},"V","Team",{"$f":"DRAW!$H$10","v":0},1,null,"Team",{"$f":"DRAW!$B$10","v":4},"V","Team",{"$f":"DRAW!$J$10","v":0},1,null,"Team",{"$f":"DRAW!$B$10","v":4},"V","Team",{"$f":"DRAW!$L$10","v":0},1,null,"Team",{"$f":"DRAW!$B$10","v":4},"V","Team",{"$f":"DRAW!$N$10","v":0},1,null,"Team",{"$f":"DRAW!$B$10","v":4},"V","Team",{"$f":"DRAW!$P$10","v":0},1,null,"Team",{"$f":"DRAW!$B$10","v":4},"V","Team",{"$f":"DRAW!$R$10","v":0},1]
[4,"Ends","Shots","Total",null,"Shots","Total",1,"Ends","Shots","Total",null,"Shots","Total",1,"Ends","Shots","Total",null,"Shots","Total",1,"Ends","Shots","Total",null,"Shots","Total",1,"Ends","Shots","Total",null,"Shots","Total",1,"Ends","Shots","Total",null,"Shots","Total",1,"Ends","Shots","Total",null,"Shots","Total",1,"Ends","Shots","Total",null,"shots","Total",1]
[4,1,{"$nulls":5},1,1,{"$nulls":5},1,1,{"$nulls":5},1,1,{"$nulls":5},1,1,{"$nulls":5},1,1,{"$nulls":5},1,1,{"$nulls":5},1,1,{"$nulls":5},1]
[4,2,{"$nulls":5},1,2,{"$nulls":5},1,2,{"$nulls":5},1,2,{"$nulls":5},1,2,{"$nulls":5},1,2,{"$nulls":5},1,2,{"$nulls":5},1,2,{"$nulls":5},1]
[4,3,{"$nulls":5},1,3,{"$nulls":5},1,3,{"$nulls":5},1,3,{"$nulls":5},1,3,{"$nulls":5},1,3,{"$nulls":5},1,3,{"$nulls":5},1,3,{"$nulls":5},1]
[4,4,{"$nulls":5},1,4,{"$nulls":5},1,4,{"$nulls":5},1,4,{"$nulls":5},1,4,{"$nulls":5},1,4,{"$nulls":5},1,4,{"$nulls":5},1,4,{"$nulls":5},1]
[4,5,{"$nulls":5},1,5,{"$nulls":5},1,5,{"$nulls":5},1,5,{"$nulls":5},1,5,{"$nulls":5},1,5,{"$nulls":5},1,5,{"$nulls":5},1,5,{"$nulls":5},1]
[4,6,{"$nulls":5},1,6,{"$nulls":5},1,6,{"$nulls":5},1,6,{"$nulls":5},1,6,{"$nulls":5},1,6,{"$nulls":5},1,6,{"$nulls":5},1,6,{"$nulls":5},1]
[4,7,{"$nulls":5},1,7,{"$nulls":5},1,7,{"$nulls":5},1,7,{"$nulls":5},1,7,{"$nulls":5},1,7,{"$nulls":5},1,7,{"$nulls":5},1,7,{"$nulls":5},1]
[4,8,{"$nulls":5},1,8,{"$nulls":5},1,8,{"$nulls":5},1,8,{"$nulls":5},1,8,{"$nulls":5},1,8,{"$nulls":5},1,8,{"$nulls":5},1,8,{"$nulls":5},1]
[4,9,{"$nulls":5},1,9,{"$nulls":5},1,9,{"$nulls":5},1,9,{"$nulls":5},1,9,{"$nulls":5},1,9,{"$nulls":5},1,9,{"$nulls":5},1,9,{"$nulls":5},1]
[4,10,{"$nulls":5},1,10,{"$nulls":5},1,10,{"$nulls":5},1,10,{"$nulls":5},1,10,{"$nulls":5},1,10,{"$nulls":5},1,10,{"$nulls":5},1,10,{"$nulls":5},1]
[4,11,{"$nulls":5},1,11,{"$nulls":5},1,11,{"$nulls":5},1,11,{"$nulls":5},1,11,{"$nulls":5},1,11,{"$nulls":5},1,11,{"$nulls":5},1,11,{"$nulls":5},1]
[4,12,{"$nulls":5},1,12,{"$nulls":5},1,12,{"$nulls":5},1,12,{"$nulls":5},1,12,{"$nulls":5},1,12,{"$nulls":5},1,12,{"$nulls":5},1,12,{"$nulls":5},1]
[4,13,{"$nulls":5},1,13,{"$nulls":5},1,13,{"$nulls":5},1,13,{"$nulls":5},1,13,{"$nulls":5},1,13,{"$nulls":5},1,13,{"$nulls":5},1,13,{"$nulls":5},1]
[4,14,{"$nulls":5},1,14,{"$nulls":5},1,14,{"$nulls":5},1,14,{"$nulls":5},1,14,{"$nulls":5},1,14,{"$nulls":5},1,14,{"$nulls":5},1,14,{"$nulls":5},1]
[4,15,{"$nulls":5},1,15,{"$nulls":5},1,15,{"$nulls":5},1,15,{"$nulls":5},1,15,{"$nulls":5},1,15,{"$nulls":5},1,15,{"$nulls":5},1,15,{"$nulls":5},1]
[4,16,{"$nulls":5},1,16,{"$nulls":5},1,16,{"$nulls":5},1,16,{"$nulls":5},1,16,{"$nulls":5},1,16,{"$nulls":5},1,16,{"$nulls":5},1,16,{"$nulls":5},1]
[4,17,{"$nulls":5},1,17,{"$nulls":5},1,17,{"$nulls":5},1,17,{"$nulls":5},1,17,{"$nulls":5},1,17,{"$nulls":5},1,17,{"$nulls":5},1,17,{"$nulls":5},1]
[4,18,{"$nulls":5},1,18,{"$nulls":5},1,18,{"$nulls":5},1,18,{"$nulls":5},1,18,{"$nulls":5},1,18,{"$nulls":5},1,18,{"$nulls":5},1,18,{"$nulls":5},1]
[4,"Total","Shots",null,null,"Shots",null,1,"Total","Shots",null,null,"Shots",null,1,"Total","Shots",null,null,"Shots",null,1,"Total","Shots",null,null,"Shots",null,1,"Total","Shots",null,null,"Shots",null,1,"Total","Shots",null,null,"Shots",null,1,"Total","Shots",null,null,"Shots",null,1,"Total","Shots",null,null,"shots",null,1]
[4,null,"Ends",null,null,"Ends",null,1,null,"Ends",null,null,"Ends",null,1,null,"Ends",null,null,"Ends",null,1,null,"Ends",null,null,"Ends",null,1,null,"Ends",null,null,"Ends",null,1,null,"Ends",null,null,"Ends",null,1,null,"Ends",null,null,"Ends",null,1,null,"Ends",null,null,"Ends",null,1]
[4,"1st Game ",{"$nulls":5},1,"2nd Game ",{"$nulls":5},1,"3rd Game ",{"$nulls":5},1,"4th Game",{"$nulls":5},1,"5th Game",{"$nulls":5},1,"6th Game",{"$nulls":5},1,"7th Game",{"$nulls":5},1,"8th Game",{"$nulls":5},1]
[4,"Team No",null,null,"Rink No",null,null,1,{"$f":"VLOOKUP(A108,Sheet1!$B$7:'Sheet1'!C48,2,0)","v":0},null,null,"Rink No",null,null,1,{"$f":"$I$106","v":0},null,null,"Rink No",null,null,1,{"$f":"$I$106","v":0},null,null,"Rink No",null,null,1,{"$f":"$I$106","v":0},null,null,"Rink No",null,null,1,{"$f":"$I$106","v":0},null,null,"Rink No",null,null,1,{"$f":"$I$106","v":0},null,null,"Rink No",null,null,1,{"$f":"$I$106","v":0},null,null,"Rink No",null,null,1]
[4,{"$nulls":6},1,{"$nulls":6},1,{"$nulls":6},1,{"$nulls":6},1,{"$nulls":6},1,{"$nulls":6},1,{"$nulls":6},1,{"$nulls":6},1]
[5,{"$f":"DRAW!$B$11","v":5},null,null,{"$f":"DRAW!$E$11","v":4},null,null,1,{"$nulls":3},{"$f":"DRAW!$G$11","v":0},null,null,1,{"$nulls":3},{"$f":"DRAW!$I$11","v":0},null,null,1,{"$nulls":3},{"$f":"DRAW!$K$11","v":0},null,null,1,{"$nulls":3},{"$f":"DRAW!$M$11","v":0},null,null,1,{"$nulls":3},{"$f":"DRAW!$O$11","v":0},null,null,1,{"$nulls":3},{"$f":"DRAW!$Q$11","v":0},null,null,1,{"$nulls":3},{"$f":"DRAW!$S$11","v":0},null,null,1]
[5,null,"Team",{"$f":"DRAW!$B$11","v":5},"V","Team",{"$f":"DRAW!$D$11","v":12},1,null,"Team",{"$f":"DRAW!$B$11","v":5},"V","Team",{"$f":"DRAW!$F$11","v":0},1,null,"Team",{"$f":"DRAW!$B$11","v":5},"V","Team",{"$f":"DRAW!$H$11","v":0},1,null,"Team",{"$f":"DRAW!$B$11","v":5},"V","Team",{"$f":"DRAW!$J$11","v":0},1,null,"Team",{"$f":"DRAW!$B$11","v":5},"V","Team",{"$f":"DRAW!$L$11","v":0},1,null,"Team",{"$f":"DRAW!$B$11","v":5},"V","Team",{"$f":"DRAW!$N$11","v":0},1,null,"Team",{"$f":"DRAW!$B$11","v":5},"V","Team",{"$f":"DRAW!$P$11","v":0},1,null,"Team",{"$f":"DRAW!$B$11","v":5},"V","Team",{"$f":"DRAW!$R$11","v":0},1]
[5,"Ends","Shots","Total",null,"Shots","Total",1,"Ends","Shots","Total",null,"Shots","Total",1,"Ends","Shots","Total",null,"Shots","Total",1,"Ends","Shots","Total",null,"Shots","Total",1,"Ends","Shots","Total",null,"Shots","Total",1,"Ends","Shots","Total",null,"Shots","Total",1,"Ends","Shots","Total",null,"Shots","Total",1,"Ends","Shots","Total",null,"shots","Total",1]
[5,1,{"$nulls":5},1,1,{"$nulls":5},1,1,{"$nulls":5},1,1,{"$nulls":5},1,1,{"$nulls":5},1,1,{"$nulls":5},1,1,{"$nulls":5},1,1,{"$nulls":5},1]
[5,2,{"$nulls":5},1,2,{"$nulls":5},1,2,{"$nulls":5},1,2,{"$nulls":5},1,2,{"$nulls":5},1,2,{"$nulls":5},1,2,{"$nulls":5},1,2,{"$nulls":5},1]
[5,3,{"$nulls":5},1,3,{"$nulls":5},1,3,{"$nulls":5},1,3,{"$nulls":5},1,3,{"$nulls":5},1,3,{"$nulls":5},1,3,{"$nulls":5},1,3,{"$nulls":5},1]
[5,4,{"$nulls":5},1,4,{"$nulls":5},1,4,{"$nulls":5},1,4,{"$nulls":5},1,4,{"$nulls":5},1,4,{"$nulls":5},1,4,{"$nulls":5},1,4,{"$nulls":5},1]
[5,5,{"$nulls":5},1,5,{"$nulls":5},1,5,{"$nulls":5},1,5,{"$nulls":5},1,5,{"$nulls":5},1,5,{"$nulls":5},1,5,{"$nulls":5},1,5,{"$nulls":5},1]
[5,6,{"$nulls":5},1,6,{"$nulls":5},1,6,{"$nulls":5},1,6,{"$nulls":5},1,6,{"$nulls":5},1,6,{"$nulls":5},1,6,{"$nulls":5},1,6,{"$nulls":5},1]
[5,7,{"$nulls":5},1,7,{"$nulls":5},1,7,{"$nulls":5},1,7,{"$nulls":5},1,7,{"$nulls":5},1,7,{"$nulls":5},1,7,{"$nulls":5},1,7,{"$nulls":5},1]
[5,8,{"$nulls":5},1,8,{"$nulls":5},1,8,{"$nulls":5},1,8,{"$nulls":5},1,8,{"$nulls":5},1,8,{"$nulls":5},1,8,{"$nulls":5},1,8,{"$nulls":5},1]
[5,9,{"$nulls":5},1,9,{"$nulls":5},1,9,{"$nulls":5},1,9,{"$nulls":5},1,9,{"$nulls":5},1,9,{"$nulls":5},1,9,{"$nulls":5},1,9,{"$nulls":5},1]
[5,10,{"$nulls":5},1,10,{"$nulls":5},1,10,{"$nulls":5},1,10,{"$nulls":5},1,10,{"$nulls":5},1,10,{"$nulls":5},1,10,{"$nulls":5},1,10,{"$nulls":5},1]
[5,11,{"$nulls":5},1,11,{"$nulls":5},1,11,{"$nulls":5},1,11,{"$nulls":5},1,11,{"$nulls":5},1,11,{"$nulls":5},1,11,{"$nulls":5},1,11,{"$nulls":5},1]
[5,12,{"$nulls":5},1,12,{"$nulls":5},1,12,{"$nulls":5},1,12,{"$nulls":5},1,12,{"$nulls":5},1,12,{"$nulls":5},1,12,{"$nulls":5},1,12,{"$nulls":5},1]
[5,13,{"$nulls":5},1,13,{"$nulls":5},1,13,{"$nulls":5},1,13,{"$nulls":5},1,13,{"$nulls":5},1,13,{"$nulls":5},1,13,{"$nulls":5},1,13,{"$nulls":5},1]
[5,14,{"$nulls":5},1,14,{"$nulls":5},1,14,{"$nulls":5},1,14,{"$nulls":5},1,14,{"$nulls":5},1,14,{"$nulls":5},1,14,{"$nulls":5},1,14,{"$nulls":5},1]
[5,15,{"$nulls":5},1,15,{"$nulls":5},1,15,{"$nulls":5},1,15,{"$nulls":5},1,15,{"$nulls":5},1,15,{"$nulls":5},1,15,{"$nulls":5},1,15,{"$nulls":5},1]
[5,16,{"$nulls":5},1,16,{"$nulls":5},1,16,{"$nulls":5},1,16,{"$nulls":5},1,16,{"$nulls":5},1,16,{"$nulls":5},1,16,{"$nulls":5},1,16,{"$nulls":5},1]
[5,17,{"$nulls":5},1,17,{"$nulls":5},1,17,{"$nulls":5},1,17,{"$nulls":5},1,17,{"$nulls":5},1,17,{"$nulls":5},1,17,{"$nulls":5},1,17,{"$nulls":5},1]
[5,18,{"$nulls":5},1,18,{"$nulls":5},1,18,{"$nulls":5},1,18,{"$nulls":5},1,18,{"$nulls":5},1,18,{"$nulls":5},1,18,{"$nulls":5},1,18,{"$nulls":5},1]
[5,"Total","Shots",null,null,"Shots",null,1,"Total","Shots",null,null,"Shots",null,1,"Total","Shots",null,null,"Shots",null,1,"Total","Shots",null,null,"Shots",null,1,"Total","Shots",null,null,"Shots",null,1,"Total","Shots",null,null,"Shots",null,1,"Total","Shots",null,null,"Shots",null,1,"Total","Shots",null,null,"shots",null,1]
[5,null,"Ends",null,null,"Ends",null,1,null,"Ends",null,null,"Ends",null,1,null,"Ends",null,null,"Ends",null,1,null,"Ends",null,null,"Ends",null,1,null,"Ends",null,null,"Ends",null,1,null,"Ends",null,null,"Ends",null,1,null,"Ends",null,null,"Ends",null,1,null,"Ends",null,null,"Ends",null,1]
[5,"1st Game ",{"$nulls":5},1,"2nd Game ",{"$nulls":5},1,"3rd Game ",{"$nulls":5},1,"4th Game",{"$nulls":5},1,"5th Game",{"$nulls":5},1,"6th Game",{"$nulls":5},1,"7th Game",{"$nulls":5},1,"8th Game",{"$nulls":5},1]
[5,"Team No",null,null,"Rink No",null,null,1,{"$f":"VLOOKUP(A134,Sheet1!$B$7:'Sheet1'!C48,2,0)","v":0},null,null,"Rink No",null,null,1,{"$f":"$I$132","v":0},null,null,"Rink No",null,null,1,{"$f":"$I$132","v":0},null,null,"Rink No",null,null,1,{"$f":"$I$132","v":0},null,null,"Rink No",null,null,1,{"$f":"$I$132","v":0},null,null,"Rink No",null,null,1,{"$f":"$I$132","v":0},null,null,"Rink No",null,null,1,{"$f":"$I$132","v":0},null,null,"Rink No",null,null,1]
[5,{"$nulls":6},1,{"$nulls":6},1,{"$nulls":6},1,{"$nulls":6},1,{"$nulls":6},1,{"$nulls":6},1,{"$nulls":6},1,{"$nulls":6},1]
[6,{"$f":"DRAW!$B$12","v":6},null,null,{"$f":"DRAW!$E$12","v":5},null,null,1,{"$nulls":3},{"$f":"DRAW!$G$12","v":0},null,null,1,{"$nulls":3},{"$f":"DRAW!$I$12","v":0},null,null,1,{"$nulls":3},{"$f":"DRAW!$K$12","v":0},null,null,1,{"$nulls":3},{"$f":"DRAW!$M$12","v":0},null,null,1,{"$nulls":3},{"$f":"DRAW!$O$12","v":0},null,null,1,{"$nulls":3},{"$f":"DRAW!$Q$12","v":0},null,null,1,{"$nulls":3},{"$f":"DRAW!$S$12","v":0},null,null,1]
[6,null,"Team",{"$f":"DRAW!$B$12","v":6},"V","Team",{"$f":"DRAW!$D$12","v":11},1,null,"Team",{"$f":"DRAW!$B$12","v":6},"V","Team",{"$f":"DRAW!$F$12","v":0},1,null,"Team",{"$f":"DRAW!$B$12","v":6},"V","Team",{"$f":"DRAW!$H$12","v":0},1,null,"Team",{"$f":"DRAW!$B$12","v":6},"V","Team",{"$f":"DRAW!$J$12","v":0},1,null,"Team",{"$f":"DRAW!$B$12","v":6},"V","Team",{"$f":"DRAW!$L$12","v":0},1,null,"Team",{"$f":"DRAW!$B$12","v":6},"V","Team",{"$f":"DRAW!$N$12","v":0},1,null,"Team",{"$f":"DRAW!$B$12","v":6},"V","Team",{"$f":"DRAW!$P$12","v":0},1,null,"Team",{"$f":"DRAW!$B$12","v":6},"V","Team",{"$f":"DRAW!$R$12","v":0},1]
[6,"Ends","Shots","Total",null,"Shots","Total",1,"Ends","Shots","Total",null,"Shots","Total",1,"Ends","Shots","Total",null,"Shots","Total",1,"Ends","Shots","Total",null,"Shots","Total",1,"Ends","Shots","Total",null,"Shots","Total",1,"Ends","Shots","Total",null,"Shots","Total",1,"Ends","Shots","Total",null,"Shots","Total",1,"Ends","Shots","Total",null,"shots","Total",1]
[6,1,{"$nulls":5},1,1,{"$nulls":5},1,1,{"$nulls":5},1,1,{"$nulls":5},1,1,{"$nulls":5},1,1,{"$nulls":5},1,1,{"$nulls":5},1,1,{"$nulls":5},1]
[6,2,{"$nulls":5},1,2,{"$nulls":5},1,2,{"$nulls":5},1,2,{"$nulls":5},1,2,{"$nulls":5},1,2,{"$nulls":5},1,2,{"$nulls":5},1,2,{"$nulls":5},1]
[6,3,{"$nulls":5},1,3,{"$nulls":5},1,3,{"$nulls":5},1,3,{"$nulls":5},1,3,{"$nulls":5},1,3,{"$nulls":5},1,3,{"$nulls":5},1,3,{"$nulls":5},1]
[6,4,{"$nulls":5},1,4,{"$nulls":5},1,4,{"$nulls":5},1,4,{"$nulls":5},1,4,{"$nulls":5},1,4,{"$nulls":5},1,4,{"$nulls":5},1,4,{"$nulls":5},1]
[6,5,{"$nulls":5},1,5,{"$nulls":5},1,5,{"$nulls":5},1,5,{"$nulls":5},1,5,{"$nulls":5},1,5,{"$nulls":5},1,5,{"$nulls":5},1,5,{"$nulls":5},1]
[6,6,{"$nulls":5},1,6,{"$nulls":5},1,6,{"$nulls":5},1,6,{"$nulls":5},1,6,{"$nulls":5},1,6,{"$nulls":5},1,6,{"$nulls":5},1,6,{"$nulls":5},1]
[6,7,{"$nulls":5},1,7,{"$nulls":5},1,7,{"$nulls":5},1,7,{"$nulls":5},1,7,{"$nulls":5},1,7,{"$nulls":5},1,7,{"$nulls":5},1,7,{"$nulls":5},1]
[6,8,{"$nulls":5},1,8,{"$nulls":5},1,8,{"$nulls":5},1,8,{"$nulls":5},1,8,{"$nulls":5},1,8,{"$nulls":5},1,8,{"$nulls":5},1,8,{"$nulls":5},1]
[6,9,{"$nulls":5},1,9,{"$nulls":5},1,9,{"$nulls":5},1,9,{"$nulls":5},1,9,{"$nulls":5},1,9,{"$nulls":5},1,9,{"$nulls":5},1,9,{"$nulls":5},1]
[6,10,{"$nulls":5},1,10,{"$nulls":5},1,10,{"$nulls":5},1,10,{"$nulls":5},1,10,{"$nulls":5},1,10,{"$nulls":5},1,10,{"$nulls":5},1,10,{"$nulls":5},1]
[6,11,{"$nulls":5},1,11,{"$nulls":5},1,11,{"$nulls":5},1,11,{"$nulls":5},1,11,{"$nulls":5},1,11,{"$nulls":5},1,11,{"$nulls":5},1,11,{"$nulls":5},1]
[6,12,{"$nulls":5},1,12,{"$nulls":5},1,12,{"$nulls":5},1,12,{"$nulls":5},1,12,{"$nulls":5},1,12,{"$nulls":5},1,12,{"$nulls":5},1,12,{"$nulls":5},1]
[6,13,{"$nulls":5},1,13,{"$nulls":5},1,13,{"$nulls":5},1,13,{"$nulls":5},1,13,{"$nulls":5},1,13,{"$nulls":5},1,13,{"$nulls":5},1,13,{"$nulls":5},1]
[6,14,{"$nulls":5},1,14,{"$nulls":5},1,14,{"$nulls":5},1,14,{"$nulls":5},1,14,{"$nulls":5},1,14,{"$nulls":5},1,14,{"$nulls":5},1,14,{"$nulls":5},1]
[6,15,{"$nulls":5},1,15,{"$nulls":5},1,15,{"$nulls":5},1,15,{"$nulls":5},1,15,{"$nulls":5},1,15,{"$nulls":5},1,15,{"$nulls":5},1,15,{"$nulls":5},1]
[6,16,{"$nulls":5},1,16,{"$nulls":5},1,16,{"$nulls":5},1,16,{"$nulls":5},1,16,{"$nulls":5},1,16,{"$nulls":5},1,16,{"$nulls":5},1,16,{"$nulls":5},1]
[6,17,{"$nulls":5},1,17,{"$nulls":5},1,17,{"$nulls":5},1,17,{"$nulls":5},1,17,{"$nulls":5},1,17,{"$nulls":5},1,17,{"$nulls":5},1,17,{"$nulls":5},1]
[6,18,{"$nulls":5},1,18,{"$nulls":5},1,18,{"$nulls":5},1,18,{"$nulls":5},1,18,{"$nulls":5},1,18,{"$nulls":5},1,18,{"$nulls":5},1,18,{"$nulls":5},1]
[6,"Total","Shots",null,null,"Shots",null,1,"Total","Shots",null,null,"Shots",null,1,"Total","Shots",null,null,"Shots",null,1,"Total","Shots",null,null,"Shots",null,1,"Total","Shots",null,null,"Shots",null,1,"Total","Shots",null,null,"Shots",null,1,"Total","Shots",null,null,"Shots",null,1,"Total","Shots",null,null,"shots",null,1]
[6,null,"Ends",null,null,"Ends",null,1,null,"Ends",null,null,"Ends",null,1,null,"Ends",null,null,"Ends",null,1,null,"Ends",null,null,"Ends",null,1,null,"Ends",null,null,"Ends",null,1,null,"Ends",null,null,"Ends",null,1,null,"Ends",null,null,"Ends",null,1,null,"Ends",null,null,"Ends",null,1]
[6,"1st Game ",{"$nulls":5},1,"2nd Game ",{"$nulls":5},1,"3rd Game ",{"$nulls":5},1,"4th Game",{"$nulls":5},1,"5th Game",{"$nulls":5},1,"6th Game",{"$nulls":5},1,"7th Game",{"$nulls":5},1,"8th Game",{"$nulls":5},1]
[6,"Team No",null,null,"Rink No",null,null,1,{"$f":"VLOOKUP(A160,Sheet1!$B$7:'Sheet1'!C48,2,0)","v":0},null,null,"Rink No",null,null,1,{"$f":"$I$158","v":0},null,null,"Rink No",null,null,1,{"$f":"$I$158","v":0},null,null,"Rink No",null,null,1,{"$f":"$I$158","v":0},null,null,"Rink No",null,null,1,{"$f":"$I$158","v":0},null,null,"Rink No",null,null,1,{"$f":"$I$158","v":0},null,null,"Rink No",null,null,1,{"$f":"$I$158","v":0},null,null,"Rink No",null,null,1]
[6,{"$nulls":6},1,{"$nulls":6},1,{"$nulls":6},1,{"$nulls":6},1,{"$nulls":6},1,{"$nulls":6},1,{"$nulls":6},1,{"$nulls":6},1]
[7,{"$f":"DRAW!$B$13","v":7},null,null,{"$f":"DRAW!$E$13","v":6},null,null,1,{"$nulls":3},{"$f":"DRAW!$G$13","v":0},null,null,1,{"$nulls":3},{"$f":"DRAW!$I$13","v":0},null,null,1,{"$nulls":3},{"$f":"DRAW!$K$13","v":0},null,null,1,{"$nulls":3},{"$f":"DRAW!$M$13","v":0},null,null,1,{"$nulls":3},{"$f":"DRAW!$O$13","v":0},null,null,1,{"$nulls":3},{"$f":"DRAW!$Q$13","v":0},null,null,1,{"$nulls":3},{"$f":"DRAW!$S$13","v":0},null,null,1]
[7,null,"Team",{"$f":"DRAW!$B$13","v":7},"V","Team",{"$f":"DRAW!$D$13","v":10},1,null,"Team",{"$f":"DRAW!$B$13","v":7},"V","Team",{"$f":"DRAW!$F$13","v":0},1,null,"Team",{"$f":"DRAW!$B$13","v":7},"V","Team",{"$f":"DRAW!$H$13","v":0},1,null,"Team",{"$f":"DRAW!$B$13","v":7},"V","Team",{"$f":"DRAW!$J$13","v":0},1,null,"Team",{"$f":"DRAW!$B$13","v":7},"V","Team",{"$f":"DRAW!$L$13","v":0},1,null,"Team",{"$f":"DRAW!$B$13","v":7},"V","Team",{"$f":"DRAW!$N$13","v":0},1,null,"Team",{"$f":"DRAW!$B$13","v":7},"V","Team",{"$f":"DRAW!$P$13","v":0},1,null,"Team",{"$f":"DRAW!$B$13","v":7},"V","Team",{"$f":"DRAW!$R$13","v":0},1]
[7,"Ends","Shots","Total",null,"Shots","Total",1,"Ends","Shots","Total",null,"Shots","Total",1,"Ends","Shots","Total",null,"Shots","Total",1,"Ends","Shots","Total",null,"Shots","Total",1,"Ends","Shots","Total",null,"Shots","Total",1,"Ends","Shots","Total",null,"Shots","Total",1,"Ends","Shots","Total",null,"Shots","Total",1,"Ends","Shots","Total",null,"shots","Total",1]
[7,1,{"$nulls":5},1,1,{"$nulls":5},1,1,{"$nulls":5},1,1,{"$nulls":5},1,1,{"$nulls":5},1,1,{"$nulls":5},1,1,{"$nulls":5},1,1,{"$nulls":5},1]
[7,2,{"$nulls":5},1,2,{"$nulls":5},1,2,{"$nulls":5},1,2,{"$nulls":5},1,2,{"$nulls":5},1,2,{"$nulls":5},1,2,{"$nulls":5},1,2,{"$nulls":5},1]
[7,3,{"$nulls":5},1,3,{"$nulls":5},1,3,{"$nulls":5},1,3,{"$nulls":5},1,3,{"$nulls":5},1,3,{"$nulls":5},1,3,{"$nulls":5},1,3,{"$nulls":5},1]
[7,4,{"$nulls":5},1,4,{"$nulls":5},1,4,{"$nulls":5},1,4,{"$nulls":5},1,4,{"$nulls":5},1,4,{"$nulls":5},1,4,{"$nulls":5},1,4,{"$nulls":5},1]
[7,5,{"$nulls":5},1,5,{"$nulls":5},1,5,{"$nulls":5},1,5,{"$nulls":5},1,5,{"$nulls":5},1,5,{"$nulls":5},1,5,{"$nulls":5},1,5,{"$nulls":5},1]
[7,6,{"$nulls":5},1,6,{"$nulls":5},1,6,{"$nulls":5},1,6,{"$nulls":5},1,6,{"$nulls":5},1,6,{"$nulls":5},1,6,{"$nulls":5},1,6,{"$nulls":5},1]
[7,7,{"$nulls":5},1,7,{"$nulls":5},1,7,{"$nulls":5},1,7,{"$nulls":5},1,7,{"$nulls":5},1,7,{"$nulls":5},1,7,{"$nulls":5},1,7,{"$nulls":5},1]
[7,8,{"$nulls":5},1,8,{"$nulls":5},1,8,{"$nulls":5},1,8,{"$nulls":5},1,8,{"$nulls":5},1,8,{"$nulls":5},1,8,{"$nulls":5},1,8,{"$nulls":5},1]
[7,9,{"$nulls":5},1,9,{"$nulls":5},1,9,{"$nulls":5},1,9,{"$nulls":5},1,9,{"$nulls":5},1,9,{"$nulls":5},1,9,{"$nulls":5},1,9,{"$nulls":5},1]
[7,10,{"$nulls":5},1,10,{"$nulls":5},1,10,{"$nulls":5},1,10,{"$nulls":5},1,10,{"$nulls":5},1,10,{"$nulls":5},1,10,{"$nulls":5},1,10,{"$nulls":5},1]
[7,11,{"$nulls":5},1,11,{"$nulls":5},1,11,{"$nulls":5},1,11,{"$nulls":5},1,11,{"$nulls":5},1,11,{"$nulls":5},1,11,{"$nulls":5},1,11,{"$nulls":5},1]
[7,12,{"$nulls":5},1,12,{"$nulls":5},1,12,{"$nulls":5},1,12,{"$nulls":5},1,12,{"$nulls":5},1,12,{"$nulls":5},1,12,{"$nulls":5},1,12,{"$nulls":5},1]
[7,13,{"$nulls":5},1,13,{"$nulls":5},1,13,{"$nulls":5},1,13,{"$nulls":5},1,13,{"$nulls":5},1,13,{"$nulls":5},1,13,{"$nulls":5},1,13,{"$nulls":5},1]
[7,14,{"$nulls":5},1,14,{"$nulls":5},1,14,{"$nulls":5},1,14,{"$nulls":5},1,14,{"$nulls":5},1,14,{"$nulls":5},1,14,{"$nulls":5},1,14,{"$nulls":5},1]
[7,15,{"$nulls":5},1,15,{"$nulls":5},1,15,{"$nulls":5},1,15,{"$nulls":5},1,15,{"$nulls":5},1,15,{"$nulls":5},1,15,{"$nulls":5},1,15,{"$nulls":5},1]
[7,16,{"$nulls":5},1,16,{"$nulls":5},1,16,{"$nulls":5},1,16,{"$nulls":5},1,16,{"$nulls":5},1,16,{"$nulls":5},1,16,{"$nulls":5},1,16,{"$nulls":5},1]
[7,17,{"$nulls":5},1,17,{"$nulls":5},1,17,{"$nulls":5},1,17,{"$nulls":5},1,17,{"$nulls":5},1,17,{"$nulls":5},1,17,{"$nulls":5},1,17,{"$nulls":5},1]
[7,18,{"$nulls":5},1,18,{"$nulls":5},1,18,{"$nulls":5},1,18,{"$nulls":5},1,18,{"$nulls":5},1,18,{"$nulls":5},1,18,{"$nulls":5},1,18,{"$nulls":5},1]
[7,"Total","Shots",null,null,"Shots",null,1,"Total","Shots",null,null,"Shots",null,1,"Total","Shots",null,null,"Shots",null,1,"Total","Shots",null,null,"Shots",null,1,"Total","Shots",null,null,"Shots",null,1,"Total","Shots",null,null,"Shots",null,1,"Total","Shots",null,null,"Shots",null,1,"Total","Shots",null,null,"shots",null,1]
[7,null,"Ends",null,null,"Ends",null,1,null,"Ends",null,null,"Ends",null,1,null,"Ends",null,null,"Ends",null,1,null,"Ends",null,null,"Ends",null,1,null,"Ends",null,null,"Ends",null,1,null,"Ends",null,null,"Ends",null,1,null,"Ends",null,null,"Ends",null,1,null,"Ends",null,null,"Ends",null,1]
[7,"1st Game ",{"$nulls":5},1,"2nd Game ",{"$nulls":5},1,"3rd Game ",{"$nulls":5},1,"4th Game",{"$nulls":5},1,"5th Game",{"$nulls":5},1,"6th Game",{"$nulls":5},1,"7th Game",{"$nulls":5},1,"8th Game",{"$nulls":5},1]
[7,"Team No",null,null,"Rink No",null,null,1,{"$f":"VLOOKUP(A186,Sheet1!$B$7:'Sheet1'!C48,2,0)","v":0},null,null,"Rink No",null,null,1,{"$f":"$I$184","v":0},null,null,"Rink No",null,null,1,{"$f":"$I$184","v":0},null,null,"Rink No",null,null,1,{"$f":"$I$184","v":0},null,null,"Rink No",null,null,1,{"$f":"$I$184","v":0},null,null,"Rink No",null,null,1,{"$f":"$I$184","v":0},null,null,"Rink No",null,null,1,{"$f":"$I$184","v":0},null,null,"Rink No",null,null,1]
[7,{"$nulls":6},1,{"$nulls":6},1,{"$nulls":6},1,{"$nulls":6},1,{"$nulls":6},1,{"$nulls":6},1,{"$nulls":6},1,{"$nulls":6},1]
[8,{"$f":"DRAW!$B$14","v":8},null,null,{"$f":"DRAW!$E$14","v":7},null,null,1,{"$nulls":3},{"$f":"DRAW!$G$14","v":0},null,null,1,{"$nulls":3},{"$f":"DRAW!$I$14","v":0},null,null,1,{"$nulls":3},{"$f":"DRAW!$K$14","v":0},null,null,1,{"$nulls":3},{"$f":"DRAW!$M$14","v":0},null,null,1,{"$nulls":3},{"$f":"DRAW!$O$14","v":0},null,null,1,{"$nulls":3},{"$f":"DRAW!$Q$14","v":0},null,null,1,{"$nulls":3},{"$f":"DRAW!$S$14","v":0},null,null,1]
[8,null,"Team",{"$f":"DRAW!$B$14","v":8},"V","Team",{"$f":"DRAW!$D$14","v":9},1,null,"Team",{"$f":"DRAW!$B$14","v":8},"V","Team",{"$f":"DRAW!$F$14","v":0},1,null,"Team",{"$f":"DRAW!$B$14","v":8},"V","Team",{"$f":"DRAW!$H$14","v":0},1,null,"Team",{"$f":"DRAW!$B$14","v":8},"V","Team",{"$f":"DRAW!$J$14","v":0},1,null,"Team",{"$f":"DRAW!$B$14","v":8},"V","Team",{"$f":"DRAW!$L$14","v":0},1,null,"Team",{"$f":"DRAW!$B$14","v":8},"V","Team",{"$f":"DRAW!$N$14","v":0},1,null,"Team",{"$f":"DRAW!$B$14","v":8},"V","Team",{"$f":"DRAW!$P$14","v":0},1,null,"Team",{"$f":"DRAW!$B$14","v":8},"V","Team",{"$f":"DRAW!$R$14","v":0},1]
[8,"Ends","Shots","Total",null,"Shots","Total",1,"Ends","Shots","Total",null,"Shots","Total",1,"Ends","Shots","Total",null,"Shots","Total",1,"Ends","Shots","Total",null,"Shots","Total",1,"Ends","Shots","Total",null,"Shots","Total",1,"Ends","Shots","Total",null,"Shots","Total",1,"Ends","Shots","Total",null,"Shots","Total",1,"Ends","Shots","Total",null,"shots","Total",1]
[8,1,{"$nulls":5},1,1,{"$nulls":5},1,1,{"$nulls":5},1,1,{"$nulls":5},1,1,{"$nulls":5},1,1,{"$nulls":5},1,1,{"$nulls":5},1,1,{"$nulls":5},1]
[8,2,{"$nulls":5},1,2,{"$nulls":5},1,2,{"$nulls":5},1,2,{"$nulls":5},1,2,{"$nulls":5},1,2,{"$nulls":5},1,2,{"$nulls":5},1,2,{"$nulls":5},1]
[8,3,{"$nulls":5},1,3,{"$nulls":5},1,3,{"$nulls":5},1,3,{"$nulls":5},1,3,{"$nulls":5},1,3,{"$nulls":5},1,3,{"$nulls":5},1,3,{"$nulls":5},1]
[8,4,{"$nulls":5},1,4,{"$nulls":5},1,4,{"$nulls":5},1,4,{"$nulls":5},1,4,{"$nulls":5},1,4,{"$nulls":5},1,4,{"$nulls":5},1,4,{"$nulls":5},1]
[8,5,{"$nulls":5},1,5,{"$nulls":5},1,5,{"$nulls":5},1,5,{"$nulls":5},1,5,{"$nulls":5},1,5,{"$nulls":5},1,5,{"$nulls":5},1,5,{"$nulls":5},1]
[8,6,{"$nulls":5},1,6,{"$nulls":5},1,6,{"$nulls":5},1,6,{"$nulls":5},1,6,{"$nulls":5},1,6,{"$nulls":5},1,6,{"$nulls":5},1,6,{"$nulls":5},1]
[8,7,{"$nulls":5},1,7,{"$nulls":5},1,7,{"$nulls":5},1,7,{"$nulls":5},1,7,{"$nulls":5},1,7,{"$nulls":5},1,7,{"$nulls":5},1,7,{"$nulls":5},1]
[8,8,{"$nulls":5},1,8,{"$nulls":5},1,8,{"$nulls":5},1,8,{"$nulls":5},1,8,{"$nulls":5},1,8,{"$nulls":5},1,8,{"$nulls":5},1,8,{"$nulls":5},1]
[8,9,{"$nulls":5},1,9,{"$nulls":5},1,9,{"$nulls":5},1,9,{"$nulls":5},1,9,{"$nulls":5},1,9,{"$nulls":5},1,9,{"$nulls":5},1,9,{"$nulls":5},1]
[8,10,{"$nulls":5},1,10,{"$nulls":5},1,10,{"$nulls":5},1,10,{"$nulls":5},1,10,{"$nulls":5},1,10,{"$nulls":5},1,10,{"$nulls":5},1,10,{"$nulls":5},1]
[8,11,{"$nulls":5},1,11,{"$nulls":5},1,11,{"$nulls":5},1,11,{"$nulls":5},1,11,{"$nulls":5},1,11,{"$nulls":5},1,11,{"$nulls":5},1,11,{"$nulls":5},1]
[8,12,{"$nulls":5},1,12,{"$nulls":5},1,12,{"$nulls":5},1,12,{"$nulls":5},1,12,{"$nulls":5},1,12,{"$nulls":5},1,12,{"$nulls":5},1,12,{"$nulls":5},1]
[8,13,{"$nulls":5},1,13,{"$nulls":5},1,13,{"$nulls":5},1,13,{"$nulls":5},1,13,{"$nulls":5},1,13,{"$nulls":5},1,13,{"$nulls":5},1,13,{"$nulls":5},1]
[8,14,{"$nulls":5},1,14,{"$nulls":5},1,14,{"$nulls":5},1,14,{"$nulls":5},1,14,{"$nulls":5},1,14,{"$nulls":5},1,14,{"$nulls":5},1,14,{"$nulls":5},1]
[8,15,{"$nulls":5},1,15,{"$nulls":5},1,15,{"$nulls":5},1,15,{"$nulls":5},1,15,{"$nulls":5},1,15,{"$nulls":5},1,15,{"$nulls":5},1,15,{"$nulls":5},1]
[8,16,{"$nulls":5},1,16,{"$nulls":5},1,16,{"$nulls":5},1,16,{"$nulls":5},1,16,{"$nulls":5},1,16,{"$nulls":5},1,16,{"$nulls":5},1,16,{"$nulls":5},1]
[8,17,{"$nulls":5},1,17,{"$nulls":5},1,17,{"$nulls":5},1,17,{"$nulls":5},1,17,{"$nulls":5},1,17,{"$nulls":5},1,17,{"$nulls":5},1,17,{"$nulls":5},1]
[8,18,{"$nulls":5},1,18,{"$nulls":5},1,18,{"$nulls":5},1,18,{"$nulls":5},1,18,{"$nulls":5},1,18,{"$nulls":5},1,18,{"$nulls":5},1,18,{"$nulls":5},1]
[8,"Total","Shots",null,null,"Shots",null,1,"Total","Shots",null,null,"Shots",null,1,"Total","Shots",null,null,"Shots",null,1,"Total","Shots",null,null,"Shots",null,1,"Total","Shots",null,null,"Shots",null,1,"Total","Shots",null,null,"Shots",null,1,"Total","Shots",null,null,"Shots",null,1,"Total","Shots",null,null,"shots",null,1]
[8,null,"Ends",null,null,"Ends",null,1,null,"Ends",null,null,"Ends",null,1,null,"Ends",null,null,"Ends",null,1,null,"Ends",null,null,"Ends",null,1,null,"Ends",null,null,"Ends",null,1,null,"Ends",null,null,"Ends",null,1,null,"Ends",null,null,"Ends",null,1,null,"Ends",null,null,"Ends",null,1]
[8,"1st Game ",{"$nulls":5},1,"2nd Game ",{"$nulls":5},1,"3rd Game ",{"$nulls":5},1,"4th Game",{"$nulls":5},1,"5th Game",{"$nulls":5},1,"6th Game",{"$nulls":5},1,"7th Game",{"$nulls":5},1,"8th Game",{"$nulls":5},1]
[8,"Team No",null,null,"Rink No",null,null,1,{"$f":"VLOOKUP(A212,Sheet1!$B$7:'Sheet1'!C48,2,0)","v":0},null,null,"Rink No",null,null,1,{"$f":"$I$210","v":0},null,null,"Rink No",null,null,1,{"$f":"$I$210","v":0},null,null,"Rink No",null,null,1,{"$f":"$I$210","v":0},null,null,"Rink No",null,null,1,{"$f":"$I$210","v":0},null,null,"Rink No",null,null,1,{"$f":"$I$210","v":0},null,null,"Rink No",null,null,1,{"$f":"$I$210","v":0},null,null,"Rink No",null,null,1]
[8,{"$nulls":6},1,{"$nulls":6},1,{"$nulls":6},1,{"$nulls":6},1,{"$nulls":6},1,{"$nulls":6},1,{"$nulls":6},1,{"$nulls":6},1]
[9,{"$f":"DRAW!$B$15","v":9},null,null,{"$f":"DRAW!$E$15","v":7},null,null,1,{"$nulls":3},{"$f":"DRAW!$G$15","v":0},null,null,1,{"$nulls":3},{"$f":"DRAW!$I$15","v":0},null,null,1,{"$nulls":3},{"$f":"DRAW!$K$15","v":0},null,null,1,{"$nulls":3},{"$f":"DRAW!$M$15","v":0},null,null,1,{"$nulls":3},{"$f":"DRAW!$O$15","v":0},null,null,1,{"$nulls":3},{"$f":"DRAW!$Q$15","v":0},null,null,1,{"$nulls":3},{"$f":"DRAW!$S$15","v":0},null,null,1]
[9,null,"Team",{"$f":"DRAW!$B$15","v":9},"V","Team",{"$f":"DRAW!$D$15","v":8},1,null,"Team",{"$f":"DRAW!$B$15","v":9},"V","Team",{"$f":"DRAW!$F$15","v":0},1,null,"Team",{"$f":"DRAW!$B$15","v":9},"V","Team",{"$f":"DRAW!$H$15","v":0},1,null,"Team",{"$f":"DRAW!$B$15","v":9},"V","Team",{"$f":"DRAW!$J$15","v":0},1,null,"Team",{"$f":"DRAW!$B$15","v":9},"V","Team",{"$f":"DRAW!$L$15","v":0},1,null,"Team",{"$f":"DRAW!$B$15","v":9},"V","Team",{"$f":"DRAW!$N$15","v":0},1,null,"Team",{"$f":"DRAW!$B$15","v":9},"V","Team",{"$f":"DRAW!$P$15","v":0},1,null,"Team",{"$f":"DRAW!$B$15","v":9},"V","Team",{"$f":"DRAW!$R$15","v":0},1]
[9,"Ends","Shots","Total",null,"Shots","Total",1,"Ends","Shots","Total",null,"Shots","Total",1,"Ends","Shots","Total",null,"Shots","Total",1,"Ends","Shots","Total",null,"Shots","Total",1,"Ends","Shots","Total",null,"Shots","Total",1,"Ends","Shots","Total",null,"Shots","Total",1,"Ends","Shots","Total",null,"Shots","Total",1,"Ends","Shots","Total",null,"shots","Total",1]
[9,1,{"$nulls":5},1,1,{"$nulls":5},1,1,{"$nulls":5},1,1,{"$nulls":5},1,1,{"$nulls":5},1,1,{"$nulls":5},1,1,{"$nulls":5},1,1,{"$nulls":5},1]
[9,2,{"$nulls":5},1,2,{"$nulls":5},1,2,{"$nulls":5},1,2,{"$nulls":5},1,2,{"$nulls":5},1,2,{"$nulls":5},1,2,{"$nulls":5},1,2,{"$nulls":5},1]
[9,3,{"$nulls":5},1,3,{"$nulls":5},1,3,{"$nulls":5},1,3,{"$nulls":5},1,3,{"$nulls":5},1,3,{"$nulls":5},1,3,{"$nulls":5},1,3,{"$nulls":5},1]
[9,4,{"$nulls":5},1,4,{"$nulls":5},1,4,{"$nulls":5},1,4,{"$nulls":5},1,4,{"$nulls":5},1,4,{"$nulls":5},1,4,{"$nulls":5},1,4,{"$nulls":5},1]
[9,5,{"$nulls":5},1,5,{"$nulls":5},1,5,{"$nulls":5},1,5,{"$nulls":5},1,5,{"$nulls":5},1,5,{"$nulls":5},1,5,{"$nulls":5},1,5,{"$nulls":5},1]
[9,6,{"$nulls":5},1,6,{"$nulls":5},1,6,{"$nulls":5},1,6,{"$nulls":5},1,6,{"$nulls":5},1,6,{"$nulls":5},1,6,{"$nulls":5},1,6,{"$nulls":5},1]
[9,7,{"$nulls":5},1,7,{"$nulls":5},1,7,{"$nulls":5},1,7,{"$nulls":5},1,7,{"$nulls":5},1,7,{"$nulls":5},1,7,{"$nulls":5},1,7,{"$nulls":5},1]
[9,8,{"$nulls":5},1,8,{"$nulls":5},1,8,{"$nulls":5},1,8,{"$nulls":5},1,8,{"$nulls":5},1,8,{"$nulls":5},1,8,{"$nulls":5},1,8,{"$nulls":5},1]
[9,9,{"$nulls":5},1,9,{"$nulls":5},1,9,{"$nulls":5},1,9,{"$nulls":5},1,9,{"$nulls":5},1,9,{"$nulls":5},1,9,{"$nulls":5},1,9,{"$nulls":5},1]
[9,10,{"$nulls":5},1,10,{"$nulls":5},1,10,{"$nulls":5},1,10,{"$nulls":5},1,10,{"$nulls":5},1,10,{"$nulls":5},1,10,{"$nulls":5},1,10,{"$nulls":5},1]
[9,11,{"$nulls":5},1,11,{"$nulls":5},1,11,{"$nulls":5},1,11,{"$nulls":5},1,11,{"$nulls":5},1,11,{"$nulls":5},1,11,{"$nulls":5},1,11,{"$nulls":5},1]
[9,12,{"$nulls":5},1,12,{"$nulls":5},1,12,{"$nulls":5},1,12,{"$nulls":5},1,12,{"$nulls":5},1,12,{"$nulls":5},1,12,{"$nulls":5},1,12,{"$nulls":5},1]
[9,13,{"$nulls":5},1,13,{"$nulls":5},1,13,{"$nulls":5},1,13,{"$nulls":5},1,13,{"$nulls":5},1,13,{"$nulls":5},1,13,{"$nulls":5},1,13,{"$nulls":5},1]
[9,14,{"$nulls":5},1,14,{"$nulls":5},1,14,{"$nulls":5},1,14,{"$nulls":5},1,14,{"$nulls":5},1,14,{"$nulls":5},1,14,{"$nulls":5},1,14,{"$nulls":5},1]
[9,15,{"$nulls":5},1,15,{"$nulls":5},1,15,{"$nulls":5},1,15,{"$nulls":5},1,15,{"$nulls":5},1,15,{"$nulls":5},1,15,{"$nulls":5},1,15,{"$nulls":5},1]
[9,16,{"$nulls":5},1,16,{"$nulls":5},1,16,{"$nulls":5},1,16,{"$nulls":5},1,16,{"$nulls":5},1,16,{"$nulls":5},1,16,{"$nulls":5},1,16,{"$nulls":5},1]
[9,17,{"$nulls":5},1,17,{"$nulls":5},1,17,{"$nulls":5},1,17,{"$nulls":5},1,17,{"$nulls":5},1,17,{"$nulls":5},1,17,{"$nulls":5},1,17,{"$nulls":5},1]
[9,18,{"$nulls":5},1,18,{"$nulls":5},1,18,{"$nulls":5},1,18,{"$nulls":5},1,18,{"$nulls":5},1,18,{"$nulls":5},1,18,{"$nulls":5},1,18,{"$nulls":5},1]
[9,"Total","Shots",null,null,"Shots",null,1,"Total","Shots",null,null,"Shots",null,1,"Total","Shots",null,null,"Shots",null,1,"Total","Shots",null,null,"Shots",null,1,"Total","Shots",null,null,"Shots",null,1,"Total","Shots",null,null,"Shots",null,1,"Total","Shots",null,null,"Shots",null,1,"Total","Shots",null,null,"shots",null,1]
[9,null,"Ends",null,null,"Ends",null,1,null,"Ends",null,null,"Ends",null,1,null,"Ends",null,null,"Ends",null,1,null,"Ends",null,null,"Ends",null,1,null,"Ends",null,null,"Ends",null,1,null,"Ends",null,null,"Ends",null,1,null,"Ends",null,null,"Ends",null,1,null,"Ends",null,null,"Ends",null,1]
[9,"1st Game ",{"$nulls":5},1,"2nd Game ",{"$nulls":5},1,"3rd Game ",{"$nulls":5},1,"4th Game",{"$nulls":5},1,"5th Game",{"$nulls":5},1,"6th Game",{"$nulls":5},1,"7th Game",{"$nulls":5},1,"8th Game",{"$nulls":5},1]
[9,"Team No",null,null,"Rink No",null,null,1,{"$f":"VLOOKUP(A238,Sheet1!$B$7:'Sheet1'!C48,2,0)","v":0},null,null,"Rink No",null,null,1,{"$f":"VLOOKUP(A238,Sheet1!$B$7:'Sheet1'!C48,2,0)","v":0},null,null,"Rink No",null,null,1,{"$f":"VLOOKUP(A238,Sheet1!$B$7:'Sheet1'!C48,2,0)","v":0},null,null,"Rink No",null,null,1,{"$f":"VLOOKUP(A238,Sheet1!$B$7:'Sheet1'!C48,2,0)","v":0},null,null,"Rink No",null,null,1,{"$f":"VLOOKUP(A238,Sheet1!$B$7:'Sheet1'!C48,2,0)","v":0},null,null,"Rink No",null,null,1,{"$f":"VLOOKUP(A238,Sheet1!$B$7:'Sheet1'!C48,2,0)","v":0},null,null,"Rink No",null,null,1,{"$f":"VLOOKUP(A238,Sheet1!$B$7:'Sheet1'!C48,2,0)","v":0},null,null,"Rink No",null,null,1]
[9,{"$nulls":6},1,{"$nulls":6},1,{"$nulls":6},1,{"$nulls":6},1,{"$nulls":6},1,{"$nulls":6},1,{"$nulls":6},1,{"$nulls":6},1]
[10,{"$f":"DRAW!$B$16","v":10},null,null,{"$f":"DRAW!$E$16","v":6},null,null,1,{"$nulls":3},{"$f":"DRAW!$G$16","v":0},null,null,1,{"$nulls":3},{"$f":"DRAW!$I$16","v":0},null,null,1,{"$nulls":3},{"$f":"DRAW!$K$16","v":0},null,null,1,{"$nulls":3},{"$f":"DRAW!$M$16","v":0},null,null,1,{"$nulls":3},{"$f":"DRAW!$O$16","v":0},null,null,1,{"$nulls":3},{"$f":"DRAW!$Q$16","v":0},null,null,1,{"$nulls":3},{"$f":"DRAW!$S$16","v":0},null,null,1]
[10,null,"Team",{"$f":"DRAW!$B$16","v":10},"V","Team",{"$f":"DRAW!$D$16","v":7},1,null,"Team",{"$f":"DRAW!$B$16","v":10},"V","Team",{"$f":"DRAW!$F$16","v":0},1,null,"Team",{"$f":"DRAW!$B$16","v":10},"V","Team",{"$f":"DRAW!$H$16","v":0},1,null,"Team",{"$f":"DRAW!$B$16","v":10},"V","Team",{"$f":"DRAW!$J$16","v":0},1,null,"Team",{"$f":"DRAW!$B$16","v":10},"V","Team",{"$f":"DRAW!$L$16","v":0},1,null,"Team",{"$f":"DRAW!$B$16","v":10},"V","Team",{"$f":"DRAW!$N$16","v":0},1,null,"Team",{"$f":"DRAW!$B$16","v":10},"V","Team",{"$f":"DRAW!$P$16","v":0},1,null,"Team",{"$f":"DRAW!$B$16","v":10},"V","Team",{"$f":"DRAW!$R$16","v":0},1]
[10,"Ends","Shots","Total",null,"Shots","Total",1,"Ends","Shots","Total",null,"Shots","Total",1,"Ends","Shots","Total",null,"Shots","Total",1,"Ends","Shots","Total",null,"Shots","Total",1,"Ends","Shots","Total",null,"Shots","Total",1,"Ends","Shots","Total",null,"Shots","Total",1,"Ends","Shots","Total",null,"Shots","Total",1,"Ends","Shots","Total",null,"shots","Total",1]
[10,1,{"$nulls":5},1,1,{"$nulls":5},1,1,{"$nulls":5},1,1,{"$nulls":5},1,1,{"$nulls":5},1,1,{"$nulls":5},1,1,{"$nulls":5},1,1,{"$nulls":5},1]
[10,2,{"$nulls":5},1,2,{"$nulls":5},1,2,{"$nulls":5},1,2,{"$nulls":5},1,2,{"$nulls":5},1,2,{"$nulls":5},1,2,{"$nulls":5},1,2,{"$nulls":5},1]
[10,3,{"$nulls":5},1,3,{"$nulls":5},1,3,{"$nulls":5},1,3,{"$nulls":5},1,3,{"$nulls":5},1,3,{"$nulls":5},1,3,{"$nulls":5},1,3,{"$nulls":5},1]
[10,4,{"$nulls":5},1,4,{"$nulls":5},1,4,{"$nulls":5},1,4,{"$nulls":5},1,4,{"$nulls":5},1,4,{"$nulls":5},1,4,{"$nulls":5},1,4,{"$nulls":5},1]
[10,5,{"$nulls":5},1,5,{"$nulls":5},1,5,{"$nulls":5},1,5,{"$nulls":5},1,5,{"$nulls":5},1,5,{"$nulls":5},1,5,{"$nulls":5},1,5,{"$nulls":5},1]
[10,6,{"$nulls":5},1,6,{"$nulls":5},1,6,{"$nulls":5},1,6,{"$nulls":5},1,6,{"$nulls":5},1,6,{"$nulls":5},1,6,{"$nulls":5},1,6,{"$nulls":5},1]
[10,7,{"$nulls":5},1,7,{"$nulls":5},1,7,{"$nulls":5},1,7,{"$nulls":5},1,7,{"$nulls":5},1,7,{"$nulls":5},1,7,{"$nulls":5},1,7,{"$nulls":5},1]
[10,8,{"$nulls":5},1,8,{"$nulls":5},1,8,{"$nulls":5},1,8,{"$nulls":5},1,8,{"$nulls":5},1,8,{"$nulls":5},1,8,{"$nulls":5},1,8,{"$nulls":5},1]
[10,9,{"$nulls":5},1,9,{"$nulls":5},1,9,{"$nulls":5},1,9,{"$nulls":5},1,9,{"$nulls":5},1,9,{"$nulls":5},1,9,{"$nulls":5},1,9,{"$nulls":5},1]
[10,10,{"$nulls":5},1,10,{"$nulls":5},1,10,{"$nulls":5},1,10,{"$nulls":5},1,10,{"$nulls":5},1,10,{"$nulls":5},1,10,{"$nulls":5},1,10,{"$nulls":5},1]
[10,11,{"$nulls":5},1,11,{"$nulls":5},1,11,{"$nulls":5},1,11,{"$nulls":5},1,11,{"$nulls":5},1,11,{"$nulls":5},1,11,{"$nulls":5},1,11,{"$nulls":5},1]
[10,12,{"$nulls":5},1,12,{"$nulls":5},1,12,{"$nulls":5},1,12,{"$nulls":5},1,12,{"$nulls":5},1,12,{"$nulls":5},1,12,{"$nulls":5},1,12,{"$nulls":5},1]
[10,13,{"$nulls":5},1,13,{"$nulls":5},1,13,{"$nulls":5},1,13,{"$nulls":5},1,13,{"$nulls":5},1,13,{"$nulls":5},1,13,{"$nulls":5},1,13,{"$nulls":5},1]
[10,14,{"$nulls":5},1,14,{"$nulls":5},1,14,{"$nulls":5},1,14,{"$nulls":5},1,14,{"$nulls":5},1,14,{"$nulls":5},1,14,{"$nulls":5},1,14,{"$nulls":5},1]
[10,15,{"$nulls":5},1,15,{"$nulls":5},1,15,{"$nulls":5},1,15,{"$nulls":5},1,15,{"$nulls":5},1,15,{"$nulls":5},1,15,{"$nulls":5},1,15,{"$nulls":5},1]
[10,16,{"$nulls":5},1,16,{"$nulls":5},1,16,{"$nulls":5},1,16,{"$nulls":5},1,16,{"$nulls":5},1,16,{"$nulls":5},1,16,{"$nulls":5},1,16,{"$nulls":5},1]
[10,17,{"$nulls":5},1,17,{"$nulls":5},1,17,{"$nulls":5},1,17,{"$nulls":5},1,17,{"$nulls":5},1,17,{"$nulls":5},1,17,{"$nulls":5},1,17,{"$nulls":5},1]
[10,18,{"$nulls":5},1,18,{"$nulls":5},1,18,{"$nulls":5},1,18,{"$nulls":5},1,18,{"$nulls":5},1,18,{"$nulls":5},1,18,{"$nulls":5},1,18,{"$nulls":5},1]
[10,"Total","Shots",null,null,"Shots",null,1,"Total","Shots",null,null,"Shots",null,1,"Total","Shots",null,null,"Shots",null,1,"Total","Shots",null,null,"Shots",null,1,"Total","Shots",null,null,"Shots",null,1,"Total","Shots",null,null,"Shots",null,1,"Total","Shots",null,null,"Shots",null,1,"Total","Shots",null,null,"shots",null,1]
[10,null,"Ends",null,null,"Ends",null,1,null,"Ends",null,null,"Ends",null,1,null,"Ends",null,null,"Ends",null,1,null,"Ends",null,null,"Ends",null,1,null,"Ends",null,null,"Ends",null,1,null,"Ends",null,null,"Ends",null,1,null,"Ends",null,null,"Ends",null,1,null,"Ends",null,null,"Ends",null,1]
[10,"1st Game ",{"$nulls":5},1,"2nd Game ",{"$nulls":5},1,"3rd Game ",{"$nulls":5},1,"4th Game",{"$nulls":5},1,"5th Game",{"$nulls":5},1,"6th Game",{"$nulls":5},1,"7th Game",{"$nulls":5},1,"8th Game",{"$nulls":5},1]
[10,"Team No",null,null,"Rink No",null,null,1,{"$f":"VLOOKUP(A264,Sheet1!$B$7:'Sheet1'!C48,2,0)","v":0},null,null,"Rink No",null,null,1,{"$f":"VLOOKUP(A264,Sheet1!$B$7:'Sheet1'!C48,2,0)","v":0},null,null,"Rink No",null,null,1,{"$f":"VLOOKUP(A264,Sheet1!$B$7:'Sheet1'!C48,2,0)","v":0},null,null,"Rink No",null,null,1,{"$f":"VLOOKUP(A264,Sheet1!$B$7:'Sheet1'!C48,2,0)","v":0},null,null,"Rink No",null,null,1,{"$f":"VLOOKUP(A264,Sheet1!$B$7:'Sheet1'!C48,2,0)","v":0},null,null,"Rink No",null,null,1,{"$f":"VLOOKUP(A264,Sheet1!$B$7:'Sheet1'!C48,2,0)","v":0},null,null,"Rink No",null,null,1,{"$f":"VLOOKUP(A264,Sheet1!$B$7:'Sheet1'!C48,2,0)","v":0},null,null,"Rink No",null,null,1]
[10,{"$nulls":6},1,{"$nulls":6},1,{"$nulls":6},1,{"$nulls":6},1,{"$nulls":6},1,{"$nulls":6},1,{"$nulls":6},1,{"$nulls":6},1]
[11,{"$f":"DRAW!$B$17","v":11},null,null,{"$f":"DRAW!$E$17","v":5},null,null,1,{"$nulls":3},{"$f":"DRAW!$G$17","v":0},null,null,1,{"$nulls":3},{"$f":"DRAW!$I$17","v":0},null,null,1,{"$nulls":3},{"$f":"DRAW!$K$17","v":0},null,null,1,{"$nulls":3},{"$f":"DRAW!$M$17","v":0},null,null,1,{"$nulls":3},{"$f":"DRAW!$O$17","v":0},null,null,1,{"$nulls":3},{"$f":"DRAW!$Q$17","v":0},null,null,1,{"$nulls":3},{"$f":"DRAW!$S$17","v":0},null,null,1]
[11,null,"Team",{"$f":"DRAW!$B$17","v":11},"V","Team",{"$f":"DRAW!$D$17","v":6},1,null,"Team",{"$f":"DRAW!$B$17","v":11},"V","Team",{"$f":"DRAW!$F$17","v":0},1,null,"Team",{"$f":"DRAW!$B$17","v":11},"V","Team",{"$f":"DRAW!$H$17","v":0},1,null,"Team",{"$f":"DRAW!$B$17","v":11},"V","Team",{"$f":"DRAW!$J$17","v":0},1,null,"Team",{"$f":"DRAW!$B$17","v":11},"V","Team",{"$f":"DRAW!$L$17","v":0},1,null,"Team",{"$f":"DRAW!$B$17","v":11},"V","Team",{"$f":"DRAW!$N$17","v":0},1,null,"Team",{"$f":"DRAW!$B$17","v":11},"V","Team",{"$f":"DRAW!$P$17","v":0},1,null,"Team",{"$f":"DRAW!$B$17","v":11},"V","Team",{"$f":"DRAW!$R$17","v":0},1]
[11,"Ends","Shots","Total",null,"Shots","Total",1,"Ends","Shots","Total",null,"Shots","Total",1,"Ends","Shots","Total",null,"Shots","Total",1,"Ends","Shots","Total",null,"Shots","Total",1,"Ends","Shots","Total",null,"Shots","Total",1,"Ends","Shots","Total",null,"Shots","Total",1,"Ends","Shots","Total",null,"Shots","Total",1,"Ends","Shots","Total",null,"shots","Total",1]
[11,1,{"$nulls":5},1,1,{"$nulls":5},1,1,{"$nulls":5},1,1,{"$nulls":5},1,1,{"$nulls":5},1,1,{"$nulls":5},1,1,{"$nulls":5},1,1,{"$nulls":5},1]
[11,2,{"$nulls":5},1,2,{"$nulls":5},1,2,{"$nulls":5},1,2,{"$nulls":5},1,2,{"$nulls":5},1,2,{"$nulls":5},1,2,{"$nulls":5},1,2,{"$nulls":5},1]
[11,3,{"$nulls":5},1,3,{"$nulls":5},1,3,{"$nulls":5},1,3,{"$nulls":5},1,3,{"$nulls":5},1,3,{"$nulls":5},1,3,{"$nulls":5},1,3,{"$nulls":5},1]
[11,4,{"$nulls":5},1,4,{"$nulls":5},1,4,{"$nulls":5},1,4,{"$nulls":5},1,4,{"$nulls":5},1,4,{"$nulls":5},1,4,{"$nulls":5},1,4,{"$nulls":5},1]
[11,5,{"$nulls":5},1,5,{"$nulls":5},1,5,{"$nulls":5},1,5,{"$nulls":5},1,5,{"$nulls":5},1,5,{"$nulls":5},1,5,{"$nulls":5},1,5,{"$nulls":5},1]
[11,6,{"$nulls":5},1,6,{"$nulls":5},1,6,{"$nulls":5},1,6,{"$nulls":5},1,6,{"$nulls":5},1,6,{"$nulls":5},1,6,{"$nulls":5},1,6,{"$nulls":5},1]
[11,7,{"$nulls":5},1,7,{"$nulls":5},1,7,{"$nulls":5},1,7,{"$nulls":5},1,7,{"$nulls":5},1,7,{"$nulls":5},1,7,{"$nulls":5},1,7,{"$nulls":5},1]
[11,8,{"$nulls":5},1,8,{"$nulls":5},1,8,{"$nulls":5},1,8,{"$nulls":5},1,8,{"$nulls":5},1,8,{"$nulls":5},1,8,{"$nulls":5},1,8,{"$nulls":5},1]
[11,9,{"$nulls":5},1,9,{"$nulls":5},1,9,{"$nulls":5},1,9,{"$nulls":5},1,9,{"$nulls":5},1,9,{"$nulls":5},1,9,{"$nulls":5},1,9,{"$nulls":5},1]
[11,10,{"$nulls":5},1,10,{"$nulls":5},1,10,{"$nulls":5},1,10,{"$nulls":5},1,10,{"$nulls":5},1,10,{"$nulls":5},1,10,{"$nulls":5},1,10,{"$nulls":5},1]
[11,11,{"$nulls":5},1,11,{"$nulls":5},1,11,{"$nulls":5},1,11,{"$nulls":5},1,11,{"$nulls":5},1,11,{"$nulls":5},1,11,{"$nulls":5},1,11,{"$nulls":5},1]
[11,12,{"$nulls":5},1,12,{"$nulls":5},1,12,{"$nulls":5},1,12,{"$nulls":5},1,12,{"$nulls":5},1,12,{"$nulls":5},1,12,{"$nulls":5},1,12,{"$nulls":5},1]
[11,13,{"$nulls":5},1,13,{"$nulls":5},1,13,{"$nulls":5},1,13,{"$nulls":5},1,13,{"$nulls":5},1,13,{"$nulls":5},1,13,{"$nulls":5},1,13,{"$nulls":5},1]
[11,14,{"$nulls":5},1,14,{"$nulls":5},1,14,{"$nulls":5},1,14,{"$nulls":5},1,14,{"$nulls":5},1,14,{"$nulls":5},1,14,{"$nulls":5},1,14,{"$nulls":5},1]
[11,15,{"$nulls":5},1,15,{"$nulls":5},1,15,{"$nulls":5},1,15,{"$nulls":5},1,15,{"$nulls":5},1,15,{"$nulls":5},1,15,{"$nulls":5},1,15,{"$nulls":5},1]
[11,16,{"$nulls":5},1,16,{"$nulls":5},1,16,{"$nulls":5},1,16,{"$nulls":5},1,16,{"$nulls":5},1,16,{"$nulls":5},1,16,{"$nulls":5},1,16,{"$nulls":5},1]
[11,17,{"$nulls":5},1,17,{"$nulls":5},1,17,{"$nulls":5},1,17,{"$nulls":5},1,17,{"$nulls":5},1,17,{"$nulls":5},1,17,{"$nulls":5},1,17,{"$nulls":5},1]
[11,18,{"$nulls":5},1,18,{"$nulls":5},1,18,{"$nulls":5},1,18,{"$nulls":5},1,18,{"$nulls":5},1,18,{"$nulls":5},1,18,{"$nulls":5},1,18,{"$nulls":5},1]
[11,"Total","Shots",null,null,"Shots",null,1,"Total","Shots",null,null,"Shots",null,1,"Total","Shots",null,null,"Shots",null,1,"Total","Shots",null,null,"Shots",null,1,"Total","Shots",null,null,"Shots",null,1,"Total","Shots",null,null,"Shots",null,1,"Total","Shots",null,null,"Shots",null,1,"Total","Shots",null,null,"shots",null,1]
[11,null,"Ends",null,null,"Ends",null,1,null,"Ends",null,null,"Ends",null,1,null,"Ends",null,null,"Ends",null,1,null,"Ends",null,null,"Ends",null,1,null,"Ends",null,null,"Ends",null,1,null,"Ends",null,null,"Ends",null,1,null,"Ends",null,null,"Ends",null,1,null,"Ends",null,null,"Ends",null,1]
[11,"1st Game ",{"$nulls":5},1,"2nd Game ",{"$nulls":5},1,"3rd Game ",{"$nulls":5},1,"4th Game",{"$nulls":5},1,"5th Game",{"$nulls":5},1,"6th Game",{"$nulls":5},1,"7th Game",{"$nulls":5},1,"8th Game",{"$nulls":5},1]
[11,"Team No",null,null,"Rink No",null,null,1,{"$f":"VLOOKUP(A290,Sheet1!$B$7:'Sheet1'!C48,2,0)","v":0},null,null,"Rink No",null,null,1,{"$f":"VLOOKUP(A290,Sheet1!$B$7:'Sheet1'!C48,2,0)","v":0},null,null,"Rink No",null,null,1,{"$f":"VLOOKUP(A290,Sheet1!$B$7:'Sheet1'!C48,2,0)","v":0},null,null,"Rink No",null,null,1,{"$f":"VLOOKUP(A290,Sheet1!$B$7:'Sheet1'!C48,2,0)","v":0},null,null,"Rink No",null,null,1,{"$f":"VLOOKUP(A290,Sheet1!$B$7:'Sheet1'!C48,2,0)","v":0},null,null,"Rink No",null,null,1,{"$f":"VLOOKUP(A290,Sheet1!$B$7:'Sheet1'!C48,2,0)","v":0},null,null,"Rink No",null,null,1,{"$f":"$AR$288","v":0},null,null,"Rink No",null,null,1]
[11,{"$nulls":6},1,{"$nulls":6},1,{"$nulls":6},1,{"$nulls":6},1,{"$nulls":6},1,{"$nulls":6},1,{"$nulls":6},1,{"$nulls":6},1]
[12,{"$f":"DRAW!$B$18","v":12},null,null,{"$f":"DRAW!$E$18","v":4},null,null,1,{"$nulls":3},{"$f":"DRAW!$G$18","v":0},null,null,1,{"$nulls":3},{"$f":"DRAW!$I$18","v":0},null,null,1,{"$nulls":3},{"$f":"DRAW!$K$18","v":0},null,null,1,{"$nulls":3},{"$f":"DRAW!$M$18","v":0},null,null,1,{"$nulls":3},{"$f":"DRAW!$O$18","v":0},null,null,1,{"$nulls":3},{"$f":"DRAW!$Q$18","v":0},null,null,1,{"$nulls":3},{"$f":"DRAW!$S$18","v":0},null,null,1]
[12,null,"Team",{"$f":"DRAW!$B$18","v":12},"V","Team",{"$f":"DRAW!$D$18","v":5},1,null,"Team",{"$f":"DRAW!$B$18","v":12},"V","Team",{"$f":"DRAW!$F$18","v":0},1,null,"Team",{"$f":"DRAW!$B$18","v":12},"V","Team",{"$f":"DRAW!$H$18","v":0},1,null,"Team",{"$f":"DRAW!$B$18","v":12},"V","Team",{"$f":"DRAW!$J$18","v":0},1,null,"Team",{"$f":"DRAW!$B$18","v":12},"V","Team",{"$f":"DRAW!$L$18","v":0},1,null,"Team",{"$f":"DRAW!$B$18","v":12},"V","Team",{"$f":"DRAW!$N$18","v":0},1,null,"Team",{"$f":"DRAW!$B$18","v":12},"V","Team",{"$f":"DRAW!$P$18","v":0},1,null,"Team",{"$f":"DRAW!$B$18","v":12},"V","Team",{"$f":"DRAW!$R$18","v":0},1]
[12,"Ends","Shots","Total",null,"Shots","Total",1,"Ends","Shots","Total",null,"Shots","Total",1,"Ends","Shots","Total",null,"Shots","Total",1,"Ends","Shots","Total",null,"Shots","Total",1,"Ends","Shots","Total",null,"Shots","Total",1,"Ends","Shots","Total",null,"Shots","Total",1,"Ends","Shots","Total",null,"Shots","Total",1,"Ends","Shots","Total",null,"shots","Total",1]
[12,1,{"$nulls":5},1,1,{"$nulls":5},1,1,{"$nulls":5},1,1,{"$nulls":5},1,1,{"$nulls":5},1,1,{"$nulls":5},1,1,{"$nulls":5},1,1,{"$nulls":5},1]
[12,2,{"$nulls":5},1,2,{"$nulls":5},1,2,{"$nulls":5},1,2,{"$nulls":5},1,2,{"$nulls":5},1,2,{"$nulls":5},1,2,{"$nulls":5},1,2,{"$nulls":5},1]
[12,3,{"$nulls":5},1,3,{"$nulls":5},1,3,{"$nulls":5},1,3,{"$nulls":5},1,3,{"$nulls":5},1,3,{"$nulls":5},1,3,{"$nulls":5},1,3,{"$nulls":5},1]
[12,4,{"$nulls":5},1,4,{"$nulls":5},1,4,{"$nulls":5},1,4,{"$nulls":5},1,4,{"$nulls":5},1,4,{"$nulls":5},1,4,{"$nulls":5},1,4,{"$nulls":5},1]
[12,5,{"$nulls":5},1,5,{"$nulls":5},1,5,{"$nulls":5},1,5,{"$nulls":5},1,5,{"$nulls":5},1,5,{"$nulls":5},1,5,{"$nulls":5},1,5,{"$nulls":5},1]
[12,6,{"$nulls":5},1,6,{"$nulls":5},1,6,{"$nulls":5},1,6,{"$nulls":5},1,6,{"$nulls":5},1,6,{"$nulls":5},1,6,{"$nulls":5},1,6,{"$nulls":5},1]
[12,7,{"$nulls":5},1,7,{"$nulls":5},1,7,{"$nulls":5},1,7,{"$nulls":5},1,7,{"$nulls":5},1,7,{"$nulls":5},1,7,{"$nulls":5},1,7,{"$nulls":5},1]
[12,8,{"$nulls":5},1,8,{"$nulls":5},1,8,{"$nulls":5},1,8,{"$nulls":5},1,8,{"$nulls":5},1,8,{"$nulls":5},1,8,{"$nulls":5},1,8,{"$nulls":5},1]
[12,9,{"$nulls":5},1,9,{"$nulls":5},1,9,{"$nulls":5},1,9,{"$nulls":5},1,9,{"$nulls":5},1,9,{"$nulls":5},1,9,{"$nulls":5},1,9,{"$nulls":5},1]
[12,10,{"$nulls":5},1,10,{"$nulls":5},1,10,{"$nulls":5},1,10,{"$nulls":5},1,10,{"$nulls":5},1,10,{"$nulls":5},1,10,{"$nulls":5},1,10,{"$nulls":5},1]
[12,11,{"$nulls":5},1,11,{"$nulls":5},1,11,{"$nulls":5},1,11,{"$nulls":5},1,11,{"$nulls":5},1,11,{"$nulls":5},1,11,{"$nulls":5},1,11,{"$nulls":5},1]
[12,12,{"$nulls":5},1,12,{"$nulls":5},1,12,{"$nulls":5},1,12,{"$nulls":5},1,12,{"$nulls":5},1,12,{"$nulls":5},1,12,{"$nulls":5},1,12,{"$nulls":5},1]
[12,13,{"$nulls":5},1,13,{"$nulls":5},1,13,{"$nulls":5},1,13,{"$nulls":5},1,13,{"$nulls":5},1,13,{"$nulls":5},1,13,{"$nulls":5},1,13,{"$nulls":5},1]
[12,14,{"$nulls":5},1,14,{"$nulls":5},1,14,{"$nulls":5},1,14,{"$nulls":5},1,14,{"$nulls":5},1,14,{"$nulls":5},1,14,{"$nulls":5},1,14,{"$nulls":5},1]
[12,15,{"$nulls":5},1,15,{"$nulls":5},1,15,{"$nulls":5},1,15,{"$nulls":5},1,15,{"$nulls":5},1,15,{"$nulls":5},1,15,{"$nulls":5},1,15,{"$nulls":5},1]
[12,16,{"$nulls":5},1,16,{"$nulls":5},1,16,{"$nulls":5},1,16,{"$nulls":5},1,16,{"$nulls":5},1,16,{"$nulls":5},1,16,{"$nulls":5},1,16,{"$nulls":5},1]
[12,17,{"$nulls":5},1,17,{"$nulls":5},1,17,{"$nulls":5},1,17,{"$nulls":5},1,17,{"$nulls":5},1,17,{"$nulls":5},1,17,{"$nulls":5},1,17,{"$nulls":5},1]
[12,18,{"$nulls":5},1,18,{"$nulls":5},1,18,{"$nulls":5},1,18,{"$nulls":5},1,18,{"$nulls":5},1,18,{"$nulls":5},1,18,{"$nulls":5},1,18,{"$nulls":5},1]
[12,"Total","Shots",null,null,"Shots",null,1,"Total","Shots",null,null,"Shots",null,1,"Total","Shots",null,null,"Shots",null,1,"Total","Shots",null,null,"Shots",null,1,"Total","Shots",null,null,"Shots",null,1,"Total","Shots",null,null,"Shots",null,1,"Total","Shots",null,null,"Shots",null,1,"Total","Shots",null,null,"shots",null,1]
[12,null,"Ends",null,null,"Ends",null,1,null,"Ends",null,null,"Ends",null,1,null,"Ends",null,null,"Ends",null,1,null,"Ends",null,null,"Ends",null,1,null,"Ends",null,null,"Ends",null,1,null,"Ends",null,null,"Ends",null,1,null,"Ends",null,null,"Ends",null,1,null,"Ends",null,null,"Ends",null,1]
[12,"1st Game ",{"$nulls":5},1,"2nd Game ",{"$nulls":5},1,"3rd Game ",{"$nulls":5},1,"4th Game",{"$nulls":5},1,"5th Game",{"$nulls":5},1,"6th Game",{"$nulls":5},1,"7th Game",{"$nulls":5},1,"8th Game",{"$nulls":5},1]
[12,"Team No",null,null,"Rink No",null,null,1,{"$f":"VLOOKUP(A316,Sheet1!$B$7:'Sheet1'!C48,2,0)","v":0},null,null,"Rink No",null,null,1,{"$f":"VLOOKUP(A316,Sheet1!$B$7:'Sheet1'!C48,2,0)","v":0},null,null,"Rink No",null,null,1,{"$f":"VLOOKUP(A316,Sheet1!$B$7:'Sheet1'!C48,2,0)","v":0},null,null,"Rink No",null,null,1,{"$f":"VLOOKUP(A316,Sheet1!$B$7:'Sheet1'!C48,2,0)","v":0},null,null,"Rink No",null,null,1,{"$f":"VLOOKUP(A316,Sheet1!$B$7:'Sheet1'!C48,2,0)","v":0},null,null,"Rink No",null,null,1,{"$f":"VLOOKUP(A316,Sheet1!$B$7:'Sheet1'!C48,2,0)","v":0},null,null,"Rink No",null,null,1,{"$f":"VLOOKUP(A316,Sheet1!$B$7:'Sheet1'!C48,2,0)","v":0},null,null,"Rink No",null,null,1]
[12,{"$nulls":6},1,{"$nulls":6},1,{"$nulls":6},1,{"$nulls":6},1,{"$nulls":6},1,{"$nulls":6},1,{"$nulls":6},1,{"$nulls":6},1]
[13,{"$f":"DRAW!$B$19","v":13},null,null,{"$f":"DRAW!$E$19","v":3},null,null,1,{"$nulls":3},{"$f":"DRAW!$G$19","v":0},null,null,1,{"$nulls":3},{"$f":"DRAW!$I$19","v":0},null,null,1,{"$f":"DRAW!$B$19","v":13},null,null,{"$f":"DRAW!$K$19","v":0},null,null,1,{"$f":"DRAW!$B$19","v":13},null,null,{"$f":"DRAW!$M$19","v":0},null,null,1,{"$f":"DRAW!$B$19","v":13},null,null,{"$f":"DRAW!$O$19","v":0},null,null,1,{"$f":"DRAW!$B$19","v":13},null,null,{"$f":"DRAW!$Q$19","v":0},null,null,1,{"$f":"DRAW!$B$19","v":13},null,null,{"$f":"DRAW!$S$19","v":0},null,null,1]
[13,null,"Team",{"$f":"DRAW!$B$19","v":13},"V","Team",{"$f":"DRAW!$D$19","v":4},1,null,"Team",{"$f":"DRAW!$B$19","v":13},"V","Team",{"$f":"DRAW!$F$19","v":0},1,null,"Team",{"$f":"DRAW!$B$19","v":13},"V","Team",{"$f":"DRAW!$H$19","v":0},1,null,"Team",{"$f":"DRAW!$B$19","v":13},"V","Team",{"$f":"DRAW!$J$19","v":0},1,null,"Team",{"$f":"DRAW!$B$19","v":13},"V","Team",{"$f":"DRAW!$L$19","v":0},1,null,"Team",{"$f":"DRAW!$B$19","v":13},"V","Team",{"$f":"DRAW!$N$19","v":0},1,null,"Team",{"$f":"DRAW!$B$19","v":13},"V","Team",{"$f":"DRAW!$P$19","v":0},1,null,"Team",{"$f":"DRAW!$B$19","v":13},"V","Team",{"$f":"DRAW!$R$19","v":0},1]
[13,"Ends","Shots","Total",null,"Shots","Total",1,"Ends","Shots","Total",null,"Shots","Total",1,"Ends","Shots","Total",null,"Shots","Total",1,"Ends","Shots","Total",null,"Shots","Total",1,"Ends","Shots","Total",null,"Shots","Total",1,"Ends","Shots","Total",null,"Shots","Total",1,"Ends","Shots","Total",null,"Shots","Total",1,"Ends","Shots","Total",null,"shots","Total",1]
[13,1,{"$nulls":5},1,1,{"$nulls":5},1,1,{"$nulls":5},1,1,{"$nulls":5},1,1,{"$nulls":5},1,1,{"$nulls":5},1,1,{"$nulls":5},1,1,{"$nulls":5},1]
[13,2,{"$nulls":5},1,2,{"$nulls":5},1,2,{"$nulls":5},1,2,{"$nulls":5},1,2,{"$nulls":5},1,2,{"$nulls":5},1,2,{"$nulls":5},1,2,{"$nulls":5},1]
[13,3,{"$nulls":5},1,3,{"$nulls":5},1,3,{"$nulls":5},1,3,{"$nulls":5},1,3,{"$nulls":5},1,3,{"$nulls":5},1,3,{"$nulls":5},1,3,{"$nulls":5},1]
[13,4,{"$nulls":5},1,4,{"$nulls":5},1,4,{"$nulls":5},1,4,{"$nulls":5},1,4,{"$nulls":5},1,4,{"$nulls":5},1,4,{"$nulls":5},1,4,{"$nulls":5},1]
[13,5,{"$nulls":5},1,5,{"$nulls":5},1,5,{"$nulls":5},1,5,{"$nulls":5},1,5,{"$nulls":5},1,5,{"$nulls":5},1,5,{"$nulls":5},1,5,{"$nulls":5},1]
[13,6,{"$nulls":5},1,6,{"$nulls":5},1,6,{"$nulls":5},1,6,{"$nulls":5},1,6,{"$nulls":5},1,6,{"$nulls":5},1,6,{"$nulls":5},1,6,{"$nulls":5},1]
[13,7,{"$nulls":5},1,7,{"$nulls":5},1,7,{"$nulls":5},1,7,{"$nulls":5},1,7,{"$nulls":5},1,7,{"$nulls":5},1,7,{"$nulls":5},1,7,{"$nulls":5},1]
[13,8,{"$nulls":5},1,8,{"$nulls":5},1,8,{"$nulls":5},1,8,{"$nulls":5},1,8,{"$nulls":5},1,8,{"$nulls":5},1,8,{"$nulls":5},1,8,{"$nulls":5},1]
[13,9,{"$nulls":5},1,9,{"$nulls":5},1,9,{"$nulls":5},1,9,{"$nulls":5},1,9,{"$nulls":5},1,9,{"$nulls":5},1,9,{"$nulls":5},1,9,{"$nulls":5},1]
[13,10,{"$nulls":5},1,10,{"$nulls":5},1,10,{"$nulls":5},1,10,{"$nulls":5},1,10,{"$nulls":5},1,10,{"$nulls":5},1,10,{"$nulls":5},1,10,{"$nulls":5},1]
[13,11,{"$nulls":5},1,11,{"$nulls":5},1,11,{"$nulls":5},1,11,{"$nulls":5},1,11,{"$nulls":5},1,11,{"$nulls":5},1,11,{"$nulls":5},1,11,{"$nulls":5},1]
[13,12,{"$nulls":5},1,12,{"$nulls":5},1,12,{"$nulls":5},1,12,{"$nulls":5},1,12,{"$nulls":5},1,12,{"$nulls":5},1,12,{"$nulls":5},1,12,{"$nulls":5},1]
[13,13,{"$nulls":5},1,13,{"$nulls":5},1,13,{"$nulls":5},1,13,{"$nulls":5},1,13,{"$nulls":5},1,13,{"$nulls":5},1,13,{"$nulls":5},1,13,{"$nulls":5},1]
[13,14,{"$nulls":5},1,14,{"$nulls":5},1,14,{"$nulls":5},1,14,{"$nulls":5},1,14,{"$nulls":5},1,14,{"$nulls":5},1,14,{"$nulls":5},1,14,{"$nulls":5},1]
[13,15,{"$nulls":5},1,15,{"$nulls":5},1,15,{"$nulls":5},1,15,{"$nulls":5},1,15,{"$nulls":5},1,15,{"$nulls":5},1,15,{"$nulls":5},1,15,{"$nulls":5},1]
[13,16,{"$nulls":5},1,16,{"$nulls":5},1,16,{"$nulls":5},1,16,{"$nulls":5},1,16,{"$nulls":5},1,16,{"$nulls":5},1,16,{"$nulls":5},1,16,{"$nulls":5},1]
[13,17,{"$nulls":5},1,17,{"$nulls":5},1,17,{"$nulls":5},1,17,{"$nulls":5},1,17,{"$nulls":5},1,17,{"$nulls":5},1,17,{"$nulls":5},1,17,{"$nulls":5},1]
[13,18,{"$nulls":5},1,18,{"$nulls":5},1,18,{"$nulls":5},1,18,{"$nulls":5},1,18,{"$nulls":5},1,18,{"$nulls":5},1,18,{"$nulls":5},1,18,{"$nulls":5},1]
[13,"Total","Shots",null,null,"Shots",null,1,"Total","Shots",null,null,"Shots",null,1,"Total","Shots",null,null,"Shots",null,1,"Total","Shots",null,null,"Shots",null,1,"Total","Shots",null,null,"Shots",null,1,"Total","Shots",null,null,"Shots",null,1,"Total","Shots",null,null,"Shots",null,1,"Total","Shots",null,null,"shots",null,1]
[13,null,"Ends",null,null,"Ends",null,1,null,"Ends",null,null,"Ends",null,1,null,"Ends",null,null,"Ends",null,1,null,"Ends",null,null,"Ends",null,1,null,"Ends",null,null,"Ends",null,1,null,"Ends",null,null,"Ends",null,1,null,"Ends",null,null,"Ends",null,1,null,"Ends",null,null,"Ends",null,1]
[13,"1st Game ",{"$nulls":5},1,"2nd Game ",{"$nulls":5},1,"3rd Game ",{"$nulls":5},1,"4th Game",{"$nulls":5},1,"5th Game",{"$nulls":5},1,"6th Game",{"$nulls":5},1,"7th Game",{"$nulls":5},1,"8th Game",{"$nulls":5},1]
[13,"Team No",null,null,"Rink No",null,null,1,{"$f":"VLOOKUP(A342,Sheet1!$B$7:'Sheet1'!C48,2,0)","v":0},null,null,"Rink No",null,null,1,{"$f":"VLOOKUP(A342,Sheet1!$B$7:'Sheet1'!C48,2,0)","v":0},null,null,"Rink No",null,null,1,{"$f":"VLOOKUP(A342,Sheet1!$B$7:'Sheet1'!C48,2,0)","v":0},null,null,"Rink No",null,null,1,{"$f":"VLOOKUP(A342,Sheet1!$B$7:'Sheet1'!C48,2,0)","v":0},null,null,"Rink No",null,null,1,{"$f":"VLOOKUP(A342,Sheet1!$B$7:'Sheet1'!C48,2,0)","v":0},null,null,"Rink No",null,null,1,{"$f":"VLOOKUP(A342,Sheet1!$B$7:'Sheet1'!C48,2,0)","v":0},null,null,"Rink No",null,null,1,{"$f":"VLOOKUP(A342,Sheet1!$B$7:'Sheet1'!C48,2,0)","v":0},null,null,"Rink No",null,null,1]
[13,{"$nulls":6},1,{"$nulls":6},1,{"$nulls":6},1,{"$nulls":6},1,{"$nulls":6},1,{"$nulls":6},1,{"$nulls":6},1,{"$nulls":6},1]
[14,{"$f":"DRAW!$B$20","v":14},null,null,{"$f":"DRAW!$E$20","v":2},null,null,1,{"$nulls":3},{"$f":"DRAW!$G$20","v":0},null,null,1,{"$f":"DRAW!$B$20","v":14},null,null,{"$f":"DRAW!$I$20","v":0},null,null,1,{"$f":"DRAW!$B$20","v":14},null,null,{"$f":"DRAW!$K$20","v":0},null,null,1,{"$f":"DRAW!$B$20","v":14},null,null,{"$f":"DRAW!$M$20","v":0},null,null,1,{"$f":"DRAW!$B$20","v":14},null,null,{"$f":"DRAW!$O$20","v":0},null,null,1,{"$f":"DRAW!$B$20","v":14},null,null,{"$f":"DRAW!$Q$20","v":0},null,null,1,{"$f":"DRAW!$B$20","v":14},null,null,{"$f":"DRAW!$S$20","v":0},null,null,1]
[14,null,"Team",{"$f":"DRAW!$B$20","v":14},"V","Team",{"$f":"DRAW!$D$20","v":3},1,null,"Team",{"$f":"DRAW!$B$20","v":14},"V","Team",{"$f":"DRAW!$F$20","v":0},1,null,"Team",{"$f":"DRAW!$B$20","v":14},"V","Team",{"$f":"DRAW!$H$20","v":0},1,null,"Team",{"$f":"DRAW!$B$20","v":14},"V","Team",{"$f":"DRAW!$J$20","v":0},1,null,"Team",{"$f":"DRAW!$B$20","v":14},"V","Team",{"$f":"DRAW!$L$20","v":0},1,null,"Team",{"$f":"DRAW!$B$20","v":14},"V","Team",{"$f":"DRAW!$N$20","v":0},1,null,"Team",{"$f":"DRAW!$B$20","v":14},"V","Team",{"$f":"DRAW!$P$20","v":0},1,null,"Team",{"$f":"DRAW!$B$20","v":14},"V","Team",{"$f":"DRAW!$R$20","v":0},1]
[14,"Ends","Shots","Total",null,"Shots","Total",1,"Ends","Shots","Total",null,"Shots","Total",1,"Ends","Shots","Total",null,"Shots","Total",1,"Ends","Shots","Total",null,"Shots","Total",1,"Ends","Shots","Total",null,"Shots","Total",1,"Ends","Shots","Total",null,"Shots","Total",1,"Ends","Shots","Total",null,"Shots","Total",1,"Ends","Shots","Total",null,"shots","Total",1]
[14,1,{"$nulls":5},1,1,{"$nulls":5},1,1,{"$nulls":5},1,1,{"$nulls":5},1,1,{"$nulls":5},1,1,{"$nulls":5},1,1,{"$nulls":5},1,1,{"$nulls":5},1]
[14,2,{"$nulls":5},1,2,{"$nulls":5},1,2,{"$nulls":5},1,2,{"$nulls":5},1,2,{"$nulls":5},1,2,{"$nulls":5},1,2,{"$nulls":5},1,2,{"$nulls":5},1]
[14,3,{"$nulls":5},1,3,{"$nulls":5},1,3,{"$nulls":5},1,3,{"$nulls":5},1,3,{"$nulls":5},1,3,{"$nulls":5},1,3,{"$nulls":5},1,3,{"$nulls":5},1]
[14,4,{"$nulls":5},1,4,{"$nulls":5},1,4,{"$nulls":5},1,4,{"$nulls":5},1,4,{"$nulls":5},1,4,{"$nulls":5},1,4,{"$nulls":5},1,4,{"$nulls":5},1]
[14,5,{"$nulls":5},1,5,{"$nulls":5},1,5,{"$nulls":5},1,5,{"$nulls":5},1,5,{"$nulls":5},1,5,{"$nulls":5},1,5,{"$nulls":5},1,5,{"$nulls":5},1]
[14,6,{"$nulls":5},1,6,{"$nulls":5},1,6,{"$nulls":5},1,6,{"$nulls":5},1,6,{"$nulls":5},1,6,{"$nulls":5},1,6,{"$nulls":5},1,6,{"$nulls":5},1]
[14,7,{"$nulls":5},1,7,{"$nulls":5},1,7,{"$nulls":5},1,7,{"$nulls":5},1,7,{"$nulls":5},1,7,{"$nulls":5},1,7,{"$nulls":5},1,7,{"$nulls":5},1]
[14,8,{"$nulls":5},1,8,{"$nulls":5},1,8,{"$nulls":5},1,8,{"$nulls":5},1,8,{"$nulls":5},1,8,{"$nulls":5},1,8,{"$nulls":5},1,8,{"$nulls":5},1]
[14,9,{"$nulls":5},1,9,{"$nulls":5},1,9,{"$nulls":5},1,9,{"$nulls":5},1,9,{"$nulls":5},1,9,{"$nulls":5},1,9,{"$nulls":5},1,9,{"$nulls":5},1]
[14,10,{"$nulls":5},1,10,{"$nulls":5},1,10,{"$nulls":5},1,10,{"$nulls":5},1,10,{"$nulls":5},1,10,{"$nulls":5},1,10,{"$nulls":5},1,10,{"$nulls":5},1]
[14,11,{"$nulls":5},1,11,{"$nulls":5},1,11,{"$nulls":5},1,11,{"$nulls":5},1,11,{"$nulls":5},1,11,{"$nulls":5},1,11,{"$nulls":5},1,11,{"$nulls":5},1]
[14,12,{"$nulls":5},1,12,{"$nulls":5},1,12,{"$nulls":5},1,12,{"$nulls":5},1,12,{"$nulls":5},1,12,{"$nulls":5},1,12,{"$nulls":5},1,12,{"$nulls":5},1]
[14,13,{"$nulls":5},1,13,{"$nulls":5},1,13,{"$nulls":5},1,13,{"$nulls":5},1,13,{"$nulls":5},1,13,{"$nulls":5},1,13,{"$nulls":5},1,13,{"$nulls":5},1]
[14,14,{"$nulls":5},1,14,{"$nulls":5},1,14,{"$nulls":5},1,14,{"$nulls":5},1,14,{"$nulls":5},1,14,{"$nulls":5},1,14,{"$nulls":5},1,14,{"$nulls":5},1]
[14,15,{"$nulls":5},1,15,{"$nulls":5},1,15,{"$nulls":5},1,15,{"$nulls":5},1,15,{"$nulls":5},1,15,{"$nulls":5},1,15,{"$nulls":5},1,15,{"$nulls":5},1]
[14,16,{"$nulls":5},1,16,{"$nulls":5},1,16,{"$nulls":5},1,16,{"$nulls":5},1,16,{"$nulls":5},1,16,{"$nulls":5},1,16,{"$nulls":5},1,16,{"$nulls":5},1]
[14,17,{"$nulls":5},1,17,{"$nulls":5},1,17,{"$nulls":5},1,17,{"$nulls":5},1,17,{"$nulls":5},1,17,{"$nulls":5},1,17,{"$nulls":5},1,17,{"$nulls":5},1]
[14,18,{"$nulls":5},1,18,{"$nulls":5},1,18,{"$nulls":5},1,18,{"$nulls":5},1,18,{"$nulls":5},1,18,{"$nulls":5},1,18,{"$nulls":5},1,18,{"$nulls":5},1]
[14,"Total","Shots",null,null,"Shots",null,1,"Total","Shots",null,null,"Shots",null,1,"Total","Shots",null,null,"Shots",null,1,"Total","Shots",null,null,"Shots",null,1,"Total","Shots",null,null,"Shots",null,1,"Total","Shots",null,null,"Shots",null,1,"Total","Shots",null,null,"Shots",null,1,"Total","Shots",null,null,"shots",null,1]
[14,null,"Ends",null,null,"Ends",null,1,null,"Ends",null,null,"Ends",null,1,null,"Ends",null,null,"Ends",null,1,null,"Ends",null,null,"Ends",null,1,null,"Ends",null,null,"Ends",null,1,null,"Ends",null,null,"Ends",null,1,null,"Ends",null,null,"Ends",null,1,null,"Ends",null,null,"Ends",null,1]
[14,"1st Game ",{"$nulls":5},1,"2nd Game ",{"$nulls":5},1,"3rd Game ",{"$nulls":5},1,"4th Game",{"$nulls":5},1,"5th Game",{"$nulls":5},1,"6th Game",{"$nulls":5},1,"7th Game",{"$nulls":5},1,"8th Game",{"$nulls":5},1]
[14,"Team No",null,null,"Rink No",null,null,1,{"$f":"VLOOKUP(A368,Sheet1!$B$7:'Sheet1'!C48,2,0)","v":0},null,null,"Rink No",null,null,1,{"$f":"VLOOKUP(A368,Sheet1!$B$7:'Sheet1'!C48,2,0)","v":0},null,null,"Rink No",null,null,1,{"$f":"VLOOKUP(A368,Sheet1!$B$7:'Sheet1'!C48,2,0)","v":0},null,null,"Rink No",null,null,1,{"$f":"VLOOKUP(A368,Sheet1!$B$7:'Sheet1'!C48,2,0)","v":0},null,null,"Rink No",null,null,1,{"$f":"VLOOKUP(A368,Sheet1!$B$7:'Sheet1'!C48,2,0)","v":0},null,null,"Rink No",null,null,1,{"$f":"VLOOKUP(A368,Sheet1!$B$7:'Sheet1'!C48,2,0)","v":0},null,null,"Rink No",null,null,1,{"$f":"VLOOKUP(A368,Sheet1!$B$7:'Sheet1'!C48,2,0)","v":0},null,null,"Rink No",null,null,1]
[14,{"$nulls":6},1,{"$nulls":6},1,{"$nulls":6},1,{"$nulls":6},1,{"$nulls":6},1,{"$nulls":6},1,{"$nulls":6},1,{"$nulls":6},1]
[15,{"$f":"DRAW!$B$21","v":15},null,null,{"$f":"DRAW!$E$21","v":8},null,null,1,{"$nulls":3},{"$f":"DRAW!$G$21","v":0},null,null,1,{"$f":"DRAW!$B$21","v":15},null,null,{"$f":"DRAW!$I$21","v":0},null,null,1,{"$f":"DRAW!$B$21","v":15},null,null,{"$f":"DRAW!$K$21","v":0},null,null,1,{"$f":"DRAW!$B$21","v":15},null,null,{"$f":"DRAW!$M$21","v":0},null,null,1,{"$f":"DRAW!$B$21","v":15},null,null,{"$f":"DRAW!$O$21","v":0},null,null,1,{"$f":"DRAW!$B$21","v":15},null,null,{"$f":"DRAW!$Q$21","v":0},null,null,1,{"$f":"DRAW!$B$21","v":15},null,null,{"$f":"DRAW!$S$21","v":0},null,null,1]
[15,null,"Team",{"$f":"DRAW!$B$21","v":15},"V","Team",{"$f":"DRAW!$D$21","v":16},1,null,"Team",{"$f":"DRAW!$B$21","v":15},"V","Team",{"$f":"DRAW!$F$21","v":0},1,null,"Team",{"$f":"DRAW!$B$21","v":15},"V","Team",{"$f":"DRAW!$H$21","v":0},1,null,"Team",{"$f":"DRAW!$B$21","v":15},"V","Team",{"$f":"DRAW!$J$21","v":0},1,null,"Team",{"$f":"DRAW!$B$21","v":15},"V","Team",{"$f":"DRAW!$L$21","v":0},1,null,"Team",{"$f":"DRAW!$B$21","v":15},"V","Team",{"$f":"DRAW!$N$21","v":0},1,null,"Team",{"$f":"DRAW!$B$21","v":15},"V","Team",{"$f":"DRAW!$P$21","v":0},1,null,"Team",{"$f":"DRAW!$B$21","v":15},"V","Team",{"$f":"DRAW!$R$21","v":0},1]
[15,"Ends","Shots","Total",null,"Shots","Total",1,"Ends","Shots","Total",null,"Shots","Total",1,"Ends","Shots","Total",null,"Shots","Total",1,"Ends","Shots","Total",null,"Shots","Total",1,"Ends","Shots","Total",null,"Shots","Total",1,"Ends","Shots","Total",null,"Shots","Total",1,"Ends","Shots","Total",null,"Shots","Total",1,"Ends","Shots","Total",null,"shots","Total",1]
[15,1,{"$nulls":5},1,1,{"$nulls":5},1,1,{"$nulls":5},1,1,{"$nulls":5},1,1,{"$nulls":5},1,1,{"$nulls":5},1,1,{"$nulls":5},1,1,{"$nulls":5},1]
[15,2,{"$nulls":5},1,2,{"$nulls":5},1,2,{"$nulls":5},1,2,{"$nulls":5},1,2,{"$nulls":5},1,2,{"$nulls":5},1,2,{"$nulls":5},1,2,{"$nulls":5},1]
[15,3,{"$nulls":5},1,3,{"$nulls":5},1,3,{"$nulls":5},1,3,{"$nulls":5},1,3,{"$nulls":5},1,3,{"$nulls":5},1,3,{"$nulls":5},1,3,{"$nulls":5},1]
[15,4,{"$nulls":5},1,4,{"$nulls":5},1,4,{"$nulls":5},1,4,{"$nulls":5},1,4,{"$nulls":5},1,4,{"$nulls":5},1,4,{"$nulls":5},1,4,{"$nulls":5},1]
[15,5,{"$nulls":5},1,5,{"$nulls":5},1,5,{"$nulls":5},1,5,{"$nulls":5},1,5,{"$nulls":5},1,5,{"$nulls":5},1,5,{"$nulls":5},1,5,{"$nulls":5},1]
[15,6,{"$nulls":5},1,6,{"$nulls":5},1,6,{"$nulls":5},1,6,{"$nulls":5},1,6,{"$nulls":5},1,6,{"$nulls":5},1,6,{"$nulls":5},1,6,{"$nulls":5},1]
[15,7,{"$nulls":5},1,7,{"$nulls":5},1,7,{"$nulls":5},1,7,{"$nulls":5},1,7,{"$nulls":5},1,7,{"$nulls":5},1,7,{"$nulls":5},1,7,{"$nulls":5},1]
[15,8,{"$nulls":5},1,8,{"$nulls":5},1,8,{"$nulls":5},1,8,{"$nulls":5},1,8,{"$nulls":5},1,8,{"$nulls":5},1,8,{"$nulls":5},1,8,{"$nulls":5},1]
[15,9,{"$nulls":5},1,9,{"$nulls":5},1,9,{"$nulls":5},1,9,{"$nulls":5},1,9,{"$nulls":5},1,9,{"$nulls":5},1,9,{"$nulls":5},1,9,{"$nulls":5},1]
[15,10,{"$nulls":5},1,10,{"$nulls":5},1,10,{"$nulls":5},1,10,{"$nulls":5},1,10,{"$nulls":5},1,10,{"$nulls":5},1,10,{"$nulls":5},1,10,{"$nulls":5},1]
[15,11,{"$nulls":5},1,11,{"$nulls":5},1,11,{"$nulls":5},1,11,{"$nulls":5},1,11,{"$nulls":5},1,11,{"$nulls":5},1,11,{"$nulls":5},1,11,{"$nulls":5},1]
[15,12,{"$nulls":5},1,12,{"$nulls":5},1,12,{"$nulls":5},1,12,{"$nulls":5},1,12,{"$nulls":5},1,12,{"$nulls":5},1,12,{"$nulls":5},1,12,{"$nulls":5},1]
[15,13,{"$nulls":5},1,13,{"$nulls":5},1,13,{"$nulls":5},1,13,{"$nulls":5},1,13,{"$nulls":5},1,13,{"$nulls":5},1,13,{"$nulls":5},1,13,{"$nulls":5},1]
[15,14,{"$nulls":5},1,14,{"$nulls":5},1,14,{"$nulls":5},1,14,{"$nulls":5},1,14,{"$nulls":5},1,14,{"$nulls":5},1,14,{"$nulls":5},1,14,{"$nulls":5},1]
[15,15,{"$nulls":5},1,15,{"$nulls":5},1,15,{"$nulls":5},1,15,{"$nulls":5},1,15,{"$nulls":5},1,15,{"$nulls":5},1,15,{"$nulls":5},1,15,{"$nulls":5},1]
[15,16,{"$nulls":5},1,16,{"$nulls":5},1,16,{"$nulls":5},1,16,{"$nulls":5},1,16,{"$nulls":5},1,16,{"$nulls":5},1,16,{"$nulls":5},1,16,{"$nulls":5},1]
[15,17,{"$nulls":5},1,17,{"$nulls":5},1,17,{"$nulls":5},1,17,{"$nulls":5},1,17,{"$nulls":5},1,17,{"$nulls":5},1,17,{"$nulls":5},1,17,{"$nulls":5},1]
[15,18,{"$nulls":5},1,18,{"$nulls":5},1,18,{"$nulls":5},1,18,{"$nulls":5},1,18,{"$nulls":5},1,18,{"$nulls":5},1,18,{"$nulls":5},1,18,{"$nulls":5},1]
[15,"Total","Shots",null,null,"Shots",null,1,"Total","Shots",null,null,"Shots",null,1,"Total","Shots",null,null,"Shots",null,1,"Total","Shots",null,null,"Shots",null,1,"Total","Shots",null,null,"Shots",null,1,"Total","Shots",null,null,"Shots",null,1,"Total","Shots",null,null,"Shots",null,1,"Total","Shots",null,null,"shots",null,1]
[15,null,"Ends",null,null,"Ends",null,1,null,"Ends",null,null,"Ends",null,1,null,"Ends",null,null,"Ends",null,1,null,"Ends",null,null,"Ends",null,1,null,"Ends",null,null,"Ends",null,1,null,"Ends",null,null,"Ends",null,1,null,"Ends",null,null,"Ends",null,1,null,"Ends",null,null,"Ends",null,1]
[15,"1st Game ",{"$nulls":5},1,"2nd Game ",{"$nulls":5},1,"3rd Game ",{"$nulls":5},1,"4th Game",{"$nulls":5},1,"5th Game",{"$nulls":5},1,"6th Game",{"$nulls":5},1,"7th Game",{"$nulls":5},1,"8th Game",{"$nulls":5},1]
[15,"Team No",null,null,"Rink No",null,null,1,{"$f":"VLOOKUP(A394,Sheet1!$B$7:'Sheet1'!C48,2,0)","v":0},null,null,"Rink No",null,null,1,{"$f":"VLOOKUP(A394,Sheet1!$B$7:'Sheet1'!C48,2,0)","v":0},null,null,"Rink No",null,null,1,{"$f":"VLOOKUP(A394,Sheet1!$B$7:'Sheet1'!C48,2,0)","v":0},null,null,"Rink No",null,null,1,{"$f":"VLOOKUP(A394,Sheet1!$B$7:'Sheet1'!C48,2,0)","v":0},null,null,"Rink No",null,null,1,{"$f":"VLOOKUP(A394,Sheet1!$B$7:'Sheet1'!C48,2,0)","v":0},null,null,"Rink No",null,null,1,{"$f":"VLOOKUP(A394,Sheet1!$B$7:'Sheet1'!C48,2,0)","v":0},null,null,"Rink No",null,null,1,{"$f":"VLOOKUP(A394,Sheet1!$B$7:'Sheet1'!C48,2,0)","v":0},null,null,"Rink No",null,null,1]
[15,{"$nulls":6},1,{"$nulls":6},1,{"$nulls":6},1,{"$nulls":6},1,{"$nulls":6},1,{"$nulls":6},1,{"$nulls":6},1,{"$nulls":6},1]
[16,{"$f":"DRAW!$B$22","v":16},null,null,{"$f":"DRAW!$E$22","v":8},null,null,1,{"$nulls":3},{"$f":"DRAW!$G$22","v":0},null,null,1,{"$f":"DRAW!$B$22","v":16},null,null,{"$f":"DRAW!$I$22","v":0},null,null,1,{"$f":"DRAW!$B$22","v":16},null,null,{"$f":"DRAW!$K$22","v":0},null,null,1,{"$f":"DRAW!$B$22","v":16},null,null,{"$f":"DRAW!$M$22","v":0},null,null,1,{"$f":"DRAW!$B$22","v":16},null,null,{"$f":"DRAW!$O$22","v":0},null,null,1,{"$f":"DRAW!$B$22","v":16},null,null,{"$f":"DRAW!$Q$22","v":0},null,null,1,{"$f":"DRAW!$B$22","v":16},null,null,{"$f":"DRAW!$S$22","v":0},null,null,1]
[16,null,"Team",{"$f":"DRAW!$B$22","v":16},"V","Team",{"$f":"DRAW!$D$22","v":15},1,null,"Team",{"$f":"DRAW!$B$22","v":16},"V","Team",{"$f":"DRAW!$F$22","v":0},1,null,"Team",{"$f":"DRAW!$B$22","v":16},"V","Team",{"$f":"DRAW!$H$22","v":0},1,null,"Team",{"$f":"DRAW!$B$22","v":16},"V","Team",{"$f":"DRAW!$J$22","v":0},1,null,"Team",{"$f":"DRAW!$B$22","v":16},"V","Team",{"$f":"DRAW!$L$22","v":0},1,null,"Team",{"$f":"DRAW!$B$22","v":16},"V","Team",{"$f":"DRAW!$N$22","v":0},1,null,"Team",{"$f":"DRAW!$B$22","v":16},"V","Team",{"$f":"DRAW!$P$22","v":0},1,null,"Team",{"$f":"DRAW!$B$22","v":16},"V","Team",{"$f":"DRAW!$R$22","v":0},1]
[16,"Ends","Shots","Total",null,"Shots","Total",1,"Ends","Shots","Total",null,"Shots","Total",1,"Ends","Shots","Total",null,"Shots","Total",1,"Ends","Shots","Total",null,"Shots","Total",1,"Ends","Shots","Total",null,"Shots","Total",1,"Ends","Shots","Total",null,"Shots","Total",1,"Ends","Shots","Total",null,"Shots","Total",1,"Ends","Shots","Total",null,"shots","Total",1]
[16,1,{"$nulls":5},1,1,{"$nulls":5},1,1,{"$nulls":5},1,1,{"$nulls":5},1,1,{"$nulls":5},1,1,{"$nulls":5},1,1,{"$nulls":5},1,1,{"$nulls":5},1]
[16,2,{"$nulls":5},1,2,{"$nulls":5},1,2,{"$nulls":5},1,2,{"$nulls":5},1,2,{"$nulls":5},1,2,{"$nulls":5},1,2,{"$nulls":5},1,2,{"$nulls":5},1]
[16,3,{"$nulls":5},1,3,{"$nulls":5},1,3,{"$nulls":5},1,3,{"$nulls":5},1,3,{"$nulls":5},1,3,{"$nulls":5},1,3,{"$nulls":5},1,3,{"$nulls":5},1]
[16,4,{"$nulls":5},1,4,{"$nulls":5},1,4,{"$nulls":5},1,4,{"$nulls":5},1,4,{"$nulls":5},1,4,{"$nulls":5},1,4,{"$nulls":5},1,4,{"$nulls":5},1]
[16,5,{"$nulls":5},1,5,{"$nulls":5},1,5,{"$nulls":5},1,5,{"$nulls":5},1,5,{"$nulls":5},1,5,{"$nulls":5},1,5,{"$nulls":5},1,5,{"$nulls":5},1]
[16,6,{"$nulls":5},1,6,{"$nulls":5},1,6,{"$nulls":5},1,6,{"$nulls":5},1,6,{"$nulls":5},1,6,{"$nulls":5},1,6,{"$nulls":5},1,6,{"$nulls":5},1]
[16,7,{"$nulls":5},1,7,{"$nulls":5},1,7,{"$nulls":5},1,7,{"$nulls":5},1,7,{"$nulls":5},1,7,{"$nulls":5},1,7,{"$nulls":5},1,7,{"$nulls":5},1]
[16,8,{"$nulls":5},1,8,{"$nulls":5},1,8,{"$nulls":5},1,8,{"$nulls":5},1,8,{"$nulls":5},1,8,{"$nulls":5},1,8,{"$nulls":5},1,8,{"$nulls":5},1]
[16,9,{"$nulls":5},1,9,{"$nulls":5},1,9,{"$nulls":5},1,9,{"$nulls":5},1,9,{"$nulls":5},1,9,{"$nulls":5},1,9,{"$nulls":5},1,9,{"$nulls":5},1]
[16,10,{"$nulls":5},1,10,{"$nulls":5},1,10,{"$nulls":5},1,10,{"$nulls":5},1,10,{"$nulls":5},1,10,{"$nulls":5},1,10,{"$nulls":5},1,10,{"$nulls":5},1]
[16,11,{"$nulls":5},1,11,{"$nulls":5},1,11,{"$nulls":5},1,11,{"$nulls":5},1,11,{"$nulls":5},1,11,{"$nulls":5},1,11,{"$nulls":5},1,11,{"$nulls":5},1]
[16,12,{"$nulls":5},1,12,{"$nulls":5},1,12,{"$nulls":5},1,12,{"$nulls":5},1,12,{"$nulls":5},1,12,{"$nulls":5},1,12,{"$nulls":5},1,12,{"$nulls":5},1]
[16,13,{"$nulls":5},1,13,{"$nulls":5},1,13,{"$nulls":5},1,13,{"$nulls":5},1,13,{"$nulls":5},1,13,{"$nulls":5},1,13,{"$nulls":5},1,13,{"$nulls":5},1]
[16,14,{"$nulls":5},1,14,{"$nulls":5},1,14,{"$nulls":5},1,14,{"$nulls":5},1,14,{"$nulls":5},1,14,{"$nulls":5},1,14,{"$nulls":5},1,14,{"$nulls":5},1]
[16,15,{"$nulls":5},1,15,{"$nulls":5},1,15,{"$nulls":5},1,15,{"$nulls":5},1,15,{"$nulls":5},1,15,{"$nulls":5},1,15,{"$nulls":5},1,15,{"$nulls":5},1]
[16,16,{"$nulls":5},1,16,{"$nulls":5},1,16,{"$nulls":5},1,16,{"$nulls":5},1,16,{"$nulls":5},1,16,{"$nulls":5},1,16,{"$nulls":5},1,16,{"$nulls":5},1]
[16,17,{"$nulls":5},1,17,{"$nulls":5},1,17,{"$nulls":5},1,17,{"$nulls":5},1,17,{"$nulls":5},1,17,{"$nulls":5},1,17,{"$nulls":5},1,17,{"$nulls":5},1]
[16,18,{"$nulls":5},1,18,{"$nulls":5},1,18,{"$nulls":5},1,18,{"$nulls":5},1,18,{"$nulls":5},1,18,{"$nulls":5},1,18,{"$nulls":5},1,18,{"$nulls":5},1]
[16,"Total","Shots",null,null,"Shots",null,1,"Total","Shots",null,null,"Shots",null,1,"Total","Shots",null,null,"Shots",null,1,"Total","Shots",null,null,"Shots",null,1,"Total","Shots",null,null,"Shots",null,1,"Total","Shots",null,null,"Shots",null,1,"Total","Shots",null,null,"Shots",null,1,"Total","Shots",null,null,"shots",null,1]
[16,null,"Ends",null,null,"Ends",null,1,null,"Ends",null,null,"Ends",null,1,null,"Ends",null,null,"Ends",null,1,null,"Ends",null,null,"Ends",null,1,null,"Ends",null,null,"Ends",null,1,null,"Ends",null,null,"Ends",null,1,null,"Ends",null,null,"Ends",null,1,null,"Ends",null,null,"Ends",null,1]
[16,"1st Game ",{"$nulls":5},1,"2nd Game ",{"$nulls":5},1,"3rd Game ",{"$nulls":5},1,"4th Game",{"$nulls":5},1,"5th Game",{"$nulls":5},1,"6th Game",{"$nulls":5},1,"7th Game",{"$nulls":5},1,"8th Game",{"$nulls":5},1]
[16,"Team No",null,null,"Rink No",null,null,1,{"$f":"VLOOKUP(A420,Sheet1!$B$7:'Sheet1'!C48,2,0)","v":0},null,null,"Rink No",null,null,1,{"$f":"VLOOKUP(A420,Sheet1!$B$7:'Sheet1'!C48,2,0)","v":0},null,null,"Rink No",null,null,1,{"$f":"VLOOKUP(A420,Sheet1!$B$7:'Sheet1'!C48,2,0)","v":0},null,null,"Rink No",null,null,1,{"$f":"VLOOKUP(A420,Sheet1!$B$7:'Sheet1'!C48,2,0)","v":0},null,null,"Rink No",null,null,1,{"$f":"VLOOKUP(A420,Sheet1!$B$7:'Sheet1'!C48,2,0)","v":0},null,null,"Rink No",null,null,1,{"$f":"VLOOKUP(A420,Sheet1!$B$7:'Sheet1'!C48,2,0)","v":0},null,null,"Rink No",null,null,1,{"$f":"VLOOKUP(A420,Sheet1!$B$7:'Sheet1'!C48,2,0)","v":0},null,null,"Rink No",null,null,1]
[16,{"$nulls":6},1,{"$nulls":6},1,{"$nulls":6},1,{"$nulls":6},1,{"$nulls":6},1,{"$nulls":6},1,{"$nulls":6},1,{"$nulls":6},1]
[17,{"$f":"DRAW!$B$23","v":17},null,null,{"$f":"DRAW!$E$23","v":9},null,null,1,{"$nulls":3},{"$f":"DRAW!$G$23","v":0},null,null,1,{"$f":"DRAW!$B$23","v":17},null,null,{"$f":"DRAW!$I$23","v":0},null,null,1,{"$f":"DRAW!$B$23","v":17},null,null,{"$f":"DRAW!$K$23","v":0},null,null,1,{"$f":"DRAW!$B$23","v":17},null,null,{"$f":"DRAW!$M$23","v":0},null,null,1,{"$f":"DRAW!$B$23","v":17},null,null,{"$f":"DRAW!$O$23","v":0},null,null,1,{"$f":"DRAW!$B$23","v":17},null,null,{"$f":"DRAW!$Q$23","v":0},null,null,1,{"$f":"DRAW!$B$23","v":17},null,null,{"$f":"DRAW!$S$23","v":0},null,null,1]
[17,null,"Team",{"$f":"DRAW!$B$23","v":17},"V","Team",{"$f":"DRAW!$D$23","v":28},1,null,"Team",{"$f":"DRAW!$B$23","v":17},"V","Team",{"$f":"DRAW!$F$23","v":0},1,null,"Team",{"$f":"DRAW!$B$23","v":17},"V","Team",{"$f":"DRAW!$H$23","v":0},1,null,"Team",{"$f":"DRAW!$B$23","v":17},"V","Team",{"$f":"DRAW!$J$23","v":0},1,null,"Team",{"$f":"DRAW!$B$23","v":17},"V","Team",{"$f":"DRAW!$L$23","v":0},1,null,"Team",{"$f":"DRAW!$B$23","v":17},"V","Team",{"$f":"DRAW!$N$23","v":0},1,null,"Team",{"$f":"DRAW!$B$23","v":17},"V","Team",{"$f":"DRAW!$P$23","v":0},1,null,"Team",{"$f":"DRAW!$B$23","v":17},"V","Team",{"$f":"DRAW!$R$23","v":0},1]
[17,"Ends","Shots","Total",null,"Shots","Total",1,"Ends","Shots","Total",null,"Shots","Total",1,"Ends","Shots","Total",null,"Shots","Total",1,"Ends","Shots","Total",null,"Shots","Total",1,"Ends","Shots","Total",null,"Shots","Total",1,"Ends","Shots","Total",null,"Shots","Total",1,"Ends","Shots","Total",null,"Shots","Total",1,"Ends","Shots","Total",null,"shots","Total",1]
[17,1,{"$nulls":5},1,1,{"$nulls":5},1,1,{"$nulls":5},1,1,{"$nulls":5},1,1,{"$nulls":5},1,1,{"$nulls":5},1,1,{"$nulls":5},1,1,{"$nulls":5},1]
[17,2,{"$nulls":5},1,2,{"$nulls":5},1,2,{"$nulls":5},1,2,{"$nulls":5},1,2,{"$nulls":5},1,2,{"$nulls":5},1,2,{"$nulls":5},1,2,{"$nulls":5},1]
[17,3,{"$nulls":5},1,3,{"$nulls":5},1,3,{"$nulls":5},1,3,{"$nulls":5},1,3,{"$nulls":5},1,3,{"$nulls":5},1,3,{"$nulls":5},1,3,{"$nulls":5},1]
[17,4,{"$nulls":5},1,4,{"$nulls":5},1,4,{"$nulls":5},1,4,{"$nulls":5},1,4,{"$nulls":5},1,4,{"$nulls":5},1,4,{"$nulls":5},1,4,{"$nulls":5},1]
[17,5,{"$nulls":5},1,5,{"$nulls":5},1,5,{"$nulls":5},1,5,{"$nulls":5},1,5,{"$nulls":5},1,5,{"$nulls":5},1,5,{"$nulls":5},1,5,{"$nulls":5},1]
[17,6,{"$nulls":5},1,6,{"$nulls":5},1,6,{"$nulls":5},1,6,{"$nulls":5},1,6,{"$nulls":5},1,6,{"$nulls":5},1,6,{"$nulls":5},1,6,{"$nulls":5},1]
[17,7,{"$nulls":5},1,7,{"$nulls":5},1,7,{"$nulls":5},1,7,{"$nulls":5},1,7,{"$nulls":5},1,7,{"$nulls":5},1,7,{"$nulls":5},1,7,{"$nulls":5},1]
[17,8,{"$nulls":5},1,8,{"$nulls":5},1,8,{"$nulls":5},1,8,{"$nulls":5},1,8,{"$nulls":5},1,8,{"$nulls":5},1,8,{"$nulls":5},1,8,{"$nulls":5},1]
[17,9,{"$nulls":5},1,9,{"$nulls":5},1,9,{"$nulls":5},1,9,{"$nulls":5},1,9,{"$nulls":5},1,9,{"$nulls":5},1,9,{"$nulls":5},1,9,{"$nulls":5},1]
[17,10,{"$nulls":5},1,10,{"$nulls":5},1,10,{"$nulls":5},1,10,{"$nulls":5},1,10,{"$nulls":5},1,10,{"$nulls":5},1,10,{"$nulls":5},1,10,{"$nulls":5},1]
[17,11,{"$nulls":5},1,11,{"$nulls":5},1,11,{"$nulls":5},1,11,{"$nulls":5},1,11,{"$nulls":5},1,11,{"$nulls":5},1,11,{"$nulls":5},1,11,{"$nulls":5},1]
[17,12,{"$nulls":5},1,12,{"$nulls":5},1,12,{"$nulls":5},1,12,{"$nulls":5},1,12,{"$nulls":5},1,12,{"$nulls":5},1,12,{"$nulls":5},1,12,{"$nulls":5},1]
[17,13,{"$nulls":5},1,13,{"$nulls":5},1,13,{"$nulls":5},1,13,{"$nulls":5},1,13,{"$nulls":5},1,13,{"$nulls":5},1,13,{"$nulls":5},1,13,{"$nulls":5},1]
[17,14,{"$nulls":5},1,14,{"$nulls":5},1,14,{"$nulls":5},1,14,{"$nulls":5},1,14,{"$nulls":5},1,14,{"$nulls":5},1,14,{"$nulls":5},1,14,{"$nulls":5},1]
[17,15,{"$nulls":5},1,15,{"$nulls":5},1,15,{"$nulls":5},1,15,{"$nulls":5},1,15,{"$nulls":5},1,15,{"$nulls":5},1,15,{"$nulls":5},1,15,{"$nulls":5},1]
[17,16,{"$nulls":5},1,16,{"$nulls":5},1,16,{"$nulls":5},1,16,{"$nulls":5},1,16,{"$nulls":5},1,16,{"$nulls":5},1,16,{"$nulls":5},1,16,{"$nulls":5},1]
[17,17,{"$nulls":5},1,17,{"$nulls":5},1,17,{"$nulls":5},1,17,{"$nulls":5},1,17,{"$nulls":5},1,17,{"$nulls":5},1,17,{"$nulls":5},1,17,{"$nulls":5},1]
[17,18,{"$nulls":5},1,18,{"$nulls":5},1,18,{"$nulls":5},1,18,{"$nulls":5},1,18,{"$nulls":5},1,18,{"$nulls":5},1,18,{"$nulls":5},1,18,{"$nulls":5},1]
[17,"Total","Shots",null,null,"Shots",null,1,"Total","Shots",null,null,"Shots",null,1,"Total","Shots",null,null,"Shots",null,1,"Total","Shots",null,null,"Shots",null,1,"Total","Shots",null,null,"Shots",null,1,"Total","Shots",null,null,"Shots",null,1,"Total","Shots",null,null,"Shots",null,1,"Total","Shots",null,null,"shots",null,1]
[17,null,"Ends",null,null,"Ends",null,1,null,"Ends",null,null,"Ends",null,1,null,"Ends",null,null,"Ends",null,1,null,"Ends",null,null,"Ends",null,1,null,"Ends",null,null,"Ends",null,1,null,"Ends",null,null,"Ends",null,1,null,"Ends",null,null,"Ends",null,1,null,"Ends",null,null,"Ends",null,1]
[17,"1st Game ",{"$nulls":5},1,"2nd Game ",{"$nulls":5},1,"3rd Game ",{"$nulls":5},1,"4th Game",{"$nulls":5},1,"5th Game",{"$nulls":5},1,"6th Game",{"$nulls":5},1,"7th Game",{"$nulls":5},1,"8th Game",{"$nulls":5},1]
[17,"Team No",null,null,"Rink No",null,null,1,{"$f":"VLOOKUP(A446,Sheet1!$B$7:'Sheet1'!C48,2,0)","v":0},null,null,"Rink No",null,null,1,{"$f":"VLOOKUP(A446,Sheet1!$B$7:'Sheet1'!C48,2,0)","v":0},null,null,"Rink No",null,null,1,{"$f":"VLOOKUP(A446,Sheet1!$B$7:'Sheet1'!C48,2,0)","v":0},null,null,"Rink No",null,null,1,{"$f":"VLOOKUP(A446,Sheet1!$B$7:'Sheet1'!C48,2,0)","v":0},null,null,"Rink No",null,null,1,{"$f":"VLOOKUP(A446,Sheet1!$B$7:'Sheet1'!C48,2,0)","v":0},null,null,"Rink No",null,null,1,{"$f":"VLOOKUP(A446,Sheet1!$B$7:'Sheet1'!C48,2,0)","v":0},null,null,"Rink No",null,null,1,{"$f":"VLOOKUP(A446,Sheet1!$B$7:'Sheet1'!C48,2,0)","v":0},null,null,"Rink No",null,null,1]
[17,{"$nulls":6},1,{"$nulls":6},1,{"$nulls":6},1,{"$nulls":6},1,{"$nulls":6},1,{"$nulls":6},1,{"$nulls":6},1,{"$nulls":6},1]
[18,{"$f":"DRAW!$B$24","v":18},null,null,{"$f":"DRAW!$E$24","v":10},null,null,1,{"$nulls":3},{"$f":"DRAW!$G$24","v":0},null,null,1,{"$f":"DRAW!$B$24","v":18},null,null,{"$f":"DRAW!$I$24","v":0},null,null,1,{"$f":"DRAW!$B$24","v":18},null,null,{"$f":"DRAW!$K$24","v":0},null,null,1,{"$f":"DRAW!$B$24","v":18},null,null,{"$f":"DRAW!$M$24","v":0},null,null,1,{"$f":"DRAW!$B$24","v":18},null,null,{"$f":"DRAW!$O$24","v":0},null,null,1,{"$f":"DRAW!$B$24","v":18},null,null,{"$f":"DRAW!$Q$24","v":0},null,null,1,{"$f":"DRAW!$B$24","v":18},null,null,{"$f":"DRAW!$S$24","v":0},null,null,1]
[18,null,"Team",{"$f":"DRAW!$B$24","v":18},"V","Team",{"$f":"DRAW!$D$24","v":27},1,null,"Team",{"$f":"DRAW!$B$24","v":18},"V","Team",{"$f":"DRAW!$F$24","v":0},1,null,"Team",{"$f":"DRAW!$B$24","v":18},"V","Team",{"$f":"DRAW!$H$24","v":0},1,null,"Team",{"$f":"DRAW!$B$24","v":18},"V","Team",{"$f":"DRAW!$J$24","v":0},1,null,"Team",{"$f":"DRAW!$B$24","v":18},"V","Team",{"$f":"DRAW!$L$24","v":0},1,null,"Team",{"$f":"DRAW!$B$24","v":18},"V","Team",{"$f":"DRAW!$N$24","v":0},1,null,"Team",{"$f":"DRAW!$B$24","v":18},"V","Team",{"$f":"DRAW!$P$24","v":0},1,null,"Team",{"$f":"DRAW!$B$24","v":18},"V","Team",{"$f":"DRAW!$R$24","v":0},1]
[18,"Ends","Shots","Total",null,"Shots","Total",1,"Ends","Shots","Total",null,"Shots","Total",1,"Ends","Shots","Total",null,"Shots","Total",1,"Ends","Shots","Total",null,"Shots","Total",1,"Ends","Shots","Total",null,"Shots","Total",1,"Ends","Shots","Total",null,"Shots","Total",1,"Ends","Shots","Total",null,"Shots","Total",1,"Ends","Shots","Total",null,"shots","Total",1]
[18,1,{"$nulls":5},1,1,{"$nulls":5},1,1,{"$nulls":5},1,1,{"$nulls":5},1,1,{"$nulls":5},1,1,{"$nulls":5},1,1,{"$nulls":5},1,1,{"$nulls":5},1]
[18,2,{"$nulls":5},1,2,{"$nulls":5},1,2,{"$nulls":5},1,2,{"$nulls":5},1,2,{"$nulls":5},1,2,{"$nulls":5},1,2,{"$nulls":5},1,2,{"$nulls":5},1]
[18,3,{"$nulls":5},1,3,{"$nulls":5},1,3,{"$nulls":5},1,3,{"$nulls":5},1,3,{"$nulls":5},1,3,{"$nulls":5},1,3,{"$nulls":5},1,3,{"$nulls":5},1]
[18,4,{"$nulls":5},1,4,{"$nulls":5},1,4,{"$nulls":5},1,4,{"$nulls":5},1,4,{"$nulls":5},1,4,{"$nulls":5},1,4,{"$nulls":5},1,4,{"$nulls":5},1]
[18,5,{"$nulls":5},1,5,{"$nulls":5},1,5,{"$nulls":5},1,5,{"$nulls":5},1,5,{"$nulls":5},1,5,{"$nulls":5},1,5,{"$nulls":5},1,5,{"$nulls":5},1]
[18,6,{"$nulls":5},1,6,{"$nulls":5},1,6,{"$nulls":5},1,6,{"$nulls":5},1,6,{"$nulls":5},1,6,{"$nulls":5},1,6,{"$nulls":5},1,6,{"$nulls":5},1]
[18,7,{"$nulls":5},1,7,{"$nulls":5},1,7,{"$nulls":5},1,7,{"$nulls":5},1,7,{"$nulls":5},1,7,{"$nulls":5},1,7,{"$nulls":5},1,7,{"$nulls":5},1]
[18,8,{"$nulls":5},1,8,{"$nulls":5},1,8,{"$nulls":5},1,8,{"$nulls":5},1,8,{"$nulls":5},1,8,{"$nulls":5},1,8,{"$nulls":5},1,8,{"$nulls":5},1]
[18,9,{"$nulls":5},1,9,{"$nulls":5},1,9,{"$nulls":5},1,9,{"$nulls":5},1,9,{"$nulls":5},1,9,{"$nulls":5},1,9,{"$nulls":5},1,9,{"$nulls":5},1]
[18,10,{"$nulls":5},1,10,{"$nulls":5},1,10,{"$nulls":5},1,10,{"$nulls":5},1,10,{"$nulls":5},1,10,{"$nulls":5},1,10,{"$nulls":5},1,10,{"$nulls":5},1]
[18,11,{"$nulls":5},1,11,{"$nulls":5},1,11,{"$nulls":5},1,11,{"$nulls":5},1,11,{"$nulls":5},1,11,{"$nulls":5},1,11,{"$nulls":5},1,11,{"$nulls":5},1]
[18,12,{"$nulls":5},1,12,{"$nulls":5},1,12,{"$nulls":5},1,12,{"$nulls":5},1,12,{"$nulls":5},1,12,{"$nulls":5},1,12,{"$nulls":5},1,12,{"$nulls":5},1]
[18,13,{"$nulls":5},1,13,{"$nulls":5},1,13,{"$nulls":5},1,13,{"$nulls":5},1,13,{"$nulls":5},1,13,{"$nulls":5},1,13,{"$nulls":5},1,13,{"$nulls":5},1]
[18,14,{"$nulls":5},1,14,{"$nulls":5},1,14,{"$nulls":5},1,14,{"$nulls":5},1,14,{"$nulls":5},1,14,{"$nulls":5},1,14,{"$nulls":5},1,14,{"$nulls":5},1]
[18,15,{"$nulls":5},1,15,{"$nulls":5},1,15,{"$nulls":5},1,15,{"$nulls":5},1,15,{"$nulls":5},1,15,{"$nulls":5},1,15,{"$nulls":5},1,15,{"$nulls":5},1]
[18,16,{"$nulls":5},1,16,{"$nulls":5},1,16,{"$nulls":5},1,16,{"$nulls":5},1,16,{"$nulls":5},1,16,{"$nulls":5},1,16,{"$nulls":5},1,16,{"$nulls":5},1]
[18,17,{"$nulls":5},1,17,{"$nulls":5},1,17,{"$nulls":5},1,17,{"$nulls":5},1,17,{"$nulls":5},1,17,{"$nulls":5},1,17,{"$nulls":5},1,17,{"$nulls":5},1]
[18,18,{"$nulls":5},1,18,{"$nulls":5},1,18,{"$nulls":5},1,18,{"$nulls":5},1,18,{"$nulls":5},1,18,{"$nulls":5},1,18,{"$nulls":5},1,18,{"$nulls":5},1]
[18,"Total","Shots",null,null,"Shots",null,1,"Total","Shots",null,null,"Shots",null,1,"Total","Shots",null,null,"Shots",null,1,"Total","Shots",null,null,"Shots",null,1,"Total","Shots",null,null,"Shots",null,1,"Total","Shots",null,null,"Shots",null,1,"Total","Shots",null,null,"Shots",null,1,"Total","Shots",null,null,"shots",null,1]
[18,null,"Ends",null,null,"Ends",null,1,null,"Ends",null,null,"Ends",null,1,null,"Ends",null,null,"Ends",null,1,null,"Ends",null,null,"Ends",null,1,null,"Ends",null,null,"Ends",null,1,null,"Ends",null,null,"Ends",null,1,null,"Ends",null,null,"Ends",null,1,null,"Ends",null,null,"Ends",null,1]
[18,"1st Game ",{"$nulls":5},1,"2nd Game ",{"$nulls":5},1,"3rd Game ",{"$nulls":5},1,"4th Game",{"$nulls":5},1,"5th Game",{"$nulls":5},1,"6th Game",{"$nulls":5},1,"7th Game",{"$nulls":5},1,"8th Game",{"$nulls":5},1]
[18,"Team No",null,null,"Rink No",null,null,1,{"$f":"VLOOKUP(A472,Sheet1!$B$7:'Sheet1'!C48,2,0)","v":0},null,null,"Rink No",null,null,1,{"$f":"VLOOKUP(A472,Sheet1!$B$7:'Sheet1'!C48,2,0)","v":0},null,null,"Rink No",null,null,1,{"$f":"VLOOKUP(A472,Sheet1!$B$7:'Sheet1'!C48,2,0)","v":0},null,null,"Rink No",null,null,1,{"$f":"VLOOKUP(A472,Sheet1!$B$7:'Sheet1'!C48,2,0)","v":0},null,null,"Rink No",null,null,1,{"$f":"VLOOKUP(A472,Sheet1!$B$7:'Sheet1'!C48,2,0)","v":0},null,null,"Rink No",null,null,1,{"$f":"VLOOKUP(A472,Sheet1!$B$7:'Sheet1'!C48,2,0)","v":0},null,null,"Rink No",null,null,1,{"$f":"VLOOKUP(A472,Sheet1!$B$7:'Sheet1'!C48,2,0)","v":0},null,null,"Rink No",null,null,1]
[18,{"$nulls":6},1,{"$nulls":6},1,{"$nulls":6},1,{"$nulls":6},1,{"$nulls":6},1,{"$nulls":6},1,{"$nulls":6},1,{"$nulls":6},1]
[19,{"$f":"DRAW!$B$25","v":19},null,null,{"$f":"DRAW!$E$25","v":11},null,null,1,{"$nulls":3},{"$f":"DRAW!$G$25","v":0},null,null,1,{"$f":"DRAW!$B$25","v":19},null,null,{"$f":"DRAW!$I$25","v":0},null,null,1,{"$f":"DRAW!$B$25","v":19},null,null,{"$f":"DRAW!$K$25","v":0},null,null,1,{"$f":"DRAW!$B$25","v":19},null,null,{"$f":"DRAW!$M$25","v":0},null,null,1,{"$f":"DRAW!$B$25","v":19},null,null,{"$f":"DRAW!$O$25","v":0},null,null,1,{"$f":"DRAW!$B$25","v":19},null,null,{"$f":"DRAW!$Q$25","v":0},null,null,1,{"$f":"DRAW!$B$25","v":19},null,null,{"$f":"DRAW!$S$25","v":0},null,null,1]
[19,null,"Team",{"$f":"DRAW!$B$25","v":19},"V","Team",{"$f":"DRAW!$D$25","v":26},1,null,"Team",{"$f":"DRAW!$B$25","v":19},"V","Team",{"$f":"DRAW!$F$25","v":0},1,null,"Team",{"$f":"DRAW!$B$25","v":19},"V","Team",{"$f":"DRAW!$H$25","v":0},1,null,"Team",{"$f":"DRAW!$B$25","v":19},"V","Team",{"$f":"DRAW!$J$25","v":0},1,null,"Team",{"$f":"DRAW!$B$25","v":19},"V","Team",{"$f":"DRAW!$L$25","v":0},1,null,"Team",{"$f":"DRAW!$B$25","v":19},"V","Team",{"$f":"DRAW!$N$25","v":0},1,null,"Team",{"$f":"DRAW!$B$25","v":19},"V","Team",{"$f":"DRAW!$P$25","v":0},1,null,"Team",{"$f":"DRAW!$B$25","v":19},"V","Team",{"$f":"DRAW!$R$25","v":0},1]
[19,"Ends","Shots","Total",null,"Shots","Total",1,"Ends","Shots","Total",null,"Shots","Total",1,"Ends","Shots","Total",null,"Shots","Total",1,"Ends","Shots","Total",null,"Shots","Total",1,"Ends","Shots","Total",null,"Shots","Total",1,"Ends","Shots","Total",null,"Shots","Total",1,"Ends","Shots","Total",null,"Shots","Total",1,"Ends","Shots","Total",null,"shots","Total",1]
[19,1,{"$nulls":5},1,1,{"$nulls":5},1,1,{"$nulls":5},1,1,{"$nulls":5},1,1,{"$nulls":5},1,1,{"$nulls":5},1,1,{"$nulls":5},1,1,{"$nulls":5},1]
[19,2,{"$nulls":5},1,2,{"$nulls":5},1,2,{"$nulls":5},1,2,{"$nulls":5},1,2,{"$nulls":5},1,2,{"$nulls":5},1,2,{"$nulls":5},1,2,{"$nulls":5},1]
[19,3,{"$nulls":5},1,3,{"$nulls":5},1,3,{"$nulls":5},1,3,{"$nulls":5},1,3,{"$nulls":5},1,3,{"$nulls":5},1,3,{"$nulls":5},1,3,{"$nulls":5},1]
[19,4,{"$nulls":5},1,4,{"$nulls":5},1,4,{"$nulls":5},1,4,{"$nulls":5},1,4,{"$nulls":5},1,4,{"$nulls":5},1,4,{"$nulls":5},1,4,{"$nulls":5},1]
[19,5,{"$nulls":5},1,5,{"$nulls":5},1,5,{"$nulls":5},1,5,{"$nulls":5},1,5,{"$nulls":5},1,5,{"$nulls":5},1,5,{"$nulls":5},1,5,{"$nulls":5},1]
[19,6,{"$nulls":5},1,6,{"$nulls":5},1,6,{"$nulls":5},1,6,{"$nulls":5},1,6,{"$nulls":5},1,6,{"$nulls":5},1,6,{"$nulls":5},1,6,{"$nulls":5},1]
[19,7,{"$nulls":5},1,7,{"$nulls":5},1,7,{"$nulls":5},1,7,{"$nulls":5},1,7,{"$nulls":5},1,7,{"$nulls":5},1,7,{"$nulls":5},1,7,{"$nulls":5},1]
[19,8,{"$nulls":5},1,8,{"$nulls":5},1,8,{"$nulls":5},1,8,{"$nulls":5},1,8,{"$nulls":5},1,8,{"$nulls":5},1,8,{"$nulls":5},1,8,{"$nulls":5},1]
[19,9,{"$nulls":5},1,9,{"$nulls":5},1,9,{"$nulls":5},1,9,{"$nulls":5},1,9,{"$nulls":5},1,9,{"$nulls":5},1,9,{"$nulls":5},1,9,{"$nulls":5},1]
[19,10,{"$nulls":5},1,10,{"$nulls":5},1,10,{"$nulls":5},1,10,{"$nulls":5},1,10,{"$nulls":5},1,10,{"$nulls":5},1,10,{"$nulls":5},1,10,{"$nulls":5},1]
[19,11,{"$nulls":5},1,11,{"$nulls":5},1,11,{"$nulls":5},1,11,{"$nulls":5},1,11,{"$nulls":5},1,11,{"$nulls":5},1,11,{"$nulls":5},1,11,{"$nulls":5},1]
[19,12,{"$nulls":5},1,12,{"$nulls":5},1,12,{"$nulls":5},1,12,{"$nulls":5},1,12,{"$nulls":5},1,12,{"$nulls":5},1,12,{"$nulls":5},1,12,{"$nulls":5},1]
[19,13,{"$nulls":5},1,13,{"$nulls":5},1,13,{"$nulls":5},1,13,{"$nulls":5},1,13,{"$nulls":5},1,13,{"$nulls":5},1,13,{"$nulls":5},1,13,{"$nulls":5},1]
[19,14,{"$nulls":5},1,14,{"$nulls":5},1,14,{"$nulls":5},1,14,{"$nulls":5},1,14,{"$nulls":5},1,14,{"$nulls":5},1,14,{"$nulls":5},1,14,{"$nulls":5},1]
[19,15,{"$nulls":5},1,15,{"$nulls":5},1,15,{"$nulls":5},1,15,{"$nulls":5},1,15,{"$nulls":5},1,15,{"$nulls":5},1,15,{"$nulls":5},1,15,{"$nulls":5},1]
[19,16,{"$nulls":5},1,16,{"$nulls":5},1,16,{"$nulls":5},1,16,{"$nulls":5},1,16,{"$nulls":5},1,16,{"$nulls":5},1,16,{"$nulls":5},1,16,{"$nulls":5},1]
[19,17,{"$nulls":5},1,17,{"$nulls":5},1,17,{"$nulls":5},1,17,{"$nulls":5},1,17,{"$nulls":5},1,17,{"$nulls":5},1,17,{"$nulls":5},1,17,{"$nulls":5},1]
[19,18,{"$nulls":5},1,18,{"$nulls":5},1,18,{"$nulls":5},1,18,{"$nulls":5},1,18,{"$nulls":5},1,18,{"$nulls":5},1,18,{"$nulls":5},1,18,{"$nulls":5},1]
[19,"Total","Shots",null,null,"Shots",null,1,"Total","Shots",null,null,"Shots",null,1,"Total","Shots",null,null,"Shots",null,1,"Total","Shots",null,null,"Shots",null,1,"Total","Shots",null,null,"Shots",null,1,"Total","Shots",null,null,"Shots",null,1,"Total","Shots",null,null,"Shots",null,1,"Total","Shots",null,null,"shots",null,1]
[19,null,"Ends",null,null,"Ends",null,1,null,"Ends",null,null,"Ends",null,1,null,"Ends",null,null,"Ends",null,1,null,"Ends",null,null,"Ends",null,1,null,"Ends",null,null,"Ends",null,1,null,"Ends",null,null,"Ends",null,1,null,"Ends",null,null,"Ends",null,1,null,"Ends",null,null,"Ends",null,1]
[19,"1st Game ",{"$nulls":5},1,"2nd Game ",{"$nulls":5},1,"3rd Game ",{"$nulls":5},1,"4th Game",{"$nulls":5},1,"5th Game",{"$nulls":5},1,"6th Game",{"$nulls":5},1,"7th Game",{"$nulls":5},1,"8th Game",{"$nulls":5},1]
[19,"Team No",null,null,"Rink No",null,null,1,{"$f":"VLOOKUP(A498,Sheet1!$B$7:'Sheet1'!C48,2,0)","v":0},null,null,"Rink No",null,null,1,{"$f":"VLOOKUP(A498,Sheet1!$B$7:'Sheet1'!C48,2,0)","v":0},null,null,"Rink No",null,null,1,{"$f":"VLOOKUP(A498,Sheet1!$B$7:'Sheet1'!C48,2,0)","v":0},null,null,"Rink No",null,null,1,{"$f":"VLOOKUP(A498,Sheet1!$B$7:'Sheet1'!C48,2,0)","v":0},null,null,"Rink No",null,null,1,{"$f":"VLOOKUP(A498,Sheet1!$B$7:'Sheet1'!C48,2,0)","v":0},null,null,"Rink No",null,null,1,{"$f":"VLOOKUP(A498,Sheet1!$B$7:'Sheet1'!C48,2,0)","v":0},null,null,"Rink No",null,null,1,{"$f":"VLOOKUP(A498,Sheet1!$B$7:'Sheet1'!C48,2,0)","v":0},null,null,"Rink No",null,null,1]
[19,{"$nulls":6},1,{"$nulls":6},1,{"$nulls":6},1,{"$nulls":6},1,{"$nulls":6},1,{"$nulls":6},1,{"$nulls":6},1,{"$nulls":6},1]
[20,{"$f":"DRAW!$B$26","v":20},null,null,{"$f":"DRAW!$E$26","v":12},null,null,1,{"$nulls":3},{"$f":"DRAW!$G$26","v":0},null,null,1,{"$f":"DRAW!$B$26","v":20},null,null,{"$f":"DRAW!$I$26","v":0},null,null,1,{"$f":"DRAW!$B$26","v":20},null,null,{"$f":"DRAW!$K$26","v":0},null,null,1,{"$f":"DRAW!$B$26","v":20},null,null,{"$f":"DRAW!$M$26","v":0},null,null,1,{"$f":"DRAW!$B$26","v":20},null,null,{"$f":"DRAW!$O$26","v":0},null,null,1,{"$f":"DRAW!$B$26","v":20},null,null,{"$f":"DRAW!$Q$26","v":0},null,null,1,{"$f":"DRAW!$B$26","v":20},null,null,{"$f":"DRAW!$S$26","v":0},null,null,1]
[20,null,"Team",{"$f":"DRAW!$B$26","v":20},"V","Team",{"$f":"DRAW!$D$26","v":25},1,null,"Team",{"$f":"DRAW!$B$26","v":20},"V","Team",{"$f":"DRAW!$F$26","v":0},1,null,"Team",{"$f":"DRAW!$B$26","v":20},"V","Team",{"$f":"DRAW!$H$26","v":0},1,null,"Team",{"$f":"DRAW!$B$26","v":20},"V","Team",{"$f":"DRAW!$J$26","v":0},1,null,"Team",{"$f":"DRAW!$B$26","v":20},"V","Team",{"$f":"DRAW!$L$26","v":0},1,null,"Team",{"$f":"DRAW!$B$26","v":20},"V","Team",{"$f":"DRAW!$N$26","v":0},1,null,"Team",{"$f":"DRAW!$B$26","v":20},"V","Team",{"$f":"DRAW!$P$26","v":0},1,null,"Team",{"$f":"DRAW!$B$26","v":20},"V","Team",{"$f":"DRAW!$R$26","v":0},1]
[20,"Ends","Shots","Total",null,"Shots","Total",1,"Ends","Shots","Total",null,"Shots","Total",1,"Ends","Shots","Total",null,"Shots","Total",1,"Ends","Shots","Total",null,"Shots","Total",1,"Ends","Shots","Total",null,"Shots","Total",1,"Ends","Shots","Total",null,"Shots","Total",1,"Ends","Shots","Total",null,"Shots","Total",1,"Ends","Shots","Total",null,"shots","Total",1]
[20,1,{"$nulls":5},1,1,{"$nulls":5},1,1,{"$nulls":5},1,1,{"$nulls":5},1,1,{"$nulls":5},1,1,{"$nulls":5},1,1,{"$nulls":5},1,1,{"$nulls":5},1]
[20,2,{"$nulls":5},1,2,{"$nulls":5},1,2,{"$nulls":5},1,2,{"$nulls":5},1,2,{"$nulls":5},1,2,{"$nulls":5},1,2,{"$nulls":5},1,2,{"$nulls":5},1]
[20,3,{"$nulls":5},1,3,{"$nulls":5},1,3,{"$nulls":5},1,3,{"$nulls":5},1,3,{"$nulls":5},1,3,{"$nulls":5},1,3,{"$nulls":5},1,3,{"$nulls":5},1]
[20,4,{"$nulls":5},1,4,{"$nulls":5},1,4,{"$nulls":5},1,4,{"$nulls":5},1,4,{"$nulls":5},1,4,{"$nulls":5},1,4,{"$nulls":5},1,4,{"$nulls":5},1]
[20,5,{"$nulls":5},1,5,{"$nulls":5},1,5,{"$nulls":5},1,5,{"$nulls":5},1,5,{"$nulls":5},1,5,{"$nulls":5},1,5,{"$nulls":5},1,5,{"$nulls":5},1]
[20,6,{"$nulls":5},1,6,{"$nulls":5},1,6,{"$nulls":5},1,6,{"$nulls":5},1,6,{"$nulls":5},1,6,{"$nulls":5},1,6,{"$nulls":5},1,6,{"$nulls":5},1]
[20,7,{"$nulls":5},1,7,{"$nulls":5},1,7,{"$nulls":5},1,7,{"$nulls":5},1,7,{"$nulls":5},1,7,{"$nulls":5},1,7,{"$nulls":5},1,7,{"$nulls":5},1]
[20,8,{"$nulls":5},1,8,{"$nulls":5},1,8,{"$nulls":5},1,8,{"$nulls":5},1,8,{"$nulls":5},1,8,{"$nulls":5},1,8,{"$nulls":5},1,8,{"$nulls":5},1]
[20,9,{"$nulls":5},1,9,{"$nulls":5},1,9,{"$nulls":5},1,9,{"$nulls":5},1,9,{"$nulls":5},1,9,{"$nulls":5},1,9,{"$nulls":5},1,9,{"$nulls":5},1]
[20,10,{"$nulls":5},1,10,{"$nulls":5},1,10,{"$nulls":5},1,10,{"$nulls":5},1,10,{"$nulls":5},1,10,{"$nulls":5},1,10,{"$nulls":5},1,10,{"$nulls":5},1]
[20,11,{"$nulls":5},1,11,{"$nulls":5},1,11,{"$nulls":5},1,11,{"$nulls":5},1,11,{"$nulls":5},1,11,{"$nulls":5},1,11,{"$nulls":5},1,11,{"$nulls":5},1]
[20,12,{"$nulls":5},1,12,{"$nulls":5},1,12,{"$nulls":5},1,12,{"$nulls":5},1,12,{"$nulls":5},1,12,{"$nulls":5},1,12,{"$nulls":5},1,12,{"$nulls":5},1]
[20,13,{"$nulls":5},1,13,{"$nulls":5},1,13,{"$nulls":5},1,13,{"$nulls":5},1,13,{"$nulls":5},1,13,{"$nulls":5},1,13,{"$nulls":5},1,13,{"$nulls":5},1]
[20,14,{"$nulls":5},1,14,{"$nulls":5},1,14,{"$nulls":5},1,14,{"$nulls":5},1,14,{"$nulls":5},1,14,{"$nulls":5},1,14,{"$nulls":5},1,14,{"$nulls":5},1]
[20,15,{"$nulls":5},1,15,{"$nulls":5},1,15,{"$nulls":5},1,15,{"$nulls":5},1,15,{"$nulls":5},1,15,{"$nulls":5},1,15,{"$nulls":5},1,15,{"$nulls":5},1]
[20,16,{"$nulls":5},1,16,{"$nulls":5},1,16,{"$nulls":5},1,16,{"$nulls":5},1,16,{"$nulls":5},1,16,{"$nulls":5},1,16,{"$nulls":5},1,16,{"$nulls":5},1]
[20,17,{"$nulls":5},1,17,{"$nulls":5},1,17,{"$nulls":5},1,17,{"$nulls":5},1,17,{"$nulls":5},1,17,{"$nulls":5},1,17,{"$nulls":5},1,17,{"$nulls":5},1]
[20,18,{"$nulls":5},1,18,{"$nulls":5},1,18,{"$nulls":5},1,18,{"$nulls":5},1,18,{"$nulls":5},1,18,{"$nulls":5},1,18,{"$nulls":5},1,18,{"$nulls":5},1]
[20,"Total","Shots",null,null,"Shots",null,1,"Total","Shots",null,null,"Shots",null,1,"Total","Shots",null,null,"Shots",null,1,"Total","Shots",null,null,"Shots",null,1,"Total","Shots",null,null,"Shots",null,1,"Total","Shots",null,null,"Shots",null,1,"Total","Shots",null,null,"Shots",null,1,"Total","Shots",null,null,"shots",null,1]
[20,null,"Ends",null,null,"Ends",null,1,null,"Ends",null,null,"Ends",null,1,null,"Ends",null,null,"Ends",null,1,null,"Ends",null,null,"Ends",null,1,null,"Ends",null,null,"Ends",null,1,null,"Ends",null,null,"Ends",null,1,null,"Ends",null,null,"Ends",null,1,null,"Ends",null,null,"Ends",null,1]
[20,"1st Game ",{"$nulls":5},1,"2nd Game ",{"$nulls":5},1,"3rd Game ",{"$nulls":5},1,"4th Game",{"$nulls":5},1,"5th Game",{"$nulls":5},1,"6th Game",{"$nulls":5},1,"7th Game",{"$nulls":5},1,"8th Game",{"$nulls":5},1]
[20,"Team No",null,null,"Rink No",null,null,1,{"$f":"VLOOKUP(A524,Sheet1!$B$7:'Sheet1'!C48,2,0)","v":0},null,null,"Rink No",null,null,1,{"$f":"VLOOKUP(A524,Sheet1!$B$7:'Sheet1'!C48,2,0)","v":0},null,null,"Rink No",null,null,1,{"$f":"VLOOKUP(A524,Sheet1!$B$7:'Sheet1'!C48,2,0)","v":0},null,null,"Rink No",null,null,1,{"$f":"VLOOKUP(A524,Sheet1!$B$7:'Sheet1'!C48,2,0)","v":0},null,null,"Rink No",null,null,1,{"$f":"VLOOKUP(A524,Sheet1!$B$7:'Sheet1'!C48,2,0)","v":0},null,null,"Rink No",null,null,1,{"$f":"VLOOKUP(A524,Sheet1!$B$7:'Sheet1'!C48,2,0)","v":0},null,null,"Rink No",null,null,1,{"$f":"VLOOKUP(A524,Sheet1!$B$7:'Sheet1'!C48,2,0)","v":0},null,null,"Rink No",null,null,1]
[20,{"$nulls":6},1,{"$nulls":6},1,{"$nulls":6},1,{"$nulls":6},1,{"$nulls":6},1,{"$nulls":6},1,{"$nulls":6},1,{"$nulls":6},1]
[21,{"$f":"DRAW!$B$27","v":21},null,null,{"$f":"DRAW!$E$27","v":13},null,null,1,{"$nulls":3},{"$f":"DRAW!$G$27","v":0},null,null,1,{"$f":"DRAW!$B$27","v":21},null,null,{"$f":"DRAW!$I$27","v":0},null,null,1,{"$f":"DRAW!$B$27","v":21},null,null,{"$f":"DRAW!$K$27","v":0},null,null,1,{"$f":"DRAW!$B$27","v":21},null,null,{"$f":"DRAW!$M$27","v":0},null,null,1,{"$f":"DRAW!$B$27","v":21},null,null,{"$f":"DRAW!$O$27","v":0},null,null,1,{"$f":"DRAW!$B$27","v":21},null,null,{"$f":"DRAW!$Q$27","v":0},null,null,1,{"$f":"DRAW!$B$27","v":21},null,null,{"$f":"DRAW!$S$27","v":0},null,null,1]
[21,null,"Team",{"$f":"DRAW!$B$27","v":21},"V","Team",{"$f":"DRAW!$D$27","v":24},1,null,"Team",{"$f":"DRAW!$B$27","v":21},"V","Team",{"$f":"DRAW!$F$27","v":0},1,null,"Team",{"$f":"DRAW!$B$27","v":21},"V","Team",{"$f":"DRAW!$H$27","v":0},1,null,"Team",{"$f":"DRAW!$B$27","v":21},"V","Team",{"$f":"DRAW!$J$27","v":0},1,null,"Team",{"$f":"DRAW!$B$27","v":21},"V","Team",{"$f":"DRAW!$L$27","v":0},1,null,"Team",{"$f":"DRAW!$B$27","v":21},"V","Team",{"$f":"DRAW!$N$27","v":0},1,null,"Team",{"$f":"DRAW!$B$27","v":21},"V","Team",{"$f":"DRAW!$P$27","v":0},1,null,"Team",{"$f":"DRAW!$B$27","v":21},"V","Team",{"$f":"DRAW!$R$27","v":0},1]
[21,"Ends","Shots","Total",null,"Shots","Total",1,"Ends","Shots","Total",null,"Shots","Total",1,"Ends","Shots","Total",null,"Shots","Total",1,"Ends","Shots","Total",null,"Shots","Total",1,"Ends","Shots","Total",null,"Shots","Total",1,"Ends","Shots","Total",null,"Shots","Total",1,"Ends","Shots","Total",null,"Shots","Total",1,"Ends","Shots","Total",null,"shots","Total",1]
[21,1,{"$nulls":5},1,1,{"$nulls":5},1,1,{"$nulls":5},1,1,{"$nulls":5},1,1,{"$nulls":5},1,1,{"$nulls":5},1,1,{"$nulls":5},1,1,{"$nulls":5},1]
[21,2,{"$nulls":5},1,2,{"$nulls":5},1,2,{"$nulls":5},1,2,{"$nulls":5},1,2,{"$nulls":5},1,2,{"$nulls":5},1,2,{"$nulls":5},1,2,{"$nulls":5},1]
[21,3,{"$nulls":5},1,3,{"$nulls":5},1,3,{"$nulls":5},1,3,{"$nulls":5},1,3,{"$nulls":5},1,3,{"$nulls":5},1,3,{"$nulls":5},1,3,{"$nulls":5},1]
[21,4,{"$nulls":5},1,4,{"$nulls":5},1,4,{"$nulls":5},1,4,{"$nulls":5},1,4,{"$nulls":5},1,4,{"$nulls":5},1,4,{"$nulls":5},1,4,{"$nulls":5},1]
[21,5,{"$nulls":5},1,5,{"$nulls":5},1,5,{"$nulls":5},1,5,{"$nulls":5},1,5,{"$nulls":5},1,5,{"$nulls":5},1,5,{"$nulls":5},1,5,{"$nulls":5},1]
[21,6,{"$nulls":5},1,6,{"$nulls":5},1,6,{"$nulls":5},1,6,{"$nulls":5},1,6,{"$nulls":5},1,6,{"$nulls":5},1,6,{"$nulls":5},1,6,{"$nulls":5},1]
[21,7,{"$nulls":5},1,7,{"$nulls":5},1,7,{"$nulls":5},1,7,{"$nulls":5},1,7,{"$nulls":5},1,7,{"$nulls":5},1,7,{"$nulls":5},1,7,{"$nulls":5},1]
[21,8,{"$nulls":5},1,8,{"$nulls":5},1,8,{"$nulls":5},1,8,{"$nulls":5},1,8,{"$nulls":5},1,8,{"$nulls":5},1,8,{"$nulls":5},1,8,{"$nulls":5},1]
[21,9,{"$nulls":5},1,9,{"$nulls":5},1,9,{"$nulls":5},1,9,{"$nulls":5},1,9,{"$nulls":5},1,9,{"$nulls":5},1,9,{"$nulls":5},1,9,{"$nulls":5},1]
[21,10,{"$nulls":5},1,10,{"$nulls":5},1,10,{"$nulls":5},1,10,{"$nulls":5},1,10,{"$nulls":5},1,10,{"$nulls":5},1,10,{"$nulls":5},1,10,{"$nulls":5},1]
[21,11,{"$nulls":5},1,11,{"$nulls":5},1,11,{"$nulls":5},1,11,{"$nulls":5},1,11,{"$nulls":5},1,11,{"$nulls":5},1,11,{"$nulls":5},1,11,{"$nulls":5},1]
[21,12,{"$nulls":5},1,12,{"$nulls":5},1,12,{"$nulls":5},1,12,{"$nulls":5},1,12,{"$nulls":5},1,12,{"$nulls":5},1,12,{"$nulls":5},1,12,{"$nulls":5},1]
[21,13,{"$nulls":5},1,13,{"$nulls":5},1,13,{"$nulls":5},1,13,{"$nulls":5},1,13,{"$nulls":5},1,13,{"$nulls":5},1,13,{"$nulls":5},1,13,{"$nulls":5},1]
[21,14,{"$nulls":5},1,14,{"$nulls":5},1,14,{"$nulls":5},1,14,{"$nulls":5},1,14,{"$nulls":5},1,14,{"$nulls":5},1,14,{"$nulls":5},1,14,{"$nulls":5},1]
[21,15,{"$nulls":5},1,15,{"$nulls":5},1,15,{"$nulls":5},1,15,{"$nulls":5},1,15,{"$nulls":5},1,15,{"$nulls":5},1,15,{"$nulls":5},1,15,{"$nulls":5},1]
[21,16,{"$nulls":5},1,16,{"$nulls":5},1,16,{"$nulls":5},1,16,{"$nulls":5},1,16,{"$nulls":5},1,16,{"$nulls":5},1,16,{"$nulls":5},1,16,{"$nulls":5},1]
[21,17,{"$nulls":5},1,17,{"$nulls":5},1,17,{"$nulls":5},1,17,{"$nulls":5},1,17,{"$nulls":5},1,17,{"$nulls":5},1,17,{"$nulls":5},1,17,{"$nulls":5},1]
[21,18,{"$nulls":5},1,18,{"$nulls":5},1,18,{"$nulls":5},1,18,{"$nulls":5},1,18,{"$nulls":5},1,18,{"$nulls":5},1,18,{"$nulls":5},1,18,{"$nulls":5},1]
[21,"Total","Shots",null,null,"Shots",null,1,"Total","Shots",null,null,"Shots",null,1,"Total","Shots",null,null,"Shots",null,1,"Total","Shots",null,null,"Shots",null,1,"Total","Shots",null,null,"Shots",null,1,"Total","Shots",null,null,"Shots",null,1,"Total","Shots",null,null,"Shots",null,1,"Total","Shots",null,null,"shots",null,1]
[21,null,"Ends",null,null,"Ends",null,1,null,"Ends",null,null,"Ends",null,1,null,"Ends",null,null,"Ends",null,1,null,"Ends",null,null,"Ends",null,1,null,"Ends",null,null,"Ends",null,1,null,"Ends",null,null,"Ends",null,1,null,"Ends",null,null,"Ends",null,1,null,"Ends",null,null,"Ends",null,1]
[21,"1st Game ",{"$nulls":5},1,"2nd Game ",{"$nulls":5},1,"3rd Game ",{"$nulls":5},1,"4th Game",{"$nulls":5},1,"5th Game",{"$nulls":5},1,"6th Game",{"$nulls":5},1,"7th Game",{"$nulls":5},1,"8th Game",{"$nulls":5},1]
[21,"Team No",null,null,"Rink No",null,null,1,{"$f":"VLOOKUP(A550,Sheet1!$B$7:'Sheet1'!C48,2,0)","v":0},null,null,"Rink No",null,null,1,{"$f":"VLOOKUP(A550,Sheet1!$B$7:'Sheet1'!C48,2,0)","v":0},null,null,"Rink No",null,null,1,{"$f":"VLOOKUP(A550,Sheet1!$B$7:'Sheet1'!C48,2,0)","v":0},null,null,"Rink No",null,null,1,{"$f":"VLOOKUP(A550,Sheet1!$B$7:'Sheet1'!C48,2,0)","v":0},null,null,"Rink No",null,null,1,{"$f":"VLOOKUP(A550,Sheet1!$B$7:'Sheet1'!C48,2,0)","v":0},null,null,"Rink No",null,null,1,{"$f":"VLOOKUP(A550,Sheet1!$B$7:'Sheet1'!C48,2,0)","v":0},null,null,"Rink No",null,null,1,{"$f":"VLOOKUP(A550,Sheet1!$B$7:'Sheet1'!C48,2,0)","v":0},null,null,"Rink No",null,null,1]
[21,{"$nulls":6},1,{"$nulls":6},1,{"$nulls":6},1,{"$nulls":6},1,{"$nulls":6},1,{"$nulls":6},1,{"$nulls":6},1,{"$nulls":6},1]
[22,{"$f":"DRAW!$B$28","v":22},null,null,{"$f":"DRAW!$E$28","v":14},null,null,1,{"$nulls":3},{"$f":"DRAW!$G$28","v":0},null,null,1,{"$f":"DRAW!$B$28","v":22},null,null,{"$f":"DRAW!$I$28","v":0},null,null,1,{"$f":"DRAW!$B$28","v":22},null,null,{"$f":"DRAW!$K$28","v":0},null,null,1,{"$f":"DRAW!$B$28","v":22},null,null,{"$f":"DRAW!$M$28","v":0},null,null,1,{"$f":"DRAW!$B$28","v":22},null,null,{"$f":"DRAW!$O$28","v":0},null,null,1,{"$f":"DRAW!$B$28","v":22},null,null,{"$f":"DRAW!$Q$28","v":0},null,null,1,{"$f":"DRAW!$B$28","v":22},null,null,{"$f":"DRAW!$S$28","v":0},null,null,1]
[22,null,"Team",{"$f":"DRAW!$B$28","v":22},"V","Team",{"$f":"DRAW!$D$28","v":23},1,null,"Team",{"$f":"DRAW!$B$28","v":22},"V","Team",{"$f":"DRAW!$F$28","v":0},1,null,"Team",{"$f":"DRAW!$B$28","v":22},"V","Team",{"$f":"DRAW!$H$28","v":0},1,null,"Team",{"$f":"DRAW!$B$28","v":22},"V","Team",{"$f":"DRAW!$J$28","v":0},1,null,"Team",{"$f":"DRAW!$B$28","v":22},"V","Team",{"$f":"DRAW!$L$28","v":0},1,null,"Team",{"$f":"DRAW!$B$28","v":22},"V","Team",{"$f":"DRAW!$N$28","v":0},1,null,"Team",{"$f":"DRAW!$B$28","v":22},"V","Team",{"$f":"DRAW!$P$28","v":0},1,null,"Team",{"$f":"DRAW!$B$28","v":22},"V","Team",{"$f":"DRAW!$R$28","v":0},1]
[22,"Ends","Shots","Total",null,"Shots","Total",1,"Ends","Shots","Total",null,"Shots","Total",1,"Ends","Shots","Total",null,"Shots","Total",1,"Ends","Shots","Total",null,"Shots","Total",1,"Ends","Shots","Total",null,"Shots","Total",1,"Ends","Shots","Total",null,"Shots","Total",1,"Ends","Shots","Total",null,"Shots","Total",1,"Ends","Shots","Total",null,"shots","Total",1]
[22,1,{"$nulls":5},1,1,{"$nulls":5},1,1,{"$nulls":5},1,1,{"$nulls":5},1,1,{"$nulls":5},1,1,{"$nulls":5},1,1,{"$nulls":5},1,1,{"$nulls":5},1]
[22,2,{"$nulls":5},1,2,{"$nulls":5},1,2,{"$nulls":5},1,2,{"$nulls":5},1,2,{"$nulls":5},1,2,{"$nulls":5},1,2,{"$nulls":5},1,2,{"$nulls":5},1]
[22,3,{"$nulls":5},1,3,{"$nulls":5},1,3,{"$nulls":5},1,3,{"$nulls":5},1,3,{"$nulls":5},1,3,{"$nulls":5},1,3,{"$nulls":5},1,3,{"$nulls":5},1]
[22,4,{"$nulls":5},1,4,{"$nulls":5},1,4,{"$nulls":5},1,4,{"$nulls":5},1,4,{"$nulls":5},1,4,{"$nulls":5},1,4,{"$nulls":5},1,4,{"$nulls":5},1]
[22,5,{"$nulls":5},1,5,{"$nulls":5},1,5,{"$nulls":5},1,5,{"$nulls":5},1,5,{"$nulls":5},1,5,{"$nulls":5},1,5,{"$nulls":5},1,5,{"$nulls":5},1]
[22,6,{"$nulls":5},1,6,{"$nulls":5},1,6,{"$nulls":5},1,6,{"$nulls":5},1,6,{"$nulls":5},1,6,{"$nulls":5},1,6,{"$nulls":5},1,6,{"$nulls":5},1]
[22,7,{"$nulls":5},1,7,{"$nulls":5},1,7,{"$nulls":5},1,7,{"$nulls":5},1,7,{"$nulls":5},1,7,{"$nulls":5},1,7,{"$nulls":5},1,7,{"$nulls":5},1]
[22,8,{"$nulls":5},1,8,{"$nulls":5},1,8,{"$nulls":5},1,8,{"$nulls":5},1,8,{"$nulls":5},1,8,{"$nulls":5},1,8,{"$nulls":5},1,8,{"$nulls":5},1]
[22,9,{"$nulls":5},1,9,{"$nulls":5},1,9,{"$nulls":5},1,9,{"$nulls":5},1,9,{"$nulls":5},1,9,{"$nulls":5},1,9,{"$nulls":5},1,9,{"$nulls":5},1]
[22,10,{"$nulls":5},1,10,{"$nulls":5},1,10,{"$nulls":5},1,10,{"$nulls":5},1,10,{"$nulls":5},1,10,{"$nulls":5},1,10,{"$nulls":5},1,10,{"$nulls":5},1]
[22,11,{"$nulls":5},1,11,{"$nulls":5},1,11,{"$nulls":5},1,11,{"$nulls":5},1,11,{"$nulls":5},1,11,{"$nulls":5},1,11,{"$nulls":5},1,11,{"$nulls":5},1]
[22,12,{"$nulls":5},1,12,{"$nulls":5},1,12,{"$nulls":5},1,12,{"$nulls":5},1,12,{"$nulls":5},1,12,{"$nulls":5},1,12,{"$nulls":5},1,12,{"$nulls":5},1]
[22,13,{"$nulls":5},1,13,{"$nulls":5},1,13,{"$nulls":5},1,13,{"$nulls":5},1,13,{"$nulls":5},1,13,{"$nulls":5},1,13,{"$nulls":5},1,13,{"$nulls":5},1]
[22,14,{"$nulls":5},1,14,{"$nulls":5},1,14,{"$nulls":5},1,14,{"$nulls":5},1,14,{"$nulls":5},1,14,{"$nulls":5},1,14,{"$nulls":5},1,14,{"$nulls":5},1]
[22,15,{"$nulls":5},1,15,{"$nulls":5},1,15,{"$nulls":5},1,15,{"$nulls":5},1,15,{"$nulls":5},1,15,{"$nulls":5},1,15,{"$nulls":5},1,15,{"$nulls":5},1]
[22,16,{"$nulls":5},1,16,{"$nulls":5},1,16,{"$nulls":5},1,16,{"$nulls":5},1,16,{"$nulls":5},1,16,{"$nulls":5},1,16,{"$nulls":5},1,16,{"$nulls":5},1]
[22,17,{"$nulls":5},1,17,{"$nulls":5},1,17,{"$nulls":5},1,17,{"$nulls":5},1,17,{"$nulls":5},1,17,{"$nulls":5},1,17,{"$nulls":5},1,17,{"$nulls":5},1]
[22,18,{"$nulls":5},1,18,{"$nulls":5},1,18,{"$nulls":5},1,18,{"$nulls":5},1,18,{"$nulls":5},1,18,{"$nulls":5},1,18,{"$nulls":5},1,18,{"$nulls":5},1]
[22,"Total","Shots",null,null,"Shots",null,1,"Total","Shots",null,null,"Shots",null,1,"Total","Shots",null,null,"Shots",null,1,"Total","Shots",null,null,"Shots",null,1,"Total","Shots",null,null,"Shots",null,1,"Total","Shots",null,null,"Shots",null,1,"Total","Shots",null,null,"Shots",null,1,"Total","Shots",null,null,"shots",null,1]
[22,null,"Ends",null,null,"Ends",null,1,null,"Ends",null,null,"Ends",null,1,null,"Ends",null,null,"Ends",null,1,null,"Ends",null,null,"Ends",null,1,null,"Ends",null,null,"Ends",null,1,null,"Ends",null,null,"Ends",null,1,null,"Ends",null,null,"Ends",null,1,null,"Ends",null,null,"Ends",null,1]
[22,"1st Game ",{"$nulls":5},1,"2nd Game ",{"$nulls":5},1,"3rd Game ",{"$nulls":5},1,"4th Game",{"$nulls":5},1,"5th Game",{"$nulls":5},1,"6th Game",{"$nulls":5},1,"7th Game",{"$nulls":5},1,"8th Game",{"$nulls":5},1]
[22,"Team No",null,null,"Rink No",null,null,1,{"$f":"VLOOKUP(A576,Sheet1!$B$7:'Sheet1'!C48,2,0)","v":0},null,null,"Rink No",null,null,1,{"$f":"VLOOKUP(A576,Sheet1!$B$7:'Sheet1'!C48,2,0)","v":0},null,null,"Rink No",null,null,1,{"$f":"VLOOKUP(A576,Sheet1!$B$7:'Sheet1'!C48,2,0)","v":0},null,null,"Rink No",null,null,1,{"$f":"VLOOKUP(A576,Sheet1!$B$7:'Sheet1'!C48,2,0)","v":0},null,null,"Rink No",null,null,1,{"$f":"VLOOKUP(A576,Sheet1!$B$7:'Sheet1'!C48,2,0)","v":0},null,null,"Rink No",null,null,1,{"$f":"VLOOKUP(A576,Sheet1!$B$7:'Sheet1'!C48,2,0)","v":0},null,null,"Rink No",null,null,1,{"$f":"VLOOKUP(A576,Sheet1!$B$7:'Sheet1'!C48,2,0)","v":0},null,null,"Rink No",null,null,1]
[22,{"$nulls":6},1,{"$nulls":6},1,{"$nulls":6},1,{"$nulls":6},1,{"$nulls":6},1,{"$nulls":6},1,{"$nulls":6},1,{"$nulls":6},1]
[23,{"$f":"DRAW!$B$29","v":23},null,null,{"$f":"DRAW!$E$29","v":14},null,null,1,{"$nulls":3},{"$f":"DRAW!$G$29","v":0},null,null,1,{"$f":"DRAW!$B$29","v":23},null,null,{"$f":"DRAW!$I$29","v":0},null,null,1,{"$f":"DRAW!$B$29","v":23},null,null,{"$f":"DRAW!$K$29","v":0},null,null,1,{"$f":"DRAW!$B$29","v":23},null,null,{"$f":"DRAW!$M$29","v":0},null,null,1,{"$f":"DRAW!$B$29","v":23},null,null,{"$f":"DRAW!$O$29","v":0},null,null,1,{"$f":"DRAW!$B$29","v":23},null,null,{"$f":"DRAW!$Q$29","v":0},null,null,1,{"$f":"DRAW!$B$29","v":23},null,null,{"$f":"DRAW!$S$29","v":0},null,null,1]
[23,null,"Team",{"$f":"DRAW!$B$29","v":23},"V","Team",{"$f":"DRAW!$D$29","v":22},1,null,"Team",{"$f":"DRAW!$B$29","v":23},"V","Team",{"$f":"DRAW!$F$29","v":0},1,null,"Team",{"$f":"DRAW!$B$29","v":23},"V","Team",{"$f":"DRAW!$H$29","v":0},1,null,"Team",{"$f":"DRAW!$B$29","v":23},"V","Team",{"$f":"DRAW!$J$29","v":0},1,null,"Team",{"$f":"DRAW!$B$29","v":23},"V","Team",{"$f":"DRAW!$L$29","v":0},1,null,"Team",{"$f":"DRAW!$B$29","v":23},"V","Team",{"$f":"DRAW!$N$29","v":0},1,null,"Team",{"$f":"DRAW!$B$29","v":23},"V","Team",{"$f":"DRAW!$P$29","v":0},1,null,"Team",{"$f":"DRAW!$B$29","v":23},"V","Team",{"$f":"DRAW!$R$29","v":0},1]
[23,"Ends","Shots","Total",null,"Shots","Total",1,"Ends","Shots","Total",null,"Shots","Total",1,"Ends","Shots","Total",null,"Shots","Total",1,"Ends","Shots","Total",null,"Shots","Total",1,"Ends","Shots","Total",null,"Shots","Total",1,"Ends","Shots","Total",null,"Shots","Total",1,"Ends","Shots","Total",null,"Shots","Total",1,"Ends","Shots","Total",null,"shots","Total",1]
[23,1,{"$nulls":5},1,1,{"$nulls":5},1,1,{"$nulls":5},1,1,{"$nulls":5},1,1,{"$nulls":5},1,1,{"$nulls":5},1,1,{"$nulls":5},1,1,{"$nulls":5},1]
[23,2,{"$nulls":5},1,2,{"$nulls":5},1,2,{"$nulls":5},1,2,{"$nulls":5},1,2,{"$nulls":5},1,2,{"$nulls":5},1,2,{"$nulls":5},1,2,{"$nulls":5},1]
[23,3,{"$nulls":5},1,3,{"$nulls":5},1,3,{"$nulls":5},1,3,{"$nulls":5},1,3,{"$nulls":5},1,3,{"$nulls":5},1,3,{"$nulls":5},1,3,{"$nulls":5},1]
[23,4,{"$nulls":5},1,4,{"$nulls":5},1,4,{"$nulls":5},1,4,{"$nulls":5},1,4,{"$nulls":5},1,4,{"$nulls":5},1,4,{"$nulls":5},1,4,{"$nulls":5},1]
[23,5,{"$nulls":5},1,5,{"$nulls":5},1,5,{"$nulls":5},1,5,{"$nulls":5},1,5,{"$nulls":5},1,5,{"$nulls":5},1,5,{"$nulls":5},1,5,{"$nulls":5},1]
[23,6,{"$nulls":5},1,6,{"$nulls":5},1,6,{"$nulls":5},1,6,{"$nulls":5},1,6,{"$nulls":5},1,6,{"$nulls":5},1,6,{"$nulls":5},1,6,{"$nulls":5},1]
[23,7,{"$nulls":5},1,7,{"$nulls":5},1,7,{"$nulls":5},1,7,{"$nulls":5},1,7,{"$nulls":5},1,7,{"$nulls":5},1,7,{"$nulls":5},1,7,{"$nulls":5},1]
[23,8,{"$nulls":5},1,8,{"$nulls":5},1,8,{"$nulls":5},1,8,{"$nulls":5},1,8,{"$nulls":5},1,8,{"$nulls":5},1,8,{"$nulls":5},1,8,{"$nulls":5},1]
[23,9,{"$nulls":5},1,9,{"$nulls":5},1,9,{"$nulls":5},1,9,{"$nulls":5},1,9,{"$nulls":5},1,9,{"$nulls":5},1,9,{"$nulls":5},1,9,{"$nulls":5},1]
[23,10,{"$nulls":5},1,10,{"$nulls":5},1,10,{"$nulls":5},1,10,{"$nulls":5},1,10,{"$nulls":5},1,10,{"$nulls":5},1,10,{"$nulls":5},1,10,{"$nulls":5},1]
[23,11,{"$nulls":5},1,11,{"$nulls":5},1,11,{"$nulls":5},1,11,{"$nulls":5},1,11,{"$nulls":5},1,11,{"$nulls":5},1,11,{"$nulls":5},1,11,{"$nulls":5},1]
[23,12,{"$nulls":5},1,12,{"$nulls":5},1,12,{"$nulls":5},1,12,{"$nulls":5},1,12,{"$nulls":5},1,12,{"$nulls":5},1,12,{"$nulls":5},1,12,{"$nulls":5},1]
[23,13,{"$nulls":5},1,13,{"$nulls":5},1,13,{"$nulls":5},1,13,{"$nulls":5},1,13,{"$nulls":5},1,13,{"$nulls":5},1,13,{"$nulls":5},1,13,{"$nulls":5},1]
[23,14,{"$nulls":5},1,14,{"$nulls":5},1,14,{"$nulls":5},1,14,{"$nulls":5},1,14,{"$nulls":5},1,14,{"$nulls":5},1,14,{"$nulls":5},1,14,{"$nulls":5},1]
[23,15,{"$nulls":5},1,15,{"$nulls":5},1,15,{"$nulls":5},1,15,{"$nulls":5},1,15,{"$nulls":5},1,15,{"$nulls":5},1,15,{"$nulls":5},1,15,{"$nulls":5},1]
[23,16,{"$nulls":5},1,16,{"$nulls":5},1,16,{"$nulls":5},1,16,{"$nulls":5},1,16,{"$nulls":5},1,16,{"$nulls":5},1,16,{"$nulls":5},1,16,{"$nulls":5},1]
[23,17,{"$nulls":5},1,17,{"$nulls":5},1,17,{"$nulls":5},1,17,{"$nulls":5},1,17,{"$nulls":5},1,17,{"$nulls":5},1,17,{"$nulls":5},1,17,{"$nulls":5},1]
[23,18,{"$nulls":5},1,18,{"$nulls":5},1,18,{"$nulls":5},1,18,{"$nulls":5},1,18,{"$nulls":5},1,18,{"$nulls":5},1,18,{"$nulls":5},1,18,{"$nulls":5},1]
[23,"Total","Shots",null,null,"Shots",null,1,"Total","Shots",null,null,"Shots",null,1,"Total","Shots",null,null,"Shots",null,1,"Total","Shots",null,null,"Shots",null,1,"Total","Shots",null,null,"Shots",null,1,"Total","Shots",null,null,"Shots",null,1,"Total","Shots",null,null,"Shots",null,1,"Total","Shots",null,null,"shots",null,1]
[23,null,"Ends",null,null,"Ends",null,1,null,"Ends",null,null,"Ends",null,1,null,"Ends",null,null,"Ends",null,1,null,"Ends",null,null,"Ends",null,1,null,"Ends",null,null,"Ends",null,1,null,"Ends",null,null,"Ends",null,1,null,"Ends",null,null,"Ends",null,1,null,"Ends",null,null,"Ends",null,1]
[23,"1st Game ",{"$nulls":5},1,"2nd Game ",{"$nulls":5},1,"3rd Game ",{"$nulls":5},1,"4th Game",{"$nulls":5},1,"5th Game",{"$nulls":5},1,"6th Game",{"$nulls":5},1,"7th Game",{"$nulls":5},1,"8th Game",{"$nulls":5},1]
[23,"Team No",null,null,"Rink No",null,null,1,{"$f":"VLOOKUP(A602,Sheet1!$B$7:'Sheet1'!C48,2,0)","v":0},null,null,"Rink No",null,null,1,{"$f":"VLOOKUP(A602,Sheet1!$B$7:'Sheet1'!C48,2,0)","v":0},null,null,"Rink No",null,null,1,{"$f":"VLOOKUP(A602,Sheet1!$B$7:'Sheet1'!C48,2,0)","v":0},null,null,"Rink No",null,null,1,{"$f":"VLOOKUP(A602,Sheet1!$B$7:'Sheet1'!C48,2,0)","v":0},null,null,"Rink No",null,null,1,{"$f":"VLOOKUP(A602,Sheet1!$B$7:'Sheet1'!C48,2,0)","v":0},null,null,"Rink No",null,null,1,{"$f":"VLOOKUP(A602,Sheet1!$B$7:'Sheet1'!C48,2,0)","v":0},null,null,"Rink No",null,null,1,{"$f":"VLOOKUP(A602,Sheet1!$B$7:'Sheet1'!C48,2,0)","v":0},null,null,"Rink No",null,null,1]
[23,{"$nulls":6},1,{"$nulls":6},1,{"$nulls":6},1,{"$nulls":6},1,{"$nulls":6},1,{"$nulls":6},1,{"$nulls":6},1,{"$nulls":6},1]
[24,{"$f":"DRAW!$B$30","v":24},null,null,{"$f":"DRAW!$E$30","v":13},null,null,1,{"$nulls":3},{"$f":"DRAW!$G$30","v":0},null,null,1,{"$f":"DRAW!$B$30","v":24},null,null,{"$f":"DRAW!$I$30","v":0},null,null,1,{"$f":"DRAW!$B$30","v":24},null,null,{"$f":"DRAW!$K$30","v":0},null,null,1,{"$f":"DRAW!$B$30","v":24},null,null,{"$f":"DRAW!$M$30","v":0},null,null,1,{"$f":"DRAW!$B$30","v":24},null,null,{"$f":"DRAW!$O$30","v":0},null,null,1,{"$f":"DRAW!$B$30","v":24},null,null,{"$f":"DRAW!$Q$30","v":0},null,null,1,{"$f":"DRAW!$B$30","v":24},null,null,{"$f":"DRAW!$S$30","v":0},null,null,1]
[24,null,"Team",{"$f":"DRAW!$B$30","v":24},"V","Team",{"$f":"DRAW!$D$30","v":21},1,null,"Team",{"$f":"DRAW!$B$30","v":24},"V","Team",{"$f":"DRAW!$F$30","v":0},1,null,"Team",{"$f":"DRAW!$B$30","v":24},"V","Team",{"$f":"DRAW!$H$30","v":0},1,null,"Team",{"$f":"DRAW!$B$30","v":24},"V","Team",{"$f":"DRAW!$J$30","v":0},1,null,"Team",{"$f":"DRAW!$B$30","v":24},"V","Team",{"$f":"DRAW!$L$30","v":0},1,null,"Team",{"$f":"DRAW!$B$30","v":24},"V","Team",{"$f":"DRAW!$N$30","v":0},1,null,"Team",{"$f":"DRAW!$B$30","v":24},"V","Team",{"$f":"DRAW!$P$30","v":0},1,null,"Team",{"$f":"DRAW!$B$30","v":24},"V","Team",{"$f":"DRAW!$R$30","v":0},1]
[24,"Ends","Shots","Total",null,"Shots","Total",1,"Ends","Shots","Total",null,"Shots","Total",1,"Ends","Shots","Total",null,"Shots","Total",1,"Ends","Shots","Total",null,"Shots","Total",1,"Ends","Shots","Total",null,"Shots","Total",1,"Ends","Shots","Total",null,"Shots","Total",1,"Ends","Shots","Total",null,"Shots","Total",1,"Ends","Shots","Total",null,"shots","Total",1]
[24,1,{"$nulls":5},1,1,{"$nulls":5},1,1,{"$nulls":5},1,1,{"$nulls":5},1,1,{"$nulls":5},1,1,{"$nulls":5},1,1,{"$nulls":5},1,1,{"$nulls":5},1]
[24,2,{"$nulls":5},1,2,{"$nulls":5},1,2,{"$nulls":5},1,2,{"$nulls":5},1,2,{"$nulls":5},1,2,{"$nulls":5},1,2,{"$nulls":5},1,2,{"$nulls":5},1]
[24,3,{"$nulls":5},1,3,{"$nulls":5},1,3,{"$nulls":5},1,3,{"$nulls":5},1,3,{"$nulls":5},1,3,{"$nulls":5},1,3,{"$nulls":5},1,3,{"$nulls":5},1]
[24,4,{"$nulls":5},1,4,{"$nulls":5},1,4,{"$nulls":5},1,4,{"$nulls":5},1,4,{"$nulls":5},1,4,{"$nulls":5},1,4,{"$nulls":5},1,4,{"$nulls":5},1]
[24,5,{"$nulls":5},1,5,{"$nulls":5},1,5,{"$nulls":5},1,5,{"$nulls":5},1,5,{"$nulls":5},1,5,{"$nulls":5},1,5,{"$nulls":5},1,5,{"$nulls":5},1]
[24,6,{"$nulls":5},1,6,{"$nulls":5},1,6,{"$nulls":5},1,6,{"$nulls":5},1,6,{"$nulls":5},1,6,{"$nulls":5},1,6,{"$nulls":5},1,6,{"$nulls":5},1]
[24,7,{"$nulls":5},1,7,{"$nulls":5},1,7,{"$nulls":5},1,7,{"$nulls":5},1,7,{"$nulls":5},1,7,{"$nulls":5},1,7,{"$nulls":5},1,7,{"$nulls":5},1]
[24,8,{"$nulls":5},1,8,{"$nulls":5},1,8,{"$nulls":5},1,8,{"$nulls":5},1,8,{"$nulls":5},1,8,{"$nulls":5},1,8,{"$nulls":5},1,8,{"$nulls":5},1]
[24,9,{"$nulls":5},1,9,{"$nulls":5},1,9,{"$nulls":5},1,9,{"$nulls":5},1,9,{"$nulls":5},1,9,{"$nulls":5},1,9,{"$nulls":5},1,9,{"$nulls":5},1]
[24,10,{"$nulls":5},1,10,{"$nulls":5},1,10,{"$nulls":5},1,10,{"$nulls":5},1,10,{"$nulls":5},1,10,{"$nulls":5},1,10,{"$nulls":5},1,10,{"$nulls":5},1]
[24,11,{"$nulls":5},1,11,{"$nulls":5},1,11,{"$nulls":5},1,11,{"$nulls":5},1,11,{"$nulls":5},1,11,{"$nulls":5},1,11,{"$nulls":5},1,11,{"$nulls":5},1]
[24,12,{"$nulls":5},1,12,{"$nulls":5},1,12,{"$nulls":5},1,12,{"$nulls":5},1,12,{"$nulls":5},1,12,{"$nulls":5},1,12,{"$nulls":5},1,12,{"$nulls":5},1]
[24,13,{"$nulls":5},1,13,{"$nulls":5},1,13,{"$nulls":5},1,13,{"$nulls":5},1,13,{"$nulls":5},1,13,{"$nulls":5},1,13,{"$nulls":5},1,13,{"$nulls":5},1]
[24,14,{"$nulls":5},1,14,{"$nulls":5},1,14,{"$nulls":5},1,14,{"$nulls":5},1,14,{"$nulls":5},1,14,{"$nulls":5},1,14,{"$nulls":5},1,14,{"$nulls":5},1]
[24,15,{"$nulls":5},1,15,{"$nulls":5},1,15,{"$nulls":5},1,15,{"$nulls":5},1,15,{"$nulls":5},1,15,{"$nulls":5},1,15,{"$nulls":5},1,15,{"$nulls":5},1]
[24,16,{"$nulls":5},1,16,{"$nulls":5},1,16,{"$nulls":5},1,16,{"$nulls":5},1,16,{"$nulls":5},1,16,{"$nulls":5},1,16,{"$nulls":5},1,16,{"$nulls":5},1]
[24,17,{"$nulls":5},1,17,{"$nulls":5},1,17,{"$nulls":5},1,17,{"$nulls":5},1,17,{"$nulls":5},1,17,{"$nulls":5},1,17,{"$nulls":5},1,17,{"$nulls":5},1]
[24,18,{"$nulls":5},1,18,{"$nulls":5},1,18,{"$nulls":5},1,18,{"$nulls":5},1,18,{"$nulls":5},1,18,{"$nulls":5},1,18,{"$nulls":5},1,18,{"$nulls":5},1]
[24,"Total","Shots",null,null,"Shots",null,1,"Total","Shots",null,null,"Shots",null,1,"Total","Shots",null,null,"Shots",null,1,"Total","Shots",null,null,"Shots",null,1,"Total","Shots",null,null,"Shots",null,1,"Total","Shots",null,null,"Shots",null,1,"Total","Shots",null,null,"Shots",null,1,"Total","Shots",null,null,"shots",null,1]
[24,null,"Ends",null,null,"Ends",null,1,null,"Ends",null,null,"Ends",null,1,null,"Ends",null,null,"Ends",null,1,null,"Ends",null,null,"Ends",null,1,null,"Ends",null,null,"Ends",null,1,null,"Ends",null,null,"Ends",null,1,null,"Ends",null,null,"Ends",null,1,null,"Ends",null,null,"Ends",null,1]
[24,"1st Game ",{"$nulls":5},1,"2nd Game ",{"$nulls":5},1,"3rd Game ",{"$nulls":5},1,"4th Game",{"$nulls":5},1,"5th Game",{"$nulls":5},1,"6th Game",{"$nulls":5},1,"7th Game",{"$nulls":5},1,"8th Game",{"$nulls":5},1]
[24,"Team No",null,null,"Rink No",null,null,1,{"$f":"VLOOKUP(A628,Sheet1!$B$7:'Sheet1'!C48,2,0)","v":0},null,null,"Rink No",null,null,1,{"$f":"VLOOKUP(A628,Sheet1!$B$7:'Sheet1'!C48,2,0)","v":0},null,null,"Rink No",null,null,1,{"$f":"VLOOKUP(A628,Sheet1!$B$7:'Sheet1'!C48,2,0)","v":0},null,null,"Rink No",null,null,1,{"$f":"VLOOKUP(A628,Sheet1!$B$7:'Sheet1'!C48,2,0)","v":0},null,null,"Rink No",null,null,1,{"$f":"VLOOKUP(A628,Sheet1!$B$7:'Sheet1'!C48,2,0)","v":0},null,null,"Rink No",null,null,1,{"$f":"VLOOKUP(A628,Sheet1!$B$7:'Sheet1'!C48,2,0)","v":0},null,null,"Rink No",null,null,1,{"$f":"VLOOKUP(A628,Sheet1!$B$7:'Sheet1'!C48,2,0)","v":0},null,null,"Rink No",null,null,1]
[24,{"$nulls":6},1,{"$nulls":6},1,{"$nulls":6},1,{"$nulls":6},1,{"$nulls":6},1,{"$nulls":6},1,{"$nulls":6},1,{"$nulls":6},1]
[25,{"$f":"DRAW!$B$31","v":25},null,null,{"$f":"DRAW!$E$31","v":12},null,null,1,{"$nulls":3},{"$f":"DRAW!$G$31","v":0},null,null,1,{"$f":"DRAW!$B$31","v":25},null,null,{"$f":"DRAW!$I$31","v":0},null,null,1,{"$f":"DRAW!$B$31","v":25},null,null,{"$f":"DRAW!$K$31","v":0},null,null,1,{"$f":"DRAW!$B$31","v":25},null,null,{"$f":"DRAW!$M$31","v":0},null,null,1,{"$f":"DRAW!$B$31","v":25},null,null,{"$f":"DRAW!$O$31","v":0},null,null,1,{"$f":"DRAW!$B$31","v":25},null,null,{"$f":"DRAW!$Q$31","v":0},null,null,1,{"$f":"DRAW!$B$31","v":25},null,null,{"$f":"DRAW!$S$31","v":0},null,null,1]
[25,null,"Team",{"$f":"DRAW!$B$31","v":25},"V","Team",{"$f":"DRAW!$D$31","v":20},1,null,"Team",{"$f":"DRAW!$B$31","v":25},"V","Team",{"$f":"DRAW!$F$31","v":0},1,null,"Team",{"$f":"DRAW!$B$31","v":25},"V","Team",{"$f":"DRAW!$H$31","v":0},1,null,"Team",{"$f":"DRAW!$B$31","v":25},"V","Team",{"$f":"DRAW!$J$31","v":0},1,null,"Team",{"$f":"DRAW!$B$31","v":25},"V","Team",{"$f":"DRAW!$L$31","v":0},1,null,"Team",{"$f":"DRAW!$B$31","v":25},"V","Team",{"$f":"DRAW!$N$31","v":0},1,null,"Team",{"$f":"DRAW!$B$31","v":25},"V","Team",{"$f":"DRAW!$P$31","v":0},1,null,"Team",{"$f":"DRAW!$B$31","v":25},"V","Team",{"$f":"DRAW!$R$31","v":0},1]
[25,"Ends","Shots","Total",null,"Shots","Total",1,"Ends","Shots","Total",null,"Shots","Total",1,"Ends","Shots","Total",null,"Shots","Total",1,"Ends","Shots","Total",null,"Shots","Total",1,"Ends","Shots","Total",null,"Shots","Total",1,"Ends","Shots","Total",null,"Shots","Total",1,"Ends","Shots","Total",null,"Shots","Total",1,"Ends","Shots","Total",null,"shots","Total",1]
[25,1,{"$nulls":5},1,1,{"$nulls":5},1,1,{"$nulls":5},1,1,{"$nulls":5},1,1,{"$nulls":5},1,1,{"$nulls":5},1,1,{"$nulls":5},1,1,{"$nulls":5},1]
[25,2,{"$nulls":5},1,2,{"$nulls":5},1,2,{"$nulls":5},1,2,{"$nulls":5},1,2,{"$nulls":5},1,2,{"$nulls":5},1,2,{"$nulls":5},1,2,{"$nulls":5},1]
[25,3,{"$nulls":5},1,3,{"$nulls":5},1,3,{"$nulls":5},1,3,{"$nulls":5},1,3,{"$nulls":5},1,3,{"$nulls":5},1,3,{"$nulls":5},1,3,{"$nulls":5},1]
[25,4,{"$nulls":5},1,4,{"$nulls":5},1,4,{"$nulls":5},1,4,{"$nulls":5},1,4,{"$nulls":5},1,4,{"$nulls":5},1,4,{"$nulls":5},1,4,{"$nulls":5},1]
[25,5,{"$nulls":5},1,5,{"$nulls":5},1,5,{"$nulls":5},1,5,{"$nulls":5},1,5,{"$nulls":5},1,5,{"$nulls":5},1,5,{"$nulls":5},1,5,{"$nulls":5},1]
[25,6,{"$nulls":5},1,6,{"$nulls":5},1,6,{"$nulls":5},1,6,{"$nulls":5},1,6,{"$nulls":5},1,6,{"$nulls":5},1,6,{"$nulls":5},1,6,{"$nulls":5},1]
[25,7,{"$nulls":5},1,7,{"$nulls":5},1,7,{"$nulls":5},1,7,{"$nulls":5},1,7,{"$nulls":5},1,7,{"$nulls":5},1,7,{"$nulls":5},1,7,{"$nulls":5},1]
[25,8,{"$nulls":5},1,8,{"$nulls":5},1,8,{"$nulls":5},1,8,{"$nulls":5},1,8,{"$nulls":5},1,8,{"$nulls":5},1,8,{"$nulls":5},1,8,{"$nulls":5},1]
[25,9,{"$nulls":5},1,9,{"$nulls":5},1,9,{"$nulls":5},1,9,{"$nulls":5},1,9,{"$nulls":5},1,9,{"$nulls":5},1,9,{"$nulls":5},1,9,{"$nulls":5},1]
[25,10,{"$nulls":5},1,10,{"$nulls":5},1,10,{"$nulls":5},1,10,{"$nulls":5},1,10,{"$nulls":5},1,10,{"$nulls":5},1,10,{"$nulls":5},1,10,{"$nulls":5},1]
[25,11,{"$nulls":5},1,11,{"$nulls":5},1,11,{"$nulls":5},1,11,{"$nulls":5},1,11,{"$nulls":5},1,11,{"$nulls":5},1,11,{"$nulls":5},1,11,{"$nulls":5},1]
[25,12,{"$nulls":5},1,12,{"$nulls":5},1,12,{"$nulls":5},1,12,{"$nulls":5},1,12,{"$nulls":5},1,12,{"$nulls":5},1,12,{"$nulls":5},1,12,{"$nulls":5},1]
[25,13,{"$nulls":5},1,13,{"$nulls":5},1,13,{"$nulls":5},1,13,{"$nulls":5},1,13,{"$nulls":5},1,13,{"$nulls":5},1,13,{"$nulls":5},1,13,{"$nulls":5},1]
[25,14,{"$nulls":5},1,14,{"$nulls":5},1,14,{"$nulls":5},1,14,{"$nulls":5},1,14,{"$nulls":5},1,14,{"$nulls":5},1,14,{"$nulls":5},1,14,{"$nulls":5},1]
[25,15,{"$nulls":5},1,15,{"$nulls":5},1,15,{"$nulls":5},1,15,{"$nulls":5},1,15,{"$nulls":5},1,15,{"$nulls":5},1,15,{"$nulls":5},1,15,{"$nulls":5},1]
[25,16,{"$nulls":5},1,16,{"$nulls":5},1,16,{"$nulls":5},1,16,{"$nulls":5},1,16,{"$nulls":5},1,16,{"$nulls":5},1,16,{"$nulls":5},1,16,{"$nulls":5},1]
[25,17,{"$nulls":5},1,17,{"$nulls":5},1,17,{"$nulls":5},1,17,{"$nulls":5},1,17,{"$nulls":5},1,17,{"$nulls":5},1,17,{"$nulls":5},1,17,{"$nulls":5},1]
[25,18,{"$nulls":5},1,18,{"$nulls":5},1,18,{"$nulls":5},1,18,{"$nulls":5},1,18,{"$nulls":5},1,18,{"$nulls":5},1,18,{"$nulls":5},1,18,{"$nulls":5},1]
[25,"Total","Shots",null,null,"Shots",null,1,"Total","Shots",null,null,"Shots",null,1,"Total","Shots",null,null,"Shots",null,1,"Total","Shots",null,null,"Shots",null,1,"Total","Shots",null,null,"Shots",null,1,"Total","Shots",null,null,"Shots",null,1,"Total","Shots",null,null,"Shots",null,1,"Total","Shots",null,null,"shots",null,1]
[25,null,"Ends",null,null,"Ends",null,1,null,"Ends",null,null,"Ends",null,1,null,"Ends",null,null,"Ends",null,1,null,"Ends",null,null,"Ends",null,1,null,"Ends",null,null,"Ends",null,1,null,"Ends",null,null,"Ends",null,1,null,"Ends",null,null,"Ends",null,1,null,"Ends",null,null,"Ends",null,1]
[25,"1st Game ",{"$nulls":5},1,"2nd Game ",{"$nulls":5},1,"3rd Game ",{"$nulls":5},1,"4th Game",{"$nulls":5},1,"5th Game",{"$nulls":5},1,"6th Game",{"$nulls":5},1,"7th Game",{"$nulls":5},1,"8th Game",{"$nulls":5},1]
[25,"Team No",null,null,"Rink No",null,null,1,{"$f":"VLOOKUP(A654,Sheet1!$B$7:'Sheet1'!C48,2,0)","v":0},null,null,"Rink No",null,null,1,{"$f":"VLOOKUP(A654,Sheet1!$B$7:'Sheet1'!C48,2,0)","v":0},null,null,"Rink No",null,null,1,{"$f":"VLOOKUP(A654,Sheet1!$B$7:'Sheet1'!C48,2,0)","v":0},null,null,"Rink No",null,null,1,{"$f":"VLOOKUP(A654,Sheet1!$B$7:'Sheet1'!C48,2,0)","v":0},null,null,"Rink No",null,null,1,{"$f":"VLOOKUP(A654,Sheet1!$B$7:'Sheet1'!C48,2,0)","v":0},null,null,"Rink No",null,null,1,{"$f":"VLOOKUP(A654,Sheet1!$B$7:'Sheet1'!C48,2,0)","v":0},null,null,"Rink No",null,null,1,{"$f":"VLOOKUP(A654,Sheet1!$B$7:'Sheet1'!C48,2,0)","v":0},null,null,"Rink No",null,null,1]
[25,{"$nulls":6},1,{"$nulls":6},1,{"$nulls":6},1,{"$nulls":6},1,{"$nulls":6},1,{"$nulls":6},1,{"$nulls":6},1,{"$nulls":6},1]
[26,{"$f":"DRAW!$B$32","v":26},null,null,{"$f":"DRAW!$E$32","v":11},null,null,1,{"$nulls":3},{"$f":"DRAW!$G$32","v":0},null,null,1,{"$f":"DRAW!$B$32","v":26},null,null,{"$f":"DRAW!$I$32","v":0},null,null,1,{"$f":"DRAW!$B$32","v":26},null,null,{"$f":"DRAW!$K$32","v":0},null,null,1,{"$f":"DRAW!$B$32","v":26},null,null,{"$f":"DRAW!$M$32","v":0},null,null,1,{"$f":"DRAW!$B$32","v":26},null,null,{"$f":"DRAW!$O$32","v":0},null,null,1,{"$f":"DRAW!$B$32","v":26},null,null,{"$f":"DRAW!$Q$32","v":0},null,null,1,{"$f":"DRAW!$B$32","v":26},null,null,{"$f":"DRAW!$S$32","v":0},null,null,1]
[26,null,"Team",{"$f":"DRAW!$B$32","v":26},"V","Team",{"$f":"DRAW!$D$32","v":19},1,null,"Team",{"$f":"DRAW!$B$32","v":26},"V","Team",{"$f":"DRAW!$F$32","v":0},1,null,"Team",{"$f":"DRAW!$B$32","v":26},"V","Team",{"$f":"DRAW!$H$32","v":0},1,null,"Team",{"$f":"DRAW!$B$32","v":26},"V","Team",{"$f":"DRAW!$J$32","v":0},1,null,"Team",{"$f":"DRAW!$B$32","v":26},"V","Team",{"$f":"DRAW!$L$32","v":0},1,null,"Team",{"$f":"DRAW!$B$32","v":26},"V","Team",{"$f":"DRAW!$N$32","v":0},1,null,"Team",{"$f":"DRAW!$B$32","v":26},"V","Team",{"$f":"DRAW!$P$32","v":0},1,null,"Team",{"$f":"DRAW!$B$32","v":26},"V","Team",{"$f":"DRAW!$R$32","v":0},1]
[26,"Ends","Shots","Total",null,"Shots","Total",1,"Ends","Shots","Total",null,"Shots","Total",1,"Ends","Shots","Total",null,"Shots","Total",1,"Ends","Shots","Total",null,"Shots","Total",1,"Ends","Shots","Total",null,"Shots","Total",1,"Ends","Shots","Total",null,"Shots","Total",1,"Ends","Shots","Total",null,"Shots","Total",1,"Ends","Shots","Total",null,"shots","Total",1]
[26,1,{"$nulls":5},1,1,{"$nulls":5},1,1,{"$nulls":5},1,1,{"$nulls":5},1,1,{"$nulls":5},1,1,{"$nulls":5},1,1,{"$nulls":5},1,1,{"$nulls":5},1]
[26,2,{"$nulls":5},1,2,{"$nulls":5},1,2,{"$nulls":5},1,2,{"$nulls":5},1,2,{"$nulls":5},1,2,{"$nulls":5},1,2,{"$nulls":5},1,2,{"$nulls":5},1]
[26,3,{"$nulls":5},1,3,{"$nulls":5},1,3,{"$nulls":5},1,3,{"$nulls":5},1,3,{"$nulls":5},1,3,{"$nulls":5},1,3,{"$nulls":5},1,3,{"$nulls":5},1]
[26,4,{"$nulls":5},1,4,{"$nulls":5},1,4,{"$nulls":5},1,4,{"$nulls":5},1,4,{"$nulls":5},1,4,{"$nulls":5},1,4,{"$nulls":5},1,4,{"$nulls":5},1]
[26,5,{"$nulls":5},1,5,{"$nulls":5},1,5,{"$nulls":5},1,5,{"$nulls":5},1,5,{"$nulls":5},1,5,{"$nulls":5},1,5,{"$nulls":5},1,5,{"$nulls":5},1]
[26,6,{"$nulls":5},1,6,{"$nulls":5},1,6,{"$nulls":5},1,6,{"$nulls":5},1,6,{"$nulls":5},1,6,{"$nulls":5},1,6,{"$nulls":5},1,6,{"$nulls":5},1]
[26,7,{"$nulls":5},1,7,{"$nulls":5},1,7,{"$nulls":5},1,7,{"$nulls":5},1,7,{"$nulls":5},1,7,{"$nulls":5},1,7,{"$nulls":5},1,7,{"$nulls":5},1]
[26,8,{"$nulls":5},1,8,{"$nulls":5},1,8,{"$nulls":5},1,8,{"$nulls":5},1,8,{"$nulls":5},1,8,{"$nulls":5},1,8,{"$nulls":5},1,8,{"$nulls":5},1]
[26,9,{"$nulls":5},1,9,{"$nulls":5},1,9,{"$nulls":5},1,9,{"$nulls":5},1,9,{"$nulls":5},1,9,{"$nulls":5},1,9,{"$nulls":5},1,9,{"$nulls":5},1]
[26,10,{"$nulls":5},1,10,{"$nulls":5},1,10,{"$nulls":5},1,10,{"$nulls":5},1,10,{"$nulls":5},1,10,{"$nulls":5},1,10,{"$nulls":5},1,10,{"$nulls":5},1]
[26,11,{"$nulls":5},1,11,{"$nulls":5},1,11,{"$nulls":5},1,11,{"$nulls":5},1,11,{"$nulls":5},1,11,{"$nulls":5},1,11,{"$nulls":5},1,11,{"$nulls":5},1]
[26,12,{"$nulls":5},1,12,{"$nulls":5},1,12,{"$nulls":5},1,12,{"$nulls":5},1,12,{"$nulls":5},1,12,{"$nulls":5},1,12,{"$nulls":5},1,12,{"$nulls":5},1]
[26,13,{"$nulls":5},1,13,{"$nulls":5},1,13,{"$nulls":5},1,13,{"$nulls":5},1,13,{"$nulls":5},1,13,{"$nulls":5},1,13,{"$nulls":5},1,13,{"$nulls":5},1]
[26,14,{"$nulls":5},1,14,{"$nulls":5},1,14,{"$nulls":5},1,14,{"$nulls":5},1,14,{"$nulls":5},1,14,{"$nulls":5},1,14,{"$nulls":5},1,14,{"$nulls":5},1]
[26,15,{"$nulls":5},1,15,{"$nulls":5},1,15,{"$nulls":5},1,15,{"$nulls":5},1,15,{"$nulls":5},1,15,{"$nulls":5},1,15,{"$nulls":5},1,15,{"$nulls":5},1]
[26,16,{"$nulls":5},1,16,{"$nulls":5},1,16,{"$nulls":5},1,16,{"$nulls":5},1,16,{"$nulls":5},1,16,{"$nulls":5},1,16,{"$nulls":5},1,16,{"$nulls":5},1]
[26,17,{"$nulls":5},1,17,{"$nulls":5},1,17,{"$nulls":5},1,17,{"$nulls":5},1,17,{"$nulls":5},1,17,{"$nulls":5},1,17,{"$nulls":5},1,17,{"$nulls":5},1]
[26,18,{"$nulls":5},1,18,{"$nulls":5},1,18,{"$nulls":5},1,18,{"$nulls":5},1,18,{"$nulls":5},1,18,{"$nulls":5},1,18,{"$nulls":5},1,18,{"$nulls":5},1]
[26,"Total","Shots",null,null,"Shots",null,1,"Total","Shots",null,null,"Shots",null,1,"Total","Shots",null,null,"Shots",null,1,"Total","Shots",null,null,"Shots",null,1,"Total","Shots",null,null,"Shots",null,1,"Total","Shots",null,null,"Shots",null,1,"Total","Shots",null,null,"Shots",null,1,"Total","Shots",null,null,"shots",null,1]
[26,null,"Ends",null,null,"Ends",null,1,null,"Ends",null,null,"Ends",null,1,null,"Ends",null,null,"Ends",null,1,null,"Ends",null,null,"Ends",null,1,null,"Ends",null,null,"Ends",null,1,null,"Ends",null,null,"Ends",null,1,null,"Ends",null,null,"Ends",null,1,null,"Ends",null,null,"Ends",null,1]
[26,"1st Game ",{"$nulls":5},1,"2nd Game ",{"$nulls":5},1,"3rd Game ",{"$nulls":5},1,"4th Game",{"$nulls":5},1,"5th Game",{"$nulls":5},1,"6th Game",{"$nulls":5},1,"7th Game",{"$nulls":5},1,"8th Game",{"$nulls":5},1]
[26,"Team No",null,null,"Rink No",null,null,1,{"$f":"VLOOKUP(A680,Sheet1!$B$7:'Sheet1'!C48,2,0)","v":0},null,null,"Rink No",null,null,1,{"$f":"VLOOKUP(A680,Sheet1!$B$7:'Sheet1'!C48,2,0)","v":0},null,null,"Rink No",null,null,1,{"$f":"VLOOKUP(A680,Sheet1!$B$7:'Sheet1'!C48,2,0)","v":0},null,null,"Rink No",null,null,1,{"$f":"VLOOKUP(A680,Sheet1!$B$7:'Sheet1'!C48,2,0)","v":0},null,null,"Rink No",null,null,1,{"$f":"VLOOKUP(A680,Sheet1!$B$7:'Sheet1'!C48,2,0)","v":0},null,null,"Rink No",null,null,1,{"$f":"VLOOKUP(A680,Sheet1!$B$7:'Sheet1'!C48,2,0)","v":0},null,null,"Rink No",null,null,1,{"$f":"VLOOKUP(A680,Sheet1!$B$7:'Sheet1'!C48,2,0)","v":0},null,null,"Rink No",null,null,1]
[26,{"$nulls":6},1,{"$nulls":6},1,{"$nulls":6},1,{"$nulls":6},1,{"$nulls":6},1,{"$nulls":6},1,{"$nulls":6},1,{"$nulls":6},1]
[27,{"$f":"DRAW!$B$33","v":27},null,null,{"$f":"DRAW!$E$33","v":10},null,null,1,{"$nulls":3},{"$f":"DRAW!$G$33","v":0},null,null,1,{"$f":"DRAW!$B$33","v":27},null,null,{"$f":"DRAW!$I$33","v":0},null,null,1,{"$f":"DRAW!$B$33","v":27},null,null,{"$f":"DRAW!$K$33","v":0},null,null,1,{"$f":"DRAW!$B$33","v":27},null,null,{"$f":"DRAW!$M$33","v":0},null,null,1,{"$f":"DRAW!$B$33","v":27},null,null,{"$f":"DRAW!$O$33","v":0},null,null,1,{"$f":"DRAW!$B$33","v":27},null,null,{"$f":"DRAW!$Q$33","v":0},null,null,1,{"$f":"DRAW!$B$33","v":27},null,null,{"$f":"DRAW!$S$33","v":0},null,null,1]
[27,null,"Team",{"$f":"DRAW!$B$33","v":27},"V","Team",{"$f":"DRAW!$D$33","v":18},1,null,"Team",{"$f":"DRAW!$B$33","v":27},"V","Team",{"$f":"DRAW!$F$33","v":0},1,null,"Team",{"$f":"DRAW!$B$33","v":27},"V","Team",{"$f":"DRAW!$H$33","v":0},1,null,"Team",{"$f":"DRAW!$B$33","v":27},null,null,{"$f":"DRAW!$J$33","v":0},1,null,"Team",{"$f":"DRAW!$B$33","v":27},"V","Team",{"$f":"DRAW!$L$33","v":0},1,null,"Team",{"$f":"DRAW!$B$33","v":27},"V","Team",{"$f":"DRAW!$N$33","v":0},1,null,"Team",{"$f":"DRAW!$B$33","v":27},"V","Team",{"$f":"DRAW!$P$33","v":0},1,null,"Team",{"$f":"DRAW!$B$33","v":27},"V","Team",{"$f":"DRAW!$R$33","v":0},1]
[27,"Ends","Shots","Total",null,"Shots","Total",1,"Ends","Shots","Total",null,"Shots","Total",1,"Ends","Shots","Total",null,"Shots","Total",1,"Ends","Shots","Total",null,"Shots","Total",1,"Ends","Shots","Total",null,"Shots","Total",1,"Ends","Shots","Total",null,"Shots","Total",1,"Ends","Shots","Total",null,"Shots","Total",1,"Ends","Shots","Total",null,"shots","Total",1]
[27,1,{"$nulls":5},1,1,{"$nulls":5},1,1,{"$nulls":5},1,1,{"$nulls":5},1,1,{"$nulls":5},1,1,{"$nulls":5},1,1,{"$nulls":5},1,1,{"$nulls":5},1]
[27,2,{"$nulls":5},1,2,{"$nulls":5},1,2,{"$nulls":5},1,2,{"$nulls":5},1,2,{"$nulls":5},1,2,{"$nulls":5},1,2,{"$nulls":5},1,2,{"$nulls":5},1]
[27,3,{"$nulls":5},1,3,{"$nulls":5},1,3,{"$nulls":5},1,3,{"$nulls":5},1,3,{"$nulls":5},1,3,{"$nulls":5},1,3,{"$nulls":5},1,3,{"$nulls":5},1]
[27,4,{"$nulls":5},1,4,{"$nulls":5},1,4,{"$nulls":5},1,4,{"$nulls":5},1,4,{"$nulls":5},1,4,{"$nulls":5},1,4,{"$nulls":5},1,4,{"$nulls":5},1]
[27,5,{"$nulls":5},1,5,{"$nulls":5},1,5,{"$nulls":5},1,5,{"$nulls":5},1,5,{"$nulls":5},1,5,{"$nulls":5},1,5,{"$nulls":5},1,5,{"$nulls":5},1]
[27,6,{"$nulls":5},1,6,{"$nulls":5},1,6,{"$nulls":5},1,6,{"$nulls":5},1,6,{"$nulls":5},1,6,{"$nulls":5},1,6,{"$nulls":5},1,6,{"$nulls":5},1]
[27,7,{"$nulls":5},1,7,{"$nulls":5},1,7,{"$nulls":5},1,7,{"$nulls":5},1,7,{"$nulls":5},1,7,{"$nulls":5},1,7,{"$nulls":5},1,7,{"$nulls":5},1]
[27,8,{"$nulls":5},1,8,{"$nulls":5},1,8,{"$nulls":5},1,8,{"$nulls":5},1,8,{"$nulls":5},1,8,{"$nulls":5},1,8,{"$nulls":5},1,8,{"$nulls":5},1]
[27,9,{"$nulls":5},1,9,{"$nulls":5},1,9,{"$nulls":5},1,9,{"$nulls":5},1,9,{"$nulls":5},1,9,{"$nulls":5},1,9,{"$nulls":5},1,9,{"$nulls":5},1]
[27,10,{"$nulls":5},1,10,{"$nulls":5},1,10,{"$nulls":5},1,10,{"$nulls":5},1,10,{"$nulls":5},1,10,{"$nulls":5},1,10,{"$nulls":5},1,10,{"$nulls":5},1]
[27,11,{"$nulls":5},1,11,{"$nulls":5},1,11,{"$nulls":5},1,11,{"$nulls":5},1,11,{"$nulls":5},1,11,{"$nulls":5},1,11,{"$nulls":5},1,11,{"$nulls":5},1]
[27,12,{"$nulls":5},1,12,{"$nulls":5},1,12,{"$nulls":5},1,12,{"$nulls":5},1,12,{"$nulls":5},1,12,{"$nulls":5},1,12,{"$nulls":5},1,12,{"$nulls":5},1]
[27,13,{"$nulls":5},1,13,{"$nulls":5},1,13,{"$nulls":5},1,13,{"$nulls":5},1,13,{"$nulls":5},1,13,{"$nulls":5},1,13,{"$nulls":5},1,13,{"$nulls":5},1]
[27,14,{"$nulls":5},1,14,{"$nulls":5},1,14,{"$nulls":5},1,14,{"$nulls":5},1,14,{"$nulls":5},1,14,{"$nulls":5},1,14,{"$nulls":5},1,14,{"$nulls":5},1]
[27,15,{"$nulls":5},1,15,{"$nulls":5},1,15,{"$nulls":5},1,15,{"$nulls":5},1,15,{"$nulls":5},1,15,{"$nulls":5},1,15,{"$nulls":5},1,15,{"$nulls":5},1]
[27,16,{"$nulls":5},1,16,{"$nulls":5},1,16,{"$nulls":5},1,16,{"$nulls":5},1,16,{"$nulls":5},1,16,{"$nulls":5},1,16,{"$nulls":5},1,16,{"$nulls":5},1]
[27,17,{"$nulls":5},1,17,{"$nulls":5},1,17,{"$nulls":5},1,17,{"$nulls":5},1,17,{"$nulls":5},1,17,{"$nulls":5},1,17,{"$nulls":5},1,17,{"$nulls":5},1]
[27,18,{"$nulls":5},1,18,{"$nulls":5},1,18,{"$nulls":5},1,18,{"$nulls":5},1,18,{"$nulls":5},1,18,{"$nulls":5},1,18,{"$nulls":5},1,18,{"$nulls":5},1]
[27,"Total","Shots",null,null,"Shots",null,1,"Total","Shots",null,null,"Shots",null,1,"Total","Shots",null,null,"Shots",null,1,"Total","Shots",null,null,"Shots",null,1,"Total","Shots",null,null,"Shots",null,1,"Total","Shots",null,null,"Shots",null,1,"Total","Shots",null,null,"Shots",null,1,"Total","Shots",null,null,"shots",null,1]
[27,null,"Ends",null,null,"Ends",null,1,null,"Ends",null,null,"Ends",null,1,null,"Ends",null,null,"Ends",null,1,null,"Ends",null,null,"Ends",null,1,null,"Ends",null,null,"Ends",null,1,null,"Ends",null,null,"Ends",null,1,null,"Ends",null,null,"Ends",null,1,null,"Ends",null,null,"Ends",null,1]
[27,"1st Game ",{"$nulls":5},1,"2nd Game ",{"$nulls":5},1,"3rd Game ",{"$nulls":5},1,"4th Game",{"$nulls":5},1,"5th Game",{"$nulls":5},1,"6th Game",{"$nulls":5},1,"7th Game",{"$nulls":5},1,"8th Game",{"$nulls":5},1]
[27,"Team No",null,null,"Rink No",null,null,1,{"$f":"VLOOKUP(A706,Sheet1!$B$7:'Sheet1'!C48,2,0)","v":0},null,null,"Rink No",null,null,1,{"$f":"VLOOKUP(A706,Sheet1!$B$7:'Sheet1'!C48,2,0)","v":0},null,null,"Rink No",null,null,1,{"$f":"VLOOKUP(A706,Sheet1!$B$7:'Sheet1'!C48,2,0)","v":0},null,null,"Rink No",null,null,1,{"$f":"VLOOKUP(A706,Sheet1!$B$7:'Sheet1'!C48,2,0)","v":0},null,null,"Rink No",null,null,1,{"$f":"VLOOKUP(A706,Sheet1!$B$7:'Sheet1'!C48,2,0)","v":0},null,null,"Rink No",null,null,1,{"$f":"VLOOKUP(A706,Sheet1!$B$7:'Sheet1'!C48,2,0)","v":0},null,null,"Rink No",null,null,1,{"$f":"VLOOKUP(A706,Sheet1!$B$7:'Sheet1'!C48,2,0)","v":0},null,null,"Rink No",null,null,1]
[27,{"$nulls":6},1,{"$nulls":6},1,{"$nulls":6},1,{"$nulls":6},1,{"$nulls":6},1,{"$nulls":6},1,{"$nulls":6},1,{"$nulls":6},1]
[28,{"$f":"DRAW!$B$34","v":28},null,null,{"$f":"DRAW!$E$34","v":9},null,null,1,{"$nulls":3},{"$f":"DRAW!$G$34","v":0},null,null,1,{"$f":"DRAW!$B$34","v":28},null,null,{"$f":"DRAW!$I$34","v":0},null,null,1,{"$f":"DRAW!$B$34","v":28},null,null,{"$f":"DRAW!$K$34","v":0},null,null,1,{"$f":"DRAW!$B$34","v":28},null,null,{"$f":"DRAW!$M$34","v":0},null,null,1,{"$f":"DRAW!$B$34","v":28},null,null,{"$f":"DRAW!$O$34","v":0},null,null,1,{"$f":"DRAW!$B$34","v":28},null,null,{"$f":"DRAW!$Q$34","v":0},null,null,1,{"$f":"DRAW!$B$34","v":28},null,null,{"$f":"DRAW!$S$34","v":0},null,null,1]
[28,null,"Team",{"$f":"DRAW!$B$34","v":28},"V","Team",{"$f":"DRAW!$D$34","v":17},1,null,"Team",{"$f":"DRAW!$B$34","v":28},"V","Team",{"$f":"DRAW!$F$34","v":0},1,null,"Team",{"$f":"DRAW!$B$34","v":28},"V","Team",{"$f":"DRAW!$H$34","v":0},1,null,"Team",{"$f":"DRAW!$B$34","v":28},"V","Team",{"$f":"DRAW!$J$34","v":0},1,null,"Team",{"$f":"DRAW!$B$34","v":28},"V","Team",{"$f":"DRAW!$L$34","v":0},1,null,"Team",{"$f":"DRAW!$B$34","v":28},"V","Team",{"$f":"DRAW!$N$34","v":0},1,null,"Team",{"$f":"DRAW!$B$34","v":28},"V","Team",{"$f":"DRAW!$P$34","v":0},1,null,"Team",{"$f":"DRAW!$B$34","v":28},"V","Team",{"$f":"DRAW!$R$34","v":0},1]
[28,"Ends","Shots","Total",null,"Shots","Total",1,"Ends","Shots","Total",null,"Shots","Total",1,"Ends","Shots","Total",null,"Shots","Total",1,"Ends","Shots","Total",null,"Shots","Total",1,"Ends","Shots","Total",null,"Shots","Total",1,"Ends","Shots","Total",null,"Shots","Total",1,"Ends","Shots","Total",null,"Shots","Total",1,"Ends","Shots","Total",null,"shots","Total",1]
[28,1,{"$nulls":5},1,1,{"$nulls":5},1,1,{"$nulls":5},1,1,{"$nulls":5},1,1,{"$nulls":5},1,1,{"$nulls":5},1,1,{"$nulls":5},1,1,{"$nulls":5},1]
[28,2,{"$nulls":5},1,2,{"$nulls":5},1,2,{"$nulls":5},1,2,{"$nulls":5},1,2,{"$nulls":5},1,2,{"$nulls":5},1,2,{"$nulls":5},1,2,{"$nulls":5},1]
[28,3,{"$nulls":5},1,3,{"$nulls":5},1,3,{"$nulls":5},1,3,{"$nulls":5},1,3,{"$nulls":5},1,3,{"$nulls":5},1,3,{"$nulls":5},1,3,{"$nulls":5},1]
[28,4,{"$nulls":5},1,4,{"$nulls":5},1,4,{"$nulls":5},1,4,{"$nulls":5},1,4,{"$nulls":5},1,4,{"$nulls":5},1,4,{"$nulls":5},1,4,{"$nulls":5},1]
[28,5,{"$nulls":5},1,5,{"$nulls":5},1,5,{"$nulls":5},1,5,{"$nulls":5},1,5,{"$nulls":5},1,5,{"$nulls":5},1,5,{"$nulls":5},1,5,{"$nulls":5},1]
[28,6,{"$nulls":5},1,6,{"$nulls":5},1,6,{"$nulls":5},1,6,{"$nulls":5},1,6,{"$nulls":5},1,6,{"$nulls":5},1,6,{"$nulls":5},1,6,{"$nulls":5},1]
[28,7,{"$nulls":5},1,7,{"$nulls":5},1,7,{"$nulls":5},1,7,{"$nulls":5},1,7,{"$nulls":5},1,7,{"$nulls":5},1,7,{"$nulls":5},1,7,{"$nulls":5},1]
[28,8,{"$nulls":5},1,8,{"$nulls":5},1,8,{"$nulls":5},1,8,{"$nulls":5},1,8,{"$nulls":5},1,8,{"$nulls":5},1,8,{"$nulls":5},1,8,{"$nulls":5},1]
[28,9,{"$nulls":5},1,9,{"$nulls":5},1,9,{"$nulls":5},1,9,{"$nulls":5},1,9,{"$nulls":5},1,9,{"$nulls":5},1,9,{"$nulls":5},1,9,{"$nulls":5},1]
[28,10,{"$nulls":5},1,10,{"$nulls":5},1,10,{"$nulls":5},1,10,{"$nulls":5},1,10,{"$nulls":5},1,10,{"$nulls":5},1,10,{"$nulls":5},1,10,{"$nulls":5},1]
[28,11,{"$nulls":5},1,11,{"$nulls":5},1,11,{"$nulls":5},1,11,{"$nulls":5},1,11,{"$nulls":5},1,11,{"$nulls":5},1,11,{"$nulls":5},1,11,{"$nulls":5},1]
[28,12,{"$nulls":5},1,12,{"$nulls":5},1,12,{"$nulls":5},1,12,{"$nulls":5},1,12,{"$nulls":5},1,12,{"$nulls":5},1,12,{"$nulls":5},1,12,{"$nulls":5},1]
[28,13,{"$nulls":5},1,13,{"$nulls":5},1,13,{"$nulls":5},1,13,{"$nulls":5},1,13,{"$nulls":5},1,13,{"$nulls":5},1,13,{"$nulls":5},1,13,{"$nulls":5},1]
[28,14,{"$nulls":5},1,14,{"$nulls":5},1,14,{"$nulls":5},1,14,{"$nulls":5},1,14,{"$nulls":5},1,14,{"$nulls":5},1,14,{"$nulls":5},1,14,{"$nulls":5},1]
[28,15,{"$nulls":5},1,15,{"$nulls":5},1,15,{"$nulls":5},1,15,{"$nulls":5},1,15,{"$nulls":5},1,15,{"$nulls":5},1,15,{"$nulls":5},1,15,{"$nulls":5},1]
[28,16,{"$nulls":5},1,16,{"$nulls":5},1,16,{"$nulls":5},1,16,{"$nulls":5},1,16,{"$nulls":5},1,16,{"$nulls":5},1,16,{"$nulls":5},1,16,{"$nulls":5},1]
[28,17,{"$nulls":5},1,17,{"$nulls":5},1,17,{"$nulls":5},1,17,{"$nulls":5},1,17,{"$nulls":5},1,17,{"$nulls":5},1,17,{"$nulls":5},1,17,{"$nulls":5},1]
[28,18,{"$nulls":5},1,18,{"$nulls":5},1,18,{"$nulls":5},1,18,{"$nulls":5},1,18,{"$nulls":5},1,18,{"$nulls":5},1,18,{"$nulls":5},1,18,{"$nulls":5},1]
[28,"Total","Shots",null,null,"Shots",null,1,"Total","Shots",null,null,"Shots",null,1,"Total","Shots",null,null,"Shots",null,1,"Total","Shots",null,null,"Shots",null,1,"Total","Shots",null,null,"Shots",null,1,"Total","Shots",null,null,"Shots",null,1,"Total","Shots",null,null,"Shots",null,1,"Total","Shots",null,null,"shots",null,1]
[28,null,"Ends",null,null,"Ends",null,1,null,"Ends",null,null,"Ends",null,1,null,"Ends",null,null,"Ends",null,1,null,"Ends",null,null,"Ends",null,1,null,"Ends",null,null,"Ends",null,1,null,"Ends",null,null,"Ends",null,1,null,"Ends",null,null,"Ends",null,1,null,"Ends",null,null,"Ends",null,1]
[28,"1st Game ",{"$nulls":5},1,"2nd Game ",{"$nulls":5},1,"3rd Game ",{"$nulls":5},1,"4th Game",{"$nulls":5},1,"5th Game",{"$nulls":5},1,"6th Game",{"$nulls":5},1,"7th Game",{"$nulls":5},1,"8th Game",{"$nulls":5},1]
[28,"Team No",null,null,"Rink No",null,null,1,{"$f":"VLOOKUP(A732,Sheet1!$B$7:'Sheet1'!C48,2,0)","v":0},null,null,"Rink No",null,null,1,{"$f":"VLOOKUP(A732,Sheet1!$B$7:'Sheet1'!C48,2,0)","v":0},null,null,"Rink No",null,null,1,{"$f":"VLOOKUP(A732,Sheet1!$B$7:'Sheet1'!C48,2,0)","v":0},null,null,"Rink No",null,null,1,{"$f":"VLOOKUP(A732,Sheet1!$B$7:'Sheet1'!C48,2,0)","v":0},null,null,"Rink No",null,null,1,{"$f":"VLOOKUP(A732,Sheet1!$B$7:'Sheet1'!C48,2,0)","v":0},null,null,"Rink No",null,null,1,{"$f":"VLOOKUP(A732,Sheet1!$B$7:'Sheet1'!C48,2,0)","v":0},null,null,"Rink No",null,null,1,{"$f":"VLOOKUP(A732,Sheet1!$B$7:'Sheet1'!C48,2,0)","v":0},null,null,"Rink No",null,null,1]
[28,{"$nulls":6},1,{"$nulls":6},1,{"$nulls":6},1,{"$nulls":6},1,{"$nulls":6},1,{"$nulls":6},1,{"$nulls":6},1,{"$nulls":6},1]
[29,{"$f":"DRAW!$B$35","v":29},null,null,{"$f":"DRAW!$E$35","v":15},null,null,1,{"$nulls":3},{"$f":"DRAW!$G$35","v":0},null,null,1,{"$f":"DRAW!$B$35","v":29},null,null,{"$f":"DRAW!$I$35","v":0},null,null,1,{"$f":"DRAW!$B$35","v":29},null,null,{"$f":"DRAW!$K$35","v":0},null,null,1,{"$f":"DRAW!$B$35","v":29},null,null,{"$f":"DRAW!$M$35","v":0},null,null,1,{"$f":"DRAW!$B$35","v":29},null,null,{"$f":"DRAW!$O$35","v":0},null,null,1,{"$f":"DRAW!$B$35","v":29},null,null,{"$f":"DRAW!$Q$35","v":0},null,null,1,{"$f":"DRAW!$B$35","v":29},null,null,{"$f":"DRAW!$S$35","v":0},null,null,1]
[29,null,"Team",{"$f":"DRAW!$B$35","v":29},"V","Team",{"$f":"DRAW!$D$35","v":30},1,null,"Team",{"$f":"DRAW!$B$35","v":29},"V","Team",{"$f":"DRAW!$F$35","v":0},1,null,"Team",{"$f":"DRAW!$B$35","v":29},"V","Team",{"$f":"DRAW!$H$35","v":0},1,null,"Team",{"$f":"DRAW!$B$35","v":29},"V","Team",{"$f":"DRAW!$J$35","v":0},1,null,"Team",{"$f":"DRAW!$B$35","v":29},"V","Team",{"$f":"DRAW!$L$35","v":0},1,null,"Team",{"$f":"DRAW!$B$35","v":29},"V","Team",{"$f":"DRAW!$N$35","v":0},1,null,"Team",{"$f":"DRAW!$B$35","v":29},"V","Team",{"$f":"DRAW!$P$35","v":0},1,null,"Team",{"$f":"DRAW!$B$35","v":29},"V","Team",{"$f":"DRAW!$R$35","v":0},1]
[29,"Ends","Shots","Total",null,"Shots","Total",1,"Ends","Shots","Total",null,"Shots","Total",1,"Ends","Shots","Total",null,"Shots","Total",1,"Ends","Shots","Total",null,"Shots","Total",1,"Ends","Shots","Total",null,"Shots","Total",1,"Ends","Shots","Total",null,"Shots","Total",1,"Ends","Shots","Total",null,"Shots","Total",1,"Ends","Shots","Total",null,"shots","Total",1]
[29,1,{"$nulls":5},1,1,{"$nulls":5},1,1,{"$nulls":5},1,1,{"$nulls":5},1,1,{"$nulls":5},1,1,{"$nulls":5},1,1,{"$nulls":5},1,1,{"$nulls":5},1]
[29,2,{"$nulls":5},1,2,{"$nulls":5},1,2,{"$nulls":5},1,2,{"$nulls":5},1,2,{"$nulls":5},1,2,{"$nulls":5},1,2,{"$nulls":5},1,2,{"$nulls":5},1]
[29,3,{"$nulls":5},1,3,{"$nulls":5},1,3,{"$nulls":5},1,3,{"$nulls":5},1,3,{"$nulls":5},1,3,{"$nulls":5},1,3,{"$nulls":5},1,3,{"$nulls":5},1]
[29,4,{"$nulls":5},1,4,{"$nulls":5},1,4,{"$nulls":5},1,4,{"$nulls":5},1,4,{"$nulls":5},1,4,{"$nulls":5},1,4,{"$nulls":5},1,4,{"$nulls":5},1]
[29,5,{"$nulls":5},1,5,{"$nulls":5},1,5,{"$nulls":5},1,5,{"$nulls":5},1,5,{"$nulls":5},1,5,{"$nulls":5},1,5,{"$nulls":5},1,5,{"$nulls":5},1]
[29,6,{"$nulls":5},1,6,{"$nulls":5},1,6,{"$nulls":5},1,6,{"$nulls":5},1,6,{"$nulls":5},1,6,{"$nulls":5},1,6,{"$nulls":5},1,6,{"$nulls":5},1]
[29,7,{"$nulls":5},1,7,{"$nulls":5},1,7,{"$nulls":5},1,7,{"$nulls":5},1,7,{"$nulls":5},1,7,{"$nulls":5},1,7,{"$nulls":5},1,7,{"$nulls":5},1]
[29,8,{"$nulls":5},1,8,{"$nulls":5},1,8,{"$nulls":5},1,8,{"$nulls":5},1,8,{"$nulls":5},1,8,{"$nulls":5},1,8,{"$nulls":5},1,8,{"$nulls":5},1]
[29,9,{"$nulls":5},1,9,{"$nulls":5},1,9,{"$nulls":5},1,9,{"$nulls":5},1,9,{"$nulls":5},1,9,{"$nulls":5},1,9,{"$nulls":5},1,9,{"$nulls":5},1]
[29,10,{"$nulls":5},1,10,{"$nulls":5},1,10,{"$nulls":5},1,10,{"$nulls":5},1,10,{"$nulls":5},1,10,{"$nulls":5},1,10,{"$nulls":5},1,10,{"$nulls":5},1]
[29,11,{"$nulls":5},1,11,{"$nulls":5},1,11,{"$nulls":5},1,11,{"$nulls":5},1,11,{"$nulls":5},1,11,{"$nulls":5},1,11,{"$nulls":5},1,11,{"$nulls":5},1]
[29,12,{"$nulls":5},1,12,{"$nulls":5},1,12,{"$nulls":5},1,12,{"$nulls":5},1,12,{"$nulls":5},1,12,{"$nulls":5},1,12,{"$nulls":5},1,12,{"$nulls":5},1]
[29,13,{"$nulls":5},1,13,{"$nulls":5},1,13,{"$nulls":5},1,13,{"$nulls":5},1,13,{"$nulls":5},1,13,{"$nulls":5},1,13,{"$nulls":5},1,13,{"$nulls":5},1]
[29,14,{"$nulls":5},1,14,{"$nulls":5},1,14,{"$nulls":5},1,14,{"$nulls":5},1,14,{"$nulls":5},1,14,{"$nulls":5},1,14,{"$nulls":5},1,14,{"$nulls":5},1]
[29,15,{"$nulls":5},1,15,{"$nulls":5},1,15,{"$nulls":5},1,15,{"$nulls":5},1,15,{"$nulls":5},1,15,{"$nulls":5},1,15,{"$nulls":5},1,15,{"$nulls":5},1]
[29,16,{"$nulls":5},1,16,{"$nulls":5},1,16,{"$nulls":5},1,16,{"$nulls":5},1,16,{"$nulls":5},1,16,{"$nulls":5},1,16,{"$nulls":5},1,16,{"$nulls":5},1]
[29,17,{"$nulls":5},1,17,{"$nulls":5},1,17,{"$nulls":5},1,17,{"$nulls":5},1,17,{"$nulls":5},1,17,{"$nulls":5},1,17,{"$nulls":5},1,17,{"$nulls":5},1]
[29,18,{"$nulls":5},1,18,{"$nulls":5},1,18,{"$nulls":5},1,18,{"$nulls":5},1,18,{"$nulls":5},1,18,{"$nulls":5},1,18,{"$nulls":5},1,18,{"$nulls":5},1]
[29,"Total","Shots",null,null,"Shots",null,1,"Total","Shots",null,null,"Shots",null,1,"Total","Shots",null,null,"Shots",null,1,"Total","Shots",null,null,"Shots",null,1,"Total","Shots",null,null,"Shots",null,1,"Total","Shots",null,null,"Shots",null,1,"Total","Shots",null,null,"Shots",null,1,"Total","Shots",null,null,"shots",null,1]
[29,null,"Ends",null,null,"Ends",null,1,null,"Ends",null,null,"Ends",null,1,null,"Ends",null,null,"Ends",null,1,null,"Ends",null,null,"Ends",null,1,null,"Ends",null,null,"Ends",null,1,null,"Ends",null,null,"Ends",null,1,null,"Ends",null,null,"Ends",null,1,null,"Ends",null,null,"Ends",null,1]
[29,"1st Game ",{"$nulls":5},1,"2nd Game ",{"$nulls":5},1,"3rd Game ",{"$nulls":5},1,"4th Game",{"$nulls":5},1,"5th Game",{"$nulls":5},1,"6th Game",{"$nulls":5},1,"7th Game",{"$nulls":5},1,"8th Game",{"$nulls":5},1]
[29,"Team No",null,null,"Rink No",null,null,1,{"$f":"VLOOKUP(A758,Sheet1!$B$7:'Sheet1'!C48,2,0)","v":0},null,null,"Rink No",null,null,1,{"$f":"VLOOKUP(A758,Sheet1!$B$7:'Sheet1'!C48,2,0)","v":0},null,null,"Rink No",null,null,1,{"$f":"VLOOKUP(A758,Sheet1!$B$7:'Sheet1'!C48,2,0)","v":0},null,null,"Rink No",null,null,1,{"$f":"VLOOKUP(A758,Sheet1!$B$7:'Sheet1'!C48,2,0)","v":0},null,null,"Rink No",null,null,1,{"$f":"VLOOKUP(A758,Sheet1!$B$7:'Sheet1'!C48,2,0)","v":0},null,null,"Rink No",null,null,1,{"$f":"VLOOKUP(A758,Sheet1!$B$7:'Sheet1'!C48,2,0)","v":0},null,null,"Rink No",null,null,1,{"$f":"VLOOKUP(A758,Sheet1!$B$7:'Sheet1'!C48,2,0)","v":0},null,null,"Rink No",null,null,1]
[29,{"$nulls":6},1,{"$nulls":6},1,{"$nulls":6},1,{"$nulls":6},1,{"$nulls":6},1,{"$nulls":6},1,{"$nulls":6},1,{"$nulls":6},1]
[30,{"$f":"DRAW!$B$36","v":30},null,null,{"$f":"DRAW!$E$36","v":15},null,null,1,{"$nulls":3},{"$f":"DRAW!$G$36","v":0},null,null,1,{"$f":"DRAW!$B$36","v":30},null,null,{"$f":"DRAW!$I$36","v":0},null,null,1,{"$f":"DRAW!$B$36","v":30},null,null,{"$f":"DRAW!$K$36","v":0},null,null,1,{"$f":"DRAW!$B$36","v":30},null,null,{"$f":"DRAW!$M$36","v":0},null,null,1,{"$f":"DRAW!$B$36","v":30},null,null,{"$f":"DRAW!$O$36","v":0},null,null,1,{"$f":"DRAW!$B$36","v":30},null,null,{"$f":"DRAW!$Q$36","v":0},null,null,1,{"$f":"DRAW!$B$36","v":30},null,null,{"$f":"DRAW!$S$36","v":0},null,null,1]
[30,null,"Team",{"$f":"DRAW!$B$36","v":30},"V","Team",{"$f":"DRAW!$D$36","v":29},1,null,"Team",{"$f":"DRAW!$B$36","v":30},"V","Team",{"$f":"DRAW!$F$36","v":0},1,null,"Team",{"$f":"DRAW!$B$36","v":30},"V","Team",{"$f":"DRAW!$H$36","v":0},1,null,"Team",{"$f":"DRAW!$B$36","v":30},"V","Team",{"$f":"DRAW!$J$36","v":0},1,null,"Team",{"$f":"DRAW!$B$36","v":30},"V","Team",{"$f":"DRAW!$L$36","v":0},1,null,"Team",{"$f":"DRAW!$B$36","v":30},"V","Team",{"$f":"DRAW!$N$36","v":0},1,null,"Team",{"$f":"DRAW!$B$36","v":30},"V","Team",{"$f":"DRAW!$P$36","v":0},1,null,"Team",{"$f":"DRAW!$B$36","v":30},"V","Team",{"$f":"DRAW!$R$36","v":0},1]
[30,"Ends","Shots","Total",null,"Shots","Total",1,"Ends","Shots","Total",null,"Shots","Total",1,"Ends","Shots","Total",null,"Shots","Total",1,"Ends","Shots","Total",null,"Shots","Total",1,"Ends","Shots","Total",null,"Shots","Total",1,"Ends","Shots","Total",null,"Shots","Total",1,"Ends","Shots","Total",null,"Shots","Total",1,"Ends","Shots","Total",null,"shots","Total",1]
[30,1,{"$nulls":5},1,1,{"$nulls":5},1,1,{"$nulls":5},1,1,{"$nulls":5},1,1,{"$nulls":5},1,1,{"$nulls":5},1,1,{"$nulls":5},1,1,{"$nulls":5},1]
[30,2,{"$nulls":5},1,2,{"$nulls":5},1,2,{"$nulls":5},1,2,{"$nulls":5},1,2,{"$nulls":5},1,2,{"$nulls":5},1,2,{"$nulls":5},1,2,{"$nulls":5},1]
[30,3,{"$nulls":5},1,3,{"$nulls":5},1,3,{"$nulls":5},1,3,{"$nulls":5},1,3,{"$nulls":5},1,3,{"$nulls":5},1,3,{"$nulls":5},1,3,{"$nulls":5},1]
[30,4,{"$nulls":5},1,4,{"$nulls":5},1,4,{"$nulls":5},1,4,{"$nulls":5},1,4,{"$nulls":5},1,4,{"$nulls":5},1,4,{"$nulls":5},1,4,{"$nulls":5},1]
[30,5,{"$nulls":5},1,5,{"$nulls":5},1,5,{"$nulls":5},1,5,{"$nulls":5},1,5,{"$nulls":5},1,5,{"$nulls":5},1,5,{"$nulls":5},1,5,{"$nulls":5},1]
[30,6,{"$nulls":5},1,6,{"$nulls":5},1,6,{"$nulls":5},1,6,{"$nulls":5},1,6,{"$nulls":5},1,6,{"$nulls":5},1,6,{"$nulls":5},1,6,{"$nulls":5},1]
[30,7,{"$nulls":5},1,7,{"$nulls":5},1,7,{"$nulls":5},1,7,{"$nulls":5},1,7,{"$nulls":5},1,7,{"$nulls":5},1,7,{"$nulls":5},1,7,{"$nulls":5},1]
[30,8,{"$nulls":5},1,8,{"$nulls":5},1,8,{"$nulls":5},1,8,{"$nulls":5},1,8,{"$nulls":5},1,8,{"$nulls":5},1,8,{"$nulls":5},1,8,{"$nulls":5},1]
[30,9,{"$nulls":5},1,9,{"$nulls":5},1,9,{"$nulls":5},1,9,{"$nulls":5},1,9,{"$nulls":5},1,9,{"$nulls":5},1,9,{"$nulls":5},1,9,{"$nulls":5},1]
[30,10,{"$nulls":5},1,10,{"$nulls":5},1,10,{"$nulls":5},1,10,{"$nulls":5},1,10,{"$nulls":5},1,10,{"$nulls":5},1,10,{"$nulls":5},1,10,{"$nulls":5},1]
[30,11,{"$nulls":5},1,11,{"$nulls":5},1,11,{"$nulls":5},1,11,{"$nulls":5},1,11,{"$nulls":5},1,11,{"$nulls":5},1,11,{"$nulls":5},1,11,{"$nulls":5},1]
[30,12,{"$nulls":5},1,12,{"$nulls":5},1,12,{"$nulls":5},1,12,{"$nulls":5},1,12,{"$nulls":5},1,12,{"$nulls":5},1,12,{"$nulls":5},1,12,{"$nulls":5},1]
[30,13,{"$nulls":5},1,13,{"$nulls":5},1,13,{"$nulls":5},1,13,{"$nulls":5},1,13,{"$nulls":5},1,13,{"$nulls":5},1,13,{"$nulls":5},1,13,{"$nulls":5},1]
[30,14,{"$nulls":5},1,14,{"$nulls":5},1,14,{"$nulls":5},1,14,{"$nulls":5},1,14,{"$nulls":5},1,14,{"$nulls":5},1,14,{"$nulls":5},1,14,{"$nulls":5},1]
[30,15,{"$nulls":5},1,15,{"$nulls":5},1,15,{"$nulls":5},1,15,{"$nulls":5},1,15,{"$nulls":5},1,15,{"$nulls":5},1,15,{"$nulls":5},1,15,{"$nulls":5},1]
[30,16,{"$nulls":5},1,16,{"$nulls":5},1,16,{"$nulls":5},1,16,{"$nulls":5},1,16,{"$nulls":5},1,16,{"$nulls":5},1,16,{"$nulls":5},1,16,{"$nulls":5},1]
[30,17,{"$nulls":5},1,17,{"$nulls":5},1,17,{"$nulls":5},1,17,{"$nulls":5},1,17,{"$nulls":5},1,17,{"$nulls":5},1,17,{"$nulls":5},1,17,{"$nulls":5},1]
[30,18,{"$nulls":5},1,18,{"$nulls":5},1,18,{"$nulls":5},1,18,{"$nulls":5},1,18,{"$nulls":5},1,18,{"$nulls":5},1,18,{"$nulls":5},1,18,{"$nulls":5},1]
[30,"Total","Shots",null,null,"Shots",null,1,"Total","Shots",null,null,"Shots",null,1,"Total","Shots",null,null,"Shots",null,1,"Total","Shots",null,null,"Shots",null,1,"Total","Shots",null,null,"Shots",null,1,"Total","Shots",null,null,"Shots",null,1,"Total","Shots",null,null,"Shots",null,1,"Total","Shots",null,null,"shots",null,1]
[30,null,"Ends",null,null,"Ends",null,1,null,"Ends",null,null,"Ends",null,1,null,"Ends",null,null,"Ends",null,1,null,"Ends",null,null,"Ends",null,1,null,"Ends",null,null,"Ends",null,1,null,"Ends",null,null,"Ends",null,1,null,"Ends",null,null,"Ends",null,1,null,"Ends",null,null,"Ends",null,1]
[30,"1st Game ",{"$nulls":5},1,"2nd Game ",{"$nulls":5},1,"3rd Game ",{"$nulls":5},1,"4th Game",{"$nulls":5},1,"5th Game",{"$nulls":5},1,"6th Game",{"$nulls":5},1,"7th Game",{"$nulls":5},1,"8th Game",{"$nulls":5},1]
[30,"Team No",null,null,"Rink No",null,null,1,{"$f":"VLOOKUP(A784,Sheet1!$B$7:'Sheet1'!C48,2,0)","v":0},null,null,"Rink No",null,null,1,{"$f":"VLOOKUP(A784,Sheet1!$B$7:'Sheet1'!C48,2,0)","v":0},null,null,"Rink No",null,null,1,{"$f":"VLOOKUP(A784,Sheet1!$B$7:'Sheet1'!C48,2,0)","v":0},null,null,"Rink No",null,null,1,{"$f":"VLOOKUP(A784,Sheet1!$B$7:'Sheet1'!C48,2,0)","v":0},null,null,"Rink No",null,null,1,{"$f":"VLOOKUP(A784,Sheet1!$B$7:'Sheet1'!C48,2,0)","v":0},null,null,"Rink No",null,null,1,{"$f":"VLOOKUP(A784,Sheet1!$B$7:'Sheet1'!C48,2,0)","v":0},null,null,"Rink No",null,null,1,{"$f":"VLOOKUP(A784,Sheet1!$B$7:'Sheet1'!C48,2,0)","v":0},null,null,"Rink No",null,null,1]
[30,{"$nulls":6},1,{"$nulls":6},1,{"$nulls":6},1,{"$nulls":6},1,{"$nulls":6},1,{"$nulls":6},1,{"$nulls":6},1,{"$nulls":6},1]
[31,{"$f":"DRAW!$B$37","v":31},null,null,{"$f":"DRAW!$E$37","v":16},null,null,1,{"$nulls":3},{"$f":"DRAW!$G$37","v":0},null,null,1,{"$f":"DRAW!$B$37","v":31},null,null,{"$f":"DRAW!$I$37","v":0},null,null,1,{"$f":"DRAW!$B$37","v":31},null,null,{"$f":"DRAW!$K$37","v":0},null,null,1,{"$f":"DRAW!$B$37","v":31},null,null,{"$f":"DRAW!$M$37","v":0},null,null,1,{"$f":"DRAW!$B$37","v":31},null,null,{"$f":"DRAW!$O$37","v":0},null,null,1,{"$f":"DRAW!$B$37","v":31},null,null,{"$f":"DRAW!$Q$37","v":0},null,null,1,{"$f":"DRAW!$B$37","v":31},null,null,{"$f":"DRAW!$S$37","v":0},null,null,1]
[31,null,"Team",{"$f":"DRAW!$B$37","v":31},"V","Team",{"$f":"DRAW!$D$37","v":42},1,null,"Team",{"$f":"DRAW!$B$37","v":31},"V","Team",{"$f":"DRAW!$F$37","v":0},1,null,"Team",{"$f":"DRAW!$B$37","v":31},"V","Team",{"$f":"DRAW!$H$37","v":0},1,null,"Team",{"$f":"DRAW!$B$37","v":31},"V","Team",{"$f":"DRAW!$J$37","v":0},1,null,"Team",{"$f":"DRAW!$B$37","v":31},"V","Team",{"$f":"DRAW!$L$37","v":0},1,null,"Team",{"$f":"DRAW!$B$37","v":31},"V","Team",{"$f":"DRAW!$N$37","v":0},1,null,"Team",{"$f":"DRAW!$B$37","v":31},"V","Team",{"$f":"DRAW!$P$37","v":0},1,null,"Team",{"$f":"DRAW!$B$37","v":31},"V","Team",{"$f":"DRAW!$R$37","v":0},1]
[31,"Ends","Shots","Total",null,"Shots","Total",1,"Ends","Shots","Total",null,"Shots","Total",1,"Ends","Shots","Total",null,"Shots","Total",1,"Ends","Shots","Total",null,"Shots","Total",1,"Ends","Shots","Total",null,"Shots","Total",1,"Ends","Shots","Total",null,"Shots","Total",1,"Ends","Shots","Total",null,"Shots","Total",1,"Ends","Shots","Total",null,"shots","Total",1]
[31,1,{"$nulls":5},1,1,{"$nulls":5},1,1,{"$nulls":5},1,1,{"$nulls":5},1,1,{"$nulls":5},1,1,{"$nulls":5},1,1,{"$nulls":5},1,1,{"$nulls":5},1]
[31,2,{"$nulls":5},1,2,{"$nulls":5},1,2,{"$nulls":5},1,2,{"$nulls":5},1,2,{"$nulls":5},1,2,{"$nulls":5},1,2,{"$nulls":5},1,2,{"$nulls":5},1]
[31,3,{"$nulls":5},1,3,{"$nulls":5},1,3,{"$nulls":5},1,3,{"$nulls":5},1,3,{"$nulls":5},1,3,{"$nulls":5},1,3,{"$nulls":5},1,3,{"$nulls":5},1]
[31,4,{"$nulls":5},1,4,{"$nulls":5},1,4,{"$nulls":5},1,4,{"$nulls":5},1,4,{"$nulls":5},1,4,{"$nulls":5},1,4,{"$nulls":5},1,4,{"$nulls":5},1]
[31,5,{"$nulls":5},1,5,{"$nulls":5},1,5,{"$nulls":5},1,5,{"$nulls":5},1,5,{"$nulls":5},1,5,{"$nulls":5},1,5,{"$nulls":5},1,5,{"$nulls":5},1]
[31,6,{"$nulls":5},1,6,{"$nulls":5},1,6,{"$nulls":5},1,6,{"$nulls":5},1,6,{"$nulls":5},1,6,{"$nulls":5},1,6,{"$nulls":5},1,6,{"$nulls":5},1]
[31,7,{"$nulls":5},1,7,{"$nulls":5},1,7,{"$nulls":5},1,7,{"$nulls":5},1,7,{"$nulls":5},1,7,{"$nulls":5},1,7,{"$nulls":5},1,7,{"$nulls":5},1]
[31,8,{"$nulls":5},1,8,{"$nulls":5},1,8,{"$nulls":5},1,8,{"$nulls":5},1,8,{"$nulls":5},1,8,{"$nulls":5},1,8,{"$nulls":5},1,8,{"$nulls":5},1]
[31,9,{"$nulls":5},1,9,{"$nulls":5},1,9,{"$nulls":5},1,9,{"$nulls":5},1,9,{"$nulls":5},1,9,{"$nulls":5},1,9,{"$nulls":5},1,9,{"$nulls":5},1]
[31,10,{"$nulls":5},1,10,{"$nulls":5},1,10,{"$nulls":5},1,10,{"$nulls":5},1,10,{"$nulls":5},1,10,{"$nulls":5},1,10,{"$nulls":5},1,10,{"$nulls":5},1]
[31,11,{"$nulls":5},1,11,{"$nulls":5},1,11,{"$nulls":5},1,11,{"$nulls":5},1,11,{"$nulls":5},1,11,{"$nulls":5},1,11,{"$nulls":5},1,11,{"$nulls":5},1]
[31,12,{"$nulls":5},1,12,{"$nulls":5},1,12,{"$nulls":5},1,12,{"$nulls":5},1,12,{"$nulls":5},1,12,{"$nulls":5},1,12,{"$nulls":5},1,12,{"$nulls":5},1]
[31,13,{"$nulls":5},1,13,{"$nulls":5},1,13,{"$nulls":5},1,13,{"$nulls":5},1,13,{"$nulls":5},1,13,{"$nulls":5},1,13,{"$nulls":5},1,13,{"$nulls":5},1]
[31,14,{"$nulls":5},1,14,{"$nulls":5},1,14,{"$nulls":5},1,14,{"$nulls":5},1,14,{"$nulls":5},1,14,{"$nulls":5},1,14,{"$nulls":5},1,14,{"$nulls":5},1]
[31,15,{"$nulls":5},1,15,{"$nulls":5},1,15,{"$nulls":5},1,15,{"$nulls":5},1,15,{"$nulls":5},1,15,{"$nulls":5},1,15,{"$nulls":5},1,15,{"$nulls":5},1]
[31,16,{"$nulls":5},1,16,{"$nulls":5},1,16,{"$nulls":5},1,16,{"$nulls":5},1,16,{"$nulls":5},1,16,{"$nulls":5},1,16,{"$nulls":5},1,16,{"$nulls":5},1]
[31,17,{"$nulls":5},1,17,{"$nulls":5},1,17,{"$nulls":5},1,17,{"$nulls":5},1,17,{"$nulls":5},1,17,{"$nulls":5},1,17,{"$nulls":5},1,17,{"$nulls":5},1]
[31,18,{"$nulls":5},1,18,{"$nulls":5},1,18,{"$nulls":5},1,18,{"$nulls":5},1,18,{"$nulls":5},1,18,{"$nulls":5},1,18,{"$nulls":5},1,18,{"$nulls":5},1]
[31,"Total","Shots",null,null,"Shots",null,1,"Total","Shots",null,null,"Shots",null,1,"Total","Shots",null,null,"Shots",null,1,"Total","Shots",null,null,"Shots",null,1,"Total","Shots",null,null,"Shots",null,1,"Total","Shots",null,null,"Shots",null,1,"Total","Shots",null,null,"Shots",null,1,"Total","Shots",null,null,"shots",null,1]
[31,null,"Ends",null,null,"Ends",null,1,null,"Ends",null,null,"Ends",null,1,null,"Ends",null,null,"Ends",null,1,null,"Ends",null,null,"Ends",null,1,null,"Ends",null,null,"Ends",null,1,null,"Ends",null,null,"Ends",null,1,null,"Ends",null,null,"Ends",null,1,null,"Ends",null,null,"Ends",null,1]
[31,"1st Game ",{"$nulls":5},1,"2nd Game ",{"$nulls":5},1,"3rd Game ",{"$nulls":5},1,"4th Game",{"$nulls":5},1,"5th Game",{"$nulls":5},1,"6th Game",{"$nulls":5},1,"7th Game",{"$nulls":5},1,"8th Game",{"$nulls":5},1]
[31,"Team No",null,null,"Rink No",null,null,1,{"$f":"VLOOKUP(A810,Sheet1!$B$7:'Sheet1'!C48,2,0)","v":0},null,null,"Rink No",null,null,1,{"$f":"VLOOKUP(A810,Sheet1!$B$7:'Sheet1'!C48,2,0)","v":0},null,null,"Rink No",null,null,1,{"$f":"VLOOKUP(A810,Sheet1!$B$7:'Sheet1'!C48,2,0)","v":0},null,null,"Rink No",null,null,1,{"$f":"VLOOKUP(A810,Sheet1!$B$7:'Sheet1'!C48,2,0)","v":0},null,null,"Rink No",null,null,1,{"$f":"VLOOKUP(A810,Sheet1!$B$7:'Sheet1'!C48,2,0)","v":0},null,null,"Rink No",null,null,1,{"$f":"VLOOKUP(A810,Sheet1!$B$7:'Sheet1'!C48,2,0)","v":0},null,null,"Rink No",null,null,1,{"$f":"VLOOKUP(A810,Sheet1!$B$7:'Sheet1'!C48,2,0)","v":0},null,null,"Rink No",null,null,1]
[31,{"$nulls":6},1,{"$nulls":6},1,{"$nulls":6},1,{"$nulls":6},1,{"$nulls":6},1,{"$nulls":6},1,{"$nulls":6},1,{"$nulls":6},1]
[32,{"$f":"DRAW!$B$38","v":32},null,null,{"$f":"DRAW!$E$38","v":17},null,null,1,{"$nulls":3},{"$f":"DRAW!$G$38","v":0},null,null,1,{"$f":"DRAW!$B$38","v":32},null,null,{"$f":"DRAW!$I$38","v":0},null,null,1,{"$f":"DRAW!$B$38","v":32},null,null,{"$f":"DRAW!$K$38","v":0},null,null,1,{"$f":"DRAW!$B$38","v":32},null,null,{"$f":"DRAW!$M$38","v":0},null,null,1,{"$f":"DRAW!$B$38","v":32},null,null,{"$f":"DRAW!$O$38","v":0},null,null,1,{"$f":"DRAW!$B$38","v":32},null,null,{"$f":"DRAW!$Q$38","v":0},null,null,1,{"$f":"DRAW!$B$38","v":32},null,null,{"$f":"DRAW!$S$38","v":0},null,null,1]
[32,null,"Team",{"$f":"DRAW!$B$38","v":32},"V","Team",{"$f":"DRAW!$D$38","v":41},1,null,"Team",{"$f":"DRAW!$B$38","v":32},"V","Team",{"$f":"DRAW!$F$38","v":0},1,null,"Team",{"$f":"DRAW!$B$38","v":32},"V","Team",{"$f":"DRAW!$H$38","v":0},1,null,"Team",{"$f":"DRAW!$B$38","v":32},"V","Team",{"$f":"DRAW!$J$38","v":0},1,null,"Team",{"$f":"DRAW!$B$38","v":32},"V","Team",{"$f":"DRAW!$L$38","v":0},1,null,"Team",{"$f":"DRAW!$B$38","v":32},"V","Team",{"$f":"DRAW!$N$38","v":0},1,null,"Team",{"$f":"DRAW!$B$38","v":32},"V","Team",{"$f":"DRAW!$P$38","v":0},1,null,"Team",{"$f":"DRAW!$B$38","v":32},"V","Team",{"$f":"DRAW!$R$38","v":0},1]
[32,"Ends","Shots","Total",null,"Shots","Total",1,"Ends","Shots","Total",null,"Shots","Total",1,"Ends","Shots","Total",null,"Shots","Total",1,"Ends","Shots","Total",null,"Shots","Total",1,"Ends","Shots","Total",null,"Shots","Total",1,"Ends","Shots","Total",null,"Shots","Total",1,"Ends","Shots","Total",null,"Shots","Total",1,"Ends","Shots","Total",null,"shots","Total",1]
[32,1,{"$nulls":5},1,1,{"$nulls":5},1,1,{"$nulls":5},1,1,{"$nulls":5},1,1,{"$nulls":5},1,1,{"$nulls":5},1,1,{"$nulls":5},1,1,{"$nulls":5},1]
[32,2,{"$nulls":5},1,2,{"$nulls":5},1,2,{"$nulls":5},1,2,{"$nulls":5},1,2,{"$nulls":5},1,2,{"$nulls":5},1,2,{"$nulls":5},1,2,{"$nulls":5},1]
[32,3,{"$nulls":5},1,3,{"$nulls":5},1,3,{"$nulls":5},1,3,{"$nulls":5},1,3,{"$nulls":5},1,3,{"$nulls":5},1,3,{"$nulls":5},1,3,{"$nulls":5},1]
[32,4,{"$nulls":5},1,4,{"$nulls":5},1,4,{"$nulls":5},1,4,{"$nulls":5},1,4,{"$nulls":5},1,4,{"$nulls":5},1,4,{"$nulls":5},1,4,{"$nulls":5},1]
[32,5,{"$nulls":5},1,5,{"$nulls":5},1,5,{"$nulls":5},1,5,{"$nulls":5},1,5,{"$nulls":5},1,5,{"$nulls":5},1,5,{"$nulls":5},1,5,{"$nulls":5},1]
[32,6,{"$nulls":5},1,6,{"$nulls":5},1,6,{"$nulls":5},1,6,{"$nulls":5},1,6,{"$nulls":5},1,6,{"$nulls":5},1,6,{"$nulls":5},1,6,{"$nulls":5},1]
[32,7,{"$nulls":5},1,7,{"$nulls":5},1,7,{"$nulls":5},1,7,{"$nulls":5},1,7,{"$nulls":5},1,7,{"$nulls":5},1,7,{"$nulls":5},1,7,{"$nulls":5},1]
[32,8,{"$nulls":5},1,8,{"$nulls":5},1,8,{"$nulls":5},1,8,{"$nulls":5},1,8,{"$nulls":5},1,8,{"$nulls":5},1,8,{"$nulls":5},1,8,{"$nulls":5},1]
[32,9,{"$nulls":5},1,9,{"$nulls":5},1,9,{"$nulls":5},1,9,{"$nulls":5},1,9,{"$nulls":5},1,9,{"$nulls":5},1,9,{"$nulls":5},1,9,{"$nulls":5},1]
[32,10,{"$nulls":5},1,10,{"$nulls":5},1,10,{"$nulls":5},1,10,{"$nulls":5},1,10,{"$nulls":5},1,10,{"$nulls":5},1,10,{"$nulls":5},1,10,{"$nulls":5},1]
[32,11,{"$nulls":5},1,11,{"$nulls":5},1,11,{"$nulls":5},1,11,{"$nulls":5},1,11,{"$nulls":5},1,11,{"$nulls":5},1,11,{"$nulls":5},1,11,{"$nulls":5},1]
[32,12,{"$nulls":5},1,12,{"$nulls":5},1,12,{"$nulls":5},1,12,{"$nulls":5},1,12,{"$nulls":5},1,12,{"$nulls":5},1,12,{"$nulls":5},1,12,{"$nulls":5},1]
[32,13,{"$nulls":5},1,13,{"$nulls":5},1,13,{"$nulls":5},1,13,{"$nulls":5},1,13,{"$nulls":5},1,13,{"$nulls":5},1,13,{"$nulls":5},1,13,{"$nulls":5},1]
[32,14,{"$nulls":5},1,14,{"$nulls":5},1,14,{"$nulls":5},1,14,{"$nulls":5},1,14,{"$nulls":5},1,14,{"$nulls":5},1,14,{"$nulls":5},1,14,{"$nulls":5},1]
[32,15,{"$nulls":5},1,15,{"$nulls":5},1,15,{"$nulls":5},1,15,{"$nulls":5},1,15,{"$nulls":5},1,15,{"$nulls":5},1,15,{"$nulls":5},1,15,{"$nulls":5},1]
[32,16,{"$nulls":5},1,16,{"$nulls":5},1,16,{"$nulls":5},1,16,{"$nulls":5},1,16,{"$nulls":5},1,16,{"$nulls":5},1,16,{"$nulls":5},1,16,{"$nulls":5},1]
[32,17,{"$nulls":5},1,17,{"$nulls":5},1,17,{"$nulls":5},1,17,{"$nulls":5},1,17,{"$nulls":5},1,17,{"$nulls":5},1,17,{"$nulls":5},1,17,{"$nulls":5},1]
[32,18,{"$nulls":5},1,18,{"$nulls":5},1,18,{"$nulls":5},1,18,{"$nulls":5},1,18,{"$nulls":5},1,18,{"$nulls":5},1,18,{"$nulls":5},1,18,{"$nulls":5},1]
[32,"Total","Shots",null,null,"Shots",null,1,"Total","Shots",null,null,"Shots",null,1,"Total","Shots",null,null,"Shots",null,1,"Total","Shots",null,null,"Shots",null,1,"Total","Shots",null,null,"Shots",null,1,"Total","Shots",null,null,"Shots",null,1,"Total","Shots",null,null,"Shots",null,1,"Total","Shots",null,null,"shots",null,1]
[32,null,"Ends",null,null,"Ends",null,1,null,"Ends",null,null,"Ends",null,1,null,"Ends",null,null,"Ends",null,1,null,"Ends",null,null,"Ends",null,1,null,"Ends",null,null,"Ends",null,1,null,"Ends",null,null,"Ends",null,1,null,"Ends",null,null,"Ends",null,1,null,"Ends",null,null,"Ends",null,1]
[32,"1st Game ",{"$nulls":5},1,"2nd Game ",{"$nulls":5},1,"3rd Game ",{"$nulls":5},1,"4th Game",{"$nulls":5},1,"5th Game",{"$nulls":5},1,"6th Game",{"$nulls":5},1,"7th Game",{"$nulls":5},1,"8th Game",{"$nulls":5},1]
[32,"Team No",null,null,"Rink No",null,null,1,{"$f":"VLOOKUP(A836,Sheet1!$B$7:'Sheet1'!C48,2,0)","v":0},null,null,"Rink No",null,null,1,{"$f":"VLOOKUP(A836,Sheet1!$B$7:'Sheet1'!C48,2,0)","v":0},null,null,"Rink No",null,null,1,{"$f":"VLOOKUP(A836,Sheet1!$B$7:'Sheet1'!C48,2,0)","v":0},null,null,"Rink No",null,null,1,{"$f":"VLOOKUP(A836,Sheet1!$B$7:'Sheet1'!C48,2,0)","v":0},null,null,"Rink No",null,null,1,{"$f":"VLOOKUP(A836,Sheet1!$B$7:'Sheet1'!C48,2,0)","v":0},null,null,"Rink No",null,null,1,{"$f":"VLOOKUP(A836,Sheet1!$B$7:'Sheet1'!C48,2,0)","v":0},null,null,"Rink No",null,null,1,{"$f":"VLOOKUP(A836,Sheet1!$B$7:'Sheet1'!C48,2,0)","v":0},null,null,"Rink No",null,null,1]
[32,{"$nulls":6},1,{"$nulls":6},1,{"$nulls":6},1,{"$nulls":6},1,{"$nulls":6},1,{"$nulls":6},1,{"$nulls":6},1,{"$nulls":6},1]
[33,{"$f":"DRAW!$B$39","v":33},null,null,{"$f":"DRAW!$E$39","v":18},null,null,1,{"$nulls":3},{"$f":"DRAW!$G$39","v":0},null,null,1,{"$f":"DRAW!$B$39","v":33},null,null,{"$f":"DRAW!$I$39","v":0},null,null,1,{"$f":"DRAW!$B$39","v":33},null,null,{"$f":"DRAW!$K$39","v":0},null,null,1,{"$f":"DRAW!$B$39","v":33},null,null,{"$f":"DRAW!$M$39","v":0},null,null,1,{"$f":"DRAW!$B$39","v":33},null,null,{"$f":"DRAW!$O$39","v":0},null,null,1,{"$f":"DRAW!$B$39","v":33},null,null,{"$f":"DRAW!$Q$39","v":0},null,null,1,{"$f":"DRAW!$B$39","v":33},null,null,{"$f":"DRAW!$S$39","v":0},null,null,1]
[33,null,"Team",{"$f":"DRAW!$B$39","v":33},"V","Team",{"$f":"DRAW!$D$39","v":40},1,null,"Team",{"$f":"DRAW!$B$39","v":33},"V","Team",{"$f":"DRAW!$F$39","v":0},1,null,"Team",{"$f":"DRAW!$B$39","v":33},"V","Team",{"$f":"DRAW!$H$39","v":0},1,null,"Team",{"$f":"DRAW!$B$39","v":33},"V","Team",{"$f":"DRAW!$J$39","v":0},1,null,"Team",{"$f":"DRAW!$B$39","v":33},"V","Team",{"$f":"DRAW!$L$39","v":0},1,null,"Team",{"$f":"DRAW!$B$39","v":33},"V","Team",{"$f":"DRAW!$N$39","v":0},1,null,"Team",{"$f":"DRAW!$B$39","v":33},"V","Team",{"$f":"DRAW!$P$39","v":0},1,null,"Team",{"$f":"DRAW!$B$39","v":33},"V","Team",{"$f":"DRAW!$R$39","v":0},1]
[33,"Ends","Shots","Total",null,"Shots","Total",1,"Ends","Shots","Total",null,"Shots","Total",1,"Ends","Shots","Total",null,"Shots","Total",1,"Ends","Shots","Total",null,"Shots","Total",1,"Ends","Shots","Total",null,"Shots","Total",1,"Ends","Shots","Total",null,"Shots","Total",1,"Ends","Shots","Total",null,"Shots","Total",1,"Ends","Shots","Total",null,"shots","Total",1]
[33,1,{"$nulls":5},1,1,{"$nulls":5},1,1,{"$nulls":5},1,1,{"$nulls":5},1,1,{"$nulls":5},1,1,{"$nulls":5},1,1,{"$nulls":5},1,1,{"$nulls":5},1]
[33,2,{"$nulls":5},1,2,{"$nulls":5},1,2,{"$nulls":5},1,2,{"$nulls":5},1,2,{"$nulls":5},1,2,{"$nulls":5},1,2,{"$nulls":5},1,2,{"$nulls":5},1]
[33,3,{"$nulls":5},1,3,{"$nulls":5},1,3,{"$nulls":5},1,3,{"$nulls":5},1,3,{"$nulls":5},1,3,{"$nulls":5},1,3,{"$nulls":5},1,3,{"$nulls":5},1]
[33,4,{"$nulls":5},1,4,{"$nulls":5},1,4,{"$nulls":5},1,4,{"$nulls":5},1,4,{"$nulls":5},1,4,{"$nulls":5},1,4,{"$nulls":5},1,4,{"$nulls":5},1]
[33,5,{"$nulls":5},1,5,{"$nulls":5},1,5,{"$nulls":5},1,5,{"$nulls":5},1,5,{"$nulls":5},1,5,{"$nulls":5},1,5,{"$nulls":5},1,5,{"$nulls":5},1]
[33,6,{"$nulls":5},1,6,{"$nulls":5},1,6,{"$nulls":5},1,6,{"$nulls":5},1,6,{"$nulls":5},1,6,{"$nulls":5},1,6,{"$nulls":5},1,6,{"$nulls":5},1]
[33,7,{"$nulls":5},1,7,{"$nulls":5},1,7,{"$nulls":5},1,7,{"$nulls":5},1,7,{"$nulls":5},1,7,{"$nulls":5},1,7,{"$nulls":5},1,7,{"$nulls":5},1]
[33,8,{"$nulls":5},1,8,{"$nulls":5},1,8,{"$nulls":5},1,8,{"$nulls":5},1,8,{"$nulls":5},1,8,{"$nulls":5},1,8,{"$nulls":5},1,8,{"$nulls":5},1]
[33,9,{"$nulls":5},1,9,{"$nulls":5},1,9,{"$nulls":5},1,9,{"$nulls":5},1,9,{"$nulls":5},1,9,{"$nulls":5},1,9,{"$nulls":5},1,9,{"$nulls":5},1]
[33,10,{"$nulls":5},1,10,{"$nulls":5},1,10,{"$nulls":5},1,10,{"$nulls":5},1,10,{"$nulls":5},1,10,{"$nulls":5},1,10,{"$nulls":5},1,10,{"$nulls":5},1]
[33,11,{"$nulls":5},1,11,{"$nulls":5},1,11,{"$nulls":5},1,11,{"$nulls":5},1,11,{"$nulls":5},1,11,{"$nulls":5},1,11,{"$nulls":5},1,11,{"$nulls":5},1]
[33,12,{"$nulls":5},1,12,{"$nulls":5},1,12,{"$nulls":5},1,12,{"$nulls":5},1,12,{"$nulls":5},1,12,{"$nulls":5},1,12,{"$nulls":5},1,12,{"$nulls":5},1]
[33,13,{"$nulls":5},1,13,{"$nulls":5},1,13,{"$nulls":5},1,13,{"$nulls":5},1,13,{"$nulls":5},1,13,{"$nulls":5},1,13,{"$nulls":5},1,13,{"$nulls":5},1]
[33,14,{"$nulls":5},1,14,{"$nulls":5},1,14,{"$nulls":5},1,14,{"$nulls":5},1,14,{"$nulls":5},1,14,{"$nulls":5},1,14,{"$nulls":5},1,14,{"$nulls":5},1]
[33,15,{"$nulls":5},1,15,{"$nulls":5},1,15,{"$nulls":5},1,15,{"$nulls":5},1,15,{"$nulls":5},1,15,{"$nulls":5},1,15,{"$nulls":5},1,15,{"$nulls":5},1]
[33,16,{"$nulls":5},1,16,{"$nulls":5},1,16,{"$nulls":5},1,16,{"$nulls":5},1,16,{"$nulls":5},1,16,{"$nulls":5},1,16,{"$nulls":5},1,16,{"$nulls":5},1]
[33,17,{"$nulls":5},1,17,{"$nulls":5},1,17,{"$nulls":5},1,17,{"$nulls":5},1,17,{"$nulls":5},1,17,{"$nulls":5},1,17,{"$nulls":5},1,17,{"$nulls":5},1]
[33,18,{"$nulls":5},1,18,{"$nulls":5},1,18,{"$nulls":5},1,18,{"$nulls":5},1,18,{"$nulls":5},1,18,{"$nulls":5},1,18,{"$nulls":5},1,18,{"$nulls":5},1]
[33,"Total","Shots",null,null,"Shots",null,1,"Total","Shots",null,null,"Shots",null,1,"Total","Shots",null,null,"Shots",null,1,"Total","Shots",null,null,"Shots",null,1,"Total","Shots",null,null,"Shots",null,1,"Total","Shots",null,null,"Shots",null,1,"Total","Shots",null,null,"Shots",null,1,"Total","Shots",null,null,"shots",null,1]
[33,null,"Ends",null,null,"Ends",null,1,null,"Ends",null,null,"Ends",null,1,null,"Ends",null,null,"Ends",null,1,null,"Ends",null,null,"Ends",null,1,null,"Ends",null,null,"Ends",null,1,null,"Ends",null,null,"Ends",null,1,null,"Ends",null,null,"Ends",null,1,null,"Ends",null,null,"Ends",null,1]
[33,"1st Game ",{"$nulls":5},1,"2nd Game ",{"$nulls":5},1,"3rd Game ",{"$nulls":5},1,"4th Game",{"$nulls":5},1,"5th Game",{"$nulls":5},1,"6th Game",{"$nulls":5},1,"7th Game",{"$nulls":5},1,"8th Game",{"$nulls":5},1]
[33,"Team No",null,null,"Rink No",null,null,1,{"$f":"VLOOKUP(A862,Sheet1!$B$7:'Sheet1'!C48,2,0)","v":0},null,null,"Rink No",null,null,1,{"$f":"VLOOKUP(A862,Sheet1!$B$7:'Sheet1'!C48,2,0)","v":0},null,null,"Rink No",null,null,1,{"$f":"VLOOKUP(A862,Sheet1!$B$7:'Sheet1'!C48,2,0)","v":0},null,null,"Rink No",null,null,1,{"$f":"VLOOKUP(A862,Sheet1!$B$7:'Sheet1'!C48,2,0)","v":0},null,null,"Rink No",null,null,1,{"$f":"VLOOKUP(A862,Sheet1!$B$7:'Sheet1'!C48,2,0)","v":0},null,null,"Rink No",null,null,1,{"$f":"VLOOKUP(A862,Sheet1!$B$7:'Sheet1'!C48,2,0)","v":0},null,null,"Rink No",null,null,1,{"$f":"VLOOKUP(A862,Sheet1!$B$7:'Sheet1'!C48,2,0)","v":0},null,null,"Rink No",null,null,1]
[33,{"$nulls":6},1,{"$nulls":6},1,{"$nulls":6},1,{"$nulls":6},1,{"$nulls":6},1,{"$nulls":6},1,{"$nulls":6},1,{"$nulls":6},1]
[34,{"$f":"DRAW!$B$40","v":34},null,null,{"$f":"DRAW!$E$40","v":19},null,null,1,{"$nulls":3},{"$f":"DRAW!$G$40","v":0},null,null,1,{"$f":"DRAW!$B$40","v":34},null,null,{"$f":"DRAW!$I$40","v":0},null,null,1,{"$f":"DRAW!$B$40","v":34},null,null,{"$f":"DRAW!$K$40","v":0},null,null,1,{"$f":"DRAW!$B$40","v":34},null,null,{"$f":"DRAW!$M$40","v":0},null,null,1,{"$f":"DRAW!$B$40","v":34},null,null,{"$f":"DRAW!$O$40","v":0},null,null,1,{"$f":"DRAW!$B$40","v":34},null,null,{"$f":"DRAW!$Q$40","v":0},null,null,1,{"$f":"DRAW!$B$40","v":34},null,null,{"$f":"DRAW!$S$40","v":0},null,null,1]
[34,null,"Team",{"$f":"DRAW!$B$40","v":34},"V","Team",{"$f":"DRAW!$D$40","v":39},1,null,"Team",{"$f":"DRAW!$B$40","v":34},"V","Team",{"$f":"DRAW!$F$40","v":0},1,null,"Team",{"$f":"DRAW!$B$40","v":34},"V","Team",{"$f":"DRAW!$H$40","v":0},1,null,"Team",{"$f":"DRAW!$B$40","v":34},"V","Team",{"$f":"DRAW!$J$40","v":0},1,null,"Team",{"$f":"DRAW!$B$40","v":34},"V","Team",{"$f":"DRAW!$L$40","v":0},1,null,"Team",{"$f":"DRAW!$B$40","v":34},"V","Team",{"$f":"DRAW!$N$40","v":0},1,null,"Team",{"$f":"DRAW!$B$40","v":34},"V","Team",{"$f":"DRAW!$P$40","v":0},1,null,"Team",{"$f":"DRAW!$B$40","v":34},"V","Team",{"$f":"DRAW!$R$40","v":0},1]
[34,"Ends","Shots","Total",null,"Shots","Total",1,"Ends","Shots","Total",null,"Shots","Total",1,"Ends","Shots","Total",null,"Shots","Total",1,"Ends","Shots","Total",null,"Shots","Total",1,"Ends","Shots","Total",null,"Shots","Total",1,"Ends","Shots","Total",null,"Shots","Total",1,"Ends","Shots","Total",null,"Shots","Total",1,"Ends","Shots","Total",null,"shots","Total",1]
[34,1,{"$nulls":5},1,1,{"$nulls":5},1,1,{"$nulls":5},1,1,{"$nulls":5},1,1,{"$nulls":5},1,1,{"$nulls":5},1,1,{"$nulls":5},1,1,{"$nulls":5},1]
[34,2,{"$nulls":5},1,2,{"$nulls":5},1,2,{"$nulls":5},1,2,{"$nulls":5},1,2,{"$nulls":5},1,2,{"$nulls":5},1,2,{"$nulls":5},1,2,{"$nulls":5},1]
[34,3,{"$nulls":5},1,3,{"$nulls":5},1,3,{"$nulls":5},1,3,{"$nulls":5},1,3,{"$nulls":5},1,3,{"$nulls":5},1,3,{"$nulls":5},1,3,{"$nulls":5},1]
[34,4,{"$nulls":5},1,4,{"$nulls":5},1,4,{"$nulls":5},1,4,{"$nulls":5},1,4,{"$nulls":5},1,4,{"$nulls":5},1,4,{"$nulls":5},1,4,{"$nulls":5},1]
[34,5,{"$nulls":5},1,5,{"$nulls":5},1,5,{"$nulls":5},1,5,{"$nulls":5},1,5,{"$nulls":5},1,5,{"$nulls":5},1,5,{"$nulls":5},1,5,{"$nulls":5},1]
[34,6,{"$nulls":5},1,6,{"$nulls":5},1,6,{"$nulls":5},1,6,{"$nulls":5},1,6,{"$nulls":5},1,6,{"$nulls":5},1,6,{"$nulls":5},1,6,{"$nulls":5},1]
[34,7,{"$nulls":5},1,7,{"$nulls":5},1,7,{"$nulls":5},1,7,{"$nulls":5},1,7,{"$nulls":5},1,7,{"$nulls":5},1,7,{"$nulls":5},1,7,{"$nulls":5},1]
[34,8,{"$nulls":5},1,8,{"$nulls":5},1,8,{"$nulls":5},1,8,{"$nulls":5},1,8,{"$nulls":5},1,8,{"$nulls":5},1,8,{"$nulls":5},1,8,{"$nulls":5},1]
[34,9,{"$nulls":5},1,9,{"$nulls":5},1,9,{"$nulls":5},1,9,{"$nulls":5},1,9,{"$nulls":5},1,9,{"$nulls":5},1,9,{"$nulls":5},1,9,{"$nulls":5},1]
[34,10,{"$nulls":5},1,10,{"$nulls":5},1,10,{"$nulls":5},1,10,{"$nulls":5},1,10,{"$nulls":5},1,10,{"$nulls":5},1,10,{"$nulls":5},1,10,{"$nulls":5},1]
[34,11,{"$nulls":5},1,11,{"$nulls":5},1,11,{"$nulls":5},1,11,{"$nulls":5},1,11,{"$nulls":5},1,11,{"$nulls":5},1,11,{"$nulls":5},1,11,{"$nulls":5},1]
[34,12,{"$nulls":5},1,12,{"$nulls":5},1,12,{"$nulls":5},1,12,{"$nulls":5},1,12,{"$nulls":5},1,12,{"$nulls":5},1,12,{"$nulls":5},1,12,{"$nulls":5},1]
[34,13,{"$nulls":5},1,13,{"$nulls":5},1,13,{"$nulls":5},1,13,{"$nulls":5},1,13,{"$nulls":5},1,13,{"$nulls":5},1,13,{"$nulls":5},1,13,{"$nulls":5},1]
[34,14,{"$nulls":5},1,14,{"$nulls":5},1,14,{"$nulls":5},1,14,{"$nulls":5},1,14,{"$nulls":5},1,14,{"$nulls":5},1,14,{"$nulls":5},1,14,{"$nulls":5},1]
[34,15,{"$nulls":5},1,15,{"$nulls":5},1,15,{"$nulls":5},1,15,{"$nulls":5},1,15,{"$nulls":5},1,15,{"$nulls":5},1,15,{"$nulls":5},1,15,{"$nulls":5},1]
[34,16,{"$nulls":5},1,16,{"$nulls":5},1,16,{"$nulls":5},1,16,{"$nulls":5},1,16,{"$nulls":5},1,16,{"$nulls":5},1,16,{"$nulls":5},1,16,{"$nulls":5},1]
[34,17,{"$nulls":5},1,17,{"$nulls":5},1,17,{"$nulls":5},1,17,{"$nulls":5},1,17,{"$nulls":5},1,17,{"$nulls":5},1,17,{"$nulls":5},1,17,{"$nulls":5},1]
[34,18,{"$nulls":5},1,18,{"$nulls":5},1,18,{"$nulls":5},1,18,{"$nulls":5},1,18,{"$nulls":5},1,18,{"$nulls":5},1,18,{"$nulls":5},1,18,{"$nulls":5},1]
[34,"Total","Shots",null,null,"Shots",null,1,"Total","Shots",null,null,"Shots",null,1,"Total","Shots",null,null,"Shots",null,1,"Total","Shots",null,null,"Shots",null,1,"Total","Shots",null,null,"Shots",null,1,"Total","Shots",null,null,"Shots",null,1,"Total","Shots",null,null,"Shots",null,1,"Total","Shots",null,null,"shots",null,1]
[34,null,"Ends",null,null,"Ends",null,1,null,"Ends",null,null,"Ends",null,1,null,"Ends",null,null,"Ends",null,1,null,"Ends",null,null,"Ends",null,1,null,"Ends",null,null,"Ends",null,1,null,"Ends",null,null,"Ends",null,1,null,"Ends",null,null,"Ends",null,1,null,"Ends",null,null,"Ends",null,1]
[34,"1st Game ",{"$nulls":5},1,"2nd Game ",{"$nulls":5},1,"3rd Game ",{"$nulls":5},1,"4th Game",{"$nulls":5},1,"5th Game",{"$nulls":5},1,"6th Game",{"$nulls":5},1,"7th Game",{"$nulls":5},1,"8th Game",{"$nulls":5},1]
[34,"Team No",null,null,"Rink No",null,null,1,{"$f":"VLOOKUP(A888,Sheet1!$B$7:'Sheet1'!C48,2,0)","v":0},null,null,"Rink No",null,null,1,{"$f":"VLOOKUP(A888,Sheet1!$B$7:'Sheet1'!C48,2,0)","v":0},null,null,"Rink No",null,null,1,{"$f":"VLOOKUP(A888,Sheet1!$B$7:'Sheet1'!C48,2,0)","v":0},null,null,"Rink No",null,null,1,{"$f":"VLOOKUP(A888,Sheet1!$B$7:'Sheet1'!C48,2,0)","v":0},null,null,"Rink No",null,null,1,{"$f":"VLOOKUP(A888,Sheet1!$B$7:'Sheet1'!C48,2,0)","v":0},null,null,"Rink No",null,null,1,{"$f":"VLOOKUP(A888,Sheet1!$B$7:'Sheet1'!C48,2,0)","v":0},null,null,"Rink No",null,null,1,{"$f":"VLOOKUP(A888,Sheet1!$B$7:'Sheet1'!C48,2,0)","v":0},null,null,"Rink No",null,null,1]
[34,{"$nulls":6},1,{"$nulls":6},1,{"$nulls":6},1,{"$nulls":6},1,{"$nulls":6},1,{"$nulls":6},1,{"$nulls":6},1,{"$nulls":6},1]
[35,{"$f":"DRAW!$B$41","v":35},null,null,{"$f":"DRAW!$E$41","v":20},null,null,1,{"$nulls":3},{"$f":"DRAW!$G$41","v":0},null,null,1,{"$f":"DRAW!$B$41","v":35},null,null,{"$f":"DRAW!$I$41","v":0},null,null,1,{"$f":"DRAW!$B$41","v":35},null,null,{"$f":"DRAW!$K$41","v":0},null,null,1,{"$f":"DRAW!$B$41","v":35},null,null,{"$f":"DRAW!$M$41","v":0},null,null,1,{"$f":"DRAW!$B$41","v":35},null,null,{"$f":"DRAW!$O$41","v":0},null,null,1,{"$f":"DRAW!$B$41","v":35},null,null,{"$f":"DRAW!$Q$41","v":0},null,null,1,{"$f":"DRAW!$B$41","v":35},null,null,{"$f":"DRAW!$S$41","v":0},null,null,1]
[35,null,"Team",{"$f":"DRAW!$B$41","v":35},"V","Team",{"$f":"DRAW!$D$41","v":38},1,null,"Team",{"$f":"DRAW!$B$41","v":35},"V","Team",{"$f":"DRAW!$F$41","v":0},1,null,"Team",{"$f":"DRAW!$B$41","v":35},"V","Team",{"$f":"DRAW!$H$41","v":0},1,null,"Team",{"$f":"DRAW!$B$41","v":35},"V","Team",{"$f":"DRAW!$J$41","v":0},1,null,"Team",{"$f":"DRAW!$B$41","v":35},"V","Team",{"$f":"DRAW!$L$41","v":0},1,null,"Team",{"$f":"DRAW!$B$41","v":35},"V","Team",{"$f":"DRAW!$N$41","v":0},1,null,"Team",{"$f":"DRAW!$B$41","v":35},"V","Team",{"$f":"DRAW!$P$41","v":0},1,null,"Team",{"$f":"DRAW!$B$41","v":35},"V","Team",{"$f":"DRAW!$R$41","v":0},1]
[35,"Ends","Shots","Total",null,"Shots","Total",1,"Ends","Shots","Total",null,"Shots","Total",1,"Ends","Shots","Total",null,"Shots","Total",1,"Ends","Shots","Total",null,"Shots","Total",1,"Ends","Shots","Total",null,"Shots","Total",1,"Ends","Shots","Total",null,"Shots","Total",1,"Ends","Shots","Total",null,"Shots","Total",1,"Ends","Shots","Total",null,"shots","Total",1]
[35,1,{"$nulls":5},1,1,{"$nulls":5},1,1,{"$nulls":5},1,1,{"$nulls":5},1,1,{"$nulls":5},1,1,{"$nulls":5},1,1,{"$nulls":5},1,1,{"$nulls":5},1]
[35,2,{"$nulls":5},1,2,{"$nulls":5},1,2,{"$nulls":5},1,2,{"$nulls":5},1,2,{"$nulls":5},1,2,{"$nulls":5},1,2,{"$nulls":5},1,2,{"$nulls":5},1]
[35,3,{"$nulls":5},1,3,{"$nulls":5},1,3,{"$nulls":5},1,3,{"$nulls":5},1,3,{"$nulls":5},1,3,{"$nulls":5},1,3,{"$nulls":5},1,3,{"$nulls":5},1]
[35,4,{"$nulls":5},1,4,{"$nulls":5},1,4,{"$nulls":5},1,4,{"$nulls":5},1,4,{"$nulls":5},1,4,{"$nulls":5},1,4,{"$nulls":5},1,4,{"$nulls":5},1]
[35,5,{"$nulls":5},1,5,{"$nulls":5},1,5,{"$nulls":5},1,5,{"$nulls":5},1,5,{"$nulls":5},1,5,{"$nulls":5},1,5,{"$nulls":5},1,5,{"$nulls":5},1]
[35,6,{"$nulls":5},1,6,{"$nulls":5},1,6,{"$nulls":5},1,6,{"$nulls":5},1,6,{"$nulls":5},1,6,{"$nulls":5},1,6,{"$nulls":5},1,6,{"$nulls":5},1]
[35,7,{"$nulls":5},1,7,{"$nulls":5},1,7,{"$nulls":5},1,7,{"$nulls":5},1,7,{"$nulls":5},1,7,{"$nulls":5},1,7,{"$nulls":5},1,7,{"$nulls":5},1]
[35,8,{"$nulls":5},1,8,{"$nulls":5},1,8,{"$nulls":5},1,8,{"$nulls":5},1,8,{"$nulls":5},1,8,{"$nulls":5},1,8,{"$nulls":5},1,8,{"$nulls":5},1]
[35,9,{"$nulls":5},1,9,{"$nulls":5},1,9,{"$nulls":5},1,9,{"$nulls":5},1,9,{"$nulls":5},1,9,{"$nulls":5},1,9,{"$nulls":5},1,9,{"$nulls":5},1]
[35,10,{"$nulls":5},1,10,{"$nulls":5},1,10,{"$nulls":5},1,10,{"$nulls":5},1,10,{"$nulls":5},1,10,{"$nulls":5},1,10,{"$nulls":5},1,10,{"$nulls":5},1]
[35,11,{"$nulls":5},1,11,{"$nulls":5},1,11,{"$nulls":5},1,11,{"$nulls":5},1,11,{"$nulls":5},1,11,{"$nulls":5},1,11,{"$nulls":5},1,11,{"$nulls":5},1]
[35,12,{"$nulls":5},1,12,{"$nulls":5},1,12,{"$nulls":5},1,12,{"$nulls":5},1,12,{"$nulls":5},1,12,{"$nulls":5},1,12,{"$nulls":5},1,12,{"$nulls":5},1]
[35,13,{"$nulls":5},1,13,{"$nulls":5},1,13,{"$nulls":5},1,13,{"$nulls":5},1,13,{"$nulls":5},1,13,{"$nulls":5},1,13,{"$nulls":5},1,13,{"$nulls":5},1]
[35,14,{"$nulls":5},1,14,{"$nulls":5},1,14,{"$nulls":5},1,14,{"$nulls":5},1,14,{"$nulls":5},1,14,{"$nulls":5},1,14,{"$nulls":5},1,14,{"$nulls":5},1]
[35,15,{"$nulls":5},1,15,{"$nulls":5},1,15,{"$nulls":5},1,15,{"$nulls":5},1,15,{"$nulls":5},1,15,{"$nulls":5},1,15,{"$nulls":5},1,15,{"$nulls":5},1]
[35,16,{"$nulls":5},1,16,{"$nulls":5},1,16,{"$nulls":5},1,16,{"$nulls":5},1,16,{"$nulls":5},1,16,{"$nulls":5},1,16,{"$nulls":5},1,16,{"$nulls":5},1]
[35,17,{"$nulls":5},1,17,{"$nulls":5},1,17,{"$nulls":5},1,17,{"$nulls":5},1,17,{"$nulls":5},1,17,{"$nulls":5},1,17,{"$nulls":5},1,17,{"$nulls":5},1]
[35,18,{"$nulls":5},1,18,{"$nulls":5},1,18,{"$nulls":5},1,18,{"$nulls":5},1,18,{"$nulls":5},1,18,{"$nulls":5},1,18,{"$nulls":5},1,18,{"$nulls":5},1]
[35,"Total","Shots",null,null,"Shots",null,1,"Total","Shots",null,null,"Shots",null,1,"Total","Shots",null,null,"Shots",null,1,"Total","Shots",null,null,"Shots",null,1,"Total","Shots",null,null,"Shots",null,1,"Total","Shots",null,null,"Shots",null,1,"Total","Shots",null,null,"Shots",null,1,"Total","Shots",null,null,"shots",null,1]
[35,null,"Ends",null,null,"Ends",null,1,null,"Ends",null,null,"Ends",null,1,null,"Ends",null,null,"Ends",null,1,null,"Ends",null,null,"Ends",null,1,null,"Ends",null,null,"Ends",null,1,null,"Ends",null,null,"Ends",null,1,null,"Ends",null,null,"Ends",null,1,null,"Ends",null,null,"Ends",null,1]
[35,"1st Game ",{"$nulls":5},1,"2nd Game ",{"$nulls":5},1,"3rd Game ",{"$nulls":5},1,"4th Game",{"$nulls":5},1,"5th Game",{"$nulls":5},1,"6th Game",{"$nulls":5},1,"7th Game",{"$nulls":5},1,"8th Game",{"$nulls":5},1]
[35,"Team No",null,null,"Rink No",null,null,1,{"$f":"VLOOKUP(A914,Sheet1!$B$7:'Sheet1'!C48,2,0)","v":0},null,null,"Rink No",null,null,1,{"$f":"VLOOKUP(A914,Sheet1!$B$7:'Sheet1'!C48,2,0)","v":0},null,null,"Rink No",null,null,1,{"$f":"VLOOKUP(A914,Sheet1!$B$7:'Sheet1'!C48,2,0)","v":0},null,null,"Rink No",null,null,1,{"$f":"VLOOKUP(A914,Sheet1!$B$7:'Sheet1'!C48,2,0)","v":0},null,null,"Rink No",null,null,1,{"$f":"VLOOKUP(A914,Sheet1!$B$7:'Sheet1'!C48,2,0)","v":0},null,null,"Rink No",null,null,1,{"$f":"VLOOKUP(A914,Sheet1!$B$7:'Sheet1'!C48,2,0)","v":0},null,null,"Rink No",null,null,1,{"$f":"VLOOKUP(A914,Sheet1!$B$7:'Sheet1'!C48,2,0)","v":0},null,null,"Rink No",null,null,1]
[35,{"$nulls":6},1,{"$nulls":6},1,{"$nulls":6},1,{"$nulls":6},1,{"$nulls":6},1,{"$nulls":6},1,{"$nulls":6},1,{"$nulls":6},1]
[36,{"$f":"DRAW!$B$42","v":36},null,null,{"$f":"DRAW!$E$42","v":21},null,null,1,{"$nulls":3},{"$f":"DRAW!$G$42","v":0},null,null,1,{"$f":"DRAW!$B$42","v":36},null,null,{"$f":"DRAW!$I$42","v":0},null,null,1,{"$f":"DRAW!$B$42","v":36},null,null,{"$f":"DRAW!$K$42","v":0},null,null,1,{"$f":"DRAW!$B$42","v":36},null,null,{"$f":"DRAW!$M$42","v":0},null,null,1,{"$f":"DRAW!$B$42","v":36},null,null,{"$f":"DRAW!$O$42","v":0},null,null,1,{"$f":"DRAW!$B$42","v":36},null,null,{"$f":"DRAW!$Q$42","v":0},null,null,1,{"$f":"DRAW!$B$42","v":36},null,null,{"$f":"DRAW!$S$42","v":0},null,null,1]
[36,null,"Team",{"$f":"DRAW!$B$42","v":36},"V","Team",{"$f":"DRAW!$D$42","v":37},1,null,"Team",{"$f":"DRAW!$B$42","v":36},"V","Team",{"$f":"DRAW!$F$42","v":0},1,null,"Team",{"$f":"DRAW!$B$42","v":36},"V","Team",{"$f":"DRAW!$H$42","v":0},1,null,"Team",{"$f":"DRAW!$B$42","v":36},"V","Team",{"$f":"DRAW!$J$42","v":0},1,null,"Team",{"$f":"DRAW!$B$42","v":36},"V","Team",{"$f":"DRAW!$L$42","v":0},1,null,"Team",{"$f":"DRAW!$B$42","v":36},"V","Team",{"$f":"DRAW!$N$42","v":0},1,null,"Team",{"$f":"DRAW!$B$42","v":36},"V","Team",{"$f":"DRAW!$P$42","v":0},1,null,"Team",{"$f":"DRAW!$B$42","v":36},"V","Team",{"$f":"DRAW!$R$42","v":0},1]
[36,"Ends","Shots","Total",null,"Shots","Total",1,"Ends","Shots","Total",null,"Shots","Total",1,"Ends","Shots","Total",null,"Shots","Total",1,"Ends","Shots","Total",null,"Shots","Total",1,"Ends","Shots","Total",null,"Shots","Total",1,"Ends","Shots","Total",null,"Shots","Total",1,"Ends","Shots","Total",null,"Shots","Total",1,"Ends","Shots","Total",null,"shots","Total",1]
[36,1,{"$nulls":5},1,1,{"$nulls":5},1,1,{"$nulls":5},1,1,{"$nulls":5},1,1,{"$nulls":5},1,1,{"$nulls":5},1,1,{"$nulls":5},1,1,{"$nulls":5},1]
[36,2,{"$nulls":5},1,2,{"$nulls":5},1,2,{"$nulls":5},1,2,{"$nulls":5},1,2,{"$nulls":5},1,2,{"$nulls":5},1,2,{"$nulls":5},1,2,{"$nulls":5},1]
[36,3,{"$nulls":5},1,3,{"$nulls":5},1,3,{"$nulls":5},1,3,{"$nulls":5},1,3,{"$nulls":5},1,3,{"$nulls":5},1,3,{"$nulls":5},1,3,{"$nulls":5},1]
[36,4,{"$nulls":5},1,4,{"$nulls":5},1,4,{"$nulls":5},1,4,{"$nulls":5},1,4,{"$nulls":5},1,4,{"$nulls":5},1,4,{"$nulls":5},1,4,{"$nulls":5},1]
[36,5,{"$nulls":5},1,5,{"$nulls":5},1,5,{"$nulls":5},1,5,{"$nulls":5},1,5,{"$nulls":5},1,5,{"$nulls":5},1,5,{"$nulls":5},1,5,{"$nulls":5},1]
[36,6,{"$nulls":5},1,6,{"$nulls":5},1,6,{"$nulls":5},1,6,{"$nulls":5},1,6,{"$nulls":5},1,6,{"$nulls":5},1,6,{"$nulls":5},1,6,{"$nulls":5},1]
[36,7,{"$nulls":5},1,7,{"$nulls":5},1,7,{"$nulls":5},1,7,{"$nulls":5},1,7,{"$nulls":5},1,7,{"$nulls":5},1,7,{"$nulls":5},1,7,{"$nulls":5},1]
[36,8,{"$nulls":5},1,8,{"$nulls":5},1,8,{"$nulls":5},1,8,{"$nulls":5},1,8,{"$nulls":5},1,8,{"$nulls":5},1,8,{"$nulls":5},1,8,{"$nulls":5},1]
[36,9,{"$nulls":5},1,9,{"$nulls":5},1,9,{"$nulls":5},1,9,{"$nulls":5},1,9,{"$nulls":5},1,9,{"$nulls":5},1,9,{"$nulls":5},1,9,{"$nulls":5},1]
[36,10,{"$nulls":5},1,10,{"$nulls":5},1,10,{"$nulls":5},1,10,{"$nulls":5},1,10,{"$nulls":5},1,10,{"$nulls":5},1,10,{"$nulls":5},1,10,{"$nulls":5},1]
[36,11,{"$nulls":5},1,11,{"$nulls":5},1,11,{"$nulls":5},1,11,{"$nulls":5},1,11,{"$nulls":5},1,11,{"$nulls":5},1,11,{"$nulls":5},1,11,{"$nulls":5},1]
[36,12,{"$nulls":5},1,12,{"$nulls":5},1,12,{"$nulls":5},1,12,{"$nulls":5},1,12,{"$nulls":5},1,12,{"$nulls":5},1,12,{"$nulls":5},1,12,{"$nulls":5},1]
[36,13,{"$nulls":5},1,13,{"$nulls":5},1,13,{"$nulls":5},1,13,{"$nulls":5},1,13,{"$nulls":5},1,13,{"$nulls":5},1,13,{"$nulls":5},1,13,{"$nulls":5},1]
[36,14,{"$nulls":5},1,14,{"$nulls":5},1,14,{"$nulls":5},1,14,{"$nulls":5},1,14,{"$nulls":5},1,14,{"$nulls":5},1,14,{"$nulls":5},1,14,{"$nulls":5},1]
[36,15,{"$nulls":5},1,15,{"$nulls":5},1,15,{"$nulls":5},1,15,{"$nulls":5},1,15,{"$nulls":5},1,15,{"$nulls":5},1,15,{"$nulls":5},1,15,{"$nulls":5},1]
[36,16,{"$nulls":5},1,16,{"$nulls":5},1,16,{"$nulls":5},1,16,{"$nulls":5},1,16,{"$nulls":5},1,16,{"$nulls":5},1,16,{"$nulls":5},1,16,{"$nulls":5},1]
[36,17,{"$nulls":5},1,17,{"$nulls":5},1,17,{"$nulls":5},1,17,{"$nulls":5},1,17,{"$nulls":5},1,17,{"$nulls":5},1,17,{"$nulls":5},1,17,{"$nulls":5},1]
[36,18,{"$nulls":5},1,18,{"$nulls":5},1,18,{"$nulls":5},1,18,{"$nulls":5},1,18,{"$nulls":5},1,18,{"$nulls":5},1,18,{"$nulls":5},1,18,{"$nulls":5},1]
[36,"Total","Shots",null,null,"Shots",null,1,"Total","Shots",null,null,"Shots",null,1,"Total","Shots",null,null,"Shots",null,1,"Total","Shots",null,null,"Shots",null,1,"Total","Shots",null,null,"Shots",null,1,"Total","Shots",null,null,"Shots",null,1,"Total","Shots",null,null,"Shots",null,1,"Total","Shots",null,null,"shots",null,1]
[36,null,"Ends",null,null,"Ends",null,1,null,"Ends",null,null,"Ends",null,1,null,"Ends",null,null,"Ends",null,1,null,"Ends",null,null,"Ends",null,1,null,"Ends",null,null,"Ends",null,1,null,"Ends",null,null,"Ends",null,1,null,"Ends",null,null,"Ends",null,1,null,"Ends",null,null,"Ends",null,1]
[36,"1st Game ",{"$nulls":5},1,"2nd Game ",{"$nulls":5},1,"3rd Game ",{"$nulls":5},1,"4th Game",{"$nulls":5},1,"5th Game",{"$nulls":5},1,"6th Game",{"$nulls":5},1,"7th Game",{"$nulls":5},1,"8th Game",{"$nulls":5},1]
[36,"Team No",null,null,"Rink No",null,null,1,{"$f":"VLOOKUP(A940,Sheet1!$B$7:'Sheet1'!C48,2,0)","v":0},null,null,"Rink No",null,null,1,{"$f":"VLOOKUP(A940,Sheet1!$B$7:'Sheet1'!C48,2,0)","v":0},null,null,"Rink No",null,null,1,{"$f":"VLOOKUP(A940,Sheet1!$B$7:'Sheet1'!C48,2,0)","v":0},null,null,"Rink No",null,null,1,{"$f":"VLOOKUP(A940,Sheet1!$B$7:'Sheet1'!C48,2,0)","v":0},null,null,"Rink No",null,null,1,{"$f":"VLOOKUP(A940,Sheet1!$B$7:'Sheet1'!C48,2,0)","v":0},null,null,"Rink No",null,null,1,{"$f":"VLOOKUP(A940,Sheet1!$B$7:'Sheet1'!C48,2,0)","v":0},null,null,"Rink No",null,null,1,{"$f":"VLOOKUP(A940,Sheet1!$B$7:'Sheet1'!C48,2,0)","v":0},null,null,"Rink No",null,null,1]
[36,{"$nulls":6},1,{"$nulls":6},1,{"$nulls":6},1,{"$nulls":6},1,{"$nulls":6},1,{"$nulls":6},1,{"$nulls":6},1,{"$nulls":6},1]
[37,{"$f":"DRAW!$B$43","v":37},null,null,{"$f":"DRAW!$E$43","v":21},null,null,1,{"$nulls":3},{"$f":"DRAW!$G$43","v":0},null,null,1,{"$f":"DRAW!$B$43","v":37},null,null,{"$f":"DRAW!$I$43","v":0},null,null,1,{"$f":"DRAW!$B$43","v":37},null,null,{"$f":"DRAW!$K$43","v":0},null,null,1,{"$f":"DRAW!$B$43","v":37},null,null,{"$f":"DRAW!$M$43","v":0},null,null,1,{"$f":"DRAW!$B$43","v":37},null,null,{"$f":"DRAW!$O$43","v":0},null,null,1,{"$f":"DRAW!$B$43","v":37},null,null,{"$f":"DRAW!$Q$43","v":0},null,null,1,{"$f":"DRAW!$B$43","v":37},null,null,{"$f":"DRAW!$S$43","v":0},null,null,1]
[37,null,"Team",{"$f":"DRAW!$B$43","v":37},"V","Team",{"$f":"DRAW!$D$43","v":36},1,null,"Team",{"$f":"DRAW!$B$43","v":37},"V","Team",{"$f":"DRAW!$F$43","v":0},1,null,"Team",{"$f":"DRAW!$B$43","v":37},"V","Team",{"$f":"DRAW!$H$43","v":0},1,null,"Team",{"$f":"DRAW!$B$43","v":37},"V","Team",{"$f":"DRAW!$J$43","v":0},1,null,"Team",{"$f":"DRAW!$B$43","v":37},"V","Team",{"$f":"DRAW!$L$43","v":0},1,null,"Team",{"$f":"DRAW!$B$43","v":37},"V","Team",{"$f":"DRAW!$N$43","v":0},1,null,"Team",{"$f":"DRAW!$B$43","v":37},"V","Team",{"$f":"DRAW!$P$43","v":0},1,null,"Team",{"$f":"DRAW!$B$43","v":37},"V","Team",{"$f":"DRAW!$R$43","v":0},1]
[37,"Ends","Shots","Total",null,"Shots","Total",1,"Ends","Shots","Total",null,"Shots","Total",1,"Ends","Shots","Total",null,"Shots","Total",1,"Ends","Shots","Total",null,"Shots","Total",1,"Ends","Shots","Total",null,"Shots","Total",1,"Ends","Shots","Total",null,"Shots","Total",1,"Ends","Shots","Total",null,"Shots","Total",1,"Ends","Shots","Total",null,"shots","Total",1]
[37,1,{"$nulls":5},1,1,{"$nulls":5},1,1,{"$nulls":5},1,1,{"$nulls":5},1,1,{"$nulls":5},1,1,{"$nulls":5},1,1,{"$nulls":5},1,1,{"$nulls":5},1]
[37,2,{"$nulls":5},1,2,{"$nulls":5},1,2,{"$nulls":5},1,2,{"$nulls":5},1,2,{"$nulls":5},1,2,{"$nulls":5},1,2,{"$nulls":5},1,2,{"$nulls":5},1]
[37,3,{"$nulls":5},1,3,{"$nulls":5},1,3,{"$nulls":5},1,3,{"$nulls":5},1,3,{"$nulls":5},1,3,{"$nulls":5},1,3,{"$nulls":5},1,3,{"$nulls":5},1]
[37,4,{"$nulls":5},1,4,{"$nulls":5},1,4,{"$nulls":5},1,4,{"$nulls":5},1,4,{"$nulls":5},1,4,{"$nulls":5},1,4,{"$nulls":5},1,4,{"$nulls":5},1]
[37,5,{"$nulls":5},1,5,{"$nulls":5},1,5,{"$nulls":5},1,5,{"$nulls":5},1,5,{"$nulls":5},1,5,{"$nulls":5},1,5,{"$nulls":5},1,5,{"$nulls":5},1]
[37,6,{"$nulls":5},1,6,{"$nulls":5},1,6,{"$nulls":5},1,6,{"$nulls":5},1,6,{"$nulls":5},1,6,{"$nulls":5},1,6,{"$nulls":5},1,6,{"$nulls":5},1]
[37,7,{"$nulls":5},1,7,{"$nulls":5},1,7,{"$nulls":5},1,7,{"$nulls":5},1,7,{"$nulls":5},1,7,{"$nulls":5},1,7,{"$nulls":5},1,7,{"$nulls":5},1]
[37,8,{"$nulls":5},1,8,{"$nulls":5},1,8,{"$nulls":5},1,8,{"$nulls":5},1,8,{"$nulls":5},1,8,{"$nulls":5},1,8,{"$nulls":5},1,8,{"$nulls":5},1]
[37,9,{"$nulls":5},1,9,{"$nulls":5},1,9,{"$nulls":5},1,9,{"$nulls":5},1,9,{"$nulls":5},1,9,{"$nulls":5},1,9,{"$nulls":5},1,9,{"$nulls":5},1]
[37,10,{"$nulls":5},1,10,{"$nulls":5},1,10,{"$nulls":5},1,10,{"$nulls":5},1,10,{"$nulls":5},1,10,{"$nulls":5},1,10,{"$nulls":5},1,10,{"$nulls":5},1]
[37,11,{"$nulls":5},1,11,{"$nulls":5},1,11,{"$nulls":5},1,11,{"$nulls":5},1,11,{"$nulls":5},1,11,{"$nulls":5},1,11,{"$nulls":5},1,11,{"$nulls":5},1]
[37,12,{"$nulls":5},1,12,{"$nulls":5},1,12,{"$nulls":5},1,12,{"$nulls":5},1,12,{"$nulls":5},1,12,{"$nulls":5},1,12,{"$nulls":5},1,12,{"$nulls":5},1]
[37,13,{"$nulls":5},1,13,{"$nulls":5},1,13,{"$nulls":5},1,13,{"$nulls":5},1,13,{"$nulls":5},1,13,{"$nulls":5},1,13,{"$nulls":5},1,13,{"$nulls":5},1]
[37,14,{"$nulls":5},1,14,{"$nulls":5},1,14,{"$nulls":5},1,14,{"$nulls":5},1,14,{"$nulls":5},1,14,{"$nulls":5},1,14,{"$nulls":5},1,14,{"$nulls":5},1]
[37,15,{"$nulls":5},1,15,{"$nulls":5},1,15,{"$nulls":5},1,15,{"$nulls":5},1,15,{"$nulls":5},1,15,{"$nulls":5},1,15,{"$nulls":5},1,15,{"$nulls":5},1]
[37,16,{"$nulls":5},1,16,{"$nulls":5},1,16,{"$nulls":5},1,16,{"$nulls":5},1,16,{"$nulls":5},1,16,{"$nulls":5},1,16,{"$nulls":5},1,16,{"$nulls":5},1]
[37,17,{"$nulls":5},1,17,{"$nulls":5},1,17,{"$nulls":5},1,17,{"$nulls":5},1,17,{"$nulls":5},1,17,{"$nulls":5},1,17,{"$nulls":5},1,17,{"$nulls":5},1]
[37,18,{"$nulls":5},1,18,{"$nulls":5},1,18,{"$nulls":5},1,18,{"$nulls":5},1,18,{"$nulls":5},1,18,{"$nulls":5},1,18,{"$nulls":5},1,18,{"$nulls":5},1]
[37,"Total","Shots",null,null,"Shots",null,1,"Total","Shots",null,null,"Shots",null,1,"Total","Shots",null,null,"Shots",null,1,"Total","Shots",null,null,"Shots",null,1,"Total","Shots",null,null,"Shots",null,1,"Total","Shots",null,null,"Shots",null,1,"Total","Shots",null,null,"Shots",null,1,"Total","Shots",null,null,"shots",null,1]
[37,null,"Ends",null,null,"Ends",null,1,null,"Ends",null,null,"Ends",null,1,null,"Ends",null,null,"Ends",null,1,null,"Ends",null,null,"Ends",null,1,null,"Ends",null,null,"Ends",null,1,null,"Ends",null,null,"Ends",null,1,null,"Ends",null,null,"Ends",null,1,null,"Ends",null,null,"Ends",null,1]
[37,"1st Game ",{"$nulls":5},1,"2nd Game ",{"$nulls":5},1,"3rd Game ",{"$nulls":5},1,"4th Game",{"$nulls":5},1,"5th Game",{"$nulls":5},1,"6th Game",{"$nulls":5},1,"7th Game",{"$nulls":5},1,"8th Game",{"$nulls":5},1]
[37,"Team No",null,null,"Rink No",null,null,1,{"$f":"VLOOKUP(A966,Sheet1!$B$7:'Sheet1'!C48,2,0)","v":0},null,null,"Rink No",null,null,1,{"$f":"VLOOKUP(A966,Sheet1!$B$7:'Sheet1'!C48,2,0)","v":0},null,null,"Rink No",null,null,1,{"$f":"VLOOKUP(A966,Sheet1!$B$7:'Sheet1'!C48,2,0)","v":0},null,null,"Rink No",null,null,1,{"$f":"VLOOKUP(A966,Sheet1!$B$7:'Sheet1'!C48,2,0)","v":0},null,null,"Rink No",null,null,1,{"$f":"VLOOKUP(A966,Sheet1!$B$7:'Sheet1'!C48,2,0)","v":0},null,null,"Rink No",null,null,1,{"$f":"VLOOKUP(A966,Sheet1!$B$7:'Sheet1'!C48,2,0)","v":0},null,null,"Rink No",null,null,1,{"$f":"VLOOKUP(A966,Sheet1!$B$7:'Sheet1'!C48,2,0)","v":0},null,null,"Rink No",null,null,1]
[37,{"$nulls":6},1,{"$nulls":6},1,{"$nulls":6},1,{"$nulls":6},1,{"$nulls":6},1,{"$nulls":6},1,{"$nulls":6},1,{"$nulls":6},1]
[38,{"$f":"DRAW!$B$44","v":38},null,null,{"$f":"DRAW!$E$44","v":20},null,null,1,{"$nulls":3},{"$f":"DRAW!$G$44","v":0},null,null,1,{"$f":"DRAW!$B$44","v":38},null,null,{"$f":"DRAW!$I$44","v":0},null,null,1,{"$f":"DRAW!$B$44","v":38},null,null,{"$f":"DRAW!$K$44","v":0},null,null,1,{"$f":"DRAW!$B$44","v":38},null,null,{"$f":"DRAW!$M$44","v":0},null,null,1,{"$f":"DRAW!$B$44","v":38},null,null,{"$f":"DRAW!$O$44","v":0},null,null,1,{"$f":"DRAW!$B$44","v":38},null,null,{"$f":"DRAW!$Q$44","v":0},null,null,1,{"$f":"DRAW!$B$44","v":38},null,null,{"$f":"DRAW!$S$44","v":0},null,null,1]
[38,null,"Team",{"$f":"DRAW!$B$44","v":38},"V","Team",{"$f":"DRAW!$D$44","v":35},1,null,"Team",{"$f":"DRAW!$B$44","v":38},"V","Team",{"$f":"DRAW!$F$44","v":0},1,null,"Team",{"$f":"DRAW!$B$44","v":38},"V","Team",{"$f":"DRAW!$H$44","v":0},1,null,"Team",{"$f":"DRAW!$B$44","v":38},"V","Team",{"$f":"DRAW!$J$44","v":0},1,null,"Team",{"$f":"DRAW!$B$44","v":38},"V","Team",{"$f":"DRAW!$L$44","v":0},1,null,"Team",{"$f":"DRAW!$B$44","v":38},"V","Team",{"$f":"DRAW!$N$44","v":0},1,null,"Team",{"$f":"DRAW!$B$44","v":38},"V","Team",{"$f":"DRAW!$P$44","v":0},1,null,"Team",{"$f":"DRAW!$B$44","v":38},"V","Team",{"$f":"DRAW!$R$44","v":0},1]
[38,"Ends","Shots","Total",null,"Shots","Total",1,"Ends","Shots","Total",null,"Shots","Total",1,"Ends","Shots","Total",null,"Shots","Total",1,"Ends","Shots","Total",null,"Shots","Total",1,"Ends","Shots","Total",null,"Shots","Total",1,"Ends","Shots","Total",null,"Shots","Total",1,"Ends","Shots","Total",null,"Shots","Total",1,"Ends","Shots","Total",null,"shots","Total",1]
[38,1,{"$nulls":5},1,1,{"$nulls":5},1,1,{"$nulls":5},1,1,{"$nulls":5},1,1,{"$nulls":5},1,1,{"$nulls":5},1,1,{"$nulls":5},1,1,{"$nulls":5},1]
[38,2,{"$nulls":5},1,2,{"$nulls":5},1,2,{"$nulls":5},1,2,{"$nulls":5},1,2,{"$nulls":5},1,2,{"$nulls":5},1,2,{"$nulls":5},1,2,{"$nulls":5},1]
[38,3,{"$nulls":5},1,3,{"$nulls":5},1,3,{"$nulls":5},1,3,{"$nulls":5},1,3,{"$nulls":5},1,3,{"$nulls":5},1,3,{"$nulls":5},1,3,{"$nulls":5},1]
[38,4,{"$nulls":5},1,4,{"$nulls":5},1,4,{"$nulls":5},1,4,{"$nulls":5},1,4,{"$nulls":5},1,4,{"$nulls":5},1,4,{"$nulls":5},1,4,{"$nulls":5},1]
[38,5,{"$nulls":5},1,5,{"$nulls":5},1,5,{"$nulls":5},1,5,{"$nulls":5},1,5,{"$nulls":5},1,5,{"$nulls":5},1,5,{"$nulls":5},1,5,{"$nulls":5},1]
[38,6,{"$nulls":5},1,6,{"$nulls":5},1,6,{"$nulls":5},1,6,{"$nulls":5},1,6,{"$nulls":5},1,6,{"$nulls":5},1,6,{"$nulls":5},1,6,{"$nulls":5},1]
[38,7,{"$nulls":5},1,7,{"$nulls":5},1,7,{"$nulls":5},1,7,{"$nulls":5},1,7,{"$nulls":5},1,7,{"$nulls":5},1,7,{"$nulls":5},1,7,{"$nulls":5},1]
[38,8,{"$nulls":5},1,8,{"$nulls":5},1,8,{"$nulls":5},1,8,{"$nulls":5},1,8,{"$nulls":5},1,8,{"$nulls":5},1,8,{"$nulls":5},1,8,{"$nulls":5},1]
[38,9,{"$nulls":5},1,9,{"$nulls":5},1,9,{"$nulls":5},1,9,{"$nulls":5},1,9,{"$nulls":5},1,9,{"$nulls":5},1,9,{"$nulls":5},1,9,{"$nulls":5},1]
[38,10,{"$nulls":5},1,10,{"$nulls":5},1,10,{"$nulls":5},1,10,{"$nulls":5},1,10,{"$nulls":5},1,10,{"$nulls":5},1,10,{"$nulls":5},1,10,{"$nulls":5},1]
[38,11,{"$nulls":5},1,11,{"$nulls":5},1,11,{"$nulls":5},1,11,{"$nulls":5},1,11,{"$nulls":5},1,11,{"$nulls":5},1,11,{"$nulls":5},1,11,{"$nulls":5},1]
[38,12,{"$nulls":5},1,12,{"$nulls":5},1,12,{"$nulls":5},1,12,{"$nulls":5},1,12,{"$nulls":5},1,12,{"$nulls":5},1,12,{"$nulls":5},1,12,{"$nulls":5},1]
[38,13,{"$nulls":5},1,13,{"$nulls":5},1,13,{"$nulls":5},1,13,{"$nulls":5},1,13,{"$nulls":5},1,13,{"$nulls":5},1,13,{"$nulls":5},1,13,{"$nulls":5},1]
[38,14,{"$nulls":5},1,14,{"$nulls":5},1,14,{"$nulls":5},1,14,{"$nulls":5},1,14,{"$nulls":5},1,14,{"$nulls":5},1,14,{"$nulls":5},1,14,{"$nulls":5},1]
[38,15,{"$nulls":5},1,15,{"$nulls":5},1,15,{"$nulls":5},1,15,{"$nulls":5},1,15,{"$nulls":5},1,15,{"$nulls":5},1,15,{"$nulls":5},1,15,{"$nulls":5},1]
[38,16,{"$nulls":5},1,16,{"$nulls":5},1,16,{"$nulls":5},1,16,{"$nulls":5},1,16,{"$nulls":5},1,16,{"$nulls":5},1,16,{"$nulls":5},1,16,{"$nulls":5},1]
[38,17,{"$nulls":5},1,17,{"$nulls":5},1,17,{"$nulls":5},1,17,{"$nulls":5},1,17,{"$nulls":5},1,17,{"$nulls":5},1,17,{"$nulls":5},1,17,{"$nulls":5},1]
[38,18,{"$nulls":5},1,18,{"$nulls":5},1,18,{"$nulls":5},1,18,{"$nulls":5},1,18,{"$nulls":5},1,18,{"$nulls":5},1,18,{"$nulls":5},1,18,{"$nulls":5},1]
[38,"Total","Shots",null,null,"Shots",null,1,"Total","Shots",null,null,"Shots",null,1,"Total","Shots",null,null,"Shots",null,1,"Total","Shots",null,null,"Shots",null,1,"Total","Shots",null,null,"Shots",null,1,"Total","Shots",null,null,"Shots",null,1,"Total","Shots",null,null,"Shots",null,1,"Total","Shots",null,null,"shots",null,1]
[38,null,"Ends",null,null,"Ends",null,1,null,"Ends",null,null,"Ends",null,1,null,"Ends",null,null,"Ends",null,1,null,"Ends",null,null,"Ends",null,1,null,"Ends",null,null,"Ends",null,1,null,"Ends",null,null,"Ends",null,1,null,"Ends",null,null,"Ends",null,1,null,"Ends",null,null,"Ends",null,1]
[38,"1st Game ",{"$nulls":5},1,"2nd Game ",{"$nulls":5},1,"3rd Game ",{"$nulls":5},1,"4th Game",{"$nulls":5},1,"5th Game",{"$nulls":5},1,"6th Game",{"$nulls":5},1,"7th Game",{"$nulls":5},1,"8th Game",{"$nulls":5},1]
[38,"Team No",null,null,"Rink No",null,null,1,{"$f":"VLOOKUP(A992,Sheet1!$B$7:'Sheet1'!C48,2,0)","v":0},null,null,"Rink No",null,null,1,{"$f":"VLOOKUP(A992,Sheet1!$B$7:'Sheet1'!C48,2,0)","v":0},null,null,"Rink No",null,null,1,{"$f":"VLOOKUP(A992,Sheet1!$B$7:'Sheet1'!C48,2,0)","v":0},null,null,"Rink No",null,null,1,{"$f":"VLOOKUP(A992,Sheet1!$B$7:'Sheet1'!C48,2,0)","v":0},null,null,"Rink No",null,null,1,{"$f":"VLOOKUP(A992,Sheet1!$B$7:'Sheet1'!C48,2,0)","v":0},null,null,"Rink No",null,null,1,{"$f":"VLOOKUP(A992,Sheet1!$B$7:'Sheet1'!C48,2,0)","v":0},null,null,"Rink No",null,null,1,{"$f":"VLOOKUP(A992,Sheet1!$B$7:'Sheet1'!C48,2,0)","v":0},null,null,"Rink No",null,null,1]
[38,{"$nulls":6},1,{"$nulls":6},1,{"$nulls":6},1,{"$nulls":6},1,{"$nulls":6},1,{"$nulls":6},1,{"$nulls":6},1,{"$nulls":6},1]
[39,{"$f":"DRAW!$B$45","v":39},null,null,{"$f":"DRAW!$E$45","v":19},null,null,1,{"$nulls":3},{"$f":"DRAW!$G$45","v":0},null,null,1,{"$f":"DRAW!$B$45","v":39},null,null,{"$f":"DRAW!$I$45","v":0},null,null,1,{"$f":"DRAW!$B$45","v":39},null,null,{"$f":"DRAW!$K$45","v":0},null,null,1,{"$f":"DRAW!$B$45","v":39},null,null,{"$f":"DRAW!$M$45","v":0},null,null,1,{"$f":"DRAW!$B$45","v":39},null,null,{"$f":"DRAW!$O$45","v":0},null,null,1,{"$f":"DRAW!$B$45","v":39},null,null,{"$f":"DRAW!$Q$45","v":0},null,null,1,{"$f":"DRAW!$B$45","v":39},null,null,{"$f":"DRAW!$S$45","v":0},null,null,1]
[39,null,"Team",{"$f":"DRAW!$B$45","v":39},"V","Team",{"$f":"DRAW!$D$45","v":34},1,null,"Team",{"$f":"DRAW!$B$45","v":39},"V","Team",{"$f":"DRAW!$F$45","v":0},1,null,"Team",{"$f":"DRAW!$B$45","v":39},"V","Team",{"$f":"DRAW!$H$45","v":0},1,null,"Team",{"$f":"DRAW!$B$45","v":39},"V","Team",{"$f":"DRAW!$J$45","v":0},1,null,"Team",{"$f":"DRAW!$B$45","v":39},"V","Team",{"$f":"DRAW!$L$45","v":0},1,null,"Team",{"$f":"DRAW!$B$45","v":39},"V","Team",{"$f":"DRAW!$N$45","v":0},1,null,"Team",{"$f":"DRAW!$B$45","v":39},"V","Team",{"$f":"DRAW!$P$45","v":0},1,null,"Team",{"$f":"DRAW!$B$45","v":39},"V","Team",{"$f":"DRAW!$R$45","v":0},1]
[39,"Ends","Shots","Total",null,"Shots","Total",1,"Ends","Shots","Total",null,"Shots","Total",1,"Ends","Shots","Total",null,"Shots","Total",1,"Ends","Shots","Total",null,"Shots","Total",1,"Ends","Shots","Total",null,"Shots","Total",1,"Ends","Shots","Total",null,"Shots","Total",1,"Ends","Shots","Total",null,"Shots","Total",1,"Ends","Shots","Total",null,"shots","Total",1]
[39,1,{"$nulls":5},1,1,{"$nulls":5},1,1,{"$nulls":5},1,1,{"$nulls":5},1,1,{"$nulls":5},1,1,{"$nulls":5},1,1,{"$nulls":5},1,1,{"$nulls":5},1]
[39,2,{"$nulls":5},1,2,{"$nulls":5},1,2,{"$nulls":5},1,2,{"$nulls":5},1,2,{"$nulls":5},1,2,{"$nulls":5},1,2,{"$nulls":5},1,2,{"$nulls":5},1]
[39,3,{"$nulls":5},1,3,{"$nulls":5},1,3,{"$nulls":5},1,3,{"$nulls":5},1,3,{"$nulls":5},1,3,{"$nulls":5},1,3,{"$nulls":5},1,3,{"$nulls":5},1]
[39,4,{"$nulls":5},1,4,{"$nulls":5},1,4,{"$nulls":5},1,4,{"$nulls":5},1,4,{"$nulls":5},1,4,{"$nulls":5},1,4,{"$nulls":5},1,4,{"$nulls":5},1]
[39,5,{"$nulls":5},1,5,{"$nulls":5},1,5,{"$nulls":5},1,5,{"$nulls":5},1,5,{"$nulls":5},1,5,{"$nulls":5},1,5,{"$nulls":5},1,5,{"$nulls":5},1]
[39,6,{"$nulls":5},1,6,{"$nulls":5},1,6,{"$nulls":5},1,6,{"$nulls":5},1,6,{"$nulls":5},1,6,{"$nulls":5},1,6,{"$nulls":5},1,6,{"$nulls":5},1]
[39,7,{"$nulls":5},1,7,{"$nulls":5},1,7,{"$nulls":5},1,7,{"$nulls":5},1,7,{"$nulls":5},1,7,{"$nulls":5},1,7,{"$nulls":5},1,7,{"$nulls":5},1]
[39,8,{"$nulls":5},1,8,{"$nulls":5},1,8,{"$nulls":5},1,8,{"$nulls":5},1,8,{"$nulls":5},1,8,{"$nulls":5},1,8,{"$nulls":5},1,8,{"$nulls":5},1]
[39,9,{"$nulls":5},1,9,{"$nulls":5},1,9,{"$nulls":5},1,9,{"$nulls":5},1,9,{"$nulls":5},1,9,{"$nulls":5},1,9,{"$nulls":5},1,9,{"$nulls":5},1]
[39,10,{"$nulls":5},1,10,{"$nulls":5},1,10,{"$nulls":5},1,10,{"$nulls":5},1,10,{"$nulls":5},1,10,{"$nulls":5},1,10,{"$nulls":5},1,10,{"$nulls":5},1]
[39,11,{"$nulls":5},1,11,{"$nulls":5},1,11,{"$nulls":5},1,11,{"$nulls":5},1,11,{"$nulls":5},1,11,{"$nulls":5},1,11,{"$nulls":5},1,11,{"$nulls":5},1]
[39,12,{"$nulls":5},1,12,{"$nulls":5},1,12,{"$nulls":5},1,12,{"$nulls":5},1,12,{"$nulls":5},1,12,{"$nulls":5},1,12,{"$nulls":5},1,12,{"$nulls":5},1]
[39,13,{"$nulls":5},1,13,{"$nulls":5},1,13,{"$nulls":5},1,13,{"$nulls":5},1,13,{"$nulls":5},1,13,{"$nulls":5},1,13,{"$nulls":5},1,13,{"$nulls":5},1]
[39,14,{"$nulls":5},1,14,{"$nulls":5},1,14,{"$nulls":5},1,14,{"$nulls":5},1,14,{"$nulls":5},1,14,{"$nulls":5},1,14,{"$nulls":5},1,14,{"$nulls":5},1]
[39,15,{"$nulls":5},1,15,{"$nulls":5},1,15,{"$nulls":5},1,15,{"$nulls":5},1,15,{"$nulls":5},1,15,{"$nulls":5},1,15,{"$nulls":5},1,15,{"$nulls":5},1]
[39,16,{"$nulls":5},1,16,{"$nulls":5},1,16,{"$nulls":5},1,16,{"$nulls":5},1,16,{"$nulls":5},1,16,{"$nulls":5},1,16,{"$nulls":5},1,16,{"$nulls":5},1]
[39,17,{"$nulls":5},1,17,{"$nulls":5},1,17,{"$nulls":5},1,17,{"$nulls":5},1,17,{"$nulls":5},1,17,{"$nulls":5},1,17,{"$nulls":5},1,17,{"$nulls":5},1]
[39,18,{"$nulls":5},1,18,{"$nulls":5},1,18,{"$nulls":5},1,18,{"$nulls":5},1,18,{"$nulls":5},1,18,{"$nulls":5},1,18,{"$nulls":5},1,18,{"$nulls":5},1]
[39,"Total","Shots",null,null,"Shots",null,1,"Total","Shots",null,null,"Shots",null,1,"Total","Shots",null,null,"Shots",null,1,"Total","Shots",null,null,"Shots",null,1,"Total","Shots",null,null,"Shots",null,1,"Total","Shots",null,null,"Shots",null,1,"Total","Shots",null,null,"Shots",null,1,"Total","Shots",null,null,"shots",null,1]
[39,null,"Ends",null,null,"Ends",null,1,null,"Ends",null,null,"Ends",null,1,null,"Ends",null,null,"Ends",null,1,null,"Ends",null,null,"Ends",null,1,null,"Ends",null,null,"Ends",null,1,null,"Ends",null,null,"Ends",null,1,null,"Ends",null,null,"Ends",null,1,null,"Ends",null,null,"Ends",null,1]
[39,"1st Game ",{"$nulls":5},1,"2nd Game ",{"$nulls":5},1,"3rd Game ",{"$nulls":5},1,"4th Game",{"$nulls":5},1,"5th Game",{"$nulls":5},1,"6th Game",{"$nulls":5},1,"7th Game",{"$nulls":5},1,"8th Game",{"$nulls":5},1]
[39,"Team No",null,null,"Rink No",null,null,1,{"$f":"VLOOKUP(A1018,Sheet1!$B$7:'Sheet1'!C48,2,0)","v":0},null,null,"Rink No",null,null,1,{"$f":"VLOOKUP(A1018,Sheet1!$B$7:'Sheet1'!C48,2,0)","v":0},null,null,"Rink No",null,null,1,{"$f":"VLOOKUP(A1018,Sheet1!$B$7:'Sheet1'!C48,2,0)","v":0},null,null,"Rink No",null,null,1,{"$f":"VLOOKUP(A1018,Sheet1!$B$7:'Sheet1'!C48,2,0)","v":0},null,null,"Rink No",null,null,1,{"$f":"VLOOKUP(A1018,Sheet1!$B$7:'Sheet1'!C48,2,0)","v":0},null,null,"Rink No",null,null,1,{"$f":"VLOOKUP(A1018,Sheet1!$B$7:'Sheet1'!C48,2,0)","v":0},null,null,"Rink No",null,null,1,{"$f":"VLOOKUP(A1018,Sheet1!$B$7:'Sheet1'!C48,2,0)","v":0},null,null,"Rink No",null,null,1]
[39,{"$nulls":6},1,{"$nulls":6},1,{"$nulls":6},1,{"$nulls":6},1,{"$nulls":6},1,{"$nulls":6},1,{"$nulls":6},1,{"$nulls":6},1]
[40,{"$f":"DRAW!$B$46","v":40},null,null,{"$f":"DRAW!$E$46","v":18},null,null,1,{"$nulls":3},{"$f":"DRAW!$G$46","v":0},null,null,1,{"$f":"DRAW!$B$46","v":40},null,null,{"$f":"DRAW!$I$46","v":0},null,null,1,{"$f":"DRAW!$B$46","v":40},null,null,{"$f":"DRAW!$K$46","v":0},null,null,1,{"$f":"DRAW!$B$46","v":40},null,null,{"$f":"DRAW!$M$46","v":0},null,null,1,{"$f":"DRAW!$B$46","v":40},null,null,{"$f":"DRAW!$O$46","v":0},null,null,1,{"$f":"DRAW!$B$46","v":40},null,null,{"$f":"DRAW!$Q$46","v":0},null,null,1,{"$f":"DRAW!$B$46","v":40},null,null,{"$f":"DRAW!$S$46","v":0},null,null,1]
[40,null,"Team",{"$f":"DRAW!$B$46","v":40},"V","Team",{"$f":"DRAW!$D$46","v":33},1,null,"Team",{"$f":"DRAW!$B$46","v":40},"V","Team",{"$f":"DRAW!$F$46","v":0},1,null,"Team",{"$f":"DRAW!$B$46","v":40},"V","Team",{"$f":"DRAW!$H$46","v":0},1,null,"Team",{"$f":"DRAW!$B$46","v":40},"V","Team",{"$f":"DRAW!$J$46","v":0},1,null,"Team",{"$f":"DRAW!$B$46","v":40},"V","Team",{"$f":"DRAW!$L$46","v":0},1,null,"Team",{"$f":"DRAW!$B$46","v":40},"V","Team",{"$f":"DRAW!$N$46","v":0},1,null,"Team",{"$f":"DRAW!$B$46","v":40},"V","Team",{"$f":"DRAW!$P$46","v":0},1,null,"Team",{"$f":"DRAW!$B$46","v":40},"V","Team",{"$f":"DRAW!$R$46","v":0},1]
[40,"Ends","Shots","Total",null,"Shots","Total",1,"Ends","Shots","Total",null,"Shots","Total",1,"Ends","Shots","Total",null,"Shots","Total",1,"Ends","Shots","Total",null,"Shots","Total",1,"Ends","Shots","Total",null,"Shots","Total",1,"Ends","Shots","Total",null,"Shots","Total",1,"Ends","Shots","Total",null,"Shots","Total",1,"Ends","Shots","Total",null,"shots","Total",1]
[40,1,{"$nulls":5},1,1,{"$nulls":5},1,1,{"$nulls":5},1,1,{"$nulls":5},1,1,{"$nulls":5},1,1,{"$nulls":5},1,1,{"$nulls":5},1,1,{"$nulls":5},1]
[40,2,{"$nulls":5},1,2,{"$nulls":5},1,2,{"$nulls":5},1,2,{"$nulls":5},1,2,{"$nulls":5},1,2,{"$nulls":5},1,2,{"$nulls":5},1,2,{"$nulls":5},1]
[40,3,{"$nulls":5},1,3,{"$nulls":5},1,3,{"$nulls":5},1,3,{"$nulls":5},1,3,{"$nulls":5},1,3,{"$nulls":5},1,3,{"$nulls":5},1,3,{"$nulls":5},1]
[40,4,{"$nulls":5},1,4,{"$nulls":5},1,4,{"$nulls":5},1,4,{"$nulls":5},1,4,{"$nulls":5},1,4,{"$nulls":5},1,4,{"$nulls":5},1,4,{"$nulls":5},1]
[40,5,{"$nulls":5},1,5,{"$nulls":5},1,5,{"$nulls":5},1,5,{"$nulls":5},1,5,{"$nulls":5},1,5,{"$nulls":5},1,5,{"$nulls":5},1,5,{"$nulls":5},1]
[40,6,{"$nulls":5},1,6,{"$nulls":5},1,6,{"$nulls":5},1,6,{"$nulls":5},1,6,{"$nulls":5},1,6,{"$nulls":5},1,6,{"$nulls":5},1,6,{"$nulls":5},1]
[40,7,{"$nulls":5},1,7,{"$nulls":5},1,7,{"$nulls":5},1,7,{"$nulls":5},1,7,{"$nulls":5},1,7,{"$nulls":5},1,7,{"$nulls":5},1,7,{"$nulls":5},1]
[40,8,{"$nulls":5},1,8,{"$nulls":5},1,8,{"$nulls":5},1,8,{"$nulls":5},1,8,{"$nulls":5},1,8,{"$nulls":5},1,8,{"$nulls":5},1,8,{"$nulls":5},1]
[40,9,{"$nulls":5},1,9,{"$nulls":5},1,9,{"$nulls":5},1,9,{"$nulls":5},1,9,{"$nulls":5},1,9,{"$nulls":5},1,9,{"$nulls":5},1,9,{"$nulls":5},1]
[40,10,{"$nulls":5},1,10,{"$nulls":5},1,10,{"$nulls":5},1,10,{"$nulls":5},1,10,{"$nulls":5},1,10,{"$nulls":5},1,10,{"$nulls":5},1,10,{"$nulls":5},1]
[40,11,{"$nulls":5},1,11,{"$nulls":5},1,11,{"$nulls":5},1,11,{"$nulls":5},1,11,{"$nulls":5},1,11,{"$nulls":5},1,11,{"$nulls":5},1,11,{"$nulls":5},1]
[40,12,{"$nulls":5},1,12,{"$nulls":5},1,12,{"$nulls":5},1,12,{"$nulls":5},1,12,{"$nulls":5},1,12,{"$nulls":5},1,12,{"$nulls":5},1,12,{"$nulls":5},1]
[40,13,{"$nulls":5},1,13,{"$nulls":5},1,13,{"$nulls":5},1,13,{"$nulls":5},1,13,{"$nulls":5},1,13,{"$nulls":5},1,13,{"$nulls":5},1,13,{"$nulls":5},1]
[40,14,{"$nulls":5},1,14,{"$nulls":5},1,14,{"$nulls":5},1,14,{"$nulls":5},1,14,{"$nulls":5},1,14,{"$nulls":5},1,14,{"$nulls":5},1,14,{"$nulls":5},1]
[40,15,{"$nulls":5},1,15,{"$nulls":5},1,15,{"$nulls":5},1,15,{"$nulls":5},1,15,{"$nulls":5},1,15,{"$nulls":5},1,15,{"$nulls":5},1,15,{"$nulls":5},1]
[40,16,{"$nulls":5},1,16,{"$nulls":5},1,16,{"$nulls":5},1,16,{"$nulls":5},1,16,{"$nulls":5},1,16,{"$nulls":5},1,16,{"$nulls":5},1,16,{"$nulls":5},1]
[40,17,{"$nulls":5},1,17,{"$nulls":5},1,17,{"$nulls":5},1,17,{"$nulls":5},1,17,{"$nulls":5},1,17,{"$nulls":5},1,17,{"$nulls":5},1,17,{"$nulls":5},1]
[40,18,{"$nulls":5},1,18,{"$nulls":5},1,18,{"$nulls":5},1,18,{"$nulls":5},1,18,{"$nulls":5},1,18,{"$nulls":5},1,18,{"$nulls":5},1,18,{"$nulls":5},1]
[40,"Total","Shots",null,null,"Shots",null,1,"Total","Shots",null,null,"Shots",null,1,"Total","Shots",null,null,"Shots",null,1,"Total","Shots",null,null,"Shots",null,1,"Total","Shots",null,null,"Shots",null,1,"Total","Shots",null,null,"Shots",null,1,"Total","Shots",null,null,"Shots",null,1,"Total","Shots",null,null,"shots",null,1]
[40,null,"Ends",null,null,"Ends",null,1,null,"Ends",null,null,"Ends",null,1,null,"Ends",null,null,"Ends",null,1,null,"Ends",null,null,"Ends",null,1,null,"Ends",null,null,"Ends",null,1,null,"Ends",null,null,"Ends",null,1,null,"Ends",null,null,"Ends",null,1,null,"Ends",null,null,"Ends",null,1]
[40,"1st Game ",{"$nulls":5},1,"2nd Game ",{"$nulls":5},1,"3rd Game ",{"$nulls":5},1,"4th Game",{"$nulls":5},1,"5th Game",{"$nulls":5},1,"6th Game",{"$nulls":5},1,"7th Game",{"$nulls":5},1,"8th Game",{"$nulls":5},1]
[40,"Team No",null,null,"Rink No",null,null,1,{"$f":"VLOOKUP(A1044,Sheet1!$B$7:'Sheet1'!C48,2,0)","v":0},null,null,"Rink No",null,null,1,{"$f":"VLOOKUP(A1044,Sheet1!$B$7:'Sheet1'!C48,2,0)","v":0},null,null,"Rink No",null,null,1,{"$f":"VLOOKUP(A1044,Sheet1!$B$7:'Sheet1'!C48,2,0)","v":0},null,null,"Rink No",null,null,1,{"$f":"VLOOKUP(A1044,Sheet1!$B$7:'Sheet1'!C48,2,0)","v":0},null,null,"Rink No",null,null,1,{"$f":"VLOOKUP(A1044,Sheet1!$B$7:'Sheet1'!C48,2,0)","v":0},null,null,"Rink No",null,null,1,{"$f":"VLOOKUP(A1044,Sheet1!$B$7:'Sheet1'!C48,2,0)","v":0},null,null,"Rink No",null,null,1,{"$f":"VLOOKUP(A1044,Sheet1!$B$7:'Sheet1'!C48,2,0)","v":0},null,null,"Rink No",null,null,1]
[40,{"$nulls":6},1,{"$nulls":6},1,{"$nulls":6},1,{"$nulls":6},1,{"$nulls":6},1,{"$nulls":6},1,{"$nulls":6},1,{"$nulls":6},1]
[41,{"$f":"DRAW!$B$47","v":41},null,null,{"$f":"DRAW!$E$47","v":17},null,null,1,{"$nulls":3},{"$f":"DRAW!$G$47","v":0},null,null,1,{"$f":"DRAW!$B$47","v":41},null,null,{"$f":"DRAW!$I$47","v":0},null,null,1,{"$f":"DRAW!$B$47","v":41},null,null,{"$f":"DRAW!$K$47","v":0},null,null,1,{"$f":"DRAW!$B$47","v":41},null,null,{"$f":"DRAW!$M$47","v":0},null,null,1,{"$f":"DRAW!$B$47","v":41},null,null,{"$f":"DRAW!$O$47","v":0},null,null,1,{"$f":"DRAW!$B$47","v":41},null,null,{"$f":"DRAW!$Q$47","v":0},null,null,1,{"$f":"DRAW!$B$47","v":41},null,null,{"$f":"DRAW!$S$47","v":0},null,null,1]
[41,null,"Team",{"$f":"DRAW!$B$47","v":41},"V","Team",{"$f":"DRAW!$D$47","v":32},1,null,"Team",{"$f":"DRAW!$B$47","v":41},"V","Team",{"$f":"DRAW!$F$47","v":0},1,null,"Team",{"$f":"DRAW!$B$47","v":41},"V","Team",{"$f":"DRAW!$H$47","v":0},1,null,"Team",{"$f":"DRAW!$B$47","v":41},"V","Team",{"$f":"DRAW!$J$47","v":0},1,null,"Team",{"$f":"DRAW!$B$47","v":41},"V","Team",{"$f":"DRAW!$L$47","v":0},1,null,"Team",{"$f":"DRAW!$B$47","v":41},"V","Team",{"$f":"DRAW!$N$47","v":0},1,null,"Team",{"$f":"DRAW!$B$47","v":41},"V","Team",{"$f":"DRAW!$P$47","v":0},1,null,"Team",{"$f":"DRAW!$B$47","v":41},"V","Team",{"$f":"DRAW!$R$47","v":0},1]
[41,"Ends","Shots","Total",null,"Shots","Total",1,"Ends","Shots","Total",null,"Shots","Total",1,"Ends","Shots","Total",null,"Shots","Total",1,"Ends","Shots","Total",null,"Shots","Total",1,"Ends","Shots","Total",null,"Shots","Total",1,"Ends","Shots","Total",null,"Shots","Total",1,"Ends","Shots","Total",null,"Shots","Total",1,"Ends","Shots","Total",null,"shots","Total",1]
[41,1,{"$nulls":5},1,1,{"$nulls":5},1,1,{"$nulls":5},1,1,{"$nulls":5},1,1,{"$nulls":5},1,1,{"$nulls":5},1,1,{"$nulls":5},1,1,{"$nulls":5},1]
[41,2,{"$nulls":5},1,2,{"$nulls":5},1,2,{"$nulls":5},1,2,{"$nulls":5},1,2,{"$nulls":5},1,2,{"$nulls":5},1,2,{"$nulls":5},1,2,{"$nulls":5},1]
[41,3,{"$nulls":5},1,3,{"$nulls":5},1,3,{"$nulls":5},1,3,{"$nulls":5},1,3,{"$nulls":5},1,3,{"$nulls":5},1,3,{"$nulls":5},1,3,{"$nulls":5},1]
[41,4,{"$nulls":5},1,4,{"$nulls":5},1,4,{"$nulls":5},1,4,{"$nulls":5},1,4,{"$nulls":5},1,4,{"$nulls":5},1,4,{"$nulls":5},1,4,{"$nulls":5},1]
[41,5,{"$nulls":5},1,5,{"$nulls":5},1,5,{"$nulls":5},1,5,{"$nulls":5},1,5,{"$nulls":5},1,5,{"$nulls":5},1,5,{"$nulls":5},1,5,{"$nulls":5},1]
[41,6,{"$nulls":5},1,6,{"$nulls":5},1,6,{"$nulls":5},1,6,{"$nulls":5},1,6,{"$nulls":5},1,6,{"$nulls":5},1,6,{"$nulls":5},1,6,{"$nulls":5},1]
[41,7,{"$nulls":5},1,7,{"$nulls":5},1,7,{"$nulls":5},1,7,{"$nulls":5},1,7,{"$nulls":5},1,7,{"$nulls":5},1,7,{"$nulls":5},1,7,{"$nulls":5},1]
[41,8,{"$nulls":5},1,8,{"$nulls":5},1,8,{"$nulls":5},1,8,{"$nulls":5},1,8,{"$nulls":5},1,8,{"$nulls":5},1,8,{"$nulls":5},1,8,{"$nulls":5},1]
[41,9,{"$nulls":5},1,9,{"$nulls":5},1,9,{"$nulls":5},1,9,{"$nulls":5},1,9,{"$nulls":5},1,9,{"$nulls":5},1,9,{"$nulls":5},1,9,{"$nulls":5},1]
[41,10,{"$nulls":5},1,10,{"$nulls":5},1,10,{"$nulls":5},1,10,{"$nulls":5},1,10,{"$nulls":5},1,10,{"$nulls":5},1,10,{"$nulls":5},1,10,{"$nulls":5},1]
[41,11,{"$nulls":5},1,11,{"$nulls":5},1,11,{"$nulls":5},1,11,{"$nulls":5},1,11,{"$nulls":5},1,11,{"$nulls":5},1,11,{"$nulls":5},1,11,{"$nulls":5},1]
[41,12,{"$nulls":5},1,12,{"$nulls":5},1,12,{"$nulls":5},1,12,{"$nulls":5},1,12,{"$nulls":5},1,12,{"$nulls":5},1,12,{"$nulls":5},1,12,{"$nulls":5},1]
[41,13,{"$nulls":5},1,13,{"$nulls":5},1,13,{"$nulls":5},1,13,{"$nulls":5},1,13,{"$nulls":5},1,13,{"$nulls":5},1,13,{"$nulls":5},1,13,{"$nulls":5},1]
[41,14,{"$nulls":5},1,14,{"$nulls":5},1,14,{"$nulls":5},1,14,{"$nulls":5},1,14,{"$nulls":5},1,14,{"$nulls":5},1,14,{"$nulls":5},1,14,{"$nulls":5},1]
[41,15,{"$nulls":5},1,15,{"$nulls":5},1,15,{"$nulls":5},1,15,{"$nulls":5},1,15,{"$nulls":5},1,15,{"$nulls":5},1,15,{"$nulls":5},1,15,{"$nulls":5},1]
[41,16,{"$nulls":5},1,16,{"$nulls":5},1,16,{"$nulls":5},1,16,{"$nulls":5},1,16,{"$nulls":5},1,16,{"$nulls":5},1,16,{"$nulls":5},1,16,{"$nulls":5},1]
[41,17,{"$nulls":5},1,17,{"$nulls":5},1,17,{"$nulls":5},1,17,{"$nulls":5},1,17,{"$nulls":5},1,17,{"$nulls":5},1,17,{"$nulls":5},1,17,{"$nulls":5},1]
[41,18,{"$nulls":5},1,18,{"$nulls":5},1,18,{"$nulls":5},1,18,{"$nulls":5},1,18,{"$nulls":5},1,18,{"$nulls":5},1,18,{"$nulls":5},1,18,{"$nulls":5},1]
[41,"Total","Shots",null,null,"Shots",null,1,"Total","Shots",null,null,"Shots",null,1,"Total","Shots",null,null,"Shots",null,1,"Total","Shots",null,null,"Shots",null,1,"Total","Shots",null,null,"Shots",null,1,"Total","Shots",null,null,"Shots",null,1,"Total","Shots",null,null,"Shots",null,1,"Total","Shots",null,null,"shots",null,1]
[41,null,"Ends",null,null,"Ends",null,1,null,"Ends",null,null,"Ends",null,1,null,"Ends",null,null,"Ends",null,1,null,"Ends",null,null,"Ends",null,1,null,"Ends",null,null,"Ends",null,1,null,"Ends",null,null,"Ends",null,1,null,"Ends",null,null,"Ends",null,1,null,"Ends",null,null,"Ends",null,1]
[41,"1st Game ",{"$nulls":5},1,"2nd Game ",{"$nulls":5},1,"3rd Game ",{"$nulls":5},1,"4th Game",{"$nulls":5},1,"5th Game",{"$nulls":5},1,"6th Game",{"$nulls":5},1,"7th Game",{"$nulls":5},1,"8th Game",{"$nulls":5},1]
[41,"Team No",null,null,"Rink No",null,null,1,{"$f":"VLOOKUP(A1070,Sheet1!$B$7:'Sheet1'!C48,2,0)","v":0},null,null,"Rink No",null,null,1,{"$f":"VLOOKUP(A1070,Sheet1!$B$7:'Sheet1'!C48,2,0)","v":0},null,null,"Rink No",null,null,1,{"$f":"VLOOKUP(A1070,Sheet1!$B$7:'Sheet1'!C48,2,0)","v":0},null,null,"Rink No",null,null,1,{"$f":"VLOOKUP(A1070,Sheet1!$B$7:'Sheet1'!C48,2,0)","v":0},null,null,"Rink No",null,null,1,{"$f":"VLOOKUP(A1070,Sheet1!$B$7:'Sheet1'!C48,2,0)","v":0},null,null,"Rink No",null,null,1,{"$f":"VLOOKUP(A1070,Sheet1!$B$7:'Sheet1'!C48,2,0)","v":0},null,null,"Rink No",null,null,1,{"$f":"VLOOKUP(A1070,Sheet1!$B$7:'Sheet1'!C48,2,0)","v":0},null,null,"Rink No",null,null,1]
[41,{"$nulls":6},1,{"$nulls":6},1,{"$nulls":6},1,{"$nulls":6},1,{"$nulls":6},1,{"$nulls":6},1,{"$nulls":6},1,{"$nulls":6},1]
[42,{"$f":"DRAW!$B$48","v":42},null,null,{"$f":"DRAW!$E$48","v":16},null,null,1,{"$nulls":3},{"$f":"DRAW!$G$48","v":0},null,null,1,{"$f":"DRAW!$B$48","v":42},null,null,{"$f":"DRAW!$I$48","v":0},null,null,1,{"$f":"DRAW!$B$48","v":42},null,null,{"$f":"DRAW!$K$48","v":0},null,null,1,{"$f":"DRAW!$B$48","v":42},null,null,{"$f":"DRAW!$M$48","v":0},null,null,1,{"$f":"DRAW!$B$48","v":42},null,null,{"$f":"DRAW!$O$48","v":0},null,null,1,{"$f":"DRAW!$B$48","v":42},null,null,{"$f":"DRAW!$Q$48","v":0},null,null,1,{"$f":"DRAW!$B$48","v":42},null,null,{"$f":"DRAW!$S$48","v":0},null,null,1]
[42,null,"Team",{"$f":"DRAW!$B$48","v":42},"V","Team",{"$f":"DRAW!$D$48","v":31},1,null,"Team",{"$f":"DRAW!$B$48","v":42},"V","Team",{"$f":"DRAW!$F$48","v":0},1,null,"Team",{"$f":"DRAW!$B$48","v":42},"V","Team",{"$f":"DRAW!$H$48","v":0},1,null,"Team",{"$f":"DRAW!$B$48","v":42},"V","Team",{"$f":"DRAW!$J$48","v":0},1,null,"Team",{"$f":"DRAW!$B$48","v":42},"V","Team",{"$f":"DRAW!$L$48","v":0},1,null,"Team",{"$f":"DRAW!$B$48","v":42},"V","Team",{"$f":"DRAW!$N$48","v":0},1,null,"Team",{"$f":"DRAW!$B$48","v":42},"V","Team",{"$f":"DRAW!$P$48","v":0},1,null,"Team",{"$f":"DRAW!$B$48","v":42},"V","Team",{"$f":"DRAW!$R$48","v":0},1]
[42,"Ends","Shots","Total",null,"Shots","Total",1,"Ends","Shots","Total",null,"Shots","Total",1,"Ends","Shots","Total",null,"Shots","Total",1,"Ends","Shots","Total",null,"Shots","Total",1,"Ends","Shots","Total",null,"Shots","Total",1,"Ends","Shots","Total",null,"Shots","Total",1,"Ends","Shots","Total",null,"Shots","Total",1,"Ends","Shots","Total",null,"shots","Total",1]
[42,1,{"$nulls":5},1,1,{"$nulls":5},1,1,{"$nulls":5},1,1,{"$nulls":5},1,1,{"$nulls":5},1,1,{"$nulls":5},1,1,{"$nulls":5},1,1,{"$nulls":5},1]
[42,2,{"$nulls":5},1,2,{"$nulls":5},1,2,{"$nulls":5},1,2,{"$nulls":5},1,2,{"$nulls":5},1,2,{"$nulls":5},1,2,{"$nulls":5},1,2,{"$nulls":5},1]
[42,3,{"$nulls":5},1,3,{"$nulls":5},1,3,{"$nulls":5},1,3,{"$nulls":5},1,3,{"$nulls":5},1,3,{"$nulls":5},1,3,{"$nulls":5},1,3,{"$nulls":5},1]
[42,4,{"$nulls":5},1,4,{"$nulls":5},1,4,{"$nulls":5},1,4,{"$nulls":5},1,4,{"$nulls":5},1,4,{"$nulls":5},1,4,{"$nulls":5},1,4,{"$nulls":5},1]
[42,5,{"$nulls":5},1,5,{"$nulls":5},1,5,{"$nulls":5},1,5,{"$nulls":5},1,5,{"$nulls":5},1,5,{"$nulls":5},1,5,{"$nulls":5},1,5,{"$nulls":5},1]
[42,6,{"$nulls":5},1,6,{"$nulls":5},1,6,{"$nulls":5},1,6,{"$nulls":5},1,6,{"$nulls":5},1,6,{"$nulls":5},1,6,{"$nulls":5},1,6,{"$nulls":5},1]
[42,7,{"$nulls":5},1,7,{"$nulls":5},1,7,{"$nulls":5},1,7,{"$nulls":5},1,7,{"$nulls":5},1,7,{"$nulls":5},1,7,{"$nulls":5},1,7,{"$nulls":5},1]
[42,8,{"$nulls":5},1,8,{"$nulls":5},1,8,{"$nulls":5},1,8,{"$nulls":5},1,8,{"$nulls":5},1,8,{"$nulls":5},1,8,{"$nulls":5},1,8,{"$nulls":5},1]
[42,9,{"$nulls":5},1,9,{"$nulls":5},1,9,{"$nulls":5},1,9,{"$nulls":5},1,9,{"$nulls":5},1,9,{"$nulls":5},1,9,{"$nulls":5},1,9,{"$nulls":5},1]
[42,10,{"$nulls":5},1,10,{"$nulls":5},1,10,{"$nulls":5},1,10,{"$nulls":5},1,10,{"$nulls":5},1,10,{"$nulls":5},1,10,{"$nulls":5},1,10,{"$nulls":5},1]
[42,11,{"$nulls":5},1,11,{"$nulls":5},1,11,{"$nulls":5},1,11,{"$nulls":5},1,11,{"$nulls":5},1,11,{"$nulls":5},1,11,{"$nulls":5},1,11,{"$nulls":5},1]
[42,12,{"$nulls":5},1,12,{"$nulls":5},1,12,{"$nulls":5},1,12,{"$nulls":5},1,12,{"$nulls":5},1,12,{"$nulls":5},1,12,{"$nulls":5},1,12,{"$nulls":5},1]
[42,13,{"$nulls":5},1,13,{"$nulls":5},1,13,{"$nulls":5},1,13,{"$nulls":5},1,13,{"$nulls":5},1,13,{"$nulls":5},1,13,{"$nulls":5},1,13,{"$nulls":5},1]
[42,14,{"$nulls":5},1,14,{"$nulls":5},1,14,{"$nulls":5},1,14,{"$nulls":5},1,14,{"$nulls":5},1,14,{"$nulls":5},1,14,{"$nulls":5},1,14,{"$nulls":5},1]
[42,15,{"$nulls":5},1,15,{"$nulls":5},1,15,{"$nulls":5},1,15,{"$nulls":5},1,15,{"$nulls":5},1,15,{"$nulls":5},1,15,{"$nulls":5},1,15,{"$nulls":5},1]
[42,16,{"$nulls":5},1,16,{"$nulls":5},1,16,{"$nulls":5},1,16,{"$nulls":5},1,16,{"$nulls":5},1,16,{"$nulls":5},1,16,{"$nulls":5},1,16,{"$nulls":5},1]
[42,17,{"$nulls":5},1,17,{"$nulls":5},1,17,{"$nulls":5},1,17,{"$nulls":5},1,17,{"$nulls":5},1,17,{"$nulls":5},1,17,{"$nulls":5},1,17,{"$nulls":5},1]
[42,18,{"$nulls":5},1,18,{"$nulls":5},1,18,{"$nulls":5},1,18,{"$nulls":5},1,18,{"$nulls":5},1,18,{"$nulls":5},1,18,{"$nulls":5},1,18,{"$nulls":5},1]
[42,"Total","Shots",null,null,"Shots",null,1,"Total","Shots",null,null,"Shots",null,1,"Total","Shots",null,null,"Shots",null,1,"Total","Shots",null,null,"Shots",null,1,"Total","Shots",null,null,"Shots",null,1,"Total","Shots",null,null,"Shots",null,1,"Total","Shots",null,null,"Shots",null,1,"Total","Shots",null,null,"shots",null,1]
[42,null,"Ends",null,null,"Ends",null,1,null,"Ends",null,null,"Ends",null,1,null,"Ends",null,null,"Ends",null,1,null,"Ends",null,null,"Ends",null,1,null,"Ends",null,null,"Ends",null,1,null,"Ends",null,null,"Ends",null,1,null,"Ends",null,null,"Ends",null,1,null,"Ends",null,null,"Ends",null,1]

{"sheet":"Rnd 1","index":5,"n_rows":0,"n_cols":0,"rows_kept":0,"merged":[[0,1,0,6],[1,1,2,3],[1,4,2,6],[3,1,3,3],[3,4,3,6],[24,1,25,1],[26,1,26,6],[27,1,28,3],[27,4,28,6],[29,1,29,3],[29,4,29,6],[50,1,51,1],[52,1,52,6],[53,1,54,3],[53,4,54,6],[55,1,55,3],[55,4,55,6],[76,1,77,1],[78,1,78,6],[79,1,80,3],[79,4,80,6],[81,1,81,3],[81,4,81,6],[102,1,103,1],[104,1,104,6],[105,1,106,3],[105,4,106,6],[107,1,107,3],[107,4,107,6],[128,1,129,1],[130,1,130,6],[131,1,132,3],[131,4,132,6],[133,1,133,3],[133,4,133,6],[154,1,155,1],[156,1,156,6],[157,1,158,3],[157,4,158,6],[159,1,159,3],[159,4,159,6],[180,1,181,1],[182,1,182,6],[183,1,184,3],[183,4,184,6],[185,1,185,3],[185,4,185,6],[206,1,207,1],[208,1,208,6],[209,1,210,3],[209,4,210,6],[211,1,211,3],[211,4,211,6],[232,1,233,1],[234,1,234,6],[235,1,236,3],[235,4,236,6],[237,1,237,3],[237,4,237,6],[258,1,259,1],[260,1,260,6],[261,1,262,3],[261,4,262,6],[263,1,263,3],[263,4,263,6],[284,1,285,1],[286,1,286,6],[287,1,288,3],[287,4,288,6],[289,1,289,3],[289,4,289,6],[310,1,311,1],[312,1,312,6],[313,1,314,3],[313,4,314,6],[315,1,315,3],[315,4,315,6],[336,1,337,1],[338,1,338,6],[339,1,340,3],[339,4,340,6],[341,1,341,3],[341,4,341,6],[362,1,363,1],[364,1,364,6],[365,1,366,3],[365,4,366,6],[367,1,367,3],[367,4,367,6],[388,1,389,1],[390,1,390,6],[391,1,392,3],[391,4,392,6],[393,1,393,3],[393,4,393,6],[414,1,415,1],[416,1,416,6],[417,1,418,3],[417,4,418,6],[419,1,419,3],[419,4,419,6],[440,1,441,1],[442,1,442,6],[443,1,444,3],[443,4,444,6],[445,1,445,3],[445,4,445,6],[466,1,467,1],[468,1,468,6],[469,1,470,3],[469,4,470,6],[471,1,471,3],[471,4,471,6],[492,1,493,1],[494,1,494,6],[495,1,496,3],[495,4,496,6],[497,1,497,3],[497,4,497,6],[518,1,519,1],[520,1,520,6],[521,1,522,3],[521,4,522,6],[523,1,523,3],[523,4,523,6],[544,1,545,1],[546,1,546,6],[547,1,548,3],[547,4,548,6],[549,1,549,3],[549,4,549,6],[570,1,571,1],[572,1,572,6],[573,1,574,3],[573,4,574,6],[575,1,575,3],[575,4,575,6],[596,1,597,1],[598,1,598,6],[599,1,600,3],[599,4,600,6],[601,1,601,3],[601,4,601,6],[622,1,623,1],[624,1,624,6],[625,1,626,3],[625,4,626,6],[627,1,627,3],[627,4,627,6],[648,1,649,1],[650,1,650,6],[651,1,652,3],[651,4,652,6],[653,1,653,3],[653,4,653,6],[674,1,675,1],[676,1,676,6],[677,1,678,3],[677,4,678,6],[679,1,679,3],[679,4,679,6],[700,1,701,1],[702,1,702,6],[703,1,704,3],[703,4,704,6],[705,1,705,3],[705,4,705,6],[726,1,727,1],[728,1,728,6],[729,1,730,3],[729,4,730,6],[731,1,731,3],[731,4,731,6],[752,1,753,1],[754,1,754,6],[755,1,756,3],[755,4,756,6],[757,1,757,3],[757,4,757,6],[778,1,779,1],[780,1,780,6],[781,1,782,3],[781,4,782,6],[783,1,783,3],[783,4,783,6],[804,1,805,1],[806,1,806,6],[807,1,808,3],[807,4,808,6],[809,1,809,3],[809,4,809,6],[830,1,831,1],[832,1,832,6],[833,1,834,3],[833,4,834,6],[835,1,835,3],[835,4,835,6],[856,1,857,1],[858,1,858,6],[859,1,860,3],[859,4,860,6],[861,1,861,3],[861,4,861,6],[882,1,883,1],[884,1,884,6],[885,1,886,3],[885,4,886,6],[887,1,887,3],[887,4,887,6],[908,1,909,1],[910,1,910,6],[911,1,912,3],[911,4,912,6],[913,1,913,3],[913,4,913,6],[934,1,935,1],[936,1,936,6],[937,1,938,3],[937,4,938,6],[939,1,939,3],[939,4,939,6],[960,1,961,1],[962,1,962,6],[963,1,964,3],[963,4,964,6],[965,1,965,3],[965,4,965,6],[986,1,987,1],[988,1,988,6],[989,1,990,3],[989,4,990,6],[991,1,991,3],[991,4,991,6],[1012,1,1013,1],[1014,1,1014,6],[1015,1,1016,3],[1015,4,1016,6],[1017,1,1017,3],[1017,4,1017,6],[1038,1,1039,1],[1040,1,1040,6],[1041,1,1042,3],[1041,4,1042,6],[1043,1,1043,3],[1043,4,1043,6],[1064,1,1065,1],[1066,1,1066,6],[1067,1,1068,3],[1067,4,1068,6],[1069,1,1069,3],[1069,4,1069,6],[1090,1,1091,1]]}

{"sheet":"Rnd 2","index":6,"n_rows":0,"n_cols":0,"rows_kept":0,"merged":[[0,1,0,6],[1,1,2,3],[1,4,2,6],[3,1,3,3],[3,4,3,6],[24,1,25,1],[26,1,26,6],[27,1,28,3],[27,4,28,6],[29,1,29,3],[29,4,29,6],[50,1,51,1],[52,1,52,6],[53,1,54,3],[53,4,54,6],[55,1,55,3],[55,4,55,6],[76,1,77,1],[78,1,78,6],[79,1,80,3],[79,4,80,6],[81,1,81,3],[81,4,81,6],[102,1,103,1],[104,1,104,6],[105,1,106,3],[105,4,106,6],[107,1,107,3],[107,4,107,6],[128,1,129,1],[130,1,130,6],[131,1,132,3],[131,4,132,6],[133,1,133,3],[133,4,133,6],[154,1,155,1],[156,1,156,6],[157,1,158,3],[157,4,158,6],[159,1,159,3],[159,4,159,6],[180,1,181,1],[182,1,182,6],[183,1,184,3],[183,4,184,6],[185,1,185,3],[185,4,185,6],[206,1,207,1],[208,1,208,6],[209,1,210,3],[209,4,210,6],[211,1,211,3],[211,4,211,6],[232,1,233,1],[234,1,234,6],[235,1,236,3],[235,4,236,6],[237,1,237,3],[237,4,237,6],[258,1,259,1],[260,1,260,6],[261,1,262,3],[261,4,262,6],[263,1,263,3],[263,4,263,6],[284,1,285,1],[286,1,286,6],[287,1,288,3],[287,4,288,6],[289,1,289,3],[289,4,289,6],[310,1,311,1],[312,1,312,6],[313,1,314,3],[313,4,314,6],[315,1,315,3],[315,4,315,6],[336,1,337,1],[338,1,338,6],[339,1,340,3],[339,4,340,6],[341,1,341,3],[341,4,341,6],[362,1,363,1],[364,1,364,6],[365,1,366,3],[365,4,366,6],[367,1,367,3],[367,4,367,6],[388,1,389,1],[390,1,390,6],[391,1,392,3],[391,4,392,6],[393,1,393,3],[393,4,393,6],[414,1,415,1],[416,1,416,6],[417,1,418,3],[417,4,418,6],[419,1,419,3],[419,4,419,6],[440,1,441,1],[442,1,442,6],[443,1,444,3],[443,4,444,6],[445,1,445,3],[445,4,445,6],[466,1,467,1],[468,1,468,6],[469,1,470,3],[469,4,470,6],[471,1,471,3],[471,4,471,6],[492,1,493,1],[494,1,494,6],[495,1,496,3],[495,4,496,6],[497,1,497,3],[497,4,497,6],[518,1,519,1],[520,1,520,6],[521,1,522,3],[521,4,522,6],[523,1,523,3],[523,4,523,6],[544,1,545,1],[546,1,546,6],[547,1,548,3],[547,4,548,6],[549,1,549,3],[549,4,549,6],[570,1,571,1],[572,1,572,6],[573,1,574,3],[573,4,574,6],[575,1,575,3],[575,4,575,6],[596,1,597,1],[598,1,598,6],[599,1,600,3],[599,4,600,6],[601,1,601,3],[601,4,601,6],[622,1,623,1],[624,1,624,6],[625,1,626,3],[625,4,626,6],[627,1,627,3],[627,4,627,6],[648,1,649,1],[650,1,650,6],[651,1,652,3],[651,4,652,6],[653,1,653,3],[653,4,653,6],[674,1,675,1],[676,1,676,6],[677,1,678,3],[677,4,678,6],[679,1,679,3],[679,4,679,6],[700,1,701,1],[702,1,702,6],[703,1,704,3],[703,4,704,6],[705,1,705,3],[705,4,705,6],[726,1,727,1],[728,1,728,6],[729,1,730,3],[729,4,730,6],[731,1,731,3],[731,4,731,6],[752,1,753,1],[754,1,754,6],[755,1,756,3],[755,4,756,6],[757,1,757,3],[757,4,757,6],[778,1,779,1],[780,1,780,6],[781,1,782,3],[781,4,782,6],[783,1,783,3],[783,4,783,6],[804,1,805,1],[806,1,806,6],[807,1,808,3],[807,4,808,6],[809,1,809,3],[809,4,809,6],[830,1,831,1],[832,1,832,6],[833,1,834,3],[833,4,834,6],[835,1,835,3],[835,4,835,6],[856,1,857,1],[858,1,858,6],[859,1,860,3],[859,4,860,6],[861,1,861,3],[861,4,861,6],[882,1,883,1],[884,1,884,6],[885,1,886,3],[885,4,886,6],[887,1,887,3],[887,4,887,6],[908,1,909,1],[910,1,910,6],[911,1,912,3],[911,4,912,6],[913,1,913,3],[913,4,913,6],[934,1,935,1],[936,1,936,6],[937,1,938,3],[937,4,938,6],[939,1,939,3],[939,4,939,6],[960,1,961,1],[962,1,962,6],[963,1,964,3],[963,4,964,6],[965,1,965,3],[965,4,965,6],[986,1,987,1],[988,1,988,6],[989,1,990,3],[989,4,990,6],[991,1,991,3],[991,4,991,6],[1012,1,1013,1],[1014,1,1014,6],[1015,1,1016,3],[1015,4,1016,6],[1017,1,1017,3],[1017,4,1017,6],[1038,1,1039,1],[1040,1,1040,6],[1041,1,1042,3],[1041,4,1042,6],[1043,1,1043,3],[1043,4,1043,6],[1064,1,1065,1],[1066,1,1066,6],[1067,1,1068,3],[1067,4,1068,6],[1069,1,1069,3],[1069,4,1069,6],[1090,1,1091,1],[1092,1,1092,6],[1093,1,1094,3],[1093,4,1094,6],[1095,1,1095,3],[1095,4,1095,6],[1116,1,1117,1],[1118,1,1118,6],[1119,1,1120,3],[1119,4,1120,6],[1121,1,1121,3],[1121,4,1121,6]]}

{"sheet":"Rnd 3","index":7,"n_rows":0,"n_cols":0,"rows_kept":0,"merged":[[0,1,0,6],[1,1,2,3],[1,4,2,6],[3,1,3,3],[3,4,3,6],[24,1,25,1],[26,1,26,6],[27,1,28,3],[27,4,28,6],[29,1,29,3],[29,4,29,6],[50,1,51,1],[52,1,52,6],[53,1,54,3],[53,4,54,6],[55,1,55,3],[55,4,55,6],[76,1,77,1],[78,1,78,6],[79,1,80,3],[79,4,80,6],[81,1,81,3],[81,4,81,6],[102,1,103,1],[104,1,104,6],[105,1,106,3],[105,4,106,6],[107,1,107,3],[107,4,107,6],[128,1,129,1],[130,1,130,6],[131,1,132,3],[131,4,132,6],[133,1,133,3],[133,4,133,6],[154,1,155,1],[156,1,156,6],[157,1,158,3],[157,4,158,6],[159,1,159,3],[159,4,159,6],[180,1,181,1],[182,1,182,6],[183,1,184,3],[183,4,184,6],[185,1,185,3],[185,4,185,6],[206,1,207,1],[208,1,208,6],[209,1,210,3],[209,4,210,6],[211,1,211,3],[211,4,211,6],[232,1,233,1],[234,1,234,6],[235,1,236,3],[235,4,236,6],[237,1,237,3],[237,4,237,6],[258,1,259,1],[260,1,260,6],[261,1,262,3],[261,4,262,6],[263,1,263,3],[263,4,263,6],[284,1,285,1],[286,1,286,6],[287,1,288,3],[287,4,288,6],[289,1,289,3],[289,4,289,6],[310,1,311,1],[312,1,312,6],[313,1,314,3],[313,4,314,6],[315,1,315,3],[315,4,315,6],[336,1,337,1],[338,1,338,6],[339,1,340,3],[339,4,340,6],[341,1,341,3],[341,4,341,6],[362,1,363,1],[364,1,364,6],[365,1,366,3],[365,4,366,6],[367,1,367,3],[367,4,367,6],[388,1,389,1],[390,1,390,6],[391,1,392,3],[391,4,392,6],[393,1,393,3],[393,4,393,6],[414,1,415,1],[416,1,416,6],[417,1,418,3],[417,4,418,6],[419,1,419,3],[419,4,419,6],[440,1,441,1],[442,1,442,6],[443,1,444,3],[443,4,444,6],[445,1,445,3],[445,4,445,6],[466,1,467,1],[468,1,468,6],[469,1,470,3],[469,4,470,6],[471,1,471,3],[471,4,471,6],[492,1,493,1],[494,1,494,6],[495,1,496,3],[495,4,496,6],[497,1,497,3],[497,4,497,6],[518,1,519,1],[520,1,520,6],[521,1,522,3],[521,4,522,6],[523,1,523,3],[523,4,523,6],[544,1,545,1],[546,1,546,6],[547,1,548,3],[547,4,548,6],[549,1,549,3],[549,4,549,6],[570,1,571,1],[572,1,572,6],[573,1,574,3],[573,4,574,6],[575,1,575,3],[575,4,575,6],[596,1,597,1],[598,1,598,6],[599,1,600,3],[599,4,600,6],[601,1,601,3],[601,4,601,6],[622,1,623,1],[624,1,624,6],[625,1,626,3],[625,4,626,6],[627,1,627,3],[627,4,627,6],[648,1,649,1],[650,1,650,6],[651,1,652,3],[651,4,652,6],[653,1,653,3],[653,4,653,6],[674,1,675,1],[676,1,676,6],[677,1,678,3],[677,4,678,6],[679,1,679,3],[679,4,679,6],[700,1,701,1],[702,1,702,6],[703,1,704,3],[703,4,704,6],[705,1,705,3],[705,4,705,6],[726,1,727,1],[728,1,728,6],[729,1,730,3],[729,4,730,6],[731,1,731,3],[731,4,731,6],[752,1,753,1],[754,1,754,6],[755,1,756,3],[755,4,756,6],[757,1,757,3],[757,4,757,6],[778,1,779,1],[780,1,780,6],[781,1,782,3],[781,4,782,6],[783,1,783,3],[783,4,783,6],[804,1,805,1],[806,1,806,6],[807,1,808,3],[807,4,808,6],[809,1,809,3],[809,4,809,6],[830,1,831,1],[832,1,832,6],[833,1,834,3],[833,4,834,6],[835,1,835,3],[835,4,835,6],[856,1,857,1],[858,1,858,6],[859,1,860,3],[859,4,860,6],[861,1,861,3],[861,4,861,6],[882,1,883,1],[884,1,884,6],[885,1,886,3],[885,4,886,6],[887,1,887,3],[887,4,887,6],[908,1,909,1],[910,1,910,6],[911,1,912,3],[911,4,912,6],[913,1,913,3],[913,4,913,6],[934,1,935,1],[936,1,936,6],[937,1,938,3],[937,4,938,6],[939,1,939,3],[939,4,939,6],[960,1,961,1],[962,1,962,6],[963,1,964,3],[963,4,964,6],[965,1,965,3],[965,4,965,6],[986,1,987,1],[988,1,988,6],[989,1,990,3],[989,4,990,6],[991,1,991,3],[991,4,991,6],[1012,1,1013,1],[1014,1,1014,6],[1015,1,1016,3],[1015,4,1016,6],[1017,1,1017,3],[1017,4,1017,6],[1038,1,1039,1],[1040,1,1040,6],[1041,1,1042,3],[1041,4,1042,6],[1043,1,1043,3],[1043,4,1043,6],[1064,1,1065,1],[1066,1,1066,6],[1067,1,1068,3],[1067,4,1068,6],[1069,1,1069,3],[1069,4,1069,6],[1090,1,1091,1]]}

{"sheet":"Rnd 4","index":8,"n_rows":0,"n_cols":0,"rows_kept":0,"merged":[[0,1,0,6],[1,1,2,3],[1,4,2,6],[3,1,3,3],[3,4,3,6],[24,1,25,1],[26,1,26,6],[27,1,28,3],[27,4,28,6],[29,1,29,3],[29,4,29,6],[50,1,51,1],[52,1,52,6],[53,1,54,3],[53,4,54,6],[55,1,55,3],[55,4,55,6],[76,1,77,1],[78,1,78,6],[79,1,80,3],[79,4,80,6],[81,1,81,3],[81,4,81,6],[102,1,103,1],[104,1,104,6],[105,1,106,3],[105,4,106,6],[107,1,107,3],[107,4,107,6],[128,1,129,1],[130,1,130,6],[131,1,132,3],[131,4,132,6],[133,1,133,3],[133,4,133,6],[154,1,155,1],[156,1,156,6],[157,1,158,3],[157,4,158,6],[159,1,159,3],[159,4,159,6],[180,1,181,1],[182,1,182,6],[183,1,184,3],[183,4,184,6],[185,1,185,3],[185,4,185,6],[206,1,207,1],[208,1,208,6],[209,1,210,3],[209,4,210,6],[211,1,211,3],[211,4,211,6],[232,1,233,1],[234,1,234,6],[235,1,236,3],[235,4,236,6],[237,1,237,3],[237,4,237,6],[258,1,259,1],[260,1,260,6],[261,1,262,3],[261,4,262,6],[263,1,263,3],[263,4,263,6],[284,1,285,1],[286,1,286,6],[287,1,288,3],[287,4,288,6],[289,1,289,3],[289,4,289,6],[310,1,311,1],[312,1,312,6],[313,1,314,3],[313,4,314,6],[315,1,315,3],[315,4,315,6],[336,1,337,1],[338,1,338,6],[339,1,340,3],[339,4,340,6],[341,1,341,3],[341,4,341,6],[362,1,363,1],[364,1,364,6],[365,1,366,3],[365,4,366,6],[367,1,367,3],[367,4,367,6],[388,1,389,1],[390,1,390,6],[391,1,392,3],[391,4,392,6],[393,1,393,3],[393,4,393,6],[414,1,415,1],[416,1,416,6],[417,1,418,3],[417,4,418,6],[419,1,419,3],[419,4,419,6],[440,1,441,1],[442,1,442,6],[443,1,444,3],[443,4,444,6],[445,1,445,3],[445,4,445,6],[466,1,467,1],[468,1,468,6],[469,1,470,3],[469,4,470,6],[471,1,471,3],[471,4,471,6],[492,1,493,1],[494,1,494,6],[495,1,496,3],[495,4,496,6],[497,1,497,3],[497,4,497,6],[518,1,519,1],[520,1,520,6],[521,1,522,3],[521,4,522,6],[523,1,523,3],[523,4,523,6],[544,1,545,1],[546,1,546,6],[547,1,548,3],[547,4,548,6],[549,1,549,3],[549,4,549,6],[570,1,571,1],[572,1,572,6],[573,1,574,3],[573,4,574,6],[575,1,575,3],[575,4,575,6],[596,1,597,1],[598,1,598,6],[599,1,600,3],[599,4,600,6],[601,1,601,3],[601,4,601,6],[622,1,623,1],[624,1,624,6],[625,1,626,3],[625,4,626,6],[627,1,627,3],[627,4,627,6],[648,1,649,1],[650,1,650,6],[651,1,652,3],[651,4,652,6],[653,1,653,3],[653,4,653,6],[674,1,675,1],[676,1,676,6],[677,1,678,3],[677,4,678,6],[679,1,679,3],[679,4,679,6],[700,1,701,1],[702,1,702,6],[703,1,704,3],[703,4,704,6],[705,1,705,3],[705,4,705,6],[726,1,727,1],[728,1,728,6],[729,1,730,3],[729,4,730,6],[731,1,731,3],[731,4,731,6],[752,1,753,1],[754,1,754,6],[755,1,756,3],[755,4,756,6],[757,1,757,3],[757,4,757,6],[778,1,779,1],[780,1,780,6],[781,1,782,3],[781,4,782,6],[783,1,783,3],[783,4,783,6],[804,1,805,1],[806,1,806,6],[807,1,808,3],[807,4,808,6],[809,1,809,3],[809,4,809,6],[830,1,831,1],[832,1,832,6],[833,1,834,3],[833,4,834,6],[835,1,835,3],[835,4,835,6],[856,1,857,1],[858,1,858,6],[859,1,860,3],[859,4,860,6],[861,1,861,3],[861,4,861,6],[882,1,883,1],[884,1,884,6],[885,1,886,3],[885,4,886,6],[887,1,887,3],[887,4,887,6],[908,1,909,1],[910,1,910,6],[911,1,912,3],[911,4,912,6],[913,1,913,3],[913,4,913,6],[934,1,935,1],[936,1,936,6],[937,1,938,3],[937,4,938,6],[939,1,939,3],[939,4,939,6],[960,1,961,1],[962,1,962,6],[963,1,964,3],[963,4,964,6],[965,1,965,3],[965,4,965,6],[986,1,987,1],[988,1,988,6],[989,1,990,3],[989,4,990,6],[991,1,991,3],[991,4,991,6],[1012,1,1013,1],[1014,1,1014,6],[1015,1,1016,3],[1015,4,1016,6],[1017,1,1017,3],[1017,4,1017,6],[1038,1,1039,1],[1040,1,1040,6],[1041,1,1042,3],[1041,4,1042,6],[1043,1,1043,3],[1043,4,1043,6],[1064,1,1065,1],[1066,1,1066,6],[1067,1,1068,3],[1067,4,1068,6],[1069,1,1069,3],[1069,4,1069,6],[1090,1,1091,1]]}

{"sheet":"Rnd 5","index":9,"n_rows":0,"n_cols":0,"rows_kept":0,"merged":[[0,1,0,6],[1,1,2,3],[1,4,2,6],[3,1,3,3],[3,4,3,6],[24,1,25,1],[26,1,26,6],[27,1,28,3],[27,4,28,6],[29,1,29,3],[29,4,29,6],[50,1,51,1],[52,1,52,6],[53,1,54,3],[53,4,54,6],[55,1,55,3],[55,4,55,6],[76,1,77,1],[78,1,78,6],[79,1,80,3],[79,4,80,6],[81,1,81,3],[81,4,81,6],[102,1,103,1],[104,1,104,6],[105,1,106,3],[105,4,106,6],[107,1,107,3],[107,4,107,6],[128,1,129,1],[130,1,130,6],[131,1,132,3],[131,4,132,6],[133,1,133,3],[133,4,133,6],[154,1,155,1],[156,1,156,6],[157,1,158,3],[157,4,158,6],[159,1,159,3],[159,4,159,6],[180,1,181,1],[182,1,182,6],[183,1,184,3],[183,4,184,6],[185,1,185,3],[185,4,185,6],[206,1,207,1],[208,1,208,6],[209,1,210,3],[209,4,210,6],[211,1,211,3],[211,4,211,6],[232,1,233,1],[234,1,234,6],[235,1,236,3],[235,4,236,6],[237,1,237,3],[237,4,237,6],[258,1,259,1],[260,1,260,6],[261,1,262,3],[261,4,262,6],[263,1,263,3],[263,4,263,6],[284,1,285,1],[286,1,286,6],[287,1,288,3],[287,4,288,6],[289,1,289,3],[289,4,289,6],[310,1,311,1],[312,1,312,6],[313,1,314,3],[313,4,314,6],[315,1,315,3],[315,4,315,6],[336,1,337,1],[338,1,338,6],[339,1,340,3],[339,4,340,6],[341,1,341,3],[341,4,341,6],[362,1,363,1],[364,1,364,6],[365,1,366,3],[365,4,366,6],[367,1,367,3],[367,4,367,6],[388,1,389,1],[390,1,390,6],[391,1,392,3],[391,4,392,6],[393,1,393,3],[393,4,393,6],[414,1,415,1],[416,1,416,6],[417,1,418,3],[417,4,418,6],[419,1,419,3],[419,4,419,6],[440,1,441,1],[442,1,442,6],[443,1,444,3],[443,4,444,6],[445,1,445,3],[445,4,445,6],[466,1,467,1],[468,1,468,6],[469,1,470,3],[469,4,470,6],[471,1,471,3],[471,4,471,6],[492,1,493,1],[494,1,494,6],[495,1,496,3],[495,4,496,6],[497,1,497,3],[497,4,497,6],[518,1,519,1],[520,1,520,6],[521,1,522,3],[521,4,522,6],[523,1,523,3],[523,4,523,6],[544,1,545,1],[546,1,546,6],[547,1,548,3],[547,4,548,6],[549,1,549,3],[549,4,549,6],[570,1,571,1],[572,1,572,6],[573,1,574,3],[573,4,574,6],[575,1,575,3],[575,4,575,6],[596,1,597,1],[598,1,598,6],[599,1,600,3],[599,4,600,6],[601,1,601,3],[601,4,601,6],[622,1,623,1],[624,1,624,6],[625,1,626,3],[625,4,626,6],[627,1,627,3],[627,4,627,6],[648,1,649,1],[650,1,650,6],[651,1,652,3],[651,4,652,6],[653,1,653,3],[653,4,653,6],[674,1,675,1],[676,1,676,6],[677,1,678,3],[677,4,678,6],[679,1,679,3],[679,4,679,6],[700,1,701,1],[702,1,702,6],[703,1,704,3],[703,4,704,6],[705,1,705,3],[705,4,705,6],[726,1,727,1],[728,1,728,6],[729,1,730,3],[729,4,730,6],[731,1,731,3],[731,4,731,6],[752,1,753,1],[754,1,754,6],[755,1,756,3],[755,4,756,6],[757,1,757,3],[757,4,757,6],[778,1,779,1],[780,1,780,6],[781,1,782,3],[781,4,782,6],[783,1,783,3],[783,4,783,6],[804,1,805,1],[806,1,806,6],[807,1,808,3],[807,4,808,6],[809,1,809,3],[809,4,809,6],[830,1,831,1],[832,1,832,6],[833,1,834,3],[833,4,834,6],[835,1,835,3],[835,4,835,6],[856,1,857,1],[858,1,858,6],[859,1,860,3],[859,4,860,6],[861,1,861,3],[861,4,861,6],[882,1,883,1],[884,1,884,6],[885,1,886,3],[885,4,886,6],[887,1,887,3],[887,4,887,6],[908,1,909,1],[910,1,910,6],[911,1,912,3],[911,4,912,6],[913,1,913,3],[913,4,913,6],[934,1,935,1],[936,1,936,6],[937,1,938,3],[937,4,938,6],[939,1,939,3],[939,4,939,6],[960,1,961,1],[962,1,962,6],[963,1,964,3],[963,4,964,6],[965,1,965,3],[965,4,965,6],[986,1,987,1],[988,1,988,6],[989,1,990,3],[989,4,990,6],[991,1,991,3],[991,4,991,6],[1012,1,1013,1],[1014,1,1014,6],[1015,1,1016,3],[1015,4,1016,6],[1017,1,1017,3],[1017,4,1017,6],[1038,1,1039,1],[1040,1,1040,6],[1041,1,1042,3],[1041,4,1042,6],[1043,1,1043,3],[1043,4,1043,6],[1064,1,1065,1],[1066,1,1066,6],[1067,1,1068,3],[1067,4,1068,6],[1069,1,1069,3],[1069,4,1069,6],[1090,1,1091,1]]}

{"sheet":"Rnd 6","index":10,"n_rows":0,"n_cols":0,"rows_kept":0,"merged":[[0,1,0,6],[1,1,2,3],[1,4,2,6],[3,1,3,3],[3,4,3,6],[24,1,25,1],[26,1,26,6],[27,1,28,3],[27,4,28,6],[29,1,29,3],[29,4,29,6],[50,1,51,1],[52,1,52,6],[53,1,54,3],[53,4,54,6],[55,1,55,3],[55,4,55,6],[76,1,77,1],[78,1,78,6],[79,1,80,3],[79,4,80,6],[81,1,81,3],[81,4,81,6],[102,1,103,1],[104,1,104,6],[105,1,106,3],[105,4,106,6],[107,1,107,3],[107,4,107,6],[128,1,129,1],[130,1,130,6],[131,1,132,3],[131,4,132,6],[133,1,133,3],[133,4,133,6],[154,1,155,1],[156,1,156,6],[157,1,158,3],[157,4,158,6],[159,1,159,3],[159,4,159,6],[180,1,181,1],[182,1,182,6],[183,1,184,3],[183,4,184,6],[185,1,185,3],[185,4,185,6],[206,1,207,1],[208,1,208,6],[209,1,210,3],[209,4,210,6],[211,1,211,3],[211,4,211,6],[232,1,233,1],[234,1,234,6],[235,1,236,3],[235,4,236,6],[237,1,237,3],[237,4,237,6],[258,1,259,1],[260,1,260,6],[261,1,262,3],[261,4,262,6],[263,1,263,3],[263,4,263,6],[284,1,285,1],[286,1,286,6],[287,1,288,3],[287,4,288,6],[289,1,289,3],[289,4,289,6],[310,1,311,1],[312,1,312,6],[313,1,314,3],[313,4,314,6],[315,1,315,3],[315,4,315,6],[336,1,337,1],[338,1,338,6],[339,1,340,3],[339,4,340,6],[341,1,341,3],[341,4,341,6],[362,1,363,1],[364,1,364,6],[365,1,366,3],[365,4,366,6],[367,1,367,3],[367,4,367,6],[388,1,389,1],[390,1,390,6],[391,1,392,3],[391,4,392,6],[393,1,393,3],[393,4,393,6],[414,1,415,1],[416,1,416,6],[417,1,418,3],[417,4,418,6],[419,1,419,3],[419,4,419,6],[440,1,441,1],[442,1,442,6],[443,1,444,3],[443,4,444,6],[445,1,445,3],[445,4,445,6],[466,1,467,1],[468,1,468,6],[469,1,470,3],[469,4,470,6],[471,1,471,3],[471,4,471,6],[492,1,493,1],[494,1,494,6],[495,1,496,3],[495,4,496,6],[497,1,497,3],[497,4,497,6],[518,1,519,1],[520,1,520,6],[521,1,522,3],[521,4,522,6],[523,1,523,3],[523,4,523,6],[544,1,545,1],[546,1,546,6],[547,1,548,3],[547,4,548,6],[549,1,549,3],[549,4,549,6],[570,1,571,1],[572,1,572,6],[573,1,574,3],[573,4,574,6],[575,1,575,3],[575,4,575,6],[596,1,597,1],[598,1,598,6],[599,1,600,3],[599,4,600,6],[601,1,601,3],[601,4,601,6],[622,1,623,1],[624,1,624,6],[625,1,626,3],[625,4,626,6],[627,1,627,3],[627,4,627,6],[648,1,649,1],[650,1,650,6],[651,1,652,3],[651,4,652,6],[653,1,653,3],[653,4,653,6],[674,1,675,1],[676,1,676,6],[677,1,678,3],[677,4,678,6],[679,1,679,3],[679,4,679,6],[700,1,701,1],[702,1,702,6],[703,1,704,3],[703,4,704,6],[705,1,705,3],[705,4,705,6],[726,1,727,1],[728,1,728,6],[729,1,730,3],[729,4,730,6],[731,1,731,3],[731,4,731,6],[752,1,753,1],[754,1,754,6],[755,1,756,3],[755,4,756,6],[757,1,757,3],[757,4,757,6],[778,1,779,1],[780,1,780,6],[781,1,782,3],[781,4,782,6],[783,1,783,3],[783,4,783,6],[804,1,805,1],[806,1,806,6],[807,1,808,3],[807,4,808,6],[809,1,809,3],[809,4,809,6],[830,1,831,1],[832,1,832,6],[833,1,834,3],[833,4,834,6],[835,1,835,3],[835,4,835,6],[856,1,857,1],[858,1,858,6],[859,1,860,3],[859,4,860,6],[861,1,861,3],[861,4,861,6],[882,1,883,1],[884,1,884,6],[885,1,886,3],[885,4,886,6],[887,1,887,3],[887,4,887,6],[908,1,909,1],[910,1,910,6],[911,1,912,3],[911,4,912,6],[913,1,913,3],[913,4,913,6],[934,1,935,1],[936,1,936,6],[937,1,938,3],[937,4,938,6],[939,1,939,3],[939,4,939,6],[960,1,961,1],[962,1,962,6],[963,1,964,3],[963,4,964,6],[965,1,965,3],[965,4,965,6],[986,1,987,1],[988,1,988,6],[989,1,990,3],[989,4,990,6],[991,1,991,3],[991,4,991,6],[1012,1,1013,1],[1014,1,1014,6],[1015,1,1016,3],[1015,4,1016,6],[1017,1,1017,3],[1017,4,1017,6],[1038,1,1039,1],[1040,1,1040,6],[1041,1,1042,3],[1041,4,1042,6],[1043,1,1043,3],[1043,4,1043,6],[1064,1,1065,1],[1066,1,1066,6],[1067,1,1068,3],[1067,4,1068,6],[1069,1,1069,3],[1069,4,1069,6],[1090,1,1091,1],[1120,1,1120,6],[1121,1,1122,3],[1121,4,1122,6],[1123,1,1123,3],[1123,4,1123,6]]}

{"sheet":"Rnd 7","index":11,"n_rows":0,"n_cols":0,"rows_kept":0,"merged":[[0,1,0,6],[1,1,2,3],[1,4,2,6],[3,1,3,3],[3,4,3,6],[24,1,25,1],[26,1,26,6],[27,1,28,3],[27,4,28,6],[29,1,29,3],[29,4,29,6],[50,1,51,1],[52,1,52,6],[53,1,54,3],[53,4,54,6],[55,1,55,3],[55,4,55,6],[76,1,77,1],[78,1,78,6],[79,1,80,3],[79,4,80,6],[81,1,81,3],[81,4,81,6],[102,1,103,1],[104,1,104,6],[105,1,106,3],[105,4,106,6],[107,1,107,3],[107,4,107,6],[128,1,129,1],[130,1,130,6],[131,1,132,3],[131,4,132,6],[133,1,133,3],[133,4,133,6],[154,1,155,1],[156,1,156,6],[157,1,158,3],[157,4,158,6],[159,1,159,3],[159,4,159,6],[180,1,181,1],[182,1,182,6],[183,1,184,3],[183,4,184,6],[185,1,185,3],[185,4,185,6],[206,1,207,1],[208,1,208,6],[209,1,210,3],[209,4,210,6],[211,1,211,3],[211,4,211,6],[232,1,233,1],[234,1,234,6],[235,1,236,3],[235,4,236,6],[237,1,237,3],[237,4,237,6],[258,1,259,1],[260,1,260,6],[261,1,262,3],[261,4,262,6],[263,1,263,3],[263,4,263,6],[284,1,285,1],[286,1,286,6],[287,1,288,3],[287,4,288,6],[289,1,289,3],[289,4,289,6],[310,1,311,1],[312,1,312,6],[313,1,314,3],[313,4,314,6],[315,1,315,3],[315,4,315,6],[336,1,337,1],[338,1,338,6],[339,1,340,3],[339,4,340,6],[341,1,341,3],[341,4,341,6],[362,1,363,1],[364,1,364,6],[365,1,366,3],[365,4,366,6],[367,1,367,3],[367,4,367,6],[388,1,389,1],[390,1,390,6],[391,1,392,3],[391,4,392,6],[393,1,393,3],[393,4,393,6],[414,1,415,1],[416,1,416,6],[417,1,418,3],[417,4,418,6],[419,1,419,3],[419,4,419,6],[440,1,441,1],[442,1,442,6],[443,1,444,3],[443,4,444,6],[445,1,445,3],[445,4,445,6],[466,1,467,1],[468,1,468,6],[469,1,470,3],[469,4,470,6],[471,1,471,3],[471,4,471,6],[492,1,493,1],[494,1,494,6],[495,1,496,3],[495,4,496,6],[497,1,497,3],[497,4,497,6],[518,1,519,1],[520,1,520,6],[521,1,522,3],[521,4,522,6],[523,1,523,3],[523,4,523,6],[544,1,545,1],[546,1,546,6],[547,1,548,3],[547,4,548,6],[549,1,549,3],[549,4,549,6],[570,1,571,1],[572,1,572,6],[573,1,574,3],[573,4,574,6],[575,1,575,3],[575,4,575,6],[596,1,597,1],[598,1,598,6],[599,1,600,3],[599,4,600,6],[601,1,601,3],[601,4,601,6],[622,1,623,1],[624,1,624,6],[625,1,626,3],[625,4,626,6],[627,1,627,3],[627,4,627,6],[648,1,649,1],[650,1,650,6],[651,1,652,3],[651,4,652,6],[653,1,653,3],[653,4,653,6],[674,1,675,1],[676,1,676,6],[677,1,678,3],[677,4,678,6],[679,1,679,3],[679,4,679,6],[700,1,701,1],[702,1,702,6],[703,1,704,3],[703,4,704,6],[705,1,705,3],[705,4,705,6],[726,1,727,1],[728,1,728,6],[729,1,730,3],[729,4,730,6],[731,1,731,3],[731,4,731,6],[752,1,753,1],[754,1,754,6],[755,1,756,3],[755,4,756,6],[757,1,757,3],[757,4,757,6],[778,1,779,1],[780,1,780,6],[781,1,782,3],[781,4,782,6],[783,1,783,3],[783,4,783,6],[804,1,805,1],[806,1,806,6],[807,1,808,3],[807,4,808,6],[809,1,809,3],[809,4,809,6],[830,1,831,1],[832,1,832,6],[833,1,834,3],[833,4,834,6],[835,1,835,3],[835,4,835,6],[856,1,857,1],[858,1,858,6],[859,1,860,3],[859,4,860,6],[861,1,861,3],[861,4,861,6],[882,1,883,1],[884,1,884,6],[885,1,886,3],[885,4,886,6],[887,1,887,3],[887,4,887,6],[908,1,909,1],[910,1,910,6],[911,1,912,3],[911,4,912,6],[913,1,913,3],[913,4,913,6],[934,1,935,1],[936,1,936,6],[937,1,938,3],[937,4,938,6],[939,1,939,3],[939,4,939,6],[960,1,961,1],[962,1,962,6],[963,1,964,3],[963,4,964,6],[965,1,965,3],[965,4,965,6],[986,1,987,1],[988,1,988,6],[989,1,990,3],[989,4,990,6],[991,1,991,3],[991,4,991,6],[1012,1,1013,1],[1014,1,1014,6],[1015,1,1016,3],[1015,4,1016,6],[1017,1,1017,3],[1017,4,1017,6],[1038,1,1039,1],[1040,1,1040,6],[1041,1,1042,3],[1041,4,1042,6],[1043,1,1043,3],[1043,4,1043,6],[1064,1,1065,1],[1066,1,1066,6],[1067,1,1068,3],[1067,4,1068,6],[1069,1,1069,3],[1069,4,1069,6],[1090,1,1091,1],[1120,1,1120,6],[1121,1,1122,3],[1121,4,1122,6],[1123,1,1123,3],[1123,4,1123,6],[1144,1,1144,6]]}

{"sheet":"Rnd 8","index":12,"n_rows":0,"n_cols":0,"rows_kept":0,"merged":[[0,1,0,6],[1,1,2,3],[1,4,2,6],[3,1,3,3],[3,4,3,6],[24,1,25,1],[26,1,26,6],[27,1,28,3],[27,4,28,6],[29,1,29,3],[29,4,29,6],[50,1,51,1],[52,1,52,6],[53,1,54,3],[53,4,54,6],[55,1,55,3],[55,4,55,6],[76,1,77,1],[78,1,78,6],[79,1,80,3],[79,4,80,6],[81,1,81,3],[81,4,81,6],[102,1,103,1],[104,1,104,6],[105,1,106,3],[105,4,106,6],[107,1,107,3],[107,4,107,6],[128,1,129,1],[130,1,130,6],[131,1,132,3],[131,4,132,6],[133,1,133,3],[133,4,133,6],[154,1,155,1],[156,1,156,6],[157,1,158,3],[157,4,158,6],[159,1,159,3],[159,4,159,6],[180,1,181,1],[182,1,182,6],[183,1,184,3],[183,4,184,6],[185,1,185,3],[185,4,185,6],[206,1,207,1],[208,1,208,6],[209,1,210,3],[209,4,210,6],[211,1,211,3],[211,4,211,6],[232,1,233,1],[234,1,234,6],[235,1,236,3],[235,4,236,6],[237,1,237,3],[237,4,237,6],[258,1,259,1],[260,1,260,6],[261,1,262,3],[261,4,262,6],[263,1,263,3],[263,4,263,6],[284,1,285,1],[286,1,286,6],[287,1,288,3],[287,4,288,6],[289,1,289,3],[289,4,289,6],[310,1,311,1],[312,1,312,6],[313,1,314,3],[313,4,314,6],[315,1,315,3],[315,4,315,6],[336,1,337,1],[338,1,338,6],[339,1,340,3],[339,4,340,6],[341,1,341,3],[341,4,341,6],[362,1,363,1],[364,1,364,6],[365,1,366,3],[365,4,366,6],[367,1,367,3],[367,4,367,6],[388,1,389,1],[390,1,390,6],[391,1,392,3],[391,4,392,6],[393,1,393,3],[393,4,393,6],[414,1,415,1],[416,1,416,6],[417,1,418,3],[417,4,418,6],[419,1,419,3],[419,4,419,6],[440,1,441,1],[442,1,442,6],[443,1,444,3],[443,4,444,6],[445,1,445,3],[445,4,445,6],[466,1,467,1],[468,1,468,6],[469,1,470,3],[469,4,470,6],[471,1,471,3],[471,4,471,6],[492,1,493,1],[494,1,494,6],[495,1,496,3],[495,4,496,6],[497,1,497,3],[497,4,497,6],[518,1,519,1],[520,1,520,6],[521,1,522,3],[521,4,522,6],[523,1,523,3],[523,4,523,6],[544,1,545,1],[546,1,546,6],[547,1,548,3],[547,4,548,6],[549,1,549,3],[549,4,549,6],[570,1,571,1],[572,1,572,6],[573,1,574,3],[573,4,574,6],[575,1,575,3],[575,4,575,6],[596,1,597,1],[598,1,598,6],[599,1,600,3],[599,4,600,6],[601,1,601,3],[601,4,601,6],[622,1,623,1],[624,1,624,6],[625,1,626,3],[625,4,626,6],[627,1,627,3],[627,4,627,6],[648,1,649,1],[650,1,650,6],[651,1,652,3],[651,4,652,6],[653,1,653,3],[653,4,653,6],[674,1,675,1],[676,1,676,6],[677,1,678,3],[677,4,678,6],[679,1,679,3],[679,4,679,6],[700,1,701,1],[702,1,702,6],[703,1,704,3],[703,4,704,6],[705,1,705,3],[705,4,705,6],[726,1,727,1],[728,1,728,6],[729,1,730,3],[729,4,730,6],[731,1,731,3],[731,4,731,6],[752,1,753,1],[754,1,754,6],[755,1,756,3],[755,4,756,6],[757,1,757,3],[757,4,757,6],[778,1,779,1],[780,1,780,6],[781,1,782,3],[781,4,782,6],[783,1,783,3],[783,4,783,6],[804,1,805,1],[806,1,806,6],[807,1,808,3],[807,4,808,6],[809,1,809,3],[809,4,809,6],[830,1,831,1],[832,1,832,6],[833,1,834,3],[833,4,834,6],[835,1,835,3],[835,4,835,6],[856,1,857,1],[858,1,858,6],[859,1,860,3],[859,4,860,6],[861,1,861,3],[861,4,861,6],[882,1,883,1],[884,1,884,6],[885,1,886,3],[885,4,886,6],[887,1,887,3],[887,4,887,6],[908,1,909,1],[910,1,910,6],[911,1,912,3],[911,4,912,6],[913,1,913,3],[913,4,913,6],[934,1,935,1],[936,1,936,6],[937,1,938,3],[937,4,938,6],[939,1,939,3],[939,4,939,6],[960,1,961,1],[962,1,962,6],[963,1,964,3],[963,4,964,6],[965,1,965,3],[965,4,965,6],[986,1,987,1],[988,1,988,6],[989,1,990,3],[989,4,990,6],[991,1,991,3],[991,4,991,6],[1012,1,1013,1],[1014,1,1014,6],[1015,1,1016,3],[1015,4,1016,6],[1017,1,1017,3],[1017,4,1017,6],[1038,1,1039,1],[1040,1,1040,6],[1041,1,1042,3],[1041,4,1042,6],[1043,1,1043,3],[1043,4,1043,6],[1064,1,1065,1],[1066,1,1066,6],[1067,1,1068,3],[1067,4,1068,6],[1069,1,1069,3],[1069,4,1069,6],[1090,1,1091,1],[1120,1,1120,6],[1121,1,1122,3],[1121,4,1122,6],[1123,1,1123,3],[1123,4,1123,6]]}

{"sheet":"Formula","index":13,"n_rows":42,"n_cols":3,"rows_kept":42,"merged":[[3,2,9,6]]}
[{"$f":"B2","v":0}]
[{"$f":"B1","v":0}]
[{"$f":"B4","v":0}]
[{"$f":"B3","v":0},null,"PLEASE DO NOT ALTER THIS SHEET IN ANY WAY. MANY THANKS"]
[{"$f":"B6","v":0}]
[{"$f":"B5","v":0}]
[{"$f":"B8","v":0}]
[{"$f":"B7","v":0}]
[{"$f":"B10","v":0}]
[{"$f":"B9","v":0}]
[{"$f":"B12","v":0}]
[{"$f":"B11","v":0}]
[{"$f":"B14","v":0}]
[{"$f":"B13","v":0}]
[{"$f":"B16","v":0}]
[{"$f":"B15","v":0}]
[{"$f":"B18","v":0}]
[{"$f":"B17","v":0}]
[{"$f":"B20","v":0}]
[{"$f":"B19","v":0}]
[{"$f":"B22","v":0}]
[{"$f":"B21","v":0}]
[{"$f":"B24","v":0}]
[{"$f":"B23","v":0}]
[{"$f":"B26","v":0}]
[{"$f":"B25","v":0}]
[{"$f":"B28","v":0}]
[{"$f":"B27","v":0}]
[{"$f":"B30","v":0}]
[{"$f":"B29","v":0}]
[{"$f":"B32","v":0}]
[{"$f":"B31","v":0}]
[{"$f":"B34","v":0}]
[{"$f":"B33","v":0}]
[{"$f":"B36","v":0}]
[{"$f":"B35","v":0}]
[{"$f":"B38","v":0}]
[{"$f":"B37","v":0}]
[{"$f":"B40","v":0}]
[{"$f":"B39","v":0}]
[{"$f":"B42","v":0}]
[{"$f":"B41","v":0}]

{"sheet":"PRINT","index":14,"n_rows":0,"n_cols":0,"rows_kept":0,"hidden":true,"merged":[[0,1,0,6],[1,1,2,3],[1,4,2,6],[3,1,3,3],[3,4,3,6],[24,1,25,1],[26,1,26,6],[27,1,28,3],[27,4,28,6],[29,1,29,3],[29,4,29,6],[50,1,51,1],[52,1,52,6],[53,1,54,3],[53,4,54,6],[55,1,55,3],[55,4,55,6],[76,1,77,1],[78,1,78,6],[79,1,80,3],[79,4,80,6],[81,1,81,3],[81,4,81,6],[102,1,103,1],[104,1,104,6],[105,1,106,3],[105,4,106,6],[107,1,107,3],[107,4,107,6],[128,1,129,1],[130,1,130,6],[131,1,132,3],[131,4,132,6],[133,1,133,3],[133,4,133,6],[154,1,155,1],[156,1,156,6],[157,1,158,3],[157,4,158,6],[159,1,159,3],[159,4,159,6],[180,1,181,1],[182,1,182,6],[183,1,184,3],[183,4,184,6],[185,1,185,3],[185,4,185,6],[206,1,207,1],[208,1,208,6],[209,1,210,3],[209,4,210,6],[211,1,211,3],[211,4,211,6],[232,1,233,1],[234,1,234,6],[235,1,236,3],[235,4,236,6],[237,1,237,3],[237,4,237,6],[258,1,259,1],[260,1,260,6],[261,1,262,3],[261,4,262,6],[263,1,263,3],[263,4,263,6],[284,1,285,1],[286,1,286,6],[287,1,288,3],[287,4,288,6],[289,1,289,3],[289,4,289,6],[310,1,311,1],[312,1,312,6],[313,1,314,3],[313,4,314,6],[315,1,315,3],[315,4,315,6],[336,1,337,1],[338,1,338,6],[339,1,340,3],[339,4,340,6],[341,1,341,3],[341,4,341,6],[362,1,363,1],[364,1,364,6],[365,1,366,3],[365,4,366,6],[367,1,367,3],[367,4,367,6],[388,1,389,1],[390,1,390,6],[391,1,392,3],[391,4,392,6],[393,1,393,3],[393,4,393,6],[414,1,415,1],[416,1,416,6],[417,1,418,3],[417,4,418,6],[419,1,419,3],[419,4,419,6],[440,1,441,1],[442,1,442,6],[443,1,444,3],[443,4,444,6],[445,1,445,3],[445,4,445,6],[466,1,467,1],[468,1,468,6],[469,1,470,3],[469,4,470,6],[471,1,471,3],[471,4,471,6],[492,1,493,1],[494,1,494,6],[495,1,496,3],[495,4,496,6],[497,1,497,3],[497,4,497,6],[518,1,519,1],[520,1,520,6],[521,1,522,3],[521,4,522,6],[523,1,523,3],[523,4,523,6],[544,1,545,1],[546,1,546,6],[547,1,548,3],[547,4,548,6],[549,1,549,3],[549,4,549,6],[570,1,571,1],[572,1,572,6],[573,1,574,3],[573,4,574,6],[575,1,575,3],[575,4,575,6],[596,1,597,1],[598,1,598,6],[599,1,600,3],[599,4,600,6],[601,1,601,3],[601,4,601,6],[622,1,623,1],[624,1,624,6],[625,1,626,3],[625,4,626,6],[627,1,627,3],[627,4,627,6],[648,1,649,1],[650,1,650,6],[651,1,652,3],[651,4,652,6],[653,1,653,3],[653,4,653,6],[674,1,675,1],[676,1,676,6],[677,1,678,3],[677,4,678,6],[679,1,679,3],[679,4,679,6],[700,1,701,1],[702,1,702,6],[703,1,704,3],[703,4,704,6],[705,1,705,3],[705,4,705,6],[726,1,727,1],[728,1,728,6],[729,1,730,3],[729,4,730,6],[731,1,731,3],[731,4,731,6],[752,1,753,1],[754,1,754,6],[755,1,756,3],[755,4,756,6],[757,1,757,3],[757,4,757,6],[778,1,779,1],[780,1,780,6],[781,1,782,3],[781,4,782,6],[783,1,783,3],[783,4,783,6],[804,1,805,1],[806,1,806,6],[807,1,808,3],[807,4,808,6],[809,1,809,3],[809,4,809,6],[830,1,831,1],[832,1,832,6],[833,1,834,3],[833,4,834,6],[835,1,835,3],[835,4,835,6],[856,1,857,1],[858,1,858,6],[859,1,860,3],[859,4,860,6],[861,1,861,3],[861,4,861,6],[882,1,883,1],[884,1,884,6],[885,1,886,3],[885,4,886,6],[887,1,887,3],[887,4,887,6],[908,1,909,1],[910,1,910,6],[911,1,912,3],[911,4,912,6],[913,1,913,3],[913,4,913,6],[934,1,935,1],[936,1,936,6],[937,1,938,3],[937,4,938,6],[939,1,939,3],[939,4,939,6],[960,1,961,1],[962,1,962,6],[963,1,964,3],[963,4,964,6],[965,1,965,3],[965,4,965,6],[986,1,987,1],[988,1,988,6],[989,1,990,3],[989,4,990,6],[991,1,991,3],[991,4,991,6],[1012,1,1013,1],[1014,1,1014,6],[1015,1,1016,3],[1015,4,1016,6],[1017,1,1017,3],[1017,4,1017,6],[1038,1,1039,1],[1040,1,1040,6],[1041,1,1042,3],[1041,4,1042,6],[1043,1,1043,3],[1043,4,1043,6],[1064,1,1065,1],[1066,1,1066,6],[1067,1,1068,3],[1067,4,1068,6],[1069,1,1069,3],[1069,4,1069,6],[1090,1,1091,1]]}

{"sheet":"Half Sheet","index":15,"n_rows":28,"n_cols":14,"rows_kept":28,"hidden":true,"merged":[[0,0,0,5],[0,7,0,12],[0,14,0,19],[1,0,2,2],[1,3,2,5],[1,7,2,9],[1,10,2,12],[1,14,2,16],[1,17,2,19],[3,0,3,2],[3,3,3,5],[3,7,3,9],[3,10,3,12],[3,14,3,16],[3,17,3,19],[24,0,25,0],[24,7,25,7],[24,14,25,14]]}
{"$rows_empty":26}
[{"$nulls":6},".",{"$nulls":6},"."]
[{"$nulls":6},".",{"$nulls":6},"."]

{"sheet":"Sheet2","index":16,"n_rows":579,"n_cols":4,"rows_kept":579,"hidden":true,"merged":[[1,2,1,3],[2,2,2,3],[2,4,2,5],[2,6,2,7],[2,8,2,9],[2,10,2,11],[2,12,2,13],[2,14,2,15],[2,16,2,17],[51,2,51,3],[52,2,52,3],[52,4,52,5],[52,6,52,7],[52,8,52,9],[52,10,52,11],[52,12,52,13],[52,14,52,15],[52,16,52,17],[99,2,99,3],[100,2,100,3],[100,4,100,5],[100,6,100,7],[100,8,100,9],[100,10,100,11],[100,12,100,13],[100,14,100,15],[100,16,100,17],[145,2,145,3],[146,2,146,3],[146,4,146,5],[146,6,146,7],[146,8,146,9],[146,10,146,11],[146,12,146,13],[146,14,146,15],[146,16,146,17],[189,2,189,3],[190,2,190,3],[190,4,190,5],[190,6,190,7],[190,8,190,9],[190,10,190,11],[190,12,190,13],[190,14,190,15],[190,16,190,17],[231,2,231,3],[232,2,232,3],[232,4,232,5],[232,6,232,7],[232,8,232,9],[232,10,232,11],[232,12,232,13],[232,14,232,15],[232,16,232,17],[271,2,271,3],[272,2,272,3],[272,4,272,5],[272,6,272,7],[272,8,272,9],[272,10,272,11],[272,12,272,13],[272,14,272,15],[272,16,272,17],[310,2,310,3],[311,2,311,3],[311,4,311,5],[311,6,311,7],[311,8,311,9],[311,10,311,11],[311,12,311,13],[311,14,311,15],[311,16,311,17],[346,2,346,3],[347,2,347,3],[347,4,347,5],[347,6,347,7],[347,8,347,9],[347,10,347,11],[347,12,347,13],[347,14,347,15],[347,16,347,17],[380,2,380,3],[381,2,381,3],[381,4,381,5],[381,6,381,7],[381,8,381,9],[381,10,381,11],[381,12,381,13],[381,14,381,15],[381,16,381,17],[412,2,412,3],[413,2,413,3],[413,4,413,5],[413,6,413,7],[413,8,413,9],[413,10,413,11],[413,12,413,13],[413,14,413,15],[413,16,413,17],[442,2,442,3],[443,2,443,3],[443,4,443,5],[443,6,443,7],[443,8,443,9],[443,10,443,11],[443,12,443,13],[443,14,443,15],[443,16,443,17],[470,2,470,3],[471,2,471,3],[471,4,471,5],[471,6,471,7],[471,8,471,9],[471,10,471,11],[471,12,471,13],[471,14,471,15],[471,16,471,17],[496,2,496,3],[497,2,497,3],[497,4,497,5],[497,6,497,7],[497,8,497,9],[497,10,497,11],[497,12,497,13],[497,14,497,15],[497,16,497,17],[520,2,520,3],[521,2,521,3],[521,4,521,5],[521,6,521,7],[521,8,521,9],[521,10,521,11],[521,12,521,13],[521,14,521,15],[521,16,521,17],[542,2,542,3],[543,2,543,3],[543,4,543,5],[543,6,543,7],[543,8,543,9],[543,10,543,11],[543,12,543,13],[543,14,543,15],[543,16,543,17],[562,2,562,3],[563,2,563,3],[563,4,563,5],[563,6,563,7],[563,8,563,9],[563,10,563,11],[563,12,563,13],[563,14,563,15],[563,16,563,17]]}
[]
[null,"n","46 STARTERS"]
[null,null,"Round 1"]
[null,null,"Vs","Rink"]
[null,1,29,22]
[null,2,11,15]
[null,3,17,12]
[null,4,32,6]
[null,5,13,3]
[null,6,42,14]
[null,7,19,23]
[null,8,34,20]
[null,9,12,13]
[null,10,45,4]
[null,11,2,15]
[null,12,9,13]
[null,13,5,3]
[null,14,46,11]
[null,15,26,17]
[null,16,41,21]
[null,17,3,12]
[null,18,38,2]
[null,19,7,23]
[null,20,27,5]
[null,21,24,10]
[null,22,44,16]
[null,23,37,8]
[null,24,21,10]
[null,25,36,1]
[null,26,15,17]
[null,27,20,5]
[null,28,31,28]
[null,29,1,22]
[null,30,39,27]
[null,31,28,28]
[null,32,4,6]
[null,33,35,19]
[null,34,8,20]
[null,35,33,19]
[null,36,25,1]
[null,37,23,8]
[null,38,18,2]
[null,39,30,27]
[null,40,43,7]
[null,41,16,21]
[null,42,6,14]
[null,43,40,7]
[null,44,22,16]
[null,45,10,4]
[null,46,14,11]
[]
[null,null,"44 STARTERS"]
[null,null,"Round 1"]
[null,null,"Vs","Rink"]
[null,1,10,16]
[null,2,31,22]
[null,3,18,10]
[null,4,11,14]
[null,5,36,2]
[null,6,14,27]
[null,7,23,9]
[null,8,16,8]
[null,9,30,25]
[null,10,1,16]
[null,11,4,14]
[null,12,26,3]
[null,13,33,26]
[null,14,6,27]
[null,15,44,6]
[null,16,8,8]
[null,17,25,19]
[null,18,3,10]
[null,19,22,13]
[null,20,39,1]
[null,21,38,7]
[null,22,19,13]
[null,23,7,9]
[null,24,43,24]
[null,25,17,19]
[null,26,12,3]
[null,27,37,21]
[null,28,29,15]
[null,29,28,15]
[null,30,9,25]
[null,31,2,22]
[null,32,35,23]
[null,33,13,26]
[null,34,40,28]
[null,35,32,23]
[null,36,5,2]
[null,37,27,21]
[null,38,21,7]
[null,39,20,1]
[null,40,34,28]
[null,41,42,17]
[null,42,41,17]
[null,43,24,24]
[null,44,15,6]
[]
[null,null,"42 STARTERS"]
[null,null,"Round 1"]
[null,null,"Vs","Rink"]
[null,1,2,1]
[null,2,1,1]
[null,3,14,2]
[null,4,13,3]
[null,5,12,4]
[null,6,11,5]
[null,7,10,6]
[null,8,9,7]
[null,9,8,7]
[null,10,7,6]
[null,11,6,5]
[null,12,5,4]
[null,13,4,3]
[null,14,3,2]
[null,15,16,8]
[null,16,15,8]
[null,17,28,9]
[null,18,27,10]
[null,19,26,11]
[null,20,25,12]
[null,21,24,13]
[null,22,23,14]
[null,23,22,14]
[null,24,21,13]
[null,25,20,12]
[null,26,19,11]
[null,27,18,10]
[null,28,17,9]
[null,29,30,15]
[null,30,29,15]
[null,31,42,16]
[null,32,41,17]
[null,33,40,18]
[null,34,39,19]
[null,35,38,20]
[null,36,37,21]
[null,37,36,21]
[null,38,35,20]
[null,39,34,19]
[null,40,33,18]
[null,41,32,17]
[null,42,31,16]
[]
[null,null,"40 STARTERS"]
[null,null,"Round 1"]
[null,null,"Vs","Rink"]
[null,1,2,1]
[null,2,1,1]
[null,3,14,2]
[null,4,13,3]
[null,5,12,4]
[null,6,11,5]
[null,7,10,6]
[null,8,9,7]
[null,9,8,7]
[null,10,7,6]
[null,11,6,5]
[null,12,5,4]
[null,13,4,3]
[null,14,3,2]
[null,15,16,8]
[null,16,15,8]
[null,17,28,9]
[null,18,27,10]
[null,19,26,11]
[null,20,25,12]
[null,21,24,13]
[null,22,23,14]
[null,23,22,14]
[null,24,21,13]
[null,25,20,12]
[null,26,19,11]
[null,27,18,10]
[null,28,17,9]
[null,29,30,15]
[null,30,29,15]
[null,31,40,16]
[null,32,39,17]
[null,33,38,18]
[null,34,37,19]
[null,35,36,20]
[null,36,35,20]
[null,37,34,19]
[null,38,33,18]
[null,39,32,17]
[null,40,31,16]
[]
[null,null,"38 STARTERS"]
[null,null,"Round 1"]
[null,null,"Vs","Rink"]
[null,1,2,1]
[null,2,1,1]
[null,3,14,2]
[null,4,13,3]
[null,5,12,4]
[null,6,11,5]
[null,7,10,6]
[null,8,9,7]
[null,9,8,7]
[null,10,7,6]
[null,11,6,5]
[null,12,5,4]
[null,13,4,3]
[null,14,3,2]
[null,15,16,8]
[null,16,15,8]
[null,17,26,9]
[null,18,25,10]
[null,19,24,11]
[null,20,23,12]
[null,21,22,13]
[null,22,21,13]
[null,23,20,12]
[null,24,19,11]
[null,25,18,10]
[null,26,17,9]
[null,27,28,15]
[null,28,27,15]
[null,29,38,16]
[null,30,37,17]
[null,31,36,18]
[null,32,35,19]
[null,33,34,20]
[null,34,33,20]
[null,35,32,19]
[null,36,31,18]
[null,37,30,17]
[null,38,29,16]
[]
[null,null,"36 STARTERS"]
[null,null,"Round 1"]
[null,null,"Vs","Rink"]
[null,1,2,1]
[null,2,1,1]
[null,3,12,2]
[null,4,11,3]
[null,5,10,4]
[null,6,9,5]
[null,7,8,6]
[null,8,7,6]
[null,9,6,5]
[null,10,5,4]
[null,11,4,3]
[null,12,3,2]
[null,13,14,8]
[null,14,13,8]
[null,15,24,9]
[null,16,23,10]
[null,17,22,11]
[null,18,21,12]
[null,19,20,13]
[null,20,19,13]
[null,21,18,12]
[null,22,17,11]
[null,23,16,10]
[null,24,15,9]
[null,25,26,15]
[null,26,25,15]
[null,27,36,16]
[null,28,35,17]
[null,29,34,18]
[null,30,33,19]
[null,31,32,20]
[null,32,31,20]
[null,33,30,19]
[null,34,29,18]
[null,35,28,17]
[null,36,27,16]
[]
[null,null,"34 STARTERS"]
[null,null,"Round 1"]
[null,null,"Vs","Rink"]
[null,1,2,1]
[null,2,1,1]
[null,3,12,2]
[null,4,11,3]
[null,5,10,4]
[null,6,9,5]
[null,7,8,6]
[null,8,7,6]
[null,9,6,5]
[null,10,5,4]
[null,11,4,3]
[null,12,3,2]
[null,13,14,8]
[null,14,13,8]
[null,15,24,9]
[null,16,23,10]
[null,17,22,11]
[null,18,21,12]
[null,19,20,13]
[null,20,19,13]
[null,21,18,12]
[null,22,17,11]
[null,23,16,10]
[null,24,15,9]
[null,25,26,16]
[null,26,25,16]
[null,27,34,17]
[null,28,33,18]
[null,29,32,19]
[null,30,31,20]
[null,31,30,20]
[null,32,29,19]
[null,33,28,18]
[null,34,27,17]
[]
[]
[null,null,"32 STARTERS"]
[null,null,"Round 1"]
[null,null,"Vs","Rink"]
[null,1,2,1]
[null,2,1,1]
[null,3,12,2]
[null,4,11,3]
[null,5,10,4]
[null,6,9,5]
[null,7,8,6]
[null,8,7,6]
[null,9,6,5]
[null,10,5,4]
[null,11,4,3]
[null,12,3,2]
[null,13,14,9]
[null,14,13,9]
[null,15,22,10]
[null,16,21,11]
[null,17,20,12]
[null,18,19,13]
[null,19,18,13]
[null,20,17,12]
[null,21,16,11]
[null,22,15,10]
[null,23,24,16]
[null,24,23,16]
[null,25,32,17]
[null,26,31,18]
[null,27,30,19]
[null,28,29,20]
[null,29,28,20]
[null,30,27,19]
[null,31,26,18]
[null,32,25,17]
[]
[null,null,"30 STARTERS"]
[null,null,"Round 1"]
[null,null,"Vs","Rink"]
[null,1,2,2]
[null,2,1,2]
[null,3,10,3]
[null,4,9,4]
[null,5,8,5]
[null,6,7,6]
[null,7,6,6]
[null,8,5,5]
[null,9,4,4]
[null,10,3,3]
[null,11,12,9]
[null,12,11,9]
[null,13,20,10]
[null,14,19,11]
[null,15,18,12]
[null,16,17,13]
[null,17,16,13]
[null,18,15,12]
[null,19,14,11]
[null,20,13,10]
[null,21,22,16]
[null,22,21,16]
[null,23,30,17]
[null,24,29,18]
[null,25,28,19]
[null,26,27,20]
[null,27,26,20]
[null,28,25,19]
[null,29,24,18]
[null,30,23,17]
[]
[null,null,"28 STARTERS"]
[null,null,"Round 1"]
[null,null,"Vs","Rink"]
[null,1,2,1]
[null,2,1,1]
[null,3,14,2]
[null,4,13,3]
[null,5,12,4]
[null,6,11,5]
[null,7,10,6]
[null,8,9,7]
[null,9,8,7]
[null,10,7,6]
[null,11,6,5]
[null,12,5,4]
[null,13,4,3]
[null,14,3,2]
[null,15,16,8]
[null,16,15,8]
[null,17,28,9]
[null,18,27,10]
[null,19,26,11]
[null,20,25,12]
[null,21,24,13]
[null,22,23,14]
[null,23,22,14]
[null,24,21,13]
[null,25,20,12]
[null,26,19,11]
[null,27,18,10]
[null,28,17,9]
[]
[null,null,"26  STARTERS"]
[null,null,"Round 1"]
[null,null,"Vs","Rink"]
[null,1,2,1]
[null,2,1,1]
[null,3,14,2]
[null,4,13,3]
[null,5,12,4]
[null,6,11,5]
[null,7,10,6]
[null,8,9,7]
[null,9,8,7]
[null,10,7,6]
[null,11,6,5]
[null,12,5,4]
[null,13,4,3]
[null,14,3,2]
[null,15,16,9]
[null,16,15,9]
[null,17,26,8]
[null,18,25,10]
[null,19,24,11]
[null,20,23,12]
[null,21,22,13]
[null,22,21,13]
[null,23,20,12]
[null,24,19,11]
[null,25,18,10]
[null,26,17,8]
[]
[null,null,"24 STARTERS"]
[null,null,"Round 1"]
[null,null,"Vs","Rink"]
[null,1,2,2]
[null,2,1,2]
[null,3,12,1]
[null,4,11,3]
[null,5,10,4]
[null,6,9,5]
[null,7,8,6]
[null,8,7,6]
[null,9,6,5]
[null,10,5,4]
[null,11,4,3]
[null,12,3,1]
[null,13,14,9]
[null,14,13,9]
[null,15,24,8]
[null,16,23,10]
[null,17,22,11]
[null,18,21,12]
[null,19,20,13]
[null,20,19,13]
[null,21,18,12]
[null,22,17,11]
[null,23,16,10]
[null,24,15,8]
[]
[null,null,"22 STARTERS"]
[null,null,"Round 1"]
[null,null,"Vs","Rink"]
[null,1,2,2]
[null,2,1,2]
[null,3,12,1]
[null,4,11,3]
[null,5,10,4]
[null,6,9,5]
[null,7,8,6]
[null,8,7,6]
[null,9,6,5]
[null,10,5,4]
[null,11,4,3]
[null,12,3,1]
[null,13,14,9]
[null,14,13,9]
[null,15,22,10]
[null,16,21,11]
[null,17,20,12]
[null,18,19,13]
[null,19,18,13]
[null,20,17,12]
[null,21,16,11]
[null,22,15,10]
[]
[null,null,"20 STARTERS"]
[null,null,"Round 1"]
[null,null,"Vs","Rink"]
[null,1,2,2]
[null,2,1,2]
[null,3,10,3]
[null,4,9,4]
[null,5,8,5]
[null,6,7,6]
[null,7,6,6]
[null,8,5,5]
[null,9,4,4]
[null,10,3,3]
[null,11,12,9]
[null,12,11,9]
[null,13,20,10]
[null,14,19,11]
[null,15,18,12]
[null,16,17,13]
[null,17,16,13]
[null,18,15,12]
[null,19,14,11]
[null,20,13,10]
[]
[null,null,"18 STARTERS"]
[null,null,"Round 1"]
[null,null,"Vs","Rink"]
[null,1,2,2]
[null,2,1,2]
[null,3,10,3]
[null,4,9,4]
[null,5,8,5]
[null,6,7,6]
[null,7,6,6]
[null,8,5,5]
[null,9,4,4]
[null,10,3,3]
[null,11,12,9]
[null,12,11,9]
[null,13,18,10]
[null,14,17,11]
[null,15,16,12]
[null,16,15,12]
[null,17,14,11]
[null,18,13,10]
[]
[null,null,"16 STARTERS"]
[null,null,"Round 1"]
[null,null,"Vs","Rink"]
[null,1,2,2]
[null,2,1,2]
[null,3,8,3]
[null,4,7,4]
[null,5,6,5]
[null,6,5,5]
[null,7,4,4]
[null,8,3,3]
[null,9,10,9]
[null,10,9,9]
[null,11,16,10]
[null,12,15,11]
[null,13,14,12]
[null,14,13,12]
[null,15,12,11]
[null,16,11,10]
[]
[null,null,"14 STARTERS"]
[null,null,"Round 1"]
[null,null,"Vs","Rink"]
[null,1,2,2]
[null,2,1,2]
[null,3,14,1]
[null,4,13,3]
[null,5,12,4]
[null,6,11,5]
[null,7,10,7]
[null,8,9,6]
[null,9,8,6]
[null,10,7,7]
[null,11,6,5]
[null,12,5,4]
[null,13,4,3]
[null,14,3,1]