{"text_format":"3","workbook":"xlsx","n_sheets":41,"sheets":["NAMES","Instructions","Entries","TEAMS","DRAW","Results","R 1 cds.","R 2 cds","R 3 cds","Cards rear","19","18","17","16","15","14","13","12","11","10","40","39","38","37","36","35","34","33","32","31","30","29","28","27","26","25","24","23","22","21","20"],"not_rendered":{"macros":1,"external_links":3,"defined_names":9},"read":"whole","date_system":"1900"}

{"sheet":"NAMES","index":0,"n_rows":40,"n_cols":7,"rows_kept":40,"hidden":true}
["a","a sk",1,{"$nulls":3},{"$f":"C1+100","v":101}]
["b","b sk",{"$f":"C1+1","v":2},{"$nulls":3},102]
["c","c sk",{"$f":"C2+1","v":3},{"$nulls":3},103]
["d","d sk",4,{"$nulls":3},104]
["e","e sk",5,{"$nulls":3},105]
["f","f sk",6,{"$nulls":3},106]
["g","g sk",7,{"$nulls":3},107]
["h","h sk",8,{"$nulls":3},108]
["i","i sk",9,{"$nulls":3},109]
["j","j sk",10,{"$nulls":3},110]
["k","k sk",11,{"$nulls":3},111]
["l","l sk",12,{"$nulls":3},112]
["m","m sk",13,{"$nulls":3},113]
["n","n sk",14,{"$nulls":3},114]
["o","o sk",15,{"$nulls":3},115]
["p","p sk",16,{"$nulls":3},116]
["q","q sk",17,{"$nulls":3},117]
["r","r sk",18,{"$nulls":3},118]
["s","s sk",19,{"$nulls":3},119]
["t","t sk",20,{"$nulls":3},120]
["u","u sk",21,{"$nulls":3},121]
["v","v sk",22,{"$nulls":3},122]
["w","w sk",23,{"$nulls":3},123]
["x","x sk",24,{"$nulls":3},124]
["y","y sk",25,{"$nulls":3},125]
["z","z sk",26,{"$nulls":3},126]
["aa","aa sk",27,{"$nulls":3},127]
["ab","ab sk",28,{"$nulls":3},128]
["ac","ac sk",29,{"$nulls":3},129]
["ad","ad sk",30,{"$nulls":3},130]
["ae","ae sk",31,{"$nulls":3},131]
["af","af sk",32,{"$nulls":3},132]
["ag","ag sk",33,{"$nulls":3},133]
["ah","ah sk",34,{"$nulls":3},134]
["ai","ai sk",35,{"$nulls":3},135]
["aj","aj sk",36,{"$nulls":3},136]
["ak","ak sk",37,{"$nulls":3},137]
["al","al sk",38,{"$nulls":3},138]
["am","am sk",39,{"$nulls":3},139]
["an","an sk",40,{"$nulls":3},140]

{"sheet":"Instructions","index":1,"n_rows":15,"n_cols":4,"rows_kept":15,"merged":[[0,1,0,2],[0,3,0,11],[1,1,1,11],[2,1,2,11],[3,1,3,11],[4,1,4,11],[5,1,5,11],[6,1,6,11],[7,1,7,11],[8,1,8,11],[9,1,9,11],[10,1,10,11],[11,1,11,11],[12,1,12,11],[13,1,13,11],[14,1,14,11],[15,1,15,11],[16,1,16,11],[17,1,17,11],[18,1,18,11],[19,1,19,11],[20,1,20,11],[21,1,21,11],[22,1,22,11],[23,1,23,11],[24,1,24,11],[25,1,25,11]]}
[null,"USER NOTES:-",null,"PLEASE ENABLE EDITING AND ALLOW MACROS TO RUN WHEN OPENING THIS MASTER FILE."]
[null,"1. Click the \"Entries \" TAB and enter team names. "]
[null,"2. Click the \"Teams\" TAB and follow the instructions on the sheet. The \"Teams\" TAB will be removed after you action it."]
[null,"3. Save the file with a new file name."]
[null,"4. The \"Draw\" tab, \"Results\" tab, \"R 1 cds\" tab, \"R 2 cds\" tab, \"R3 cds\" tab and \"Cards rear\" tab will now open."]
[null,"5. The \"Draw\" tab will display a automatic draw for the number of teams you have selected."]
[null,"6. The \"Results\" tab is used to enter the results for the 3 rounds. The draw information and skips names will be entered automatically on this sheet."]
[null,"7. The \"R 1 cds\" tab will have the players names and the draw details automatically entered ready for printing. The same for the \"R 2 cds\" and \"R 3 cds\" tabs. "]
[null,"8. If you wish to print the COP's for this tournament on the rear of the score cards you can do so on the \"Cards rear\" tab. "]
[null,"9. To print the Score Cards you will need some blank cards measuring 85mm by 135mm. As a trial you may like to purchase a ream of 250gsm paper and cut the cards yourself. You will get 500 cards out of a ream costing about $17.00 from Office Works. Another option is to buy 4,000, 250 gsm Nordset paper trimmed to 85X135 from Canberra Printing for about $130.00. Phone 02 6280 6925"]
[null,"The file has been tested extensively however please report any faults if they appear."]
[null,"If you have any issues with this file please don't hesitate to contact me."]
[null,"Geoff Graham"]
[null,"02 4389 1138"]
[null,"geoffjgraham@gmail.com"]

{"sheet":"Entries","index":2,"n_rows":44,"n_cols":20,"rows_kept":44,"merged":[[0,0,0,3],[1,0,1,3]]}
["2018 District 5 - Mixed Pairs"]
["20th June 2018"]
["No.","Lead","Skip","Club",{"$nulls":11},"No.","Lead","Skip","Club"]
[]
[1,{"$nulls":14},16,{"$nulls":3},{"$f":"RAND()","v":0.07158941169325739}]
[2,{"$nulls":14},31,{"$nulls":3},{"$f":"RAND()","v":0.4812197932020589}]
[3,{"$nulls":14},30,{"$nulls":3},{"$f":"RAND()","v":0.6075643705873663}]
[4,{"$nulls":14},38,{"$nulls":3},{"$f":"RAND()","v":0.3283906114516363}]
[5,{"$nulls":14},21,{"$nulls":3},{"$f":"RAND()","v":0.06529459875554144}]
[6,{"$nulls":14},36,{"$nulls":3},{"$f":"RAND()","v":0.5512090381937992}]
[7,{"$nulls":14},17,{"$nulls":3},{"$f":"RAND()","v":0.15628691059212996}]
[8,{"$nulls":14},7,{"$nulls":3},{"$f":"RAND()","v":0.3194474807604355}]
[9,{"$nulls":14},37,{"$nulls":3},{"$f":"RAND()","v":0.43639299835669443}]
[10,{"$nulls":14},28,{"$nulls":3},{"$f":"RAND()","v":0.2569322643474192}]
[11,{"$nulls":14},29,{"$nulls":3},{"$f":"RAND()","v":0.23242856587895044}]
[12,{"$nulls":14},23,{"$nulls":3},{"$f":"RAND()","v":0.9470782507733122}]
[13,{"$nulls":14},12,{"$nulls":3},{"$f":"RAND()","v":0.06300483532906986}]
[14,{"$nulls":14},40,{"$nulls":3},{"$f":"RAND()","v":0.190395844965224}]
[15,{"$nulls":14},9,{"$nulls":3},{"$f":"RAND()","v":0.27811968378087004}]
[16,{"$nulls":14},14,{"$nulls":3},{"$f":"RAND()","v":0.05317069584901313}]
[17,{"$nulls":14},33,{"$nulls":3},{"$f":"RAND()","v":0.7143231194557425}]
[18,{"$nulls":14},15,{"$nulls":3},{"$f":"RAND()","v":0.2922009874244408}]
[19,{"$nulls":14},13,{"$nulls":3},{"$f":"RAND()","v":0.7738080936343903}]
[20,{"$nulls":14},2,{"$nulls":3},{"$f":"RAND()","v":0.47975329496087216}]
[21,{"$nulls":14},32,{"$nulls":3},{"$f":"RAND()","v":0.209911414202805}]
[22,{"$nulls":14},6,{"$nulls":3},{"$f":"RAND()","v":0.7226878384602058}]
[23,{"$nulls":14},18,{"$nulls":3},{"$f":"RAND()","v":0.8449712657051407}]
[24,{"$nulls":14},4,{"$nulls":3},{"$f":"RAND()","v":0.4510279286330251}]
[25,{"$nulls":14},26,{"$nulls":3},{"$f":"RAND()","v":0.08617985876049983}]
[26,{"$nulls":14},11,{"$nulls":3},{"$f":"RAND()","v":0.8642463281008232}]
[27,{"$nulls":14},24,{"$nulls":3},{"$f":"RAND()","v":0.7918642295948146}]
[28,{"$nulls":14},3,{"$nulls":3},{"$f":"RAND()","v":0.20178281823085764}]
[29,{"$nulls":14},19,{"$nulls":3},{"$f":"RAND()","v":0.28225943803309506}]
[30,{"$nulls":14},34,{"$nulls":3},{"$f":"RAND()","v":0.021827733418533057}]
[31,{"$nulls":14},5,{"$nulls":3},{"$f":"RAND()","v":0.21892346150994624}]
[32,{"$nulls":14},39,{"$nulls":3},{"$f":"RAND()","v":0.5488210149577545}]
[33,{"$nulls":14},35,{"$nulls":3},{"$f":"RAND()","v":0.8424686501793998}]
[34,{"$nulls":14},1,{"$nulls":3},{"$f":"RAND()","v":0.24225200461115848}]
[35,{"$nulls":14},20,{"$nulls":3},{"$f":"RAND()","v":0.2169981053080483}]
[36,{"$nulls":14},25,{"$nulls":3},{"$f":"RAND()","v":0.5311323915511746}]
[37,{"$nulls":14},22,{"$nulls":3},{"$f":"RAND()","v":0.4559563033929873}]
[38,{"$nulls":14},27,{"$nulls":3},{"$f":"RAND()","v":0.45915907621820484}]
[39,{"$nulls":14},10,{"$nulls":3},{"$f":"RAND()","v":0.06574565228898965}]
[40,{"$nulls":14},8,{"$nulls":3},{"$f":"RAND()","v":0.6493058544831206}]

{"sheet":"TEAMS","index":3,"n_rows":2,"n_cols":3,"rows_kept":2,"merged":[[0,2,0,15],[1,2,1,15],[23,2,23,15],[24,2,24,15]]}
[null,null,"  "]
[null,null,"PLEASE save this file with a new file name after you action it."]

{"sheet":"DRAW","index":4,"n_rows":44,"n_cols":11,"rows_kept":44,"hidden":true,"merged":[[0,2,0,10],[1,2,1,10],[2,3,2,4],[2,5,2,6],[2,7,2,8],[2,9,2,10],[4,1,7,1],[8,1,11,1],[12,1,15,1],[16,1,19,1],[20,1,23,1],[24,1,27,1],[28,1,31,1],[32,1,35,1],[36,1,39,1],[40,1,43,1]]}
[null,null,{"$f":"Entries!$A$1","v":"2018 District 5 - Mixed Pairs"}]
[null,null,"DRAW"]
[{"$nulls":5},"R O U N D  1",null,"R O U N D  2",null,"R O U N D  3"]
[null,"Section","Team No.","Lead","Skip","Rink","Versus","Rink","Versus","Rink","Versus"]
[null,1,1,0,0,1,2,10,3,19,4]
[null,null,2,0,0,1,1,11,4,20,3]
[null,null,3,0,0,2,4,10,1,20,2]
[null,null,4,0,0,2,3,11,2,19,1]
[null,2,5,0,0,3,6,8,7,17,8]
[null,null,6,0,0,3,5,9,8,18,7]
[null,null,7,0,0,4,8,8,5,18,6]
[null,null,8,0,0,4,7,9,6,17,5]
[null,3,9,0,0,5,10,12,11,15,12]
[null,null,10,0,0,5,9,13,12,16,11]
[null,null,11,0,0,6,12,12,9,16,10]
[null,null,12,0,0,6,11,13,10,15,9]
[null,4,13,0,0,8,14,17,15,3,16]
[null,null,14,0,0,8,13,18,16,4,15]
[null,null,15,0,0,9,16,17,13,4,14]
[null,null,16,0,0,9,15,18,14,3,13]
[null,5,17,0,0,10,18,7,19,1,20]
[null,null,18,0,0,10,17,14,20,2,19]
[null,null,19,0,0,11,20,7,17,2,18]
[null,null,20,0,0,11,19,14,18,1,17]
[null,6,21,0,0,12,22,19,23,7,24]
[null,null,22,0,0,12,21,20,24,14,23]
[null,null,23,0,0,13,24,19,21,14,22]
[null,null,24,0,0,13,23,20,22,7,21]
[null,7,25,0,0,15,26,3,27,10,28]
[null,null,26,0,0,15,25,4,28,11,27]
[null,null,27,0,0,16,28,3,25,11,26]
[null,null,28,0,0,16,27,4,26,10,25]
[null,8,29,0,0,17,30,1,31,12,32]
[null,null,30,0,0,17,29,2,32,13,31]
[null,null,31,0,0,18,32,1,29,13,30]
[null,null,32,0,0,18,31,2,30,12,29]
[null,9,33,0,0,19,34,5,35,8,36]
[null,null,34,0,0,19,33,6,36,9,35]
[null,null,35,0,0,20,36,5,33,9,34]
[null,null,36,0,0,20,35,6,34,8,33]
[null,10,37,0,0,7,38,15,39,5,40]
[null,null,38,0,0,7,37,16,40,6,39]
[null,null,39,0,0,14,40,15,37,6,38]
[null,null,40,0,0,14,39,16,38,5,37]

{"sheet":"Results","index":5,"n_rows":46,"n_cols":33,"rows_kept":46,"hidden":true,"merged":[[0,1,0,32],[1,1,1,32],[2,1,2,2],[2,4,2,8],[2,12,2,16],[3,4,4,9],[3,12,4,17],[3,20,4,25],[3,28,4,32],[6,1,9,1],[10,1,13,1],[14,1,17,1],[18,1,21,1],[22,1,25,1],[26,1,29,1],[30,1,33,1],[34,1,37,1],[38,1,41,1],[42,1,45,1]]}
[null,"Tournament Name etc. Here."]
[null,"Other heading info"]
[{"$nulls":4},"Points for a win =",{"$nulls":4},3,null,null,"Points for a draw =",{"$nulls":4},1]
[{"$nulls":4},"ROUND 1",{"$nulls":7},"ROUND 2",{"$nulls":7},"ROUND 3",{"$nulls":7},"TOTALS"]
[null,null,"CLICK to SORT TEAM No."]
[null,"Section","Team #","Skip","Rink","V's","F","A","Margin","W/L/D",null,null,"Rink","V's","F","A","Margin","W/L/D",null,null,"Rink","V's","F","A","Margin","W/L/D",null,null,"Points","Margin","Shots against",null,"Rank"]
[null,1,1,0,1,2,null,null,{"$f":"IF(G7+H7=0,0,IF(G7+H7>0.1,G7-H7,0))","v":0},{"$f":"IF(G7>H7,\"W\",IF(G7<H7,\"L\",IF(G7+H7=0,\"\",IF(G7=H7,\"D\",0))))","v":""},null,{"$f":"IF(J7=\"W\",$J$3,IF(J7=\"D\",$R$3,0))","v":{"v":0,"d":"0.0"}},10,3,null,null,{"$f":"IF(O7+P7=0,0,IF(O7+P7>0.1,O7-P7,0))","v":0},{"$f":"IF(O7>P7,\"W\",IF(O7<P7,\"L\",IF(O7+P7=0,\"\",IF(O7=P7,\"D\",0))))","v":""},null,{"$f":"IF(R7=\"W\",$J$3,IF(R7=\"D\",$R$3,0))","v":{"v":0,"d":"0.0"}},19,4,null,null,{"$f":"IF(W7+X7=0,0,IF(W7+X7>0.1,W7-X7,0))","v":0},{"$f":"IF(W7>X7,\"W\",IF(W7<X7,\"L\",IF(W7+X7=0,\"\",IF(W7=X7,\"D\",0))))","v":""},null,{"$f":"IF(Z7=\"W\",$J$3,IF(Z7=\"D\",$R$3,0))","v":{"v":0,"d":"0.0"}},{"$f":"L7+T7+AB7","v":0},{"$f":"I7+Q7+Y7","v":0},{"$f":"H7+P7+X7","v":0},{"$f":"(AC7*100000)+(AD7*1000)-AE7","v":0},{"$f":"IF($AF$7:$AF$10=0,\"\",RANK(AF7,$AF$7:$AF$10))","v":""}]
[null,null,2,0,1,1,null,null,{"$f":"IF(G8+H8=0,0,IF(G8+H8>0.1,G8-H8,0))","v":0},"",null,{"v":0,"d":"0.0"},11,4,null,null,{"$f":"IF(O8+P8=0,0,IF(O8+P8>0.1,O8-P8,0))","v":0},"",null,{"v":0,"d":"0.0"},20,3,null,null,{"$f":"IF(W8+X8=0,0,IF(W8+X8>0.1,W8-X8,0))","v":0},"",null,{"v":0,"d":"0.0"},{"$f":"L8+T8+AB8","v":0},{"$f":"I8+Q8+Y8","v":0},{"$f":"H8+P8+X8","v":0},{"$f":"(AC8*100000)+(AD8*1000)-AE8","v":0},{"$f":"IF($AF$7:$AF$10=0,\"\",RANK(AF8,$AF$7:$AF$10))","v":""}]
[null,null,3,0,2,4,null,null,{"$f":"IF(G9+H9=0,0,IF(G9+H9>0.1,G9-H9,0))","v":0},"",null,{"v":0,"d":"0.0"},10,1,null,null,{"$f":"IF(O9+P9=0,0,IF(O9+P9>0.1,O9-P9,0))","v":0},"",null,{"v":0,"d":"0.0"},20,2,null,null,{"$f":"IF(W9+X9=0,0,IF(W9+X9>0.1,W9-X9,0))","v":0},"",null,{"v":0,"d":"0.0"},0,{"$f":"I9+Q9+Y9","v":0},0,0,{"$f":"IF($AF$7:$AF$10=0,\"\",RANK(AF9,$AF$7:$AF$10))","v":""}]
[null,null,4,0,2,3,null,null,{"$f":"IF(G10+H10=0,0,IF(G10+H10>0.1,G10-H10,0))","v":0},"",null,{"v":0,"d":"0.0"},11,2,null,null,{"$f":"IF(O10+P10=0,0,IF(O10+P10>0.1,O10-P10,0))","v":0},"",null,{"v":0,"d":"0.0"},19,1,null,null,{"$f":"IF(W10+X10=0,0,IF(W10+X10>0.1,W10-X10,0))","v":0},"",null,{"v":0,"d":"0.0"},0,{"$f":"I10+Q10+Y10","v":0},0,0,{"$f":"IF($AF$7:$AF$10=0,\"\",RANK(AF10,$AF$7:$AF$10))","v":""}]
[null,2,5,0,3,6,null,null,{"$f":"IF(G11+H11=0,0,IF(G11+H11>0.1,G11-H11,0))","v":0},"",null,{"v":0,"d":"0.0"},8,7,null,null,{"$f":"IF(O11+P11=0,0,IF(O11+P11>0.1,O11-P11,0))","v":0},"",null,{"v":0,"d":"0.0"},17,8,null,null,{"$f":"IF(W11+X11=0,0,IF(W11+X11>0.1,W11-X11,0))","v":0},"",null,{"v":0,"d":"0.0"},{"$f":"L11+T11+AB11","v":0},{"$f":"I11+Q11+Y11","v":0},{"$f":"H11+P11+X11","v":0},{"$f":"(AC11*100000)+(AD11*1000)-AE11","v":0},{"$f":"IF($AF$11:$AF$14=0,\"\",RANK(AF11,$AF$11:$AF$14))","v":""}]
[null,null,6,0,3,5,null,null,{"$f":"IF(G12+H12=0,0,IF(G12+H12>0.1,G12-H12,0))","v":0},"",null,{"v":0,"d":"0.0"},9,8,null,null,{"$f":"IF(O12+P12=0,0,IF(O12+P12>0.1,O12-P12,0))","v":0},"",null,{"v":0,"d":"0.0"},18,7,null,null,{"$f":"IF(W12+X12=0,0,IF(W12+X12>0.1,W12-X12,0))","v":0},"",null,{"v":0,"d":"0.0"},{"$f":"L12+T12+AB12","v":0},{"$f":"I12+Q12+Y12","v":0},{"$f":"H12+P12+X12","v":0},{"$f":"(AC12*100000)+(AD12*1000)-AE12","v":0},{"$f":"IF($AF$11:$AF$14=0,\"\",RANK(AF12,$AF$11:$AF$14))","v":""}]
[null,null,7,0,4,8,null,null,{"$f":"IF(G13+H13=0,0,IF(G13+H13>0.1,G13-H13,0))","v":0},"",null,{"v":0,"d":"0.0"},8,5,null,null,{"$f":"IF(O13+P13=0,0,IF(O13+P13>0.1,O13-P13,0))","v":0},"",null,{"v":0,"d":"0.0"},18,6,null,null,{"$f":"IF(W13+X13=0,0,IF(W13+X13>0.1,W13-X13,0))","v":0},"",null,{"v":0,"d":"0.0"},0,{"$f":"I13+Q13+Y13","v":0},0,0,{"$f":"IF($AF$11:$AF$14=0,\"\",RANK(AF13,$AF$11:$AF$14))","v":""}]
[null,null,8,0,4,7,null,null,{"$f":"IF(G14+H14=0,0,IF(G14+H14>0.1,G14-H14,0))","v":0},"",null,{"v":0,"d":"0.0"},9,6,null,null,{"$f":"IF(O14+P14=0,0,IF(O14+P14>0.1,O14-P14,0))","v":0},"",null,{"v":0,"d":"0.0"},17,5,null,null,{"$f":"IF(W14+X14=0,0,IF(W14+X14>0.1,W14-X14,0))","v":0},"",null,{"v":0,"d":"0.0"},0,{"$f":"I14+Q14+Y14","v":0},0,0,{"$f":"IF($AF$11:$AF$14=0,\"\",RANK(AF14,$AF$11:$AF$14))","v":""}]
[null,3,9,0,5,10,null,null,{"$f":"IF(G15+H15=0,0,IF(G15+H15>0.1,G15-H15,0))","v":0},"",null,{"v":0,"d":"0.0"},12,11,null,null,{"$f":"IF(O15+P15=0,0,IF(O15+P15>0.1,O15-P15,0))","v":0},"",null,{"v":0,"d":"0.0"},15,12,null,null,{"$f":"IF(W15+X15=0,0,IF(W15+X15>0.1,W15-X15,0))","v":0},"",null,{"v":0,"d":"0.0"},{"$f":"L15+T15+AB15","v":0},{"$f":"I15+Q15+Y15","v":0},{"$f":"H15+P15+X15","v":0},{"$f":"(AC15*100000)+(AD15*1000)-AE15","v":0},{"$f":"IF($AF$15:$AF$18=0,\"\",RANK(AF15,$AF$15:$AF$18))","v":""}]
[null,null,10,0,5,9,null,null,{"$f":"IF(G16+H16=0,0,IF(G16+H16>0.1,G16-H16,0))","v":0},"",null,{"v":0,"d":"0.0"},13,12,null,null,{"$f":"IF(O16+P16=0,0,IF(O16+P16>0.1,O16-P16,0))","v":0},"",null,{"v":0,"d":"0.0"},16,11,null,null,{"$f":"IF(W16+X16=0,0,IF(W16+X16>0.1,W16-X16,0))","v":0},"",null,{"v":0,"d":"0.0"},{"$f":"L16+T16+AB16","v":0},{"$f":"I16+Q16+Y16","v":0},{"$f":"H16+P16+X16","v":0},{"$f":"(AC16*100000)+(AD16*1000)-AE16","v":0},{"$f":"IF($AF$15:$AF$18=0,\"\",RANK(AF16,$AF$15:$AF$18))","v":""}]
[null,null,11,0,6,12,null,null,{"$f":"IF(G17+H17=0,0,IF(G17+H17>0.1,G17-H17,0))","v":0},"",null,{"v":0,"d":"0.0"},12,9,null,null,{"$f":"IF(O17+P17=0,0,IF(O17+P17>0.1,O17-P17,0))","v":0},"",null,{"v":0,"d":"0.0"},16,10,null,null,{"$f":"IF(W17+X17=0,0,IF(W17+X17>0.1,W17-X17,0))","v":0},"",null,{"v":0,"d":"0.0"},0,{"$f":"I17+Q17+Y17","v":0},0,0,{"$f":"IF($AF$15:$AF$18=0,\"\",RANK(AF17,$AF$15:$AF$18))","v":""}]
[null,null,12,0,6,11,null,null,{"$f":"IF(G18+H18=0,0,IF(G18+H18>0.1,G18-H18,0))","v":0},"",null,{"v":0,"d":"0.0"},13,10,null,null,{"$f":"IF(O18+P18=0,0,IF(O18+P18>0.1,O18-P18,0))","v":0},"",null,{"v":0,"d":"0.0"},15,9,null,null,{"$f":"IF(W18+X18=0,0,IF(W18+X18>0.1,W18-X18,0))","v":0},"",null,{"v":0,"d":"0.0"},0,{"$f":"I18+Q18+Y18","v":0},0,0,{"$f":"IF($AF$15:$AF$18=0,\"\",RANK(AF18,$AF$15:$AF$18))","v":""}]
[null,4,13,0,8,14,null,null,{"$f":"IF(G19+H19=0,0,IF(G19+H19>0.1,G19-H19,0))","v":0},"",null,{"v":0,"d":"0.0"},17,15,null,null,{"$f":"IF(O19+P19=0,0,IF(O19+P19>0.1,O19-P19,0))","v":0},"",null,{"v":0,"d":"0.0"},3,16,null,null,{"$f":"IF(W19+X19=0,0,IF(W19+X19>0.1,W19-X19,0))","v":0},"",null,{"v":0,"d":"0.0"},{"$f":"L19+T19+AB19","v":0},{"$f":"I19+Q19+Y19","v":0},{"$f":"H19+P19+X19","v":0},{"$f":"(AC19*100000)+(AD19*1000)-AE19","v":0},{"$f":"IF($AF$19:$AF$22=0,\"\",RANK(AF19,$AF$19:$AF$22))","v":""}]
[null,null,14,0,8,13,null,null,{"$f":"IF(G20+H20=0,0,IF(G20+H20>0.1,G20-H20,0))","v":0},"",null,{"v":0,"d":"0.0"},18,16,null,null,{"$f":"IF(O20+P20=0,0,IF(O20+P20>0.1,O20-P20,0))","v":0},"",null,{"v":0,"d":"0.0"},4,15,null,null,{"$f":"IF(W20+X20=0,0,IF(W20+X20>0.1,W20-X20,0))","v":0},"",null,{"v":0,"d":"0.0"},{"$f":"L20+T20+AB20","v":0},{"$f":"I20+Q20+Y20","v":0},{"$f":"H20+P20+X20","v":0},{"$f":"(AC20*100000)+(AD20*1000)-AE20","v":0},{"$f":"IF($AF$19:$AF$22=0,\"\",RANK(AF20,$AF$19:$AF$22))","v":""}]
[null,null,15,0,9,16,null,null,{"$f":"IF(G21+H21=0,0,IF(G21+H21>0.1,G21-H21,0))","v":0},"",null,{"v":0,"d":"0.0"},17,13,null,null,{"$f":"IF(O21+P21=0,0,IF(O21+P21>0.1,O21-P21,0))","v":0},"",null,{"v":0,"d":"0.0"},4,14,null,null,{"$f":"IF(W21+X21=0,0,IF(W21+X21>0.1,W21-X21,0))","v":0},"",null,{"v":0,"d":"0.0"},0,{"$f":"I21+Q21+Y21","v":0},0,0,{"$f":"IF($AF$19:$AF$22=0,\"\",RANK(AF21,$AF$19:$AF$22))","v":""}]
[null,null,16,0,9,15,null,null,{"$f":"IF(G22+H22=0,0,IF(G22+H22>0.1,G22-H22,0))","v":0},"",null,{"v":0,"d":"0.0"},18,14,null,null,{"$f":"IF(O22+P22=0,0,IF(O22+P22>0.1,O22-P22,0))","v":0},"",null,{"v":0,"d":"0.0"},3,13,null,null,{"$f":"IF(W22+X22=0,0,IF(W22+X22>0.1,W22-X22,0))","v":0},"",null,{"v":0,"d":"0.0"},0,{"$f":"I22+Q22+Y22","v":0},0,0,{"$f":"IF($AF$19:$AF$22=0,\"\",RANK(AF22,$AF$19:$AF$22))","v":""}]
[null,5,17,0,10,18,null,null,{"$f":"IF(G23+H23=0,0,IF(G23+H23>0.1,G23-H23,0))","v":0},"",null,{"v":0,"d":"0.0"},7,19,null,null,{"$f":"IF(O23+P23=0,0,IF(O23+P23>0.1,O23-P23,0))","v":0},"",null,{"v":0,"d":"0.0"},1,20,null,null,{"$f":"IF(W23+X23=0,0,IF(W23+X23>0.1,W23-X23,0))","v":0},"",null,{"v":0,"d":"0.0"},{"$f":"L23+T23+AB23","v":0},{"$f":"I23+Q23+Y23","v":0},{"$f":"H23+P23+X23","v":0},{"$f":"(AC23*100000)+(AD23*1000)-AE23","v":0},{"$f":"IF($AF$23:$AF$26=0,\"\",RANK(AF23,$AF$23:$AF$26))","v":""}]
[null,null,18,0,10,17,null,null,{"$f":"IF(G24+H24=0,0,IF(G24+H24>0.1,G24-H24,0))","v":0},"",null,{"v":0,"d":"0.0"},14,20,null,null,{"$f":"IF(O24+P24=0,0,IF(O24+P24>0.1,O24-P24,0))","v":0},"",null,{"v":0,"d":"0.0"},2,19,null,null,{"$f":"IF(W24+X24=0,0,IF(W24+X24>0.1,W24-X24,0))","v":0},"",null,{"v":0,"d":"0.0"},{"$f":"L24+T24+AB24","v":0},{"$f":"I24+Q24+Y24","v":0},{"$f":"H24+P24+X24","v":0},{"$f":"(AC24*100000)+(AD24*1000)-AE24","v":0},{"$f":"IF($AF$23:$AF$26=0,\"\",RANK(AF24,$AF$23:$AF$26))","v":""}]
[null,null,19,0,11,20,null,null,{"$f":"IF(G25+H25=0,0,IF(G25+H25>0.1,G25-H25,0))","v":0},"",null,{"v":0,"d":"0.0"},7,17,null,null,{"$f":"IF(O25+P25=0,0,IF(O25+P25>0.1,O25-P25,0))","v":0},"",null,{"v":0,"d":"0.0"},2,18,null,null,{"$f":"IF(W25+X25=0,0,IF(W25+X25>0.1,W25-X25,0))","v":0},"",null,{"v":0,"d":"0.0"},0,{"$f":"I25+Q25+Y25","v":0},0,0,""]
[null,null,20,0,11,19,null,null,{"$f":"IF(G26+H26=0,0,IF(G26+H26>0.1,G26-H26,0))","v":0},"",null,{"v":0,"d":"0.0"},14,18,null,null,{"$f":"IF(O26+P26=0,0,IF(O26+P26>0.1,O26-P26,0))","v":0},"",null,{"v":0,"d":"0.0"},1,17,null,null,{"$f":"IF(W26+X26=0,0,IF(W26+X26>0.1,W26-X26,0))","v":0},"",null,{"v":0,"d":"0.0"},0,{"$f":"I26+Q26+Y26","v":0},0,0,""]
[null,6,21,0,12,22,null,null,{"$f":"IF(G27+H27=0,0,IF(G27+H27>0.1,G27-H27,0))","v":0},"",null,{"v":0,"d":"0.0"},19,23,null,null,{"$f":"IF(O27+P27=0,0,IF(O27+P27>0.1,O27-P27,0))","v":0},"",null,{"v":0,"d":"0.0"},7,24,null,null,{"$f":"IF(W27+X27=0,0,IF(W27+X27>0.1,W27-X27,0))","v":0},"",null,{"v":0,"d":"0.0"},{"$f":"L27+T27+AB27","v":0},{"$f":"I27+Q27+Y27","v":0},{"$f":"H27+P27+X27","v":0},{"$f":"(AC27*100000)+(AD27*1000)-AE27","v":0},{"$f":"IF($AF$27:$AF$30=0,\"\",RANK(AF27,$AF$27:$AF$30))","v":""}]
[null,null,22,0,12,21,null,null,{"$f":"IF(G28+H28=0,0,IF(G28+H28>0.1,G28-H28,0))","v":0},"",null,{"v":0,"d":"0.0"},20,24,null,null,{"$f":"IF(O28+P28=0,0,IF(O28+P28>0.1,O28-P28,0))","v":0},"",null,{"v":0,"d":"0.0"},14,23,null,null,{"$f":"IF(W28+X28=0,0,IF(W28+X28>0.1,W28-X28,0))","v":0},"",null,{"v":0,"d":"0.0"},{"$f":"L28+T28+AB28","v":0},{"$f":"I28+Q28+Y28","v":0},{"$f":"H28+P28+X28","v":0},{"$f":"(AC28*100000)+(AD28*1000)-AE28","v":0},{"$f":"IF($AF$27:$AF$30=0,\"\",RANK(AF28,$AF$27:$AF$30))","v":""}]
[null,null,23,0,13,24,null,null,{"$f":"IF(G29+H29=0,0,IF(G29+H29>0.1,G29-H29,0))","v":0},"",null,{"v":0,"d":"0.0"},19,21,null,null,{"$f":"IF(O29+P29=0,0,IF(O29+P29>0.1,O29-P29,0))","v":0},"",null,{"v":0,"d":"0.0"},14,22,null,null,{"$f":"IF(W29+X29=0,0,IF(W29+X29>0.1,W29-X29,0))","v":0},"",null,{"v":0,"d":"0.0"},0,{"$f":"I29+Q29+Y29","v":0},0,0,""]
[null,null,24,0,13,23,null,null,{"$f":"IF(G30+H30=0,0,IF(G30+H30>0.1,G30-H30,0))","v":0},"",null,{"v":0,"d":"0.0"},20,22,null,null,{"$f":"IF(O30+P30=0,0,IF(O30+P30>0.1,O30-P30,0))","v":0},"",null,{"v":0,"d":"0.0"},7,21,null,null,{"$f":"IF(W30+X30=0,0,IF(W30+X30>0.1,W30-X30,0))","v":0},"",null,{"v":0,"d":"0.0"},0,{"$f":"I30+Q30+Y30","v":0},0,0,""]
[null,7,25,0,15,26,null,null,{"$f":"IF(G31+H31=0,0,IF(G31+H31>0.1,G31-H31,0))","v":0},"",null,{"v":0,"d":"0.0"},3,27,null,null,{"$f":"IF(O31+P31=0,0,IF(O31+P31>0.1,O31-P31,0))","v":0},"",null,{"v":0,"d":"0.0"},10,28,null,null,{"$f":"IF(W31+X31=0,0,IF(W31+X31>0.1,W31-X31,0))","v":0},"",null,{"v":0,"d":"0.0"},{"$f":"L31+T31+AB31","v":0},{"$f":"I31+Q31+Y31","v":0},{"$f":"H31+P31+X31","v":0},{"$f":"(AC31*100000)+(AD31*1000)-AE31","v":0},{"$f":"IF($AF$31:$AF$34=0,\"\",RANK(AF31,$AF$31:$AF$34))","v":""}]
[null,null,26,0,15,25,null,null,{"$f":"IF(G32+H32=0,0,IF(G32+H32>0.1,G32-H32,0))","v":0},"",null,{"v":0,"d":"0.0"},4,28,null,null,{"$f":"IF(O32+P32=0,0,IF(O32+P32>0.1,O32-P32,0))","v":0},"",null,{"v":0,"d":"0.0"},11,27,null,null,{"$f":"IF(W32+X32=0,0,IF(W32+X32>0.1,W32-X32,0))","v":0},"",null,{"v":0,"d":"0.0"},{"$f":"L32+T32+AB32","v":0},{"$f":"I32+Q32+Y32","v":0},{"$f":"H32+P32+X32","v":0},{"$f":"(AC32*100000)+(AD32*1000)-AE32","v":0},{"$f":"IF($AF$31:$AF$34=0,\"\",RANK(AF32,$AF$31:$AF$34))","v":""}]
[null,null,27,0,16,28,null,null,{"$f":"IF(G33+H33=0,0,IF(G33+H33>0.1,G33-H33,0))","v":0},"",null,{"v":0,"d":"0.0"},3,25,null,null,{"$f":"IF(O33+P33=0,0,IF(O33+P33>0.1,O33-P33,0))","v":0},"",null,{"v":0,"d":"0.0"},11,26,null,null,{"$f":"IF(W33+X33=0,0,IF(W33+X33>0.1,W33-X33,0))","v":0},"",null,{"v":0,"d":"0.0"},0,{"$f":"I33+Q33+Y33","v":0},0,0,""]
[null,null,28,0,16,27,null,null,{"$f":"IF(G34+H34=0,0,IF(G34+H34>0.1,G34-H34,0))","v":0},"",null,{"v":0,"d":"0.0"},4,26,null,null,{"$f":"IF(O34+P34=0,0,IF(O34+P34>0.1,O34-P34,0))","v":0},"",null,{"v":0,"d":"0.0"},10,25,null,null,{"$f":"IF(W34+X34=0,0,IF(W34+X34>0.1,W34-X34,0))","v":0},"",null,{"v":0,"d":"0.0"},0,{"$f":"I34+Q34+Y34","v":0},0,0,""]
[null,8,29,0,17,30,null,null,{"$f":"IF(G35+H35=0,0,IF(G35+H35>0.1,G35-H35,0))","v":0},"",null,{"v":0,"d":"0.0"},1,31,null,null,{"$f":"IF(O35+P35=0,0,IF(O35+P35>0.1,O35-P35,0))","v":0},"",null,{"v":0,"d":"0.0"},12,32,null,null,{"$f":"IF(W35+X35=0,0,IF(W35+X35>0.1,W35-X35,0))","v":0},"",null,{"v":0,"d":"0.0"},{"$f":"L35+T35+AB35","v":0},{"$f":"I35+Q35+Y35","v":0},{"$f":"H35+P35+X35","v":0},{"$f":"(AC35*100000)+(AD35*1000)-AE35","v":0},{"$f":"IF($AF$35:$AF$38=0,\"\",RANK(AF35,$AF$35:$AF$38))","v":""}]
[null,null,30,0,17,29,null,null,{"$f":"IF(G36+H36=0,0,IF(G36+H36>0.1,G36-H36,0))","v":0},"",null,{"v":0,"d":"0.0"},2,32,null,null,{"$f":"IF(O36+P36=0,0,IF(O36+P36>0.1,O36-P36,0))","v":0},"",null,{"v":0,"d":"0.0"},13,31,null,null,{"$f":"IF(W36+X36=0,0,IF(W36+X36>0.1,W36-X36,0))","v":0},"",null,{"v":0,"d":"0.0"},{"$f":"L36+T36+AB36","v":0},{"$f":"I36+Q36+Y36","v":0},{"$f":"H36+P36+X36","v":0},{"$f":"(AC36*100000)+(AD36*1000)-AE36","v":0},{"$f":"IF($AF$35:$AF$38=0,\"\",RANK(AF36,$AF$35:$AF$38))","v":""}]
[null,null,31,0,18,32,null,null,{"$f":"IF(G37+H37=0,0,IF(G37+H37>0.1,G37-H37,0))","v":0},"",null,{"v":0,"d":"0.0"},1,29,null,null,{"$f":"IF(O37+P37=0,0,IF(O37+P37>0.1,O37-P37,0))","v":0},"",null,{"v":0,"d":"0.0"},13,30,null,null,{"$f":"IF(W37+X37=0,0,IF(W37+X37>0.1,W37-X37,0))","v":0},"",null,{"v":0,"d":"0.0"},0,{"$f":"I37+Q37+Y37","v":0},0,0,""]
[null,null,32,0,18,31,null,null,{"$f":"IF(G38+H38=0,0,IF(G38+H38>0.1,G38-H38,0))","v":0},"",null,{"v":0,"d":"0.0"},2,30,null,null,{"$f":"IF(O38+P38=0,0,IF(O38+P38>0.1,O38-P38,0))","v":0},"",null,{"v":0,"d":"0.0"},12,29,null,null,{"$f":"IF(W38+X38=0,0,IF(W38+X38>0.1,W38-X38,0))","v":0},"",null,{"v":0,"d":"0.0"},0,{"$f":"I38+Q38+Y38","v":0},0,0,""]
[null,9,33,0,19,34,null,null,{"$f":"IF(G39+H39=0,0,IF(G39+H39>0.1,G39-H39,0))","v":0},"",null,{"v":0,"d":"0.0"},5,35,null,null,{"$f":"IF(O39+P39=0,0,IF(O39+P39>0.1,O39-P39,0))","v":0},"",null,{"v":0,"d":"0.0"},8,36,null,null,{"$f":"IF(W39+X39=0,0,IF(W39+X39>0.1,W39-X39,0))","v":0},"",null,{"v":0,"d":"0.0"},{"$f":"L39+T39+AB39","v":0},{"$f":"I39+Q39+Y39","v":0},{"$f":"H39+P39+X39","v":0},{"$f":"(AC39*100000)+(AD39*1000)-AE39","v":0},{"$f":"IF($AF$39:$AF$42=0,\"\",RANK(AF39,$AF$39:$AF$42))","v":""}]
[null,null,34,0,19,33,null,null,{"$f":"IF(G40+H40=0,0,IF(G40+H40>0.1,G40-H40,0))","v":0},"",null,{"v":0,"d":"0.0"},6,36,null,null,{"$f":"IF(O40+P40=0,0,IF(O40+P40>0.1,O40-P40,0))","v":0},"",null,{"v":0,"d":"0.0"},9,35,null,null,{"$f":"IF(W40+X40=0,0,IF(W40+X40>0.1,W40-X40,0))","v":0},"",null,{"v":0,"d":"0.0"},{"$f":"L40+T40+AB40","v":0},{"$f":"I40+Q40+Y40","v":0},{"$f":"H40+P40+X40","v":0},{"$f":"(AC40*100000)+(AD40*1000)-AE40","v":0},{"$f":"IF($AF$39:$AF$42=0,\"\",RANK(AF40,$AF$39:$AF$42))","v":""}]
[null,null,35,0,20,36,null,null,{"$f":"IF(G41+H41=0,0,IF(G41+H41>0.1,G41-H41,0))","v":0},"",null,{"v":0,"d":"0.0"},5,33,null,null,{"$f":"IF(O41+P41=0,0,IF(O41+P41>0.1,O41-P41,0))","v":0},"",null,{"v":0,"d":"0.0"},9,34,null,null,{"$f":"IF(W41+X41=0,0,IF(W41+X41>0.1,W41-X41,0))","v":0},"",null,{"v":0,"d":"0.0"},0,{"$f":"I41+Q41+Y41","v":0},0,0,""]
[null,null,36,0,20,35,null,null,{"$f":"IF(G42+H42=0,0,IF(G42+H42>0.1,G42-H42,0))","v":0},"",null,{"v":0,"d":"0.0"},6,34,null,null,{"$f":"IF(O42+P42=0,0,IF(O42+P42>0.1,O42-P42,0))","v":0},"",null,{"v":0,"d":"0.0"},8,33,null,null,{"$f":"IF(W42+X42=0,0,IF(W42+X42>0.1,W42-X42,0))","v":0},"",null,{"v":0,"d":"0.0"},0,{"$f":"I42+Q42+Y42","v":0},0,0,""]
[null,10,37,0,7,38,null,null,{"$f":"IF(G43+H43=0,0,IF(G43+H43>0.1,G43-H43,0))","v":0},"",null,{"v":0,"d":"0.0"},15,39,null,null,{"$f":"IF(O43+P43=0,0,IF(O43+P43>0.1,O43-P43,0))","v":0},"",null,{"v":0,"d":"0.0"},5,40,null,null,{"$f":"IF(W43+X43=0,0,IF(W43+X43>0.1,W43-X43,0))","v":0},"",null,{"v":0,"d":"0.0"},{"$f":"L43+T43+AB43","v":0},{"$f":"I43+Q43+Y43","v":0},{"$f":"H43+P43+X43","v":0},{"$f":"(AC43*100000)+(AD43*1000)-AE43","v":0},{"$f":"IF($AF$43:$AF$46=0,\"\",RANK(AF43,$AF$43:$AF$46))","v":""}]
[null,null,38,0,7,37,null,null,{"$f":"IF(G44+H44=0,0,IF(G44+H44>0.1,G44-H44,0))","v":0},"",null,{"v":0,"d":"0.0"},16,40,null,null,{"$f":"IF(O44+P44=0,0,IF(O44+P44>0.1,O44-P44,0))","v":0},"",null,{"v":0,"d":"0.0"},6,39,null,null,{"$f":"IF(W44+X44=0,0,IF(W44+X44>0.1,W44-X44,0))","v":0},"",null,{"v":0,"d":"0.0"},{"$f":"L44+T44+AB44","v":0},{"$f":"I44+Q44+Y44","v":0},{"$f":"H44+P44+X44","v":0},{"$f":"(AC44*100000)+(AD44*1000)-AE44","v":0},{"$f":"IF($AF$43:$AF$46=0,\"\",RANK(AF44,$AF$43:$AF$46))","v":""}]
[null,null,39,0,14,40,null,null,{"$f":"IF(G45+H45=0,0,IF(G45+H45>0.1,G45-H45,0))","v":0},"",null,{"v":0,"d":"0.0"},15,37,null,null,{"$f":"IF(O45+P45=0,0,IF(O45+P45>0.1,O45-P45,0))","v":0},"",null,{"v":0,"d":"0.0"},6,38,null,null,{"$f":"IF(W45+X45=0,0,IF(W45+X45>0.1,W45-X45,0))","v":0},"",null,{"v":0,"d":"0.0"},0,{"$f":"I45+Q45+Y45","v":0},0,0,""]
[null,null,40,0,14,39,null,null,{"$f":"IF(G46+H46=0,0,IF(G46+H46>0.1,G46-H46,0))","v":0},"",null,{"v":0,"d":"0.0"},16,38,null,null,{"$f":"IF(O46+P46=0,0,IF(O46+P46>0.1,O46-P46,0))","v":0},"",null,{"v":0,"d":"0.0"},5,37,null,null,{"$f":"IF(W46+X46=0,0,IF(W46+X46>0.1,W46-X46,0))","v":0},"",null,{"v":0,"d":"0.0"},0,{"$f":"I46+Q46+Y46","v":0},0,0,""]

{"sheet":"R 1 cds.","index":6,"n_rows":920,"n_cols":23,"rows_kept":920,"hidden":true,"merged":[[128,0,128,1],[128,2,128,3],[128,4,128,5],[128,6,128,7],[128,8,128,10],[128,13,128,14],[129,19,129,21],[132,0,132,1],[132,2,132,3],[132,4,132,5],[132,6,132,7],[132,8,132,10],[132,11,132,12],[132,13,132,14],[132,15,132,16],[132,17,132,18],[132,19,132,21],[150,0,150,1],[150,2,150,3],[150,4,150,5],[150,6,150,7],[150,8,150,10],[150,13,150,14],[150,15,150,16],[150,17,150,18],[152,0,152,1],[152,2,152,3],[152,4,152,5],[152,6,152,7],[152,8,152,10],[152,13,152,14],[152,15,152,16],[152,17,152,18],[152,19,152,21],[156,0,156,1],[156,2,156,3],[156,6,156,7],[156,8,156,10],[156,11,156,12],[156,13,156,14],[156,15,156,16],[156,17,156,18],[156,19,156,21],[157,8,157,10],[157,11,157,12],[157,13,157,14],[157,15,157,16],[157,17,157,18],[157,19,157,21],[176,8,176,10],[176,13,176,14],[177,19,177,21],[183,0,183,1],[183,15,183,16],[195,15,195,16],[195,17,195,18],[195,19,195,21],[196,0,196,1],[196,2,196,3],[196,17,196,18],[196,19,196,21],[197,0,197,1],[197,2,197,3],[197,4,197,5],[197,6,197,7],[197,8,197,10],[197,13,197,14],[197,15,197,16],[197,17,197,18],[197,19,197,21],[198,0,198,1],[198,2,198,3],[198,4,198,5],[198,6,198,7],[198,8,198,10],[198,11,198,12],[198,13,198,14],[198,15,198,16],[198,17,198,18],[198,19,198,21],[199,11,199,12],[201,0,201,1],[201,2,201,3],[201,4,201,5],[201,6,201,7],[201,8,201,10],[201,11,201,12],[201,13,201,14],[201,15,201,16],[201,17,201,18],[201,19,201,21],[202,0,202,1],[202,2,202,3],[202,4,202,5],[202,6,202,7],[202,8,202,10],[202,11,202,12],[202,13,202,14],[202,15,202,16],[202,17,202,18],[202,19,202,21],[203,0,203,1],[203,2,203,3],[203,4,203,5],[203,6,203,7],[203,8,203,10],[203,11,203,12],[203,13,203,14],[203,15,203,16],[203,17,203,18],[203,19,203,21],[225,4,225,5],[225,6,225,7],[225,8,225,10],[225,11,225,12],[225,13,225,14],[225,15,225,16],[225,17,225,18],[225,19,225,21],[226,0,226,1],[226,2,226,3],[226,4,226,5],[226,6,226,7],[226,8,226,10],[226,11,226,12],[226,13,226,14],[226,15,226,16],[226,17,226,18],[226,19,226,21],[243,11,243,12],[243,19,243,21],[244,0,244,1],[244,2,244,3],[244,4,244,5],[244,6,244,7],[244,8,244,10],[244,11,244,12],[244,13,244,14],[244,15,244,16],[245,11,245,12],[247,0,247,1],[247,2,247,3],[247,4,247,5],[247,6,247,7],[247,8,247,10],[247,11,247,12],[247,13,247,14],[247,15,247,16],[247,17,247,18],[247,19,247,21],[248,0,248,1],[248,2,248,3],[248,4,248,5],[248,6,248,7],[248,8,248,10],[248,11,248,12],[248,13,248,14],[248,15,248,16],[248,17,248,18],[248,19,248,21],[267,11,267,12],[268,0,268,1],[268,2,268,3],[268,4,268,5],[268,6,268,7],[268,8,268,10],[268,11,268,12],[268,13,268,14],[268,15,268,16],[268,17,268,18],[268,19,268,21],[269,19,269,21],[270,0,270,1],[270,2,270,3],[270,4,270,5],[270,6,270,7],[270,8,270,10],[270,11,270,12],[270,13,270,14],[270,15,270,16],[270,17,270,18],[270,19,270,21],[272,13,272,14],[272,15,272,16],[272,17,272,18],[272,19,272,21],[287,11,287,12],[288,11,288,12],[289,11,289,12],[289,19,289,21],[290,0,290,1],[290,2,290,3],[290,4,290,5],[290,6,290,7],[290,8,290,10],[290,11,290,12],[290,13,290,14],[290,15,290,16],[290,17,290,18],[290,19,290,21],[291,11,291,12],[292,15,292,16],[292,17,292,18],[292,19,292,21],[293,0,293,1],[293,2,293,3],[293,4,293,5],[293,6,293,7],[293,8,293,10],[293,11,293,12],[293,13,293,14],[293,15,293,16],[293,17,293,18],[293,19,293,21],[295,15,295,16],[295,17,295,18],[295,19,295,21],[299,0,299,23],[304,0,304,10],[304,11,304,12],[304,13,304,23],[306,0,306,10],[306,11,306,12],[306,13,306,23],[308,2,308,10],[308,13,308,21],[309,2,309,5],[309,6,309,10],[309,13,309,16],[309,17,309,21],[310,0,310,1],[310,2,310,3],[310,4,310,5],[310,6,310,7],[310,8,310,10],[310,11,310,12],[310,13,310,14],[310,15,310,16],[310,17,310,18],[310,19,310,21],[311,11,311,12],[316,8,316,10],[316,11,316,12],[316,13,316,14],[316,15,316,16],[316,17,316,18],[316,19,316,21],[317,0,317,1],[317,2,317,3],[317,6,317,7],[317,8,317,10],[317,11,317,12],[317,13,317,14],[317,15,317,16],[317,17,317,18],[317,19,317,21],[318,0,318,1],[318,2,318,3],[318,6,318,7],[318,8,318,10],[318,11,318,12],[318,13,318,14],[318,15,318,16],[318,17,318,18],[318,19,318,21],[333,11,333,12],[334,11,334,12],[335,11,335,12],[335,19,335,21],[336,0,336,1],[336,2,336,3],[336,4,336,5],[336,6,336,7],[336,8,336,10],[336,11,336,12],[336,13,336,14],[337,11,337,12],[339,0,339,1],[339,2,339,3],[339,4,339,5],[339,6,339,7],[339,8,339,10],[339,11,339,12],[339,13,339,14],[339,15,339,16],[339,17,339,18],[339,19,339,21],[340,0,340,1],[340,2,340,3],[340,4,340,5],[340,6,340,7],[340,8,340,10],[340,11,340,12],[340,13,340,14],[340,15,340,16],[340,17,340,18],[340,19,340,21],[359,11,359,12],[360,0,360,1],[360,2,360,3],[360,4,360,5],[360,6,360,7],[360,8,360,10],[360,11,360,12],[360,13,360,14],[360,15,360,16],[360,17,360,18],[360,19,360,21],[361,19,361,21],[362,0,362,1],[362,2,362,3],[362,4,362,5],[362,6,362,7],[362,8,362,10],[362,11,362,12],[362,13,362,14],[362,15,362,16],[362,17,362,18],[362,19,362,21],[364,13,364,14],[364,15,364,16],[364,17,364,18],[364,19,364,21],[367,0,367,1],[367,15,367,16],[379,11,379,12],[380,11,380,12],[380,17,380,18],[381,11,381,12],[381,19,381,21],[382,0,382,1],[382,2,382,3],[382,4,382,5],[382,6,382,7],[382,8,382,10],[382,11,382,12],[382,13,382,14],[382,15,382,16],[382,17,382,18],[382,19,382,21],[383,11,383,12],[385,0,385,1],[385,2,385,3],[385,4,385,5],[385,6,385,7],[385,8,385,10],[385,11,385,12],[385,13,385,14],[385,15,385,16],[385,17,385,18],[385,19,385,21],[387,2,387,3],[387,6,387,7],[387,8,387,10],[387,11,387,12],[387,13,387,14],[387,15,387,16],[387,17,387,18],[387,19,387,21],[396,0,396,10],[396,11,396,12],[396,13,396,23],[398,0,398,10],[400,2,400,10],[400,13,400,21],[401,2,401,5],[401,6,401,10],[401,13,401,16],[401,17,401,21],[402,0,402,1],[402,2,402,3],[402,4,402,5],[402,6,402,7],[402,8,402,10],[402,11,402,12],[402,13,402,14],[402,15,402,16],[402,17,402,18],[402,19,402,21],[403,8,403,10],[403,11,403,12],[403,13,403,14],[403,15,403,16],[409,2,409,3],[409,6,409,7],[409,8,409,10],[409,11,409,12],[409,13,409,14],[409,15,409,16],[409,17,409,18],[409,19,409,21],[410,0,410,1],[410,2,410,3],[410,4,410,5],[410,6,410,7],[410,8,410,10],[410,11,410,12],[410,13,410,14],[410,15,410,16],[410,17,410,18],[410,19,410,21],[433,0,433,1],[433,2,433,3],[433,6,433,7],[433,8,433,10],[433,11,433,12],[433,13,433,14],[433,15,433,16],[433,17,433,18],[433,19,433,21],[437,0,437,23],[438,0,438,23],[439,2,439,6],[439,8,439,23],[440,2,440,6],[440,8,440,23],[442,0,442,10],[442,11,442,12],[442,13,442,23],[444,0,444,10],[444,11,444,12],[444,13,444,23],[446,2,446,10],[446,13,446,21],[447,2,447,5],[447,6,447,10],[447,13,447,16],[447,17,447,21],[448,0,448,1],[448,2,448,3],[448,4,448,5],[448,6,448,7],[448,11,448,12],[456,15,456,16],[456,17,456,18],[456,19,456,21],[458,0,458,1],[458,3,459,6],[458,9,458,14],[458,15,458,16],[458,17,459,21],[459,0,459,1],[459,15,459,16],[460,0,460,23],[461,0,461,23],[462,2,462,6],[462,8,462,23],[463,2,463,6],[463,8,463,23],[465,0,465,10],[465,11,465,12],[465,13,465,23],[467,0,467,10],[467,11,467,12],[467,13,467,23],[469,2,469,10],[469,13,469,21],[470,2,470,5],[471,11,471,12],[479,0,479,1],[479,2,479,3],[479,6,479,7],[479,8,479,10],[479,11,479,12],[479,13,479,14],[479,15,479,16],[479,17,479,18],[479,19,479,21],[483,0,483,23],[484,0,484,23],[485,2,485,6],[485,8,485,23],[486,2,486,6],[486,8,486,23],[488,0,488,10],[488,11,488,12],[488,13,488,23],[490,0,490,10],[490,11,490,12],[490,13,490,23],[492,2,492,10],[492,13,492,21],[493,2,493,5],[493,6,493,10],[493,13,493,16],[493,17,493,21],[494,0,494,1],[494,2,494,3],[494,4,494,5],[494,6,494,7],[494,11,494,12],[502,15,502,16],[502,17,502,18],[502,19,502,21],[504,0,504,1],[504,3,505,6],[504,9,504,14],[504,15,504,16],[504,17,505,21],[505,0,505,1],[505,15,505,16],[506,0,506,23],[507,0,507,23],[508,2,508,6],[508,8,508,23],[509,2,509,6],[509,8,509,23],[511,0,511,10],[511,11,511,12],[511,13,511,23],[513,0,513,10],[513,11,513,12],[513,13,513,23],[515,2,515,10],[515,13,515,21],[516,2,516,5],[517,11,517,12],[525,0,525,1],[525,2,525,3],[525,6,525,7],[525,8,525,10],[525,11,525,12],[525,13,525,14],[525,15,525,16],[525,17,525,18],[525,19,525,21],[529,0,529,23],[530,0,530,23],[531,2,531,6],[531,8,531,23],[532,2,532,6],[532,8,532,23],[534,0,534,10],[534,11,534,12],[534,13,534,23],[536,0,536,10],[536,11,536,12],[536,13,536,23],[538,2,538,10],[538,13,538,21],[539,2,539,5],[539,6,539,10],[539,13,539,16],[539,17,539,21],[540,0,540,1],[540,2,540,3],[540,4,540,5],[540,6,540,7],[540,11,540,12],[548,15,548,16],[548,17,548,18],[548,19,548,21],[550,0,550,1],[550,3,551,6],[550,9,550,14],[550,15,550,16],[550,17,551,21],[551,0,551,1],[551,15,551,16],[552,0,552,23],[553,0,553,23],[554,2,554,6],[554,8,554,23],[555,2,555,6],[555,8,555,23],[557,0,557,10],[557,11,557,12],[557,13,557,23],[559,0,559,10],[559,11,559,12],[559,13,559,23],[561,2,561,10],[561,13,561,21],[562,2,562,5],[563,11,563,12],[571,0,571,1],[571,2,571,3],[571,6,571,7],[571,8,571,10],[571,11,571,12],[571,13,571,14],[571,15,571,16],[571,17,571,18],[571,19,571,21],[575,0,575,23],[576,0,576,23],[577,2,577,6],[577,8,577,23],[578,2,578,6],[578,8,578,23],[580,0,580,10],[580,11,580,12],[580,13,580,23],[582,0,582,10],[582,11,582,12],[582,13,582,23],[584,2,584,10],[584,13,584,21],[585,2,585,5],[585,6,585,10],[585,13,585,16],[585,17,585,21],[586,0,586,1],[586,2,586,3],[586,4,586,5],[586,6,586,7],[586,11,586,12],[594,15,594,16],[594,17,594,18],[594,19,594,21],[596,0,596,1],[596,3,597,6],[596,9,596,14],[596,15,596,16],[596,17,597,21],[597,0,597,1],[597,15,597,16],[598,0,598,23],[599,0,599,23],[600,2,600,6],[600,8,600,23],[601,2,601,6],[601,8,601,23],[603,0,603,10],[603,11,603,12],[603,13,603,23],[605,0,605,10],[605,11,605,12],[605,13,605,23],[607,2,607,10],[607,13,607,21],[608,2,608,5],[609,11,609,12],[617,0,617,1],[617,2,617,3],[617,6,617,7],[617,8,617,10],[617,11,617,12],[617,13,617,14],[617,15,617,16],[617,17,617,18],[617,19,617,21],[621,0,621,23],[622,0,622,23],[623,2,623,6],[623,8,623,23],[624,2,624,6],[624,8,624,23],[626,0,626,10],[626,11,626,12],[626,13,626,23],[628,0,628,10],[628,11,628,12],[628,13,628,23],[630,2,630,10],[630,13,630,21],[631,2,631,5],[631,6,631,10],[631,13,631,16],[631,17,631,21],[632,0,632,1],[632,2,632,3],[632,4,632,5],[632,6,632,7],[632,11,632,12],[640,15,640,16],[640,17,640,18],[640,19,640,21],[642,0,642,1],[642,3,643,6],[642,9,642,14],[642,15,642,16],[642,17,643,21],[643,0,643,1],[643,15,643,16],[644,0,644,23],[645,0,645,23],[646,2,646,6],[646,8,646,23],[647,2,647,6],[647,8,647,23],[649,0,649,10],[649,11,649,12],[649,13,649,23],[651,0,651,10],[651,11,651,12],[651,13,651,23],[653,2,653,10],[653,13,653,21],[654,2,654,5],[655,11,655,12],[663,0,663,1],[663,2,663,3],[663,6,663,7],[663,8,663,10],[663,11,663,12],[663,13,663,14],[663,15,663,16],[663,17,663,18],[663,19,663,21],[667,0,667,23],[668,0,668,23],[669,2,669,6],[669,8,669,23],[670,2,670,6],[670,8,670,23],[672,0,672,10],[672,11,672,12],[672,13,672,23],[674,0,674,10],[674,11,674,12],[674,13,674,23],[676,2,676,10],[676,13,676,21],[677,2,677,5],[677,6,677,10],[677,13,677,16],[677,17,677,21],[678,0,678,1],[678,2,678,3],[678,4,678,5],[678,6,678,7],[678,11,678,12],[686,15,686,16],[686,17,686,18],[686,19,686,21],[688,0,688,1],[688,3,689,6],[688,9,688,14],[688,15,688,16],[688,17,689,21],[689,0,689,1],[689,15,689,16],[690,0,690,23],[691,0,691,23],[692,2,692,6],[692,8,692,23],[693,2,693,6],[693,8,693,23],[695,0,695,10],[695,11,695,12],[695,13,695,23],[697,0,697,10],[697,11,697,12],[697,13,697,23],[699,2,699,10],[699,13,699,21],[700,2,700,5],[701,11,701,12],[709,0,709,1],[709,2,709,3],[709,6,709,7],[709,8,709,10],[709,11,709,12],[709,13,709,14],[709,15,709,16],[709,17,709,18],[709,19,709,21],[713,0,713,23],[714,0,714,23],[715,2,715,6],[715,8,715,23],[716,2,716,6],[716,8,716,23],[718,0,718,10],[718,11,718,12],[718,13,718,23],[720,0,720,10],[720,11,720,12],[720,13,720,23],[722,2,722,10],[722,13,722,21],[723,2,723,5],[723,6,723,10],[723,13,723,16],[723,17,723,21],[724,0,724,1],[724,2,724,3],[724,4,724,5],[724,6,724,7],[724,11,724,12],[732,15,732,16],[732,17,732,18],[732,19,732,21],[734,0,734,1],[734,3,735,6],[734,9,734,14],[734,15,734,16],[734,17,735,21],[735,0,735,1],[735,15,735,16],[736,0,736,23],[737,0,737,23],[738,2,738,6],[738,8,738,23],[739,2,739,6],[739,8,739,23],[741,0,741,10],[741,11,741,12],[741,13,741,23],[743,0,743,10],[743,11,743,12],[743,13,743,23],[745,2,745,10],[745,13,745,21],[746,2,746,5],[747,11,747,12],[755,0,755,1],[755,2,755,3],[755,6,755,7],[755,8,755,10],[755,11,755,12],[755,13,755,14],[755,15,755,16],[755,17,755,18],[755,19,755,21],[759,0,759,23],[760,0,760,23],[761,2,761,6],[761,8,761,23],[762,2,762,6],[762,8,762,23],[764,0,764,10],[764,11,764,12],[764,13,764,23],[766,0,766,10],[766,11,766,12],[766,13,766,23],[768,2,768,10],[768,13,768,21],[769,2,769,5],[769,6,769,10],[769,13,769,16],[769,17,769,21],[770,0,770,1],[770,2,770,3],[770,4,770,5],[770,6,770,7],[770,11,770,12],[778,15,778,16],[778,17,778,18],[778,19,778,21],[780,0,780,1],[780,3,781,6],[780,9,780,14],[780,15,780,16],[780,17,781,21],[781,0,781,1],[781,15,781,16],[782,0,782,23],[783,0,783,23],[784,2,784,6],[784,8,784,23],[785,2,785,6],[785,8,785,23],[787,0,787,10],[787,11,787,12],[787,13,787,23],[789,0,789,10],[789,11,789,12],[789,13,789,23],[791,2,791,10],[791,13,791,21],[792,2,792,5],[793,11,793,12],[801,0,801,1],[801,2,801,3],[801,6,801,7],[801,8,801,10],[801,11,801,12],[801,13,801,14],[801,15,801,16],[801,17,801,18],[801,19,801,21],[805,0,805,23],[806,0,806,23],[807,2,807,6],[807,8,807,23],[808,2,808,6],[808,8,808,23],[810,0,810,10],[810,11,810,12],[810,13,810,23],[812,0,812,10],[812,11,812,12],[812,13,812,23],[814,2,814,10],[814,13,814,21],[815,2,815,5],[815,6,815,10],[815,13,815,16],[815,17,815,21],[816,0,816,1],[816,2,816,3],[816,4,816,5],[816,6,816,7],[816,11,816,12],[824,15,824,16],[824,17,824,18],[824,19,824,21],[826,0,826,1],[826,3,827,6],[826,9,826,14],[826,15,826,16],[826,17,827,21],[827,0,827,1],[827,15,827,16],[828,0,828,23],[829,0,829,23],[830,2,830,6],[830,8,830,23],[831,2,831,6],[831,8,831,23],[833,0,833,10],[833,11,833,12],[833,13,833,23],[835,0,835,10],[835,11,835,12],[835,13,835,23],[837,2,837,10],[837,13,837,21],[838,2,838,5],[839,11,839,12],[847,0,847,1],[847,2,847,3],[847,6,847,7],[847,8,847,10],[847,11,847,12],[847,13,847,14],[847,15,847,16],[847,17,847,18],[847,19,847,21],[851,0,851,23],[852,0,852,23],[853,2,853,6],[853,8,853,23],[854,2,854,6],[854,8,854,23],[856,0,856,10],[856,11,856,12],[856,13,856,23],[858,0,858,10],[858,11,858,12],[858,13,858,23],[860,2,860,10],[860,13,860,21],[861,2,861,5],[861,6,861,10],[861,13,861,16],[861,17,861,21],[862,0,862,1],[862,2,862,3],[862,4,862,5],[862,6,862,7],[862,11,862,12],[872,0,872,1],[872,3,873,6],[872,9,872,14],[872,15,872,16],[872,17,873,21],[873,0,873,1],[873,15,873,16],[877,8,877,23],[879,0,879,10],[879,11,879,12],[879,13,879,23],[881,0,881,10],[881,11,881,12],[881,13,881,23],[883,2,883,10],[883,13,883,21],[892,6,892,7],[892,8,892,10],[892,11,892,12],[892,13,892,14],[892,15,892,16],[892,17,892,18],[892,19,892,21],[893,8,893,10],[893,11,893,12],[893,13,893,14],[893,15,893,16],[893,17,893,18],[893,19,893,21],[895,0,895,1],[895,3,896,6],[895,9,895,14],[895,15,895,16],[895,17,896,21],[896,0,896,1],[896,15,896,16],[916,0,916,1],[916,2,916,3],[916,6,916,7],[916,8,916,10],[916,11,916,12],[916,13,916,14],[916,15,916,16],[916,17,916,18],[916,19,916,21]],"merged_total":4760,"flags":["merged_cut"]}
[{"$f":"Entries!$A$1","v":"2018 District 5 - Mixed Pairs"}]
["R O U N D  1"]
[null,null,"RINK",{"$nulls":5},"DATE"]
[null,null,{"$f":"DRAW!$F$5","v":1},{"$nulls":5},{"$f":"Entries!$A$2","v":"20th June 2018"}]
[]
[{"$f":"DRAW!$D$5","v":0},{"$nulls":10},"L",null,{"$f":"DRAW!$D$6","v":0}]
[]
[{"$f":"DRAW!$E$5","v":0},{"$nulls":10},"Sk",null,{"$f":"DRAW!$E$6","v":0}]
[]
[]
[null,null,{"$f":"DRAW!$E$5","v":0},{"$nulls":3},{"$f":"DRAW!$E$6","v":0},{"$nulls":6},{"$f":"DRAW!$E$5","v":0},{"$nulls":3},{"$f":"DRAW!$E$6","v":0}]
["End",null,"Shots",null,"Total",null,"Shots",null,"Total",null,null,"End",null,"Shots",null,"Total",null,"Shots",null,"Total"]
[1,{"$nulls":10},9]
[2,{"$nulls":10},10]
[3,{"$nulls":10},11]
[4,{"$nulls":10},12]
[5,{"$nulls":10},13,{"$nulls":10},1]
[6,{"$nulls":10},14]
[7,{"$nulls":10},15]
[8]
[{"$nulls":3},"TEAM No.",{"$nulls":5},"Time",{"$nulls":7},"TEAM No."]
["Sign",null,null,{"$f":"DRAW!$C$5","v":1},{"$nulls":5},"Completed",{"$nulls":5},"Sign",null,{"$f":"DRAW!$C$6","v":2}]
["i",{"$nulls":14},"i"]
[{"$f":"Entries!$A$1","v":"2018 District 5 - Mixed Pairs"}]
["R O U N D  1"]
[null,null,"RINK",{"$nulls":5},"DATE"]
[null,null,{"$f":"DRAW!$F$5","v":1},{"$nulls":5},{"$f":"Entries!$A$2","v":"20th June 2018"}]
[]
[{"$f":"DRAW!$D$6","v":0},{"$nulls":10},"L",null,{"$f":"DRAW!$D$5","v":0}]
[]
[{"$f":"DRAW!$E$6","v":0},{"$nulls":10},"Sk",null,{"$f":"DRAW!$E$5","v":0}]
[]
[]
[null,null,{"$f":"DRAW!$E$6","v":0},{"$nulls":3},{"$f":"DRAW!$E$5","v":0},{"$nulls":6},{"$f":"DRAW!$E$6","v":0},{"$nulls":3},{"$f":"DRAW!$E$5","v":0}]
["End",null,"Shots",null,"Total",null,"Shots",null,"Total",null,null,"End",null,"Shots",null,"Total",null,"Shots",null,"Total"]
[1,{"$nulls":10},9]
[2,{"$nulls":10},10]
[3,{"$nulls":10},11]
[4,{"$nulls":10},12]
[5,{"$nulls":10},13,{"$nulls":10},1]
[6,{"$nulls":10},14]
[7,{"$nulls":10},15]
[8]
[{"$nulls":3},"TEAM No.",{"$nulls":5},"Time",{"$nulls":7},"TEAM No."]
["Sign",null,null,2,{"$nulls":5},"Completed",{"$nulls":5},"Sign",null,1]
["i",{"$nulls":14},"i"]
[{"$f":"Entries!$A$1","v":"2018 District 5 - Mixed Pairs"}]
["R O U N D  1"]
[null,null,"RINK",{"$nulls":5},"DATE"]
[null,null,{"$f":"DRAW!$F$7","v":2},{"$nulls":5},{"$f":"Entries!$A$2","v":"20th June 2018"}]
[]
[{"$f":"DRAW!$D$7","v":0},{"$nulls":10},"L",null,{"$f":"DRAW!$D$8","v":0}]
[]
[{"$f":"DRAW!$E$7","v":0},{"$nulls":10},"Sk",null,{"$f":"DRAW!$E$8","v":0}]
[]
[]
[null,null,{"$f":"DRAW!$E$7","v":0},{"$nulls":3},{"$f":"DRAW!$E$8","v":0},{"$nulls":6},{"$f":"DRAW!$E$7","v":0},{"$nulls":3},{"$f":"DRAW!$E$8","v":0}]
["End",null,"Shots",null,"Total",null,"Shots",null,"Total",null,null,"End",null,"Shots",null,"Total",null,"Shots",null,"Total"]
[1,{"$nulls":10},9]
[2,{"$nulls":10},10]
[3,{"$nulls":10},11]
[4,{"$nulls":10},12]
[5,{"$nulls":10},13,{"$nulls":10},1]
[6,{"$nulls":10},14]
[7,{"$nulls":10},15]
[8]
[{"$nulls":3},"TEAM No.",{"$nulls":5},"Time",{"$nulls":7},"TEAM No."]
["Sign",null,null,{"$f":"DRAW!$C$7","v":3},{"$nulls":5},"Completed",{"$nulls":5},"Sign",null,{"$f":"DRAW!$C$8","v":4}]
["i",{"$nulls":14},"i"]
[{"$f":"Entries!$A$1","v":"2018 District 5 - Mixed Pairs"}]
["R O U N D  1"]
[null,null,"RINK",{"$nulls":5},"DATE"]
[null,null,{"$f":"DRAW!$F$7","v":2},{"$nulls":5},{"$f":"Entries!$A$2","v":"20th June 2018"}]
[]
[{"$f":"DRAW!$D$8","v":0},{"$nulls":10},"L",null,{"$f":"DRAW!$D$7","v":0}]
[]
[{"$f":"DRAW!$E$8","v":0},{"$nulls":10},"Sk",null,{"$f":"DRAW!$E$7","v":0}]
[]
[]
[null,null,{"$f":"$A$77","v":0},{"$nulls":3},{"$f":"$N$77","v":0},{"$nulls":6},{"$f":"$A$77","v":0},{"$nulls":3},{"$f":"$N$77","v":0}]
["End",null,"Shots",null,"Total",null,"Shots",null,"Total",null,null,"End",null,"Shots",null,"Total",null,"Shots",null,"Total"]
[1,{"$nulls":10},9]
[2,{"$nulls":10},10]
[3,{"$nulls":10},11]
[4,{"$nulls":10},12]
[5,{"$nulls":10},13,{"$nulls":10},1]
[6,{"$nulls":10},14]
[7,{"$nulls":10},15]
[8]
[{"$nulls":3},"TEAM No.",{"$nulls":5},"Time",{"$nulls":7},"TEAM No."]
["Sign",null,null,{"$f":"$R$68","v":4},{"$nulls":5},"Completed",{"$nulls":5},"Sign",null,{"$f":"$D$68","v":3}]
["i",{"$nulls":14},"i"]
[{"$f":"Entries!$A$1","v":"2018 District 5 - Mixed Pairs"}]
["R O U N D  1"]
[null,null,"RINK",{"$nulls":5},"DATE"]
[null,null,{"$f":"DRAW!$F$9","v":3},{"$nulls":5},{"$f":"Entries!$A$2","v":"20th June 2018"}]
[]
[{"$f":"DRAW!$D$9","v":0},{"$nulls":10},"L",null,{"$f":"DRAW!$D$10","v":0}]
[]
[{"$f":"DRAW!$E$9","v":0},{"$nulls":10},"Sk",null,{"$f":"DRAW!$E$10","v":0}]
[]
[]
[null,null,{"$f":"$A$100","v":0},{"$nulls":3},{"$f":"$N$100","v":0},{"$nulls":6},{"$f":"$A$100","v":0},{"$nulls":3},{"$f":"$N$100","v":0}]
["End",null,"Shots",null,"Total",null,"Shots",null,"Total",null,null,"End",null,"Shots",null,"Total",null,"Shots",null,"Total"]
[1,{"$nulls":10},9]
[2,{"$nulls":10},10]
[3,{"$nulls":10},11]
[4,{"$nulls":10},12]
[5,{"$nulls":10},13,{"$nulls":10},1]
[6,{"$nulls":10},14]
[7,{"$nulls":10},15]
[8]
[{"$nulls":3},"TEAM No.",{"$nulls":5},"Time",{"$nulls":7},"TEAM No."]
["Sign",null,null,{"$f":"DRAW!$C$9","v":5},{"$nulls":5},"Completed",{"$nulls":5},"Sign",null,{"$f":"DRAW!$C$10","v":6}]
["i",{"$nulls":14},"i"]
[{"$f":"Entries!$A$1","v":"2018 District 5 - Mixed Pairs"}]
["R O U N D  1"]
[null,null,"RINK",{"$nulls":5},"DATE"]
[null,null,{"$f":"$C$96","v":3},{"$nulls":5},{"$f":"Entries!$A$2","v":"20th June 2018"}]
[]
[{"$f":"$N$98","v":0},{"$nulls":10},"L",null,{"$f":"$A$98","v":0}]
[]
[{"$f":"$N$100","v":0},{"$nulls":10},"Sk",null,{"$f":"$A$100","v":0}]
[]
[]
[null,null,{"$f":"$N$100","v":0},{"$nulls":3},{"$f":"$A$100","v":0},{"$nulls":6},{"$f":"$N$100","v":0},{"$nulls":3},{"$f":"$A$100","v":0}]
["End",null,"Shots",null,"Total",null,"Shots",null,"Total",null,null,"End",null,"Shots",null,"Total",null,"Shots",null,"Total"]
[1,{"$nulls":10},9]
[2,{"$nulls":10},10]
[3,{"$nulls":10},11]
[4,{"$nulls":10},12]
[5,{"$nulls":10},13,{"$nulls":10},1]
[6,{"$nulls":10},14]
[7,{"$nulls":10},15]
[8]
[{"$nulls":3},"TEAM No.",{"$nulls":5},"Time",{"$nulls":7},"TEAM No."]
["Sign",null,null,{"$f":"$R$114","v":6},{"$nulls":5},"Completed",{"$nulls":5},"Sign",null,{"$f":"$D$114","v":5}]
["i",{"$nulls":14},"i"]
[{"$f":"Entries!$A$1","v":"2018 District 5 - Mixed Pairs"}]
["R O U N D  1"]
[null,null,"RINK",{"$nulls":5},"DATE"]
[null,null,{"$f":"DRAW!$F$11","v":4},{"$nulls":5},{"$f":"Entries!$A$2","v":"20th June 2018"}]
[]
[{"$f":"DRAW!$D$11","v":0},{"$nulls":10},"L",null,{"$f":"DRAW!$D$12","v":0}]
[]
[{"$f":"DRAW!$E$11","v":0},{"$nulls":10},"Sk",null,{"$f":"DRAW!$E$12","v":0}]
[]
[]
[null,null,{"$f":"DRAW!$E$11","v":0},{"$nulls":3},{"$f":"DRAW!$E$12","v":0},{"$nulls":6},{"$f":"DRAW!$E$11","v":0},{"$nulls":3},{"$f":"DRAW!$E$12","v":0}]
["End",null,"Shots",null,"Total",null,"Shots",null,"Total",null,null,"End",null,"Shots",null,"Total",null,"Shots",null,"Total"]
[1,{"$nulls":10},9]
[2,{"$nulls":10},10]
[3,{"$nulls":10},11]
[4,{"$nulls":10},12]
[5,{"$nulls":10},13,{"$nulls":10},1]
[6,{"$nulls":10},14]
[7,{"$nulls":10},15]
[8]
[{"$nulls":3},"TEAM No.",{"$nulls":5},"Time",{"$nulls":7},"TEAM No."]
["Sign",null,null,{"$f":"DRAW!$C$11","v":7},{"$nulls":5},"Completed",{"$nulls":5},"Sign",null,{"$f":"DRAW!$C$12","v":8}]
["i",{"$nulls":14},"i"]
[{"$f":"Entries!$A$1","v":"2018 District 5 - Mixed Pairs"}]
["R O U N D  1"]
[null,null,"RINK",{"$nulls":5},"DATE"]
[null,null,{"$f":"$C$142","v":4},{"$nulls":5},{"$f":"Entries!$A$2","v":"20th June 2018"}]
[]
[{"$f":"$N$144","v":0},{"$nulls":10},"L",null,{"$f":"$A$144","v":0}]
[]
[{"$f":"$N$146","v":0},{"$nulls":10},"Sk",null,{"$f":"$A$146","v":0}]
[]
[]
[null,null,{"$f":"$N$146","v":0},{"$nulls":3},{"$f":"$A$146","v":0},{"$nulls":6},{"$f":"$N$146","v":0},{"$nulls":3},{"$f":"$A$146","v":0}]
["End",null,"Shots",null,"Total",null,"Shots",null,"Total",null,null,"End",null,"Shots",null,"Total",null,"Shots",null,"Total"]
[1,{"$nulls":10},9]
[2,{"$nulls":10},10]
[3,{"$nulls":10},11]
[4,{"$nulls":10},12]
[5,{"$nulls":10},13,{"$nulls":10},1]
[6,{"$nulls":10},14]
[7,{"$nulls":10},15]
[8]
[{"$nulls":3},"TEAM No.",{"$nulls":5},"Time",{"$nulls":7},"TEAM No."]
["Sign",null,null,{"$f":"$R$160","v":8},{"$nulls":5},"Completed",{"$nulls":5},"Sign",null,{"$f":"$D$160","v":7}]
["i",{"$nulls":14},"i"]
[{"$f":"Entries!$A$1","v":"2018 District 5 - Mixed Pairs"}]
["R O U N D  1"]
[null,null,"RINK",{"$nulls":5},"DATE"]
[null,null,{"$f":"DRAW!$F$13","v":5},{"$nulls":5},{"$f":"Entries!$A$2","v":"20th June 2018"}]
[]
[{"$f":"DRAW!$D$13","v":0},{"$nulls":10},"L",null,{"$f":"DRAW!$D$14","v":0}]
[]
[{"$f":"DRAW!$E$13","v":0},{"$nulls":10},"Sk",null,{"$f":"DRAW!$E$14","v":0}]
[]
[]
[null,null,{"$f":"DRAW!$E$13","v":0},{"$nulls":3},{"$f":"DRAW!$E$14","v":0},{"$nulls":6},{"$f":"DRAW!$E$13","v":0},{"$nulls":3},{"$f":"DRAW!$E$14","v":0}]
["End",null,"Shots",null,"Total",null,"Shots",null,"Total",null,null,"End",null,"Shots",null,"Total",null,"Shots",null,"Total"]
[1,{"$nulls":10},9]
[2,{"$nulls":10},10]
[3,{"$nulls":10},11]
[4,{"$nulls":10},12]
[5,{"$nulls":10},13,{"$nulls":10},1]
[6,{"$nulls":10},14]
[7,{"$nulls":10},15]
[8]
[{"$nulls":3},"TEAM No.",{"$nulls":5},"Time",{"$nulls":7},"TEAM No."]
["Sign",null,null,{"$f":"DRAW!$C$13","v":9},{"$nulls":5},"Completed",{"$nulls":5},"Sign",null,{"$f":"DRAW!$C$14","v":10}]
["i",{"$nulls":14},"i"]
[{"$f":"Entries!$A$1","v":"2018 District 5 - Mixed Pairs"}]
["R O U N D  1"]
[null,null,"RINK",{"$nulls":5},"DATE"]
[null,null,{"$f":"DRAW!$F$13","v":5},{"$nulls":5},{"$f":"Entries!$A$2","v":"20th June 2018"}]
[]
[{"$f":"DRAW!$D$14","v":0},{"$nulls":10},"L",null,{"$f":"DRAW!$D$13","v":0}]
[]
[{"$f":"DRAW!$E$14","v":0},{"$nulls":10},"Sk",null,{"$f":"DRAW!$E$13","v":0}]
[]
[]
[null,null,{"$f":"DRAW!$E$14","v":0},{"$nulls":3},{"$f":"DRAW!$E$13","v":0},{"$nulls":6},{"$f":"DRAW!$E$14","v":0},{"$nulls":3},{"$f":"DRAW!$E$13","v":0}]
["End",null,"Shots",null,"Total",null,"Shots",null,"Total",null,null,"End",null,"Shots",null,"Total",null,"Shots",null,"Total"]
[1,{"$nulls":10},9]
[2,{"$nulls":10},10]
[3,{"$nulls":10},11]
[4,{"$nulls":10},12]
[5,{"$nulls":10},13,{"$nulls":10},1]
[6,{"$nulls":10},14]
[7,{"$nulls":10},15]
[8]
[{"$nulls":3},"TEAM No.",{"$nulls":5},"Time",{"$nulls":7},"TEAM No."]
["Sign",null,null,{"$f":"DRAW!$C$14","v":10},{"$nulls":5},"Completed",{"$nulls":5},"Sign",null,{"$f":"DRAW!$C$13","v":9}]
["i",{"$nulls":14},"i"]
[{"$f":"Entries!$A$1","v":"2018 District 5 - Mixed Pairs"}]
["R O U N D  1"]
[null,null,"RINK",{"$nulls":5},"DATE"]
[null,null,{"$f":"DRAW!$F$15","v":6},{"$nulls":5},{"$f":"Entries!$A$2","v":"20th June 2018"}]
[]
[{"$f":"DRAW!$D$15","v":0},{"$nulls":10},"L",null,{"$f":"DRAW!$D$16","v":0}]
[]
[{"$f":"DRAW!$E$15","v":0},{"$nulls":10},"Sk",null,{"$f":"DRAW!$E$16","v":0}]
[]
[]
[null,null,{"$f":"DRAW!$E$15","v":0},{"$nulls":3},{"$f":"DRAW!$E$16","v":0},{"$nulls":6},{"$f":"DRAW!$E$15","v":0},{"$nulls":3},{"$f":"DRAW!$E$16","v":0}]
["End",null,"Shots",null,"Total",null,"Shots",null,"Total",null,null,"End",null,"Shots",null,"Total",null,"Shots",null,"Total"]
[1,{"$nulls":10},9]
[2,{"$nulls":10},10]
[3,{"$nulls":10},11]
[4,{"$nulls":10},12]
[5,{"$nulls":10},13,{"$nulls":10},1]
[6,{"$nulls":10},14]
[7,{"$nulls":10},15]
[8]
[{"$nulls":3},"TEAM No.",{"$nulls":5},"Time",{"$nulls":7},"TEAM No."]
["Sign",null,null,{"$f":"DRAW!$C$15","v":11},{"$nulls":5},"Completed",{"$nulls":5},"Sign",null,{"$f":"DRAW!$C$16","v":12}]
["i",{"$nulls":14},"i"]
[{"$f":"Entries!$A$1","v":"2018 District 5 - Mixed Pairs"}]
["R O U N D  1"]
[null,null,"RINK",{"$nulls":5},"DATE"]
[null,null,{"$f":"DRAW!$F$15","v":6},{"$nulls":5},{"$f":"Entries!$A$2","v":"20th June 2018"}]
[]
[{"$f":"DRAW!$D$16","v":0},{"$nulls":10},"L",null,{"$f":"DRAW!$D$15","v":0}]
[]
[{"$f":"DRAW!$E$16","v":0},{"$nulls":10},"Sk",null,{"$f":"DRAW!$E$15","v":0}]
[]
[]
[null,null,{"$f":"DRAW!$E$16","v":0},{"$nulls":3},{"$f":"DRAW!$E$15","v":0},{"$nulls":6},{"$f":"DRAW!$E$16","v":0},{"$nulls":3},{"$f":"DRAW!$E$15","v":0}]
["End",null,"Shots",null,"Total",null,"Shots",null,"Total",null,null,"End",null,"Shots",null,"Total",null,"Shots",null,"Total"]
[1,{"$nulls":10},9]
[2,{"$nulls":10},10]
[3,{"$nulls":10},11]
[4,{"$nulls":10},12]
[5,{"$nulls":10},13,{"$nulls":10},1]
[6,{"$nulls":10},14]
[7,{"$nulls":10},15]
[8]
[{"$nulls":3},"TEAM No.",{"$nulls":5},"Time",{"$nulls":7},"TEAM No."]
["Sign",null,null,{"$f":"DRAW!$C$16","v":12},{"$nulls":5},"Completed",{"$nulls":5},"Sign",null,{"$f":"DRAW!$C$15","v":11}]
["i",{"$nulls":14},"i"]
[{"$f":"Entries!$A$1","v":"2018 District 5 - Mixed Pairs"}]
["R O U N D  1"]
[null,null,"RINK",{"$nulls":5},"DATE"]
[null,null,{"$f":"DRAW!$F$17","v":8},{"$nulls":5},{"$f":"Entries!$A$2","v":"20th June 2018"}]
[]
[{"$f":"DRAW!$D$18","v":0},{"$nulls":10},"L",null,{"$f":"DRAW!$D$17","v":0}]
[]
[{"$f":"DRAW!$E$18","v":0},{"$nulls":10},"Sk",null,{"$f":"DRAW!$E$17","v":0}]
[]
[]
[null,null,{"$f":"DRAW!$E$18","v":0},{"$nulls":3},{"$f":"DRAW!$E$17","v":0},{"$nulls":6},{"$f":"DRAW!$E$18","v":0},{"$nulls":3},{"$f":"DRAW!$E$17","v":0}]
["End",null,"Shots",null,"Total",null,"Shots",null,"Total",null,null,"End",null,"Shots",null,"Total",null,"Shots",null,"Total"]
[1,{"$nulls":10},9]
[2,{"$nulls":10},10]
[3,{"$nulls":10},11]
[4,{"$nulls":10},12]
[5,{"$nulls":10},13,{"$nulls":10},1]
[6,{"$nulls":10},14]
[7,{"$nulls":10},15]
[8]
[{"$nulls":3},"TEAM No.",{"$nulls":5},"Time",{"$nulls":7},"TEAM No."]
["Sign",null,null,{"$f":"DRAW!$C$18","v":14},{"$nulls":5},"Completed",{"$nulls":5},"Sign",null,{"$f":"DRAW!$C$17","v":13}]
["i",{"$nulls":14},"i"]
[{"$f":"Entries!$A$1","v":"2018 District 5 - Mixed Pairs"}]
["R O U N D  1"]
[null,null,"RINK",{"$nulls":5},"DATE"]
[null,null,{"$f":"DRAW!$F$17","v":8},{"$nulls":5},{"$f":"Entries!$A$2","v":"20th June 2018"}]
[]
[{"$f":"DRAW!$D$17","v":0},{"$nulls":10},"L",null,{"$f":"DRAW!$D$18","v":0}]
[]
[{"$f":"DRAW!$E$17","v":0},{"$nulls":10},"Sk",null,{"$f":"DRAW!$E$18","v":0}]
[]
[]
[null,null,{"$f":"DRAW!$E$17","v":0},{"$nulls":3},{"$f":"DRAW!$E$18","v":0},{"$nulls":6},{"$f":"DRAW!$E$17","v":0},{"$nulls":3},{"$f":"DRAW!$E$18","v":0}]
["End",null,"Shots",null,"Total",null,"Shots",null,"Total",null,null,"End",null,"Shots",null,"Total",null,"Shots",null,"Total"]
[1,{"$nulls":10},9]
[2,{"$nulls":10},10]
[3,{"$nulls":10},11]
[4,{"$nulls":10},12]
[5,{"$nulls":10},13,{"$nulls":10},1]
[6,{"$nulls":10},14]
[7,{"$nulls":10},15]
[8]
[{"$nulls":3},"TEAM No.",{"$nulls":5},"Time",{"$nulls":7},"TEAM No."]
["Sign",null,null,{"$f":"DRAW!$C$17","v":13},{"$nulls":5},"Completed",{"$nulls":5},"Sign",null,{"$f":"DRAW!$C$18","v":14}]
["i",{"$nulls":14},"i"]
[{"$f":"Entries!$A$1","v":"2018 District 5 - Mixed Pairs"}]
["R O U N D  1"]
[null,null,"RINK",{"$nulls":5},"DATE"]
[null,null,{"$f":"DRAW!$F$19","v":9},{"$nulls":5},{"$f":"Entries!$A$2","v":"20th June 2018"}]
[]
[{"$f":"DRAW!$D$19","v":0},{"$nulls":10},"L",null,{"$f":"DRAW!$D$20","v":0}]
[]
[{"$f":"DRAW!$E$19","v":0},{"$nulls":10},"Sk",null,{"$f":"DRAW!$E$20","v":0}]
[]
[]
[null,null,{"$f":"DRAW!$E$19","v":0},{"$nulls":3},{"$f":"DRAW!$E$20","v":0},{"$nulls":6},{"$f":"DRAW!$E$19","v":0},{"$nulls":3},{"$f":"DRAW!$E$20","v":0}]
["End",null,"Shots",null,"Total",null,"Shots",null,"Total",null,null,"End",null,"Shots",null,"Total",null,"Shots",null,"Total"]
[1,{"$nulls":10},9]
[2,{"$nulls":10},10]
[3,{"$nulls":10},11]
[4,{"$nulls":10},12]
[5,{"$nulls":10},13,{"$nulls":10},1]
[6,{"$nulls":10},14]
[7,{"$nulls":10},15]
[8]
[{"$nulls":3},"TEAM No.",{"$nulls":5},"Time",{"$nulls":7},"TEAM No."]
["Sign",null,null,{"$f":"DRAW!$C$19","v":15},{"$nulls":5},"Completed",{"$nulls":5},"Sign",null,{"$f":"DRAW!$C$20","v":16}]
["i",{"$nulls":14},"i"]
[{"$f":"Entries!$A$1","v":"2018 District 5 - Mixed Pairs"}]
["R O U N D  1"]
[null,null,"RINK",{"$nulls":5},"DATE"]
[null,null,{"$f":"DRAW!$F$19","v":9},{"$nulls":5},{"$f":"Entries!$A$2","v":"20th June 2018"}]
[]
[{"$f":"DRAW!$D$20","v":0},{"$nulls":10},"L",null,{"$f":"DRAW!$D$19","v":0}]
[]
[{"$f":"DRAW!$E$20","v":0},{"$nulls":10},"Sk",null,{"$f":"DRAW!$E$19","v":0}]
[]
[]
[null,null,{"$f":"DRAW!$E$20","v":0},{"$nulls":3},{"$f":"DRAW!$E$19","v":0},{"$nulls":6},{"$f":"DRAW!$E$20","v":0},{"$nulls":3},{"$f":"DRAW!$E$19","v":0}]
["End",null,"Shots",null,"Total",null,"Shots",null,"Total",null,null,"End",null,"Shots",null,"Total",null,"Shots",null,"Total"]
[1,{"$nulls":10},9]
[2,{"$nulls":10},10]
[3,{"$nulls":10},11]
[4,{"$nulls":10},12]
[5,{"$nulls":10},13,{"$nulls":10},1]
[6,{"$nulls":10},14]
[7,{"$nulls":10},15]
[8]
[{"$nulls":3},"TEAM No.",{"$nulls":5},"Time",{"$nulls":7},"TEAM No."]
["Sign",null,null,{"$f":"DRAW!$C$20","v":16},{"$nulls":5},"Completed",{"$nulls":5},"Sign",null,{"$f":"DRAW!$C$19","v":15}]
["i",{"$nulls":14},"i"]
[{"$f":"Entries!$A$1","v":"2018 District 5 - Mixed Pairs"}]
["R O U N D  1"]
[null,null,"RINK",{"$nulls":5},"DATE"]
[null,null,{"$f":"DRAW!$F$21","v":10},{"$nulls":5},{"$f":"Entries!$A$2","v":"20th June 2018"}]
[]
[{"$f":"DRAW!$D$21","v":0},{"$nulls":10},"L",null,{"$f":"DRAW!$D$22","v":0}]
[]
[{"$f":"DRAW!$E$21","v":0},{"$nulls":10},"Sk",null,{"$f":"DRAW!$E$22","v":0}]
[]
[]
[null,null,{"$f":"DRAW!$E$21","v":0},{"$nulls":3},{"$f":"DRAW!$E$22","v":0},{"$nulls":6},{"$f":"DRAW!$E$21","v":0},{"$nulls":3},{"$f":"DRAW!$E$22","v":0}]
["End",null,"Shots",null,"Total",null,"Shots",null,"Total",null,null,"End",null,"Shots",null,"Total",null,"Shots",null,"Total"]
[1,{"$nulls":10},9]
[2,{"$nulls":10},10]
[3,{"$nulls":10},11]
[4,{"$nulls":10},12]
[5,{"$nulls":10},13,{"$nulls":10},1]
[6,{"$nulls":10},14]
[7,{"$nulls":10},15]
[8]
[{"$nulls":3},"TEAM No.",{"$nulls":5},"Time",{"$nulls":7},"TEAM No."]
["Sign",null,null,{"$f":"DRAW!$C$21","v":17},{"$nulls":5},"Completed",{"$nulls":5},"Sign",null,{"$f":"DRAW!$C$22","v":18}]
["i",{"$nulls":14},"i"]
[{"$f":"Entries!$A$1","v":"2018 District 5 - Mixed Pairs"}]
["R O U N D  1"]
[null,null,"RINK",{"$nulls":5},"DATE"]
[null,null,{"$f":"DRAW!$F$21","v":10},{"$nulls":5},{"$f":"Entries!$A$2","v":"20th June 2018"}]
[]
[{"$f":"DRAW!$D$22","v":0},{"$nulls":10},"L",null,{"$f":"DRAW!$D$21","v":0}]
[]
[{"$f":"DRAW!$E$22","v":0},{"$nulls":10},"Sk",null,{"$f":"DRAW!$E$21","v":0}]
[]
[]
[null,null,{"$f":"DRAW!$E$22","v":0},{"$nulls":3},{"$f":"DRAW!$E$21","v":0},{"$nulls":6},{"$f":"DRAW!$E$22","v":0},{"$nulls":3},{"$f":"DRAW!$E$21","v":0}]
["End",null,"Shots",null,"Total",null,"Shots",null,"Total",null,null,"End",null,"Shots",null,"Total",null,"Shots",null,"Total"]
[1,{"$nulls":10},9]
[2,{"$nulls":10},10]
[3,{"$nulls":10},11]
[4,{"$nulls":10},12]
[5,{"$nulls":10},13,{"$nulls":10},1]
[6,{"$nulls":10},14]
[7,{"$nulls":10},15]
[8]
[{"$nulls":3},"TEAM No.",{"$nulls":5},"Time",{"$nulls":7},"TEAM No."]
["Sign",null,null,{"$f":"DRAW!$C$22","v":18},{"$nulls":5},"Completed",{"$nulls":5},"Sign",null,{"$f":"DRAW!$C$21","v":17}]
["i",{"$nulls":14},"i"]
[{"$f":"Entries!$A$1","v":"2018 District 5 - Mixed Pairs"}]
["R O U N D  1"]
[null,null,"RINK",{"$nulls":5},"DATE"]
[null,null,{"$f":"DRAW!$F$23","v":11},{"$nulls":5},{"$f":"Entries!$A$2","v":"20th June 2018"}]
[]
[{"$f":"DRAW!$D$23","v":0},{"$nulls":10},"L",null,{"$f":"DRAW!$D$24","v":0}]
[]
[{"$f":"DRAW!$E$23","v":0},{"$nulls":10},"Sk",null,{"$f":"DRAW!$E$24","v":0}]
[]
[]
[null,null,{"$f":"DRAW!$E$23","v":0},{"$nulls":3},{"$f":"DRAW!$E$24","v":0},{"$nulls":6},{"$f":"DRAW!$E$23","v":0},{"$nulls":3},{"$f":"DRAW!$E$24","v":0}]
["End",null,"Shots",null,"Total",null,"Shots",null,"Total",null,null,"End",null,"Shots",null,"Total",null,"Shots",null,"Total"]
[1,{"$nulls":10},9]
[2,{"$nulls":10},10]
[3,{"$nulls":10},11]
[4,{"$nulls":10},12]
[5,{"$nulls":10},13,{"$nulls":10},1]
[6,{"$nulls":10},14]
[7,{"$nulls":10},15]
[8]
[{"$nulls":3},"TEAM No.",{"$nulls":5},"Time",{"$nulls":7},"TEAM No."]
["Sign",null,null,{"$f":"DRAW!$C$23","v":19},{"$nulls":5},"Completed",{"$nulls":5},"Sign",null,{"$f":"DRAW!$C$24","v":20}]
["i",{"$nulls":14},"i"]
[{"$f":"Entries!$A$1","v":"2018 District 5 - Mixed Pairs"}]
["R O U N D  1"]
[null,null,"RINK",{"$nulls":5},"DATE"]
[null,null,{"$f":"DRAW!$F$23","v":11},{"$nulls":5},{"$f":"Entries!$A$2","v":"20th June 2018"}]
[]
[{"$f":"DRAW!$D$24","v":0},{"$nulls":10},"L",null,{"$f":"DRAW!$D$23","v":0}]
[]
[{"$f":"DRAW!$E$24","v":0},{"$nulls":10},"Sk",null,{"$f":"DRAW!$E$23","v":0}]
[]
[]
[null,null,{"$f":"DRAW!$E$24","v":0},{"$nulls":3},{"$f":"DRAW!$E$23","v":0},{"$nulls":6},{"$f":"DRAW!$E$24","v":0},{"$nulls":3},{"$f":"DRAW!$E$23","v":0}]
["End",null,"Shots",null,"Total",null,"Shots",null,"Total",null,null,"End",null,"Shots",null,"Total",null,"Shots",null,"Total"]
[1,{"$nulls":10},9]
[2,{"$nulls":10},10]
[3,{"$nulls":10},11]
[4,{"$nulls":10},12]
[5,{"$nulls":10},13,{"$nulls":10},1]
[6,{"$nulls":10},14]
[7,{"$nulls":10},15]
[8]
[{"$nulls":3},"TEAM No.",{"$nulls":5},"Time",{"$nulls":7},"TEAM No."]
["Sign",null,null,{"$f":"DRAW!$C$24","v":20},{"$nulls":5},"Completed",{"$nulls":5},"Sign",null,{"$f":"DRAW!$C$23","v":19}]
["i",{"$nulls":14},"i"]
[{"$f":"Entries!$A$1","v":"2018 District 5 - Mixed Pairs"}]
["R O U N D  1"]
[null,null,"RINK",{"$nulls":5},"DATE"]
[null,null,{"$f":"DRAW!$F$25","v":12},{"$nulls":5},{"$f":"Entries!$A$2","v":"20th June 2018"}]
[]
[{"$f":"DRAW!$D$25","v":0},{"$nulls":10},"L",null,{"$f":"DRAW!$D$26","v":0}]
[]
[{"$f":"DRAW!$E$25","v":0},{"$nulls":10},"Sk",null,{"$f":"DRAW!$E$26","v":0}]
[]
[]
[null,null,{"$f":"DRAW!$E$25","v":0},{"$nulls":3},{"$f":"DRAW!$E$26","v":0},{"$nulls":6},{"$f":"DRAW!$E$25","v":0},{"$nulls":3},{"$f":"DRAW!$E$26","v":0}]
["End",null,"Shots",null,"Total",null,"Shots",null,"Total",null,null,"End",null,"Shots",null,"Total",null,"Shots",null,"Total"]
[1,{"$nulls":10},9]
[2,{"$nulls":10},10]
[3,{"$nulls":10},11]
[4,{"$nulls":10},12]
[5,{"$nulls":10},13,{"$nulls":10},1]
[6,{"$nulls":10},14]
[7,{"$nulls":10},15]
[8]
[{"$nulls":3},"TEAM No.",{"$nulls":5},"Time",{"$nulls":7},"TEAM No."]
["Sign",null,null,{"$f":"DRAW!$C$25","v":21},{"$nulls":5},"Completed",{"$nulls":5},"Sign",null,{"$f":"DRAW!$C$26","v":22}]
["i",{"$nulls":14},"i"]
[{"$f":"Entries!$A$1","v":"2018 District 5 - Mixed Pairs"}]
["R O U N D  1"]
[null,null,"RINK",{"$nulls":5},"DATE"]
[null,null,{"$f":"DRAW!$F$25","v":12},{"$nulls":5},{"$f":"Entries!$A$2","v":"20th June 2018"}]
[]
[{"$f":"DRAW!$D$26","v":0},{"$nulls":10},"L",null,{"$f":"DRAW!$D$25","v":0}]
[]
[{"$f":"DRAW!$E$26","v":0},{"$nulls":10},"Sk",null,{"$f":"DRAW!$E$25","v":0}]
[]
[]
[null,null,{"$f":"DRAW!$E$26","v":0},{"$nulls":3},{"$f":"DRAW!$E$25","v":0},{"$nulls":6},{"$f":"DRAW!$E$26","v":0},{"$nulls":3},{"$f":"DRAW!$E$25","v":0}]
["End",null,"Shots",null,"Total",null,"Shots",null,"Total",null,null,"End",null,"Shots",null,"Total",null,"Shots",null,"Total"]
[1,{"$nulls":10},9]
[2,{"$nulls":10},10]
[3,{"$nulls":10},11]
[4,{"$nulls":10},12]
[5,{"$nulls":10},13,{"$nulls":10},1]
[6,{"$nulls":10},14]
[7,{"$nulls":10},15]
[8]
[{"$nulls":3},"TEAM No.",{"$nulls":5},"Time",{"$nulls":7},"TEAM No."]
["Sign",null,null,{"$f":"DRAW!$C$26","v":22},{"$nulls":5},"Completed",{"$nulls":5},"Sign",null,{"$f":"DRAW!$C$25","v":21}]
["i",{"$nulls":14},"i"]
[{"$f":"Entries!$A$1","v":"2018 District 5 - Mixed Pairs"}]
["R O U N D  1"]
[null,null,"RINK",{"$nulls":5},"DATE"]
[null,null,{"$f":"DRAW!$F$27","v":13},{"$nulls":5},{"$f":"Entries!$A$2","v":"20th June 2018"}]
[]
[{"$f":"DRAW!$D$27","v":0},{"$nulls":10},"L",null,{"$f":"DRAW!$D$28","v":0}]
[]
[{"$f":"DRAW!$E$27","v":0},{"$nulls":10},"Sk",null,{"$f":"DRAW!$E$28","v":0}]
[]
[]
[null,null,{"$f":"DRAW!$E$27","v":0},{"$nulls":3},{"$f":"DRAW!$E$28","v":0},{"$nulls":6},{"$f":"DRAW!$E$27","v":0},{"$nulls":3},{"$f":"DRAW!$E$28","v":0}]
["End",null,"Shots",null,"Total",null,"Shots",null,"Total",null,null,"End",null,"Shots",null,"Total",null,"Shots",null,"Total"]
[1,{"$nulls":10},9]
[2,{"$nulls":10},10]
[3,{"$nulls":10},11]
[4,{"$nulls":10},12]
[5,{"$nulls":10},13,{"$nulls":10},1]
[6,{"$nulls":10},14]
[7,{"$nulls":10},15]
[8]
[{"$nulls":3},"TEAM No.",{"$nulls":5},"Time",{"$nulls":7},"TEAM No."]
["Sign",null,null,{"$f":"DRAW!$C$27","v":23},{"$nulls":5},"Completed",{"$nulls":5},"Sign",null,{"$f":"DRAW!$C$28","v":24}]
["i",{"$nulls":14},"i"]
[{"$f":"Entries!$A$1","v":"2018 District 5 - Mixed Pairs"}]
["R O U N D  1"]
[null,null,"RINK",{"$nulls":5},"DATE"]
[null,null,{"$f":"DRAW!$F$27","v":13},{"$nulls":5},{"$f":"Entries!$A$2","v":"20th June 2018"}]
[]
[{"$f":"DRAW!$D$28","v":0},{"$nulls":10},"L",null,{"$f":"DRAW!$D$27","v":0}]
[]
[{"$f":"DRAW!$E$28","v":0},{"$nulls":10},"Sk",null,{"$f":"DRAW!$E$27","v":0}]
[]
[]
[null,null,{"$f":"DRAW!$E$28","v":0},{"$nulls":3},{"$f":"DRAW!$E$27","v":0},{"$nulls":6},{"$f":"DRAW!$E$28","v":0},{"$nulls":3},{"$f":"DRAW!$E$27","v":0}]
["End",null,"Shots",null,"Total",null,"Shots",null,"Total",null,null,"End",null,"Shots",null,"Total",null,"Shots",null,"Total"]
[1,{"$nulls":10},9]
[2,{"$nulls":10},10]
[3,{"$nulls":10},11]
[4,{"$nulls":10},12]
[5,{"$nulls":10},13,{"$nulls":10},1]
[6,{"$nulls":10},14]
[7,{"$nulls":10},15]
[8]
[{"$nulls":3},"TEAM No.",{"$nulls":5},"Time",{"$nulls":7},"TEAM No."]
["Sign",null,null,{"$f":"DRAW!$C$28","v":24},{"$nulls":5},"Completed",{"$nulls":5},"Sign",null,{"$f":"DRAW!$C$27","v":23}]
["i",{"$nulls":14},"i"]
[{"$f":"Entries!$A$1","v":"2018 District 5 - Mixed Pairs"}]
["R O U N D  1"]
[null,null,"RINK",{"$nulls":5},"DATE"]
[null,null,{"$f":"DRAW!$F$29","v":15},{"$nulls":5},{"$f":"Entries!$A$2","v":"20th June 2018"}]
[]
[{"$f":"DRAW!$D$29","v":0},{"$nulls":10},"L",null,{"$f":"DRAW!$D$30","v":0}]
[]
[{"$f":"DRAW!$E$29","v":0},{"$nulls":10},"Sk",null,{"$f":"DRAW!$E$30","v":0}]
[]
[]
[null,null,{"$f":"DRAW!$E$29","v":0},{"$nulls":3},{"$f":"DRAW!$E$30","v":0},{"$nulls":6},{"$f":"DRAW!$E$29","v":0},{"$nulls":3},{"$f":"DRAW!$E$30","v":0}]
["End",null,"Shots",null,"Total",null,"Shots",null,"Total",null,null,"End",null,"Shots",null,"Total",null,"Shots",null,"Total"]
[1,{"$nulls":10},9]
[2,{"$nulls":10},10]
[3,{"$nulls":10},11]
[4,{"$nulls":10},12]
[5,{"$nulls":10},13,{"$nulls":10},1]
[6,{"$nulls":10},14]
[7,{"$nulls":10},15]
[8]
[{"$nulls":3},"TEAM No.",{"$nulls":5},"Time",{"$nulls":7},"TEAM No."]
["Sign",null,null,{"$f":"DRAW!$C$29","v":25},{"$nulls":5},"Completed",{"$nulls":5},"Sign",null,{"$f":"DRAW!$C$30","v":26}]
["i",{"$nulls":14},"i"]
[{"$f":"Entries!$A$1","v":"2018 District 5 - Mixed Pairs"}]
["R O U N D  1"]
[null,null,"RINK",{"$nulls":5},"DATE"]
[null,null,{"$f":"DRAW!$F$29","v":15},{"$nulls":5},{"$f":"Entries!$A$2","v":"20th June 2018"}]
[]
[{"$f":"DRAW!$D$30","v":0},{"$nulls":10},"L",null,{"$f":"DRAW!$D$29","v":0}]
[]
[{"$f":"DRAW!$E$30","v":0},{"$nulls":10},"Sk",null,{"$f":"DRAW!$E$29","v":0}]
[]
[]
[null,null,{"$f":"DRAW!$E$30","v":0},{"$nulls":3},{"$f":"DRAW!$E$29","v":0},{"$nulls":6},{"$f":"DRAW!$E$30","v":0},{"$nulls":3},{"$f":"DRAW!$E$29","v":0}]
["End",null,"Shots",null,"Total",null,"Shots",null,"Total",null,null,"End",null,"Shots",null,"Total",null,"Shots",null,"Total"]
[1,{"$nulls":10},9]
[2,{"$nulls":10},10]
[3,{"$nulls":10},11]
[4,{"$nulls":10},12]
[5,{"$nulls":10},13,{"$nulls":10},1]
[6,{"$nulls":10},14]
[7,{"$nulls":10},15]
[8]
[{"$nulls":3},"TEAM No.",{"$nulls":5},"Time",{"$nulls":7},"TEAM No."]
["Sign",null,null,{"$f":"DRAW!$C$30","v":26},{"$nulls":5},"Completed",{"$nulls":5},"Sign",null,{"$f":"DRAW!$C$29","v":25}]
["i",{"$nulls":14},"i"]
[{"$f":"Entries!$A$1","v":"2018 District 5 - Mixed Pairs"}]
["R O U N D  1"]
[null,null,"RINK",{"$nulls":5},"DATE"]
[null,null,{"$f":"DRAW!$F$31","v":16},{"$nulls":5},{"$f":"Entries!$A$2","v":"20th June 2018"}]
[]
[{"$f":"DRAW!$D$31","v":0},{"$nulls":10},"L",null,{"$f":"DRAW!$D$32","v":0}]
[]
[{"$f":"DRAW!$E$31","v":0},{"$nulls":10},"Sk",null,{"$f":"DRAW!$E$32","v":0}]
[]
[]
[null,null,{"$f":"DRAW!$E$31","v":0},{"$nulls":3},{"$f":"DRAW!$E$32","v":0},{"$nulls":6},{"$f":"DRAW!$E$31","v":0},{"$nulls":3},{"$f":"DRAW!$E$32","v":0}]
["End",null,"Shots",null,"Total",null,"Shots",null,"Total",null,null,"End",null,"Shots",null,"Total",null,"Shots",null,"Total"]
[1,{"$nulls":10},9]
[2,{"$nulls":10},10]
[3,{"$nulls":10},11]
[4,{"$nulls":10},12]
[5,{"$nulls":10},13,{"$nulls":10},1]
[6,{"$nulls":10},14]
[7,{"$nulls":10},15]
[8]
[{"$nulls":3},"TEAM No.",{"$nulls":5},"Time",{"$nulls":7},"TEAM No."]
["Sign",null,null,{"$f":"DRAW!$C$31","v":27},{"$nulls":5},"Completed",{"$nulls":5},"Sign",null,{"$f":"DRAW!$C$32","v":28}]
["i",{"$nulls":14},"i"]
[{"$f":"Entries!$A$1","v":"2018 District 5 - Mixed Pairs"}]
["R O U N D  1"]
[null,null,"RINK",{"$nulls":5},"DATE"]
[null,null,{"$f":"DRAW!$F$31","v":16},{"$nulls":5},{"$f":"Entries!$A$2","v":"20th June 2018"}]
[]
[{"$f":"DRAW!$D$32","v":0},{"$nulls":10},"L",null,{"$f":"DRAW!$D$31","v":0}]
[]
[{"$f":"DRAW!$E$32","v":0},{"$nulls":10},"Sk",null,{"$f":"DRAW!$E$31","v":0}]
[]
[]
[null,null,{"$f":"DRAW!$E$32","v":0},{"$nulls":3},{"$f":"DRAW!$E$31","v":0},{"$nulls":6},{"$f":"DRAW!$E$32","v":0},{"$nulls":3},{"$f":"DRAW!$E$31","v":0}]
["End",null,"Shots",null,"Total",null,"Shots",null,"Total",null,null,"End",null,"Shots",null,"Total",null,"Shots",null,"Total"]
[1,{"$nulls":10},9]
[2,{"$nulls":10},10]
[3,{"$nulls":10},11]
[4,{"$nulls":10},12]
[5,{"$nulls":10},13,{"$nulls":10},1]
[6,{"$nulls":10},14]
[7,{"$nulls":10},15]
[8]
[{"$nulls":3},"TEAM No.",{"$nulls":5},"Time",{"$nulls":7},"TEAM No."]
["Sign",null,null,{"$f":"DRAW!$C$32","v":28},{"$nulls":5},"Completed",{"$nulls":5},"Sign",null,{"$f":"DRAW!$C$31","v":27}]
["i",{"$nulls":14},"i"]
[{"$f":"Entries!$A$1","v":"2018 District 5 - Mixed Pairs"}]
["R O U N D  1"]
[null,null,"RINK",{"$nulls":5},"DATE"]
[null,null,{"$f":"DRAW!$F$33","v":17},{"$nulls":5},{"$f":"Entries!$A$2","v":"20th June 2018"}]
[]
[{"$f":"DRAW!$D$33","v":0},{"$nulls":10},"L",null,{"$f":"DRAW!$D$34","v":0}]
[]
[{"$f":"DRAW!$E$33","v":0},{"$nulls":10},"Sk",null,{"$f":"DRAW!$E$34","v":0}]
[]
[]
[null,null,{"$f":"DRAW!$E$33","v":0},{"$nulls":3},{"$f":"DRAW!$E$34","v":0},{"$nulls":6},{"$f":"DRAW!$E$33","v":0},{"$nulls":3},{"$f":"DRAW!$E$34","v":0}]
["End",null,"Shots",null,"Total",null,"Shots",null,"Total",null,null,"End",null,"Shots",null,"Total",null,"Shots",null,"Total"]
[1,{"$nulls":10},9]
[2,{"$nulls":10},10]
[3,{"$nulls":10},11]
[4,{"$nulls":10},12]
[5,{"$nulls":10},13,{"$nulls":10},1]
[6,{"$nulls":10},14]
[7,{"$nulls":10},15]
[8]
[{"$nulls":3},"TEAM No.",{"$nulls":5},"Time",{"$nulls":7},"TEAM No."]
["Sign",null,null,{"$f":"DRAW!$C$33","v":29},{"$nulls":5},"Completed",{"$nulls":5},"Sign",null,{"$f":"DRAW!$C$34","v":30}]
["i",{"$nulls":14},"i"]
[{"$f":"Entries!$A$1","v":"2018 District 5 - Mixed Pairs"}]
["R O U N D  1"]
[null,null,"RINK",{"$nulls":5},"DATE"]
[null,null,{"$f":"DRAW!$F$33","v":17},{"$nulls":5},{"$f":"Entries!$A$2","v":"20th June 2018"}]
[]
[{"$f":"DRAW!$D$34","v":0},{"$nulls":10},"L",null,{"$f":"DRAW!$D$33","v":0}]
[]
[{"$f":"DRAW!$E$34","v":0},{"$nulls":10},"Sk",null,{"$f":"DRAW!$E$33","v":0}]
[]
[]
[null,null,{"$f":"DRAW!$E$34","v":0},{"$nulls":3},{"$f":"DRAW!$E$33","v":0},{"$nulls":6},{"$f":"DRAW!$E$34","v":0},{"$nulls":3},{"$f":"DRAW!$E$33","v":0}]
["End",null,"Shots",null,"Total",null,"Shots",null,"Total",null,null,"End",null,"Shots",null,"Total",null,"Shots",null,"Total"]
[1,{"$nulls":10},9]
[2,{"$nulls":10},10]
[3,{"$nulls":10},11]
[4,{"$nulls":10},12]
[5,{"$nulls":10},13,{"$nulls":10},1]
[6,{"$nulls":10},14]
[7,{"$nulls":10},15]
[8]
[{"$nulls":3},"TEAM No.",{"$nulls":5},"Time",{"$nulls":7},"TEAM No."]
["Sign",null,null,{"$f":"DRAW!$C$34","v":30},{"$nulls":5},"Completed",{"$nulls":5},"Sign",null,{"$f":"DRAW!$C$33","v":29}]
["i",{"$nulls":14},"i"]
[{"$f":"Entries!$A$1","v":"2018 District 5 - Mixed Pairs"}]
["R O U N D  1"]
[null,null,"RINK",{"$nulls":5},"DATE"]
[null,null,{"$f":"DRAW!$F$35","v":18},{"$nulls":5},{"$f":"Entries!$A$2","v":"20th June 2018"}]
[]
[{"$f":"DRAW!$D$35","v":0},{"$nulls":10},"L",null,{"$f":"DRAW!$D$36","v":0}]
[]
[{"$f":"DRAW!$E$35","v":0},{"$nulls":10},"Sk",null,{"$f":"DRAW!$E$36","v":0}]
[]
[]
[null,null,{"$f":"DRAW!$E$35","v":0},{"$nulls":3},{"$f":"DRAW!$E$36","v":0},{"$nulls":6},{"$f":"DRAW!$E$35","v":0},{"$nulls":3},{"$f":"DRAW!$E$36","v":0}]
["End",null,"Shots",null,"Total",null,"Shots",null,"Total",null,null,"End",null,"Shots",null,"Total",null,"Shots",null,"Total"]
[1,{"$nulls":10},9]
[2,{"$nulls":10},10]
[3,{"$nulls":10},11]
[4,{"$nulls":10},12]
[5,{"$nulls":10},13,{"$nulls":10},1]
[6,{"$nulls":10},14]
[7,{"$nulls":10},15]
[8]
[{"$nulls":3},"TEAM No.",{"$nulls":5},"Time",{"$nulls":7},"TEAM No."]
["Sign",null,null,{"$f":"DRAW!$C$35","v":31},{"$nulls":5},"Completed",{"$nulls":5},"Sign",null,{"$f":"DRAW!$C$36","v":32}]
["i",{"$nulls":14},"i"]
[{"$f":"Entries!$A$1","v":"2018 District 5 - Mixed Pairs"}]
["R O U N D  1"]
[null,null,"RINK",{"$nulls":5},"DATE"]
[null,null,{"$f":"DRAW!$F$35","v":18},{"$nulls":5},{"$f":"Entries!$A$2","v":"20th June 2018"}]
[]
[{"$f":"DRAW!$D$36","v":0},{"$nulls":10},"L",null,{"$f":"DRAW!$D$35","v":0}]
[]
[{"$f":"DRAW!$E$36","v":0},{"$nulls":10},"Sk",null,{"$f":"DRAW!$E$35","v":0}]
[]
[]
[null,null,{"$f":"DRAW!$E$36","v":0},{"$nulls":3},{"$f":"DRAW!$E$35","v":0},{"$nulls":6},{"$f":"DRAW!$E$36","v":0},{"$nulls":3},{"$f":"DRAW!$E$35","v":0}]
["End",null,"Shots",null,"Total",null,"Shots",null,"Total",null,null,"End",null,"Shots",null,"Total",null,"Shots",null,"Total"]
[1,{"$nulls":10},9]
[2,{"$nulls":10},10]
[3,{"$nulls":10},11]
[4,{"$nulls":10},12]
[5,{"$nulls":10},13,{"$nulls":10},1]
[6,{"$nulls":10},14]
[7,{"$nulls":10},15]
[8]
[{"$nulls":3},"TEAM No.",{"$nulls":5},"Time",{"$nulls":7},"TEAM No."]
["Sign",null,null,{"$f":"DRAW!$C$36","v":32},{"$nulls":5},"Completed",{"$nulls":5},"Sign",null,{"$f":"DRAW!$C$35","v":31}]
["i",{"$nulls":14},"i"]
[{"$f":"Entries!$A$1","v":"2018 District 5 - Mixed Pairs"}]
["R O U N D  1"]
[null,null,"RINK",{"$nulls":5},"DATE"]
[null,null,{"$f":"DRAW!$F$37","v":19},{"$nulls":5},{"$f":"Entries!$A$2","v":"20th June 2018"}]
[]
[{"$f":"DRAW!$D$37","v":0},{"$nulls":10},"L",null,{"$f":"DRAW!$D$38","v":0}]
[]
[{"$f":"DRAW!$E$37","v":0},{"$nulls":10},"Sk",null,{"$f":"DRAW!$E$38","v":0}]
[]
[]
[null,null,{"$f":"DRAW!$E$37","v":0},{"$nulls":3},{"$f":"DRAW!$E$38","v":0},{"$nulls":6},{"$f":"DRAW!$E$37","v":0},{"$nulls":3},{"$f":"DRAW!$E$38","v":0}]
["End",null,"Shots",null,"Total",null,"Shots",null,"Total",null,null,"End",null,"Shots",null,"Total",null,"Shots",null,"Total"]
[1,{"$nulls":10},9]
[2,{"$nulls":10},10]
[3,{"$nulls":10},11]
[4,{"$nulls":10},12]
[5,{"$nulls":10},13,{"$nulls":10},1]
[6,{"$nulls":10},14]
[7,{"$nulls":10},15]
[8]
[{"$nulls":3},"TEAM No.",{"$nulls":5},"Time",{"$nulls":7},"TEAM No."]
["Sign",null,null,{"$f":"DRAW!$C$37","v":33},{"$nulls":5},"Completed",{"$nulls":5},"Sign",null,{"$f":"DRAW!$C$38","v":34}]
["i",{"$nulls":14},"i"]
[{"$f":"Entries!$A$1","v":"2018 District 5 - Mixed Pairs"}]
["R O U N D  1"]
[null,null,"RINK",{"$nulls":5},"DATE"]
[null,null,{"$f":"DRAW!$F$37","v":19},{"$nulls":5},{"$f":"Entries!$A$2","v":"20th June 2018"}]
[]
[{"$f":"DRAW!$D$38","v":0},{"$nulls":10},"L",null,{"$f":"DRAW!$D$37","v":0}]
[]
[{"$f":"DRAW!$E$38","v":0},{"$nulls":10},"Sk",null,{"$f":"DRAW!$E$37","v":0}]
[]
[]
[null,null,{"$f":"DRAW!$E$38","v":0},{"$nulls":3},{"$f":"DRAW!$E$37","v":0},{"$nulls":6},{"$f":"DRAW!$E$38","v":0},{"$nulls":3},{"$f":"DRAW!$E$37","v":0}]
["End",null,"Shots",null,"Total",null,"Shots",null,"Total",null,null,"End",null,"Shots",null,"Total",null,"Shots",null,"Total"]
[1,{"$nulls":10},9]
[2,{"$nulls":10},10]
[3,{"$nulls":10},11]
[4,{"$nulls":10},12]
[5,{"$nulls":10},13,{"$nulls":10},1]
[6,{"$nulls":10},14]
[7,{"$nulls":10},15]
[8]
[{"$nulls":3},"TEAM No.",{"$nulls":5},"Time",{"$nulls":7},"TEAM No."]
["Sign",null,null,{"$f":"DRAW!$C$38","v":34},{"$nulls":5},"Completed",{"$nulls":5},"Sign",null,{"$f":"DRAW!$C$37","v":33}]
["i",{"$nulls":14},"i"]
[{"$f":"Entries!$A$1","v":"2018 District 5 - Mixed Pairs"}]
["R O U N D  1"]
[null,null,"RINK",{"$nulls":5},"DATE"]
[null,null,{"$f":"DRAW!$F$39","v":20},{"$nulls":5},{"$f":"Entries!$A$2","v":"20th June 2018"}]
[]
[{"$f":"DRAW!$D$39","v":0},{"$nulls":10},"L",null,{"$f":"DRAW!$D$40","v":0}]
[]
[{"$f":"DRAW!$E$39","v":0},{"$nulls":10},"Sk",null,{"$f":"DRAW!$E$40","v":0}]
[]
[]
[null,null,{"$f":"DRAW!$E$39","v":0},{"$nulls":3},{"$f":"DRAW!$E$40","v":0},{"$nulls":6},{"$f":"DRAW!$E$39","v":0},{"$nulls":3},{"$f":"DRAW!$E$40","v":0}]
["End",null,"Shots",null,"Total",null,"Shots",null,"Total",null,null,"End",null,"Shots",null,"Total",null,"Shots",null,"Total"]
[1,{"$nulls":10},9]
[2,{"$nulls":10},10]
[3,{"$nulls":10},11]
[4,{"$nulls":10},12]
[5,{"$nulls":10},13,{"$nulls":10},1]
[6,{"$nulls":10},14]
[7,{"$nulls":10},15]
[8]
[{"$nulls":3},"TEAM No.",{"$nulls":5},"Time",{"$nulls":7},"TEAM No."]
["Sign",null,null,{"$f":"DRAW!$C$39","v":35},{"$nulls":5},"Completed",{"$nulls":5},"Sign",null,{"$f":"DRAW!$C$40","v":36}]
["i",{"$nulls":14},"i"]
[{"$f":"Entries!$A$1","v":"2018 District 5 - Mixed Pairs"}]
["R O U N D  1"]
[null,null,"RINK",{"$nulls":5},"DATE"]
[null,null,{"$f":"DRAW!$F$39","v":20},{"$nulls":5},{"$f":"Entries!$A$2","v":"20th June 2018"}]
[]
[{"$f":"DRAW!$D$40","v":0},{"$nulls":10},"L",null,{"$f":"DRAW!$D$39","v":0}]
[]
[{"$f":"DRAW!$E$40","v":0},{"$nulls":10},"Sk",null,{"$f":"DRAW!$E$39","v":0}]
[]
[]
[null,null,{"$f":"DRAW!$E$40","v":0},{"$nulls":3},{"$f":"DRAW!$E$39","v":0},{"$nulls":6},{"$f":"DRAW!$E$40","v":0},{"$nulls":3},{"$f":"DRAW!$E$39","v":0}]
["End",null,"Shots",null,"Total",null,"Shots",null,"Total",null,null,"End",null,"Shots",null,"Total",null,"Shots",null,"Total"]
[1,{"$nulls":10},9]
[2,{"$nulls":10},10]
[3,{"$nulls":10},11]
[4,{"$nulls":10},12]
[5,{"$nulls":10},13,{"$nulls":10},1]
[6,{"$nulls":10},14]
[7,{"$nulls":10},15]
[8]
[{"$nulls":3},"TEAM No.",{"$nulls":5},"Time",{"$nulls":7},"TEAM No."]
["Sign",null,null,{"$f":"DRAW!$C$40","v":36},{"$nulls":5},"Completed",{"$nulls":5},"Sign",null,{"$f":"DRAW!$C$39","v":35}]
["i",{"$nulls":14},"i"]
[{"$f":"Entries!$A$1","v":"2018 District 5 - Mixed Pairs"}]
["R O U N D  1"]
[null,null,"RINK",{"$nulls":5},"DATE"]
[null,null,{"$f":"DRAW!$F$41","v":7},{"$nulls":5},{"$f":"Entries!$A$2","v":"20th June 2018"}]
[]
[{"$f":"DRAW!$D$41","v":0},{"$nulls":10},"L",null,{"$f":"DRAW!$D$42","v":0}]
[]
[{"$f":"DRAW!$E$41","v":0},{"$nulls":10},"Sk",null,{"$f":"DRAW!$E$42","v":0}]
[]
[]
[null,null,{"$f":"DRAW!$E$41","v":0},{"$nulls":3},{"$f":"DRAW!$E$42","v":0},{"$nulls":6},{"$f":"DRAW!$E$41","v":0},{"$nulls":3},{"$f":"DRAW!$E$42","v":0}]
["End",null,"Shots",null,"Total",null,"Shots",null,"Total",null,null,"End",null,"Shots",null,"Total",null,"Shots",null,"Total"]
[1,{"$nulls":10},9]
[2,{"$nulls":10},10]
[3,{"$nulls":10},11]
[4,{"$nulls":10},12]
[5,{"$nulls":10},13,{"$nulls":10},1]
[6,{"$nulls":10},14]
[7,{"$nulls":10},15]
[8]
[{"$nulls":3},"TEAM No.",{"$nulls":5},"Time",{"$nulls":7},"TEAM No."]
["Sign",null,null,{"$f":"DRAW!$C$41","v":37},{"$nulls":5},"Completed",{"$nulls":5},"Sign",null,{"$f":"DRAW!$C$42","v":38}]
["i",{"$nulls":14},"i"]
[{"$f":"Entries!$A$1","v":"2018 District 5 - Mixed Pairs"}]
["R O U N D  1"]
[null,null,"RINK",{"$nulls":5},"DATE"]
[null,null,{"$f":"DRAW!$F$41","v":7},{"$nulls":5},{"$f":"Entries!$A$2","v":"20th June 2018"}]
[]
[{"$f":"DRAW!$D$42","v":0},{"$nulls":10},"L",null,{"$f":"DRAW!$D$41","v":0}]
[]
[{"$f":"DRAW!$E$42","v":0},{"$nulls":10},"Sk",null,{"$f":"DRAW!$E$41","v":0}]
[]
[]
[null,null,{"$f":"DRAW!$E$42","v":0},{"$nulls":3},{"$f":"DRAW!$E$41","v":0},{"$nulls":6},{"$f":"DRAW!$E$42","v":0},{"$nulls":3},{"$f":"DRAW!$E$41","v":0}]
["End",null,"Shots",null,"Total",null,"Shots",null,"Total",null,null,"End",null,"Shots",null,"Total",null,"Shots",null,"Total"]
[1,{"$nulls":10},9]
[2,{"$nulls":10},10]
[3,{"$nulls":10},11]
[4,{"$nulls":10},12]
[5,{"$nulls":10},13,{"$nulls":10},1]
[6,{"$nulls":10},14]
[7,{"$nulls":10},15]
[8]
[{"$nulls":3},"TEAM No.",{"$nulls":5},"Time",{"$nulls":7},"TEAM No."]
["Sign",null,null,{"$f":"DRAW!$C$42","v":38},{"$nulls":5},"Completed",{"$nulls":5},"Sign",null,{"$f":"DRAW!$C$41","v":37}]
["i",{"$nulls":14},"i"]
[{"$f":"Entries!$A$1","v":"2018 District 5 - Mixed Pairs"}]
["R O U N D  1"]
[null,null,"RINK",{"$nulls":5},"DATE"]
[null,null,{"$f":"DRAW!$F$43","v":14},{"$nulls":5},{"$f":"Entries!$A$2","v":"20th June 2018"}]
[]
[{"$f":"DRAW!$D$43","v":0},{"$nulls":10},"L",null,{"$f":"DRAW!$D$44","v":0}]
[]
[{"$f":"DRAW!$E$43","v":0},{"$nulls":10},"Sk",null,{"$f":"DRAW!$E$44","v":0}]
[]
[]
[null,null,{"$f":"DRAW!$E$43","v":0},{"$nulls":3},{"$f":"DRAW!$E$44","v":0},{"$nulls":6},{"$f":"DRAW!$E$43","v":0},{"$nulls":3},{"$f":"DRAW!$E$44","v":0}]
["End",null,"Shots",null,"Total",null,"Shots",null,"Total",null,null,"End",null,"Shots",null,"Total",null,"Shots",null,"Total"]
[1,{"$nulls":10},9]
[2,{"$nulls":10},10]
[3,{"$nulls":10},11]
[4,{"$nulls":10},12]
[5,{"$nulls":10},13,{"$nulls":10},1]
[6,{"$nulls":10},14]
[7,{"$nulls":10},15]
[8]
[{"$nulls":3},"TEAM No.",{"$nulls":5},"Time",{"$nulls":7},"TEAM No."]
["Sign",null,null,{"$f":"DRAW!$C$43","v":39},{"$nulls":5},"Completed",{"$nulls":5},"Sign",null,{"$f":"DRAW!$C$44","v":40}]
["i",{"$nulls":14},"i"]
[{"$f":"Entries!$A$1","v":"2018 District 5 - Mixed Pairs"}]
["R O U N D  1"]
[null,null,"RINK",{"$nulls":5},"DATE"]
[null,null,{"$f":"DRAW!$F$43","v":14},{"$nulls":5},{"$f":"Entries!$A$2","v":"20th June 2018"}]
[]
[{"$f":"DRAW!$D$44","v":0},{"$nulls":10},"L",null,{"$f":"DRAW!$D$43","v":0}]
[]
[{"$f":"DRAW!$E$44","v":0},{"$nulls":10},"Sk",null,{"$f":"DRAW!$E$43","v":0}]
[]
[]
[null,null,{"$f":"DRAW!$E$44","v":0},{"$nulls":3},{"$f":"DRAW!$E$43","v":0},{"$nulls":6},{"$f":"DRAW!$E$44","v":0},{"$nulls":3},{"$f":"DRAW!$E$43","v":0}]
["End",null,"Shots",null,"Total",null,"Shots",null,"Total",null,null,"End",null,"Shots",null,"Total",null,"Shots",null,"Total"]
[1,{"$nulls":10},9]
[2,{"$nulls":10},10]
[3,{"$nulls":10},11]
[4,{"$nulls":10},12]
[5,{"$nulls":10},13,{"$nulls":10},1]
[6,{"$nulls":10},14]
[7,{"$nulls":10},15]
[8]
[{"$nulls":3},"TEAM No.",{"$nulls":5},"Time",{"$nulls":7},"TEAM No."]
["Sign",null,null,{"$f":"DRAW!$C$44","v":40},{"$nulls":5},"Completed",{"$nulls":5},"Sign",null,{"$f":"DRAW!$C$43","v":39}]
["i",{"$nulls":14},"i"]

{"sheet":"R 2 cds","index":7,"n_rows":920,"n_cols":23,"rows_kept":920,"hidden":true,"merged":[[219,11,219,12],[220,11,220,12],[220,17,220,18],[220,19,220,21],[221,0,221,1],[221,2,221,3],[221,4,221,5],[221,6,221,7],[221,8,221,10],[221,11,221,12],[222,11,222,12],[224,0,224,1],[224,2,224,3],[224,4,224,5],[224,6,224,7],[224,8,224,10],[224,11,224,12],[224,13,224,14],[224,15,224,16],[224,17,224,18],[224,19,224,21],[225,0,225,1],[225,2,225,3],[225,6,225,7],[225,8,225,10],[225,11,225,12],[225,13,225,14],[225,15,225,16],[225,17,225,18],[225,19,225,21],[226,0,226,1],[226,2,226,3],[226,6,226,7],[226,8,226,10],[226,11,226,12],[226,13,226,14],[226,15,226,16],[226,17,226,18],[226,19,226,21],[227,17,227,21],[228,0,228,1],[228,3,229,6],[228,9,228,14],[228,15,228,16],[228,17,229,21],[241,11,241,12],[242,11,242,12],[242,17,242,18],[242,19,242,21],[243,11,243,12],[244,11,244,12],[245,11,245,12],[247,0,247,1],[247,2,247,3],[247,4,247,5],[247,6,247,7],[247,8,247,10],[247,11,247,12],[247,13,247,14],[247,15,247,16],[247,17,247,18],[247,19,247,21],[249,19,249,21],[262,2,262,10],[262,13,262,21],[263,2,263,5],[263,6,263,10],[263,13,263,16],[263,17,263,21],[264,11,264,12],[265,11,265,12],[266,2,266,3],[266,4,266,5],[266,6,266,7],[266,8,266,10],[266,11,266,12],[266,13,266,14],[266,15,266,16],[266,17,266,18],[267,11,267,12],[268,11,268,12],[270,0,270,1],[270,2,270,3],[270,4,270,5],[270,6,270,7],[270,8,270,10],[270,11,270,12],[270,13,270,14],[270,15,270,16],[270,17,270,18],[270,19,270,21],[272,17,272,18],[272,19,272,21],[287,11,287,12],[288,11,288,12],[288,17,288,18],[288,19,288,21],[289,11,289,12],[289,19,289,21],[290,0,290,1],[290,2,290,3],[290,4,290,5],[290,6,290,7],[290,8,290,10],[290,11,290,12],[290,13,290,14],[290,15,290,16],[290,17,290,18],[290,19,290,21],[291,11,291,12],[292,15,292,16],[292,17,292,18],[292,19,292,21],[293,0,293,1],[293,2,293,3],[293,4,293,5],[293,6,293,7],[293,8,293,10],[293,11,293,12],[293,13,293,14],[293,15,293,16],[293,17,293,18],[293,19,293,21],[294,0,294,1],[294,2,294,3],[294,6,294,7],[294,8,294,10],[294,11,294,12],[294,13,294,14],[294,15,294,16],[294,17,294,18],[294,19,294,21],[295,0,295,1],[295,2,295,3],[295,4,295,5],[295,6,295,7],[295,8,295,10],[295,11,295,12],[295,13,295,14],[295,15,295,16],[295,17,295,18],[295,19,295,21],[312,2,312,3],[312,4,312,5],[312,6,312,7],[312,8,312,10],[312,11,312,12],[312,13,312,14],[312,15,312,16],[313,11,313,12],[314,11,314,12],[315,15,315,16],[315,17,315,18],[315,19,315,21],[316,0,316,1],[316,2,316,3],[316,4,316,5],[316,6,316,7],[316,8,316,10],[316,11,316,12],[316,13,316,14],[316,15,316,16],[316,17,316,18],[316,19,316,21],[317,0,317,1],[317,2,317,3],[317,4,317,5],[317,6,317,7],[317,8,317,10],[317,11,317,12],[317,13,317,14],[317,15,317,16],[317,17,317,18],[317,19,317,21],[318,0,318,1],[318,2,318,3],[318,4,318,5],[318,6,318,7],[318,8,318,10],[318,11,318,12],[318,13,318,14],[318,15,318,16],[318,17,318,18],[318,19,318,21],[333,11,333,12],[334,11,334,12],[335,11,335,12],[336,11,336,12],[337,11,337,12],[337,15,337,16],[337,17,337,18],[337,19,337,21],[338,0,338,1],[338,2,338,3],[338,4,338,5],[338,6,338,7],[339,0,339,1],[339,2,339,3],[339,4,339,5],[339,6,339,7],[339,8,339,10],[339,11,339,12],[339,13,339,14],[339,15,339,16],[339,17,339,18],[339,19,339,21],[358,11,358,12],[358,19,358,21],[359,0,359,1],[359,2,359,3],[359,4,359,5],[359,6,359,7],[359,8,359,10],[359,11,359,12],[359,13,359,14],[359,15,359,16],[359,17,359,18],[359,19,359,21],[360,11,360,12],[362,0,362,1],[362,2,362,3],[362,4,362,5],[362,6,362,7],[362,8,362,10],[362,11,362,12],[362,13,362,14],[362,15,362,16],[362,17,362,18],[362,19,362,21],[363,0,363,1],[363,2,363,3],[363,6,363,7],[363,8,363,10],[363,11,363,12],[363,13,363,14],[363,15,363,16],[363,17,363,18],[363,19,363,21],[383,19,383,21],[384,0,384,1],[384,2,384,3],[384,4,384,5],[384,6,384,7],[384,8,384,10],[384,11,384,12],[384,13,384,14],[385,4,385,5],[385,6,385,7],[385,8,385,10],[385,11,385,12],[385,13,385,14],[385,15,385,16],[385,17,385,18],[385,19,385,21],[387,0,387,1],[387,2,387,3],[387,6,387,7],[387,8,387,10],[387,11,387,12],[387,13,387,14],[387,15,387,16],[387,17,387,18],[387,19,387,21],[400,13,400,21],[401,2,401,5],[401,6,401,10],[401,13,401,16],[401,17,401,21],[402,0,402,1],[402,11,402,12],[402,19,402,21],[403,11,403,12],[404,0,404,1],[404,11,404,12],[405,0,405,1],[405,4,405,5],[405,6,405,7],[405,8,405,10],[405,11,405,12],[406,11,406,12],[408,0,408,1],[408,2,408,3],[408,4,408,5],[408,6,408,7],[408,8,408,10],[408,11,408,12],[408,13,408,14],[408,15,408,16],[408,17,408,18],[408,19,408,21],[409,0,409,1],[409,2,409,3],[409,4,409,5],[409,6,409,7],[409,8,409,10],[409,11,409,12],[409,13,409,14],[409,15,409,16],[409,17,409,18],[409,19,409,21],[410,4,410,5],[410,8,410,10],[410,11,410,12],[410,13,410,14],[410,15,410,16],[410,17,410,18],[410,19,410,21],[414,0,414,23],[415,0,415,23],[416,2,416,6],[416,8,416,23],[417,2,417,6],[417,8,417,23],[419,0,419,10],[419,11,419,12],[419,13,419,23],[421,0,421,10],[425,11,425,12],[426,11,426,12],[427,11,427,12],[428,11,428,12],[429,11,429,12],[431,0,431,1],[431,2,431,3],[431,4,431,5],[431,6,431,7],[431,8,431,10],[431,11,431,12],[431,13,431,14],[431,15,431,16],[431,17,431,18],[431,19,431,21],[437,0,437,23],[438,0,438,23],[439,2,439,6],[439,8,439,23],[440,2,440,6],[440,8,440,23],[442,0,442,10],[442,11,442,12],[442,13,442,23],[444,0,444,10],[444,11,444,12],[444,13,444,23],[446,2,446,10],[446,13,446,21],[447,2,447,5],[447,6,447,10],[447,13,447,16],[447,17,447,21],[448,0,448,1],[448,2,448,3],[448,4,448,5],[448,6,448,7],[448,8,448,10],[456,8,456,10],[456,11,456,12],[456,13,456,14],[456,15,456,16],[456,17,456,18],[456,19,456,21],[460,0,460,23],[461,0,461,23],[462,2,462,6],[462,8,462,23],[463,2,463,6],[463,8,463,23],[465,0,465,10],[465,11,465,12],[465,13,465,23],[467,0,467,10],[467,11,467,12],[467,13,467,23],[469,2,469,10],[469,13,469,21],[470,2,470,5],[470,6,470,10],[470,13,470,16],[470,17,470,21],[471,0,471,1],[471,2,471,3],[471,4,471,5],[471,6,471,7],[471,8,471,10],[479,2,479,3],[479,6,479,7],[479,8,479,10],[479,11,479,12],[479,13,479,14],[479,15,479,16],[479,17,479,18],[479,19,479,21],[483,0,483,23],[484,0,484,23],[485,2,485,6],[485,8,485,23],[486,2,486,6],[486,8,486,23],[488,0,488,10],[488,11,488,12],[488,13,488,23],[490,0,490,10],[490,11,490,12],[490,13,490,23],[492,2,492,10],[492,13,492,21],[493,2,493,5],[493,6,493,10],[493,13,493,16],[493,17,493,21],[494,0,494,1],[494,2,494,3],[494,4,494,5],[494,6,494,7],[500,0,500,1],[500,2,500,3],[500,4,500,5],[500,6,500,7],[500,8,500,10],[500,11,500,12],[500,13,500,14],[500,15,500,16],[500,17,500,18],[500,19,500,21],[502,0,502,1],[502,2,502,3],[502,6,502,7],[502,8,502,10],[502,11,502,12],[502,13,502,14],[502,15,502,16],[502,17,502,18],[502,19,502,21],[506,0,506,23],[507,0,507,23],[508,2,508,6],[508,8,508,23],[509,2,509,6],[509,8,509,23],[511,0,511,10],[511,11,511,12],[517,11,517,12],[518,11,518,12],[519,11,519,12],[520,11,520,12],[521,11,521,12],[523,0,523,1],[523,2,523,3],[523,4,523,5],[523,6,523,7],[523,8,523,10],[523,11,523,12],[523,13,523,14],[523,15,523,16],[523,17,523,18],[523,19,523,21],[525,0,525,1],[525,2,525,3],[525,6,525,7],[525,8,525,10],[525,11,525,12],[525,13,525,14],[525,15,525,16],[525,17,525,18],[525,19,525,21],[529,0,529,23],[530,0,530,23],[531,2,531,6],[531,8,531,23],[532,2,532,6],[532,8,532,23],[534,0,534,10],[534,11,534,12],[540,11,540,12],[541,11,541,12],[542,11,542,12],[543,11,543,12],[544,11,544,12],[546,0,546,1],[546,2,546,3],[546,4,546,5],[546,6,546,7],[546,8,546,10],[546,11,546,12],[546,13,546,14],[546,15,546,16],[546,17,546,18],[546,19,546,21],[548,0,548,1],[548,2,548,3],[548,6,548,7],[548,8,548,10],[548,11,548,12],[548,13,548,14],[548,15,548,16],[548,17,548,18],[548,19,548,21],[552,0,552,23],[553,0,553,23],[554,2,554,6],[554,8,554,23],[555,2,555,6],[555,8,555,23],[557,0,557,10],[557,11,557,12],[563,11,563,12],[564,11,564,12],[565,11,565,12],[566,11,566,12],[567,11,567,12],[569,0,569,1],[569,2,569,3],[569,4,569,5],[569,6,569,7],[569,8,569,10],[569,11,569,12],[569,13,569,14],[569,15,569,16],[569,17,569,18],[569,19,569,21],[571,0,571,1],[571,2,571,3],[571,6,571,7],[571,8,571,10],[571,11,571,12],[571,13,571,14],[571,15,571,16],[571,17,571,18],[571,19,571,21],[575,0,575,23],[576,0,576,23],[577,2,577,6],[577,8,577,23],[578,2,578,6],[578,8,578,23],[580,0,580,10],[580,11,580,12],[586,11,586,12],[587,11,587,12],[588,11,588,12],[589,11,589,12],[590,11,590,12],[592,0,592,1],[592,2,592,3],[592,4,592,5],[592,6,592,7],[592,8,592,10],[592,11,592,12],[592,13,592,14],[592,15,592,16],[592,17,592,18],[592,19,592,21],[594,0,594,1],[594,2,594,3],[594,6,594,7],[594,8,594,10],[594,11,594,12],[594,13,594,14],[594,15,594,16],[594,17,594,18],[594,19,594,21],[598,0,598,23],[599,0,599,23],[600,2,600,6],[600,8,600,23],[601,2,601,6],[601,8,601,23],[603,0,603,10],[603,11,603,12],[609,11,609,12],[610,11,610,12],[611,11,611,12],[612,11,612,12],[613,11,613,12],[615,0,615,1],[615,2,615,3],[615,4,615,5],[615,6,615,7],[615,8,615,10],[615,11,615,12],[615,13,615,14],[615,15,615,16],[615,17,615,18],[615,19,615,21],[617,0,617,1],[617,2,617,3],[617,6,617,7],[617,8,617,10],[617,11,617,12],[617,13,617,14],[617,15,617,16],[617,17,617,18],[617,19,617,21],[621,0,621,23],[622,0,622,23],[623,2,623,6],[623,8,623,23],[624,2,624,6],[624,8,624,23],[626,0,626,10],[626,11,626,12],[632,11,632,12],[633,11,633,12],[634,11,634,12],[635,11,635,12],[636,11,636,12],[638,0,638,1],[638,2,638,3],[638,4,638,5],[638,6,638,7],[638,8,638,10],[638,11,638,12],[638,13,638,14],[638,15,638,16],[638,17,638,18],[638,19,638,21],[640,0,640,1],[640,2,640,3],[640,6,640,7],[640,8,640,10],[640,11,640,12],[640,13,640,14],[640,15,640,16],[640,17,640,18],[640,19,640,21],[644,0,644,23],[645,0,645,23],[646,2,646,6],[646,8,646,23],[647,2,647,6],[647,8,647,23],[649,0,649,10],[649,11,649,12],[655,11,655,12],[656,11,656,12],[657,11,657,12],[658,11,658,12],[659,11,659,12],[661,0,661,1],[661,2,661,3],[661,4,661,5],[661,6,661,7],[661,8,661,10],[661,11,661,12],[661,13,661,14],[661,15,661,16],[661,17,661,18],[661,19,661,21],[663,0,663,1],[663,2,663,3],[663,6,663,7],[663,8,663,10],[663,11,663,12],[663,13,663,14],[663,15,663,16],[663,17,663,18],[663,19,663,21],[667,0,667,23],[668,0,668,23],[669,2,669,6],[669,8,669,23],[670,2,670,6],[670,8,670,23],[672,0,672,10],[672,11,672,12],[678,11,678,12],[679,11,679,12],[680,11,680,12],[681,11,681,12],[682,11,682,12],[684,0,684,1],[684,2,684,3],[684,4,684,5],[684,6,684,7],[684,8,684,10],[684,11,684,12],[684,13,684,14],[684,15,684,16],[684,17,684,18],[684,19,684,21],[686,0,686,1],[686,2,686,3],[686,6,686,7],[686,8,686,10],[686,11,686,12],[686,13,686,14],[686,15,686,16],[686,17,686,18],[686,19,686,21],[690,0,690,23],[691,0,691,23],[692,2,692,6],[692,8,692,23],[693,2,693,6],[693,8,693,23],[695,0,695,10],[695,11,695,12],[701,11,701,12],[702,11,702,12],[703,11,703,12],[704,11,704,12],[705,11,705,12],[707,0,707,1],[707,2,707,3],[707,4,707,5],[707,6,707,7],[707,8,707,10],[707,11,707,12],[707,13,707,14],[707,15,707,16],[707,17,707,18],[707,19,707,21],[709,0,709,1],[709,2,709,3],[709,6,709,7],[709,8,709,10],[709,11,709,12],[709,13,709,14],[709,15,709,16],[709,17,709,18],[709,19,709,21],[713,0,713,23],[714,0,714,23],[715,2,715,6],[715,8,715,23],[716,2,716,6],[716,8,716,23],[718,0,718,10],[718,11,718,12],[724,11,724,12],[725,11,725,12],[726,11,726,12],[727,11,727,12],[728,11,728,12],[730,0,730,1],[730,2,730,3],[730,4,730,5],[730,6,730,7],[730,8,730,10],[730,11,730,12],[730,13,730,14],[730,15,730,16],[730,17,730,18],[730,19,730,21],[732,0,732,1],[732,2,732,3],[732,6,732,7],[732,8,732,10],[732,11,732,12],[732,13,732,14],[732,15,732,16],[732,17,732,18],[732,19,732,21],[736,0,736,23],[737,0,737,23],[738,2,738,6],[738,8,738,23],[739,2,739,6],[739,8,739,23],[741,0,741,10],[741,11,741,12],[747,11,747,12],[748,11,748,12],[749,11,749,12],[750,11,750,12],[751,11,751,12],[753,0,753,1],[753,2,753,3],[753,4,753,5],[753,6,753,7],[753,8,753,10],[753,11,753,12],[753,13,753,14],[753,15,753,16],[753,17,753,18],[753,19,753,21],[755,0,755,1],[755,2,755,3],[755,6,755,7],[755,8,755,10],[755,11,755,12],[755,13,755,14],[755,15,755,16],[755,17,755,18],[755,19,755,21],[759,0,759,23],[760,0,760,23],[761,2,761,6],[761,8,761,23],[762,2,762,6],[762,8,762,23],[764,0,764,10],[764,11,764,12],[770,11,770,12],[771,11,771,12],[772,11,772,12],[773,11,773,12],[774,11,774,12],[776,0,776,1],[776,2,776,3],[776,4,776,5],[776,6,776,7],[776,8,776,10],[776,11,776,12],[776,13,776,14],[776,15,776,16],[776,17,776,18],[776,19,776,21],[778,0,778,1],[778,2,778,3],[778,6,778,7],[778,8,778,10],[778,11,778,12],[778,13,778,14],[778,15,778,16],[778,17,778,18],[778,19,778,21],[782,0,782,23],[783,0,783,23],[784,2,784,6],[784,8,784,23],[785,2,785,6],[785,8,785,23],[787,0,787,10],[787,11,787,12],[793,11,793,12],[794,11,794,12],[795,11,795,12],[796,11,796,12],[797,11,797,12],[799,0,799,1],[799,2,799,3],[799,4,799,5],[799,6,799,7],[799,8,799,10],[799,11,799,12],[799,13,799,14],[799,15,799,16],[799,17,799,18],[799,19,799,21],[801,0,801,1],[801,2,801,3],[801,6,801,7],[801,8,801,10],[801,11,801,12],[801,13,801,14],[801,15,801,16],[801,17,801,18],[801,19,801,21],[805,0,805,23],[806,0,806,23],[807,2,807,6],[807,8,807,23],[808,2,808,6],[808,8,808,23],[810,0,810,10],[810,11,810,12],[816,11,816,12],[817,11,817,12],[818,11,818,12],[819,11,819,12],[820,11,820,12],[822,0,822,1],[822,2,822,3],[822,4,822,5],[822,6,822,7],[822,8,822,10],[822,11,822,12],[822,13,822,14],[822,15,822,16],[822,17,822,18],[822,19,822,21],[824,0,824,1],[824,2,824,3],[824,6,824,7],[824,8,824,10],[824,11,824,12],[824,13,824,14],[824,15,824,16],[824,17,824,18],[824,19,824,21],[828,0,828,23],[829,0,829,23],[830,2,830,6],[830,8,830,23],[831,2,831,6],[831,8,831,23],[833,0,833,10],[833,11,833,12],[839,11,839,12],[840,11,840,12],[841,11,841,12],[842,11,842,12],[843,11,843,12],[845,0,845,1],[845,2,845,3],[845,4,845,5],[845,6,845,7],[845,8,845,10],[845,11,845,12],[845,13,845,14],[845,15,845,16],[845,17,845,18],[845,19,845,21],[847,0,847,1],[847,2,847,3],[847,6,847,7],[847,8,847,10],[847,11,847,12],[847,13,847,14],[847,15,847,16],[847,17,847,18],[847,19,847,21],[851,0,851,23],[852,0,852,23],[853,2,853,6],[853,8,853,23],[854,2,854,6],[854,8,854,23],[856,0,856,10],[856,11,856,12],[862,11,862,12],[863,11,863,12],[864,11,864,12],[865,11,865,12],[866,11,866,12],[868,0,868,1],[868,2,868,3],[868,4,868,5],[868,6,868,7],[868,8,868,10],[868,11,868,12],[868,13,868,14],[868,15,868,16],[868,17,868,18],[868,19,868,21],[870,0,870,1],[870,2,870,3],[870,6,870,7],[870,8,870,10],[870,11,870,12],[870,13,870,14],[870,15,870,16],[870,17,870,18],[870,19,870,21],[874,0,874,23],[875,0,875,23],[876,2,876,6],[876,8,876,23],[877,2,877,6],[885,11,885,12],[886,11,886,12],[887,11,887,12],[888,11,888,12],[889,11,889,12],[891,0,891,1],[891,2,891,3],[891,4,891,5],[891,6,891,7],[891,8,891,10],[891,11,891,12],[891,13,891,14],[891,15,891,16],[891,17,891,18],[891,19,891,21],[893,8,893,10],[893,11,893,12],[893,13,893,14],[893,15,893,16],[893,17,893,18],[893,19,893,21],[897,0,897,23],[898,0,898,23],[899,2,899,6],[899,8,899,23],[900,2,900,6],[900,8,900,23],[902,0,902,10],[902,11,902,12],[902,13,902,23],[904,0,904,10],[904,11,904,12],[904,13,904,23],[906,2,906,10],[906,13,906,21],[907,2,907,5],[908,11,908,12],[909,11,909,12],[910,11,910,12],[911,11,911,12],[912,11,912,12],[914,15,914,16],[914,17,914,18],[914,19,914,21],[916,8,916,10],[916,11,916,12],[916,13,916,14],[916,15,916,16],[916,17,916,18],[916,19,916,21]],"merged_total":4760,"flags":["merged_cut"]}
[{"$f":"Entries!$A$1","v":"2018 District 5 - Mixed Pairs"}]
["R O U N D  2"]
[null,null,"RINK",{"$nulls":5},"DATE"]
[null,null,{"$f":"DRAW!$H$5","v":10},{"$nulls":5},{"$f":"Entries!$A$2","v":"20th June 2018"}]
[]
[{"$f":"DRAW!$D$5","v":0},{"$nulls":10},"L",null,{"$f":"DRAW!$D$7","v":0}]
[]
[{"$f":"DRAW!$E$5","v":0},{"$nulls":10},"Sk",null,{"$f":"DRAW!$E$7","v":0}]
[]
[]
[null,null,{"$f":"DRAW!$E$5","v":0},{"$nulls":3},{"$f":"DRAW!$E$6","v":0},{"$nulls":6},{"$f":"DRAW!$E$5","v":0},{"$nulls":3},{"$f":"DRAW!$E$6","v":0}]
["End",null,"Shots",null,"Total",null,"Shots",null,"Total",null,null,"End",null,"Shots",null,"Total",null,"Shots",null,"Total"]
[1,{"$nulls":10},9]
[2,{"$nulls":10},10]
[3,{"$nulls":10},11]
[4,{"$nulls":10},12]
[5,{"$nulls":10},13,{"$nulls":10},1]
[6,{"$nulls":10},14]
[7,{"$nulls":10},15]
[8]
[{"$nulls":3},"TEAM No.",{"$nulls":5},"Time",{"$nulls":7},"TEAM No."]
["Sign",null,null,{"$f":"DRAW!$C$5","v":1},{"$nulls":5},"Completed",{"$nulls":5},"Sign",null,{"$f":"DRAW!$C$7","v":3}]
["i",{"$nulls":14},"i"]
[{"$f":"Entries!$A$1","v":"2018 District 5 - Mixed Pairs"}]
["R O U N D  2"]
[null,null,"RINK",{"$nulls":5},"DATE"]
[null,null,{"$f":"DRAW!$H$5","v":10},{"$nulls":5},{"$f":"Entries!$A$2","v":"20th June 2018"}]
[]
[{"$f":"DRAW!$D$7","v":0},{"$nulls":10},"L",null,{"$f":"DRAW!$D$5","v":0}]
[]
[{"$f":"DRAW!$E$7","v":0},{"$nulls":10},"Sk",null,{"$f":"DRAW!$E$5","v":0}]
[]
[]
[null,null,{"$f":"DRAW!$E$5","v":0},{"$nulls":3},{"$f":"DRAW!$E$6","v":0},{"$nulls":6},{"$f":"DRAW!$E$5","v":0},{"$nulls":3},{"$f":"DRAW!$E$6","v":0}]
["End",null,"Shots",null,"Total",null,"Shots",null,"Total",null,null,"End",null,"Shots",null,"Total",null,"Shots",null,"Total"]
[1,{"$nulls":10},9]
[2,{"$nulls":10},10]
[3,{"$nulls":10},11]
[4,{"$nulls":10},12]
[5,{"$nulls":10},13,{"$nulls":10},1]
[6,{"$nulls":10},14]
[7,{"$nulls":10},15]
[8]
[{"$nulls":3},"TEAM No.",{"$nulls":5},"Time",{"$nulls":7},"TEAM No."]
["Sign",null,null,{"$f":"DRAW!$C$7","v":3},{"$nulls":5},"Completed",{"$nulls":5},"Sign",null,{"$f":"DRAW!$C$5","v":1}]
["i",{"$nulls":14},"i"]
[{"$f":"Entries!$A$1","v":"2018 District 5 - Mixed Pairs"}]
["R O U N D  2"]
[null,null,"RINK",{"$nulls":5},"DATE"]
[null,null,{"$f":"DRAW!$H$6","v":11},{"$nulls":5},{"$f":"Entries!$A$2","v":"20th June 2018"}]
[]
[{"$f":"DRAW!$D$6","v":0},{"$nulls":10},"L",null,{"$f":"DRAW!$D$8","v":0}]
[]
[{"$f":"DRAW!$E$6","v":0},{"$nulls":10},"Sk",null,{"$f":"DRAW!$E$8","v":0}]
[]
[]
[null,null,{"$f":"DRAW!$E$6","v":0},{"$nulls":3},{"$f":"DRAW!$E$8","v":0},{"$nulls":6},{"$f":"DRAW!$E$6","v":0},{"$nulls":3},{"$f":"DRAW!$E$8","v":0}]
["End",null,"Shots",null,"Total",null,"Shots",null,"Total",null,null,"End",null,"Shots",null,"Total",null,"Shots",null,"Total"]
[1,{"$nulls":10},9]
[2,{"$nulls":10},10]
[3,{"$nulls":10},11]
[4,{"$nulls":10},12]
[5,{"$nulls":10},13,{"$nulls":10},1]
[6,{"$nulls":10},14]
[7,{"$nulls":10},15]
[8]
[{"$nulls":3},"TEAM No.",{"$nulls":5},"Time",{"$nulls":7},"TEAM No."]
["Sign",null,null,{"$f":"DRAW!$C$6","v":2},{"$nulls":5},"Completed",{"$nulls":5},"Sign",null,{"$f":"DRAW!$C$8","v":4}]
["i",{"$nulls":14},"i"]
[{"$f":"Entries!$A$1","v":"2018 District 5 - Mixed Pairs"}]
["R O U N D  2"]
[null,null,"RINK",{"$nulls":5},"DATE"]
[null,null,{"$f":"DRAW!$H$6","v":11},{"$nulls":5},{"$f":"Entries!$A$2","v":"20th June 2018"}]
[]
[{"$f":"DRAW!$D$8","v":0},{"$nulls":10},"L",null,{"$f":"DRAW!$D$6","v":0}]
[]
[{"$f":"DRAW!$E$8","v":0},{"$nulls":10},"Sk",null,{"$f":"DRAW!$E$6","v":0}]
[]
[]
[null,null,{"$f":"DRAW!$E$8","v":0},{"$nulls":3},{"$f":"DRAW!$E$6","v":0},{"$nulls":6},{"$f":"DRAW!$E$8","v":0},{"$nulls":3},{"$f":"DRAW!$E$6","v":0}]
["End",null,"Shots",null,"Total",null,"Shots",null,"Total",null,null,"End",null,"Shots",null,"Total",null,"Shots",null,"Total"]
[1,{"$nulls":10},9]
[2,{"$nulls":10},10]
[3,{"$nulls":10},11]
[4,{"$nulls":10},12]
[5,{"$nulls":10},13,{"$nulls":10},1]
[6,{"$nulls":10},14]
[7,{"$nulls":10},15]
[8]
[{"$nulls":3},"TEAM No.",{"$nulls":5},"Time",{"$nulls":7},"TEAM No."]
["Sign",null,null,{"$f":"DRAW!$C$8","v":4},{"$nulls":5},"Completed",{"$nulls":5},"Sign",null,{"$f":"DRAW!$C$6","v":2}]
["i",{"$nulls":14},"i"]
[{"$f":"Entries!$A$1","v":"2018 District 5 - Mixed Pairs"}]
["R O U N D  2"]
[null,null,"RINK",{"$nulls":5},"DATE"]
[null,null,{"$f":"DRAW!$H$9","v":8},{"$nulls":5},{"$f":"Entries!$A$2","v":"20th June 2018"}]
[]
[{"$f":"DRAW!$D$9","v":0},{"$nulls":10},"L",null,{"$f":"DRAW!$D$11","v":0}]
[]
[{"$f":"DRAW!$E$9","v":0},{"$nulls":10},"Sk",null,{"$f":"DRAW!$E$11","v":0}]
[]
[]
[null,null,{"$f":"DRAW!$E$9","v":0},{"$nulls":3},{"$f":"DRAW!$E$11","v":0},{"$nulls":6},{"$f":"DRAW!$E$9","v":0},{"$nulls":3},{"$f":"DRAW!$E$11","v":0}]
["End",null,"Shots",null,"Total",null,"Shots",null,"Total",null,null,"End",null,"Shots",null,"Total",null,"Shots",null,"Total"]
[1,{"$nulls":10},9]
[2,{"$nulls":10},10]
[3,{"$nulls":10},11]
[4,{"$nulls":10},12]
[5,{"$nulls":10},13,{"$nulls":10},1]
[6,{"$nulls":10},14]
[7,{"$nulls":10},15]
[8]
[{"$nulls":3},"TEAM No.",{"$nulls":5},"Time",{"$nulls":7},"TEAM No."]
["Sign",null,null,{"$f":"DRAW!$C$9","v":5},{"$nulls":5},"Completed",{"$nulls":5},"Sign",null,{"$f":"DRAW!$C$11","v":7}]
["i",{"$nulls":14},"i"]
[{"$f":"Entries!$A$1","v":"2018 District 5 - Mixed Pairs"}]
["R O U N D  2"]
[null,null,"RINK",{"$nulls":5},"DATE"]
[null,null,{"$f":"DRAW!$H$9","v":8},{"$nulls":5},{"$f":"Entries!$A$2","v":"20th June 2018"}]
[]
[{"$f":"DRAW!$D$11","v":0},{"$nulls":10},"L",null,{"$f":"DRAW!$D$9","v":0}]
[]
[{"$f":"DRAW!$E$11","v":0},{"$nulls":10},"Sk",null,{"$f":"DRAW!$E$9","v":0}]
[]
[]
[null,null,{"$f":"DRAW!$E$11","v":0},{"$nulls":3},{"$f":"DRAW!$E$9","v":0},{"$nulls":6},{"$f":"DRAW!$E$11","v":0},{"$nulls":3},{"$f":"DRAW!$E$9","v":0}]
["End",null,"Shots",null,"Total",null,"Shots",null,"Total",null,null,"End",null,"Shots",null,"Total",null,"Shots",null,"Total"]
[1,{"$nulls":10},9]
[2,{"$nulls":10},10]
[3,{"$nulls":10},11]
[4,{"$nulls":10},12]
[5,{"$nulls":10},13,{"$nulls":10},1]
[6,{"$nulls":10},14]
[7,{"$nulls":10},15]
[8]
[{"$nulls":3},"TEAM No.",{"$nulls":5},"Time",{"$nulls":7},"TEAM No."]
["Sign",null,null,{"$f":"DRAW!$C$11","v":7},{"$nulls":5},"Completed",{"$nulls":5},"Sign",null,{"$f":"DRAW!$C$9","v":5}]
["i",{"$nulls":14},"i"]
[{"$f":"Entries!$A$1","v":"2018 District 5 - Mixed Pairs"}]
["R O U N D  2"]
[null,null,"RINK",{"$nulls":5},"DATE"]
[null,null,{"$f":"DRAW!$H$12","v":9},{"$nulls":5},{"$f":"Entries!$A$2","v":"20th June 2018"}]
[]
[{"$f":"DRAW!$D$12","v":0},{"$nulls":10},"L",null,{"$f":"DRAW!$D$10","v":0}]
[]
[{"$f":"DRAW!$E$12","v":0},{"$nulls":10},"Sk",null,{"$f":"DRAW!$E$10","v":0}]
[]
[]
[null,null,{"$f":"DRAW!$E$12","v":0},{"$nulls":3},{"$f":"DRAW!$E$10","v":0},{"$nulls":6},{"$f":"DRAW!$E$12","v":0},{"$nulls":3},{"$f":"DRAW!$E$10","v":0}]
["End",null,"Shots",null,"Total",null,"Shots",null,"Total",null,null,"End",null,"Shots",null,"Total",null,"Shots",null,"Total"]
[1,{"$nulls":10},9]
[2,{"$nulls":10},10]
[3,{"$nulls":10},11]
[4,{"$nulls":10},12]
[5,{"$nulls":10},13,{"$nulls":10},1]
[6,{"$nulls":10},14]
[7,{"$nulls":10},15]
[8]
[{"$nulls":3},"TEAM No.",{"$nulls":5},"Time",{"$nulls":7},"TEAM No."]
["Sign",null,null,{"$f":"DRAW!$C$12","v":8},{"$nulls":5},"Completed",{"$nulls":5},"Sign",null,{"$f":"DRAW!$C$10","v":6}]
["i",{"$nulls":14},"i"]
[{"$f":"Entries!$A$1","v":"2018 District 5 - Mixed Pairs"}]
["R O U N D  2"]
[null,null,"RINK",{"$nulls":5},"DATE"]
[null,null,{"$f":"DRAW!$H$12","v":9},{"$nulls":5},{"$f":"Entries!$A$2","v":"20th June 2018"}]
[]
[{"$f":"DRAW!$D$10","v":0},{"$nulls":10},"L",null,{"$f":"DRAW!$D$12","v":0}]
[]
[{"$f":"DRAW!$E$10","v":0},{"$nulls":10},"Sk",null,{"$f":"DRAW!$E$12","v":0}]
[]
[]
[null,null,{"$f":"DRAW!$E$10","v":0},{"$nulls":3},{"$f":"DRAW!$E$12","v":0},{"$nulls":6},{"$f":"DRAW!$E$10","v":0},{"$nulls":3},{"$f":"DRAW!$E$12","v":0}]
["End",null,"Shots",null,"Total",null,"Shots",null,"Total",null,null,"End",null,"Shots",null,"Total",null,"Shots",null,"Total"]
[1,{"$nulls":10},9]
[2,{"$nulls":10},10]
[3,{"$nulls":10},11]
[4,{"$nulls":10},12]
[5,{"$nulls":10},13,{"$nulls":10},1]
[6,{"$nulls":10},14]
[7,{"$nulls":10},15]
[8]
[{"$nulls":3},"TEAM No.",{"$nulls":5},"Time",{"$nulls":7},"TEAM No."]
["Sign",null,null,{"$f":"DRAW!$C$10","v":6},{"$nulls":5},"Completed",{"$nulls":5},"Sign",null,{"$f":"DRAW!$C$12","v":8}]
["i",{"$nulls":14},"i"]
[{"$f":"Entries!$A$1","v":"2018 District 5 - Mixed Pairs"}]
["R O U N D  2"]
[null,null,"RINK",{"$nulls":5},"DATE"]
[null,null,{"$f":"DRAW!$H$15","v":12},{"$nulls":5},{"$f":"Entries!$A$2","v":"20th June 2018"}]
[]
[{"$f":"DRAW!$D$15","v":0},{"$nulls":10},"L",null,{"$f":"DRAW!$D$13","v":0}]
[]
[{"$f":"DRAW!$E$15","v":0},{"$nulls":10},"Sk",null,{"$f":"DRAW!$E$13","v":0}]
[]
[]
[null,null,{"$f":"DRAW!$E$15","v":0},{"$nulls":3},{"$f":"DRAW!$E$13","v":0},{"$nulls":6},{"$f":"DRAW!$E$15","v":0},{"$nulls":3},{"$f":"DRAW!$E$13","v":0}]
["End",null,"Shots",null,"Total",null,"Shots",null,"Total",null,null,"End",null,"Shots",null,"Total",null,"Shots",null,"Total"]
[1,{"$nulls":10},9]
[2,{"$nulls":10},10]
[3,{"$nulls":10},11]
[4,{"$nulls":10},12]
[5,{"$nulls":10},13,{"$nulls":10},1]
[6,{"$nulls":10},14]
[7,{"$nulls":10},15]
[8]
[{"$nulls":3},"TEAM No.",{"$nulls":5},"Time",{"$nulls":7},"TEAM No."]
["Sign",null,null,{"$f":"DRAW!$C$15","v":11},{"$nulls":5},"Completed",{"$nulls":5},"Sign",null,{"$f":"DRAW!$C$13","v":9}]
["i",{"$nulls":14},"i"]
[{"$f":"Entries!$A$1","v":"2018 District 5 - Mixed Pairs"}]
["R O U N D  2"]
[null,null,"RINK",{"$nulls":5},"DATE"]
[null,null,{"$f":"DRAW!$H$15","v":12},{"$nulls":5},{"$f":"Entries!$A$2","v":"20th June 2018"}]
[]
[{"$f":"DRAW!$D$13","v":0},{"$nulls":10},"L",null,{"$f":"DRAW!$D$15","v":0}]
[]
[{"$f":"DRAW!$E$13","v":0},{"$nulls":10},"Sk",null,{"$f":"DRAW!$E$15","v":0}]
[]
[]
[null,null,{"$f":"DRAW!$E$13","v":0},{"$nulls":3},{"$f":"DRAW!$E$15","v":0},{"$nulls":6},{"$f":"DRAW!$E$13","v":0},{"$nulls":3},{"$f":"DRAW!$E$15","v":0}]
["End",null,"Shots",null,"Total",null,"Shots",null,"Total",null,null,"End",null,"Shots",null,"Total",null,"Shots",null,"Total"]
[1,{"$nulls":10},9]
[2,{"$nulls":10},10]
[3,{"$nulls":10},11]
[4,{"$nulls":10},12]
[5,{"$nulls":10},13,{"$nulls":10},1]
[6,{"$nulls":10},14]
[7,{"$nulls":10},15]
[8]
[{"$nulls":3},"TEAM No.",{"$nulls":5},"Time",{"$nulls":7},"TEAM No."]
["Sign",null,null,{"$f":"DRAW!$C$13","v":9},{"$nulls":5},"Completed",{"$nulls":5},"Sign",null,{"$f":"DRAW!$C$15","v":11}]
["i",{"$nulls":14},"i"]
[{"$f":"Entries!$A$1","v":"2018 District 5 - Mixed Pairs"}]
["R O U N D  2"]
[null,null,"RINK",{"$nulls":5},"DATE"]
[null,null,{"$f":"DRAW!$H$14","v":13},{"$nulls":5},{"$f":"Entries!$A$2","v":"20th June 2018"}]
[]
[{"$f":"DRAW!$D$14","v":0},{"$nulls":10},"L",null,{"$f":"DRAW!$D$16","v":0}]
[]
[{"$f":"DRAW!$E$14","v":0},{"$nulls":10},"Sk",null,{"$f":"DRAW!$E$16","v":0}]
[]
[]
[null,null,{"$f":"DRAW!$E$14","v":0},{"$nulls":3},{"$f":"DRAW!$E$16","v":0},{"$nulls":6},{"$f":"DRAW!$E$14","v":0},{"$nulls":3},{"$f":"DRAW!$E$16","v":0}]
["End",null,"Shots",null,"Total",null,"Shots",null,"Total",null,null,"End",null,"Shots",null,"Total",null,"Shots",null,"Total"]
[1,{"$nulls":10},9]
[2,{"$nulls":10},10]
[3,{"$nulls":10},11]
[4,{"$nulls":10},12]
[5,{"$nulls":10},13,{"$nulls":10},1]
[6,{"$nulls":10},14]
[7,{"$nulls":10},15]
[8]
[{"$nulls":3},"TEAM No.",{"$nulls":5},"Time",{"$nulls":7},"TEAM No."]
["Sign",null,null,{"$f":"DRAW!$C$14","v":10},{"$nulls":5},"Completed",{"$nulls":5},"Sign",null,{"$f":"DRAW!$C$16","v":12}]
["i",{"$nulls":14},"i"]
[{"$f":"Entries!$A$1","v":"2018 District 5 - Mixed Pairs"}]
["R O U N D  2"]
[null,null,"RINK",{"$nulls":5},"DATE"]
[null,null,{"$f":"DRAW!$H$14","v":13},{"$nulls":5},{"$f":"Entries!$A$2","v":"20th June 2018"}]
[]
[{"$f":"DRAW!$D$16","v":0},{"$nulls":10},"L",null,{"$f":"DRAW!$D$14","v":0}]
[]
[{"$f":"DRAW!$E$16","v":0},{"$nulls":10},"Sk",null,{"$f":"DRAW!$E$14","v":0}]
[]
[]
[null,null,{"$f":"DRAW!$E$16","v":0},{"$nulls":3},{"$f":"DRAW!$E$14","v":0},{"$nulls":6},{"$f":"DRAW!$E$16","v":0},{"$nulls":3},{"$f":"DRAW!$E$14","v":0}]
["End",null,"Shots",null,"Total",null,"Shots",null,"Total",null,null,"End",null,"Shots",null,"Total",null,"Shots",null,"Total"]
[1,{"$nulls":10},9]
[2,{"$nulls":10},10]
[3,{"$nulls":10},11]
[4,{"$nulls":10},12]
[5,{"$nulls":10},13,{"$nulls":10},1]
[6,{"$nulls":10},14]
[7,{"$nulls":10},15]
[8]
[{"$nulls":3},"TEAM No.",{"$nulls":5},"Time",{"$nulls":7},"TEAM No."]
["Sign",null,null,{"$f":"DRAW!$C$16","v":12},{"$nulls":5},"Completed",{"$nulls":5},"Sign",null,{"$f":"DRAW!$C$14","v":10}]
["i",{"$nulls":14},"i"]
[{"$f":"Entries!$A$1","v":"2018 District 5 - Mixed Pairs"}]
["R O U N D  2"]
[null,null,"RINK",{"$nulls":5},"DATE"]
[null,null,{"$f":"DRAW!$H$17","v":17},{"$nulls":5},{"$f":"Entries!$A$2","v":"20th June 2018"}]
[]
[{"$f":"DRAW!$D$17","v":0},{"$nulls":10},"L",null,{"$f":"DRAW!$D$19","v":0}]
[]
[{"$f":"DRAW!$E$17","v":0},{"$nulls":10},"Sk",null,{"$f":"DRAW!$E$19","v":0}]
[]
[]
[null,null,{"$f":"DRAW!$E$17","v":0},{"$nulls":3},{"$f":"DRAW!$E$19","v":0},{"$nulls":6},{"$f":"DRAW!$E$17","v":0},{"$nulls":3},{"$f":"DRAW!$E$19","v":0}]
["End",null,"Shots",null,"Total",null,"Shots",null,"Total",null,null,"End",null,"Shots",null,"Total",null,"Shots",null,"Total"]
[1,{"$nulls":10},9]
[2,{"$nulls":10},10]
[3,{"$nulls":10},11]
[4,{"$nulls":10},12]
[5,{"$nulls":10},13,{"$nulls":10},1]
[6,{"$nulls":10},14]
[7,{"$nulls":10},15]
[8]
[{"$nulls":3},"TEAM No.",{"$nulls":5},"Time",{"$nulls":7},"TEAM No."]
["Sign",null,null,{"$f":"DRAW!$C$17","v":13},{"$nulls":5},"Completed",{"$nulls":5},"Sign",null,{"$f":"DRAW!$C$19","v":15}]
["i",{"$nulls":14},"i"]
[{"$f":"Entries!$A$1","v":"2018 District 5 - Mixed Pairs"}]
["R O U N D  2"]
[null,null,"RINK",{"$nulls":5},"DATE"]
[null,null,{"$f":"DRAW!$H$17","v":17},{"$nulls":5},{"$f":"Entries!$A$2","v":"20th June 2018"}]
[]
[{"$f":"DRAW!$D$19","v":0},{"$nulls":10},"L",null,{"$f":"DRAW!$D$17","v":0}]
[]
[{"$f":"DRAW!$E$19","v":0},{"$nulls":10},"Sk",null,{"$f":"DRAW!$E$17","v":0}]
[]
[]
[null,null,{"$f":"DRAW!$E$19","v":0},{"$nulls":3},{"$f":"DRAW!$E$17","v":0},{"$nulls":6},{"$f":"DRAW!$E$19","v":0},{"$nulls":3},{"$f":"DRAW!$E$17","v":0}]
["End",null,"Shots",null,"Total",null,"Shots",null,"Total",null,null,"End",null,"Shots",null,"Total",null,"Shots",null,"Total"]
[1,{"$nulls":10},9]
[2,{"$nulls":10},10]
[3,{"$nulls":10},11]
[4,{"$nulls":10},12]
[5,{"$nulls":10},13,{"$nulls":10},1]
[6,{"$nulls":10},14]
[7,{"$nulls":10},15]
[8]
[{"$nulls":3},"TEAM No.",{"$nulls":5},"Time",{"$nulls":7},"TEAM No."]
["Sign",null,null,{"$f":"DRAW!$C$19","v":15},{"$nulls":5},"Completed",{"$nulls":5},"Sign",null,{"$f":"DRAW!$C$17","v":13}]
["i",{"$nulls":14},"i"]
[{"$f":"Entries!$A$1","v":"2018 District 5 - Mixed Pairs"}]
["R O U N D  2"]
[null,null,"RINK",{"$nulls":5},"DATE"]
[null,null,{"$f":"DRAW!$H$18","v":18},{"$nulls":5},{"$f":"Entries!$A$2","v":"20th June 2018"}]
[]
[{"$f":"DRAW!$D$18","v":0},{"$nulls":10},"L",null,{"$f":"DRAW!$D$20","v":0}]
[]
[{"$f":"DRAW!$E$18","v":0},{"$nulls":10},"Sk",null,{"$f":"DRAW!$E$20","v":0}]
[]
[]
[null,null,{"$f":"DRAW!$E$18","v":0},{"$nulls":3},{"$f":"DRAW!$E$20","v":0},{"$nulls":6},{"$f":"DRAW!$E$18","v":0},{"$nulls":3},{"$f":"DRAW!$E$20","v":0}]
["End",null,"Shots",null,"Total",null,"Shots",null,"Total",null,null,"End",null,"Shots",null,"Total",null,"Shots",null,"Total"]
[1,{"$nulls":10},9]
[2,{"$nulls":10},10]
[3,{"$nulls":10},11]
[4,{"$nulls":10},12]
[5,{"$nulls":10},13,{"$nulls":10},1]
[6,{"$nulls":10},14]
[7,{"$nulls":10},15]
[8]
[{"$nulls":3},"TEAM No.",{"$nulls":5},"Time",{"$nulls":7},"TEAM No."]
["Sign",null,null,{"$f":"DRAW!$C$18","v":14},{"$nulls":5},"Completed",{"$nulls":5},"Sign",null,{"$f":"DRAW!$C$20","v":16}]
["i",{"$nulls":14},"i"]
[{"$f":"Entries!$A$1","v":"2018 District 5 - Mixed Pairs"}]
["R O U N D  2"]
[null,null,"RINK",{"$nulls":5},"DATE"]
[null,null,{"$f":"DRAW!$H$18","v":18},{"$nulls":5},{"$f":"Entries!$A$2","v":"20th June 2018"}]
[]
[{"$f":"DRAW!$D$20","v":0},{"$nulls":10},"L",null,{"$f":"DRAW!$D$18","v":0}]
[]
[{"$f":"DRAW!$E$20","v":0},{"$nulls":10},"Sk",null,{"$f":"DRAW!$E$18","v":0}]
[]
[]
[null,null,{"$f":"DRAW!$E$20","v":0},{"$nulls":3},{"$f":"DRAW!$E$18","v":0},{"$nulls":6},{"$f":"DRAW!$E$20","v":0},{"$nulls":3},{"$f":"DRAW!$E$18","v":0}]
["End",null,"Shots",null,"Total",null,"Shots",null,"Total",null,null,"End",null,"Shots",null,"Total",null,"Shots",null,"Total"]
[1,{"$nulls":10},9]
[2,{"$nulls":10},10]
[3,{"$nulls":10},11]
[4,{"$nulls":10},12]
[5,{"$nulls":10},13,{"$nulls":10},1]
[6,{"$nulls":10},14]
[7,{"$nulls":10},15]
[8]
[{"$nulls":3},"TEAM No.",{"$nulls":5},"Time",{"$nulls":7},"TEAM No."]
["Sign",null,null,{"$f":"DRAW!$C$20","v":16},{"$nulls":5},"Completed",{"$nulls":5},"Sign",null,{"$f":"DRAW!$C$18","v":14}]
["i",{"$nulls":14},"i"]
[{"$f":"Entries!$A$1","v":"2018 District 5 - Mixed Pairs"}]
["R O U N D  2"]
[null,null,"RINK",{"$nulls":5},"DATE"]
[null,null,{"$f":"DRAW!$H$21","v":7},{"$nulls":5},{"$f":"Entries!$A$2","v":"20th June 2018"}]
[]
[{"$f":"DRAW!$D$21","v":0},{"$nulls":10},"L",null,{"$f":"DRAW!$D$23","v":0}]
[]
[{"$f":"DRAW!$E$21","v":0},{"$nulls":10},"Sk",null,{"$f":"DRAW!$E$23","v":0}]
[]
[]
[null,null,{"$f":"DRAW!$E$21","v":0},{"$nulls":3},{"$f":"DRAW!$E$23","v":0},{"$nulls":6},{"$f":"DRAW!$E$21","v":0},{"$nulls":3},{"$f":"DRAW!$E$23","v":0}]
["End",null,"Shots",null,"Total",null,"Shots",null,"Total",null,null,"End",null,"Shots",null,"Total",null,"Shots",null,"Total"]
[1,{"$nulls":10},9]
[2,{"$nulls":10},10]
[3,{"$nulls":10},11]
[4,{"$nulls":10},12]
[5,{"$nulls":10},13,{"$nulls":10},1]
[6,{"$nulls":10},14]
[7,{"$nulls":10},15]
[8]
[{"$nulls":3},"TEAM No.",{"$nulls":5},"Time",{"$nulls":7},"TEAM No."]
["Sign",null,null,{"$f":"DRAW!$C$21","v":17},{"$nulls":5},"Completed",{"$nulls":5},"Sign",null,{"$f":"DRAW!$C$23","v":19}]
["i",{"$nulls":14},"i"]
[{"$f":"Entries!$A$1","v":"2018 District 5 - Mixed Pairs"}]
["R O U N D  2"]
[null,null,"RINK",{"$nulls":5},"DATE"]
[null,null,{"$f":"DRAW!$H$21","v":7},{"$nulls":5},{"$f":"Entries!$A$2","v":"20th June 2018"}]
[]
[{"$f":"DRAW!$D$23","v":0},{"$nulls":10},"L",null,{"$f":"DRAW!$D$21","v":0}]
[]
[{"$f":"DRAW!$E$23","v":0},{"$nulls":10},"Sk",null,{"$f":"DRAW!$E$21","v":0}]
[]
[]
[null,null,{"$f":"DRAW!$E$23","v":0},{"$nulls":3},{"$f":"DRAW!$E$21","v":0},{"$nulls":6},{"$f":"DRAW!$E$23","v":0},{"$nulls":3},{"$f":"DRAW!$E$21","v":0}]
["End",null,"Shots",null,"Total",null,"Shots",null,"Total",null,null,"End",null,"Shots",null,"Total",null,"Shots",null,"Total"]
[1,{"$nulls":10},9]
[2,{"$nulls":10},10]
[3,{"$nulls":10},11]
[4,{"$nulls":10},12]
[5,{"$nulls":10},13,{"$nulls":10},1]
[6,{"$nulls":10},14]
[7,{"$nulls":10},15]
[8]
[{"$nulls":3},"TEAM No.",{"$nulls":5},"Time",{"$nulls":7},"TEAM No."]
["Sign",null,null,{"$f":"DRAW!$C$23","v":19},{"$nulls":5},"Completed",{"$nulls":5},"Sign",null,{"$f":"DRAW!$C$21","v":17}]
["i",{"$nulls":14},"i"]
[{"$f":"Entries!$A$1","v":"2018 District 5 - Mixed Pairs"}]
["R O U N D  2"]
[null,null,"RINK",{"$nulls":5},"DATE"]
[null,null,{"$f":"DRAW!$H$24","v":14},{"$nulls":5},{"$f":"Entries!$A$2","v":"20th June 2018"}]
[]
[{"$f":"DRAW!$D$24","v":0},{"$nulls":10},"L",null,{"$f":"DRAW!$D$22","v":0}]
[]
[{"$f":"DRAW!$E$24","v":0},{"$nulls":10},"Sk",null,{"$f":"DRAW!$E$22","v":0}]
[]
[]
[null,null,{"$f":"DRAW!$E$24","v":0},{"$nulls":3},{"$f":"DRAW!$E$22","v":0},{"$nulls":6},{"$f":"DRAW!$E$24","v":0},{"$nulls":3},{"$f":"DRAW!$E$22","v":0}]
["End",null,"Shots",null,"Total",null,"Shots",null,"Total",null,null,"End",null,"Shots",null,"Total",null,"Shots",null,"Total"]
[1,{"$nulls":10},9]
[2,{"$nulls":10},10]
[3,{"$nulls":10},11]
[4,{"$nulls":10},12]
[5,{"$nulls":10},13,{"$nulls":10},1]
[6,{"$nulls":10},14]
[7,{"$nulls":10},15]
[8]
[{"$nulls":3},"TEAM No.",{"$nulls":5},"Time",{"$nulls":7},"TEAM No."]
["Sign",null,null,{"$f":"DRAW!$C$24","v":20},{"$nulls":5},"Completed",{"$nulls":5},"Sign",null,{"$f":"DRAW!$C$22","v":18}]
["i",{"$nulls":14},"i"]
[{"$f":"Entries!$A$1","v":"2018 District 5 - Mixed Pairs"}]
["R O U N D  2"]
[null,null,"RINK",{"$nulls":5},"DATE"]
[null,null,{"$f":"DRAW!$H$24","v":14},{"$nulls":5},{"$f":"Entries!$A$2","v":"20th June 2018"}]
[]
[{"$f":"DRAW!$D$22","v":0},{"$nulls":10},"L",null,{"$f":"DRAW!$D$24","v":0}]
[]
[{"$f":"DRAW!$E$22","v":0},{"$nulls":10},"Sk",null,{"$f":"DRAW!$E$24","v":0}]
[]
[]
[null,null,{"$f":"DRAW!$E$22","v":0},{"$nulls":3},{"$f":"DRAW!$E$24","v":0},{"$nulls":6},{"$f":"DRAW!$E$22","v":0},{"$nulls":3},{"$f":"DRAW!$E$24","v":0}]
["End",null,"Shots",null,"Total",null,"Shots",null,"Total",null,null,"End",null,"Shots",null,"Total",null,"Shots",null,"Total"]
[1,{"$nulls":10},9]
[2,{"$nulls":10},10]
[3,{"$nulls":10},11]
[4,{"$nulls":10},12]
[5,{"$nulls":10},13,{"$nulls":10},1]
[6,{"$nulls":10},14]
[7,{"$nulls":10},15]
[8]
[{"$nulls":3},"TEAM No.",{"$nulls":5},"Time",{"$nulls":7},"TEAM No."]
["Sign",null,null,{"$f":"DRAW!$C$22","v":18},{"$nulls":5},"Completed",{"$nulls":5},"Sign",null,{"$f":"DRAW!$C$24","v":20}]
["i",{"$nulls":14},"i"]
[{"$f":"Entries!$A$1","v":"2018 District 5 - Mixed Pairs"}]
["R O U N D  2"]
[null,null,"RINK",{"$nulls":5},"DATE"]
[null,null,{"$f":"DRAW!$H$25","v":19},{"$nulls":5},{"$f":"Entries!$A$2","v":"20th June 2018"}]
[]
[{"$f":"DRAW!$D$25","v":0},{"$nulls":10},"L",null,{"$f":"DRAW!$D$27","v":0}]
[]
[{"$f":"DRAW!$E$25","v":0},{"$nulls":10},"Sk",null,{"$f":"DRAW!$E$27","v":0}]
[]
[]
[null,null,{"$f":"DRAW!$E$25","v":0},{"$nulls":3},{"$f":"DRAW!$E$27","v":0},{"$nulls":6},{"$f":"DRAW!$E$25","v":0},{"$nulls":3},{"$f":"DRAW!$E$27","v":0}]
["End",null,"Shots",null,"Total",null,"Shots",null,"Total",null,null,"End",null,"Shots",null,"Total",null,"Shots",null,"Total"]
[1,{"$nulls":10},9]
[2,{"$nulls":10},10]
[3,{"$nulls":10},11]
[4,{"$nulls":10},12]
[5,{"$nulls":10},13,{"$nulls":10},1]
[6,{"$nulls":10},14]
[7,{"$nulls":10},15]
[8]
[{"$nulls":3},"TEAM No.",{"$nulls":5},"Time",{"$nulls":7},"TEAM No."]
["Sign",null,null,{"$f":"DRAW!$C$25","v":21},{"$nulls":5},"Completed",{"$nulls":5},"Sign",null,{"$f":"DRAW!$C$27","v":23}]
["i",{"$nulls":14},"i"]
[{"$f":"Entries!$A$1","v":"2018 District 5 - Mixed Pairs"}]
["R O U N D  2"]
[null,null,"RINK",{"$nulls":5},"DATE"]
[null,null,{"$f":"DRAW!$H$25","v":19},{"$nulls":5},{"$f":"Entries!$A$2","v":"20th June 2018"}]
[]
[{"$f":"DRAW!$D$27","v":0},{"$nulls":10},"L",null,{"$f":"DRAW!$D$25","v":0}]
[]
[{"$f":"DRAW!$E$27","v":0},{"$nulls":10},"Sk",null,{"$f":"DRAW!$E$25","v":0}]
[]
[]
[null,null,{"$f":"DRAW!$E$27","v":0},{"$nulls":3},{"$f":"DRAW!$E$25","v":0},{"$nulls":6},{"$f":"DRAW!$E$27","v":0},{"$nulls":3},{"$f":"DRAW!$E$25","v":0}]
["End",null,"Shots",null,"Total",null,"Shots",null,"Total",null,null,"End",null,"Shots",null,"Total",null,"Shots",null,"Total"]
[1,{"$nulls":10},9]
[2,{"$nulls":10},10]
[3,{"$nulls":10},11]
[4,{"$nulls":10},12]
[5,{"$nulls":10},13,{"$nulls":10},1]
[6,{"$nulls":10},14]
[7,{"$nulls":10},15]
[8]
[{"$nulls":3},"TEAM No.",{"$nulls":5},"Time",{"$nulls":7},"TEAM No."]
["Sign",null,null,{"$f":"DRAW!$C$27","v":23},{"$nulls":5},"Completed",{"$nulls":5},"Sign",null,{"$f":"DRAW!$C$25","v":21}]
["i",{"$nulls":14},"i"]
[{"$f":"Entries!$A$1","v":"2018 District 5 - Mixed Pairs"}]
["R O U N D  2"]
[null,null,"RINK",{"$nulls":5},"DATE"]
[null,null,{"$f":"DRAW!$H$26","v":20},{"$nulls":5},{"$f":"Entries!$A$2","v":"20th June 2018"}]
[]
[{"$f":"DRAW!$D$26","v":0},{"$nulls":10},"L",null,{"$f":"DRAW!$D$28","v":0}]
[]
[{"$f":"DRAW!$E$26","v":0},{"$nulls":10},"Sk",null,{"$f":"DRAW!$E$28","v":0}]
[]
[]
[null,null,{"$f":"DRAW!$E$26","v":0},{"$nulls":3},{"$f":"DRAW!$E$28","v":0},{"$nulls":6},{"$f":"DRAW!$E$26","v":0},{"$nulls":3},{"$f":"DRAW!$E$28","v":0}]
["End",null,"Shots",null,"Total",null,"Shots",null,"Total",null,null,"End",null,"Shots",null,"Total",null,"Shots",null,"Total"]
[1,{"$nulls":10},9]
[2,{"$nulls":10},10]
[3,{"$nulls":10},11]
[4,{"$nulls":10},12]
[5,{"$nulls":10},13,{"$nulls":10},1]
[6,{"$nulls":10},14]
[7,{"$nulls":10},15]
[8]
[{"$nulls":3},"TEAM No.",{"$nulls":5},"Time",{"$nulls":7},"TEAM No."]
["Sign",null,null,{"$f":"DRAW!$C$26","v":22},{"$nulls":5},"Completed",{"$nulls":5},"Sign",null,{"$f":"DRAW!$C$28","v":24}]
["i",{"$nulls":14},"i"]
[{"$f":"Entries!$A$1","v":"2018 District 5 - Mixed Pairs"}]
["R O U N D  2"]
[null,null,"RINK",{"$nulls":5},"DATE"]
[null,null,{"$f":"DRAW!$H$26","v":20},{"$nulls":5},{"$f":"Entries!$A$2","v":"20th June 2018"}]
[]
[{"$f":"DRAW!$D$28","v":0},{"$nulls":10},"L",null,{"$f":"DRAW!$D$26","v":0}]
[]
[{"$f":"DRAW!$E$28","v":0},{"$nulls":10},"Sk",null,{"$f":"DRAW!$E$26","v":0}]
[]
[]
[null,null,{"$f":"DRAW!$E$28","v":0},{"$nulls":3},{"$f":"DRAW!$E$26","v":0},{"$nulls":6},{"$f":"DRAW!$E$28","v":0},{"$nulls":3},{"$f":"DRAW!$E$26","v":0}]
["End",null,"Shots",null,"Total",null,"Shots",null,"Total",null,null,"End",null,"Shots",null,"Total",null,"Shots",null,"Total"]
[1,{"$nulls":10},9]
[2,{"$nulls":10},10]
[3,{"$nulls":10},11]
[4,{"$nulls":10},12]
[5,{"$nulls":10},13,{"$nulls":10},1]
[6,{"$nulls":10},14]
[7,{"$nulls":10},15]
[8]
[{"$nulls":3},"TEAM No.",{"$nulls":5},"Time",{"$nulls":7},"TEAM No."]
["Sign",null,null,{"$f":"DRAW!$C$28","v":24},{"$nulls":5},"Completed",{"$nulls":5},"Sign",null,{"$f":"DRAW!$C$26","v":22}]
["i",{"$nulls":14},"i"]
[{"$f":"Entries!$A$1","v":"2018 District 5 - Mixed Pairs"}]
["R O U N D  2"]
[null,null,"RINK",{"$nulls":5},"DATE"]
[null,null,{"$f":"DRAW!$H$29","v":3},{"$nulls":5},{"$f":"Entries!$A$2","v":"20th June 2018"}]
[]
[{"$f":"DRAW!$D$29","v":0},{"$nulls":10},"L",null,{"$f":"DRAW!$D$31","v":0}]
[]
[{"$f":"DRAW!$E$29","v":0},{"$nulls":10},"Sk",null,{"$f":"DRAW!$E$31","v":0}]
[]
[]
[null,null,{"$f":"DRAW!$E$29","v":0},{"$nulls":3},{"$f":"DRAW!$E$31","v":0},{"$nulls":6},{"$f":"DRAW!$E$29","v":0},{"$nulls":3},{"$f":"DRAW!$E$31","v":0}]
["End",null,"Shots",null,"Total",null,"Shots",null,"Total",null,null,"End",null,"Shots",null,"Total",null,"Shots",null,"Total"]
[1,{"$nulls":10},9]
[2,{"$nulls":10},10]
[3,{"$nulls":10},11]
[4,{"$nulls":10},12]
[5,{"$nulls":10},13,{"$nulls":10},1]
[6,{"$nulls":10},14]
[7,{"$nulls":10},15]
[8]
[{"$nulls":3},"TEAM No.",{"$nulls":5},"Time",{"$nulls":7},"TEAM No."]
["Sign",null,null,{"$f":"DRAW!$C$29","v":25},{"$nulls":5},"Completed",{"$nulls":5},"Sign",null,{"$f":"DRAW!$C$31","v":27}]
["i",{"$nulls":14},"i"]
[{"$f":"Entries!$A$1","v":"2018 District 5 - Mixed Pairs"}]
["R O U N D  2"]
[null,null,"RINK",{"$nulls":5},"DATE"]
[null,null,{"$f":"DRAW!$H$29","v":3},{"$nulls":5},{"$f":"Entries!$A$2","v":"20th June 2018"}]
[]
[{"$f":"DRAW!$D$31","v":0},{"$nulls":10},"L",null,{"$f":"DRAW!$D$29","v":0}]
[]
[{"$f":"DRAW!$E$31","v":0},{"$nulls":10},"Sk",null,{"$f":"DRAW!$E$29","v":0}]
[]
[]
[null,null,{"$f":"DRAW!$E$31","v":0},{"$nulls":3},{"$f":"DRAW!$E$29","v":0},{"$nulls":6},{"$f":"DRAW!$E$31","v":0},{"$nulls":3},{"$f":"DRAW!$E$29","v":0}]
["End",null,"Shots",null,"Total",null,"Shots",null,"Total",null,null,"End",null,"Shots",null,"Total",null,"Shots",null,"Total"]
[1,{"$nulls":10},9]
[2,{"$nulls":10},10]
[3,{"$nulls":10},11]
[4,{"$nulls":10},12]
[5,{"$nulls":10},13,{"$nulls":10},1]
[6,{"$nulls":10},14]
[7,{"$nulls":10},15]
[8]
[{"$nulls":3},"TEAM No.",{"$nulls":5},"Time",{"$nulls":7},"TEAM No."]
["Sign",null,null,{"$f":"DRAW!$C$31","v":27},{"$nulls":5},"Completed",{"$nulls":5},"Sign",null,{"$f":"DRAW!$C$29","v":25}]
["i",{"$nulls":14},"i"]
[{"$f":"Entries!$A$1","v":"2018 District 5 - Mixed Pairs"}]
["R O U N D  2"]
[null,null,"RINK",{"$nulls":5},"DATE"]
[null,null,{"$f":"DRAW!$H$30","v":4},{"$nulls":5},{"$f":"Entries!$A$2","v":"20th June 2018"}]
[]
[{"$f":"DRAW!$D$30","v":0},{"$nulls":10},"L",null,{"$f":"DRAW!$D$32","v":0}]
[]
[{"$f":"DRAW!$E$30","v":0},{"$nulls":10},"Sk",null,{"$f":"DRAW!$E$32","v":0}]
[]
[]
[null,null,{"$f":"DRAW!$E$30","v":0},{"$nulls":3},{"$f":"DRAW!$E$32","v":0},{"$nulls":6},{"$f":"DRAW!$E$30","v":0},{"$nulls":3},{"$f":"DRAW!$E$32","v":0}]
["End",null,"Shots",null,"Total",null,"Shots",null,"Total",null,null,"End",null,"Shots",null,"Total",null,"Shots",null,"Total"]
[1,{"$nulls":10},9]
[2,{"$nulls":10},10]
[3,{"$nulls":10},11]
[4,{"$nulls":10},12]
[5,{"$nulls":10},13,{"$nulls":10},1]
[6,{"$nulls":10},14]
[7,{"$nulls":10},15]
[8]
[{"$nulls":3},"TEAM No.",{"$nulls":5},"Time",{"$nulls":7},"TEAM No."]
["Sign",null,null,{"$f":"DRAW!$C$30","v":26},{"$nulls":5},"Completed",{"$nulls":5},"Sign",null,{"$f":"DRAW!$C$32","v":28}]
["i",{"$nulls":14},"i"]
[{"$f":"Entries!$A$1","v":"2018 District 5 - Mixed Pairs"}]
["R O U N D  2"]
[null,null,"RINK",{"$nulls":5},"DATE"]
[null,null,{"$f":"DRAW!$H$30","v":4},{"$nulls":5},{"$f":"Entries!$A$2","v":"20th June 2018"}]
[]
[{"$f":"DRAW!$D$32","v":0},{"$nulls":10},"L",null,{"$f":"DRAW!$D$30","v":0}]
[]
[{"$f":"DRAW!$E$32","v":0},{"$nulls":10},"Sk",null,{"$f":"DRAW!$E$30","v":0}]
[]
[]
[null,null,{"$f":"DRAW!$E$32","v":0},{"$nulls":3},{"$f":"DRAW!$E$30","v":0},{"$nulls":6},{"$f":"DRAW!$E$32","v":0},{"$nulls":3},{"$f":"DRAW!$E$30","v":0}]
["End",null,"Shots",null,"Total",null,"Shots",null,"Total",null,null,"End",null,"Shots",null,"Total",null,"Shots",null,"Total"]
[1,{"$nulls":10},9]
[2,{"$nulls":10},10]
[3,{"$nulls":10},11]
[4,{"$nulls":10},12]
[5,{"$nulls":10},13,{"$nulls":10},1]
[6,{"$nulls":10},14]
[7,{"$nulls":10},15]
[8]
[{"$nulls":3},"TEAM No.",{"$nulls":5},"Time",{"$nulls":7},"TEAM No."]
["Sign",null,null,{"$f":"DRAW!$C$32","v":28},{"$nulls":5},"Completed",{"$nulls":5},"Sign",null,{"$f":"DRAW!$C$30","v":26}]
["i",{"$nulls":14},"i"]
[{"$f":"Entries!$A$1","v":"2018 District 5 - Mixed Pairs"}]
["R O U N D  2"]
[null,null,"RINK",{"$nulls":5},"DATE"]
[null,null,{"$f":"DRAW!$H$33","v":1},{"$nulls":5},{"$f":"Entries!$A$2","v":"20th June 2018"}]
[]
[{"$f":"DRAW!$D$33","v":0},{"$nulls":10},"L",null,{"$f":"DRAW!$D$35","v":0}]
[]
[{"$f":"DRAW!$E$33","v":0},{"$nulls":10},"Sk",null,{"$f":"DRAW!$E$35","v":0}]
[]
[]
[null,null,{"$f":"DRAW!$E$33","v":0},{"$nulls":3},{"$f":"DRAW!$E$35","v":0},{"$nulls":6},{"$f":"DRAW!$E$33","v":0},{"$nulls":3},{"$f":"DRAW!$E$35","v":0}]
["End",null,"Shots",null,"Total",null,"Shots",null,"Total",null,null,"End",null,"Shots",null,"Total",null,"Shots",null,"Total"]
[1,{"$nulls":10},9]
[2,{"$nulls":10},10]
[3,{"$nulls":10},11]
[4,{"$nulls":10},12]
[5,{"$nulls":10},13,{"$nulls":10},1]
[6,{"$nulls":10},14]
[7,{"$nulls":10},15]
[8]
[{"$nulls":3},"TEAM No.",{"$nulls":5},"Time",{"$nulls":7},"TEAM No."]
["Sign",null,null,{"$f":"DRAW!$C$33","v":29},{"$nulls":5},"Completed",{"$nulls":5},"Sign",null,{"$f":"DRAW!$C$35","v":31}]
["i",{"$nulls":14},"i"]
[{"$f":"Entries!$A$1","v":"2018 District 5 - Mixed Pairs"}]
["R O U N D  2"]
[null,null,"RINK",{"$nulls":5},"DATE"]
[null,null,{"$f":"DRAW!$H$33","v":1},{"$nulls":5},{"$f":"Entries!$A$2","v":"20th June 2018"}]
[]
[{"$f":"DRAW!$D$35","v":0},{"$nulls":10},"L",null,{"$f":"DRAW!$D$33","v":0}]
[]
[{"$f":"DRAW!$E$35","v":0},{"$nulls":10},"Sk",null,{"$f":"DRAW!$E$33","v":0}]
[]
[]
[null,null,{"$f":"DRAW!$E$35","v":0},{"$nulls":3},{"$f":"DRAW!$E$33","v":0},{"$nulls":6},{"$f":"DRAW!$E$35","v":0},{"$nulls":3},{"$f":"DRAW!$E$33","v":0}]
["End",null,"Shots",null,"Total",null,"Shots",null,"Total",null,null,"End",null,"Shots",null,"Total",null,"Shots",null,"Total"]
[1,{"$nulls":10},9]
[2,{"$nulls":10},10]
[3,{"$nulls":10},11]
[4,{"$nulls":10},12]
[5,{"$nulls":10},13,{"$nulls":10},1]
[6,{"$nulls":10},14]
[7,{"$nulls":10},15]
[8]
[{"$nulls":3},"TEAM No.",{"$nulls":5},"Time",{"$nulls":7},"TEAM No."]
["Sign",null,null,{"$f":"DRAW!$C$35","v":31},{"$nulls":5},"Completed",{"$nulls":5},"Sign",null,{"$f":"DRAW!$C$33","v":29}]
["i",{"$nulls":14},"i"]
[{"$f":"Entries!$A$1","v":"2018 District 5 - Mixed Pairs"}]
["R O U N D  2"]
[null,null,"RINK",{"$nulls":5},"DATE"]
[null,null,{"$f":"DRAW!$H$36","v":2},{"$nulls":5},{"$f":"Entries!$A$2","v":"20th June 2018"}]
[]
[{"$f":"DRAW!$D$36","v":0},{"$nulls":10},"L",null,{"$f":"DRAW!$D$34","v":0}]
[]
[{"$f":"DRAW!$E$36","v":0},{"$nulls":10},"Sk",null,{"$f":"DRAW!$E$34","v":0}]
[]
[]
[null,null,{"$f":"DRAW!$E$36","v":0},{"$nulls":3},{"$f":"DRAW!$E$34","v":0},{"$nulls":6},{"$f":"DRAW!$E$36","v":0},{"$nulls":3},{"$f":"DRAW!$E$34","v":0}]
["End",null,"Shots",null,"Total",null,"Shots",null,"Total",null,null,"End",null,"Shots",null,"Total",null,"Shots",null,"Total"]
[1,{"$nulls":10},9]
[2,{"$nulls":10},10]
[3,{"$nulls":10},11]
[4,{"$nulls":10},12]
[5,{"$nulls":10},13,{"$nulls":10},1]
[6,{"$nulls":10},14]
[7,{"$nulls":10},15]
[8]
[{"$nulls":3},"TEAM No.",{"$nulls":5},"Time",{"$nulls":7},"TEAM No."]
["Sign",null,null,{"$f":"DRAW!$C$36","v":32},{"$nulls":5},"Completed",{"$nulls":5},"Sign",null,{"$f":"DRAW!$C$34","v":30}]
["i",{"$nulls":14},"i"]
[{"$f":"Entries!$A$1","v":"2018 District 5 - Mixed Pairs"}]
["R O U N D  2"]
[null,null,"RINK",{"$nulls":5},"DATE"]
[null,null,{"$f":"DRAW!$H$36","v":2},{"$nulls":5},{"$f":"Entries!$A$2","v":"20th June 2018"}]
[]
[{"$f":"DRAW!$D$34","v":0},{"$nulls":10},"L",null,{"$f":"DRAW!$D$36","v":0}]
[]
[{"$f":"DRAW!$E$34","v":0},{"$nulls":10},"Sk",null,{"$f":"DRAW!$E$36","v":0}]
[]
[]
[null,null,{"$f":"DRAW!$E$34","v":0},{"$nulls":3},{"$f":"DRAW!$E$36","v":0},{"$nulls":6},{"$f":"DRAW!$E$34","v":0},{"$nulls":3},{"$f":"DRAW!$E$36","v":0}]
["End",null,"Shots",null,"Total",null,"Shots",null,"Total",null,null,"End",null,"Shots",null,"Total",null,"Shots",null,"Total"]
[1,{"$nulls":10},9]
[2,{"$nulls":10},10]
[3,{"$nulls":10},11]
[4,{"$nulls":10},12]
[5,{"$nulls":10},13,{"$nulls":10},1]
[6,{"$nulls":10},14]
[7,{"$nulls":10},15]
[8]
[{"$nulls":3},"TEAM No.",{"$nulls":5},"Time",{"$nulls":7},"TEAM No."]
["Sign",null,null,{"$f":"DRAW!$C$34","v":30},{"$nulls":5},"Completed",{"$nulls":5},"Sign",null,{"$f":"DRAW!$C$36","v":32}]
["i",{"$nulls":14},"i"]
[{"$f":"Entries!$A$1","v":"2018 District 5 - Mixed Pairs"}]
["R O U N D  2"]
[null,null,"RINK",{"$nulls":5},"DATE"]
[null,null,{"$f":"DRAW!$H$37","v":5},{"$nulls":5},{"$f":"Entries!$A$2","v":"20th June 2018"}]
[]
[{"$f":"DRAW!$D$37","v":0},{"$nulls":10},"L",null,{"$f":"DRAW!$D$39","v":0}]
[]
[{"$f":"DRAW!$E$37","v":0},{"$nulls":10},"Sk",null,{"$f":"DRAW!$E$39","v":0}]
[]
[]
[null,null,{"$f":"DRAW!$E$37","v":0},{"$nulls":3},{"$f":"DRAW!$E$39","v":0},{"$nulls":6},{"$f":"DRAW!$E$37","v":0},{"$nulls":3},{"$f":"DRAW!$E$39","v":0}]
["End",null,"Shots",null,"Total",null,"Shots",null,"Total",null,null,"End",null,"Shots",null,"Total",null,"Shots",null,"Total"]
[1,{"$nulls":10},9]
[2,{"$nulls":10},10]
[3,{"$nulls":10},11]
[4,{"$nulls":10},12]
[5,{"$nulls":10},13,{"$nulls":10},1]
[6,{"$nulls":10},14]
[7,{"$nulls":10},15]
[8]
[{"$nulls":3},"TEAM No.",{"$nulls":5},"Time",{"$nulls":7},"TEAM No."]
["Sign",null,null,{"$f":"DRAW!$C$37","v":33},{"$nulls":5},"Completed",{"$nulls":5},"Sign",null,{"$f":"DRAW!$C$39","v":35}]
["i",{"$nulls":14},"i"]
[{"$f":"Entries!$A$1","v":"2018 District 5 - Mixed Pairs"}]
["R O U N D  2"]
[null,null,"RINK",{"$nulls":5},"DATE"]
[null,null,{"$f":"DRAW!$H$37","v":5},{"$nulls":5},{"$f":"Entries!$A$2","v":"20th June 2018"}]
[]
[{"$f":"DRAW!$D$39","v":0},{"$nulls":10},"L",null,{"$f":"DRAW!$D$37","v":0}]
[]
[{"$f":"DRAW!$E$39","v":0},{"$nulls":10},"Sk",null,{"$f":"DRAW!$E$37","v":0}]
[]
[]
[null,null,{"$f":"DRAW!$E$39","v":0},{"$nulls":3},{"$f":"DRAW!$E$37","v":0},{"$nulls":6},{"$f":"DRAW!$E$39","v":0},{"$nulls":3},{"$f":"DRAW!$E$37","v":0}]
["End",null,"Shots",null,"Total",null,"Shots",null,"Total",null,null,"End",null,"Shots",null,"Total",null,"Shots",null,"Total"]
[1,{"$nulls":10},9]
[2,{"$nulls":10},10]
[3,{"$nulls":10},11]
[4,{"$nulls":10},12]
[5,{"$nulls":10},13,{"$nulls":10},1]
[6,{"$nulls":10},14]
[7,{"$nulls":10},15]
[8]
[{"$nulls":3},"TEAM No.",{"$nulls":5},"Time",{"$nulls":7},"TEAM No."]
["Sign",null,null,{"$f":"DRAW!$C$39","v":35},{"$nulls":5},"Completed",{"$nulls":5},"Sign",null,{"$f":"DRAW!$C$37","v":33}]
["i",{"$nulls":14},"i"]
[{"$f":"Entries!$A$1","v":"2018 District 5 - Mixed Pairs"}]
["R O U N D  2"]
[null,null,"RINK",{"$nulls":5},"DATE"]
[null,null,{"$f":"DRAW!$H$38","v":6},{"$nulls":5},{"$f":"Entries!$A$2","v":"20th June 2018"}]
[]
[{"$f":"DRAW!$D$38","v":0},{"$nulls":10},"L",null,{"$f":"DRAW!$D$40","v":0}]
[]
[{"$f":"DRAW!$E$38","v":0},{"$nulls":10},"Sk",null,{"$f":"DRAW!$E$40","v":0}]
[]
[]
[null,null,{"$f":"DRAW!$E$38","v":0},{"$nulls":3},{"$f":"DRAW!$E$40","v":0},{"$nulls":6},{"$f":"DRAW!$E$38","v":0},{"$nulls":3},{"$f":"DRAW!$E$40","v":0}]
["End",null,"Shots",null,"Total",null,"Shots",null,"Total",null,null,"End",null,"Shots",null,"Total",null,"Shots",null,"Total"]
[1,{"$nulls":10},9]
[2,{"$nulls":10},10]
[3,{"$nulls":10},11]
[4,{"$nulls":10},12]
[5,{"$nulls":10},13,{"$nulls":10},1]
[6,{"$nulls":10},14]
[7,{"$nulls":10},15]
[8]
[{"$nulls":3},"TEAM No.",{"$nulls":5},"Time",{"$nulls":7},"TEAM No."]
["Sign",null,null,{"$f":"DRAW!$C$38","v":34},{"$nulls":5},"Completed",{"$nulls":5},"Sign",null,{"$f":"DRAW!$C$40","v":36}]
["i",{"$nulls":14},"i"]
[{"$f":"Entries!$A$1","v":"2018 District 5 - Mixed Pairs"}]
["R O U N D  2"]
[null,null,"RINK",{"$nulls":5},"DATE"]
[null,null,{"$f":"DRAW!$H$38","v":6},{"$nulls":5},{"$f":"Entries!$A$2","v":"20th June 2018"}]
[]
[{"$f":"DRAW!$D$40","v":0},{"$nulls":10},"L",null,{"$f":"DRAW!$D$38","v":0}]
[]
[{"$f":"DRAW!$E$40","v":0},{"$nulls":10},"Sk",null,{"$f":"DRAW!$E$38","v":0}]
[]
[]
[null,null,{"$f":"DRAW!$E$40","v":0},{"$nulls":3},{"$f":"DRAW!$E$38","v":0},{"$nulls":6},{"$f":"DRAW!$E$40","v":0},{"$nulls":3},{"$f":"DRAW!$E$38","v":0}]
["End",null,"Shots",null,"Total",null,"Shots",null,"Total",null,null,"End",null,"Shots",null,"Total",null,"Shots",null,"Total"]
[1,{"$nulls":10},9]
[2,{"$nulls":10},10]
[3,{"$nulls":10},11]
[4,{"$nulls":10},12]
[5,{"$nulls":10},13,{"$nulls":10},1]
[6,{"$nulls":10},14]
[7,{"$nulls":10},15]
[8]
[{"$nulls":3},"TEAM No.",{"$nulls":5},"Time",{"$nulls":7},"TEAM No."]
["Sign",null,null,{"$f":"DRAW!$C$40","v":36},{"$nulls":5},"Completed",{"$nulls":5},"Sign",null,{"$f":"DRAW!$C$38","v":34}]
["i",{"$nulls":14},"i"]
[{"$f":"Entries!$A$1","v":"2018 District 5 - Mixed Pairs"}]
["R O U N D  2"]
[null,null,"RINK",{"$nulls":5},"DATE"]
[null,null,{"$f":"DRAW!$H$41","v":15},{"$nulls":5},{"$f":"Entries!$A$2","v":"20th June 2018"}]
[]
[{"$f":"DRAW!$D$41","v":0},{"$nulls":10},"L",null,{"$f":"DRAW!$D$43","v":0}]
[]
[{"$f":"DRAW!$E$41","v":0},{"$nulls":10},"Sk",null,{"$f":"DRAW!$E$43","v":0}]
[]
[]
[null,null,{"$f":"DRAW!$E$41","v":0},{"$nulls":3},{"$f":"DRAW!$E$43","v":0},{"$nulls":6},{"$f":"DRAW!$E$41","v":0},{"$nulls":3},{"$f":"DRAW!$E$43","v":0}]
["End",null,"Shots",null,"Total",null,"Shots",null,"Total",null,null,"End",null,"Shots",null,"Total",null,"Shots",null,"Total"]
[1,{"$nulls":10},9]
[2,{"$nulls":10},10]
[3,{"$nulls":10},11]
[4,{"$nulls":10},12]
[5,{"$nulls":10},13,{"$nulls":10},1]
[6,{"$nulls":10},14]
[7,{"$nulls":10},15]
[8]
[{"$nulls":3},"TEAM No.",{"$nulls":5},"Time",{"$nulls":7},"TEAM No."]
["Sign",null,null,{"$f":"DRAW!$C$41","v":37},{"$nulls":5},"Completed",{"$nulls":5},"Sign",null,{"$f":"DRAW!$C$43","v":39}]
["i",{"$nulls":14},"i"]
[{"$f":"Entries!$A$1","v":"2018 District 5 - Mixed Pairs"}]
["R O U N D  2"]
[null,null,"RINK",{"$nulls":5},"DATE"]
[null,null,{"$f":"DRAW!$H$41","v":15},{"$nulls":5},{"$f":"Entries!$A$2","v":"20th June 2018"}]
[]
[{"$f":"DRAW!$D$43","v":0},{"$nulls":10},"L",null,{"$f":"DRAW!$D$41","v":0}]
[]
[{"$f":"DRAW!$E$43","v":0},{"$nulls":10},"Sk",null,{"$f":"DRAW!$E$41","v":0}]
[]
[]
[null,null,{"$f":"DRAW!$E$43","v":0},{"$nulls":3},{"$f":"DRAW!$E$41","v":0},{"$nulls":6},{"$f":"DRAW!$E$43","v":0},{"$nulls":3},{"$f":"DRAW!$E$41","v":0}]
["End",null,"Shots",null,"Total",null,"Shots",null,"Total",null,null,"End",null,"Shots",null,"Total",null,"Shots",null,"Total"]
[1,{"$nulls":10},9]
[2,{"$nulls":10},10]
[3,{"$nulls":10},11]
[4,{"$nulls":10},12]
[5,{"$nulls":10},13,{"$nulls":10},1]
[6,{"$nulls":10},14]
[7,{"$nulls":10},15]
[8]
[{"$nulls":3},"TEAM No.",{"$nulls":5},"Time",{"$nulls":7},"TEAM No."]
["Sign",null,null,{"$f":"DRAW!$C$43","v":39},{"$nulls":5},"Completed",{"$nulls":5},"Sign",null,{"$f":"DRAW!$C$41","v":37}]
["i",{"$nulls":14},"i"]
[{"$f":"Entries!$A$1","v":"2018 District 5 - Mixed Pairs"}]
["R O U N D  2"]
[null,null,"RINK",{"$nulls":5},"DATE"]
[null,null,{"$f":"DRAW!$H$42","v":16},{"$nulls":5},{"$f":"Entries!$A$2","v":"20th June 2018"}]
[]
[{"$f":"DRAW!$D$42","v":0},{"$nulls":10},"L",null,{"$f":"DRAW!$D$44","v":0}]
[]
[{"$f":"DRAW!$E$42","v":0},{"$nulls":10},"Sk",null,{"$f":"DRAW!$E$44","v":0}]
[]
[]
[null,null,{"$f":"DRAW!$E$42","v":0},{"$nulls":3},{"$f":"DRAW!$E$44","v":0},{"$nulls":6},{"$f":"DRAW!$E$42","v":0},{"$nulls":3},{"$f":"DRAW!$E$44","v":0}]
["End",null,"Shots",null,"Total",null,"Shots",null,"Total",null,null,"End",null,"Shots",null,"Total",null,"Shots",null,"Total"]
[1,{"$nulls":10},9]
[2,{"$nulls":10},10]
[3,{"$nulls":10},11]
[4,{"$nulls":10},12]
[5,{"$nulls":10},13,{"$nulls":10},1]
[6,{"$nulls":10},14]
[7,{"$nulls":10},15]
[8]
[{"$nulls":3},"TEAM No.",{"$nulls":5},"Time",{"$nulls":7},"TEAM No."]
["Sign",null,null,{"$f":"DRAW!$C$42","v":38},{"$nulls":5},"Completed",{"$nulls":5},"Sign",null,{"$f":"DRAW!$C$44","v":40}]
["i",{"$nulls":14},"i"]
[{"$f":"Entries!$A$1","v":"2018 District 5 - Mixed Pairs"}]
["R O U N D  2"]
[null,null,"RINK",{"$nulls":5},"DATE"]
[null,null,{"$f":"DRAW!$H$42","v":16},{"$nulls":5},{"$f":"Entries!$A$2","v":"20th June 2018"}]
[]
[{"$f":"DRAW!$D$44","v":0},{"$nulls":10},"L",null,{"$f":"DRAW!$D$42","v":0}]
[]
[{"$f":"DRAW!$E$44","v":0},{"$nulls":10},"Sk",null,{"$f":"DRAW!$E$42","v":0}]
[]
[]
[null,null,{"$f":"DRAW!$E$44","v":0},{"$nulls":3},{"$f":"DRAW!$E$42","v":0},{"$nulls":6},{"$f":"DRAW!$E$44","v":0},{"$nulls":3},{"$f":"DRAW!$E$42","v":0}]
["End",null,"Shots",null,"Total",null,"Shots",null,"Total",null,null,"End",null,"Shots",null,"Total",null,"Shots",null,"Total"]
[1,{"$nulls":10},9]
[2,{"$nulls":10},10]
[3,{"$nulls":10},11]
[4,{"$nulls":10},12]
[5,{"$nulls":10},13,{"$nulls":10},1]
[6,{"$nulls":10},14]
[7,{"$nulls":10},15]
[8]
[{"$nulls":3},"TEAM No.",{"$nulls":5},"Time",{"$nulls":7},"TEAM No."]
["Sign",null,null,{"$f":"DRAW!$C$44","v":40},{"$nulls":5},"Completed",{"$nulls":5},"Sign",null,{"$f":"DRAW!$C$42","v":38}]
["i",{"$nulls":14},"i"]

{"sheet":"R 3 cds","index":8,"n_rows":920,"n_cols":23,"rows_kept":920,"hidden":true,"merged":[[173,11,173,12],[174,11,174,12],[175,11,175,12],[176,11,176,12],[178,0,178,1],[178,2,178,3],[178,4,178,5],[178,6,178,7],[178,8,178,10],[178,11,178,12],[178,13,178,14],[198,11,198,12],[199,0,199,1],[199,2,199,3],[199,4,199,5],[199,6,199,7],[199,11,199,12],[199,13,199,14],[200,8,200,10],[200,11,200,12],[200,13,200,14],[201,0,201,1],[201,2,201,3],[201,4,201,5],[201,6,201,7],[201,8,201,10],[201,11,201,12],[201,13,201,14],[201,15,201,16],[201,17,201,18],[201,19,201,21],[202,0,202,1],[202,2,202,3],[202,6,202,7],[202,8,202,10],[202,11,202,12],[202,13,202,14],[202,15,202,16],[202,17,202,18],[202,19,202,21],[203,13,203,14],[203,15,203,16],[203,17,203,18],[203,19,203,21],[218,11,218,12],[219,11,219,12],[219,17,219,18],[219,19,219,21],[220,0,220,1],[220,2,220,3],[220,4,220,5],[220,6,220,7],[220,8,220,10],[220,11,220,12],[220,13,220,14],[220,15,220,16],[221,11,221,12],[222,11,222,12],[223,15,223,16],[223,17,223,18],[223,19,223,21],[224,0,224,1],[224,2,224,3],[224,4,224,5],[224,6,224,7],[224,8,224,10],[224,11,224,12],[224,13,224,14],[224,15,224,16],[224,17,224,18],[224,19,224,21],[225,0,225,1],[225,2,225,3],[225,4,225,5],[225,6,225,7],[225,8,225,10],[225,11,225,12],[225,13,225,14],[225,15,225,16],[225,17,225,18],[225,19,225,21],[226,0,226,1],[226,2,226,3],[226,4,226,5],[226,6,226,7],[226,8,226,10],[226,11,226,12],[226,13,226,14],[226,15,226,16],[226,17,226,18],[226,19,226,21],[247,8,247,10],[247,11,247,12],[247,13,247,14],[247,15,247,16],[247,17,247,18],[247,19,247,21],[248,0,248,1],[248,2,248,3],[248,6,248,7],[248,8,248,10],[248,11,248,12],[248,13,248,14],[248,15,248,16],[248,17,248,18],[248,19,248,21],[249,0,249,1],[249,2,249,3],[249,6,249,7],[249,8,249,10],[249,11,249,12],[249,13,249,14],[249,15,249,16],[249,17,249,18],[249,19,249,21],[264,11,264,12],[265,11,265,12],[265,17,265,18],[265,19,265,21],[266,0,266,1],[266,2,266,3],[266,4,266,5],[266,6,266,7],[266,8,266,10],[266,11,266,12],[267,6,267,7],[267,8,267,10],[267,11,267,12],[267,13,267,14],[267,15,267,16],[267,17,267,18],[267,19,267,21],[268,11,268,12],[270,0,270,1],[270,2,270,3],[270,4,270,5],[270,6,270,7],[270,8,270,10],[270,11,270,12],[270,13,270,14],[270,15,270,16],[270,17,270,18],[270,19,270,21],[276,0,276,23],[277,0,277,23],[278,2,278,6],[281,0,281,10],[281,11,281,12],[281,13,281,23],[283,0,283,10],[283,11,283,12],[283,13,283,23],[287,15,287,16],[292,15,292,16],[292,17,292,18],[292,19,292,21],[292,22,292,23],[293,0,293,1],[293,2,293,3],[293,4,293,5],[293,6,293,7],[293,8,293,10],[293,11,293,12],[293,13,293,14],[293,15,293,16],[293,17,293,18],[293,19,293,21],[294,0,294,1],[294,2,294,3],[294,4,294,5],[294,6,294,7],[294,8,294,10],[294,11,294,12],[294,13,294,14],[294,15,294,16],[294,17,294,18],[294,19,294,21],[295,0,295,1],[295,2,295,3],[295,4,295,5],[295,6,295,7],[295,8,295,10],[295,11,295,12],[295,13,295,14],[295,15,295,16],[295,17,295,18],[295,19,295,21],[313,0,313,1],[313,11,313,12],[314,2,314,3],[314,4,314,5],[314,6,314,7],[314,8,314,10],[314,11,314,12],[314,13,314,14],[314,15,314,16],[314,17,314,18],[314,19,314,21],[316,0,316,1],[316,2,316,3],[316,4,316,5],[316,6,316,7],[316,8,316,10],[316,11,316,12],[316,13,316,14],[316,15,316,16],[316,17,316,18],[316,19,316,21],[317,0,317,1],[317,2,317,3],[317,6,317,7],[317,8,317,10],[317,11,317,12],[317,13,317,14],[317,15,317,16],[317,17,317,18],[317,19,317,21],[318,15,318,16],[318,17,318,18],[318,19,318,21],[319,3,319,6],[322,0,322,23],[323,0,323,23],[324,2,324,6],[324,8,324,23],[325,2,325,6],[325,8,325,23],[327,0,327,10],[327,11,327,12],[327,13,327,23],[329,0,329,10],[329,11,329,12],[329,13,329,23],[333,11,333,12],[334,11,334,12],[335,11,335,12],[336,0,336,1],[336,11,336,12],[337,11,337,12],[339,0,339,1],[339,2,339,3],[339,4,339,5],[339,6,339,7],[339,8,339,10],[339,11,339,12],[339,13,339,14],[339,15,339,16],[339,17,339,18],[339,19,339,21],[340,0,340,1],[340,2,340,3],[340,6,340,7],[340,8,340,10],[340,11,340,12],[340,13,340,14],[340,15,340,16],[340,17,340,18],[340,19,340,21],[341,0,341,1],[341,2,341,3],[341,6,341,7],[341,8,341,10],[341,11,341,12],[341,13,341,14],[341,15,341,16],[341,17,341,18],[341,19,341,21],[359,8,359,10],[359,13,359,14],[359,15,359,16],[359,17,359,18],[360,0,360,1],[360,2,360,3],[360,4,360,5],[360,11,360,12],[360,15,360,16],[360,17,360,18],[360,19,360,21],[362,0,362,1],[362,2,362,3],[362,4,362,5],[362,6,362,7],[362,8,362,10],[362,11,362,12],[362,13,362,14],[362,15,362,16],[362,17,362,18],[362,19,362,21],[363,0,363,1],[363,2,363,3],[363,6,363,7],[363,8,363,10],[363,11,363,12],[363,13,363,14],[363,15,363,16],[363,17,363,18],[363,19,363,21],[364,0,364,1],[364,2,364,3],[364,6,364,7],[364,8,364,10],[364,11,364,12],[364,13,364,14],[364,15,364,16],[364,17,364,18],[364,19,364,21],[365,3,365,6],[371,2,371,6],[371,8,371,23],[373,0,373,10],[373,11,373,12],[373,13,373,23],[379,11,379,12],[379,15,379,16],[380,11,380,12],[381,11,381,12],[381,19,381,21],[382,11,382,12],[404,0,404,1],[404,19,404,21],[405,0,405,1],[405,8,405,10],[405,11,405,12],[405,13,405,14],[405,15,405,16],[405,17,405,18],[405,19,405,21],[406,6,406,7],[406,8,406,10],[406,11,406,12],[406,13,406,14],[407,15,407,16],[407,17,407,18],[407,19,407,21],[408,0,408,1],[408,2,408,3],[408,4,408,5],[408,6,408,7],[408,8,408,10],[408,11,408,12],[408,13,408,14],[408,15,408,16],[408,17,408,18],[408,19,408,21],[409,6,409,7],[409,8,409,10],[409,11,409,12],[409,13,409,14],[409,15,409,16],[409,17,409,18],[409,19,409,21],[410,0,410,1],[410,2,410,3],[410,6,410,7],[410,8,410,10],[410,11,410,12],[410,13,410,14],[410,15,410,16],[410,17,410,18],[410,19,410,21],[416,2,416,6],[416,8,416,23],[417,2,417,6],[417,8,417,23],[419,0,419,10],[419,11,419,12],[419,13,419,23],[421,0,421,10],[421,11,421,12],[421,13,421,23],[423,2,423,10],[423,13,423,21],[424,2,424,5],[424,6,424,10],[424,13,424,16],[425,11,425,12],[433,0,433,1],[433,2,433,3],[433,6,433,7],[433,8,433,10],[433,11,433,12],[433,13,433,14],[433,15,433,16],[433,17,433,18],[433,19,433,21],[437,0,437,23],[438,0,438,23],[439,2,439,6],[439,8,439,23],[440,2,440,6],[440,8,440,23],[442,0,442,10],[442,11,442,12],[442,13,442,23],[444,0,444,10],[444,11,444,12],[444,13,444,23],[446,2,446,10],[446,13,446,21],[447,2,447,5],[447,6,447,10],[447,13,447,16],[447,17,447,21],[448,0,448,1],[448,2,448,3],[448,4,448,5],[448,6,448,7],[448,11,448,12],[456,15,456,16],[456,17,456,18],[456,19,456,21],[458,0,458,1],[458,3,459,6],[458,9,458,14],[458,15,458,16],[458,17,459,21],[459,0,459,1],[459,15,459,16],[460,0,460,23],[461,0,461,23],[462,2,462,6],[462,8,462,23],[463,2,463,6],[463,8,463,23],[465,0,465,10],[465,11,465,12],[465,13,465,23],[467,0,467,10],[467,11,467,12],[467,13,467,23],[469,2,469,10],[469,13,469,21],[470,2,470,5],[471,11,471,12],[479,0,479,1],[479,2,479,3],[479,6,479,7],[479,8,479,10],[479,11,479,12],[479,13,479,14],[479,15,479,16],[479,17,479,18],[479,19,479,21],[483,0,483,23],[484,0,484,23],[485,2,485,6],[485,8,485,23],[486,2,486,6],[486,8,486,23],[488,0,488,10],[501,6,501,7],[501,8,501,10],[501,11,501,12],[501,13,501,14],[501,15,501,16],[501,17,501,18],[501,19,501,21],[502,0,502,1],[502,2,502,3],[502,6,502,7],[502,8,502,10],[502,11,502,12],[502,13,502,14],[502,15,502,16],[502,17,502,18],[502,19,502,21],[506,0,506,23],[507,0,507,23],[508,2,508,6],[508,8,508,23],[509,2,509,6],[509,8,509,23],[511,0,511,10],[511,11,511,12],[511,13,511,23],[513,0,513,10],[513,11,513,12],[513,13,513,23],[515,2,515,10],[515,13,515,21],[516,2,516,5],[516,6,516,10],[516,13,516,16],[516,17,516,21],[517,0,517,1],[517,2,517,3],[517,4,517,5],[517,6,517,7],[517,8,517,10],[517,13,517,14],[517,15,517,16],[524,6,524,7],[524,8,524,10],[524,11,524,12],[524,13,524,14],[524,15,524,16],[524,17,524,18],[524,19,524,21],[525,8,525,10],[525,11,525,12],[525,13,525,14],[525,15,525,16],[525,17,525,18],[525,19,525,21],[527,0,527,1],[527,3,528,6],[527,9,527,14],[527,15,527,16],[527,17,528,21],[528,0,528,1],[528,15,528,16],[529,0,529,23],[530,0,530,23],[531,2,531,6],[531,8,531,23],[532,2,532,6],[532,8,532,23],[534,0,534,10],[534,11,534,12],[534,13,534,23],[536,0,536,10],[536,11,536,12],[536,13,536,23],[538,2,538,10],[538,13,538,21],[539,2,539,5],[539,6,539,10],[539,13,539,16],[539,17,539,21],[540,11,540,12],[548,0,548,1],[548,2,548,3],[548,6,548,7],[548,8,548,10],[548,11,548,12],[548,13,548,14],[548,15,548,16],[548,17,548,18],[548,19,548,21],[552,0,552,23],[553,0,553,23],[554,2,554,6],[554,8,554,23],[555,2,555,6],[555,8,555,23],[557,0,557,10],[557,11,557,12],[557,13,557,23],[559,0,559,10],[559,11,559,12],[559,13,559,23],[561,2,561,10],[561,13,561,21],[562,2,562,5],[562,6,562,10],[562,13,562,16],[562,17,562,21],[563,0,563,1],[563,2,563,3],[563,4,563,5],[563,6,563,7],[563,11,563,12],[571,15,571,16],[571,17,571,18],[571,19,571,21],[573,0,573,1],[573,3,574,6],[573,9,573,14],[573,15,573,16],[573,17,574,21],[574,0,574,1],[574,15,574,16],[575,0,575,23],[576,0,576,23],[577,2,577,6],[577,8,577,23],[578,2,578,6],[578,8,578,23],[580,0,580,10],[580,11,580,12],[580,13,580,23],[582,0,582,10],[582,11,582,12],[582,13,582,23],[584,2,584,10],[584,13,584,21],[585,2,585,5],[586,11,586,12],[594,0,594,1],[594,2,594,3],[594,6,594,7],[594,8,594,10],[594,11,594,12],[594,13,594,14],[594,15,594,16],[594,17,594,18],[594,19,594,21],[598,0,598,23],[599,0,599,23],[600,2,600,6],[600,8,600,23],[601,2,601,6],[601,8,601,23],[603,0,603,10],[603,11,603,12],[603,13,603,23],[605,0,605,10],[605,11,605,12],[605,13,605,23],[607,2,607,10],[607,13,607,21],[608,2,608,5],[608,6,608,10],[608,13,608,16],[608,17,608,21],[609,0,609,1],[609,2,609,3],[609,4,609,5],[609,6,609,7],[609,11,609,12],[617,15,617,16],[617,17,617,18],[617,19,617,21],[619,0,619,1],[619,3,620,6],[619,9,619,14],[619,15,619,16],[619,17,620,21],[620,0,620,1],[620,15,620,16],[621,0,621,23],[622,0,622,23],[623,2,623,6],[623,8,623,23],[624,2,624,6],[624,8,624,23],[626,0,626,10],[626,11,626,12],[626,13,626,23],[628,0,628,10],[628,11,628,12],[628,13,628,23],[630,2,630,10],[630,13,630,21],[631,2,631,5],[632,11,632,12],[640,0,640,1],[640,2,640,3],[640,6,640,7],[640,8,640,10],[640,11,640,12],[640,13,640,14],[640,15,640,16],[640,17,640,18],[640,19,640,21],[644,0,644,23],[645,0,645,23],[646,2,646,6],[646,8,646,23],[647,2,647,6],[647,8,647,23],[649,0,649,10],[649,11,649,12],[649,13,649,23],[651,0,651,10],[651,11,651,12],[651,13,651,23],[653,2,653,10],[653,13,653,21],[654,2,654,5],[654,6,654,10],[654,13,654,16],[654,17,654,21],[655,0,655,1],[655,2,655,3],[655,4,655,5],[655,6,655,7],[655,11,655,12],[663,15,663,16],[663,17,663,18],[663,19,663,21],[665,0,665,1],[665,3,666,6],[665,9,665,14],[665,15,665,16],[665,17,666,21],[666,0,666,1],[666,15,666,16],[667,0,667,23],[668,0,668,23],[669,2,669,6],[669,8,669,23],[670,2,670,6],[670,8,670,23],[672,0,672,10],[672,11,672,12],[672,13,672,23],[674,0,674,10],[674,11,674,12],[674,13,674,23],[676,2,676,10],[676,13,676,21],[677,2,677,5],[678,11,678,12],[686,0,686,1],[686,2,686,3],[686,6,686,7],[686,8,686,10],[686,11,686,12],[686,13,686,14],[686,15,686,16],[686,17,686,18],[686,19,686,21],[690,0,690,23],[691,0,691,23],[692,2,692,6],[692,8,692,23],[693,2,693,6],[693,8,693,23],[695,0,695,10],[695,11,695,12],[695,13,695,23],[697,0,697,10],[697,11,697,12],[697,13,697,23],[699,2,699,10],[699,13,699,21],[700,2,700,5],[700,6,700,10],[700,13,700,16],[700,17,700,21],[701,0,701,1],[701,2,701,3],[701,4,701,5],[701,6,701,7],[701,11,701,12],[709,15,709,16],[709,17,709,18],[709,19,709,21],[711,0,711,1],[711,3,712,6],[711,9,711,14],[711,15,711,16],[711,17,712,21],[712,0,712,1],[712,15,712,16],[713,0,713,23],[714,0,714,23],[715,2,715,6],[715,8,715,23],[716,2,716,6],[716,8,716,23],[718,0,718,10],[718,11,718,12],[718,13,718,23],[720,0,720,10],[720,11,720,12],[720,13,720,23],[722,2,722,10],[722,13,722,21],[723,2,723,5],[724,11,724,12],[732,0,732,1],[732,2,732,3],[732,6,732,7],[732,8,732,10],[732,11,732,12],[732,13,732,14],[732,15,732,16],[732,17,732,18],[732,19,732,21],[736,0,736,23],[737,0,737,23],[738,2,738,6],[738,8,738,23],[739,2,739,6],[739,8,739,23],[741,0,741,10],[741,11,741,12],[741,13,741,23],[743,0,743,10],[743,11,743,12],[743,13,743,23],[745,2,745,10],[745,13,745,21],[746,2,746,5],[746,6,746,10],[746,13,746,16],[746,17,746,21],[747,0,747,1],[747,2,747,3],[747,4,747,5],[747,6,747,7],[747,11,747,12],[755,15,755,16],[755,17,755,18],[755,19,755,21],[757,0,757,1],[757,3,758,6],[757,9,757,14],[757,15,757,16],[757,17,758,21],[758,0,758,1],[758,15,758,16],[759,0,759,23],[760,0,760,23],[761,2,761,6],[761,8,761,23],[762,2,762,6],[762,8,762,23],[764,0,764,10],[764,11,764,12],[764,13,764,23],[766,0,766,10],[766,11,766,12],[766,13,766,23],[768,2,768,10],[768,13,768,21],[769,2,769,5],[770,11,770,12],[778,0,778,1],[778,2,778,3],[778,6,778,7],[778,8,778,10],[778,11,778,12],[778,13,778,14],[778,15,778,16],[778,17,778,18],[778,19,778,21],[782,0,782,23],[783,0,783,23],[784,2,784,6],[784,8,784,23],[785,2,785,6],[785,8,785,23],[787,0,787,10],[787,11,787,12],[787,13,787,23],[789,0,789,10],[789,11,789,12],[789,13,789,23],[791,2,791,10],[791,13,791,21],[792,2,792,5],[792,6,792,10],[792,13,792,16],[792,17,792,21],[793,0,793,1],[793,2,793,3],[793,4,793,5],[793,6,793,7],[793,11,793,12],[801,15,801,16],[801,17,801,18],[801,19,801,21],[803,0,803,1],[803,3,804,6],[803,9,803,14],[803,15,803,16],[803,17,804,21],[804,0,804,1],[804,15,804,16],[805,0,805,23],[806,0,806,23],[807,2,807,6],[807,8,807,23],[808,2,808,6],[808,8,808,23],[810,0,810,10],[810,11,810,12],[810,13,810,23],[812,0,812,10],[812,11,812,12],[812,13,812,23],[814,2,814,10],[814,13,814,21],[815,2,815,5],[816,11,816,12],[824,0,824,1],[824,2,824,3],[824,6,824,7],[824,8,824,10],[824,11,824,12],[824,13,824,14],[824,15,824,16],[824,17,824,18],[824,19,824,21],[828,0,828,23],[829,0,829,23],[830,2,830,6],[830,8,830,23],[831,2,831,6],[831,8,831,23],[833,0,833,10],[833,11,833,12],[833,13,833,23],[835,0,835,10],[835,11,835,12],[835,13,835,23],[837,2,837,10],[837,13,837,21],[838,2,838,5],[838,6,838,10],[838,13,838,16],[838,17,838,21],[839,0,839,1],[839,2,839,3],[839,4,839,5],[839,6,839,7],[839,11,839,12],[847,15,847,16],[847,17,847,18],[847,19,847,21],[849,0,849,1],[849,3,850,6],[849,9,849,14],[849,15,849,16],[849,17,850,21],[850,0,850,1],[850,15,850,16],[851,0,851,23],[852,0,852,23],[853,2,853,6],[853,8,853,23],[854,2,854,6],[854,8,854,23],[856,0,856,10],[856,11,856,12],[856,13,856,23],[858,0,858,10],[858,11,858,12],[858,13,858,23],[860,2,860,10],[860,13,860,21],[861,2,861,5],[862,11,862,12],[870,0,870,1],[870,2,870,3],[870,6,870,7],[870,8,870,10],[870,11,870,12],[870,13,870,14],[870,15,870,16],[870,17,870,18],[870,19,870,21],[874,0,874,23],[875,0,875,23],[876,2,876,6],[876,8,876,23],[877,2,877,6],[877,8,877,23],[879,0,879,10],[879,11,879,12],[879,13,879,23],[881,0,881,10],[881,11,881,12],[881,13,881,23],[883,2,883,10],[883,13,883,21],[884,2,884,5],[884,6,884,10],[884,13,884,16],[884,17,884,21],[885,0,885,1],[885,2,885,3],[885,4,885,5],[885,6,885,7],[885,11,885,12],[892,6,892,7],[892,8,892,10],[892,11,892,12],[892,13,892,14],[892,15,892,16],[892,17,892,18],[892,19,892,21],[893,0,893,1],[893,2,893,3],[893,6,893,7],[893,8,893,10],[893,11,893,12],[893,13,893,14],[893,15,893,16],[893,17,893,18],[893,19,893,21],[895,0,895,1],[895,3,896,6],[895,9,895,14],[895,15,895,16],[895,17,896,21],[896,0,896,1],[896,15,896,16],[916,0,916,1],[916,2,916,3],[916,6,916,7],[916,8,916,10],[916,11,916,12],[916,13,916,14],[916,15,916,16],[916,17,916,18],[916,19,916,21]],"merged_total":4760,"flags":["merged_cut"]}
[{"$f":"Entries!$A$1","v":"2018 District 5 - Mixed Pairs"}]
["R O U N D  3"]
[null,null,"RINK",{"$nulls":5},"DATE"]
[null,null,{"$f":"DRAW!$J$5","v":19},{"$nulls":5},{"$f":"Entries!$A$2","v":"20th June 2018"}]
[]
[{"$f":"DRAW!$D$5","v":0},{"$nulls":10},"L",null,{"$f":"DRAW!$D$8","v":0}]
[]
[{"$f":"DRAW!$E$5","v":0},{"$nulls":10},"Sk",null,{"$f":"DRAW!$E$8","v":0}]
[]
[]
[null,null,{"$f":"DRAW!$E$5","v":0},{"$nulls":3},{"$f":"DRAW!$E$8","v":0},{"$nulls":6},{"$f":"DRAW!$E$5","v":0},{"$nulls":3},{"$f":"DRAW!$E$8","v":0}]
["End",null,"Shots",null,"Total",null,"Shots",null,"Total",null,null,"End",null,"Shots",null,"Total",null,"Shots",null,"Total"]
[1,{"$nulls":10},9]
[2,{"$nulls":10},10]
[3,{"$nulls":10},11]
[4,{"$nulls":10},12]
[5,{"$nulls":10},13,{"$nulls":10},1]
[6,{"$nulls":10},14]
[7,{"$nulls":10},15]
[8]
[{"$nulls":3},"TEAM No.",{"$nulls":5},"Time",{"$nulls":7},"TEAM No."]
["Sign",null,null,{"$f":"DRAW!$C$5","v":1},{"$nulls":5},"Completed",{"$nulls":5},"Sign",null,{"$f":"DRAW!$C$8","v":4}]
["i",{"$nulls":14},"i"]
[{"$f":"Entries!$A$1","v":"2018 District 5 - Mixed Pairs"}]
["R O U N D  3"]
[null,null,"RINK",{"$nulls":5},"DATE"]
[null,null,{"$f":"DRAW!$J$5","v":19},{"$nulls":5},{"$f":"Entries!$A$2","v":"20th June 2018"}]
[]
[{"$f":"DRAW!$D$8","v":0},{"$nulls":10},"L",null,{"$f":"DRAW!$D$5","v":0}]
[]
[{"$f":"DRAW!$E$8","v":0},{"$nulls":10},"Sk",null,{"$f":"DRAW!$E$5","v":0}]
[]
[]
[null,null,{"$f":"DRAW!$E$8","v":0},{"$nulls":3},{"$f":"DRAW!$E$5","v":0},{"$nulls":6},{"$f":"DRAW!$E$8","v":0},{"$nulls":3},{"$f":"DRAW!$E$5","v":0}]
["End",null,"Shots",null,"Total",null,"Shots",null,"Total",null,null,"End",null,"Shots",null,"Total",null,"Shots",null,"Total"]
[1,{"$nulls":10},9]
[2,{"$nulls":10},10]
[3,{"$nulls":10},11]
[4,{"$nulls":10},12]
[5,{"$nulls":10},13,{"$nulls":10},1]
[6,{"$nulls":10},14]
[7,{"$nulls":10},15]
[8]
[{"$nulls":3},"TEAM No.",{"$nulls":5},"Time",{"$nulls":7},"TEAM No."]
["Sign",null,null,{"$f":"DRAW!$C$8","v":4},{"$nulls":5},"Completed",{"$nulls":5},"Sign",null,{"$f":"DRAW!$C$5","v":1}]
["i",{"$nulls":14},"i"]
[{"$f":"Entries!$A$1","v":"2018 District 5 - Mixed Pairs"}]
["R O U N D  3"]
[null,null,"RINK",{"$nulls":5},"DATE"]
[null,null,{"$f":"DRAW!$J$6","v":20},{"$nulls":5},{"$f":"Entries!$A$2","v":"20th June 2018"}]
[]
[{"$f":"DRAW!$D$6","v":0},{"$nulls":10},"L",null,{"$f":"DRAW!$D$7","v":0}]
[]
[{"$f":"DRAW!$E$6","v":0},{"$nulls":10},"Sk",null,{"$f":"DRAW!$E$7","v":0}]
[]
[]
[null,null,{"$f":"DRAW!$E$6","v":0},{"$nulls":3},{"$f":"DRAW!$E$7","v":0},{"$nulls":6},{"$f":"DRAW!$E$6","v":0},{"$nulls":3},{"$f":"DRAW!$E$7","v":0}]
["End",null,"Shots",null,"Total",null,"Shots",null,"Total",null,null,"End",null,"Shots",null,"Total",null,"Shots",null,"Total"]
[1,{"$nulls":10},9]
[2,{"$nulls":10},10]
[3,{"$nulls":10},11]
[4,{"$nulls":10},12]
[5,{"$nulls":10},13,{"$nulls":10},1]
[6,{"$nulls":10},14]
[7,{"$nulls":10},15]
[8]
[{"$nulls":3},"TEAM No.",{"$nulls":5},"Time",{"$nulls":7},"TEAM No."]
["Sign",null,null,{"$f":"DRAW!$C$6","v":2},{"$nulls":5},"Completed",{"$nulls":5},"Sign",null,{"$f":"DRAW!$C$7","v":3}]
["i",{"$nulls":14},"i"]
[{"$f":"Entries!$A$1","v":"2018 District 5 - Mixed Pairs"}]
["R O U N D  3"]
[null,null,"RINK",{"$nulls":5},"DATE"]
[null,null,{"$f":"DRAW!$J$6","v":20},{"$nulls":5},{"$f":"Entries!$A$2","v":"20th June 2018"}]
[]
[{"$f":"DRAW!$D$7","v":0},{"$nulls":10},"L",null,{"$f":"DRAW!$D$6","v":0}]
[]
[{"$f":"DRAW!$E$7","v":0},{"$nulls":10},"Sk",null,{"$f":"DRAW!$E$6","v":0}]
[]
[]
[null,null,{"$f":"DRAW!$E$7","v":0},{"$nulls":3},{"$f":"DRAW!$E$6","v":0},{"$nulls":6},{"$f":"DRAW!$E$7","v":0},{"$nulls":3},{"$f":"DRAW!$E$6","v":0}]
["End",null,"Shots",null,"Total",null,"Shots",null,"Total",null,null,"End",null,"Shots",null,"Total",null,"Shots",null,"Total"]
[1,{"$nulls":10},9]
[2,{"$nulls":10},10]
[3,{"$nulls":10},11]
[4,{"$nulls":10},12]
[5,{"$nulls":10},13,{"$nulls":10},1]
[6,{"$nulls":10},14]
[7,{"$nulls":10},15]
[8]
[{"$nulls":3},"TEAM No.",{"$nulls":5},"Time",{"$nulls":7},"TEAM No."]
["Sign",null,null,{"$f":"DRAW!$C$7","v":3},{"$nulls":5},"Completed",{"$nulls":5},"Sign",null,{"$f":"DRAW!$C$6","v":2}]
["i",{"$nulls":14},"i"]
[{"$f":"Entries!$A$1","v":"2018 District 5 - Mixed Pairs"}]
["R O U N D  3"]
[null,null,"RINK",{"$nulls":5},"DATE"]
[null,null,{"$f":"DRAW!$J$9","v":17},{"$nulls":5},{"$f":"Entries!$A$2","v":"20th June 2018"}]
[]
[{"$f":"DRAW!$D$9","v":0},{"$nulls":10},"L",null,{"$f":"DRAW!$D$12","v":0}]
[]
[{"$f":"DRAW!$E$9","v":0},{"$nulls":10},"Sk",null,{"$f":"DRAW!$E$12","v":0}]
[]
[]
[null,null,{"$f":"DRAW!$E$9","v":0},{"$nulls":3},{"$f":"DRAW!$E$12","v":0},{"$nulls":6},{"$f":"DRAW!$E$9","v":0},{"$nulls":3},{"$f":"DRAW!$E$12","v":0}]
["End",null,"Shots",null,"Total",null,"Shots",null,"Total",null,null,"End",null,"Shots",null,"Total",null,"Shots",null,"Total"]
[1,{"$nulls":10},9]
[2,{"$nulls":10},10]
[3,{"$nulls":10},11]
[4,{"$nulls":10},12]
[5,{"$nulls":10},13,{"$nulls":10},1]
[6,{"$nulls":10},14]
[7,{"$nulls":10},15]
[8]
[{"$nulls":3},"TEAM No.",{"$nulls":5},"Time",{"$nulls":7},"TEAM No."]
["Sign",null,null,{"$f":"DRAW!$C$9","v":5},{"$nulls":5},"Completed",{"$nulls":5},"Sign",null,{"$f":"DRAW!$C$12","v":8}]
["i",{"$nulls":14},"i"]
[{"$f":"Entries!$A$1","v":"2018 District 5 - Mixed Pairs"}]
["R O U N D  3"]
[null,null,"RINK",{"$nulls":5},"DATE"]
[null,null,{"$f":"DRAW!$J$9","v":17},{"$nulls":5},{"$f":"Entries!$A$2","v":"20th June 2018"}]
[]
[{"$f":"DRAW!$D$12","v":0},{"$nulls":10},"L",null,{"$f":"DRAW!$D$9","v":0}]
[]
[{"$f":"DRAW!$E$12","v":0},{"$nulls":10},"Sk",null,{"$f":"DRAW!$E$9","v":0}]
[]
[]
[null,null,{"$f":"DRAW!$E$12","v":0},{"$nulls":3},{"$f":"DRAW!$E$9","v":0},{"$nulls":6},{"$f":"DRAW!$E$12","v":0},{"$nulls":3},{"$f":"DRAW!$E$9","v":0}]
["End",null,"Shots",null,"Total",null,"Shots",null,"Total",null,null,"End",null,"Shots",null,"Total",null,"Shots",null,"Total"]
[1,{"$nulls":10},9]
[2,{"$nulls":10},10]
[3,{"$nulls":10},11]
[4,{"$nulls":10},12]
[5,{"$nulls":10},13,{"$nulls":10},1]
[6,{"$nulls":10},14]
[7,{"$nulls":10},15]
[8]
[{"$nulls":3},"TEAM No.",{"$nulls":5},"Time",{"$nulls":7},"TEAM No."]
["Sign",null,null,{"$f":"DRAW!$C$12","v":8},{"$nulls":5},"Completed",{"$nulls":5},"Sign",null,{"$f":"DRAW!$C$9","v":5}]
["i",{"$nulls":14},"i"]
[{"$f":"Entries!$A$1","v":"2018 District 5 - Mixed Pairs"}]
["R O U N D  3"]
[null,null,"RINK",{"$nulls":5},"DATE"]
[null,null,{"$f":"DRAW!$J$10","v":18},{"$nulls":5},{"$f":"Entries!$A$2","v":"20th June 2018"}]
[]
[{"$f":"DRAW!$D$10","v":0},{"$nulls":10},"L",null,{"$f":"DRAW!$D$11","v":0}]
[]
[{"$f":"DRAW!$E$10","v":0},{"$nulls":10},"Sk",null,{"$f":"DRAW!$E$11","v":0}]
[]
[]
[null,null,{"$f":"DRAW!$E$10","v":0},{"$nulls":3},{"$f":"DRAW!$E$11","v":0},{"$nulls":6},{"$f":"DRAW!$E$10","v":0},{"$nulls":3},{"$f":"DRAW!$E$11","v":0}]
["End",null,"Shots",null,"Total",null,"Shots",null,"Total",null,null,"End",null,"Shots",null,"Total",null,"Shots",null,"Total"]
[1,{"$nulls":10},9]
[2,{"$nulls":10},10]
[3,{"$nulls":10},11]
[4,{"$nulls":10},12]
[5,{"$nulls":10},13,{"$nulls":10},1]
[6,{"$nulls":10},14]
[7,{"$nulls":10},15]
[8]
[{"$nulls":3},"TEAM No.",{"$nulls":5},"Time",{"$nulls":7},"TEAM No."]
["Sign",null,null,{"$f":"DRAW!$C$10","v":6},{"$nulls":5},"Completed",{"$nulls":5},"Sign",null,{"$f":"DRAW!$C$11","v":7}]
["i",{"$nulls":14},"i"]
[{"$f":"Entries!$A$1","v":"2018 District 5 - Mixed Pairs"}]
["R O U N D  3"]
[null,null,"RINK",{"$nulls":5},"DATE"]
[null,null,{"$f":"DRAW!$J$10","v":18},{"$nulls":5},{"$f":"Entries!$A$2","v":"20th June 2018"}]
[]
[{"$f":"DRAW!$D$11","v":0},{"$nulls":10},"L",null,{"$f":"DRAW!$D$10","v":0}]
[]
[{"$f":"DRAW!$E$11","v":0},{"$nulls":10},"Sk",null,{"$f":"DRAW!$E$10","v":0}]
[]
[]
[null,null,{"$f":"DRAW!$E$11","v":0},{"$nulls":3},{"$f":"DRAW!$E$10","v":0},{"$nulls":6},{"$f":"DRAW!$E$11","v":0},{"$nulls":3},{"$f":"DRAW!$E$10","v":0}]
["End",null,"Shots",null,"Total",null,"Shots",null,"Total",null,null,"End",null,"Shots",null,"Total",null,"Shots",null,"Total"]
[1,{"$nulls":10},9]
[2,{"$nulls":10},10]
[3,{"$nulls":10},11]
[4,{"$nulls":10},12]
[5,{"$nulls":10},13,{"$nulls":10},1]
[6,{"$nulls":10},14]
[7,{"$nulls":10},15]
[8]
[{"$nulls":3},"TEAM No.",{"$nulls":5},"Time",{"$nulls":7},"TEAM No."]
["Sign",null,null,{"$f":"DRAW!$C$11","v":7},{"$nulls":5},"Completed",{"$nulls":5},"Sign",null,{"$f":"DRAW!$C$10","v":6}]
["i",{"$nulls":14},"i"]
[{"$f":"Entries!$A$1","v":"2018 District 5 - Mixed Pairs"}]
["R O U N D  3"]
[null,null,"RINK",{"$nulls":5},"DATE"]
[null,null,{"$f":"DRAW!$J$13","v":15},{"$nulls":5},{"$f":"Entries!$A$2","v":"20th June 2018"}]
[]
[{"$f":"DRAW!$D$13","v":0},{"$nulls":10},"L",null,{"$f":"DRAW!$D$16","v":0}]
[]
[{"$f":"DRAW!$E$13","v":0},{"$nulls":10},"Sk",null,{"$f":"DRAW!$E$16","v":0}]
[]
[]
[null,null,{"$f":"DRAW!$E$13","v":0},{"$nulls":3},{"$f":"DRAW!$E$16","v":0},{"$nulls":6},{"$f":"DRAW!$E$13","v":0},{"$nulls":3},{"$f":"DRAW!$E$16","v":0}]
["End",null,"Shots",null,"Total",null,"Shots",null,"Total",null,null,"End",null,"Shots",null,"Total",null,"Shots",null,"Total"]
[1,{"$nulls":10},9]
[2,{"$nulls":10},10]
[3,{"$nulls":10},11]
[4,{"$nulls":10},12]
[5,{"$nulls":10},13,{"$nulls":10},1]
[6,{"$nulls":10},14]
[7,{"$nulls":10},15]
[8]
[{"$nulls":3},"TEAM No.",{"$nulls":5},"Time",{"$nulls":7},"TEAM No."]
["Sign",null,null,{"$f":"DRAW!$C$13","v":9},{"$nulls":5},"Completed",{"$nulls":5},"Sign",null,{"$f":"DRAW!$C$16","v":12}]
["i",{"$nulls":14},"i"]
[{"$f":"Entries!$A$1","v":"2018 District 5 - Mixed Pairs"}]
["R O U N D  3"]
[null,null,"RINK",{"$nulls":5},"DATE"]
[null,null,{"$f":"DRAW!$J$13","v":15},{"$nulls":5},{"$f":"Entries!$A$2","v":"20th June 2018"}]
[]
[{"$f":"DRAW!$D$16","v":0},{"$nulls":10},"L",null,{"$f":"DRAW!$D$13","v":0}]
[]
[{"$f":"DRAW!$E$16","v":0},{"$nulls":10},"Sk",null,{"$f":"DRAW!$E$13","v":0}]
[]
[]
[null,null,{"$f":"DRAW!$E$16","v":0},{"$nulls":3},{"$f":"DRAW!$E$13","v":0},{"$nulls":6},{"$f":"DRAW!$E$16","v":0},{"$nulls":3},{"$f":"DRAW!$E$13","v":0}]
["End",null,"Shots",null,"Total",null,"Shots",null,"Total",null,null,"End",null,"Shots",null,"Total",null,"Shots",null,"Total"]
[1,{"$nulls":10},9]
[2,{"$nulls":10},10]
[3,{"$nulls":10},11]
[4,{"$nulls":10},12]
[5,{"$nulls":10},13,{"$nulls":10},1]
[6,{"$nulls":10},14]
[7,{"$nulls":10},15]
[8]
[{"$nulls":3},"TEAM No.",{"$nulls":5},"Time",{"$nulls":7},"TEAM No."]
["Sign",null,null,{"$f":"DRAW!$C$16","v":12},{"$nulls":5},"Completed",{"$nulls":5},"Sign",null,{"$f":"DRAW!$C$13","v":9}]
["i",{"$nulls":14},"i"]
[{"$f":"Entries!$A$1","v":"2018 District 5 - Mixed Pairs"}]
["R O U N D  3"]
[null,null,"RINK",{"$nulls":5},"DATE"]
[null,null,{"$f":"DRAW!$J$15","v":16},{"$nulls":5},{"$f":"Entries!$A$2","v":"20th June 2018"}]
[]
[{"$f":"DRAW!$D$14","v":0},{"$nulls":10},"L",null,{"$f":"DRAW!$D$15","v":0}]
[]
[{"$f":"DRAW!$E$14","v":0},{"$nulls":10},"Sk",null,{"$f":"DRAW!$E$15","v":0}]
[]
[]
[null,null,{"$f":"DRAW!$E$14","v":0},{"$nulls":3},{"$f":"DRAW!$E$15","v":0},{"$nulls":6},{"$f":"DRAW!$E$14","v":0},{"$nulls":3},{"$f":"DRAW!$E$15","v":0}]
["End",null,"Shots",null,"Total",null,"Shots",null,"Total",null,null,"End",null,"Shots",null,"Total",null,"Shots",null,"Total"]
[1,{"$nulls":10},9]
[2,{"$nulls":10},10]
[3,{"$nulls":10},11]
[4,{"$nulls":10},12]
[5,{"$nulls":10},13,{"$nulls":10},1]
[6,{"$nulls":10},14]
[7,{"$nulls":10},15]
[8]
[{"$nulls":3},"TEAM No.",{"$nulls":5},"Time",{"$nulls":7},"TEAM No."]
["Sign",null,null,{"$f":"DRAW!$C$14","v":10},{"$nulls":5},"Completed",{"$nulls":5},"Sign",null,{"$f":"DRAW!$C$15","v":11}]
["i",{"$nulls":14},"i"]
[{"$f":"Entries!$A$1","v":"2018 District 5 - Mixed Pairs"}]
["R O U N D  3"]
[null,null,"RINK",{"$nulls":5},"DATE"]
[null,null,{"$f":"DRAW!$J$15","v":16},{"$nulls":5},{"$f":"Entries!$A$2","v":"20th June 2018"}]
[]
[{"$f":"DRAW!$D$15","v":0},{"$nulls":10},"L",null,{"$f":"DRAW!$D$14","v":0}]
[]
[{"$f":"DRAW!$E$15","v":0},{"$nulls":10},"Sk",null,{"$f":"DRAW!$E$14","v":0}]
[]
[]
[null,null,{"$f":"DRAW!$E$15","v":0},{"$nulls":3},{"$f":"DRAW!$E$14","v":0},{"$nulls":6},{"$f":"DRAW!$E$15","v":0},{"$nulls":3},{"$f":"DRAW!$E$14","v":0}]
["End",null,"Shots",null,"Total",null,"Shots",null,"Total",null,null,"End",null,"Shots",null,"Total",null,"Shots",null,"Total"]
[1,{"$nulls":10},9]
[2,{"$nulls":10},10]
[3,{"$nulls":10},11]
[4,{"$nulls":10},12]
[5,{"$nulls":10},13,{"$nulls":10},1]
[6,{"$nulls":10},14]
[7,{"$nulls":10},15]
[8]
[{"$nulls":3},"TEAM No.",{"$nulls":5},"Time",{"$nulls":7},"TEAM No."]
["Sign",null,null,{"$f":"DRAW!$C$15","v":11},{"$nulls":5},"Completed",{"$nulls":5},"Sign",null,{"$f":"DRAW!$C$14","v":10}]
["i",{"$nulls":14},"i"]
[{"$f":"Entries!$A$1","v":"2018 District 5 - Mixed Pairs"}]
["R O U N D  3"]
[null,null,"RINK",{"$nulls":5},"DATE"]
[null,null,{"$f":"DRAW!$J$17","v":3},{"$nulls":5},{"$f":"Entries!$A$2","v":"20th June 2018"}]
[]
[{"$f":"DRAW!$D$17","v":0},{"$nulls":10},"L",null,{"$f":"DRAW!$D$20","v":0}]
[]
[{"$f":"DRAW!$E$17","v":0},{"$nulls":10},"Sk",null,{"$f":"DRAW!$E$20","v":0}]
[]
[]
[null,null,{"$f":"DRAW!$E$17","v":0},{"$nulls":3},{"$f":"DRAW!$E$20","v":0},{"$nulls":6},{"$f":"DRAW!$E$17","v":0},{"$nulls":3},{"$f":"DRAW!$E$20","v":0}]
["End",null,"Shots",null,"Total",null,"Shots",null,"Total",null,null,"End",null,"Shots",null,"Total",null,"Shots",null,"Total"]
[1,{"$nulls":10},9]
[2,{"$nulls":10},10]
[3,{"$nulls":10},11]
[4,{"$nulls":10},12]
[5,{"$nulls":10},13,{"$nulls":10},1]
[6,{"$nulls":10},14]
[7,{"$nulls":10},15]
[8]
[{"$nulls":3},"TEAM No.",{"$nulls":5},"Time",{"$nulls":7},"TEAM No."]
["Sign",null,null,{"$f":"DRAW!$C$17","v":13},{"$nulls":5},"Completed",{"$nulls":5},"Sign",null,{"$f":"DRAW!$C$20","v":16}]
["i",{"$nulls":14},"i"]
[{"$f":"Entries!$A$1","v":"2018 District 5 - Mixed Pairs"}]
["R O U N D  3"]
[null,null,"RINK",{"$nulls":5},"DATE"]
[null,null,{"$f":"DRAW!$J$17","v":3},{"$nulls":5},{"$f":"Entries!$A$2","v":"20th June 2018"}]
[]
[{"$f":"DRAW!$D$20","v":0},{"$nulls":10},"L",null,{"$f":"DRAW!$D$17","v":0}]
[]
[{"$f":"DRAW!$E$20","v":0},{"$nulls":10},"Sk",null,{"$f":"DRAW!$E$17","v":0}]
[]
[]
[null,null,{"$f":"DRAW!$E$20","v":0},{"$nulls":3},{"$f":"DRAW!$E$17","v":0},{"$nulls":6},{"$f":"DRAW!$E$20","v":0},{"$nulls":3},{"$f":"DRAW!$E$17","v":0}]
["End",null,"Shots",null,"Total",null,"Shots",null,"Total",null,null,"End",null,"Shots",null,"Total",null,"Shots",null,"Total"]
[1,{"$nulls":10},9]
[2,{"$nulls":10},10]
[3,{"$nulls":10},11]
[4,{"$nulls":10},12]
[5,{"$nulls":10},13,{"$nulls":10},1]
[6,{"$nulls":10},14]
[7,{"$nulls":10},15]
[8]
[{"$nulls":3},"TEAM No.",{"$nulls":5},"Time",{"$nulls":7},"TEAM No."]
["Sign",null,null,{"$f":"DRAW!$C$20","v":16},{"$nulls":5},"Completed",{"$nulls":5},"Sign",null,{"$f":"DRAW!$C$17","v":13}]
["i",{"$nulls":14},"i"]
[{"$f":"Entries!$A$1","v":"2018 District 5 - Mixed Pairs"}]
["R O U N D  3"]
[null,null,"RINK",{"$nulls":5},"DATE"]
[null,null,{"$f":"DRAW!$J$19","v":4},{"$nulls":5},{"$f":"Entries!$A$2","v":"20th June 2018"}]
[]
[{"$f":"DRAW!$D$18","v":0},{"$nulls":10},"L",null,{"$f":"DRAW!$D$19","v":0}]
[]
[{"$f":"DRAW!$E$18","v":0},{"$nulls":10},"Sk",null,{"$f":"DRAW!$E$19","v":0}]
[]
[]
[null,null,{"$f":"DRAW!$E$18","v":0},{"$nulls":3},{"$f":"DRAW!$E$19","v":0},{"$nulls":6},{"$f":"DRAW!$E$18","v":0},{"$nulls":3},{"$f":"DRAW!$E$19","v":0}]
["End",null,"Shots",null,"Total",null,"Shots",null,"Total",null,null,"End",null,"Shots",null,"Total",null,"Shots",null,"Total"]
[1,{"$nulls":10},9]
[2,{"$nulls":10},10]
[3,{"$nulls":10},11]
[4,{"$nulls":10},12]
[5,{"$nulls":10},13,{"$nulls":10},1]
[6,{"$nulls":10},14]
[7,{"$nulls":10},15]
[8]
[{"$nulls":3},"TEAM No.",{"$nulls":5},"Time",{"$nulls":7},"TEAM No."]
["Sign",null,null,{"$f":"DRAW!$C$18","v":14},{"$nulls":5},"Completed",{"$nulls":5},"Sign",null,{"$f":"DRAW!$C$19","v":15}]
["i",{"$nulls":14},"i"]
[{"$f":"Entries!$A$1","v":"2018 District 5 - Mixed Pairs"}]
["R O U N D  3"]
[null,null,"RINK",{"$nulls":5},"DATE"]
[null,null,{"$f":"DRAW!$J$19","v":4},{"$nulls":5},{"$f":"Entries!$A$2","v":"20th June 2018"}]
[]
[{"$f":"DRAW!$D$19","v":0},{"$nulls":10},"L",null,{"$f":"DRAW!$D$18","v":0}]
[]
[{"$f":"DRAW!$E$19","v":0},{"$nulls":10},"Sk",null,{"$f":"DRAW!$E$18","v":0}]
[]
[]
[null,null,{"$f":"DRAW!$E$19","v":0},{"$nulls":3},{"$f":"DRAW!$E$18","v":0},{"$nulls":6},{"$f":"DRAW!$E$19","v":0},{"$nulls":3},{"$f":"DRAW!$E$18","v":0}]
["End",null,"Shots",null,"Total",null,"Shots",null,"Total",null,null,"End",null,"Shots",null,"Total",null,"Shots",null,"Total"]
[1,{"$nulls":10},9]
[2,{"$nulls":10},10]
[3,{"$nulls":10},11]
[4,{"$nulls":10},12]
[5,{"$nulls":10},13,{"$nulls":10},1]
[6,{"$nulls":10},14]
[7,{"$nulls":10},15]
[8]
[{"$nulls":3},"TEAM No.",{"$nulls":5},"Time",{"$nulls":7},"TEAM No."]
["Sign",null,null,{"$f":"DRAW!$C$19","v":15},{"$nulls":5},"Completed",{"$nulls":5},"Sign",null,{"$f":"DRAW!$C$18","v":14}]
["i",{"$nulls":14},"i"]
[{"$f":"Entries!$A$1","v":"2018 District 5 - Mixed Pairs"}]
["R O U N D  3"]
[null,null,"RINK",{"$nulls":5},"DATE"]
[null,null,{"$f":"DRAW!$J$21","v":1},{"$nulls":5},{"$f":"Entries!$A$2","v":"20th June 2018"}]
[]
[{"$f":"DRAW!$D$21","v":0},{"$nulls":10},"L",null,{"$f":"DRAW!$D$24","v":0}]
[]
[{"$f":"DRAW!$E$21","v":0},{"$nulls":10},"Sk",null,{"$f":"DRAW!$E$24","v":0}]
[]
[]
[null,null,{"$f":"DRAW!$E$21","v":0},{"$nulls":3},{"$f":"DRAW!$E$24","v":0},{"$nulls":6},{"$f":"DRAW!$E$21","v":0},{"$nulls":3},{"$f":"DRAW!$E$24","v":0}]
["End",null,"Shots",null,"Total",null,"Shots",null,"Total",null,null,"End",null,"Shots",null,"Total",null,"Shots",null,"Total"]
[1,{"$nulls":10},9]
[2,{"$nulls":10},10]
[3,{"$nulls":10},11]
[4,{"$nulls":10},12]
[5,{"$nulls":10},13,{"$nulls":10},1]
[6,{"$nulls":10},14]
[7,{"$nulls":10},15]
[8]
[{"$nulls":3},"TEAM No.",{"$nulls":5},"Time",{"$nulls":7},"TEAM No."]
["Sign",null,null,{"$f":"DRAW!$C$21","v":17},{"$nulls":5},"Completed",{"$nulls":5},"Sign",null,{"$f":"DRAW!$C$24","v":20}]
["i",{"$nulls":14},"i"]
[{"$f":"Entries!$A$1","v":"2018 District 5 - Mixed Pairs"}]
["R O U N D  3"]
[null,null,"RINK",{"$nulls":5},"DATE"]
[null,null,{"$f":"DRAW!$J$21","v":1},{"$nulls":5},{"$f":"Entries!$A$2","v":"20th June 2018"}]
[]
[{"$f":"DRAW!$D$24","v":0},{"$nulls":10},"L",null,{"$f":"DRAW!$D$21","v":0}]
[]
[{"$f":"DRAW!$E$24","v":0},{"$nulls":10},"Sk",null,{"$f":"DRAW!$E$21","v":0}]
[]
[]
[null,null,{"$f":"DRAW!$E$24","v":0},{"$nulls":3},{"$f":"DRAW!$E$21","v":0},{"$nulls":6},{"$f":"DRAW!$E$24","v":0},{"$nulls":3},{"$f":"DRAW!$E$21","v":0}]
["End",null,"Shots",null,"Total",null,"Shots",null,"Total",null,null,"End",null,"Shots",null,"Total",null,"Shots",null,"Total"]
[1,{"$nulls":10},9]
[2,{"$nulls":10},10]
[3,{"$nulls":10},11]
[4,{"$nulls":10},12]
[5,{"$nulls":10},13,{"$nulls":10},1]
[6,{"$nulls":10},14]
[7,{"$nulls":10},15]
[8]
[{"$nulls":3},"TEAM No.",{"$nulls":5},"Time",{"$nulls":7},"TEAM No."]
["Sign",null,null,{"$f":"DRAW!$C$24","v":20},{"$nulls":5},"Completed",{"$nulls":5},"Sign",null,{"$f":"DRAW!$C$21","v":17}]
["i",{"$nulls":14},"i"]
[{"$f":"Entries!$A$1","v":"2018 District 5 - Mixed Pairs"}]
["R O U N D  3"]
[null,null,"RINK",{"$nulls":5},"DATE"]
[null,null,{"$f":"DRAW!$J$23","v":2},{"$nulls":5},{"$f":"Entries!$A$2","v":"20th June 2018"}]
[]
[{"$f":"DRAW!$D$22","v":0},{"$nulls":10},"L",null,{"$f":"DRAW!$D$23","v":0}]
[]
[{"$f":"DRAW!$E$22","v":0},{"$nulls":10},"Sk",null,{"$f":"DRAW!$E$23","v":0}]
[]
[]
[null,null,{"$f":"DRAW!$E$22","v":0},{"$nulls":3},{"$f":"DRAW!$E$23","v":0},{"$nulls":6},{"$f":"DRAW!$E$22","v":0},{"$nulls":3},{"$f":"DRAW!$E$23","v":0}]
["End",null,"Shots",null,"Total",null,"Shots",null,"Total",null,null,"End",null,"Shots",null,"Total",null,"Shots",null,"Total"]
[1,{"$nulls":10},9]
[2,{"$nulls":10},10]
[3,{"$nulls":10},11]
[4,{"$nulls":10},12]
[5,{"$nulls":10},13,{"$nulls":10},1]
[6,{"$nulls":10},14]
[7,{"$nulls":10},15]
[8]
[{"$nulls":3},"TEAM No.",{"$nulls":5},"Time",{"$nulls":7},"TEAM No."]
["Sign",null,null,{"$f":"DRAW!$C$22","v":18},{"$nulls":5},"Completed",{"$nulls":5},"Sign",null,{"$f":"DRAW!$C$23","v":19}]
["i",{"$nulls":14},"i"]
[{"$f":"Entries!$A$1","v":"2018 District 5 - Mixed Pairs"}]
["R O U N D  3"]
[null,null,"RINK",{"$nulls":5},"DATE"]
[null,null,{"$f":"DRAW!$J$23","v":2},{"$nulls":5},{"$f":"Entries!$A$2","v":"20th June 2018"}]
[]
[{"$f":"DRAW!$D$23","v":0},{"$nulls":10},"L",null,{"$f":"DRAW!$D$22","v":0}]
[]
[{"$f":"DRAW!$E$23","v":0},{"$nulls":10},"Sk",null,{"$f":"DRAW!$E$22","v":0}]
[]
[]
[null,null,{"$f":"DRAW!$E$23","v":0},{"$nulls":3},{"$f":"DRAW!$E$22","v":0},{"$nulls":6},{"$f":"DRAW!$E$23","v":0},{"$nulls":3},{"$f":"DRAW!$E$22","v":0}]
["End",null,"Shots",null,"Total",null,"Shots",null,"Total",null,null,"End",null,"Shots",null,"Total",null,"Shots",null,"Total"]
[1,{"$nulls":10},9]
[2,{"$nulls":10},10]
[3,{"$nulls":10},11]
[4,{"$nulls":10},12]
[5,{"$nulls":10},13,{"$nulls":10},1]
[6,{"$nulls":10},14]
[7,{"$nulls":10},15]
[8]
[{"$nulls":3},"TEAM No.",{"$nulls":5},"Time",{"$nulls":7},"TEAM No."]
["Sign",null,null,{"$f":"DRAW!$C$23","v":19},{"$nulls":5},"Completed",{"$nulls":5},"Sign",null,{"$f":"DRAW!$C$22","v":18}]
["i",{"$nulls":14},"i"]
[{"$f":"Entries!$A$1","v":"2018 District 5 - Mixed Pairs"}]
["R O U N D  3"]
[null,null,"RINK",{"$nulls":5},"DATE"]
[null,null,{"$f":"DRAW!$J$25","v":7},{"$nulls":5},{"$f":"Entries!$A$2","v":"20th June 2018"}]
[]
[{"$f":"DRAW!$D$25","v":0},{"$nulls":10},"L",null,{"$f":"DRAW!$D$28","v":0}]
[]
[{"$f":"DRAW!$E$25","v":0},{"$nulls":10},"Sk",null,{"$f":"DRAW!$E$28","v":0}]
[]
[]
[null,null,{"$f":"DRAW!$E$25","v":0},{"$nulls":3},{"$f":"DRAW!$E$28","v":0},{"$nulls":6},{"$f":"DRAW!$E$25","v":0},{"$nulls":3},{"$f":"DRAW!$E$28","v":0}]
["End",null,"Shots",null,"Total",null,"Shots",null,"Total",null,null,"End",null,"Shots",null,"Total",null,"Shots",null,"Total"]
[1,{"$nulls":10},9]
[2,{"$nulls":10},10]
[3,{"$nulls":10},11]
[4,{"$nulls":10},12]
[5,{"$nulls":10},13,{"$nulls":10},1]
[6,{"$nulls":10},14]
[7,{"$nulls":10},15]
[8]
[{"$nulls":3},"TEAM No.",{"$nulls":5},"Time",{"$nulls":7},"TEAM No."]
["Sign",null,null,{"$f":"DRAW!$C$25","v":21},{"$nulls":5},"Completed",{"$nulls":5},"Sign",null,{"$f":"DRAW!$C$28","v":24}]
["i",{"$nulls":14},"i"]
[{"$f":"Entries!$A$1","v":"2018 District 5 - Mixed Pairs"}]
["R O U N D  3"]
[null,null,"RINK",{"$nulls":5},"DATE"]
[null,null,{"$f":"DRAW!$J$25","v":7},{"$nulls":5},{"$f":"Entries!$A$2","v":"20th June 2018"}]
[]
[{"$f":"DRAW!$D$28","v":0},{"$nulls":10},"L",null,{"$f":"DRAW!$D$25","v":0}]
[]
[{"$f":"DRAW!$E$28","v":0},{"$nulls":10},"Sk",null,{"$f":"DRAW!$E$25","v":0}]
[]
[]
[null,null,{"$f":"DRAW!$E$28","v":0},{"$nulls":3},{"$f":"DRAW!$E$25","v":0},{"$nulls":6},{"$f":"DRAW!$E$28","v":0},{"$nulls":3},{"$f":"DRAW!$E$25","v":0}]
["End",null,"Shots",null,"Total",null,"Shots",null,"Total",null,null,"End",null,"Shots",null,"Total",null,"Shots",null,"Total"]
[1,{"$nulls":10},9]
[2,{"$nulls":10},10]
[3,{"$nulls":10},11]
[4,{"$nulls":10},12]
[5,{"$nulls":10},13,{"$nulls":10},1]
[6,{"$nulls":10},14]
[7,{"$nulls":10},15]
[8]
[{"$nulls":3},"TEAM No.",{"$nulls":5},"Time",{"$nulls":7},"TEAM No."]
["Sign",null,null,{"$f":"DRAW!$C$28","v":24},{"$nulls":5},"Completed",{"$nulls":5},"Sign",null,{"$f":"DRAW!$C$25","v":21}]
["i",{"$nulls":14},"i"]
[{"$f":"Entries!$A$1","v":"2018 District 5 - Mixed Pairs"}]
["R O U N D  3"]
[null,null,"RINK",{"$nulls":5},"DATE"]
[null,null,{"$f":"DRAW!$J$27","v":14},{"$nulls":5},{"$f":"Entries!$A$2","v":"20th June 2018"}]
[]
[{"$f":"DRAW!$D$26","v":0},{"$nulls":10},"L",null,{"$f":"DRAW!$D$27","v":0}]
[]
[{"$f":"DRAW!$E$26","v":0},{"$nulls":10},"Sk",null,{"$f":"DRAW!$E$27","v":0}]
[]
[]
[null,null,{"$f":"DRAW!$E$26","v":0},{"$nulls":3},{"$f":"DRAW!$E$27","v":0},{"$nulls":6},{"$f":"DRAW!$E$26","v":0},{"$nulls":3},{"$f":"DRAW!$E$27","v":0}]
["End",null,"Shots",null,"Total",null,"Shots",null,"Total",null,null,"End",null,"Shots",null,"Total",null,"Shots",null,"Total"]
[1,{"$nulls":10},9]
[2,{"$nulls":10},10]
[3,{"$nulls":10},11]
[4,{"$nulls":10},12]
[5,{"$nulls":10},13,{"$nulls":10},1]
[6,{"$nulls":10},14]
[7,{"$nulls":10},15]
[8]
[{"$nulls":3},"TEAM No.",{"$nulls":5},"Time",{"$nulls":7},"TEAM No."]
["Sign",null,null,{"$f":"DRAW!$C$26","v":22},{"$nulls":5},"Completed",{"$nulls":5},"Sign",null,{"$f":"DRAW!$C$27","v":23}]
["i",{"$nulls":14},"i"]
[{"$f":"Entries!$A$1","v":"2018 District 5 - Mixed Pairs"}]
["R O U N D  3"]
[null,null,"RINK",{"$nulls":5},"DATE"]
[null,null,{"$f":"DRAW!$J$26","v":14},{"$nulls":5},{"$f":"Entries!$A$2","v":"20th June 2018"}]
[]
[{"$f":"DRAW!$D$27","v":0},{"$nulls":10},"L",null,{"$f":"DRAW!$D$26","v":0}]
[]
[{"$f":"DRAW!$E$27","v":0},{"$nulls":10},"Sk",null,{"$f":"DRAW!$E$26","v":0}]
[]
[]
[null,null,{"$f":"DRAW!$E$27","v":0},{"$nulls":3},{"$f":"DRAW!$E$26","v":0},{"$nulls":6},{"$f":"DRAW!$E$27","v":0},{"$nulls":3},{"$f":"DRAW!$E$26","v":0}]
["End",null,"Shots",null,"Total",null,"Shots",null,"Total",null,null,"End",null,"Shots",null,"Total",null,"Shots",null,"Total"]
[1,{"$nulls":10},9]
[2,{"$nulls":10},10]
[3,{"$nulls":10},11]
[4,{"$nulls":10},12]
[5,{"$nulls":10},13,{"$nulls":10},1]
[6,{"$nulls":10},14]
[7,{"$nulls":10},15]
[8]
[{"$nulls":3},"TEAM No.",{"$nulls":5},"Time",{"$nulls":7},"TEAM No."]
["Sign",null,null,{"$f":"DRAW!$C$27","v":23},{"$nulls":5},"Completed",{"$nulls":5},"Sign",null,{"$f":"DRAW!$C$26","v":22}]
["i",{"$nulls":14},"i"]
[{"$f":"Entries!$A$1","v":"2018 District 5 - Mixed Pairs"}]
["R O U N D  3"]
[null,null,"RINK",{"$nulls":5},"DATE"]
[null,null,{"$f":"DRAW!$J$29","v":10},{"$nulls":5},{"$f":"Entries!$A$2","v":"20th June 2018"}]
[]
[{"$f":"DRAW!$D$29","v":0},{"$nulls":10},"L",null,{"$f":"DRAW!$D$32","v":0}]
[]
[{"$f":"DRAW!$E$29","v":0},{"$nulls":10},"Sk",null,{"$f":"DRAW!$E$32","v":0}]
[]
[]
[null,null,{"$f":"DRAW!$E$29","v":0},{"$nulls":3},{"$f":"DRAW!$E$32","v":0},{"$nulls":6},{"$f":"DRAW!$E$29","v":0},{"$nulls":3},{"$f":"DRAW!$E$32","v":0}]
["End",null,"Shots",null,"Total",null,"Shots",null,"Total",null,null,"End",null,"Shots",null,"Total",null,"Shots",null,"Total"]
[1,{"$nulls":10},9]
[2,{"$nulls":10},10]
[3,{"$nulls":10},11]
[4,{"$nulls":10},12]
[5,{"$nulls":10},13,{"$nulls":10},1]
[6,{"$nulls":10},14]
[7,{"$nulls":10},15]
[8]
[{"$nulls":3},"TEAM No.",{"$nulls":5},"Time",{"$nulls":7},"TEAM No."]
["Sign",null,null,{"$f":"DRAW!$C$29","v":25},{"$nulls":5},"Completed",{"$nulls":5},"Sign",null,{"$f":"DRAW!$C$32","v":28}]
["i",{"$nulls":14},"i"]
[{"$f":"Entries!$A$1","v":"2018 District 5 - Mixed Pairs"}]
["R O U N D  3"]
[null,null,"RINK",{"$nulls":5},"DATE"]
[null,null,{"$f":"DRAW!$J$29","v":10},{"$nulls":5},{"$f":"Entries!$A$2","v":"20th June 2018"}]
[]
[{"$f":"DRAW!$D$32","v":0},{"$nulls":10},"L",null,{"$f":"DRAW!$D$29","v":0}]
[]
[{"$f":"DRAW!$E$32","v":0},{"$nulls":10},"Sk",null,{"$f":"DRAW!$E$29","v":0}]
[]
[]
[null,null,{"$f":"DRAW!$E$32","v":0},{"$nulls":3},{"$f":"DRAW!$E$29","v":0},{"$nulls":6},{"$f":"DRAW!$E$32","v":0},{"$nulls":3},{"$f":"DRAW!$E$29","v":0}]
["End",null,"Shots",null,"Total",null,"Shots",null,"Total",null,null,"End",null,"Shots",null,"Total",null,"Shots",null,"Total"]
[1,{"$nulls":10},9]
[2,{"$nulls":10},10]
[3,{"$nulls":10},11]
[4,{"$nulls":10},12]
[5,{"$nulls":10},13,{"$nulls":10},1]
[6,{"$nulls":10},14]
[7,{"$nulls":10},15]
[8]
[{"$nulls":3},"TEAM No.",{"$nulls":5},"Time",{"$nulls":7},"TEAM No."]
["Sign",null,null,{"$f":"DRAW!$C$32","v":28},{"$nulls":5},"Completed",{"$nulls":5},"Sign",null,{"$f":"DRAW!$C$29","v":25}]
["i",{"$nulls":14},"i"]
[{"$f":"Entries!$A$1","v":"2018 District 5 - Mixed Pairs"}]
["R O U N D  3"]
[null,null,"RINK",{"$nulls":5},"DATE"]
[null,null,{"$f":"DRAW!$J$31","v":11},{"$nulls":5},{"$f":"Entries!$A$2","v":"20th June 2018"}]
[]
[{"$f":"DRAW!$D$30","v":0},{"$nulls":10},"L",null,{"$f":"DRAW!$D$31","v":0}]
[]
[{"$f":"DRAW!$E$30","v":0},{"$nulls":10},"Sk",null,{"$f":"DRAW!$E$31","v":0}]
[]
[]
[null,null,{"$f":"DRAW!$E$30","v":0},{"$nulls":3},{"$f":"DRAW!$E$31","v":0},{"$nulls":6},{"$f":"DRAW!$E$30","v":0},{"$nulls":3},{"$f":"DRAW!$E$31","v":0}]
["End",null,"Shots",null,"Total",null,"Shots",null,"Total",null,null,"End",null,"Shots",null,"Total",null,"Shots",null,"Total"]
[1,{"$nulls":10},9]
[2,{"$nulls":10},10]
[3,{"$nulls":10},11]
[4,{"$nulls":10},12]
[5,{"$nulls":10},13,{"$nulls":10},1]
[6,{"$nulls":10},14]
[7,{"$nulls":10},15]
[8]
[{"$nulls":3},"TEAM No.",{"$nulls":5},"Time",{"$nulls":7},"TEAM No."]
["Sign",null,null,{"$f":"DRAW!$C$30","v":26},{"$nulls":5},"Completed",{"$nulls":5},"Sign",null,{"$f":"DRAW!$C$31","v":27}]
["i",{"$nulls":14},"i"]
[{"$f":"Entries!$A$1","v":"2018 District 5 - Mixed Pairs"}]
["R O U N D  3"]
[null,null,"RINK",{"$nulls":5},"DATE"]
[null,null,{"$f":"DRAW!$J$30","v":11},{"$nulls":5},{"$f":"Entries!$A$2","v":"20th June 2018"}]
[]
[{"$f":"DRAW!$D$31","v":0},{"$nulls":10},"L",null,{"$f":"DRAW!$D$30","v":0}]
[]
[{"$f":"DRAW!$E$31","v":0},{"$nulls":10},"Sk",null,{"$f":"DRAW!$E$30","v":0}]
[]
[]
[null,null,{"$f":"DRAW!$E$31","v":0},{"$nulls":3},{"$f":"DRAW!$E$30","v":0},{"$nulls":6},{"$f":"DRAW!$E$31","v":0},{"$nulls":3},{"$f":"DRAW!$E$30","v":0}]
["End",null,"Shots",null,"Total",null,"Shots",null,"Total",null,null,"End",null,"Shots",null,"Total",null,"Shots",null,"Total"]
[1,{"$nulls":10},9]
[2,{"$nulls":10},10]
[3,{"$nulls":10},11]
[4,{"$nulls":10},12]
[5,{"$nulls":10},13,{"$nulls":10},1]
[6,{"$nulls":10},14]
[7,{"$nulls":10},15]
[8]
[{"$nulls":3},"TEAM No.",{"$nulls":5},"Time",{"$nulls":7},"TEAM No."]
["Sign",null,null,{"$f":"DRAW!$C$31","v":27},{"$nulls":5},"Completed",{"$nulls":5},"Sign",null,{"$f":"DRAW!$C$30","v":26}]
["i",{"$nulls":14},"i"]
[{"$f":"Entries!$A$1","v":"2018 District 5 - Mixed Pairs"}]
["R O U N D  3"]
[null,null,"RINK",{"$nulls":5},"DATE"]
[null,null,{"$f":"DRAW!$J$33","v":12},{"$nulls":5},{"$f":"Entries!$A$2","v":"20th June 2018"}]
[]
[{"$f":"DRAW!$D$33","v":0},{"$nulls":10},"L",null,{"$f":"DRAW!$D$36","v":0}]
[]
[{"$f":"DRAW!$E$33","v":0},{"$nulls":10},"Sk",null,{"$f":"DRAW!$E$36","v":0}]
[]
[]
[null,null,{"$f":"DRAW!$E$33","v":0},{"$nulls":3},{"$f":"DRAW!$E$36","v":0},{"$nulls":6},{"$f":"DRAW!$E$33","v":0},{"$nulls":3},{"$f":"DRAW!$E$36","v":0}]
["End",null,"Shots",null,"Total",null,"Shots",null,"Total",null,null,"End",null,"Shots",null,"Total",null,"Shots",null,"Total"]
[1,{"$nulls":10},9]
[2,{"$nulls":10},10]
[3,{"$nulls":10},11]
[4,{"$nulls":10},12]
[5,{"$nulls":10},13,{"$nulls":10},1]
[6,{"$nulls":10},14]
[7,{"$nulls":10},15]
[8]
[{"$nulls":3},"TEAM No.",{"$nulls":5},"Time",{"$nulls":7},"TEAM No."]
["Sign",null,null,{"$f":"DRAW!$C$33","v":29},{"$nulls":5},"Completed",{"$nulls":5},"Sign",null,{"$f":"DRAW!$C$36","v":32}]
["i",{"$nulls":14},"i"]
[{"$f":"Entries!$A$1","v":"2018 District 5 - Mixed Pairs"}]
["R O U N D  3"]
[null,null,"RINK",{"$nulls":5},"DATE"]
[null,null,{"$f":"DRAW!$J$33","v":12},{"$nulls":5},{"$f":"Entries!$A$2","v":"20th June 2018"}]
[]
[{"$f":"DRAW!$D$36","v":0},{"$nulls":10},"L",null,{"$f":"DRAW!$D$33","v":0}]
[]
[{"$f":"DRAW!$E$36","v":0},{"$nulls":10},"Sk",null,{"$f":"DRAW!$E$33","v":0}]
[]
[]
[null,null,{"$f":"DRAW!$E$36","v":0},{"$nulls":3},{"$f":"DRAW!$E$33","v":0},{"$nulls":6},{"$f":"DRAW!$E$36","v":0},{"$nulls":3},{"$f":"DRAW!$E$33","v":0}]
["End",null,"Shots",null,"Total",null,"Shots",null,"Total",null,null,"End",null,"Shots",null,"Total",null,"Shots",null,"Total"]
[1,{"$nulls":10},9]
[2,{"$nulls":10},10]
[3,{"$nulls":10},11]
[4,{"$nulls":10},12]
[5,{"$nulls":10},13,{"$nulls":10},1]
[6,{"$nulls":10},14]
[7,{"$nulls":10},15]
[8]
[{"$nulls":3},"TEAM No.",{"$nulls":5},"Time",{"$nulls":7},"TEAM No."]
["Sign",null,null,{"$f":"DRAW!$C$36","v":32},{"$nulls":5},"Completed",{"$nulls":5},"Sign",null,{"$f":"DRAW!$C$33","v":29}]
["i",{"$nulls":14},"i"]
[{"$f":"Entries!$A$1","v":"2018 District 5 - Mixed Pairs"}]
["R O U N D  3"]
[null,null,"RINK",{"$nulls":5},"DATE"]
[null,null,{"$f":"DRAW!$J$35","v":13},{"$nulls":5},{"$f":"Entries!$A$2","v":"20th June 2018"}]
[]
[{"$f":"DRAW!$D$34","v":0},{"$nulls":10},"L",null,{"$f":"DRAW!$D$35","v":0}]
[]
[{"$f":"DRAW!$E$34","v":0},{"$nulls":10},"Sk",null,{"$f":"DRAW!$E$35","v":0}]
[]
[]
[null,null,{"$f":"DRAW!$E$34","v":0},{"$nulls":3},{"$f":"DRAW!$E$35","v":0},{"$nulls":6},{"$f":"DRAW!$E$34","v":0},{"$nulls":3},{"$f":"DRAW!$E$35","v":0}]
["End",null,"Shots",null,"Total",null,"Shots",null,"Total",null,null,"End",null,"Shots",null,"Total",null,"Shots",null,"Total"]
[1,{"$nulls":10},9]
[2,{"$nulls":10},10]
[3,{"$nulls":10},11]
[4,{"$nulls":10},12]
[5,{"$nulls":10},13,{"$nulls":10},1]
[6,{"$nulls":10},14]
[7,{"$nulls":10},15]
[8]
[{"$nulls":3},"TEAM No.",{"$nulls":5},"Time",{"$nulls":7},"TEAM No."]
["Sign",null,null,{"$f":"DRAW!$C$34","v":30},{"$nulls":5},"Completed",{"$nulls":5},"Sign",null,{"$f":"DRAW!$C$35","v":31}]
["i",{"$nulls":14},"i"]
[{"$f":"Entries!$A$1","v":"2018 District 5 - Mixed Pairs"}]
["R O U N D  3"]
[null,null,"RINK",{"$nulls":5},"DATE"]
[null,null,{"$f":"DRAW!$J$34","v":13},{"$nulls":5},{"$f":"Entries!$A$2","v":"20th June 2018"}]
[]
[{"$f":"DRAW!$D$35","v":0},{"$nulls":10},"L",null,{"$f":"DRAW!$D$34","v":0}]
[]
[{"$f":"DRAW!$E$35","v":0},{"$nulls":10},"Sk",null,{"$f":"DRAW!$E$34","v":0}]
[]
[]
[null,null,{"$f":"DRAW!$E$35","v":0},{"$nulls":3},{"$f":"DRAW!$E$34","v":0},{"$nulls":6},{"$f":"DRAW!$E$35","v":0},{"$nulls":3},{"$f":"DRAW!$E$34","v":0}]
["End",null,"Shots",null,"Total",null,"Shots",null,"Total",null,null,"End",null,"Shots",null,"Total",null,"Shots",null,"Total"]
[1,{"$nulls":10},9]
[2,{"$nulls":10},10]
[3,{"$nulls":10},11]
[4,{"$nulls":10},12]
[5,{"$nulls":10},13,{"$nulls":10},1]
[6,{"$nulls":10},14]
[7,{"$nulls":10},15]
[8]
[{"$nulls":3},"TEAM No.",{"$nulls":5},"Time",{"$nulls":7},"TEAM No."]
["Sign",null,null,{"$f":"DRAW!$C$35","v":31},{"$nulls":5},"Completed",{"$nulls":5},"Sign",null,{"$f":"DRAW!$C$34","v":30}]
["i",{"$nulls":14},"i"]
[{"$f":"Entries!$A$1","v":"2018 District 5 - Mixed Pairs"}]
["R O U N D  3"]
[null,null,"RINK",{"$nulls":5},"DATE"]
[null,null,{"$f":"DRAW!$J$37","v":8},{"$nulls":5},{"$f":"Entries!$A$2","v":"20th June 2018"}]
[]
[{"$f":"DRAW!$D$37","v":0},{"$nulls":10},"L",null,{"$f":"DRAW!$D$40","v":0}]
[]
[{"$f":"DRAW!$E$37","v":0},{"$nulls":10},"Sk",null,{"$f":"DRAW!$E$40","v":0}]
[]
[]
[null,null,{"$f":"DRAW!$E$37","v":0},{"$nulls":3},{"$f":"DRAW!$E$40","v":0},{"$nulls":6},{"$f":"DRAW!$E$37","v":0},{"$nulls":3},{"$f":"DRAW!$E$40","v":0}]
["End",null,"Shots",null,"Total",null,"Shots",null,"Total",null,null,"End",null,"Shots",null,"Total",null,"Shots",null,"Total"]
[1,{"$nulls":10},9]
[2,{"$nulls":10},10]
[3,{"$nulls":10},11]
[4,{"$nulls":10},12]
[5,{"$nulls":10},13,{"$nulls":10},1]
[6,{"$nulls":10},14]
[7,{"$nulls":10},15]
[8]
[{"$nulls":3},"TEAM No.",{"$nulls":5},"Time",{"$nulls":7},"TEAM No."]
["Sign",null,null,{"$f":"DRAW!$C$37","v":33},{"$nulls":5},"Completed",{"$nulls":5},"Sign",null,{"$f":"DRAW!$C$40","v":36}]
["i",{"$nulls":14},"i"]
[{"$f":"Entries!$A$1","v":"2018 District 5 - Mixed Pairs"}]
["R O U N D  3"]
[null,null,"RINK",{"$nulls":5},"DATE"]
[null,null,{"$f":"DRAW!$J$37","v":8},{"$nulls":5},{"$f":"Entries!$A$2","v":"20th June 2018"}]
[]
[{"$f":"DRAW!$D$40","v":0},{"$nulls":10},"L",null,{"$f":"DRAW!$D$37","v":0}]
[]
[{"$f":"DRAW!$E$40","v":0},{"$nulls":10},"Sk",null,{"$f":"DRAW!$E$37","v":0}]
[]
[]
[null,null,{"$f":"DRAW!$E$40","v":0},{"$nulls":3},{"$f":"DRAW!$E$37","v":0},{"$nulls":6},{"$f":"DRAW!$E$40","v":0},{"$nulls":3},{"$f":"DRAW!$E$37","v":0}]
["End",null,"Shots",null,"Total",null,"Shots",null,"Total",null,null,"End",null,"Shots",null,"Total",null,"Shots",null,"Total"]
[1,{"$nulls":10},9]
[2,{"$nulls":10},10]
[3,{"$nulls":10},11]
[4,{"$nulls":10},12]
[5,{"$nulls":10},13,{"$nulls":10},1]
[6,{"$nulls":10},14]
[7,{"$nulls":10},15]
[8]
[{"$nulls":3},"TEAM No.",{"$nulls":5},"Time",{"$nulls":7},"TEAM No."]
["Sign",null,null,{"$f":"DRAW!$C$40","v":36},{"$nulls":5},"Completed",{"$nulls":5},"Sign",null,{"$f":"DRAW!$C$37","v":33}]
["i",{"$nulls":14},"i"]
[{"$f":"Entries!$A$1","v":"2018 District 5 - Mixed Pairs"}]
["R O U N D  3"]
[null,null,"RINK",{"$nulls":5},"DATE"]
[null,null,{"$f":"DRAW!$J$39","v":9},{"$nulls":5},{"$f":"Entries!$A$2","v":"20th June 2018"}]
[]
[{"$f":"DRAW!$D$38","v":0},{"$nulls":10},"L",null,{"$f":"DRAW!$D$39","v":0}]
[]
[{"$f":"DRAW!$E$38","v":0},{"$nulls":10},"Sk",null,{"$f":"DRAW!$E$39","v":0}]
[]
[]
[null,null,{"$f":"DRAW!$E$38","v":0},{"$nulls":3},{"$f":"DRAW!$E$39","v":0},{"$nulls":6},{"$f":"DRAW!$E$38","v":0},{"$nulls":3},{"$f":"DRAW!$E$39","v":0}]
["End",null,"Shots",null,"Total",null,"Shots",null,"Total",null,null,"End",null,"Shots",null,"Total",null,"Shots",null,"Total"]
[1,{"$nulls":10},9]
[2,{"$nulls":10},10]
[3,{"$nulls":10},11]
[4,{"$nulls":10},12]
[5,{"$nulls":10},13,{"$nulls":10},1]
[6,{"$nulls":10},14]
[7,{"$nulls":10},15]
[8]
[{"$nulls":3},"TEAM No.",{"$nulls":5},"Time",{"$nulls":7},"TEAM No."]
["Sign",null,null,{"$f":"DRAW!$C$38","v":34},{"$nulls":5},"Completed",{"$nulls":5},"Sign",null,{"$f":"DRAW!$C$39","v":35}]
["i",{"$nulls":14},"i"]
[{"$f":"Entries!$A$1","v":"2018 District 5 - Mixed Pairs"}]
["R O U N D  3"]
[null,null,"RINK",{"$nulls":5},"DATE"]
[null,null,{"$f":"DRAW!$J$38","v":9},{"$nulls":5},{"$f":"Entries!$A$2","v":"20th June 2018"}]
[]
[{"$f":"DRAW!$D$39","v":0},{"$nulls":10},"L",null,{"$f":"DRAW!$D$38","v":0}]
[]
[{"$f":"DRAW!$E$39","v":0},{"$nulls":10},"Sk",null,{"$f":"DRAW!$E$38","v":0}]
[]
[]
[null,null,{"$f":"DRAW!$E$39","v":0},{"$nulls":3},{"$f":"DRAW!$E$38","v":0},{"$nulls":6},{"$f":"DRAW!$E$39","v":0},{"$nulls":3},{"$f":"DRAW!$E$38","v":0}]
["End",null,"Shots",null,"Total",null,"Shots",null,"Total",null,null,"End",null,"Shots",null,"Total",null,"Shots",null,"Total"]
[1,{"$nulls":10},9]
[2,{"$nulls":10},10]
[3,{"$nulls":10},11]
[4,{"$nulls":10},12]
[5,{"$nulls":10},13,{"$nulls":10},1]
[6,{"$nulls":10},14]
[7,{"$nulls":10},15]
[8]
[{"$nulls":3},"TEAM No.",{"$nulls":5},"Time",{"$nulls":7},"TEAM No."]
["Sign",null,null,{"$f":"DRAW!$C$39","v":35},{"$nulls":5},"Completed",{"$nulls":5},"Sign",null,{"$f":"DRAW!$C$38","v":34}]
["i",{"$nulls":14},"i"]
[{"$f":"Entries!$A$1","v":"2018 District 5 - Mixed Pairs"}]
["R O U N D  3"]
[null,null,"RINK",{"$nulls":5},"DATE"]
[null,null,{"$f":"DRAW!$J$41","v":5},{"$nulls":5},{"$f":"Entries!$A$2","v":"20th June 2018"}]
[]
[{"$f":"DRAW!$D$41","v":0},{"$nulls":10},"L",null,{"$f":"DRAW!$D$44","v":0}]
[]
[{"$f":"DRAW!$E$41","v":0},{"$nulls":10},"Sk",null,{"$f":"DRAW!$E$44","v":0}]
[]
[]
[null,null,{"$f":"DRAW!$E$41","v":0},{"$nulls":3},{"$f":"DRAW!$E$44","v":0},{"$nulls":6},{"$f":"DRAW!$E$41","v":0},{"$nulls":3},{"$f":"DRAW!$E$44","v":0}]
["End",null,"Shots",null,"Total",null,"Shots",null,"Total",null,null,"End",null,"Shots",null,"Total",null,"Shots",null,"Total"]
[1,{"$nulls":10},9]
[2,{"$nulls":10},10]
[3,{"$nulls":10},11]
[4,{"$nulls":10},12]
[5,{"$nulls":10},13,{"$nulls":10},1]
[6,{"$nulls":10},14]
[7,{"$nulls":10},15]
[8]
[{"$nulls":3},"TEAM No.",{"$nulls":5},"Time",{"$nulls":7},"TEAM No."]
["Sign",null,null,{"$f":"DRAW!$C$41","v":37},{"$nulls":5},"Completed",{"$nulls":5},"Sign",null,{"$f":"DRAW!$C$44","v":40}]
["i",{"$nulls":14},"i"]
[{"$f":"Entries!$A$1","v":"2018 District 5 - Mixed Pairs"}]
["R O U N D  3"]
[null,null,"RINK",{"$nulls":5},"DATE"]
[null,null,{"$f":"DRAW!$J$41","v":5},{"$nulls":5},{"$f":"Entries!$A$2","v":"20th June 2018"}]
[]
[{"$f":"DRAW!$D$44","v":0},{"$nulls":10},"L",null,{"$f":"DRAW!$D$41","v":0}]
[]
[{"$f":"DRAW!$E$44","v":0},{"$nulls":10},"Sk",null,{"$f":"DRAW!$E$41","v":0}]
[]
[]
[null,null,{"$f":"DRAW!$E$44","v":0},{"$nulls":3},{"$f":"DRAW!$E$41","v":0},{"$nulls":6},{"$f":"DRAW!$E$44","v":0},{"$nulls":3},{"$f":"DRAW!$E$41","v":0}]
["End",null,"Shots",null,"Total",null,"Shots",null,"Total",null,null,"End",null,"Shots",null,"Total",null,"Shots",null,"Total"]
[1,{"$nulls":10},9]
[2,{"$nulls":10},10]
[3,{"$nulls":10},11]
[4,{"$nulls":10},12]
[5,{"$nulls":10},13,{"$nulls":10},1]
[6,{"$nulls":10},14]
[7,{"$nulls":10},15]
[8]
[{"$nulls":3},"TEAM No.",{"$nulls":5},"Time",{"$nulls":7},"TEAM No."]
["Sign",null,null,{"$f":"DRAW!$C$44","v":40},{"$nulls":5},"Completed",{"$nulls":5},"Sign",null,{"$f":"DRAW!$C$41","v":37}]
["i",{"$nulls":14},"i"]
[{"$f":"Entries!$A$1","v":"2018 District 5 - Mixed Pairs"}]
["R O U N D  3"]
[null,null,"RINK",{"$nulls":5},"DATE"]
[null,null,{"$f":"DRAW!$J$43","v":6},{"$nulls":5},{"$f":"Entries!$A$2","v":"20th June 2018"}]
[]
[{"$f":"DRAW!$D$42","v":0},{"$nulls":10},"L",null,{"$f":"DRAW!$D$43","v":0}]
[]
[{"$f":"DRAW!$E$42","v":0},{"$nulls":10},"Sk",null,{"$f":"DRAW!$E$43","v":0}]
[]
[]
[null,null,{"$f":"DRAW!$E$42","v":0},{"$nulls":3},{"$f":"DRAW!$E$43","v":0},{"$nulls":6},{"$f":"DRAW!$E$42","v":0},{"$nulls":3},{"$f":"DRAW!$E$43","v":0}]
["End",null,"Shots",null,"Total",null,"Shots",null,"Total",null,null,"End",null,"Shots",null,"Total",null,"Shots",null,"Total"]
[1,{"$nulls":10},9]
[2,{"$nulls":10},10]
[3,{"$nulls":10},11]
[4,{"$nulls":10},12]
[5,{"$nulls":10},13,{"$nulls":10},1]
[6,{"$nulls":10},14]
[7,{"$nulls":10},15]
[8]
[{"$nulls":3},"TEAM No.",{"$nulls":5},"Time",{"$nulls":7},"TEAM No."]
["Sign",null,null,{"$f":"DRAW!$C$42","v":38},{"$nulls":5},"Completed",{"$nulls":5},"Sign",null,{"$f":"DRAW!$C$43","v":39}]
["i",{"$nulls":14},"i"]
[{"$f":"Entries!$A$1","v":"2018 District 5 - Mixed Pairs"}]
["R O U N D  3"]
[null,null,"RINK",{"$nulls":5},"DATE"]
[null,null,{"$f":"DRAW!$J$42","v":6},{"$nulls":5},{"$f":"Entries!$A$2","v":"20th June 2018"}]
[]
[{"$f":"DRAW!$D$43","v":0},{"$nulls":10},"L",null,{"$f":"DRAW!$D$42","v":0}]
[]
[{"$f":"DRAW!$E$43","v":0},{"$nulls":10},"Sk",null,{"$f":"DRAW!$E$42","v":0}]
[]
[]
[null,null,{"$f":"DRAW!$E$43","v":0},{"$nulls":3},{"$f":"DRAW!$E$42","v":0},{"$nulls":6},{"$f":"DRAW!$E$43","v":0},{"$nulls":3},{"$f":"DRAW!$E$42","v":0}]
["End",null,"Shots",null,"Total",null,"Shots",null,"Total",null,null,"End",null,"Shots",null,"Total",null,"Shots",null,"Total"]
[1,{"$nulls":10},9]
[2,{"$nulls":10},10]
[3,{"$nulls":10},11]
[4,{"$nulls":10},12]
[5,{"$nulls":10},13,{"$nulls":10},1]
[6,{"$nulls":10},14]
[7,{"$nulls":10},15]
[8]
[{"$nulls":3},"TEAM No.",{"$nulls":5},"Time",{"$nulls":7},"TEAM No."]
["Sign",null,null,{"$f":"DRAW!$C$43","v":39},{"$nulls":5},"Completed",{"$nulls":5},"Sign",null,{"$f":"DRAW!$C$42","v":38}]
["i",{"$nulls":14},"i"]

{"sheet":"Cards rear","index":9,"n_rows":492,"n_cols":10,"rows_kept":492,"hidden":true,"merged":[[16,0,16,1],[16,5,16,9],[18,1,18,2],[18,3,18,4],[18,6,18,7],[18,8,18,9],[33,0,33,1],[33,5,33,9],[35,1,35,2],[35,3,35,4],[35,6,35,7],[35,8,35,9],[50,0,50,1],[50,5,50,9],[52,1,52,2],[52,3,52,4],[52,6,52,7],[52,8,52,9],[67,0,67,1],[67,5,67,9],[69,1,69,2],[69,3,69,4],[69,6,69,7],[69,8,69,9],[84,0,84,1],[84,5,84,9],[86,1,86,2],[86,3,86,4],[86,6,86,7],[86,8,86,9],[101,0,101,1],[101,5,101,9],[103,1,103,2],[103,3,103,4],[103,6,103,7],[103,8,103,9],[118,0,118,1],[118,5,118,9],[120,1,120,2],[120,3,120,4],[120,6,120,7],[120,8,120,9],[135,0,135,1],[135,5,135,9],[137,1,137,2],[137,3,137,4],[137,6,137,7],[137,8,137,9],[152,0,152,1],[152,5,152,9],[154,1,154,2],[154,3,154,4],[154,6,154,7],[154,8,154,9],[169,0,169,1],[169,5,169,9],[171,1,171,2],[171,3,171,4],[171,6,171,7],[171,8,171,9],[186,0,186,1],[186,5,186,9],[188,1,188,2],[188,3,188,4],[188,6,188,7],[188,8,188,9],[203,0,203,1],[203,5,203,9],[205,1,205,2],[205,3,205,4],[205,6,205,7],[205,8,205,9],[220,0,220,1],[220,5,220,9],[222,1,222,2],[222,3,222,4],[222,6,222,7],[222,8,222,9],[237,0,237,1],[237,5,237,9],[239,1,239,2],[239,3,239,4],[239,6,239,7],[239,8,239,9],[254,0,254,1],[254,5,254,9],[256,1,256,2],[256,3,256,4],[256,6,256,7],[256,8,256,9],[271,0,271,1],[271,5,271,9],[273,1,273,2],[273,3,273,4],[273,6,273,7],[273,8,273,9],[288,0,288,1],[288,5,288,9],[290,1,290,2],[290,3,290,4],[290,6,290,7],[290,8,290,9],[305,0,305,1],[305,5,305,9],[307,1,307,2],[307,3,307,4],[307,6,307,7],[307,8,307,9],[322,0,322,1],[322,5,322,9],[324,1,324,2],[324,3,324,4],[324,6,324,7],[324,8,324,9],[339,0,339,1],[339,5,339,9],[341,1,341,2],[341,3,341,4],[341,6,341,7],[341,8,341,9],[356,0,356,1],[356,5,356,9],[358,1,358,2],[358,3,358,4],[358,6,358,7],[358,8,358,9],[373,0,373,1],[373,5,373,9],[375,1,375,2],[375,3,375,4],[375,6,375,7],[375,8,375,9],[390,0,390,1],[390,5,390,9],[392,1,392,2],[392,3,392,4],[392,6,392,7],[392,8,392,9],[407,0,407,1],[407,5,407,9],[409,1,409,2],[409,3,409,4],[409,6,409,7],[409,8,409,9],[424,0,424,1],[424,5,424,9],[426,1,426,2],[426,3,426,4],[426,6,426,7],[426,8,426,9],[441,0,441,1],[441,5,441,9],[443,1,443,2],[443,3,443,4],[443,6,443,7],[443,8,443,9],[458,0,458,1],[458,5,458,9],[460,1,460,2],[460,3,460,4],[460,6,460,7],[460,8,460,9],[475,0,475,1],[475,5,475,9],[477,1,477,2],[477,3,477,4],[477,6,477,7],[477,8,477,9]]}
["Mixed Pairs Championships"]
["CONDITIONS OF PLAY:"]
["*Sectional play of 15 ends, 4 bowls each player (2X2X2X2)"]
["*2 1/2 hours' time limited, (Trial ends not included)"]
["*No dead ends, jack to be respotted on \"T\""]
["*3 points awarded for match win, 1 point awarded for match draw. If points are equal after all matches the team with the greatest margin will be declared the winner and if still equal the team with the least shots scored against."]
["*Section winners will play in a knockout or round robin to achieve a District winner. (Dependant on entries)"]
["*A female (WBNSW) and a male(BNSW) player will play in each team and either player can play skip. Players do not need to belong to the same Club, but entry is from the Club/District of the female bowler."]
["*Regional playoffs - a round robin or knock-out of all District winners with the team with the best overall result proceeding to State Playoffs."]
["*Play should be either twilight/evening or weekends to allow flexibility and entry by players who are in the workforce or students."]
[]
[]
[]
[]
[]
[]
["RINK",null,{"$f":"[3]CARDS!$C$30","v":0},null,"SKIP",{"$f":"[3]CARDS!$A$38","v":3}]
[1]
[null,{"$f":"[3]CARDS!$A$38","v":3},null,{"$f":"[3]CARDS!$N$38","v":0},null,null,{"$f":"[3]CARDS!$A$38","v":3},null,{"$f":"[3]CARDS!$N$38","v":0}]
["End","Shots","Total","Shots","Total","End","Shots","Total","Shots","Total"]
[1,{"$nulls":4},14]
[2,{"$nulls":4},15]
[3,{"$nulls":4},16]
[4,{"$nulls":4},17]
[5,{"$nulls":4},18]
[6,{"$nulls":4},19]
[7,{"$nulls":4},20]
[8,{"$nulls":4},21]
[9,{"$nulls":4},22]
[10,{"$nulls":4},23]
[11,{"$nulls":4},24]
[12,{"$nulls":4},25]
[13,{"$nulls":4},"T"]
["RINK",null,{"$f":"[3]CARDS!$C$53","v":0},null,"SKIP",{"$f":"[3]CARDS!$A$61","v":3}]
[1]
[null,{"$f":"[3]CARDS!$A$61","v":3},null,{"$f":"[3]CARDS!$N$61","v":0},null,null,{"$f":"[3]CARDS!$A$61","v":3},null,{"$f":"[3]CARDS!$N$61","v":0}]
["End","Shots","Total","Shots","Total","End","Shots","Total","Shots","Total"]
[1,{"$nulls":4},14]
[2,{"$nulls":4},15]
[3,{"$nulls":4},16]
[4,{"$nulls":4},17]
[5,{"$nulls":4},18]
[6,{"$nulls":4},19]
[7,{"$nulls":4},20]
[8,{"$nulls":4},21]
[9,{"$nulls":4},22]
[10,{"$nulls":4},23]
[11,{"$nulls":4},24]
[12,{"$nulls":4},25]
[13,{"$nulls":4},"T"]
["RINK",null,{"$f":"[3]CARDS!$C$76","v":0},null,"SKIP",{"$f":"[3]CARDS!$A$84","v":3}]
[1]
[null,{"$f":"[3]CARDS!$A$84","v":3},null,{"$f":"[3]CARDS!$N$84","v":0},null,null,{"$f":"[3]CARDS!$A$84","v":3},null,{"$f":"[3]CARDS!$N$84","v":0}]
["End","Shots","Total","Shots","Total","End","Shots","Total","Shots","Total"]
[1,{"$nulls":4},14]
[2,{"$nulls":4},15]
[3,{"$nulls":4},16]
[4,{"$nulls":4},17]
[5,{"$nulls":4},18]
[6,{"$nulls":4},19]
[7,{"$nulls":4},20]
[8,{"$nulls":4},21]
[9,{"$nulls":4},22]
[10,{"$nulls":4},23]
[11,{"$nulls":4},24]
[12,{"$nulls":4},25]
[13,{"$nulls":4},"T"]
["RINK",null,{"$f":"[3]CARDS!$C$99","v":0},null,"SKIP",{"$f":"[3]CARDS!$A$107","v":3}]
[1]
[null,{"$f":"[3]CARDS!$A$107","v":3},null,{"$f":"[3]CARDS!$N$107","v":0},null,null,{"$f":"[3]CARDS!$A$107","v":3},null,{"$f":"[3]CARDS!$N$107","v":0}]
["End","Shots","Total","Shots","Total","End","Shots","Total","Shots","Total"]
[1,{"$nulls":4},14]
[2,{"$nulls":4},15]
[3,{"$nulls":4},16]
[4,{"$nulls":4},17]
[5,{"$nulls":4},18]
[6,{"$nulls":4},19]
[7,{"$nulls":4},20]
[8,{"$nulls":4},21]
[9,{"$nulls":4},22]
[10,{"$nulls":4},23]
[11,{"$nulls":4},24]
[12,{"$nulls":4},25]
[13,{"$nulls":4},"T"]
["RINK",null,{"$f":"[3]CARDS!$C$122","v":0},null,"SKIP",{"$f":"[3]CARDS!$A$130","v":3}]
[1]
[null,{"$f":"[3]CARDS!$A$130","v":3},null,{"$f":"[3]CARDS!$N$130","v":0},null,null,{"$f":"[3]CARDS!$A$130","v":3},null,{"$f":"[3]CARDS!$N$130","v":0}]
["End","Shots","Total","Shots","Total","End","Shots","Total","Shots","Total"]
[1,{"$nulls":4},14]
[2,{"$nulls":4},15]
[3,{"$nulls":4},16]
[4,{"$nulls":4},17]
[5,{"$nulls":4},18]
[6,{"$nulls":4},19]
[7,{"$nulls":4},20]
[8,{"$nulls":4},21]
[9,{"$nulls":4},22]
[10,{"$nulls":4},23]
[11,{"$nulls":4},24]
[12,{"$nulls":4},25]
[13,{"$nulls":4},"T"]
["RINK",null,{"$f":"[3]CARDS!$C$145","v":0},null,"SKIP",{"$f":"[3]CARDS!$A$153","v":3}]
[1]
[null,{"$f":"[3]CARDS!$A$153","v":3},null,{"$f":"[3]CARDS!$N$153","v":0},null,null,{"$f":"[3]CARDS!$A$153","v":3},null,{"$f":"[3]CARDS!$N$153","v":0}]
["End","Shots","Total","Shots","Total","End","Shots","Total","Shots","Total"]
[1,{"$nulls":4},14]
[2,{"$nulls":4},15]
[3,{"$nulls":4},16]
[4,{"$nulls":4},17]
[5,{"$nulls":4},18]
[6,{"$nulls":4},19]
[7,{"$nulls":4},20]
[8,{"$nulls":4},21]
[9,{"$nulls":4},22]
[10,{"$nulls":4},23]
[11,{"$nulls":4},24]
[12,{"$nulls":4},25]
[13,{"$nulls":4},"T"]
["RINK",null,{"$f":"[3]CARDS!$C$168","v":0},null,"SKIP",{"$f":"[3]CARDS!$A$176","v":3}]
[1]
[null,{"$f":"[3]CARDS!$A$176","v":3},null,{"$f":"[3]CARDS!$N$176","v":0},null,null,{"$f":"[3]CARDS!$A$176","v":3},null,{"$f":"[3]CARDS!$N$176","v":0}]
["End","Shots","Total","Shots","Total","End","Shots","Total","Shots","Total"]
[1,{"$nulls":4},14]
[2,{"$nulls":4},15]
[3,{"$nulls":4},16]
[4,{"$nulls":4},17]
[5,{"$nulls":4},18]
[6,{"$nulls":4},19]
[7,{"$nulls":4},20]
[8,{"$nulls":4},21]
[9,{"$nulls":4},22]
[10,{"$nulls":4},23]
[11,{"$nulls":4},24]
[12,{"$nulls":4},25]
[13,{"$nulls":4},"T"]
["RINK",null,{"$f":"[3]CARDS!$C$191","v":0},null,"SKIP",{"$f":"[3]CARDS!$A$199","v":3}]
[1]
[null,{"$f":"[3]CARDS!$A$199","v":3},null,{"$f":"[3]CARDS!$N$199","v":0},null,null,{"$f":"[3]CARDS!$A$199","v":3},null,{"$f":"[3]CARDS!$N$199","v":0}]
["End","Shots","Total","Shots","Total","End","Shots","Total","Shots","Total"]
[1,{"$nulls":4},14]
[2,{"$nulls":4},15]
[3,{"$nulls":4},16]
[4,{"$nulls":4},17]
[5,{"$nulls":4},18]
[6,{"$nulls":4},19]
[7,{"$nulls":4},20]
[8,{"$nulls":4},21]
[9,{"$nulls":4},22]
[10,{"$nulls":4},23]
[11,{"$nulls":4},24]
[12,{"$nulls":4},25]
[13,{"$nulls":4},"T"]
["RINK",null,{"$f":"[3]CARDS!$C$214","v":0},null,"SKIP",{"$f":"[3]CARDS!$A$222","v":3}]
[1]
[null,{"$f":"[3]CARDS!$A$222","v":3},null,{"$f":"[3]CARDS!$N$222","v":0},null,null,{"$f":"[3]CARDS!$A$222","v":3},null,{"$f":"[3]CARDS!$N$222","v":0}]
["End","Shots","Total","Shots","Total","End","Shots","Total","Shots","Total"]
[1,{"$nulls":4},14]
[2,{"$nulls":4},15]
[3,{"$nulls":4},16]
[4,{"$nulls":4},17]
[5,{"$nulls":4},18]
[6,{"$nulls":4},19]
[7,{"$nulls":4},20]
[8,{"$nulls":4},21]
[9,{"$nulls":4},22]
[10,{"$nulls":4},23]
[11,{"$nulls":4},24]
[12,{"$nulls":4},25]
[13,{"$nulls":4},"T"]
["RINK",null,{"$f":"[3]CARDS!$C$237","v":0},null,"SKIP",{"$f":"[3]CARDS!$A$245","v":3}]
[1]
[null,{"$f":"[3]CARDS!$A$245","v":3},null,{"$f":"[3]CARDS!$N$245","v":0},null,null,{"$f":"[3]CARDS!$A$245","v":3},null,{"$f":"[3]CARDS!$N$245","v":0}]
["End","Shots","Total","Shots","Total","End","Shots","Total","Shots","Total"]
[1,{"$nulls":4},14]
[2,{"$nulls":4},15]
[3,{"$nulls":4},16]
[4,{"$nulls":4},17]
[5,{"$nulls":4},18]
[6,{"$nulls":4},19]
[7,{"$nulls":4},20]
[8,{"$nulls":4},21]
[9,{"$nulls":4},22]
[10,{"$nulls":4},23]
[11,{"$nulls":4},24]
[12,{"$nulls":4},25]
[13,{"$nulls":4},"T"]
["RINK",null,{"$f":"[3]CARDS!$C$260","v":0},null,"SKIP",{"$f":"[3]CARDS!$A$268","v":3}]
[1]
[null,{"$f":"[3]CARDS!$A$268","v":3},null,{"$f":"[3]CARDS!$N$268","v":0},null,null,{"$f":"[3]CARDS!$A$268","v":3},null,{"$f":"[3]CARDS!$N$268","v":0}]
["End","Shots","Total","Shots","Total","End","Shots","Total","Shots","Total"]
[1,{"$nulls":4},14]
[2,{"$nulls":4},15]
[3,{"$nulls":4},16]
[4,{"$nulls":4},17]
[5,{"$nulls":4},18]
[6,{"$nulls":4},19]
[7,{"$nulls":4},20]
[8,{"$nulls":4},21]
[9,{"$nulls":4},22]
[10,{"$nulls":4},23]
[11,{"$nulls":4},24]
[12,{"$nulls":4},25]
[13,{"$nulls":4},"T"]
["RINK",null,{"$f":"[3]CARDS!$C$283","v":0},null,"SKIP",{"$f":"[3]CARDS!$A$291","v":3}]
[1]
[null,{"$f":"[3]CARDS!$A$291","v":3},null,{"$f":"[3]CARDS!$N$291","v":0},null,null,{"$f":"[3]CARDS!$A$291","v":3},null,{"$f":"[3]CARDS!$N$291","v":0}]
["End","Shots","Total","Shots","Total","End","Shots","Total","Shots","Total"]
[1,{"$nulls":4},14]
[2,{"$nulls":4},15]
[3,{"$nulls":4},16]
[4,{"$nulls":4},17]
[5,{"$nulls":4},18]
[6,{"$nulls":4},19]
[7,{"$nulls":4},20]
[8,{"$nulls":4},21]
[9,{"$nulls":4},22]
[10,{"$nulls":4},23]
[11,{"$nulls":4},24]
[12,{"$nulls":4},25]
[13,{"$nulls":4},"T"]
["RINK",null,{"$f":"[3]CARDS!$C$306","v":0},null,"SKIP",{"$f":"[3]CARDS!$A$314","v":3}]
[1]
[null,{"$f":"[3]CARDS!$A$314","v":3},null,{"$f":"[3]CARDS!$N$314","v":0},null,null,{"$f":"[3]CARDS!$A$314","v":3},null,{"$f":"[3]CARDS!$N$314","v":0}]
["End","Shots","Total","Shots","Total","End","Shots","Total","Shots","Total"]
[1,{"$nulls":4},14]
[2,{"$nulls":4},15]
[3,{"$nulls":4},16]
[4,{"$nulls":4},17]
[5,{"$nulls":4},18]
[6,{"$nulls":4},19]
[7,{"$nulls":4},20]
[8,{"$nulls":4},21]
[9,{"$nulls":4},22]
[10,{"$nulls":4},23]
[11,{"$nulls":4},24]
[12,{"$nulls":4},25]
[13,{"$nulls":4},"T"]
["RINK",null,{"$f":"[3]CARDS!$C$329","v":0},null,"SKIP",{"$f":"[3]CARDS!$A$337","v":3}]
[1]
[null,{"$f":"[3]CARDS!$A$337","v":3},null,{"$f":"[3]CARDS!$N$337","v":0},null,null,{"$f":"[3]CARDS!$A$337","v":3},null,{"$f":"[3]CARDS!$N$337","v":0}]
["End","Shots","Total","Shots","Total","End","Shots","Total","Shots","Total"]
[1,{"$nulls":4},14]
[2,{"$nulls":4},15]
[3,{"$nulls":4},16]
[4,{"$nulls":4},17]
[5,{"$nulls":4},18]
[6,{"$nulls":4},19]
[7,{"$nulls":4},20]
[8,{"$nulls":4},21]
[9,{"$nulls":4},22]
[10,{"$nulls":4},23]
[11,{"$nulls":4},24]
[12,{"$nulls":4},25]
[13,{"$nulls":4},"T"]
["RINK",null,{"$f":"[3]CARDS!$C$352","v":0},null,"SKIP",{"$f":"[3]CARDS!$A$360","v":3}]
[1]
[null,{"$f":"[3]CARDS!$A$360","v":3},null,{"$f":"[3]CARDS!$N$360","v":0},null,null,{"$f":"[3]CARDS!$A$360","v":3},null,{"$f":"[3]CARDS!$N$360","v":0}]
["End","Shots","Total","Shots","Total","End","Shots","Total","Shots","Total"]
[1,{"$nulls":4},14]
[2,{"$nulls":4},15]
[3,{"$nulls":4},16]
[4,{"$nulls":4},17]
[5,{"$nulls":4},18]
[6,{"$nulls":4},19]
[7,{"$nulls":4},20]
[8,{"$nulls":4},21]
[9,{"$nulls":4},22]
[10,{"$nulls":4},23]
[11,{"$nulls":4},24]
[12,{"$nulls":4},25]
[13,{"$nulls":4},"T"]
["RINK",null,{"$f":"[3]CARDS!$C$375","v":0},null,"SKIP",{"$f":"[3]CARDS!$A$383","v":3}]
[1]
[null,{"$f":"[3]CARDS!$A$383","v":3},null,{"$f":"[3]CARDS!$N$383","v":0},null,null,{"$f":"[3]CARDS!$A$383","v":3},null,{"$f":"[3]CARDS!$N$383","v":0}]
["End","Shots","Total","Shots","Total","End","Shots","Total","Shots","Total"]
[1,{"$nulls":4},14]
[2,{"$nulls":4},15]
[3,{"$nulls":4},16]
[4,{"$nulls":4},17]
[5,{"$nulls":4},18]
[6,{"$nulls":4},19]
[7,{"$nulls":4},20]
[8,{"$nulls":4},21]
[9,{"$nulls":4},22]
[10,{"$nulls":4},23]
[11,{"$nulls":4},24]
[12,{"$nulls":4},25]
[13,{"$nulls":4},"T"]
["RINK",null,{"$f":"[3]CARDS!$C$398","v":0},null,"SKIP",{"$f":"[3]CARDS!$A$406","v":3}]
[1]
[null,{"$f":"[3]CARDS!$A$406","v":3},null,{"$f":"[3]CARDS!$N$406","v":0},null,null,{"$f":"[3]CARDS!$A$406","v":3},null,{"$f":"[3]CARDS!$N$406","v":0}]
["End","Shots","Total","Shots","Total","End","Shots","Total","Shots","Total"]
[1,{"$nulls":4},14]
[2,{"$nulls":4},15]
[3,{"$nulls":4},16]
[4,{"$nulls":4},17]
[5,{"$nulls":4},18]
[6,{"$nulls":4},19]
[7,{"$nulls":4},20]
[8,{"$nulls":4},21]
[9,{"$nulls":4},22]
[10,{"$nulls":4},23]
[11,{"$nulls":4},24]
[12,{"$nulls":4},25]
[13,{"$nulls":4},"T"]
["RINK",null,{"$f":"[3]CARDS!$C$421","v":0},null,"SKIP",{"$f":"[3]CARDS!$A$429","v":3}]
[1]
[null,{"$f":"[3]CARDS!$A$429","v":3},null,{"$f":"[3]CARDS!$N$429","v":0},null,null,{"$f":"[3]CARDS!$A$429","v":3},null,{"$f":"[3]CARDS!$N$429","v":0}]
["End","Shots","Total","Shots","Total","End","Shots","Total","Shots","Total"]
[1,{"$nulls":4},14]
[2,{"$nulls":4},15]
[3,{"$nulls":4},16]
[4,{"$nulls":4},17]
[5,{"$nulls":4},18]
[6,{"$nulls":4},19]
[7,{"$nulls":4},20]
[8,{"$nulls":4},21]
[9,{"$nulls":4},22]
[10,{"$nulls":4},23]
[11,{"$nulls":4},24]
[12,{"$nulls":4},25]
[13,{"$nulls":4},"T"]
["RINK",null,{"$f":"[3]CARDS!$C$444","v":0},null,"SKIP",{"$f":"[3]CARDS!$A$452","v":3}]
[1]
[null,{"$f":"[3]CARDS!$A$452","v":3},null,{"$f":"[3]CARDS!$N$452","v":0},null,null,{"$f":"[3]CARDS!$A$452","v":3},null,{"$f":"[3]CARDS!$N$452","v":0}]
["End","Shots","Total","Shots","Total","End","Shots","Total","Shots","Total"]
[1,{"$nulls":4},14]
[2,{"$nulls":4},15]
[3,{"$nulls":4},16]
[4,{"$nulls":4},17]
[5,{"$nulls":4},18]
[6,{"$nulls":4},19]
[7,{"$nulls":4},20]
[8,{"$nulls":4},21]
[9,{"$nulls":4},22]
[10,{"$nulls":4},23]
[11,{"$nulls":4},24]
[12,{"$nulls":4},25]
[13,{"$nulls":4},"T"]
["RINK",null,{"$f":"[3]CARDS!$C$467","v":0},null,"SKIP",{"$f":"[3]CARDS!$A$475","v":3}]
[1]
[null,{"$f":"[3]CARDS!$A$475","v":3},null,{"$f":"[3]CARDS!$N$475","v":0},null,null,{"$f":"[3]CARDS!$A$475","v":3},null,{"$f":"[3]CARDS!$N$475","v":0}]
["End","Shots","Total","Shots","Total","End","Shots","Total","Shots","Total"]
[1,{"$nulls":4},14]
[2,{"$nulls":4},15]
[3,{"$nulls":4},16]
[4,{"$nulls":4},17]
[5,{"$nulls":4},18]
[6,{"$nulls":4},19]
[7,{"$nulls":4},20]
[8,{"$nulls":4},21]
[9,{"$nulls":4},22]
[10,{"$nulls":4},23]
[11,{"$nulls":4},24]
[12,{"$nulls":4},25]
[13,{"$nulls":4},"T"]
["RINK",null,{"$f":"[3]CARDS!$C$490","v":0},null,"SKIP",{"$f":"[3]CARDS!$A$498","v":3}]
[1]
[null,{"$f":"[3]CARDS!$A$498","v":3},null,{"$f":"[3]CARDS!$N$498","v":0},null,null,{"$f":"[3]CARDS!$A$498","v":3},null,{"$f":"[3]CARDS!$N$498","v":0}]
["End","Shots","Total","Shots","Total","End","Shots","Total","Shots","Total"]
[1,{"$nulls":4},14]
[2,{"$nulls":4},15]
[3,{"$nulls":4},16]
[4,{"$nulls":4},17]
[5,{"$nulls":4},18]
[6,{"$nulls":4},19]
[7,{"$nulls":4},20]
[8,{"$nulls":4},21]
[9,{"$nulls":4},22]
[10,{"$nulls":4},23]
[11,{"$nulls":4},24]
[12,{"$nulls":4},25]
[13,{"$nulls":4},"T"]
["RINK",null,{"$f":"[3]CARDS!#REF!","v":{"$error":"#REF!"}},null,"SKIP",{"$f":"[3]CARDS!#REF!","v":{"$error":"#REF!"}}]
[1]
[null,{"$f":"[3]CARDS!#REF!","v":{"$error":"#REF!"}},null,{"$f":"[3]CARDS!#REF!","v":{"$error":"#REF!"}},null,null,{"$f":"[3]CARDS!#REF!","v":{"$error":"#REF!"}},null,{"$f":"[3]CARDS!#REF!","v":{"$error":"#REF!"}}]
["End","Shots","Total","Shots","Total","End","Shots","Total","Shots","Total"]
[1,{"$nulls":4},14]
[2,{"$nulls":4},15]
[3,{"$nulls":4},16]
[4,{"$nulls":4},17]
[5,{"$nulls":4},18]
[6,{"$nulls":4},19]
[7,{"$nulls":4},20]
[8,{"$nulls":4},21]
[9,{"$nulls":4},22]
[10,{"$nulls":4},23]
[11,{"$nulls":4},24]
[12,{"$nulls":4},25]
[13,{"$nulls":4},"T"]
["RINK",null,{"$f":"[3]CARDS!#REF!","v":{"$error":"#REF!"}},null,"SKIP",{"$f":"[3]CARDS!#REF!","v":{"$error":"#REF!"}}]
[1]
[null,{"$f":"[3]CARDS!#REF!","v":{"$error":"#REF!"}},null,{"$f":"[3]CARDS!#REF!","v":{"$error":"#REF!"}},null,null,{"$f":"[3]CARDS!#REF!","v":{"$error":"#REF!"}},null,{"$f":"[3]CARDS!#REF!","v":{"$error":"#REF!"}}]
["End","Shots","Total","Shots","Total","End","Shots","Total","Shots","Total"]
[1,{"$nulls":4},14]
[2,{"$nulls":4},15]
[3,{"$nulls":4},16]
[4,{"$nulls":4},17]
[5,{"$nulls":4},18]
[6,{"$nulls":4},19]
[7,{"$nulls":4},20]
[8,{"$nulls":4},21]
[9,{"$nulls":4},22]
[10,{"$nulls":4},23]
[11,{"$nulls":4},24]
[12,{"$nulls":4},25]
[13,{"$nulls":4},"T"]
["RINK",null,{"$f":"[3]CARDS!#REF!","v":{"$error":"#REF!"}},null,"SKIP",{"$f":"[3]CARDS!#REF!","v":{"$error":"#REF!"}}]
[1]
[null,{"$f":"[3]CARDS!#REF!","v":{"$error":"#REF!"}},null,{"$f":"[3]CARDS!#REF!","v":{"$error":"#REF!"}},null,null,{"$f":"[3]CARDS!#REF!","v":{"$error":"#REF!"}},null,{"$f":"[3]CARDS!#REF!","v":{"$error":"#REF!"}}]
["End","Shots","Total","Shots","Total","End","Shots","Total","Shots","Total"]
[1,{"$nulls":4},14]
[2,{"$nulls":4},15]
[3,{"$nulls":4},16]
[4,{"$nulls":4},17]
[5,{"$nulls":4},18]
[6,{"$nulls":4},19]
[7,{"$nulls":4},20]
[8,{"$nulls":4},21]
[9,{"$nulls":4},22]
[10,{"$nulls":4},23]
[11,{"$nulls":4},24]
[12,{"$nulls":4},25]
[13,{"$nulls":4},"T"]
["RINK",null,{"$f":"[3]CARDS!#REF!","v":{"$error":"#REF!"}},null,"SKIP",{"$f":"[3]CARDS!#REF!","v":{"$error":"#REF!"}}]
[1]
[null,{"$f":"[3]CARDS!#REF!","v":{"$error":"#REF!"}},null,{"$f":"[3]CARDS!#REF!","v":{"$error":"#REF!"}},null,null,{"$f":"[3]CARDS!#REF!","v":{"$error":"#REF!"}},null,{"$f":"[3]CARDS!#REF!","v":{"$error":"#REF!"}}]
["End","Shots","Total","Shots","Total","End","Shots","Total","Shots","Total"]
[1,{"$nulls":4},14]
[2,{"$nulls":4},15]
[3,{"$nulls":4},16]
[4,{"$nulls":4},17]
[5,{"$nulls":4},18]
[6,{"$nulls":4},19]
[7,{"$nulls":4},20]
[8,{"$nulls":4},21]
[9,{"$nulls":4},22]
[10,{"$nulls":4},23]
[11,{"$nulls":4},24]
[12,{"$nulls":4},25]
[13,{"$nulls":4},"T"]
["RINK",null,{"$f":"[3]CARDS!#REF!","v":{"$error":"#REF!"}},null,"SKIP",{"$f":"[3]CARDS!#REF!","v":{"$error":"#REF!"}}]
[1]
[null,{"$f":"[3]CARDS!#REF!","v":{"$error":"#REF!"}},null,{"$f":"[3]CARDS!#REF!","v":{"$error":"#REF!"}},null,null,{"$f":"[3]CARDS!#REF!","v":{"$error":"#REF!"}},null,{"$f":"[3]CARDS!#REF!","v":{"$error":"#REF!"}}]
["End","Shots","Total","Shots","Total","End","Shots","Total","Shots","Total"]
[1,{"$nulls":4},14]
[2,{"$nulls":4},15]
[3,{"$nulls":4},16]
[4,{"$nulls":4},17]
[5,{"$nulls":4},18]
[6,{"$nulls":4},19]
[7,{"$nulls":4},20]
[8,{"$nulls":4},21]
[9,{"$nulls":4},22]
[10,{"$nulls":4},23]
[11,{"$nulls":4},24]
[12,{"$nulls":4},25]
[13,{"$nulls":4},"T"]
["RINK",null,{"$f":"[3]CARDS!#REF!","v":{"$error":"#REF!"}},null,"SKIP",{"$f":"[3]CARDS!#REF!","v":{"$error":"#REF!"}}]
[1]
[null,{"$f":"[3]CARDS!#REF!","v":{"$error":"#REF!"}},null,{"$f":"[3]CARDS!#REF!","v":{"$error":"#REF!"}},null,null,{"$f":"[3]CARDS!#REF!","v":{"$error":"#REF!"}},null,{"$f":"[3]CARDS!#REF!","v":{"$error":"#REF!"}}]
["End","Shots","Total","Shots","Total","End","Shots","Total","Shots","Total"]
[1,{"$nulls":4},14]
[2,{"$nulls":4},15]
[3,{"$nulls":4},16]
[4,{"$nulls":4},17]
[5,{"$nulls":4},18]
[6,{"$nulls":4},19]
[7,{"$nulls":4},20]
[8,{"$nulls":4},21]
[9,{"$nulls":4},22]
[10,{"$nulls":4},23]
[11,{"$nulls":4},24]
[12,{"$nulls":4},25]
[13,{"$nulls":4},"T"]
["RINK",{"$nulls":3},"SKIP"]
[1]
[]
["End","Shots","Total","Shots","Total","End","Shots","Total","Shots","Total"]
[1,{"$nulls":4},14]
[2,{"$nulls":4},15]
[3,{"$nulls":4},16]
[4,{"$nulls":4},17]
[5,{"$nulls":4},18]
[6,{"$nulls":4},19]
[7,{"$nulls":4},20]
[8,{"$nulls":4},21]
[9,{"$nulls":4},22]
[10,{"$nulls":4},23]
[11,{"$nulls":4},24]
[12,{"$nulls":4},25]
[13,{"$nulls":4},"T"]

{"sheet":"19","index":10,"n_rows":23,"n_cols":11,"rows_kept":23,"hidden":true,"merged":[[0,2,0,10],[1,2,1,10],[2,3,2,4],[2,5,2,6],[2,7,2,8],[2,9,2,10],[4,1,7,1],[8,1,11,1],[12,1,15,1],[16,1,19,1],[20,1,23,1]]}
[null,null,{"$f":"Entries!$A$1","v":"2018 District 5 - Mixed Pairs"}]
[null,null,"DRAW"]
[{"$nulls":5},"R O U N D  1",null,"R O U N D  2",null,"R O U N D  3"]
[null,"Section","Team No.","Lead","Skip","Rink","Versus","Rink","Versus","Rink","Versus"]
[null,1,1,{"$f":"Entries!$Q$5","v":0},{"$f":"Entries!$R$5","v":0},2,2,11,3,5,4]
[null,null,2,{"$f":"Entries!$Q$6","v":0},{"$f":"Entries!$R$6","v":0},2,1,12,4,6,3]
[null,null,3,{"$f":"Entries!$Q$7","v":0},{"$f":"Entries!$R$7","v":0},3,4,11,1,6,2]
[null,null,4,{"$f":"Entries!$Q$8","v":0},{"$f":"Entries!$R$8","v":0},3,3,12,2,5,1]
[null,2,5,{"$f":"Entries!$Q$9","v":0},{"$f":"Entries!$R$9","v":0},4,6,9,7,2,8]
[null,null,6,{"$f":"Entries!$Q$10","v":0},{"$f":"Entries!$R$10","v":0},4,5,10,8,3,7]
[null,null,7,{"$f":"Entries!$Q$11","v":0},{"$f":"Entries!$R$11","v":0},5,8,9,5,3,6]
[null,null,8,{"$f":"Entries!$Q$12","v":0},{"$f":"Entries!$R$12","v":0},5,7,10,6,2,5]
[null,3,9,{"$f":"Entries!$Q$13","v":0},{"$f":"Entries!$R$13","v":0},9,10,2,11,11,12]
[null,null,10,{"$f":"Entries!$Q$14","v":0},{"$f":"Entries!$R$14","v":0},9,9,3,12,12,11]
[null,null,11,{"$f":"Entries!$Q$15","v":0},{"$f":"Entries!$R$15","v":0},10,12,2,9,12,10]
[null,null,12,{"$f":"Entries!$Q$16","v":0},{"$f":"Entries!$R$16","v":0},10,11,3,10,11,9]
[null,4,13,{"$f":"Entries!$Q$17","v":0},{"$f":"Entries!$R$17","v":0},11,14,4,15,9,16]
[null,null,14,{"$f":"Entries!$Q$18","v":0},{"$f":"Entries!$R$18","v":0},11,13,5,16,10,15]
[null,null,15,{"$f":"Entries!$Q$19","v":0},{"$f":"Entries!$R$19","v":0},12,16,4,13,10,14]
[null,null,16,{"$f":"Entries!$Q$20","v":0},{"$f":"Entries!$R$20","v":0},12,15,5,14,9,13]
[null,5,17,{"$f":"Entries!$Q$21","v":0},{"$f":"Entries!$R$21","v":0},6,18,13,19,"Bye"]
[null,null,18,{"$f":"Entries!$Q$22","v":0},{"$f":"Entries!$R$22","v":0},6,17,"Bye",null,4,19]
[null,null,19,{"$f":"Entries!$Q$23","v":0},{"$f":"Entries!$R$23","v":0},"Bye",null,13,17,4,18]

{"sheet":"18","index":11,"n_rows":23,"n_cols":11,"rows_kept":23,"hidden":true,"merged":[[0,2,0,10],[1,2,1,10],[2,3,2,4],[2,5,2,6],[2,7,2,8],[2,9,2,10],[4,1,7,1],[8,1,11,1],[12,1,15,1],[16,1,19,1],[20,1,23,1]]}
[null,null,{"$f":"Entries!$A$1","v":"2018 District 5 - Mixed Pairs"}]
[null,null,"DRAW"]
[{"$nulls":5},"R O U N D  1",null,"R O U N D  2",null,"R O U N D  3"]
[null,"Section","Team No.","Lead","Skip","Rink","Versus","Rink","Versus","Rink","Versus"]
[null,1,1,{"$f":"Entries!$Q$5","v":0},{"$f":"Entries!$R$5","v":0},2,2,11,3,5,4]
[null,null,2,{"$f":"Entries!$Q$6","v":0},{"$f":"Entries!$R$6","v":0},2,1,12,4,6,3]
[null,null,3,{"$f":"Entries!$Q$7","v":0},{"$f":"Entries!$R$7","v":0},3,4,11,1,6,2]
[null,null,4,{"$f":"Entries!$Q$8","v":0},{"$f":"Entries!$R$8","v":0},3,3,12,2,5,1]
[null,2,5,{"$f":"Entries!$Q$9","v":0},{"$f":"Entries!$R$9","v":0},4,6,9,7,2,8]
[null,null,6,{"$f":"Entries!$Q$10","v":0},{"$f":"Entries!$R$10","v":0},4,5,10,8,3,7]
[null,null,7,{"$f":"Entries!$Q$11","v":0},{"$f":"Entries!$R$11","v":0},5,8,9,5,3,6]
[null,null,8,{"$f":"Entries!$Q$12","v":0},{"$f":"Entries!$R$12","v":0},5,7,10,6,2,5]
[null,3,9,{"$f":"Entries!$Q$13","v":0},{"$f":"Entries!$R$13","v":0},9,10,2,11,11,12]
[null,null,10,{"$f":"Entries!$Q$14","v":0},{"$f":"Entries!$R$14","v":0},9,9,3,12,12,11]
[null,null,11,{"$f":"Entries!$Q$15","v":0},{"$f":"Entries!$R$15","v":0},10,12,2,9,12,10]
[null,null,12,{"$f":"Entries!$Q$16","v":0},{"$f":"Entries!$R$16","v":0},10,11,3,10,11,9]
[null,4,13,{"$f":"Entries!$Q$17","v":0},{"$f":"Entries!$R$17","v":0},11,14,4,15,"Bye"]
[null,null,14,{"$f":"Entries!$Q$18","v":0},{"$f":"Entries!$R$18","v":0},11,13,"Bye",null,10,15]
[null,null,15,{"$f":"Entries!$Q$19","v":0},{"$f":"Entries!$R$19","v":0},"Bye",null,4,13,10,14]
[]
[null,5,16,{"$f":"Entries!$Q$20","v":0},{"$f":"Entries!$R$20","v":0},6,17,13,18,"Bye"]
[null,null,17,{"$f":"Entries!$Q$21","v":0},{"$f":"Entries!$R$21","v":0},6,16,"Bye",null,4,18]
[null,null,18,{"$f":"Entries!$Q$22","v":0},{"$f":"Entries!$R$22","v":0},"Bye",null,13,16,4,17]

{"sheet":"17","index":12,"n_rows":23,"n_cols":11,"rows_kept":23,"hidden":true,"merged":[[0,2,0,10],[1,2,1,10],[2,3,2,4],[2,5,2,6],[2,7,2,8],[2,9,2,10],[4,1,7,1],[8,1,11,1],[12,1,15,1],[16,1,19,1],[20,1,23,1]]}
[null,null,{"$f":"Entries!$A$1","v":"2018 District 5 - Mixed Pairs"}]
[null,null,"DRAW"]
[{"$nulls":5},"R O U N D  1",null,"R O U N D  2",null,"R O U N D  3"]
[null,"Section","Team No.","Lead","Skip","Rink","Versus","Rink","Versus","Rink","Versus"]
[null,1,1,{"$f":"Entries!$Q$5","v":0},{"$f":"Entries!$R$5","v":0},2,2,11,3,5,4]
[null,null,2,{"$f":"Entries!$Q$6","v":0},{"$f":"Entries!$R$6","v":0},2,1,12,4,6,3]
[null,null,3,{"$f":"Entries!$Q$7","v":0},{"$f":"Entries!$R$7","v":0},3,4,11,1,6,2]
[null,null,4,{"$f":"Entries!$Q$8","v":0},{"$f":"Entries!$R$8","v":0},3,3,12,2,5,1]
[null,2,5,{"$f":"Entries!$Q$9","v":0},{"$f":"Entries!$R$9","v":0},4,6,9,7,2,8]
[null,null,6,{"$f":"Entries!$Q$10","v":0},{"$f":"Entries!$R$10","v":0},4,5,10,8,3,7]
[null,null,7,{"$f":"Entries!$Q$11","v":0},{"$f":"Entries!$R$11","v":0},5,8,9,5,3,6]
[null,null,8,{"$f":"Entries!$Q$12","v":0},{"$f":"Entries!$R$12","v":0},5,7,10,6,2,5]
[null,3,9,{"$f":"Entries!$Q$13","v":0},{"$f":"Entries!$R$13","v":0},9,10,2,11,"Bye"]
[null,null,10,{"$f":"Entries!$Q$14","v":0},{"$f":"Entries!$R$14","v":0},9,9,"Bye",null,12,11]
[null,null,11,{"$f":"Entries!$Q$15","v":0},{"$f":"Entries!$R$15","v":0},"Bye",null,2,9,12,10]
[]
[null,4,12,{"$f":"Entries!$Q$16","v":0},{"$f":"Entries!$R$16","v":0},11,13,4,14,"Bye"]
[null,null,13,{"$f":"Entries!$Q$17","v":0},{"$f":"Entries!$R$17","v":0},11,12,"Bye",null,10,14]
[null,null,14,{"$f":"Entries!$Q$18","v":0},{"$f":"Entries!$R$18","v":0},"Bye",null,4,12,10,13]
[]
[null,5,15,{"$f":"Entries!$Q$19","v":0},{"$f":"Entries!$R$19","v":0},10,16,3,17,"Bye"]
[null,null,16,{"$f":"Entries!$Q$20","v":0},{"$f":"Entries!$R$20","v":0},10,15,"Bye",null,11,17]
[null,null,17,{"$f":"Entries!$Q$21","v":0},{"$f":"Entries!$R$21","v":0},"Bye",null,3,15,11,16]

{"sheet":"16","index":13,"n_rows":20,"n_cols":11,"rows_kept":20,"hidden":true,"merged":[[0,2,0,10],[1,2,1,10],[2,3,2,4],[2,5,2,6],[2,7,2,8],[2,9,2,10],[4,1,7,1],[8,1,11,1],[12,1,15,1],[16,1,19,1]]}
[null,null,{"$f":"Entries!$A$1","v":"2018 District 5 - Mixed Pairs"}]
[null,null,"DRAW"]
[{"$nulls":5},"R O U N D  1",null,"R O U N D  2",null,"R O U N D  3"]
[null,"Section","Team No.","Lead","Skip","Rink","Versus","Rink","Versus","Rink","Versus"]
[null,1,1,{"$f":"Entries!$Q$5","v":0},{"$f":"Entries!$R$5","v":0},2,2,11,3,5,4]
[null,null,2,{"$f":"Entries!$Q$6","v":0},{"$f":"Entries!$R$6","v":0},2,1,12,4,4,3]
[null,null,3,{"$f":"Entries!$Q$7","v":0},{"$f":"Entries!$R$7","v":0},3,4,11,1,4,2]
[null,null,4,{"$f":"Entries!$Q$8","v":0},{"$f":"Entries!$R$8","v":0},3,3,12,2,5,1]
[null,2,5,{"$f":"Entries!$Q$9","v":0},{"$f":"Entries!$R$9","v":0},4,6,9,7,3,8]
[null,null,6,{"$f":"Entries!$Q$10","v":0},{"$f":"Entries!$R$10","v":0},4,5,10,8,2,7]
[null,null,7,{"$f":"Entries!$Q$11","v":0},{"$f":"Entries!$R$11","v":0},5,8,9,5,2,6]
[null,null,8,{"$f":"Entries!$Q$12","v":0},{"$f":"Entries!$R$12","v":0},5,7,10,6,3,5]
[null,3,9,{"$f":"Entries!$Q$13","v":0},{"$f":"Entries!$R$13","v":0},9,10,2,11,11,12]
[null,null,10,{"$f":"Entries!$Q$14","v":0},{"$f":"Entries!$R$14","v":0},9,9,3,12,12,11]
[null,null,11,{"$f":"Entries!$Q$15","v":0},{"$f":"Entries!$R$15","v":0},10,12,2,9,12,10]
[null,null,12,{"$f":"Entries!$Q$16","v":0},{"$f":"Entries!$R$16","v":0},10,11,3,10,11,9]
[null,4,13,{"$f":"Entries!$Q$17","v":0},{"$f":"Entries!$R$17","v":0},11,14,4,15,9,16]
[null,null,14,{"$f":"Entries!$Q$18","v":0},{"$f":"Entries!$R$18","v":0},11,13,5,16,10,15]
[null,null,15,{"$f":"Entries!$Q$19","v":0},{"$f":"Entries!$R$19","v":0},12,16,4,13,10,14]
[null,null,16,{"$f":"Entries!$Q$20","v":0},{"$f":"Entries!$R$20","v":0},12,15,5,14,9,13]

{"sheet":"15","index":14,"n_rows":19,"n_cols":11,"rows_kept":19,"hidden":true,"merged":[[0,2,0,10],[1,2,1,10],[2,3,2,4],[2,5,2,6],[2,7,2,8],[2,9,2,10],[4,1,7,1],[8,1,11,1],[12,1,15,1],[16,1,19,1]]}
[null,null,{"$f":"Entries!$A$1","v":"2018 District 5 - Mixed Pairs"}]
[null,null,"DRAW"]
[{"$nulls":5},"R O U N D  1",null,"R O U N D  2",null,"R O U N D  3"]
[null,"Section","Team No.","Lead","Skip","Rink","Versus","Rink","Versus","Rink","Versus"]
[null,1,1,{"$f":"Entries!$Q$5","v":0},{"$f":"Entries!$R$5","v":0},2,2,5,3,1,4]
[null,null,2,{"$f":"Entries!$Q$6","v":0},{"$f":"Entries!$R$6","v":0},2,1,4,4,6,3]
[null,null,3,{"$f":"Entries!$Q$7","v":0},{"$f":"Entries!$R$7","v":0},3,4,5,1,6,2]
[null,null,4,{"$f":"Entries!$Q$8","v":0},{"$f":"Entries!$R$8","v":0},3,3,4,2,1,1]
[null,2,5,{"$f":"Entries!$Q$9","v":0},{"$f":"Entries!$R$9","v":0},4,6,6,7,3,8]
[null,null,6,{"$f":"Entries!$Q$10","v":0},{"$f":"Entries!$R$10","v":0},4,5,7,8,2,7]
[null,null,7,{"$f":"Entries!$Q$11","v":0},{"$f":"Entries!$R$11","v":0},5,8,6,5,2,6]
[null,null,8,{"$f":"Entries!$Q$12","v":0},{"$f":"Entries!$R$12","v":0},5,7,7,6,3,5]
[null,3,9,{"$f":"Entries!$Q$13","v":0},{"$f":"Entries!$R$13","v":0},6,10,1,11,4,12]
[null,null,10,{"$f":"Entries!$Q$14","v":0},{"$f":"Entries!$R$14","v":0},6,9,2,12,5,11]
[null,null,11,{"$f":"Entries!$Q$15","v":0},{"$f":"Entries!$R$15","v":0},7,12,1,9,5,10]
[null,null,12,{"$f":"Entries!$Q$16","v":0},{"$f":"Entries!$R$16","v":0},7,11,2,10,4,9]
[null,4,13,{"$f":"Entries!$Q$17","v":0},{"$f":"Entries!$R$17","v":0},1,14,3,15,"Bye"]
[null,null,14,{"$f":"Entries!$Q$18","v":0},{"$f":"Entries!$R$18","v":0},1,13,"Bye",null,7,15]
[null,null,15,{"$f":"Entries!$Q$19","v":0},{"$f":"Entries!$R$19","v":0},"Bye",null,3,13,7,14]

{"sheet":"14","index":15,"n_rows":19,"n_cols":11,"rows_kept":19,"hidden":true,"merged":[[0,2,0,10],[1,2,1,10],[2,3,2,4],[2,5,2,6],[2,7,2,8],[2,9,2,10],[4,1,7,1],[8,1,11,1],[12,1,15,1],[16,1,19,1]]}
[null,null,{"$f":"Entries!$A$1","v":"2018 District 5 - Mixed Pairs"}]
[null,null,"DRAW"]
[{"$nulls":5},"R O U N D  1",null,"R O U N D  2",null,"R O U N D  3"]
[null,"Section","Team No.","Lead","Skip","Rink","Versus","Rink","Versus","Rink","Versus"]
[null,1,1,{"$f":"Entries!$Q$5","v":0},{"$f":"Entries!$R$5","v":0},2,2,5,3,1,4]
[null,null,2,{"$f":"Entries!$Q$6","v":0},{"$f":"Entries!$R$6","v":0},2,1,4,4,6,3]
[null,null,3,{"$f":"Entries!$Q$7","v":0},{"$f":"Entries!$R$7","v":0},3,4,5,1,6,2]
[null,null,4,{"$f":"Entries!$Q$8","v":0},{"$f":"Entries!$R$8","v":0},3,3,4,2,1,1]
[null,2,5,{"$f":"Entries!$Q$9","v":0},{"$f":"Entries!$R$9","v":0},4,6,6,7,3,8]
[null,null,6,{"$f":"Entries!$Q$10","v":0},{"$f":"Entries!$R$10","v":0},4,5,7,8,2,7]
[null,null,7,{"$f":"Entries!$Q$11","v":0},{"$f":"Entries!$R$11","v":0},5,8,6,5,2,6]
[null,null,8,{"$f":"Entries!$Q$12","v":0},{"$f":"Entries!$R$12","v":0},5,7,7,6,3,5]
[null,3,9,{"$f":"Entries!$Q$13","v":0},{"$f":"Entries!$R$13","v":0},6,10,2,11,"Bye"]
[null,null,10,{"$f":"Entries!$Q$14","v":0},{"$f":"Entries!$R$14","v":0},6,9,"Bye",null,5,11]
[null,null,11,{"$f":"Entries!$Q$15","v":0},{"$f":"Entries!$R$15","v":0},"Bye",null,2,9,5,10]
[]
[null,4,12,{"$f":"Entries!$Q$16","v":0},{"$f":"Entries!$R$16","v":0},1,13,3,14,"Bye"]
[null,null,13,{"$f":"Entries!$Q$17","v":0},{"$f":"Entries!$R$17","v":0},1,12,"Bye",null,4,14]
[null,null,14,{"$f":"Entries!$Q$18","v":0},{"$f":"Entries!$R$18","v":0},"Bye",null,3,12,4,13]

{"sheet":"13","index":16,"n_rows":19,"n_cols":11,"rows_kept":19,"hidden":true,"merged":[[0,2,0,10],[1,2,1,10],[2,3,2,4],[2,5,2,6],[2,7,2,8],[2,9,2,10],[4,1,7,1],[8,1,11,1],[12,1,15,1],[16,1,19,1]]}
[null,null,{"$f":"Entries!$A$1","v":"2018 District 5 - Mixed Pairs"}]
[null,null,"DRAW"]
[{"$nulls":5},"R O U N D  1",null,"R O U N D  2",null,"R O U N D  3"]
[null,"Section","Team No.","Lead","Skip","Rink","Versus","Rink","Versus","Rink","Versus"]
[null,1,1,{"$f":"Entries!$Q$5","v":0},{"$f":"Entries!$R$5","v":0},2,2,5,3,1,4]
[null,null,2,{"$f":"Entries!$Q$6","v":0},{"$f":"Entries!$R$6","v":0},2,1,4,4,6,3]
[null,null,3,{"$f":"Entries!$Q$7","v":0},{"$f":"Entries!$R$7","v":0},3,4,5,1,6,2]
[null,null,4,{"$f":"Entries!$Q$8","v":0},{"$f":"Entries!$R$8","v":0},3,3,4,2,1,1]
[null,2,5,{"$f":"Entries!$Q$9","v":0},{"$f":"Entries!$R$9","v":0},4,6,6,7,"Bye"]
[null,null,6,{"$f":"Entries!$Q$10","v":0},{"$f":"Entries!$R$10","v":0},4,5,"Bye",null,2,7]
[null,null,7,{"$f":"Entries!$Q$11","v":0},{"$f":"Entries!$R$11","v":0},"Bye",null,6,5,2,6]
[]
[null,3,8,{"$f":"Entries!$Q$12","v":0},{"$f":"Entries!$R$12","v":0},6,9,2,10,"Bye"]
[null,null,9,{"$f":"Entries!$Q$13","v":0},{"$f":"Entries!$R$13","v":0},6,8,"Bye",null,5,10]
[null,null,10,{"$f":"Entries!$Q$14","v":0},{"$f":"Entries!$R$14","v":0},"Bye",null,2,8,5,9]
[]
[null,4,11,{"$f":"Entries!$Q$15","v":0},{"$f":"Entries!$R$15","v":0},5,12,3,13,"Bye"]
[null,null,12,{"$f":"Entries!$Q$16","v":0},{"$f":"Entries!$R$16","v":0},5,11,"Bye",null,4,13]
[null,null,13,{"$f":"Entries!$Q$17","v":0},{"$f":"Entries!$R$17","v":0},"Bye",null,3,11,4,12]

{"sheet":"12","index":17,"n_rows":16,"n_cols":11,"rows_kept":16,"hidden":true,"merged":[[0,2,0,10],[1,2,1,10],[2,3,2,4],[2,5,2,6],[2,7,2,8],[2,9,2,10],[4,1,7,1],[8,1,11,1],[12,1,15,1]]}
[null,null,{"$f":"Entries!$A$1","v":"2018 District 5 - Mixed Pairs"}]
[null,null,"DRAW"]
[{"$nulls":5},"R O U N D  1",null,"R O U N D  2",null,"R O U N D  3"]
[null,"Section","Team No.","Lead","Skip","Rink","Versus","Rink","Versus","Rink","Versus"]
[null,1,1,{"$f":"Entries!$Q$5","v":0},{"$f":"Entries!$R$5","v":0},2,2,4,3,6,4]
[null,null,2,{"$f":"Entries!$Q$6","v":0},{"$f":"Entries!$R$6","v":0},2,1,5,4,7,3]
[null,null,3,{"$f":"Entries!$Q$7","v":0},{"$f":"Entries!$R$7","v":0},3,4,4,1,7,2]
[null,null,4,{"$f":"Entries!$Q$8","v":0},{"$f":"Entries!$R$8","v":0},3,3,5,2,6,1]
[null,2,5,{"$f":"Entries!$Q$9","v":0},{"$f":"Entries!$R$9","v":0},4,6,6,7,3,8]
[null,null,6,{"$f":"Entries!$Q$10","v":0},{"$f":"Entries!$R$10","v":0},4,5,7,8,2,7]
[null,null,7,{"$f":"Entries!$Q$11","v":0},{"$f":"Entries!$R$11","v":0},5,8,6,5,2,6]
[null,null,8,{"$f":"Entries!$Q$12","v":0},{"$f":"Entries!$R$12","v":0},5,7,7,6,3,5]
[null,3,9,{"$f":"Entries!$Q$13","v":0},{"$f":"Entries!$R$13","v":0},6,10,2,11,4,12]
[null,null,10,{"$f":"Entries!$Q$14","v":0},{"$f":"Entries!$R$14","v":0},6,9,3,12,5,11]
[null,null,11,{"$f":"Entries!$Q$15","v":0},{"$f":"Entries!$R$15","v":0},7,12,2,9,5,10]
[null,null,12,{"$f":"Entries!$Q$16","v":0},{"$f":"Entries!$R$16","v":0},7,11,3,10,4,9]

{"sheet":"11","index":18,"n_rows":15,"n_cols":11,"rows_kept":15,"hidden":true,"merged":[[0,2,0,10],[1,2,1,10],[2,3,2,4],[2,5,2,6],[2,7,2,8],[2,9,2,10],[4,1,7,1],[8,1,11,1],[12,1,15,1]]}
[null,null,{"$f":"Entries!$A$1","v":"2018 District 5 - Mixed Pairs"}]
[null,null,"DRAW"]
[{"$nulls":5},"R O U N D  1",null,"R O U N D  2",null,"R O U N D  3"]
[null,"Section","Team No.","Lead","Skip","Rink","Versus","Rink","Versus","Rink","Versus"]
[null,1,1,{"$f":"Entries!$Q$5","v":0},{"$f":"Entries!$R$5","v":0},2,2,4,3,6,4]
[null,null,2,{"$f":"Entries!$Q$6","v":0},{"$f":"Entries!$R$6","v":0},2,1,5,4,3,3]
[null,null,3,{"$f":"Entries!$Q$7","v":0},{"$f":"Entries!$R$7","v":0},3,4,4,1,3,2]
[null,null,4,{"$f":"Entries!$Q$8","v":0},{"$f":"Entries!$R$8","v":0},3,3,5,2,6,1]
[null,2,5,{"$f":"Entries!$Q$9","v":0},{"$f":"Entries!$R$9","v":0},4,6,6,7,4,8]
[null,null,6,{"$f":"Entries!$Q$10","v":0},{"$f":"Entries!$R$10","v":0},4,5,3,8,2,7]
[null,null,7,{"$f":"Entries!$Q$11","v":0},{"$f":"Entries!$R$11","v":0},5,8,6,5,2,6]
[null,null,8,{"$f":"Entries!$Q$12","v":0},{"$f":"Entries!$R$12","v":0},5,7,3,6,4,5]
[null,3,9,{"$f":"Entries!$Q$13","v":0},{"$f":"Entries!$R$13","v":0},6,10,2,11,"Bye"]
[null,null,10,{"$f":"Entries!$Q$14","v":0},{"$f":"Entries!$R$14","v":0},6,9,"Bye",null,5,11]
[null,null,11,{"$f":"Entries!$Q$15","v":0},{"$f":"Entries!$R$15","v":0},"Bye",null,2,9,5,10]

{"sheet":"10","index":19,"n_rows":15,"n_cols":11,"rows_kept":15,"hidden":true,"merged":[[0,2,0,10],[1,2,1,10],[2,3,2,4],[2,5,2,6],[2,7,2,8],[2,9,2,10],[4,1,7,1],[8,1,11,1],[12,1,15,1]]}
[null,null,{"$f":"Entries!$A$1","v":"2018 District 5 - Mixed Pairs"}]
[null,null,"DRAW"]
[{"$nulls":5},"R O U N D  1",null,"R O U N D  2",null,"R O U N D  3"]
[null,"Section","Team No.","Lead","Skip","Rink","Versus","Rink","Versus","Rink","Versus"]
[null,1,1,{"$f":"Entries!$Q$5","v":0},{"$f":"Entries!$R$5","v":0},2,2,4,3,6,4]
[null,null,2,{"$f":"Entries!$Q$6","v":0},{"$f":"Entries!$R$6","v":0},2,1,5,4,3,3]
[null,null,3,{"$f":"Entries!$Q$7","v":0},{"$f":"Entries!$R$7","v":0},3,4,4,1,3,2]
[null,null,4,{"$f":"Entries!$Q$8","v":0},{"$f":"Entries!$R$8","v":0},3,3,5,2,6,1]
[null,2,5,{"$f":"Entries!$Q$9","v":0},{"$f":"Entries!$R$9","v":0},4,6,6,7,"Bye"]
[null,null,6,{"$f":"Entries!$Q$10","v":0},{"$f":"Entries!$R$10","v":0},4,5,"Bye",null,5,7]
[null,null,7,{"$f":"Entries!$Q$11","v":0},{"$f":"Entries!$R$11","v":0},"Bye",null,6,5,5,6]
[]
[null,3,8,{"$f":"Entries!$Q$12","v":0},{"$f":"Entries!$R$12","v":0},5,9,3,10,"Bye"]
[null,null,9,{"$f":"Entries!$Q$13","v":0},{"$f":"Entries!$R$13","v":0},5,8,"Bye",null,2,10]
[null,null,10,{"$f":"Entries!$Q$14","v":0},{"$f":"Entries!$R$14","v":0},"Bye",null,3,8,2,9]

{"sheet":"40","index":20,"n_rows":44,"n_cols":11,"rows_kept":44,"hidden":true,"merged":[[0,2,0,10],[1,2,1,10],[2,3,2,4],[2,5,2,6],[2,7,2,8],[2,9,2,10],[4,1,7,1],[8,1,11,1],[12,1,15,1],[16,1,19,1],[20,1,23,1],[24,1,27,1],[28,1,31,1],[32,1,35,1],[36,1,39,1],[40,1,43,1]]}
[null,null,{"$f":"Entries!$A$1","v":"2018 District 5 - Mixed Pairs"}]
[null,null,"DRAW"]
[{"$nulls":5},"R O U N D  1",null,"R O U N D  2",null,"R O U N D  3"]
[null,"Section","Team No.","Lead","Skip","Rink","Versus","Rink","Versus","Rink","Versus"]
[null,1,1,{"$f":"Entries!$Q$5","v":0},{"$f":"Entries!$R$5","v":0},1,2,10,3,19,4]
[null,null,2,{"$f":"Entries!$Q$6","v":0},{"$f":"Entries!$R$6","v":0},1,1,11,4,20,3]
[null,null,3,{"$f":"Entries!$Q$7","v":0},{"$f":"Entries!$R$7","v":0},2,4,10,1,20,2]
[null,null,4,{"$f":"Entries!$Q$8","v":0},{"$f":"Entries!$R$8","v":0},2,3,11,2,19,1]
[null,2,5,{"$f":"Entries!$Q$9","v":0},{"$f":"Entries!$R$9","v":0},3,6,8,7,17,8]
[null,null,6,{"$f":"Entries!$Q$10","v":0},{"$f":"Entries!$R$10","v":0},3,5,9,8,18,7]
[null,null,7,{"$f":"Entries!$Q$11","v":0},{"$f":"Entries!$R$11","v":0},4,8,8,5,18,6]
[null,null,8,{"$f":"Entries!$Q$12","v":0},{"$f":"Entries!$R$12","v":0},4,7,9,6,17,5]
[null,3,9,{"$f":"Entries!$Q$13","v":0},{"$f":"Entries!$R$13","v":0},5,10,12,11,15,12]
[null,null,10,{"$f":"Entries!$Q$14","v":0},{"$f":"Entries!$R$14","v":0},5,9,13,12,16,11]
[null,null,11,{"$f":"Entries!$Q$15","v":0},{"$f":"Entries!$R$15","v":0},6,12,12,9,16,10]
[null,null,12,{"$f":"Entries!$Q$16","v":0},{"$f":"Entries!$R$16","v":0},6,11,13,10,15,9]
[null,4,13,{"$f":"Entries!$Q$17","v":0},{"$f":"Entries!$R$17","v":0},8,14,17,15,3,16]
[null,null,14,{"$f":"Entries!$Q$18","v":0},{"$f":"Entries!$R$18","v":0},8,13,18,16,4,15]
[null,null,15,{"$f":"Entries!$Q$19","v":0},{"$f":"Entries!$R$19","v":0},9,16,17,13,4,14]
[null,null,16,{"$f":"Entries!$Q$20","v":0},{"$f":"Entries!$R$20","v":0},9,15,18,14,3,13]
[null,5,17,{"$f":"Entries!$Q$21","v":0},{"$f":"Entries!$R$21","v":0},10,18,7,19,1,20]
[null,null,18,{"$f":"Entries!$Q$22","v":0},{"$f":"Entries!$R$22","v":0},10,17,14,20,2,19]
[null,null,19,{"$f":"Entries!$Q$23","v":0},{"$f":"Entries!$R$23","v":0},11,20,7,17,2,18]
[null,null,20,{"$f":"Entries!$Q$24","v":0},{"$f":"Entries!$R$24","v":0},11,19,14,18,1,17]
[null,6,21,{"$f":"Entries!$Q$25","v":0},{"$f":"Entries!$R$25","v":0},12,22,19,23,7,24]
[null,null,22,{"$f":"Entries!$Q$26","v":0},{"$f":"Entries!$R$26","v":0},12,21,20,24,14,23]
[null,null,23,{"$f":"Entries!$Q$27","v":0},{"$f":"Entries!$R$27","v":0},13,24,19,21,14,22]
[null,null,24,{"$f":"Entries!$Q$28","v":0},{"$f":"Entries!$R$28","v":0},13,23,20,22,7,21]
[null,7,25,{"$f":"Entries!$Q$29","v":0},{"$f":"Entries!$R$29","v":0},15,26,3,27,10,28]
[null,null,26,{"$f":"Entries!$Q$30","v":0},{"$f":"Entries!$R$30","v":0},15,25,4,28,11,27]
[null,null,27,{"$f":"Entries!$Q$31","v":0},{"$f":"Entries!$R$31","v":0},16,28,3,25,11,26]
[null,null,28,{"$f":"Entries!$Q$32","v":0},{"$f":"Entries!$R$32","v":0},16,27,4,26,10,25]
[null,8,29,{"$f":"Entries!$Q$33","v":0},{"$f":"Entries!$R$33","v":0},17,30,1,31,12,32]
[null,null,30,{"$f":"Entries!$Q$34","v":0},{"$f":"Entries!$R$34","v":0},17,29,2,32,13,31]
[null,null,31,{"$f":"Entries!$Q$35","v":0},{"$f":"Entries!$R$35","v":0},18,32,1,29,13,30]
[null,null,32,{"$f":"Entries!$Q$36","v":0},{"$f":"Entries!$R$36","v":0},18,31,2,30,12,29]
[null,9,33,{"$f":"Entries!$Q$37","v":0},{"$f":"Entries!$R$37","v":0},19,34,5,35,8,36]
[null,null,34,{"$f":"Entries!$Q$38","v":0},{"$f":"Entries!$R$38","v":0},19,33,6,36,9,35]
[null,null,35,{"$f":"Entries!$Q$39","v":0},{"$f":"Entries!$R$39","v":0},20,36,5,33,9,34]
[null,null,36,{"$f":"Entries!$Q$40","v":0},{"$f":"Entries!$R$40","v":0},20,35,6,34,8,33]
[null,10,37,{"$f":"Entries!$Q$41","v":0},{"$f":"Entries!$R$41","v":0},7,38,15,39,5,40]
[null,null,38,{"$f":"Entries!$Q$42","v":0},{"$f":"Entries!$R$42","v":0},7,37,16,40,6,39]
[null,null,39,{"$f":"Entries!$Q$43","v":0},{"$f":"Entries!$R$43","v":0},14,40,15,37,6,38]
[null,null,40,{"$f":"Entries!$Q$44","v":0},{"$f":"Entries!$R$44","v":0},14,39,16,38,5,37]

{"sheet":"39","index":21,"n_rows":44,"n_cols":11,"rows_kept":44,"hidden":true,"merged":[[0,2,0,10],[1,2,1,10],[2,3,2,4],[2,5,2,6],[2,7,2,8],[2,9,2,10],[4,1,7,1],[8,1,11,1],[12,1,15,1],[16,1,19,1],[20,1,23,1],[24,1,27,1],[28,1,31,1],[32,1,35,1],[36,1,39,1],[40,1,43,1]]}
[null,null,{"$f":"Entries!$A$1","v":"2018 District 5 - Mixed Pairs"}]
[null,null,"DRAW"]
[{"$nulls":5},"R O U N D  1",null,"R O U N D  2",null,"R O U N D  3"]
[null,"Section","Team No.","Lead","Skip","Rink","Versus","Rink","Versus","Rink","Versus"]
[null,1,1,{"$f":"Entries!$Q$5","v":0},{"$f":"Entries!$R$5","v":0},1,2,10,3,19,4]
[null,null,2,{"$f":"Entries!$Q$6","v":0},{"$f":"Entries!$R$6","v":0},1,1,11,4,20,3]
[null,null,3,{"$f":"Entries!$Q$7","v":0},{"$f":"Entries!$R$7","v":0},2,4,10,1,20,2]
[null,null,4,{"$f":"Entries!$Q$8","v":0},{"$f":"Entries!$R$8","v":0},2,3,11,2,19,1]
[null,2,5,{"$f":"Entries!$Q$9","v":0},{"$f":"Entries!$R$9","v":0},3,6,8,7,17,8]
[null,null,6,{"$f":"Entries!$Q$10","v":0},{"$f":"Entries!$R$10","v":0},3,5,9,8,18,7]
[null,null,7,{"$f":"Entries!$Q$11","v":0},{"$f":"Entries!$R$11","v":0},4,8,8,5,18,6]
[null,null,8,{"$f":"Entries!$Q$12","v":0},{"$f":"Entries!$R$12","v":0},4,7,9,6,17,5]
[null,3,9,{"$f":"Entries!$Q$13","v":0},{"$f":"Entries!$R$13","v":0},5,10,12,11,15,12]
[null,null,10,{"$f":"Entries!$Q$14","v":0},{"$f":"Entries!$R$14","v":0},5,9,13,12,16,11]
[null,null,11,{"$f":"Entries!$Q$15","v":0},{"$f":"Entries!$R$15","v":0},6,12,12,9,16,10]
[null,null,12,{"$f":"Entries!$Q$16","v":0},{"$f":"Entries!$R$16","v":0},6,11,13,10,15,9]
[null,4,13,{"$f":"Entries!$Q$17","v":0},{"$f":"Entries!$R$17","v":0},8,14,17,15,3,16]
[null,null,14,{"$f":"Entries!$Q$18","v":0},{"$f":"Entries!$R$18","v":0},8,13,18,16,4,15]
[null,null,15,{"$f":"Entries!$Q$19","v":0},{"$f":"Entries!$R$19","v":0},9,16,17,13,4,14]
[null,null,16,{"$f":"Entries!$Q$20","v":0},{"$f":"Entries!$R$20","v":0},9,15,18,14,3,13]
[null,5,17,{"$f":"Entries!$Q$21","v":0},{"$f":"Entries!$R$21","v":0},10,18,7,19,1,20]
[null,null,18,{"$f":"Entries!$Q$22","v":0},{"$f":"Entries!$R$22","v":0},10,17,14,20,2,19]
[null,null,19,{"$f":"Entries!$Q$23","v":0},{"$f":"Entries!$R$23","v":0},11,20,7,17,2,18]
[null,null,20,{"$f":"Entries!$Q$24","v":0},{"$f":"Entries!$R$24","v":0},11,19,14,18,1,17]
[null,6,21,{"$f":"Entries!$Q$25","v":0},{"$f":"Entries!$R$25","v":0},12,22,19,23,7,24]
[null,null,22,{"$f":"Entries!$Q$26","v":0},{"$f":"Entries!$R$26","v":0},12,21,20,24,14,23]
[null,null,23,{"$f":"Entries!$Q$27","v":0},{"$f":"Entries!$R$27","v":0},13,24,19,21,14,22]
[null,null,24,{"$f":"Entries!$Q$28","v":0},{"$f":"Entries!$R$28","v":0},13,23,20,22,7,21]
[null,7,25,{"$f":"Entries!$Q$29","v":0},{"$f":"Entries!$R$29","v":0},15,26,3,27,10,28]
[null,null,26,{"$f":"Entries!$Q$30","v":0},{"$f":"Entries!$R$30","v":0},15,25,4,28,11,27]
[null,null,27,{"$f":"Entries!$Q$31","v":0},{"$f":"Entries!$R$31","v":0},16,28,3,25,11,26]
[null,null,28,{"$f":"Entries!$Q$32","v":0},{"$f":"Entries!$R$32","v":0},16,27,4,26,10,25]
[null,8,29,{"$f":"Entries!$Q$33","v":0},{"$f":"Entries!$R$33","v":0},17,30,1,31,12,32]
[null,null,30,{"$f":"Entries!$Q$34","v":0},{"$f":"Entries!$R$34","v":0},17,29,2,32,13,31]
[null,null,31,{"$f":"Entries!$Q$35","v":0},{"$f":"Entries!$R$35","v":0},18,32,1,29,13,30]
[null,null,32,{"$f":"Entries!$Q$36","v":0},{"$f":"Entries!$R$36","v":0},18,31,2,30,12,29]
[null,9,33,{"$f":"Entries!$Q$37","v":0},{"$f":"Entries!$R$37","v":0},19,34,5,35,8,36]
[null,null,34,{"$f":"Entries!$Q$38","v":0},{"$f":"Entries!$R$38","v":0},19,33,6,36,9,35]
[null,null,35,{"$f":"Entries!$Q$39","v":0},{"$f":"Entries!$R$39","v":0},20,36,5,33,9,34]
[null,null,36,{"$f":"Entries!$Q$40","v":0},{"$f":"Entries!$R$40","v":0},20,35,6,34,8,33]
[null,10,37,{"$f":"Entries!$Q$41","v":0},{"$f":"Entries!$R$41","v":0},7,38,15,39,"BYE"]
[null,null,38,{"$f":"Entries!$Q$42","v":0},{"$f":"Entries!$R$42","v":0},7,37,"BYE",null,6,39]
[null,null,39,{"$f":"Entries!$Q$43","v":0},{"$f":"Entries!$R$43","v":0},"BYE",null,15,37,6,38]
[{"$nulls":3},{"$f":"Entries!$Q$44","v":0},{"$f":"Entries!$R$44","v":0}]

{"sheet":"38","index":22,"n_rows":43,"n_cols":11,"rows_kept":43,"hidden":true,"merged":[[0,2,0,10],[1,2,1,10],[2,3,2,4],[2,5,2,6],[2,7,2,8],[2,9,2,10],[4,1,7,1],[8,1,11,1],[12,1,15,1],[16,1,19,1],[20,1,23,1],[24,1,27,1],[28,1,31,1],[32,1,35,1],[36,1,39,1],[40,1,43,1]]}
[null,null,{"$f":"Entries!$A$1","v":"2018 District 5 - Mixed Pairs"}]
[null,null,"DRAW"]
[{"$nulls":5},"R O U N D  1",null,"R O U N D  2",null,"R O U N D  3"]
[null,"Section","Team No.","Lead","Skip","Rink","Versus","Rink","Versus","Rink","Versus"]
[null,1,1,{"$f":"Entries!$Q$5","v":0},{"$f":"Entries!$R$5","v":0},1,2,10,3,19,4]
[null,null,2,{"$f":"Entries!$Q$6","v":0},{"$f":"Entries!$R$6","v":0},1,1,11,4,20,3]
[null,null,3,{"$f":"Entries!$Q$7","v":0},{"$f":"Entries!$R$7","v":0},2,4,10,1,20,2]
[null,null,4,{"$f":"Entries!$Q$8","v":0},{"$f":"Entries!$R$8","v":0},2,3,11,2,19,1]
[null,2,5,{"$f":"Entries!$Q$9","v":0},{"$f":"Entries!$R$9","v":0},3,6,8,7,17,8]
[null,null,6,{"$f":"Entries!$Q$10","v":0},{"$f":"Entries!$R$10","v":0},3,5,9,8,18,7]
[null,null,7,{"$f":"Entries!$Q$11","v":0},{"$f":"Entries!$R$11","v":0},4,8,8,5,18,6]
[null,null,8,{"$f":"Entries!$Q$12","v":0},{"$f":"Entries!$R$12","v":0},4,7,9,6,17,5]
[null,3,9,{"$f":"Entries!$Q$13","v":0},{"$f":"Entries!$R$13","v":0},5,10,12,11,15,12]
[null,null,10,{"$f":"Entries!$Q$14","v":0},{"$f":"Entries!$R$14","v":0},5,9,13,12,16,11]
[null,null,11,{"$f":"Entries!$Q$15","v":0},{"$f":"Entries!$R$15","v":0},6,12,12,9,16,10]
[null,null,12,{"$f":"Entries!$Q$16","v":0},{"$f":"Entries!$R$16","v":0},6,11,13,10,15,9]
[null,4,13,{"$f":"Entries!$Q$17","v":0},{"$f":"Entries!$R$17","v":0},8,14,17,15,3,16]
[null,null,14,{"$f":"Entries!$Q$18","v":0},{"$f":"Entries!$R$18","v":0},8,13,18,16,4,15]
[null,null,15,{"$f":"Entries!$Q$19","v":0},{"$f":"Entries!$R$19","v":0},9,16,17,13,4,14]
[null,null,16,{"$f":"Entries!$Q$20","v":0},{"$f":"Entries!$R$20","v":0},9,15,18,14,3,13]
[null,5,17,{"$f":"Entries!$Q$21","v":0},{"$f":"Entries!$R$21","v":0},10,18,7,19,1,20]
[null,null,18,{"$f":"Entries!$Q$22","v":0},{"$f":"Entries!$R$22","v":0},10,17,14,20,2,19]
[null,null,19,{"$f":"Entries!$Q$23","v":0},{"$f":"Entries!$R$23","v":0},11,20,7,17,2,18]
[null,null,20,{"$f":"Entries!$Q$24","v":0},{"$f":"Entries!$R$24","v":0},11,19,14,18,1,17]
[null,6,21,{"$f":"Entries!$Q$25","v":0},{"$f":"Entries!$R$25","v":0},12,22,19,23,7,24]
[null,null,22,{"$f":"Entries!$Q$26","v":0},{"$f":"Entries!$R$26","v":0},12,21,20,24,14,23]
[null,null,23,{"$f":"Entries!$Q$27","v":0},{"$f":"Entries!$R$27","v":0},13,24,19,21,14,22]
[null,null,24,{"$f":"Entries!$Q$28","v":0},{"$f":"Entries!$R$28","v":0},13,23,20,22,7,21]
[null,7,25,{"$f":"Entries!$Q$29","v":0},{"$f":"Entries!$R$29","v":0},15,26,3,27,10,28]
[null,null,26,{"$f":"Entries!$Q$30","v":0},{"$f":"Entries!$R$30","v":0},15,25,4,28,11,27]
[null,null,27,{"$f":"Entries!$Q$31","v":0},{"$f":"Entries!$R$31","v":0},16,28,3,25,11,26]
[null,null,28,{"$f":"Entries!$Q$32","v":0},{"$f":"Entries!$R$32","v":0},16,27,4,26,10,25]
[null,8,29,{"$f":"Entries!$Q$33","v":0},{"$f":"Entries!$R$33","v":0},17,30,1,31,12,32]
[null,null,30,{"$f":"Entries!$Q$34","v":0},{"$f":"Entries!$R$34","v":0},17,29,2,32,13,31]
[null,null,31,{"$f":"Entries!$Q$35","v":0},{"$f":"Entries!$R$35","v":0},18,32,1,29,13,30]
[null,null,32,{"$f":"Entries!$Q$36","v":0},{"$f":"Entries!$R$36","v":0},18,31,2,30,12,29]
[null,9,33,{"$f":"Entries!$Q$37","v":0},{"$f":"Entries!$R$37","v":0},19,34,5,35,"BYE"]
[null,null,34,{"$f":"Entries!$Q$38","v":0},{"$f":"Entries!$R$38","v":0},19,33,"BYE",null,9,35]
[null,null,35,{"$f":"Entries!$Q$39","v":0},{"$f":"Entries!$R$39","v":0},"BYE",null,5,33,9,34]
[]
[null,10,36,{"$f":"Entries!$Q$40","v":0},{"$f":"Entries!$R$40","v":0},7,37,15,38,"BYE"]
[null,null,37,{"$f":"Entries!$Q$41","v":0},{"$f":"Entries!$R$41","v":0},7,36,"BYE",null,6,38]
[null,null,38,{"$f":"Entries!$Q$42","v":0},{"$f":"Entries!$R$42","v":0},"BYE",null,15,36,6,37]

{"sheet":"37","index":23,"n_rows":43,"n_cols":11,"rows_kept":43,"hidden":true,"merged":[[0,2,0,10],[1,2,1,10],[2,3,2,4],[2,5,2,6],[2,7,2,8],[2,9,2,10],[4,1,7,1],[8,1,11,1],[12,1,15,1],[16,1,19,1],[20,1,23,1],[24,1,27,1],[28,1,31,1],[32,1,35,1],[36,1,39,1],[40,1,43,1]]}
[null,null,{"$f":"Entries!$A$1","v":"2018 District 5 - Mixed Pairs"}]
[null,null,"DRAW"]
[{"$nulls":5},"R O U N D  1",null,"R O U N D  2",null,"R O U N D  3"]
[null,"Section","Team No.","Lead","Skip","Rink","Versus","Rink","Versus","Rink","Versus"]
[null,1,1,{"$f":"Entries!$Q$5","v":0},{"$f":"Entries!$R$5","v":0},1,2,10,3,19,4]
[null,null,2,{"$f":"Entries!$Q$6","v":0},{"$f":"Entries!$R$6","v":0},1,1,11,4,20,3]
[null,null,3,{"$f":"Entries!$Q$7","v":0},{"$f":"Entries!$R$7","v":0},2,4,10,1,20,2]
[null,null,4,{"$f":"Entries!$Q$8","v":0},{"$f":"Entries!$R$8","v":0},2,3,11,2,19,1]
[null,2,5,{"$f":"Entries!$Q$9","v":0},{"$f":"Entries!$R$9","v":0},3,6,8,7,17,8]
[null,null,6,{"$f":"Entries!$Q$10","v":0},{"$f":"Entries!$R$10","v":0},3,5,9,8,18,7]
[null,null,7,{"$f":"Entries!$Q$11","v":0},{"$f":"Entries!$R$11","v":0},4,8,8,5,18,6]
[null,null,8,{"$f":"Entries!$Q$12","v":0},{"$f":"Entries!$R$12","v":0},4,7,9,6,17,5]
[null,3,9,{"$f":"Entries!$Q$13","v":0},{"$f":"Entries!$R$13","v":0},5,10,12,11,15,12]
[null,null,10,{"$f":"Entries!$Q$14","v":0},{"$f":"Entries!$R$14","v":0},5,9,13,12,16,11]
[null,null,11,{"$f":"Entries!$Q$15","v":0},{"$f":"Entries!$R$15","v":0},6,12,12,9,16,10]
[null,null,12,{"$f":"Entries!$Q$16","v":0},{"$f":"Entries!$R$16","v":0},6,11,13,10,15,9]
[null,4,13,{"$f":"Entries!$Q$17","v":0},{"$f":"Entries!$R$17","v":0},8,14,17,15,3,16]
[null,null,14,{"$f":"Entries!$Q$18","v":0},{"$f":"Entries!$R$18","v":0},8,13,18,16,4,15]
[null,null,15,{"$f":"Entries!$Q$19","v":0},{"$f":"Entries!$R$19","v":0},9,16,17,13,4,14]
[null,null,16,{"$f":"Entries!$Q$20","v":0},{"$f":"Entries!$R$20","v":0},9,15,18,14,3,13]
[null,5,17,{"$f":"Entries!$Q$21","v":0},{"$f":"Entries!$R$21","v":0},10,18,7,19,1,20]
[null,null,18,{"$f":"Entries!$Q$22","v":0},{"$f":"Entries!$R$22","v":0},10,17,14,20,2,19]
[null,null,19,{"$f":"Entries!$Q$23","v":0},{"$f":"Entries!$R$23","v":0},11,20,7,17,2,18]
[null,null,20,{"$f":"Entries!$Q$24","v":0},{"$f":"Entries!$R$24","v":0},11,19,14,18,1,17]
[null,6,21,{"$f":"Entries!$Q$25","v":0},{"$f":"Entries!$R$25","v":0},12,22,19,23,7,24]
[null,null,22,{"$f":"Entries!$Q$26","v":0},{"$f":"Entries!$R$26","v":0},12,21,20,24,14,23]
[null,null,23,{"$f":"Entries!$Q$27","v":0},{"$f":"Entries!$R$27","v":0},13,24,19,21,14,22]
[null,null,24,{"$f":"Entries!$Q$28","v":0},{"$f":"Entries!$R$28","v":0},13,23,20,22,7,21]
[null,7,25,{"$f":"Entries!$Q$29","v":0},{"$f":"Entries!$R$29","v":0},15,26,3,27,10,28]
[null,null,26,{"$f":"Entries!$Q$30","v":0},{"$f":"Entries!$R$30","v":0},15,25,4,28,11,27]
[null,null,27,{"$f":"Entries!$Q$31","v":0},{"$f":"Entries!$R$31","v":0},16,28,3,25,11,26]
[null,null,28,{"$f":"Entries!$Q$32","v":0},{"$f":"Entries!$R$32","v":0},16,27,4,26,10,25]
[null,8,29,{"$f":"Entries!$Q$33","v":0},{"$f":"Entries!$R$33","v":0},17,30,1,31,null,"BYE"]
[null,null,30,{"$f":"Entries!$Q$34","v":0},{"$f":"Entries!$R$34","v":0},17,29,null,"BYE",13,31]
[null,null,31,{"$f":"Entries!$Q$35","v":0},{"$f":"Entries!$R$35","v":0},null,"BYE",1,29,13,30]
[]
[null,9,32,{"$f":"Entries!$Q$36","v":0},{"$f":"Entries!$R$36","v":0},19,33,5,34,null,"BYE"]
[null,null,33,{"$f":"Entries!$Q$37","v":0},{"$f":"Entries!$R$37","v":0},19,32,null,"BYE",9,34]
[null,null,34,{"$f":"Entries!$Q$38","v":0},{"$f":"Entries!$R$38","v":0},null,"BYE",5,32,9,33]
[]
[null,10,35,{"$f":"Entries!$Q$39","v":0},{"$f":"Entries!$R$39","v":0},7,36,15,37,null,"BYE"]
[null,null,36,{"$f":"Entries!$Q$40","v":0},{"$f":"Entries!$R$40","v":0},7,35,null,"BYE",6,37]
[null,null,37,{"$f":"Entries!$Q$41","v":0},{"$f":"Entries!$R$41","v":0},null,"BYE",15,35,6,36]

{"sheet":"36","index":24,"n_rows":40,"n_cols":11,"rows_kept":40,"hidden":true,"merged":[[0,2,0,10],[1,2,1,10],[2,3,2,4],[2,5,2,6],[2,7,2,8],[2,9,2,10],[4,1,7,1],[8,1,11,1],[12,1,15,1],[16,1,19,1],[20,1,23,1],[24,1,27,1],[28,1,31,1],[32,1,35,1],[36,1,39,1]]}
[null,null,{"$f":"Entries!$A$1","v":"2018 District 5 - Mixed Pairs"}]
[null,null,"DRAW"]
[{"$nulls":5},"R O U N D  1",null,"R O U N D  2",null,"R O U N D  3"]
[null,"Section","Team No.","Lead","Skip","Rink","Versus","Rink","Versus","Rink","Versus"]
[null,1,1,{"$f":"Entries!$Q$5","v":0},{"$f":"Entries!$R$5","v":0},1,2,10,3,19,4]
[null,null,2,{"$f":"Entries!$Q$6","v":0},{"$f":"Entries!$R$6","v":0},1,1,11,4,20,3]
[null,null,3,{"$f":"Entries!$Q$7","v":0},{"$f":"Entries!$R$7","v":0},2,4,10,1,20,2]
[null,null,4,{"$f":"Entries!$Q$8","v":0},{"$f":"Entries!$R$8","v":0},2,3,11,2,19,1]
[null,2,5,{"$f":"Entries!$Q$9","v":0},{"$f":"Entries!$R$9","v":0},3,6,8,7,17,8]
[null,null,6,{"$f":"Entries!$Q$10","v":0},{"$f":"Entries!$R$10","v":0},3,5,9,8,18,7]
[null,null,7,{"$f":"Entries!$Q$11","v":0},{"$f":"Entries!$R$11","v":0},4,8,8,5,18,6]
[null,null,8,{"$f":"Entries!$Q$12","v":0},{"$f":"Entries!$R$12","v":0},4,7,9,6,17,5]
[null,3,9,{"$f":"Entries!$Q$13","v":0},{"$f":"Entries!$R$13","v":0},5,10,12,11,15,12]
[null,null,10,{"$f":"Entries!$Q$14","v":0},{"$f":"Entries!$R$14","v":0},5,9,13,12,16,11]
[null,null,11,{"$f":"Entries!$Q$15","v":0},{"$f":"Entries!$R$15","v":0},6,12,12,9,16,10]
[null,null,12,{"$f":"Entries!$Q$16","v":0},{"$f":"Entries!$R$16","v":0},6,11,13,10,15,9]
[null,4,13,{"$f":"Entries!$Q$17","v":0},{"$f":"Entries!$R$17","v":0},8,14,17,15,3,16]
[null,null,14,{"$f":"Entries!$Q$18","v":0},{"$f":"Entries!$R$18","v":0},8,13,18,16,4,15]
[null,null,15,{"$f":"Entries!$Q$19","v":0},{"$f":"Entries!$R$19","v":0},9,16,17,13,4,14]
[null,null,16,{"$f":"Entries!$Q$20","v":0},{"$f":"Entries!$R$20","v":0},9,15,18,14,3,13]
[null,5,17,{"$f":"Entries!$Q$21","v":0},{"$f":"Entries!$R$21","v":0},10,18,15,19,1,20]
[null,null,18,{"$f":"Entries!$Q$22","v":0},{"$f":"Entries!$R$22","v":0},10,17,16,20,2,19]
[null,null,19,{"$f":"Entries!$Q$23","v":0},{"$f":"Entries!$R$23","v":0},11,20,15,17,2,18]
[null,null,20,{"$f":"Entries!$Q$24","v":0},{"$f":"Entries!$R$24","v":0},11,19,16,18,1,17]
[null,6,21,{"$f":"Entries!$Q$25","v":0},{"$f":"Entries!$R$25","v":0},12,22,19,23,5,24]
[null,null,22,{"$f":"Entries!$Q$26","v":0},{"$f":"Entries!$R$26","v":0},12,21,20,24,6,23]
[null,null,23,{"$f":"Entries!$Q$27","v":0},{"$f":"Entries!$R$27","v":0},13,24,19,21,6,22]
[null,null,24,{"$f":"Entries!$Q$28","v":0},{"$f":"Entries!$R$28","v":0},13,23,20,22,5,21]
[null,7,25,{"$f":"Entries!$Q$29","v":0},{"$f":"Entries!$R$29","v":0},15,26,3,27,10,28]
[null,null,26,{"$f":"Entries!$Q$30","v":0},{"$f":"Entries!$R$30","v":0},15,25,4,28,11,27]
[null,null,27,{"$f":"Entries!$Q$31","v":0},{"$f":"Entries!$R$31","v":0},16,28,3,25,11,26]
[null,null,28,{"$f":"Entries!$Q$32","v":0},{"$f":"Entries!$R$32","v":0},16,27,4,26,10,25]
[null,8,29,{"$f":"Entries!$Q$33","v":0},{"$f":"Entries!$R$33","v":0},17,30,1,31,12,32]
[null,null,30,{"$f":"Entries!$Q$34","v":0},{"$f":"Entries!$R$34","v":0},17,29,2,32,13,31]
[null,null,31,{"$f":"Entries!$Q$35","v":0},{"$f":"Entries!$R$35","v":0},18,32,1,29,13,30]
[null,null,32,{"$f":"Entries!$Q$36","v":0},{"$f":"Entries!$R$36","v":0},18,31,2,30,12,29]
[null,9,33,{"$f":"Entries!$Q$37","v":0},{"$f":"Entries!$R$37","v":0},19,34,5,35,8,36]
[null,null,34,{"$f":"Entries!$Q$38","v":0},{"$f":"Entries!$R$38","v":0},19,33,6,36,9,35]
[null,null,35,{"$f":"Entries!$Q$39","v":0},{"$f":"Entries!$R$39","v":0},20,36,5,33,9,34]
[null,null,36,{"$f":"Entries!$Q$40","v":0},{"$f":"Entries!$R$40","v":0},20,35,6,34,8,33]

{"sheet":"35","index":25,"n_rows":39,"n_cols":11,"rows_kept":39,"hidden":true,"merged":[[0,2,0,10],[1,2,1,10],[2,3,2,4],[2,5,2,6],[2,7,2,8],[2,9,2,10],[4,1,7,1],[8,1,11,1],[12,1,15,1],[16,1,19,1],[20,1,23,1],[24,1,27,1],[28,1,31,1],[32,1,35,1],[36,1,39,1]]}
[null,null,{"$f":"Entries!$A$1","v":"2018 District 5 - Mixed Pairs"}]
[null,null,"DRAW"]
[{"$nulls":5},"R O U N D  1",null,"R O U N D  2",null,"R O U N D  3"]
[null,"Section","Team No.","Lead","Skip","Rink","Versus","Rink","Versus","Rink","Versus"]
[null,1,1,{"$f":"Entries!$Q$5","v":0},{"$f":"Entries!$R$5","v":0},1,2,10,3,19,4]
[null,null,2,{"$f":"Entries!$Q$6","v":0},{"$f":"Entries!$R$6","v":0},1,1,11,4,20,3]
[null,null,3,{"$f":"Entries!$Q$7","v":0},{"$f":"Entries!$R$7","v":0},2,4,10,1,20,2]
[null,null,4,{"$f":"Entries!$Q$8","v":0},{"$f":"Entries!$R$8","v":0},2,3,11,2,19,1]
[null,2,5,{"$f":"Entries!$Q$9","v":0},{"$f":"Entries!$R$9","v":0},3,6,8,7,17,8]
[null,null,6,{"$f":"Entries!$Q$10","v":0},{"$f":"Entries!$R$10","v":0},3,5,9,8,18,7]
[null,null,7,{"$f":"Entries!$Q$11","v":0},{"$f":"Entries!$R$11","v":0},4,8,8,5,18,6]
[null,null,8,{"$f":"Entries!$Q$12","v":0},{"$f":"Entries!$R$12","v":0},4,7,9,6,17,5]
[null,3,9,{"$f":"Entries!$Q$13","v":0},{"$f":"Entries!$R$13","v":0},5,10,12,11,15,12]
[null,null,10,{"$f":"Entries!$Q$14","v":0},{"$f":"Entries!$R$14","v":0},5,9,13,12,16,11]
[null,null,11,{"$f":"Entries!$Q$15","v":0},{"$f":"Entries!$R$15","v":0},6,12,12,9,16,10]
[null,null,12,{"$f":"Entries!$Q$16","v":0},{"$f":"Entries!$R$16","v":0},6,11,13,10,15,9]
[null,4,13,{"$f":"Entries!$Q$17","v":0},{"$f":"Entries!$R$17","v":0},8,14,17,15,3,16]
[null,null,14,{"$f":"Entries!$Q$18","v":0},{"$f":"Entries!$R$18","v":0},8,13,18,16,4,15]
[null,null,15,{"$f":"Entries!$Q$19","v":0},{"$f":"Entries!$R$19","v":0},9,16,17,13,4,14]
[null,null,16,{"$f":"Entries!$Q$20","v":0},{"$f":"Entries!$R$20","v":0},9,15,18,14,3,13]
[null,5,17,{"$f":"Entries!$Q$21","v":0},{"$f":"Entries!$R$21","v":0},10,18,7,19,1,20]
[null,null,18,{"$f":"Entries!$Q$22","v":0},{"$f":"Entries!$R$22","v":0},10,17,14,20,2,19]
[null,null,19,{"$f":"Entries!$Q$23","v":0},{"$f":"Entries!$R$23","v":0},11,20,7,17,2,18]
[null,null,20,{"$f":"Entries!$Q$24","v":0},{"$f":"Entries!$R$24","v":0},11,19,14,18,1,17]
[null,6,21,{"$f":"Entries!$Q$25","v":0},{"$f":"Entries!$R$25","v":0},12,22,19,23,7,24]
[null,null,22,{"$f":"Entries!$Q$26","v":0},{"$f":"Entries!$R$26","v":0},12,21,20,24,14,23]
[null,null,23,{"$f":"Entries!$Q$27","v":0},{"$f":"Entries!$R$27","v":0},13,24,19,21,14,22]
[null,null,24,{"$f":"Entries!$Q$28","v":0},{"$f":"Entries!$R$28","v":0},13,23,20,22,7,21]
[null,7,25,{"$f":"Entries!$Q$29","v":0},{"$f":"Entries!$R$29","v":0},15,26,3,27,10,28]
[null,null,26,{"$f":"Entries!$Q$30","v":0},{"$f":"Entries!$R$30","v":0},15,25,4,28,11,27]
[null,null,27,{"$f":"Entries!$Q$31","v":0},{"$f":"Entries!$R$31","v":0},16,28,3,25,11,26]
[null,null,28,{"$f":"Entries!$Q$32","v":0},{"$f":"Entries!$R$32","v":0},16,27,4,26,10,25]
[null,8,29,{"$f":"Entries!$Q$33","v":0},{"$f":"Entries!$R$33","v":0},17,30,1,31,12,32]
[null,null,30,{"$f":"Entries!$Q$34","v":0},{"$f":"Entries!$R$34","v":0},17,29,2,32,13,31]
[null,null,31,{"$f":"Entries!$Q$35","v":0},{"$f":"Entries!$R$35","v":0},18,32,1,29,13,30]
[null,null,32,{"$f":"Entries!$Q$36","v":0},{"$f":"Entries!$R$36","v":0},18,31,2,30,12,29]
[null,9,33,{"$f":"Entries!$Q$37","v":0},{"$f":"Entries!$R$37","v":0},19,34,5,35,null,"BYE"]
[null,null,34,{"$f":"Entries!$Q$38","v":0},{"$f":"Entries!$R$38","v":0},19,33,null,"BYE",9,35]
[null,null,35,{"$f":"Entries!$Q$39","v":0},{"$f":"Entries!$R$39","v":0},null,"BYE",5,33,9,34]

{"sheet":"34","index":26,"n_rows":39,"n_cols":11,"rows_kept":39,"hidden":true,"merged":[[0,2,0,10],[1,2,1,10],[2,3,2,4],[2,5,2,6],[2,7,2,8],[2,9,2,10],[4,1,7,1],[8,1,11,1],[12,1,15,1],[16,1,19,1],[20,1,23,1],[24,1,27,1],[28,1,31,1],[32,1,35,1],[36,1,39,1]]}
[null,null,{"$f":"Entries!$A$1","v":"2018 District 5 - Mixed Pairs"}]
[null,null,"DRAW"]
[{"$nulls":5},"R O U N D  1",null,"R O U N D  2",null,"R O U N D  3"]
[null,"Section","Team No.","Lead","Skip","Rink","Versus","Rink","Versus","Rink","Versus"]
[null,1,1,{"$f":"Entries!$Q$5","v":0},{"$f":"Entries!$R$5","v":0},1,2,10,3,19,4]
[null,null,2,{"$f":"Entries!$Q$6","v":0},{"$f":"Entries!$R$6","v":0},1,1,11,4,20,3]
[null,null,3,{"$f":"Entries!$Q$7","v":0},{"$f":"Entries!$R$7","v":0},2,4,10,1,20,2]
[null,null,4,{"$f":"Entries!$Q$8","v":0},{"$f":"Entries!$R$8","v":0},2,3,11,2,19,1]
[null,2,5,{"$f":"Entries!$Q$9","v":0},{"$f":"Entries!$R$9","v":0},3,6,8,7,17,8]
[null,null,6,{"$f":"Entries!$Q$10","v":0},{"$f":"Entries!$R$10","v":0},3,5,9,8,18,7]
[null,null,7,{"$f":"Entries!$Q$11","v":0},{"$f":"Entries!$R$11","v":0},4,8,8,5,18,6]
[null,null,8,{"$f":"Entries!$Q$12","v":0},{"$f":"Entries!$R$12","v":0},4,7,9,6,17,5]
[null,3,9,{"$f":"Entries!$Q$13","v":0},{"$f":"Entries!$R$13","v":0},5,10,12,11,15,12]
[null,null,10,{"$f":"Entries!$Q$14","v":0},{"$f":"Entries!$R$14","v":0},5,9,13,12,16,11]
[null,null,11,{"$f":"Entries!$Q$15","v":0},{"$f":"Entries!$R$15","v":0},6,12,12,9,16,10]
[null,null,12,{"$f":"Entries!$Q$16","v":0},{"$f":"Entries!$R$16","v":0},6,11,13,10,15,9]
[null,4,13,{"$f":"Entries!$Q$17","v":0},{"$f":"Entries!$R$17","v":0},8,14,17,15,3,16]
[null,null,14,{"$f":"Entries!$Q$18","v":0},{"$f":"Entries!$R$18","v":0},8,13,18,16,4,15]
[null,null,15,{"$f":"Entries!$Q$19","v":0},{"$f":"Entries!$R$19","v":0},9,16,17,13,4,14]
[null,null,16,{"$f":"Entries!$Q$20","v":0},{"$f":"Entries!$R$20","v":0},9,15,18,14,3,13]
[null,5,17,{"$f":"Entries!$Q$21","v":0},{"$f":"Entries!$R$21","v":0},10,18,7,19,1,20]
[null,null,18,{"$f":"Entries!$Q$22","v":0},{"$f":"Entries!$R$22","v":0},10,17,14,20,2,19]
[null,null,19,{"$f":"Entries!$Q$23","v":0},{"$f":"Entries!$R$23","v":0},11,20,7,17,2,18]
[null,null,20,{"$f":"Entries!$Q$24","v":0},{"$f":"Entries!$R$24","v":0},11,19,14,18,1,17]
[null,6,21,{"$f":"Entries!$Q$25","v":0},{"$f":"Entries!$R$25","v":0},12,22,19,23,7,24]
[null,null,22,{"$f":"Entries!$Q$26","v":0},{"$f":"Entries!$R$26","v":0},12,21,20,24,14,23]
[null,null,23,{"$f":"Entries!$Q$27","v":0},{"$f":"Entries!$R$27","v":0},13,24,19,21,14,22]
[null,null,24,{"$f":"Entries!$Q$28","v":0},{"$f":"Entries!$R$28","v":0},13,23,20,22,7,21]
[null,7,25,{"$f":"Entries!$Q$29","v":0},{"$f":"Entries!$R$29","v":0},15,26,3,27,10,28]
[null,null,26,{"$f":"Entries!$Q$30","v":0},{"$f":"Entries!$R$30","v":0},15,25,4,28,11,27]
[null,null,27,{"$f":"Entries!$Q$31","v":0},{"$f":"Entries!$R$31","v":0},16,28,3,25,11,26]
[null,null,28,{"$f":"Entries!$Q$32","v":0},{"$f":"Entries!$R$32","v":0},16,27,4,26,10,25]
[null,8,29,{"$f":"Entries!$Q$33","v":0},{"$f":"Entries!$R$33","v":0},17,30,2,31,null,"BYE"]
[null,null,30,{"$f":"Entries!$Q$34","v":0},{"$f":"Entries!$R$34","v":0},17,29,null,"BYE",13,31]
[null,null,31,{"$f":"Entries!$Q$35","v":0},{"$f":"Entries!$R$35","v":0},null,"BYE",2,29,13,30]
[]
[null,9,32,{"$f":"Entries!$Q$36","v":0},{"$f":"Entries!$R$36","v":0},19,33,5,34,null,"BYE"]
[null,null,33,{"$f":"Entries!$Q$37","v":0},{"$f":"Entries!$R$37","v":0},19,32,null,"BYE",9,34]
[null,null,34,{"$f":"Entries!$Q$38","v":0},{"$f":"Entries!$R$38","v":0},null,"BYE",5,32,9,33]

{"sheet":"33","index":27,"n_rows":39,"n_cols":11,"rows_kept":39,"hidden":true,"merged":[[0,2,0,10],[1,2,1,10],[2,3,2,4],[2,5,2,6],[2,7,2,8],[2,9,2,10],[4,1,7,1],[8,1,11,1],[12,1,15,1],[16,1,19,1],[20,1,23,1],[24,1,27,1],[28,1,31,1],[32,1,35,1],[36,1,39,1]]}
[null,null,{"$f":"Entries!$A$1","v":"2018 District 5 - Mixed Pairs"}]
[null,null,"DRAW"]
[{"$nulls":5},"R O U N D  1",null,"R O U N D  2",null,"R O U N D  3"]
[null,"Section","Team No.","Lead","Skip","Rink","Versus","Rink","Versus","Rink","Versus"]
[null,1,1,{"$f":"Entries!$Q$5","v":0},{"$f":"Entries!$R$5","v":0},1,2,10,3,19,4]
[null,null,2,{"$f":"Entries!$Q$6","v":0},{"$f":"Entries!$R$6","v":0},1,1,11,4,20,3]
[null,null,3,{"$f":"Entries!$Q$7","v":0},{"$f":"Entries!$R$7","v":0},2,4,10,1,20,2]
[null,null,4,{"$f":"Entries!$Q$8","v":0},{"$f":"Entries!$R$8","v":0},2,3,11,2,19,1]
[null,2,5,{"$f":"Entries!$Q$9","v":0},{"$f":"Entries!$R$9","v":0},3,6,8,7,17,8]
[null,null,6,{"$f":"Entries!$Q$10","v":0},{"$f":"Entries!$R$10","v":0},3,5,9,8,18,7]
[null,null,7,{"$f":"Entries!$Q$11","v":0},{"$f":"Entries!$R$11","v":0},4,8,8,5,18,6]
[null,null,8,{"$f":"Entries!$Q$12","v":0},{"$f":"Entries!$R$12","v":0},4,7,9,6,17,5]
[null,3,9,{"$f":"Entries!$Q$13","v":0},{"$f":"Entries!$R$13","v":0},5,10,12,11,15,12]
[null,null,10,{"$f":"Entries!$Q$14","v":0},{"$f":"Entries!$R$14","v":0},5,9,13,12,16,11]
[null,null,11,{"$f":"Entries!$Q$15","v":0},{"$f":"Entries!$R$15","v":0},6,12,12,9,16,10]
[null,null,12,{"$f":"Entries!$Q$16","v":0},{"$f":"Entries!$R$16","v":0},6,11,13,10,15,9]
[null,4,13,{"$f":"Entries!$Q$17","v":0},{"$f":"Entries!$R$17","v":0},8,14,17,15,3,16]
[null,null,14,{"$f":"Entries!$Q$18","v":0},{"$f":"Entries!$R$18","v":0},8,13,18,16,4,15]
[null,null,15,{"$f":"Entries!$Q$19","v":0},{"$f":"Entries!$R$19","v":0},9,16,17,13,4,14]
[null,null,16,{"$f":"Entries!$Q$20","v":0},{"$f":"Entries!$R$20","v":0},9,15,18,14,3,13]
[null,5,17,{"$f":"Entries!$Q$21","v":0},{"$f":"Entries!$R$21","v":0},10,18,7,19,1,20]
[null,null,18,{"$f":"Entries!$Q$22","v":0},{"$f":"Entries!$R$22","v":0},10,17,14,20,2,19]
[null,null,19,{"$f":"Entries!$Q$23","v":0},{"$f":"Entries!$R$23","v":0},11,20,7,17,2,18]
[null,null,20,{"$f":"Entries!$Q$24","v":0},{"$f":"Entries!$R$24","v":0},11,19,14,18,1,17]
[null,6,21,{"$f":"Entries!$Q$25","v":0},{"$f":"Entries!$R$25","v":0},12,22,19,23,7,24]
[null,null,22,{"$f":"Entries!$Q$26","v":0},{"$f":"Entries!$R$26","v":0},12,21,20,24,14,23]
[null,null,23,{"$f":"Entries!$Q$27","v":0},{"$f":"Entries!$R$27","v":0},13,24,19,21,14,22]
[null,null,24,{"$f":"Entries!$Q$28","v":0},{"$f":"Entries!$R$28","v":0},13,23,20,22,7,21]
[null,7,25,{"$f":"Entries!$Q$29","v":0},{"$f":"Entries!$R$29","v":0},15,26,3,27,null,"BYE"]
[null,null,26,{"$f":"Entries!$Q$30","v":0},{"$f":"Entries!$R$30","v":0},15,25,null,"BYE",11,27]
[null,null,27,{"$f":"Entries!$Q$31","v":0},{"$f":"Entries!$R$31","v":0},null,"BYE",3,25,11,26]
[]
[null,8,28,{"$f":"Entries!$Q$32","v":0},{"$f":"Entries!$R$32","v":0},17,29,2,30,null,"BYE"]
[null,null,29,{"$f":"Entries!$Q$33","v":0},{"$f":"Entries!$R$33","v":0},17,28,null,"BYE",13,30]
[null,null,30,{"$f":"Entries!$Q$34","v":0},{"$f":"Entries!$R$34","v":0},null,"BYE",2,28,13,29]
[]
[null,9,31,{"$f":"Entries!$Q$35","v":0},{"$f":"Entries!$R$35","v":0},19,32,5,33,null,"BYE"]
[null,null,32,{"$f":"Entries!$Q$36","v":0},{"$f":"Entries!$R$36","v":0},19,31,null,"BYE",9,33]
[null,null,33,{"$f":"Entries!$Q$37","v":0},{"$f":"Entries!$R$37","v":0},null,"BYE",5,31,9,32]

{"sheet":"32","index":28,"n_rows":36,"n_cols":11,"rows_kept":36,"hidden":true,"merged":[[0,2,0,10],[1,2,1,10],[2,3,2,4],[2,5,2,6],[2,7,2,8],[2,9,2,10],[4,1,7,1],[8,1,11,1],[12,1,15,1],[16,1,19,1],[20,1,23,1],[24,1,27,1],[28,1,31,1],[32,1,35,1]]}
[null,null,{"$f":"Entries!$A$1","v":"2018 District 5 - Mixed Pairs"}]
[null,null,"DRAW"]
[{"$nulls":5},"R O U N D  1",null,"R O U N D  2",null,"R O U N D  3"]
[null,"Section","Team No.","Lead","Skip","Rink","Versus","Rink","Versus","Rink","Versus"]
[null,1,1,{"$f":"Entries!$Q$5","v":0},{"$f":"Entries!$R$5","v":0},1,2,10,3,19,4]
[null,null,2,{"$f":"Entries!$Q$6","v":0},{"$f":"Entries!$R$6","v":0},1,1,11,4,20,3]
[null,null,3,{"$f":"Entries!$Q$7","v":0},{"$f":"Entries!$R$7","v":0},2,4,10,1,20,2]
[null,null,4,{"$f":"Entries!$Q$8","v":0},{"$f":"Entries!$R$8","v":0},2,3,11,2,19,1]
[null,2,5,{"$f":"Entries!$Q$9","v":0},{"$f":"Entries!$R$9","v":0},3,6,8,7,17,8]
[null,null,6,{"$f":"Entries!$Q$10","v":0},{"$f":"Entries!$R$10","v":0},3,5,9,8,18,7]
[null,null,7,{"$f":"Entries!$Q$11","v":0},{"$f":"Entries!$R$11","v":0},4,8,8,5,18,6]
[null,null,8,{"$f":"Entries!$Q$12","v":0},{"$f":"Entries!$R$12","v":0},4,7,9,6,17,5]
[null,3,9,{"$f":"Entries!$Q$13","v":0},{"$f":"Entries!$R$13","v":0},5,10,12,11,15,12]
[null,null,10,{"$f":"Entries!$Q$14","v":0},{"$f":"Entries!$R$14","v":0},5,9,13,12,16,11]
[null,null,11,{"$f":"Entries!$Q$15","v":0},{"$f":"Entries!$R$15","v":0},6,12,12,9,16,10]
[null,null,12,{"$f":"Entries!$Q$16","v":0},{"$f":"Entries!$R$16","v":0},6,11,13,10,15,9]
[null,4,13,{"$f":"Entries!$Q$17","v":0},{"$f":"Entries!$R$17","v":0},8,14,17,15,3,16]
[null,null,14,{"$f":"Entries!$Q$18","v":0},{"$f":"Entries!$R$18","v":0},8,13,18,16,4,15]
[null,null,15,{"$f":"Entries!$Q$19","v":0},{"$f":"Entries!$R$19","v":0},9,16,17,13,4,14]
[null,null,16,{"$f":"Entries!$Q$20","v":0},{"$f":"Entries!$R$20","v":0},9,15,18,14,3,13]
[null,5,17,{"$f":"Entries!$Q$21","v":0},{"$f":"Entries!$R$21","v":0},10,18,5,19,1,20]
[null,null,18,{"$f":"Entries!$Q$22","v":0},{"$f":"Entries!$R$22","v":0},10,17,6,20,2,19]
[null,null,19,{"$f":"Entries!$Q$23","v":0},{"$f":"Entries!$R$23","v":0},11,20,5,17,2,18]
[null,null,20,{"$f":"Entries!$Q$24","v":0},{"$f":"Entries!$R$24","v":0},11,19,6,18,1,17]
[null,6,21,{"$f":"Entries!$Q$25","v":0},{"$f":"Entries!$R$25","v":0},12,22,19,23,5,24]
[null,null,22,{"$f":"Entries!$Q$26","v":0},{"$f":"Entries!$R$26","v":0},12,21,20,24,6,23]
[null,null,23,{"$f":"Entries!$Q$27","v":0},{"$f":"Entries!$R$27","v":0},13,24,19,21,6,22]
[null,null,24,{"$f":"Entries!$Q$28","v":0},{"$f":"Entries!$R$28","v":0},13,23,20,22,5,21]
[null,7,25,{"$f":"Entries!$Q$29","v":0},{"$f":"Entries!$R$29","v":0},19,26,3,27,10,28]
[null,null,26,{"$f":"Entries!$Q$30","v":0},{"$f":"Entries!$R$30","v":0},19,25,4,28,11,27]
[null,null,27,{"$f":"Entries!$Q$31","v":0},{"$f":"Entries!$R$31","v":0},20,28,3,25,11,26]
[null,null,28,{"$f":"Entries!$Q$32","v":0},{"$f":"Entries!$R$32","v":0},20,27,4,26,10,25]
[null,8,29,{"$f":"Entries!$Q$33","v":0},{"$f":"Entries!$R$33","v":0},17,30,1,31,12,32]
[null,null,30,{"$f":"Entries!$Q$34","v":0},{"$f":"Entries!$R$34","v":0},17,29,2,32,13,31]
[null,null,31,{"$f":"Entries!$Q$35","v":0},{"$f":"Entries!$R$35","v":0},18,32,1,29,13,30]
[null,null,32,{"$f":"Entries!$Q$36","v":0},{"$f":"Entries!$R$36","v":0},18,31,2,30,12,29]

{"sheet":"31","index":29,"n_rows":35,"n_cols":11,"rows_kept":35,"hidden":true,"merged":[[0,2,0,10],[1,2,1,10],[2,3,2,4],[2,5,2,6],[2,7,2,8],[2,9,2,10],[4,1,7,1],[8,1,11,1],[12,1,15,1],[16,1,19,1],[20,1,23,1],[24,1,27,1],[28,1,31,1],[32,1,35,1]]}
[null,null,{"$f":"Entries!$A$1","v":"2018 District 5 - Mixed Pairs"}]
[null,null,"DRAW"]
[{"$nulls":5},"R O U N D  1",null,"R O U N D  2",null,"R O U N D  3"]
[null,"Section","Team No.","Lead","Skip","Rink","Versus","Rink","Versus","Rink","Versus"]
[null,1,1,{"$f":"Entries!$Q$5","v":0},{"$f":"Entries!$R$5","v":0},1,2,10,3,19,4]
[null,null,2,{"$f":"Entries!$Q$6","v":0},{"$f":"Entries!$R$6","v":0},1,1,11,4,20,3]
[null,null,3,{"$f":"Entries!$Q$7","v":0},{"$f":"Entries!$R$7","v":0},2,4,10,1,20,2]
[null,null,4,{"$f":"Entries!$Q$8","v":0},{"$f":"Entries!$R$8","v":0},2,3,11,2,19,1]
[null,2,5,{"$f":"Entries!$Q$9","v":0},{"$f":"Entries!$R$9","v":0},3,6,8,7,17,8]
[null,null,6,{"$f":"Entries!$Q$10","v":0},{"$f":"Entries!$R$10","v":0},3,5,9,8,18,7]
[null,null,7,{"$f":"Entries!$Q$11","v":0},{"$f":"Entries!$R$11","v":0},4,8,8,5,18,6]
[null,null,8,{"$f":"Entries!$Q$12","v":0},{"$f":"Entries!$R$12","v":0},4,7,9,6,17,5]
[null,3,9,{"$f":"Entries!$Q$13","v":0},{"$f":"Entries!$R$13","v":0},5,10,12,11,15,12]
[null,null,10,{"$f":"Entries!$Q$14","v":0},{"$f":"Entries!$R$14","v":0},5,9,13,12,16,11]
[null,null,11,{"$f":"Entries!$Q$15","v":0},{"$f":"Entries!$R$15","v":0},6,12,12,9,16,10]
[null,null,12,{"$f":"Entries!$Q$16","v":0},{"$f":"Entries!$R$16","v":0},6,11,13,10,15,9]
[null,4,13,{"$f":"Entries!$Q$17","v":0},{"$f":"Entries!$R$17","v":0},8,14,17,15,3,16]
[null,null,14,{"$f":"Entries!$Q$18","v":0},{"$f":"Entries!$R$18","v":0},8,13,18,16,4,15]
[null,null,15,{"$f":"Entries!$Q$19","v":0},{"$f":"Entries!$R$19","v":0},9,16,17,13,4,14]
[null,null,16,{"$f":"Entries!$Q$20","v":0},{"$f":"Entries!$R$20","v":0},9,15,18,14,3,13]
[null,5,17,{"$f":"Entries!$Q$21","v":0},{"$f":"Entries!$R$21","v":0},10,18,5,19,1,20]
[null,null,18,{"$f":"Entries!$Q$22","v":0},{"$f":"Entries!$R$22","v":0},10,17,6,20,2,19]
[null,null,19,{"$f":"Entries!$Q$23","v":0},{"$f":"Entries!$R$23","v":0},11,20,5,17,2,18]
[null,null,20,{"$f":"Entries!$Q$24","v":0},{"$f":"Entries!$R$24","v":0},11,19,6,18,1,17]
[null,6,21,{"$f":"Entries!$Q$25","v":0},{"$f":"Entries!$R$25","v":0},12,22,19,23,5,24]
[null,null,22,{"$f":"Entries!$Q$26","v":0},{"$f":"Entries!$R$26","v":0},12,21,20,24,6,23]
[null,null,23,{"$f":"Entries!$Q$27","v":0},{"$f":"Entries!$R$27","v":0},13,24,19,21,6,22]
[null,null,24,{"$f":"Entries!$Q$28","v":0},{"$f":"Entries!$R$28","v":0},13,23,20,22,5,21]
[null,7,25,{"$f":"Entries!$Q$29","v":0},{"$f":"Entries!$R$29","v":0},19,26,3,27,10,28]
[null,null,26,{"$f":"Entries!$Q$30","v":0},{"$f":"Entries!$R$30","v":0},19,25,4,28,11,27]
[null,null,27,{"$f":"Entries!$Q$31","v":0},{"$f":"Entries!$R$31","v":0},20,28,3,25,11,26]
[null,null,28,{"$f":"Entries!$Q$32","v":0},{"$f":"Entries!$R$32","v":0},20,27,4,26,10,25]
[null,8,29,{"$f":"Entries!$Q$33","v":0},{"$f":"Entries!$R$33","v":0},17,30,2,31,null,"BYE"]
[null,null,30,{"$f":"Entries!$Q$34","v":0},{"$f":"Entries!$R$34","v":0},17,29,null,"BYE",13,31]
[null,null,31,{"$f":"Entries!$Q$35","v":0},{"$f":"Entries!$R$35","v":0},null,"BYE",2,29,13,30]

{"sheet":"30","index":30,"n_rows":35,"n_cols":11,"rows_kept":35,"hidden":true,"merged":[[0,2,0,10],[1,2,1,10],[2,3,2,4],[2,5,2,6],[2,7,2,8],[2,9,2,10],[4,1,7,1],[8,1,11,1],[12,1,15,1],[16,1,19,1],[20,1,23,1],[24,1,27,1],[28,1,31,1],[32,1,35,1]]}
[null,null,{"$f":"Entries!$A$1","v":"2018 District 5 - Mixed Pairs"}]
[null,null,"DRAW"]
[{"$nulls":5},"R O U N D  1",null,"R O U N D  2",null,"R O U N D  3"]
[null,"Section","Team No.","Lead","Skip","Rink","Versus","Rink","Versus","Rink","Versus"]
[null,1,1,{"$f":"Entries!$Q$5","v":0},{"$f":"Entries!$R$5","v":0},1,2,10,3,19,4]
[null,null,2,{"$f":"Entries!$Q$6","v":0},{"$f":"Entries!$R$6","v":0},1,1,11,4,20,3]
[null,null,3,{"$f":"Entries!$Q$7","v":0},{"$f":"Entries!$R$7","v":0},2,4,10,1,20,2]
[null,null,4,{"$f":"Entries!$Q$8","v":0},{"$f":"Entries!$R$8","v":0},2,3,11,2,19,1]
[null,2,5,{"$f":"Entries!$Q$9","v":0},{"$f":"Entries!$R$9","v":0},3,6,8,7,17,8]
[null,null,6,{"$f":"Entries!$Q$10","v":0},{"$f":"Entries!$R$10","v":0},3,5,9,8,18,7]
[null,null,7,{"$f":"Entries!$Q$11","v":0},{"$f":"Entries!$R$11","v":0},4,8,8,5,18,6]
[null,null,8,{"$f":"Entries!$Q$12","v":0},{"$f":"Entries!$R$12","v":0},4,7,9,6,17,5]
[null,3,9,{"$f":"Entries!$Q$13","v":0},{"$f":"Entries!$R$13","v":0},5,10,12,11,15,12]
[null,null,10,{"$f":"Entries!$Q$14","v":0},{"$f":"Entries!$R$14","v":0},5,9,13,12,16,11]
[null,null,11,{"$f":"Entries!$Q$15","v":0},{"$f":"Entries!$R$15","v":0},6,12,12,9,16,10]
[null,null,12,{"$f":"Entries!$Q$16","v":0},{"$f":"Entries!$R$16","v":0},6,11,13,10,15,9]
[null,4,13,{"$f":"Entries!$Q$17","v":0},{"$f":"Entries!$R$17","v":0},8,14,17,15,3,16]
[null,null,14,{"$f":"Entries!$Q$18","v":0},{"$f":"Entries!$R$18","v":0},8,13,18,16,4,15]
[null,null,15,{"$f":"Entries!$Q$19","v":0},{"$f":"Entries!$R$19","v":0},9,16,17,13,4,14]
[null,null,16,{"$f":"Entries!$Q$20","v":0},{"$f":"Entries!$R$20","v":0},9,15,18,14,3,13]
[null,5,17,{"$f":"Entries!$Q$21","v":0},{"$f":"Entries!$R$21","v":0},10,18,5,19,1,20]
[null,null,18,{"$f":"Entries!$Q$22","v":0},{"$f":"Entries!$R$22","v":0},10,17,6,20,2,19]
[null,null,19,{"$f":"Entries!$Q$23","v":0},{"$f":"Entries!$R$23","v":0},11,20,5,17,2,18]
[null,null,20,{"$f":"Entries!$Q$24","v":0},{"$f":"Entries!$R$24","v":0},11,19,6,18,1,17]
[null,6,21,{"$f":"Entries!$Q$25","v":0},{"$f":"Entries!$R$25","v":0},12,22,19,23,5,24]
[null,null,22,{"$f":"Entries!$Q$26","v":0},{"$f":"Entries!$R$26","v":0},12,21,20,24,6,23]
[null,null,23,{"$f":"Entries!$Q$27","v":0},{"$f":"Entries!$R$27","v":0},13,24,19,21,6,22]
[null,null,24,{"$f":"Entries!$Q$28","v":0},{"$f":"Entries!$R$28","v":0},13,23,20,22,5,21]
[null,7,25,{"$f":"Entries!$Q$29","v":0},{"$f":"Entries!$R$29","v":0},19,26,3,27,null,"BYE"]
[null,null,26,{"$f":"Entries!$Q$30","v":0},{"$f":"Entries!$R$30","v":0},19,25,null,"BYE",11,27]
[null,null,27,{"$f":"Entries!$Q$31","v":0},{"$f":"Entries!$R$31","v":0},null,"BYE",3,25,11,26]
[]
[null,8,28,{"$f":"Entries!$Q$32","v":0},{"$f":"Entries!$R$32","v":0},17,29,2,30,null,"BYE"]
[null,null,29,{"$f":"Entries!$Q$33","v":0},{"$f":"Entries!$R$33","v":0},17,28,null,"BYE",13,30]
[null,null,30,{"$f":"Entries!$Q$34","v":0},{"$f":"Entries!$R$34","v":0},null,"BYE",2,28,13,29]

{"sheet":"29","index":31,"n_rows":35,"n_cols":11,"rows_kept":35,"hidden":true,"merged":[[0,2,0,10],[1,2,1,10],[2,3,2,4],[2,5,2,6],[2,7,2,8],[2,9,2,10],[4,1,7,1],[8,1,11,1],[12,1,15,1],[16,1,19,1],[20,1,23,1],[24,1,27,1],[28,1,31,1],[32,1,35,1]]}
[null,null,{"$f":"Entries!$A$1","v":"2018 District 5 - Mixed Pairs"}]
[null,null,"DRAW"]
[{"$nulls":5},"R O U N D  1",null,"R O U N D  2",null,"R O U N D  3"]
[null,"Section","Team No.","Lead","Skip","Rink","Versus","Rink","Versus","Rink","Versus"]
[null,1,1,{"$f":"Entries!$Q$5","v":0},{"$f":"Entries!$R$5","v":0},1,2,10,3,19,4]
[null,null,2,{"$f":"Entries!$Q$6","v":0},{"$f":"Entries!$R$6","v":0},1,1,11,4,20,3]
[null,null,3,{"$f":"Entries!$Q$7","v":0},{"$f":"Entries!$R$7","v":0},2,4,10,1,20,2]
[null,null,4,{"$f":"Entries!$Q$8","v":0},{"$f":"Entries!$R$8","v":0},2,3,11,2,19,1]
[null,2,5,{"$f":"Entries!$Q$9","v":0},{"$f":"Entries!$R$9","v":0},3,6,8,7,17,8]
[null,null,6,{"$f":"Entries!$Q$10","v":0},{"$f":"Entries!$R$10","v":0},3,5,9,8,18,7]
[null,null,7,{"$f":"Entries!$Q$11","v":0},{"$f":"Entries!$R$11","v":0},4,8,8,5,18,6]
[null,null,8,{"$f":"Entries!$Q$12","v":0},{"$f":"Entries!$R$12","v":0},4,7,9,6,17,5]
[null,3,9,{"$f":"Entries!$Q$13","v":0},{"$f":"Entries!$R$13","v":0},5,10,12,11,15,12]
[null,null,10,{"$f":"Entries!$Q$14","v":0},{"$f":"Entries!$R$14","v":0},5,9,13,12,16,11]
[null,null,11,{"$f":"Entries!$Q$15","v":0},{"$f":"Entries!$R$15","v":0},6,12,12,9,16,10]
[null,null,12,{"$f":"Entries!$Q$16","v":0},{"$f":"Entries!$R$16","v":0},6,11,13,10,15,9]
[null,4,13,{"$f":"Entries!$Q$17","v":0},{"$f":"Entries!$R$17","v":0},8,14,17,15,3,16]
[null,null,14,{"$f":"Entries!$Q$18","v":0},{"$f":"Entries!$R$18","v":0},8,13,18,16,4,15]
[null,null,15,{"$f":"Entries!$Q$19","v":0},{"$f":"Entries!$R$19","v":0},9,16,17,13,4,14]
[null,null,16,{"$f":"Entries!$Q$20","v":0},{"$f":"Entries!$R$20","v":0},9,15,18,14,3,13]
[null,5,17,{"$f":"Entries!$Q$21","v":0},{"$f":"Entries!$R$21","v":0},10,18,5,19,1,20]
[null,null,18,{"$f":"Entries!$Q$22","v":0},{"$f":"Entries!$R$22","v":0},10,17,6,20,2,19]
[null,null,19,{"$f":"Entries!$Q$23","v":0},{"$f":"Entries!$R$23","v":0},11,20,5,17,2,18]
[null,null,20,{"$f":"Entries!$Q$24","v":0},{"$f":"Entries!$R$24","v":0},11,19,6,18,1,17]
[null,6,21,{"$f":"Entries!$Q$25","v":0},{"$f":"Entries!$R$25","v":0},12,22,19,23,null,"BYE"]
[null,null,22,{"$f":"Entries!$Q$26","v":0},{"$f":"Entries!$R$26","v":0},12,21,null,"BYE",5,23]
[null,null,23,{"$f":"Entries!$Q$27","v":0},{"$f":"Entries!$R$27","v":0},null,"BYE",19,21,5,22]
[]
[null,7,24,{"$f":"Entries!$Q$28","v":0},{"$f":"Entries!$R$28","v":0},19,25,3,26,null,"BYE"]
[null,null,25,{"$f":"Entries!$Q$29","v":0},{"$f":"Entries!$R$29","v":0},19,24,null,"BYE",11,26]
[null,null,26,{"$f":"Entries!$Q$30","v":0},{"$f":"Entries!$R$30","v":0},null,"BYE",3,24,11,25]
[]
[null,8,27,{"$f":"Entries!$Q$31","v":0},{"$f":"Entries!$R$31","v":0},17,28,2,29,null,"BYE"]
[null,null,28,{"$f":"Entries!$Q$32","v":0},{"$f":"Entries!$R$32","v":0},17,27,null,"BYE",13,29]
[null,null,29,{"$f":"Entries!$Q$33","v":0},{"$f":"Entries!$R$33","v":0},null,"BYE",2,27,13,28]

{"sheet":"28","index":32,"n_rows":32,"n_cols":11,"rows_kept":32,"hidden":true,"merged":[[0,2,0,10],[1,2,1,10],[2,3,2,4],[2,5,2,6],[2,7,2,8],[2,9,2,10],[4,1,7,1],[8,1,11,1],[12,1,15,1],[16,1,19,1],[20,1,23,1],[24,1,27,1],[28,1,31,1]]}
[null,null,{"$f":"Entries!$A$1","v":"2018 District 5 - Mixed Pairs"}]
[null,null,"DRAW"]
[{"$nulls":5},"R O U N D  1",null,"R O U N D  2",null,"R O U N D  3"]
[null,"Section","Team No.","Lead","Skip","Rink","Versus","Rink","Versus","Rink","Versus"]
[null,1,1,{"$f":"Entries!$Q$5","v":0},{"$f":"Entries!$R$5","v":0},1,2,9,3,3,4]
[null,null,2,{"$f":"Entries!$Q$6","v":0},{"$f":"Entries!$R$6","v":0},1,1,10,4,4,3]
[null,null,3,{"$f":"Entries!$Q$7","v":0},{"$f":"Entries!$R$7","v":0},2,4,9,1,4,2]
[null,null,4,{"$f":"Entries!$Q$8","v":0},{"$f":"Entries!$R$8","v":0},2,3,10,2,3,1]
[null,2,5,{"$f":"Entries!$Q$9","v":0},{"$f":"Entries!$R$9","v":0},3,6,13,7,5,8]
[null,null,6,{"$f":"Entries!$Q$10","v":0},{"$f":"Entries!$R$10","v":0},3,5,14,8,6,7]
[null,null,7,{"$f":"Entries!$Q$11","v":0},{"$f":"Entries!$R$11","v":0},4,8,13,5,6,6]
[null,null,8,{"$f":"Entries!$Q$12","v":0},{"$f":"Entries!$R$12","v":0},4,7,14,6,5,5]
[null,3,9,{"$f":"Entries!$Q$13","v":0},{"$f":"Entries!$R$13","v":0},5,10,11,11,1,12]
[null,null,10,{"$f":"Entries!$Q$14","v":0},{"$f":"Entries!$R$14","v":0},5,9,12,12,2,11]
[null,null,11,{"$f":"Entries!$Q$15","v":0},{"$f":"Entries!$R$15","v":0},6,12,11,9,2,10]
[null,null,12,{"$f":"Entries!$Q$16","v":0},{"$f":"Entries!$R$16","v":0},6,11,12,10,1,9]
[null,4,13,{"$f":"Entries!$Q$17","v":0},{"$f":"Entries!$R$17","v":0},9,14,5,15,7,16]
[null,null,14,{"$f":"Entries!$Q$18","v":0},{"$f":"Entries!$R$18","v":0},9,13,6,16,8,15]
[null,null,15,{"$f":"Entries!$Q$19","v":0},{"$f":"Entries!$R$19","v":0},10,16,5,13,8,14]
[null,null,16,{"$f":"Entries!$Q$20","v":0},{"$f":"Entries!$R$20","v":0},10,15,6,14,7,13]
[null,5,17,{"$f":"Entries!$Q$21","v":0},{"$f":"Entries!$R$21","v":0},11,18,1,19,9,20]
[null,null,18,{"$f":"Entries!$Q$22","v":0},{"$f":"Entries!$R$22","v":0},11,17,2,20,10,19]
[null,null,19,{"$f":"Entries!$Q$23","v":0},{"$f":"Entries!$R$23","v":0},12,20,1,17,10,18]
[null,null,20,{"$f":"Entries!$Q$24","v":0},{"$f":"Entries!$R$24","v":0},12,19,2,18,9,17]
[null,6,21,{"$f":"Entries!$Q$25","v":0},{"$f":"Entries!$R$25","v":0},13,22,7,23,11,24]
[null,null,22,{"$f":"Entries!$Q$26","v":0},{"$f":"Entries!$R$26","v":0},13,21,8,24,12,23]
[null,null,23,{"$f":"Entries!$Q$27","v":0},{"$f":"Entries!$R$27","v":0},14,24,7,21,12,22]
[null,null,24,{"$f":"Entries!$Q$28","v":0},{"$f":"Entries!$R$28","v":0},14,23,8,22,11,21]
[null,7,25,{"$f":"Entries!$Q$29","v":0},{"$f":"Entries!$R$29","v":0},7,26,3,27,13,28]
[null,null,26,{"$f":"Entries!$Q$30","v":0},{"$f":"Entries!$R$30","v":0},7,25,4,28,14,27]
[null,null,27,{"$f":"Entries!$Q$31","v":0},{"$f":"Entries!$R$31","v":0},8,28,3,25,14,26]
[null,null,28,{"$f":"Entries!$Q$32","v":0},{"$f":"Entries!$R$32","v":0},8,27,4,26,13,25]

{"sheet":"27","index":33,"n_rows":31,"n_cols":11,"rows_kept":31,"hidden":true,"merged":[[0,2,0,10],[1,2,1,10],[2,3,2,4],[2,5,2,6],[2,7,2,8],[2,9,2,10],[4,1,7,1],[8,1,11,1],[12,1,15,1],[16,1,19,1],[20,1,23,1],[24,1,27,1],[28,1,31,1]]}
[null,null,{"$f":"Entries!$A$1","v":"2018 District 5 - Mixed Pairs"}]
[null,null,"DRAW"]
[{"$nulls":5},"R O U N D  1",null,"R O U N D  2",null,"R O U N D  3"]
[null,"Section","Team No.","Lead","Skip","Rink","Versus","Rink","Versus","Rink","Versus"]
[null,1,1,{"$f":"Entries!$Q$5","v":0},{"$f":"Entries!$R$5","v":0},1,2,9,3,3,4]
[null,null,2,{"$f":"Entries!$Q$6","v":0},{"$f":"Entries!$R$6","v":0},1,1,10,4,4,3]
[null,null,3,{"$f":"Entries!$Q$7","v":0},{"$f":"Entries!$R$7","v":0},2,4,9,1,4,2]
[null,null,4,{"$f":"Entries!$Q$8","v":0},{"$f":"Entries!$R$8","v":0},2,3,10,2,3,1]
[null,2,5,{"$f":"Entries!$Q$9","v":0},{"$f":"Entries!$R$9","v":0},3,6,13,7,5,8]
[null,null,6,{"$f":"Entries!$Q$10","v":0},{"$f":"Entries!$R$10","v":0},3,5,14,8,6,7]
[null,null,7,{"$f":"Entries!$Q$11","v":0},{"$f":"Entries!$R$11","v":0},4,8,13,5,6,6]
[null,null,8,{"$f":"Entries!$Q$12","v":0},{"$f":"Entries!$R$12","v":0},4,7,14,6,5,5]
[null,3,9,{"$f":"Entries!$Q$13","v":0},{"$f":"Entries!$R$13","v":0},5,10,11,11,1,12]
[null,null,10,{"$f":"Entries!$Q$14","v":0},{"$f":"Entries!$R$14","v":0},5,9,12,12,2,11]
[null,null,11,{"$f":"Entries!$Q$15","v":0},{"$f":"Entries!$R$15","v":0},6,12,11,9,2,10]
[null,null,12,{"$f":"Entries!$Q$16","v":0},{"$f":"Entries!$R$16","v":0},6,11,12,10,1,9]
[null,4,13,{"$f":"Entries!$Q$17","v":0},{"$f":"Entries!$R$17","v":0},9,14,4,15,7,16]
[null,null,14,{"$f":"Entries!$Q$18","v":0},{"$f":"Entries!$R$18","v":0},9,13,5,16,8,15]
[null,null,15,{"$f":"Entries!$Q$19","v":0},{"$f":"Entries!$R$19","v":0},10,16,4,13,8,14]
[null,null,16,{"$f":"Entries!$Q$20","v":0},{"$f":"Entries!$R$20","v":0},10,15,5,14,7,13]
[null,5,17,{"$f":"Entries!$Q$21","v":0},{"$f":"Entries!$R$21","v":0},11,18,1,19,9,20]
[null,null,18,{"$f":"Entries!$Q$22","v":0},{"$f":"Entries!$R$22","v":0},11,17,2,20,10,19]
[null,null,19,{"$f":"Entries!$Q$23","v":0},{"$f":"Entries!$R$23","v":0},12,20,1,17,10,18]
[null,null,20,{"$f":"Entries!$Q$24","v":0},{"$f":"Entries!$R$24","v":0},12,19,2,18,9,17]
[null,6,21,{"$f":"Entries!$Q$25","v":0},{"$f":"Entries!$R$25","v":0},13,22,6,23,11,24]
[null,null,22,{"$f":"Entries!$Q$26","v":0},{"$f":"Entries!$R$26","v":0},13,21,8,24,12,23]
[null,null,23,{"$f":"Entries!$Q$27","v":0},{"$f":"Entries!$R$27","v":0},14,24,6,21,12,22]
[null,null,24,{"$f":"Entries!$Q$28","v":0},{"$f":"Entries!$R$28","v":0},14,23,8,22,11,21]
[null,7,25,{"$f":"Entries!$Q$29","v":0},{"$f":"Entries!$R$29","v":0},7,26,3,27,null,"BYE"]
[null,null,26,{"$f":"Entries!$Q$30","v":0},{"$f":"Entries!$R$30","v":0},7,25,null,"BYE",13,27]
[null,null,27,{"$f":"Entries!$Q$31","v":0},{"$f":"Entries!$R$31","v":0},null,"BYE",3,25,13,26]

{"sheet":"26","index":34,"n_rows":31,"n_cols":11,"rows_kept":31,"hidden":true,"merged":[[0,2,0,10],[1,2,1,10],[2,3,2,4],[2,5,2,6],[2,7,2,8],[2,9,2,10],[4,1,7,1],[8,1,11,1],[12,1,15,1],[16,1,19,1],[20,1,23,1],[24,1,27,1],[28,1,31,1]]}
[null,null,{"$f":"Entries!$A$1","v":"2018 District 5 - Mixed Pairs"}]
[null,null,"DRAW"]
[{"$nulls":5},"R O U N D  1",null,"R O U N D  2",null,"R O U N D  3"]
[null,"Section","Team No.","Lead","Skip","Rink","Versus","Rink","Versus","Rink","Versus"]
[null,1,1,{"$f":"Entries!$Q$5","v":0},{"$f":"Entries!$R$5","v":0},1,2,9,3,3,4]
[null,null,2,{"$f":"Entries!$Q$6","v":0},{"$f":"Entries!$R$6","v":0},1,1,10,4,4,3]
[null,null,3,{"$f":"Entries!$Q$7","v":0},{"$f":"Entries!$R$7","v":0},2,4,9,1,4,2]
[null,null,4,{"$f":"Entries!$Q$8","v":0},{"$f":"Entries!$R$8","v":0},2,3,10,2,3,1]
[null,2,5,{"$f":"Entries!$Q$9","v":0},{"$f":"Entries!$R$9","v":0},3,6,13,7,5,8]
[null,null,6,{"$f":"Entries!$Q$10","v":0},{"$f":"Entries!$R$10","v":0},3,5,14,8,6,7]
[null,null,7,{"$f":"Entries!$Q$11","v":0},{"$f":"Entries!$R$11","v":0},4,8,13,5,6,6]
[null,null,8,{"$f":"Entries!$Q$12","v":0},{"$f":"Entries!$R$12","v":0},4,7,14,6,5,5]
[null,3,9,{"$f":"Entries!$Q$13","v":0},{"$f":"Entries!$R$13","v":0},5,10,11,11,1,12]
[null,null,10,{"$f":"Entries!$Q$14","v":0},{"$f":"Entries!$R$14","v":0},5,9,12,12,2,11]
[null,null,11,{"$f":"Entries!$Q$15","v":0},{"$f":"Entries!$R$15","v":0},6,12,11,9,2,10]
[null,null,12,{"$f":"Entries!$Q$16","v":0},{"$f":"Entries!$R$16","v":0},6,11,12,10,1,9]
[null,4,13,{"$f":"Entries!$Q$17","v":0},{"$f":"Entries!$R$17","v":0},9,14,4,15,8,16]
[null,null,14,{"$f":"Entries!$Q$18","v":0},{"$f":"Entries!$R$18","v":0},9,13,5,16,9,15]
[null,null,15,{"$f":"Entries!$Q$19","v":0},{"$f":"Entries!$R$19","v":0},10,16,4,13,9,14]
[null,null,16,{"$f":"Entries!$Q$20","v":0},{"$f":"Entries!$R$20","v":0},10,15,5,14,8,13]
[null,5,17,{"$f":"Entries!$Q$21","v":0},{"$f":"Entries!$R$21","v":0},11,18,1,19,10,20]
[null,null,18,{"$f":"Entries!$Q$22","v":0},{"$f":"Entries!$R$22","v":0},11,17,2,20,11,19]
[null,null,19,{"$f":"Entries!$Q$23","v":0},{"$f":"Entries!$R$23","v":0},12,20,1,17,11,18]
[null,null,20,{"$f":"Entries!$Q$24","v":0},{"$f":"Entries!$R$24","v":0},12,19,2,18,10,17]
[null,6,21,{"$f":"Entries!$Q$25","v":0},{"$f":"Entries!$R$25","v":0},13,22,6,23,null,"BYE"]
[null,null,22,{"$f":"Entries!$Q$26","v":0},{"$f":"Entries!$R$26","v":0},13,21,null,"BYE",12,23]
[null,null,23,{"$f":"Entries!$Q$27","v":0},{"$f":"Entries!$R$27","v":0},null,"BYE",6,21,12,22]
[]
[null,7,24,{"$f":"Entries!$Q$28","v":0},{"$f":"Entries!$R$28","v":0},7,25,3,26,null,"BYE"]
[null,null,25,{"$f":"Entries!$Q$29","v":0},{"$f":"Entries!$R$29","v":0},7,24,null,"BYE",13,26]
[null,null,26,{"$f":"Entries!$Q$30","v":0},{"$f":"Entries!$R$30","v":0},null,"BYE",3,24,13,25]

{"sheet":"25","index":35,"n_rows":31,"n_cols":11,"rows_kept":31,"hidden":true,"merged":[[0,2,0,10],[1,2,1,10],[2,3,2,4],[2,5,2,6],[2,7,2,8],[2,9,2,10],[4,1,7,1],[8,1,11,1],[12,1,15,1],[16,1,19,1],[20,1,23,1],[24,1,27,1],[28,1,31,1]]}
[null,null,{"$f":"Entries!$A$1","v":"2018 District 5 - Mixed Pairs"}]
[null,null,"DRAW"]
[{"$nulls":5},"R O U N D  1",null,"R O U N D  2",null,"R O U N D  3"]
[null,"Section","Team No.","Lead","Skip","Rink","Versus","Rink","Versus","Rink","Versus"]
[null,1,1,{"$f":"Entries!$Q$5","v":0},{"$f":"Entries!$R$5","v":0},1,2,9,3,3,4]
[null,null,2,{"$f":"Entries!$Q$6","v":0},{"$f":"Entries!$R$6","v":0},1,1,10,4,4,3]
[null,null,3,{"$f":"Entries!$Q$7","v":0},{"$f":"Entries!$R$7","v":0},2,4,9,1,4,2]
[null,null,4,{"$f":"Entries!$Q$8","v":0},{"$f":"Entries!$R$8","v":0},2,3,10,2,3,1]
[null,2,5,{"$f":"Entries!$Q$9","v":0},{"$f":"Entries!$R$9","v":0},3,6,13,7,5,8]
[null,null,6,{"$f":"Entries!$Q$10","v":0},{"$f":"Entries!$R$10","v":0},3,5,14,8,6,7]
[null,null,7,{"$f":"Entries!$Q$11","v":0},{"$f":"Entries!$R$11","v":0},4,8,13,5,6,6]
[null,null,8,{"$f":"Entries!$Q$12","v":0},{"$f":"Entries!$R$12","v":0},4,7,14,6,5,5]
[null,3,9,{"$f":"Entries!$Q$13","v":0},{"$f":"Entries!$R$13","v":0},5,10,11,11,1,12]
[null,null,10,{"$f":"Entries!$Q$14","v":0},{"$f":"Entries!$R$14","v":0},5,9,12,12,2,11]
[null,null,11,{"$f":"Entries!$Q$15","v":0},{"$f":"Entries!$R$15","v":0},6,12,11,9,2,10]
[null,null,12,{"$f":"Entries!$Q$16","v":0},{"$f":"Entries!$R$16","v":0},6,11,12,10,1,9]
[null,4,13,{"$f":"Entries!$Q$17","v":0},{"$f":"Entries!$R$17","v":0},10,14,4,15,9,16]
[null,null,14,{"$f":"Entries!$Q$18","v":0},{"$f":"Entries!$R$18","v":0},10,13,5,16,10,15]
[null,null,15,{"$f":"Entries!$Q$19","v":0},{"$f":"Entries!$R$19","v":0},11,16,4,13,9,14]
[null,null,16,{"$f":"Entries!$Q$20","v":0},{"$f":"Entries!$R$20","v":0},11,15,5,14,10,13]
[null,5,17,{"$f":"Entries!$Q$21","v":0},{"$f":"Entries!$R$21","v":0},12,18,1,19,null,"BYE"]
[null,null,18,{"$f":"Entries!$Q$22","v":0},{"$f":"Entries!$R$22","v":0},12,17,null,"BYE",11,19]
[null,null,19,{"$f":"Entries!$Q$23","v":0},{"$f":"Entries!$R$23","v":0},null,"BYE",1,17,11,18]
[]
[null,6,20,{"$f":"Entries!$Q$24","v":0},{"$f":"Entries!$R$24","v":0},13,21,6,22,null,"BYE"]
[null,null,21,{"$f":"Entries!$Q$25","v":0},{"$f":"Entries!$R$25","v":0},13,20,null,"BYE",12,22]
[null,null,22,{"$f":"Entries!$Q$26","v":0},{"$f":"Entries!$R$26","v":0},null,"BYE",6,20,12,21]
[]
[null,7,23,{"$f":"Entries!$Q$27","v":0},{"$f":"Entries!$R$27","v":0},9,24,3,25,null,"BYE"]
[null,null,24,{"$f":"Entries!$Q$28","v":0},{"$f":"Entries!$R$28","v":0},9,23,null,"BYE",13,25]
[null,null,25,{"$f":"Entries!$Q$29","v":0},{"$f":"Entries!$R$29","v":0},null,"BYE",3,23,13,24]

{"sheet":"24","index":36,"n_rows":28,"n_cols":11,"rows_kept":28,"hidden":true,"merged":[[0,2,0,10],[1,2,1,10],[2,3,2,4],[2,5,2,6],[2,7,2,8],[2,9,2,10],[4,1,7,1],[8,1,11,1],[12,1,15,1],[16,1,19,1],[20,1,23,1],[24,1,27,1]]}
[null,null,{"$f":"Entries!$A$1","v":"2018 District 5 - Mixed Pairs"}]
[null,null,"DRAW"]
[{"$nulls":5},"R O U N D  1",null,"R O U N D  2",null,"R O U N D  3"]
[null,"Section","Team No.","Lead","Skip","Rink","Versus","Rink","Versus","Rink","Versus"]
[null,1,1,{"$f":"Entries!$Q$5","v":0},{"$f":"Entries!$R$5","v":0},1,2,9,3,3,4]
[null,null,2,{"$f":"Entries!$Q$6","v":0},{"$f":"Entries!$R$6","v":0},1,1,10,4,4,3]
[null,null,3,{"$f":"Entries!$Q$7","v":0},{"$f":"Entries!$R$7","v":0},2,4,9,1,4,2]
[null,null,4,{"$f":"Entries!$Q$8","v":0},{"$f":"Entries!$R$8","v":0},2,3,10,2,3,1]
[null,2,5,{"$f":"Entries!$Q$9","v":0},{"$f":"Entries!$R$9","v":0},3,6,13,7,5,8]
[null,null,6,{"$f":"Entries!$Q$10","v":0},{"$f":"Entries!$R$10","v":0},3,5,14,8,6,7]
[null,null,7,{"$f":"Entries!$Q$11","v":0},{"$f":"Entries!$R$11","v":0},4,8,13,5,6,6]
[null,null,8,{"$f":"Entries!$Q$12","v":0},{"$f":"Entries!$R$12","v":0},4,7,14,6,5,5]
[null,3,9,{"$f":"Entries!$Q$13","v":0},{"$f":"Entries!$R$13","v":0},5,10,11,11,1,12]
[null,null,10,{"$f":"Entries!$Q$14","v":0},{"$f":"Entries!$R$14","v":0},5,9,12,12,2,11]
[null,null,11,{"$f":"Entries!$Q$15","v":0},{"$f":"Entries!$R$15","v":0},6,12,11,9,2,10]
[null,null,12,{"$f":"Entries!$Q$16","v":0},{"$f":"Entries!$R$16","v":0},6,11,12,10,1,9]
[null,4,13,{"$f":"Entries!$Q$17","v":0},{"$f":"Entries!$R$17","v":0},9,14,3,15,14,16]
[null,null,14,{"$f":"Entries!$Q$18","v":0},{"$f":"Entries!$R$18","v":0},9,13,4,16,13,15]
[null,null,15,{"$f":"Entries!$Q$19","v":0},{"$f":"Entries!$R$19","v":0},10,16,3,13,13,14]
[null,null,16,{"$f":"Entries!$Q$20","v":0},{"$f":"Entries!$R$20","v":0},10,15,4,14,14,13]
[null,5,17,{"$f":"Entries!$Q$21","v":0},{"$f":"Entries!$R$21","v":0},11,18,1,19,9,20]
[null,null,18,{"$f":"Entries!$Q$22","v":0},{"$f":"Entries!$R$22","v":0},11,17,2,20,10,19]
[null,null,19,{"$f":"Entries!$Q$23","v":0},{"$f":"Entries!$R$23","v":0},12,20,1,17,10,18]
[null,null,20,{"$f":"Entries!$Q$24","v":0},{"$f":"Entries!$R$24","v":0},12,19,2,18,9,17]
[null,6,21,{"$f":"Entries!$Q$25","v":0},{"$f":"Entries!$R$25","v":0},13,22,5,23,11,24]
[null,null,22,{"$f":"Entries!$Q$26","v":0},{"$f":"Entries!$R$26","v":0},13,21,6,24,12,23]
[null,null,23,{"$f":"Entries!$Q$27","v":0},{"$f":"Entries!$R$27","v":0},14,24,5,21,12,22]
[null,null,24,{"$f":"Entries!$Q$28","v":0},{"$f":"Entries!$R$28","v":0},14,23,6,22,11,21]

{"sheet":"23","index":37,"n_rows":27,"n_cols":11,"rows_kept":27,"hidden":true,"merged":[[0,2,0,10],[1,2,1,10],[2,3,2,4],[2,5,2,6],[2,7,2,8],[2,9,2,10],[4,1,7,1],[8,1,11,1],[12,1,15,1],[16,1,19,1],[20,1,23,1],[24,1,27,1]]}
[null,null,{"$f":"Entries!$A$1","v":"2018 District 5 - Mixed Pairs"}]
[null,null,"DRAW"]
[{"$nulls":5},"R O U N D  1",null,"R O U N D  2",null,"R O U N D  3"]
[null,"Section","Team No.","Lead","Skip","Rink","Versus","Rink","Versus","Rink","Versus"]
[null,1,1,{"$f":"Entries!$Q$5","v":0},{"$f":"Entries!$R$5","v":0},1,2,9,3,3,4]
[null,null,2,{"$f":"Entries!$Q$6","v":0},{"$f":"Entries!$R$6","v":0},1,1,10,4,4,3]
[null,null,3,{"$f":"Entries!$Q$7","v":0},{"$f":"Entries!$R$7","v":0},2,4,9,1,4,2]
[null,null,4,{"$f":"Entries!$Q$8","v":0},{"$f":"Entries!$R$8","v":0},2,3,10,2,3,1]
[null,2,5,{"$f":"Entries!$Q$9","v":0},{"$f":"Entries!$R$9","v":0},3,6,13,7,5,8]
[null,null,6,{"$f":"Entries!$Q$10","v":0},{"$f":"Entries!$R$10","v":0},3,5,14,8,6,7]
[null,null,7,{"$f":"Entries!$Q$11","v":0},{"$f":"Entries!$R$11","v":0},4,8,13,5,6,6]
[null,null,8,{"$f":"Entries!$Q$12","v":0},{"$f":"Entries!$R$12","v":0},4,7,14,6,5,5]
[null,3,9,{"$f":"Entries!$Q$13","v":0},{"$f":"Entries!$R$13","v":0},5,10,11,11,1,12]
[null,null,10,{"$f":"Entries!$Q$14","v":0},{"$f":"Entries!$R$14","v":0},5,9,12,12,2,11]
[null,null,11,{"$f":"Entries!$Q$15","v":0},{"$f":"Entries!$R$15","v":0},6,12,11,9,2,10]
[null,null,12,{"$f":"Entries!$Q$16","v":0},{"$f":"Entries!$R$16","v":0},6,11,12,10,1,9]
[null,4,13,{"$f":"Entries!$Q$17","v":0},{"$f":"Entries!$R$17","v":0},9,14,3,15,13,16]
[null,null,14,{"$f":"Entries!$Q$18","v":0},{"$f":"Entries!$R$18","v":0},9,13,4,16,12,15]
[null,null,15,{"$f":"Entries!$Q$19","v":0},{"$f":"Entries!$R$19","v":0},10,16,3,13,12,14]
[null,null,16,{"$f":"Entries!$Q$20","v":0},{"$f":"Entries!$R$20","v":0},10,15,4,14,13,13]
[null,5,17,{"$f":"Entries!$Q$21","v":0},{"$f":"Entries!$R$21","v":0},11,18,1,19,9,20]
[null,null,18,{"$f":"Entries!$Q$22","v":0},{"$f":"Entries!$R$22","v":0},11,17,2,20,10,19]
[null,null,19,{"$f":"Entries!$Q$23","v":0},{"$f":"Entries!$R$23","v":0},12,20,1,17,10,18]
[null,null,20,{"$f":"Entries!$Q$24","v":0},{"$f":"Entries!$R$24","v":0},12,19,2,18,9,17]
[null,6,21,{"$f":"Entries!$Q$25","v":0},{"$f":"Entries!$R$25","v":0},13,22,5,23,null,"BYE"]
[null,null,22,{"$f":"Entries!$Q$26","v":0},{"$f":"Entries!$R$26","v":0},13,21,null,"BYE",11,23]
[null,null,23,{"$f":"Entries!$Q$27","v":0},{"$f":"Entries!$R$27","v":0},null,"BYE",5,21,11,22]

{"sheet":"22","index":38,"n_rows":27,"n_cols":11,"rows_kept":27,"hidden":true,"merged":[[0,2,0,10],[1,2,1,10],[2,3,2,4],[2,5,2,6],[2,7,2,8],[2,9,2,10],[4,1,7,1],[8,1,11,1],[12,1,15,1],[16,1,19,1],[20,1,23,1],[24,1,27,1]]}
[null,null,{"$f":"Entries!$A$1","v":"2018 District 5 - Mixed Pairs"}]
[null,null,"DRAW"]
[{"$nulls":5},"R O U N D  1",null,"R O U N D  2",null,"R O U N D  3"]
[null,"Section","Team No.","Lead","Skip","Rink","Versus","Rink","Versus","Rink","Versus"]
[null,1,1,{"$f":"Entries!$Q$5","v":0},{"$f":"Entries!$R$5","v":0},1,2,9,3,3,4]
[null,null,2,{"$f":"Entries!$Q$6","v":0},{"$f":"Entries!$R$6","v":0},1,1,10,4,4,3]
[null,null,3,{"$f":"Entries!$Q$7","v":0},{"$f":"Entries!$R$7","v":0},2,4,9,1,4,2]
[null,null,4,{"$f":"Entries!$Q$8","v":0},{"$f":"Entries!$R$8","v":0},2,3,10,2,3,1]
[null,2,5,{"$f":"Entries!$Q$9","v":0},{"$f":"Entries!$R$9","v":0},3,6,13,7,5,8]
[null,null,6,{"$f":"Entries!$Q$10","v":0},{"$f":"Entries!$R$10","v":0},3,5,14,8,6,7]
[null,null,7,{"$f":"Entries!$Q$11","v":0},{"$f":"Entries!$R$11","v":0},4,8,13,5,6,6]
[null,null,8,{"$f":"Entries!$Q$12","v":0},{"$f":"Entries!$R$12","v":0},4,7,14,6,5,5]
[null,3,9,{"$f":"Entries!$Q$13","v":0},{"$f":"Entries!$R$13","v":0},5,10,11,11,1,12]
[null,null,10,{"$f":"Entries!$Q$14","v":0},{"$f":"Entries!$R$14","v":0},5,9,12,12,2,11]
[null,null,11,{"$f":"Entries!$Q$15","v":0},{"$f":"Entries!$R$15","v":0},6,12,11,9,2,10]
[null,null,12,{"$f":"Entries!$Q$16","v":0},{"$f":"Entries!$R$16","v":0},6,11,12,10,1,9]
[null,4,13,{"$f":"Entries!$Q$17","v":0},{"$f":"Entries!$R$17","v":0},9,14,3,15,13,16]
[null,null,14,{"$f":"Entries!$Q$18","v":0},{"$f":"Entries!$R$18","v":0},9,13,4,16,12,15]
[null,null,15,{"$f":"Entries!$Q$19","v":0},{"$f":"Entries!$R$19","v":0},10,16,3,13,12,14]
[null,null,16,{"$f":"Entries!$Q$20","v":0},{"$f":"Entries!$R$20","v":0},10,15,4,14,13,13]
[null,5,17,{"$f":"Entries!$Q$21","v":0},{"$f":"Entries!$R$21","v":0},11,18,2,19,null,"BYE"]
[null,null,18,{"$f":"Entries!$Q$22","v":0},{"$f":"Entries!$R$22","v":0},11,17,null,"BYE",10,19]
[null,null,19,{"$f":"Entries!$Q$23","v":0},{"$f":"Entries!$R$23","v":0},null,"BYE",2,17,10,18]
[]
[null,6,20,{"$f":"Entries!$Q$24","v":0},{"$f":"Entries!$R$24","v":0},12,21,5,22,null,"BYE"]
[null,null,21,{"$f":"Entries!$Q$25","v":0},{"$f":"Entries!$R$25","v":0},12,20,null,"BYE",11,22]
[null,null,22,{"$f":"Entries!$Q$26","v":0},{"$f":"Entries!$R$26","v":0},null,"BYE",5,20,11,21]

{"sheet":"21","index":39,"n_rows":27,"n_cols":11,"rows_kept":27,"hidden":true,"merged":[[0,2,0,10],[1,2,1,10],[2,3,2,4],[2,5,2,6],[2,7,2,8],[2,9,2,10],[4,1,7,1],[8,1,11,1],[12,1,15,1],[16,1,19,1],[20,1,23,1],[24,1,27,1]]}
[null,null,{"$f":"Entries!$A$1","v":"2018 District 5 - Mixed Pairs"}]
[null,null,"DRAW"]
[{"$nulls":5},"R O U N D  1",null,"R O U N D  2",null,"R O U N D  3"]
[null,"Section","Team No.","Lead","Skip","Rink","Versus","Rink","Versus","Rink","Versus"]
[null,1,1,{"$f":"Entries!$Q$5","v":0},{"$f":"Entries!$R$5","v":0},9,2,5,3,11,4]
[null,null,2,{"$f":"Entries!$Q$6","v":0},{"$f":"Entries!$R$6","v":0},9,1,6,4,12,3]
[null,null,3,{"$f":"Entries!$Q$7","v":0},{"$f":"Entries!$R$7","v":0},10,4,5,1,12,2]
[null,null,4,{"$f":"Entries!$Q$8","v":0},{"$f":"Entries!$R$8","v":0},10,3,6,2,11,1]
[null,2,5,{"$f":"Entries!$Q$9","v":0},{"$f":"Entries!$R$9","v":0},3,6,11,7,5,8]
[null,null,6,{"$f":"Entries!$Q$10","v":0},{"$f":"Entries!$R$10","v":0},3,5,12,8,6,7]
[null,null,7,{"$f":"Entries!$Q$11","v":0},{"$f":"Entries!$R$11","v":0},4,8,11,5,6,6]
[null,null,8,{"$f":"Entries!$Q$12","v":0},{"$f":"Entries!$R$12","v":0},4,7,12,6,5,5]
[null,3,9,{"$f":"Entries!$Q$13","v":0},{"$f":"Entries!$R$13","v":0},5,10,9,11,2,12]
[null,null,10,{"$f":"Entries!$Q$14","v":0},{"$f":"Entries!$R$14","v":0},5,9,10,12,3,11]
[null,null,11,{"$f":"Entries!$Q$15","v":0},{"$f":"Entries!$R$15","v":0},6,12,9,9,3,10]
[null,null,12,{"$f":"Entries!$Q$16","v":0},{"$f":"Entries!$R$16","v":0},6,11,10,10,2,9]
[null,4,13,{"$f":"Entries!$Q$17","v":0},{"$f":"Entries!$R$17","v":0},11,14,3,15,null,"BYE"]
[null,null,14,{"$f":"Entries!$Q$18","v":0},{"$f":"Entries!$R$18","v":0},11,13,null,"BYE",13,15]
[null,null,15,{"$f":"Entries!$Q$19","v":0},{"$f":"Entries!$R$19","v":0},null,"BYE",3,13,13,14]
[]
[null,5,16,{"$f":"Entries!$Q$20","v":0},{"$f":"Entries!$R$20","v":0},12,17,2,18,null,"BYE"]
[null,null,17,{"$f":"Entries!$Q$21","v":0},{"$f":"Entries!$R$21","v":0},12,16,null,"BYE",9,18]
[null,null,18,{"$f":"Entries!$Q$22","v":0},{"$f":"Entries!$R$22","v":0},null,"BYE",2,16,9,17]
[]
[null,6,19,{"$f":"Entries!$Q$23","v":0},{"$f":"Entries!$R$23","v":0},13,20,4,21,null,"BYE"]
[null,null,20,{"$f":"Entries!$Q$24","v":0},{"$f":"Entries!$R$24","v":0},13,19,null,"BYE",10,21]
[null,null,21,{"$f":"Entries!$Q$25","v":0},{"$f":"Entries!$R$25","v":0},null,"BYE",4,19,10,20]

{"sheet":"20","index":40,"n_rows":24,"n_cols":11,"rows_kept":24,"hidden":true,"merged":[[0,2,0,10],[1,2,1,10],[2,3,2,4],[2,5,2,6],[2,7,2,8],[2,9,2,10],[4,1,7,1],[8,1,11,1],[12,1,15,1],[16,1,19,1],[20,1,23,1]]}
[null,null,{"$f":"Entries!$A$1","v":"2018 District 5 - Mixed Pairs"}]
[null,null,"DRAW"]
[{"$nulls":5},"R O U N D  1",null,"R O U N D  2",null,"R O U N D  3"]
[null,"Section","Team No.","Lead","Skip","Rink","Versus","Rink","Versus","Rink","Versus"]
[null,1,1,{"$f":"Entries!$Q$5","v":0},{"$f":"Entries!$R$5","v":0},2,2,10,3,5,4]
[null,null,2,{"$f":"Entries!$Q$6","v":0},{"$f":"Entries!$R$6","v":0},2,1,11,4,6,3]
[null,null,3,{"$f":"Entries!$Q$7","v":0},{"$f":"Entries!$R$7","v":0},3,4,10,1,6,2]
[null,null,4,{"$f":"Entries!$Q$8","v":0},{"$f":"Entries!$R$8","v":0},3,3,11,2,5,1]
[null,2,5,{"$f":"Entries!$Q$9","v":0},{"$f":"Entries!$R$9","v":0},4,6,8,7,1,8]
[null,null,6,{"$f":"Entries!$Q$10","v":0},{"$f":"Entries!$R$10","v":0},4,5,9,8,2,7]
[null,null,7,{"$f":"Entries!$Q$11","v":0},{"$f":"Entries!$R$11","v":0},5,8,8,5,2,6]
[null,null,8,{"$f":"Entries!$Q$12","v":0},{"$f":"Entries!$R$12","v":0},5,7,9,6,1,5]
[null,3,9,{"$f":"Entries!$Q$13","v":0},{"$f":"Entries!$R$13","v":0},9,10,2,11,11,12]
[null,null,10,{"$f":"Entries!$Q$14","v":0},{"$f":"Entries!$R$14","v":0},9,9,3,12,12,11]
[null,null,11,{"$f":"Entries!$Q$15","v":0},{"$f":"Entries!$R$15","v":0},10,12,2,9,12,10]
[null,null,12,{"$f":"Entries!$Q$16","v":0},{"$f":"Entries!$R$16","v":0},10,11,3,10,11,9]
[null,4,13,{"$f":"Entries!$Q$17","v":0},{"$f":"Entries!$R$17","v":0},11,14,4,15,9,16]
[null,null,14,{"$f":"Entries!$Q$18","v":0},{"$f":"Entries!$R$18","v":0},11,13,5,16,10,15]
[null,null,15,{"$f":"Entries!$Q$19","v":0},{"$f":"Entries!$R$19","v":0},12,16,4,13,10,14]
[null,null,16,{"$f":"Entries!$Q$20","v":0},{"$f":"Entries!$R$20","v":0},12,15,5,14,9,13]
[null,5,17,{"$f":"Entries!$Q$21","v":0},{"$f":"Entries!$R$21","v":0},7,18,12,19,3,20]
[null,null,18,{"$f":"Entries!$Q$22","v":0},{"$f":"Entries!$R$22","v":0},7,17,13,20,4,19]
[null,null,19,{"$f":"Entries!$Q$23","v":0},{"$f":"Entries!$R$23","v":0},6,20,12,17,4,18]
[null,null,20,{"$f":"Entries!$Q$24","v":0},{"$f":"Entries!$R$24","v":0},6,19,13,18,3,17]