{"text_format":"3","workbook":"xlsx","n_sheets":19,"sheets":["Players","NOMINATED PAIRS","Cards front","Cards rear","Cards front rev","Cards rear rev","NOMINATED TRIPLES","Sheet1"," Cards front trip","Cards rear trip","Cards front rev trip","Cards rear rev trip","NOMINATED FOURS","Cards front fours","Rards rear fours","Cards front rev fours","Cards rear rev fours","Sheet4","Sheet5"],"not_rendered":{"macros":1,"defined_names":2},"read":"whole","date_system":"1900"}

{"sheet":"Players","index":0,"n_rows":1,"n_cols":1,"rows_kept":1}
["Players"]

{"sheet":"NOMINATED PAIRS","index":1,"n_rows":31,"n_cols":16,"rows_kept":31,"merged":[[0,2,0,3],[0,9,0,11],[1,1,1,3],[1,6,1,12]]}
[null,null,"CLUB NAME HERE",{"$nulls":3},"Date:-","31/07/20","Event:-","Nominated Pairs"]
[null,"E N T R I E S",{"$nulls":4},"RANDOM PAIRS TEAMS DRAW"]
[null,"Entry #","LEAD","SKIP",null,null,"Team #","LEAD","SKIP",null,"Team #","LEAD","SKIP","RINK"]
[null,1,null,null,{"$f":"RAND()","v":0.0229130744409608},null,1,null,null,"V",2,{"$nulls":4},1]
[null,2,null,null,0.349217705191218,null,3,null,null,"V",4,{"$nulls":4},2]
[null,3,null,null,0.23552420382303985,null,5,null,null,"V",6,{"$nulls":4},1]
[null,4,null,null,0.09877526400382586,null,7,null,null,"V",8,{"$nulls":4},2]
[null,5,null,null,0.4541604362175684,null,9,null,null,"V",10,{"$nulls":4},1]
[null,6,null,null,0.6593686633056194,null,11,null,null,"V",12,{"$nulls":4},2]
[null,7,null,null,0.9898842771973358,null,13,null,null,"V",14,{"$nulls":4},1]
[null,8,null,null,0.782410623192388,null,15,null,null,"V",16,{"$nulls":4},2]
[null,9,null,null,0.0831467158307293,null,17,null,null,"V",18,{"$nulls":4},1]
[null,10,null,null,0.0678959988144725,null,19,null,null,"V",20,{"$nulls":4},2]
[null,11,null,null,0.8194034855868387,null,21,null,null,"V",22,{"$nulls":4},1]
[null,12,null,null,0.6410460941327227,null,23,null,null,"V",24,{"$nulls":4},2]
[null,13,null,null,0.7170211158270047,null,25,null,null,"V",26,{"$nulls":4},1]
[null,14,null,null,0.7044627364219708,null,27,null,null,"V",28,{"$nulls":4},2]
[null,15,null,null,0.6696355149043166,{"$nulls":10},1]
[null,16,null,null,0.8393838704564024,{"$nulls":10},2]
[null,17,null,null,0.2913674657384061,{"$nulls":10},1]
[null,18,null,null,0.9377872893623526,{"$nulls":10},2]
[null,19,null,null,0.8127549737805448,null,"Type the bowlers names in the \"Entries\" columns",{"$nulls":8},1]
[null,20,null,null,0.431906078314209,null,"Click the draw button when all names have been entered.",{"$nulls":8},2]
[null,21,null,null,0.38627917288718583,null,"This will do the draw and enter the names on the score cards.",{"$nulls":8},1]
[null,22,null,null,0.025426528422993644,null,"Enter the Rink numbers in the column above",{"$nulls":8},2]
[null,23,null,null,0.39319063252527253,null,"When you are finished with the sheet click the all clear button.",{"$nulls":8},1]
[null,24,null,null,0.40005663491447396,{"$nulls":10},2]
[null,25,null,null,0.9266200290250142,{"$nulls":10},1]
[null,26,null,null,0.873302311742114,{"$nulls":10},2]
[null,27,null,null,0.9319292943366954,{"$nulls":10},1]
[null,28,null,null,0.874353849291009,{"$nulls":10},2]

{"sheet":"Cards front","index":2,"n_rows":345,"n_cols":16,"rows_kept":345,"merged":[[0,0,0,23],[2,0,2,23],[4,2,4,6],[4,8,4,23],[6,2,6,6],[6,8,6,23],[8,0,8,10],[8,11,8,12],[8,13,8,23],[10,0,10,10],[10,11,10,12],[10,13,10,23],[12,0,12,10],[12,11,12,12],[12,13,12,23],[14,0,14,10],[14,11,14,12],[14,13,14,23],[16,2,16,8],[16,15,16,21],[17,2,17,8],[17,15,17,21],[18,0,18,10],[18,13,18,23],[20,0,20,10],[20,11,20,12],[20,13,20,23],[22,0,22,11],[22,12,22,23],[23,0,23,23],[25,0,25,23],[27,2,27,6],[27,8,27,23],[29,2,29,6],[29,8,29,23],[31,0,31,10],[31,11,31,12],[31,13,31,23],[33,0,33,10],[33,11,33,12],[33,13,33,23],[35,0,35,10],[35,11,35,12],[35,13,35,23],[37,0,37,10],[37,11,37,12],[37,13,37,23],[39,2,39,8],[39,15,39,21],[40,2,40,8],[40,15,40,21],[41,0,41,10],[41,13,41,23],[43,0,43,10],[43,11,43,12],[43,13,43,23],[45,0,45,11],[45,12,45,23],[46,0,46,23],[48,0,48,23],[50,2,50,6],[50,8,50,23],[52,2,52,6],[52,8,52,23],[54,0,54,10],[54,11,54,12],[54,13,54,23],[56,0,56,10],[56,11,56,12],[56,13,56,23],[58,0,58,10],[58,11,58,12],[58,13,58,23],[60,0,60,10],[60,11,60,12],[60,13,60,23],[62,2,62,8],[62,15,62,21],[63,2,63,8],[63,15,63,21],[64,0,64,10],[64,13,64,23],[66,0,66,10],[66,11,66,12],[66,13,66,23],[68,0,68,11],[68,12,68,23],[69,0,69,23],[71,0,71,23],[73,2,73,6],[73,8,73,23],[75,2,75,6],[75,8,75,23],[77,0,77,10],[77,11,77,12],[77,13,77,23],[79,0,79,10],[79,11,79,12],[79,13,79,23],[81,0,81,10],[81,11,81,12],[81,13,81,23],[83,0,83,10],[83,11,83,12],[83,13,83,23],[85,2,85,8],[85,15,85,21],[86,2,86,8],[86,15,86,21],[87,0,87,10],[87,13,87,23],[89,0,89,10],[89,11,89,12],[89,13,89,23],[91,0,91,11],[91,12,91,23],[92,0,92,23],[94,0,94,23],[96,2,96,6],[96,8,96,23],[98,2,98,6],[98,8,98,23],[100,0,100,10],[100,11,100,12],[100,13,100,23],[102,0,102,10],[102,11,102,12],[102,13,102,23],[104,0,104,10],[104,11,104,12],[104,13,104,23],[106,0,106,10],[106,11,106,12],[106,13,106,23],[108,2,108,8],[108,15,108,21],[109,2,109,8],[109,15,109,21],[110,0,110,10],[110,13,110,23],[112,0,112,10],[112,11,112,12],[112,13,112,23],[114,0,114,11],[114,12,114,23],[115,0,115,23],[117,0,117,23],[119,2,119,6],[119,8,119,23],[121,2,121,6],[121,8,121,23],[123,0,123,10],[123,11,123,12],[123,13,123,23],[125,0,125,10],[125,11,125,12],[125,13,125,23],[127,0,127,10],[127,11,127,12],[127,13,127,23],[129,0,129,10],[129,11,129,12],[129,13,129,23],[131,2,131,8],[131,15,131,21],[132,2,132,8],[132,15,132,21],[133,0,133,10],[133,13,133,23],[135,0,135,10],[135,11,135,12],[135,13,135,23],[137,0,137,11],[137,12,137,23],[138,0,138,23],[140,0,140,23],[142,2,142,6],[142,8,142,23],[144,2,144,6],[144,8,144,23],[146,0,146,10],[146,11,146,12],[146,13,146,23],[148,0,148,10],[148,11,148,12],[148,13,148,23],[150,0,150,10],[150,11,150,12],[150,13,150,23],[152,0,152,10],[152,11,152,12],[152,13,152,23],[154,2,154,8],[154,15,154,21],[155,2,155,8],[155,15,155,21],[156,0,156,10],[156,13,156,23],[158,0,158,10],[158,11,158,12],[158,13,158,23],[160,0,160,11],[160,12,160,23],[161,0,161,23],[163,0,163,23],[165,2,165,6],[165,8,165,23],[167,2,167,6],[167,8,167,23],[169,0,169,10],[169,11,169,12],[169,13,169,23],[171,0,171,10],[171,11,171,12],[171,13,171,23],[173,0,173,10],[173,11,173,12],[173,13,173,23],[175,0,175,10],[175,11,175,12],[175,13,175,23],[177,2,177,8],[177,15,177,21],[178,2,178,8],[178,15,178,21],[179,0,179,10],[179,13,179,23],[181,0,181,10],[181,11,181,12],[181,13,181,23],[183,0,183,11],[183,12,183,23],[184,0,184,23],[186,0,186,23],[188,2,188,6],[188,8,188,23],[190,2,190,6],[190,8,190,23],[192,0,192,10],[192,11,192,12],[192,13,192,23],[194,0,194,10],[194,11,194,12],[194,13,194,23],[196,0,196,10],[196,11,196,12],[196,13,196,23],[198,0,198,10],[198,11,198,12],[198,13,198,23],[200,2,200,8],[200,15,200,21],[201,2,201,8],[201,15,201,21],[202,0,202,10],[202,13,202,23],[204,0,204,10],[204,11,204,12],[204,13,204,23],[206,0,206,11],[206,12,206,23],[207,0,207,23],[209,0,209,23],[211,2,211,6],[211,8,211,23],[213,2,213,6],[213,8,213,23],[215,0,215,10],[215,11,215,12],[215,13,215,23],[217,0,217,10],[217,11,217,12],[217,13,217,23],[219,0,219,10],[219,11,219,12],[219,13,219,23],[221,0,221,10],[221,11,221,12],[221,13,221,23],[223,2,223,8],[223,15,223,21],[224,2,224,8],[224,15,224,21],[225,0,225,10],[225,13,225,23],[227,0,227,10],[227,11,227,12],[227,13,227,23],[229,0,229,11],[229,12,229,23],[230,0,230,23],[232,0,232,23],[234,2,234,6],[234,8,234,23],[236,2,236,6],[236,8,236,23],[238,0,238,10],[238,11,238,12],[238,13,238,23],[240,0,240,10],[240,11,240,12],[240,13,240,23],[242,0,242,10],[242,11,242,12],[242,13,242,23],[244,0,244,10],[244,11,244,12],[244,13,244,23],[246,2,246,8],[246,15,246,21],[247,2,247,8],[247,15,247,21],[248,0,248,10],[248,13,248,23],[250,0,250,10],[250,11,250,12],[250,13,250,23],[252,0,252,11],[252,12,252,23],[253,0,253,23],[255,0,255,23],[257,2,257,6],[257,8,257,23],[259,2,259,6],[259,8,259,23],[261,0,261,10],[261,11,261,12],[261,13,261,23],[263,0,263,10],[263,11,263,12],[263,13,263,23],[265,0,265,10],[265,11,265,12],[265,13,265,23],[267,0,267,10],[267,11,267,12],[267,13,267,23],[269,2,269,8],[269,15,269,21],[270,2,270,8],[270,15,270,21],[271,0,271,10],[271,13,271,23],[273,0,273,10],[273,11,273,12],[273,13,273,23],[275,0,275,11],[275,12,275,23],[276,0,276,23],[278,0,278,23],[280,2,280,6],[280,8,280,23],[282,2,282,6],[282,8,282,23],[284,0,284,10],[284,11,284,12],[284,13,284,23],[286,0,286,10],[286,11,286,12],[286,13,286,23],[288,0,288,10],[288,11,288,12],[288,13,288,23],[290,0,290,10],[290,11,290,12],[290,13,290,23],[292,2,292,8],[292,15,292,21],[293,2,293,8],[293,15,293,21],[294,0,294,10],[294,13,294,23],[296,0,296,10],[296,11,296,12],[296,13,296,23],[298,0,298,11],[298,12,298,23],[299,0,299,23],[301,0,301,23],[303,2,303,6],[303,8,303,23],[305,2,305,6],[305,8,305,23],[307,0,307,10],[307,11,307,12],[307,13,307,23],[309,0,309,10],[309,11,309,12],[309,13,309,23],[311,0,311,10],[311,11,311,12],[311,13,311,23],[313,0,313,10],[313,11,313,12],[313,13,313,23],[315,2,315,8],[315,15,315,21],[316,2,316,8],[316,15,316,21],[317,0,317,10],[317,13,317,23],[319,0,319,10],[319,11,319,12],[319,13,319,23],[321,0,321,11],[321,12,321,23],[322,0,322,23],[324,0,324,23],[326,2,326,6],[326,8,326,23],[328,2,328,6],[328,8,328,23],[330,0,330,10],[330,11,330,12],[330,13,330,23],[332,0,332,10],[332,11,332,12],[332,13,332,23],[334,0,334,10],[334,11,334,12],[334,13,334,23],[336,0,336,10],[336,11,336,12],[336,13,336,23],[338,2,338,8],[338,15,338,21],[339,2,339,8],[339,15,339,21],[340,0,340,10],[340,13,340,23],[342,0,342,10],[342,11,342,12],[342,13,342,23],[344,0,344,11],[344,12,344,23]]}
[{"$f":"'NOMINATED PAIRS'!$C$1","v":"CLUB NAME HERE"}]
[]
[{"$f":"'NOMINATED PAIRS'!$J$1","v":"Nominated Pairs"}]
[]
[null,null,"RINK",{"$nulls":5},"DATE"]
[]
[null,null,{"$f":"'NOMINATED PAIRS'!N4","v":0},{"$nulls":5},{"$f":"'NOMINATED PAIRS'!$H$1","v":"31/07/20"}]
[]
[{"$f":"'NOMINATED PAIRS'!$H$4","v":0},{"$nulls":12},{"$f":"'NOMINATED PAIRS'!$L$4","v":0}]
[]
[]
[]
[]
[]
[{"$f":"'NOMINATED PAIRS'!$I$4","v":0},{"$nulls":12},{"$f":"'NOMINATED PAIRS'!$M$4","v":0}]
[]
[null,null,"TOTAL SCORE",{"$nulls":12},"TOTAL SCORE"]
[]
["Signature",{"$nulls":12},"Signature"]
[]
[]
[]
["Time Match completed"]
[{"$f":"'NOMINATED PAIRS'!$C$1","v":"CLUB NAME HERE"}]
[]
[{"$f":"'NOMINATED PAIRS'!$J$1","v":"Nominated Pairs"}]
[]
[null,null,"RINK",{"$nulls":5},"DATE"]
[]
[null,null,{"$f":"'NOMINATED PAIRS'!N5","v":0},{"$nulls":5},{"$f":"'NOMINATED PAIRS'!$H$1","v":"31/07/20"}]
[]
[{"$f":"'NOMINATED PAIRS'!$H$5","v":0},{"$nulls":12},{"$f":"'NOMINATED PAIRS'!$L$5","v":0}]
[]
[]
[]
[]
[]
[{"$f":"'NOMINATED PAIRS'!$I$5","v":0},{"$nulls":12},{"$f":"'NOMINATED PAIRS'!$M$5","v":0}]
[]
[null,null,"TOTAL SCORE",{"$nulls":12},"TOTAL SCORE"]
[]
["Signature",{"$nulls":12},"Signature"]
[]
[]
[]
["Time Match completed"]
[{"$f":"'NOMINATED PAIRS'!$C$1","v":"CLUB NAME HERE"}]
[]
[{"$f":"'NOMINATED PAIRS'!$J$1","v":"Nominated Pairs"}]
[]
[null,null,"RINK",{"$nulls":5},"DATE"]
[]
[null,null,{"$f":"'NOMINATED PAIRS'!N6","v":0},{"$nulls":5},{"$f":"'NOMINATED PAIRS'!$H$1","v":"31/07/20"}]
[]
[{"$f":"'NOMINATED PAIRS'!$H$6","v":0},{"$nulls":12},{"$f":"'NOMINATED PAIRS'!$L$6","v":0}]
[]
[]
[]
[]
[]
[{"$f":"'NOMINATED PAIRS'!$I$6","v":0},{"$nulls":12},{"$f":"'NOMINATED PAIRS'!$M$6","v":0}]
[]
[null,null,"TOTAL SCORE",{"$nulls":12},"TOTAL SCORE"]
[]
["Signature",{"$nulls":12},"Signature"]
[]
[]
[]
["Time Match completed"]
[{"$f":"'NOMINATED PAIRS'!$C$1","v":"CLUB NAME HERE"}]
[]
[{"$f":"'NOMINATED PAIRS'!$J$1","v":"Nominated Pairs"}]
[]
[null,null,"RINK",{"$nulls":5},"DATE"]
[]
[null,null,{"$f":"'NOMINATED PAIRS'!N7","v":0},{"$nulls":5},{"$f":"'NOMINATED PAIRS'!$H$1","v":"31/07/20"}]
[]
[{"$f":"'NOMINATED PAIRS'!$H$7","v":0},{"$nulls":12},{"$f":"'NOMINATED PAIRS'!$L$7","v":0}]
[]
[]
[]
[]
[]
[{"$f":"'NOMINATED PAIRS'!$I$7","v":0},{"$nulls":12},{"$f":"'NOMINATED PAIRS'!$M$7","v":0}]
[]
[null,null,"TOTAL SCORE",{"$nulls":12},"TOTAL SCORE"]
[]
["Signature",{"$nulls":12},"Signature"]
[]
[]
[]
["Time Match completed"]
[{"$f":"'NOMINATED PAIRS'!$C$1","v":"CLUB NAME HERE"}]
[]
[{"$f":"'NOMINATED PAIRS'!$J$1","v":"Nominated Pairs"}]
[]
[null,null,"RINK",{"$nulls":5},"DATE"]
[]
[null,null,{"$f":"'NOMINATED PAIRS'!N8","v":0},{"$nulls":5},{"$f":"'NOMINATED PAIRS'!$H$1","v":"31/07/20"}]
[]
[{"$f":"'NOMINATED PAIRS'!$H$8","v":0},{"$nulls":12},{"$f":"'NOMINATED PAIRS'!$L$8","v":0}]
[]
[]
[]
[]
[]
[{"$f":"'NOMINATED PAIRS'!$I$8","v":0},{"$nulls":12},{"$f":"'NOMINATED PAIRS'!$M$8","v":0}]
[]
[null,null,"TOTAL SCORE",{"$nulls":12},"TOTAL SCORE"]
[]
["Signature",{"$nulls":12},"Signature"]
[]
[]
[]
["Time Match completed"]
[{"$f":"'NOMINATED PAIRS'!$C$1","v":"CLUB NAME HERE"}]
[]
[{"$f":"'NOMINATED PAIRS'!$J$1","v":"Nominated Pairs"}]
[]
[null,null,"RINK",{"$nulls":5},"DATE"]
[]
[null,null,{"$f":"'NOMINATED PAIRS'!N9","v":0},{"$nulls":5},{"$f":"'NOMINATED PAIRS'!$H$1","v":"31/07/20"}]
[]
[{"$f":"'NOMINATED PAIRS'!$H$9","v":0},{"$nulls":12},{"$f":"'NOMINATED PAIRS'!$L$9","v":0}]
[]
[]
[]
[]
[]
[{"$f":"'NOMINATED PAIRS'!$I$9","v":0},{"$nulls":12},{"$f":"'NOMINATED PAIRS'!$M$9","v":0}]
[]
[null,null,"TOTAL SCORE",{"$nulls":12},"TOTAL SCORE"]
[]
["Signature",{"$nulls":12},"Signature"]
[]
[]
[]
["Time Match completed"]
[{"$f":"'NOMINATED PAIRS'!$C$1","v":"CLUB NAME HERE"}]
[]
[{"$f":"'NOMINATED PAIRS'!$J$1","v":"Nominated Pairs"}]
[]
[null,null,"RINK",{"$nulls":5},"DATE"]
[]
[null,null,{"$f":"'NOMINATED PAIRS'!N10","v":0},{"$nulls":5},{"$f":"'NOMINATED PAIRS'!$H$1","v":"31/07/20"}]
[]
[{"$f":"'NOMINATED PAIRS'!$H$10","v":0},{"$nulls":12},{"$f":"'NOMINATED PAIRS'!$L$10","v":0}]
[]
[]
[]
[]
[]
[{"$f":"'NOMINATED PAIRS'!$I$10","v":0},{"$nulls":12},{"$f":"'NOMINATED PAIRS'!$M$10","v":0}]
[]
[null,null,"TOTAL SCORE",{"$nulls":12},"TOTAL SCORE"]
[]
["Signature",{"$nulls":12},"Signature"]
[]
[]
[]
["Time Match completed"]
[{"$f":"'NOMINATED PAIRS'!$C$1","v":"CLUB NAME HERE"}]
[]
[{"$f":"'NOMINATED PAIRS'!$J$1","v":"Nominated Pairs"}]
[]
[null,null,"RINK",{"$nulls":5},"DATE"]
[]
[null,null,{"$f":"'NOMINATED PAIRS'!N11","v":0},{"$nulls":5},{"$f":"'NOMINATED PAIRS'!$H$1","v":"31/07/20"}]
[]
[{"$f":"'NOMINATED PAIRS'!$H$11","v":0},{"$nulls":12},{"$f":"'NOMINATED PAIRS'!$L$11","v":0}]
[]
[]
[]
[]
[]
[{"$f":"'NOMINATED PAIRS'!$I$11","v":0},{"$nulls":12},{"$f":"'NOMINATED PAIRS'!$M$11","v":0}]
[]
[null,null,"TOTAL SCORE",{"$nulls":12},"TOTAL SCORE"]
[]
["Signature",{"$nulls":12},"Signature"]
[]
[]
[]
["Time Match completed"]
[{"$f":"'NOMINATED PAIRS'!$C$1","v":"CLUB NAME HERE"}]
[]
[{"$f":"'NOMINATED PAIRS'!$J$1","v":"Nominated Pairs"}]
[]
[null,null,"RINK",{"$nulls":5},"DATE"]
[]
[null,null,{"$f":"'NOMINATED PAIRS'!N12","v":0},{"$nulls":5},{"$f":"'NOMINATED PAIRS'!$H$1","v":"31/07/20"}]
[]
[{"$f":"'NOMINATED PAIRS'!$H$12","v":0},{"$nulls":12},{"$f":"'NOMINATED PAIRS'!$L$12","v":0}]
[]
[]
[]
[]
[]
[{"$f":"'NOMINATED PAIRS'!$I$12","v":0},{"$nulls":12},{"$f":"'NOMINATED PAIRS'!$M$12","v":0}]
[]
[null,null,"TOTAL SCORE",{"$nulls":12},"TOTAL SCORE"]
[]
["Signature",{"$nulls":12},"Signature"]
[]
[]
[]
["Time Match completed"]
[{"$f":"'NOMINATED PAIRS'!$C$1","v":"CLUB NAME HERE"}]
[]
[{"$f":"'NOMINATED PAIRS'!$J$1","v":"Nominated Pairs"}]
[]
[null,null,"RINK",{"$nulls":5},"DATE"]
[]
[null,null,{"$f":"'NOMINATED PAIRS'!N13","v":0},{"$nulls":5},{"$f":"'NOMINATED PAIRS'!$H$1","v":"31/07/20"}]
[]
[{"$f":"'NOMINATED PAIRS'!$H$13","v":0},{"$nulls":12},{"$f":"'NOMINATED PAIRS'!$L$13","v":0}]
[]
[]
[]
[]
[]
[{"$f":"'NOMINATED PAIRS'!$I$13","v":0},{"$nulls":12},{"$f":"'NOMINATED PAIRS'!$M$13","v":0}]
[]
[null,null,"TOTAL SCORE",{"$nulls":12},"TOTAL SCORE"]
[]
["Signature",{"$nulls":12},"Signature"]
[]
[]
[]
["Time Match completed"]
[{"$f":"'NOMINATED PAIRS'!$C$1","v":"CLUB NAME HERE"}]
[]
[{"$f":"'NOMINATED PAIRS'!$J$1","v":"Nominated Pairs"}]
[]
[null,null,"RINK",{"$nulls":5},"DATE"]
[]
[null,null,{"$f":"'NOMINATED PAIRS'!N14","v":0},{"$nulls":5},{"$f":"'NOMINATED PAIRS'!$H$1","v":"31/07/20"}]
[]
[{"$f":"'NOMINATED PAIRS'!$H$14","v":0},{"$nulls":12},{"$f":"'NOMINATED PAIRS'!$L$14","v":0}]
[]
[]
[]
[]
[]
[{"$f":"'NOMINATED PAIRS'!$I$14","v":0},{"$nulls":12},{"$f":"'NOMINATED PAIRS'!$M$14","v":0}]
[]
[null,null,"TOTAL SCORE",{"$nulls":12},"TOTAL SCORE"]
[]
["Signature",{"$nulls":12},"Signature"]
[]
[]
[]
["Time Match completed"]
[{"$f":"'NOMINATED PAIRS'!$C$1","v":"CLUB NAME HERE"}]
[]
[{"$f":"'NOMINATED PAIRS'!$J$1","v":"Nominated Pairs"}]
[]
[null,null,"RINK",{"$nulls":5},"DATE"]
[]
[null,null,{"$f":"'NOMINATED PAIRS'!N15","v":0},{"$nulls":5},{"$f":"'NOMINATED PAIRS'!$H$1","v":"31/07/20"}]
[]
[{"$f":"'NOMINATED PAIRS'!$H$15","v":0},{"$nulls":12},{"$f":"'NOMINATED PAIRS'!$L$15","v":0}]
[]
[]
[]
[]
[]
[{"$f":"'NOMINATED PAIRS'!$I$15","v":0},{"$nulls":12},{"$f":"'NOMINATED PAIRS'!$M$15","v":0}]
[]
[null,null,"TOTAL SCORE",{"$nulls":12},"TOTAL SCORE"]
[]
["Signature",{"$nulls":12},"Signature"]
[]
[]
[]
["Time Match completed"]
[{"$f":"'NOMINATED PAIRS'!$C$1","v":"CLUB NAME HERE"}]
[]
[{"$f":"'NOMINATED PAIRS'!$J$1","v":"Nominated Pairs"}]
[]
[null,null,"RINK",{"$nulls":5},"DATE"]
[]
[null,null,{"$f":"'NOMINATED PAIRS'!$N$16","v":0},{"$nulls":5},{"$f":"'NOMINATED PAIRS'!$H$1","v":"31/07/20"}]
[]
[{"$f":"'NOMINATED PAIRS'!$H$16","v":0},{"$nulls":12},{"$f":"'NOMINATED PAIRS'!$L$16","v":0}]
[]
[]
[]
[]
[]
[{"$f":"'NOMINATED PAIRS'!$I$16","v":0},{"$nulls":12},{"$f":"'NOMINATED PAIRS'!$M$16","v":0}]
[]
[null,null,"TOTAL SCORE",{"$nulls":12},"TOTAL SCORE"]
[]
["Signature",{"$nulls":12},"Signature"]
[]
[]
[]
["Time Match completed"]
[{"$f":"'NOMINATED PAIRS'!$C$1","v":"CLUB NAME HERE"}]
[]
[{"$f":"'NOMINATED PAIRS'!$J$1","v":"Nominated Pairs"}]
[]
[null,null,"RINK",{"$nulls":5},"DATE"]
[]
[null,null,{"$f":"'NOMINATED PAIRS'!$N$17","v":0},{"$nulls":5},{"$f":"'NOMINATED PAIRS'!$H$1","v":"31/07/20"}]
[]
[{"$f":"'NOMINATED PAIRS'!$H$17","v":0},{"$nulls":12},{"$f":"'NOMINATED PAIRS'!$L$17","v":0}]
[]
[]
[]
[]
[]
[{"$f":"'NOMINATED PAIRS'!$I$17","v":0},{"$nulls":12},{"$f":"'NOMINATED PAIRS'!$M$17","v":0}]
[]
[null,null,"TOTAL SCORE",{"$nulls":12},"TOTAL SCORE"]
[]
["Signature",{"$nulls":12},"Signature"]
[]
[]
[]
["Time Match completed"]
[{"$f":"'NOMINATED PAIRS'!$C$1","v":"CLUB NAME HERE"}]
[]
[{"$f":"'NOMINATED PAIRS'!$J$1","v":"Nominated Pairs"}]
[]
[null,null,"RINK",{"$nulls":5},"DATE"]
[]
[null,null,{"$f":"'NOMINATED PAIRS'!N18","v":0}]
{"$rows_empty":9}
[null,null,"TOTAL SCORE",{"$nulls":12},"TOTAL SCORE"]
[]
["Signature",{"$nulls":12},"Signature"]
[]
[]
[]
["Time Match completed"]

{"sheet":"Cards rear","index":3,"n_rows":240,"n_cols":10,"rows_kept":240,"merged":[[0,0,0,1],[0,3,0,9],[1,1,1,2],[1,3,1,4],[1,6,1,7],[1,8,1,9],[16,0,16,1],[16,3,16,9],[17,1,17,2],[17,3,17,4],[17,6,17,7],[17,8,17,9],[32,0,32,1],[32,3,32,9],[33,1,33,2],[33,3,33,4],[33,6,33,7],[33,8,33,9],[48,0,48,1],[48,3,48,9],[49,1,49,2],[49,3,49,4],[49,6,49,7],[49,8,49,9],[64,0,64,1],[64,3,64,9],[65,1,65,2],[65,3,65,4],[65,6,65,7],[65,8,65,9],[80,0,80,1],[80,3,80,9],[81,1,81,2],[81,3,81,4],[81,6,81,7],[81,8,81,9],[96,0,96,1],[96,3,96,9],[97,1,97,2],[97,3,97,4],[97,6,97,7],[97,8,97,9],[112,0,112,1],[112,3,112,9],[113,1,113,2],[113,3,113,4],[113,6,113,7],[113,8,113,9],[128,0,128,1],[128,3,128,9],[129,1,129,2],[129,3,129,4],[129,6,129,7],[129,8,129,9],[144,0,144,1],[144,3,144,9],[145,1,145,2],[145,3,145,4],[145,6,145,7],[145,8,145,9],[160,0,160,1],[160,3,160,9],[161,1,161,2],[161,3,161,4],[161,6,161,7],[161,8,161,9],[176,0,176,1],[176,3,176,9],[177,1,177,2],[177,3,177,4],[177,6,177,7],[177,8,177,9],[192,0,192,1],[192,3,192,9],[193,1,193,2],[193,3,193,4],[193,6,193,7],[193,8,193,9],[208,0,208,1],[208,3,208,9],[209,1,209,2],[209,3,209,4],[209,6,209,7],[209,8,209,9],[224,0,224,1],[224,3,224,9],[225,1,225,2],[225,3,225,4],[225,6,225,7],[225,8,225,9]]}
["RINK",null,{"$f":"'NOMINATED PAIRS'!$N$4","v":0},{"$f":"$B$2","v":0}]
[null,{"$f":"'NOMINATED PAIRS'!$I$4","v":0},null,{"$f":"'NOMINATED PAIRS'!$M$4","v":0},null,null,{"$f":"'NOMINATED PAIRS'!$I$4","v":0},null,{"$f":"'NOMINATED PAIRS'!$M$4","v":0}]
["End","Shots","Total","Shots","Total","End","Shots","Total","Shots","Total"]
[1,{"$nulls":4},14]
[2,{"$nulls":4},15]
[3,{"$nulls":4},16]
[4,{"$nulls":4},17]
[5,{"$nulls":4},18]
[6,{"$nulls":4},19]
[7,{"$nulls":4},20]
[8,{"$nulls":4},21]
[9,{"$nulls":4},22]
[10,{"$nulls":4},23]
[11,{"$nulls":4},24]
[12,{"$nulls":4},25]
[13,{"$nulls":4},"T"]
["RINK",null,{"$f":"'NOMINATED PAIRS'!$N$5","v":0},{"$f":"$B$18","v":0}]
[null,{"$f":"'NOMINATED PAIRS'!$I$5","v":0},null,{"$f":"'NOMINATED PAIRS'!$M$5","v":0},null,null,{"$f":"'NOMINATED PAIRS'!$I$5","v":0},null,{"$f":"'NOMINATED PAIRS'!$M$5","v":0}]
["End","Shots","Total","Shots","Total","End","Shots","Total","Shots","Total"]
[1,{"$nulls":4},14]
[2,{"$nulls":4},15]
[3,{"$nulls":4},16]
[4,{"$nulls":4},17]
[5,{"$nulls":4},18]
[6,{"$nulls":4},19]
[7,{"$nulls":4},20]
[8,{"$nulls":4},21]
[9,{"$nulls":4},22]
[10,{"$nulls":4},23]
[11,{"$nulls":4},24]
[12,{"$nulls":4},25]
[13,{"$nulls":4},"T"]
["RINK",null,{"$f":"'NOMINATED PAIRS'!$N$6","v":0},{"$f":"$B$34","v":0}]
[null,{"$f":"'NOMINATED PAIRS'!$I$6","v":0},null,{"$f":"'NOMINATED PAIRS'!$M$6","v":0},null,null,{"$f":"'NOMINATED PAIRS'!$I$6","v":0},null,{"$f":"'NOMINATED PAIRS'!$M$6","v":0}]
["End","Shots","Total","Shots","Total","End","Shots","Total","Shots","Total"]
[1,{"$nulls":4},14]
[2,{"$nulls":4},15]
[3,{"$nulls":4},16]
[4,{"$nulls":4},17]
[5,{"$nulls":4},18]
[6,{"$nulls":4},19]
[7,{"$nulls":4},20]
[8,{"$nulls":4},21]
[9,{"$nulls":4},22]
[10,{"$nulls":4},23]
[11,{"$nulls":4},24]
[12,{"$nulls":4},25]
[13,{"$nulls":4},"T"]
["RINK",null,{"$f":"'NOMINATED PAIRS'!$N$7","v":0},{"$f":"$B$50","v":0}]
[null,{"$f":"'NOMINATED PAIRS'!$I$7","v":0},null,{"$f":"'NOMINATED PAIRS'!$M$7","v":0},null,null,{"$f":"'NOMINATED PAIRS'!$I$7","v":0},null,{"$f":"'NOMINATED PAIRS'!$M$7","v":0}]
["End","Shots","Total","Shots","Total","End","Shots","Total","Shots","Total"]
[1,{"$nulls":4},14]
[2,{"$nulls":4},15]
[3,{"$nulls":4},16]
[4,{"$nulls":4},17]
[5,{"$nulls":4},18]
[6,{"$nulls":4},19]
[7,{"$nulls":4},20]
[8,{"$nulls":4},21]
[9,{"$nulls":4},22]
[10,{"$nulls":4},23]
[11,{"$nulls":4},24]
[12,{"$nulls":4},25]
[13,{"$nulls":4},"T"]
["RINK",null,{"$f":"'NOMINATED PAIRS'!$N$8","v":0},{"$f":"$B$66","v":0}]
[null,{"$f":"'NOMINATED PAIRS'!$I$8","v":0},null,{"$f":"'NOMINATED PAIRS'!$M$8","v":0},null,null,{"$f":"'NOMINATED PAIRS'!$I$8","v":0},null,{"$f":"'NOMINATED PAIRS'!$M$8","v":0}]
["End","Shots","Total","Shots","Total","End","Shots","Total","Shots","Total"]
[1,{"$nulls":4},14]
[2,{"$nulls":4},15]
[3,{"$nulls":4},16]
[4,{"$nulls":4},17]
[5,{"$nulls":4},18]
[6,{"$nulls":4},19]
[7,{"$nulls":4},20]
[8,{"$nulls":4},21]
[9,{"$nulls":4},22]
[10,{"$nulls":4},23]
[11,{"$nulls":4},24]
[12,{"$nulls":4},25]
[13,{"$nulls":4},"T"]
["RINK",null,{"$f":"'NOMINATED PAIRS'!$N$9","v":0},{"$f":"$B$82","v":0}]
[null,{"$f":"'NOMINATED PAIRS'!$I$9","v":0},null,{"$f":"'NOMINATED PAIRS'!$M$9","v":0},null,null,{"$f":"'NOMINATED PAIRS'!$I$9","v":0},null,{"$f":"'NOMINATED PAIRS'!$M$9","v":0}]
["End","Shots","Total","Shots","Total","End","Shots","Total","Shots","Total"]
[1,{"$nulls":4},14]
[2,{"$nulls":4},15]
[3,{"$nulls":4},16]
[4,{"$nulls":4},17]
[5,{"$nulls":4},18]
[6,{"$nulls":4},19]
[7,{"$nulls":4},20]
[8,{"$nulls":4},21]
[9,{"$nulls":4},22]
[10,{"$nulls":4},23]
[11,{"$nulls":4},24]
[12,{"$nulls":4},25]
[13,{"$nulls":4},"T"]
["RINK",null,{"$f":"'NOMINATED PAIRS'!$N$10","v":0},{"$f":"$B$98","v":0}]
[null,{"$f":"'NOMINATED PAIRS'!$I$10","v":0},null,{"$f":"'NOMINATED PAIRS'!$M$10","v":0},null,null,{"$f":"'NOMINATED PAIRS'!$I$10","v":0},null,{"$f":"'NOMINATED PAIRS'!$M$10","v":0}]
["End","Shots","Total","Shots","Total","End","Shots","Total","Shots","Total"]
[1,{"$nulls":4},14]
[2,{"$nulls":4},15]
[3,{"$nulls":4},16]
[4,{"$nulls":4},17]
[5,{"$nulls":4},18]
[6,{"$nulls":4},19]
[7,{"$nulls":4},20]
[8,{"$nulls":4},21]
[9,{"$nulls":4},22]
[10,{"$nulls":4},23]
[11,{"$nulls":4},24]
[12,{"$nulls":4},25]
[13,{"$nulls":4},"T"]
["RINK",null,{"$f":"'NOMINATED PAIRS'!$N$11","v":0},{"$f":"$B$114","v":0}]
[null,{"$f":"'NOMINATED PAIRS'!$I$11","v":0},null,{"$f":"'NOMINATED PAIRS'!$M$11","v":0},null,null,{"$f":"'NOMINATED PAIRS'!$I$11","v":0},null,{"$f":"'NOMINATED PAIRS'!$M$11","v":0}]
["End","Shots","Total","Shots","Total","End","Shots","Total","Shots","Total"]
[1,{"$nulls":4},14]
[2,{"$nulls":4},15]
[3,{"$nulls":4},16]
[4,{"$nulls":4},17]
[5,{"$nulls":4},18]
[6,{"$nulls":4},19]
[7,{"$nulls":4},20]
[8,{"$nulls":4},21]
[9,{"$nulls":4},22]
[10,{"$nulls":4},23]
[11,{"$nulls":4},24]
[12,{"$nulls":4},25]
[13,{"$nulls":4},"T"]
["RINK",null,{"$f":"'NOMINATED PAIRS'!$N$12","v":0},{"$f":"$B$130","v":0}]
[null,{"$f":"'NOMINATED PAIRS'!$I$12","v":0},null,{"$f":"'NOMINATED PAIRS'!$M$12","v":0},null,null,{"$f":"'NOMINATED PAIRS'!$I$12","v":0},null,{"$f":"'NOMINATED PAIRS'!$M$12","v":0}]
["End","Shots","Total","Shots","Total","End","Shots","Total","Shots","Total"]
[1,{"$nulls":4},14]
[2,{"$nulls":4},15]
[3,{"$nulls":4},16]
[4,{"$nulls":4},17]
[5,{"$nulls":4},18]
[6,{"$nulls":4},19]
[7,{"$nulls":4},20]
[8,{"$nulls":4},21]
[9,{"$nulls":4},22]
[10,{"$nulls":4},23]
[11,{"$nulls":4},24]
[12,{"$nulls":4},25]
[13,{"$nulls":4},"T"]
["RINK",null,{"$f":"'NOMINATED PAIRS'!$N$13","v":0},{"$f":"$B$146","v":0}]
[null,{"$f":"'NOMINATED PAIRS'!$I$13","v":0},null,{"$f":"'NOMINATED PAIRS'!$M$13","v":0},null,null,{"$f":"'NOMINATED PAIRS'!$I$13","v":0},null,{"$f":"'NOMINATED PAIRS'!$M$13","v":0}]
["End","Shots","Total","Shots","Total","End","Shots","Total","Shots","Total"]
[1,{"$nulls":4},14]
[2,{"$nulls":4},15]
[3,{"$nulls":4},16]
[4,{"$nulls":4},17]
[5,{"$nulls":4},18]
[6,{"$nulls":4},19]
[7,{"$nulls":4},20]
[8,{"$nulls":4},21]
[9,{"$nulls":4},22]
[10,{"$nulls":4},23]
[11,{"$nulls":4},24]
[12,{"$nulls":4},25]
[13,{"$nulls":4},"T"]
["RINK",null,{"$f":"'NOMINATED PAIRS'!$N$14","v":0},{"$f":"$B$162","v":0}]
[null,{"$f":"'NOMINATED PAIRS'!$I$14","v":0},null,{"$f":"'NOMINATED PAIRS'!$M$14","v":0},null,null,{"$f":"'NOMINATED PAIRS'!$I$14","v":0},null,{"$f":"'NOMINATED PAIRS'!$M$14","v":0}]
["End","Shots","Total","Shots","Total","End","Shots","Total","Shots","Total"]
[1,{"$nulls":4},14]
[2,{"$nulls":4},15]
[3,{"$nulls":4},16]
[4,{"$nulls":4},17]
[5,{"$nulls":4},18]
[6,{"$nulls":4},19]
[7,{"$nulls":4},20]
[8,{"$nulls":4},21]
[9,{"$nulls":4},22]
[10,{"$nulls":4},23]
[11,{"$nulls":4},24]
[12,{"$nulls":4},25]
[13,{"$nulls":4},"T"]
["RINK",null,{"$f":"'NOMINATED PAIRS'!$N$15","v":0},{"$f":"$B$178","v":0}]
[null,{"$f":"'NOMINATED PAIRS'!$I$15","v":0},null,{"$f":"'NOMINATED PAIRS'!$M$15","v":0},null,null,{"$f":"'NOMINATED PAIRS'!$I$15","v":0},null,{"$f":"'NOMINATED PAIRS'!$M$15","v":0}]
["End","Shots","Total","Shots","Total","End","Shots","Total","Shots","Total"]
[1,{"$nulls":4},14]
[2,{"$nulls":4},15]
[3,{"$nulls":4},16]
[4,{"$nulls":4},17]
[5,{"$nulls":4},18]
[6,{"$nulls":4},19]
[7,{"$nulls":4},20]
[8,{"$nulls":4},21]
[9,{"$nulls":4},22]
[10,{"$nulls":4},23]
[11,{"$nulls":4},24]
[12,{"$nulls":4},25]
[13,{"$nulls":4},"T"]
["RINK",null,{"$f":"'NOMINATED PAIRS'!$N$16","v":0},{"$f":"$B$194","v":0}]
[null,{"$f":"'NOMINATED PAIRS'!$I$16","v":0},null,{"$f":"'NOMINATED PAIRS'!$M$16","v":0},null,null,{"$f":"'NOMINATED PAIRS'!$I$16","v":0},null,{"$f":"'NOMINATED PAIRS'!$M$16","v":0}]
["End","Shots","Total","Shots","Total","End","Shots","Total","Shots","Total"]
[1,{"$nulls":4},14]
[2,{"$nulls":4},15]
[3,{"$nulls":4},16]
[4,{"$nulls":4},17]
[5,{"$nulls":4},18]
[6,{"$nulls":4},19]
[7,{"$nulls":4},20]
[8,{"$nulls":4},21]
[9,{"$nulls":4},22]
[10,{"$nulls":4},23]
[11,{"$nulls":4},24]
[12,{"$nulls":4},25]
[13,{"$nulls":4},"T"]
["RINK",null,{"$f":"'NOMINATED PAIRS'!$N$17","v":0},{"$f":"$B$210","v":0}]
[null,{"$f":"'NOMINATED PAIRS'!$I$17","v":0},null,{"$f":"'NOMINATED PAIRS'!$M$17","v":0},null,null,{"$f":"'NOMINATED PAIRS'!$I$17","v":0},null,{"$f":"'NOMINATED PAIRS'!$M$17","v":0}]
["End","Shots","Total","Shots","Total","End","Shots","Total","Shots","Total"]
[1,{"$nulls":4},14]
[2,{"$nulls":4},15]
[3,{"$nulls":4},16]
[4,{"$nulls":4},17]
[5,{"$nulls":4},18]
[6,{"$nulls":4},19]
[7,{"$nulls":4},20]
[8,{"$nulls":4},21]
[9,{"$nulls":4},22]
[10,{"$nulls":4},23]
[11,{"$nulls":4},24]
[12,{"$nulls":4},25]
[13,{"$nulls":4},"T"]
["RINK"]
[]
["End","Shots","Total","Shots","Total","End","Shots","Total","Shots","Total"]
[1,{"$nulls":4},14]
[2,{"$nulls":4},15]
[3,{"$nulls":4},16]
[4,{"$nulls":4},17]
[5,{"$nulls":4},18]
[6,{"$nulls":4},19]
[7,{"$nulls":4},20]
[8,{"$nulls":4},21]
[9,{"$nulls":4},22]
[10,{"$nulls":4},23]
[11,{"$nulls":4},24]
[12,{"$nulls":4},25]
[13,{"$nulls":4},"T"]

{"sheet":"Cards front rev","index":4,"n_rows":345,"n_cols":16,"rows_kept":345,"merged":[[0,0,0,23],[2,0,2,23],[4,2,4,6],[4,8,4,23],[6,2,6,6],[6,8,6,23],[8,0,8,10],[8,11,8,12],[8,13,8,23],[10,0,10,10],[10,11,10,12],[10,13,10,23],[12,0,12,10],[12,11,12,12],[12,13,12,23],[14,0,14,10],[14,11,14,12],[14,13,14,23],[16,2,16,8],[16,15,16,21],[17,2,17,8],[17,15,17,21],[18,0,18,10],[18,13,18,23],[20,0,20,10],[20,11,20,12],[20,13,20,23],[22,0,22,11],[22,12,22,23],[23,0,23,23],[25,0,25,23],[27,2,27,6],[27,8,27,23],[29,2,29,6],[29,8,29,23],[31,0,31,10],[31,11,31,12],[31,13,31,23],[33,0,33,10],[33,11,33,12],[33,13,33,23],[35,0,35,10],[35,11,35,12],[35,13,35,23],[37,0,37,10],[37,11,37,12],[37,13,37,23],[39,2,39,8],[39,15,39,21],[40,2,40,8],[40,15,40,21],[41,0,41,10],[41,13,41,23],[43,0,43,10],[43,11,43,12],[43,13,43,23],[45,0,45,11],[45,12,45,23],[46,0,46,23],[48,0,48,23],[50,2,50,6],[50,8,50,23],[52,2,52,6],[52,8,52,23],[54,0,54,10],[54,11,54,12],[54,13,54,23],[56,0,56,10],[56,11,56,12],[56,13,56,23],[58,0,58,10],[58,11,58,12],[58,13,58,23],[60,0,60,10],[60,11,60,12],[60,13,60,23],[62,2,62,8],[62,15,62,21],[63,2,63,8],[63,15,63,21],[64,0,64,10],[64,13,64,23],[66,0,66,10],[66,11,66,12],[66,13,66,23],[68,0,68,11],[68,12,68,23],[69,0,69,23],[71,0,71,23],[73,2,73,6],[73,8,73,23],[75,2,75,6],[75,8,75,23],[77,0,77,10],[77,11,77,12],[77,13,77,23],[79,0,79,10],[79,11,79,12],[79,13,79,23],[81,0,81,10],[81,11,81,12],[81,13,81,23],[83,0,83,10],[83,11,83,12],[83,13,83,23],[85,2,85,8],[85,15,85,21],[86,2,86,8],[86,15,86,21],[87,0,87,10],[87,13,87,23],[89,0,89,10],[89,11,89,12],[89,13,89,23],[91,0,91,11],[91,12,91,23],[92,0,92,23],[94,0,94,23],[96,2,96,6],[96,8,96,23],[98,2,98,6],[98,8,98,23],[100,0,100,10],[100,11,100,12],[100,13,100,23],[102,0,102,10],[102,11,102,12],[102,13,102,23],[104,0,104,10],[104,11,104,12],[104,13,104,23],[106,0,106,10],[106,11,106,12],[106,13,106,23],[108,2,108,8],[108,15,108,21],[109,2,109,8],[109,15,109,21],[110,0,110,10],[110,13,110,23],[112,0,112,10],[112,11,112,12],[112,13,112,23],[114,0,114,11],[114,12,114,23],[115,0,115,23],[117,0,117,23],[119,2,119,6],[119,8,119,23],[121,2,121,6],[121,8,121,23],[123,0,123,10],[123,11,123,12],[123,13,123,23],[125,0,125,10],[125,11,125,12],[125,13,125,23],[127,0,127,10],[127,11,127,12],[127,13,127,23],[129,0,129,10],[129,11,129,12],[129,13,129,23],[131,2,131,8],[131,15,131,21],[132,2,132,8],[132,15,132,21],[133,0,133,10],[133,13,133,23],[135,0,135,10],[135,11,135,12],[135,13,135,23],[137,0,137,11],[137,12,137,23],[138,0,138,23],[140,0,140,23],[142,2,142,6],[142,8,142,23],[144,2,144,6],[144,8,144,23],[146,0,146,10],[146,11,146,12],[146,13,146,23],[148,0,148,10],[148,11,148,12],[148,13,148,23],[150,0,150,10],[150,11,150,12],[150,13,150,23],[152,0,152,10],[152,11,152,12],[152,13,152,23],[154,2,154,8],[154,15,154,21],[155,2,155,8],[155,15,155,21],[156,0,156,10],[156,13,156,23],[158,0,158,10],[158,11,158,12],[158,13,158,23],[160,0,160,11],[160,12,160,23],[161,0,161,23],[163,0,163,23],[165,2,165,6],[165,8,165,23],[167,2,167,6],[167,8,167,23],[169,0,169,10],[169,11,169,12],[169,13,169,23],[171,0,171,10],[171,11,171,12],[171,13,171,23],[173,0,173,10],[173,11,173,12],[173,13,173,23],[175,0,175,10],[175,11,175,12],[175,13,175,23],[177,2,177,8],[177,15,177,21],[178,2,178,8],[178,15,178,21],[179,0,179,10],[179,13,179,23],[181,0,181,10],[181,11,181,12],[181,13,181,23],[183,0,183,11],[183,12,183,23],[184,0,184,23],[186,0,186,23],[188,2,188,6],[188,8,188,23],[190,2,190,6],[190,8,190,23],[192,0,192,10],[192,11,192,12],[192,13,192,23],[194,0,194,10],[194,11,194,12],[194,13,194,23],[196,0,196,10],[196,11,196,12],[196,13,196,23],[198,0,198,10],[198,11,198,12],[198,13,198,23],[200,2,200,8],[200,15,200,21],[201,2,201,8],[201,15,201,21],[202,0,202,10],[202,13,202,23],[204,0,204,10],[204,11,204,12],[204,13,204,23],[206,0,206,11],[206,12,206,23],[207,0,207,23],[209,0,209,23],[211,2,211,6],[211,8,211,23],[213,2,213,6],[213,8,213,23],[215,0,215,10],[215,11,215,12],[215,13,215,23],[217,0,217,10],[217,11,217,12],[217,13,217,23],[219,0,219,10],[219,11,219,12],[219,13,219,23],[221,0,221,10],[221,11,221,12],[221,13,221,23],[223,2,223,8],[223,15,223,21],[224,2,224,8],[224,15,224,21],[225,0,225,10],[225,13,225,23],[227,0,227,10],[227,11,227,12],[227,13,227,23],[229,0,229,11],[229,12,229,23],[230,0,230,23],[232,0,232,23],[234,2,234,6],[234,8,234,23],[236,2,236,6],[236,8,236,23],[238,0,238,10],[238,11,238,12],[238,13,238,23],[240,0,240,10],[240,11,240,12],[240,13,240,23],[242,0,242,10],[242,11,242,12],[242,13,242,23],[244,0,244,10],[244,11,244,12],[244,13,244,23],[246,2,246,8],[246,15,246,21],[247,2,247,8],[247,15,247,21],[248,0,248,10],[248,13,248,23],[250,0,250,10],[250,11,250,12],[250,13,250,23],[252,0,252,11],[252,12,252,23],[253,0,253,23],[255,0,255,23],[257,2,257,6],[257,8,257,23],[259,2,259,6],[259,8,259,23],[261,0,261,10],[261,11,261,12],[261,13,261,23],[263,0,263,10],[263,11,263,12],[263,13,263,23],[265,0,265,10],[265,11,265,12],[265,13,265,23],[267,0,267,10],[267,11,267,12],[267,13,267,23],[269,2,269,8],[269,15,269,21],[270,2,270,8],[270,15,270,21],[271,0,271,10],[271,13,271,23],[273,0,273,10],[273,11,273,12],[273,13,273,23],[275,0,275,11],[275,12,275,23],[276,0,276,23],[278,0,278,23],[280,2,280,6],[280,8,280,23],[282,2,282,6],[282,8,282,23],[284,0,284,10],[284,11,284,12],[284,13,284,23],[286,0,286,10],[286,11,286,12],[286,13,286,23],[288,0,288,10],[288,11,288,12],[288,13,288,23],[290,0,290,10],[290,11,290,12],[290,13,290,23],[292,2,292,8],[292,15,292,21],[293,2,293,8],[293,15,293,21],[294,0,294,10],[294,13,294,23],[296,0,296,10],[296,11,296,12],[296,13,296,23],[298,0,298,11],[298,12,298,23],[299,0,299,23],[301,0,301,23],[303,2,303,6],[303,8,303,23],[305,2,305,6],[305,8,305,23],[307,0,307,10],[307,11,307,12],[307,13,307,23],[309,0,309,10],[309,11,309,12],[309,13,309,23],[311,0,311,10],[311,11,311,12],[311,13,311,23],[313,0,313,10],[313,11,313,12],[313,13,313,23],[315,2,315,8],[315,15,315,21],[316,2,316,8],[316,15,316,21],[317,0,317,10],[317,13,317,23],[319,0,319,10],[319,11,319,12],[319,13,319,23],[321,0,321,11],[321,12,321,23],[322,0,322,23],[324,0,324,23],[326,2,326,6],[326,8,326,23],[328,2,328,6],[328,8,328,23],[330,0,330,10],[330,11,330,12],[330,13,330,23],[332,0,332,10],[332,11,332,12],[332,13,332,23],[334,0,334,10],[334,11,334,12],[334,13,334,23],[336,0,336,10],[336,11,336,12],[336,13,336,23],[338,2,338,8],[338,15,338,21],[339,2,339,8],[339,15,339,21],[340,0,340,10],[340,13,340,23],[342,0,342,10],[342,11,342,12],[342,13,342,23],[344,0,344,11],[344,12,344,23]]}
[{"$f":"'NOMINATED PAIRS'!$C$1","v":"CLUB NAME HERE"}]
[]
[{"$f":"'NOMINATED PAIRS'!$J$1","v":"Nominated Pairs"}]
[]
[null,null,"RINK",{"$nulls":5},"DATE"]
[]
[null,null,{"$f":"'NOMINATED PAIRS'!N4","v":0},{"$nulls":5},{"$f":"'NOMINATED PAIRS'!$H$1","v":"31/07/20"}]
[]
[{"$f":"'Cards front'!N9","v":0},{"$nulls":12},{"$f":"'Cards front'!A9","v":0}]
[]
[{"$f":"'Cards front'!N11","v":0},{"$nulls":12},{"$f":"'Cards front'!A11","v":0}]
[]
[{"$f":"'Cards front'!N13","v":0},{"$nulls":12},{"$f":"'Cards front'!A13","v":0}]
[]
[{"$f":"'Cards front'!N15","v":0},{"$nulls":12},{"$f":"'Cards front'!A15","v":0}]
[]
[null,null,"TOTAL SCORE",{"$nulls":12},"TOTAL SCORE"]
[]
["Signature",{"$nulls":12},"Signature"]
[]
[]
[]
["Time Match completed"]
[{"$f":"'NOMINATED PAIRS'!$C$1","v":"CLUB NAME HERE"}]
[]
[{"$f":"'NOMINATED PAIRS'!$J$1","v":"Nominated Pairs"}]
[]
[null,null,"RINK",{"$nulls":5},"DATE"]
[]
[null,null,{"$f":"'NOMINATED PAIRS'!N5","v":0},{"$nulls":5},{"$f":"'NOMINATED PAIRS'!$H$1","v":"31/07/20"}]
[]
[{"$f":"'Cards front'!N32","v":0},{"$nulls":12},{"$f":"'Cards front'!A32","v":0}]
[]
[{"$f":"'Cards front'!N34","v":0},{"$nulls":12},{"$f":"'Cards front'!A34","v":0}]
[]
[{"$f":"'Cards front'!N36","v":0},{"$nulls":12},{"$f":"'Cards front'!A36","v":0}]
[]
[{"$f":"'Cards front'!N38","v":0},{"$nulls":12},{"$f":"'Cards front'!A38","v":0}]
[]
[null,null,"TOTAL SCORE",{"$nulls":12},"TOTAL SCORE"]
[]
["Signature",{"$nulls":12},"Signature"]
[]
[]
[]
["Time Match completed"]
[{"$f":"'NOMINATED PAIRS'!$C$1","v":"CLUB NAME HERE"}]
[]
[{"$f":"'NOMINATED PAIRS'!$J$1","v":"Nominated Pairs"}]
[]
[null,null,"RINK",{"$nulls":5},"DATE"]
[]
[null,null,{"$f":"'NOMINATED PAIRS'!N6","v":0},{"$nulls":5},{"$f":"'NOMINATED PAIRS'!$H$1","v":"31/07/20"}]
[]
[{"$f":"'Cards front'!N55","v":0},{"$nulls":12},{"$f":"'Cards front'!A55","v":0}]
[]
[{"$f":"'Cards front'!N57","v":0},{"$nulls":12},{"$f":"'Cards front'!A57","v":0}]
[]
[{"$f":"'Cards front'!N59","v":0},{"$nulls":12},{"$f":"'Cards front'!A59","v":0}]
[]
[{"$f":"'Cards front'!N61","v":0},{"$nulls":12},{"$f":"'Cards front'!A61","v":0}]
[]
[null,null,"TOTAL SCORE",{"$nulls":12},"TOTAL SCORE"]
[]
["Signature",{"$nulls":12},"Signature"]
[]
[]
[]
["Time Match completed"]
[{"$f":"'NOMINATED PAIRS'!$C$1","v":"CLUB NAME HERE"}]
[]
[{"$f":"'NOMINATED PAIRS'!$J$1","v":"Nominated Pairs"}]
[]
[null,null,"RINK",{"$nulls":5},"DATE"]
[]
[null,null,{"$f":"'NOMINATED PAIRS'!N7","v":0},{"$nulls":5},{"$f":"'NOMINATED PAIRS'!$H$1","v":"31/07/20"}]
[]
[{"$f":"'Cards front'!N78","v":0},{"$nulls":12},{"$f":"'Cards front'!A78","v":0}]
[]
[{"$f":"'Cards front'!N80","v":0},{"$nulls":12},{"$f":"'Cards front'!A80","v":0}]
[]
[{"$f":"'Cards front'!N82","v":0},{"$nulls":12},{"$f":"'Cards front'!A82","v":0}]
[]
[{"$f":"'Cards front'!N84","v":0},{"$nulls":12},{"$f":"'Cards front'!A84","v":0}]
[]
[null,null,"TOTAL SCORE",{"$nulls":12},"TOTAL SCORE"]
[]
["Signature",{"$nulls":12},"Signature"]
[]
[]
[]
["Time Match completed"]
[{"$f":"'NOMINATED PAIRS'!$C$1","v":"CLUB NAME HERE"}]
[]
[{"$f":"'NOMINATED PAIRS'!$J$1","v":"Nominated Pairs"}]
[]
[null,null,"RINK",{"$nulls":5},"DATE"]
[]
[null,null,{"$f":"'NOMINATED PAIRS'!N8","v":0},{"$nulls":5},{"$f":"'NOMINATED PAIRS'!$H$1","v":"31/07/20"}]
[]
[{"$f":"'Cards front'!N101","v":0},{"$nulls":12},{"$f":"'Cards front'!A101","v":0}]
[]
[{"$f":"'Cards front'!N103","v":0},{"$nulls":12},{"$f":"'Cards front'!A103","v":0}]
[]
[{"$f":"'Cards front'!N105","v":0},{"$nulls":12},{"$f":"'Cards front'!A105","v":0}]
[]
[{"$f":"'Cards front'!N107","v":0},{"$nulls":12},{"$f":"'Cards front'!A107","v":0}]
[]
[null,null,"TOTAL SCORE",{"$nulls":12},"TOTAL SCORE"]
[]
["Signature",{"$nulls":12},"Signature"]
[]
[]
[]
["Time Match completed"]
[{"$f":"'NOMINATED PAIRS'!$C$1","v":"CLUB NAME HERE"}]
[]
[{"$f":"'NOMINATED PAIRS'!$J$1","v":"Nominated Pairs"}]
[]
[null,null,"RINK",{"$nulls":5},"DATE"]
[]
[null,null,{"$f":"'NOMINATED PAIRS'!N9","v":0},{"$nulls":5},{"$f":"'NOMINATED PAIRS'!$H$1","v":"31/07/20"}]
[]
[{"$f":"'Cards front'!N124","v":0},{"$nulls":12},{"$f":"'Cards front'!A124","v":0}]
[]
[{"$f":"'Cards front'!N126","v":0},{"$nulls":12},{"$f":"'Cards front'!A126","v":0}]
[]
[{"$f":"'Cards front'!N128","v":0},{"$nulls":12},{"$f":"'Cards front'!A128","v":0}]
[]
[{"$f":"'Cards front'!N130","v":0},{"$nulls":12},{"$f":"'Cards front'!A130","v":0}]
[]
[null,null,"TOTAL SCORE",{"$nulls":12},"TOTAL SCORE"]
[]
["Signature",{"$nulls":12},"Signature"]
[]
[]
[]
["Time Match completed"]
[{"$f":"'NOMINATED PAIRS'!$C$1","v":"CLUB NAME HERE"}]
[]
[{"$f":"'NOMINATED PAIRS'!$J$1","v":"Nominated Pairs"}]
[]
[null,null,"RINK",{"$nulls":5},"DATE"]
[]
[null,null,{"$f":"'NOMINATED PAIRS'!N10","v":0},{"$nulls":5},{"$f":"'NOMINATED PAIRS'!$H$1","v":"31/07/20"}]
[]
[{"$f":"'Cards front'!N147","v":0},{"$nulls":12},{"$f":"'Cards front'!A147","v":0}]
[]
[{"$f":"'Cards front'!N149","v":0},{"$nulls":12},{"$f":"'Cards front'!A149","v":0}]
[]
[{"$f":"'Cards front'!N151","v":0},{"$nulls":12},{"$f":"'Cards front'!A151","v":0}]
[]
[{"$f":"'Cards front'!N153","v":0},{"$nulls":12},{"$f":"'Cards front'!A153","v":0}]
[]
[null,null,"TOTAL SCORE",{"$nulls":12},"TOTAL SCORE"]
[]
["Signature",{"$nulls":12},"Signature"]
[]
[]
[]
["Time Match completed"]
[{"$f":"'NOMINATED PAIRS'!$C$1","v":"CLUB NAME HERE"}]
[]
[{"$f":"'NOMINATED PAIRS'!$J$1","v":"Nominated Pairs"}]
[]
[null,null,"RINK",{"$nulls":5},"DATE"]
[]
[null,null,{"$f":"'NOMINATED PAIRS'!N11","v":0},{"$nulls":5},{"$f":"'NOMINATED PAIRS'!$H$1","v":"31/07/20"}]
[]
[{"$f":"'Cards front'!N170","v":0},{"$nulls":12},{"$f":"'Cards front'!A170","v":0}]
[]
[{"$f":"'Cards front'!N172","v":0},{"$nulls":12},{"$f":"'Cards front'!A172","v":0}]
[]
[{"$f":"'Cards front'!N174","v":0},{"$nulls":12},{"$f":"'Cards front'!A174","v":0}]
[]
[{"$f":"'Cards front'!N176","v":0},{"$nulls":12},{"$f":"'Cards front'!A176","v":0}]
[]
[null,null,"TOTAL SCORE",{"$nulls":12},"TOTAL SCORE"]
[]
["Signature",{"$nulls":12},"Signature"]
[]
[]
[]
["Time Match completed"]
[{"$f":"'NOMINATED PAIRS'!$C$1","v":"CLUB NAME HERE"}]
[]
[{"$f":"'NOMINATED PAIRS'!$J$1","v":"Nominated Pairs"}]
[]
[null,null,"RINK",{"$nulls":5},"DATE"]
[]
[null,null,{"$f":"'NOMINATED PAIRS'!N12","v":0},{"$nulls":5},{"$f":"'NOMINATED PAIRS'!$H$1","v":"31/07/20"}]
[]
[{"$f":"'Cards front'!N193","v":0},{"$nulls":12},{"$f":"'Cards front'!A193","v":0}]
[]
[{"$f":"'Cards front'!N195","v":0},{"$nulls":12},{"$f":"'Cards front'!A195","v":0}]
[]
[{"$f":"'Cards front'!N197","v":0},{"$nulls":12},{"$f":"'Cards front'!A197","v":0}]
[]
[{"$f":"'Cards front'!N199","v":0},{"$nulls":12},{"$f":"'Cards front'!A199","v":0}]
[]
[null,null,"TOTAL SCORE",{"$nulls":12},"TOTAL SCORE"]
[]
["Signature",{"$nulls":12},"Signature"]
[]
[]
[]
["Time Match completed"]
[{"$f":"'NOMINATED PAIRS'!$C$1","v":"CLUB NAME HERE"}]
[]
[{"$f":"'NOMINATED PAIRS'!$J$1","v":"Nominated Pairs"}]
[]
[null,null,"RINK",{"$nulls":5},"DATE"]
[]
[null,null,{"$f":"'NOMINATED PAIRS'!N13","v":0},{"$nulls":5},{"$f":"'NOMINATED PAIRS'!$H$1","v":"31/07/20"}]
[]
[{"$f":"'Cards front'!N216","v":0},{"$nulls":12},{"$f":"'Cards front'!A216","v":0}]
[]
[{"$f":"'Cards front'!N218","v":0},{"$nulls":12},{"$f":"'Cards front'!A218","v":0}]
[]
[{"$f":"'Cards front'!N220","v":0},{"$nulls":12},{"$f":"'Cards front'!A220","v":0}]
[]
[{"$f":"'Cards front'!N222","v":0},{"$nulls":12},{"$f":"'Cards front'!A222","v":0}]
[]
[null,null,"TOTAL SCORE",{"$nulls":12},"TOTAL SCORE"]
[]
["Signature",{"$nulls":12},"Signature"]
[]
[]
[]
["Time Match completed"]
[{"$f":"'NOMINATED PAIRS'!$C$1","v":"CLUB NAME HERE"}]
[]
[{"$f":"'NOMINATED PAIRS'!$J$1","v":"Nominated Pairs"}]
[]
[null,null,"RINK",{"$nulls":5},"DATE"]
[]
[null,null,{"$f":"'NOMINATED PAIRS'!N14","v":0},{"$nulls":5},{"$f":"'NOMINATED PAIRS'!$H$1","v":"31/07/20"}]
[]
[{"$f":"'Cards front'!N239","v":0},{"$nulls":12},{"$f":"'Cards front'!A239","v":0}]
[]
[{"$f":"'Cards front'!N241","v":0},{"$nulls":12},{"$f":"'Cards front'!A241","v":0}]
[]
[{"$f":"'Cards front'!N243","v":0},{"$nulls":12},{"$f":"'Cards front'!A243","v":0}]
[]
[{"$f":"'Cards front'!N245","v":0},{"$nulls":12},{"$f":"'Cards front'!A245","v":0}]
[]
[null,null,"TOTAL SCORE",{"$nulls":12},"TOTAL SCORE"]
[]
["Signature",{"$nulls":12},"Signature"]
[]
[]
[]
["Time Match completed"]
[{"$f":"'NOMINATED PAIRS'!$C$1","v":"CLUB NAME HERE"}]
[]
[{"$f":"'NOMINATED PAIRS'!$J$1","v":"Nominated Pairs"}]
[]
[null,null,"RINK",{"$nulls":5},"DATE"]
[]
[null,null,{"$f":"'NOMINATED PAIRS'!N15","v":0},{"$nulls":5},{"$f":"'NOMINATED PAIRS'!$H$1","v":"31/07/20"}]
[]
[{"$f":"'Cards front'!N262","v":0},{"$nulls":12},{"$f":"'Cards front'!A262","v":0}]
[]
[{"$f":"'Cards front'!N264","v":0},{"$nulls":12},{"$f":"'Cards front'!A264","v":0}]
[]
[{"$f":"'Cards front'!N266","v":0},{"$nulls":12},{"$f":"'Cards front'!A266","v":0}]
[]
[{"$f":"'Cards front'!N268","v":0},{"$nulls":12},{"$f":"'Cards front'!A268","v":0}]
[]
[null,null,"TOTAL SCORE",{"$nulls":12},"TOTAL SCORE"]
[]
["Signature",{"$nulls":12},"Signature"]
[]
[]
[]
["Time Match completed"]
[{"$f":"'NOMINATED PAIRS'!$C$1","v":"CLUB NAME HERE"}]
[]
[{"$f":"'NOMINATED PAIRS'!$J$1","v":"Nominated Pairs"}]
[]
[null,null,"RINK",{"$nulls":5},"DATE"]
[]
[null,null,{"$f":"'NOMINATED PAIRS'!$N$16","v":0},{"$nulls":5},{"$f":"'NOMINATED PAIRS'!$H$1","v":"31/07/20"}]
[]
[{"$f":"'Cards front'!N285","v":0},{"$nulls":12},{"$f":"'Cards front'!A285","v":0}]
[]
[{"$f":"'Cards front'!N287","v":0},{"$nulls":12},{"$f":"'Cards front'!A287","v":0}]
[]
[{"$f":"'Cards front'!N289","v":0},{"$nulls":12},{"$f":"'Cards front'!A289","v":0}]
[]
[{"$f":"'Cards front'!N291","v":0},{"$nulls":12},{"$f":"'Cards front'!A291","v":0}]
[]
[null,null,"TOTAL SCORE",{"$nulls":12},"TOTAL SCORE"]
[]
["Signature",{"$nulls":12},"Signature"]
[]
[]
[]
["Time Match completed"]
[{"$f":"'NOMINATED PAIRS'!$C$1","v":"CLUB NAME HERE"}]
[]
[{"$f":"'NOMINATED PAIRS'!$J$1","v":"Nominated Pairs"}]
[]
[null,null,"RINK",{"$nulls":5},"DATE"]
[]
[null,null,{"$f":"'NOMINATED PAIRS'!$N$17","v":0},{"$nulls":5},{"$f":"'NOMINATED PAIRS'!$H$1","v":"31/07/20"}]
[]
[{"$f":"'Cards front'!N308","v":0},{"$nulls":12},{"$f":"'Cards front'!A308","v":0}]
[]
[{"$f":"'Cards front'!N310","v":0},{"$nulls":12},{"$f":"'Cards front'!A310","v":0}]
[]
[{"$f":"'Cards front'!N312","v":0},{"$nulls":12},{"$f":"'Cards front'!A312","v":0}]
[]
[{"$f":"'Cards front'!N314","v":0},{"$nulls":12},{"$f":"'Cards front'!A314","v":0}]
[]
[null,null,"TOTAL SCORE",{"$nulls":12},"TOTAL SCORE"]
[]
["Signature",{"$nulls":12},"Signature"]
[]
[]
[]
["Time Match completed"]
[{"$f":"'NOMINATED PAIRS'!$C$1","v":"CLUB NAME HERE"}]
[]
[{"$f":"'NOMINATED PAIRS'!$J$1","v":"Nominated Pairs"}]
[]
[null,null,"RINK",{"$nulls":5},"DATE"]
[]
[null,null,{"$f":"'NOMINATED PAIRS'!N18","v":0}]
{"$rows_empty":9}
[null,null,"TOTAL SCORE",{"$nulls":12},"TOTAL SCORE"]
[]
["Signature",{"$nulls":12},"Signature"]
[]
[]
[]
["Time Match completed"]

{"sheet":"Cards rear rev","index":5,"n_rows":240,"n_cols":10,"rows_kept":240,"merged":[[0,0,0,1],[0,3,0,9],[1,1,1,2],[1,3,1,4],[1,6,1,7],[1,8,1,9],[16,0,16,1],[16,3,16,9],[17,1,17,2],[17,3,17,4],[17,6,17,7],[17,8,17,9],[32,0,32,1],[32,3,32,9],[33,1,33,2],[33,3,33,4],[33,6,33,7],[33,8,33,9],[48,0,48,1],[48,3,48,9],[49,1,49,2],[49,3,49,4],[49,6,49,7],[49,8,49,9],[64,0,64,1],[64,3,64,9],[65,1,65,2],[65,3,65,4],[65,6,65,7],[65,8,65,9],[80,0,80,1],[80,3,80,9],[81,1,81,2],[81,3,81,4],[81,6,81,7],[81,8,81,9],[96,0,96,1],[96,3,96,9],[97,1,97,2],[97,3,97,4],[97,6,97,7],[97,8,97,9],[112,0,112,1],[112,3,112,9],[113,1,113,2],[113,3,113,4],[113,6,113,7],[113,8,113,9],[128,0,128,1],[128,3,128,9],[129,1,129,2],[129,3,129,4],[129,6,129,7],[129,8,129,9],[144,0,144,1],[144,3,144,9],[145,1,145,2],[145,3,145,4],[145,6,145,7],[145,8,145,9],[160,0,160,1],[160,3,160,9],[161,1,161,2],[161,3,161,4],[161,6,161,7],[161,8,161,9],[176,0,176,1],[176,3,176,9],[177,1,177,2],[177,3,177,4],[177,6,177,7],[177,8,177,9],[192,0,192,1],[192,3,192,9],[193,1,193,2],[193,3,193,4],[193,6,193,7],[193,8,193,9],[208,0,208,1],[208,3,208,9],[209,1,209,2],[209,3,209,4],[209,6,209,7],[209,8,209,9],[224,0,224,1],[224,5,224,9],[225,1,225,2],[225,3,225,4],[225,6,225,7],[225,8,225,9]]}
["RINK",null,{"$f":"'NOMINATED PAIRS'!$N$4","v":0},{"$f":"$G$2","v":0}]
[null,{"$f":"'Cards rear'!D2","v":0},null,{"$f":"'Cards rear'!B2","v":0},null,null,{"$f":"B2","v":0},null,{"$f":"D2","v":0}]
["End","Shots","Total","Shots","Total","End","Shots","Total","Shots","Total"]
[1,{"$nulls":4},14]
[2,{"$nulls":4},15]
[3,{"$nulls":4},16]
[4,{"$nulls":4},17]
[5,{"$nulls":4},18]
[6,{"$nulls":4},19]
[7,{"$nulls":4},20]
[8,{"$nulls":4},21]
[9,{"$nulls":4},22]
[10,{"$nulls":4},23]
[11,{"$nulls":4},24]
[12,{"$nulls":4},25]
[13,{"$nulls":4},"T"]
["RINK",null,{"$f":"'NOMINATED PAIRS'!$N$5","v":0},{"$f":"$G$18","v":0}]
[null,{"$f":"'Cards rear'!D18","v":0},null,{"$f":"'Cards rear'!B18","v":0},null,null,{"$f":"B18","v":0},null,{"$f":"D18","v":0}]
["End","Shots","Total","Shots","Total","End","Shots","Total","Shots","Total"]
[1,{"$nulls":4},14]
[2,{"$nulls":4},15]
[3,{"$nulls":4},16]
[4,{"$nulls":4},17]
[5,{"$nulls":4},18]
[6,{"$nulls":4},19]
[7,{"$nulls":4},20]
[8,{"$nulls":4},21]
[9,{"$nulls":4},22]
[10,{"$nulls":4},23]
[11,{"$nulls":4},24]
[12,{"$nulls":4},25]
[13,{"$nulls":4},"T"]
["RINK",null,{"$f":"'NOMINATED PAIRS'!$N$6","v":0},{"$f":"$G$34","v":0}]
[null,{"$f":"'Cards rear'!D34","v":0},null,{"$f":"'Cards rear'!B34","v":0},null,null,{"$f":"B34","v":0},null,{"$f":"D34","v":0}]
["End","Shots","Total","Shots","Total","End","Shots","Total","Shots","Total"]
[1,{"$nulls":4},14]
[2,{"$nulls":4},15]
[3,{"$nulls":4},16]
[4,{"$nulls":4},17]
[5,{"$nulls":4},18]
[6,{"$nulls":4},19]
[7,{"$nulls":4},20]
[8,{"$nulls":4},21]
[9,{"$nulls":4},22]
[10,{"$nulls":4},23]
[11,{"$nulls":4},24]
[12,{"$nulls":4},25]
[13,{"$nulls":4},"T"]
["RINK",null,{"$f":"'NOMINATED PAIRS'!$N$7","v":0},{"$f":"$G$50","v":0}]
[null,{"$f":"'Cards rear'!D50","v":0},null,{"$f":"'Cards rear'!B50","v":0},null,null,{"$f":"B50","v":0},null,{"$f":"D50","v":0}]
["End","Shots","Total","Shots","Total","End","Shots","Total","Shots","Total"]
[1,{"$nulls":4},14]
[2,{"$nulls":4},15]
[3,{"$nulls":4},16]
[4,{"$nulls":4},17]
[5,{"$nulls":4},18]
[6,{"$nulls":4},19]
[7,{"$nulls":4},20]
[8,{"$nulls":4},21]
[9,{"$nulls":4},22]
[10,{"$nulls":4},23]
[11,{"$nulls":4},24]
[12,{"$nulls":4},25]
[13,{"$nulls":4},"T"]
["RINK",null,{"$f":"'NOMINATED PAIRS'!$N$8","v":0},{"$f":"$G$66","v":0}]
[null,{"$f":"'Cards rear'!D66","v":0},null,{"$f":"'Cards rear'!B66","v":0},null,null,{"$f":"B66","v":0},null,{"$f":"D66","v":0}]
["End","Shots","Total","Shots","Total","End","Shots","Total","Shots","Total"]
[1,{"$nulls":4},14]
[2,{"$nulls":4},15]
[3,{"$nulls":4},16]
[4,{"$nulls":4},17]
[5,{"$nulls":4},18]
[6,{"$nulls":4},19]
[7,{"$nulls":4},20]
[8,{"$nulls":4},21]
[9,{"$nulls":4},22]
[10,{"$nulls":4},23]
[11,{"$nulls":4},24]
[12,{"$nulls":4},25]
[13,{"$nulls":4},"T"]
["RINK",null,{"$f":"'NOMINATED PAIRS'!$N$9","v":0},{"$f":"$G$82","v":0}]
[null,{"$f":"'Cards rear'!D82","v":0},null,{"$f":"'Cards rear'!B82","v":0},null,null,{"$f":"B82","v":0},null,{"$f":"D82","v":0}]
["End","Shots","Total","Shots","Total","End","Shots","Total","Shots","Total"]
[1,{"$nulls":4},14]
[2,{"$nulls":4},15]
[3,{"$nulls":4},16]
[4,{"$nulls":4},17]
[5,{"$nulls":4},18]
[6,{"$nulls":4},19]
[7,{"$nulls":4},20]
[8,{"$nulls":4},21]
[9,{"$nulls":4},22]
[10,{"$nulls":4},23]
[11,{"$nulls":4},24]
[12,{"$nulls":4},25]
[13,{"$nulls":4},"T"]
["RINK",null,{"$f":"'NOMINATED PAIRS'!$N$10","v":0},{"$f":"$G$98","v":0}]
[null,{"$f":"'Cards rear'!D98","v":0},null,{"$f":"'Cards rear'!B98","v":0},null,null,{"$f":"B98","v":0},null,{"$f":"D98","v":0}]
["End","Shots","Total","Shots","Total","End","Shots","Total","Shots","Total"]
[1,{"$nulls":4},14]
[2,{"$nulls":4},15]
[3,{"$nulls":4},16]
[4,{"$nulls":4},17]
[5,{"$nulls":4},18]
[6,{"$nulls":4},19]
[7,{"$nulls":4},20]
[8,{"$nulls":4},21]
[9,{"$nulls":4},22]
[10,{"$nulls":4},23]
[11,{"$nulls":4},24]
[12,{"$nulls":4},25]
[13,{"$nulls":4},"T"]
["RINK",null,{"$f":"'NOMINATED PAIRS'!$N$11","v":0},{"$f":"$G$114","v":0}]
[null,{"$f":"'Cards rear'!D114","v":0},null,{"$f":"'Cards rear'!B114","v":0},null,null,{"$f":"B114","v":0},null,{"$f":"D114","v":0}]
["End","Shots","Total","Shots","Total","End","Shots","Total","Shots","Total"]
[1,{"$nulls":4},14]
[2,{"$nulls":4},15]
[3,{"$nulls":4},16]
[4,{"$nulls":4},17]
[5,{"$nulls":4},18]
[6,{"$nulls":4},19]
[7,{"$nulls":4},20]
[8,{"$nulls":4},21]
[9,{"$nulls":4},22]
[10,{"$nulls":4},23]
[11,{"$nulls":4},24]
[12,{"$nulls":4},25]
[13,{"$nulls":4},"T"]
["RINK",null,{"$f":"'NOMINATED PAIRS'!$N$12","v":0},{"$f":"$G$130","v":0}]
[null,{"$f":"'Cards rear'!D130","v":0},null,{"$f":"'Cards rear'!B130","v":0},null,null,{"$f":"B130","v":0},null,{"$f":"D130","v":0}]
["End","Shots","Total","Shots","Total","End","Shots","Total","Shots","Total"]
[1,{"$nulls":4},14]
[2,{"$nulls":4},15]
[3,{"$nulls":4},16]
[4,{"$nulls":4},17]
[5,{"$nulls":4},18]
[6,{"$nulls":4},19]
[7,{"$nulls":4},20]
[8,{"$nulls":4},21]
[9,{"$nulls":4},22]
[10,{"$nulls":4},23]
[11,{"$nulls":4},24]
[12,{"$nulls":4},25]
[13,{"$nulls":4},"T"]
["RINK",null,{"$f":"'NOMINATED PAIRS'!$N$13","v":0},{"$f":"$G$146","v":0}]
[null,{"$f":"'Cards rear'!D146","v":0},null,{"$f":"'Cards rear'!B146","v":0},null,null,{"$f":"B146","v":0},null,{"$f":"D146","v":0}]
["End","Shots","Total","Shots","Total","End","Shots","Total","Shots","Total"]
[1,{"$nulls":4},14]
[2,{"$nulls":4},15]
[3,{"$nulls":4},16]
[4,{"$nulls":4},17]
[5,{"$nulls":4},18]
[6,{"$nulls":4},19]
[7,{"$nulls":4},20]
[8,{"$nulls":4},21]
[9,{"$nulls":4},22]
[10,{"$nulls":4},23]
[11,{"$nulls":4},24]
[12,{"$nulls":4},25]
[13,{"$nulls":4},"T"]
["RINK",null,{"$f":"'NOMINATED PAIRS'!$N$14","v":0},{"$f":"$G$162","v":0}]
[null,{"$f":"'Cards rear'!D162","v":0},null,{"$f":"'Cards rear'!B162","v":0},null,null,{"$f":"B162","v":0},null,{"$f":"D162","v":0}]
["End","Shots","Total","Shots","Total","End","Shots","Total","Shots","Total"]
[1,{"$nulls":4},14]
[2,{"$nulls":4},15]
[3,{"$nulls":4},16]
[4,{"$nulls":4},17]
[5,{"$nulls":4},18]
[6,{"$nulls":4},19]
[7,{"$nulls":4},20]
[8,{"$nulls":4},21]
[9,{"$nulls":4},22]
[10,{"$nulls":4},23]
[11,{"$nulls":4},24]
[12,{"$nulls":4},25]
[13,{"$nulls":4},"T"]
["RINK",null,{"$f":"'NOMINATED PAIRS'!$N$15","v":0},{"$f":"$G$178","v":0}]
[null,{"$f":"'Cards rear'!D178","v":0},null,{"$f":"'Cards rear'!B178","v":0},null,null,{"$f":"B178","v":0},null,{"$f":"D178","v":0}]
["End","Shots","Total","Shots","Total","End","Shots","Total","Shots","Total"]
[1,{"$nulls":4},14]
[2,{"$nulls":4},15]
[3,{"$nulls":4},16]
[4,{"$nulls":4},17]
[5,{"$nulls":4},18]
[6,{"$nulls":4},19]
[7,{"$nulls":4},20]
[8,{"$nulls":4},21]
[9,{"$nulls":4},22]
[10,{"$nulls":4},23]
[11,{"$nulls":4},24]
[12,{"$nulls":4},25]
[13,{"$nulls":4},"T"]
["RINK",null,{"$f":"'NOMINATED PAIRS'!$N$16","v":0},{"$f":"$G$194","v":0}]
[null,{"$f":"'Cards rear'!D194","v":0},null,{"$f":"'Cards rear'!B194","v":0},null,null,{"$f":"B194","v":0},null,{"$f":"D194","v":0}]
["End","Shots","Total","Shots","Total","End","Shots","Total","Shots","Total"]
[1,{"$nulls":4},14]
[2,{"$nulls":4},15]
[3,{"$nulls":4},16]
[4,{"$nulls":4},17]
[5,{"$nulls":4},18]
[6,{"$nulls":4},19]
[7,{"$nulls":4},20]
[8,{"$nulls":4},21]
[9,{"$nulls":4},22]
[10,{"$nulls":4},23]
[11,{"$nulls":4},24]
[12,{"$nulls":4},25]
[13,{"$nulls":4},"T"]
["RINK",null,{"$f":"'NOMINATED PAIRS'!$N$17","v":0},{"$f":"$G$210","v":0}]
[null,{"$f":"'Cards rear'!D210","v":0},null,{"$f":"'Cards rear'!B210","v":0},null,null,{"$f":"B210","v":0},null,{"$f":"D210","v":0}]
["End","Shots","Total","Shots","Total","End","Shots","Total","Shots","Total"]
[1,{"$nulls":4},14]
[2,{"$nulls":4},15]
[3,{"$nulls":4},16]
[4,{"$nulls":4},17]
[5,{"$nulls":4},18]
[6,{"$nulls":4},19]
[7,{"$nulls":4},20]
[8,{"$nulls":4},21]
[9,{"$nulls":4},22]
[10,{"$nulls":4},23]
[11,{"$nulls":4},24]
[12,{"$nulls":4},25]
[13,{"$nulls":4},"T"]
["RINK"]
[]
["End","Shots","Total","Shots","Total","End","Shots","Total","Shots","Total"]
[1,{"$nulls":4},14]
[2,{"$nulls":4},15]
[3,{"$nulls":4},16]
[4,{"$nulls":4},17]
[5,{"$nulls":4},18]
[6,{"$nulls":4},19]
[7,{"$nulls":4},20]
[8,{"$nulls":4},21]
[9,{"$nulls":4},22]
[10,{"$nulls":4},23]
[11,{"$nulls":4},24]
[12,{"$nulls":4},25]
[13,{"$nulls":4},"T"]

{"sheet":"NOMINATED TRIPLES","index":6,"n_rows":31,"n_cols":19,"rows_kept":31,"merged":[[0,2,0,4],[0,11,0,13],[1,1,1,4],[1,7,1,15]]}
[null,null,"CLUB NAME HERE",{"$nulls":4},"Date:-","31/07/20",null,"Event:-","Nominated Triples"]
[null,"E N T R I E S",{"$nulls":5},"RANDOM TRIPLES TEAMS DRAW"]
[null,"Entry #","LEAD","SECOND","SKIP",null,null,"Team #","LEAD","SECOND","SKIP",null,"Team #","LEAD","SECOND","SKIP","RINK"]
[null,1,{"$nulls":3},{"$f":"RAND()","v":0.12396272605575698},null,1,{"$nulls":3},"V",2,{"$nulls":5},1]
[null,2,{"$nulls":3},0.24419767989149987,null,3,{"$nulls":3},"V",4,{"$nulls":5},2]
[null,3,{"$nulls":3},0.7676202684681311,null,5,{"$nulls":3},"V",6,{"$nulls":5},1]
[null,4,{"$nulls":3},0.402735729671293,null,7,{"$nulls":3},"V",8,{"$nulls":5},2]
[null,5,{"$nulls":3},0.8142621996209232,null,9,{"$nulls":3},"V",10,{"$nulls":5},1]
[null,6,{"$nulls":3},0.9573258371644554,null,11,{"$nulls":3},"V",12,{"$nulls":5},2]
[null,7,{"$nulls":3},0.43959243609366705,null,13,{"$nulls":3},"V",14,{"$nulls":5},1]
[null,8,{"$nulls":3},0.8233187829955344,null,15,{"$nulls":3},"V",16,{"$nulls":5},2]
[null,9,{"$nulls":3},0.42814754909495656,null,17,{"$nulls":3},"V",18,{"$nulls":5},1]
[null,10,{"$nulls":3},0.031219777982806174,null,19,{"$nulls":3},"V",20,{"$nulls":5},2]
[null,11,{"$nulls":3},0.5060292606309004,null,21,{"$nulls":3},"V",22,{"$nulls":5},1]
[null,12,{"$nulls":3},0.7274632207108555,null,23,{"$nulls":3},"V",24,{"$nulls":5},2]
[null,13,{"$nulls":3},0.3826264465326825,null,25,{"$nulls":3},"V",26,{"$nulls":5},1]
[null,14,{"$nulls":3},0.5671076683965232,null,27,{"$nulls":3},"V",28,{"$nulls":5},2]
[null,15,{"$nulls":3},0.446629989499027,{"$nulls":12},1]
[null,16,{"$nulls":3},0.9107911589240133,{"$nulls":12},2]
[null,17,{"$nulls":3},0.6602283854284525,{"$nulls":12},1]
[null,18,{"$nulls":3},0.9465287962602246,{"$nulls":12},2]
[null,19,{"$nulls":3},0.2176648591540249,null,"Type the bowlers names in the \"Entries\" columns",{"$nulls":10},1]
[null,20,{"$nulls":3},0.10957874445023219,null,"Click the draw button when all names have been entered.",{"$nulls":10},2]
[null,21,{"$nulls":3},0.03390963644231715,null,"This will do the draw and enter the names on the score cards.",{"$nulls":10},1]
[null,22,{"$nulls":3},0.3663461285061387,null,"Enter the Rink numbers in the column above",{"$nulls":10},2]
[null,23,{"$nulls":3},0.5305174134751326,null,"When you are finished with the sheet click the all clear button.",{"$nulls":10},1]
[null,24,{"$nulls":3},0.8924885355317159,{"$nulls":12},2]
[null,25,{"$nulls":3},0.4121998765335342,{"$nulls":12},1]
[null,26,{"$nulls":3},0.11540342165706796,{"$nulls":12},2]
[null,27,{"$nulls":3},0.31924295313485496,{"$nulls":12},1]
[null,28,{"$nulls":3},0.4307729253209842,{"$nulls":12},2]

{"sheet":"Sheet1","index":7,"n_rows":33,"n_cols":8,"rows_kept":33}
[]
[]
[]
[]
[]
[null,null,1,1,1,101,1101,2101]
[null,null,3,1,5,105,1105,2105]
[null,null,5,1,9,109,1109,2109]
[null,null,7,1,13,113,1113,2113]
[null,null,9,1,17,117,1117,2117]
[null,null,11,1,21,121,1121,2121]
[null,null,13,1,25,125,1125,2125]
[null,null,15,1,2,102,1102,2102]
[null,null,17,1,6,106,1106,2106]
[null,null,19,1,10,110,1110,2110]
[null,null,21,1,14,114,1114,2114]
[null,null,23,1,18,118,1118,2118]
[null,null,25,1,22,122,1122,2122]
[null,null,27,1,26,126,1126,2126]
[null,null,2,2,3,103,1103,2103]
[null,null,4,2,7,107,1107,2107]
[null,null,6,2,11,111,1111,2111]
[null,null,8,2,15,115,1115,2115]
[null,null,10,2,19,119,1119,2119]
[null,null,12,2,23,123,1123,2123]
[null,null,14,2,27,127,1127,2127]
[null,null,16,2,4,104,1104,2104]
[null,null,18,2,8,108,1108,2108]
[null,null,20,2,12,112,1112,2112]
[null,null,22,2,16,116,1116,2116]
[null,null,24,2,20,120,1120,2120]
[null,null,26,2,24,124,1124,2124]
[null,null,28,2,28,128,1128,2128]

{"sheet":" Cards front trip","index":8,"n_rows":345,"n_cols":16,"rows_kept":345,"merged":[[0,0,0,23],[2,0,2,23],[4,2,4,6],[4,8,4,23],[6,2,6,6],[6,8,6,23],[8,0,8,10],[8,11,8,12],[8,13,8,23],[10,0,10,10],[10,11,10,12],[10,13,10,23],[12,0,12,10],[12,11,12,12],[12,13,12,23],[14,0,14,10],[14,11,14,12],[14,13,14,23],[16,2,16,8],[16,15,16,21],[17,2,17,8],[17,15,17,21],[18,0,18,10],[18,13,18,23],[20,0,20,10],[20,11,20,12],[20,13,20,23],[22,0,22,11],[22,12,22,23],[23,0,23,23],[25,0,25,23],[27,2,27,6],[27,8,27,23],[29,2,29,6],[29,8,29,23],[31,0,31,10],[31,11,31,12],[31,13,31,23],[33,0,33,10],[33,11,33,12],[33,13,33,23],[35,0,35,10],[35,11,35,12],[35,13,35,23],[37,0,37,10],[37,11,37,12],[37,13,37,23],[39,2,39,8],[39,15,39,21],[40,2,40,8],[40,15,40,21],[41,0,41,10],[41,13,41,23],[43,0,43,10],[43,11,43,12],[43,13,43,23],[45,0,45,11],[45,12,45,23],[46,0,46,23],[48,0,48,23],[50,2,50,6],[50,8,50,23],[52,2,52,6],[52,8,52,23],[54,0,54,10],[54,11,54,12],[54,13,54,23],[56,0,56,10],[56,11,56,12],[56,13,56,23],[58,0,58,10],[58,11,58,12],[58,13,58,23],[60,0,60,10],[60,11,60,12],[60,13,60,23],[62,2,62,8],[62,15,62,21],[63,2,63,8],[63,15,63,21],[64,0,64,10],[64,13,64,23],[66,0,66,10],[66,11,66,12],[66,13,66,23],[68,0,68,11],[68,12,68,23],[69,0,69,23],[71,0,71,23],[73,2,73,6],[73,8,73,23],[75,2,75,6],[75,8,75,23],[77,0,77,10],[77,11,77,12],[77,13,77,23],[79,0,79,10],[79,11,79,12],[79,13,79,23],[81,0,81,10],[81,11,81,12],[81,13,81,23],[83,0,83,10],[83,11,83,12],[83,13,83,23],[85,2,85,8],[85,15,85,21],[86,2,86,8],[86,15,86,21],[87,0,87,10],[87,13,87,23],[89,0,89,10],[89,11,89,12],[89,13,89,23],[91,0,91,11],[91,12,91,23],[92,0,92,23],[94,0,94,23],[96,2,96,6],[96,8,96,23],[98,2,98,6],[98,8,98,23],[100,0,100,10],[100,11,100,12],[100,13,100,23],[102,0,102,10],[102,11,102,12],[102,13,102,23],[104,0,104,10],[104,11,104,12],[104,13,104,23],[106,0,106,10],[106,11,106,12],[106,13,106,23],[108,2,108,8],[108,15,108,21],[109,2,109,8],[109,15,109,21],[110,0,110,10],[110,13,110,23],[112,0,112,10],[112,11,112,12],[112,13,112,23],[114,0,114,11],[114,12,114,23],[115,0,115,23],[117,0,117,23],[119,2,119,6],[119,8,119,23],[121,2,121,6],[121,8,121,23],[123,0,123,10],[123,11,123,12],[123,13,123,23],[125,0,125,10],[125,11,125,12],[125,13,125,23],[127,0,127,10],[127,11,127,12],[127,13,127,23],[129,0,129,10],[129,11,129,12],[129,13,129,23],[131,2,131,8],[131,15,131,21],[132,2,132,8],[132,15,132,21],[133,0,133,10],[133,13,133,23],[135,0,135,10],[135,11,135,12],[135,13,135,23],[137,0,137,11],[137,12,137,23],[138,0,138,23],[140,0,140,23],[142,2,142,6],[142,8,142,23],[144,2,144,6],[144,8,144,23],[146,0,146,10],[146,11,146,12],[146,13,146,23],[148,0,148,10],[148,11,148,12],[148,13,148,23],[150,0,150,10],[150,11,150,12],[150,13,150,23],[152,0,152,10],[152,11,152,12],[152,13,152,23],[154,2,154,8],[154,15,154,21],[155,2,155,8],[155,15,155,21],[156,0,156,10],[156,13,156,23],[158,0,158,10],[158,11,158,12],[158,13,158,23],[160,0,160,11],[160,12,160,23],[161,0,161,23],[163,0,163,23],[165,2,165,6],[165,8,165,23],[167,2,167,6],[167,8,167,23],[169,0,169,10],[169,11,169,12],[169,13,169,23],[171,0,171,10],[171,11,171,12],[171,13,171,23],[173,0,173,10],[173,11,173,12],[173,13,173,23],[175,0,175,10],[175,11,175,12],[175,13,175,23],[177,2,177,8],[177,15,177,21],[178,2,178,8],[178,15,178,21],[179,0,179,10],[179,13,179,23],[181,0,181,10],[181,11,181,12],[181,13,181,23],[183,0,183,11],[183,12,183,23],[184,0,184,23],[186,0,186,23],[188,2,188,6],[188,8,188,23],[190,2,190,6],[190,8,190,23],[192,0,192,10],[192,11,192,12],[192,13,192,23],[194,0,194,10],[194,11,194,12],[194,13,194,23],[196,0,196,10],[196,11,196,12],[196,13,196,23],[198,0,198,10],[198,11,198,12],[198,13,198,23],[200,2,200,8],[200,15,200,21],[201,2,201,8],[201,15,201,21],[202,0,202,10],[202,13,202,23],[204,0,204,10],[204,11,204,12],[204,13,204,23],[206,0,206,11],[206,12,206,23],[207,0,207,23],[209,0,209,23],[211,2,211,6],[211,8,211,23],[213,2,213,6],[213,8,213,23],[215,0,215,10],[215,11,215,12],[215,13,215,23],[217,0,217,10],[217,11,217,12],[217,13,217,23],[219,0,219,10],[219,11,219,12],[219,13,219,23],[221,0,221,10],[221,11,221,12],[221,13,221,23],[223,2,223,8],[223,15,223,21],[224,2,224,8],[224,15,224,21],[225,0,225,10],[225,13,225,23],[227,0,227,10],[227,11,227,12],[227,13,227,23],[229,0,229,11],[229,12,229,23],[230,0,230,23],[232,0,232,23],[234,2,234,6],[234,8,234,23],[236,2,236,6],[236,8,236,23],[238,0,238,10],[238,11,238,12],[238,13,238,23],[240,0,240,10],[240,11,240,12],[240,13,240,23],[242,0,242,10],[242,11,242,12],[242,13,242,23],[244,0,244,10],[244,11,244,12],[244,13,244,23],[246,2,246,8],[246,15,246,21],[247,2,247,8],[247,15,247,21],[248,0,248,10],[248,13,248,23],[250,0,250,10],[250,11,250,12],[250,13,250,23],[252,0,252,11],[252,12,252,23],[253,0,253,23],[255,0,255,23],[257,2,257,6],[257,8,257,23],[259,2,259,6],[259,8,259,23],[261,0,261,10],[261,11,261,12],[261,13,261,23],[263,0,263,10],[263,11,263,12],[263,13,263,23],[265,0,265,10],[265,11,265,12],[265,13,265,23],[267,0,267,10],[267,11,267,12],[267,13,267,23],[269,2,269,8],[269,15,269,21],[270,2,270,8],[270,15,270,21],[271,0,271,10],[271,13,271,23],[273,0,273,10],[273,11,273,12],[273,13,273,23],[275,0,275,11],[275,12,275,23],[276,0,276,23],[278,0,278,23],[280,2,280,6],[280,8,280,23],[282,2,282,6],[282,8,282,23],[284,0,284,10],[284,11,284,12],[284,13,284,23],[286,0,286,10],[286,11,286,12],[286,13,286,23],[288,0,288,10],[288,11,288,12],[288,13,288,23],[290,0,290,10],[290,11,290,12],[290,13,290,23],[292,2,292,8],[292,15,292,21],[293,2,293,8],[293,15,293,21],[294,0,294,10],[294,13,294,23],[296,0,296,10],[296,11,296,12],[296,13,296,23],[298,0,298,11],[298,12,298,23],[299,0,299,23],[301,0,301,23],[303,2,303,6],[303,8,303,23],[305,2,305,6],[305,8,305,23],[307,0,307,10],[307,11,307,12],[307,13,307,23],[309,0,309,10],[309,11,309,12],[309,13,309,23],[311,0,311,10],[311,11,311,12],[311,13,311,23],[313,0,313,10],[313,11,313,12],[313,13,313,23],[315,2,315,8],[315,15,315,21],[316,2,316,8],[316,15,316,21],[317,0,317,10],[317,13,317,23],[319,0,319,10],[319,11,319,12],[319,13,319,23],[321,0,321,11],[321,12,321,23],[322,0,322,23],[324,0,324,23],[326,2,326,6],[326,8,326,23],[328,2,328,6],[328,8,328,23],[330,0,330,10],[330,11,330,12],[330,13,330,23],[332,0,332,10],[332,11,332,12],[332,13,332,23],[334,0,334,10],[334,11,334,12],[334,13,334,23],[336,0,336,10],[336,11,336,12],[336,13,336,23],[338,2,338,8],[338,15,338,21],[339,2,339,8],[339,15,339,21],[340,0,340,10],[340,13,340,23],[342,0,342,10],[342,11,342,12],[342,13,342,23],[344,0,344,11],[344,12,344,23]]}
[{"$f":"'NOMINATED TRIPLES'!$C$1","v":"CLUB NAME HERE"}]
[]
[{"$f":"'NOMINATED TRIPLES'!$L$1","v":"Nominated Triples"}]
[]
[null,null,"RINK",{"$nulls":5},"DATE"]
[]
[null,null,{"$f":"'NOMINATED TRIPLES'!$Q$4","v":0},{"$nulls":5},{"$f":"'NOMINATED TRIPLES'!$I$1","v":"31/07/20"}]
[]
[{"$f":"'NOMINATED TRIPLES'!$I$4","v":0},{"$nulls":12},{"$f":"'NOMINATED TRIPLES'!$N$4","v":0}]
[]
[{"$f":"'NOMINATED TRIPLES'!$J$4","v":0},{"$nulls":12},{"$f":"'NOMINATED TRIPLES'!$O$4","v":0}]
[]
[]
[]
[{"$f":"'NOMINATED TRIPLES'!$K$4","v":0},{"$nulls":12},{"$f":"'NOMINATED TRIPLES'!$P$4","v":0}]
[]
[null,null,"TOTAL SCORE",{"$nulls":12},"TOTAL SCORE"]
[]
["Signature",{"$nulls":12},"Signature"]
[]
[]
[]
["Time Match completed"]
[{"$f":"'NOMINATED TRIPLES'!$C$1","v":"CLUB NAME HERE"}]
[]
[{"$f":"'NOMINATED TRIPLES'!$L$1","v":"Nominated Triples"}]
[]
[null,null,"RINK",{"$nulls":5},"DATE"]
[]
[null,null,{"$f":"'NOMINATED TRIPLES'!$Q$5","v":0},{"$nulls":5},{"$f":"'NOMINATED TRIPLES'!$I$1","v":"31/07/20"}]
[]
[{"$f":"'NOMINATED TRIPLES'!$I$5","v":0},{"$nulls":12},{"$f":"'NOMINATED TRIPLES'!$N$5","v":0}]
[]
[{"$f":"'NOMINATED TRIPLES'!$J$5","v":0},{"$nulls":12},{"$f":"'NOMINATED TRIPLES'!$O$5","v":0}]
[]
[]
[]
[{"$f":"'NOMINATED TRIPLES'!$K$5","v":0},{"$nulls":12},{"$f":"'NOMINATED TRIPLES'!$P$5","v":0}]
[]
[null,null,"TOTAL SCORE",{"$nulls":12},"TOTAL SCORE"]
[]
["Signature",{"$nulls":12},"Signature"]
[]
[]
[]
["Time Match completed"]
[{"$f":"'NOMINATED TRIPLES'!$C$1","v":"CLUB NAME HERE"}]
[]
[{"$f":"'NOMINATED TRIPLES'!$L$1","v":"Nominated Triples"}]
[]
[null,null,"RINK",{"$nulls":5},"DATE"]
[]
[null,null,{"$f":"'NOMINATED TRIPLES'!$Q$6","v":0},{"$nulls":5},{"$f":"'NOMINATED TRIPLES'!$I$1","v":"31/07/20"}]
[]
[{"$f":"'NOMINATED TRIPLES'!$I$6","v":0},{"$nulls":12},{"$f":"'NOMINATED TRIPLES'!$N$6","v":0}]
[]
[{"$f":"'NOMINATED TRIPLES'!$J$6","v":0},{"$nulls":12},{"$f":"'NOMINATED TRIPLES'!$O$6","v":0}]
[]
[]
[]
[{"$f":"'NOMINATED TRIPLES'!$K$6","v":0},{"$nulls":12},{"$f":"'NOMINATED TRIPLES'!$P$6","v":0}]
[]
[null,null,"TOTAL SCORE",{"$nulls":12},"TOTAL SCORE"]
[]
["Signature",{"$nulls":12},"Signature"]
[]
[]
[]
["Time Match completed"]
[{"$f":"'NOMINATED TRIPLES'!$C$1","v":"CLUB NAME HERE"}]
[]
[{"$f":"'NOMINATED TRIPLES'!$L$1","v":"Nominated Triples"}]
[]
[null,null,"RINK",{"$nulls":5},"DATE"]
[]
[null,null,{"$f":"'NOMINATED TRIPLES'!$Q$7","v":0},{"$nulls":5},{"$f":"'NOMINATED TRIPLES'!$I$1","v":"31/07/20"}]
[]
[{"$f":"'NOMINATED TRIPLES'!$I$7","v":0},{"$nulls":12},{"$f":"'NOMINATED TRIPLES'!$N$7","v":0}]
[]
[{"$f":"'NOMINATED TRIPLES'!$J$7","v":0},{"$nulls":12},{"$f":"'NOMINATED TRIPLES'!$O$7","v":0}]
[]
[]
[]
[{"$f":"'NOMINATED TRIPLES'!$K$7","v":0},{"$nulls":12},{"$f":"'NOMINATED TRIPLES'!$P$7","v":0}]
[]
[null,null,"TOTAL SCORE",{"$nulls":12},"TOTAL SCORE"]
[]
["Signature",{"$nulls":12},"Signature"]
[]
[]
[]
["Time Match completed"]
[{"$f":"'NOMINATED TRIPLES'!$C$1","v":"CLUB NAME HERE"}]
[]
[{"$f":"'NOMINATED TRIPLES'!$L$1","v":"Nominated Triples"}]
[]
[null,null,"RINK",{"$nulls":5},"DATE"]
[]
[null,null,{"$f":"'NOMINATED TRIPLES'!$Q$8","v":0},{"$nulls":5},{"$f":"'NOMINATED TRIPLES'!$I$1","v":"31/07/20"}]
[]
[{"$f":"'NOMINATED TRIPLES'!$I$8","v":0},{"$nulls":12},{"$f":"'NOMINATED TRIPLES'!$N$8","v":0}]
[]
[{"$f":"'NOMINATED TRIPLES'!$J$8","v":0},{"$nulls":12},{"$f":"'NOMINATED TRIPLES'!$O$8","v":0}]
[]
[]
[]
[{"$f":"'NOMINATED TRIPLES'!$K$8","v":0},{"$nulls":12},{"$f":"'NOMINATED TRIPLES'!$P$8","v":0}]
[]
[null,null,"TOTAL SCORE",{"$nulls":12},"TOTAL SCORE"]
[]
["Signature",{"$nulls":12},"Signature"]
[]
[]
[]
["Time Match completed"]
[{"$f":"'NOMINATED TRIPLES'!$C$1","v":"CLUB NAME HERE"}]
[]
[{"$f":"'NOMINATED TRIPLES'!$L$1","v":"Nominated Triples"}]
[]
[null,null,"RINK",{"$nulls":5},"DATE"]
[]
[null,null,{"$f":"'NOMINATED TRIPLES'!$Q$9","v":0},{"$nulls":5},{"$f":"'NOMINATED TRIPLES'!$I$1","v":"31/07/20"}]
[]
[{"$f":"'NOMINATED TRIPLES'!$I$9","v":0},{"$nulls":12},{"$f":"'NOMINATED TRIPLES'!$N$9","v":0}]
[]
[{"$f":"'NOMINATED TRIPLES'!$J$9","v":0},{"$nulls":12},{"$f":"'NOMINATED TRIPLES'!$O$9","v":0}]
[]
[]
[]
[{"$f":"'NOMINATED TRIPLES'!$K$9","v":0},{"$nulls":12},{"$f":"'NOMINATED TRIPLES'!$P$9","v":0}]
[]
[null,null,"TOTAL SCORE",{"$nulls":12},"TOTAL SCORE"]
[]
["Signature",{"$nulls":12},"Signature"]
[]
[]
[]
["Time Match completed"]
[{"$f":"'NOMINATED TRIPLES'!$C$1","v":"CLUB NAME HERE"}]
[]
[{"$f":"'NOMINATED TRIPLES'!$L$1","v":"Nominated Triples"}]
[]
[null,null,"RINK",{"$nulls":5},"DATE"]
[]
[null,null,{"$f":"'NOMINATED TRIPLES'!$Q$10","v":0},{"$nulls":5},{"$f":"'NOMINATED TRIPLES'!$I$1","v":"31/07/20"}]
[]
[{"$f":"'NOMINATED TRIPLES'!$I$10","v":0},{"$nulls":12},{"$f":"'NOMINATED TRIPLES'!$N$10","v":0}]
[]
[{"$f":"'NOMINATED TRIPLES'!$J$10","v":0},{"$nulls":12},{"$f":"'NOMINATED TRIPLES'!$O$10","v":0}]
[]
[]
[]
[{"$f":"'NOMINATED TRIPLES'!$K$10","v":0},{"$nulls":12},{"$f":"'NOMINATED TRIPLES'!$P$10","v":0}]
[]
[null,null,"TOTAL SCORE",{"$nulls":12},"TOTAL SCORE"]
[]
["Signature",{"$nulls":12},"Signature"]
[]
[]
[]
["Time Match completed"]
[{"$f":"'NOMINATED TRIPLES'!$C$1","v":"CLUB NAME HERE"}]
[]
[{"$f":"'NOMINATED TRIPLES'!$L$1","v":"Nominated Triples"}]
[]
[null,null,"RINK",{"$nulls":5},"DATE"]
[]
[null,null,{"$f":"'NOMINATED TRIPLES'!$Q$11","v":0},{"$nulls":5},{"$f":"'NOMINATED TRIPLES'!$I$1","v":"31/07/20"}]
[]
[{"$f":"'NOMINATED TRIPLES'!$I$11","v":0},{"$nulls":12},{"$f":"'NOMINATED TRIPLES'!$N$11","v":0}]
[]
[{"$f":"'NOMINATED TRIPLES'!$J$11","v":0},{"$nulls":12},{"$f":"'NOMINATED TRIPLES'!$O$11","v":0}]
[]
[]
[]
[{"$f":"'NOMINATED TRIPLES'!$K$11","v":0},{"$nulls":12},{"$f":"'NOMINATED TRIPLES'!$P$11","v":0}]
[]
[null,null,"TOTAL SCORE",{"$nulls":12},"TOTAL SCORE"]
[]
["Signature",{"$nulls":12},"Signature"]
[]
[]
[]
["Time Match completed"]
[{"$f":"'NOMINATED TRIPLES'!$C$1","v":"CLUB NAME HERE"}]
[]
[{"$f":"'NOMINATED TRIPLES'!$L$1","v":"Nominated Triples"}]
[]
[null,null,"RINK",{"$nulls":5},"DATE"]
[]
[null,null,{"$f":"'NOMINATED TRIPLES'!$Q$12","v":0},{"$nulls":5},{"$f":"'NOMINATED TRIPLES'!$I$1","v":"31/07/20"}]
[]
[{"$f":"'NOMINATED TRIPLES'!$I$12","v":0},{"$nulls":12},{"$f":"'NOMINATED TRIPLES'!$N$12","v":0}]
[]
[{"$f":"'NOMINATED TRIPLES'!$J$12","v":0},{"$nulls":12},{"$f":"'NOMINATED TRIPLES'!$O$12","v":0}]
[]
[]
[]
[{"$f":"'NOMINATED TRIPLES'!$K$12","v":0},{"$nulls":12},{"$f":"'NOMINATED TRIPLES'!$P$12","v":0}]
[]
[null,null,"TOTAL SCORE",{"$nulls":12},"TOTAL SCORE"]
[]
["Signature",{"$nulls":12},"Signature"]
[]
[]
[]
["Time Match completed"]
[{"$f":"'NOMINATED TRIPLES'!$C$1","v":"CLUB NAME HERE"}]
[]
[{"$f":"'NOMINATED TRIPLES'!$L$1","v":"Nominated Triples"}]
[]
[null,null,"RINK",{"$nulls":5},"DATE"]
[]
[null,null,{"$f":"'NOMINATED TRIPLES'!$Q$13","v":0},{"$nulls":5},{"$f":"'NOMINATED TRIPLES'!$I$1","v":"31/07/20"}]
[]
[{"$f":"'NOMINATED TRIPLES'!$I$13","v":0},{"$nulls":12},{"$f":"'NOMINATED TRIPLES'!$N$13","v":0}]
[]
[{"$f":"'NOMINATED TRIPLES'!$J$13","v":0},{"$nulls":12},{"$f":"'NOMINATED TRIPLES'!$O$13","v":0}]
[]
[]
[]
[{"$f":"'NOMINATED TRIPLES'!$K$13","v":0},{"$nulls":12},{"$f":"'NOMINATED TRIPLES'!$P$13","v":0}]
[]
[null,null,"TOTAL SCORE",{"$nulls":12},"TOTAL SCORE"]
[]
["Signature",{"$nulls":12},"Signature"]
[]
[]
[]
["Time Match completed"]
[{"$f":"'NOMINATED TRIPLES'!$C$1","v":"CLUB NAME HERE"}]
[]
[{"$f":"'NOMINATED TRIPLES'!$L$1","v":"Nominated Triples"}]
[]
[null,null,"RINK",{"$nulls":5},"DATE"]
[]
[null,null,{"$f":"'NOMINATED TRIPLES'!$Q$14","v":0},{"$nulls":5},{"$f":"'NOMINATED TRIPLES'!$I$1","v":"31/07/20"}]
[]
[{"$f":"'NOMINATED TRIPLES'!$I$14","v":0},{"$nulls":12},{"$f":"'NOMINATED TRIPLES'!$N$14","v":0}]
[]
[{"$f":"'NOMINATED TRIPLES'!$J$14","v":0},{"$nulls":12},{"$f":"'NOMINATED TRIPLES'!$O$14","v":0}]
[]
[]
[]
[{"$f":"'NOMINATED TRIPLES'!$K$14","v":0},{"$nulls":12},{"$f":"'NOMINATED TRIPLES'!$P$14","v":0}]
[]
[null,null,"TOTAL SCORE",{"$nulls":12},"TOTAL SCORE"]
[]
["Signature",{"$nulls":12},"Signature"]
[]
[]
[]
["Time Match completed"]
[{"$f":"'NOMINATED TRIPLES'!$C$1","v":"CLUB NAME HERE"}]
[]
[{"$f":"'NOMINATED TRIPLES'!$L$1","v":"Nominated Triples"}]
[]
[null,null,"RINK",{"$nulls":5},"DATE"]
[]
[null,null,{"$f":"'NOMINATED TRIPLES'!$Q$15","v":0},{"$nulls":5},{"$f":"'NOMINATED TRIPLES'!$I$1","v":"31/07/20"}]
[]
[{"$f":"'NOMINATED TRIPLES'!$I$15","v":0},{"$nulls":12},{"$f":"'NOMINATED TRIPLES'!$N$15","v":0}]
[]
[{"$f":"'NOMINATED TRIPLES'!$J$15","v":0},{"$nulls":12},{"$f":"'NOMINATED TRIPLES'!$O$15","v":0}]
[]
[]
[]
[{"$f":"'NOMINATED TRIPLES'!$K$15","v":0},{"$nulls":12},{"$f":"'NOMINATED TRIPLES'!$P$15","v":0}]
[]
[null,null,"TOTAL SCORE",{"$nulls":12},"TOTAL SCORE"]
[]
["Signature",{"$nulls":12},"Signature"]
[]
[]
[]
["Time Match completed"]
[{"$f":"'NOMINATED TRIPLES'!$C$1","v":"CLUB NAME HERE"}]
[]
[{"$f":"'NOMINATED TRIPLES'!$L$1","v":"Nominated Triples"}]
[]
[null,null,"RINK",{"$nulls":5},"DATE"]
[]
[null,null,{"$f":"'NOMINATED TRIPLES'!$Q$16","v":0},{"$nulls":5},{"$f":"'NOMINATED TRIPLES'!$I$1","v":"31/07/20"}]
[]
[{"$f":"'NOMINATED TRIPLES'!$I$16","v":0},{"$nulls":12},{"$f":"'NOMINATED TRIPLES'!$N$16","v":0}]
[]
[{"$f":"'NOMINATED TRIPLES'!$J$16","v":0},{"$nulls":12},{"$f":"'NOMINATED TRIPLES'!$O$16","v":0}]
[]
[]
[]
[{"$f":"'NOMINATED TRIPLES'!$K$16","v":0},{"$nulls":12},{"$f":"'NOMINATED TRIPLES'!$P$16","v":0}]
[]
[null,null,"TOTAL SCORE",{"$nulls":12},"TOTAL SCORE"]
[]
["Signature",{"$nulls":12},"Signature"]
[]
[]
[]
["Time Match completed"]
[{"$f":"'NOMINATED TRIPLES'!$C$1","v":"CLUB NAME HERE"}]
[]
[{"$f":"'NOMINATED TRIPLES'!$L$1","v":"Nominated Triples"}]
[]
[null,null,"RINK",{"$nulls":5},"DATE"]
[]
[null,null,{"$f":"'NOMINATED TRIPLES'!$Q$17","v":0},{"$nulls":5},{"$f":"'NOMINATED TRIPLES'!$I$1","v":"31/07/20"}]
[]
[{"$f":"'NOMINATED TRIPLES'!$I$17","v":0},{"$nulls":12},{"$f":"'NOMINATED TRIPLES'!$N$17","v":0}]
[]
[{"$f":"'NOMINATED TRIPLES'!$J$17","v":0},{"$nulls":12},{"$f":"'NOMINATED TRIPLES'!$O$17","v":0}]
[]
[]
[]
[{"$f":"'NOMINATED TRIPLES'!$K$17","v":0},{"$nulls":12},{"$f":"'NOMINATED TRIPLES'!$P$17","v":0}]
[]
[null,null,"TOTAL SCORE",{"$nulls":12},"TOTAL SCORE"]
[]
["Signature",{"$nulls":12},"Signature"]
[]
[]
[]
["Time Match completed"]
{"$rows_empty":16}
[null,null,"TOTAL SCORE",{"$nulls":12},"TOTAL SCORE"]
[]
["Signature",{"$nulls":12},"Signature"]
[]
[]
[]
["Time Match completed"]

{"sheet":"Cards rear trip","index":9,"n_rows":240,"n_cols":10,"rows_kept":240,"merged":[[0,0,0,1],[0,3,0,9],[1,1,1,2],[1,3,1,4],[1,6,1,7],[1,8,1,9],[16,0,16,1],[16,3,16,9],[17,1,17,2],[17,3,17,4],[17,6,17,7],[17,8,17,9],[32,0,32,1],[32,3,32,9],[33,1,33,2],[33,3,33,4],[33,6,33,7],[33,8,33,9],[48,0,48,1],[48,3,48,9],[49,1,49,2],[49,3,49,4],[49,6,49,7],[49,8,49,9],[64,0,64,1],[64,3,64,9],[65,1,65,2],[65,3,65,4],[65,6,65,7],[65,8,65,9],[80,0,80,1],[80,3,80,9],[81,1,81,2],[81,3,81,4],[81,6,81,7],[81,8,81,9],[96,0,96,1],[96,3,96,9],[97,1,97,2],[97,3,97,4],[97,6,97,7],[97,8,97,9],[112,0,112,1],[112,3,112,9],[113,1,113,2],[113,3,113,4],[113,6,113,7],[113,8,113,9],[128,0,128,1],[128,3,128,9],[129,1,129,2],[129,3,129,4],[129,6,129,7],[129,8,129,9],[144,0,144,1],[144,3,144,9],[145,1,145,2],[145,3,145,4],[145,6,145,7],[145,8,145,9],[160,0,160,1],[160,3,160,9],[161,1,161,2],[161,3,161,4],[161,6,161,7],[161,8,161,9],[176,0,176,1],[176,3,176,9],[177,1,177,2],[177,3,177,4],[177,6,177,7],[177,8,177,9],[192,0,192,1],[192,3,192,9],[193,1,193,2],[193,3,193,4],[193,6,193,7],[193,8,193,9],[208,0,208,1],[208,3,208,9],[209,1,209,2],[209,3,209,4],[209,6,209,7],[209,8,209,9],[224,0,224,1],[224,5,224,9],[225,1,225,2],[225,3,225,4],[225,6,225,7],[225,8,225,9]]}
["RINK",null,{"$f":"'NOMINATED TRIPLES'!$Q$4","v":0},{"$f":"$B$2","v":0}]
[null,{"$f":"'NOMINATED TRIPLES'!$K$4","v":0},null,{"$f":"'NOMINATED TRIPLES'!$P$4","v":0},null,null,{"$f":"'NOMINATED TRIPLES'!$K$4","v":0},null,{"$f":"'NOMINATED TRIPLES'!$P$4","v":0}]
["End","Shots","Total","Shots","Total","End","Shots","Total","Shots","Total"]
[1,{"$nulls":4},14]
[2,{"$nulls":4},15]
[3,{"$nulls":4},16]
[4,{"$nulls":4},17]
[5,{"$nulls":4},18]
[6,{"$nulls":4},19]
[7,{"$nulls":4},20]
[8,{"$nulls":4},21]
[9,{"$nulls":4},22]
[10,{"$nulls":4},23]
[11,{"$nulls":4},24]
[12,{"$nulls":4},25]
[13,{"$nulls":4},"T"]
["RINK",null,{"$f":"'NOMINATED TRIPLES'!$Q$5","v":0},{"$f":"$B$18","v":0}]
[null,{"$f":"'NOMINATED TRIPLES'!$K$5","v":0},null,{"$f":"'NOMINATED TRIPLES'!$P$5","v":0},null,null,{"$f":"'NOMINATED TRIPLES'!$K$5","v":0},null,{"$f":"'NOMINATED TRIPLES'!$P$5","v":0}]
["End","Shots","Total","Shots","Total","End","Shots","Total","Shots","Total"]
[1,{"$nulls":4},14]
[2,{"$nulls":4},15]
[3,{"$nulls":4},16]
[4,{"$nulls":4},17]
[5,{"$nulls":4},18]
[6,{"$nulls":4},19]
[7,{"$nulls":4},20]
[8,{"$nulls":4},21]
[9,{"$nulls":4},22]
[10,{"$nulls":4},23]
[11,{"$nulls":4},24]
[12,{"$nulls":4},25]
[13,{"$nulls":4},"T"]
["RINK",null,{"$f":"'NOMINATED TRIPLES'!$Q$6","v":0},{"$f":"$B$34","v":0}]
[null,{"$f":"'NOMINATED TRIPLES'!$K$6","v":0},null,{"$f":"'NOMINATED TRIPLES'!$P$6","v":0},null,null,{"$f":"'NOMINATED TRIPLES'!$K$6","v":0},null,{"$f":"'NOMINATED TRIPLES'!$P$6","v":0}]
["End","Shots","Total","Shots","Total","End","Shots","Total","Shots","Total"]
[1,{"$nulls":4},14]
[2,{"$nulls":4},15]
[3,{"$nulls":4},16]
[4,{"$nulls":4},17]
[5,{"$nulls":4},18]
[6,{"$nulls":4},19]
[7,{"$nulls":4},20]
[8,{"$nulls":4},21]
[9,{"$nulls":4},22]
[10,{"$nulls":4},23]
[11,{"$nulls":4},24]
[12,{"$nulls":4},25]
[13,{"$nulls":4},"T"]
["RINK",null,{"$f":"'NOMINATED TRIPLES'!$Q$7","v":0},{"$f":"$B$50","v":0}]
[null,{"$f":"'NOMINATED TRIPLES'!$K$7","v":0},null,{"$f":"'NOMINATED TRIPLES'!$P$7","v":0},null,null,{"$f":"'NOMINATED TRIPLES'!$K$7","v":0},null,{"$f":"'NOMINATED TRIPLES'!$P$7","v":0}]
["End","Shots","Total","Shots","Total","End","Shots","Total","Shots","Total"]
[1,{"$nulls":4},14]
[2,{"$nulls":4},15]
[3,{"$nulls":4},16]
[4,{"$nulls":4},17]
[5,{"$nulls":4},18]
[6,{"$nulls":4},19]
[7,{"$nulls":4},20]
[8,{"$nulls":4},21]
[9,{"$nulls":4},22]
[10,{"$nulls":4},23]
[11,{"$nulls":4},24]
[12,{"$nulls":4},25]
[13,{"$nulls":4},"T"]
["RINK",null,{"$f":"'NOMINATED TRIPLES'!$Q$8","v":0},{"$f":"$B$66","v":0}]
[null,{"$f":"'NOMINATED TRIPLES'!$K$8","v":0},null,{"$f":"'NOMINATED TRIPLES'!$P$8","v":0},null,null,{"$f":"'NOMINATED TRIPLES'!$K$8","v":0},null,{"$f":"'NOMINATED TRIPLES'!$P$8","v":0}]
["End","Shots","Total","Shots","Total","End","Shots","Total","Shots","Total"]
[1,{"$nulls":4},14]
[2,{"$nulls":4},15]
[3,{"$nulls":4},16]
[4,{"$nulls":4},17]
[5,{"$nulls":4},18]
[6,{"$nulls":4},19]
[7,{"$nulls":4},20]
[8,{"$nulls":4},21]
[9,{"$nulls":4},22]
[10,{"$nulls":4},23]
[11,{"$nulls":4},24]
[12,{"$nulls":4},25]
[13,{"$nulls":4},"T"]
["RINK",null,{"$f":"'NOMINATED TRIPLES'!$Q$9","v":0},{"$f":"$B$82","v":0}]
[null,{"$f":"'NOMINATED TRIPLES'!$K$9","v":0},null,{"$f":"'NOMINATED TRIPLES'!$P$9","v":0},null,null,{"$f":"'NOMINATED TRIPLES'!$K$9","v":0},null,{"$f":"'NOMINATED TRIPLES'!$P$9","v":0}]
["End","Shots","Total","Shots","Total","End","Shots","Total","Shots","Total"]
[1,{"$nulls":4},14]
[2,{"$nulls":4},15]
[3,{"$nulls":4},16]
[4,{"$nulls":4},17]
[5,{"$nulls":4},18]
[6,{"$nulls":4},19]
[7,{"$nulls":4},20]
[8,{"$nulls":4},21]
[9,{"$nulls":4},22]
[10,{"$nulls":4},23]
[11,{"$nulls":4},24]
[12,{"$nulls":4},25]
[13,{"$nulls":4},"T"]
["RINK",null,{"$f":"'NOMINATED TRIPLES'!$Q$10","v":0},{"$f":"$B$98","v":0}]
[null,{"$f":"'NOMINATED TRIPLES'!$K$10","v":0},null,{"$f":"'NOMINATED TRIPLES'!$P$10","v":0},null,null,{"$f":"'NOMINATED TRIPLES'!$K$10","v":0},null,{"$f":"'NOMINATED TRIPLES'!$P$10","v":0}]
["End","Shots","Total","Shots","Total","End","Shots","Total","Shots","Total"]
[1,{"$nulls":4},14]
[2,{"$nulls":4},15]
[3,{"$nulls":4},16]
[4,{"$nulls":4},17]
[5,{"$nulls":4},18]
[6,{"$nulls":4},19]
[7,{"$nulls":4},20]
[8,{"$nulls":4},21]
[9,{"$nulls":4},22]
[10,{"$nulls":4},23]
[11,{"$nulls":4},24]
[12,{"$nulls":4},25]
[13,{"$nulls":4},"T"]
["RINK",null,{"$f":"'NOMINATED TRIPLES'!$Q$11","v":0},{"$f":"$B$114","v":0}]
[null,{"$f":"'NOMINATED TRIPLES'!$K$11","v":0},null,{"$f":"'NOMINATED TRIPLES'!$P$11","v":0},null,null,{"$f":"'NOMINATED TRIPLES'!$K$11","v":0},null,{"$f":"'NOMINATED TRIPLES'!$P$11","v":0}]
["End","Shots","Total","Shots","Total","End","Shots","Total","Shots","Total"]
[1,{"$nulls":4},14]
[2,{"$nulls":4},15]
[3,{"$nulls":4},16]
[4,{"$nulls":4},17]
[5,{"$nulls":4},18]
[6,{"$nulls":4},19]
[7,{"$nulls":4},20]
[8,{"$nulls":4},21]
[9,{"$nulls":4},22]
[10,{"$nulls":4},23]
[11,{"$nulls":4},24]
[12,{"$nulls":4},25]
[13,{"$nulls":4},"T"]
["RINK",null,{"$f":"'NOMINATED TRIPLES'!$Q$12","v":0},{"$f":"$B$130","v":0}]
[null,{"$f":"'NOMINATED TRIPLES'!$K$12","v":0},null,{"$f":"'NOMINATED TRIPLES'!$P$12","v":0},null,null,{"$f":"'NOMINATED TRIPLES'!$K$12","v":0},null,{"$f":"'NOMINATED TRIPLES'!$P$12","v":0}]
["End","Shots","Total","Shots","Total","End","Shots","Total","Shots","Total"]
[1,{"$nulls":4},14]
[2,{"$nulls":4},15]
[3,{"$nulls":4},16]
[4,{"$nulls":4},17]
[5,{"$nulls":4},18]
[6,{"$nulls":4},19]
[7,{"$nulls":4},20]
[8,{"$nulls":4},21]
[9,{"$nulls":4},22]
[10,{"$nulls":4},23]
[11,{"$nulls":4},24]
[12,{"$nulls":4},25]
[13,{"$nulls":4},"T"]
["RINK",null,{"$f":"'NOMINATED TRIPLES'!$Q$13","v":0},{"$f":"$B$146","v":0}]
[null,{"$f":"'NOMINATED TRIPLES'!$K$13","v":0},null,{"$f":"'NOMINATED TRIPLES'!$P$13","v":0},null,null,{"$f":"'NOMINATED TRIPLES'!$K$13","v":0},null,{"$f":"'NOMINATED TRIPLES'!$P$13","v":0}]
["End","Shots","Total","Shots","Total","End","Shots","Total","Shots","Total"]
[1,{"$nulls":4},14]
[2,{"$nulls":4},15]
[3,{"$nulls":4},16]
[4,{"$nulls":4},17]
[5,{"$nulls":4},18]
[6,{"$nulls":4},19]
[7,{"$nulls":4},20]
[8,{"$nulls":4},21]
[9,{"$nulls":4},22]
[10,{"$nulls":4},23]
[11,{"$nulls":4},24]
[12,{"$nulls":4},25]
[13,{"$nulls":4},"T"]
["RINK",null,{"$f":"'NOMINATED TRIPLES'!$Q$14","v":0},{"$f":"$B$162","v":0}]
[null,{"$f":"'NOMINATED TRIPLES'!$K$14","v":0},null,{"$f":"'NOMINATED TRIPLES'!$P$14","v":0},null,null,{"$f":"'NOMINATED TRIPLES'!$K$14","v":0},null,{"$f":"'NOMINATED TRIPLES'!$P$14","v":0}]
["End","Shots","Total","Shots","Total","End","Shots","Total","Shots","Total"]
[1,{"$nulls":4},14]
[2,{"$nulls":4},15]
[3,{"$nulls":4},16]
[4,{"$nulls":4},17]
[5,{"$nulls":4},18]
[6,{"$nulls":4},19]
[7,{"$nulls":4},20]
[8,{"$nulls":4},21]
[9,{"$nulls":4},22]
[10,{"$nulls":4},23]
[11,{"$nulls":4},24]
[12,{"$nulls":4},25]
[13,{"$nulls":4},"T"]
["RINK",null,{"$f":"'NOMINATED TRIPLES'!$Q$15","v":0},{"$f":"$B$178","v":0}]
[null,{"$f":"'NOMINATED TRIPLES'!$K$15","v":0},null,{"$f":"'NOMINATED TRIPLES'!$P$15","v":0},null,null,{"$f":"'NOMINATED TRIPLES'!$K$15","v":0},null,{"$f":"'NOMINATED TRIPLES'!$P$15","v":0}]
["End","Shots","Total","Shots","Total","End","Shots","Total","Shots","Total"]
[1,{"$nulls":4},14]
[2,{"$nulls":4},15]
[3,{"$nulls":4},16]
[4,{"$nulls":4},17]
[5,{"$nulls":4},18]
[6,{"$nulls":4},19]
[7,{"$nulls":4},20]
[8,{"$nulls":4},21]
[9,{"$nulls":4},22]
[10,{"$nulls":4},23]
[11,{"$nulls":4},24]
[12,{"$nulls":4},25]
[13,{"$nulls":4},"T"]
["RINK",null,{"$f":"'NOMINATED TRIPLES'!$Q$16","v":0},{"$f":"$B$194","v":0}]
[null,{"$f":"'NOMINATED TRIPLES'!$K$16","v":0},null,{"$f":"'NOMINATED TRIPLES'!$P$16","v":0},null,null,{"$f":"'NOMINATED TRIPLES'!$K$16","v":0},null,{"$f":"'NOMINATED TRIPLES'!$P$16","v":0}]
["End","Shots","Total","Shots","Total","End","Shots","Total","Shots","Total"]
[1,{"$nulls":4},14]
[2,{"$nulls":4},15]
[3,{"$nulls":4},16]
[4,{"$nulls":4},17]
[5,{"$nulls":4},18]
[6,{"$nulls":4},19]
[7,{"$nulls":4},20]
[8,{"$nulls":4},21]
[9,{"$nulls":4},22]
[10,{"$nulls":4},23]
[11,{"$nulls":4},24]
[12,{"$nulls":4},25]
[13,{"$nulls":4},"T"]
["RINK",null,{"$f":"'NOMINATED TRIPLES'!$Q$17","v":0},{"$f":"$B$210","v":0}]
[null,{"$f":"'NOMINATED TRIPLES'!$K$17","v":0},null,{"$f":"'NOMINATED TRIPLES'!$P$17","v":0},null,null,{"$f":"'NOMINATED TRIPLES'!$K$17","v":0},null,{"$f":"'NOMINATED TRIPLES'!$P$17","v":0}]
["End","Shots","Total","Shots","Total","End","Shots","Total","Shots","Total"]
[1,{"$nulls":4},14]
[2,{"$nulls":4},15]
[3,{"$nulls":4},16]
[4,{"$nulls":4},17]
[5,{"$nulls":4},18]
[6,{"$nulls":4},19]
[7,{"$nulls":4},20]
[8,{"$nulls":4},21]
[9,{"$nulls":4},22]
[10,{"$nulls":4},23]
[11,{"$nulls":4},24]
[12,{"$nulls":4},25]
[13,{"$nulls":4},"T"]
["RINK"]
[]
["End","Shots","Total","Shots","Total","End","Shots","Total","Shots","Total"]
[1,{"$nulls":4},14]
[2,{"$nulls":4},15]
[3,{"$nulls":4},16]
[4,{"$nulls":4},17]
[5,{"$nulls":4},18]
[6,{"$nulls":4},19]
[7,{"$nulls":4},20]
[8,{"$nulls":4},21]
[9,{"$nulls":4},22]
[10,{"$nulls":4},23]
[11,{"$nulls":4},24]
[12,{"$nulls":4},25]
[13,{"$nulls":4},"T"]

{"sheet":"Cards front rev trip","index":10,"n_rows":345,"n_cols":16,"rows_kept":345,"merged":[[0,0,0,23],[2,0,2,23],[4,2,4,6],[4,8,4,23],[6,2,6,6],[6,8,6,23],[8,0,8,10],[8,11,8,12],[8,13,8,23],[10,0,10,10],[10,11,10,12],[10,13,10,23],[12,0,12,10],[12,11,12,12],[12,13,12,23],[14,0,14,10],[14,11,14,12],[14,13,14,23],[16,2,16,8],[16,15,16,21],[17,2,17,8],[17,15,17,21],[18,0,18,10],[18,13,18,23],[20,0,20,10],[20,11,20,12],[20,13,20,23],[22,0,22,11],[22,12,22,23],[23,0,23,23],[25,0,25,23],[27,2,27,6],[27,8,27,23],[29,2,29,6],[29,8,29,23],[31,0,31,10],[31,11,31,12],[31,13,31,23],[33,0,33,10],[33,11,33,12],[33,13,33,23],[35,0,35,10],[35,11,35,12],[35,13,35,23],[37,0,37,10],[37,11,37,12],[37,13,37,23],[39,2,39,8],[39,15,39,21],[40,2,40,8],[40,15,40,21],[41,0,41,10],[41,13,41,23],[43,0,43,10],[43,11,43,12],[43,13,43,23],[45,0,45,11],[45,12,45,23],[46,0,46,23],[48,0,48,23],[50,2,50,6],[50,8,50,23],[52,2,52,6],[52,8,52,23],[54,0,54,10],[54,11,54,12],[54,13,54,23],[56,0,56,10],[56,11,56,12],[56,13,56,23],[58,0,58,10],[58,11,58,12],[58,13,58,23],[60,0,60,10],[60,11,60,12],[60,13,60,23],[62,2,62,8],[62,15,62,21],[63,2,63,8],[63,15,63,21],[64,0,64,10],[64,13,64,23],[66,0,66,10],[66,11,66,12],[66,13,66,23],[68,0,68,11],[68,12,68,23],[69,0,69,23],[71,0,71,23],[73,2,73,6],[73,8,73,23],[75,2,75,6],[75,8,75,23],[77,0,77,10],[77,11,77,12],[77,13,77,23],[79,0,79,10],[79,11,79,12],[79,13,79,23],[81,0,81,10],[81,11,81,12],[81,13,81,23],[83,0,83,10],[83,11,83,12],[83,13,83,23],[85,2,85,8],[85,15,85,21],[86,2,86,8],[86,15,86,21],[87,0,87,10],[87,13,87,23],[89,0,89,10],[89,11,89,12],[89,13,89,23],[91,0,91,11],[91,12,91,23],[92,0,92,23],[94,0,94,23],[96,2,96,6],[96,8,96,23],[98,2,98,6],[98,8,98,23],[100,0,100,10],[100,11,100,12],[100,13,100,23],[102,0,102,10],[102,11,102,12],[102,13,102,23],[104,0,104,10],[104,11,104,12],[104,13,104,23],[106,0,106,10],[106,11,106,12],[106,13,106,23],[108,2,108,8],[108,15,108,21],[109,2,109,8],[109,15,109,21],[110,0,110,10],[110,13,110,23],[112,0,112,10],[112,11,112,12],[112,13,112,23],[114,0,114,11],[114,12,114,23],[115,0,115,23],[117,0,117,23],[119,2,119,6],[119,8,119,23],[121,2,121,6],[121,8,121,23],[123,0,123,10],[123,11,123,12],[123,13,123,23],[125,0,125,10],[125,11,125,12],[125,13,125,23],[127,0,127,10],[127,11,127,12],[127,13,127,23],[129,0,129,10],[129,11,129,12],[129,13,129,23],[131,2,131,8],[131,15,131,21],[132,2,132,8],[132,15,132,21],[133,0,133,10],[133,13,133,23],[135,0,135,10],[135,11,135,12],[135,13,135,23],[137,0,137,11],[137,12,137,23],[138,0,138,23],[140,0,140,23],[142,2,142,6],[142,8,142,23],[144,2,144,6],[144,8,144,23],[146,0,146,10],[146,11,146,12],[146,13,146,23],[148,0,148,10],[148,11,148,12],[148,13,148,23],[150,0,150,10],[150,11,150,12],[150,13,150,23],[152,0,152,10],[152,11,152,12],[152,13,152,23],[154,2,154,8],[154,15,154,21],[155,2,155,8],[155,15,155,21],[156,0,156,10],[156,13,156,23],[158,0,158,10],[158,11,158,12],[158,13,158,23],[160,0,160,11],[160,12,160,23],[161,0,161,23],[163,0,163,23],[165,2,165,6],[165,8,165,23],[167,2,167,6],[167,8,167,23],[169,0,169,10],[169,11,169,12],[169,13,169,23],[171,0,171,10],[171,11,171,12],[171,13,171,23],[173,0,173,10],[173,11,173,12],[173,13,173,23],[175,0,175,10],[175,11,175,12],[175,13,175,23],[177,2,177,8],[177,15,177,21],[178,2,178,8],[178,15,178,21],[179,0,179,10],[179,13,179,23],[181,0,181,10],[181,11,181,12],[181,13,181,23],[183,0,183,11],[183,12,183,23],[184,0,184,23],[186,0,186,23],[188,2,188,6],[188,8,188,23],[190,2,190,6],[190,8,190,23],[192,0,192,10],[192,11,192,12],[192,13,192,23],[194,0,194,10],[194,11,194,12],[194,13,194,23],[196,0,196,10],[196,11,196,12],[196,13,196,23],[198,0,198,10],[198,11,198,12],[198,13,198,23],[200,2,200,8],[200,15,200,21],[201,2,201,8],[201,15,201,21],[202,0,202,10],[202,13,202,23],[204,0,204,10],[204,11,204,12],[204,13,204,23],[206,0,206,11],[206,12,206,23],[207,0,207,23],[209,0,209,23],[211,2,211,6],[211,8,211,23],[213,2,213,6],[213,8,213,23],[215,0,215,10],[215,11,215,12],[215,13,215,23],[217,0,217,10],[217,11,217,12],[217,13,217,23],[219,0,219,10],[219,11,219,12],[219,13,219,23],[221,0,221,10],[221,11,221,12],[221,13,221,23],[223,2,223,8],[223,15,223,21],[224,2,224,8],[224,15,224,21],[225,0,225,10],[225,13,225,23],[227,0,227,10],[227,11,227,12],[227,13,227,23],[229,0,229,11],[229,12,229,23],[230,0,230,23],[232,0,232,23],[234,2,234,6],[234,8,234,23],[236,2,236,6],[236,8,236,23],[238,0,238,10],[238,11,238,12],[238,13,238,23],[240,0,240,10],[240,11,240,12],[240,13,240,23],[242,0,242,10],[242,11,242,12],[242,13,242,23],[244,0,244,10],[244,11,244,12],[244,13,244,23],[246,2,246,8],[246,15,246,21],[247,2,247,8],[247,15,247,21],[248,0,248,10],[248,13,248,23],[250,0,250,10],[250,11,250,12],[250,13,250,23],[252,0,252,11],[252,12,252,23],[253,0,253,23],[255,0,255,23],[257,2,257,6],[257,8,257,23],[259,2,259,6],[259,8,259,23],[261,0,261,10],[261,11,261,12],[261,13,261,23],[263,0,263,10],[263,11,263,12],[263,13,263,23],[265,0,265,10],[265,11,265,12],[265,13,265,23],[267,0,267,10],[267,11,267,12],[267,13,267,23],[269,2,269,8],[269,15,269,21],[270,2,270,8],[270,15,270,21],[271,0,271,10],[271,13,271,23],[273,0,273,10],[273,11,273,12],[273,13,273,23],[275,0,275,11],[275,12,275,23],[276,0,276,23],[278,0,278,23],[280,2,280,6],[280,8,280,23],[282,2,282,6],[282,8,282,23],[284,0,284,10],[284,11,284,12],[284,13,284,23],[286,0,286,10],[286,11,286,12],[286,13,286,23],[288,0,288,10],[288,11,288,12],[288,13,288,23],[290,0,290,10],[290,11,290,12],[290,13,290,23],[292,2,292,8],[292,15,292,21],[293,2,293,8],[293,15,293,21],[294,0,294,10],[294,13,294,23],[296,0,296,10],[296,11,296,12],[296,13,296,23],[298,0,298,11],[298,12,298,23],[299,0,299,23],[301,0,301,23],[303,2,303,6],[303,8,303,23],[305,2,305,6],[305,8,305,23],[307,0,307,10],[307,11,307,12],[307,13,307,23],[309,0,309,10],[309,11,309,12],[309,13,309,23],[311,0,311,10],[311,11,311,12],[311,13,311,23],[313,0,313,10],[313,11,313,12],[313,13,313,23],[315,2,315,8],[315,15,315,21],[316,2,316,8],[316,15,316,21],[317,0,317,10],[317,13,317,23],[319,0,319,10],[319,11,319,12],[319,13,319,23],[321,0,321,11],[321,12,321,23],[322,0,322,23],[324,0,324,23],[326,2,326,6],[326,8,326,23],[328,2,328,6],[328,8,328,23],[330,0,330,10],[330,11,330,12],[330,13,330,23],[332,0,332,10],[332,11,332,12],[332,13,332,23],[334,0,334,10],[334,11,334,12],[334,13,334,23],[336,0,336,10],[336,11,336,12],[336,13,336,23],[338,2,338,8],[338,15,338,21],[339,2,339,8],[339,15,339,21],[340,0,340,10],[340,13,340,23],[342,0,342,10],[342,11,342,12],[342,13,342,23],[344,0,344,11],[344,12,344,23]]}
[{"$f":"'NOMINATED TRIPLES'!$C$1","v":"CLUB NAME HERE"}]
[]
[{"$f":"'NOMINATED TRIPLES'!$L$1","v":"Nominated Triples"}]
[]
[null,null,"RINK",{"$nulls":5},"DATE"]
[]
[null,null,{"$f":"'NOMINATED TRIPLES'!$Q$4","v":0},{"$nulls":5},{"$f":"'NOMINATED TRIPLES'!$I$1","v":"31/07/20"}]
[]
[{"$f":"'NOMINATED TRIPLES'!$N$4","v":0},{"$nulls":12},{"$f":"'NOMINATED TRIPLES'!$I$4","v":0}]
[]
[{"$f":"'NOMINATED TRIPLES'!$O$4","v":0},{"$nulls":12},{"$f":"'NOMINATED TRIPLES'!$J$4","v":0}]
[]
[]
[]
[{"$f":"'NOMINATED TRIPLES'!$P$4","v":0},{"$nulls":12},{"$f":"'NOMINATED TRIPLES'!$K$4","v":0}]
[]
[null,null,"TOTAL SCORE",{"$nulls":12},"TOTAL SCORE"]
[]
["Signature",{"$nulls":12},"Signature"]
[]
[]
[]
["Time Match completed"]
[{"$f":"'NOMINATED TRIPLES'!$C$1","v":"CLUB NAME HERE"}]
[]
[{"$f":"'NOMINATED TRIPLES'!$L$1","v":"Nominated Triples"}]
[]
[null,null,"RINK",{"$nulls":5},"DATE"]
[]
[null,null,{"$f":"'NOMINATED TRIPLES'!$Q$5","v":0},{"$nulls":5},{"$f":"'NOMINATED TRIPLES'!$I$1","v":"31/07/20"}]
[]
[{"$f":"'NOMINATED TRIPLES'!$N$5","v":0},{"$nulls":12},{"$f":"'NOMINATED TRIPLES'!$I$5","v":0}]
[]
[{"$f":"'NOMINATED TRIPLES'!$O$5","v":0},{"$nulls":12},{"$f":"'NOMINATED TRIPLES'!$J$5","v":0}]
[]
[]
[]
[{"$f":"'NOMINATED TRIPLES'!$P$5","v":0},{"$nulls":12},{"$f":"'NOMINATED TRIPLES'!$K$5","v":0}]
[]
[null,null,"TOTAL SCORE",{"$nulls":12},"TOTAL SCORE"]
[]
["Signature",{"$nulls":12},"Signature"]
[]
[]
[]
["Time Match completed"]
[{"$f":"'NOMINATED TRIPLES'!$C$1","v":"CLUB NAME HERE"}]
[]
[{"$f":"'NOMINATED TRIPLES'!$L$1","v":"Nominated Triples"}]
[]
[null,null,"RINK",{"$nulls":5},"DATE"]
[]
[null,null,{"$f":"'NOMINATED TRIPLES'!$Q$6","v":0},{"$nulls":5},{"$f":"'NOMINATED TRIPLES'!$I$1","v":"31/07/20"}]
[]
[{"$f":"'NOMINATED TRIPLES'!$N$6","v":0},{"$nulls":12},{"$f":"'NOMINATED TRIPLES'!$I$6","v":0}]
[]
[{"$f":"'NOMINATED TRIPLES'!$O$6","v":0},{"$nulls":12},{"$f":"'NOMINATED TRIPLES'!$J$6","v":0}]
[]
[]
[]
[{"$f":"'NOMINATED TRIPLES'!$P$6","v":0},{"$nulls":12},{"$f":"'NOMINATED TRIPLES'!$K$6","v":0}]
[]
[null,null,"TOTAL SCORE",{"$nulls":12},"TOTAL SCORE"]
[]
["Signature",{"$nulls":12},"Signature"]
[]
[]
[]
["Time Match completed"]
[{"$f":"'NOMINATED TRIPLES'!$C$1","v":"CLUB NAME HERE"}]
[]
[{"$f":"'NOMINATED TRIPLES'!$L$1","v":"Nominated Triples"}]
[]
[null,null,"RINK",{"$nulls":5},"DATE"]
[]
[null,null,{"$f":"'NOMINATED TRIPLES'!$Q$7","v":0},{"$nulls":5},{"$f":"'NOMINATED TRIPLES'!$I$1","v":"31/07/20"}]
[]
[{"$f":"'NOMINATED TRIPLES'!$N$7","v":0},{"$nulls":12},{"$f":"'NOMINATED TRIPLES'!$I$7","v":0}]
[]
[{"$f":"'NOMINATED TRIPLES'!$O$7","v":0},{"$nulls":12},{"$f":"'NOMINATED TRIPLES'!$J$7","v":0}]
[]
[]
[]
[{"$f":"'NOMINATED TRIPLES'!$P$7","v":0},{"$nulls":12},{"$f":"'NOMINATED TRIPLES'!$K$7","v":0}]
[]
[null,null,"TOTAL SCORE",{"$nulls":12},"TOTAL SCORE"]
[]
["Signature",{"$nulls":12},"Signature"]
[]
[]
[]
["Time Match completed"]
[{"$f":"'NOMINATED TRIPLES'!$C$1","v":"CLUB NAME HERE"}]
[]
[{"$f":"'NOMINATED TRIPLES'!$L$1","v":"Nominated Triples"}]
[]
[null,null,"RINK",{"$nulls":5},"DATE"]
[]
[null,null,{"$f":"'NOMINATED TRIPLES'!$Q$8","v":0},{"$nulls":5},{"$f":"'NOMINATED TRIPLES'!$I$1","v":"31/07/20"}]
[]
[{"$f":"'NOMINATED TRIPLES'!$N$8","v":0},{"$nulls":12},{"$f":"'NOMINATED TRIPLES'!$I$8","v":0}]
[]
[{"$f":"'NOMINATED TRIPLES'!$O$8","v":0},{"$nulls":12},{"$f":"'NOMINATED TRIPLES'!$J$8","v":0}]
[]
[]
[]
[{"$f":"'NOMINATED TRIPLES'!$P$8","v":0},{"$nulls":12},{"$f":"'NOMINATED TRIPLES'!$K$8","v":0}]
[]
[null,null,"TOTAL SCORE",{"$nulls":12},"TOTAL SCORE"]
[]
["Signature",{"$nulls":12},"Signature"]
[]
[]
[]
["Time Match completed"]
[{"$f":"'NOMINATED TRIPLES'!$C$1","v":"CLUB NAME HERE"}]
[]
[{"$f":"'NOMINATED TRIPLES'!$L$1","v":"Nominated Triples"}]
[]
[null,null,"RINK",{"$nulls":5},"DATE"]
[]
[null,null,{"$f":"'NOMINATED TRIPLES'!$Q$9","v":0},{"$nulls":5},{"$f":"'NOMINATED TRIPLES'!$I$1","v":"31/07/20"}]
[]
[{"$f":"'NOMINATED TRIPLES'!$N$9","v":0},{"$nulls":12},{"$f":"'NOMINATED TRIPLES'!$I$9","v":0}]
[]
[{"$f":"'NOMINATED TRIPLES'!$O$9","v":0},{"$nulls":12},{"$f":"'NOMINATED TRIPLES'!$J$9","v":0}]
[]
[]
[]
[{"$f":"'NOMINATED TRIPLES'!$P$9","v":0},{"$nulls":12},{"$f":"'NOMINATED TRIPLES'!$K$9","v":0}]
[]
[null,null,"TOTAL SCORE",{"$nulls":12},"TOTAL SCORE"]
[]
["Signature",{"$nulls":12},"Signature"]
[]
[]
[]
["Time Match completed"]
[{"$f":"'NOMINATED TRIPLES'!$C$1","v":"CLUB NAME HERE"}]
[]
[{"$f":"'NOMINATED TRIPLES'!$L$1","v":"Nominated Triples"}]
[]
[null,null,"RINK",{"$nulls":5},"DATE"]
[]
[null,null,{"$f":"'NOMINATED TRIPLES'!$Q$10","v":0},{"$nulls":5},{"$f":"'NOMINATED TRIPLES'!$I$1","v":"31/07/20"}]
[]
[{"$f":"'NOMINATED TRIPLES'!$N$10","v":0},{"$nulls":12},{"$f":"'NOMINATED TRIPLES'!$I$10","v":0}]
[]
[{"$f":"'NOMINATED TRIPLES'!$O$10","v":0},{"$nulls":12},{"$f":"'NOMINATED TRIPLES'!$J$10","v":0}]
[]
[]
[]
[{"$f":"'NOMINATED TRIPLES'!$P$10","v":0},{"$nulls":12},{"$f":"'NOMINATED TRIPLES'!$K$10","v":0}]
[]
[null,null,"TOTAL SCORE",{"$nulls":12},"TOTAL SCORE"]
[]
["Signature",{"$nulls":12},"Signature"]
[]
[]
[]
["Time Match completed"]
[{"$f":"'NOMINATED TRIPLES'!$C$1","v":"CLUB NAME HERE"}]
[]
[{"$f":"'NOMINATED TRIPLES'!$L$1","v":"Nominated Triples"}]
[]
[null,null,"RINK",{"$nulls":5},"DATE"]
[]
[null,null,{"$f":"'NOMINATED TRIPLES'!$Q$11","v":0},{"$nulls":5},{"$f":"'NOMINATED TRIPLES'!$I$1","v":"31/07/20"}]
[]
[{"$f":"'NOMINATED TRIPLES'!$N$11","v":0},{"$nulls":12},{"$f":"'NOMINATED TRIPLES'!$I$11","v":0}]
[]
[{"$f":"'NOMINATED TRIPLES'!$O$11","v":0},{"$nulls":12},{"$f":"'NOMINATED TRIPLES'!$J$11","v":0}]
[]
[]
[]
[{"$f":"'NOMINATED TRIPLES'!$P$11","v":0},{"$nulls":12},{"$f":"'NOMINATED TRIPLES'!$K$11","v":0}]
[]
[null,null,"TOTAL SCORE",{"$nulls":12},"TOTAL SCORE"]
[]
["Signature",{"$nulls":12},"Signature"]
[]
[]
[]
["Time Match completed"]
[{"$f":"'NOMINATED TRIPLES'!$C$1","v":"CLUB NAME HERE"}]
[]
[{"$f":"'NOMINATED TRIPLES'!$L$1","v":"Nominated Triples"}]
[]
[null,null,"RINK",{"$nulls":5},"DATE"]
[]
[null,null,{"$f":"'NOMINATED TRIPLES'!$Q$12","v":0},{"$nulls":5},{"$f":"'NOMINATED TRIPLES'!$I$1","v":"31/07/20"}]
[]
[{"$f":"'NOMINATED TRIPLES'!$N$12","v":0},{"$nulls":12},{"$f":"'NOMINATED TRIPLES'!$I$12","v":0}]
[]
[{"$f":"'NOMINATED TRIPLES'!$O$12","v":0},{"$nulls":12},{"$f":"'NOMINATED TRIPLES'!$J$12","v":0}]
[]
[]
[]
[{"$f":"'NOMINATED TRIPLES'!$P$12","v":0},{"$nulls":12},{"$f":"'NOMINATED TRIPLES'!$K$12","v":0}]
[]
[null,null,"TOTAL SCORE",{"$nulls":12},"TOTAL SCORE"]
[]
["Signature",{"$nulls":12},"Signature"]
[]
[]
[]
["Time Match completed"]
[{"$f":"'NOMINATED TRIPLES'!$C$1","v":"CLUB NAME HERE"}]
[]
[{"$f":"'NOMINATED TRIPLES'!$L$1","v":"Nominated Triples"}]
[]
[null,null,"RINK",{"$nulls":5},"DATE"]
[]
[null,null,{"$f":"'NOMINATED TRIPLES'!$Q$13","v":0},{"$nulls":5},{"$f":"'NOMINATED TRIPLES'!$I$1","v":"31/07/20"}]
[]
[{"$f":"'NOMINATED TRIPLES'!$N$13","v":0},{"$nulls":12},{"$f":"'NOMINATED TRIPLES'!$I$13","v":0}]
[]
[{"$f":"'NOMINATED TRIPLES'!$O$13","v":0},{"$nulls":12},{"$f":"'NOMINATED TRIPLES'!$J$13","v":0}]
[]
[]
[]
[{"$f":"'NOMINATED TRIPLES'!$P$13","v":0},{"$nulls":12},{"$f":"'NOMINATED TRIPLES'!$K$13","v":0}]
[]
[null,null,"TOTAL SCORE",{"$nulls":12},"TOTAL SCORE"]
[]
["Signature",{"$nulls":12},"Signature"]
[]
[]
[]
["Time Match completed"]
[{"$f":"'NOMINATED TRIPLES'!$C$1","v":"CLUB NAME HERE"}]
[]
[{"$f":"'NOMINATED TRIPLES'!$L$1","v":"Nominated Triples"}]
[]
[null,null,"RINK",{"$nulls":5},"DATE"]
[]
[null,null,{"$f":"'NOMINATED TRIPLES'!$Q$14","v":0},{"$nulls":5},{"$f":"'NOMINATED TRIPLES'!$I$1","v":"31/07/20"}]
[]
[{"$f":"'NOMINATED TRIPLES'!$N$14","v":0},{"$nulls":12},{"$f":"'NOMINATED TRIPLES'!$I$14","v":0}]
[]
[{"$f":"'NOMINATED TRIPLES'!$O$14","v":0},{"$nulls":12},{"$f":"'NOMINATED TRIPLES'!$J$14","v":0}]
[]
[]
[]
[{"$f":"'NOMINATED TRIPLES'!$P$14","v":0},{"$nulls":12},{"$f":"'NOMINATED TRIPLES'!$K$14","v":0}]
[]
[null,null,"TOTAL SCORE",{"$nulls":12},"TOTAL SCORE"]
[]
["Signature",{"$nulls":12},"Signature"]
[]
[]
[]
["Time Match completed"]
[{"$f":"'NOMINATED TRIPLES'!$C$1","v":"CLUB NAME HERE"}]
[]
[{"$f":"'NOMINATED TRIPLES'!$L$1","v":"Nominated Triples"}]
[]
[null,null,"RINK",{"$nulls":5},"DATE"]
[]
[null,null,{"$f":"'NOMINATED TRIPLES'!$Q$15","v":0},{"$nulls":5},{"$f":"'NOMINATED TRIPLES'!$I$1","v":"31/07/20"}]
[]
[{"$f":"'NOMINATED TRIPLES'!$N$15","v":0},{"$nulls":12},{"$f":"'NOMINATED TRIPLES'!$I$15","v":0}]
[]
[{"$f":"'NOMINATED TRIPLES'!$O$15","v":0},{"$nulls":12},{"$f":"'NOMINATED TRIPLES'!$J$15","v":0}]
[]
[]
[]
[{"$f":"'NOMINATED TRIPLES'!$P$15","v":0},{"$nulls":12},{"$f":"'NOMINATED TRIPLES'!$K$15","v":0}]
[]
[null,null,"TOTAL SCORE",{"$nulls":12},"TOTAL SCORE"]
[]
["Signature",{"$nulls":12},"Signature"]
[]
[]
[]
["Time Match completed"]
[{"$f":"'NOMINATED TRIPLES'!$C$1","v":"CLUB NAME HERE"}]
[]
[{"$f":"'NOMINATED TRIPLES'!$L$1","v":"Nominated Triples"}]
[]
[null,null,"RINK",{"$nulls":5},"DATE"]
[]
[null,null,{"$f":"'NOMINATED TRIPLES'!$Q$16","v":0},{"$nulls":5},{"$f":"'NOMINATED TRIPLES'!$I$1","v":"31/07/20"}]
[]
[{"$f":"'NOMINATED TRIPLES'!$N$16","v":0},{"$nulls":12},{"$f":"'NOMINATED TRIPLES'!$I$16","v":0}]
[]
[{"$f":"'NOMINATED TRIPLES'!$O$16","v":0},{"$nulls":12},{"$f":"'NOMINATED TRIPLES'!$J$16","v":0}]
[]
[]
[]
[{"$f":"'NOMINATED TRIPLES'!$P$16","v":0},{"$nulls":12},{"$f":"'NOMINATED TRIPLES'!$K$16","v":0}]
[]
[null,null,"TOTAL SCORE",{"$nulls":12},"TOTAL SCORE"]
[]
["Signature",{"$nulls":12},"Signature"]
[]
[]
[]
["Time Match completed"]
[{"$f":"'NOMINATED TRIPLES'!$C$1","v":"CLUB NAME HERE"}]
[]
[{"$f":"'NOMINATED TRIPLES'!$L$1","v":"Nominated Triples"}]
[]
[null,null,"RINK",{"$nulls":5},"DATE"]
[]
[null,null,{"$f":"'NOMINATED TRIPLES'!$Q$17","v":0},{"$nulls":5},{"$f":"'NOMINATED TRIPLES'!$I$1","v":"31/07/20"}]
[]
[{"$f":"'NOMINATED TRIPLES'!$N$17","v":0},{"$nulls":12},{"$f":"'NOMINATED TRIPLES'!$I$17","v":0}]
[]
[{"$f":"'NOMINATED TRIPLES'!$O$17","v":0},{"$nulls":12},{"$f":"'NOMINATED TRIPLES'!$J$17","v":0}]
[]
[]
[]
[{"$f":"'NOMINATED TRIPLES'!$P$17","v":0},{"$nulls":12},{"$f":"'NOMINATED TRIPLES'!$K$17","v":0}]
[]
[null,null,"TOTAL SCORE",{"$nulls":12},"TOTAL SCORE"]
[]
["Signature",{"$nulls":12},"Signature"]
[]
[]
[]
["Time Match completed"]
[{"$f":"'NOMINATED TRIPLES'!$C$1","v":"CLUB NAME HERE"}]
[]
[{"$f":"'NOMINATED TRIPLES'!$L$1","v":"Nominated Triples"}]
[]
[null,null,"RINK",{"$nulls":5},"DATE"]
[]
[{"$nulls":8},{"$f":"'NOMINATED TRIPLES'!$I$1","v":"31/07/20"}]
{"$rows_empty":9}
[null,null,"TOTAL SCORE",{"$nulls":12},"TOTAL SCORE"]
[]
["Signature",{"$nulls":12},"Signature"]
[]
[]
[]
["Time Match completed"]

{"sheet":"Cards rear rev trip","index":11,"n_rows":240,"n_cols":10,"rows_kept":240,"merged":[[0,0,0,1],[0,3,0,9],[1,1,1,2],[1,3,1,4],[1,6,1,7],[1,8,1,9],[16,0,16,1],[16,3,16,9],[17,1,17,2],[17,3,17,4],[17,6,17,7],[17,8,17,9],[32,0,32,1],[32,3,32,9],[33,1,33,2],[33,3,33,4],[33,6,33,7],[33,8,33,9],[48,0,48,1],[48,3,48,9],[49,1,49,2],[49,3,49,4],[49,6,49,7],[49,8,49,9],[64,0,64,1],[64,3,64,9],[65,1,65,2],[65,3,65,4],[65,6,65,7],[65,8,65,9],[80,0,80,1],[80,3,80,9],[81,1,81,2],[81,3,81,4],[81,6,81,7],[81,8,81,9],[96,0,96,1],[96,3,96,9],[97,1,97,2],[97,3,97,4],[97,6,97,7],[97,8,97,9],[112,0,112,1],[112,3,112,9],[113,1,113,2],[113,3,113,4],[113,6,113,7],[113,8,113,9],[128,0,128,1],[128,3,128,9],[129,1,129,2],[129,3,129,4],[129,6,129,7],[129,8,129,9],[144,0,144,1],[144,3,144,9],[145,1,145,2],[145,3,145,4],[145,6,145,7],[145,8,145,9],[160,0,160,1],[160,3,160,9],[161,1,161,2],[161,3,161,4],[161,6,161,7],[161,8,161,9],[176,0,176,1],[176,3,176,9],[177,1,177,2],[177,3,177,4],[177,6,177,7],[177,8,177,9],[192,0,192,1],[192,3,192,9],[193,1,193,2],[193,3,193,4],[193,6,193,7],[193,8,193,9],[208,0,208,1],[208,3,208,9],[209,1,209,2],[209,3,209,4],[209,6,209,7],[209,8,209,9],[224,0,224,1],[224,3,224,9],[225,1,225,2],[225,3,225,4],[225,6,225,7],[225,8,225,9]]}
["RINK",null,{"$f":"'NOMINATED TRIPLES'!$Q$4","v":0},{"$f":"'NOMINATED TRIPLES'!$P$4","v":0}]
[null,{"$f":"'NOMINATED TRIPLES'!$P$4","v":0},null,{"$f":"'NOMINATED TRIPLES'!$K$4","v":0},null,null,{"$f":"'NOMINATED TRIPLES'!$P$4","v":0},null,{"$f":"'NOMINATED TRIPLES'!$K$4","v":0}]
["End","Shots","Total","Shots","Total","End","Shots","Total","Shots","Total"]
[1,{"$nulls":4},14]
[2,{"$nulls":4},15]
[3,{"$nulls":4},16]
[4,{"$nulls":4},17]
[5,{"$nulls":4},18]
[6,{"$nulls":4},19]
[7,{"$nulls":4},20]
[8,{"$nulls":4},21]
[9,{"$nulls":4},22]
[10,{"$nulls":4},23]
[11,{"$nulls":4},24]
[12,{"$nulls":4},25]
[13,{"$nulls":4},"T"]
["RINK",null,{"$f":"'NOMINATED TRIPLES'!$Q$5","v":0},{"$f":"'NOMINATED TRIPLES'!$P$5","v":0}]
[null,{"$f":"'NOMINATED TRIPLES'!$P$5","v":0},null,{"$f":"'NOMINATED TRIPLES'!$K$5","v":0},null,null,{"$f":"'NOMINATED TRIPLES'!$P$5","v":0},null,{"$f":"'NOMINATED TRIPLES'!$K$5","v":0}]
["End","Shots","Total","Shots","Total","End","Shots","Total","Shots","Total"]
[1,{"$nulls":4},14]
[2,{"$nulls":4},15]
[3,{"$nulls":4},16]
[4,{"$nulls":4},17]
[5,{"$nulls":4},18]
[6,{"$nulls":4},19]
[7,{"$nulls":4},20]
[8,{"$nulls":4},21]
[9,{"$nulls":4},22]
[10,{"$nulls":4},23]
[11,{"$nulls":4},24]
[12,{"$nulls":4},25]
[13,{"$nulls":4},"T"]
["RINK",null,{"$f":"'NOMINATED TRIPLES'!$Q$6","v":0},{"$f":"'NOMINATED TRIPLES'!$P$6","v":0}]
[null,{"$f":"'NOMINATED TRIPLES'!$P$6","v":0},null,{"$f":"'NOMINATED TRIPLES'!$K$6","v":0},null,null,{"$f":"'NOMINATED TRIPLES'!$P$6","v":0},null,{"$f":"'NOMINATED TRIPLES'!$K$6","v":0}]
["End","Shots","Total","Shots","Total","End","Shots","Total","Shots","Total"]
[1,{"$nulls":4},14]
[2,{"$nulls":4},15]
[3,{"$nulls":4},16]
[4,{"$nulls":4},17]
[5,{"$nulls":4},18]
[6,{"$nulls":4},19]
[7,{"$nulls":4},20]
[8,{"$nulls":4},21]
[9,{"$nulls":4},22]
[10,{"$nulls":4},23]
[11,{"$nulls":4},24]
[12,{"$nulls":4},25]
[13,{"$nulls":4},"T"]
["RINK",null,{"$f":"'NOMINATED TRIPLES'!$Q$7","v":0},{"$f":"'NOMINATED TRIPLES'!$P$7","v":0}]
[null,{"$f":"'NOMINATED TRIPLES'!$P$7","v":0},null,{"$f":"'NOMINATED TRIPLES'!$K$7","v":0},null,null,{"$f":"'NOMINATED TRIPLES'!$P$7","v":0},null,{"$f":"'NOMINATED TRIPLES'!$K$7","v":0}]
["End","Shots","Total","Shots","Total","End","Shots","Total","Shots","Total"]
[1,{"$nulls":4},14]
[2,{"$nulls":4},15]
[3,{"$nulls":4},16]
[4,{"$nulls":4},17]
[5,{"$nulls":4},18]
[6,{"$nulls":4},19]
[7,{"$nulls":4},20]
[8,{"$nulls":4},21]
[9,{"$nulls":4},22]
[10,{"$nulls":4},23]
[11,{"$nulls":4},24]
[12,{"$nulls":4},25]
[13,{"$nulls":4},"T"]
["RINK",null,{"$f":"'NOMINATED TRIPLES'!$Q$8","v":0},{"$f":"'NOMINATED TRIPLES'!$P$8","v":0}]
[null,{"$f":"'NOMINATED TRIPLES'!$P$8","v":0},null,{"$f":"'NOMINATED TRIPLES'!$K$8","v":0},null,null,{"$f":"'NOMINATED TRIPLES'!$P$8","v":0},null,{"$f":"'NOMINATED TRIPLES'!$K$8","v":0}]
["End","Shots","Total","Shots","Total","End","Shots","Total","Shots","Total"]
[1,{"$nulls":4},14]
[2,{"$nulls":4},15]
[3,{"$nulls":4},16]
[4,{"$nulls":4},17]
[5,{"$nulls":4},18]
[6,{"$nulls":4},19]
[7,{"$nulls":4},20]
[8,{"$nulls":4},21]
[9,{"$nulls":4},22]
[10,{"$nulls":4},23]
[11,{"$nulls":4},24]
[12,{"$nulls":4},25]
[13,{"$nulls":4},"T"]
["RINK",null,{"$f":"'NOMINATED TRIPLES'!$Q$9","v":0},{"$f":"'NOMINATED TRIPLES'!$P$9","v":0}]
[null,{"$f":"'NOMINATED TRIPLES'!$P$9","v":0},null,{"$f":"'NOMINATED TRIPLES'!$K$9","v":0},null,null,{"$f":"'NOMINATED TRIPLES'!$P$9","v":0},null,{"$f":"'NOMINATED TRIPLES'!$K$9","v":0}]
["End","Shots","Total","Shots","Total","End","Shots","Total","Shots","Total"]
[1,{"$nulls":4},14]
[2,{"$nulls":4},15]
[3,{"$nulls":4},16]
[4,{"$nulls":4},17]
[5,{"$nulls":4},18]
[6,{"$nulls":4},19]
[7,{"$nulls":4},20]
[8,{"$nulls":4},21]
[9,{"$nulls":4},22]
[10,{"$nulls":4},23]
[11,{"$nulls":4},24]
[12,{"$nulls":4},25]
[13,{"$nulls":4},"T"]
["RINK",null,{"$f":"'NOMINATED TRIPLES'!$Q$10","v":0},{"$f":"'NOMINATED TRIPLES'!$P$10","v":0}]
[null,{"$f":"'NOMINATED TRIPLES'!$P$10","v":0},null,{"$f":"'NOMINATED TRIPLES'!$K$10","v":0},null,null,{"$f":"'NOMINATED TRIPLES'!$P$10","v":0},null,{"$f":"'NOMINATED TRIPLES'!$K$10","v":0}]
["End","Shots","Total","Shots","Total","End","Shots","Total","Shots","Total"]
[1,{"$nulls":4},14]
[2,{"$nulls":4},15]
[3,{"$nulls":4},16]
[4,{"$nulls":4},17]
[5,{"$nulls":4},18]
[6,{"$nulls":4},19]
[7,{"$nulls":4},20]
[8,{"$nulls":4},21]
[9,{"$nulls":4},22]
[10,{"$nulls":4},23]
[11,{"$nulls":4},24]
[12,{"$nulls":4},25]
[13,{"$nulls":4},"T"]
["RINK",null,{"$f":"'NOMINATED TRIPLES'!$Q$11","v":0},{"$f":"'NOMINATED TRIPLES'!$P$11","v":0}]
[null,{"$f":"'NOMINATED TRIPLES'!$P$11","v":0},null,{"$f":"'NOMINATED TRIPLES'!$K$11","v":0},null,null,{"$f":"'NOMINATED TRIPLES'!$P$11","v":0},null,{"$f":"'NOMINATED TRIPLES'!$K$11","v":0}]
["End","Shots","Total","Shots","Total","End","Shots","Total","Shots","Total"]
[1,{"$nulls":4},14]
[2,{"$nulls":4},15]
[3,{"$nulls":4},16]
[4,{"$nulls":4},17]
[5,{"$nulls":4},18]
[6,{"$nulls":4},19]
[7,{"$nulls":4},20]
[8,{"$nulls":4},21]
[9,{"$nulls":4},22]
[10,{"$nulls":4},23]
[11,{"$nulls":4},24]
[12,{"$nulls":4},25]
[13,{"$nulls":4},"T"]
["RINK",null,{"$f":"'NOMINATED TRIPLES'!$Q$12","v":0},{"$f":"'NOMINATED TRIPLES'!$P$12","v":0}]
[null,{"$f":"'NOMINATED TRIPLES'!$P$12","v":0},null,{"$f":"'NOMINATED TRIPLES'!$K$12","v":0},null,null,{"$f":"'NOMINATED TRIPLES'!$P$12","v":0},null,{"$f":"'NOMINATED TRIPLES'!$K$12","v":0}]
["End","Shots","Total","Shots","Total","End","Shots","Total","Shots","Total"]
[1,{"$nulls":4},14]
[2,{"$nulls":4},15]
[3,{"$nulls":4},16]
[4,{"$nulls":4},17]
[5,{"$nulls":4},18]
[6,{"$nulls":4},19]
[7,{"$nulls":4},20]
[8,{"$nulls":4},21]
[9,{"$nulls":4},22]
[10,{"$nulls":4},23]
[11,{"$nulls":4},24]
[12,{"$nulls":4},25]
[13,{"$nulls":4},"T"]
["RINK",null,{"$f":"'NOMINATED TRIPLES'!$Q$13","v":0},{"$f":"'NOMINATED TRIPLES'!$P$13","v":0}]
[null,{"$f":"'NOMINATED TRIPLES'!$P$13","v":0},null,{"$f":"'NOMINATED TRIPLES'!$K$13","v":0},null,null,{"$f":"'NOMINATED TRIPLES'!$P$13","v":0},null,{"$f":"'NOMINATED TRIPLES'!$K$13","v":0}]
["End","Shots","Total","Shots","Total","End","Shots","Total","Shots","Total"]
[1,{"$nulls":4},14]
[2,{"$nulls":4},15]
[3,{"$nulls":4},16]
[4,{"$nulls":4},17]
[5,{"$nulls":4},18]
[6,{"$nulls":4},19]
[7,{"$nulls":4},20]
[8,{"$nulls":4},21]
[9,{"$nulls":4},22]
[10,{"$nulls":4},23]
[11,{"$nulls":4},24]
[12,{"$nulls":4},25]
[13,{"$nulls":4},"T"]
["RINK",null,{"$f":"'NOMINATED TRIPLES'!$Q$14","v":0},{"$f":"'NOMINATED TRIPLES'!$P$14","v":0}]
[null,{"$f":"'NOMINATED TRIPLES'!$P$14","v":0},null,{"$f":"'NOMINATED TRIPLES'!$K$14","v":0},null,null,{"$f":"'NOMINATED TRIPLES'!$P$14","v":0},null,{"$f":"'NOMINATED TRIPLES'!$K$14","v":0}]
["End","Shots","Total","Shots","Total","End","Shots","Total","Shots","Total"]
[1,{"$nulls":4},14]
[2,{"$nulls":4},15]
[3,{"$nulls":4},16]
[4,{"$nulls":4},17]
[5,{"$nulls":4},18]
[6,{"$nulls":4},19]
[7,{"$nulls":4},20]
[8,{"$nulls":4},21]
[9,{"$nulls":4},22]
[10,{"$nulls":4},23]
[11,{"$nulls":4},24]
[12,{"$nulls":4},25]
[13,{"$nulls":4},"T"]
["RINK",null,{"$f":"'NOMINATED TRIPLES'!$Q$15","v":0},{"$f":"'NOMINATED TRIPLES'!$P$15","v":0}]
[null,{"$f":"'NOMINATED TRIPLES'!$P$15","v":0},null,{"$f":"'NOMINATED TRIPLES'!$K$15","v":0},null,null,{"$f":"'NOMINATED TRIPLES'!$P$15","v":0},null,{"$f":"'NOMINATED TRIPLES'!$K$15","v":0}]
["End","Shots","Total","Shots","Total","End","Shots","Total","Shots","Total"]
[1,{"$nulls":4},14]
[2,{"$nulls":4},15]
[3,{"$nulls":4},16]
[4,{"$nulls":4},17]
[5,{"$nulls":4},18]
[6,{"$nulls":4},19]
[7,{"$nulls":4},20]
[8,{"$nulls":4},21]
[9,{"$nulls":4},22]
[10,{"$nulls":4},23]
[11,{"$nulls":4},24]
[12,{"$nulls":4},25]
[13,{"$nulls":4},"T"]
["RINK",null,{"$f":"'NOMINATED TRIPLES'!$Q$16","v":0},{"$f":"'NOMINATED TRIPLES'!$P$16","v":0}]
[null,{"$f":"'NOMINATED TRIPLES'!$P$16","v":0},null,{"$f":"'NOMINATED TRIPLES'!$K$16","v":0},null,null,{"$f":"'NOMINATED TRIPLES'!$P$16","v":0},null,{"$f":"'NOMINATED TRIPLES'!$K$16","v":0}]
["End","Shots","Total","Shots","Total","End","Shots","Total","Shots","Total"]
[1,{"$nulls":4},14]
[2,{"$nulls":4},15]
[3,{"$nulls":4},16]
[4,{"$nulls":4},17]
[5,{"$nulls":4},18]
[6,{"$nulls":4},19]
[7,{"$nulls":4},20]
[8,{"$nulls":4},21]
[9,{"$nulls":4},22]
[10,{"$nulls":4},23]
[11,{"$nulls":4},24]
[12,{"$nulls":4},25]
[13,{"$nulls":4},"T"]
["RINK",null,{"$f":"'NOMINATED TRIPLES'!$Q$17","v":0},{"$f":"'NOMINATED TRIPLES'!$P$17","v":0}]
[null,{"$f":"'NOMINATED TRIPLES'!$P$17","v":0},null,{"$f":"'NOMINATED TRIPLES'!$K$17","v":0},null,null,{"$f":"'NOMINATED TRIPLES'!$P$17","v":0},null,{"$f":"'NOMINATED TRIPLES'!$K$17","v":0}]
["End","Shots","Total","Shots","Total","End","Shots","Total","Shots","Total"]
[1,{"$nulls":4},14]
[2,{"$nulls":4},15]
[3,{"$nulls":4},16]
[4,{"$nulls":4},17]
[5,{"$nulls":4},18]
[6,{"$nulls":4},19]
[7,{"$nulls":4},20]
[8,{"$nulls":4},21]
[9,{"$nulls":4},22]
[10,{"$nulls":4},23]
[11,{"$nulls":4},24]
[12,{"$nulls":4},25]
[13,{"$nulls":4},"T"]
[]
[]
["End","Shots","Total","Shots","Total","End","Shots","Total","Shots","Total"]
[1,{"$nulls":4},14]
[2,{"$nulls":4},15]
[3,{"$nulls":4},16]
[4,{"$nulls":4},17]
[5,{"$nulls":4},18]
[6,{"$nulls":4},19]
[7,{"$nulls":4},20]
[8,{"$nulls":4},21]
[9,{"$nulls":4},22]
[10,{"$nulls":4},23]
[11,{"$nulls":4},24]
[12,{"$nulls":4},25]
[13,{"$nulls":4},"T"]

{"sheet":"NOMINATED FOURS","index":12,"n_rows":31,"n_cols":22,"rows_kept":31,"merged":[[0,2,0,4],[0,13,0,15],[1,1,1,5],[1,8,1,18]]}
[null,null,"CLUB NAME HERE",{"$nulls":5},"Date:-","31/07/20",null,null,"Event:-","Nominated Fours"]
[null,"E N T R I E S",{"$nulls":6},"RANDOM FOURS TEAMS DRAW"]
[null,"Entry #","LEAD","SECOND","THIRD","SKIP",null,null,"Team #","LEAD","SECOND","THIRD","SKIP",null,"Team #","LEAD","SECOND","THIRD","SKIP","RINK"]
[null,1,{"$nulls":4},{"$f":"RAND()","v":0.9437431983027009},null,1,{"$nulls":4},"V",2,{"$nulls":6},1]
[null,2,{"$nulls":4},0.11556186058381324,null,3,{"$nulls":4},"V",4,{"$nulls":6},2]
[null,3,{"$nulls":4},0.7381685308710536,null,5,{"$nulls":4},"V",6,{"$nulls":6},1]
[null,4,{"$nulls":4},0.276779629518074,null,7,{"$nulls":4},"V",8,{"$nulls":6},2]
[null,5,{"$nulls":4},0.6287823429687773,null,9,{"$nulls":4},"V",10,{"$nulls":6},1]
[null,6,{"$nulls":4},0.9137966802261284,null,11,{"$nulls":4},"V",12,{"$nulls":6},2]
[null,7,{"$nulls":4},0.08785445718386453,null,13,{"$nulls":4},"V",14,{"$nulls":6},1]
[null,8,{"$nulls":4},0.22737861781347557,null,15,{"$nulls":4},"V",16,{"$nulls":6},2]
[null,9,{"$nulls":4},0.05251858688991651,null,17,{"$nulls":4},"V",18,{"$nulls":6},1]
[null,10,{"$nulls":4},0.6555578627722665,null,19,{"$nulls":4},"V",20,{"$nulls":6},2]
[null,11,{"$nulls":4},0.4966158099796475,null,21,{"$nulls":4},"V",22,{"$nulls":6},1]
[null,12,{"$nulls":4},0.022411048084047813,null,23,{"$nulls":4},"V",24,{"$nulls":6},2]
[null,13,{"$nulls":4},0.27464507836424457,null,25,{"$nulls":4},"V",26,{"$nulls":6},1]
[null,14,{"$nulls":4},0.7165782327828117,null,27,{"$nulls":4},"V",28,{"$nulls":6},2]
[null,15,{"$nulls":4},2101,{"$nulls":14},1]
[null,16,{"$nulls":4},2101,{"$nulls":14},2]
[null,17,{"$nulls":4},2105,{"$nulls":14},1]
[null,18,{"$nulls":4},2105,{"$nulls":14},2]
[null,19,{"$nulls":4},2109,null,"Type the bowlers names in the \"Entries\" columns",{"$nulls":12},1]
[null,20,{"$nulls":4},2109,null,"Click the draw button when all names have been entered.",{"$nulls":12},2]
[null,21,{"$nulls":4},2113,null,"This will do the draw and enter the names on the score cards.",{"$nulls":12},1]
[null,22,{"$nulls":4},2113,null,"Enter the Rink numbers in the column above",{"$nulls":12},2]
[null,23,{"$nulls":4},2117,null,"When you are finished with the sheet click the all clear button.",{"$nulls":12},1]
[null,24,{"$nulls":4},2117,{"$nulls":14},2]
[null,25,{"$nulls":4},2121,{"$nulls":14},1]
[null,26,{"$nulls":4},2121,{"$nulls":14},2]
[null,27,{"$nulls":4},2125,{"$nulls":14},1]
[null,28,{"$nulls":4},2125,{"$nulls":14},2]

{"sheet":"Cards front fours","index":13,"n_rows":345,"n_cols":16,"rows_kept":345,"merged":[[0,0,0,23],[2,0,2,23],[4,2,4,6],[4,8,4,23],[6,2,6,6],[6,8,6,23],[8,0,8,10],[8,11,8,12],[8,13,8,23],[10,0,10,10],[10,11,10,12],[10,13,10,23],[12,0,12,10],[12,11,12,12],[12,13,12,23],[14,0,14,10],[14,11,14,12],[14,13,14,23],[16,2,16,8],[16,15,16,21],[17,2,17,8],[17,15,17,21],[18,0,18,10],[18,13,18,23],[20,0,20,10],[20,11,20,12],[20,13,20,23],[22,0,22,11],[22,12,22,23],[23,0,23,23],[25,0,25,23],[27,2,27,6],[27,8,27,23],[29,2,29,6],[29,8,29,23],[31,0,31,10],[31,11,31,12],[31,13,31,23],[33,0,33,10],[33,11,33,12],[33,13,33,23],[35,0,35,10],[35,11,35,12],[35,13,35,23],[37,0,37,10],[37,11,37,12],[37,13,37,23],[39,2,39,8],[39,15,39,21],[40,2,40,8],[40,15,40,21],[41,0,41,10],[41,13,41,23],[43,0,43,10],[43,11,43,12],[43,13,43,23],[45,0,45,11],[45,12,45,23],[46,0,46,23],[48,0,48,23],[50,2,50,6],[50,8,50,23],[52,2,52,6],[52,8,52,23],[54,0,54,10],[54,11,54,12],[54,13,54,23],[56,0,56,10],[56,11,56,12],[56,13,56,23],[58,0,58,10],[58,11,58,12],[58,13,58,23],[60,0,60,10],[60,11,60,12],[60,13,60,23],[62,2,62,8],[62,15,62,21],[63,2,63,8],[63,15,63,21],[64,0,64,10],[64,13,64,23],[66,0,66,10],[66,11,66,12],[66,13,66,23],[68,0,68,11],[68,12,68,23],[69,0,69,23],[71,0,71,23],[73,2,73,6],[73,8,73,23],[75,2,75,6],[75,8,75,23],[77,0,77,10],[77,11,77,12],[77,13,77,23],[79,0,79,10],[79,11,79,12],[79,13,79,23],[81,0,81,10],[81,11,81,12],[81,13,81,23],[83,0,83,10],[83,11,83,12],[83,13,83,23],[85,2,85,8],[85,15,85,21],[86,2,86,8],[86,15,86,21],[87,0,87,10],[87,13,87,23],[89,0,89,10],[89,11,89,12],[89,13,89,23],[91,0,91,11],[91,12,91,23],[92,0,92,23],[94,0,94,23],[96,2,96,6],[96,8,96,23],[98,2,98,6],[98,8,98,23],[100,0,100,10],[100,11,100,12],[100,13,100,23],[102,0,102,10],[102,11,102,12],[102,13,102,23],[104,0,104,10],[104,11,104,12],[104,13,104,23],[106,0,106,10],[106,11,106,12],[106,13,106,23],[108,2,108,8],[108,15,108,21],[109,2,109,8],[109,15,109,21],[110,0,110,10],[110,13,110,23],[112,0,112,10],[112,11,112,12],[112,13,112,23],[114,0,114,11],[114,12,114,23],[115,0,115,23],[117,0,117,23],[119,2,119,6],[119,8,119,23],[121,2,121,6],[121,8,121,23],[123,0,123,10],[123,11,123,12],[123,13,123,23],[125,0,125,10],[125,11,125,12],[125,13,125,23],[127,0,127,10],[127,11,127,12],[127,13,127,23],[129,0,129,10],[129,11,129,12],[129,13,129,23],[131,2,131,8],[131,15,131,21],[132,2,132,8],[132,15,132,21],[133,0,133,10],[133,13,133,23],[135,0,135,10],[135,11,135,12],[135,13,135,23],[137,0,137,11],[137,12,137,23],[138,0,138,23],[140,0,140,23],[142,2,142,6],[142,8,142,23],[144,2,144,6],[144,8,144,23],[146,0,146,10],[146,11,146,12],[146,13,146,23],[148,0,148,10],[148,11,148,12],[148,13,148,23],[150,0,150,10],[150,11,150,12],[150,13,150,23],[152,0,152,10],[152,11,152,12],[152,13,152,23],[154,2,154,8],[154,15,154,21],[155,2,155,8],[155,15,155,21],[156,0,156,10],[156,13,156,23],[158,0,158,10],[158,11,158,12],[158,13,158,23],[160,0,160,11],[160,12,160,23],[161,0,161,23],[163,0,163,23],[165,2,165,6],[165,8,165,23],[167,2,167,6],[167,8,167,23],[169,0,169,10],[169,11,169,12],[169,13,169,23],[171,0,171,10],[171,11,171,12],[171,13,171,23],[173,0,173,10],[173,11,173,12],[173,13,173,23],[175,0,175,10],[175,11,175,12],[175,13,175,23],[177,2,177,8],[177,15,177,21],[178,2,178,8],[178,15,178,21],[179,0,179,10],[179,13,179,23],[181,0,181,10],[181,11,181,12],[181,13,181,23],[183,0,183,11],[183,12,183,23],[184,0,184,23],[186,0,186,23],[188,2,188,6],[188,8,188,23],[190,2,190,6],[190,8,190,23],[192,0,192,10],[192,11,192,12],[192,13,192,23],[194,0,194,10],[194,11,194,12],[194,13,194,23],[196,0,196,10],[196,11,196,12],[196,13,196,23],[198,0,198,10],[198,11,198,12],[198,13,198,23],[200,2,200,8],[200,15,200,21],[201,2,201,8],[201,15,201,21],[202,0,202,10],[202,13,202,23],[204,0,204,10],[204,11,204,12],[204,13,204,23],[206,0,206,11],[206,12,206,23],[207,0,207,23],[209,0,209,23],[211,2,211,6],[211,8,211,23],[213,2,213,6],[213,8,213,23],[215,0,215,10],[215,11,215,12],[215,13,215,23],[217,0,217,10],[217,11,217,12],[217,13,217,23],[219,0,219,10],[219,11,219,12],[219,13,219,23],[221,0,221,10],[221,11,221,12],[221,13,221,23],[223,2,223,8],[223,15,223,21],[224,2,224,8],[224,15,224,21],[225,0,225,10],[225,13,225,23],[227,0,227,10],[227,11,227,12],[227,13,227,23],[229,0,229,11],[229,12,229,23],[230,0,230,23],[232,0,232,23],[234,2,234,6],[234,8,234,23],[236,2,236,6],[236,8,236,23],[238,0,238,10],[238,11,238,12],[238,13,238,23],[240,0,240,10],[240,11,240,12],[240,13,240,23],[242,0,242,10],[242,11,242,12],[242,13,242,23],[244,0,244,10],[244,11,244,12],[244,13,244,23],[246,2,246,8],[246,15,246,21],[247,2,247,8],[247,15,247,21],[248,0,248,10],[248,13,248,23],[250,0,250,10],[250,11,250,12],[250,13,250,23],[252,0,252,11],[252,12,252,23],[253,0,253,23],[255,0,255,23],[257,2,257,6],[257,8,257,23],[259,2,259,6],[259,8,259,23],[261,0,261,10],[261,11,261,12],[261,13,261,23],[263,0,263,10],[263,11,263,12],[263,13,263,23],[265,0,265,10],[265,11,265,12],[265,13,265,23],[267,0,267,10],[267,11,267,12],[267,13,267,23],[269,2,269,8],[269,15,269,21],[270,2,270,8],[270,15,270,21],[271,0,271,10],[271,13,271,23],[273,0,273,10],[273,11,273,12],[273,13,273,23],[275,0,275,11],[275,12,275,23],[276,0,276,23],[278,0,278,23],[280,2,280,6],[280,8,280,23],[282,2,282,6],[282,8,282,23],[284,0,284,10],[284,11,284,12],[284,13,284,23],[286,0,286,10],[286,11,286,12],[286,13,286,23],[288,0,288,10],[288,11,288,12],[288,13,288,23],[290,0,290,10],[290,11,290,12],[290,13,290,23],[292,2,292,8],[292,15,292,21],[293,2,293,8],[293,15,293,21],[294,0,294,10],[294,13,294,23],[296,0,296,10],[296,11,296,12],[296,13,296,23],[298,0,298,11],[298,12,298,23],[299,0,299,23],[301,0,301,23],[303,2,303,6],[303,8,303,23],[305,2,305,6],[305,8,305,23],[307,0,307,10],[307,11,307,12],[307,13,307,23],[309,0,309,10],[309,11,309,12],[309,13,309,23],[311,0,311,10],[311,11,311,12],[311,13,311,23],[313,0,313,10],[313,11,313,12],[313,13,313,23],[315,2,315,8],[315,15,315,21],[316,2,316,8],[316,15,316,21],[317,0,317,10],[317,13,317,23],[319,0,319,10],[319,11,319,12],[319,13,319,23],[321,0,321,11],[321,12,321,23],[322,0,322,23],[324,0,324,23],[326,2,326,6],[326,8,326,23],[328,2,328,6],[328,8,328,23],[330,0,330,10],[330,11,330,12],[330,13,330,23],[332,0,332,10],[332,11,332,12],[332,13,332,23],[334,0,334,10],[334,11,334,12],[334,13,334,23],[336,0,336,10],[336,11,336,12],[336,13,336,23],[338,2,338,8],[338,15,338,21],[339,2,339,8],[339,15,339,21],[340,0,340,10],[340,13,340,23],[342,0,342,10],[342,11,342,12],[342,13,342,23],[344,0,344,11],[344,12,344,23]]}
[{"$f":"'NOMINATED FOURS'!$C$1","v":"CLUB NAME HERE"}]
[]
[{"$f":"'NOMINATED FOURS'!$N$1","v":"Nominated Fours"}]
[]
[null,null,"RINK",{"$nulls":5},"DATE"]
[]
[null,null,{"$f":"'NOMINATED FOURS'!$T$4","v":0},{"$nulls":5},{"$f":"'NOMINATED FOURS'!$J$1","v":"31/07/20"}]
[]
[{"$f":"'NOMINATED FOURS'!$J$4","v":0},{"$nulls":12},{"$f":"'NOMINATED FOURS'!$P$4","v":0}]
[]
[{"$f":"'NOMINATED FOURS'!$K$4","v":0},{"$nulls":12},{"$f":"'NOMINATED FOURS'!$Q$4","v":0}]
[]
[{"$f":"'NOMINATED FOURS'!$L$4","v":0},{"$nulls":12},{"$f":"'NOMINATED FOURS'!$R$4","v":0}]
[]
[{"$f":"'NOMINATED FOURS'!$M$4","v":0},{"$nulls":12},{"$f":"'NOMINATED FOURS'!$S$4","v":0}]
[]
[null,null,"TOTAL SCORE",{"$nulls":12},"TOTAL SCORE"]
[]
["Signature",{"$nulls":12},"Signature"]
[]
[]
[]
["Time Match completed"]
[{"$f":"'NOMINATED FOURS'!$C$1","v":"CLUB NAME HERE"}]
[]
[{"$f":"'NOMINATED FOURS'!$N$1","v":"Nominated Fours"}]
[]
[null,null,"RINK",{"$nulls":5},"DATE"]
[]
[null,null,{"$f":"'NOMINATED FOURS'!$T$5","v":0},{"$nulls":5},{"$f":"'NOMINATED FOURS'!$J$1","v":"31/07/20"}]
[]
[{"$f":"'NOMINATED FOURS'!$J$5","v":0},{"$nulls":12},{"$f":"'NOMINATED FOURS'!$P$5","v":0}]
[]
[{"$f":"'NOMINATED FOURS'!$K$5","v":0},{"$nulls":12},{"$f":"'NOMINATED FOURS'!$Q$5","v":0}]
[]
[{"$f":"'NOMINATED FOURS'!$L$5","v":0},{"$nulls":12},{"$f":"'NOMINATED FOURS'!$R$5","v":0}]
[]
[{"$f":"'NOMINATED FOURS'!$M$5","v":0},{"$nulls":12},{"$f":"'NOMINATED FOURS'!$S$5","v":0}]
[]
[null,null,"TOTAL SCORE",{"$nulls":12},"TOTAL SCORE"]
[]
["Signature",{"$nulls":12},"Signature"]
[]
[]
[]
["Time Match completed"]
[{"$f":"'NOMINATED FOURS'!$C$1","v":"CLUB NAME HERE"}]
[]
[{"$f":"'NOMINATED FOURS'!$N$1","v":"Nominated Fours"}]
[]
[null,null,"RINK",{"$nulls":5},"DATE"]
[]
[null,null,{"$f":"'NOMINATED FOURS'!$T$6","v":0},{"$nulls":5},{"$f":"'NOMINATED FOURS'!$J$1","v":"31/07/20"}]
[]
[{"$f":"'NOMINATED FOURS'!$J$6","v":0},{"$nulls":12},{"$f":"'NOMINATED FOURS'!$P$6","v":0}]
[]
[{"$f":"'NOMINATED FOURS'!$K$6","v":0},{"$nulls":12},{"$f":"'NOMINATED FOURS'!$Q$6","v":0}]
[]
[{"$f":"'NOMINATED FOURS'!$L$6","v":0},{"$nulls":12},{"$f":"'NOMINATED FOURS'!$R$6","v":0}]
[]
[{"$f":"'NOMINATED FOURS'!$M$6","v":0},{"$nulls":12},{"$f":"'NOMINATED FOURS'!$S$6","v":0}]
[]
[null,null,"TOTAL SCORE",{"$nulls":12},"TOTAL SCORE"]
[]
["Signature",{"$nulls":12},"Signature"]
[]
[]
[]
["Time Match completed"]
[{"$f":"'NOMINATED FOURS'!$C$1","v":"CLUB NAME HERE"}]
[]
[{"$f":"'NOMINATED FOURS'!$N$1","v":"Nominated Fours"}]
[]
[null,null,"RINK",{"$nulls":5},"DATE"]
[]
[null,null,{"$f":"'NOMINATED FOURS'!$T$7","v":0},{"$nulls":5},{"$f":"'NOMINATED FOURS'!$J$1","v":"31/07/20"}]
[]
[{"$f":"'NOMINATED FOURS'!$J$7","v":0},{"$nulls":12},{"$f":"'NOMINATED FOURS'!$P$7","v":0}]
[]
[{"$f":"'NOMINATED FOURS'!$K$7","v":0},{"$nulls":12},{"$f":"'NOMINATED FOURS'!$Q$7","v":0}]
[]
[{"$f":"'NOMINATED FOURS'!$L$7","v":0},{"$nulls":12},{"$f":"'NOMINATED FOURS'!$R$7","v":0}]
[]
[{"$f":"'NOMINATED FOURS'!$M$7","v":0},{"$nulls":12},{"$f":"'NOMINATED FOURS'!$S$7","v":0}]
[]
[null,null,"TOTAL SCORE",{"$nulls":12},"TOTAL SCORE"]
[]
["Signature",{"$nulls":12},"Signature"]
[]
[]
[]
["Time Match completed"]
[{"$f":"'NOMINATED FOURS'!$C$1","v":"CLUB NAME HERE"}]
[]
[{"$f":"'NOMINATED FOURS'!$N$1","v":"Nominated Fours"}]
[]
[null,null,"RINK",{"$nulls":5},"DATE"]
[]
[null,null,{"$f":"'NOMINATED FOURS'!$T$8","v":0},{"$nulls":5},{"$f":"'NOMINATED FOURS'!$J$1","v":"31/07/20"}]
[]
[{"$f":"'NOMINATED FOURS'!$J$8","v":0},{"$nulls":12},{"$f":"'NOMINATED FOURS'!$P$8","v":0}]
[]
[{"$f":"'NOMINATED FOURS'!$K$8","v":0},{"$nulls":12},{"$f":"'NOMINATED FOURS'!$Q$8","v":0}]
[]
[{"$f":"'NOMINATED FOURS'!$L$8","v":0},{"$nulls":12},{"$f":"'NOMINATED FOURS'!$R$8","v":0}]
[]
[{"$f":"'NOMINATED FOURS'!$M$8","v":0},{"$nulls":12},{"$f":"'NOMINATED FOURS'!$S$8","v":0}]
[]
[null,null,"TOTAL SCORE",{"$nulls":12},"TOTAL SCORE"]
[]
["Signature",{"$nulls":12},"Signature"]
[]
[]
[]
["Time Match completed"]
[{"$f":"'NOMINATED FOURS'!$C$1","v":"CLUB NAME HERE"}]
[]
[{"$f":"'NOMINATED FOURS'!$N$1","v":"Nominated Fours"}]
[]
[null,null,"RINK",{"$nulls":5},"DATE"]
[]
[null,null,{"$f":"'NOMINATED FOURS'!$T$9","v":0},{"$nulls":5},{"$f":"'NOMINATED FOURS'!$J$1","v":"31/07/20"}]
[]
[{"$f":"'NOMINATED FOURS'!$J$9","v":0},{"$nulls":12},{"$f":"'NOMINATED FOURS'!$P$9","v":0}]
[]
[{"$f":"'NOMINATED FOURS'!$K$9","v":0},{"$nulls":12},{"$f":"'NOMINATED FOURS'!$Q$9","v":0}]
[]
[{"$f":"'NOMINATED FOURS'!$L$9","v":0},{"$nulls":12},{"$f":"'NOMINATED FOURS'!$R$9","v":0}]
[]
[{"$f":"'NOMINATED FOURS'!$M$9","v":0},{"$nulls":12},{"$f":"'NOMINATED FOURS'!$S$9","v":0}]
[]
[null,null,"TOTAL SCORE",{"$nulls":12},"TOTAL SCORE"]
[]
["Signature",{"$nulls":12},"Signature"]
[]
[]
[]
["Time Match completed"]
[{"$f":"'NOMINATED FOURS'!$C$1","v":"CLUB NAME HERE"}]
[]
[{"$f":"'NOMINATED FOURS'!$N$1","v":"Nominated Fours"}]
[]
[null,null,"RINK",{"$nulls":5},"DATE"]
[]
[null,null,{"$f":"'NOMINATED FOURS'!$T$10","v":0},{"$nulls":5},{"$f":"'NOMINATED FOURS'!$J$1","v":"31/07/20"}]
[]
[{"$f":"'NOMINATED FOURS'!$J$10","v":0},{"$nulls":12},{"$f":"'NOMINATED FOURS'!$P$10","v":0}]
[]
[{"$f":"'NOMINATED FOURS'!$K$10","v":0},{"$nulls":12},{"$f":"'NOMINATED FOURS'!$Q$10","v":0}]
[]
[{"$f":"'NOMINATED FOURS'!$L$10","v":0},{"$nulls":12},{"$f":"'NOMINATED FOURS'!$R$10","v":0}]
[]
[{"$f":"'NOMINATED FOURS'!$M$10","v":0},{"$nulls":12},{"$f":"'NOMINATED FOURS'!$S$10","v":0}]
[]
[null,null,"TOTAL SCORE",{"$nulls":12},"TOTAL SCORE"]
[]
["Signature",{"$nulls":12},"Signature"]
[]
[]
[]
["Time Match completed"]
[{"$f":"'NOMINATED FOURS'!$C$1","v":"CLUB NAME HERE"}]
[]
[{"$f":"'NOMINATED FOURS'!$N$1","v":"Nominated Fours"}]
[]
[null,null,"RINK",{"$nulls":5},"DATE"]
[]
[null,null,{"$f":"'NOMINATED FOURS'!$T$11","v":0},{"$nulls":5},{"$f":"'NOMINATED FOURS'!$J$1","v":"31/07/20"}]
[]
[{"$f":"'NOMINATED FOURS'!$J$11","v":0},{"$nulls":12},{"$f":"'NOMINATED FOURS'!$P$11","v":0}]
[]
[{"$f":"'NOMINATED FOURS'!$K$11","v":0},{"$nulls":12},{"$f":"'NOMINATED FOURS'!$Q$11","v":0}]
[]
[{"$f":"'NOMINATED FOURS'!$L$11","v":0},{"$nulls":12},{"$f":"'NOMINATED FOURS'!$R$11","v":0}]
[]
[{"$f":"'NOMINATED FOURS'!$M$11","v":0},{"$nulls":12},{"$f":"'NOMINATED FOURS'!$S$11","v":0}]
[]
[null,null,"TOTAL SCORE",{"$nulls":12},"TOTAL SCORE"]
[]
["Signature",{"$nulls":12},"Signature"]
[]
[]
[]
["Time Match completed"]
[{"$f":"'NOMINATED FOURS'!$C$1","v":"CLUB NAME HERE"}]
[]
[{"$f":"'NOMINATED FOURS'!$N$1","v":"Nominated Fours"}]
[]
[null,null,"RINK",{"$nulls":5},"DATE"]
[]
[null,null,{"$f":"'NOMINATED FOURS'!$T$12","v":0},{"$nulls":5},{"$f":"'NOMINATED FOURS'!$J$1","v":"31/07/20"}]
[]
[{"$f":"'NOMINATED FOURS'!$J$12","v":0},{"$nulls":12},{"$f":"'NOMINATED FOURS'!$P$12","v":0}]
[]
[{"$f":"'NOMINATED FOURS'!$K$12","v":0},{"$nulls":12},{"$f":"'NOMINATED FOURS'!$Q$12","v":0}]
[]
[{"$f":"'NOMINATED FOURS'!$L$12","v":0},{"$nulls":12},{"$f":"'NOMINATED FOURS'!$R$12","v":0}]
[]
[{"$f":"'NOMINATED FOURS'!$M$12","v":0},{"$nulls":12},{"$f":"'NOMINATED FOURS'!$S$12","v":0}]
[]
[null,null,"TOTAL SCORE",{"$nulls":12},"TOTAL SCORE"]
[]
["Signature",{"$nulls":12},"Signature"]
[]
[]
[]
["Time Match completed"]
[{"$f":"'NOMINATED FOURS'!$C$1","v":"CLUB NAME HERE"}]
[]
[{"$f":"'NOMINATED FOURS'!$N$1","v":"Nominated Fours"}]
[]
[null,null,"RINK",{"$nulls":5},"DATE"]
[]
[null,null,{"$f":"'NOMINATED FOURS'!$T$13","v":0},{"$nulls":5},{"$f":"'NOMINATED FOURS'!$J$1","v":"31/07/20"}]
[]
[{"$f":"'NOMINATED FOURS'!$J$13","v":0},{"$nulls":12},{"$f":"'NOMINATED FOURS'!$P$13","v":0}]
[]
[{"$f":"'NOMINATED FOURS'!$K$13","v":0},{"$nulls":12},{"$f":"'NOMINATED FOURS'!$Q$13","v":0}]
[]
[{"$f":"'NOMINATED FOURS'!$L$13","v":0},{"$nulls":12},{"$f":"'NOMINATED FOURS'!$R$13","v":0}]
[]
[{"$f":"'NOMINATED FOURS'!$M$13","v":0},{"$nulls":12},{"$f":"'NOMINATED FOURS'!$S$13","v":0}]
[]
[null,null,"TOTAL SCORE",{"$nulls":12},"TOTAL SCORE"]
[]
["Signature",{"$nulls":12},"Signature"]
[]
[]
[]
["Time Match completed"]
[{"$f":"'NOMINATED FOURS'!$C$1","v":"CLUB NAME HERE"}]
[]
[{"$f":"'NOMINATED FOURS'!$N$1","v":"Nominated Fours"}]
[]
[null,null,"RINK",{"$nulls":5},"DATE"]
[]
[null,null,{"$f":"'NOMINATED FOURS'!$T$14","v":0},{"$nulls":5},{"$f":"'NOMINATED FOURS'!$J$1","v":"31/07/20"}]
[]
[{"$f":"'NOMINATED FOURS'!$J$14","v":0},{"$nulls":12},{"$f":"'NOMINATED FOURS'!$P$14","v":0}]
[]
[{"$f":"'NOMINATED FOURS'!$K$14","v":0},{"$nulls":12},{"$f":"'NOMINATED FOURS'!$Q$14","v":0}]
[]
[{"$f":"'NOMINATED FOURS'!$L$14","v":0},{"$nulls":12},{"$f":"'NOMINATED FOURS'!$R$14","v":0}]
[]
[{"$f":"'NOMINATED FOURS'!$M$14","v":0},{"$nulls":12},{"$f":"'NOMINATED FOURS'!$S$14","v":0}]
[]
[null,null,"TOTAL SCORE",{"$nulls":12},"TOTAL SCORE"]
[]
["Signature",{"$nulls":12},"Signature"]
[]
[]
[]
["Time Match completed"]
[{"$f":"'NOMINATED FOURS'!$C$1","v":"CLUB NAME HERE"}]
[]
[{"$f":"'NOMINATED FOURS'!$N$1","v":"Nominated Fours"}]
[]
[null,null,"RINK",{"$nulls":5},"DATE"]
[]
[null,null,{"$f":"'NOMINATED FOURS'!$T$15","v":0},{"$nulls":5},{"$f":"'NOMINATED FOURS'!$J$1","v":"31/07/20"}]
[]
[{"$f":"'NOMINATED FOURS'!$J$15","v":0},{"$nulls":12},{"$f":"'NOMINATED FOURS'!$P$15","v":0}]
[]
[{"$f":"'NOMINATED FOURS'!$K$15","v":0},{"$nulls":12},{"$f":"'NOMINATED FOURS'!$Q$15","v":0}]
[]
[{"$f":"'NOMINATED FOURS'!$L$15","v":0},{"$nulls":12},{"$f":"'NOMINATED FOURS'!$R$15","v":0}]
[]
[{"$f":"'NOMINATED FOURS'!$M$15","v":0},{"$nulls":12},{"$f":"'NOMINATED FOURS'!$S$15","v":0}]
[]
[null,null,"TOTAL SCORE",{"$nulls":12},"TOTAL SCORE"]
[]
["Signature",{"$nulls":12},"Signature"]
[]
[]
[]
["Time Match completed"]
[{"$f":"'NOMINATED FOURS'!$C$1","v":"CLUB NAME HERE"}]
[]
[{"$f":"'NOMINATED FOURS'!$N$1","v":"Nominated Fours"}]
[]
[null,null,"RINK",{"$nulls":5},"DATE"]
[]
[null,null,{"$f":"'NOMINATED FOURS'!$T$16","v":0},{"$nulls":5},{"$f":"'NOMINATED FOURS'!$J$1","v":"31/07/20"}]
[]
[{"$f":"'NOMINATED FOURS'!$J$16","v":0},{"$nulls":12},{"$f":"'NOMINATED FOURS'!$P$16","v":0}]
[]
[{"$f":"'NOMINATED FOURS'!$K$16","v":0},{"$nulls":12},{"$f":"'NOMINATED FOURS'!$Q$16","v":0}]
[]
[{"$f":"'NOMINATED FOURS'!$L$16","v":0},{"$nulls":12},{"$f":"'NOMINATED FOURS'!$R$16","v":0}]
[]
[{"$f":"'NOMINATED FOURS'!$M$16","v":0},{"$nulls":12},{"$f":"'NOMINATED FOURS'!$S$16","v":0}]
[]
[null,null,"TOTAL SCORE",{"$nulls":12},"TOTAL SCORE"]
[]
["Signature",{"$nulls":12},"Signature"]
[]
[]
[]
["Time Match completed"]
[{"$f":"'NOMINATED FOURS'!$C$1","v":"CLUB NAME HERE"}]
[]
[{"$f":"'NOMINATED FOURS'!$N$1","v":"Nominated Fours"}]
[]
[null,null,"RINK",{"$nulls":5},"DATE"]
[]
[null,null,{"$f":"'NOMINATED FOURS'!$T$17","v":0},{"$nulls":5},{"$f":"'NOMINATED FOURS'!$J$1","v":"31/07/20"}]
[]
[{"$f":"'NOMINATED FOURS'!$J$17","v":0},{"$nulls":12},{"$f":"'NOMINATED FOURS'!$P$17","v":0}]
[]
[{"$f":"'NOMINATED FOURS'!$K$17","v":0},{"$nulls":12},{"$f":"'NOMINATED FOURS'!$Q$17","v":0}]
[]
[{"$f":"'NOMINATED FOURS'!$L$17","v":0},{"$nulls":12},{"$f":"'NOMINATED FOURS'!$R$17","v":0}]
[]
[{"$f":"'NOMINATED FOURS'!$M$17","v":0},{"$nulls":12},{"$f":"'NOMINATED FOURS'!$S$17","v":0}]
[]
[null,null,"TOTAL SCORE",{"$nulls":12},"TOTAL SCORE"]
[]
["Signature",{"$nulls":12},"Signature"]
[]
[]
[]
["Time Match completed"]
[{"$f":"'NOMINATED FOURS'!$C$1","v":"CLUB NAME HERE"}]
[]
[{"$f":"'NOMINATED FOURS'!$N$1","v":"Nominated Fours"}]
[]
[null,null,"RINK",{"$nulls":5},"DATE"]
[]
[null,null,{"$f":"'NOMINATED FOURS'!$T$18","v":0},{"$nulls":5},{"$f":"'NOMINATED FOURS'!$J$1","v":"31/07/20"}]
[]
[{"$f":"'NOMINATED FOURS'!$J$18","v":0},{"$nulls":12},{"$f":"'NOMINATED FOURS'!$P$18","v":0}]
[]
[{"$f":"'NOMINATED FOURS'!$K$18","v":0},{"$nulls":12},{"$f":"'NOMINATED FOURS'!$Q$18","v":0}]
[]
[{"$f":"'NOMINATED FOURS'!$L$18","v":0},{"$nulls":12},{"$f":"'NOMINATED FOURS'!$R$18","v":0}]
[]
[{"$f":"'NOMINATED FOURS'!$M$18","v":0},{"$nulls":12},{"$f":"'NOMINATED FOURS'!$S$18","v":0}]
[]
[null,null,"TOTAL SCORE",{"$nulls":12},"TOTAL SCORE"]
[]
["Signature",{"$nulls":12},"Signature"]
[]
[]
[]
["Time Match completed"]

{"sheet":"Rards rear fours","index":14,"n_rows":240,"n_cols":10,"rows_kept":240,"merged":[[0,0,0,1],[0,3,0,9],[1,1,1,2],[1,3,1,4],[1,6,1,7],[1,8,1,9],[16,0,16,1],[16,3,16,9],[17,1,17,2],[17,3,17,4],[17,6,17,7],[17,8,17,9],[32,0,32,1],[32,3,32,9],[33,1,33,2],[33,3,33,4],[33,6,33,7],[33,8,33,9],[48,0,48,1],[48,3,48,9],[49,1,49,2],[49,3,49,4],[49,6,49,7],[49,8,49,9],[64,0,64,1],[64,3,64,9],[65,1,65,2],[65,3,65,4],[65,6,65,7],[65,8,65,9],[80,0,80,1],[80,3,80,9],[81,1,81,2],[81,3,81,4],[81,6,81,7],[81,8,81,9],[96,0,96,1],[96,3,96,9],[97,1,97,2],[97,3,97,4],[97,6,97,7],[97,8,97,9],[112,0,112,1],[112,3,112,9],[113,1,113,2],[113,3,113,4],[113,6,113,7],[113,8,113,9],[128,0,128,1],[128,3,128,9],[129,1,129,2],[129,3,129,4],[129,6,129,7],[129,8,129,9],[144,0,144,1],[144,3,144,9],[145,1,145,2],[145,3,145,4],[145,6,145,7],[145,8,145,9],[160,0,160,1],[160,3,160,9],[161,1,161,2],[161,3,161,4],[161,6,161,7],[161,8,161,9],[176,0,176,1],[176,3,176,9],[177,1,177,2],[177,3,177,4],[177,6,177,7],[177,8,177,9],[192,0,192,1],[192,3,192,9],[193,1,193,2],[193,3,193,4],[193,6,193,7],[193,8,193,9],[208,0,208,1],[208,3,208,9],[209,1,209,2],[209,3,209,4],[209,6,209,7],[209,8,209,9],[224,0,224,1],[224,5,224,9],[225,1,225,2],[225,3,225,4],[225,6,225,7],[225,8,225,9]]}
["RINK",null,{"$f":"'NOMINATED FOURS'!$T$4","v":0},{"$f":"$B$2","v":0}]
[null,{"$f":"'NOMINATED FOURS'!$M$4","v":0},null,{"$f":"'NOMINATED FOURS'!$S$4","v":0},null,null,{"$f":"'NOMINATED FOURS'!$M$4","v":0},null,{"$f":"'NOMINATED FOURS'!$S$4","v":0}]
["End","Shots","Total","Shots","Total","End","Shots","Total","Shots","Total"]
[1,{"$nulls":4},14]
[2,{"$nulls":4},15]
[3,{"$nulls":4},16]
[4,{"$nulls":4},17]
[5,{"$nulls":4},18]
[6,{"$nulls":4},19]
[7,{"$nulls":4},20]
[8,{"$nulls":4},21]
[9,{"$nulls":4},22]
[10,{"$nulls":4},23]
[11,{"$nulls":4},24]
[12,{"$nulls":4},25]
[13,{"$nulls":4},"T"]
["RINK",null,{"$f":"'NOMINATED FOURS'!$T$5","v":0},{"$f":"$B$18","v":0}]
[null,{"$f":"'NOMINATED FOURS'!$M$5","v":0},null,{"$f":"'NOMINATED FOURS'!$S$5","v":0},null,null,{"$f":"'NOMINATED FOURS'!$M$5","v":0},null,{"$f":"'NOMINATED FOURS'!$S$5","v":0}]
["End","Shots","Total","Shots","Total","End","Shots","Total","Shots","Total"]
[1,{"$nulls":4},14]
[2,{"$nulls":4},15]
[3,{"$nulls":4},16]
[4,{"$nulls":4},17]
[5,{"$nulls":4},18]
[6,{"$nulls":4},19]
[7,{"$nulls":4},20]
[8,{"$nulls":4},21]
[9,{"$nulls":4},22]
[10,{"$nulls":4},23]
[11,{"$nulls":4},24]
[12,{"$nulls":4},25]
[13,{"$nulls":4},"T"]
["RINK",null,{"$f":"'NOMINATED FOURS'!$T$6","v":0},{"$f":"$B$34","v":0}]
[null,{"$f":"'NOMINATED FOURS'!$M$6","v":0},null,{"$f":"'NOMINATED FOURS'!$S$6","v":0},null,null,{"$f":"'NOMINATED FOURS'!$M$6","v":0},null,{"$f":"'NOMINATED FOURS'!$S$6","v":0}]
["End","Shots","Total","Shots","Total","End","Shots","Total","Shots","Total"]
[1,{"$nulls":4},14]
[2,{"$nulls":4},15]
[3,{"$nulls":4},16]
[4,{"$nulls":4},17]
[5,{"$nulls":4},18]
[6,{"$nulls":4},19]
[7,{"$nulls":4},20]
[8,{"$nulls":4},21]
[9,{"$nulls":4},22]
[10,{"$nulls":4},23]
[11,{"$nulls":4},24]
[12,{"$nulls":4},25]
[13,{"$nulls":4},"T"]
["RINK",null,{"$f":"'NOMINATED FOURS'!$T$7","v":0},{"$f":"$B$50","v":0}]
[null,{"$f":"'NOMINATED FOURS'!$M$7","v":0},null,{"$f":"'NOMINATED FOURS'!$S$7","v":0},null,null,{"$f":"'NOMINATED FOURS'!$M$7","v":0},null,{"$f":"'NOMINATED FOURS'!$S$7","v":0}]
["End","Shots","Total","Shots","Total","End","Shots","Total","Shots","Total"]
[1,{"$nulls":4},14]
[2,{"$nulls":4},15]
[3,{"$nulls":4},16]
[4,{"$nulls":4},17]
[5,{"$nulls":4},18]
[6,{"$nulls":4},19]
[7,{"$nulls":4},20]
[8,{"$nulls":4},21]
[9,{"$nulls":4},22]
[10,{"$nulls":4},23]
[11,{"$nulls":4},24]
[12,{"$nulls":4},25]
[13,{"$nulls":4},"T"]
["RINK",null,{"$f":"'NOMINATED FOURS'!$T$8","v":0},{"$f":"$B$66","v":0}]
[null,{"$f":"'NOMINATED FOURS'!$M$8","v":0},null,{"$f":"'NOMINATED FOURS'!$S$8","v":0},null,null,{"$f":"'NOMINATED FOURS'!$M$8","v":0},null,{"$f":"'NOMINATED FOURS'!$S$8","v":0}]
["End","Shots","Total","Shots","Total","End","Shots","Total","Shots","Total"]
[1,{"$nulls":4},14]
[2,{"$nulls":4},15]
[3,{"$nulls":4},16]
[4,{"$nulls":4},17]
[5,{"$nulls":4},18]
[6,{"$nulls":4},19]
[7,{"$nulls":4},20]
[8,{"$nulls":4},21]
[9,{"$nulls":4},22]
[10,{"$nulls":4},23]
[11,{"$nulls":4},24]
[12,{"$nulls":4},25]
[13,{"$nulls":4},"T"]
["RINK",null,{"$f":"'NOMINATED FOURS'!$T$9","v":0},{"$f":"$B$82","v":0}]
[null,{"$f":"'NOMINATED FOURS'!$M$9","v":0},null,{"$f":"'NOMINATED FOURS'!$S$9","v":0},null,null,{"$f":"'NOMINATED FOURS'!$M$9","v":0},null,{"$f":"'NOMINATED FOURS'!$S$9","v":0}]
["End","Shots","Total","Shots","Total","End","Shots","Total","Shots","Total"]
[1,{"$nulls":4},14]
[2,{"$nulls":4},15]
[3,{"$nulls":4},16]
[4,{"$nulls":4},17]
[5,{"$nulls":4},18]
[6,{"$nulls":4},19]
[7,{"$nulls":4},20]
[8,{"$nulls":4},21]
[9,{"$nulls":4},22]
[10,{"$nulls":4},23]
[11,{"$nulls":4},24]
[12,{"$nulls":4},25]
[13,{"$nulls":4},"T"]
["RINK",null,{"$f":"'NOMINATED FOURS'!$T$10","v":0},{"$f":"$B$98","v":0}]
[null,{"$f":"'NOMINATED FOURS'!$M$10","v":0},null,{"$f":"'NOMINATED FOURS'!$S$10","v":0},null,null,{"$f":"'NOMINATED FOURS'!$M$10","v":0},null,{"$f":"'NOMINATED FOURS'!$S$10","v":0}]
["End","Shots","Total","Shots","Total","End","Shots","Total","Shots","Total"]
[1,{"$nulls":4},14]
[2,{"$nulls":4},15]
[3,{"$nulls":4},16]
[4,{"$nulls":4},17]
[5,{"$nulls":4},18]
[6,{"$nulls":4},19]
[7,{"$nulls":4},20]
[8,{"$nulls":4},21]
[9,{"$nulls":4},22]
[10,{"$nulls":4},23]
[11,{"$nulls":4},24]
[12,{"$nulls":4},25]
[13,{"$nulls":4},"T"]
["RINK",null,{"$f":"'NOMINATED FOURS'!$T$11","v":0},{"$f":"$B$114","v":0}]
[null,{"$f":"'NOMINATED FOURS'!$M$11","v":0},null,{"$f":"'NOMINATED FOURS'!$S$11","v":0},null,null,{"$f":"'NOMINATED FOURS'!$M$11","v":0},null,{"$f":"'NOMINATED FOURS'!$S$11","v":0}]
["End","Shots","Total","Shots","Total","End","Shots","Total","Shots","Total"]
[1,{"$nulls":4},14]
[2,{"$nulls":4},15]
[3,{"$nulls":4},16]
[4,{"$nulls":4},17]
[5,{"$nulls":4},18]
[6,{"$nulls":4},19]
[7,{"$nulls":4},20]
[8,{"$nulls":4},21]
[9,{"$nulls":4},22]
[10,{"$nulls":4},23]
[11,{"$nulls":4},24]
[12,{"$nulls":4},25]
[13,{"$nulls":4},"T"]
["RINK",null,{"$f":"'NOMINATED FOURS'!$T$12","v":0},{"$f":"$B$130","v":0}]
[null,{"$f":"'NOMINATED FOURS'!$M$12","v":0},null,{"$f":"'NOMINATED FOURS'!$S$12","v":0},null,null,{"$f":"'NOMINATED FOURS'!$M$12","v":0},null,{"$f":"'NOMINATED FOURS'!$S$12","v":0}]
["End","Shots","Total","Shots","Total","End","Shots","Total","Shots","Total"]
[1,{"$nulls":4},14]
[2,{"$nulls":4},15]
[3,{"$nulls":4},16]
[4,{"$nulls":4},17]
[5,{"$nulls":4},18]
[6,{"$nulls":4},19]
[7,{"$nulls":4},20]
[8,{"$nulls":4},21]
[9,{"$nulls":4},22]
[10,{"$nulls":4},23]
[11,{"$nulls":4},24]
[12,{"$nulls":4},25]
[13,{"$nulls":4},"T"]
["RINK",null,{"$f":"'NOMINATED FOURS'!$T$13","v":0},{"$f":"$B$146","v":0}]
[null,{"$f":"'NOMINATED FOURS'!$M$13","v":0},null,{"$f":"'NOMINATED FOURS'!$S$13","v":0},null,null,{"$f":"'NOMINATED FOURS'!$M$13","v":0},null,{"$f":"'NOMINATED FOURS'!$S$13","v":0}]
["End","Shots","Total","Shots","Total","End","Shots","Total","Shots","Total"]
[1,{"$nulls":4},14]
[2,{"$nulls":4},15]
[3,{"$nulls":4},16]
[4,{"$nulls":4},17]
[5,{"$nulls":4},18]
[6,{"$nulls":4},19]
[7,{"$nulls":4},20]
[8,{"$nulls":4},21]
[9,{"$nulls":4},22]
[10,{"$nulls":4},23]
[11,{"$nulls":4},24]
[12,{"$nulls":4},25]
[13,{"$nulls":4},"T"]
["RINK",null,{"$f":"'NOMINATED FOURS'!$T$14","v":0},{"$f":"$B$162","v":0}]
[null,{"$f":"'NOMINATED FOURS'!$M$14","v":0},null,{"$f":"'NOMINATED FOURS'!$S$14","v":0},null,null,{"$f":"'NOMINATED FOURS'!$M$14","v":0},null,{"$f":"'NOMINATED FOURS'!$S$14","v":0}]
["End","Shots","Total","Shots","Total","End","Shots","Total","Shots","Total"]
[1,{"$nulls":4},14]
[2,{"$nulls":4},15]
[3,{"$nulls":4},16]
[4,{"$nulls":4},17]
[5,{"$nulls":4},18]
[6,{"$nulls":4},19]
[7,{"$nulls":4},20]
[8,{"$nulls":4},21]
[9,{"$nulls":4},22]
[10,{"$nulls":4},23]
[11,{"$nulls":4},24]
[12,{"$nulls":4},25]
[13,{"$nulls":4},"T"]
["RINK",null,{"$f":"'NOMINATED FOURS'!$T$15","v":0},{"$f":"$B$178","v":0}]
[null,{"$f":"'NOMINATED FOURS'!$M$15","v":0},null,{"$f":"'NOMINATED FOURS'!$S$15","v":0},null,null,{"$f":"'NOMINATED FOURS'!$M$15","v":0},null,{"$f":"'NOMINATED FOURS'!$S$15","v":0}]
["End","Shots","Total","Shots","Total","End","Shots","Total","Shots","Total"]
[1,{"$nulls":4},14]
[2,{"$nulls":4},15]
[3,{"$nulls":4},16]
[4,{"$nulls":4},17]
[5,{"$nulls":4},18]
[6,{"$nulls":4},19]
[7,{"$nulls":4},20]
[8,{"$nulls":4},21]
[9,{"$nulls":4},22]
[10,{"$nulls":4},23]
[11,{"$nulls":4},24]
[12,{"$nulls":4},25]
[13,{"$nulls":4},"T"]
["RINK",null,{"$f":"'NOMINATED FOURS'!$T$16","v":0},{"$f":"$B$194","v":0}]
[null,{"$f":"'NOMINATED FOURS'!$M$16","v":0},null,{"$f":"'NOMINATED FOURS'!$S$16","v":0},null,null,{"$f":"'NOMINATED FOURS'!$M$16","v":0},null,{"$f":"'NOMINATED FOURS'!$S$16","v":0}]
["End","Shots","Total","Shots","Total","End","Shots","Total","Shots","Total"]
[1,{"$nulls":4},14]
[2,{"$nulls":4},15]
[3,{"$nulls":4},16]
[4,{"$nulls":4},17]
[5,{"$nulls":4},18]
[6,{"$nulls":4},19]
[7,{"$nulls":4},20]
[8,{"$nulls":4},21]
[9,{"$nulls":4},22]
[10,{"$nulls":4},23]
[11,{"$nulls":4},24]
[12,{"$nulls":4},25]
[13,{"$nulls":4},"T"]
["RINK",null,{"$f":"'NOMINATED FOURS'!$T$17","v":0},{"$f":"$B$210","v":0}]
[null,{"$f":"'NOMINATED FOURS'!$M$17","v":0},null,{"$f":"'NOMINATED FOURS'!$S$17","v":0},null,null,{"$f":"'NOMINATED FOURS'!$M$17","v":0},null,{"$f":"'NOMINATED FOURS'!$S$17","v":0}]
["End","Shots","Total","Shots","Total","End","Shots","Total","Shots","Total"]
[1,{"$nulls":4},14]
[2,{"$nulls":4},15]
[3,{"$nulls":4},16]
[4,{"$nulls":4},17]
[5,{"$nulls":4},18]
[6,{"$nulls":4},19]
[7,{"$nulls":4},20]
[8,{"$nulls":4},21]
[9,{"$nulls":4},22]
[10,{"$nulls":4},23]
[11,{"$nulls":4},24]
[12,{"$nulls":4},25]
[13,{"$nulls":4},"T"]
["RINK"]
[]
["End","Shots","Total","Shots","Total","End","Shots","Total","Shots","Total"]
[1,{"$nulls":4},14]
[2,{"$nulls":4},15]
[3,{"$nulls":4},16]
[4,{"$nulls":4},17]
[5,{"$nulls":4},18]
[6,{"$nulls":4},19]
[7,{"$nulls":4},20]
[8,{"$nulls":4},21]
[9,{"$nulls":4},22]
[10,{"$nulls":4},23]
[11,{"$nulls":4},24]
[12,{"$nulls":4},25]
[13,{"$nulls":4},"T"]

{"sheet":"Cards front rev fours","index":15,"n_rows":345,"n_cols":16,"rows_kept":345,"merged":[[0,0,0,23],[2,0,2,23],[4,2,4,6],[4,8,4,23],[6,2,6,6],[6,8,6,23],[8,0,8,10],[8,11,8,12],[8,13,8,23],[10,0,10,10],[10,11,10,12],[10,13,10,23],[12,0,12,10],[12,11,12,12],[12,13,12,23],[14,0,14,10],[14,11,14,12],[14,13,14,23],[16,2,16,8],[16,15,16,21],[17,2,17,8],[17,15,17,21],[18,0,18,10],[18,13,18,23],[20,0,20,10],[20,11,20,12],[20,13,20,23],[22,0,22,11],[22,12,22,23],[23,0,23,23],[25,0,25,23],[27,2,27,6],[27,8,27,23],[29,2,29,6],[29,8,29,23],[31,0,31,10],[31,11,31,12],[31,13,31,23],[33,0,33,10],[33,11,33,12],[33,13,33,23],[35,0,35,10],[35,11,35,12],[35,13,35,23],[37,0,37,10],[37,11,37,12],[37,13,37,23],[39,2,39,8],[39,15,39,21],[40,2,40,8],[40,15,40,21],[41,0,41,10],[41,13,41,23],[43,0,43,10],[43,11,43,12],[43,13,43,23],[45,0,45,11],[45,12,45,23],[46,0,46,23],[48,0,48,23],[50,2,50,6],[50,8,50,23],[52,2,52,6],[52,8,52,23],[54,0,54,10],[54,11,54,12],[54,13,54,23],[56,0,56,10],[56,11,56,12],[56,13,56,23],[58,0,58,10],[58,11,58,12],[58,13,58,23],[60,0,60,10],[60,11,60,12],[60,13,60,23],[62,2,62,8],[62,15,62,21],[63,2,63,8],[63,15,63,21],[64,0,64,10],[64,13,64,23],[66,0,66,10],[66,11,66,12],[66,13,66,23],[68,0,68,11],[68,12,68,23],[69,0,69,23],[71,0,71,23],[73,2,73,6],[73,8,73,23],[75,2,75,6],[75,8,75,23],[77,0,77,10],[77,11,77,12],[77,13,77,23],[79,0,79,10],[79,11,79,12],[79,13,79,23],[81,0,81,10],[81,11,81,12],[81,13,81,23],[83,0,83,10],[83,11,83,12],[83,13,83,23],[85,2,85,8],[85,15,85,21],[86,2,86,8],[86,15,86,21],[87,0,87,10],[87,13,87,23],[89,0,89,10],[89,11,89,12],[89,13,89,23],[91,0,91,11],[91,12,91,23],[92,0,92,23],[94,0,94,23],[96,2,96,6],[96,8,96,23],[98,2,98,6],[98,8,98,23],[100,0,100,10],[100,11,100,12],[100,13,100,23],[102,0,102,10],[102,11,102,12],[102,13,102,23],[104,0,104,10],[104,11,104,12],[104,13,104,23],[106,0,106,10],[106,11,106,12],[106,13,106,23],[108,2,108,8],[108,15,108,21],[109,2,109,8],[109,15,109,21],[110,0,110,10],[110,13,110,23],[112,0,112,10],[112,11,112,12],[112,13,112,23],[114,0,114,11],[114,12,114,23],[115,0,115,23],[117,0,117,23],[119,2,119,6],[119,8,119,23],[121,2,121,6],[121,8,121,23],[123,0,123,10],[123,11,123,12],[123,13,123,23],[125,0,125,10],[125,11,125,12],[125,13,125,23],[127,0,127,10],[127,11,127,12],[127,13,127,23],[129,0,129,10],[129,11,129,12],[129,13,129,23],[131,2,131,8],[131,15,131,21],[132,2,132,8],[132,15,132,21],[133,0,133,10],[133,13,133,23],[135,0,135,10],[135,11,135,12],[135,13,135,23],[137,0,137,11],[137,12,137,23],[138,0,138,23],[140,0,140,23],[142,2,142,6],[142,8,142,23],[144,2,144,6],[144,8,144,23],[146,0,146,10],[146,11,146,12],[146,13,146,23],[148,0,148,10],[148,11,148,12],[148,13,148,23],[150,0,150,10],[150,11,150,12],[150,13,150,23],[152,0,152,10],[152,11,152,12],[152,13,152,23],[154,2,154,8],[154,15,154,21],[155,2,155,8],[155,15,155,21],[156,0,156,10],[156,13,156,23],[158,0,158,10],[158,11,158,12],[158,13,158,23],[160,0,160,11],[160,12,160,23],[161,0,161,23],[163,0,163,23],[165,2,165,6],[165,8,165,23],[167,2,167,6],[167,8,167,23],[169,0,169,10],[169,11,169,12],[169,13,169,23],[171,0,171,10],[171,11,171,12],[171,13,171,23],[173,0,173,10],[173,11,173,12],[173,13,173,23],[175,0,175,10],[175,11,175,12],[175,13,175,23],[177,2,177,8],[177,15,177,21],[178,2,178,8],[178,15,178,21],[179,0,179,10],[179,13,179,23],[181,0,181,10],[181,11,181,12],[181,13,181,23],[183,0,183,11],[183,12,183,23],[184,0,184,23],[186,0,186,23],[188,2,188,6],[188,8,188,23],[190,2,190,6],[190,8,190,23],[192,0,192,10],[192,11,192,12],[192,13,192,23],[194,0,194,10],[194,11,194,12],[194,13,194,23],[196,0,196,10],[196,11,196,12],[196,13,196,23],[198,0,198,10],[198,11,198,12],[198,13,198,23],[200,2,200,8],[200,15,200,21],[201,2,201,8],[201,15,201,21],[202,0,202,10],[202,13,202,23],[204,0,204,10],[204,11,204,12],[204,13,204,23],[206,0,206,11],[206,12,206,23],[207,0,207,23],[209,0,209,23],[211,2,211,6],[211,8,211,23],[213,2,213,6],[213,8,213,23],[215,0,215,10],[215,11,215,12],[215,13,215,23],[217,0,217,10],[217,11,217,12],[217,13,217,23],[219,0,219,10],[219,11,219,12],[219,13,219,23],[221,0,221,10],[221,11,221,12],[221,13,221,23],[223,2,223,8],[223,15,223,21],[224,2,224,8],[224,15,224,21],[225,0,225,10],[225,13,225,23],[227,0,227,10],[227,11,227,12],[227,13,227,23],[229,0,229,11],[229,12,229,23],[230,0,230,23],[232,0,232,23],[234,2,234,6],[234,8,234,23],[236,2,236,6],[236,8,236,23],[238,0,238,10],[238,11,238,12],[238,13,238,23],[240,0,240,10],[240,11,240,12],[240,13,240,23],[242,0,242,10],[242,11,242,12],[242,13,242,23],[244,0,244,10],[244,11,244,12],[244,13,244,23],[246,2,246,8],[246,15,246,21],[247,2,247,8],[247,15,247,21],[248,0,248,10],[248,13,248,23],[250,0,250,10],[250,11,250,12],[250,13,250,23],[252,0,252,11],[252,12,252,23],[253,0,253,23],[255,0,255,23],[257,2,257,6],[257,8,257,23],[259,2,259,6],[259,8,259,23],[261,0,261,10],[261,11,261,12],[261,13,261,23],[263,0,263,10],[263,11,263,12],[263,13,263,23],[265,0,265,10],[265,11,265,12],[265,13,265,23],[267,0,267,10],[267,11,267,12],[267,13,267,23],[269,2,269,8],[269,15,269,21],[270,2,270,8],[270,15,270,21],[271,0,271,10],[271,13,271,23],[273,0,273,10],[273,11,273,12],[273,13,273,23],[275,0,275,11],[275,12,275,23],[276,0,276,23],[278,0,278,23],[280,2,280,6],[280,8,280,23],[282,2,282,6],[282,8,282,23],[284,0,284,10],[284,11,284,12],[284,13,284,23],[286,0,286,10],[286,11,286,12],[286,13,286,23],[288,0,288,10],[288,11,288,12],[288,13,288,23],[290,0,290,10],[290,11,290,12],[290,13,290,23],[292,2,292,8],[292,15,292,21],[293,2,293,8],[293,15,293,21],[294,0,294,10],[294,13,294,23],[296,0,296,10],[296,11,296,12],[296,13,296,23],[298,0,298,11],[298,12,298,23],[299,0,299,23],[301,0,301,23],[303,2,303,6],[303,8,303,23],[305,2,305,6],[305,8,305,23],[307,0,307,10],[307,11,307,12],[307,13,307,23],[309,0,309,10],[309,11,309,12],[309,13,309,23],[311,0,311,10],[311,11,311,12],[311,13,311,23],[313,0,313,10],[313,11,313,12],[313,13,313,23],[315,2,315,8],[315,15,315,21],[316,2,316,8],[316,15,316,21],[317,0,317,10],[317,13,317,23],[319,0,319,10],[319,11,319,12],[319,13,319,23],[321,0,321,11],[321,12,321,23],[322,0,322,23],[324,0,324,23],[326,2,326,6],[326,8,326,23],[328,2,328,6],[328,8,328,23],[330,0,330,10],[330,11,330,12],[330,13,330,23],[332,0,332,10],[332,11,332,12],[332,13,332,23],[334,0,334,10],[334,11,334,12],[334,13,334,23],[336,0,336,10],[336,11,336,12],[336,13,336,23],[338,2,338,8],[338,15,338,21],[339,2,339,8],[339,15,339,21],[340,0,340,10],[340,13,340,23],[342,0,342,10],[342,11,342,12],[342,13,342,23],[344,0,344,11],[344,12,344,23]]}
[{"$f":"'NOMINATED FOURS'!$C$1","v":"CLUB NAME HERE"}]
[]
[{"$f":"'NOMINATED FOURS'!$N$1","v":"Nominated Fours"}]
[]
[null,null,"RINK",{"$nulls":5},"DATE"]
[]
[null,null,{"$f":"'NOMINATED FOURS'!$T$4","v":0},{"$nulls":5},{"$f":"'NOMINATED FOURS'!$J$1","v":"31/07/20"}]
[]
[{"$f":"'NOMINATED FOURS'!$P$4","v":0},{"$nulls":12},{"$f":"'NOMINATED FOURS'!$J$4","v":0}]
[]
[{"$f":"'NOMINATED FOURS'!$Q$4","v":0},{"$nulls":12},{"$f":"'NOMINATED FOURS'!$K$4","v":0}]
[]
[{"$f":"'NOMINATED FOURS'!$R$4","v":0},{"$nulls":12},{"$f":"'NOMINATED FOURS'!$L$4","v":0}]
[]
[{"$f":"'NOMINATED FOURS'!$S$4","v":0},{"$nulls":12},{"$f":"'NOMINATED FOURS'!$M$4","v":0}]
[]
[null,null,"TOTAL SCORE",{"$nulls":12},"TOTAL SCORE"]
[]
["Signature",{"$nulls":12},"Signature"]
[]
[]
[]
["Time Match completed"]
[{"$f":"'NOMINATED FOURS'!$C$1","v":"CLUB NAME HERE"}]
[]
[{"$f":"'NOMINATED FOURS'!$N$1","v":"Nominated Fours"}]
[]
[null,null,"RINK",{"$nulls":5},"DATE"]
[]
[null,null,{"$f":"'NOMINATED FOURS'!$T$5","v":0},{"$nulls":5},{"$f":"'NOMINATED FOURS'!$J$1","v":"31/07/20"}]
[]
[{"$f":"'NOMINATED FOURS'!$P$5","v":0},{"$nulls":12},{"$f":"'NOMINATED FOURS'!$J$5","v":0}]
[]
[{"$f":"'NOMINATED FOURS'!$Q$5","v":0},{"$nulls":12},{"$f":"'NOMINATED FOURS'!$K$5","v":0}]
[]
[{"$f":"'NOMINATED FOURS'!$R$5","v":0},{"$nulls":12},{"$f":"'NOMINATED FOURS'!$L$5","v":0}]
[]
[{"$f":"'NOMINATED FOURS'!$S$5","v":0},{"$nulls":12},{"$f":"'NOMINATED FOURS'!$M$5","v":0}]
[]
[null,null,"TOTAL SCORE",{"$nulls":12},"TOTAL SCORE"]
[]
["Signature",{"$nulls":12},"Signature"]
[]
[]
[]
["Time Match completed"]
[{"$f":"'NOMINATED FOURS'!$C$1","v":"CLUB NAME HERE"}]
[]
[{"$f":"'NOMINATED FOURS'!$N$1","v":"Nominated Fours"}]
[]
[null,null,"RINK",{"$nulls":5},"DATE"]
[]
[null,null,{"$f":"'NOMINATED FOURS'!$T$6","v":0},{"$nulls":5},{"$f":"'NOMINATED FOURS'!$J$1","v":"31/07/20"}]
[]
[{"$f":"'NOMINATED FOURS'!$P$6","v":0},{"$nulls":12},{"$f":"'NOMINATED FOURS'!$J$6","v":0}]
[]
[{"$f":"'NOMINATED FOURS'!$Q$6","v":0},{"$nulls":12},{"$f":"'NOMINATED FOURS'!$K$6","v":0}]
[]
[{"$f":"'NOMINATED FOURS'!$R$6","v":0},{"$nulls":12},{"$f":"'NOMINATED FOURS'!$L$6","v":0}]
[]
[{"$f":"'NOMINATED FOURS'!$S$6","v":0},{"$nulls":12},{"$f":"'NOMINATED FOURS'!$M$6","v":0}]
[]
[null,null,"TOTAL SCORE",{"$nulls":12},"TOTAL SCORE"]
[]
["Signature",{"$nulls":12},"Signature"]
[]
[]
[]
["Time Match completed"]
[{"$f":"'NOMINATED FOURS'!$C$1","v":"CLUB NAME HERE"}]
[]
[{"$f":"'NOMINATED FOURS'!$N$1","v":"Nominated Fours"}]
[]
[null,null,"RINK",{"$nulls":5},"DATE"]
[]
[null,null,{"$f":"'NOMINATED FOURS'!$T$7","v":0},{"$nulls":5},{"$f":"'NOMINATED FOURS'!$J$1","v":"31/07/20"}]
[]
[{"$f":"'NOMINATED FOURS'!$P$7","v":0},{"$nulls":12},{"$f":"'NOMINATED FOURS'!$J$7","v":0}]
[]
[{"$f":"'NOMINATED FOURS'!$Q$7","v":0},{"$nulls":12},{"$f":"'NOMINATED FOURS'!$K$7","v":0}]
[]
[{"$f":"'NOMINATED FOURS'!$R$7","v":0},{"$nulls":12},{"$f":"'NOMINATED FOURS'!$L$7","v":0}]
[]
[{"$f":"'NOMINATED FOURS'!$S$7","v":0},{"$nulls":12},{"$f":"'NOMINATED FOURS'!$M$7","v":0}]
[]
[null,null,"TOTAL SCORE",{"$nulls":12},"TOTAL SCORE"]
[]
["Signature",{"$nulls":12},"Signature"]
[]
[]
[]
["Time Match completed"]
[{"$f":"'NOMINATED FOURS'!$C$1","v":"CLUB NAME HERE"}]
[]
[{"$f":"'NOMINATED FOURS'!$N$1","v":"Nominated Fours"}]
[]
[null,null,"RINK",{"$nulls":5},"DATE"]
[]
[null,null,{"$f":"'NOMINATED FOURS'!$T$8","v":0},{"$nulls":5},{"$f":"'NOMINATED FOURS'!$J$1","v":"31/07/20"}]
[]
[{"$f":"'NOMINATED FOURS'!$P$8","v":0},{"$nulls":12},{"$f":"'NOMINATED FOURS'!$J$8","v":0}]
[]
[{"$f":"'NOMINATED FOURS'!$Q$8","v":0},{"$nulls":12},{"$f":"'NOMINATED FOURS'!$K$8","v":0}]
[]
[{"$f":"'NOMINATED FOURS'!$R$8","v":0},{"$nulls":12},{"$f":"'NOMINATED FOURS'!$L$8","v":0}]
[]
[{"$f":"'NOMINATED FOURS'!$S$8","v":0},{"$nulls":12},{"$f":"'NOMINATED FOURS'!$M$8","v":0}]
[]
[null,null,"TOTAL SCORE",{"$nulls":12},"TOTAL SCORE"]
[]
["Signature",{"$nulls":12},"Signature"]
[]
[]
[]
["Time Match completed"]
[{"$f":"'NOMINATED FOURS'!$C$1","v":"CLUB NAME HERE"}]
[]
[{"$f":"'NOMINATED FOURS'!$N$1","v":"Nominated Fours"}]
[]
[null,null,"RINK",{"$nulls":5},"DATE"]
[]
[null,null,{"$f":"'NOMINATED FOURS'!$T$9","v":0},{"$nulls":5},{"$f":"'NOMINATED FOURS'!$J$1","v":"31/07/20"}]
[]
[{"$f":"'NOMINATED FOURS'!$P$9","v":0},{"$nulls":12},{"$f":"'NOMINATED FOURS'!$J$9","v":0}]
[]
[{"$f":"'NOMINATED FOURS'!$Q$9","v":0},{"$nulls":12},{"$f":"'NOMINATED FOURS'!$K$9","v":0}]
[]
[{"$f":"'NOMINATED FOURS'!$R$9","v":0},{"$nulls":12},{"$f":"'NOMINATED FOURS'!$L$9","v":0}]
[]
[{"$f":"'NOMINATED FOURS'!$S$9","v":0},{"$nulls":12},{"$f":"'NOMINATED FOURS'!$M$9","v":0}]
[]
[null,null,"TOTAL SCORE",{"$nulls":12},"TOTAL SCORE"]
[]
["Signature",{"$nulls":12},"Signature"]
[]
[]
[]
["Time Match completed"]
[{"$f":"'NOMINATED FOURS'!$C$1","v":"CLUB NAME HERE"}]
[]
[{"$f":"'NOMINATED FOURS'!$N$1","v":"Nominated Fours"}]
[]
[null,null,"RINK",{"$nulls":5},"DATE"]
[]
[null,null,{"$f":"'NOMINATED FOURS'!$T$10","v":0},{"$nulls":5},{"$f":"'NOMINATED FOURS'!$J$1","v":"31/07/20"}]
[]
[{"$f":"'NOMINATED FOURS'!$P$10","v":0},{"$nulls":12},{"$f":"'NOMINATED FOURS'!$J$10","v":0}]
[]
[{"$f":"'NOMINATED FOURS'!$Q$10","v":0},{"$nulls":12},{"$f":"'NOMINATED FOURS'!$K$10","v":0}]
[]
[{"$f":"'NOMINATED FOURS'!$R$10","v":0},{"$nulls":12},{"$f":"'NOMINATED FOURS'!$L$10","v":0}]
[]
[{"$f":"'NOMINATED FOURS'!$S$10","v":0},{"$nulls":12},{"$f":"'NOMINATED FOURS'!$M$10","v":0}]
[]
[null,null,"TOTAL SCORE",{"$nulls":12},"TOTAL SCORE"]
[]
["Signature",{"$nulls":12},"Signature"]
[]
[]
[]
["Time Match completed"]
[{"$f":"'NOMINATED FOURS'!$C$1","v":"CLUB NAME HERE"}]
[]
[{"$f":"'NOMINATED FOURS'!$N$1","v":"Nominated Fours"}]
[]
[null,null,"RINK",{"$nulls":5},"DATE"]
[]
[null,null,{"$f":"'NOMINATED FOURS'!$T$11","v":0},{"$nulls":5},{"$f":"'NOMINATED FOURS'!$J$1","v":"31/07/20"}]
[]
[{"$f":"'NOMINATED FOURS'!$P$11","v":0},{"$nulls":12},{"$f":"'NOMINATED FOURS'!$J$11","v":0}]
[]
[{"$f":"'NOMINATED FOURS'!$Q$11","v":0},{"$nulls":12},{"$f":"'NOMINATED FOURS'!$K$11","v":0}]
[]
[{"$f":"'NOMINATED FOURS'!$R$11","v":0},{"$nulls":12},{"$f":"'NOMINATED FOURS'!$L$11","v":0}]
[]
[{"$f":"'NOMINATED FOURS'!$S$11","v":0},{"$nulls":12},{"$f":"'NOMINATED FOURS'!$M$11","v":0}]
[]
[null,null,"TOTAL SCORE",{"$nulls":12},"TOTAL SCORE"]
[]
["Signature",{"$nulls":12},"Signature"]
[]
[]
[]
["Time Match completed"]
[{"$f":"'NOMINATED FOURS'!$C$1","v":"CLUB NAME HERE"}]
[]
[{"$f":"'NOMINATED FOURS'!$N$1","v":"Nominated Fours"}]
[]
[null,null,"RINK",{"$nulls":5},"DATE"]
[]
[null,null,{"$f":"'NOMINATED FOURS'!$T$12","v":0},{"$nulls":5},{"$f":"'NOMINATED FOURS'!$J$1","v":"31/07/20"}]
[]
[{"$f":"'NOMINATED FOURS'!$P$12","v":0},{"$nulls":12},{"$f":"'NOMINATED FOURS'!$J$12","v":0}]
[]
[{"$f":"'NOMINATED FOURS'!$Q$12","v":0},{"$nulls":12},{"$f":"'NOMINATED FOURS'!$K$12","v":0}]
[]
[{"$f":"'NOMINATED FOURS'!$R$12","v":0},{"$nulls":12},{"$f":"'NOMINATED FOURS'!$L$12","v":0}]
[]
[{"$f":"'NOMINATED FOURS'!$S$12","v":0},{"$nulls":12},{"$f":"'NOMINATED FOURS'!$M$12","v":0}]
[]
[null,null,"TOTAL SCORE",{"$nulls":12},"TOTAL SCORE"]
[]
["Signature",{"$nulls":12},"Signature"]
[]
[]
[]
["Time Match completed"]
[{"$f":"'NOMINATED FOURS'!$C$1","v":"CLUB NAME HERE"}]
[]
[{"$f":"'NOMINATED FOURS'!$N$1","v":"Nominated Fours"}]
[]
[null,null,"RINK",{"$nulls":5},"DATE"]
[]
[null,null,{"$f":"'NOMINATED FOURS'!$T$13","v":0},{"$nulls":5},{"$f":"'NOMINATED FOURS'!$J$1","v":"31/07/20"}]
[]
[{"$f":"'NOMINATED FOURS'!$P$13","v":0},{"$nulls":12},{"$f":"'NOMINATED FOURS'!$J$13","v":0}]
[]
[{"$f":"'NOMINATED FOURS'!$Q$13","v":0},{"$nulls":12},{"$f":"'NOMINATED FOURS'!$K$13","v":0}]
[]
[{"$f":"'NOMINATED FOURS'!$R$13","v":0},{"$nulls":12},{"$f":"'NOMINATED FOURS'!$L$13","v":0}]
[]
[{"$f":"'NOMINATED FOURS'!$S$13","v":0},{"$nulls":12},{"$f":"'NOMINATED FOURS'!$M$13","v":0}]
[]
[null,null,"TOTAL SCORE",{"$nulls":12},"TOTAL SCORE"]
[]
["Signature",{"$nulls":12},"Signature"]
[]
[]
[]
["Time Match completed"]
[{"$f":"'NOMINATED FOURS'!$C$1","v":"CLUB NAME HERE"}]
[]
[{"$f":"'NOMINATED FOURS'!$N$1","v":"Nominated Fours"}]
[]
[null,null,"RINK",{"$nulls":5},"DATE"]
[]
[null,null,{"$f":"'NOMINATED FOURS'!$T$14","v":0},{"$nulls":5},{"$f":"'NOMINATED FOURS'!$J$1","v":"31/07/20"}]
[]
[{"$f":"'NOMINATED FOURS'!$P$14","v":0},{"$nulls":12},{"$f":"'NOMINATED FOURS'!$J$14","v":0}]
[]
[{"$f":"'NOMINATED FOURS'!$Q$14","v":0},{"$nulls":12},{"$f":"'NOMINATED FOURS'!$K$14","v":0}]
[]
[{"$f":"'NOMINATED FOURS'!$R$14","v":0},{"$nulls":12},{"$f":"'NOMINATED FOURS'!$L$14","v":0}]
[]
[{"$f":"'NOMINATED FOURS'!$S$14","v":0},{"$nulls":12},{"$f":"'NOMINATED FOURS'!$M$14","v":0}]
[]
[null,null,"TOTAL SCORE",{"$nulls":12},"TOTAL SCORE"]
[]
["Signature",{"$nulls":12},"Signature"]
[]
[]
[]
["Time Match completed"]
[{"$f":"'NOMINATED FOURS'!$C$1","v":"CLUB NAME HERE"}]
[]
[{"$f":"'NOMINATED FOURS'!$N$1","v":"Nominated Fours"}]
[]
[null,null,"RINK",{"$nulls":5},"DATE"]
[]
[null,null,{"$f":"'NOMINATED FOURS'!$T$15","v":0},{"$nulls":5},{"$f":"'NOMINATED FOURS'!$J$1","v":"31/07/20"}]
[]
[{"$f":"'NOMINATED FOURS'!$P$15","v":0},{"$nulls":12},{"$f":"'NOMINATED FOURS'!$J$15","v":0}]
[]
[{"$f":"'NOMINATED FOURS'!$Q$15","v":0},{"$nulls":12},{"$f":"'NOMINATED FOURS'!$K$15","v":0}]
[]
[{"$f":"'NOMINATED FOURS'!$R$15","v":0},{"$nulls":12},{"$f":"'NOMINATED FOURS'!$L$15","v":0}]
[]
[{"$f":"'NOMINATED FOURS'!$S$15","v":0},{"$nulls":12},{"$f":"'NOMINATED FOURS'!$M$15","v":0}]
[]
[null,null,"TOTAL SCORE",{"$nulls":12},"TOTAL SCORE"]
[]
["Signature",{"$nulls":12},"Signature"]
[]
[]
[]
["Time Match completed"]
[{"$f":"'NOMINATED FOURS'!$C$1","v":"CLUB NAME HERE"}]
[]
[{"$f":"'NOMINATED FOURS'!$N$1","v":"Nominated Fours"}]
[]
[null,null,"RINK",{"$nulls":5},"DATE"]
[]
[null,null,{"$f":"'NOMINATED FOURS'!$T$16","v":0},{"$nulls":5},{"$f":"'NOMINATED FOURS'!$J$1","v":"31/07/20"}]
[]
[{"$f":"'NOMINATED FOURS'!$P$16","v":0},{"$nulls":12},{"$f":"'NOMINATED FOURS'!$J$16","v":0}]
[]
[{"$f":"'NOMINATED FOURS'!$Q$16","v":0},{"$nulls":12},{"$f":"'NOMINATED FOURS'!$K$16","v":0}]
[]
[{"$f":"'NOMINATED FOURS'!$R$16","v":0},{"$nulls":12},{"$f":"'NOMINATED FOURS'!$L$16","v":0}]
[]
[{"$f":"'NOMINATED FOURS'!$S$16","v":0},{"$nulls":12},{"$f":"'NOMINATED FOURS'!$M$16","v":0}]
[]
[null,null,"TOTAL SCORE",{"$nulls":12},"TOTAL SCORE"]
[]
["Signature",{"$nulls":12},"Signature"]
[]
[]
[]
["Time Match completed"]
[{"$f":"'NOMINATED FOURS'!$C$1","v":"CLUB NAME HERE"}]
[]
[{"$f":"'NOMINATED FOURS'!$N$1","v":"Nominated Fours"}]
[]
[null,null,"RINK",{"$nulls":5},"DATE"]
[]
[null,null,{"$f":"'NOMINATED FOURS'!$T$17","v":0},{"$nulls":5},{"$f":"'NOMINATED FOURS'!$J$1","v":"31/07/20"}]
[]
[{"$f":"'NOMINATED FOURS'!$P$17","v":0},{"$nulls":12},{"$f":"'NOMINATED FOURS'!$J$17","v":0}]
[]
[{"$f":"'NOMINATED FOURS'!$Q$17","v":0},{"$nulls":12},{"$f":"'NOMINATED FOURS'!$K$17","v":0}]
[]
[{"$f":"'NOMINATED FOURS'!$R$17","v":0},{"$nulls":12},{"$f":"'NOMINATED FOURS'!$L$17","v":0}]
[]
[{"$f":"'NOMINATED FOURS'!$S$17","v":0},{"$nulls":12},{"$f":"'NOMINATED FOURS'!$M$17","v":0}]
[]
[null,null,"TOTAL SCORE",{"$nulls":12},"TOTAL SCORE"]
[]
["Signature",{"$nulls":12},"Signature"]
[]
[]
[]
["Time Match completed"]
[{"$f":"'NOMINATED FOURS'!$C$1","v":"CLUB NAME HERE"}]
[]
[]
[]
[null,null,"RINK",{"$nulls":5},"DATE"]
[]
[null,null,{"$f":"'NOMINATED FOURS'!$T$118","v":0}]
[]
[{"$f":"'NOMINATED FOURS'!$P$118","v":0},{"$nulls":12},{"$f":"'NOMINATED FOURS'!$J$118","v":0}]
[]
[{"$f":"'NOMINATED FOURS'!$Q$118","v":0},{"$nulls":12},{"$f":"'NOMINATED FOURS'!$K$118","v":0}]
[]
[{"$f":"'NOMINATED FOURS'!$R$118","v":0},{"$nulls":12},{"$f":"'NOMINATED FOURS'!$L$118","v":0}]
[]
[{"$f":"'NOMINATED FOURS'!$S$118","v":0},{"$nulls":12},{"$f":"'NOMINATED FOURS'!$M$118","v":0}]
[]
[null,null,"TOTAL SCORE",{"$nulls":12},"TOTAL SCORE"]
[]
["Signature",{"$nulls":12},"Signature"]
[]
[]
[]
["Time Match completed"]

{"sheet":"Cards rear rev fours","index":16,"n_rows":240,"n_cols":10,"rows_kept":240,"merged":[[0,0,0,1],[0,3,0,9],[1,1,1,2],[1,3,1,4],[1,6,1,7],[1,8,1,9],[16,0,16,1],[16,3,16,9],[17,1,17,2],[17,3,17,4],[17,6,17,7],[17,8,17,9],[32,0,32,1],[32,3,32,9],[33,1,33,2],[33,3,33,4],[33,6,33,7],[33,8,33,9],[48,0,48,1],[48,3,48,9],[49,1,49,2],[49,3,49,4],[49,6,49,7],[49,8,49,9],[64,0,64,1],[64,3,64,9],[65,1,65,2],[65,3,65,4],[65,6,65,7],[65,8,65,9],[80,0,80,1],[80,3,80,9],[81,1,81,2],[81,3,81,4],[81,6,81,7],[81,8,81,9],[96,0,96,1],[96,3,96,9],[97,1,97,2],[97,3,97,4],[97,6,97,7],[97,8,97,9],[112,0,112,1],[112,3,112,9],[113,1,113,2],[113,3,113,4],[113,6,113,7],[113,8,113,9],[128,0,128,1],[128,3,128,9],[129,1,129,2],[129,3,129,4],[129,6,129,7],[129,8,129,9],[144,0,144,1],[144,3,144,9],[145,1,145,2],[145,3,145,4],[145,6,145,7],[145,8,145,9],[160,0,160,1],[160,3,160,9],[161,1,161,2],[161,3,161,4],[161,6,161,7],[161,8,161,9],[176,0,176,1],[176,3,176,9],[177,1,177,2],[177,3,177,4],[177,6,177,7],[177,8,177,9],[192,0,192,1],[192,3,192,9],[193,1,193,2],[193,3,193,4],[193,6,193,7],[193,8,193,9],[208,0,208,1],[208,3,208,9],[209,1,209,2],[209,3,209,4],[209,6,209,7],[209,8,209,9],[224,0,224,1],[224,3,224,9],[225,1,225,2],[225,3,225,4],[225,6,225,7],[225,8,225,9]]}
["RINK",null,{"$f":"'NOMINATED FOURS'!$T$4","v":0},{"$f":"'NOMINATED FOURS'!$S$4","v":0}]
[null,{"$f":"'NOMINATED FOURS'!$S$4","v":0},null,{"$f":"'NOMINATED FOURS'!$M$4","v":0},null,null,{"$f":"'NOMINATED FOURS'!$S$4","v":0},null,{"$f":"'NOMINATED FOURS'!$M$4","v":0}]
["End","Shots","Total","Shots","Total","End","Shots","Total","Shots","Total"]
[1,{"$nulls":4},14]
[2,{"$nulls":4},15]
[3,{"$nulls":4},16]
[4,{"$nulls":4},17]
[5,{"$nulls":4},18]
[6,{"$nulls":4},19]
[7,{"$nulls":4},20]
[8,{"$nulls":4},21]
[9,{"$nulls":4},22]
[10,{"$nulls":4},23]
[11,{"$nulls":4},24]
[12,{"$nulls":4},25]
[13,{"$nulls":4},"T"]
["RINK",null,{"$f":"'NOMINATED FOURS'!$T$5","v":0},{"$f":"'NOMINATED FOURS'!$S$5","v":0}]
[null,{"$f":"'NOMINATED FOURS'!$S$5","v":0},null,{"$f":"'NOMINATED FOURS'!$M$5","v":0},null,null,{"$f":"'NOMINATED FOURS'!$S$5","v":0},null,{"$f":"'NOMINATED FOURS'!$M$5","v":0}]
["End","Shots","Total","Shots","Total","End","Shots","Total","Shots","Total"]
[1,{"$nulls":4},14]
[2,{"$nulls":4},15]
[3,{"$nulls":4},16]
[4,{"$nulls":4},17]
[5,{"$nulls":4},18]
[6,{"$nulls":4},19]
[7,{"$nulls":4},20]
[8,{"$nulls":4},21]
[9,{"$nulls":4},22]
[10,{"$nulls":4},23]
[11,{"$nulls":4},24]
[12,{"$nulls":4},25]
[13,{"$nulls":4},"T"]
["RINK",null,{"$f":"'NOMINATED FOURS'!$T$6","v":0},{"$f":"'NOMINATED FOURS'!$S$6","v":0}]
[null,{"$f":"'NOMINATED FOURS'!$S$6","v":0},null,{"$f":"'NOMINATED FOURS'!$M$6","v":0},null,null,{"$f":"'NOMINATED FOURS'!$S$6","v":0},null,{"$f":"'NOMINATED FOURS'!$M$6","v":0}]
["End","Shots","Total","Shots","Total","End","Shots","Total","Shots","Total"]
[1,{"$nulls":4},14]
[2,{"$nulls":4},15]
[3,{"$nulls":4},16]
[4,{"$nulls":4},17]
[5,{"$nulls":4},18]
[6,{"$nulls":4},19]
[7,{"$nulls":4},20]
[8,{"$nulls":4},21]
[9,{"$nulls":4},22]
[10,{"$nulls":4},23]
[11,{"$nulls":4},24]
[12,{"$nulls":4},25]
[13,{"$nulls":4},"T"]
["RINK",null,{"$f":"'NOMINATED FOURS'!$T$7","v":0},{"$f":"'NOMINATED FOURS'!$S$7","v":0}]
[null,{"$f":"'NOMINATED FOURS'!$S$7","v":0},null,{"$f":"'NOMINATED FOURS'!$M$7","v":0},null,null,{"$f":"'NOMINATED FOURS'!$S$7","v":0},null,{"$f":"'NOMINATED FOURS'!$M$7","v":0}]
["End","Shots","Total","Shots","Total","End","Shots","Total","Shots","Total"]
[1,{"$nulls":4},14]
[2,{"$nulls":4},15]
[3,{"$nulls":4},16]
[4,{"$nulls":4},17]
[5,{"$nulls":4},18]
[6,{"$nulls":4},19]
[7,{"$nulls":4},20]
[8,{"$nulls":4},21]
[9,{"$nulls":4},22]
[10,{"$nulls":4},23]
[11,{"$nulls":4},24]
[12,{"$nulls":4},25]
[13,{"$nulls":4},"T"]
["RINK",null,{"$f":"'NOMINATED FOURS'!$T$8","v":0},{"$f":"'NOMINATED FOURS'!$S$8","v":0}]
[null,{"$f":"'NOMINATED FOURS'!$S$8","v":0},null,{"$f":"'NOMINATED FOURS'!$M$8","v":0},null,null,{"$f":"'NOMINATED FOURS'!$S$8","v":0},null,{"$f":"'NOMINATED FOURS'!$M$8","v":0}]
["End","Shots","Total","Shots","Total","End","Shots","Total","Shots","Total"]
[1,{"$nulls":4},14]
[2,{"$nulls":4},15]
[3,{"$nulls":4},16]
[4,{"$nulls":4},17]
[5,{"$nulls":4},18]
[6,{"$nulls":4},19]
[7,{"$nulls":4},20]
[8,{"$nulls":4},21]
[9,{"$nulls":4},22]
[10,{"$nulls":4},23]
[11,{"$nulls":4},24]
[12,{"$nulls":4},25]
[13,{"$nulls":4},"T"]
["RINK",null,{"$f":"'NOMINATED FOURS'!$T$9","v":0},{"$f":"'NOMINATED FOURS'!$S$9","v":0}]
[null,{"$f":"'NOMINATED FOURS'!$S$9","v":0},null,{"$f":"'NOMINATED FOURS'!$M$9","v":0},null,null,{"$f":"'NOMINATED FOURS'!$S$9","v":0},null,{"$f":"'NOMINATED FOURS'!$M$9","v":0}]
["End","Shots","Total","Shots","Total","End","Shots","Total","Shots","Total"]
[1,{"$nulls":4},14]
[2,{"$nulls":4},15]
[3,{"$nulls":4},16]
[4,{"$nulls":4},17]
[5,{"$nulls":4},18]
[6,{"$nulls":4},19]
[7,{"$nulls":4},20]
[8,{"$nulls":4},21]
[9,{"$nulls":4},22]
[10,{"$nulls":4},23]
[11,{"$nulls":4},24]
[12,{"$nulls":4},25]
[13,{"$nulls":4},"T"]
["RINK",null,{"$f":"'NOMINATED FOURS'!$T$10","v":0},{"$f":"'NOMINATED FOURS'!$S$10","v":0}]
[null,{"$f":"'NOMINATED FOURS'!$S$10","v":0},null,{"$f":"'NOMINATED FOURS'!$M$10","v":0},null,null,{"$f":"'NOMINATED FOURS'!$S$10","v":0},null,{"$f":"'NOMINATED FOURS'!$M$10","v":0}]
["End","Shots","Total","Shots","Total","End","Shots","Total","Shots","Total"]
[1,{"$nulls":4},14]
[2,{"$nulls":4},15]
[3,{"$nulls":4},16]
[4,{"$nulls":4},17]
[5,{"$nulls":4},18]
[6,{"$nulls":4},19]
[7,{"$nulls":4},20]
[8,{"$nulls":4},21]
[9,{"$nulls":4},22]
[10,{"$nulls":4},23]
[11,{"$nulls":4},24]
[12,{"$nulls":4},25]
[13,{"$nulls":4},"T"]
["RINK",null,{"$f":"'NOMINATED FOURS'!$T$11","v":0},{"$f":"'NOMINATED FOURS'!$S$11","v":0}]
[null,{"$f":"'NOMINATED FOURS'!$S$11","v":0},null,{"$f":"'NOMINATED FOURS'!$M$11","v":0},null,null,{"$f":"'NOMINATED FOURS'!$S$11","v":0},null,{"$f":"'NOMINATED FOURS'!$M$11","v":0}]
["End","Shots","Total","Shots","Total","End","Shots","Total","Shots","Total"]
[1,{"$nulls":4},14]
[2,{"$nulls":4},15]
[3,{"$nulls":4},16]
[4,{"$nulls":4},17]
[5,{"$nulls":4},18]
[6,{"$nulls":4},19]
[7,{"$nulls":4},20]
[8,{"$nulls":4},21]
[9,{"$nulls":4},22]
[10,{"$nulls":4},23]
[11,{"$nulls":4},24]
[12,{"$nulls":4},25]
[13,{"$nulls":4},"T"]
["RINK",null,{"$f":"'NOMINATED FOURS'!$T$12","v":0},{"$f":"'NOMINATED FOURS'!$S$12","v":0}]
[null,{"$f":"'NOMINATED FOURS'!$S$12","v":0},null,{"$f":"'NOMINATED FOURS'!$M$12","v":0},null,null,{"$f":"'NOMINATED FOURS'!$S$12","v":0},null,{"$f":"'NOMINATED FOURS'!$M$12","v":0}]
["End","Shots","Total","Shots","Total","End","Shots","Total","Shots","Total"]
[1,{"$nulls":4},14]
[2,{"$nulls":4},15]
[3,{"$nulls":4},16]
[4,{"$nulls":4},17]
[5,{"$nulls":4},18]
[6,{"$nulls":4},19]
[7,{"$nulls":4},20]
[8,{"$nulls":4},21]
[9,{"$nulls":4},22]
[10,{"$nulls":4},23]
[11,{"$nulls":4},24]
[12,{"$nulls":4},25]
[13,{"$nulls":4},"T"]
["RINK",null,{"$f":"'NOMINATED FOURS'!$T$13","v":0},{"$f":"'NOMINATED FOURS'!$S$13","v":0}]
[null,{"$f":"'NOMINATED FOURS'!$S$13","v":0},null,{"$f":"'NOMINATED FOURS'!$M$13","v":0},null,null,{"$f":"'NOMINATED FOURS'!$S$13","v":0},null,{"$f":"'NOMINATED FOURS'!$M$13","v":0}]
["End","Shots","Total","Shots","Total","End","Shots","Total","Shots","Total"]
[1,{"$nulls":4},14]
[2,{"$nulls":4},15]
[3,{"$nulls":4},16]
[4,{"$nulls":4},17]
[5,{"$nulls":4},18]
[6,{"$nulls":4},19]
[7,{"$nulls":4},20]
[8,{"$nulls":4},21]
[9,{"$nulls":4},22]
[10,{"$nulls":4},23]
[11,{"$nulls":4},24]
[12,{"$nulls":4},25]
[13,{"$nulls":4},"T"]
["RINK",null,{"$f":"'NOMINATED FOURS'!$T$14","v":0},{"$f":"'NOMINATED FOURS'!$S$14","v":0}]
[null,{"$f":"'NOMINATED FOURS'!$S$14","v":0},null,{"$f":"'NOMINATED FOURS'!$M$14","v":0},null,null,{"$f":"'NOMINATED FOURS'!$S$14","v":0},null,{"$f":"'NOMINATED FOURS'!$M$14","v":0}]
["End","Shots","Total","Shots","Total","End","Shots","Total","Shots","Total"]
[1,{"$nulls":4},14]
[2,{"$nulls":4},15]
[3,{"$nulls":4},16]
[4,{"$nulls":4},17]
[5,{"$nulls":4},18]
[6,{"$nulls":4},19]
[7,{"$nulls":4},20]
[8,{"$nulls":4},21]
[9,{"$nulls":4},22]
[10,{"$nulls":4},23]
[11,{"$nulls":4},24]
[12,{"$nulls":4},25]
[13,{"$nulls":4},"T"]
["RINK",null,{"$f":"'NOMINATED FOURS'!$T$15","v":0},{"$f":"'NOMINATED FOURS'!$S$15","v":0}]
[null,{"$f":"'NOMINATED FOURS'!$S$15","v":0},null,{"$f":"'NOMINATED FOURS'!$M$15","v":0},null,null,{"$f":"'NOMINATED FOURS'!$S$15","v":0},null,{"$f":"'NOMINATED FOURS'!$M$15","v":0}]
["End","Shots","Total","Shots","Total","End","Shots","Total","Shots","Total"]
[1,{"$nulls":4},14]
[2,{"$nulls":4},15]
[3,{"$nulls":4},16]
[4,{"$nulls":4},17]
[5,{"$nulls":4},18]
[6,{"$nulls":4},19]
[7,{"$nulls":4},20]
[8,{"$nulls":4},21]
[9,{"$nulls":4},22]
[10,{"$nulls":4},23]
[11,{"$nulls":4},24]
[12,{"$nulls":4},25]
[13,{"$nulls":4},"T"]
["RINK",null,{"$f":"'NOMINATED FOURS'!$T$16","v":0},{"$f":"'NOMINATED FOURS'!$S$16","v":0}]
[null,{"$f":"'NOMINATED FOURS'!$S$16","v":0},null,{"$f":"'NOMINATED FOURS'!$M$16","v":0},null,null,{"$f":"'NOMINATED FOURS'!$S$16","v":0},null,{"$f":"'NOMINATED FOURS'!$M$16","v":0}]
["End","Shots","Total","Shots","Total","End","Shots","Total","Shots","Total"]
[1,{"$nulls":4},14]
[2,{"$nulls":4},15]
[3,{"$nulls":4},16]
[4,{"$nulls":4},17]
[5,{"$nulls":4},18]
[6,{"$nulls":4},19]
[7,{"$nulls":4},20]
[8,{"$nulls":4},21]
[9,{"$nulls":4},22]
[10,{"$nulls":4},23]
[11,{"$nulls":4},24]
[12,{"$nulls":4},25]
[13,{"$nulls":4},"T"]
["RINK",null,{"$f":"'NOMINATED FOURS'!$T$17","v":0},{"$f":"'NOMINATED FOURS'!$S$17","v":0}]
[null,{"$f":"'NOMINATED FOURS'!$S$17","v":0},null,{"$f":"'NOMINATED FOURS'!$M$17","v":0},null,null,{"$f":"'NOMINATED FOURS'!$S$17","v":0},null,{"$f":"'NOMINATED FOURS'!$M$17","v":0}]
["End","Shots","Total","Shots","Total","End","Shots","Total","Shots","Total"]
[1,{"$nulls":4},14]
[2,{"$nulls":4},15]
[3,{"$nulls":4},16]
[4,{"$nulls":4},17]
[5,{"$nulls":4},18]
[6,{"$nulls":4},19]
[7,{"$nulls":4},20]
[8,{"$nulls":4},21]
[9,{"$nulls":4},22]
[10,{"$nulls":4},23]
[11,{"$nulls":4},24]
[12,{"$nulls":4},25]
[13,{"$nulls":4},"T"]
["RINK",null,{"$f":"'NOMINATED FOURS'!$T$18","v":0}]
[null,{"$f":"'NOMINATED FOURS'!$S$18","v":0},null,{"$f":"'NOMINATED FOURS'!$M$18","v":0},null,null,{"$f":"'NOMINATED FOURS'!$S$18","v":0},null,{"$f":"'NOMINATED FOURS'!$M$18","v":0}]
["End","Shots","Total","Shots","Total","End","Shots","Total","Shots","Total"]
[1,{"$nulls":4},14]
[2,{"$nulls":4},15]
[3,{"$nulls":4},16]
[4,{"$nulls":4},17]
[5,{"$nulls":4},18]
[6,{"$nulls":4},19]
[7,{"$nulls":4},20]
[8,{"$nulls":4},21]
[9,{"$nulls":4},22]
[10,{"$nulls":4},23]
[11,{"$nulls":4},24]
[12,{"$nulls":4},25]
[13,{"$nulls":4},"T"]

{"sheet":"Sheet4","index":17,"n_rows":0,"n_cols":0,"rows_kept":0,"hidden":true}

{"sheet":"Sheet5","index":18,"n_rows":0,"n_cols":0,"rows_kept":0,"hidden":true}