{"text_format":"3","workbook":"xlsx","n_sheets":28,"sheets":["Instructions","Entries","TEAMS","DRAW","Round 1","Round 2","Round 3","Round 4","Round 5","Total Points","Round 1 Cards","Round 2 Cards","Round 3 Cards","Round 4 Cards","Round 5 Cards","42","40","38","36","34","32","30","28","26","24","22","20","14"],"not_rendered":{"macros":1,"defined_names":13},"read":"whole","date_system":"1900"}

{"sheet":"Instructions","index":0,"n_rows":17,"n_cols":4,"rows_kept":17,"merged":[[0,1,0,2],[0,3,0,11],[1,1,1,11],[2,1,2,11],[3,1,3,11],[4,1,4,11],[5,1,5,11],[6,1,6,11],[7,1,7,11],[8,1,8,11],[9,1,9,11],[10,1,10,11],[11,1,11,11],[12,1,12,11],[13,1,13,11],[14,1,14,11],[15,1,15,11],[16,1,16,11],[17,1,17,11],[18,1,18,11],[19,1,19,11],[20,1,20,11],[21,1,21,11],[22,1,22,11],[23,1,23,11],[24,1,24,11],[25,1,25,11],[26,1,26,11],[27,1,27,11]]}
[null,"USER NOTES:-",null,"PLEASE ENABLE EDITING AND ALLOW MACROS TO RUN WHEN OPENING THIS MASTER FILE."]
[null,"1. Click the \"Entries \" TAB and enter names. It is preferable to put the Surname first. (just a few if testing will do.)"]
[null,"2. Click the button on the \"Entries\" sheet to sort the names alphabetically."]
[null,"3. Click the \"Teams\" TAB and follow the instructions on the sheet. The \"Teams\" TAB will be removed after you action it."]
[null,"4. Click the \"Draw\" TAB and enter names. Access the drop down list by clicking the arrow to the right in the cell you are entering the name. These names will be automatically transferred to the Round & Total Points sheets."]
[null,"5. Note:- This file will not function correctly until you have entered some names."]
[null,"6. To enter results click the sheet TAB of the Round you are scoring."]
[null,"7. As the set results are entered the points total and margin for each game will be automatically calculated and entered on the \"Round ?\" sheet & \"Total Points\" sheet. 1 point for a set win, half a point for a set draw, 2 points for a game win. The final Rankings will be calculated automatically on the \"Total Points\" sheet and the Team with the highest Points Total over all rounds and then Margins if Points are equal will be the winner. Margins from tie break games are not included."]
[null,"8. When you action point 3 above the correct draw will be automatically transferred to the five separate \"Round ? Cards\" sheets."]
[null,"9. To print the Score Cards you will need some blank cards measuring 85mm by 135mm. As a trial you may like to purchase a ream of 250gsm paper and cut the cards yourself. You will get 500 cards out of a ream costing about $17.00.Another option is to buy 4,000 250 gsm Nordset paper trimmed to 85X135 from Canberra Printing for about $130.00. Phone 02 6280 6925"]
[null,"10. When printing be careful to program the printer to print only the cards required. Ie. If 26 Teams playing set it to print from 1 to 26."]
[null,"11. Initially you may have to make adjustments to your printer settings. Unfortunately I can't eliminate this problem as every printer is different."]
[null,"The file has been tested extensively however please report any faults if they appear."]
[null,"If you have any issues with this file please don't hesitate to contact me."]
[null,"Geoff Graham"]
[null,"02 4389 1138"]
[null,"geoffjgraham@gmail.com"]

{"sheet":"Entries","index":1,"n_rows":45,"n_cols":5,"rows_kept":45}
[]
["No.","Player","Player","Player","Skip"]
[]
[1,{"$nulls":3},"BOWLER Fred"]
[2,{"$nulls":3},"SURNAME Christian"]
[3]
[4]
[5]
[6]
[7]
[8]
[9]
[10]
[11]
[12]
[13]
[14]
[15]
[16]
[17]
[18]
[19]
[20]
[21]
[22]
[23]
[24]
[25]
[26]
[27]
[28]
[29]
[30]
[31]
[32]
[33]
[34]
[35]
[36]
[37]
[38]
[39]
[40]
[41]
[42]

{"sheet":"TEAMS","index":2,"n_rows":6,"n_cols":3,"rows_kept":6,"merged":[[1,2,1,3],[2,2,2,13],[3,2,3,13],[4,2,4,13],[5,2,5,13],[6,2,6,13]]}
[]
[null,null,"SETUP NOTES:-"]
[null,null,"1. Please click in the box below that corresponds to the number of Teams playing."]
[null,null,"2. This is VERY IMPORTANT Immediately save the file with a new filename after step 1."]
[null,null,"3. If you save the file as \"Sets play Master\" it will not function correctly the next time you use it."]
[null,null,"4. You can only make ONE Team selection each time you open the \"Sets play Master\" file."]

{"sheet":"DRAW","index":3,"n_rows":0,"n_cols":0,"rows_kept":0,"merged":[[0,2,0,14],[1,2,1,14],[2,3,2,4],[2,5,2,6],[2,7,2,8],[2,9,2,10],[2,11,2,12],[2,13,2,14],[49,2,49,14],[50,2,50,14],[51,3,51,4],[51,5,51,6],[51,7,51,8],[51,9,51,10],[51,11,51,12],[51,13,51,14],[53,5,54,5],[53,7,54,7],[53,9,54,9],[53,11,54,11],[53,13,54,13],[56,5,57,5],[56,7,57,7],[56,9,57,9],[56,11,57,11],[56,13,57,13],[59,5,60,5],[59,7,60,7],[59,9,60,9],[59,11,60,11],[59,13,60,13],[62,5,63,5],[62,7,63,7],[62,9,63,9],[62,11,63,11],[62,13,63,13],[65,5,66,5],[65,7,66,7],[65,9,66,9],[65,11,66,11],[65,13,66,13],[68,5,69,5],[68,7,69,7],[68,9,69,9],[68,11,69,11],[68,13,69,13],[71,5,72,5],[71,7,72,7],[71,9,72,9],[71,11,72,11],[71,13,72,13],[74,5,75,5],[74,7,75,7],[74,9,75,9],[74,11,75,11],[74,13,75,13],[77,5,78,5],[77,7,78,7],[77,9,78,9],[77,11,78,11],[77,13,78,13],[80,5,81,5],[80,7,81,7],[80,9,81,9],[80,11,81,11],[80,13,81,13],[83,5,84,5],[83,7,84,7],[83,9,84,9],[83,11,84,11],[83,13,84,13],[86,5,87,5],[86,7,87,7],[86,9,87,9],[86,11,87,11],[86,13,87,13],[89,5,90,5],[89,7,90,7],[89,9,90,9],[89,11,90,11],[89,13,90,13],[92,5,93,5],[92,7,93,7],[92,9,93,9],[92,11,93,11],[92,13,93,13],[95,5,96,5],[95,7,96,7],[95,9,96,9],[95,11,96,11],[95,13,96,13],[98,5,99,5],[98,7,99,7],[98,9,99,9],[98,11,99,11],[98,13,99,13],[101,5,102,5],[101,7,102,7],[101,9,102,9],[101,11,102,11],[101,13,102,13],[104,5,105,5],[104,7,105,7],[104,9,105,9],[104,11,105,11],[104,13,105,13],[107,5,108,5],[107,7,108,7],[107,9,108,9],[107,11,108,11],[107,13,108,13],[110,5,111,5],[110,7,111,7],[110,9,111,9],[110,11,111,11],[110,13,111,13],[113,5,114,5],[113,7,114,7],[113,9,114,9],[113,11,114,11],[113,13,114,13]]}

{"sheet":"Round 1","index":4,"n_rows":67,"n_cols":21,"rows_kept":67,"merged":[[0,1,0,20],[2,1,2,20],[3,3,3,4],[5,1,6,1],[8,1,9,1],[11,1,12,1],[14,1,15,1],[17,1,18,1],[20,1,21,1],[23,1,24,1],[26,1,27,1],[29,1,30,1],[32,1,33,1],[35,1,36,1],[38,1,39,1],[41,1,42,1],[44,1,45,1],[47,1,48,1],[50,1,51,1],[53,1,54,1],[56,1,57,1],[59,1,60,1],[62,1,63,1],[65,1,66,1]]}
[null,{"$f":"DRAW!$C$1","v":0}]
[]
[null,"R O U N D  1"]
[null,"Rink","Team No.","Skip",null,null,"1st    Set","Set Points",null,"2nd   Set","Set Points",null,"Tie Breaker","Set Points",null,"Set Points","S+TBPts",null,"Game Points","Margin","Total Points"]
[{"$nulls":5},{"$f":"IF('Round 1'!C6=1,)","v":false}]
[null,{"$f":"DRAW!$F$54","v":0},{"$f":"DRAW!$G$54","v":0},null,{"$f":"VLOOKUP(C6,DRAW!$C$5:'DRAW'!$E$46,3,0)","v":{"$error":"#N/A"}},null,null,{"$f":"IF(G6+G7>0,(IF(G6>G7,1,(IF(G6=G7,0.5,0)))),0)","v":0},null,null,{"$f":"IF(J6+J7>0,(IF(J6>J7,1,(IF(J6=J7,0.5,0)))),0)","v":0},null,null,{"$f":"IF(M6+M7>0,(IF(M6>M7,1,(IF(M6=M7,0.5,0)))),0)","v":0},null,{"$f":"+H6+K6","v":0},{"$f":"IF(P6>2,P6,H6+K6+N6)","v":0},null,{"$f":"IF(Q6+Q7>=1.5,(IF(Q6>Q7,3,0)),0)","v":0},{"$f":"IF(G6+G7+J6+J7=0,0,G6+J6-G7-J7)","v":0},{"$f":"IF((S6+S7)=3,(P6+S6),0)","v":0}]
[null,null,{"$f":"DRAW!$G$55","v":0},null,{"$f":"VLOOKUP(C7,DRAW!$C$5:'DRAW'!$E$46,3,0)","v":{"$error":"#N/A"}},null,null,{"$f":"IF(G6+G7>0,(IF(G6<G7,1,(IF(G6=G7,0.5,0)))),0)","v":0},null,null,{"$f":"IF(J6+J7>0,(IF(J6<J7,1,(IF(J6=J7,0.5,0)))),0)","v":0},null,null,{"$f":"IF(M6+M7>0,(IF(M6<M7,1,(IF(M6=M7,0.5,0)))),0)","v":0},null,{"$f":"+H7+K7","v":0},{"$f":"IF(P7>2,P7,H7+K7+N7)","v":0},null,{"$f":"IF(Q7+Q8>=1.5,(IF(Q7>Q8,3,0)),0)","v":0},{"$f":"IF(G6+G7+J6+J7=0,0,G7+J7-G6-J6)","v":0},{"$f":"IF((S6+S7)=3,(P7+S7),0)","v":0}]
[]
[null,{"$f":"DRAW!$F$57","v":0},{"$f":"DRAW!$G$57","v":0},null,{"$f":"VLOOKUP(C9,DRAW!$C$5:'DRAW'!$E$46,3,0)","v":{"$error":"#N/A"}},null,null,{"$f":"IF(G9+G10>0,(IF(G9>G10,1,(IF(G9=G10,0.5,0)))),0)","v":0},null,null,{"$f":"IF(J9+J10>0,(IF(J9>J10,1,(IF(J9=J10,0.5,0)))),0)","v":0},null,null,{"$f":"IF(M9+M10>0,(IF(M9>M10,1,(IF(M9=M10,0.5,0)))),0)","v":0},null,{"$f":"+H9+K9","v":0},{"$f":"IF(P9>2,P9,H9+K9+N9)","v":0},null,{"$f":"IF(Q9+Q10>=1.5,(IF(Q9>Q10,3,0)),0)","v":0},{"$f":"IF(G9+G10+J9+J10=0,0,G9+J9-G10-J10)","v":0},{"$f":"IF((S9+S10)=3,(P9+S9),0)","v":0}]
[null,null,{"$f":"DRAW!$G$58","v":0},null,{"$f":"VLOOKUP(C10,DRAW!$C$5:'DRAW'!$E$46,3,0)","v":{"$error":"#N/A"}},null,null,{"$f":"IF(G9+G10>0,(IF(G9<G10,1,(IF(G9=G10,0.5,0)))),0)","v":0},null,null,{"$f":"IF(J9+J10>0,(IF(J9<J10,1,(IF(J9=J10,0.5,0)))),0)","v":0},null,null,{"$f":"IF(M9+M10>0,(IF(M9<M10,1,(IF(M9=M10,0.5,0)))),0)","v":0},null,{"$f":"+H10+K10","v":0},{"$f":"IF(P10>2,P10,H10+K10+N10)","v":0},null,0,{"$f":"IF(G9+G10+J9+J10=0,0,G10+J10-G9-J9)","v":0},{"$f":"IF((S9+S10)=3,(P10+S10),0)","v":0}]
[]
[null,{"$f":"DRAW!$F$60","v":0},{"$f":"DRAW!$G$60","v":0},null,{"$f":"VLOOKUP(C12,DRAW!$C$5:'DRAW'!$E$46,3,0)","v":{"$error":"#N/A"}},null,null,{"$f":"IF(G12+G13>0,(IF(G12>G13,1,(IF(G12=G13,0.5,0)))),0)","v":0},null,null,{"$f":"IF(J12+J13>0,(IF(J12>J13,1,(IF(J12=J13,0.5,0)))),0)","v":0},null,null,{"$f":"IF(M12+M13>0,(IF(M12>M13,1,(IF(M12=M13,0.5,0)))),0)","v":0},null,{"$f":"+H12+K12","v":0},{"$f":"IF(P12>2,P12,H12+K12+N12)","v":0},null,{"$f":"IF(Q12+Q13>=1.5,(IF(Q12>Q13,3,0)),0)","v":0},{"$f":"IF(G12+G13+J12+J13=0,0,G12+J12-G13-J13)","v":0},{"$f":"IF((S12+S13)=3,(P12+S12),0)","v":0}]
[null,null,{"$f":"DRAW!$G$61","v":0},null,{"$f":"VLOOKUP(C13,DRAW!$C$5:'DRAW'!$E$46,3,0)","v":{"$error":"#N/A"}},null,null,{"$f":"IF(G12+G13>0,(IF(G12<G13,1,(IF(G12=G13,0.5,0)))),0)","v":0},null,null,{"$f":"IF(J12+J13>0,(IF(J12<J13,1,(IF(J12=J13,0.5,0)))),0)","v":0},null,null,{"$f":"IF(M12+M13>0,(IF(M12<M13,1,(IF(M12=M13,0.5,0)))),0)","v":0},null,{"$f":"+H13+K13","v":0},{"$f":"IF(P13>2,P13,H13+K13+N13)","v":0},null,0,{"$f":"IF(G12+G13+J12+J13=0,0,G13+J13-G12-J12)","v":0},{"$f":"IF((S12+S13)=3,(P13+S13),0)","v":0}]
[]
[null,{"$f":"DRAW!$F$63","v":0},{"$f":"DRAW!$G$63","v":0},null,{"$f":"VLOOKUP(C15,DRAW!$C$5:'DRAW'!$E$46,3,0)","v":{"$error":"#N/A"}},null,null,{"$f":"IF(G15+G16>0,(IF(G15>G16,1,(IF(G15=G16,0.5,0)))),0)","v":0},null,null,{"$f":"IF(J15+J16>0,(IF(J15>J16,1,(IF(J15=J16,0.5,0)))),0)","v":0},null,null,{"$f":"IF(M15+M16>0,(IF(M15>M16,1,(IF(M15=M16,0.5,0)))),0)","v":0},null,{"$f":"+H15+K15","v":0},{"$f":"IF(P15>2,P15,H15+K15+N15)","v":0},null,{"$f":"IF(Q15+Q16>=1.5,(IF(Q15>Q16,3,0)),0)","v":0},{"$f":"IF(G15+G16+J15+J16=0,0,G15+J15-G16-J16)","v":0},{"$f":"IF((S15+S16)=3,(P15+S15),0)","v":0}]
[null,null,{"$f":"DRAW!$G$64","v":0},null,{"$f":"VLOOKUP(C16,DRAW!$C$5:'DRAW'!$E$46,3,0)","v":{"$error":"#N/A"}},null,null,{"$f":"IF(G15+G16>0,(IF(G15<G16,1,(IF(G15=G16,0.5,0)))),0)","v":0},null,null,{"$f":"IF(J15+J16>0,(IF(J15<J16,1,(IF(J15=J16,0.5,0)))),0)","v":0},10,null,{"$f":"IF(M15+M16>0,(IF(M15<M16,1,(IF(M15=M16,0.5,0)))),0)","v":0},null,{"$f":"+H16+K16","v":0},{"$f":"IF(P16>2,P16,H16+K16+N16)","v":0},null,0,{"$f":"IF(G15+G16+J15+J16=0,0,G16+J16-G15-J15)","v":0},{"$f":"IF((S15+S16)=3,(P16+S16),0)","v":0}]
[]
[null,{"$f":"DRAW!$F$66","v":0},{"$f":"DRAW!$G$66","v":0},null,{"$f":"VLOOKUP(C18,DRAW!$C$5:'DRAW'!$E$46,3,0)","v":{"$error":"#N/A"}},null,null,{"$f":"IF(G18+G19>0,(IF(G18>G19,1,(IF(G18=G19,0.5,0)))),0)","v":0},null,null,{"$f":"IF(J18+J19>0,(IF(J18>J19,1,(IF(J18=J19,0.5,0)))),0)","v":0},null,null,{"$f":"IF(M18+M19>0,(IF(M18>M19,1,(IF(M18=M19,0.5,0)))),0)","v":0},null,{"$f":"+H18+K18","v":0},{"$f":"IF(P18>2,P18,H18+K18+N18)","v":0},null,{"$f":"IF(Q18+Q19>=1.5,(IF(Q18>Q19,3,0)),0)","v":0},{"$f":"IF(G18+G19+J18+J19=0,0,G18+J18-G19-J19)","v":0},{"$f":"IF((S18+S19)=3,(P18+S18),0)","v":0}]
[null,null,{"$f":"DRAW!$G$67","v":0},null,{"$f":"VLOOKUP(C19,DRAW!$C$5:'DRAW'!$E$46,3,0)","v":{"$error":"#N/A"}},null,null,{"$f":"IF(G18+G19>0,(IF(G18<G19,1,(IF(G18=G19,0.5,0)))),0)","v":0},null,null,{"$f":"IF(J18+J19>0,(IF(J18<J19,1,(IF(J18=J19,0.5,0)))),0)","v":0},null,null,{"$f":"IF(M18+M19>0,(IF(M18<M19,1,(IF(M18=M19,0.5,0)))),0)","v":0},null,{"$f":"+H19+K19","v":0},{"$f":"IF(P19>2,P19,H19+K19+N19)","v":0},null,0,{"$f":"IF(G18+G19+J18+J19=0,0,G19+J19-G18-J18)","v":0},{"$f":"IF((S18+S19)=3,(P19+S19),0)","v":0}]
[]
[null,{"$f":"DRAW!$F$69","v":0},{"$f":"DRAW!$G$69","v":0},null,{"$f":"VLOOKUP(C21,DRAW!$C$5:'DRAW'!$E$46,3,0)","v":{"$error":"#N/A"}},null,null,{"$f":"IF(G21+G22>0,(IF(G21>G22,1,(IF(G21=G22,0.5,0)))),0)","v":0},null,null,{"$f":"IF(J21+J22>0,(IF(J21>J22,1,(IF(J21=J22,0.5,0)))),0)","v":0},null,null,{"$f":"IF(M21+M22>0,(IF(M21>M22,1,(IF(M21=M22,0.5,0)))),0)","v":0},null,{"$f":"+H21+K21","v":0},{"$f":"IF(P21>2,P21,H21+K21+N21)","v":0},null,{"$f":"IF(Q21+Q22>=1.5,(IF(Q21>Q22,3,0)),0)","v":0},{"$f":"IF(G21+G22+J21+J22=0,0,G21+J21-G22-J22)","v":0},{"$f":"IF((S21+S22)=3,(P21+S21),0)","v":0}]
[null,null,{"$f":"DRAW!$G$70","v":0},null,{"$f":"VLOOKUP(C22,DRAW!$C$5:'DRAW'!$E$46,3,0)","v":{"$error":"#N/A"}},null,null,{"$f":"IF(G21+G22>0,(IF(G21<G22,1,(IF(G21=G22,0.5,0)))),0)","v":0},null,null,{"$f":"IF(J21+J22>0,(IF(J21<J22,1,(IF(J21=J22,0.5,0)))),0)","v":0},null,null,{"$f":"IF(M21+M22>0,(IF(M21<M22,1,(IF(M21=M22,0.5,0)))),0)","v":0},null,{"$f":"+H22+K22","v":0},{"$f":"IF(P22>2,P22,H22+K22+N22)","v":0},null,0,{"$f":"IF(G21+G22+J21+J22=0,0,G22+J22-G21-J21)","v":0},{"$f":"IF((S21+S22)=3,(P22+S22),0)","v":0}]
[]
[null,{"$f":"DRAW!$F$72","v":0},{"$f":"DRAW!$G$72","v":0},null,{"$f":"VLOOKUP(C24,DRAW!$C$5:'DRAW'!$E$46,3,0)","v":{"$error":"#N/A"}},null,null,{"$f":"IF(G24+G25>0,(IF(G24>G25,1,(IF(G24=G25,0.5,0)))),0)","v":0},null,null,{"$f":"IF(J24+J25>0,(IF(J24>J25,1,(IF(J24=J25,0.5,0)))),0)","v":0},null,null,{"$f":"IF(M24+M25>0,(IF(M24>M25,1,(IF(M24=M25,0.5,0)))),0)","v":0},null,{"$f":"+H24+K24","v":0},{"$f":"IF(P24>2,P24,H24+K24+N24)","v":0},null,{"$f":"IF(Q24+Q25>=1.5,(IF(Q24>Q25,3,0)),0)","v":0},{"$f":"IF(G24+G25+J24+J25=0,0,G24+J24-G25-J25)","v":0},{"$f":"IF((S24+S25)=3,(P24+S24),0)","v":0}]
[null,null,{"$f":"DRAW!$G$73","v":0},null,{"$f":"VLOOKUP(C25,DRAW!$C$5:'DRAW'!$E$46,3,0)","v":{"$error":"#N/A"}},null,null,{"$f":"IF(G24+G25>0,(IF(G24<G25,1,(IF(G24=G25,0.5,0)))),0)","v":0},null,null,{"$f":"IF(J24+J25>0,(IF(J24<J25,1,(IF(J24=J25,0.5,0)))),0)","v":0},null,null,{"$f":"IF(M24+M25>0,(IF(M24<M25,1,(IF(M24=M25,0.5,0)))),0)","v":0},null,{"$f":"+H25+K25","v":0},{"$f":"IF(P25>2,P25,H25+K25+N25)","v":0},null,0,{"$f":"IF(G24+G25+J24+J25=0,0,G25+J25-G24-J24)","v":0},{"$f":"IF((S24+S25)=3,(P25+S25),0)","v":0}]
[]
[null,{"$f":"DRAW!$F$75","v":0},{"$f":"DRAW!$G$75","v":0},null,{"$f":"VLOOKUP(C27,DRAW!$C$5:'DRAW'!$E$46,3,0)","v":{"$error":"#N/A"}},null,null,{"$f":"IF(G27+G28>0,(IF(G27>G28,1,(IF(G27=G28,0.5,0)))),0)","v":0},null,null,{"$f":"IF(J27+J28>0,(IF(J27>J28,1,(IF(J27=J28,0.5,0)))),0)","v":0},null,null,{"$f":"IF(M27+M28>0,(IF(M27>M28,1,(IF(M27=M28,0.5,0)))),0)","v":0},null,{"$f":"+H27+K27","v":0},{"$f":"IF(P27>2,P27,H27+K27+N27)","v":0},null,{"$f":"IF(Q27+Q28>=1.5,(IF(Q27>Q28,3,0)),0)","v":0},{"$f":"IF(G27+G28+J27+J28=0,0,G27+J27-G28-J28)","v":0},{"$f":"IF((S27+S28)=3,(P27+S27),0)","v":0}]
[null,null,{"$f":"DRAW!$G$76","v":0},null,{"$f":"VLOOKUP(C28,DRAW!$C$5:'DRAW'!$E$46,3,0)","v":{"$error":"#N/A"}},null,null,{"$f":"IF(G27+G28>0,(IF(G27<G28,1,(IF(G27=G28,0.5,0)))),0)","v":0},null,null,{"$f":"IF(J27+J28>0,(IF(J27<J28,1,(IF(J27=J28,0.5,0)))),0)","v":0},null,null,{"$f":"IF(M27+M28>0,(IF(M27<M28,1,(IF(M27=M28,0.5,0)))),0)","v":0},null,{"$f":"+H28+K28","v":0},{"$f":"IF(P28>2,P28,H28+K28+N28)","v":0},null,0,{"$f":"IF(G27+G28+J27+J28=0,0,G28+J28-G27-J27)","v":0},{"$f":"IF((S27+S28)=3,(P28+S28),0)","v":0}]
[]
[null,{"$f":"DRAW!$F$78","v":0},{"$f":"DRAW!$G$78","v":0},null,{"$f":"VLOOKUP(C30,DRAW!$C$5:'DRAW'!$E$46,3,0)","v":{"$error":"#N/A"}},null,null,{"$f":"IF(G30+G31>0,(IF(G30>G31,1,(IF(G30=G31,0.5,0)))),0)","v":0},null,null,{"$f":"IF(J30+J31>0,(IF(J30>J31,1,(IF(J30=J31,0.5,0)))),0)","v":0},null,null,{"$f":"IF(M30+M31>0,(IF(M30>M31,1,(IF(M30=M31,0.5,0)))),0)","v":0},null,{"$f":"+H30+K30","v":0},{"$f":"IF(P30>2,P30,H30+K30+N30)","v":0},null,{"$f":"IF(Q30+Q31>=1.5,(IF(Q30>Q31,3,0)),0)","v":0},{"$f":"IF(G30+G31+J30+J31=0,0,G30+J30-G31-J31)","v":0},{"$f":"IF((S30+S31)=3,(P30+S30),0)","v":0}]
[null,null,{"$f":"DRAW!$G$79","v":0},null,{"$f":"VLOOKUP(C31,DRAW!$C$5:'DRAW'!$E$46,3,0)","v":{"$error":"#N/A"}},null,null,{"$f":"IF(G30+G31>0,(IF(G30<G31,1,(IF(G30=G31,0.5,0)))),0)","v":0},null,null,{"$f":"IF(J30+J31>0,(IF(J30<J31,1,(IF(J30=J31,0.5,0)))),0)","v":0},null,null,{"$f":"IF(M30+M31>0,(IF(M30<M31,1,(IF(M30=M31,0.5,0)))),0)","v":0},null,{"$f":"+H31+K31","v":0},{"$f":"IF(P31>2,P31,H31+K31+N31)","v":0},null,0,{"$f":"IF(G30+G31+J30+J31=0,0,G31+J31-G30-J30)","v":0},{"$f":"IF((S30+S31)=3,(P31+S31),0)","v":0}]
[]
[null,{"$f":"DRAW!$F$81","v":0},{"$f":"DRAW!$G$81","v":0},null,{"$f":"VLOOKUP(C33,DRAW!$C$5:'DRAW'!$E$46,3,0)","v":{"$error":"#N/A"}},null,null,{"$f":"IF(G33+G34>0,(IF(G33>G34,1,(IF(G33=G34,0.5,0)))),0)","v":0},null,null,{"$f":"IF(J33+J34>0,(IF(J33>J34,1,(IF(J33=J34,0.5,0)))),0)","v":0},null,null,{"$f":"IF(M33+M34>0,(IF(M33>M34,1,(IF(M33=M34,0.5,0)))),0)","v":0},null,{"$f":"+H33+K33","v":0},{"$f":"IF(P33>2,P33,H33+K33+N33)","v":0},null,{"$f":"IF(Q33+Q34>=1.5,(IF(Q33>Q34,3,0)),0)","v":0},{"$f":"IF(G33+G34+J33+J34=0,0,G33+J33-G34-J34)","v":0},{"$f":"IF((S33+S34)=3,(P33+S33),0)","v":0}]
[null,null,{"$f":"DRAW!$G$82","v":0},null,{"$f":"VLOOKUP(C34,DRAW!$C$5:'DRAW'!$E$46,3,0)","v":{"$error":"#N/A"}},null,null,{"$f":"IF(G33+G34>0,(IF(G33<G34,1,(IF(G33=G34,0.5,0)))),0)","v":0},null,null,{"$f":"IF(J33+J34>0,(IF(J33<J34,1,(IF(J33=J34,0.5,0)))),0)","v":0},null,null,{"$f":"IF(M33+M34>0,(IF(M33<M34,1,(IF(M33=M34,0.5,0)))),0)","v":0},null,{"$f":"+H34+K34","v":0},{"$f":"IF(P34>2,P34,H34+K34+N34)","v":0},null,0,{"$f":"IF(G33+G34+J33+J34=0,0,G34+J34-G33-J33)","v":0},{"$f":"IF((S33+S34)=3,(P34+S34),0)","v":0}]
[]
[null,{"$f":"DRAW!$F$84","v":0},{"$f":"DRAW!$G$84","v":0},null,{"$f":"VLOOKUP(C36,DRAW!$C$5:'DRAW'!$E$46,3,0)","v":{"$error":"#N/A"}},null,null,{"$f":"IF(G36+G37>0,(IF(G36>G37,1,(IF(G36=G37,0.5,0)))),0)","v":0},null,null,{"$f":"IF(J36+J37>0,(IF(J36>J37,1,(IF(J36=J37,0.5,0)))),0)","v":0},null,null,{"$f":"IF(M36+M37>0,(IF(M36>M37,1,(IF(M36=M37,0.5,0)))),0)","v":0},null,{"$f":"+H36+K36","v":0},{"$f":"IF(P36>2,P36,H36+K36+N36)","v":0},null,{"$f":"IF(Q36+Q37>=1.5,(IF(Q36>Q37,3,0)),0)","v":0},{"$f":"IF(G36+G37+J36+J37=0,0,G36+J36-G37-J37)","v":0},{"$f":"IF((S36+S37)=3,(P36+S36),0)","v":0}]
[null,null,{"$f":"DRAW!$G$85","v":0},null,{"$f":"VLOOKUP(C37,DRAW!$C$5:'DRAW'!$E$46,3,0)","v":{"$error":"#N/A"}},null,null,{"$f":"IF(G36+G37>0,(IF(G36<G37,1,(IF(G36=G37,0.5,0)))),0)","v":0},null,null,{"$f":"IF(J36+J37>0,(IF(J36<J37,1,(IF(J36=J37,0.5,0)))),0)","v":0},null,null,{"$f":"IF(M36+M37>0,(IF(M36<M37,1,(IF(M36=M37,0.5,0)))),0)","v":0},null,{"$f":"+H37+K37","v":0},{"$f":"IF(P37>2,P37,H37+K37+N37)","v":0},null,0,{"$f":"IF(G36+G37+J36+J37=0,0,G37+J37-G36-J36)","v":0},{"$f":"IF((S36+S37)=3,(P37+S37),0)","v":0}]
[]
[null,{"$f":"DRAW!$F$87","v":0},{"$f":"DRAW!$G$87","v":0},null,{"$f":"VLOOKUP(C39,DRAW!$C$5:'DRAW'!$E$46,3,0)","v":{"$error":"#N/A"}},null,null,{"$f":"IF(G39+G40>0,(IF(G39>G40,1,(IF(G39=G40,0.5,0)))),0)","v":0},null,null,{"$f":"IF(J39+J40>0,(IF(J39>J40,1,(IF(J39=J40,0.5,0)))),0)","v":0},null,null,{"$f":"IF(M39+M40>0,(IF(M39>M40,1,(IF(M39=M40,0.5,0)))),0)","v":0},null,{"$f":"+H39+K39","v":0},{"$f":"IF(P39>2,P39,H39+K39+N39)","v":0},null,{"$f":"IF(Q39+Q40>=1.5,(IF(Q39>Q40,3,0)),0)","v":0},{"$f":"IF(G39+G40+J39+J40=0,0,G39+J39-G40-J40)","v":0},{"$f":"IF((S39+S40)=3,(P39+S39),0)","v":0}]
[null,null,{"$f":"DRAW!$G$88","v":0},null,{"$f":"VLOOKUP(C40,DRAW!$C$5:'DRAW'!$E$46,3,0)","v":{"$error":"#N/A"}},null,null,{"$f":"IF(G39+G40>0,(IF(G39<G40,1,(IF(G39=G40,0.5,0)))),0)","v":0},null,null,{"$f":"IF(J39+J40>0,(IF(J39<J40,1,(IF(J39=J40,0.5,0)))),0)","v":0},null,null,{"$f":"IF(M39+M40>0,(IF(M39<M40,1,(IF(M39=M40,0.5,0)))),0)","v":0},null,0,{"$f":"IF(P40>2,P40,H40+K40+N40)","v":0},null,0,{"$f":"IF(G39+G40+J39+J40=0,0,G40+J40-G39-J39)","v":0},{"$f":"IF((S39+S40)=3,(P40+S40),0)","v":0}]
[]
[null,{"$f":"DRAW!$F$90","v":0},{"$f":"DRAW!$G$90","v":0},null,{"$f":"VLOOKUP(C42,DRAW!$C$5:'DRAW'!$E$46,3,0)","v":{"$error":"#N/A"}},null,null,{"$f":"IF(G42+G43>0,(IF(G42>G43,1,(IF(G42=G43,0.5,0)))),0)","v":0},null,null,{"$f":"IF(J42+J43>0,(IF(J42>J43,1,(IF(J42=J43,0.5,0)))),0)","v":0},null,null,{"$f":"IF(M42+M43>0,(IF(M42>M43,1,(IF(M42=M43,0.5,0)))),0)","v":0},null,{"$f":"+H42+K42","v":0},{"$f":"IF(P42>2,P42,H42+K42+N42)","v":0},null,{"$f":"IF(Q42+Q43>=1.5,(IF(Q42>Q43,3,0)),0)","v":0},{"$f":"IF(G42+G43+J42+J43=0,0,G42+J42-G43-J43)","v":0},{"$f":"IF((S42+S43)=3,(P42+S42),0)","v":0}]
[null,null,{"$f":"DRAW!$G$91","v":0},null,{"$f":"VLOOKUP(C43,DRAW!$C$5:'DRAW'!$E$46,3,0)","v":{"$error":"#N/A"}},null,null,{"$f":"IF(G42+G43>0,(IF(G42<G43,1,(IF(G42=G43,0.5,0)))),0)","v":0},null,null,{"$f":"IF(J42+J43>0,(IF(J42<J43,1,(IF(J42=J43,0.5,0)))),0)","v":0},null,null,{"$f":"IF(M42+M43>0,(IF(M42<M43,1,(IF(M42=M43,0.5,0)))),0)","v":0},null,{"$f":"+H43+K43","v":0},{"$f":"IF(P43>2,P43,H43+K43+N43)","v":0},null,0,{"$f":"IF(G42+G43+J42+J43=0,0,G43+J43-G42-J42)","v":0},{"$f":"IF((S42+S43)=3,(P43+S43),0)","v":0}]
[]
[null,{"$f":"DRAW!$F$93","v":0},{"$f":"DRAW!$G$93","v":0},null,{"$f":"VLOOKUP(C45,DRAW!$C$5:'DRAW'!$E$46,3,0)","v":{"$error":"#N/A"}},null,null,{"$f":"IF(G45+G46>0,(IF(G45>G46,1,(IF(G45=G46,0.5,0)))),0)","v":0},null,null,{"$f":"IF(J45+J46>0,(IF(J45>J46,1,(IF(J45=J46,0.5,0)))),0)","v":0},null,null,{"$f":"IF(M45+M46>0,(IF(M45>M46,1,(IF(M45=M46,0.5,0)))),0)","v":0},null,{"$f":"+H45+K45","v":0},{"$f":"IF(P45>2,P45,H45+K45+N45)","v":0},null,{"$f":"IF(Q45+Q46>=1.5,(IF(Q45>Q46,3,0)),0)","v":0},{"$f":"IF(G45+G46+J45+J46=0,0,G45+J45-G46-J46)","v":0},{"$f":"IF((S45+S46)=3,(P45+S45),0)","v":0}]
[null,null,{"$f":"DRAW!$G$94","v":0},null,{"$f":"VLOOKUP(C46,DRAW!$C$5:'DRAW'!$E$46,3,0)","v":{"$error":"#N/A"}},null,null,{"$f":"IF(G45+G46>0,(IF(G45<G46,1,(IF(G45=G46,0.5,0)))),0)","v":0},null,null,{"$f":"IF(J45+J46>0,(IF(J45<J46,1,(IF(J45=J46,0.5,0)))),0)","v":0},null,null,{"$f":"IF(M45+M46>0,(IF(M45<M46,1,(IF(M45=M46,0.5,0)))),0)","v":0},null,{"$f":"+H46+K46","v":0},{"$f":"IF(P46>2,P46,H46+K46+N46)","v":0},null,0,{"$f":"IF(G45+G46+J45+J46=0,0,G46+J46-G45-J45)","v":0},{"$f":"IF((S45+S46)=3,(P46+S46),0)","v":0}]
[]
[null,{"$f":"DRAW!$F$96","v":0},{"$f":"DRAW!$G$96","v":0},null,{"$f":"VLOOKUP(C48,DRAW!$C$5:'DRAW'!$E$46,3,0)","v":{"$error":"#N/A"}},null,null,{"$f":"IF(G48+G49>0,(IF(G48>G49,1,(IF(G48=G49,0.5,0)))),0)","v":0},null,null,{"$f":"IF(J48+J49>0,(IF(J48>J49,1,(IF(J48=J49,0.5,0)))),0)","v":0},null,null,{"$f":"IF(M48+M49>0,(IF(M48>M49,1,(IF(M48=M49,0.5,0)))),0)","v":0},null,{"$f":"+H48+K48","v":0},{"$f":"IF(P48>2,P48,H48+K48+N48)","v":0},null,{"$f":"IF(Q48+Q49>=1.5,(IF(Q48>Q49,3,0)),0)","v":0},{"$f":"IF(G48+G49+J48+J49=0,0,G48+J48-G49-J49)","v":0},{"$f":"IF((S48+S49)=3,(P48+S48),0)","v":0}]
[null,null,{"$f":"DRAW!$G$97","v":0},null,{"$f":"VLOOKUP(C49,DRAW!$C$5:'DRAW'!$E$46,3,0)","v":{"$error":"#N/A"}},null,null,{"$f":"IF(G48+G49>0,(IF(G48<G49,1,(IF(G48=G49,0.5,0)))),0)","v":0},null,null,{"$f":"IF(J48+J49>0,(IF(J48<J49,1,(IF(J48=J49,0.5,0)))),0)","v":0},null,null,{"$f":"IF(M48+M49>0,(IF(M48<M49,1,(IF(M48=M49,0.5,0)))),0)","v":0},null,{"$f":"+H49+K49","v":0},{"$f":"IF(P49>2,P49,H49+K49+N49)","v":0},null,0,{"$f":"IF(G48+G49+J48+J49=0,0,G49+J49-G48-J48)","v":0},{"$f":"IF((S48+S49)=3,(P49+S49),0)","v":0}]
[]
[null,{"$f":"DRAW!$F$99","v":0},{"$f":"DRAW!$G$99","v":0},null,{"$f":"VLOOKUP(C51,DRAW!$C$5:'DRAW'!$E$46,3,0)","v":{"$error":"#N/A"}},null,null,{"$f":"IF(G51+G52>0,(IF(G51>G52,1,(IF(G51=G52,0.5,0)))),0)","v":0},null,null,{"$f":"IF(J51+J52>0,(IF(J51>J52,1,(IF(J51=J52,0.5,0)))),0)","v":0},null,null,{"$f":"IF(M51+M52>0,(IF(M51>M52,1,(IF(M51=M52,0.5,0)))),0)","v":0},null,{"$f":"+H51+K51","v":0},{"$f":"IF(P51>2,P51,H51+K51+N51)","v":0},null,{"$f":"IF(Q51+Q52>=1.5,(IF(Q51>Q52,3,0)),0)","v":0},{"$f":"IF(G51+G52+J51+J52=0,0,G51+J51-G52-J52)","v":0},{"$f":"IF((S51+S52)=3,(P51+S51),0)","v":0}]
[null,null,{"$f":"DRAW!$G$100","v":0},null,{"$f":"VLOOKUP(C52,DRAW!$C$5:'DRAW'!$E$46,3,0)","v":{"$error":"#N/A"}},null,null,{"$f":"IF(G51+G52>0,(IF(G51<G52,1,(IF(G51=G52,0.5,0)))),0)","v":0},null,null,{"$f":"IF(J51+J52>0,(IF(J51<J52,1,(IF(J51=J52,0.5,0)))),0)","v":0},null,null,{"$f":"IF(M51+M52>0,(IF(M51<M52,1,(IF(M51=M52,0.5,0)))),0)","v":0},null,{"$f":"+H52+K52","v":0},{"$f":"IF(P52>2,P52,H52+K52+N52)","v":0},null,0,{"$f":"IF(G51+G52+J51+J52=0,0,G52+J52-G51-J51)","v":0},{"$f":"IF((S51+S52)=3,(P52+S52),0)","v":0}]
[]
[null,{"$f":"DRAW!$F$102","v":0},{"$f":"DRAW!$G$102","v":0},null,{"$f":"VLOOKUP(C54,DRAW!$C$5:'DRAW'!$E$46,3,0)","v":{"$error":"#N/A"}},null,null,{"$f":"IF(G54+G55>0,(IF(G54>G55,1,(IF(G54=G55,0.5,0)))),0)","v":0},null,null,{"$f":"IF(J54+J55>0,(IF(J54>J55,1,(IF(J54=J55,0.5,0)))),0)","v":0},null,null,{"$f":"IF(M54+M55>0,(IF(M54>M55,1,(IF(M54=M55,0.5,0)))),0)","v":0},null,{"$f":"+H54+K54","v":0},{"$f":"IF(P54>2,P54,H54+K54+N54)","v":0},null,{"$f":"IF(Q54+Q55>=1.5,(IF(Q54>Q55,3,0)),0)","v":0},{"$f":"IF(G54+G55+J54+J55=0,0,G54+J54-G55-J55)","v":0},{"$f":"IF((S54+S55)=3,(P54+S54),0)","v":0}]
[null,null,{"$f":"DRAW!$G$103","v":0},null,{"$f":"VLOOKUP(C55,DRAW!$C$5:'DRAW'!$E$46,3,0)","v":{"$error":"#N/A"}},null,null,{"$f":"IF(G54+G55>0,(IF(G54<G55,1,(IF(G54=G55,0.5,0)))),0)","v":0},null,null,{"$f":"IF(J54+J55>0,(IF(J54<J55,1,(IF(J54=J55,0.5,0)))),0)","v":0},null,null,{"$f":"IF(M54+M55>0,(IF(M54<M55,1,(IF(M54=M55,0.5,0)))),0)","v":0},null,{"$f":"+H55+K55","v":0},{"$f":"IF(P55>2,P55,H55+K55+N55)","v":0},null,0,{"$f":"IF(G54+G55+J54+J55=0,0,G55+J55-G54-J54)","v":0},{"$f":"IF((S54+S55)=3,(P55+S55),0)","v":0}]
[]
[null,{"$f":"DRAW!$F$105","v":0},{"$f":"DRAW!$G$105","v":0},null,{"$f":"VLOOKUP(C57,DRAW!$C$5:'DRAW'!$E$46,3,0)","v":{"$error":"#N/A"}},null,null,{"$f":"IF(G57+G58>0,(IF(G57>G58,1,(IF(G57=G58,0.5,0)))),0)","v":0},null,null,{"$f":"IF(J57+J58>0,(IF(J57>J58,1,(IF(J57=J58,0.5,0)))),0)","v":0},null,null,{"$f":"IF(M57+M58>0,(IF(M57>M58,1,(IF(M57=M58,0.5,0)))),0)","v":0},null,{"$f":"+H57+K57","v":0},{"$f":"IF(P57>2,P57,H57+K57+N57)","v":0},null,{"$f":"IF(Q57+Q58>=1.5,(IF(Q57>Q58,3,0)),0)","v":0},{"$f":"IF(G57+G58+J57+J58=0,0,G57+J57-G58-J58)","v":0},{"$f":"IF((S57+S58)=3,(P57+S57),0)","v":0}]
[null,null,{"$f":"DRAW!$G$106","v":0},null,{"$f":"VLOOKUP(C58,DRAW!$C$5:'DRAW'!$E$46,3,0)","v":{"$error":"#N/A"}},null,null,{"$f":"IF(G57+G58>0,(IF(G57<G58,1,(IF(G57=G58,0.5,0)))),0)","v":0},null,null,{"$f":"IF(J57+J58>0,(IF(J57<J58,1,(IF(J57=J58,0.5,0)))),0)","v":0},null,null,{"$f":"IF(M57+M58>0,(IF(M57<M58,1,(IF(M57=M58,0.5,0)))),0)","v":0},null,{"$f":"+H58+K58","v":0},{"$f":"IF(P58>2,P58,H58+K58+N58)","v":0},null,0,{"$f":"IF(G57+G58+J57+J58=0,0,G58+J58-G57-J57)","v":0},{"$f":"IF((S57+S58)=3,(P58+S58),0)","v":0}]
[]
[null,{"$f":"DRAW!$F$108","v":0},{"$f":"DRAW!$G$108","v":0},null,{"$f":"VLOOKUP(C60,DRAW!$C$5:'DRAW'!$E$46,3,0)","v":{"$error":"#N/A"}},null,null,{"$f":"IF(G60+G61>0,(IF(G60>G61,1,(IF(G60=G61,0.5,0)))),0)","v":0},null,null,{"$f":"IF(J60+J61>0,(IF(J60>J61,1,(IF(J60=J61,0.5,0)))),0)","v":0},null,null,{"$f":"IF(M60+M61>0,(IF(M60>M61,1,(IF(M60=M61,0.5,0)))),0)","v":0},null,{"$f":"+H60+K60","v":0},{"$f":"IF(P60>2,P60,H60+K60+N60)","v":0},null,{"$f":"IF(Q60+Q61>=1.5,(IF(Q60>Q61,3,0)),0)","v":0},{"$f":"IF(G60+G61+J60+J61=0,0,G60+J60-G61-J61)","v":0},{"$f":"IF((S60+S61)=3,(P60+S60),0)","v":0}]
[null,null,{"$f":"DRAW!$G$109","v":0},null,{"$f":"VLOOKUP(C61,DRAW!$C$5:'DRAW'!$E$46,3,0)","v":{"$error":"#N/A"}},null,null,{"$f":"IF(G60+G61>0,(IF(G60<G61,1,(IF(G60=G61,0.5,0)))),0)","v":0},null,null,{"$f":"IF(J60+J61>0,(IF(J60<J61,1,(IF(J60=J61,0.5,0)))),0)","v":0},null,null,{"$f":"IF(M60+M61>0,(IF(M60<M61,1,(IF(M60=M61,0.5,0)))),0)","v":0},null,{"$f":"+H61+K61","v":0},{"$f":"IF(P61>2,P61,H61+K61+N61)","v":0},null,0,{"$f":"IF(G60+G61+J60+J61=0,0,G61+J61-G60-J60)","v":0},{"$f":"IF((S60+S61)=3,(P61+S61),0)","v":0}]
[]
[null,{"$f":"DRAW!$F$111","v":0},{"$f":"DRAW!$G$111","v":0},null,{"$f":"VLOOKUP(C63,DRAW!$C$5:'DRAW'!$E$46,3,0)","v":{"$error":"#N/A"}},null,null,{"$f":"IF(G63+G64>0,(IF(G63>G64,1,(IF(G63=G64,0.5,0)))),0)","v":0},null,null,{"$f":"IF(J63+J64>0,(IF(J63>J64,1,(IF(J63=J64,0.5,0)))),0)","v":0},null,null,{"$f":"IF(M63+M64>0,(IF(M63>M64,1,(IF(M63=M64,0.5,0)))),0)","v":0},null,{"$f":"+H63+K63","v":0},{"$f":"IF(P63>2,P63,H63+K63+N63)","v":0},null,{"$f":"IF(Q63+Q64>=1.5,(IF(Q63>Q64,3,0)),0)","v":0},{"$f":"IF(G63+G64+J63+J64=0,0,G63+J63-G64-J64)","v":0},{"$f":"IF((S63+S64)=3,(P63+S63),0)","v":0}]
[null,null,{"$f":"DRAW!$G$112","v":0},null,{"$f":"VLOOKUP(C64,DRAW!$C$5:'DRAW'!$E$46,3,0)","v":{"$error":"#N/A"}},null,null,{"$f":"IF(G63+G64>0,(IF(G63<G64,1,(IF(G63=G64,0.5,0)))),0)","v":0},null,null,{"$f":"IF(J63+J64>0,(IF(J63<J64,1,(IF(J63=J64,0.5,0)))),0)","v":0},null,null,{"$f":"IF(M63+M64>0,(IF(M63<M64,1,(IF(M63=M64,0.5,0)))),0)","v":0},null,{"$f":"+H64+K64","v":0},{"$f":"IF(P64>2,P64,H64+K64+N64)","v":0},null,0,{"$f":"IF(G63+G64+J63+J64=0,0,G64+J64-G63-J63)","v":0},{"$f":"IF((S63+S64)=3,(P64+S64),0)","v":0}]
[]
[null,{"$f":"DRAW!$F$114","v":0},{"$f":"DRAW!$G$114","v":0},null,{"$f":"VLOOKUP(C66,DRAW!$C$5:'DRAW'!$E$46,3,0)","v":{"$error":"#N/A"}},null,null,{"$f":"IF(G66+G67>0,(IF(G66>G67,1,(IF(G66=G67,0.5,0)))),0)","v":0},null,null,{"$f":"IF(J66+J67>0,(IF(J66>J67,1,(IF(J66=J67,0.5,0)))),0)","v":0},null,null,{"$f":"IF(M66+M67>0,(IF(M66>M67,1,(IF(M66=M67,0.5,0)))),0)","v":0},null,{"$f":"+H66+K66","v":0},{"$f":"IF(P66>2,P66,H66+K66+N66)","v":0},null,{"$f":"IF(Q66+Q67>=1.5,(IF(Q66>Q67,3,0)),0)","v":0},{"$f":"IF(G66+G67+J66+J67=0,0,G66+J66-G67-J67)","v":0},{"$f":"IF((S66+S67)=3,(P66+S66),0)","v":0}]
[null,null,{"$f":"DRAW!$G$115","v":0},null,{"$f":"VLOOKUP(C67,DRAW!$C$5:'DRAW'!$E$46,3,0)","v":{"$error":"#N/A"}},null,null,{"$f":"IF(G66+G67>0,(IF(G66<G67,1,(IF(G66=G67,0.5,0)))),0)","v":0},null,null,{"$f":"IF(J66+J67>0,(IF(J66<J67,1,(IF(J66=J67,0.5,0)))),0)","v":0},null,null,{"$f":"IF(M66+M67>0,(IF(M66<M67,1,(IF(M66=M67,0.5,0)))),0)","v":0},null,{"$f":"+H67+K67","v":0},{"$f":"IF(P67>2,P67,H67+K67+N67)","v":0},null,0,{"$f":"IF(G66+G67+J66+J67=0,0,G67+J67-G66-J66)","v":0},{"$f":"IF((S66+S67)=3,(P67+S67),0)","v":0}]

{"sheet":"Round 2","index":5,"n_rows":67,"n_cols":21,"rows_kept":67,"merged":[[0,1,0,20],[2,1,2,20],[3,3,3,4],[5,1,6,1],[8,1,9,1],[11,1,12,1],[14,1,15,1],[17,1,18,1],[20,1,21,1],[23,1,24,1],[26,1,27,1],[29,1,30,1],[32,1,33,1],[35,1,36,1],[38,1,39,1],[41,1,42,1],[44,1,45,1],[47,1,48,1],[50,1,51,1],[53,1,54,1],[56,1,57,1],[59,1,60,1],[62,1,63,1],[65,1,66,1]]}
[null,{"$f":"DRAW!$C$1","v":0}]
[]
[null,"R O U N D  2"]
[null,"Rink","Team No.","Skip",null,null,"1st    Set","Set Points",null,"2nd   Set","Set Points",null,"Tie Breaker","Set Points",null,"Set Points","S+TBPts",null,"Game Points","Margin","Total Points"]
[]
[null,{"$f":"DRAW!$H$54","v":0},{"$f":"DRAW!$I$54","v":0},null,{"$f":"VLOOKUP(C6,DRAW!$C$5:'DRAW'!$E$46,3,0)","v":{"$error":"#N/A"}},null,null,{"$f":"IF(G6+G7>0,(IF(G6>G7,1,(IF(G6=G7,0.5,0)))),0)","v":0},null,null,{"$f":"IF(J6+J7>0,(IF(J6>J7,1,(IF(J6=J7,0.5,0)))),0)","v":0},null,null,{"$f":"IF(M6+M7>0,(IF(M6>M7,1,(IF(M6=M7,0.5,0)))),0)","v":0},null,{"$f":"+H6+K6","v":0},{"$f":"IF(P6>2,P6,H6+K6+N6)","v":0},null,{"$f":"IF(Q6+Q7>=1.5,(IF(Q6>Q7,3,0)),0)","v":0},{"$f":"IF(G6+G7+J6+J7=0,0,G6+J6-G7-J7)","v":0},{"$f":"IF((S6+S7)=3,(P6+S6),0)","v":0}]
[null,null,{"$f":"DRAW!$I$55","v":0},null,{"$f":"VLOOKUP(C7,DRAW!$C$5:'DRAW'!$E$46,3,0)","v":{"$error":"#N/A"}},null,null,{"$f":"IF(G6+G7>0,(IF(G6<G7,1,(IF(G6=G7,0.5,0)))),0)","v":0},null,null,{"$f":"IF(J6+J7>0,(IF(J6<J7,1,(IF(J6=J7,0.5,0)))),0)","v":0},null,null,{"$f":"IF(M6+M7>0,(IF(M6<M7,1,(IF(M6=M7,0.5,0)))),0)","v":0},null,{"$f":"+H7+K7","v":0},{"$f":"IF(P7>2,P7,H7+K7+N7)","v":0},null,{"$f":"IF(Q7+Q8>=1.5,(IF(Q7>Q8,3,0)),0)","v":0},{"$f":"IF(G6+G7+J6+J7=0,0,G7+J7-G6-J6)","v":0},{"$f":"IF((S6+S7)=3,(P7+S7),0)","v":0}]
[]
[null,{"$f":"DRAW!$H$57","v":0},{"$f":"DRAW!$I$57","v":0},null,{"$f":"VLOOKUP(C9,DRAW!$C$5:'DRAW'!$E$46,3,0)","v":{"$error":"#N/A"}},null,null,{"$f":"IF(G9+G10>0,(IF(G9>G10,1,(IF(G9=G10,0.5,0)))),0)","v":0},null,null,{"$f":"IF(J9+J10>0,(IF(J9>J10,1,(IF(J9=J10,0.5,0)))),0)","v":0},null,null,{"$f":"IF(M9+M10>0,(IF(M9>M10,1,(IF(M9=M10,0.5,0)))),0)","v":0},null,{"$f":"+H9+K9","v":0},{"$f":"IF(P9>2,P9,H9+K9+N9)","v":0},null,{"$f":"IF(Q9+Q10>=1.5,(IF(Q9>Q10,3,0)),0)","v":0},{"$f":"IF(G9+G10+J9+J10=0,0,G9+J9-G10-J10)","v":0},{"$f":"IF((S9+S10)=3,(P9+S9),0)","v":0}]
[null,null,{"$f":"DRAW!$I$58","v":0},null,{"$f":"VLOOKUP(C10,DRAW!$C$5:'DRAW'!$E$46,3,0)","v":{"$error":"#N/A"}},null,null,{"$f":"IF(G9+G10>0,(IF(G9<G10,1,(IF(G9=G10,0.5,0)))),0)","v":0},null,null,{"$f":"IF(J9+J10>0,(IF(J9<J10,1,(IF(J9=J10,0.5,0)))),0)","v":0},null,null,{"$f":"IF(M9+M10>0,(IF(M9<M10,1,(IF(M9=M10,0.5,0)))),0)","v":0},null,{"$f":"+H10+K10","v":0},{"$f":"IF(P10>2,P10,H10+K10+N10)","v":0},null,0,{"$f":"IF(G9+G10+J9+J10=0,0,G10+J10-G9-J9)","v":0},{"$f":"IF((S9+S10)=3,(P10+S10),0)","v":0}]
[]
[null,{"$f":"DRAW!$H$60","v":0},{"$f":"DRAW!$I$60","v":0},null,{"$f":"VLOOKUP(C12,DRAW!$C$5:'DRAW'!$E$46,3,0)","v":{"$error":"#N/A"}},null,null,{"$f":"IF(G12+G13>0,(IF(G12>G13,1,(IF(G12=G13,0.5,0)))),0)","v":0},null,null,{"$f":"IF(J12+J13>0,(IF(J12>J13,1,(IF(J12=J13,0.5,0)))),0)","v":0},null,null,{"$f":"IF(M12+M13>0,(IF(M12>M13,1,(IF(M12=M13,0.5,0)))),0)","v":0},null,{"$f":"+H12+K12","v":0},{"$f":"IF(P12>2,P12,H12+K12+N12)","v":0},null,{"$f":"IF(Q12+Q13>=1.5,(IF(Q12>Q13,3,0)),0)","v":0},{"$f":"IF(G12+G13+J12+J13=0,0,G12+J12-G13-J13)","v":0},{"$f":"IF((S12+S13)=3,(P12+S12),0)","v":0}]
[null,null,{"$f":"DRAW!$I$61","v":0},null,{"$f":"VLOOKUP(C13,DRAW!$C$5:'DRAW'!$E$46,3,0)","v":{"$error":"#N/A"}},null,null,{"$f":"IF(G12+G13>0,(IF(G12<G13,1,(IF(G12=G13,0.5,0)))),0)","v":0},null,null,{"$f":"IF(J12+J13>0,(IF(J12<J13,1,(IF(J12=J13,0.5,0)))),0)","v":0},null,null,{"$f":"IF(M12+M13>0,(IF(M12<M13,1,(IF(M12=M13,0.5,0)))),0)","v":0},null,{"$f":"+H13+K13","v":0},{"$f":"IF(P13>2,P13,H13+K13+N13)","v":0},null,0,{"$f":"IF(G12+G13+J12+J13=0,0,G13+J13-G12-J12)","v":0},{"$f":"IF((S12+S13)=3,(P13+S13),0)","v":0}]
[]
[null,{"$f":"DRAW!$H$63","v":0},{"$f":"DRAW!$I$63","v":0},null,{"$f":"VLOOKUP(C15,DRAW!$C$5:'DRAW'!$E$46,3,0)","v":{"$error":"#N/A"}},null,null,{"$f":"IF(G15+G16>0,(IF(G15>G16,1,(IF(G15=G16,0.5,0)))),0)","v":0},null,null,{"$f":"IF(J15+J16>0,(IF(J15>J16,1,(IF(J15=J16,0.5,0)))),0)","v":0},null,null,{"$f":"IF(M15+M16>0,(IF(M15>M16,1,(IF(M15=M16,0.5,0)))),0)","v":0},null,{"$f":"+H15+K15","v":0},{"$f":"IF(P15>2,P15,H15+K15+N15)","v":0},null,{"$f":"IF(Q15+Q16>=1.5,(IF(Q15>Q16,3,0)),0)","v":0},{"$f":"IF(G15+G16+J15+J16=0,0,G15+J15-G16-J16)","v":0},{"$f":"IF((S15+S16)=3,(P15+S15),0)","v":0}]
[null,null,{"$f":"DRAW!$I$64","v":0},null,{"$f":"VLOOKUP(C16,DRAW!$C$5:'DRAW'!$E$46,3,0)","v":{"$error":"#N/A"}},null,null,{"$f":"IF(G15+G16>0,(IF(G15<G16,1,(IF(G15=G16,0.5,0)))),0)","v":0},null,null,{"$f":"IF(J15+J16>0,(IF(J15<J16,1,(IF(J15=J16,0.5,0)))),0)","v":0},10,null,{"$f":"IF(M15+M16>0,(IF(M15<M16,1,(IF(M15=M16,0.5,0)))),0)","v":0},null,{"$f":"+H16+K16","v":0},{"$f":"IF(P16>2,P16,H16+K16+N16)","v":0},null,0,{"$f":"IF(G15+G16+J15+J16=0,0,G16+J16-G15-J15)","v":0},{"$f":"IF((S15+S16)=3,(P16+S16),0)","v":0}]
[]
[null,{"$f":"DRAW!$H$66","v":0},{"$f":"DRAW!$I$66","v":0},null,{"$f":"VLOOKUP(C18,DRAW!$C$5:'DRAW'!$E$46,3,0)","v":{"$error":"#N/A"}},null,null,{"$f":"IF(G18+G19>0,(IF(G18>G19,1,(IF(G18=G19,0.5,0)))),0)","v":0},null,null,{"$f":"IF(J18+J19>0,(IF(J18>J19,1,(IF(J18=J19,0.5,0)))),0)","v":0},null,null,{"$f":"IF(M18+M19>0,(IF(M18>M19,1,(IF(M18=M19,0.5,0)))),0)","v":0},null,{"$f":"+H18+K18","v":0},{"$f":"IF(P18>2,P18,H18+K18+N18)","v":0},null,{"$f":"IF(Q18+Q19>=1.5,(IF(Q18>Q19,3,0)),0)","v":0},{"$f":"IF(G18+G19+J18+J19=0,0,G18+J18-G19-J19)","v":0},{"$f":"IF((S18+S19)=3,(P18+S18),0)","v":0}]
[null,null,{"$f":"DRAW!$I$67","v":0},null,{"$f":"VLOOKUP(C19,DRAW!$C$5:'DRAW'!$E$46,3,0)","v":{"$error":"#N/A"}},null,null,{"$f":"IF(G18+G19>0,(IF(G18<G19,1,(IF(G18=G19,0.5,0)))),0)","v":0},null,null,{"$f":"IF(J18+J19>0,(IF(J18<J19,1,(IF(J18=J19,0.5,0)))),0)","v":0},null,null,{"$f":"IF(M18+M19>0,(IF(M18<M19,1,(IF(M18=M19,0.5,0)))),0)","v":0},null,{"$f":"+H19+K19","v":0},{"$f":"IF(P19>2,P19,H19+K19+N19)","v":0},null,0,{"$f":"IF(G18+G19+J18+J19=0,0,G19+J19-G18-J18)","v":0},{"$f":"IF((S18+S19)=3,(P19+S19),0)","v":0}]
[]
[null,{"$f":"DRAW!$H$69","v":0},{"$f":"DRAW!$I$69","v":0},null,{"$f":"VLOOKUP(C21,DRAW!$C$5:'DRAW'!$E$46,3,0)","v":{"$error":"#N/A"}},null,null,{"$f":"IF(G21+G22>0,(IF(G21>G22,1,(IF(G21=G22,0.5,0)))),0)","v":0},null,null,{"$f":"IF(J21+J22>0,(IF(J21>J22,1,(IF(J21=J22,0.5,0)))),0)","v":0},null,null,{"$f":"IF(M21+M22>0,(IF(M21>M22,1,(IF(M21=M22,0.5,0)))),0)","v":0},null,{"$f":"+H21+K21","v":0},{"$f":"IF(P21>2,P21,H21+K21+N21)","v":0},null,{"$f":"IF(Q21+Q22>=1.5,(IF(Q21>Q22,3,0)),0)","v":0},{"$f":"IF(G21+G22+J21+J22=0,0,G21+J21-G22-J22)","v":0},{"$f":"IF((S21+S22)=3,(P21+S21),0)","v":0}]
[null,null,{"$f":"DRAW!$I$70","v":0},null,{"$f":"VLOOKUP(C22,DRAW!$C$5:'DRAW'!$E$46,3,0)","v":{"$error":"#N/A"}},null,null,{"$f":"IF(G21+G22>0,(IF(G21<G22,1,(IF(G21=G22,0.5,0)))),0)","v":0},null,null,{"$f":"IF(J21+J22>0,(IF(J21<J22,1,(IF(J21=J22,0.5,0)))),0)","v":0},null,null,{"$f":"IF(M21+M22>0,(IF(M21<M22,1,(IF(M21=M22,0.5,0)))),0)","v":0},null,{"$f":"+H22+K22","v":0},{"$f":"IF(P22>2,P22,H22+K22+N22)","v":0},null,0,{"$f":"IF(G21+G22+J21+J22=0,0,G22+J22-G21-J21)","v":0},{"$f":"IF((S21+S22)=3,(P22+S22),0)","v":0}]
[]
[null,{"$f":"DRAW!$H$72","v":0},{"$f":"DRAW!$I$72","v":0},null,{"$f":"VLOOKUP(C24,DRAW!$C$5:'DRAW'!$E$46,3,0)","v":{"$error":"#N/A"}},null,null,{"$f":"IF(G24+G25>0,(IF(G24>G25,1,(IF(G24=G25,0.5,0)))),0)","v":0},null,null,{"$f":"IF(J24+J25>0,(IF(J24>J25,1,(IF(J24=J25,0.5,0)))),0)","v":0},null,null,{"$f":"IF(M24+M25>0,(IF(M24>M25,1,(IF(M24=M25,0.5,0)))),0)","v":0},null,{"$f":"+H24+K24","v":0},{"$f":"IF(P24>2,P24,H24+K24+N24)","v":0},null,{"$f":"IF(Q24+Q25>=1.5,(IF(Q24>Q25,3,0)),0)","v":0},{"$f":"IF(G24+G25+J24+J25=0,0,G24+J24-G25-J25)","v":0},{"$f":"IF((S24+S25)=3,(P24+S24),0)","v":0}]
[null,null,{"$f":"DRAW!$I$73","v":0},null,{"$f":"VLOOKUP(C25,DRAW!$C$5:'DRAW'!$E$46,3,0)","v":{"$error":"#N/A"}},null,null,{"$f":"IF(G24+G25>0,(IF(G24<G25,1,(IF(G24=G25,0.5,0)))),0)","v":0},null,null,{"$f":"IF(J24+J25>0,(IF(J24<J25,1,(IF(J24=J25,0.5,0)))),0)","v":0},null,null,{"$f":"IF(M24+M25>0,(IF(M24<M25,1,(IF(M24=M25,0.5,0)))),0)","v":0},null,{"$f":"+H25+K25","v":0},{"$f":"IF(P25>2,P25,H25+K25+N25)","v":0},null,0,{"$f":"IF(G24+G25+J24+J25=0,0,G25+J25-G24-J24)","v":0},{"$f":"IF((S24+S25)=3,(P25+S25),0)","v":0}]
[]
[null,{"$f":"DRAW!$H$75","v":0},{"$f":"DRAW!$I$75","v":0},null,{"$f":"VLOOKUP(C27,DRAW!$C$5:'DRAW'!$E$46,3,0)","v":{"$error":"#N/A"}},null,null,{"$f":"IF(G27+G28>0,(IF(G27>G28,1,(IF(G27=G28,0.5,0)))),0)","v":0},null,null,{"$f":"IF(J27+J28>0,(IF(J27>J28,1,(IF(J27=J28,0.5,0)))),0)","v":0},null,null,{"$f":"IF(M27+M28>0,(IF(M27>M28,1,(IF(M27=M28,0.5,0)))),0)","v":0},null,{"$f":"+H27+K27","v":0},{"$f":"IF(P27>2,P27,H27+K27+N27)","v":0},null,{"$f":"IF(Q27+Q28>=1.5,(IF(Q27>Q28,3,0)),0)","v":0},{"$f":"IF(G27+G28+J27+J28=0,0,G27+J27-G28-J28)","v":0},{"$f":"IF((S27+S28)=3,(P27+S27),0)","v":0}]
[null,null,{"$f":"DRAW!$I$76","v":0},null,{"$f":"VLOOKUP(C28,DRAW!$C$5:'DRAW'!$E$46,3,0)","v":{"$error":"#N/A"}},null,null,{"$f":"IF(G27+G28>0,(IF(G27<G28,1,(IF(G27=G28,0.5,0)))),0)","v":0},null,null,{"$f":"IF(J27+J28>0,(IF(J27<J28,1,(IF(J27=J28,0.5,0)))),0)","v":0},null,null,{"$f":"IF(M27+M28>0,(IF(M27<M28,1,(IF(M27=M28,0.5,0)))),0)","v":0},null,{"$f":"+H28+K28","v":0},{"$f":"IF(P28>2,P28,H28+K28+N28)","v":0},null,0,{"$f":"IF(G27+G28+J27+J28=0,0,G28+J28-G27-J27)","v":0},{"$f":"IF((S27+S28)=3,(P28+S28),0)","v":0}]
[]
[null,{"$f":"DRAW!$H$78","v":0},{"$f":"DRAW!$I$78","v":0},null,{"$f":"VLOOKUP(C30,DRAW!$C$5:'DRAW'!$E$46,3,0)","v":{"$error":"#N/A"}},null,null,{"$f":"IF(G30+G31>0,(IF(G30>G31,1,(IF(G30=G31,0.5,0)))),0)","v":0},null,null,{"$f":"IF(J30+J31>0,(IF(J30>J31,1,(IF(J30=J31,0.5,0)))),0)","v":0},null,null,{"$f":"IF(M30+M31>0,(IF(M30>M31,1,(IF(M30=M31,0.5,0)))),0)","v":0},null,{"$f":"+H30+K30","v":0},{"$f":"IF(P30>2,P30,H30+K30+N30)","v":0},null,{"$f":"IF(Q30+Q31>=1.5,(IF(Q30>Q31,3,0)),0)","v":0},{"$f":"IF(G30+G31+J30+J31=0,0,G30+J30-G31-J31)","v":0},{"$f":"IF((S30+S31)=3,(P30+S30),0)","v":0}]
[null,null,{"$f":"DRAW!$I$79","v":0},null,{"$f":"VLOOKUP(C31,DRAW!$C$5:'DRAW'!$E$46,3,0)","v":{"$error":"#N/A"}},null,null,{"$f":"IF(G30+G31>0,(IF(G30<G31,1,(IF(G30=G31,0.5,0)))),0)","v":0},null,null,{"$f":"IF(J30+J31>0,(IF(J30<J31,1,(IF(J30=J31,0.5,0)))),0)","v":0},null,null,{"$f":"IF(M30+M31>0,(IF(M30<M31,1,(IF(M30=M31,0.5,0)))),0)","v":0},null,{"$f":"+H31+K31","v":0},{"$f":"IF(P31>2,P31,H31+K31+N31)","v":0},null,0,{"$f":"IF(G30+G31+J30+J31=0,0,G31+J31-G30-J30)","v":0},{"$f":"IF((S30+S31)=3,(P31+S31),0)","v":0}]
[]
[null,{"$f":"DRAW!$H$81","v":0},{"$f":"DRAW!$I$81","v":0},null,{"$f":"VLOOKUP(C33,DRAW!$C$5:'DRAW'!$E$46,3,0)","v":{"$error":"#N/A"}},null,null,{"$f":"IF(G33+G34>0,(IF(G33>G34,1,(IF(G33=G34,0.5,0)))),0)","v":0},null,null,{"$f":"IF(J33+J34>0,(IF(J33>J34,1,(IF(J33=J34,0.5,0)))),0)","v":0},null,null,{"$f":"IF(M33+M34>0,(IF(M33>M34,1,(IF(M33=M34,0.5,0)))),0)","v":0},null,{"$f":"+H33+K33","v":0},{"$f":"IF(P33>2,P33,H33+K33+N33)","v":0},null,{"$f":"IF(Q33+Q34>=1.5,(IF(Q33>Q34,3,0)),0)","v":0},{"$f":"IF(G33+G34+J33+J34=0,0,G33+J33-G34-J34)","v":0},{"$f":"IF((S33+S34)=3,(P33+S33),0)","v":0}]
[null,null,{"$f":"DRAW!$I$82","v":0},null,{"$f":"VLOOKUP(C34,DRAW!$C$5:'DRAW'!$E$46,3,0)","v":{"$error":"#N/A"}},null,null,{"$f":"IF(G33+G34>0,(IF(G33<G34,1,(IF(G33=G34,0.5,0)))),0)","v":0},null,null,{"$f":"IF(J33+J34>0,(IF(J33<J34,1,(IF(J33=J34,0.5,0)))),0)","v":0},null,null,{"$f":"IF(M33+M34>0,(IF(M33<M34,1,(IF(M33=M34,0.5,0)))),0)","v":0},null,{"$f":"+H34+K34","v":0},{"$f":"IF(P34>2,P34,H34+K34+N34)","v":0},null,0,{"$f":"IF(G33+G34+J33+J34=0,0,G34+J34-G33-J33)","v":0},{"$f":"IF((S33+S34)=3,(P34+S34),0)","v":0}]
[]
[null,{"$f":"DRAW!$H$84","v":0},{"$f":"DRAW!$I$84","v":0},null,{"$f":"VLOOKUP(C36,DRAW!$C$5:'DRAW'!$E$46,3,0)","v":{"$error":"#N/A"}},null,null,{"$f":"IF(G36+G37>0,(IF(G36>G37,1,(IF(G36=G37,0.5,0)))),0)","v":0},null,null,{"$f":"IF(J36+J37>0,(IF(J36>J37,1,(IF(J36=J37,0.5,0)))),0)","v":0},null,null,{"$f":"IF(M36+M37>0,(IF(M36>M37,1,(IF(M36=M37,0.5,0)))),0)","v":0},null,{"$f":"+H36+K36","v":0},{"$f":"IF(P36>2,P36,H36+K36+N36)","v":0},null,{"$f":"IF(Q36+Q37>=1.5,(IF(Q36>Q37,3,0)),0)","v":0},{"$f":"IF(G36+G37+J36+J37=0,0,G36+J36-G37-J37)","v":0},{"$f":"IF((S36+S37)=3,(P36+S36),0)","v":0}]
[null,null,{"$f":"DRAW!$I$85","v":0},null,{"$f":"VLOOKUP(C37,DRAW!$C$5:'DRAW'!$E$46,3,0)","v":{"$error":"#N/A"}},null,null,{"$f":"IF(G36+G37>0,(IF(G36<G37,1,(IF(G36=G37,0.5,0)))),0)","v":0},null,null,{"$f":"IF(J36+J37>0,(IF(J36<J37,1,(IF(J36=J37,0.5,0)))),0)","v":0},null,null,{"$f":"IF(M36+M37>0,(IF(M36<M37,1,(IF(M36=M37,0.5,0)))),0)","v":0},null,{"$f":"+H37+K37","v":0},{"$f":"IF(P37>2,P37,H37+K37+N37)","v":0},null,0,{"$f":"IF(G36+G37+J36+J37=0,0,G37+J37-G36-J36)","v":0},{"$f":"IF((S36+S37)=3,(P37+S37),0)","v":0}]
[]
[null,{"$f":"DRAW!$H$87","v":0},{"$f":"DRAW!$I$87","v":0},null,{"$f":"VLOOKUP(C39,DRAW!$C$5:'DRAW'!$E$46,3,0)","v":{"$error":"#N/A"}},null,null,{"$f":"IF(G39+G40>0,(IF(G39>G40,1,(IF(G39=G40,0.5,0)))),0)","v":0},null,null,{"$f":"IF(J39+J40>0,(IF(J39>J40,1,(IF(J39=J40,0.5,0)))),0)","v":0},null,null,{"$f":"IF(M39+M40>0,(IF(M39>M40,1,(IF(M39=M40,0.5,0)))),0)","v":0},null,{"$f":"+H39+K39","v":0},{"$f":"IF(P39>2,P39,H39+K39+N39)","v":0},null,{"$f":"IF(Q39+Q40>=1.5,(IF(Q39>Q40,3,0)),0)","v":0},{"$f":"IF(G39+G40+J39+J40=0,0,G39+J39-G40-J40)","v":0},{"$f":"IF((S39+S40)=3,(P39+S39),0)","v":0}]
[null,null,{"$f":"DRAW!$I$88","v":0},null,{"$f":"VLOOKUP(C40,DRAW!$C$5:'DRAW'!$E$46,3,0)","v":{"$error":"#N/A"}},null,null,{"$f":"IF(G39+G40>0,(IF(G39<G40,1,(IF(G39=G40,0.5,0)))),0)","v":0},null,null,{"$f":"IF(J39+J40>0,(IF(J39<J40,1,(IF(J39=J40,0.5,0)))),0)","v":0},null,null,{"$f":"IF(M39+M40>0,(IF(M39<M40,1,(IF(M39=M40,0.5,0)))),0)","v":0},null,0,{"$f":"IF(P40>2,P40,H40+K40+N40)","v":0},null,0,{"$f":"IF(G39+G40+J39+J40=0,0,G40+J40-G39-J39)","v":0},{"$f":"IF((S39+S40)=3,(P40+S40),0)","v":0}]
[]
[null,{"$f":"DRAW!$H$90","v":0},{"$f":"DRAW!$I$90","v":0},null,{"$f":"VLOOKUP(C42,DRAW!$C$5:'DRAW'!$E$46,3,0)","v":{"$error":"#N/A"}},null,null,{"$f":"IF(G42+G43>0,(IF(G42>G43,1,(IF(G42=G43,0.5,0)))),0)","v":0},null,null,{"$f":"IF(J42+J43>0,(IF(J42>J43,1,(IF(J42=J43,0.5,0)))),0)","v":0},null,null,{"$f":"IF(M42+M43>0,(IF(M42>M43,1,(IF(M42=M43,0.5,0)))),0)","v":0},null,{"$f":"+H42+K42","v":0},{"$f":"IF(P42>2,P42,H42+K42+N42)","v":0},null,{"$f":"IF(Q42+Q43>=1.5,(IF(Q42>Q43,3,0)),0)","v":0},{"$f":"IF(G42+G43+J42+J43=0,0,G42+J42-G43-J43)","v":0},{"$f":"IF((S42+S43)=3,(P42+S42),0)","v":0}]
[null,null,{"$f":"DRAW!$I$91","v":0},null,{"$f":"VLOOKUP(C43,DRAW!$C$5:'DRAW'!$E$46,3,0)","v":{"$error":"#N/A"}},null,null,{"$f":"IF(G42+G43>0,(IF(G42<G43,1,(IF(G42=G43,0.5,0)))),0)","v":0},null,null,{"$f":"IF(J42+J43>0,(IF(J42<J43,1,(IF(J42=J43,0.5,0)))),0)","v":0},null,null,{"$f":"IF(M42+M43>0,(IF(M42<M43,1,(IF(M42=M43,0.5,0)))),0)","v":0},null,{"$f":"+H43+K43","v":0},{"$f":"IF(P43>2,P43,H43+K43+N43)","v":0},null,0,{"$f":"IF(G42+G43+J42+J43=0,0,G43+J43-G42-J42)","v":0},{"$f":"IF((S42+S43)=3,(P43+S43),0)","v":0}]
[]
[null,{"$f":"DRAW!$H$93","v":0},{"$f":"DRAW!$I$93","v":0},null,{"$f":"VLOOKUP(C45,DRAW!$C$5:'DRAW'!$E$46,3,0)","v":{"$error":"#N/A"}},null,null,{"$f":"IF(G45+G46>0,(IF(G45>G46,1,(IF(G45=G46,0.5,0)))),0)","v":0},null,null,{"$f":"IF(J45+J46>0,(IF(J45>J46,1,(IF(J45=J46,0.5,0)))),0)","v":0},null,null,{"$f":"IF(M45+M46>0,(IF(M45>M46,1,(IF(M45=M46,0.5,0)))),0)","v":0},null,{"$f":"+H45+K45","v":0},{"$f":"IF(P45>2,P45,H45+K45+N45)","v":0},null,{"$f":"IF(Q45+Q46>=1.5,(IF(Q45>Q46,3,0)),0)","v":0},{"$f":"IF(G45+G46+J45+J46=0,0,G45+J45-G46-J46)","v":0},{"$f":"IF((S45+S46)=3,(P45+S45),0)","v":0}]
[null,null,{"$f":"DRAW!$I$94","v":0},null,{"$f":"VLOOKUP(C46,DRAW!$C$5:'DRAW'!$E$46,3,0)","v":{"$error":"#N/A"}},null,null,{"$f":"IF(G45+G46>0,(IF(G45<G46,1,(IF(G45=G46,0.5,0)))),0)","v":0},null,null,{"$f":"IF(J45+J46>0,(IF(J45<J46,1,(IF(J45=J46,0.5,0)))),0)","v":0},null,null,{"$f":"IF(M45+M46>0,(IF(M45<M46,1,(IF(M45=M46,0.5,0)))),0)","v":0},null,{"$f":"+H46+K46","v":0},{"$f":"IF(P46>2,P46,H46+K46+N46)","v":0},null,0,{"$f":"IF(G45+G46+J45+J46=0,0,G46+J46-G45-J45)","v":0},{"$f":"IF((S45+S46)=3,(P46+S46),0)","v":0}]
[]
[null,{"$f":"DRAW!$H$96","v":0},{"$f":"DRAW!$I$96","v":0},null,{"$f":"VLOOKUP(C48,DRAW!$C$5:'DRAW'!$E$46,3,0)","v":{"$error":"#N/A"}},null,null,{"$f":"IF(G48+G49>0,(IF(G48>G49,1,(IF(G48=G49,0.5,0)))),0)","v":0},null,null,{"$f":"IF(J48+J49>0,(IF(J48>J49,1,(IF(J48=J49,0.5,0)))),0)","v":0},null,null,{"$f":"IF(M48+M49>0,(IF(M48>M49,1,(IF(M48=M49,0.5,0)))),0)","v":0},null,{"$f":"+H48+K48","v":0},{"$f":"IF(P48>2,P48,H48+K48+N48)","v":0},null,{"$f":"IF(Q48+Q49>=1.5,(IF(Q48>Q49,3,0)),0)","v":0},{"$f":"IF(G48+G49+J48+J49=0,0,G48+J48-G49-J49)","v":0},{"$f":"IF((S48+S49)=3,(P48+S48),0)","v":0}]
[null,null,{"$f":"DRAW!$I$97","v":0},null,{"$f":"VLOOKUP(C49,DRAW!$C$5:'DRAW'!$E$46,3,0)","v":{"$error":"#N/A"}},null,null,{"$f":"IF(G48+G49>0,(IF(G48<G49,1,(IF(G48=G49,0.5,0)))),0)","v":0},null,null,{"$f":"IF(J48+J49>0,(IF(J48<J49,1,(IF(J48=J49,0.5,0)))),0)","v":0},null,null,{"$f":"IF(M48+M49>0,(IF(M48<M49,1,(IF(M48=M49,0.5,0)))),0)","v":0},null,{"$f":"+H49+K49","v":0},{"$f":"IF(P49>2,P49,H49+K49+N49)","v":0},null,0,{"$f":"IF(G48+G49+J48+J49=0,0,G49+J49-G48-J48)","v":0},{"$f":"IF((S48+S49)=3,(P49+S49),0)","v":0}]
[]
[null,{"$f":"DRAW!$H$99","v":0},{"$f":"DRAW!$I$99","v":0},null,{"$f":"VLOOKUP(C51,DRAW!$C$5:'DRAW'!$E$46,3,0)","v":{"$error":"#N/A"}},null,null,{"$f":"IF(G51+G52>0,(IF(G51>G52,1,(IF(G51=G52,0.5,0)))),0)","v":0},null,null,{"$f":"IF(J51+J52>0,(IF(J51>J52,1,(IF(J51=J52,0.5,0)))),0)","v":0},null,null,{"$f":"IF(M51+M52>0,(IF(M51>M52,1,(IF(M51=M52,0.5,0)))),0)","v":0},null,{"$f":"+H51+K51","v":0},{"$f":"IF(P51>2,P51,H51+K51+N51)","v":0},null,{"$f":"IF(Q51+Q52>=1.5,(IF(Q51>Q52,3,0)),0)","v":0},{"$f":"IF(G51+G52+J51+J52=0,0,G51+J51-G52-J52)","v":0},{"$f":"IF((S51+S52)=3,(P51+S51),0)","v":0}]
[null,null,{"$f":"DRAW!$I$100","v":0},null,{"$f":"VLOOKUP(C52,DRAW!$C$5:'DRAW'!$E$46,3,0)","v":{"$error":"#N/A"}},null,null,{"$f":"IF(G51+G52>0,(IF(G51<G52,1,(IF(G51=G52,0.5,0)))),0)","v":0},null,null,{"$f":"IF(J51+J52>0,(IF(J51<J52,1,(IF(J51=J52,0.5,0)))),0)","v":0},null,null,{"$f":"IF(M51+M52>0,(IF(M51<M52,1,(IF(M51=M52,0.5,0)))),0)","v":0},null,{"$f":"+H52+K52","v":0},{"$f":"IF(P52>2,P52,H52+K52+N52)","v":0},null,0,{"$f":"IF(G51+G52+J51+J52=0,0,G52+J52-G51-J51)","v":0},{"$f":"IF((S51+S52)=3,(P52+S52),0)","v":0}]
[]
[null,{"$f":"DRAW!$H$102","v":0},{"$f":"DRAW!$I$102","v":0},null,{"$f":"VLOOKUP(C54,DRAW!$C$5:'DRAW'!$E$46,3,0)","v":{"$error":"#N/A"}},null,null,{"$f":"IF(G54+G55>0,(IF(G54>G55,1,(IF(G54=G55,0.5,0)))),0)","v":0},null,null,{"$f":"IF(J54+J55>0,(IF(J54>J55,1,(IF(J54=J55,0.5,0)))),0)","v":0},null,null,{"$f":"IF(M54+M55>0,(IF(M54>M55,1,(IF(M54=M55,0.5,0)))),0)","v":0},null,{"$f":"+H54+K54","v":0},{"$f":"IF(P54>2,P54,H54+K54+N54)","v":0},null,{"$f":"IF(Q54+Q55>=1.5,(IF(Q54>Q55,3,0)),0)","v":0},{"$f":"IF(G54+G55+J54+J55=0,0,G54+J54-G55-J55)","v":0},{"$f":"IF((S54+S55)=3,(P54+S54),0)","v":0}]
[null,null,{"$f":"DRAW!$I$103","v":0},null,{"$f":"VLOOKUP(C55,DRAW!$C$5:'DRAW'!$E$46,3,0)","v":{"$error":"#N/A"}},null,null,{"$f":"IF(G54+G55>0,(IF(G54<G55,1,(IF(G54=G55,0.5,0)))),0)","v":0},null,null,{"$f":"IF(J54+J55>0,(IF(J54<J55,1,(IF(J54=J55,0.5,0)))),0)","v":0},null,null,{"$f":"IF(M54+M55>0,(IF(M54<M55,1,(IF(M54=M55,0.5,0)))),0)","v":0},null,{"$f":"+H55+K55","v":0},{"$f":"IF(P55>2,P55,H55+K55+N55)","v":0},null,0,{"$f":"IF(G54+G55+J54+J55=0,0,G55+J55-G54-J54)","v":0},{"$f":"IF((S54+S55)=3,(P55+S55),0)","v":0}]
[]
[null,{"$f":"DRAW!$H$105","v":0},{"$f":"DRAW!$I$105","v":0},null,{"$f":"VLOOKUP(C57,DRAW!$C$5:'DRAW'!$E$46,3,0)","v":{"$error":"#N/A"}},null,null,{"$f":"IF(G57+G58>0,(IF(G57>G58,1,(IF(G57=G58,0.5,0)))),0)","v":0},null,null,{"$f":"IF(J57+J58>0,(IF(J57>J58,1,(IF(J57=J58,0.5,0)))),0)","v":0},null,null,{"$f":"IF(M57+M58>0,(IF(M57>M58,1,(IF(M57=M58,0.5,0)))),0)","v":0},null,{"$f":"+H57+K57","v":0},{"$f":"IF(P57>2,P57,H57+K57+N57)","v":0},null,{"$f":"IF(Q57+Q58>=1.5,(IF(Q57>Q58,3,0)),0)","v":0},{"$f":"IF(G57+G58+J57+J58=0,0,G57+J57-G58-J58)","v":0},{"$f":"IF((S57+S58)=3,(P57+S57),0)","v":0}]
[null,null,{"$f":"DRAW!$I$106","v":0},null,{"$f":"VLOOKUP(C58,DRAW!$C$5:'DRAW'!$E$46,3,0)","v":{"$error":"#N/A"}},null,null,{"$f":"IF(G57+G58>0,(IF(G57<G58,1,(IF(G57=G58,0.5,0)))),0)","v":0},null,null,{"$f":"IF(J57+J58>0,(IF(J57<J58,1,(IF(J57=J58,0.5,0)))),0)","v":0},null,null,{"$f":"IF(M57+M58>0,(IF(M57<M58,1,(IF(M57=M58,0.5,0)))),0)","v":0},null,{"$f":"+H58+K58","v":0},{"$f":"IF(P58>2,P58,H58+K58+N58)","v":0},null,0,{"$f":"IF(G57+G58+J57+J58=0,0,G58+J58-G57-J57)","v":0},{"$f":"IF((S57+S58)=3,(P58+S58),0)","v":0}]
[]
[null,{"$f":"DRAW!$H$108","v":0},{"$f":"DRAW!$I$108","v":0},null,{"$f":"VLOOKUP(C60,DRAW!$C$5:'DRAW'!$E$46,3,0)","v":{"$error":"#N/A"}},null,null,{"$f":"IF(G60+G61>0,(IF(G60>G61,1,(IF(G60=G61,0.5,0)))),0)","v":0},null,null,{"$f":"IF(J60+J61>0,(IF(J60>J61,1,(IF(J60=J61,0.5,0)))),0)","v":0},null,null,{"$f":"IF(M60+M61>0,(IF(M60>M61,1,(IF(M60=M61,0.5,0)))),0)","v":0},null,{"$f":"+H60+K60","v":0},{"$f":"IF(P60>2,P60,H60+K60+N60)","v":0},null,{"$f":"IF(Q60+Q61>=1.5,(IF(Q60>Q61,3,0)),0)","v":0},{"$f":"IF(G60+G61+J60+J61=0,0,G60+J60-G61-J61)","v":0},{"$f":"IF((S60+S61)=3,(P60+S60),0)","v":0}]
[null,null,{"$f":"DRAW!$I$109","v":0},null,{"$f":"VLOOKUP(C61,DRAW!$C$5:'DRAW'!$E$46,3,0)","v":{"$error":"#N/A"}},null,null,{"$f":"IF(G60+G61>0,(IF(G60<G61,1,(IF(G60=G61,0.5,0)))),0)","v":0},null,null,{"$f":"IF(J60+J61>0,(IF(J60<J61,1,(IF(J60=J61,0.5,0)))),0)","v":0},null,null,{"$f":"IF(M60+M61>0,(IF(M60<M61,1,(IF(M60=M61,0.5,0)))),0)","v":0},null,{"$f":"+H61+K61","v":0},{"$f":"IF(P61>2,P61,H61+K61+N61)","v":0},null,0,{"$f":"IF(G60+G61+J60+J61=0,0,G61+J61-G60-J60)","v":0},{"$f":"IF((S60+S61)=3,(P61+S61),0)","v":0}]
[]
[null,{"$f":"DRAW!$H$111","v":0},{"$f":"DRAW!$I$111","v":0},null,{"$f":"VLOOKUP(C63,DRAW!$C$5:'DRAW'!$E$46,3,0)","v":{"$error":"#N/A"}},null,null,{"$f":"IF(G63+G64>0,(IF(G63>G64,1,(IF(G63=G64,0.5,0)))),0)","v":0},null,null,{"$f":"IF(J63+J64>0,(IF(J63>J64,1,(IF(J63=J64,0.5,0)))),0)","v":0},null,null,{"$f":"IF(M63+M64>0,(IF(M63>M64,1,(IF(M63=M64,0.5,0)))),0)","v":0},null,{"$f":"+H63+K63","v":0},{"$f":"IF(P63>2,P63,H63+K63+N63)","v":0},null,{"$f":"IF(Q63+Q64>=1.5,(IF(Q63>Q64,3,0)),0)","v":0},{"$f":"IF(G63+G64+J63+J64=0,0,G63+J63-G64-J64)","v":0},{"$f":"IF((S63+S64)=3,(P63+S63),0)","v":0}]
[null,null,{"$f":"DRAW!$I$112","v":0},null,{"$f":"VLOOKUP(C64,DRAW!$C$5:'DRAW'!$E$46,3,0)","v":{"$error":"#N/A"}},null,null,{"$f":"IF(G63+G64>0,(IF(G63<G64,1,(IF(G63=G64,0.5,0)))),0)","v":0},null,null,{"$f":"IF(J63+J64>0,(IF(J63<J64,1,(IF(J63=J64,0.5,0)))),0)","v":0},null,null,{"$f":"IF(M63+M64>0,(IF(M63<M64,1,(IF(M63=M64,0.5,0)))),0)","v":0},null,{"$f":"+H64+K64","v":0},{"$f":"IF(P64>2,P64,H64+K64+N64)","v":0},null,0,{"$f":"IF(G63+G64+J63+J64=0,0,G64+J64-G63-J63)","v":0},{"$f":"IF((S63+S64)=3,(P64+S64),0)","v":0}]
[]
[null,{"$f":"DRAW!$H$114","v":0},{"$f":"DRAW!$I$114","v":0},null,{"$f":"VLOOKUP(C66,DRAW!$C$5:'DRAW'!$E$46,3,0)","v":{"$error":"#N/A"}},null,null,{"$f":"IF(G66+G67>0,(IF(G66>G67,1,(IF(G66=G67,0.5,0)))),0)","v":0},null,null,{"$f":"IF(J66+J67>0,(IF(J66>J67,1,(IF(J66=J67,0.5,0)))),0)","v":0},null,null,{"$f":"IF(M66+M67>0,(IF(M66>M67,1,(IF(M66=M67,0.5,0)))),0)","v":0},null,{"$f":"+H66+K66","v":0},{"$f":"IF(P66>2,P66,H66+K66+N66)","v":0},null,{"$f":"IF(Q66+Q67>=1.5,(IF(Q66>Q67,3,0)),0)","v":0},{"$f":"IF(G66+G67+J66+J67=0,0,G66+J66-G67-J67)","v":0},{"$f":"IF((S66+S67)=3,(P66+S66),0)","v":0}]
[null,null,{"$f":"DRAW!$I$115","v":0},null,{"$f":"VLOOKUP(C67,DRAW!$C$5:'DRAW'!$E$46,3,0)","v":{"$error":"#N/A"}},null,null,{"$f":"IF(G66+G67>0,(IF(G66<G67,1,(IF(G66=G67,0.5,0)))),0)","v":0},null,null,{"$f":"IF(J66+J67>0,(IF(J66<J67,1,(IF(J66=J67,0.5,0)))),0)","v":0},null,null,{"$f":"IF(M66+M67>0,(IF(M66<M67,1,(IF(M66=M67,0.5,0)))),0)","v":0},null,{"$f":"+H67+K67","v":0},{"$f":"IF(P67>2,P67,H67+K67+N67)","v":0},null,0,{"$f":"IF(G66+G67+J66+J67=0,0,G67+J67-G66-J66)","v":0},{"$f":"IF((S66+S67)=3,(P67+S67),0)","v":0}]

{"sheet":"Round 3","index":6,"n_rows":67,"n_cols":21,"rows_kept":67,"merged":[[0,1,0,20],[2,1,2,20],[3,3,3,4],[5,1,6,1],[8,1,9,1],[11,1,12,1],[14,1,15,1],[17,1,18,1],[20,1,21,1],[23,1,24,1],[26,1,27,1],[29,1,30,1],[32,1,33,1],[35,1,36,1],[38,1,39,1],[41,1,42,1],[44,1,45,1],[47,1,48,1],[50,1,51,1],[53,1,54,1],[56,1,57,1],[59,1,60,1],[62,1,63,1],[65,1,66,1]]}
[null,{"$f":"DRAW!$C$1","v":0}]
[]
[null,"R O U N D  3"]
[null,"Rink","Team No.","Skip",null,null,"1st    Set","Set Points",null,"2nd   Set","Set Points",null,"Tie Breaker","Set Points",null,"Set Points","S+TBPts",null,"Game Points","Margin","Total Points"]
[]
[null,{"$f":"DRAW!$J$54","v":0},{"$f":"DRAW!$K$54","v":0},null,{"$f":"VLOOKUP(C6,DRAW!$C$5:'DRAW'!$E$46,3,0)","v":{"$error":"#N/A"}},null,null,{"$f":"IF(G6+G7>0,(IF(G6>G7,1,(IF(G6=G7,0.5,0)))),0)","v":0},null,null,{"$f":"IF(J6+J7>0,(IF(J6>J7,1,(IF(J6=J7,0.5,0)))),0)","v":0},null,null,{"$f":"IF(M6+M7>0,(IF(M6>M7,1,(IF(M6=M7,0.5,0)))),0)","v":0},null,{"$f":"+H6+K6","v":0},{"$f":"IF(P6>2,P6,H6+K6+N6)","v":0},null,{"$f":"IF(Q6+Q7>=1.5,(IF(Q6>Q7,3,0)),0)","v":0},{"$f":"IF(G6+G7+J6+J7=0,0,G6+J6-G7-J7)","v":0},{"$f":"IF((S6+S7)=3,(P6+S6),0)","v":0}]
[null,null,{"$f":"DRAW!$K$55","v":0},null,{"$f":"VLOOKUP(C7,DRAW!$C$5:'DRAW'!$E$46,3,0)","v":{"$error":"#N/A"}},null,null,{"$f":"IF(G6+G7>0,(IF(G6<G7,1,(IF(G6=G7,0.5,0)))),0)","v":0},null,null,{"$f":"IF(J6+J7>0,(IF(J6<J7,1,(IF(J6=J7,0.5,0)))),0)","v":0},null,null,{"$f":"IF(M6+M7>0,(IF(M6<M7,1,(IF(M6=M7,0.5,0)))),0)","v":0},null,{"$f":"+H7+K7","v":0},{"$f":"IF(P7>2,P7,H7+K7+N7)","v":0},null,{"$f":"IF(Q7+Q8>=1.5,(IF(Q7>Q8,3,0)),0)","v":0},{"$f":"IF(G6+G7+J6+J7=0,0,G7+J7-G6-J6)","v":0},{"$f":"IF((S6+S7)=3,(P7+S7),0)","v":0}]
[]
[null,{"$f":"DRAW!$J$57","v":0},{"$f":"DRAW!$K$57","v":0},null,{"$f":"VLOOKUP(C9,DRAW!$C$5:'DRAW'!$E$46,3,0)","v":{"$error":"#N/A"}},null,null,{"$f":"IF(G9+G10>0,(IF(G9>G10,1,(IF(G9=G10,0.5,0)))),0)","v":0},null,null,{"$f":"IF(J9+J10>0,(IF(J9>J10,1,(IF(J9=J10,0.5,0)))),0)","v":0},null,null,{"$f":"IF(M9+M10>0,(IF(M9>M10,1,(IF(M9=M10,0.5,0)))),0)","v":0},null,{"$f":"+H9+K9","v":0},{"$f":"IF(P9>2,P9,H9+K9+N9)","v":0},null,{"$f":"IF(Q9+Q10>=1.5,(IF(Q9>Q10,3,0)),0)","v":0},{"$f":"IF(G9+G10+J9+J10=0,0,G9+J9-G10-J10)","v":0},{"$f":"IF((S9+S10)=3,(P9+S9),0)","v":0}]
[null,null,{"$f":"DRAW!$K$58","v":0},null,{"$f":"VLOOKUP(C10,DRAW!$C$5:'DRAW'!$E$46,3,0)","v":{"$error":"#N/A"}},null,null,{"$f":"IF(G9+G10>0,(IF(G9<G10,1,(IF(G9=G10,0.5,0)))),0)","v":0},null,null,{"$f":"IF(J9+J10>0,(IF(J9<J10,1,(IF(J9=J10,0.5,0)))),0)","v":0},null,null,{"$f":"IF(M9+M10>0,(IF(M9<M10,1,(IF(M9=M10,0.5,0)))),0)","v":0},null,{"$f":"+H10+K10","v":0},{"$f":"IF(P10>2,P10,H10+K10+N10)","v":0},null,0,{"$f":"IF(G9+G10+J9+J10=0,0,G10+J10-G9-J9)","v":0},{"$f":"IF((S9+S10)=3,(P10+S10),0)","v":0}]
[]
[null,{"$f":"DRAW!$J$60","v":0},{"$f":"DRAW!$K$60","v":0},null,{"$f":"VLOOKUP(C12,DRAW!$C$5:'DRAW'!$E$46,3,0)","v":{"$error":"#N/A"}},null,null,{"$f":"IF(G12+G13>0,(IF(G12>G13,1,(IF(G12=G13,0.5,0)))),0)","v":0},null,null,{"$f":"IF(J12+J13>0,(IF(J12>J13,1,(IF(J12=J13,0.5,0)))),0)","v":0},null,null,{"$f":"IF(M12+M13>0,(IF(M12>M13,1,(IF(M12=M13,0.5,0)))),0)","v":0},null,{"$f":"+H12+K12","v":0},{"$f":"IF(P12>2,P12,H12+K12+N12)","v":0},null,{"$f":"IF(Q12+Q13>=1.5,(IF(Q12>Q13,3,0)),0)","v":0},{"$f":"IF(G12+G13+J12+J13=0,0,G12+J12-G13-J13)","v":0},{"$f":"IF((S12+S13)=3,(P12+S12),0)","v":0}]
[null,null,{"$f":"DRAW!$K$61","v":0},null,{"$f":"VLOOKUP(C13,DRAW!$C$5:'DRAW'!$E$46,3,0)","v":{"$error":"#N/A"}},null,null,{"$f":"IF(G12+G13>0,(IF(G12<G13,1,(IF(G12=G13,0.5,0)))),0)","v":0},null,null,{"$f":"IF(J12+J13>0,(IF(J12<J13,1,(IF(J12=J13,0.5,0)))),0)","v":0},null,null,{"$f":"IF(M12+M13>0,(IF(M12<M13,1,(IF(M12=M13,0.5,0)))),0)","v":0},null,{"$f":"+H13+K13","v":0},{"$f":"IF(P13>2,P13,H13+K13+N13)","v":0},null,0,{"$f":"IF(G12+G13+J12+J13=0,0,G13+J13-G12-J12)","v":0},{"$f":"IF((S12+S13)=3,(P13+S13),0)","v":0}]
[]
[null,{"$f":"DRAW!$J$63","v":0},{"$f":"DRAW!$K$63","v":0},null,{"$f":"VLOOKUP(C15,DRAW!$C$5:'DRAW'!$E$46,3,0)","v":{"$error":"#N/A"}},null,null,{"$f":"IF(G15+G16>0,(IF(G15>G16,1,(IF(G15=G16,0.5,0)))),0)","v":0},null,null,{"$f":"IF(J15+J16>0,(IF(J15>J16,1,(IF(J15=J16,0.5,0)))),0)","v":0},null,null,{"$f":"IF(M15+M16>0,(IF(M15>M16,1,(IF(M15=M16,0.5,0)))),0)","v":0},null,{"$f":"+H15+K15","v":0},{"$f":"IF(P15>2,P15,H15+K15+N15)","v":0},null,{"$f":"IF(Q15+Q16>=1.5,(IF(Q15>Q16,3,0)),0)","v":0},{"$f":"IF(G15+G16+J15+J16=0,0,G15+J15-G16-J16)","v":0},{"$f":"IF((S15+S16)=3,(P15+S15),0)","v":0}]
[null,null,{"$f":"DRAW!$K$64","v":0},null,{"$f":"VLOOKUP(C16,DRAW!$C$5:'DRAW'!$E$46,3,0)","v":{"$error":"#N/A"}},null,null,{"$f":"IF(G15+G16>0,(IF(G15<G16,1,(IF(G15=G16,0.5,0)))),0)","v":0},null,null,{"$f":"IF(J15+J16>0,(IF(J15<J16,1,(IF(J15=J16,0.5,0)))),0)","v":0},10,null,{"$f":"IF(M15+M16>0,(IF(M15<M16,1,(IF(M15=M16,0.5,0)))),0)","v":0},null,{"$f":"+H16+K16","v":0},{"$f":"IF(P16>2,P16,H16+K16+N16)","v":0},null,0,{"$f":"IF(G15+G16+J15+J16=0,0,G16+J16-G15-J15)","v":0},{"$f":"IF((S15+S16)=3,(P16+S16),0)","v":0}]
[]
[null,{"$f":"DRAW!$J$66","v":0},{"$f":"DRAW!$K$66","v":0},null,{"$f":"VLOOKUP(C18,DRAW!$C$5:'DRAW'!$E$46,3,0)","v":{"$error":"#N/A"}},null,null,{"$f":"IF(G18+G19>0,(IF(G18>G19,1,(IF(G18=G19,0.5,0)))),0)","v":0},null,null,{"$f":"IF(J18+J19>0,(IF(J18>J19,1,(IF(J18=J19,0.5,0)))),0)","v":0},null,null,{"$f":"IF(M18+M19>0,(IF(M18>M19,1,(IF(M18=M19,0.5,0)))),0)","v":0},null,{"$f":"+H18+K18","v":0},{"$f":"IF(P18>2,P18,H18+K18+N18)","v":0},null,{"$f":"IF(Q18+Q19>=1.5,(IF(Q18>Q19,3,0)),0)","v":0},{"$f":"IF(G18+G19+J18+J19=0,0,G18+J18-G19-J19)","v":0},{"$f":"IF((S18+S19)=3,(P18+S18),0)","v":0}]
[null,null,{"$f":"DRAW!$K$67","v":0},null,{"$f":"VLOOKUP(C19,DRAW!$C$5:'DRAW'!$E$46,3,0)","v":{"$error":"#N/A"}},null,null,{"$f":"IF(G18+G19>0,(IF(G18<G19,1,(IF(G18=G19,0.5,0)))),0)","v":0},null,null,{"$f":"IF(J18+J19>0,(IF(J18<J19,1,(IF(J18=J19,0.5,0)))),0)","v":0},null,null,{"$f":"IF(M18+M19>0,(IF(M18<M19,1,(IF(M18=M19,0.5,0)))),0)","v":0},null,{"$f":"+H19+K19","v":0},{"$f":"IF(P19>2,P19,H19+K19+N19)","v":0},null,0,{"$f":"IF(G18+G19+J18+J19=0,0,G19+J19-G18-J18)","v":0},{"$f":"IF((S18+S19)=3,(P19+S19),0)","v":0}]
[]
[null,{"$f":"DRAW!$J$69","v":0},{"$f":"DRAW!$K$69","v":0},null,{"$f":"VLOOKUP(C21,DRAW!$C$5:'DRAW'!$E$46,3,0)","v":{"$error":"#N/A"}},null,null,{"$f":"IF(G21+G22>0,(IF(G21>G22,1,(IF(G21=G22,0.5,0)))),0)","v":0},null,null,{"$f":"IF(J21+J22>0,(IF(J21>J22,1,(IF(J21=J22,0.5,0)))),0)","v":0},null,null,{"$f":"IF(M21+M22>0,(IF(M21>M22,1,(IF(M21=M22,0.5,0)))),0)","v":0},null,{"$f":"+H21+K21","v":0},{"$f":"IF(P21>2,P21,H21+K21+N21)","v":0},null,{"$f":"IF(Q21+Q22>=1.5,(IF(Q21>Q22,3,0)),0)","v":0},{"$f":"IF(G21+G22+J21+J22=0,0,G21+J21-G22-J22)","v":0},{"$f":"IF((S21+S22)=3,(P21+S21),0)","v":0}]
[null,null,{"$f":"DRAW!$K$70","v":0},null,{"$f":"VLOOKUP(C22,DRAW!$C$5:'DRAW'!$E$46,3,0)","v":{"$error":"#N/A"}},null,null,{"$f":"IF(G21+G22>0,(IF(G21<G22,1,(IF(G21=G22,0.5,0)))),0)","v":0},null,null,{"$f":"IF(J21+J22>0,(IF(J21<J22,1,(IF(J21=J22,0.5,0)))),0)","v":0},null,null,{"$f":"IF(M21+M22>0,(IF(M21<M22,1,(IF(M21=M22,0.5,0)))),0)","v":0},null,{"$f":"+H22+K22","v":0},{"$f":"IF(P22>2,P22,H22+K22+N22)","v":0},null,0,{"$f":"IF(G21+G22+J21+J22=0,0,G22+J22-G21-J21)","v":0},{"$f":"IF((S21+S22)=3,(P22+S22),0)","v":0}]
[]
[null,{"$f":"DRAW!$J$72","v":0},{"$f":"DRAW!$K$72","v":0},null,{"$f":"VLOOKUP(C24,DRAW!$C$5:'DRAW'!$E$46,3,0)","v":{"$error":"#N/A"}},null,null,{"$f":"IF(G24+G25>0,(IF(G24>G25,1,(IF(G24=G25,0.5,0)))),0)","v":0},null,null,{"$f":"IF(J24+J25>0,(IF(J24>J25,1,(IF(J24=J25,0.5,0)))),0)","v":0},null,null,{"$f":"IF(M24+M25>0,(IF(M24>M25,1,(IF(M24=M25,0.5,0)))),0)","v":0},null,{"$f":"+H24+K24","v":0},{"$f":"IF(P24>2,P24,H24+K24+N24)","v":0},null,{"$f":"IF(Q24+Q25>=1.5,(IF(Q24>Q25,3,0)),0)","v":0},{"$f":"IF(G24+G25+J24+J25=0,0,G24+J24-G25-J25)","v":0},{"$f":"IF((S24+S25)=3,(P24+S24),0)","v":0}]
[null,null,{"$f":"DRAW!$K$73","v":0},null,{"$f":"VLOOKUP(C25,DRAW!$C$5:'DRAW'!$E$46,3,0)","v":{"$error":"#N/A"}},null,null,{"$f":"IF(G24+G25>0,(IF(G24<G25,1,(IF(G24=G25,0.5,0)))),0)","v":0},null,null,{"$f":"IF(J24+J25>0,(IF(J24<J25,1,(IF(J24=J25,0.5,0)))),0)","v":0},null,null,{"$f":"IF(M24+M25>0,(IF(M24<M25,1,(IF(M24=M25,0.5,0)))),0)","v":0},null,{"$f":"+H25+K25","v":0},{"$f":"IF(P25>2,P25,H25+K25+N25)","v":0},null,0,{"$f":"IF(G24+G25+J24+J25=0,0,G25+J25-G24-J24)","v":0},{"$f":"IF((S24+S25)=3,(P25+S25),0)","v":0}]
[]
[null,{"$f":"DRAW!$J$75","v":0},{"$f":"DRAW!$K$75","v":0},null,{"$f":"VLOOKUP(C27,DRAW!$C$5:'DRAW'!$E$46,3,0)","v":{"$error":"#N/A"}},null,null,{"$f":"IF(G27+G28>0,(IF(G27>G28,1,(IF(G27=G28,0.5,0)))),0)","v":0},null,null,{"$f":"IF(J27+J28>0,(IF(J27>J28,1,(IF(J27=J28,0.5,0)))),0)","v":0},null,null,{"$f":"IF(M27+M28>0,(IF(M27>M28,1,(IF(M27=M28,0.5,0)))),0)","v":0},null,{"$f":"+H27+K27","v":0},{"$f":"IF(P27>2,P27,H27+K27+N27)","v":0},null,{"$f":"IF(Q27+Q28>=1.5,(IF(Q27>Q28,3,0)),0)","v":0},{"$f":"IF(G27+G28+J27+J28=0,0,G27+J27-G28-J28)","v":0},{"$f":"IF((S27+S28)=3,(P27+S27),0)","v":0}]
[null,null,{"$f":"DRAW!$K$76","v":0},null,{"$f":"VLOOKUP(C28,DRAW!$C$5:'DRAW'!$E$46,3,0)","v":{"$error":"#N/A"}},null,null,{"$f":"IF(G27+G28>0,(IF(G27<G28,1,(IF(G27=G28,0.5,0)))),0)","v":0},null,null,{"$f":"IF(J27+J28>0,(IF(J27<J28,1,(IF(J27=J28,0.5,0)))),0)","v":0},null,null,{"$f":"IF(M27+M28>0,(IF(M27<M28,1,(IF(M27=M28,0.5,0)))),0)","v":0},null,{"$f":"+H28+K28","v":0},{"$f":"IF(P28>2,P28,H28+K28+N28)","v":0},null,0,{"$f":"IF(G27+G28+J27+J28=0,0,G28+J28-G27-J27)","v":0},{"$f":"IF((S27+S28)=3,(P28+S28),0)","v":0}]
[]
[null,{"$f":"DRAW!$J$78","v":0},{"$f":"DRAW!$K$78","v":0},null,{"$f":"VLOOKUP(C30,DRAW!$C$5:'DRAW'!$E$46,3,0)","v":{"$error":"#N/A"}},null,null,{"$f":"IF(G30+G31>0,(IF(G30>G31,1,(IF(G30=G31,0.5,0)))),0)","v":0},null,null,{"$f":"IF(J30+J31>0,(IF(J30>J31,1,(IF(J30=J31,0.5,0)))),0)","v":0},null,null,{"$f":"IF(M30+M31>0,(IF(M30>M31,1,(IF(M30=M31,0.5,0)))),0)","v":0},null,{"$f":"+H30+K30","v":0},{"$f":"IF(P30>2,P30,H30+K30+N30)","v":0},null,{"$f":"IF(Q30+Q31>=1.5,(IF(Q30>Q31,3,0)),0)","v":0},{"$f":"IF(G30+G31+J30+J31=0,0,G30+J30-G31-J31)","v":0},{"$f":"IF((S30+S31)=3,(P30+S30),0)","v":0}]
[null,null,{"$f":"DRAW!$K$79","v":0},null,{"$f":"VLOOKUP(C31,DRAW!$C$5:'DRAW'!$E$46,3,0)","v":{"$error":"#N/A"}},null,null,{"$f":"IF(G30+G31>0,(IF(G30<G31,1,(IF(G30=G31,0.5,0)))),0)","v":0},null,null,{"$f":"IF(J30+J31>0,(IF(J30<J31,1,(IF(J30=J31,0.5,0)))),0)","v":0},null,null,{"$f":"IF(M30+M31>0,(IF(M30<M31,1,(IF(M30=M31,0.5,0)))),0)","v":0},null,{"$f":"+H31+K31","v":0},{"$f":"IF(P31>2,P31,H31+K31+N31)","v":0},null,0,{"$f":"IF(G30+G31+J30+J31=0,0,G31+J31-G30-J30)","v":0},{"$f":"IF((S30+S31)=3,(P31+S31),0)","v":0}]
[]
[null,{"$f":"DRAW!$J$81","v":0},{"$f":"DRAW!$K$81","v":0},null,{"$f":"VLOOKUP(C33,DRAW!$C$5:'DRAW'!$E$46,3,0)","v":{"$error":"#N/A"}},null,null,{"$f":"IF(G33+G34>0,(IF(G33>G34,1,(IF(G33=G34,0.5,0)))),0)","v":0},null,null,{"$f":"IF(J33+J34>0,(IF(J33>J34,1,(IF(J33=J34,0.5,0)))),0)","v":0},null,null,{"$f":"IF(M33+M34>0,(IF(M33>M34,1,(IF(M33=M34,0.5,0)))),0)","v":0},null,{"$f":"+H33+K33","v":0},{"$f":"IF(P33>2,P33,H33+K33+N33)","v":0},null,{"$f":"IF(Q33+Q34>=1.5,(IF(Q33>Q34,3,0)),0)","v":0},{"$f":"IF(G33+G34+J33+J34=0,0,G33+J33-G34-J34)","v":0},{"$f":"IF((S33+S34)=3,(P33+S33),0)","v":0}]
[null,null,{"$f":"DRAW!$K$82","v":0},null,{"$f":"VLOOKUP(C34,DRAW!$C$5:'DRAW'!$E$46,3,0)","v":{"$error":"#N/A"}},null,null,{"$f":"IF(G33+G34>0,(IF(G33<G34,1,(IF(G33=G34,0.5,0)))),0)","v":0},null,null,{"$f":"IF(J33+J34>0,(IF(J33<J34,1,(IF(J33=J34,0.5,0)))),0)","v":0},null,null,{"$f":"IF(M33+M34>0,(IF(M33<M34,1,(IF(M33=M34,0.5,0)))),0)","v":0},null,{"$f":"+H34+K34","v":0},{"$f":"IF(P34>2,P34,H34+K34+N34)","v":0},null,0,{"$f":"IF(G33+G34+J33+J34=0,0,G34+J34-G33-J33)","v":0},{"$f":"IF((S33+S34)=3,(P34+S34),0)","v":0}]
[]
[null,{"$f":"DRAW!$J$84","v":0},{"$f":"DRAW!$K$84","v":0},null,{"$f":"VLOOKUP(C36,DRAW!$C$5:'DRAW'!$E$46,3,0)","v":{"$error":"#N/A"}},null,null,{"$f":"IF(G36+G37>0,(IF(G36>G37,1,(IF(G36=G37,0.5,0)))),0)","v":0},null,null,{"$f":"IF(J36+J37>0,(IF(J36>J37,1,(IF(J36=J37,0.5,0)))),0)","v":0},null,null,{"$f":"IF(M36+M37>0,(IF(M36>M37,1,(IF(M36=M37,0.5,0)))),0)","v":0},null,{"$f":"+H36+K36","v":0},{"$f":"IF(P36>2,P36,H36+K36+N36)","v":0},null,{"$f":"IF(Q36+Q37>=1.5,(IF(Q36>Q37,3,0)),0)","v":0},{"$f":"IF(G36+G37+J36+J37=0,0,G36+J36-G37-J37)","v":0},{"$f":"IF((S36+S37)=3,(P36+S36),0)","v":0}]
[null,null,{"$f":"DRAW!$K$85","v":0},null,{"$f":"VLOOKUP(C37,DRAW!$C$5:'DRAW'!$E$46,3,0)","v":{"$error":"#N/A"}},null,null,{"$f":"IF(G36+G37>0,(IF(G36<G37,1,(IF(G36=G37,0.5,0)))),0)","v":0},null,null,{"$f":"IF(J36+J37>0,(IF(J36<J37,1,(IF(J36=J37,0.5,0)))),0)","v":0},null,null,{"$f":"IF(M36+M37>0,(IF(M36<M37,1,(IF(M36=M37,0.5,0)))),0)","v":0},null,{"$f":"+H37+K37","v":0},{"$f":"IF(P37>2,P37,H37+K37+N37)","v":0},null,0,{"$f":"IF(G36+G37+J36+J37=0,0,G37+J37-G36-J36)","v":0},{"$f":"IF((S36+S37)=3,(P37+S37),0)","v":0}]
[]
[null,{"$f":"DRAW!$J$87","v":0},{"$f":"DRAW!$K$87","v":0},null,{"$f":"VLOOKUP(C39,DRAW!$C$5:'DRAW'!$E$46,3,0)","v":{"$error":"#N/A"}},null,null,{"$f":"IF(G39+G40>0,(IF(G39>G40,1,(IF(G39=G40,0.5,0)))),0)","v":0},null,null,{"$f":"IF(J39+J40>0,(IF(J39>J40,1,(IF(J39=J40,0.5,0)))),0)","v":0},null,null,{"$f":"IF(M39+M40>0,(IF(M39>M40,1,(IF(M39=M40,0.5,0)))),0)","v":0},null,{"$f":"+H39+K39","v":0},{"$f":"IF(P39>2,P39,H39+K39+N39)","v":0},null,{"$f":"IF(Q39+Q40>=1.5,(IF(Q39>Q40,3,0)),0)","v":0},{"$f":"IF(G39+G40+J39+J40=0,0,G39+J39-G40-J40)","v":0},{"$f":"IF((S39+S40)=3,(P39+S39),0)","v":0}]
[null,null,{"$f":"DRAW!$K$88","v":0},null,{"$f":"VLOOKUP(C40,DRAW!$C$5:'DRAW'!$E$46,3,0)","v":{"$error":"#N/A"}},null,null,{"$f":"IF(G39+G40>0,(IF(G39<G40,1,(IF(G39=G40,0.5,0)))),0)","v":0},null,null,{"$f":"IF(J39+J40>0,(IF(J39<J40,1,(IF(J39=J40,0.5,0)))),0)","v":0},null,null,{"$f":"IF(M39+M40>0,(IF(M39<M40,1,(IF(M39=M40,0.5,0)))),0)","v":0},null,0,{"$f":"IF(P40>2,P40,H40+K40+N40)","v":0},null,0,{"$f":"IF(G39+G40+J39+J40=0,0,G40+J40-G39-J39)","v":0},{"$f":"IF((S39+S40)=3,(P40+S40),0)","v":0}]
[]
[null,{"$f":"DRAW!$J$90","v":0},{"$f":"DRAW!$K$90","v":0},null,{"$f":"VLOOKUP(C42,DRAW!$C$5:'DRAW'!$E$46,3,0)","v":{"$error":"#N/A"}},null,null,{"$f":"IF(G42+G43>0,(IF(G42>G43,1,(IF(G42=G43,0.5,0)))),0)","v":0},null,null,{"$f":"IF(J42+J43>0,(IF(J42>J43,1,(IF(J42=J43,0.5,0)))),0)","v":0},null,null,{"$f":"IF(M42+M43>0,(IF(M42>M43,1,(IF(M42=M43,0.5,0)))),0)","v":0},null,{"$f":"+H42+K42","v":0},{"$f":"IF(P42>2,P42,H42+K42+N42)","v":0},null,{"$f":"IF(Q42+Q43>=1.5,(IF(Q42>Q43,3,0)),0)","v":0},{"$f":"IF(G42+G43+J42+J43=0,0,G42+J42-G43-J43)","v":0},{"$f":"IF((S42+S43)=3,(P42+S42),0)","v":0}]
[null,null,{"$f":"DRAW!$K$91","v":0},null,{"$f":"VLOOKUP(C43,DRAW!$C$5:'DRAW'!$E$46,3,0)","v":{"$error":"#N/A"}},null,null,{"$f":"IF(G42+G43>0,(IF(G42<G43,1,(IF(G42=G43,0.5,0)))),0)","v":0},null,null,{"$f":"IF(J42+J43>0,(IF(J42<J43,1,(IF(J42=J43,0.5,0)))),0)","v":0},null,null,{"$f":"IF(M42+M43>0,(IF(M42<M43,1,(IF(M42=M43,0.5,0)))),0)","v":0},null,{"$f":"+H43+K43","v":0},{"$f":"IF(P43>2,P43,H43+K43+N43)","v":0},null,0,{"$f":"IF(G42+G43+J42+J43=0,0,G43+J43-G42-J42)","v":0},{"$f":"IF((S42+S43)=3,(P43+S43),0)","v":0}]
[]
[null,{"$f":"DRAW!$J$93","v":0},{"$f":"DRAW!$K$93","v":0},null,{"$f":"VLOOKUP(C45,DRAW!$C$5:'DRAW'!$E$46,3,0)","v":{"$error":"#N/A"}},null,null,{"$f":"IF(G45+G46>0,(IF(G45>G46,1,(IF(G45=G46,0.5,0)))),0)","v":0},null,null,{"$f":"IF(J45+J46>0,(IF(J45>J46,1,(IF(J45=J46,0.5,0)))),0)","v":0},null,null,{"$f":"IF(M45+M46>0,(IF(M45>M46,1,(IF(M45=M46,0.5,0)))),0)","v":0},null,{"$f":"+H45+K45","v":0},{"$f":"IF(P45>2,P45,H45+K45+N45)","v":0},null,{"$f":"IF(Q45+Q46>=1.5,(IF(Q45>Q46,3,0)),0)","v":0},{"$f":"IF(G45+G46+J45+J46=0,0,G45+J45-G46-J46)","v":0},{"$f":"IF((S45+S46)=3,(P45+S45),0)","v":0}]
[null,null,{"$f":"DRAW!$K$94","v":0},null,{"$f":"VLOOKUP(C46,DRAW!$C$5:'DRAW'!$E$46,3,0)","v":{"$error":"#N/A"}},null,null,{"$f":"IF(G45+G46>0,(IF(G45<G46,1,(IF(G45=G46,0.5,0)))),0)","v":0},null,null,{"$f":"IF(J45+J46>0,(IF(J45<J46,1,(IF(J45=J46,0.5,0)))),0)","v":0},null,null,{"$f":"IF(M45+M46>0,(IF(M45<M46,1,(IF(M45=M46,0.5,0)))),0)","v":0},null,{"$f":"+H46+K46","v":0},{"$f":"IF(P46>2,P46,H46+K46+N46)","v":0},null,0,{"$f":"IF(G45+G46+J45+J46=0,0,G46+J46-G45-J45)","v":0},{"$f":"IF((S45+S46)=3,(P46+S46),0)","v":0}]
[]
[null,{"$f":"DRAW!$J$96","v":0},{"$f":"DRAW!$K$96","v":0},null,{"$f":"VLOOKUP(C48,DRAW!$C$5:'DRAW'!$E$46,3,0)","v":{"$error":"#N/A"}},null,null,{"$f":"IF(G48+G49>0,(IF(G48>G49,1,(IF(G48=G49,0.5,0)))),0)","v":0},null,null,{"$f":"IF(J48+J49>0,(IF(J48>J49,1,(IF(J48=J49,0.5,0)))),0)","v":0},null,null,{"$f":"IF(M48+M49>0,(IF(M48>M49,1,(IF(M48=M49,0.5,0)))),0)","v":0},null,{"$f":"+H48+K48","v":0},{"$f":"IF(P48>2,P48,H48+K48+N48)","v":0},null,{"$f":"IF(Q48+Q49>=1.5,(IF(Q48>Q49,3,0)),0)","v":0},{"$f":"IF(G48+G49+J48+J49=0,0,G48+J48-G49-J49)","v":0},{"$f":"IF((S48+S49)=3,(P48+S48),0)","v":0}]
[null,null,{"$f":"DRAW!$K$97","v":0},null,{"$f":"VLOOKUP(C49,DRAW!$C$5:'DRAW'!$E$46,3,0)","v":{"$error":"#N/A"}},null,null,{"$f":"IF(G48+G49>0,(IF(G48<G49,1,(IF(G48=G49,0.5,0)))),0)","v":0},null,null,{"$f":"IF(J48+J49>0,(IF(J48<J49,1,(IF(J48=J49,0.5,0)))),0)","v":0},null,null,{"$f":"IF(M48+M49>0,(IF(M48<M49,1,(IF(M48=M49,0.5,0)))),0)","v":0},null,{"$f":"+H49+K49","v":0},{"$f":"IF(P49>2,P49,H49+K49+N49)","v":0},null,0,{"$f":"IF(G48+G49+J48+J49=0,0,G49+J49-G48-J48)","v":0},{"$f":"IF((S48+S49)=3,(P49+S49),0)","v":0}]
[]
[null,{"$f":"DRAW!$J$99","v":0},{"$f":"DRAW!$K$99","v":0},null,{"$f":"VLOOKUP(C51,DRAW!$C$5:'DRAW'!$E$46,3,0)","v":{"$error":"#N/A"}},null,null,{"$f":"IF(G51+G52>0,(IF(G51>G52,1,(IF(G51=G52,0.5,0)))),0)","v":0},null,null,{"$f":"IF(J51+J52>0,(IF(J51>J52,1,(IF(J51=J52,0.5,0)))),0)","v":0},null,null,{"$f":"IF(M51+M52>0,(IF(M51>M52,1,(IF(M51=M52,0.5,0)))),0)","v":0},null,{"$f":"+H51+K51","v":0},{"$f":"IF(P51>2,P51,H51+K51+N51)","v":0},null,{"$f":"IF(Q51+Q52>=1.5,(IF(Q51>Q52,3,0)),0)","v":0},{"$f":"IF(G51+G52+J51+J52=0,0,G51+J51-G52-J52)","v":0},{"$f":"IF((S51+S52)=3,(P51+S51),0)","v":0}]
[null,null,{"$f":"DRAW!$K$100","v":0},null,{"$f":"VLOOKUP(C52,DRAW!$C$5:'DRAW'!$E$46,3,0)","v":{"$error":"#N/A"}},null,null,{"$f":"IF(G51+G52>0,(IF(G51<G52,1,(IF(G51=G52,0.5,0)))),0)","v":0},null,null,{"$f":"IF(J51+J52>0,(IF(J51<J52,1,(IF(J51=J52,0.5,0)))),0)","v":0},null,null,{"$f":"IF(M51+M52>0,(IF(M51<M52,1,(IF(M51=M52,0.5,0)))),0)","v":0},null,{"$f":"+H52+K52","v":0},{"$f":"IF(P52>2,P52,H52+K52+N52)","v":0},null,0,{"$f":"IF(G51+G52+J51+J52=0,0,G52+J52-G51-J51)","v":0},{"$f":"IF((S51+S52)=3,(P52+S52),0)","v":0}]
[]
[null,{"$f":"DRAW!$J$102","v":0},{"$f":"DRAW!$K$102","v":0},null,{"$f":"VLOOKUP(C54,DRAW!$C$5:'DRAW'!$E$46,3,0)","v":{"$error":"#N/A"}},null,null,{"$f":"IF(G54+G55>0,(IF(G54>G55,1,(IF(G54=G55,0.5,0)))),0)","v":0},null,null,{"$f":"IF(J54+J55>0,(IF(J54>J55,1,(IF(J54=J55,0.5,0)))),0)","v":0},null,null,{"$f":"IF(M54+M55>0,(IF(M54>M55,1,(IF(M54=M55,0.5,0)))),0)","v":0},null,{"$f":"+H54+K54","v":0},{"$f":"IF(P54>2,P54,H54+K54+N54)","v":0},null,{"$f":"IF(Q54+Q55>=1.5,(IF(Q54>Q55,3,0)),0)","v":0},{"$f":"IF(G54+G55+J54+J55=0,0,G54+J54-G55-J55)","v":0},{"$f":"IF((S54+S55)=3,(P54+S54),0)","v":0}]
[null,null,{"$f":"DRAW!$K$103","v":0},null,{"$f":"VLOOKUP(C55,DRAW!$C$5:'DRAW'!$E$46,3,0)","v":{"$error":"#N/A"}},null,null,{"$f":"IF(G54+G55>0,(IF(G54<G55,1,(IF(G54=G55,0.5,0)))),0)","v":0},null,null,{"$f":"IF(J54+J55>0,(IF(J54<J55,1,(IF(J54=J55,0.5,0)))),0)","v":0},null,null,{"$f":"IF(M54+M55>0,(IF(M54<M55,1,(IF(M54=M55,0.5,0)))),0)","v":0},null,{"$f":"+H55+K55","v":0},{"$f":"IF(P55>2,P55,H55+K55+N55)","v":0},null,0,{"$f":"IF(G54+G55+J54+J55=0,0,G55+J55-G54-J54)","v":0},{"$f":"IF((S54+S55)=3,(P55+S55),0)","v":0}]
[]
[null,{"$f":"DRAW!$J$105","v":0},{"$f":"DRAW!$K$105","v":0},null,{"$f":"VLOOKUP(C57,DRAW!$C$5:'DRAW'!$E$46,3,0)","v":{"$error":"#N/A"}},null,null,{"$f":"IF(G57+G58>0,(IF(G57>G58,1,(IF(G57=G58,0.5,0)))),0)","v":0},null,null,{"$f":"IF(J57+J58>0,(IF(J57>J58,1,(IF(J57=J58,0.5,0)))),0)","v":0},null,null,{"$f":"IF(M57+M58>0,(IF(M57>M58,1,(IF(M57=M58,0.5,0)))),0)","v":0},null,{"$f":"+H57+K57","v":0},{"$f":"IF(P57>2,P57,H57+K57+N57)","v":0},null,{"$f":"IF(Q57+Q58>=1.5,(IF(Q57>Q58,3,0)),0)","v":0},{"$f":"IF(G57+G58+J57+J58=0,0,G57+J57-G58-J58)","v":0},{"$f":"IF((S57+S58)=3,(P57+S57),0)","v":0}]
[null,null,{"$f":"DRAW!$K$106","v":0},null,{"$f":"VLOOKUP(C58,DRAW!$C$5:'DRAW'!$E$46,3,0)","v":{"$error":"#N/A"}},null,null,{"$f":"IF(G57+G58>0,(IF(G57<G58,1,(IF(G57=G58,0.5,0)))),0)","v":0},null,null,{"$f":"IF(J57+J58>0,(IF(J57<J58,1,(IF(J57=J58,0.5,0)))),0)","v":0},null,null,{"$f":"IF(M57+M58>0,(IF(M57<M58,1,(IF(M57=M58,0.5,0)))),0)","v":0},null,{"$f":"+H58+K58","v":0},{"$f":"IF(P58>2,P58,H58+K58+N58)","v":0},null,0,{"$f":"IF(G57+G58+J57+J58=0,0,G58+J58-G57-J57)","v":0},{"$f":"IF((S57+S58)=3,(P58+S58),0)","v":0}]
[]
[null,{"$f":"DRAW!$J$108","v":0},{"$f":"DRAW!$K$108","v":0},null,{"$f":"VLOOKUP(C60,DRAW!$C$5:'DRAW'!$E$46,3,0)","v":{"$error":"#N/A"}},null,null,{"$f":"IF(G60+G61>0,(IF(G60>G61,1,(IF(G60=G61,0.5,0)))),0)","v":0},null,null,{"$f":"IF(J60+J61>0,(IF(J60>J61,1,(IF(J60=J61,0.5,0)))),0)","v":0},null,null,{"$f":"IF(M60+M61>0,(IF(M60>M61,1,(IF(M60=M61,0.5,0)))),0)","v":0},null,{"$f":"+H60+K60","v":0},{"$f":"IF(P60>2,P60,H60+K60+N60)","v":0},null,{"$f":"IF(Q60+Q61>=1.5,(IF(Q60>Q61,3,0)),0)","v":0},{"$f":"IF(G60+G61+J60+J61=0,0,G60+J60-G61-J61)","v":0},{"$f":"IF((S60+S61)=3,(P60+S60),0)","v":0}]
[null,null,{"$f":"DRAW!$K$109","v":0},null,{"$f":"VLOOKUP(C61,DRAW!$C$5:'DRAW'!$E$46,3,0)","v":{"$error":"#N/A"}},null,null,{"$f":"IF(G60+G61>0,(IF(G60<G61,1,(IF(G60=G61,0.5,0)))),0)","v":0},null,null,{"$f":"IF(J60+J61>0,(IF(J60<J61,1,(IF(J60=J61,0.5,0)))),0)","v":0},null,null,{"$f":"IF(M60+M61>0,(IF(M60<M61,1,(IF(M60=M61,0.5,0)))),0)","v":0},null,{"$f":"+H61+K61","v":0},{"$f":"IF(P61>2,P61,H61+K61+N61)","v":0},null,0,{"$f":"IF(G60+G61+J60+J61=0,0,G61+J61-G60-J60)","v":0},{"$f":"IF((S60+S61)=3,(P61+S61),0)","v":0}]
[]
[null,{"$f":"DRAW!$J$111","v":0},{"$f":"DRAW!$K$111","v":0},null,{"$f":"VLOOKUP(C63,DRAW!$C$5:'DRAW'!$E$46,3,0)","v":{"$error":"#N/A"}},null,null,{"$f":"IF(G63+G64>0,(IF(G63>G64,1,(IF(G63=G64,0.5,0)))),0)","v":0},null,null,{"$f":"IF(J63+J64>0,(IF(J63>J64,1,(IF(J63=J64,0.5,0)))),0)","v":0},null,null,{"$f":"IF(M63+M64>0,(IF(M63>M64,1,(IF(M63=M64,0.5,0)))),0)","v":0},null,{"$f":"+H63+K63","v":0},{"$f":"IF(P63>2,P63,H63+K63+N63)","v":0},null,{"$f":"IF(Q63+Q64>=1.5,(IF(Q63>Q64,3,0)),0)","v":0},{"$f":"IF(G63+G64+J63+J64=0,0,G63+J63-G64-J64)","v":0},{"$f":"IF((S63+S64)=3,(P63+S63),0)","v":0}]
[null,null,{"$f":"DRAW!$K$112","v":0},null,{"$f":"VLOOKUP(C64,DRAW!$C$5:'DRAW'!$E$46,3,0)","v":{"$error":"#N/A"}},null,null,{"$f":"IF(G63+G64>0,(IF(G63<G64,1,(IF(G63=G64,0.5,0)))),0)","v":0},null,null,{"$f":"IF(J63+J64>0,(IF(J63<J64,1,(IF(J63=J64,0.5,0)))),0)","v":0},null,null,{"$f":"IF(M63+M64>0,(IF(M63<M64,1,(IF(M63=M64,0.5,0)))),0)","v":0},null,{"$f":"+H64+K64","v":0},{"$f":"IF(P64>2,P64,H64+K64+N64)","v":0},null,0,{"$f":"IF(G63+G64+J63+J64=0,0,G64+J64-G63-J63)","v":0},{"$f":"IF((S63+S64)=3,(P64+S64),0)","v":0}]
[]
[null,{"$f":"DRAW!$J$114","v":0},{"$f":"DRAW!$K$114","v":0},null,{"$f":"VLOOKUP(C66,DRAW!$C$5:'DRAW'!$E$46,3,0)","v":{"$error":"#N/A"}},null,null,{"$f":"IF(G66+G67>0,(IF(G66>G67,1,(IF(G66=G67,0.5,0)))),0)","v":0},null,null,{"$f":"IF(J66+J67>0,(IF(J66>J67,1,(IF(J66=J67,0.5,0)))),0)","v":0},null,null,{"$f":"IF(M66+M67>0,(IF(M66>M67,1,(IF(M66=M67,0.5,0)))),0)","v":0},null,{"$f":"+H66+K66","v":0},{"$f":"IF(P66>2,P66,H66+K66+N66)","v":0},null,{"$f":"IF(Q66+Q67>=1.5,(IF(Q66>Q67,3,0)),0)","v":0},{"$f":"IF(G66+G67+J66+J67=0,0,G66+J66-G67-J67)","v":0},{"$f":"IF((S66+S67)=3,(P66+S66),0)","v":0}]
[null,null,{"$f":"DRAW!$K$115","v":0},null,{"$f":"VLOOKUP(C67,DRAW!$C$5:'DRAW'!$E$46,3,0)","v":{"$error":"#N/A"}},null,null,{"$f":"IF(G66+G67>0,(IF(G66<G67,1,(IF(G66=G67,0.5,0)))),0)","v":0},null,null,{"$f":"IF(J66+J67>0,(IF(J66<J67,1,(IF(J66=J67,0.5,0)))),0)","v":0},null,null,{"$f":"IF(M66+M67>0,(IF(M66<M67,1,(IF(M66=M67,0.5,0)))),0)","v":0},null,{"$f":"+H67+K67","v":0},{"$f":"IF(P67>2,P67,H67+K67+N67)","v":0},null,0,{"$f":"IF(G66+G67+J66+J67=0,0,G67+J67-G66-J66)","v":0},{"$f":"IF((S66+S67)=3,(P67+S67),0)","v":0}]

{"sheet":"Round 4","index":7,"n_rows":67,"n_cols":21,"rows_kept":67,"merged":[[0,1,0,20],[2,1,2,20],[3,3,3,4],[5,1,6,1],[8,1,9,1],[11,1,12,1],[14,1,15,1],[17,1,18,1],[20,1,21,1],[23,1,24,1],[26,1,27,1],[29,1,30,1],[32,1,33,1],[35,1,36,1],[38,1,39,1],[41,1,42,1],[44,1,45,1],[47,1,48,1],[50,1,51,1],[53,1,54,1],[56,1,57,1],[59,1,60,1],[62,1,63,1],[65,1,66,1]]}
[null,{"$f":"DRAW!$C$1","v":0}]
[]
[null,"R O U N D  4"]
[null,"Rink","Team No.","Skip",null,null,"1st    Set","Set Points",null,"2nd   Set","Set Points",null,"Tie Breaker","Set Points",null,"Set Points","S+TBPts",null,"Game Points","Margin","Total Points"]
[]
[null,{"$f":"DRAW!$L$54","v":0},{"$f":"DRAW!$M$54","v":0},null,{"$f":"VLOOKUP(C6,DRAW!$C$5:'DRAW'!$E$46,3,0)","v":{"$error":"#N/A"}},null,null,{"$f":"IF(G6+G7>0,(IF(G6>G7,1,(IF(G6=G7,0.5,0)))),0)","v":0},null,null,{"$f":"IF(J6+J7>0,(IF(J6>J7,1,(IF(J6=J7,0.5,0)))),0)","v":0},null,null,{"$f":"IF(M6+M7>0,(IF(M6>M7,1,(IF(M6=M7,0.5,0)))),0)","v":0},null,{"$f":"+H6+K6","v":0},{"$f":"IF(P6>2,P6,H6+K6+N6)","v":0},null,{"$f":"IF(Q6+Q7>=1.5,(IF(Q6>Q7,3,0)),0)","v":0},{"$f":"IF(G6+G7+J6+J7=0,0,G6+J6-G7-J7)","v":0},{"$f":"IF((S6+S7)=3,(P6+S6),0)","v":0}]
[null,null,{"$f":"DRAW!$M$55","v":0},null,{"$f":"VLOOKUP(C7,DRAW!$C$5:'DRAW'!$E$46,3,0)","v":{"$error":"#N/A"}},null,null,{"$f":"IF(G6+G7>0,(IF(G6<G7,1,(IF(G6=G7,0.5,0)))),0)","v":0},null,null,{"$f":"IF(J6+J7>0,(IF(J6<J7,1,(IF(J6=J7,0.5,0)))),0)","v":0},null,null,{"$f":"IF(M6+M7>0,(IF(M6<M7,1,(IF(M6=M7,0.5,0)))),0)","v":0},null,{"$f":"+H7+K7","v":0},{"$f":"IF(P7>2,P7,H7+K7+N7)","v":0},null,{"$f":"IF(Q7+Q8>=1.5,(IF(Q7>Q8,3,0)),0)","v":0},{"$f":"IF(G6+G7+J6+J7=0,0,G7+J7-G6-J6)","v":0},{"$f":"IF((S6+S7)=3,(P7+S7),0)","v":0}]
[]
[null,{"$f":"DRAW!$L$57","v":0},{"$f":"DRAW!$M$57","v":0},null,{"$f":"VLOOKUP(C9,DRAW!$C$5:'DRAW'!$E$46,3,0)","v":{"$error":"#N/A"}},null,null,{"$f":"IF(G9+G10>0,(IF(G9>G10,1,(IF(G9=G10,0.5,0)))),0)","v":0},null,null,{"$f":"IF(J9+J10>0,(IF(J9>J10,1,(IF(J9=J10,0.5,0)))),0)","v":0},null,null,{"$f":"IF(M9+M10>0,(IF(M9>M10,1,(IF(M9=M10,0.5,0)))),0)","v":0},null,{"$f":"+H9+K9","v":0},{"$f":"IF(P9>2,P9,H9+K9+N9)","v":0},null,{"$f":"IF(Q9+Q10>=1.5,(IF(Q9>Q10,3,0)),0)","v":0},{"$f":"IF(G9+G10+J9+J10=0,0,G9+J9-G10-J10)","v":0},{"$f":"IF((S9+S10)=3,(P9+S9),0)","v":0}]
[null,null,{"$f":"DRAW!$M$58","v":0},null,{"$f":"VLOOKUP(C10,DRAW!$C$5:'DRAW'!$E$46,3,0)","v":{"$error":"#N/A"}},null,null,{"$f":"IF(G9+G10>0,(IF(G9<G10,1,(IF(G9=G10,0.5,0)))),0)","v":0},null,null,{"$f":"IF(J9+J10>0,(IF(J9<J10,1,(IF(J9=J10,0.5,0)))),0)","v":0},null,null,{"$f":"IF(M9+M10>0,(IF(M9<M10,1,(IF(M9=M10,0.5,0)))),0)","v":0},null,{"$f":"+H10+K10","v":0},{"$f":"IF(P10>2,P10,H10+K10+N10)","v":0},null,0,{"$f":"IF(G9+G10+J9+J10=0,0,G10+J10-G9-J9)","v":0},{"$f":"IF((S9+S10)=3,(P10+S10),0)","v":0}]
[]
[null,{"$f":"DRAW!$L$60","v":0},{"$f":"DRAW!$M$60","v":0},null,{"$f":"VLOOKUP(C12,DRAW!$C$5:'DRAW'!$E$46,3,0)","v":{"$error":"#N/A"}},null,null,{"$f":"IF(G12+G13>0,(IF(G12>G13,1,(IF(G12=G13,0.5,0)))),0)","v":0},null,null,{"$f":"IF(J12+J13>0,(IF(J12>J13,1,(IF(J12=J13,0.5,0)))),0)","v":0},null,null,{"$f":"IF(M12+M13>0,(IF(M12>M13,1,(IF(M12=M13,0.5,0)))),0)","v":0},null,{"$f":"+H12+K12","v":0},{"$f":"IF(P12>2,P12,H12+K12+N12)","v":0},null,{"$f":"IF(Q12+Q13>=1.5,(IF(Q12>Q13,3,0)),0)","v":0},{"$f":"IF(G12+G13+J12+J13=0,0,G12+J12-G13-J13)","v":0},{"$f":"IF((S12+S13)=3,(P12+S12),0)","v":0}]
[null,null,{"$f":"DRAW!$M$61","v":0},null,{"$f":"VLOOKUP(C13,DRAW!$C$5:'DRAW'!$E$46,3,0)","v":{"$error":"#N/A"}},null,null,{"$f":"IF(G12+G13>0,(IF(G12<G13,1,(IF(G12=G13,0.5,0)))),0)","v":0},null,null,{"$f":"IF(J12+J13>0,(IF(J12<J13,1,(IF(J12=J13,0.5,0)))),0)","v":0},null,null,{"$f":"IF(M12+M13>0,(IF(M12<M13,1,(IF(M12=M13,0.5,0)))),0)","v":0},null,{"$f":"+H13+K13","v":0},{"$f":"IF(P13>2,P13,H13+K13+N13)","v":0},null,0,{"$f":"IF(G12+G13+J12+J13=0,0,G13+J13-G12-J12)","v":0},{"$f":"IF((S12+S13)=3,(P13+S13),0)","v":0}]
[]
[null,{"$f":"DRAW!$L$63","v":0},{"$f":"DRAW!$M$63","v":0},null,{"$f":"VLOOKUP(C15,DRAW!$C$5:'DRAW'!$E$46,3,0)","v":{"$error":"#N/A"}},null,null,{"$f":"IF(G15+G16>0,(IF(G15>G16,1,(IF(G15=G16,0.5,0)))),0)","v":0},null,null,{"$f":"IF(J15+J16>0,(IF(J15>J16,1,(IF(J15=J16,0.5,0)))),0)","v":0},null,null,{"$f":"IF(M15+M16>0,(IF(M15>M16,1,(IF(M15=M16,0.5,0)))),0)","v":0},null,{"$f":"+H15+K15","v":0},{"$f":"IF(P15>2,P15,H15+K15+N15)","v":0},null,{"$f":"IF(Q15+Q16>=1.5,(IF(Q15>Q16,3,0)),0)","v":0},{"$f":"IF(G15+G16+J15+J16=0,0,G15+J15-G16-J16)","v":0},{"$f":"IF((S15+S16)=3,(P15+S15),0)","v":0}]
[null,null,{"$f":"DRAW!$M$64","v":0},null,{"$f":"VLOOKUP(C16,DRAW!$C$5:'DRAW'!$E$46,3,0)","v":{"$error":"#N/A"}},null,null,{"$f":"IF(G15+G16>0,(IF(G15<G16,1,(IF(G15=G16,0.5,0)))),0)","v":0},null,null,{"$f":"IF(J15+J16>0,(IF(J15<J16,1,(IF(J15=J16,0.5,0)))),0)","v":0},10,null,{"$f":"IF(M15+M16>0,(IF(M15<M16,1,(IF(M15=M16,0.5,0)))),0)","v":0},null,{"$f":"+H16+K16","v":0},{"$f":"IF(P16>2,P16,H16+K16+N16)","v":0},null,0,{"$f":"IF(G15+G16+J15+J16=0,0,G16+J16-G15-J15)","v":0},{"$f":"IF((S15+S16)=3,(P16+S16),0)","v":0}]
[]
[null,{"$f":"DRAW!$L$66","v":0},{"$f":"DRAW!$M$66","v":0},null,{"$f":"VLOOKUP(C18,DRAW!$C$5:'DRAW'!$E$46,3,0)","v":{"$error":"#N/A"}},null,null,{"$f":"IF(G18+G19>0,(IF(G18>G19,1,(IF(G18=G19,0.5,0)))),0)","v":0},null,null,{"$f":"IF(J18+J19>0,(IF(J18>J19,1,(IF(J18=J19,0.5,0)))),0)","v":0},null,null,{"$f":"IF(M18+M19>0,(IF(M18>M19,1,(IF(M18=M19,0.5,0)))),0)","v":0},null,{"$f":"+H18+K18","v":0},{"$f":"IF(P18>2,P18,H18+K18+N18)","v":0},null,{"$f":"IF(Q18+Q19>=1.5,(IF(Q18>Q19,3,0)),0)","v":0},{"$f":"IF(G18+G19+J18+J19=0,0,G18+J18-G19-J19)","v":0},{"$f":"IF((S18+S19)=3,(P18+S18),0)","v":0}]
[null,null,{"$f":"DRAW!$M$67","v":0},null,{"$f":"VLOOKUP(C19,DRAW!$C$5:'DRAW'!$E$46,3,0)","v":{"$error":"#N/A"}},null,null,{"$f":"IF(G18+G19>0,(IF(G18<G19,1,(IF(G18=G19,0.5,0)))),0)","v":0},null,null,{"$f":"IF(J18+J19>0,(IF(J18<J19,1,(IF(J18=J19,0.5,0)))),0)","v":0},null,null,{"$f":"IF(M18+M19>0,(IF(M18<M19,1,(IF(M18=M19,0.5,0)))),0)","v":0},null,{"$f":"+H19+K19","v":0},{"$f":"IF(P19>2,P19,H19+K19+N19)","v":0},null,0,{"$f":"IF(G18+G19+J18+J19=0,0,G19+J19-G18-J18)","v":0},{"$f":"IF((S18+S19)=3,(P19+S19),0)","v":0}]
[]
[null,{"$f":"DRAW!$L$69","v":0},{"$f":"DRAW!$M$69","v":0},null,{"$f":"VLOOKUP(C21,DRAW!$C$5:'DRAW'!$E$46,3,0)","v":{"$error":"#N/A"}},null,null,{"$f":"IF(G21+G22>0,(IF(G21>G22,1,(IF(G21=G22,0.5,0)))),0)","v":0},null,null,{"$f":"IF(J21+J22>0,(IF(J21>J22,1,(IF(J21=J22,0.5,0)))),0)","v":0},null,null,{"$f":"IF(M21+M22>0,(IF(M21>M22,1,(IF(M21=M22,0.5,0)))),0)","v":0},null,{"$f":"+H21+K21","v":0},{"$f":"IF(P21>2,P21,H21+K21+N21)","v":0},null,{"$f":"IF(Q21+Q22>=1.5,(IF(Q21>Q22,3,0)),0)","v":0},{"$f":"IF(G21+G22+J21+J22=0,0,G21+J21-G22-J22)","v":0},{"$f":"IF((S21+S22)=3,(P21+S21),0)","v":0}]
[null,null,{"$f":"DRAW!$M$70","v":0},null,{"$f":"VLOOKUP(C22,DRAW!$C$5:'DRAW'!$E$46,3,0)","v":{"$error":"#N/A"}},null,null,{"$f":"IF(G21+G22>0,(IF(G21<G22,1,(IF(G21=G22,0.5,0)))),0)","v":0},null,null,{"$f":"IF(J21+J22>0,(IF(J21<J22,1,(IF(J21=J22,0.5,0)))),0)","v":0},null,null,{"$f":"IF(M21+M22>0,(IF(M21<M22,1,(IF(M21=M22,0.5,0)))),0)","v":0},null,{"$f":"+H22+K22","v":0},{"$f":"IF(P22>2,P22,H22+K22+N22)","v":0},null,0,{"$f":"IF(G21+G22+J21+J22=0,0,G22+J22-G21-J21)","v":0},{"$f":"IF((S21+S22)=3,(P22+S22),0)","v":0}]
[]
[null,{"$f":"DRAW!$L$72","v":0},{"$f":"DRAW!$M$72","v":0},null,{"$f":"VLOOKUP(C24,DRAW!$C$5:'DRAW'!$E$46,3,0)","v":{"$error":"#N/A"}},null,null,{"$f":"IF(G24+G25>0,(IF(G24>G25,1,(IF(G24=G25,0.5,0)))),0)","v":0},null,null,{"$f":"IF(J24+J25>0,(IF(J24>J25,1,(IF(J24=J25,0.5,0)))),0)","v":0},null,null,{"$f":"IF(M24+M25>0,(IF(M24>M25,1,(IF(M24=M25,0.5,0)))),0)","v":0},null,{"$f":"+H24+K24","v":0},{"$f":"IF(P24>2,P24,H24+K24+N24)","v":0},null,{"$f":"IF(Q24+Q25>=1.5,(IF(Q24>Q25,3,0)),0)","v":0},{"$f":"IF(G24+G25+J24+J25=0,0,G24+J24-G25-J25)","v":0},{"$f":"IF((S24+S25)=3,(P24+S24),0)","v":0}]
[null,null,{"$f":"DRAW!$M$73","v":0},null,{"$f":"VLOOKUP(C25,DRAW!$C$5:'DRAW'!$E$46,3,0)","v":{"$error":"#N/A"}},null,null,{"$f":"IF(G24+G25>0,(IF(G24<G25,1,(IF(G24=G25,0.5,0)))),0)","v":0},null,null,{"$f":"IF(J24+J25>0,(IF(J24<J25,1,(IF(J24=J25,0.5,0)))),0)","v":0},null,null,{"$f":"IF(M24+M25>0,(IF(M24<M25,1,(IF(M24=M25,0.5,0)))),0)","v":0},null,{"$f":"+H25+K25","v":0},{"$f":"IF(P25>2,P25,H25+K25+N25)","v":0},null,0,{"$f":"IF(G24+G25+J24+J25=0,0,G25+J25-G24-J24)","v":0},{"$f":"IF((S24+S25)=3,(P25+S25),0)","v":0}]
[]
[null,{"$f":"DRAW!$L$75","v":0},{"$f":"DRAW!$M$75","v":0},null,{"$f":"VLOOKUP(C27,DRAW!$C$5:'DRAW'!$E$46,3,0)","v":{"$error":"#N/A"}},null,null,{"$f":"IF(G27+G28>0,(IF(G27>G28,1,(IF(G27=G28,0.5,0)))),0)","v":0},null,null,{"$f":"IF(J27+J28>0,(IF(J27>J28,1,(IF(J27=J28,0.5,0)))),0)","v":0},null,null,{"$f":"IF(M27+M28>0,(IF(M27>M28,1,(IF(M27=M28,0.5,0)))),0)","v":0},null,{"$f":"+H27+K27","v":0},{"$f":"IF(P27>2,P27,H27+K27+N27)","v":0},null,{"$f":"IF(Q27+Q28>=1.5,(IF(Q27>Q28,3,0)),0)","v":0},{"$f":"IF(G27+G28+J27+J28=0,0,G27+J27-G28-J28)","v":0},{"$f":"IF((S27+S28)=3,(P27+S27),0)","v":0}]
[null,null,{"$f":"DRAW!$M$76","v":0},null,{"$f":"VLOOKUP(C28,DRAW!$C$5:'DRAW'!$E$46,3,0)","v":{"$error":"#N/A"}},null,null,{"$f":"IF(G27+G28>0,(IF(G27<G28,1,(IF(G27=G28,0.5,0)))),0)","v":0},null,null,{"$f":"IF(J27+J28>0,(IF(J27<J28,1,(IF(J27=J28,0.5,0)))),0)","v":0},null,null,{"$f":"IF(M27+M28>0,(IF(M27<M28,1,(IF(M27=M28,0.5,0)))),0)","v":0},null,{"$f":"+H28+K28","v":0},{"$f":"IF(P28>2,P28,H28+K28+N28)","v":0},null,0,{"$f":"IF(G27+G28+J27+J28=0,0,G28+J28-G27-J27)","v":0},{"$f":"IF((S27+S28)=3,(P28+S28),0)","v":0}]
[]
[null,{"$f":"DRAW!$L$78","v":0},{"$f":"DRAW!$M$78","v":0},null,{"$f":"VLOOKUP(C30,DRAW!$C$5:'DRAW'!$E$46,3,0)","v":{"$error":"#N/A"}},null,null,{"$f":"IF(G30+G31>0,(IF(G30>G31,1,(IF(G30=G31,0.5,0)))),0)","v":0},null,null,{"$f":"IF(J30+J31>0,(IF(J30>J31,1,(IF(J30=J31,0.5,0)))),0)","v":0},null,null,{"$f":"IF(M30+M31>0,(IF(M30>M31,1,(IF(M30=M31,0.5,0)))),0)","v":0},null,{"$f":"+H30+K30","v":0},{"$f":"IF(P30>2,P30,H30+K30+N30)","v":0},null,{"$f":"IF(Q30+Q31>=1.5,(IF(Q30>Q31,3,0)),0)","v":0},{"$f":"IF(G30+G31+J30+J31=0,0,G30+J30-G31-J31)","v":0},{"$f":"IF((S30+S31)=3,(P30+S30),0)","v":0}]
[null,null,{"$f":"DRAW!$M$79","v":0},null,{"$f":"VLOOKUP(C31,DRAW!$C$5:'DRAW'!$E$46,3,0)","v":{"$error":"#N/A"}},null,null,{"$f":"IF(G30+G31>0,(IF(G30<G31,1,(IF(G30=G31,0.5,0)))),0)","v":0},null,null,{"$f":"IF(J30+J31>0,(IF(J30<J31,1,(IF(J30=J31,0.5,0)))),0)","v":0},null,null,{"$f":"IF(M30+M31>0,(IF(M30<M31,1,(IF(M30=M31,0.5,0)))),0)","v":0},null,{"$f":"+H31+K31","v":0},{"$f":"IF(P31>2,P31,H31+K31+N31)","v":0},null,0,{"$f":"IF(G30+G31+J30+J31=0,0,G31+J31-G30-J30)","v":0},{"$f":"IF((S30+S31)=3,(P31+S31),0)","v":0}]
[]
[null,{"$f":"DRAW!$L$81","v":0},{"$f":"DRAW!$M$81","v":0},null,{"$f":"VLOOKUP(C33,DRAW!$C$5:'DRAW'!$E$46,3,0)","v":{"$error":"#N/A"}},null,null,{"$f":"IF(G33+G34>0,(IF(G33>G34,1,(IF(G33=G34,0.5,0)))),0)","v":0},null,null,{"$f":"IF(J33+J34>0,(IF(J33>J34,1,(IF(J33=J34,0.5,0)))),0)","v":0},null,null,{"$f":"IF(M33+M34>0,(IF(M33>M34,1,(IF(M33=M34,0.5,0)))),0)","v":0},null,{"$f":"+H33+K33","v":0},{"$f":"IF(P33>2,P33,H33+K33+N33)","v":0},null,{"$f":"IF(Q33+Q34>=1.5,(IF(Q33>Q34,3,0)),0)","v":0},{"$f":"IF(G33+G34+J33+J34=0,0,G33+J33-G34-J34)","v":0},{"$f":"IF((S33+S34)=3,(P33+S33),0)","v":0}]
[null,null,{"$f":"DRAW!$M$82","v":0},null,{"$f":"VLOOKUP(C34,DRAW!$C$5:'DRAW'!$E$46,3,0)","v":{"$error":"#N/A"}},null,null,{"$f":"IF(G33+G34>0,(IF(G33<G34,1,(IF(G33=G34,0.5,0)))),0)","v":0},null,null,{"$f":"IF(J33+J34>0,(IF(J33<J34,1,(IF(J33=J34,0.5,0)))),0)","v":0},null,null,{"$f":"IF(M33+M34>0,(IF(M33<M34,1,(IF(M33=M34,0.5,0)))),0)","v":0},null,{"$f":"+H34+K34","v":0},{"$f":"IF(P34>2,P34,H34+K34+N34)","v":0},null,0,{"$f":"IF(G33+G34+J33+J34=0,0,G34+J34-G33-J33)","v":0},{"$f":"IF((S33+S34)=3,(P34+S34),0)","v":0}]
[]
[null,{"$f":"DRAW!$L$84","v":0},{"$f":"DRAW!$M$84","v":0},null,{"$f":"VLOOKUP(C36,DRAW!$C$5:'DRAW'!$E$46,3,0)","v":{"$error":"#N/A"}},null,null,{"$f":"IF(G36+G37>0,(IF(G36>G37,1,(IF(G36=G37,0.5,0)))),0)","v":0},null,null,{"$f":"IF(J36+J37>0,(IF(J36>J37,1,(IF(J36=J37,0.5,0)))),0)","v":0},null,null,{"$f":"IF(M36+M37>0,(IF(M36>M37,1,(IF(M36=M37,0.5,0)))),0)","v":0},null,{"$f":"+H36+K36","v":0},{"$f":"IF(P36>2,P36,H36+K36+N36)","v":0},null,{"$f":"IF(Q36+Q37>=1.5,(IF(Q36>Q37,3,0)),0)","v":0},{"$f":"IF(G36+G37+J36+J37=0,0,G36+J36-G37-J37)","v":0},{"$f":"IF((S36+S37)=3,(P36+S36),0)","v":0}]
[null,null,{"$f":"DRAW!$M$85","v":0},null,{"$f":"VLOOKUP(C37,DRAW!$C$5:'DRAW'!$E$46,3,0)","v":{"$error":"#N/A"}},null,null,{"$f":"IF(G36+G37>0,(IF(G36<G37,1,(IF(G36=G37,0.5,0)))),0)","v":0},null,null,{"$f":"IF(J36+J37>0,(IF(J36<J37,1,(IF(J36=J37,0.5,0)))),0)","v":0},null,null,{"$f":"IF(M36+M37>0,(IF(M36<M37,1,(IF(M36=M37,0.5,0)))),0)","v":0},null,{"$f":"+H37+K37","v":0},{"$f":"IF(P37>2,P37,H37+K37+N37)","v":0},null,0,{"$f":"IF(G36+G37+J36+J37=0,0,G37+J37-G36-J36)","v":0},{"$f":"IF((S36+S37)=3,(P37+S37),0)","v":0}]
[]
[null,{"$f":"DRAW!$L$87","v":0},{"$f":"DRAW!$M$87","v":0},null,{"$f":"VLOOKUP(C39,DRAW!$C$5:'DRAW'!$E$46,3,0)","v":{"$error":"#N/A"}},null,null,{"$f":"IF(G39+G40>0,(IF(G39>G40,1,(IF(G39=G40,0.5,0)))),0)","v":0},null,null,{"$f":"IF(J39+J40>0,(IF(J39>J40,1,(IF(J39=J40,0.5,0)))),0)","v":0},null,null,{"$f":"IF(M39+M40>0,(IF(M39>M40,1,(IF(M39=M40,0.5,0)))),0)","v":0},null,{"$f":"+H39+K39","v":0},{"$f":"IF(P39>2,P39,H39+K39+N39)","v":0},null,{"$f":"IF(Q39+Q40>=1.5,(IF(Q39>Q40,3,0)),0)","v":0},{"$f":"IF(G39+G40+J39+J40=0,0,G39+J39-G40-J40)","v":0},{"$f":"IF((S39+S40)=3,(P39+S39),0)","v":0}]
[null,null,{"$f":"DRAW!$M$88","v":0},null,{"$f":"VLOOKUP(C40,DRAW!$C$5:'DRAW'!$E$46,3,0)","v":{"$error":"#N/A"}},null,null,{"$f":"IF(G39+G40>0,(IF(G39<G40,1,(IF(G39=G40,0.5,0)))),0)","v":0},null,null,{"$f":"IF(J39+J40>0,(IF(J39<J40,1,(IF(J39=J40,0.5,0)))),0)","v":0},null,null,{"$f":"IF(M39+M40>0,(IF(M39<M40,1,(IF(M39=M40,0.5,0)))),0)","v":0},null,0,{"$f":"IF(P40>2,P40,H40+K40+N40)","v":0},null,0,{"$f":"IF(G39+G40+J39+J40=0,0,G40+J40-G39-J39)","v":0},{"$f":"IF((S39+S40)=3,(P40+S40),0)","v":0}]
[]
[null,{"$f":"DRAW!$L$90","v":0},{"$f":"DRAW!$M$90","v":0},null,{"$f":"VLOOKUP(C42,DRAW!$C$5:'DRAW'!$E$46,3,0)","v":{"$error":"#N/A"}},null,null,{"$f":"IF(G42+G43>0,(IF(G42>G43,1,(IF(G42=G43,0.5,0)))),0)","v":0},null,null,{"$f":"IF(J42+J43>0,(IF(J42>J43,1,(IF(J42=J43,0.5,0)))),0)","v":0},null,null,{"$f":"IF(M42+M43>0,(IF(M42>M43,1,(IF(M42=M43,0.5,0)))),0)","v":0},null,{"$f":"+H42+K42","v":0},{"$f":"IF(P42>2,P42,H42+K42+N42)","v":0},null,{"$f":"IF(Q42+Q43>=1.5,(IF(Q42>Q43,3,0)),0)","v":0},{"$f":"IF(G42+G43+J42+J43=0,0,G42+J42-G43-J43)","v":0},{"$f":"IF((S42+S43)=3,(P42+S42),0)","v":0}]
[null,null,{"$f":"DRAW!$M$91","v":0},null,{"$f":"VLOOKUP(C43,DRAW!$C$5:'DRAW'!$E$46,3,0)","v":{"$error":"#N/A"}},null,null,{"$f":"IF(G42+G43>0,(IF(G42<G43,1,(IF(G42=G43,0.5,0)))),0)","v":0},null,null,{"$f":"IF(J42+J43>0,(IF(J42<J43,1,(IF(J42=J43,0.5,0)))),0)","v":0},null,null,{"$f":"IF(M42+M43>0,(IF(M42<M43,1,(IF(M42=M43,0.5,0)))),0)","v":0},null,{"$f":"+H43+K43","v":0},{"$f":"IF(P43>2,P43,H43+K43+N43)","v":0},null,0,{"$f":"IF(G42+G43+J42+J43=0,0,G43+J43-G42-J42)","v":0},{"$f":"IF((S42+S43)=3,(P43+S43),0)","v":0}]
[]
[null,{"$f":"DRAW!$L$93","v":0},{"$f":"DRAW!$M$93","v":0},null,{"$f":"VLOOKUP(C45,DRAW!$C$5:'DRAW'!$E$46,3,0)","v":{"$error":"#N/A"}},null,null,{"$f":"IF(G45+G46>0,(IF(G45>G46,1,(IF(G45=G46,0.5,0)))),0)","v":0},null,null,{"$f":"IF(J45+J46>0,(IF(J45>J46,1,(IF(J45=J46,0.5,0)))),0)","v":0},null,null,{"$f":"IF(M45+M46>0,(IF(M45>M46,1,(IF(M45=M46,0.5,0)))),0)","v":0},null,{"$f":"+H45+K45","v":0},{"$f":"IF(P45>2,P45,H45+K45+N45)","v":0},null,{"$f":"IF(Q45+Q46>=1.5,(IF(Q45>Q46,3,0)),0)","v":0},{"$f":"IF(G45+G46+J45+J46=0,0,G45+J45-G46-J46)","v":0},{"$f":"IF((S45+S46)=3,(P45+S45),0)","v":0}]
[null,null,{"$f":"DRAW!$M$94","v":0},null,{"$f":"VLOOKUP(C46,DRAW!$C$5:'DRAW'!$E$46,3,0)","v":{"$error":"#N/A"}},null,null,{"$f":"IF(G45+G46>0,(IF(G45<G46,1,(IF(G45=G46,0.5,0)))),0)","v":0},null,null,{"$f":"IF(J45+J46>0,(IF(J45<J46,1,(IF(J45=J46,0.5,0)))),0)","v":0},null,null,{"$f":"IF(M45+M46>0,(IF(M45<M46,1,(IF(M45=M46,0.5,0)))),0)","v":0},null,{"$f":"+H46+K46","v":0},{"$f":"IF(P46>2,P46,H46+K46+N46)","v":0},null,0,{"$f":"IF(G45+G46+J45+J46=0,0,G46+J46-G45-J45)","v":0},{"$f":"IF((S45+S46)=3,(P46+S46),0)","v":0}]
[]
[null,{"$f":"DRAW!$L$96","v":0},{"$f":"DRAW!$M$96","v":0},null,{"$f":"VLOOKUP(C48,DRAW!$C$5:'DRAW'!$E$46,3,0)","v":{"$error":"#N/A"}},null,null,{"$f":"IF(G48+G49>0,(IF(G48>G49,1,(IF(G48=G49,0.5,0)))),0)","v":0},null,null,{"$f":"IF(J48+J49>0,(IF(J48>J49,1,(IF(J48=J49,0.5,0)))),0)","v":0},null,null,{"$f":"IF(M48+M49>0,(IF(M48>M49,1,(IF(M48=M49,0.5,0)))),0)","v":0},null,{"$f":"+H48+K48","v":0},{"$f":"IF(P48>2,P48,H48+K48+N48)","v":0},null,{"$f":"IF(Q48+Q49>=1.5,(IF(Q48>Q49,3,0)),0)","v":0},{"$f":"IF(G48+G49+J48+J49=0,0,G48+J48-G49-J49)","v":0},{"$f":"IF((S48+S49)=3,(P48+S48),0)","v":0}]
[null,null,{"$f":"DRAW!$M$97","v":0},null,{"$f":"VLOOKUP(C49,DRAW!$C$5:'DRAW'!$E$46,3,0)","v":{"$error":"#N/A"}},null,null,{"$f":"IF(G48+G49>0,(IF(G48<G49,1,(IF(G48=G49,0.5,0)))),0)","v":0},null,null,{"$f":"IF(J48+J49>0,(IF(J48<J49,1,(IF(J48=J49,0.5,0)))),0)","v":0},null,null,{"$f":"IF(M48+M49>0,(IF(M48<M49,1,(IF(M48=M49,0.5,0)))),0)","v":0},null,{"$f":"+H49+K49","v":0},{"$f":"IF(P49>2,P49,H49+K49+N49)","v":0},null,0,{"$f":"IF(G48+G49+J48+J49=0,0,G49+J49-G48-J48)","v":0},{"$f":"IF((S48+S49)=3,(P49+S49),0)","v":0}]
[]
[null,{"$f":"DRAW!$L$99","v":0},{"$f":"DRAW!$M$99","v":0},null,{"$f":"VLOOKUP(C51,DRAW!$C$5:'DRAW'!$E$46,3,0)","v":{"$error":"#N/A"}},null,null,{"$f":"IF(G51+G52>0,(IF(G51>G52,1,(IF(G51=G52,0.5,0)))),0)","v":0},null,null,{"$f":"IF(J51+J52>0,(IF(J51>J52,1,(IF(J51=J52,0.5,0)))),0)","v":0},null,null,{"$f":"IF(M51+M52>0,(IF(M51>M52,1,(IF(M51=M52,0.5,0)))),0)","v":0},null,{"$f":"+H51+K51","v":0},{"$f":"IF(P51>2,P51,H51+K51+N51)","v":0},null,{"$f":"IF(Q51+Q52>=1.5,(IF(Q51>Q52,3,0)),0)","v":0},{"$f":"IF(G51+G52+J51+J52=0,0,G51+J51-G52-J52)","v":0},{"$f":"IF((S51+S52)=3,(P51+S51),0)","v":0}]
[null,null,{"$f":"DRAW!$M$100","v":0},null,{"$f":"VLOOKUP(C52,DRAW!$C$5:'DRAW'!$E$46,3,0)","v":{"$error":"#N/A"}},null,null,{"$f":"IF(G51+G52>0,(IF(G51<G52,1,(IF(G51=G52,0.5,0)))),0)","v":0},null,null,{"$f":"IF(J51+J52>0,(IF(J51<J52,1,(IF(J51=J52,0.5,0)))),0)","v":0},null,null,{"$f":"IF(M51+M52>0,(IF(M51<M52,1,(IF(M51=M52,0.5,0)))),0)","v":0},null,{"$f":"+H52+K52","v":0},{"$f":"IF(P52>2,P52,H52+K52+N52)","v":0},null,0,{"$f":"IF(G51+G52+J51+J52=0,0,G52+J52-G51-J51)","v":0},{"$f":"IF((S51+S52)=3,(P52+S52),0)","v":0}]
[]
[null,{"$f":"DRAW!$L$102","v":0},{"$f":"DRAW!$M$102","v":0},null,{"$f":"VLOOKUP(C54,DRAW!$C$5:'DRAW'!$E$46,3,0)","v":{"$error":"#N/A"}},null,null,{"$f":"IF(G54+G55>0,(IF(G54>G55,1,(IF(G54=G55,0.5,0)))),0)","v":0},null,null,{"$f":"IF(J54+J55>0,(IF(J54>J55,1,(IF(J54=J55,0.5,0)))),0)","v":0},null,null,{"$f":"IF(M54+M55>0,(IF(M54>M55,1,(IF(M54=M55,0.5,0)))),0)","v":0},null,{"$f":"+H54+K54","v":0},{"$f":"IF(P54>2,P54,H54+K54+N54)","v":0},null,{"$f":"IF(Q54+Q55>=1.5,(IF(Q54>Q55,3,0)),0)","v":0},{"$f":"IF(G54+G55+J54+J55=0,0,G54+J54-G55-J55)","v":0},{"$f":"IF((S54+S55)=3,(P54+S54),0)","v":0}]
[null,null,{"$f":"DRAW!$M$103","v":0},null,{"$f":"VLOOKUP(C55,DRAW!$C$5:'DRAW'!$E$46,3,0)","v":{"$error":"#N/A"}},null,null,{"$f":"IF(G54+G55>0,(IF(G54<G55,1,(IF(G54=G55,0.5,0)))),0)","v":0},null,null,{"$f":"IF(J54+J55>0,(IF(J54<J55,1,(IF(J54=J55,0.5,0)))),0)","v":0},null,null,{"$f":"IF(M54+M55>0,(IF(M54<M55,1,(IF(M54=M55,0.5,0)))),0)","v":0},null,{"$f":"+H55+K55","v":0},{"$f":"IF(P55>2,P55,H55+K55+N55)","v":0},null,0,{"$f":"IF(G54+G55+J54+J55=0,0,G55+J55-G54-J54)","v":0},{"$f":"IF((S54+S55)=3,(P55+S55),0)","v":0}]
[]
[null,{"$f":"DRAW!$L$105","v":0},{"$f":"DRAW!$M$105","v":0},null,{"$f":"VLOOKUP(C57,DRAW!$C$5:'DRAW'!$E$46,3,0)","v":{"$error":"#N/A"}},null,null,{"$f":"IF(G57+G58>0,(IF(G57>G58,1,(IF(G57=G58,0.5,0)))),0)","v":0},null,null,{"$f":"IF(J57+J58>0,(IF(J57>J58,1,(IF(J57=J58,0.5,0)))),0)","v":0},null,null,{"$f":"IF(M57+M58>0,(IF(M57>M58,1,(IF(M57=M58,0.5,0)))),0)","v":0},null,{"$f":"+H57+K57","v":0},{"$f":"IF(P57>2,P57,H57+K57+N57)","v":0},null,{"$f":"IF(Q57+Q58>=1.5,(IF(Q57>Q58,3,0)),0)","v":0},{"$f":"IF(G57+G58+J57+J58=0,0,G57+J57-G58-J58)","v":0},{"$f":"IF((S57+S58)=3,(P57+S57),0)","v":0}]
[null,null,{"$f":"DRAW!$M$106","v":0},null,{"$f":"VLOOKUP(C58,DRAW!$C$5:'DRAW'!$E$46,3,0)","v":{"$error":"#N/A"}},null,null,{"$f":"IF(G57+G58>0,(IF(G57<G58,1,(IF(G57=G58,0.5,0)))),0)","v":0},null,null,{"$f":"IF(J57+J58>0,(IF(J57<J58,1,(IF(J57=J58,0.5,0)))),0)","v":0},null,null,{"$f":"IF(M57+M58>0,(IF(M57<M58,1,(IF(M57=M58,0.5,0)))),0)","v":0},null,{"$f":"+H58+K58","v":0},{"$f":"IF(P58>2,P58,H58+K58+N58)","v":0},null,0,{"$f":"IF(G57+G58+J57+J58=0,0,G58+J58-G57-J57)","v":0},{"$f":"IF((S57+S58)=3,(P58+S58),0)","v":0}]
[]
[null,{"$f":"DRAW!$L$108","v":0},{"$f":"DRAW!$M$108","v":0},null,{"$f":"VLOOKUP(C60,DRAW!$C$5:'DRAW'!$E$46,3,0)","v":{"$error":"#N/A"}},null,null,{"$f":"IF(G60+G61>0,(IF(G60>G61,1,(IF(G60=G61,0.5,0)))),0)","v":0},null,null,{"$f":"IF(J60+J61>0,(IF(J60>J61,1,(IF(J60=J61,0.5,0)))),0)","v":0},null,null,{"$f":"IF(M60+M61>0,(IF(M60>M61,1,(IF(M60=M61,0.5,0)))),0)","v":0},null,{"$f":"+H60+K60","v":0},{"$f":"IF(P60>2,P60,H60+K60+N60)","v":0},null,{"$f":"IF(Q60+Q61>=1.5,(IF(Q60>Q61,3,0)),0)","v":0},{"$f":"IF(G60+G61+J60+J61=0,0,G60+J60-G61-J61)","v":0},{"$f":"IF((S60+S61)=3,(P60+S60),0)","v":0}]
[null,null,{"$f":"DRAW!$M$109","v":0},null,{"$f":"VLOOKUP(C61,DRAW!$C$5:'DRAW'!$E$46,3,0)","v":{"$error":"#N/A"}},null,null,{"$f":"IF(G60+G61>0,(IF(G60<G61,1,(IF(G60=G61,0.5,0)))),0)","v":0},null,null,{"$f":"IF(J60+J61>0,(IF(J60<J61,1,(IF(J60=J61,0.5,0)))),0)","v":0},null,null,{"$f":"IF(M60+M61>0,(IF(M60<M61,1,(IF(M60=M61,0.5,0)))),0)","v":0},null,{"$f":"+H61+K61","v":0},{"$f":"IF(P61>2,P61,H61+K61+N61)","v":0},null,0,{"$f":"IF(G60+G61+J60+J61=0,0,G61+J61-G60-J60)","v":0},{"$f":"IF((S60+S61)=3,(P61+S61),0)","v":0}]
[]
[null,{"$f":"DRAW!$L$111","v":0},{"$f":"DRAW!$M$111","v":0},null,{"$f":"VLOOKUP(C63,DRAW!$C$5:'DRAW'!$E$46,3,0)","v":{"$error":"#N/A"}},null,null,{"$f":"IF(G63+G64>0,(IF(G63>G64,1,(IF(G63=G64,0.5,0)))),0)","v":0},null,null,{"$f":"IF(J63+J64>0,(IF(J63>J64,1,(IF(J63=J64,0.5,0)))),0)","v":0},null,null,{"$f":"IF(M63+M64>0,(IF(M63>M64,1,(IF(M63=M64,0.5,0)))),0)","v":0},null,{"$f":"+H63+K63","v":0},{"$f":"IF(P63>2,P63,H63+K63+N63)","v":0},null,{"$f":"IF(Q63+Q64>=1.5,(IF(Q63>Q64,3,0)),0)","v":0},{"$f":"IF(G63+G64+J63+J64=0,0,G63+J63-G64-J64)","v":0},{"$f":"IF((S63+S64)=3,(P63+S63),0)","v":0}]
[null,null,{"$f":"DRAW!$M$112","v":0},null,{"$f":"VLOOKUP(C64,DRAW!$C$5:'DRAW'!$E$46,3,0)","v":{"$error":"#N/A"}},null,null,{"$f":"IF(G63+G64>0,(IF(G63<G64,1,(IF(G63=G64,0.5,0)))),0)","v":0},null,null,{"$f":"IF(J63+J64>0,(IF(J63<J64,1,(IF(J63=J64,0.5,0)))),0)","v":0},null,null,{"$f":"IF(M63+M64>0,(IF(M63<M64,1,(IF(M63=M64,0.5,0)))),0)","v":0},null,{"$f":"+H64+K64","v":0},{"$f":"IF(P64>2,P64,H64+K64+N64)","v":0},null,0,{"$f":"IF(G63+G64+J63+J64=0,0,G64+J64-G63-J63)","v":0},{"$f":"IF((S63+S64)=3,(P64+S64),0)","v":0}]
[]
[null,{"$f":"DRAW!$L$114","v":0},{"$f":"DRAW!$M$114","v":0},null,{"$f":"VLOOKUP(C66,DRAW!$C$5:'DRAW'!$E$46,3,0)","v":{"$error":"#N/A"}},null,null,{"$f":"IF(G66+G67>0,(IF(G66>G67,1,(IF(G66=G67,0.5,0)))),0)","v":0},null,null,{"$f":"IF(J66+J67>0,(IF(J66>J67,1,(IF(J66=J67,0.5,0)))),0)","v":0},null,null,{"$f":"IF(M66+M67>0,(IF(M66>M67,1,(IF(M66=M67,0.5,0)))),0)","v":0},null,{"$f":"+H66+K66","v":0},{"$f":"IF(P66>2,P66,H66+K66+N66)","v":0},null,{"$f":"IF(Q66+Q67>=1.5,(IF(Q66>Q67,3,0)),0)","v":0},{"$f":"IF(G66+G67+J66+J67=0,0,G66+J66-G67-J67)","v":0},{"$f":"IF((S66+S67)=3,(P66+S66),0)","v":0}]
[null,null,{"$f":"DRAW!$M$115","v":0},null,{"$f":"VLOOKUP(C67,DRAW!$C$5:'DRAW'!$E$46,3,0)","v":{"$error":"#N/A"}},null,null,{"$f":"IF(G66+G67>0,(IF(G66<G67,1,(IF(G66=G67,0.5,0)))),0)","v":0},null,null,{"$f":"IF(J66+J67>0,(IF(J66<J67,1,(IF(J66=J67,0.5,0)))),0)","v":0},null,null,{"$f":"IF(M66+M67>0,(IF(M66<M67,1,(IF(M66=M67,0.5,0)))),0)","v":0},null,{"$f":"+H67+K67","v":0},{"$f":"IF(P67>2,P67,H67+K67+N67)","v":0},null,0,{"$f":"IF(G66+G67+J66+J67=0,0,G67+J67-G66-J66)","v":0},{"$f":"IF((S66+S67)=3,(P67+S67),0)","v":0}]

{"sheet":"Round 5","index":8,"n_rows":67,"n_cols":21,"rows_kept":67,"merged":[[0,1,0,20],[2,1,2,20],[3,3,3,4],[5,1,6,1],[8,1,9,1],[11,1,12,1],[14,1,15,1],[17,1,18,1],[20,1,21,1],[23,1,24,1],[26,1,27,1],[29,1,30,1],[32,1,33,1],[35,1,36,1],[38,1,39,1],[41,1,42,1],[44,1,45,1],[47,1,48,1],[50,1,51,1],[53,1,54,1],[56,1,57,1],[59,1,60,1],[62,1,63,1],[65,1,66,1]]}
[null,{"$f":"DRAW!$C$1","v":0}]
[]
[null,"R O U N D  5"]
[null,"Rink","Team No.","Skip",null,null,"1st    Set","Set Points",null,"2nd   Set","Set Points",null,"Tie Breaker","Set Points",null,"Set Points","S+TBPts",null,"Game Points","Margin","Total Points"]
[]
[null,{"$f":"DRAW!$N$54","v":0},{"$f":"DRAW!$O$54","v":0},null,{"$f":"VLOOKUP(C6,DRAW!$C$5:'DRAW'!$E$46,3,0)","v":{"$error":"#N/A"}},null,null,{"$f":"IF(G6+G7>0,(IF(G6>G7,1,(IF(G6=G7,0.5,0)))),0)","v":0},null,null,{"$f":"IF(J6+J7>0,(IF(J6>J7,1,(IF(J6=J7,0.5,0)))),0)","v":0},null,null,{"$f":"IF(M6+M7>0,(IF(M6>M7,1,(IF(M6=M7,0.5,0)))),0)","v":0},null,{"$f":"+H6+K6","v":0},{"$f":"IF(P6>2,P6,H6+K6+N6)","v":0},null,{"$f":"IF(Q6+Q7>=1.5,(IF(Q6>Q7,3,0)),0)","v":0},{"$f":"IF(G6+G7+J6+J7=0,0,G6+J6-G7-J7)","v":0},{"$f":"IF((S6+S7)=3,(P6+S6),0)","v":0}]
[null,null,{"$f":"DRAW!$O$55","v":0},null,{"$f":"VLOOKUP(C7,DRAW!$C$5:'DRAW'!$E$46,3,0)","v":{"$error":"#N/A"}},null,null,{"$f":"IF(G6+G7>0,(IF(G6<G7,1,(IF(G6=G7,0.5,0)))),0)","v":0},null,null,{"$f":"IF(J6+J7>0,(IF(J6<J7,1,(IF(J6=J7,0.5,0)))),0)","v":0},null,null,{"$f":"IF(M6+M7>0,(IF(M6<M7,1,(IF(M6=M7,0.5,0)))),0)","v":0},null,{"$f":"+H7+K7","v":0},{"$f":"IF(P7>2,P7,H7+K7+N7)","v":0},null,{"$f":"IF(Q7+Q8>=1.5,(IF(Q7>Q8,3,0)),0)","v":0},{"$f":"IF(G6+G7+J6+J7=0,0,G7+J7-G6-J6)","v":0},{"$f":"IF((S6+S7)=3,(P7+S7),0)","v":0}]
[]
[null,{"$f":"DRAW!$N$57","v":0},{"$f":"DRAW!$O$57","v":0},null,{"$f":"VLOOKUP(C9,DRAW!$C$5:'DRAW'!$E$46,3,0)","v":{"$error":"#N/A"}},null,null,{"$f":"IF(G9+G10>0,(IF(G9>G10,1,(IF(G9=G10,0.5,0)))),0)","v":0},null,null,{"$f":"IF(J9+J10>0,(IF(J9>J10,1,(IF(J9=J10,0.5,0)))),0)","v":0},null,null,{"$f":"IF(M9+M10>0,(IF(M9>M10,1,(IF(M9=M10,0.5,0)))),0)","v":0},null,{"$f":"+H9+K9","v":0},{"$f":"IF(P9>2,P9,H9+K9+N9)","v":0},null,{"$f":"IF(Q9+Q10>=1.5,(IF(Q9>Q10,3,0)),0)","v":0},{"$f":"IF(G9+G10+J9+J10=0,0,G9+J9-G10-J10)","v":0},{"$f":"IF((S9+S10)=3,(P9+S9),0)","v":0}]
[null,null,{"$f":"DRAW!$O$58","v":0},null,{"$f":"VLOOKUP(C10,DRAW!$C$5:'DRAW'!$E$46,3,0)","v":{"$error":"#N/A"}},null,null,{"$f":"IF(G9+G10>0,(IF(G9<G10,1,(IF(G9=G10,0.5,0)))),0)","v":0},null,null,{"$f":"IF(J9+J10>0,(IF(J9<J10,1,(IF(J9=J10,0.5,0)))),0)","v":0},null,null,{"$f":"IF(M9+M10>0,(IF(M9<M10,1,(IF(M9=M10,0.5,0)))),0)","v":0},null,{"$f":"+H10+K10","v":0},{"$f":"IF(P10>2,P10,H10+K10+N10)","v":0},null,0,{"$f":"IF(G9+G10+J9+J10=0,0,G10+J10-G9-J9)","v":0},{"$f":"IF((S9+S10)=3,(P10+S10),0)","v":0}]
[]
[null,{"$f":"DRAW!$N$60","v":0},{"$f":"DRAW!$O$60","v":0},null,{"$f":"VLOOKUP(C12,DRAW!$C$5:'DRAW'!$E$46,3,0)","v":{"$error":"#N/A"}},null,null,{"$f":"IF(G12+G13>0,(IF(G12>G13,1,(IF(G12=G13,0.5,0)))),0)","v":0},null,null,{"$f":"IF(J12+J13>0,(IF(J12>J13,1,(IF(J12=J13,0.5,0)))),0)","v":0},null,null,{"$f":"IF(M12+M13>0,(IF(M12>M13,1,(IF(M12=M13,0.5,0)))),0)","v":0},null,{"$f":"+H12+K12","v":0},{"$f":"IF(P12>2,P12,H12+K12+N12)","v":0},null,{"$f":"IF(Q12+Q13>=1.5,(IF(Q12>Q13,3,0)),0)","v":0},{"$f":"IF(G12+G13+J12+J13=0,0,G12+J12-G13-J13)","v":0},{"$f":"IF((S12+S13)=3,(P12+S12),0)","v":0}]
[null,null,{"$f":"DRAW!$O$61","v":0},null,{"$f":"VLOOKUP(C13,DRAW!$C$5:'DRAW'!$E$46,3,0)","v":{"$error":"#N/A"}},null,null,{"$f":"IF(G12+G13>0,(IF(G12<G13,1,(IF(G12=G13,0.5,0)))),0)","v":0},null,null,{"$f":"IF(J12+J13>0,(IF(J12<J13,1,(IF(J12=J13,0.5,0)))),0)","v":0},null,null,{"$f":"IF(M12+M13>0,(IF(M12<M13,1,(IF(M12=M13,0.5,0)))),0)","v":0},null,{"$f":"+H13+K13","v":0},{"$f":"IF(P13>2,P13,H13+K13+N13)","v":0},null,0,{"$f":"IF(G12+G13+J12+J13=0,0,G13+J13-G12-J12)","v":0},{"$f":"IF((S12+S13)=3,(P13+S13),0)","v":0}]
[]
[null,{"$f":"DRAW!$N$63","v":0},{"$f":"DRAW!$O$63","v":0},null,{"$f":"VLOOKUP(C15,DRAW!$C$5:'DRAW'!$E$46,3,0)","v":{"$error":"#N/A"}},null,null,{"$f":"IF(G15+G16>0,(IF(G15>G16,1,(IF(G15=G16,0.5,0)))),0)","v":0},null,null,{"$f":"IF(J15+J16>0,(IF(J15>J16,1,(IF(J15=J16,0.5,0)))),0)","v":0},null,null,{"$f":"IF(M15+M16>0,(IF(M15>M16,1,(IF(M15=M16,0.5,0)))),0)","v":0},null,{"$f":"+H15+K15","v":0},{"$f":"IF(P15>2,P15,H15+K15+N15)","v":0},null,{"$f":"IF(Q15+Q16>=1.5,(IF(Q15>Q16,3,0)),0)","v":0},{"$f":"IF(G15+G16+J15+J16=0,0,G15+J15-G16-J16)","v":0},{"$f":"IF((S15+S16)=3,(P15+S15),0)","v":0}]
[null,null,{"$f":"DRAW!$O$64","v":0},null,{"$f":"VLOOKUP(C16,DRAW!$C$5:'DRAW'!$E$46,3,0)","v":{"$error":"#N/A"}},null,null,{"$f":"IF(G15+G16>0,(IF(G15<G16,1,(IF(G15=G16,0.5,0)))),0)","v":0},null,null,{"$f":"IF(J15+J16>0,(IF(J15<J16,1,(IF(J15=J16,0.5,0)))),0)","v":0},10,null,{"$f":"IF(M15+M16>0,(IF(M15<M16,1,(IF(M15=M16,0.5,0)))),0)","v":0},null,{"$f":"+H16+K16","v":0},{"$f":"IF(P16>2,P16,H16+K16+N16)","v":0},null,0,{"$f":"IF(G15+G16+J15+J16=0,0,G16+J16-G15-J15)","v":0},{"$f":"IF((S15+S16)=3,(P16+S16),0)","v":0}]
[]
[null,{"$f":"DRAW!$N$66","v":0},{"$f":"DRAW!$O$66","v":0},null,{"$f":"VLOOKUP(C18,DRAW!$C$5:'DRAW'!$E$46,3,0)","v":{"$error":"#N/A"}},null,null,{"$f":"IF(G18+G19>0,(IF(G18>G19,1,(IF(G18=G19,0.5,0)))),0)","v":0},null,null,{"$f":"IF(J18+J19>0,(IF(J18>J19,1,(IF(J18=J19,0.5,0)))),0)","v":0},null,null,{"$f":"IF(M18+M19>0,(IF(M18>M19,1,(IF(M18=M19,0.5,0)))),0)","v":0},null,{"$f":"+H18+K18","v":0},{"$f":"IF(P18>2,P18,H18+K18+N18)","v":0},null,{"$f":"IF(Q18+Q19>=1.5,(IF(Q18>Q19,3,0)),0)","v":0},{"$f":"IF(G18+G19+J18+J19=0,0,G18+J18-G19-J19)","v":0},{"$f":"IF((S18+S19)=3,(P18+S18),0)","v":0}]
[null,null,{"$f":"DRAW!$O$67","v":0},null,{"$f":"VLOOKUP(C19,DRAW!$C$5:'DRAW'!$E$46,3,0)","v":{"$error":"#N/A"}},null,null,{"$f":"IF(G18+G19>0,(IF(G18<G19,1,(IF(G18=G19,0.5,0)))),0)","v":0},null,null,{"$f":"IF(J18+J19>0,(IF(J18<J19,1,(IF(J18=J19,0.5,0)))),0)","v":0},null,null,{"$f":"IF(M18+M19>0,(IF(M18<M19,1,(IF(M18=M19,0.5,0)))),0)","v":0},null,{"$f":"+H19+K19","v":0},{"$f":"IF(P19>2,P19,H19+K19+N19)","v":0},null,0,{"$f":"IF(G18+G19+J18+J19=0,0,G19+J19-G18-J18)","v":0},{"$f":"IF((S18+S19)=3,(P19+S19),0)","v":0}]
[]
[null,{"$f":"DRAW!$N$69","v":0},{"$f":"DRAW!$O$69","v":0},null,{"$f":"VLOOKUP(C21,DRAW!$C$5:'DRAW'!$E$46,3,0)","v":{"$error":"#N/A"}},null,null,{"$f":"IF(G21+G22>0,(IF(G21>G22,1,(IF(G21=G22,0.5,0)))),0)","v":0},null,null,{"$f":"IF(J21+J22>0,(IF(J21>J22,1,(IF(J21=J22,0.5,0)))),0)","v":0},null,null,{"$f":"IF(M21+M22>0,(IF(M21>M22,1,(IF(M21=M22,0.5,0)))),0)","v":0},null,{"$f":"+H21+K21","v":0},{"$f":"IF(P21>2,P21,H21+K21+N21)","v":0},null,{"$f":"IF(Q21+Q22>=1.5,(IF(Q21>Q22,3,0)),0)","v":0},{"$f":"IF(G21+G22+J21+J22=0,0,G21+J21-G22-J22)","v":0},{"$f":"IF((S21+S22)=3,(P21+S21),0)","v":0}]
[null,null,{"$f":"DRAW!$O$70","v":0},null,{"$f":"VLOOKUP(C22,DRAW!$C$5:'DRAW'!$E$46,3,0)","v":{"$error":"#N/A"}},null,null,{"$f":"IF(G21+G22>0,(IF(G21<G22,1,(IF(G21=G22,0.5,0)))),0)","v":0},null,null,{"$f":"IF(J21+J22>0,(IF(J21<J22,1,(IF(J21=J22,0.5,0)))),0)","v":0},null,null,{"$f":"IF(M21+M22>0,(IF(M21<M22,1,(IF(M21=M22,0.5,0)))),0)","v":0},null,{"$f":"+H22+K22","v":0},{"$f":"IF(P22>2,P22,H22+K22+N22)","v":0},null,0,{"$f":"IF(G21+G22+J21+J22=0,0,G22+J22-G21-J21)","v":0},{"$f":"IF((S21+S22)=3,(P22+S22),0)","v":0}]
[]
[null,{"$f":"DRAW!$N$72","v":0},{"$f":"DRAW!$O$72","v":0},null,{"$f":"VLOOKUP(C24,DRAW!$C$5:'DRAW'!$E$46,3,0)","v":{"$error":"#N/A"}},null,null,{"$f":"IF(G24+G25>0,(IF(G24>G25,1,(IF(G24=G25,0.5,0)))),0)","v":0},null,null,{"$f":"IF(J24+J25>0,(IF(J24>J25,1,(IF(J24=J25,0.5,0)))),0)","v":0},null,null,{"$f":"IF(M24+M25>0,(IF(M24>M25,1,(IF(M24=M25,0.5,0)))),0)","v":0},null,{"$f":"+H24+K24","v":0},{"$f":"IF(P24>2,P24,H24+K24+N24)","v":0},null,{"$f":"IF(Q24+Q25>=1.5,(IF(Q24>Q25,3,0)),0)","v":0},{"$f":"IF(G24+G25+J24+J25=0,0,G24+J24-G25-J25)","v":0},{"$f":"IF((S24+S25)=3,(P24+S24),0)","v":0}]
[null,null,{"$f":"DRAW!$O$73","v":0},null,{"$f":"VLOOKUP(C25,DRAW!$C$5:'DRAW'!$E$46,3,0)","v":{"$error":"#N/A"}},null,null,{"$f":"IF(G24+G25>0,(IF(G24<G25,1,(IF(G24=G25,0.5,0)))),0)","v":0},null,null,{"$f":"IF(J24+J25>0,(IF(J24<J25,1,(IF(J24=J25,0.5,0)))),0)","v":0},null,null,{"$f":"IF(M24+M25>0,(IF(M24<M25,1,(IF(M24=M25,0.5,0)))),0)","v":0},null,{"$f":"+H25+K25","v":0},{"$f":"IF(P25>2,P25,H25+K25+N25)","v":0},null,0,{"$f":"IF(G24+G25+J24+J25=0,0,G25+J25-G24-J24)","v":0},{"$f":"IF((S24+S25)=3,(P25+S25),0)","v":0}]
[]
[null,{"$f":"DRAW!$N$75","v":0},{"$f":"DRAW!$O$75","v":0},null,{"$f":"VLOOKUP(C27,DRAW!$C$5:'DRAW'!$E$46,3,0)","v":{"$error":"#N/A"}},null,null,{"$f":"IF(G27+G28>0,(IF(G27>G28,1,(IF(G27=G28,0.5,0)))),0)","v":0},null,null,{"$f":"IF(J27+J28>0,(IF(J27>J28,1,(IF(J27=J28,0.5,0)))),0)","v":0},null,null,{"$f":"IF(M27+M28>0,(IF(M27>M28,1,(IF(M27=M28,0.5,0)))),0)","v":0},null,{"$f":"+H27+K27","v":0},{"$f":"IF(P27>2,P27,H27+K27+N27)","v":0},null,{"$f":"IF(Q27+Q28>=1.5,(IF(Q27>Q28,3,0)),0)","v":0},{"$f":"IF(G27+G28+J27+J28=0,0,G27+J27-G28-J28)","v":0},{"$f":"IF((S27+S28)=3,(P27+S27),0)","v":0}]
[null,null,{"$f":"DRAW!$O$76","v":0},null,{"$f":"VLOOKUP(C28,DRAW!$C$5:'DRAW'!$E$46,3,0)","v":{"$error":"#N/A"}},null,null,{"$f":"IF(G27+G28>0,(IF(G27<G28,1,(IF(G27=G28,0.5,0)))),0)","v":0},null,null,{"$f":"IF(J27+J28>0,(IF(J27<J28,1,(IF(J27=J28,0.5,0)))),0)","v":0},null,null,{"$f":"IF(M27+M28>0,(IF(M27<M28,1,(IF(M27=M28,0.5,0)))),0)","v":0},null,{"$f":"+H28+K28","v":0},{"$f":"IF(P28>2,P28,H28+K28+N28)","v":0},null,0,{"$f":"IF(G27+G28+J27+J28=0,0,G28+J28-G27-J27)","v":0},{"$f":"IF((S27+S28)=3,(P28+S28),0)","v":0}]
[]
[null,{"$f":"DRAW!$N$78","v":0},{"$f":"DRAW!$O$78","v":0},null,{"$f":"VLOOKUP(C30,DRAW!$C$5:'DRAW'!$E$46,3,0)","v":{"$error":"#N/A"}},null,null,{"$f":"IF(G30+G31>0,(IF(G30>G31,1,(IF(G30=G31,0.5,0)))),0)","v":0},null,null,{"$f":"IF(J30+J31>0,(IF(J30>J31,1,(IF(J30=J31,0.5,0)))),0)","v":0},null,null,{"$f":"IF(M30+M31>0,(IF(M30>M31,1,(IF(M30=M31,0.5,0)))),0)","v":0},null,{"$f":"+H30+K30","v":0},{"$f":"IF(P30>2,P30,H30+K30+N30)","v":0},null,{"$f":"IF(Q30+Q31>=1.5,(IF(Q30>Q31,3,0)),0)","v":0},{"$f":"IF(G30+G31+J30+J31=0,0,G30+J30-G31-J31)","v":0},{"$f":"IF((S30+S31)=3,(P30+S30),0)","v":0}]
[null,null,{"$f":"DRAW!$O$79","v":0},null,{"$f":"VLOOKUP(C31,DRAW!$C$5:'DRAW'!$E$46,3,0)","v":{"$error":"#N/A"}},null,null,{"$f":"IF(G30+G31>0,(IF(G30<G31,1,(IF(G30=G31,0.5,0)))),0)","v":0},null,null,{"$f":"IF(J30+J31>0,(IF(J30<J31,1,(IF(J30=J31,0.5,0)))),0)","v":0},null,null,{"$f":"IF(M30+M31>0,(IF(M30<M31,1,(IF(M30=M31,0.5,0)))),0)","v":0},null,{"$f":"+H31+K31","v":0},{"$f":"IF(P31>2,P31,H31+K31+N31)","v":0},null,0,{"$f":"IF(G30+G31+J30+J31=0,0,G31+J31-G30-J30)","v":0},{"$f":"IF((S30+S31)=3,(P31+S31),0)","v":0}]
[]
[null,{"$f":"DRAW!$N$81","v":0},{"$f":"DRAW!$O$81","v":0},null,{"$f":"VLOOKUP(C33,DRAW!$C$5:'DRAW'!$E$46,3,0)","v":{"$error":"#N/A"}},null,null,{"$f":"IF(G33+G34>0,(IF(G33>G34,1,(IF(G33=G34,0.5,0)))),0)","v":0},null,null,{"$f":"IF(J33+J34>0,(IF(J33>J34,1,(IF(J33=J34,0.5,0)))),0)","v":0},null,null,{"$f":"IF(M33+M34>0,(IF(M33>M34,1,(IF(M33=M34,0.5,0)))),0)","v":0},null,{"$f":"+H33+K33","v":0},{"$f":"IF(P33>2,P33,H33+K33+N33)","v":0},null,{"$f":"IF(Q33+Q34>=1.5,(IF(Q33>Q34,3,0)),0)","v":0},{"$f":"IF(G33+G34+J33+J34=0,0,G33+J33-G34-J34)","v":0},{"$f":"IF((S33+S34)=3,(P33+S33),0)","v":0}]
[null,null,{"$f":"DRAW!$O$82","v":0},null,{"$f":"VLOOKUP(C34,DRAW!$C$5:'DRAW'!$E$46,3,0)","v":{"$error":"#N/A"}},null,null,{"$f":"IF(G33+G34>0,(IF(G33<G34,1,(IF(G33=G34,0.5,0)))),0)","v":0},null,null,{"$f":"IF(J33+J34>0,(IF(J33<J34,1,(IF(J33=J34,0.5,0)))),0)","v":0},null,null,{"$f":"IF(M33+M34>0,(IF(M33<M34,1,(IF(M33=M34,0.5,0)))),0)","v":0},null,{"$f":"+H34+K34","v":0},{"$f":"IF(P34>2,P34,H34+K34+N34)","v":0},null,0,{"$f":"IF(G33+G34+J33+J34=0,0,G34+J34-G33-J33)","v":0},{"$f":"IF((S33+S34)=3,(P34+S34),0)","v":0}]
[]
[null,{"$f":"DRAW!$N$84","v":0},{"$f":"DRAW!$O$84","v":0},null,{"$f":"VLOOKUP(C36,DRAW!$C$5:'DRAW'!$E$46,3,0)","v":{"$error":"#N/A"}},null,null,{"$f":"IF(G36+G37>0,(IF(G36>G37,1,(IF(G36=G37,0.5,0)))),0)","v":0},null,null,{"$f":"IF(J36+J37>0,(IF(J36>J37,1,(IF(J36=J37,0.5,0)))),0)","v":0},null,null,{"$f":"IF(M36+M37>0,(IF(M36>M37,1,(IF(M36=M37,0.5,0)))),0)","v":0},null,{"$f":"+H36+K36","v":0},{"$f":"IF(P36>2,P36,H36+K36+N36)","v":0},null,{"$f":"IF(Q36+Q37>=1.5,(IF(Q36>Q37,3,0)),0)","v":0},{"$f":"IF(G36+G37+J36+J37=0,0,G36+J36-G37-J37)","v":0},{"$f":"IF((S36+S37)=3,(P36+S36),0)","v":0}]
[null,null,{"$f":"DRAW!$O$85","v":0},null,{"$f":"VLOOKUP(C37,DRAW!$C$5:'DRAW'!$E$46,3,0)","v":{"$error":"#N/A"}},null,null,{"$f":"IF(G36+G37>0,(IF(G36<G37,1,(IF(G36=G37,0.5,0)))),0)","v":0},null,null,{"$f":"IF(J36+J37>0,(IF(J36<J37,1,(IF(J36=J37,0.5,0)))),0)","v":0},null,null,{"$f":"IF(M36+M37>0,(IF(M36<M37,1,(IF(M36=M37,0.5,0)))),0)","v":0},null,{"$f":"+H37+K37","v":0},{"$f":"IF(P37>2,P37,H37+K37+N37)","v":0},null,0,{"$f":"IF(G36+G37+J36+J37=0,0,G37+J37-G36-J36)","v":0},{"$f":"IF((S36+S37)=3,(P37+S37),0)","v":0}]
[]
[null,{"$f":"DRAW!$N$87","v":0},{"$f":"DRAW!$O$87","v":0},null,{"$f":"VLOOKUP(C39,DRAW!$C$5:'DRAW'!$E$46,3,0)","v":{"$error":"#N/A"}},null,null,{"$f":"IF(G39+G40>0,(IF(G39>G40,1,(IF(G39=G40,0.5,0)))),0)","v":0},null,null,{"$f":"IF(J39+J40>0,(IF(J39>J40,1,(IF(J39=J40,0.5,0)))),0)","v":0},null,null,{"$f":"IF(M39+M40>0,(IF(M39>M40,1,(IF(M39=M40,0.5,0)))),0)","v":0},null,{"$f":"+H39+K39","v":0},{"$f":"IF(P39>2,P39,H39+K39+N39)","v":0},null,{"$f":"IF(Q39+Q40>=1.5,(IF(Q39>Q40,3,0)),0)","v":0},{"$f":"IF(G39+G40+J39+J40=0,0,G39+J39-G40-J40)","v":0},{"$f":"IF((S39+S40)=3,(P39+S39),0)","v":0}]
[null,null,{"$f":"DRAW!$O$88","v":0},null,{"$f":"VLOOKUP(C40,DRAW!$C$5:'DRAW'!$E$46,3,0)","v":{"$error":"#N/A"}},null,null,{"$f":"IF(G39+G40>0,(IF(G39<G40,1,(IF(G39=G40,0.5,0)))),0)","v":0},null,null,{"$f":"IF(J39+J40>0,(IF(J39<J40,1,(IF(J39=J40,0.5,0)))),0)","v":0},null,null,{"$f":"IF(M39+M40>0,(IF(M39<M40,1,(IF(M39=M40,0.5,0)))),0)","v":0},null,0,{"$f":"IF(P40>2,P40,H40+K40+N40)","v":0},null,0,{"$f":"IF(G39+G40+J39+J40=0,0,G40+J40-G39-J39)","v":0},{"$f":"IF((S39+S40)=3,(P40+S40),0)","v":0}]
[]
[null,{"$f":"DRAW!$N$90","v":0},{"$f":"DRAW!$O$90","v":0},null,{"$f":"VLOOKUP(C42,DRAW!$C$5:'DRAW'!$E$46,3,0)","v":{"$error":"#N/A"}},null,null,{"$f":"IF(G42+G43>0,(IF(G42>G43,1,(IF(G42=G43,0.5,0)))),0)","v":0},null,null,{"$f":"IF(J42+J43>0,(IF(J42>J43,1,(IF(J42=J43,0.5,0)))),0)","v":0},null,null,{"$f":"IF(M42+M43>0,(IF(M42>M43,1,(IF(M42=M43,0.5,0)))),0)","v":0},null,{"$f":"+H42+K42","v":0},{"$f":"IF(P42>2,P42,H42+K42+N42)","v":0},null,{"$f":"IF(Q42+Q43>=1.5,(IF(Q42>Q43,3,0)),0)","v":0},{"$f":"IF(G42+G43+J42+J43=0,0,G42+J42-G43-J43)","v":0},{"$f":"IF((S42+S43)=3,(P42+S42),0)","v":0}]
[null,null,{"$f":"DRAW!$O$91","v":0},null,{"$f":"VLOOKUP(C43,DRAW!$C$5:'DRAW'!$E$46,3,0)","v":{"$error":"#N/A"}},null,null,{"$f":"IF(G42+G43>0,(IF(G42<G43,1,(IF(G42=G43,0.5,0)))),0)","v":0},null,null,{"$f":"IF(J42+J43>0,(IF(J42<J43,1,(IF(J42=J43,0.5,0)))),0)","v":0},null,null,{"$f":"IF(M42+M43>0,(IF(M42<M43,1,(IF(M42=M43,0.5,0)))),0)","v":0},null,{"$f":"+H43+K43","v":0},{"$f":"IF(P43>2,P43,H43+K43+N43)","v":0},null,0,{"$f":"IF(G42+G43+J42+J43=0,0,G43+J43-G42-J42)","v":0},{"$f":"IF((S42+S43)=3,(P43+S43),0)","v":0}]
[]
[null,{"$f":"DRAW!$N$93","v":0},{"$f":"DRAW!$O$93","v":0},null,{"$f":"VLOOKUP(C45,DRAW!$C$5:'DRAW'!$E$46,3,0)","v":{"$error":"#N/A"}},null,null,{"$f":"IF(G45+G46>0,(IF(G45>G46,1,(IF(G45=G46,0.5,0)))),0)","v":0},null,null,{"$f":"IF(J45+J46>0,(IF(J45>J46,1,(IF(J45=J46,0.5,0)))),0)","v":0},null,null,{"$f":"IF(M45+M46>0,(IF(M45>M46,1,(IF(M45=M46,0.5,0)))),0)","v":0},null,{"$f":"+H45+K45","v":0},{"$f":"IF(P45>2,P45,H45+K45+N45)","v":0},null,{"$f":"IF(Q45+Q46>=1.5,(IF(Q45>Q46,3,0)),0)","v":0},{"$f":"IF(G45+G46+J45+J46=0,0,G45+J45-G46-J46)","v":0},{"$f":"IF((S45+S46)=3,(P45+S45),0)","v":0}]
[null,null,{"$f":"DRAW!$O$94","v":0},null,{"$f":"VLOOKUP(C46,DRAW!$C$5:'DRAW'!$E$46,3,0)","v":{"$error":"#N/A"}},null,null,{"$f":"IF(G45+G46>0,(IF(G45<G46,1,(IF(G45=G46,0.5,0)))),0)","v":0},null,null,{"$f":"IF(J45+J46>0,(IF(J45<J46,1,(IF(J45=J46,0.5,0)))),0)","v":0},null,null,{"$f":"IF(M45+M46>0,(IF(M45<M46,1,(IF(M45=M46,0.5,0)))),0)","v":0},null,{"$f":"+H46+K46","v":0},{"$f":"IF(P46>2,P46,H46+K46+N46)","v":0},null,0,{"$f":"IF(G45+G46+J45+J46=0,0,G46+J46-G45-J45)","v":0},{"$f":"IF((S45+S46)=3,(P46+S46),0)","v":0}]
[]
[null,{"$f":"DRAW!$N$96","v":0},{"$f":"DRAW!$O$96","v":0},null,{"$f":"VLOOKUP(C48,DRAW!$C$5:'DRAW'!$E$46,3,0)","v":{"$error":"#N/A"}},null,null,{"$f":"IF(G48+G49>0,(IF(G48>G49,1,(IF(G48=G49,0.5,0)))),0)","v":0},null,null,{"$f":"IF(J48+J49>0,(IF(J48>J49,1,(IF(J48=J49,0.5,0)))),0)","v":0},null,null,{"$f":"IF(M48+M49>0,(IF(M48>M49,1,(IF(M48=M49,0.5,0)))),0)","v":0},null,{"$f":"+H48+K48","v":0},{"$f":"IF(P48>2,P48,H48+K48+N48)","v":0},null,{"$f":"IF(Q48+Q49>=1.5,(IF(Q48>Q49,3,0)),0)","v":0},{"$f":"IF(G48+G49+J48+J49=0,0,G48+J48-G49-J49)","v":0},{"$f":"IF((S48+S49)=3,(P48+S48),0)","v":0}]
[null,null,{"$f":"DRAW!$O$97","v":0},null,{"$f":"VLOOKUP(C49,DRAW!$C$5:'DRAW'!$E$46,3,0)","v":{"$error":"#N/A"}},null,null,{"$f":"IF(G48+G49>0,(IF(G48<G49,1,(IF(G48=G49,0.5,0)))),0)","v":0},null,null,{"$f":"IF(J48+J49>0,(IF(J48<J49,1,(IF(J48=J49,0.5,0)))),0)","v":0},null,null,{"$f":"IF(M48+M49>0,(IF(M48<M49,1,(IF(M48=M49,0.5,0)))),0)","v":0},null,{"$f":"+H49+K49","v":0},{"$f":"IF(P49>2,P49,H49+K49+N49)","v":0},null,0,{"$f":"IF(G48+G49+J48+J49=0,0,G49+J49-G48-J48)","v":0},{"$f":"IF((S48+S49)=3,(P49+S49),0)","v":0}]
[]
[null,{"$f":"DRAW!$N$99","v":0},{"$f":"DRAW!$O$99","v":0},null,{"$f":"VLOOKUP(C51,DRAW!$C$5:'DRAW'!$E$46,3,0)","v":{"$error":"#N/A"}},null,null,{"$f":"IF(G51+G52>0,(IF(G51>G52,1,(IF(G51=G52,0.5,0)))),0)","v":0},null,null,{"$f":"IF(J51+J52>0,(IF(J51>J52,1,(IF(J51=J52,0.5,0)))),0)","v":0},null,null,{"$f":"IF(M51+M52>0,(IF(M51>M52,1,(IF(M51=M52,0.5,0)))),0)","v":0},null,{"$f":"+H51+K51","v":0},{"$f":"IF(P51>2,P51,H51+K51+N51)","v":0},null,{"$f":"IF(Q51+Q52>=1.5,(IF(Q51>Q52,3,0)),0)","v":0},{"$f":"IF(G51+G52+J51+J52=0,0,G51+J51-G52-J52)","v":0},{"$f":"IF((S51+S52)=3,(P51+S51),0)","v":0}]
[null,null,{"$f":"DRAW!$O$100","v":0},null,{"$f":"VLOOKUP(C52,DRAW!$C$5:'DRAW'!$E$46,3,0)","v":{"$error":"#N/A"}},null,null,{"$f":"IF(G51+G52>0,(IF(G51<G52,1,(IF(G51=G52,0.5,0)))),0)","v":0},null,null,{"$f":"IF(J51+J52>0,(IF(J51<J52,1,(IF(J51=J52,0.5,0)))),0)","v":0},null,null,{"$f":"IF(M51+M52>0,(IF(M51<M52,1,(IF(M51=M52,0.5,0)))),0)","v":0},null,{"$f":"+H52+K52","v":0},{"$f":"IF(P52>2,P52,H52+K52+N52)","v":0},null,0,{"$f":"IF(G51+G52+J51+J52=0,0,G52+J52-G51-J51)","v":0},{"$f":"IF((S51+S52)=3,(P52+S52),0)","v":0}]
[]
[null,{"$f":"DRAW!$N$102","v":0},{"$f":"DRAW!$O$102","v":0},null,{"$f":"VLOOKUP(C54,DRAW!$C$5:'DRAW'!$E$46,3,0)","v":{"$error":"#N/A"}},null,null,{"$f":"IF(G54+G55>0,(IF(G54>G55,1,(IF(G54=G55,0.5,0)))),0)","v":0},null,null,{"$f":"IF(J54+J55>0,(IF(J54>J55,1,(IF(J54=J55,0.5,0)))),0)","v":0},null,null,{"$f":"IF(M54+M55>0,(IF(M54>M55,1,(IF(M54=M55,0.5,0)))),0)","v":0},null,{"$f":"+H54+K54","v":0},{"$f":"IF(P54>2,P54,H54+K54+N54)","v":0},null,{"$f":"IF(Q54+Q55>=1.5,(IF(Q54>Q55,3,0)),0)","v":0},{"$f":"IF(G54+G55+J54+J55=0,0,G54+J54-G55-J55)","v":0},{"$f":"IF((S54+S55)=3,(P54+S54),0)","v":0}]
[null,null,{"$f":"DRAW!$O$103","v":0},null,{"$f":"VLOOKUP(C55,DRAW!$C$5:'DRAW'!$E$46,3,0)","v":{"$error":"#N/A"}},null,null,{"$f":"IF(G54+G55>0,(IF(G54<G55,1,(IF(G54=G55,0.5,0)))),0)","v":0},null,null,{"$f":"IF(J54+J55>0,(IF(J54<J55,1,(IF(J54=J55,0.5,0)))),0)","v":0},null,null,{"$f":"IF(M54+M55>0,(IF(M54<M55,1,(IF(M54=M55,0.5,0)))),0)","v":0},null,{"$f":"+H55+K55","v":0},{"$f":"IF(P55>2,P55,H55+K55+N55)","v":0},null,0,{"$f":"IF(G54+G55+J54+J55=0,0,G55+J55-G54-J54)","v":0},{"$f":"IF((S54+S55)=3,(P55+S55),0)","v":0}]
[]
[null,{"$f":"DRAW!$N$105","v":0},{"$f":"DRAW!$O$105","v":0},null,{"$f":"VLOOKUP(C57,DRAW!$C$5:'DRAW'!$E$46,3,0)","v":{"$error":"#N/A"}},null,null,{"$f":"IF(G57+G58>0,(IF(G57>G58,1,(IF(G57=G58,0.5,0)))),0)","v":0},null,null,{"$f":"IF(J57+J58>0,(IF(J57>J58,1,(IF(J57=J58,0.5,0)))),0)","v":0},null,null,{"$f":"IF(M57+M58>0,(IF(M57>M58,1,(IF(M57=M58,0.5,0)))),0)","v":0},null,{"$f":"+H57+K57","v":0},{"$f":"IF(P57>2,P57,H57+K57+N57)","v":0},null,{"$f":"IF(Q57+Q58>=1.5,(IF(Q57>Q58,3,0)),0)","v":0},{"$f":"IF(G57+G58+J57+J58=0,0,G57+J57-G58-J58)","v":0},{"$f":"IF((S57+S58)=3,(P57+S57),0)","v":0}]
[null,null,{"$f":"DRAW!$O$106","v":0},null,{"$f":"VLOOKUP(C58,DRAW!$C$5:'DRAW'!$E$46,3,0)","v":{"$error":"#N/A"}},null,null,{"$f":"IF(G57+G58>0,(IF(G57<G58,1,(IF(G57=G58,0.5,0)))),0)","v":0},null,null,{"$f":"IF(J57+J58>0,(IF(J57<J58,1,(IF(J57=J58,0.5,0)))),0)","v":0},null,null,{"$f":"IF(M57+M58>0,(IF(M57<M58,1,(IF(M57=M58,0.5,0)))),0)","v":0},null,{"$f":"+H58+K58","v":0},{"$f":"IF(P58>2,P58,H58+K58+N58)","v":0},null,0,{"$f":"IF(G57+G58+J57+J58=0,0,G58+J58-G57-J57)","v":0},{"$f":"IF((S57+S58)=3,(P58+S58),0)","v":0}]
[]
[null,{"$f":"DRAW!$N$108","v":0},{"$f":"DRAW!$O$108","v":0},null,{"$f":"VLOOKUP(C60,DRAW!$C$5:'DRAW'!$E$46,3,0)","v":{"$error":"#N/A"}},null,null,{"$f":"IF(G60+G61>0,(IF(G60>G61,1,(IF(G60=G61,0.5,0)))),0)","v":0},null,null,{"$f":"IF(J60+J61>0,(IF(J60>J61,1,(IF(J60=J61,0.5,0)))),0)","v":0},null,null,{"$f":"IF(M60+M61>0,(IF(M60>M61,1,(IF(M60=M61,0.5,0)))),0)","v":0},null,{"$f":"+H60+K60","v":0},{"$f":"IF(P60>2,P60,H60+K60+N60)","v":0},null,{"$f":"IF(Q60+Q61>=1.5,(IF(Q60>Q61,3,0)),0)","v":0},{"$f":"IF(G60+G61+J60+J61=0,0,G60+J60-G61-J61)","v":0},{"$f":"IF((S60+S61)=3,(P60+S60),0)","v":0}]
[null,null,{"$f":"DRAW!$O$109","v":0},null,{"$f":"VLOOKUP(C61,DRAW!$C$5:'DRAW'!$E$46,3,0)","v":{"$error":"#N/A"}},null,null,{"$f":"IF(G60+G61>0,(IF(G60<G61,1,(IF(G60=G61,0.5,0)))),0)","v":0},null,null,{"$f":"IF(J60+J61>0,(IF(J60<J61,1,(IF(J60=J61,0.5,0)))),0)","v":0},null,null,{"$f":"IF(M60+M61>0,(IF(M60<M61,1,(IF(M60=M61,0.5,0)))),0)","v":0},null,{"$f":"+H61+K61","v":0},{"$f":"IF(P61>2,P61,H61+K61+N61)","v":0},null,0,{"$f":"IF(G60+G61+J60+J61=0,0,G61+J61-G60-J60)","v":0},{"$f":"IF((S60+S61)=3,(P61+S61),0)","v":0}]
[]
[null,{"$f":"DRAW!$N$111","v":0},{"$f":"DRAW!$O$111","v":0},null,{"$f":"VLOOKUP(C63,DRAW!$C$5:'DRAW'!$E$46,3,0)","v":{"$error":"#N/A"}},null,null,{"$f":"IF(G63+G64>0,(IF(G63>G64,1,(IF(G63=G64,0.5,0)))),0)","v":0},null,null,{"$f":"IF(J63+J64>0,(IF(J63>J64,1,(IF(J63=J64,0.5,0)))),0)","v":0},null,null,{"$f":"IF(M63+M64>0,(IF(M63>M64,1,(IF(M63=M64,0.5,0)))),0)","v":0},null,{"$f":"+H63+K63","v":0},{"$f":"IF(P63>2,P63,H63+K63+N63)","v":0},null,{"$f":"IF(Q63+Q64>=1.5,(IF(Q63>Q64,3,0)),0)","v":0},{"$f":"IF(G63+G64+J63+J64=0,0,G63+J63-G64-J64)","v":0},{"$f":"IF((S63+S64)=3,(P63+S63),0)","v":0}]
[null,null,{"$f":"DRAW!$O$112","v":0},null,{"$f":"VLOOKUP(C64,DRAW!$C$5:'DRAW'!$E$46,3,0)","v":{"$error":"#N/A"}},null,null,{"$f":"IF(G63+G64>0,(IF(G63<G64,1,(IF(G63=G64,0.5,0)))),0)","v":0},null,null,{"$f":"IF(J63+J64>0,(IF(J63<J64,1,(IF(J63=J64,0.5,0)))),0)","v":0},null,null,{"$f":"IF(M63+M64>0,(IF(M63<M64,1,(IF(M63=M64,0.5,0)))),0)","v":0},null,{"$f":"+H64+K64","v":0},{"$f":"IF(P64>2,P64,H64+K64+N64)","v":0},null,0,{"$f":"IF(G63+G64+J63+J64=0,0,G64+J64-G63-J63)","v":0},{"$f":"IF((S63+S64)=3,(P64+S64),0)","v":0}]
[]
[null,{"$f":"DRAW!$N$114","v":0},{"$f":"DRAW!$O$114","v":0},null,{"$f":"VLOOKUP(C66,DRAW!$C$5:'DRAW'!$E$46,3,0)","v":{"$error":"#N/A"}},null,null,{"$f":"IF(G66+G67>0,(IF(G66>G67,1,(IF(G66=G67,0.5,0)))),0)","v":0},null,null,{"$f":"IF(J66+J67>0,(IF(J66>J67,1,(IF(J66=J67,0.5,0)))),0)","v":0},null,null,{"$f":"IF(M66+M67>0,(IF(M66>M67,1,(IF(M66=M67,0.5,0)))),0)","v":0},null,{"$f":"+H66+K66","v":0},{"$f":"IF(P66>2,P66,H66+K66+N66)","v":0},null,{"$f":"IF(Q66+Q67>=1.5,(IF(Q66>Q67,3,0)),0)","v":0},{"$f":"IF(G66+G67+J66+J67=0,0,G66+J66-G67-J67)","v":0},{"$f":"IF((S66+S67)=3,(P66+S66),0)","v":0}]
[null,null,{"$f":"DRAW!$O$115","v":0},null,{"$f":"VLOOKUP(C67,DRAW!$C$5:'DRAW'!$E$46,3,0)","v":{"$error":"#N/A"}},null,null,{"$f":"IF(G66+G67>0,(IF(G66<G67,1,(IF(G66=G67,0.5,0)))),0)","v":0},null,null,{"$f":"IF(J66+J67>0,(IF(J66<J67,1,(IF(J66=J67,0.5,0)))),0)","v":0},null,null,{"$f":"IF(M66+M67>0,(IF(M66<M67,1,(IF(M66=M67,0.5,0)))),0)","v":0},null,{"$f":"+H67+K67","v":0},{"$f":"IF(P67>2,P67,H67+K67+N67)","v":0},null,0,{"$f":"IF(G66+G67+J66+J67=0,0,G67+J67-G66-J66)","v":0},{"$f":"IF((S66+S67)=3,(P67+S67),0)","v":0}]

{"sheet":"Total Points","index":9,"n_rows":46,"n_cols":19,"rows_kept":46,"merged":[[0,2,0,18],[1,5,1,14],[2,5,2,6],[2,7,2,8],[2,9,2,10],[2,11,2,12],[2,13,2,14],[2,15,2,18],[3,3,3,4]]}
[null,null,{"$f":"DRAW!$C$1","v":0}]
[{"$nulls":5},"- - - - - -  R  O  U  N  D  S - - - - - -"]
[{"$nulls":5},1,null,2,4,3,6,4,8,5,10,"T O T A L S"]
[null,null,"Team #","Skip",null,"Points","Margins","Points","Margins","Points","Margins","Points","Margins","Points","Margins","Points",null,"Margins","Rank"]
[null,null,1,{"$f":"'42'!#REF!","v":{"$error":"#REF!"}},{"$f":"VLOOKUP(C5,DRAW!$C$5:'DRAW'!$E$46,3,0)","v":{"$error":"#N/A"}},{"$f":"VLOOKUP(E5,'Round 1'!$E$6:'Round 1'!$U$67,17,0)","v":{"$error":"#N/A"}},{"$f":"VLOOKUP(E5,'Round 1'!$E$6:'Round 1'!$U$67,16,0)","v":{"$error":"#N/A"}},{"$f":"VLOOKUP(E5,'Round 2'!$E$6:'Round 2'!$U$67,17,0)","v":{"$error":"#N/A"}},{"$f":"VLOOKUP(E5,'Round 2'!$E$6:'Round 2'!$U$67,16,0)","v":{"$error":"#N/A"}},{"$f":"VLOOKUP(E5,'Round 3'!$E$6:'Round 3'!$U$67,17,0)","v":{"$error":"#N/A"}},{"$f":"VLOOKUP(E5,'Round 3'!$E$6:'Round 3'!$U$67,16,0)","v":{"$error":"#N/A"}},{"$f":"VLOOKUP(E5,'Round 4'!$E$6:'Round 4'!$U$67,17,0)","v":{"$error":"#N/A"}},{"$f":"VLOOKUP(E5,'Round 4'!$E$6:'Round 4'!$U$67,16,0)","v":{"$error":"#N/A"}},{"$f":"VLOOKUP(E5,'Round 5'!$E$6:'Round 5'!$U$67,17,0)","v":{"$error":"#N/A"}},{"$f":"VLOOKUP(E5,'Round 5'!$E$6:'Round 5'!$U$67,16,0)","v":{"$error":"#N/A"}},{"$f":"F5+H5+J5+L5+N5","v":{"$error":"#N/A"}},{"$f":"(P5*1000)+R5","v":{"$error":"#N/A"}},{"$f":"G5+I5+K5+M5+O5","v":{"$error":"#N/A"}},{"$f":"RANK(Q5,$Q$5:$Q$46)","v":{"$error":"#N/A"}}]
[null,null,2,{"$f":"'42'!#REF!","v":{"$error":"#REF!"}},{"$f":"VLOOKUP(C6,DRAW!$C$5:'DRAW'!$E$46,3,0)","v":{"$error":"#N/A"}},{"$f":"VLOOKUP(E6,'Round 1'!$E$6:'Round 1'!$U$67,17,0)","v":{"$error":"#N/A"}},{"$f":"VLOOKUP(E6,'Round 1'!$E$6:'Round 1'!$U$67,16,0)","v":{"$error":"#N/A"}},{"$f":"VLOOKUP(E6,'Round 2'!$E$6:'Round 2'!$U$67,17,0)","v":{"$error":"#N/A"}},{"$f":"VLOOKUP(E6,'Round 2'!$E$6:'Round 2'!$U$67,16,0)","v":{"$error":"#N/A"}},{"$f":"VLOOKUP(E6,'Round 3'!$E$6:'Round 3'!$U$67,17,0)","v":{"$error":"#N/A"}},{"$f":"VLOOKUP(E6,'Round 3'!$E$6:'Round 3'!$U$67,16,0)","v":{"$error":"#N/A"}},{"$f":"VLOOKUP(E6,'Round 4'!$E$6:'Round 4'!$U$67,17,0)","v":{"$error":"#N/A"}},{"$f":"VLOOKUP(E6,'Round 4'!$E$6:'Round 4'!$U$67,16,0)","v":{"$error":"#N/A"}},{"$f":"VLOOKUP(E6,'Round 5'!$E$6:'Round 5'!$U$67,17,0)","v":{"$error":"#N/A"}},{"$f":"VLOOKUP(E6,'Round 5'!$E$6:'Round 5'!$U$67,16,0)","v":{"$error":"#N/A"}},{"$f":"F6+H6+J6+L6+N6","v":{"$error":"#N/A"}},{"$f":"(P6*1000)+R6","v":{"$error":"#N/A"}},{"$f":"G6+I6+K6+M6+O6","v":{"$error":"#N/A"}},{"$f":"RANK(Q6,$Q$5:$Q$46)","v":{"$error":"#N/A"}}]
[null,null,3,{"$f":"'42'!#REF!","v":{"$error":"#REF!"}},{"$f":"VLOOKUP(C7,DRAW!$C$5:'DRAW'!$E$46,3,0)","v":{"$error":"#N/A"}},{"$f":"VLOOKUP(E7,'Round 1'!$E$6:'Round 1'!$U$67,17,0)","v":{"$error":"#N/A"}},{"$f":"VLOOKUP(E7,'Round 1'!$E$6:'Round 1'!$U$67,16,0)","v":{"$error":"#N/A"}},{"$f":"VLOOKUP(E7,'Round 2'!$E$6:'Round 2'!$U$67,17,0)","v":{"$error":"#N/A"}},{"$f":"VLOOKUP(E7,'Round 2'!$E$6:'Round 2'!$U$67,16,0)","v":{"$error":"#N/A"}},{"$f":"VLOOKUP(E7,'Round 3'!$E$6:'Round 3'!$U$67,17,0)","v":{"$error":"#N/A"}},{"$f":"VLOOKUP(E7,'Round 3'!$E$6:'Round 3'!$U$67,16,0)","v":{"$error":"#N/A"}},{"$f":"VLOOKUP(E7,'Round 4'!$E$6:'Round 4'!$U$67,17,0)","v":{"$error":"#N/A"}},{"$f":"VLOOKUP(E7,'Round 4'!$E$6:'Round 4'!$U$67,16,0)","v":{"$error":"#N/A"}},{"$f":"VLOOKUP(E7,'Round 5'!$E$6:'Round 5'!$U$67,17,0)","v":{"$error":"#N/A"}},{"$f":"VLOOKUP(E7,'Round 5'!$E$6:'Round 5'!$U$67,16,0)","v":{"$error":"#N/A"}},{"$error":"#N/A"},{"$error":"#N/A"},{"$error":"#N/A"},{"$error":"#N/A"}]
[null,null,4,{"$f":"'42'!#REF!","v":{"$error":"#REF!"}},{"$f":"VLOOKUP(C8,DRAW!$C$5:'DRAW'!$E$46,3,0)","v":{"$error":"#N/A"}},{"$f":"VLOOKUP(E8,'Round 1'!$E$6:'Round 1'!$U$67,17,0)","v":{"$error":"#N/A"}},{"$f":"VLOOKUP(E8,'Round 1'!$E$6:'Round 1'!$U$67,16,0)","v":{"$error":"#N/A"}},{"$f":"VLOOKUP(E8,'Round 2'!$E$6:'Round 2'!$U$67,17,0)","v":{"$error":"#N/A"}},{"$f":"VLOOKUP(E8,'Round 2'!$E$6:'Round 2'!$U$67,16,0)","v":{"$error":"#N/A"}},{"$f":"VLOOKUP(E8,'Round 3'!$E$6:'Round 3'!$U$67,17,0)","v":{"$error":"#N/A"}},{"$f":"VLOOKUP(E8,'Round 3'!$E$6:'Round 3'!$U$67,16,0)","v":{"$error":"#N/A"}},{"$f":"VLOOKUP(E8,'Round 4'!$E$6:'Round 4'!$U$67,17,0)","v":{"$error":"#N/A"}},{"$f":"VLOOKUP(E8,'Round 4'!$E$6:'Round 4'!$U$67,16,0)","v":{"$error":"#N/A"}},{"$f":"VLOOKUP(E8,'Round 5'!$E$6:'Round 5'!$U$67,17,0)","v":{"$error":"#N/A"}},{"$f":"VLOOKUP(E8,'Round 5'!$E$6:'Round 5'!$U$67,16,0)","v":{"$error":"#N/A"}},{"$error":"#N/A"},{"$error":"#N/A"},{"$error":"#N/A"},{"$error":"#N/A"}]
[null,null,5,{"$f":"'42'!#REF!","v":{"$error":"#REF!"}},{"$f":"VLOOKUP(C9,DRAW!$C$5:'DRAW'!$E$46,3,0)","v":{"$error":"#N/A"}},{"$f":"VLOOKUP(E9,'Round 1'!$E$6:'Round 1'!$U$67,17,0)","v":{"$error":"#N/A"}},{"$f":"VLOOKUP(E9,'Round 1'!$E$6:'Round 1'!$U$67,16,0)","v":{"$error":"#N/A"}},{"$f":"VLOOKUP(E9,'Round 2'!$E$6:'Round 2'!$U$67,17,0)","v":{"$error":"#N/A"}},{"$f":"VLOOKUP(E9,'Round 2'!$E$6:'Round 2'!$U$67,16,0)","v":{"$error":"#N/A"}},{"$f":"VLOOKUP(E9,'Round 3'!$E$6:'Round 3'!$U$67,17,0)","v":{"$error":"#N/A"}},{"$f":"VLOOKUP(E9,'Round 3'!$E$6:'Round 3'!$U$67,16,0)","v":{"$error":"#N/A"}},{"$f":"VLOOKUP(E9,'Round 4'!$E$6:'Round 4'!$U$67,17,0)","v":{"$error":"#N/A"}},{"$f":"VLOOKUP(E9,'Round 4'!$E$6:'Round 4'!$U$67,16,0)","v":{"$error":"#N/A"}},{"$f":"VLOOKUP(E9,'Round 5'!$E$6:'Round 5'!$U$67,17,0)","v":{"$error":"#N/A"}},{"$f":"VLOOKUP(E9,'Round 5'!$E$6:'Round 5'!$U$67,16,0)","v":{"$error":"#N/A"}},{"$error":"#N/A"},{"$error":"#N/A"},{"$error":"#N/A"},{"$error":"#N/A"}]
[null,null,6,{"$f":"'42'!#REF!","v":{"$error":"#REF!"}},{"$f":"VLOOKUP(C10,DRAW!$C$5:'DRAW'!$E$46,3,0)","v":{"$error":"#N/A"}},{"$f":"VLOOKUP(E10,'Round 1'!$E$6:'Round 1'!$U$67,17,0)","v":{"$error":"#N/A"}},{"$f":"VLOOKUP(E10,'Round 1'!$E$6:'Round 1'!$U$67,16,0)","v":{"$error":"#N/A"}},{"$f":"VLOOKUP(E10,'Round 2'!$E$6:'Round 2'!$U$67,17,0)","v":{"$error":"#N/A"}},{"$f":"VLOOKUP(E10,'Round 2'!$E$6:'Round 2'!$U$67,16,0)","v":{"$error":"#N/A"}},{"$f":"VLOOKUP(E10,'Round 3'!$E$6:'Round 3'!$U$67,17,0)","v":{"$error":"#N/A"}},{"$f":"VLOOKUP(E10,'Round 3'!$E$6:'Round 3'!$U$67,16,0)","v":{"$error":"#N/A"}},{"$f":"VLOOKUP(E10,'Round 4'!$E$6:'Round 4'!$U$67,17,0)","v":{"$error":"#N/A"}},{"$f":"VLOOKUP(E10,'Round 4'!$E$6:'Round 4'!$U$67,16,0)","v":{"$error":"#N/A"}},{"$f":"VLOOKUP(E10,'Round 5'!$E$6:'Round 5'!$U$67,17,0)","v":{"$error":"#N/A"}},{"$f":"VLOOKUP(E10,'Round 5'!$E$6:'Round 5'!$U$67,16,0)","v":{"$error":"#N/A"}},{"$error":"#N/A"},{"$error":"#N/A"},{"$error":"#N/A"},{"$error":"#N/A"}]
[null,null,7,{"$f":"'42'!#REF!","v":{"$error":"#REF!"}},{"$f":"VLOOKUP(C11,DRAW!$C$5:'DRAW'!$E$46,3,0)","v":{"$error":"#N/A"}},{"$f":"VLOOKUP(E11,'Round 1'!$E$6:'Round 1'!$U$67,17,0)","v":{"$error":"#N/A"}},{"$f":"VLOOKUP(E11,'Round 1'!$E$6:'Round 1'!$U$67,16,0)","v":{"$error":"#N/A"}},{"$f":"VLOOKUP(E11,'Round 2'!$E$6:'Round 2'!$U$67,17,0)","v":{"$error":"#N/A"}},{"$f":"VLOOKUP(E11,'Round 2'!$E$6:'Round 2'!$U$67,16,0)","v":{"$error":"#N/A"}},{"$f":"VLOOKUP(E11,'Round 3'!$E$6:'Round 3'!$U$67,17,0)","v":{"$error":"#N/A"}},{"$f":"VLOOKUP(E11,'Round 3'!$E$6:'Round 3'!$U$67,16,0)","v":{"$error":"#N/A"}},{"$f":"VLOOKUP(E11,'Round 4'!$E$6:'Round 4'!$U$67,17,0)","v":{"$error":"#N/A"}},{"$f":"VLOOKUP(E11,'Round 4'!$E$6:'Round 4'!$U$67,16,0)","v":{"$error":"#N/A"}},{"$f":"VLOOKUP(E11,'Round 5'!$E$6:'Round 5'!$U$67,17,0)","v":{"$error":"#N/A"}},{"$f":"VLOOKUP(E11,'Round 5'!$E$6:'Round 5'!$U$67,16,0)","v":{"$error":"#N/A"}},{"$error":"#N/A"},{"$error":"#N/A"},{"$error":"#N/A"},{"$error":"#N/A"}]
[null,null,8,{"$f":"'42'!#REF!","v":{"$error":"#REF!"}},{"$f":"VLOOKUP(C12,DRAW!$C$5:'DRAW'!$E$46,3,0)","v":{"$error":"#N/A"}},{"$f":"VLOOKUP(E12,'Round 1'!$E$6:'Round 1'!$U$67,17,0)","v":{"$error":"#N/A"}},{"$f":"VLOOKUP(E12,'Round 1'!$E$6:'Round 1'!$U$67,16,0)","v":{"$error":"#N/A"}},{"$f":"VLOOKUP(E12,'Round 2'!$E$6:'Round 2'!$U$67,17,0)","v":{"$error":"#N/A"}},{"$f":"VLOOKUP(E12,'Round 2'!$E$6:'Round 2'!$U$67,16,0)","v":{"$error":"#N/A"}},{"$f":"VLOOKUP(E12,'Round 3'!$E$6:'Round 3'!$U$67,17,0)","v":{"$error":"#N/A"}},{"$f":"VLOOKUP(E12,'Round 3'!$E$6:'Round 3'!$U$67,16,0)","v":{"$error":"#N/A"}},{"$f":"VLOOKUP(E12,'Round 4'!$E$6:'Round 4'!$U$67,17,0)","v":{"$error":"#N/A"}},{"$f":"VLOOKUP(E12,'Round 4'!$E$6:'Round 4'!$U$67,16,0)","v":{"$error":"#N/A"}},{"$f":"VLOOKUP(E12,'Round 5'!$E$6:'Round 5'!$U$67,17,0)","v":{"$error":"#N/A"}},{"$f":"VLOOKUP(E12,'Round 5'!$E$6:'Round 5'!$U$67,16,0)","v":{"$error":"#N/A"}},{"$error":"#N/A"},{"$error":"#N/A"},{"$error":"#N/A"},{"$error":"#N/A"}]
[null,null,9,{"$f":"'42'!#REF!","v":{"$error":"#REF!"}},{"$f":"VLOOKUP(C13,DRAW!$C$5:'DRAW'!$E$46,3,0)","v":{"$error":"#N/A"}},{"$f":"VLOOKUP(E13,'Round 1'!$E$6:'Round 1'!$U$67,17,0)","v":{"$error":"#N/A"}},{"$f":"VLOOKUP(E13,'Round 1'!$E$6:'Round 1'!$U$67,16,0)","v":{"$error":"#N/A"}},{"$f":"VLOOKUP(E13,'Round 2'!$E$6:'Round 2'!$U$67,17,0)","v":{"$error":"#N/A"}},{"$f":"VLOOKUP(E13,'Round 2'!$E$6:'Round 2'!$U$67,16,0)","v":{"$error":"#N/A"}},{"$f":"VLOOKUP(E13,'Round 3'!$E$6:'Round 3'!$U$67,17,0)","v":{"$error":"#N/A"}},{"$f":"VLOOKUP(E13,'Round 3'!$E$6:'Round 3'!$U$67,16,0)","v":{"$error":"#N/A"}},{"$f":"VLOOKUP(E13,'Round 4'!$E$6:'Round 4'!$U$67,17,0)","v":{"$error":"#N/A"}},{"$f":"VLOOKUP(E13,'Round 4'!$E$6:'Round 4'!$U$67,16,0)","v":{"$error":"#N/A"}},{"$f":"VLOOKUP(E13,'Round 5'!$E$6:'Round 5'!$U$67,17,0)","v":{"$error":"#N/A"}},{"$f":"VLOOKUP(E13,'Round 5'!$E$6:'Round 5'!$U$67,16,0)","v":{"$error":"#N/A"}},{"$error":"#N/A"},{"$error":"#N/A"},{"$error":"#N/A"},{"$error":"#N/A"}]
[null,null,10,{"$f":"'42'!#REF!","v":{"$error":"#REF!"}},{"$f":"VLOOKUP(C14,DRAW!$C$5:'DRAW'!$E$46,3,0)","v":{"$error":"#N/A"}},{"$f":"VLOOKUP(E14,'Round 1'!$E$6:'Round 1'!$U$67,17,0)","v":{"$error":"#N/A"}},{"$f":"VLOOKUP(E14,'Round 1'!$E$6:'Round 1'!$U$67,16,0)","v":{"$error":"#N/A"}},{"$f":"VLOOKUP(E14,'Round 2'!$E$6:'Round 2'!$U$67,17,0)","v":{"$error":"#N/A"}},{"$f":"VLOOKUP(E14,'Round 2'!$E$6:'Round 2'!$U$67,16,0)","v":{"$error":"#N/A"}},{"$f":"VLOOKUP(E14,'Round 3'!$E$6:'Round 3'!$U$67,17,0)","v":{"$error":"#N/A"}},{"$f":"VLOOKUP(E14,'Round 3'!$E$6:'Round 3'!$U$67,16,0)","v":{"$error":"#N/A"}},{"$f":"VLOOKUP(E14,'Round 4'!$E$6:'Round 4'!$U$67,17,0)","v":{"$error":"#N/A"}},{"$f":"VLOOKUP(E14,'Round 4'!$E$6:'Round 4'!$U$67,16,0)","v":{"$error":"#N/A"}},{"$f":"VLOOKUP(E14,'Round 5'!$E$6:'Round 5'!$U$67,17,0)","v":{"$error":"#N/A"}},{"$f":"VLOOKUP(E14,'Round 5'!$E$6:'Round 5'!$U$67,16,0)","v":{"$error":"#N/A"}},{"$error":"#N/A"},{"$error":"#N/A"},{"$error":"#N/A"},{"$error":"#N/A"}]
[null,null,11,{"$f":"'42'!#REF!","v":{"$error":"#REF!"}},{"$f":"VLOOKUP(C15,DRAW!$C$5:'DRAW'!$E$46,3,0)","v":{"$error":"#N/A"}},{"$f":"VLOOKUP(E15,'Round 1'!$E$6:'Round 1'!$U$67,17,0)","v":{"$error":"#N/A"}},{"$f":"VLOOKUP(E15,'Round 1'!$E$6:'Round 1'!$U$67,16,0)","v":{"$error":"#N/A"}},{"$f":"VLOOKUP(E15,'Round 2'!$E$6:'Round 2'!$U$67,17,0)","v":{"$error":"#N/A"}},{"$f":"VLOOKUP(E15,'Round 2'!$E$6:'Round 2'!$U$67,16,0)","v":{"$error":"#N/A"}},{"$f":"VLOOKUP(E15,'Round 3'!$E$6:'Round 3'!$U$67,17,0)","v":{"$error":"#N/A"}},{"$f":"VLOOKUP(E15,'Round 3'!$E$6:'Round 3'!$U$67,16,0)","v":{"$error":"#N/A"}},{"$f":"VLOOKUP(E15,'Round 4'!$E$6:'Round 4'!$U$67,17,0)","v":{"$error":"#N/A"}},{"$f":"VLOOKUP(E15,'Round 4'!$E$6:'Round 4'!$U$67,16,0)","v":{"$error":"#N/A"}},{"$f":"VLOOKUP(E15,'Round 5'!$E$6:'Round 5'!$U$67,17,0)","v":{"$error":"#N/A"}},{"$f":"VLOOKUP(E15,'Round 5'!$E$6:'Round 5'!$U$67,16,0)","v":{"$error":"#N/A"}},{"$error":"#N/A"},{"$error":"#N/A"},{"$error":"#N/A"},{"$error":"#N/A"}]
[null,null,12,{"$f":"'42'!#REF!","v":{"$error":"#REF!"}},{"$f":"VLOOKUP(C16,DRAW!$C$5:'DRAW'!$E$46,3,0)","v":{"$error":"#N/A"}},{"$f":"VLOOKUP(E16,'Round 1'!$E$6:'Round 1'!$U$67,17,0)","v":{"$error":"#N/A"}},{"$f":"VLOOKUP(E16,'Round 1'!$E$6:'Round 1'!$U$67,16,0)","v":{"$error":"#N/A"}},{"$f":"VLOOKUP(E16,'Round 2'!$E$6:'Round 2'!$U$67,17,0)","v":{"$error":"#N/A"}},{"$f":"VLOOKUP(E16,'Round 2'!$E$6:'Round 2'!$U$67,16,0)","v":{"$error":"#N/A"}},{"$f":"VLOOKUP(E16,'Round 3'!$E$6:'Round 3'!$U$67,17,0)","v":{"$error":"#N/A"}},{"$f":"VLOOKUP(E16,'Round 3'!$E$6:'Round 3'!$U$67,16,0)","v":{"$error":"#N/A"}},{"$f":"VLOOKUP(E16,'Round 4'!$E$6:'Round 4'!$U$67,17,0)","v":{"$error":"#N/A"}},{"$f":"VLOOKUP(E16,'Round 4'!$E$6:'Round 4'!$U$67,16,0)","v":{"$error":"#N/A"}},{"$f":"VLOOKUP(E16,'Round 5'!$E$6:'Round 5'!$U$67,17,0)","v":{"$error":"#N/A"}},{"$f":"VLOOKUP(E16,'Round 5'!$E$6:'Round 5'!$U$67,16,0)","v":{"$error":"#N/A"}},{"$error":"#N/A"},{"$error":"#N/A"},{"$error":"#N/A"},{"$error":"#N/A"}]
[null,null,13,{"$f":"'42'!#REF!","v":{"$error":"#REF!"}},{"$f":"VLOOKUP(C17,DRAW!$C$5:'DRAW'!$E$46,3,0)","v":{"$error":"#N/A"}},{"$f":"VLOOKUP(E17,'Round 1'!$E$6:'Round 1'!$U$67,17,0)","v":{"$error":"#N/A"}},{"$f":"VLOOKUP(E17,'Round 1'!$E$6:'Round 1'!$U$67,16,0)","v":{"$error":"#N/A"}},{"$f":"VLOOKUP(E17,'Round 2'!$E$6:'Round 2'!$U$67,17,0)","v":{"$error":"#N/A"}},{"$f":"VLOOKUP(E17,'Round 2'!$E$6:'Round 2'!$U$67,16,0)","v":{"$error":"#N/A"}},{"$f":"VLOOKUP(E17,'Round 3'!$E$6:'Round 3'!$U$67,17,0)","v":{"$error":"#N/A"}},{"$f":"VLOOKUP(E17,'Round 3'!$E$6:'Round 3'!$U$67,16,0)","v":{"$error":"#N/A"}},{"$f":"VLOOKUP(E17,'Round 4'!$E$6:'Round 4'!$U$67,17,0)","v":{"$error":"#N/A"}},{"$f":"VLOOKUP(E17,'Round 4'!$E$6:'Round 4'!$U$67,16,0)","v":{"$error":"#N/A"}},{"$f":"VLOOKUP(E17,'Round 5'!$E$6:'Round 5'!$U$67,17,0)","v":{"$error":"#N/A"}},{"$f":"VLOOKUP(E17,'Round 5'!$E$6:'Round 5'!$U$67,16,0)","v":{"$error":"#N/A"}},{"$error":"#N/A"},{"$error":"#N/A"},{"$error":"#N/A"},{"$error":"#N/A"}]
[null,null,14,{"$f":"'42'!#REF!","v":{"$error":"#REF!"}},{"$f":"VLOOKUP(C18,DRAW!$C$5:'DRAW'!$E$46,3,0)","v":{"$error":"#N/A"}},{"$f":"VLOOKUP(E18,'Round 1'!$E$6:'Round 1'!$U$67,17,0)","v":{"$error":"#N/A"}},{"$f":"VLOOKUP(E18,'Round 1'!$E$6:'Round 1'!$U$67,16,0)","v":{"$error":"#N/A"}},{"$f":"VLOOKUP(E18,'Round 2'!$E$6:'Round 2'!$U$67,17,0)","v":{"$error":"#N/A"}},{"$f":"VLOOKUP(E18,'Round 2'!$E$6:'Round 2'!$U$67,16,0)","v":{"$error":"#N/A"}},{"$f":"VLOOKUP(E18,'Round 3'!$E$6:'Round 3'!$U$67,17,0)","v":{"$error":"#N/A"}},{"$f":"VLOOKUP(E18,'Round 3'!$E$6:'Round 3'!$U$67,16,0)","v":{"$error":"#N/A"}},{"$f":"VLOOKUP(E18,'Round 4'!$E$6:'Round 4'!$U$67,17,0)","v":{"$error":"#N/A"}},{"$f":"VLOOKUP(E18,'Round 4'!$E$6:'Round 4'!$U$67,16,0)","v":{"$error":"#N/A"}},{"$f":"VLOOKUP(E18,'Round 5'!$E$6:'Round 5'!$U$67,17,0)","v":{"$error":"#N/A"}},{"$f":"VLOOKUP(E18,'Round 5'!$E$6:'Round 5'!$U$67,16,0)","v":{"$error":"#N/A"}},{"$error":"#N/A"},{"$error":"#N/A"},{"$error":"#N/A"},{"$error":"#N/A"}]
[null,null,15,{"$f":"'42'!#REF!","v":{"$error":"#REF!"}},{"$f":"VLOOKUP(C19,DRAW!$C$5:'DRAW'!$E$46,3,0)","v":{"$error":"#N/A"}},{"$f":"VLOOKUP(E19,'Round 1'!$E$6:'Round 1'!$U$67,17,0)","v":{"$error":"#N/A"}},{"$f":"VLOOKUP(E19,'Round 1'!$E$6:'Round 1'!$U$67,16,0)","v":{"$error":"#N/A"}},{"$f":"VLOOKUP(E19,'Round 2'!$E$6:'Round 2'!$U$67,17,0)","v":{"$error":"#N/A"}},{"$f":"VLOOKUP(E19,'Round 2'!$E$6:'Round 2'!$U$67,16,0)","v":{"$error":"#N/A"}},{"$f":"VLOOKUP(E19,'Round 3'!$E$6:'Round 3'!$U$67,17,0)","v":{"$error":"#N/A"}},{"$f":"VLOOKUP(E19,'Round 3'!$E$6:'Round 3'!$U$67,16,0)","v":{"$error":"#N/A"}},{"$f":"VLOOKUP(E19,'Round 4'!$E$6:'Round 4'!$U$67,17,0)","v":{"$error":"#N/A"}},{"$f":"VLOOKUP(E19,'Round 4'!$E$6:'Round 4'!$U$67,16,0)","v":{"$error":"#N/A"}},{"$f":"VLOOKUP(E19,'Round 5'!$E$6:'Round 5'!$U$67,17,0)","v":{"$error":"#N/A"}},{"$f":"VLOOKUP(E19,'Round 5'!$E$6:'Round 5'!$U$67,16,0)","v":{"$error":"#N/A"}},{"$error":"#N/A"},{"$error":"#N/A"},{"$error":"#N/A"},{"$error":"#N/A"}]
[null,null,16,{"$f":"'42'!#REF!","v":{"$error":"#REF!"}},{"$f":"VLOOKUP(C20,DRAW!$C$5:'DRAW'!$E$46,3,0)","v":{"$error":"#N/A"}},{"$f":"VLOOKUP(E20,'Round 1'!$E$6:'Round 1'!$U$67,17,0)","v":{"$error":"#N/A"}},{"$f":"VLOOKUP(E20,'Round 1'!$E$6:'Round 1'!$U$67,16,0)","v":{"$error":"#N/A"}},{"$f":"VLOOKUP(E20,'Round 2'!$E$6:'Round 2'!$U$67,17,0)","v":{"$error":"#N/A"}},{"$f":"VLOOKUP(E20,'Round 2'!$E$6:'Round 2'!$U$67,16,0)","v":{"$error":"#N/A"}},{"$f":"VLOOKUP(E20,'Round 3'!$E$6:'Round 3'!$U$67,17,0)","v":{"$error":"#N/A"}},{"$f":"VLOOKUP(E20,'Round 3'!$E$6:'Round 3'!$U$67,16,0)","v":{"$error":"#N/A"}},{"$f":"VLOOKUP(E20,'Round 4'!$E$6:'Round 4'!$U$67,17,0)","v":{"$error":"#N/A"}},{"$f":"VLOOKUP(E20,'Round 4'!$E$6:'Round 4'!$U$67,16,0)","v":{"$error":"#N/A"}},{"$f":"VLOOKUP(E20,'Round 5'!$E$6:'Round 5'!$U$67,17,0)","v":{"$error":"#N/A"}},{"$f":"VLOOKUP(E20,'Round 5'!$E$6:'Round 5'!$U$67,16,0)","v":{"$error":"#N/A"}},{"$error":"#N/A"},{"$error":"#N/A"},{"$error":"#N/A"},{"$error":"#N/A"}]
[null,null,17,{"$f":"'42'!#REF!","v":{"$error":"#REF!"}},{"$f":"VLOOKUP(C21,DRAW!$C$5:'DRAW'!$E$46,3,0)","v":{"$error":"#N/A"}},{"$f":"VLOOKUP(E21,'Round 1'!$E$6:'Round 1'!$U$67,17,0)","v":{"$error":"#N/A"}},{"$f":"VLOOKUP(E21,'Round 1'!$E$6:'Round 1'!$U$67,16,0)","v":{"$error":"#N/A"}},{"$f":"VLOOKUP(E21,'Round 2'!$E$6:'Round 2'!$U$67,17,0)","v":{"$error":"#N/A"}},{"$f":"VLOOKUP(E21,'Round 2'!$E$6:'Round 2'!$U$67,16,0)","v":{"$error":"#N/A"}},{"$f":"VLOOKUP(E21,'Round 3'!$E$6:'Round 3'!$U$67,17,0)","v":{"$error":"#N/A"}},{"$f":"VLOOKUP(E21,'Round 3'!$E$6:'Round 3'!$U$67,16,0)","v":{"$error":"#N/A"}},{"$f":"VLOOKUP(E21,'Round 4'!$E$6:'Round 4'!$U$67,17,0)","v":{"$error":"#N/A"}},{"$f":"VLOOKUP(E21,'Round 4'!$E$6:'Round 4'!$U$67,16,0)","v":{"$error":"#N/A"}},{"$f":"VLOOKUP(E21,'Round 5'!$E$6:'Round 5'!$U$67,17,0)","v":{"$error":"#N/A"}},{"$f":"VLOOKUP(E21,'Round 5'!$E$6:'Round 5'!$U$67,16,0)","v":{"$error":"#N/A"}},{"$error":"#N/A"},{"$error":"#N/A"},{"$error":"#N/A"},{"$error":"#N/A"}]
[null,null,18,{"$f":"'42'!#REF!","v":{"$error":"#REF!"}},{"$f":"VLOOKUP(C22,DRAW!$C$5:'DRAW'!$E$46,3,0)","v":{"$error":"#N/A"}},{"$f":"VLOOKUP(E22,'Round 1'!$E$6:'Round 1'!$U$67,17,0)","v":{"$error":"#N/A"}},{"$f":"VLOOKUP(E22,'Round 1'!$E$6:'Round 1'!$U$67,16,0)","v":{"$error":"#N/A"}},{"$f":"VLOOKUP(E22,'Round 2'!$E$6:'Round 2'!$U$67,17,0)","v":{"$error":"#N/A"}},{"$f":"VLOOKUP(E22,'Round 2'!$E$6:'Round 2'!$U$67,16,0)","v":{"$error":"#N/A"}},{"$f":"VLOOKUP(E22,'Round 3'!$E$6:'Round 3'!$U$67,17,0)","v":{"$error":"#N/A"}},{"$f":"VLOOKUP(E22,'Round 3'!$E$6:'Round 3'!$U$67,16,0)","v":{"$error":"#N/A"}},{"$f":"VLOOKUP(E22,'Round 4'!$E$6:'Round 4'!$U$67,17,0)","v":{"$error":"#N/A"}},{"$f":"VLOOKUP(E22,'Round 4'!$E$6:'Round 4'!$U$67,16,0)","v":{"$error":"#N/A"}},{"$f":"VLOOKUP(E22,'Round 5'!$E$6:'Round 5'!$U$67,17,0)","v":{"$error":"#N/A"}},{"$f":"VLOOKUP(E22,'Round 5'!$E$6:'Round 5'!$U$67,16,0)","v":{"$error":"#N/A"}},{"$error":"#N/A"},{"$error":"#N/A"},{"$error":"#N/A"},{"$error":"#N/A"}]
[null,null,19,{"$f":"'42'!#REF!","v":{"$error":"#REF!"}},{"$f":"VLOOKUP(C23,DRAW!$C$5:'DRAW'!$E$46,3,0)","v":{"$error":"#N/A"}},{"$f":"VLOOKUP(E23,'Round 1'!$E$6:'Round 1'!$U$67,17,0)","v":{"$error":"#N/A"}},{"$f":"VLOOKUP(E23,'Round 1'!$E$6:'Round 1'!$U$67,16,0)","v":{"$error":"#N/A"}},{"$f":"VLOOKUP(E23,'Round 2'!$E$6:'Round 2'!$U$67,17,0)","v":{"$error":"#N/A"}},{"$f":"VLOOKUP(E23,'Round 2'!$E$6:'Round 2'!$U$67,16,0)","v":{"$error":"#N/A"}},{"$f":"VLOOKUP(E23,'Round 3'!$E$6:'Round 3'!$U$67,17,0)","v":{"$error":"#N/A"}},{"$f":"VLOOKUP(E23,'Round 3'!$E$6:'Round 3'!$U$67,16,0)","v":{"$error":"#N/A"}},{"$f":"VLOOKUP(E23,'Round 4'!$E$6:'Round 4'!$U$67,17,0)","v":{"$error":"#N/A"}},{"$f":"VLOOKUP(E23,'Round 4'!$E$6:'Round 4'!$U$67,16,0)","v":{"$error":"#N/A"}},{"$f":"VLOOKUP(E23,'Round 5'!$E$6:'Round 5'!$U$67,17,0)","v":{"$error":"#N/A"}},{"$f":"VLOOKUP(E23,'Round 5'!$E$6:'Round 5'!$U$67,16,0)","v":{"$error":"#N/A"}},{"$error":"#N/A"},{"$error":"#N/A"},{"$error":"#N/A"},{"$error":"#N/A"}]
[null,null,20,{"$f":"'42'!#REF!","v":{"$error":"#REF!"}},{"$f":"VLOOKUP(C24,DRAW!$C$5:'DRAW'!$E$46,3,0)","v":{"$error":"#N/A"}},{"$f":"VLOOKUP(E24,'Round 1'!$E$6:'Round 1'!$U$67,17,0)","v":{"$error":"#N/A"}},{"$f":"VLOOKUP(E24,'Round 1'!$E$6:'Round 1'!$U$67,16,0)","v":{"$error":"#N/A"}},{"$f":"VLOOKUP(E24,'Round 2'!$E$6:'Round 2'!$U$67,17,0)","v":{"$error":"#N/A"}},{"$f":"VLOOKUP(E24,'Round 2'!$E$6:'Round 2'!$U$67,16,0)","v":{"$error":"#N/A"}},{"$f":"VLOOKUP(E24,'Round 3'!$E$6:'Round 3'!$U$67,17,0)","v":{"$error":"#N/A"}},{"$f":"VLOOKUP(E24,'Round 3'!$E$6:'Round 3'!$U$67,16,0)","v":{"$error":"#N/A"}},{"$f":"VLOOKUP(E24,'Round 4'!$E$6:'Round 4'!$U$67,17,0)","v":{"$error":"#N/A"}},{"$f":"VLOOKUP(E24,'Round 4'!$E$6:'Round 4'!$U$67,16,0)","v":{"$error":"#N/A"}},{"$f":"VLOOKUP(E24,'Round 5'!$E$6:'Round 5'!$U$67,17,0)","v":{"$error":"#N/A"}},{"$f":"VLOOKUP(E24,'Round 5'!$E$6:'Round 5'!$U$67,16,0)","v":{"$error":"#N/A"}},{"$error":"#N/A"},{"$error":"#N/A"},{"$error":"#N/A"},{"$error":"#N/A"}]
[null,null,21,{"$f":"'42'!#REF!","v":{"$error":"#REF!"}},{"$f":"VLOOKUP(C25,DRAW!$C$5:'DRAW'!$E$46,3,0)","v":{"$error":"#N/A"}},{"$f":"VLOOKUP(E25,'Round 1'!$E$6:'Round 1'!$U$67,17,0)","v":{"$error":"#N/A"}},{"$f":"VLOOKUP(E25,'Round 1'!$E$6:'Round 1'!$U$67,16,0)","v":{"$error":"#N/A"}},{"$f":"VLOOKUP(E25,'Round 2'!$E$6:'Round 2'!$U$67,17,0)","v":{"$error":"#N/A"}},{"$f":"VLOOKUP(E25,'Round 2'!$E$6:'Round 2'!$U$67,16,0)","v":{"$error":"#N/A"}},{"$f":"VLOOKUP(E25,'Round 3'!$E$6:'Round 3'!$U$67,17,0)","v":{"$error":"#N/A"}},{"$f":"VLOOKUP(E25,'Round 3'!$E$6:'Round 3'!$U$67,16,0)","v":{"$error":"#N/A"}},{"$f":"VLOOKUP(E25,'Round 4'!$E$6:'Round 4'!$U$67,17,0)","v":{"$error":"#N/A"}},{"$f":"VLOOKUP(E25,'Round 4'!$E$6:'Round 4'!$U$67,16,0)","v":{"$error":"#N/A"}},{"$f":"VLOOKUP(E25,'Round 5'!$E$6:'Round 5'!$U$67,17,0)","v":{"$error":"#N/A"}},{"$f":"VLOOKUP(E25,'Round 5'!$E$6:'Round 5'!$U$67,16,0)","v":{"$error":"#N/A"}},{"$error":"#N/A"},{"$error":"#N/A"},{"$error":"#N/A"},{"$error":"#N/A"}]
[null,null,22,{"$f":"'42'!#REF!","v":{"$error":"#REF!"}},{"$f":"VLOOKUP(C26,DRAW!$C$5:'DRAW'!$E$46,3,0)","v":{"$error":"#N/A"}},{"$f":"VLOOKUP(E26,'Round 1'!$E$6:'Round 1'!$U$67,17,0)","v":{"$error":"#N/A"}},{"$f":"VLOOKUP(E26,'Round 1'!$E$6:'Round 1'!$U$67,16,0)","v":{"$error":"#N/A"}},{"$f":"VLOOKUP(E26,'Round 2'!$E$6:'Round 2'!$U$67,17,0)","v":{"$error":"#N/A"}},{"$f":"VLOOKUP(E26,'Round 2'!$E$6:'Round 2'!$U$67,16,0)","v":{"$error":"#N/A"}},{"$f":"VLOOKUP(E26,'Round 3'!$E$6:'Round 3'!$U$67,17,0)","v":{"$error":"#N/A"}},{"$f":"VLOOKUP(E26,'Round 3'!$E$6:'Round 3'!$U$67,16,0)","v":{"$error":"#N/A"}},{"$f":"VLOOKUP(E26,'Round 4'!$E$6:'Round 4'!$U$67,17,0)","v":{"$error":"#N/A"}},{"$f":"VLOOKUP(E26,'Round 4'!$E$6:'Round 4'!$U$67,16,0)","v":{"$error":"#N/A"}},{"$f":"VLOOKUP(E26,'Round 5'!$E$6:'Round 5'!$U$67,17,0)","v":{"$error":"#N/A"}},{"$f":"VLOOKUP(E26,'Round 5'!$E$6:'Round 5'!$U$67,16,0)","v":{"$error":"#N/A"}},{"$error":"#N/A"},{"$error":"#N/A"},{"$error":"#N/A"},{"$error":"#N/A"}]
[null,null,23,{"$f":"'42'!#REF!","v":{"$error":"#REF!"}},{"$f":"VLOOKUP(C27,DRAW!$C$5:'DRAW'!$E$46,3,0)","v":{"$error":"#N/A"}},{"$f":"VLOOKUP(E27,'Round 1'!$E$6:'Round 1'!$U$67,17,0)","v":{"$error":"#N/A"}},{"$f":"VLOOKUP(E27,'Round 1'!$E$6:'Round 1'!$U$67,16,0)","v":{"$error":"#N/A"}},{"$f":"VLOOKUP(E27,'Round 2'!$E$6:'Round 2'!$U$67,17,0)","v":{"$error":"#N/A"}},{"$f":"VLOOKUP(E27,'Round 2'!$E$6:'Round 2'!$U$67,16,0)","v":{"$error":"#N/A"}},{"$f":"VLOOKUP(E27,'Round 3'!$E$6:'Round 3'!$U$67,17,0)","v":{"$error":"#N/A"}},{"$f":"VLOOKUP(E27,'Round 3'!$E$6:'Round 3'!$U$67,16,0)","v":{"$error":"#N/A"}},{"$f":"VLOOKUP(E27,'Round 4'!$E$6:'Round 4'!$U$67,17,0)","v":{"$error":"#N/A"}},{"$f":"VLOOKUP(E27,'Round 4'!$E$6:'Round 4'!$U$67,16,0)","v":{"$error":"#N/A"}},{"$f":"VLOOKUP(E27,'Round 5'!$E$6:'Round 5'!$U$67,17,0)","v":{"$error":"#N/A"}},{"$f":"VLOOKUP(E27,'Round 5'!$E$6:'Round 5'!$U$67,16,0)","v":{"$error":"#N/A"}},{"$error":"#N/A"},{"$error":"#N/A"},{"$error":"#N/A"},{"$error":"#N/A"}]
[null,null,24,{"$f":"'42'!#REF!","v":{"$error":"#REF!"}},{"$f":"VLOOKUP(C28,DRAW!$C$5:'DRAW'!$E$46,3,0)","v":{"$error":"#N/A"}},{"$f":"VLOOKUP(E28,'Round 1'!$E$6:'Round 1'!$U$67,17,0)","v":{"$error":"#N/A"}},{"$f":"VLOOKUP(E28,'Round 1'!$E$6:'Round 1'!$U$67,16,0)","v":{"$error":"#N/A"}},{"$f":"VLOOKUP(E28,'Round 2'!$E$6:'Round 2'!$U$67,17,0)","v":{"$error":"#N/A"}},{"$f":"VLOOKUP(E28,'Round 2'!$E$6:'Round 2'!$U$67,16,0)","v":{"$error":"#N/A"}},{"$f":"VLOOKUP(E28,'Round 3'!$E$6:'Round 3'!$U$67,17,0)","v":{"$error":"#N/A"}},{"$f":"VLOOKUP(E28,'Round 3'!$E$6:'Round 3'!$U$67,16,0)","v":{"$error":"#N/A"}},{"$f":"VLOOKUP(E28,'Round 4'!$E$6:'Round 4'!$U$67,17,0)","v":{"$error":"#N/A"}},{"$f":"VLOOKUP(E28,'Round 4'!$E$6:'Round 4'!$U$67,16,0)","v":{"$error":"#N/A"}},{"$f":"VLOOKUP(E28,'Round 5'!$E$6:'Round 5'!$U$67,17,0)","v":{"$error":"#N/A"}},{"$f":"VLOOKUP(E28,'Round 5'!$E$6:'Round 5'!$U$67,16,0)","v":{"$error":"#N/A"}},{"$error":"#N/A"},{"$error":"#N/A"},{"$error":"#N/A"},{"$error":"#N/A"}]
[null,null,25,{"$f":"'42'!#REF!","v":{"$error":"#REF!"}},{"$f":"VLOOKUP(C29,DRAW!$C$5:'DRAW'!$E$46,3,0)","v":{"$error":"#N/A"}},{"$f":"VLOOKUP(E29,'Round 1'!$E$6:'Round 1'!$U$67,17,0)","v":{"$error":"#N/A"}},{"$f":"VLOOKUP(E29,'Round 1'!$E$6:'Round 1'!$U$67,16,0)","v":{"$error":"#N/A"}},{"$f":"VLOOKUP(E29,'Round 2'!$E$6:'Round 2'!$U$67,17,0)","v":{"$error":"#N/A"}},{"$f":"VLOOKUP(E29,'Round 2'!$E$6:'Round 2'!$U$67,16,0)","v":{"$error":"#N/A"}},{"$f":"VLOOKUP(E29,'Round 3'!$E$6:'Round 3'!$U$67,17,0)","v":{"$error":"#N/A"}},{"$f":"VLOOKUP(E29,'Round 3'!$E$6:'Round 3'!$U$67,16,0)","v":{"$error":"#N/A"}},{"$f":"VLOOKUP(E29,'Round 4'!$E$6:'Round 4'!$U$67,17,0)","v":{"$error":"#N/A"}},{"$f":"VLOOKUP(E29,'Round 4'!$E$6:'Round 4'!$U$67,16,0)","v":{"$error":"#N/A"}},{"$f":"VLOOKUP(E29,'Round 5'!$E$6:'Round 5'!$U$67,17,0)","v":{"$error":"#N/A"}},{"$f":"VLOOKUP(E29,'Round 5'!$E$6:'Round 5'!$U$67,16,0)","v":{"$error":"#N/A"}},{"$error":"#N/A"},{"$error":"#N/A"},{"$error":"#N/A"},{"$error":"#N/A"}]
[null,null,26,{"$f":"'42'!#REF!","v":{"$error":"#REF!"}},{"$f":"VLOOKUP(C30,DRAW!$C$5:'DRAW'!$E$46,3,0)","v":{"$error":"#N/A"}},{"$f":"VLOOKUP(E30,'Round 1'!$E$6:'Round 1'!$U$67,17,0)","v":{"$error":"#N/A"}},{"$f":"VLOOKUP(E30,'Round 1'!$E$6:'Round 1'!$U$67,16,0)","v":{"$error":"#N/A"}},{"$f":"VLOOKUP(E30,'Round 2'!$E$6:'Round 2'!$U$67,17,0)","v":{"$error":"#N/A"}},{"$f":"VLOOKUP(E30,'Round 2'!$E$6:'Round 2'!$U$67,16,0)","v":{"$error":"#N/A"}},{"$f":"VLOOKUP(E30,'Round 3'!$E$6:'Round 3'!$U$67,17,0)","v":{"$error":"#N/A"}},{"$f":"VLOOKUP(E30,'Round 3'!$E$6:'Round 3'!$U$67,16,0)","v":{"$error":"#N/A"}},{"$f":"VLOOKUP(E30,'Round 4'!$E$6:'Round 4'!$U$67,17,0)","v":{"$error":"#N/A"}},{"$f":"VLOOKUP(E30,'Round 4'!$E$6:'Round 4'!$U$67,16,0)","v":{"$error":"#N/A"}},{"$f":"VLOOKUP(E30,'Round 5'!$E$6:'Round 5'!$U$67,17,0)","v":{"$error":"#N/A"}},{"$f":"VLOOKUP(E30,'Round 5'!$E$6:'Round 5'!$U$67,16,0)","v":{"$error":"#N/A"}},{"$error":"#N/A"},{"$error":"#N/A"},{"$error":"#N/A"},{"$error":"#N/A"}]
[null,null,27,{"$f":"'42'!#REF!","v":{"$error":"#REF!"}},{"$f":"VLOOKUP(C31,DRAW!$C$5:'DRAW'!$E$46,3,0)","v":{"$error":"#N/A"}},{"$f":"VLOOKUP(E31,'Round 1'!$E$6:'Round 1'!$U$67,17,0)","v":{"$error":"#N/A"}},{"$f":"VLOOKUP(E31,'Round 1'!$E$6:'Round 1'!$U$67,16,0)","v":{"$error":"#N/A"}},{"$f":"VLOOKUP(E31,'Round 2'!$E$6:'Round 2'!$U$67,17,0)","v":{"$error":"#N/A"}},{"$f":"VLOOKUP(E31,'Round 2'!$E$6:'Round 2'!$U$67,16,0)","v":{"$error":"#N/A"}},{"$f":"VLOOKUP(E31,'Round 3'!$E$6:'Round 3'!$U$67,17,0)","v":{"$error":"#N/A"}},{"$f":"VLOOKUP(E31,'Round 3'!$E$6:'Round 3'!$U$67,16,0)","v":{"$error":"#N/A"}},{"$f":"VLOOKUP(E31,'Round 4'!$E$6:'Round 4'!$U$67,17,0)","v":{"$error":"#N/A"}},{"$f":"VLOOKUP(E31,'Round 4'!$E$6:'Round 4'!$U$67,16,0)","v":{"$error":"#N/A"}},{"$f":"VLOOKUP(E31,'Round 5'!$E$6:'Round 5'!$U$67,17,0)","v":{"$error":"#N/A"}},{"$f":"VLOOKUP(E31,'Round 5'!$E$6:'Round 5'!$U$67,16,0)","v":{"$error":"#N/A"}},{"$error":"#N/A"},{"$error":"#N/A"},{"$error":"#N/A"},{"$error":"#N/A"}]
[null,null,28,{"$f":"'42'!#REF!","v":{"$error":"#REF!"}},{"$f":"VLOOKUP(C32,DRAW!$C$5:'DRAW'!$E$46,3,0)","v":{"$error":"#N/A"}},{"$f":"VLOOKUP(E32,'Round 1'!$E$6:'Round 1'!$U$67,17,0)","v":{"$error":"#N/A"}},{"$f":"VLOOKUP(E32,'Round 1'!$E$6:'Round 1'!$U$67,16,0)","v":{"$error":"#N/A"}},{"$f":"VLOOKUP(E32,'Round 2'!$E$6:'Round 2'!$U$67,17,0)","v":{"$error":"#N/A"}},{"$f":"VLOOKUP(E32,'Round 2'!$E$6:'Round 2'!$U$67,16,0)","v":{"$error":"#N/A"}},{"$f":"VLOOKUP(E32,'Round 3'!$E$6:'Round 3'!$U$67,17,0)","v":{"$error":"#N/A"}},{"$f":"VLOOKUP(E32,'Round 3'!$E$6:'Round 3'!$U$67,16,0)","v":{"$error":"#N/A"}},{"$f":"VLOOKUP(E32,'Round 4'!$E$6:'Round 4'!$U$67,17,0)","v":{"$error":"#N/A"}},{"$f":"VLOOKUP(E32,'Round 4'!$E$6:'Round 4'!$U$67,16,0)","v":{"$error":"#N/A"}},{"$f":"VLOOKUP(E32,'Round 5'!$E$6:'Round 5'!$U$67,17,0)","v":{"$error":"#N/A"}},{"$f":"VLOOKUP(E32,'Round 5'!$E$6:'Round 5'!$U$67,16,0)","v":{"$error":"#N/A"}},{"$error":"#N/A"},{"$error":"#N/A"},{"$error":"#N/A"},{"$error":"#N/A"}]
[null,null,29,{"$f":"'42'!#REF!","v":{"$error":"#REF!"}},{"$f":"VLOOKUP(C33,DRAW!$C$5:'DRAW'!$E$46,3,0)","v":{"$error":"#N/A"}},{"$f":"VLOOKUP(E33,'Round 1'!$E$6:'Round 1'!$U$67,17,0)","v":{"$error":"#N/A"}},{"$f":"VLOOKUP(E33,'Round 1'!$E$6:'Round 1'!$U$67,16,0)","v":{"$error":"#N/A"}},{"$f":"VLOOKUP(E33,'Round 2'!$E$6:'Round 2'!$U$67,17,0)","v":{"$error":"#N/A"}},{"$f":"VLOOKUP(E33,'Round 2'!$E$6:'Round 2'!$U$67,16,0)","v":{"$error":"#N/A"}},{"$f":"VLOOKUP(E33,'Round 3'!$E$6:'Round 3'!$U$67,17,0)","v":{"$error":"#N/A"}},{"$f":"VLOOKUP(E33,'Round 3'!$E$6:'Round 3'!$U$67,16,0)","v":{"$error":"#N/A"}},{"$f":"VLOOKUP(E33,'Round 4'!$E$6:'Round 4'!$U$67,17,0)","v":{"$error":"#N/A"}},{"$f":"VLOOKUP(E33,'Round 4'!$E$6:'Round 4'!$U$67,16,0)","v":{"$error":"#N/A"}},{"$f":"VLOOKUP(E33,'Round 5'!$E$6:'Round 5'!$U$67,17,0)","v":{"$error":"#N/A"}},{"$f":"VLOOKUP(E33,'Round 5'!$E$6:'Round 5'!$U$67,16,0)","v":{"$error":"#N/A"}},{"$error":"#N/A"},{"$error":"#N/A"},{"$error":"#N/A"},{"$error":"#N/A"}]
[null,null,30,{"$f":"'42'!#REF!","v":{"$error":"#REF!"}},{"$f":"VLOOKUP(C34,DRAW!$C$5:'DRAW'!$E$46,3,0)","v":{"$error":"#N/A"}},{"$f":"VLOOKUP(E34,'Round 1'!$E$6:'Round 1'!$U$67,17,0)","v":{"$error":"#N/A"}},{"$f":"VLOOKUP(E34,'Round 1'!$E$6:'Round 1'!$U$67,16,0)","v":{"$error":"#N/A"}},{"$f":"VLOOKUP(E34,'Round 2'!$E$6:'Round 2'!$U$67,17,0)","v":{"$error":"#N/A"}},{"$f":"VLOOKUP(E34,'Round 2'!$E$6:'Round 2'!$U$67,16,0)","v":{"$error":"#N/A"}},{"$f":"VLOOKUP(E34,'Round 3'!$E$6:'Round 3'!$U$67,17,0)","v":{"$error":"#N/A"}},{"$f":"VLOOKUP(E34,'Round 3'!$E$6:'Round 3'!$U$67,16,0)","v":{"$error":"#N/A"}},{"$f":"VLOOKUP(E34,'Round 4'!$E$6:'Round 4'!$U$67,17,0)","v":{"$error":"#N/A"}},{"$f":"VLOOKUP(E34,'Round 4'!$E$6:'Round 4'!$U$67,16,0)","v":{"$error":"#N/A"}},{"$f":"VLOOKUP(E34,'Round 5'!$E$6:'Round 5'!$U$67,17,0)","v":{"$error":"#N/A"}},{"$f":"VLOOKUP(E34,'Round 5'!$E$6:'Round 5'!$U$67,16,0)","v":{"$error":"#N/A"}},{"$error":"#N/A"},{"$error":"#N/A"},{"$error":"#N/A"},{"$error":"#N/A"}]
[null,null,31,{"$f":"'42'!#REF!","v":{"$error":"#REF!"}},{"$f":"VLOOKUP(C35,DRAW!$C$5:'DRAW'!$E$46,3,0)","v":{"$error":"#N/A"}},{"$f":"VLOOKUP(E35,'Round 1'!$E$6:'Round 1'!$U$67,17,0)","v":{"$error":"#N/A"}},{"$f":"VLOOKUP(E35,'Round 1'!$E$6:'Round 1'!$U$67,16,0)","v":{"$error":"#N/A"}},{"$f":"VLOOKUP(E35,'Round 2'!$E$6:'Round 2'!$U$67,17,0)","v":{"$error":"#N/A"}},{"$f":"VLOOKUP(E35,'Round 2'!$E$6:'Round 2'!$U$67,16,0)","v":{"$error":"#N/A"}},{"$f":"VLOOKUP(E35,'Round 3'!$E$6:'Round 3'!$U$67,17,0)","v":{"$error":"#N/A"}},{"$f":"VLOOKUP(E35,'Round 3'!$E$6:'Round 3'!$U$67,16,0)","v":{"$error":"#N/A"}},{"$f":"VLOOKUP(E35,'Round 4'!$E$6:'Round 4'!$U$67,17,0)","v":{"$error":"#N/A"}},{"$f":"VLOOKUP(E35,'Round 4'!$E$6:'Round 4'!$U$67,16,0)","v":{"$error":"#N/A"}},{"$f":"VLOOKUP(E35,'Round 5'!$E$6:'Round 5'!$U$67,17,0)","v":{"$error":"#N/A"}},{"$f":"VLOOKUP(E35,'Round 5'!$E$6:'Round 5'!$U$67,16,0)","v":{"$error":"#N/A"}},{"$error":"#N/A"},{"$error":"#N/A"},{"$error":"#N/A"},{"$error":"#N/A"}]
[null,null,32,{"$f":"'42'!#REF!","v":{"$error":"#REF!"}},{"$f":"VLOOKUP(C36,DRAW!$C$5:'DRAW'!$E$46,3,0)","v":{"$error":"#N/A"}},{"$f":"VLOOKUP(E36,'Round 1'!$E$6:'Round 1'!$U$67,17,0)","v":{"$error":"#N/A"}},{"$f":"VLOOKUP(E36,'Round 1'!$E$6:'Round 1'!$U$67,16,0)","v":{"$error":"#N/A"}},{"$f":"VLOOKUP(E36,'Round 2'!$E$6:'Round 2'!$U$67,17,0)","v":{"$error":"#N/A"}},{"$f":"VLOOKUP(E36,'Round 2'!$E$6:'Round 2'!$U$67,16,0)","v":{"$error":"#N/A"}},{"$f":"VLOOKUP(E36,'Round 3'!$E$6:'Round 3'!$U$67,17,0)","v":{"$error":"#N/A"}},{"$f":"VLOOKUP(E36,'Round 3'!$E$6:'Round 3'!$U$67,16,0)","v":{"$error":"#N/A"}},{"$f":"VLOOKUP(E36,'Round 4'!$E$6:'Round 4'!$U$67,17,0)","v":{"$error":"#N/A"}},{"$f":"VLOOKUP(E36,'Round 4'!$E$6:'Round 4'!$U$67,16,0)","v":{"$error":"#N/A"}},{"$f":"VLOOKUP(E36,'Round 5'!$E$6:'Round 5'!$U$67,17,0)","v":{"$error":"#N/A"}},{"$f":"VLOOKUP(E36,'Round 5'!$E$6:'Round 5'!$U$67,16,0)","v":{"$error":"#N/A"}},{"$error":"#N/A"},{"$error":"#N/A"},{"$error":"#N/A"},{"$error":"#N/A"}]
[null,null,33,{"$f":"'42'!#REF!","v":{"$error":"#REF!"}},{"$f":"VLOOKUP(C37,DRAW!$C$5:'DRAW'!$E$46,3,0)","v":{"$error":"#N/A"}},{"$f":"VLOOKUP(E37,'Round 1'!$E$6:'Round 1'!$U$67,17,0)","v":{"$error":"#N/A"}},{"$f":"VLOOKUP(E37,'Round 1'!$E$6:'Round 1'!$U$67,16,0)","v":{"$error":"#N/A"}},{"$f":"VLOOKUP(E37,'Round 2'!$E$6:'Round 2'!$U$67,17,0)","v":{"$error":"#N/A"}},{"$f":"VLOOKUP(E37,'Round 2'!$E$6:'Round 2'!$U$67,16,0)","v":{"$error":"#N/A"}},{"$f":"VLOOKUP(E37,'Round 3'!$E$6:'Round 3'!$U$67,17,0)","v":{"$error":"#N/A"}},{"$f":"VLOOKUP(E37,'Round 3'!$E$6:'Round 3'!$U$67,16,0)","v":{"$error":"#N/A"}},{"$f":"VLOOKUP(E37,'Round 4'!$E$6:'Round 4'!$U$67,17,0)","v":{"$error":"#N/A"}},{"$f":"VLOOKUP(E37,'Round 4'!$E$6:'Round 4'!$U$67,16,0)","v":{"$error":"#N/A"}},{"$f":"VLOOKUP(E37,'Round 5'!$E$6:'Round 5'!$U$67,17,0)","v":{"$error":"#N/A"}},{"$f":"VLOOKUP(E37,'Round 5'!$E$6:'Round 5'!$U$67,16,0)","v":{"$error":"#N/A"}},{"$error":"#N/A"},{"$error":"#N/A"},{"$error":"#N/A"},{"$error":"#N/A"}]
[null,null,34,{"$f":"'42'!#REF!","v":{"$error":"#REF!"}},{"$f":"VLOOKUP(C38,DRAW!$C$5:'DRAW'!$E$46,3,0)","v":{"$error":"#N/A"}},{"$f":"VLOOKUP(E38,'Round 1'!$E$6:'Round 1'!$U$67,17,0)","v":{"$error":"#N/A"}},{"$f":"VLOOKUP(E38,'Round 1'!$E$6:'Round 1'!$U$67,16,0)","v":{"$error":"#N/A"}},{"$f":"VLOOKUP(E38,'Round 2'!$E$6:'Round 2'!$U$67,17,0)","v":{"$error":"#N/A"}},{"$f":"VLOOKUP(E38,'Round 2'!$E$6:'Round 2'!$U$67,16,0)","v":{"$error":"#N/A"}},{"$f":"VLOOKUP(E38,'Round 3'!$E$6:'Round 3'!$U$67,17,0)","v":{"$error":"#N/A"}},{"$f":"VLOOKUP(E38,'Round 3'!$E$6:'Round 3'!$U$67,16,0)","v":{"$error":"#N/A"}},{"$f":"VLOOKUP(E38,'Round 4'!$E$6:'Round 4'!$U$67,17,0)","v":{"$error":"#N/A"}},{"$f":"VLOOKUP(E38,'Round 4'!$E$6:'Round 4'!$U$67,16,0)","v":{"$error":"#N/A"}},{"$f":"VLOOKUP(E38,'Round 5'!$E$6:'Round 5'!$U$67,17,0)","v":{"$error":"#N/A"}},{"$f":"VLOOKUP(E38,'Round 5'!$E$6:'Round 5'!$U$67,16,0)","v":{"$error":"#N/A"}},{"$error":"#N/A"},{"$error":"#N/A"},{"$error":"#N/A"},{"$error":"#N/A"}]
[null,null,35,{"$f":"'42'!#REF!","v":{"$error":"#REF!"}},{"$f":"VLOOKUP(C39,DRAW!$C$5:'DRAW'!$E$46,3,0)","v":{"$error":"#N/A"}},{"$f":"VLOOKUP(E39,'Round 1'!$E$6:'Round 1'!$U$67,17,0)","v":{"$error":"#N/A"}},{"$f":"VLOOKUP(E39,'Round 1'!$E$6:'Round 1'!$U$67,16,0)","v":{"$error":"#N/A"}},{"$f":"VLOOKUP(E39,'Round 2'!$E$6:'Round 2'!$U$67,17,0)","v":{"$error":"#N/A"}},{"$f":"VLOOKUP(E39,'Round 2'!$E$6:'Round 2'!$U$67,16,0)","v":{"$error":"#N/A"}},{"$f":"VLOOKUP(E39,'Round 3'!$E$6:'Round 3'!$U$67,17,0)","v":{"$error":"#N/A"}},{"$f":"VLOOKUP(E39,'Round 3'!$E$6:'Round 3'!$U$67,16,0)","v":{"$error":"#N/A"}},{"$f":"VLOOKUP(E39,'Round 4'!$E$6:'Round 4'!$U$67,17,0)","v":{"$error":"#N/A"}},{"$f":"VLOOKUP(E39,'Round 4'!$E$6:'Round 4'!$U$67,16,0)","v":{"$error":"#N/A"}},{"$f":"VLOOKUP(E39,'Round 5'!$E$6:'Round 5'!$U$67,17,0)","v":{"$error":"#N/A"}},{"$f":"VLOOKUP(E39,'Round 5'!$E$6:'Round 5'!$U$67,16,0)","v":{"$error":"#N/A"}},{"$error":"#N/A"},{"$error":"#N/A"},{"$error":"#N/A"},{"$error":"#N/A"}]
[null,null,36,{"$f":"'42'!#REF!","v":{"$error":"#REF!"}},{"$f":"VLOOKUP(C40,DRAW!$C$5:'DRAW'!$E$46,3,0)","v":{"$error":"#N/A"}},{"$f":"VLOOKUP(E40,'Round 1'!$E$6:'Round 1'!$U$67,17,0)","v":{"$error":"#N/A"}},{"$f":"VLOOKUP(E40,'Round 1'!$E$6:'Round 1'!$U$67,16,0)","v":{"$error":"#N/A"}},{"$f":"VLOOKUP(E40,'Round 2'!$E$6:'Round 2'!$U$67,17,0)","v":{"$error":"#N/A"}},{"$f":"VLOOKUP(E40,'Round 2'!$E$6:'Round 2'!$U$67,16,0)","v":{"$error":"#N/A"}},{"$f":"VLOOKUP(E40,'Round 3'!$E$6:'Round 3'!$U$67,17,0)","v":{"$error":"#N/A"}},{"$f":"VLOOKUP(E40,'Round 3'!$E$6:'Round 3'!$U$67,16,0)","v":{"$error":"#N/A"}},{"$f":"VLOOKUP(E40,'Round 4'!$E$6:'Round 4'!$U$67,17,0)","v":{"$error":"#N/A"}},{"$f":"VLOOKUP(E40,'Round 4'!$E$6:'Round 4'!$U$67,16,0)","v":{"$error":"#N/A"}},{"$f":"VLOOKUP(E40,'Round 5'!$E$6:'Round 5'!$U$67,17,0)","v":{"$error":"#N/A"}},{"$f":"VLOOKUP(E40,'Round 5'!$E$6:'Round 5'!$U$67,16,0)","v":{"$error":"#N/A"}},{"$error":"#N/A"},{"$error":"#N/A"},{"$error":"#N/A"},{"$error":"#N/A"}]
[null,null,37,{"$f":"'42'!#REF!","v":{"$error":"#REF!"}},{"$f":"VLOOKUP(C41,DRAW!$C$5:'DRAW'!$E$46,3,0)","v":{"$error":"#N/A"}},{"$f":"VLOOKUP(E41,'Round 1'!$E$6:'Round 1'!$U$67,17,0)","v":{"$error":"#N/A"}},{"$f":"VLOOKUP(E41,'Round 1'!$E$6:'Round 1'!$U$67,16,0)","v":{"$error":"#N/A"}},{"$f":"VLOOKUP(E41,'Round 2'!$E$6:'Round 2'!$U$67,17,0)","v":{"$error":"#N/A"}},{"$f":"VLOOKUP(E41,'Round 2'!$E$6:'Round 2'!$U$67,16,0)","v":{"$error":"#N/A"}},{"$f":"VLOOKUP(E41,'Round 3'!$E$6:'Round 3'!$U$67,17,0)","v":{"$error":"#N/A"}},{"$f":"VLOOKUP(E41,'Round 3'!$E$6:'Round 3'!$U$67,16,0)","v":{"$error":"#N/A"}},{"$f":"VLOOKUP(E41,'Round 4'!$E$6:'Round 4'!$U$67,17,0)","v":{"$error":"#N/A"}},{"$f":"VLOOKUP(E41,'Round 4'!$E$6:'Round 4'!$U$67,16,0)","v":{"$error":"#N/A"}},{"$f":"VLOOKUP(E41,'Round 5'!$E$6:'Round 5'!$U$67,17,0)","v":{"$error":"#N/A"}},{"$f":"VLOOKUP(E41,'Round 5'!$E$6:'Round 5'!$U$67,16,0)","v":{"$error":"#N/A"}},{"$error":"#N/A"},{"$error":"#N/A"},{"$error":"#N/A"},{"$error":"#N/A"}]
[null,null,38,{"$f":"'42'!#REF!","v":{"$error":"#REF!"}},{"$f":"VLOOKUP(C42,DRAW!$C$5:'DRAW'!$E$46,3,0)","v":{"$error":"#N/A"}},{"$f":"VLOOKUP(E42,'Round 1'!$E$6:'Round 1'!$U$67,17,0)","v":{"$error":"#N/A"}},{"$f":"VLOOKUP(E42,'Round 1'!$E$6:'Round 1'!$U$67,16,0)","v":{"$error":"#N/A"}},{"$f":"VLOOKUP(E42,'Round 2'!$E$6:'Round 2'!$U$67,17,0)","v":{"$error":"#N/A"}},{"$f":"VLOOKUP(E42,'Round 2'!$E$6:'Round 2'!$U$67,16,0)","v":{"$error":"#N/A"}},{"$f":"VLOOKUP(E42,'Round 3'!$E$6:'Round 3'!$U$67,17,0)","v":{"$error":"#N/A"}},{"$f":"VLOOKUP(E42,'Round 3'!$E$6:'Round 3'!$U$67,16,0)","v":{"$error":"#N/A"}},{"$f":"VLOOKUP(E42,'Round 4'!$E$6:'Round 4'!$U$67,17,0)","v":{"$error":"#N/A"}},{"$f":"VLOOKUP(E42,'Round 4'!$E$6:'Round 4'!$U$67,16,0)","v":{"$error":"#N/A"}},{"$f":"VLOOKUP(E42,'Round 5'!$E$6:'Round 5'!$U$67,17,0)","v":{"$error":"#N/A"}},{"$f":"VLOOKUP(E42,'Round 5'!$E$6:'Round 5'!$U$67,16,0)","v":{"$error":"#N/A"}},{"$error":"#N/A"},{"$error":"#N/A"},{"$error":"#N/A"},{"$error":"#N/A"}]
[null,null,39,{"$f":"'42'!#REF!","v":{"$error":"#REF!"}},{"$f":"VLOOKUP(C43,DRAW!$C$5:'DRAW'!$E$46,3,0)","v":{"$error":"#N/A"}},{"$f":"VLOOKUP(E43,'Round 1'!$E$6:'Round 1'!$U$67,17,0)","v":{"$error":"#N/A"}},{"$f":"VLOOKUP(E43,'Round 1'!$E$6:'Round 1'!$U$67,16,0)","v":{"$error":"#N/A"}},{"$f":"VLOOKUP(E43,'Round 2'!$E$6:'Round 2'!$U$67,17,0)","v":{"$error":"#N/A"}},{"$f":"VLOOKUP(E43,'Round 2'!$E$6:'Round 2'!$U$67,16,0)","v":{"$error":"#N/A"}},{"$f":"VLOOKUP(E43,'Round 3'!$E$6:'Round 3'!$U$67,17,0)","v":{"$error":"#N/A"}},{"$f":"VLOOKUP(E43,'Round 3'!$E$6:'Round 3'!$U$67,16,0)","v":{"$error":"#N/A"}},{"$f":"VLOOKUP(E43,'Round 4'!$E$6:'Round 4'!$U$67,17,0)","v":{"$error":"#N/A"}},{"$f":"VLOOKUP(E43,'Round 4'!$E$6:'Round 4'!$U$67,16,0)","v":{"$error":"#N/A"}},{"$f":"VLOOKUP(E43,'Round 5'!$E$6:'Round 5'!$U$67,17,0)","v":{"$error":"#N/A"}},{"$f":"VLOOKUP(E43,'Round 5'!$E$6:'Round 5'!$U$67,16,0)","v":{"$error":"#N/A"}},{"$f":"F43+H43+J43+L43+N43","v":{"$error":"#N/A"}},{"$f":"(P43*1000)+R43","v":{"$error":"#N/A"}},{"$f":"G43+I43+K43+M43+O43","v":{"$error":"#N/A"}},{"$error":"#N/A"}]
[null,null,40,{"$f":"'42'!#REF!","v":{"$error":"#REF!"}},{"$f":"VLOOKUP(C44,DRAW!$C$5:'DRAW'!$E$46,3,0)","v":{"$error":"#N/A"}},{"$f":"VLOOKUP(E44,'Round 1'!$E$6:'Round 1'!$U$67,17,0)","v":{"$error":"#N/A"}},{"$f":"VLOOKUP(E44,'Round 1'!$E$6:'Round 1'!$U$67,16,0)","v":{"$error":"#N/A"}},{"$f":"VLOOKUP(E44,'Round 2'!$E$6:'Round 2'!$U$67,17,0)","v":{"$error":"#N/A"}},{"$f":"VLOOKUP(E44,'Round 2'!$E$6:'Round 2'!$U$67,16,0)","v":{"$error":"#N/A"}},{"$f":"VLOOKUP(E44,'Round 3'!$E$6:'Round 3'!$U$67,17,0)","v":{"$error":"#N/A"}},{"$f":"VLOOKUP(E44,'Round 3'!$E$6:'Round 3'!$U$67,16,0)","v":{"$error":"#N/A"}},{"$f":"VLOOKUP(E44,'Round 4'!$E$6:'Round 4'!$U$67,17,0)","v":{"$error":"#N/A"}},{"$f":"VLOOKUP(E44,'Round 4'!$E$6:'Round 4'!$U$67,16,0)","v":{"$error":"#N/A"}},{"$f":"VLOOKUP(E44,'Round 5'!$E$6:'Round 5'!$U$67,17,0)","v":{"$error":"#N/A"}},{"$f":"VLOOKUP(E44,'Round 5'!$E$6:'Round 5'!$U$67,16,0)","v":{"$error":"#N/A"}},{"$error":"#N/A"},{"$error":"#N/A"},{"$error":"#N/A"},{"$error":"#N/A"}]
[null,null,41,{"$f":"'42'!#REF!","v":{"$error":"#REF!"}},{"$f":"VLOOKUP(C45,DRAW!$C$5:'DRAW'!$E$46,3,0)","v":{"$error":"#N/A"}},{"$f":"VLOOKUP(E45,'Round 1'!$E$6:'Round 1'!$U$67,17,0)","v":{"$error":"#N/A"}},{"$f":"VLOOKUP(E45,'Round 1'!$E$6:'Round 1'!$U$67,16,0)","v":{"$error":"#N/A"}},{"$f":"VLOOKUP(E45,'Round 2'!$E$6:'Round 2'!$U$67,17,0)","v":{"$error":"#N/A"}},{"$f":"VLOOKUP(E45,'Round 2'!$E$6:'Round 2'!$U$67,16,0)","v":{"$error":"#N/A"}},{"$f":"VLOOKUP(E45,'Round 3'!$E$6:'Round 3'!$U$67,17,0)","v":{"$error":"#N/A"}},{"$f":"VLOOKUP(E45,'Round 3'!$E$6:'Round 3'!$U$67,16,0)","v":{"$error":"#N/A"}},{"$f":"VLOOKUP(E45,'Round 4'!$E$6:'Round 4'!$U$67,17,0)","v":{"$error":"#N/A"}},{"$f":"VLOOKUP(E45,'Round 4'!$E$6:'Round 4'!$U$67,16,0)","v":{"$error":"#N/A"}},{"$f":"VLOOKUP(E45,'Round 5'!$E$6:'Round 5'!$U$67,17,0)","v":{"$error":"#N/A"}},{"$f":"VLOOKUP(E45,'Round 5'!$E$6:'Round 5'!$U$67,16,0)","v":{"$error":"#N/A"}},{"$error":"#N/A"},{"$error":"#N/A"},{"$error":"#N/A"},{"$error":"#N/A"}]
[null,null,42,{"$f":"'42'!#REF!","v":{"$error":"#REF!"}},{"$f":"VLOOKUP(C46,DRAW!$C$5:'DRAW'!$E$46,3,0)","v":{"$error":"#N/A"}},{"$f":"VLOOKUP(E46,'Round 1'!$E$6:'Round 1'!$U$67,17,0)","v":{"$error":"#N/A"}},{"$f":"VLOOKUP(E46,'Round 1'!$E$6:'Round 1'!$U$67,16,0)","v":{"$error":"#N/A"}},{"$f":"VLOOKUP(E46,'Round 2'!$E$6:'Round 2'!$U$67,17,0)","v":{"$error":"#N/A"}},{"$f":"VLOOKUP(E46,'Round 2'!$E$6:'Round 2'!$U$67,16,0)","v":{"$error":"#N/A"}},{"$f":"VLOOKUP(E46,'Round 3'!$E$6:'Round 3'!$U$67,17,0)","v":{"$error":"#N/A"}},{"$f":"VLOOKUP(E46,'Round 3'!$E$6:'Round 3'!$U$67,16,0)","v":{"$error":"#N/A"}},{"$f":"VLOOKUP(E46,'Round 4'!$E$6:'Round 4'!$U$67,17,0)","v":{"$error":"#N/A"}},{"$f":"VLOOKUP(E46,'Round 4'!$E$6:'Round 4'!$U$67,16,0)","v":{"$error":"#N/A"}},{"$f":"VLOOKUP(E46,'Round 5'!$E$6:'Round 5'!$U$67,17,0)","v":{"$error":"#N/A"}},{"$f":"VLOOKUP(E46,'Round 5'!$E$6:'Round 5'!$U$67,16,0)","v":{"$error":"#N/A"}},{"$error":"#N/A"},{"$error":"#N/A"},{"$error":"#N/A"},{"$error":"#N/A"}]

{"sheet":"Round 1 Cards","index":10,"n_rows":1006,"n_cols":20,"rows_kept":1006,"merged":[[0,0,0,21],[1,0,1,21],[2,2,3,5],[2,6,3,10],[2,13,3,16],[2,17,3,21],[4,2,4,10],[4,13,4,21],[5,2,5,5],[5,6,5,10],[5,13,5,16],[5,17,5,21],[6,0,6,1],[6,2,6,3],[6,4,6,5],[6,6,6,7],[6,8,6,10],[6,13,6,14],[6,15,6,16],[6,17,6,18],[6,19,6,21],[7,0,7,1],[7,2,7,3],[7,4,7,5],[7,6,7,7],[7,8,7,10],[7,13,7,14],[7,15,7,16],[7,17,7,18],[7,19,7,21],[8,0,8,1],[8,2,8,3],[8,4,8,5],[8,6,8,7],[8,8,8,10],[8,13,8,14],[8,15,8,16],[8,17,8,18],[8,19,8,21],[9,0,9,1],[9,2,9,3],[9,4,9,5],[9,6,9,7],[9,8,9,10],[9,13,9,14],[9,15,9,16],[9,17,9,18],[9,19,9,21],[10,0,10,1],[10,2,10,3],[10,4,10,5],[10,6,10,7],[10,8,10,10],[10,13,10,14],[10,15,10,16],[10,17,10,18],[10,19,10,21],[11,0,11,1],[11,2,11,3],[11,4,11,5],[11,6,11,7],[11,8,11,10],[11,13,11,14],[11,15,11,16],[11,17,11,18],[11,19,11,21],[11,22,11,23],[12,0,12,1],[12,2,12,3],[12,4,12,5],[12,6,12,7],[12,8,12,10],[12,13,12,14],[12,15,12,16],[12,17,12,18],[12,19,12,21],[13,0,13,1],[13,2,13,3],[13,4,13,5],[13,6,13,7],[13,8,13,10],[13,13,13,14],[13,15,13,16],[13,17,13,18],[13,19,13,21],[14,0,14,1],[14,2,14,3],[14,4,14,5],[14,6,14,7],[14,8,14,10],[14,13,14,14],[14,15,14,16],[14,17,14,18],[14,19,14,21],[15,0,15,1],[15,2,15,3],[15,4,15,5],[15,6,15,7],[15,8,15,10],[15,13,15,14],[15,15,15,16],[15,17,15,18],[15,19,15,21],[16,2,16,21],[17,0,17,1],[17,2,17,3],[17,4,17,5],[17,6,17,7],[17,8,17,10],[17,11,17,12],[17,13,17,14],[17,15,17,16],[17,17,17,18],[17,19,17,21],[18,0,18,1],[18,2,18,3],[18,4,18,5],[18,6,18,7],[18,8,18,10],[18,11,18,12],[18,13,18,14],[18,15,18,16],[18,17,18,18],[18,19,18,21],[19,0,19,1],[19,2,19,3],[19,4,19,5],[19,6,19,7],[19,8,19,10],[19,11,19,12],[19,13,19,14],[19,15,19,16],[19,17,19,18],[19,19,19,21],[20,11,20,21],[21,0,21,3],[21,4,21,5],[21,6,21,10],[21,12,21,15],[21,16,21,17],[21,18,21,21],[23,3,23,7],[23,15,23,19],[24,0,24,21],[25,0,25,21],[26,2,27,5],[26,6,27,10],[26,13,27,16],[26,17,27,21],[28,2,28,10],[28,13,28,21],[29,2,29,5],[29,6,29,10],[29,13,29,16],[29,17,29,21],[30,0,30,1],[30,2,30,3],[30,4,30,5],[30,6,30,7],[30,8,30,10],[30,13,30,14],[30,15,30,16],[30,17,30,18],[30,19,30,21],[31,0,31,1],[31,2,31,3],[31,4,31,5],[31,6,31,7],[31,8,31,10],[31,13,31,14],[31,15,31,16],[31,17,31,18],[31,19,31,21],[32,0,32,1],[32,2,32,3],[32,4,32,5],[32,6,32,7],[32,8,32,10],[32,13,32,14],[32,15,32,16],[32,17,32,18],[32,19,32,21],[33,0,33,1],[33,2,33,3],[33,4,33,5],[33,6,33,7],[33,8,33,10],[33,13,33,14],[33,15,33,16],[33,17,33,18],[33,19,33,21],[34,0,34,1],[34,2,34,3],[34,4,34,5],[34,6,34,7],[34,8,34,10],[34,13,34,14],[34,15,34,16],[34,17,34,18],[34,19,34,21],[35,0,35,1],[35,2,35,3],[35,4,35,5],[35,6,35,7],[35,8,35,10],[35,13,35,14],[35,15,35,16],[35,17,35,18],[35,19,35,21],[35,22,35,23],[36,0,36,1],[36,2,36,3],[36,4,36,5],[36,6,36,7],[36,8,36,10],[36,13,36,14],[36,15,36,16],[36,17,36,18],[36,19,36,21],[37,0,37,1],[37,2,37,3],[37,4,37,5],[37,6,37,7],[37,8,37,10],[37,13,37,14],[37,15,37,16],[37,17,37,18],[37,19,37,21],[38,0,38,1],[38,2,38,3],[38,4,38,5],[38,6,38,7],[38,8,38,10],[38,13,38,14],[38,15,38,16],[38,17,38,18],[38,19,38,21],[39,0,39,1],[39,2,39,3],[39,4,39,5],[39,6,39,7],[39,8,39,10],[39,13,39,14],[39,15,39,16],[39,17,39,18],[39,19,39,21],[40,2,40,21],[41,0,41,1],[41,2,41,3],[41,4,41,5],[41,6,41,7],[41,8,41,10],[41,11,41,12],[41,13,41,14],[41,15,41,16],[41,17,41,18],[41,19,41,21],[42,0,42,1],[42,2,42,3],[42,4,42,5],[42,6,42,7],[42,8,42,10],[42,11,42,12],[42,13,42,14],[42,15,42,16],[42,17,42,18],[42,19,42,21],[43,0,43,1],[43,2,43,3],[43,4,43,5],[43,6,43,7],[43,8,43,10],[43,11,43,12],[43,13,43,14],[43,15,43,16],[43,17,43,18],[43,19,43,21],[44,11,44,21],[45,0,45,3],[45,4,45,5],[45,6,45,10],[45,12,45,15],[45,16,45,17],[45,18,45,21],[47,3,47,7],[47,15,47,19],[48,0,48,21],[49,0,49,21],[50,2,51,5],[50,6,51,10],[50,13,51,16],[50,17,51,21],[52,2,52,10],[52,13,52,21],[53,2,53,5],[53,6,53,10],[53,13,53,16],[53,17,53,21],[54,0,54,1],[54,2,54,3],[54,4,54,5],[54,6,54,7],[54,8,54,10],[54,13,54,14],[54,15,54,16],[54,17,54,18],[54,19,54,21],[55,0,55,1],[55,2,55,3],[55,4,55,5],[55,6,55,7],[55,8,55,10],[55,13,55,14],[55,15,55,16],[55,17,55,18],[55,19,55,21],[56,0,56,1],[56,2,56,3],[56,4,56,5],[56,6,56,7],[56,8,56,10],[56,13,56,14],[56,15,56,16],[56,17,56,18],[56,19,56,21],[57,0,57,1],[57,2,57,3],[57,4,57,5],[57,6,57,7],[57,8,57,10],[57,13,57,14],[57,15,57,16],[57,17,57,18],[57,19,57,21],[58,0,58,1],[58,2,58,3],[58,4,58,5],[58,6,58,7],[58,8,58,10],[58,13,58,14],[58,15,58,16],[58,17,58,18],[58,19,58,21],[59,0,59,1],[59,2,59,3],[59,4,59,5],[59,6,59,7],[59,8,59,10],[59,13,59,14],[59,15,59,16],[59,17,59,18],[59,19,59,21],[59,22,59,23],[60,0,60,1],[60,2,60,3],[60,4,60,5],[60,6,60,7],[60,8,60,10],[60,13,60,14],[60,15,60,16],[60,17,60,18],[60,19,60,21],[61,0,61,1],[61,2,61,3],[61,4,61,5],[61,6,61,7],[61,8,61,10],[61,13,61,14],[61,15,61,16],[61,17,61,18],[61,19,61,21],[62,0,62,1],[62,2,62,3],[62,4,62,5],[62,6,62,7],[62,8,62,10],[62,13,62,14],[62,15,62,16],[62,17,62,18],[62,19,62,21],[63,0,63,1],[63,2,63,3],[63,4,63,5],[63,6,63,7],[63,8,63,10],[63,13,63,14],[63,15,63,16],[63,17,63,18],[63,19,63,21],[64,2,64,21],[65,0,65,1],[65,2,65,3],[65,4,65,5],[65,6,65,7],[65,8,65,10],[65,11,65,12],[65,13,65,14],[65,15,65,16],[65,17,65,18],[65,19,65,21],[66,0,66,1],[66,2,66,3],[66,4,66,5],[66,6,66,7],[66,8,66,10],[66,11,66,12],[66,13,66,14],[66,15,66,16],[66,17,66,18],[66,19,66,21],[67,0,67,1],[67,2,67,3],[67,4,67,5],[67,6,67,7],[67,8,67,10],[67,11,67,12],[67,13,67,14],[67,15,67,16],[67,17,67,18],[67,19,67,21],[68,11,68,21],[69,0,69,3],[69,4,69,5],[69,6,69,10],[69,12,69,15],[69,16,69,17],[69,18,69,21],[71,3,71,7],[71,15,71,19],[72,0,72,21],[73,0,73,21],[74,2,75,5],[74,6,75,10],[74,13,75,16],[74,17,75,21],[76,2,76,10],[76,13,76,21],[77,2,77,5],[77,6,77,10],[77,13,77,16],[77,17,77,21],[78,0,78,1],[78,2,78,3],[78,4,78,5],[78,6,78,7],[78,8,78,10],[78,13,78,14],[78,15,78,16],[78,17,78,18],[78,19,78,21],[79,0,79,1],[79,2,79,3],[79,4,79,5],[79,6,79,7],[79,8,79,10],[79,13,79,14],[79,15,79,16],[79,17,79,18],[79,19,79,21],[80,0,80,1],[80,2,80,3],[80,4,80,5],[80,6,80,7],[80,8,80,10],[80,13,80,14],[80,15,80,16],[80,17,80,18],[80,19,80,21],[81,0,81,1],[81,2,81,3],[81,4,81,5],[81,6,81,7],[81,8,81,10],[81,13,81,14],[81,15,81,16],[81,17,81,18],[81,19,81,21],[82,0,82,1],[82,2,82,3],[82,4,82,5],[82,6,82,7],[82,8,82,10],[82,13,82,14],[82,15,82,16],[82,17,82,18],[82,19,82,21],[83,0,83,1],[83,2,83,3],[83,4,83,5],[83,6,83,7],[83,8,83,10],[83,13,83,14],[83,15,83,16],[83,17,83,18],[83,19,83,21],[83,22,83,23],[84,0,84,1],[84,2,84,3],[84,4,84,5],[84,6,84,7],[84,8,84,10],[84,13,84,14],[84,15,84,16],[84,17,84,18],[84,19,84,21],[85,0,85,1],[85,2,85,3],[85,4,85,5],[85,6,85,7],[85,8,85,10],[85,13,85,14],[85,15,85,16],[85,17,85,18],[85,19,85,21],[86,0,86,1],[86,2,86,3],[86,4,86,5],[86,6,86,7],[86,8,86,10],[86,13,86,14],[86,15,86,16],[86,17,86,18],[86,19,86,21],[87,0,87,1],[87,2,87,3],[87,4,87,5],[87,6,87,7],[87,8,87,10],[87,13,87,14],[87,15,87,16],[87,17,87,18],[87,19,87,21],[88,2,88,21],[89,0,89,1],[89,2,89,3],[89,4,89,5],[89,6,89,7],[89,8,89,10],[89,11,89,12],[89,13,89,14],[89,15,89,16],[89,17,89,18],[89,19,89,21],[90,0,90,1],[90,2,90,3],[90,4,90,5],[90,6,90,7],[90,8,90,10],[90,11,90,12],[90,13,90,14],[90,15,90,16],[90,17,90,18],[90,19,90,21],[91,0,91,1],[91,2,91,3],[91,4,91,5],[91,6,91,7],[91,8,91,10],[91,11,91,12],[91,13,91,14],[91,15,91,16],[91,17,91,18],[91,19,91,21],[92,11,92,21],[93,0,93,3],[93,4,93,5],[93,6,93,10],[93,12,93,15],[93,16,93,17],[93,18,93,21],[95,3,95,7],[95,15,95,19],[96,0,96,21],[97,0,97,21],[98,2,99,5],[98,6,99,10],[98,13,99,16],[98,17,99,21],[100,2,100,10],[100,13,100,21],[101,2,101,5],[101,6,101,10],[101,13,101,16],[101,17,101,21],[102,0,102,1],[102,2,102,3],[102,4,102,5],[102,6,102,7],[102,8,102,10],[102,13,102,14],[102,15,102,16],[102,17,102,18],[102,19,102,21],[103,0,103,1],[103,2,103,3],[103,4,103,5],[103,6,103,7],[103,8,103,10],[103,13,103,14],[103,15,103,16],[103,17,103,18],[103,19,103,21],[104,0,104,1],[104,2,104,3],[104,4,104,5],[104,6,104,7],[104,8,104,10],[104,13,104,14],[104,15,104,16],[104,17,104,18],[104,19,104,21],[105,0,105,1],[105,2,105,3],[105,4,105,5],[105,6,105,7],[105,8,105,10],[105,13,105,14],[105,15,105,16],[105,17,105,18],[105,19,105,21],[106,0,106,1],[106,2,106,3],[106,4,106,5],[106,6,106,7],[106,8,106,10],[106,13,106,14],[106,15,106,16],[106,17,106,18],[106,19,106,21],[107,0,107,1],[107,2,107,3],[107,4,107,5],[107,6,107,7],[107,8,107,10],[107,13,107,14],[107,15,107,16],[107,17,107,18],[107,19,107,21],[107,22,107,23],[108,0,108,1],[108,2,108,3],[108,4,108,5],[108,6,108,7],[108,8,108,10],[108,13,108,14],[108,15,108,16],[108,17,108,18],[108,19,108,21],[109,0,109,1],[109,2,109,3],[109,4,109,5],[109,6,109,7],[109,8,109,10],[109,13,109,14],[109,15,109,16],[109,17,109,18],[109,19,109,21],[110,0,110,1],[110,2,110,3],[110,4,110,5],[110,6,110,7],[110,8,110,10],[110,13,110,14],[110,15,110,16],[110,17,110,18],[110,19,110,21],[111,0,111,1],[111,2,111,3],[111,4,111,5],[111,6,111,7],[111,8,111,10],[111,13,111,14],[111,15,111,16],[111,17,111,18],[111,19,111,21],[112,2,112,21],[113,0,113,1],[113,2,113,3],[113,4,113,5],[113,6,113,7],[113,8,113,10],[113,11,113,12],[113,13,113,14],[113,15,113,16],[113,17,113,18],[113,19,113,21],[114,0,114,1],[114,2,114,3],[114,4,114,5],[114,6,114,7],[114,8,114,10],[114,11,114,12],[114,13,114,14],[114,15,114,16],[114,17,114,18],[114,19,114,21],[115,0,115,1],[115,2,115,3],[115,4,115,5],[115,6,115,7],[115,8,115,10],[115,11,115,12],[115,13,115,14],[115,15,115,16],[115,17,115,18],[115,19,115,21],[116,11,116,21],[117,0,117,3],[117,4,117,5],[117,6,117,10],[117,12,117,15],[117,16,117,17],[117,18,117,21],[119,3,119,7],[119,15,119,19],[120,0,120,21],[121,0,121,21],[122,2,123,5],[122,6,123,10],[122,13,123,16],[122,17,123,21],[124,2,124,10],[124,13,124,21],[125,2,125,5],[125,6,125,10],[125,13,125,16],[125,17,125,21],[126,0,126,1],[126,2,126,3],[126,4,126,5],[126,6,126,7],[126,8,126,10],[126,13,126,14],[126,15,126,16],[126,17,126,18],[126,19,126,21],[127,0,127,1],[127,2,127,3],[127,4,127,5],[127,6,127,7],[127,8,127,10],[127,13,127,14],[127,15,127,16],[127,17,127,18],[127,19,127,21],[128,0,128,1],[128,2,128,3],[128,4,128,5],[128,6,128,7],[128,8,128,10],[128,13,128,14],[128,15,128,16],[128,17,128,18],[128,19,128,21],[129,0,129,1],[129,2,129,3],[129,4,129,5],[129,6,129,7],[129,8,129,10],[129,13,129,14],[129,15,129,16],[129,17,129,18],[129,19,129,21],[130,0,130,1],[130,2,130,3],[130,4,130,5],[130,6,130,7],[130,8,130,10],[130,13,130,14],[130,15,130,16],[130,17,130,18],[130,19,130,21],[131,0,131,1],[131,2,131,3],[131,4,131,5],[131,6,131,7],[131,8,131,10],[131,13,131,14],[131,15,131,16],[131,17,131,18],[131,19,131,21],[131,22,131,23],[132,0,132,1],[132,2,132,3],[132,4,132,5],[132,6,132,7],[132,8,132,10],[132,13,132,14],[132,15,132,16],[132,17,132,18],[132,19,132,21],[133,0,133,1],[133,2,133,3],[133,4,133,5],[133,6,133,7],[133,8,133,10],[133,13,133,14],[133,15,133,16],[133,17,133,18],[133,19,133,21],[134,0,134,1],[134,2,134,3],[134,4,134,5],[134,6,134,7],[134,8,134,10],[134,13,134,14],[134,15,134,16],[134,17,134,18],[134,19,134,21],[135,0,135,1],[135,2,135,3],[135,4,135,5],[135,6,135,7],[135,8,135,10],[135,13,135,14],[135,15,135,16],[135,17,135,18],[135,19,135,21],[136,2,136,21],[137,0,137,1],[137,2,137,3],[137,4,137,5],[137,6,137,7],[137,8,137,10],[137,11,137,12],[137,13,137,14],[137,15,137,16],[137,17,137,18],[137,19,137,21],[138,0,138,1],[138,2,138,3],[138,4,138,5],[138,6,138,7],[138,8,138,10],[138,11,138,12],[138,13,138,14],[138,15,138,16],[138,17,138,18],[138,19,138,21],[139,0,139,1],[139,2,139,3],[139,4,139,5],[139,6,139,7],[139,8,139,10],[139,11,139,12],[139,13,139,14],[139,15,139,16],[139,17,139,18],[139,19,139,21],[140,11,140,21],[141,0,141,3],[141,4,141,5],[141,6,141,10],[141,12,141,15],[141,16,141,17],[141,18,141,21],[143,3,143,7],[143,15,143,19],[144,0,144,21],[145,0,145,21],[146,2,147,5],[146,6,147,10],[146,13,147,16],[146,17,147,21],[148,2,148,10],[148,13,148,21],[149,2,149,5],[149,6,149,10],[149,13,149,16],[149,17,149,21],[150,0,150,1],[150,2,150,3],[150,4,150,5],[150,6,150,7],[150,8,150,10],[150,13,150,14],[150,15,150,16],[150,17,150,18],[150,19,150,21],[151,0,151,1],[151,2,151,3],[151,4,151,5],[151,6,151,7],[151,8,151,10],[151,13,151,14],[151,15,151,16],[151,17,151,18],[151,19,151,21],[152,0,152,1],[152,2,152,3],[152,4,152,5],[152,6,152,7],[152,8,152,10],[152,13,152,14],[152,15,152,16],[152,17,152,18],[152,19,152,21],[153,0,153,1],[153,2,153,3],[153,4,153,5],[153,6,153,7],[153,8,153,10],[153,13,153,14],[153,15,153,16],[153,17,153,18],[153,19,153,21],[154,0,154,1],[154,2,154,3],[154,4,154,5],[154,6,154,7],[154,8,154,10],[154,13,154,14],[154,15,154,16],[154,17,154,18],[154,19,154,21],[155,0,155,1],[155,2,155,3],[155,4,155,5],[155,6,155,7],[155,8,155,10],[155,13,155,14],[155,15,155,16],[155,17,155,18],[155,19,155,21],[155,22,155,23],[156,0,156,1],[156,2,156,3],[156,4,156,5],[156,6,156,7],[156,8,156,10],[156,13,156,14],[156,15,156,16],[156,17,156,18],[156,19,156,21],[157,0,157,1],[157,2,157,3],[157,4,157,5],[157,6,157,7],[157,8,157,10],[157,13,157,14],[157,15,157,16],[157,17,157,18],[157,19,157,21],[158,0,158,1],[158,2,158,3],[158,4,158,5],[158,6,158,7],[158,8,158,10],[158,13,158,14],[158,15,158,16],[158,17,158,18],[158,19,158,21],[159,0,159,1],[159,2,159,3],[159,4,159,5],[159,6,159,7],[159,8,159,10],[159,13,159,14],[159,15,159,16],[159,17,159,18],[159,19,159,21],[160,2,160,21],[161,0,161,1],[161,2,161,3],[161,4,161,5],[161,6,161,7],[161,8,161,10],[161,11,161,12],[161,13,161,14],[161,15,161,16],[161,17,161,18],[161,19,161,21],[162,0,162,1],[162,2,162,3],[162,4,162,5],[162,6,162,7],[162,8,162,10],[162,11,162,12],[162,13,162,14],[162,15,162,16],[162,19,162,21],[163,0,163,1],[163,2,163,3],[163,4,163,5],[163,6,163,7],[163,8,163,10],[163,11,163,12],[163,13,163,14],[163,15,163,16],[163,17,163,18],[163,19,163,21],[164,11,164,21],[165,0,165,3],[165,4,165,5],[165,6,165,10],[165,12,165,15],[165,16,165,17],[165,18,165,21],[167,3,167,7],[167,15,167,19]],"merged_total":6006,"flags":["merged_cut"]}
[{"$f":"DRAW!$C$1","v":0}]
["ROUND  1"]
[null,null,"TEAM NUMBER",{"$nulls":3},{"$f":"DRAW!$C$5","v":0},{"$nulls":6},"RINK NUMBER",{"$nulls":3},{"$f":"DRAW!$F$5","v":0}]
[]
[null,null,"First Set",{"$nulls":10},"Second Set"]
[null,null,{"$f":"G3","v":0},{"$nulls":3},{"$f":"DRAW!$G$5","v":0},{"$nulls":6},{"$f":"G3","v":0},{"$nulls":3},{"$f":"DRAW!$G$5","v":0}]
["End",null,"Shots",null,"Total",null,"Shots",null,"Total",{"$nulls":4},"Shots",null,"Total",null,"Shots",null,"Total"]
[1]
[2]
[3]
[4]
[5]
[6]
[7]
[8]
[9]
[null,null,"Tie Break Set (if needed)"]
["End",null,"Shots",null,"Total",null,"Shots",null,"Total",null,null,"End",null,"Shots",null,"Total",null,"Shots",null,"Total"]
[1,{"$nulls":10},3]
[2,{"$nulls":10},4]
[]
["Team",{"$nulls":3},{"$f":"C6","v":0},null,"points",{"$nulls":5},"Team",{"$nulls":3},{"$f":"G6","v":0},null,"points"]
[]
[]
[{"$f":"$A$1","v":0}]
["ROUND  1"]
[null,null,"TEAM NUMBER",{"$nulls":3},{"$f":"DRAW!$C$6","v":0},{"$nulls":6},"RINK NUMBER",{"$nulls":3},{"$f":"DRAW!$F$6","v":0}]
[]
[null,null,"First Set",{"$nulls":10},"Second Set"]
[null,null,{"$f":"G27","v":0},{"$nulls":3},{"$f":"DRAW!$G$6","v":0},{"$nulls":6},{"$f":"G27","v":0},{"$nulls":3},{"$f":"DRAW!$G$6","v":0}]
["End",null,"Shots",null,"Total",null,"Shots",null,"Total",{"$nulls":4},"Shots",null,"Total",null,"Shots",null,"Total"]
[1]
[2]
[3]
[4]
[5]
[6]
[7]
[8]
[9]
[null,null,"Tie Break Set (if needed)"]
["End",null,"Shots",null,"Total",null,"Shots",null,"Total",null,null,"End",null,"Shots",null,"Total",null,"Shots",null,"Total"]
[1,{"$nulls":10},3]
[2,{"$nulls":10},4]
[]
["Team",{"$nulls":3},{"$f":"C30","v":0},null,"points",{"$nulls":5},"Team",{"$nulls":3},{"$f":"G30","v":0},null,"points"]
[]
[]
[{"$f":"$A$1","v":0}]
["ROUND  1"]
[null,null,"TEAM NUMBER",{"$nulls":3},{"$f":"DRAW!$C$7","v":0},{"$nulls":6},"RINK NUMBER",{"$nulls":3},{"$f":"DRAW!$F$7","v":0}]
[]
[null,null,"First Set",{"$nulls":10},"Second Set"]
[null,null,{"$f":"G51","v":0},{"$nulls":3},{"$f":"DRAW!$G$7","v":0},{"$nulls":6},{"$f":"G51","v":0},{"$nulls":3},{"$f":"DRAW!$G$7","v":0}]
["End",null,"Shots",null,"Total",null,"Shots",null,"Total",{"$nulls":4},"Shots",null,"Total",null,"Shots",null,"Total"]
[1]
[2]
[3]
[4]
[5]
[6]
[7]
[8]
[9]
[null,null,"Tie Break Set (if needed)"]
["End",null,"Shots",null,"Total",null,"Shots",null,"Total",null,null,"End",null,"Shots",null,"Total",null,"Shots",null,"Total"]
[1,{"$nulls":10},3]
[2,{"$nulls":10},4]
[]
["Team",{"$nulls":3},{"$f":"C54","v":0},null,"points",{"$nulls":5},"Team",{"$nulls":3},{"$f":"G54","v":0},null,"points"]
[]
[]
[{"$f":"$A$1","v":0}]
["ROUND  1"]
[null,null,"TEAM NUMBER",{"$nulls":3},{"$f":"DRAW!$C$8","v":0},{"$nulls":6},"RINK NUMBER",{"$nulls":3},{"$f":"DRAW!$F$8","v":0}]
[]
[null,null,"First Set",{"$nulls":10},"Second Set"]
[null,null,{"$f":"G75","v":0},{"$nulls":3},{"$f":"DRAW!$G$8","v":0},{"$nulls":6},{"$f":"G75","v":0},{"$nulls":3},{"$f":"DRAW!$G$8","v":0}]
["End",null,"Shots",null,"Total",null,"Shots",null,"Total",{"$nulls":4},"Shots",null,"Total",null,"Shots",null,"Total"]
[1]
[2]
[3]
[4]
[5]
[6]
[7]
[8]
[9]
[null,null,"Tie Break Set (if needed)"]
["End",null,"Shots",null,"Total",null,"Shots",null,"Total",null,null,"End",null,"Shots",null,"Total",null,"Shots",null,"Total"]
[1,{"$nulls":10},3]
[2,{"$nulls":10},4]
[]
["Team",{"$nulls":3},{"$f":"C78","v":0},null,"points",{"$nulls":5},"Team",{"$nulls":3},{"$f":"G78","v":0},null,"points"]
[]
[]
[{"$f":"$A$1","v":0}]
["ROUND  1"]
[null,null,"TEAM NUMBER",{"$nulls":3},{"$f":"DRAW!$C$9","v":0},{"$nulls":6},"RINK NUMBER",{"$nulls":3},{"$f":"DRAW!$F$9","v":0}]
[]
[null,null,"First Set",{"$nulls":10},"Second Set"]
[null,null,{"$f":"G99","v":0},{"$nulls":3},{"$f":"DRAW!$G$9","v":0},{"$nulls":6},{"$f":"G99","v":0},{"$nulls":3},{"$f":"DRAW!$G$9","v":0}]
["End",null,"Shots",null,"Total",null,"Shots",null,"Total",{"$nulls":4},"Shots",null,"Total",null,"Shots",null,"Total"]
[1]
[2]
[3]
[4]
[5]
[6]
[7]
[8]
[9]
[null,null,"Tie Break Set (if needed)"]
["End",null,"Shots",null,"Total",null,"Shots",null,"Total",null,null,"End",null,"Shots",null,"Total",null,"Shots",null,"Total"]
[1,{"$nulls":10},3]
[2,{"$nulls":10},4]
[]
["Team",{"$nulls":3},{"$f":"C102","v":0},null,"points",{"$nulls":5},"Team",{"$nulls":3},{"$f":"G102","v":0},null,"points"]
[]
[]
[{"$f":"$A$1","v":0}]
["ROUND  1"]
[null,null,"TEAM NUMBER",{"$nulls":3},{"$f":"DRAW!$C$10","v":0},{"$nulls":6},"RINK NUMBER",{"$nulls":3},{"$f":"DRAW!$F$10","v":0}]
[]
[null,null,"First Set",{"$nulls":10},"Second Set"]
[null,null,{"$f":"G123","v":0},{"$nulls":3},{"$f":"DRAW!$G$10","v":0},{"$nulls":6},{"$f":"G123","v":0},{"$nulls":3},{"$f":"DRAW!$G$10","v":0}]
["End",null,"Shots",null,"Total",null,"Shots",null,"Total",{"$nulls":4},"Shots",null,"Total",null,"Shots",null,"Total"]
[1]
[2]
[3]
[4]
[5]
[6]
[7]
[8]
[9]
[null,null,"Tie Break Set (if needed)"]
["End",null,"Shots",null,"Total",null,"Shots",null,"Total",null,null,"End",null,"Shots",null,"Total",null,"Shots",null,"Total"]
[1,{"$nulls":10},3]
[2,{"$nulls":10},4]
[]
["Team",{"$nulls":3},{"$f":"C126","v":0},null,"points",{"$nulls":5},"Team",{"$nulls":3},{"$f":"G126","v":0},null,"points"]
[]
[]
[{"$f":"$A$1","v":0}]
["ROUND  1"]
[null,null,"TEAM NUMBER",{"$nulls":3},{"$f":"DRAW!$C$11","v":0},{"$nulls":6},"RINK NUMBER",{"$nulls":3},{"$f":"DRAW!$F$11","v":0}]
[]
[null,null,"First Set",{"$nulls":10},"Second Set"]
[null,null,{"$f":"G147","v":0},{"$nulls":3},{"$f":"DRAW!$G$11","v":0},{"$nulls":6},{"$f":"G147","v":0},{"$nulls":3},{"$f":"DRAW!$G$11","v":0}]
["End",null,"Shots",null,"Total",null,"Shots",null,"Total",{"$nulls":4},"Shots",null,"Total",null,"Shots",null,"Total"]
[1]
[2]
[3]
[4]
[5]
[6]
[7]
[8]
[9]
[null,null,"Tie Break Set (if needed)"]
["End",null,"Shots",null,"Total",null,"Shots",null,"Total",null,null,"End",null,"Shots",null,"Total",null,"Shots",null,"Total"]
[1,{"$nulls":10},3]
[2,{"$nulls":10},4]
[]
["Team",{"$nulls":3},{"$f":"C150","v":0},null,"points",{"$nulls":5},"Team",{"$nulls":3},{"$f":"G150","v":0},null,"points"]
[]
[]
[{"$f":"$A$1","v":0}]
["ROUND  1"]
[null,null,"TEAM NUMBER",{"$nulls":3},{"$f":"DRAW!$C$12","v":0},{"$nulls":6},"RINK NUMBER",{"$nulls":3},{"$f":"DRAW!$F$12","v":0}]
[]
[null,null,"First Set",{"$nulls":10},"Second Set"]
[null,null,{"$f":"G171","v":0},{"$nulls":3},{"$f":"DRAW!$G$12","v":0},{"$nulls":6},{"$f":"G171","v":0},{"$nulls":3},{"$f":"DRAW!$G$12","v":0}]
["End",null,"Shots",null,"Total",null,"Shots",null,"Total",{"$nulls":4},"Shots",null,"Total",null,"Shots",null,"Total"]
[1]
[2]
[3]
[4]
[5]
[6]
[7]
[8]
[9]
[null,null,"Tie Break Set (if needed)"]
["End",null,"Shots",null,"Total",null,"Shots",null,"Total",null,null,"End",null,"Shots",null,"Total",null,"Shots",null,"Total"]
[1,{"$nulls":10},3]
[2,{"$nulls":10},4]
[]
["Team",{"$nulls":3},{"$f":"C174","v":0},null,"points",{"$nulls":5},"Team",{"$nulls":3},{"$f":"G174","v":0},null,"points"]
[]
[]
[{"$f":"$A$1","v":0}]
["ROUND  1"]
[null,null,"TEAM NUMBER",{"$nulls":3},{"$f":"DRAW!$C$13","v":0},{"$nulls":6},"RINK NUMBER",{"$nulls":3},{"$f":"DRAW!$F$13","v":0}]
[]
[null,null,"First Set",{"$nulls":10},"Second Set"]
[null,null,{"$f":"G195","v":0},{"$nulls":3},{"$f":"DRAW!$G$13","v":0},{"$nulls":6},{"$f":"G195","v":0},{"$nulls":3},{"$f":"DRAW!$G$13","v":0}]
["End",null,"Shots",null,"Total",null,"Shots",null,"Total",{"$nulls":4},"Shots",null,"Total",null,"Shots",null,"Total"]
[1]
[2]
[3]
[4]
[5]
[6]
[7]
[8]
[9]
[null,null,"Tie Break Set (if needed)"]
["End",null,"Shots",null,"Total",null,"Shots",null,"Total",null,null,"End",null,"Shots",null,"Total",null,"Shots",null,"Total"]
[1,{"$nulls":10},3]
[2,{"$nulls":10},4]
[]
["Team",{"$nulls":3},{"$f":"C198","v":0},null,"points",{"$nulls":5},"Team",{"$nulls":3},{"$f":"G198","v":0},null,"points"]
[]
[]
[{"$f":"$A$1","v":0}]
["ROUND  1"]
[null,null,"TEAM NUMBER",{"$nulls":3},{"$f":"DRAW!$C$14","v":0},{"$nulls":6},"RINK NUMBER",{"$nulls":3},{"$f":"DRAW!$F$14","v":0}]
[]
[null,null,"First Set",{"$nulls":10},"Second Set"]
[null,null,{"$f":"G219","v":0},{"$nulls":3},{"$f":"DRAW!$G$14","v":0},{"$nulls":6},{"$f":"G219","v":0},{"$nulls":3},{"$f":"DRAW!$G$14","v":0}]
["End",null,"Shots",null,"Total",null,"Shots",null,"Total",{"$nulls":4},"Shots",null,"Total",null,"Shots",null,"Total"]
[1]
[2]
[3]
[4]
[5]
[6]
[7]
[8]
[9]
[null,null,"Tie Break Set (if needed)"]
["End",null,"Shots",null,"Total",null,"Shots",null,"Total",null,null,"End",null,"Shots",null,"Total",null,"Shots",null,"Total"]
[1,{"$nulls":10},3]
[2,{"$nulls":10},4]
[]
["Team",{"$nulls":3},{"$f":"C222","v":0},null,"points",{"$nulls":5},"Team",{"$nulls":3},{"$f":"G222","v":0},null,"points"]
[]
[]
[{"$f":"$A$1","v":0}]
["ROUND  1"]
[null,null,"TEAM NUMBER",{"$nulls":3},{"$f":"DRAW!$C$15","v":0},{"$nulls":6},"RINK NUMBER",{"$nulls":3},{"$f":"DRAW!$F$15","v":0}]
[]
[null,null,"First Set",{"$nulls":10},"Second Set"]
[null,null,{"$f":"G243","v":0},{"$nulls":3},{"$f":"DRAW!$G$15","v":0},{"$nulls":6},{"$f":"G243","v":0},{"$nulls":3},{"$f":"DRAW!$G$15","v":0}]
["End",null,"Shots",null,"Total",null,"Shots",null,"Total",{"$nulls":4},"Shots",null,"Total",null,"Shots",null,"Total"]
[1]
[2]
[3]
[4]
[5]
[6]
[7]
[8]
[9]
[null,null,"Tie Break Set (if needed)"]
["End",null,"Shots",null,"Total",null,"Shots",null,"Total",null,null,"End",null,"Shots",null,"Total",null,"Shots",null,"Total"]
[1,{"$nulls":10},3]
[2,{"$nulls":10},4]
[]
["Team",{"$nulls":3},{"$f":"C246","v":0},null,"points",{"$nulls":5},"Team",{"$nulls":3},{"$f":"G246","v":0},null,"points"]
[]
[]
[{"$f":"$A$1","v":0}]
["ROUND  1"]
[null,null,"TEAM NUMBER",{"$nulls":3},{"$f":"DRAW!$C$16","v":0},{"$nulls":6},"RINK NUMBER",{"$nulls":3},{"$f":"DRAW!$F$16","v":0}]
[]
[null,null,"First Set",{"$nulls":10},"Second Set"]
[null,null,{"$f":"G267","v":0},{"$nulls":3},{"$f":"DRAW!$G$16","v":0},{"$nulls":6},{"$f":"G267","v":0},{"$nulls":3},{"$f":"DRAW!$G$16","v":0}]
["End",null,"Shots",null,"Total",null,"Shots",null,"Total",{"$nulls":4},"Shots",null,"Total",null,"Shots",null,"Total"]
[1]
[2]
[3]
[4]
[5]
[6]
[7]
[8]
[9]
[null,null,"Tie Break Set (if needed)"]
["End",null,"Shots",null,"Total",null,"Shots",null,"Total",null,null,"End",null,"Shots",null,"Total",null,"Shots",null,"Total"]
[1,{"$nulls":10},3]
[2,{"$nulls":10},4]
[]
["Team",{"$nulls":3},{"$f":"C270","v":0},null,"points",{"$nulls":5},"Team",{"$nulls":3},{"$f":"G270","v":0},null,"points"]
[]
[]
[{"$f":"$A$1","v":0}]
["ROUND  1"]
[null,null,"TEAM NUMBER",{"$nulls":3},{"$f":"DRAW!$C$17","v":0},{"$nulls":6},"RINK NUMBER",{"$nulls":3},{"$f":"DRAW!$F$17","v":0}]
[]
[null,null,"First Set",{"$nulls":10},"Second Set"]
[null,null,{"$f":"G291","v":0},{"$nulls":3},{"$f":"DRAW!$G$17","v":0},{"$nulls":6},{"$f":"G291","v":0},{"$nulls":3},{"$f":"DRAW!$G$17","v":0}]
["End",null,"Shots",null,"Total",null,"Shots",null,"Total",{"$nulls":4},"Shots",null,"Total",null,"Shots",null,"Total"]
[1]
[2]
[3]
[4]
[5]
[6]
[7]
[8]
[9]
[null,null,"Tie Break Set (if needed)"]
["End",null,"Shots",null,"Total",null,"Shots",null,"Total",null,null,"End",null,"Shots",null,"Total",null,"Shots",null,"Total"]
[1,{"$nulls":10},3]
[2,{"$nulls":10},4]
[]
["Team",{"$nulls":3},{"$f":"C294","v":0},null,"points",{"$nulls":5},"Team",{"$nulls":3},{"$f":"G294","v":0},null,"points"]
[]
[]
[{"$f":"$A$1","v":0}]
["ROUND  1"]
[null,null,"TEAM NUMBER",{"$nulls":3},{"$f":"DRAW!$C$18","v":0},{"$nulls":6},"RINK NUMBER",{"$nulls":3},{"$f":"DRAW!$F$18","v":0}]
[]
[null,null,"First Set",{"$nulls":10},"Second Set"]
[null,null,{"$f":"G315","v":0},{"$nulls":3},{"$f":"DRAW!$G$18","v":0},{"$nulls":6},{"$f":"G315","v":0},{"$nulls":3},{"$f":"DRAW!$G$18","v":0}]
["End",null,"Shots",null,"Total",null,"Shots",null,"Total",{"$nulls":4},"Shots",null,"Total",null,"Shots",null,"Total"]
[1]
[2]
[3]
[4]
[5]
[6]
[7]
[8]
[9]
[null,null,"Tie Break Set (if needed)"]
["End",null,"Shots",null,"Total",null,"Shots",null,"Total",null,null,"End",null,"Shots",null,"Total",null,"Shots",null,"Total"]
[1,{"$nulls":10},3]
[2,{"$nulls":10},4]
[]
["Team",{"$nulls":3},{"$f":"C318","v":0},null,"points",{"$nulls":5},"Team",{"$nulls":3},{"$f":"G318","v":0},null,"points"]
[]
[]
[{"$f":"$A$1","v":0}]
["ROUND  1"]
[null,null,"TEAM NUMBER",{"$nulls":3},{"$f":"DRAW!$C$19","v":0},{"$nulls":6},"RINK NUMBER",{"$nulls":3},{"$f":"DRAW!$F$19","v":0}]
[]
[null,null,"First Set",{"$nulls":10},"Second Set"]
[null,null,{"$f":"G339","v":0},{"$nulls":3},{"$f":"DRAW!$G$19","v":0},{"$nulls":6},{"$f":"G339","v":0},{"$nulls":3},{"$f":"DRAW!$G$19","v":0}]
["End",null,"Shots",null,"Total",null,"Shots",null,"Total",{"$nulls":4},"Shots",null,"Total",null,"Shots",null,"Total"]
[1]
[2]
[3]
[4]
[5]
[6]
[7]
[8]
[9]
[null,null,"Tie Break Set (if needed)"]
["End",null,"Shots",null,"Total",null,"Shots",null,"Total",null,null,"End",null,"Shots",null,"Total",null,"Shots",null,"Total"]
[1,{"$nulls":10},3]
[2,{"$nulls":10},4]
[]
["Team",{"$nulls":3},{"$f":"C342","v":0},null,"points",{"$nulls":5},"Team",{"$nulls":3},{"$f":"G342","v":0},null,"points"]
[]
[]
[{"$f":"$A$1","v":0}]
["ROUND  1"]
[null,null,"TEAM NUMBER",{"$nulls":3},{"$f":"DRAW!$C$20","v":0},{"$nulls":6},"RINK NUMBER",{"$nulls":3},{"$f":"DRAW!$F$20","v":0}]
[]
[null,null,"First Set",{"$nulls":10},"Second Set"]
[null,null,{"$f":"G363","v":0},{"$nulls":3},{"$f":"DRAW!$G$20","v":0},{"$nulls":6},{"$f":"G363","v":0},{"$nulls":3},{"$f":"DRAW!$G$20","v":0}]
["End",null,"Shots",null,"Total",null,"Shots",null,"Total",{"$nulls":4},"Shots",null,"Total",null,"Shots",null,"Total"]
[1]
[2]
[3]
[4]
[5]
[6]
[7]
[8]
[9]
[null,null,"Tie Break Set (if needed)"]
["End",null,"Shots",null,"Total",null,"Shots",null,"Total",null,null,"End",null,"Shots",null,"Total",null,"Shots",null,"Total"]
[1,{"$nulls":10},3]
[2,{"$nulls":10},4]
[]
["Team",{"$nulls":3},{"$f":"C366","v":0},null,"points",{"$nulls":5},"Team",{"$nulls":3},{"$f":"G366","v":0},null,"points"]
[]
[]
[{"$f":"$A$1","v":0}]
["ROUND  1"]
[null,null,"TEAM NUMBER",{"$nulls":3},{"$f":"DRAW!$C$21","v":0},{"$nulls":6},"RINK NUMBER",{"$nulls":3},{"$f":"DRAW!$F$21","v":0}]
[]
[null,null,"First Set",{"$nulls":10},"Second Set"]
[null,null,{"$f":"G387","v":0},{"$nulls":3},{"$f":"DRAW!$G$21","v":0},{"$nulls":6},{"$f":"G387","v":0},{"$nulls":3},{"$f":"DRAW!$G$21","v":0}]
["End",null,"Shots",null,"Total",null,"Shots",null,"Total",{"$nulls":4},"Shots",null,"Total",null,"Shots",null,"Total"]
[1]
[2]
[3]
[4]
[5]
[6]
[7]
[8]
[9]
[null,null,"Tie Break Set (if needed)"]
["End",null,"Shots",null,"Total",null,"Shots",null,"Total",null,null,"End",null,"Shots",null,"Total",null,"Shots",null,"Total"]
[1,{"$nulls":10},3]
[2,{"$nulls":10},4]
[]
["Team",{"$nulls":3},{"$f":"C390","v":0},null,"points",{"$nulls":5},"Team",{"$nulls":3},{"$f":"G390","v":0},null,"points"]
[]
[]
[{"$f":"$A$1","v":0}]
["ROUND  1"]
[null,null,"TEAM NUMBER",{"$nulls":3},{"$f":"DRAW!$C$22","v":0},{"$nulls":6},"RINK NUMBER",{"$nulls":3},{"$f":"DRAW!$F$22","v":0}]
[]
[null,null,"First Set",{"$nulls":10},"Second Set"]
[null,null,{"$f":"G411","v":0},{"$nulls":3},{"$f":"DRAW!$G$22","v":0},{"$nulls":6},{"$f":"G411","v":0},{"$nulls":3},{"$f":"DRAW!$G$22","v":0}]
["End",null,"Shots",null,"Total",null,"Shots",null,"Total",{"$nulls":4},"Shots",null,"Total",null,"Shots",null,"Total"]
[1]
[2]
[3]
[4]
[5]
[6]
[7]
[8]
[9]
[null,null,"Tie Break Set (if needed)"]
["End",null,"Shots",null,"Total",null,"Shots",null,"Total",null,null,"End",null,"Shots",null,"Total",null,"Shots",null,"Total"]
[1,{"$nulls":10},3]
[2,{"$nulls":10},4]
[]
["Team",{"$nulls":3},{"$f":"C414","v":0},null,"points",{"$nulls":5},"Team",{"$nulls":3},{"$f":"G414","v":0},null,"points"]
[]
[]
[{"$f":"$A$1","v":0}]
["ROUND  1"]
[null,null,"TEAM NUMBER",{"$nulls":3},{"$f":"DRAW!$C$23","v":0},{"$nulls":6},"RINK NUMBER",{"$nulls":3},{"$f":"DRAW!$F$23","v":0}]
[]
[null,null,"First Set",{"$nulls":10},"Second Set"]
[null,null,{"$f":"G435","v":0},{"$nulls":3},{"$f":"DRAW!$G$23","v":0},{"$nulls":6},{"$f":"G435","v":0},{"$nulls":3},{"$f":"DRAW!$G$23","v":0}]
["End",null,"Shots",null,"Total",null,"Shots",null,"Total",{"$nulls":4},"Shots",null,"Total",null,"Shots",null,"Total"]
[1]
[2]
[3]
[4]
[5]
[6]
[7]
[8]
[9]
[null,null,"Tie Break Set (if needed)"]
["End",null,"Shots",null,"Total",null,"Shots",null,"Total",null,null,"End",null,"Shots",null,"Total",null,"Shots",null,"Total"]
[1,{"$nulls":10},3]
[2,{"$nulls":10},4]
[]
["Team",{"$nulls":3},{"$f":"C438","v":0},null,"points",{"$nulls":5},"Team",{"$nulls":3},{"$f":"G438","v":0},null,"points"]
[]
[]
[{"$f":"$A$1","v":0}]
["ROUND  1"]
[null,null,"TEAM NUMBER",{"$nulls":3},{"$f":"DRAW!$C$24","v":0},{"$nulls":6},"RINK NUMBER",{"$nulls":3},{"$f":"DRAW!$F$24","v":0}]
[]
[null,null,"First Set",{"$nulls":10},"Second Set"]
[null,null,{"$f":"G459","v":0},{"$nulls":3},{"$f":"DRAW!$G$24","v":0},{"$nulls":6},{"$f":"G459","v":0},{"$nulls":3},{"$f":"DRAW!$G$24","v":0}]
["End",null,"Shots",null,"Total",null,"Shots",null,"Total",{"$nulls":4},"Shots",null,"Total",null,"Shots",null,"Total"]
[1]
[2]
[3]
[4]
[5]
[6]
[7]
[8]
[9]
[null,null,"Tie Break Set (if needed)"]
["End",null,"Shots",null,"Total",null,"Shots",null,"Total",null,null,"End",null,"Shots",null,"Total",null,"Shots",null,"Total"]
[1,{"$nulls":10},3]
[2,{"$nulls":10},4]
[]
["Team",{"$nulls":3},{"$f":"C462","v":0},null,"points",{"$nulls":5},"Team",{"$nulls":3},{"$f":"G462","v":0},null,"points"]
[]
[]
[{"$f":"$A$1","v":0}]
["ROUND  1"]
[null,null,"TEAM NUMBER",{"$nulls":3},{"$f":"DRAW!$C$25","v":0},{"$nulls":6},"RINK NUMBER",{"$nulls":3},{"$f":"DRAW!$F$25","v":0}]
[]
[null,null,"First Set",{"$nulls":10},"Second Set"]
[null,null,{"$f":"G483","v":0},{"$nulls":3},{"$f":"DRAW!$G$25","v":0},{"$nulls":6},{"$f":"G483","v":0},{"$nulls":3},{"$f":"DRAW!$G$25","v":0}]
["End",null,"Shots",null,"Total",null,"Shots",null,"Total",{"$nulls":4},"Shots",null,"Total",null,"Shots",null,"Total"]
[1]
[2]
[3]
[4]
[5]
[6]
[7]
[8]
[9]
[null,null,"Tie Break Set (if needed)"]
["End",null,"Shots",null,"Total",null,"Shots",null,"Total",null,null,"End",null,"Shots",null,"Total",null,"Shots",null,"Total"]
[1,{"$nulls":10},3]
[2,{"$nulls":10},4]
[]
["Team",{"$nulls":3},{"$f":"C486","v":0},null,"points",{"$nulls":5},"Team",{"$nulls":3},{"$f":"G486","v":0},null,"points"]
[]
[]
[{"$f":"$A$1","v":0}]
["ROUND  1"]
[null,null,"TEAM NUMBER",{"$nulls":3},{"$f":"DRAW!$C$26","v":0},{"$nulls":6},"RINK NUMBER",{"$nulls":3},{"$f":"DRAW!$F$26","v":0}]
[]
[null,null,"First Set",{"$nulls":10},"Second Set"]
[null,null,{"$f":"G507","v":0},{"$nulls":3},{"$f":"DRAW!$G$26","v":0},{"$nulls":6},{"$f":"G507","v":0},{"$nulls":3},{"$f":"DRAW!$G$26","v":0}]
["End",null,"Shots",null,"Total",null,"Shots",null,"Total",{"$nulls":4},"Shots",null,"Total",null,"Shots",null,"Total"]
[1]
[2]
[3]
[4]
[5]
[6]
[7]
[8]
[9]
[null,null,"Tie Break Set (if needed)"]
["End",null,"Shots",null,"Total",null,"Shots",null,"Total",null,null,"End",null,"Shots",null,"Total",null,"Shots",null,"Total"]
[1,{"$nulls":10},3]
[2,{"$nulls":10},4]
[]
["Team",{"$nulls":3},{"$f":"C510","v":0},null,"points",{"$nulls":5},"Team",{"$nulls":3},{"$f":"G510","v":0},null,"points"]
[]
[]
[{"$f":"$A$1","v":0}]
["ROUND  1"]
[null,null,"TEAM NUMBER",{"$nulls":3},{"$f":"DRAW!$C$27","v":0},{"$nulls":6},"RINK NUMBER",{"$nulls":3},{"$f":"DRAW!$F$27","v":0}]
[]
[null,null,"First Set",{"$nulls":10},"Second Set"]
[null,null,{"$f":"G531","v":0},{"$nulls":3},{"$f":"DRAW!$G$27","v":0},{"$nulls":6},{"$f":"G531","v":0},{"$nulls":3},{"$f":"DRAW!$G$27","v":0}]
["End",null,"Shots",null,"Total",null,"Shots",null,"Total",{"$nulls":4},"Shots",null,"Total",null,"Shots",null,"Total"]
[1]
[2]
[3]
[4]
[5]
[6]
[7]
[8]
[9]
[null,null,"Tie Break Set (if needed)"]
["End",null,"Shots",null,"Total",null,"Shots",null,"Total",null,null,"End",null,"Shots",null,"Total",null,"Shots",null,"Total"]
[1,{"$nulls":10},3]
[2,{"$nulls":10},4]
[]
["Team",{"$nulls":3},{"$f":"C534","v":0},null,"points",{"$nulls":5},"Team",{"$nulls":3},{"$f":"G534","v":0},null,"points"]
[]
[]
[{"$f":"$A$1","v":0}]
["ROUND  1"]
[null,null,"TEAM NUMBER",{"$nulls":3},{"$f":"DRAW!$C$28","v":0},{"$nulls":6},"RINK NUMBER",{"$nulls":3},{"$f":"DRAW!$F$28","v":0}]
[]
[null,null,"First Set",{"$nulls":10},"Second Set"]
[null,null,{"$f":"G555","v":0},{"$nulls":3},{"$f":"DRAW!$G$28","v":0},{"$nulls":6},{"$f":"G555","v":0},{"$nulls":3},{"$f":"DRAW!$G$28","v":0}]
["End",null,"Shots",null,"Total",null,"Shots",null,"Total",{"$nulls":4},"Shots",null,"Total",null,"Shots",null,"Total"]
[1]
[2]
[3]
[4]
[5]
[6]
[7]
[8]
[9]
[null,null,"Tie Break Set (if needed)"]
["End",null,"Shots",null,"Total",null,"Shots",null,"Total",null,null,"End",null,"Shots",null,"Total",null,"Shots",null,"Total"]
[1,{"$nulls":10},3]
[2,{"$nulls":10},4]
[]
["Team",{"$nulls":3},{"$f":"C558","v":0},null,"points",{"$nulls":5},"Team",{"$nulls":3},{"$f":"G558","v":0},null,"points"]
[]
[]
[{"$f":"$A$1","v":0}]
["ROUND  1"]
[null,null,"TEAM NUMBER",{"$nulls":3},{"$f":"DRAW!$C$29","v":0},{"$nulls":6},"RINK NUMBER",{"$nulls":3},{"$f":"DRAW!$F$29","v":0}]
[]
[null,null,"First Set",{"$nulls":10},"Second Set"]
[null,null,{"$f":"G579","v":0},{"$nulls":3},{"$f":"DRAW!$G$29","v":0},{"$nulls":6},{"$f":"G579","v":0},{"$nulls":3},{"$f":"DRAW!$G$29","v":0}]
["End",null,"Shots",null,"Total",null,"Shots",null,"Total",{"$nulls":4},"Shots",null,"Total",null,"Shots",null,"Total"]
[1]
[2]
[3]
[4]
[5]
[6]
[7]
[8]
[9]
[null,null,"Tie Break Set (if needed)"]
["End",null,"Shots",null,"Total",null,"Shots",null,"Total",null,null,"End",null,"Shots",null,"Total",null,"Shots",null,"Total"]
[1,{"$nulls":10},3]
[2,{"$nulls":10},4]
[]
["Team",{"$nulls":3},{"$f":"C582","v":0},null,"points",{"$nulls":5},"Team",{"$nulls":3},{"$f":"G582","v":0},null,"points"]
[]
[]
[{"$f":"$A$1","v":0}]
["ROUND  1"]
[null,null,"TEAM NUMBER",{"$nulls":3},{"$f":"DRAW!$C$30","v":0},{"$nulls":6},"RINK NUMBER",{"$nulls":3},{"$f":"DRAW!$F$30","v":0}]
[]
[null,null,"First Set",{"$nulls":10},"Second Set"]
[null,null,{"$f":"G603","v":0},{"$nulls":3},{"$f":"DRAW!$G$30","v":0},{"$nulls":6},{"$f":"G603","v":0},{"$nulls":3},{"$f":"DRAW!$G$30","v":0}]
["End",null,"Shots",null,"Total",null,"Shots",null,"Total",{"$nulls":4},"Shots",null,"Total",null,"Shots",null,"Total"]
[1]
[2]
[3]
[4]
[5]
[6]
[7]
[8]
[9]
[null,null,"Tie Break Set (if needed)"]
["End",null,"Shots",null,"Total",null,"Shots",null,"Total",null,null,"End",null,"Shots",null,"Total",null,"Shots",null,"Total"]
[1,{"$nulls":10},3]
[2,{"$nulls":10},4]
[]
["Team",{"$nulls":3},{"$f":"C606","v":0},null,"points",{"$nulls":5},"Team",{"$nulls":3},{"$f":"G606","v":0},null,"points"]
[]
[]
[{"$f":"$A$1","v":0}]
["ROUND  1"]
[null,null,"TEAM NUMBER",{"$nulls":3},{"$f":"DRAW!$C$31","v":0},{"$nulls":6},"RINK NUMBER",{"$nulls":3},{"$f":"DRAW!$F$31","v":0}]
[]
[null,null,"First Set",{"$nulls":10},"Second Set"]
[null,null,{"$f":"G627","v":0},{"$nulls":3},{"$f":"DRAW!$G$31","v":0},{"$nulls":6},{"$f":"G627","v":0},{"$nulls":3},{"$f":"DRAW!$G$31","v":0}]
["End",null,"Shots",null,"Total",null,"Shots",null,"Total",{"$nulls":4},"Shots",null,"Total",null,"Shots",null,"Total"]
[1]
[2]
[3]
[4]
[5]
[6]
[7]
[8]
[9]
[null,null,"Tie Break Set (if needed)"]
["End",null,"Shots",null,"Total",null,"Shots",null,"Total",null,null,"End",null,"Shots",null,"Total",null,"Shots",null,"Total"]
[1,{"$nulls":10},3]
[2,{"$nulls":10},4]
[]
["Team",{"$nulls":3},{"$f":"C630","v":0},null,"points",{"$nulls":5},"Team",{"$nulls":3},{"$f":"G630","v":0},null,"points"]
[]
[]
[{"$f":"$A$1","v":0}]
["ROUND  1"]
[null,null,"TEAM NUMBER",{"$nulls":3},{"$f":"DRAW!$C$32","v":0},{"$nulls":6},"RINK NUMBER",{"$nulls":3},{"$f":"DRAW!$F$32","v":0}]
[]
[null,null,"First Set",{"$nulls":10},"Second Set"]
[null,null,{"$f":"G651","v":0},{"$nulls":3},{"$f":"DRAW!$G$32","v":0},{"$nulls":6},{"$f":"G651","v":0},{"$nulls":3},{"$f":"DRAW!$G$32","v":0}]
["End",null,"Shots",null,"Total",null,"Shots",null,"Total",{"$nulls":4},"Shots",null,"Total",null,"Shots",null,"Total"]
[1]
[2]
[3]
[4]
[5]
[6]
[7]
[8]
[9]
[null,null,"Tie Break Set (if needed)"]
["End",null,"Shots",null,"Total",null,"Shots",null,"Total",null,null,"End",null,"Shots",null,"Total",null,"Shots",null,"Total"]
[1,{"$nulls":10},3]
[2,{"$nulls":10},4]
[]
["Team",{"$nulls":3},{"$f":"C654","v":0},null,"points",{"$nulls":5},"Team",{"$nulls":3},{"$f":"G654","v":0},null,"points"]
[]
[]
[{"$f":"$A$1","v":0}]
["ROUND  1"]
[null,null,"TEAM NUMBER",{"$nulls":3},{"$f":"DRAW!$C$33","v":0},{"$nulls":6},"RINK NUMBER",{"$nulls":3},{"$f":"DRAW!$F$33","v":0}]
[]
[null,null,"First Set",{"$nulls":10},"Second Set"]
[null,null,{"$f":"G675","v":0},{"$nulls":3},{"$f":"DRAW!$G$33","v":0},{"$nulls":6},{"$f":"G675","v":0},{"$nulls":3},{"$f":"DRAW!$G$33","v":0}]
["End",null,"Shots",null,"Total",null,"Shots",null,"Total",{"$nulls":4},"Shots",null,"Total",null,"Shots",null,"Total"]
[1]
[2]
[3]
[4]
[5]
[6]
[7]
[8]
[9]
[null,null,"Tie Break Set (if needed)"]
["End",null,"Shots",null,"Total",null,"Shots",null,"Total",null,null,"End",null,"Shots",null,"Total",null,"Shots",null,"Total"]
[1,{"$nulls":10},3]
[2,{"$nulls":10},4]
[]
["Team",{"$nulls":3},{"$f":"C678","v":0},null,"points",{"$nulls":5},"Team",{"$nulls":3},{"$f":"G678","v":0},null,"points"]
[]
[]
[{"$f":"$A$1","v":0}]
["ROUND  1"]
[null,null,"TEAM NUMBER",{"$nulls":3},{"$f":"DRAW!$C$34","v":0},{"$nulls":6},"RINK NUMBER",{"$nulls":3},{"$f":"DRAW!$F$34","v":0}]
[]
[null,null,"First Set",{"$nulls":10},"Second Set"]
[null,null,{"$f":"G699","v":0},{"$nulls":3},{"$f":"DRAW!$G$34","v":0},{"$nulls":6},{"$f":"G699","v":0},{"$nulls":3},{"$f":"DRAW!$G$34","v":0}]
["End",null,"Shots",null,"Total",null,"Shots",null,"Total",{"$nulls":4},"Shots",null,"Total",null,"Shots",null,"Total"]
[1]
[2]
[3]
[4]
[5]
[6]
[7]
[8]
[9]
[null,null,"Tie Break Set (if needed)"]
["End",null,"Shots",null,"Total",null,"Shots",null,"Total",null,null,"End",null,"Shots",null,"Total",null,"Shots",null,"Total"]
[1,{"$nulls":10},3]
[2,{"$nulls":10},4]
[]
["Team",{"$nulls":3},{"$f":"C702","v":0},null,"points",{"$nulls":5},"Team",{"$nulls":3},{"$f":"G702","v":0},null,"points"]
[]
[]
[{"$f":"$A$1","v":0}]
["ROUND  1"]
[null,null,"TEAM NUMBER",{"$nulls":3},{"$f":"DRAW!$C$35","v":0},{"$nulls":6},"RINK NUMBER",{"$nulls":3},{"$f":"DRAW!$F$35","v":0}]
[]
[null,null,"First Set",{"$nulls":10},"Second Set"]
[null,null,{"$f":"G723","v":0},{"$nulls":3},{"$f":"DRAW!$G$35","v":0},{"$nulls":6},{"$f":"G723","v":0},{"$nulls":3},{"$f":"DRAW!$G$35","v":0}]
["End",null,"Shots",null,"Total",null,"Shots",null,"Total",{"$nulls":4},"Shots",null,"Total",null,"Shots",null,"Total"]
[1]
[2]
[3]
[4]
[5]
[6]
[7]
[8]
[9]
[null,null,"Tie Break Set (if needed)"]
["End",null,"Shots",null,"Total",null,"Shots",null,"Total",null,null,"End",null,"Shots",null,"Total",null,"Shots",null,"Total"]
[1,{"$nulls":10},3]
[2,{"$nulls":10},4]
[]
["Team",{"$nulls":3},{"$f":"C726","v":0},null,"points",{"$nulls":5},"Team",{"$nulls":3},{"$f":"G726","v":0},null,"points"]
[]
[]
[{"$f":"$A$1","v":0}]
["ROUND  1"]
[null,null,"TEAM NUMBER",{"$nulls":3},{"$f":"DRAW!$C$36","v":0},{"$nulls":6},"RINK NUMBER",{"$nulls":3},{"$f":"DRAW!$F$36","v":0}]
[]
[null,null,"First Set",{"$nulls":10},"Second Set"]
[null,null,{"$f":"G747","v":0},{"$nulls":3},{"$f":"DRAW!$G$36","v":0},{"$nulls":6},{"$f":"G747","v":0},{"$nulls":3},{"$f":"DRAW!$G$36","v":0}]
["End",null,"Shots",null,"Total",null,"Shots",null,"Total",{"$nulls":4},"Shots",null,"Total",null,"Shots",null,"Total"]
[1]
[2]
[3]
[4]
[5]
[6]
[7]
[8]
[9]
[null,null,"Tie Break Set (if needed)"]
["End",null,"Shots",null,"Total",null,"Shots",null,"Total",null,null,"End",null,"Shots",null,"Total",null,"Shots",null,"Total"]
[1,{"$nulls":10},3]
[2,{"$nulls":10},4]
[]
["Team",{"$nulls":3},{"$f":"C750","v":0},null,"points",{"$nulls":5},"Team",{"$nulls":3},{"$f":"G750","v":0},null,"points"]
[]
[]
[{"$f":"$A$1","v":0}]
["ROUND  1"]
[null,null,"TEAM NUMBER",{"$nulls":3},{"$f":"DRAW!$C$37","v":0},{"$nulls":6},"RINK NUMBER",{"$nulls":3},{"$f":"DRAW!$F$37","v":0}]
[]
[null,null,"First Set",{"$nulls":10},"Second Set"]
[null,null,{"$f":"G771","v":0},{"$nulls":3},{"$f":"DRAW!$G$37","v":0},{"$nulls":6},{"$f":"G771","v":0},{"$nulls":3},{"$f":"DRAW!$G$37","v":0}]
["End",null,"Shots",null,"Total",null,"Shots",null,"Total",{"$nulls":4},"Shots",null,"Total",null,"Shots",null,"Total"]
[1]
[2]
[3]
[4]
[5]
[6]
[7]
[8]
[9]
[null,null,"Tie Break Set (if needed)"]
["End",null,"Shots",null,"Total",null,"Shots",null,"Total",null,null,"End",null,"Shots",null,"Total",null,"Shots",null,"Total"]
[1,{"$nulls":10},3]
[2,{"$nulls":10},4]
[]
["Team",{"$nulls":3},{"$f":"C774","v":0},null,"points",{"$nulls":5},"Team",{"$nulls":3},{"$f":"G774","v":0},null,"points"]
[]
[]
[{"$f":"$A$1","v":0}]
["ROUND  1"]
[null,null,"TEAM NUMBER",{"$nulls":3},{"$f":"DRAW!$C$38","v":0},{"$nulls":6},"RINK NUMBER",{"$nulls":3},{"$f":"DRAW!$F$38","v":0}]
[]
[null,null,"First Set",{"$nulls":10},"Second Set"]
[null,null,{"$f":"G795","v":0},{"$nulls":3},{"$f":"DRAW!$G$38","v":0},{"$nulls":6},{"$f":"G795","v":0},{"$nulls":3},{"$f":"DRAW!$G$38","v":0}]
["End",null,"Shots",null,"Total",null,"Shots",null,"Total",{"$nulls":4},"Shots",null,"Total",null,"Shots",null,"Total"]
[1]
[2]
[3]
[4]
[5]
[6]
[7]
[8]
[9]
[null,null,"Tie Break Set (if needed)"]
["End",null,"Shots",null,"Total",null,"Shots",null,"Total",null,null,"End",null,"Shots",null,"Total",null,"Shots",null,"Total"]
[1,{"$nulls":10},3]
[2,{"$nulls":10},4]
[]
["Team",{"$nulls":3},{"$f":"C798","v":0},null,"points",{"$nulls":5},"Team",{"$nulls":3},{"$f":"G798","v":0},null,"points"]
[]
[]
[{"$f":"$A$1","v":0}]
["ROUND  1"]
[null,null,"TEAM NUMBER",{"$nulls":3},{"$f":"DRAW!$C$39","v":0},{"$nulls":6},"RINK NUMBER",{"$nulls":3},{"$f":"DRAW!$F$39","v":0}]
[]
[null,null,"First Set",{"$nulls":10},"Second Set"]
[null,null,{"$f":"G819","v":0},{"$nulls":3},{"$f":"DRAW!$G$39","v":0},{"$nulls":6},{"$f":"G819","v":0},{"$nulls":3},{"$f":"DRAW!$G$39","v":0}]
["End",null,"Shots",null,"Total",null,"Shots",null,"Total",{"$nulls":4},"Shots",null,"Total",null,"Shots",null,"Total"]
[1]
[2]
[3]
[4]
[5]
[6]
[7]
[8]
[9]
[null,null,"Tie Break Set (if needed)"]
["End",null,"Shots",null,"Total",null,"Shots",null,"Total",null,null,"End",null,"Shots",null,"Total",null,"Shots",null,"Total"]
[1,{"$nulls":10},3]
[2,{"$nulls":10},4]
[]
["Team",{"$nulls":3},{"$f":"C822","v":0},null,"points",{"$nulls":5},"Team",{"$nulls":3},{"$f":"G822","v":0},null,"points"]
[]
[]
[{"$f":"$A$1","v":0}]
["ROUND  1"]
[null,null,"TEAM NUMBER",{"$nulls":3},{"$f":"DRAW!$C$40","v":0},{"$nulls":6},"RINK NUMBER",{"$nulls":3},{"$f":"DRAW!$F$40","v":0}]
[]
[null,null,"First Set",{"$nulls":10},"Second Set"]
[null,null,{"$f":"G843","v":0},{"$nulls":3},{"$f":"DRAW!$G$40","v":0},{"$nulls":6},{"$f":"G843","v":0},{"$nulls":3},{"$f":"DRAW!$G$40","v":0}]
["End",null,"Shots",null,"Total",null,"Shots",null,"Total",{"$nulls":4},"Shots",null,"Total",null,"Shots",null,"Total"]
[1]
[2]
[3]
[4]
[5]
[6]
[7]
[8]
[9]
[null,null,"Tie Break Set (if needed)"]
["End",null,"Shots",null,"Total",null,"Shots",null,"Total",null,null,"End",null,"Shots",null,"Total",null,"Shots",null,"Total"]
[1,{"$nulls":10},3]
[2,{"$nulls":10},4]
[]
["Team",{"$nulls":3},{"$f":"C846","v":0},null,"points",{"$nulls":5},"Team",{"$nulls":3},{"$f":"G846","v":0},null,"points"]
[]
[]
[{"$f":"$A$1","v":0}]
["ROUND  1"]
[null,null,"TEAM NUMBER",{"$nulls":3},{"$f":"DRAW!$C$41","v":0},{"$nulls":6},"RINK NUMBER",{"$nulls":3},{"$f":"DRAW!$F$41","v":0}]
[]
[null,null,"First Set",{"$nulls":10},"Second Set"]
[null,null,{"$f":"G867","v":0},{"$nulls":3},{"$f":"DRAW!$G$41","v":0},{"$nulls":6},{"$f":"G867","v":0},{"$nulls":3},{"$f":"DRAW!$G$41","v":0}]
["End",null,"Shots",null,"Total",null,"Shots",null,"Total",{"$nulls":4},"Shots",null,"Total",null,"Shots",null,"Total"]
[1]
[2]
[3]
[4]
[5]
[6]
[7]
[8]
[9]
[null,null,"Tie Break Set (if needed)"]
["End",null,"Shots",null,"Total",null,"Shots",null,"Total",null,null,"End",null,"Shots",null,"Total",null,"Shots",null,"Total"]
[1,{"$nulls":10},3]
[2,{"$nulls":10},4]
[]
["Team",{"$nulls":3},{"$f":"C870","v":0},null,"points",{"$nulls":5},"Team",{"$nulls":3},{"$f":"G870","v":0},null,"points"]
[]
[]
[{"$f":"$A$1","v":0}]
["ROUND  1"]
[null,null,"TEAM NUMBER",{"$nulls":3},{"$f":"DRAW!$C$42","v":0},{"$nulls":6},"RINK NUMBER",{"$nulls":3},{"$f":"DRAW!$F$42","v":0}]
[]
[null,null,"First Set",{"$nulls":10},"Second Set"]
[null,null,{"$f":"G891","v":0},{"$nulls":3},{"$f":"DRAW!$G$42","v":0},{"$nulls":6},{"$f":"G891","v":0},{"$nulls":3},{"$f":"DRAW!$G$42","v":0}]
["End",null,"Shots",null,"Total",null,"Shots",null,"Total",{"$nulls":4},"Shots",null,"Total",null,"Shots",null,"Total"]
[1]
[2]
[3]
[4]
[5]
[6]
[7]
[8]
[9]
[null,null,"Tie Break Set (if needed)"]
["End",null,"Shots",null,"Total",null,"Shots",null,"Total",null,null,"End",null,"Shots",null,"Total",null,"Shots",null,"Total"]
[1,{"$nulls":10},3]
[2,{"$nulls":10},4]
[]
["Team",{"$nulls":3},{"$f":"C894","v":0},null,"points",{"$nulls":5},"Team",{"$nulls":3},{"$f":"G894","v":0},null,"points"]
[]
[]
[{"$f":"$A$1","v":0}]
["ROUND  1"]
[null,null,"TEAM NUMBER",{"$nulls":3},{"$f":"DRAW!$C$43","v":0},{"$nulls":6},"RINK NUMBER",{"$nulls":3},{"$f":"DRAW!$F$43","v":0}]
[]
[null,null,"First Set",{"$nulls":10},"Second Set"]
[null,null,{"$f":"G915","v":0},{"$nulls":3},{"$f":"DRAW!$G$43","v":0},{"$nulls":6},{"$f":"G915","v":0},{"$nulls":3},{"$f":"DRAW!$G$43","v":0}]
["End",null,"Shots",null,"Total",null,"Shots",null,"Total",{"$nulls":4},"Shots",null,"Total",null,"Shots",null,"Total"]
[1]
[2]
[3]
[4]
[5]
[6]
[7]
[8]
[9]
[null,null,"Tie Break Set (if needed)"]
["End",null,"Shots",null,"Total",null,"Shots",null,"Total",null,null,"End",null,"Shots",null,"Total",null,"Shots",null,"Total"]
[1,{"$nulls":10},3]
[2,{"$nulls":10},4]
[]
["Team",{"$nulls":3},{"$f":"C918","v":0},null,"points",{"$nulls":5},"Team",{"$nulls":3},{"$f":"G918","v":0},null,"points"]
[]
[]
[{"$f":"$A$1","v":0}]
["ROUND  1"]
[null,null,"TEAM NUMBER",{"$nulls":3},{"$f":"DRAW!$C$44","v":0},{"$nulls":6},"RINK NUMBER",{"$nulls":3},{"$f":"DRAW!$F$44","v":0}]
[]
[null,null,"First Set",{"$nulls":10},"Second Set"]
[null,null,{"$f":"G939","v":0},{"$nulls":3},{"$f":"DRAW!$G$44","v":0},{"$nulls":6},{"$f":"G939","v":0},{"$nulls":3},{"$f":"DRAW!$G$44","v":0}]
["End",null,"Shots",null,"Total",null,"Shots",null,"Total",{"$nulls":4},"Shots",null,"Total",null,"Shots",null,"Total"]
[1]
[2]
[3]
[4]
[5]
[6]
[7]
[8]
[9]
[null,null,"Tie Break Set (if needed)"]
["End",null,"Shots",null,"Total",null,"Shots",null,"Total",null,null,"End",null,"Shots",null,"Total",null,"Shots",null,"Total"]
[1,{"$nulls":10},3]
[2,{"$nulls":10},4]
[]
["Team",{"$nulls":3},{"$f":"C942","v":0},null,"points",{"$nulls":5},"Team",{"$nulls":3},{"$f":"G942","v":0},null,"points"]
[]
[]
[{"$f":"$A$1","v":0}]
["ROUND  1"]
[null,null,"TEAM NUMBER",{"$nulls":3},{"$f":"DRAW!$C$45","v":0},{"$nulls":6},"RINK NUMBER",{"$nulls":3},{"$f":"DRAW!$F$45","v":0}]
[]
[null,null,"First Set",{"$nulls":10},"Second Set"]
[null,null,{"$f":"G963","v":0},{"$nulls":3},{"$f":"DRAW!$G$45","v":0},{"$nulls":6},{"$f":"G963","v":0},{"$nulls":3},{"$f":"DRAW!$G$45","v":0}]
["End",null,"Shots",null,"Total",null,"Shots",null,"Total",{"$nulls":4},"Shots",null,"Total",null,"Shots",null,"Total"]
[1]
[2]
[3]
[4]
[5]
[6]
[7]
[8]
[9]
[null,null,"Tie Break Set (if needed)"]
["End",null,"Shots",null,"Total",null,"Shots",null,"Total",null,null,"End",null,"Shots",null,"Total",null,"Shots",null,"Total"]
[1,{"$nulls":10},3]
[2,{"$nulls":10},4]
[]
["Team",{"$nulls":3},{"$f":"C966","v":0},null,"points",{"$nulls":5},"Team",{"$nulls":3},{"$f":"G966","v":0},null,"points"]
[]
[]
[{"$f":"$A$1","v":0}]
["ROUND  1"]
[null,null,"TEAM NUMBER",{"$nulls":3},{"$f":"DRAW!$C$46","v":0},{"$nulls":6},"RINK NUMBER",{"$nulls":3},{"$f":"DRAW!$F$46","v":0}]
[]
[null,null,"First Set",{"$nulls":10},"Second Set"]
[null,null,{"$f":"G987","v":0},{"$nulls":3},{"$f":"DRAW!$G$46","v":0},{"$nulls":6},{"$f":"G987","v":0},{"$nulls":3},{"$f":"DRAW!$G$46","v":0}]
["End",null,"Shots",null,"Total",null,"Shots",null,"Total",{"$nulls":4},"Shots",null,"Total",null,"Shots",null,"Total"]
[1]
[2]
[3]
[4]
[5]
[6]
[7]
[8]
[9]
[null,null,"Tie Break Set (if needed)"]
["End",null,"Shots",null,"Total",null,"Shots",null,"Total",null,null,"End",null,"Shots",null,"Total",null,"Shots",null,"Total"]
[1,{"$nulls":10},3]
[2,{"$nulls":10},4]
[]
["Team",{"$nulls":3},{"$f":"C990","v":0},null,"points",{"$nulls":5},"Team",{"$nulls":3},{"$f":"G990","v":0},null,"points"]

{"sheet":"Round 2 Cards","index":11,"n_rows":1006,"n_cols":20,"rows_kept":1006,"merged":[[837,18,837,21],[839,3,839,7],[839,15,839,19],[840,0,840,21],[841,0,841,21],[844,2,844,10],[844,13,844,21],[845,2,845,5],[845,6,845,10],[845,13,845,16],[845,17,845,21],[846,0,846,1],[846,2,846,3],[846,4,846,5],[846,6,846,7],[846,8,846,10],[846,13,846,14],[846,15,846,16],[846,17,846,18],[846,19,846,21],[847,0,847,1],[847,2,847,3],[847,4,847,5],[847,6,847,7],[847,8,847,10],[847,13,847,14],[847,15,847,16],[847,17,847,18],[847,19,847,21],[848,0,848,1],[848,2,848,3],[848,4,848,5],[848,6,848,7],[848,8,848,10],[848,13,848,14],[848,15,848,16],[848,17,848,18],[848,19,848,21],[849,0,849,1],[849,2,849,3],[849,4,849,5],[849,6,849,7],[849,8,849,10],[849,13,849,14],[849,15,849,16],[849,17,849,18],[849,19,849,21],[850,0,850,1],[850,2,850,3],[850,4,850,5],[850,6,850,7],[850,8,850,10],[850,13,850,14],[850,15,850,16],[850,17,850,18],[850,19,850,21],[851,0,851,1],[851,2,851,3],[851,4,851,5],[851,6,851,7],[851,8,851,10],[851,13,851,14],[851,15,851,16],[851,17,851,18],[851,19,851,21],[851,22,851,23],[852,0,852,1],[852,2,852,3],[852,4,852,5],[852,6,852,7],[852,8,852,10],[852,13,852,14],[852,15,852,16],[852,17,852,18],[852,19,852,21],[853,0,853,1],[853,2,853,3],[853,4,853,5],[853,6,853,7],[853,8,853,10],[853,13,853,14],[853,15,853,16],[853,17,853,18],[853,19,853,21],[854,0,854,1],[854,2,854,3],[854,4,854,5],[854,6,854,7],[854,8,854,10],[854,13,854,14],[854,15,854,16],[854,17,854,18],[854,19,854,21],[855,0,855,1],[855,2,855,3],[855,4,855,5],[855,6,855,7],[855,8,855,10],[855,13,855,14],[855,15,855,16],[855,17,855,18],[855,19,855,21],[856,2,856,21],[857,0,857,1],[857,2,857,3],[857,4,857,5],[857,6,857,7],[857,8,857,10],[857,11,857,12],[857,13,857,14],[857,15,857,16],[857,17,857,18],[857,19,857,21],[858,0,858,1],[858,2,858,3],[858,4,858,5],[858,6,858,7],[858,8,858,10],[858,11,858,12],[858,13,858,14],[858,15,858,16],[858,17,858,18],[858,19,858,21],[859,0,859,1],[859,2,859,3],[859,4,859,5],[859,6,859,7],[859,8,859,10],[859,11,859,12],[859,13,859,14],[859,15,859,16],[859,17,859,18],[859,19,859,21],[860,11,860,21],[861,0,861,3],[861,4,861,5],[861,6,861,10],[861,12,861,15],[861,16,861,17],[861,18,861,21],[863,3,863,7],[863,15,863,19],[864,0,864,21],[865,0,865,21],[866,2,867,5],[866,6,867,10],[866,13,867,16],[866,17,867,21],[868,2,868,10],[868,13,868,21],[869,2,869,5],[869,6,869,10],[869,13,869,16],[869,17,869,21],[870,0,870,1],[870,2,870,3],[870,4,870,5],[870,6,870,7],[870,8,870,10],[870,13,870,14],[870,15,870,16],[870,17,870,18],[870,19,870,21],[871,0,871,1],[871,2,871,3],[871,4,871,5],[871,6,871,7],[871,8,871,10],[871,13,871,14],[871,15,871,16],[871,17,871,18],[871,19,871,21],[872,0,872,1],[872,2,872,3],[872,4,872,5],[872,6,872,7],[872,8,872,10],[872,13,872,14],[872,15,872,16],[872,17,872,18],[872,19,872,21],[873,0,873,1],[873,2,873,3],[873,4,873,5],[873,6,873,7],[873,8,873,10],[873,13,873,14],[873,15,873,16],[873,17,873,18],[873,19,873,21],[874,0,874,1],[874,2,874,3],[874,4,874,5],[874,6,874,7],[874,8,874,10],[874,13,874,14],[874,15,874,16],[874,17,874,18],[874,19,874,21],[875,0,875,1],[875,2,875,3],[875,4,875,5],[875,6,875,7],[875,8,875,10],[875,13,875,14],[875,15,875,16],[875,17,875,18],[875,19,875,21],[875,22,875,23],[876,0,876,1],[876,2,876,3],[876,4,876,5],[876,6,876,7],[876,8,876,10],[876,13,876,14],[876,15,876,16],[876,17,876,18],[876,19,876,21],[877,0,877,1],[877,2,877,3],[877,4,877,5],[877,6,877,7],[877,8,877,10],[877,13,877,14],[877,15,877,16],[877,17,877,18],[877,19,877,21],[878,0,878,1],[878,2,878,3],[878,4,878,5],[878,6,878,7],[878,8,878,10],[878,13,878,14],[878,15,878,16],[878,17,878,18],[878,19,878,21],[879,0,879,1],[879,2,879,3],[879,4,879,5],[879,6,879,7],[879,8,879,10],[879,13,879,14],[879,15,879,16],[879,17,879,18],[879,19,879,21],[880,2,880,21],[881,0,881,1],[881,2,881,3],[881,4,881,5],[881,6,881,7],[881,8,881,10],[881,11,881,12],[881,13,881,14],[881,15,881,16],[881,17,881,18],[881,19,881,21],[882,0,882,1],[882,2,882,3],[882,4,882,5],[882,6,882,7],[882,8,882,10],[882,11,882,12],[882,13,882,14],[882,15,882,16],[882,17,882,18],[882,19,882,21],[883,0,883,1],[883,2,883,3],[883,4,883,5],[883,6,883,7],[883,8,883,10],[883,11,883,12],[883,13,883,14],[883,15,883,16],[883,17,883,18],[883,19,883,21],[884,11,884,21],[885,0,885,3],[885,4,885,5],[885,6,885,10],[885,12,885,15],[885,16,885,17],[885,18,885,21],[887,3,887,7],[887,15,887,19],[888,0,888,21],[889,0,889,21],[890,2,891,5],[890,6,891,10],[890,13,891,16],[890,17,891,21],[892,2,892,10],[892,13,892,21],[893,2,893,5],[893,6,893,10],[893,13,893,16],[893,17,893,21],[894,0,894,1],[894,2,894,3],[894,4,894,5],[894,6,894,7],[894,8,894,10],[894,13,894,14],[894,15,894,16],[894,17,894,18],[894,19,894,21],[895,0,895,1],[895,2,895,3],[895,4,895,5],[895,6,895,7],[895,8,895,10],[895,13,895,14],[895,15,895,16],[895,17,895,18],[895,19,895,21],[896,0,896,1],[896,2,896,3],[896,4,896,5],[896,6,896,7],[896,8,896,10],[896,13,896,14],[896,15,896,16],[896,17,896,18],[896,19,896,21],[897,0,897,1],[897,2,897,3],[897,4,897,5],[897,6,897,7],[897,8,897,10],[897,13,897,14],[897,15,897,16],[897,17,897,18],[897,19,897,21],[898,0,898,1],[898,2,898,3],[898,4,898,5],[898,6,898,7],[898,8,898,10],[898,13,898,14],[898,15,898,16],[898,17,898,18],[898,19,898,21],[899,0,899,1],[899,2,899,3],[899,4,899,5],[899,6,899,7],[899,8,899,10],[899,13,899,14],[899,15,899,16],[899,17,899,18],[899,19,899,21],[899,22,899,23],[900,0,900,1],[900,2,900,3],[900,4,900,5],[900,6,900,7],[900,8,900,10],[900,13,900,14],[900,15,900,16],[900,17,900,18],[900,19,900,21],[901,0,901,1],[901,2,901,3],[901,4,901,5],[901,6,901,7],[901,8,901,10],[901,13,901,14],[901,15,901,16],[901,17,901,18],[901,19,901,21],[902,0,902,1],[902,2,902,3],[902,4,902,5],[902,6,902,7],[902,8,902,10],[902,13,902,14],[902,15,902,16],[902,17,902,18],[902,19,902,21],[903,0,903,1],[903,2,903,3],[903,4,903,5],[903,6,903,7],[903,8,903,10],[903,13,903,14],[903,15,903,16],[903,17,903,18],[903,19,903,21],[904,2,904,21],[905,0,905,1],[905,2,905,3],[905,4,905,5],[905,6,905,7],[905,8,905,10],[905,11,905,12],[905,13,905,14],[905,15,905,16],[905,17,905,18],[905,19,905,21],[906,0,906,1],[906,2,906,3],[906,4,906,5],[906,6,906,7],[906,8,906,10],[906,11,906,12],[906,13,906,14],[906,15,906,16],[906,17,906,18],[906,19,906,21],[907,0,907,1],[907,2,907,3],[907,4,907,5],[907,6,907,7],[907,8,907,10],[907,11,907,12],[907,13,907,14],[907,15,907,16],[907,17,907,18],[907,19,907,21],[908,11,908,21],[909,0,909,3],[909,4,909,5],[909,6,909,10],[909,12,909,15],[909,16,909,17],[909,18,909,21],[911,3,911,7],[911,15,911,19],[912,0,912,21],[913,0,913,21],[914,2,915,5],[914,6,915,10],[914,13,915,16],[914,17,915,21],[916,2,916,10],[916,13,916,21],[917,2,917,5],[917,6,917,10],[917,13,917,16],[917,17,917,21],[918,0,918,1],[918,2,918,3],[918,4,918,5],[918,6,918,7],[918,8,918,10],[918,13,918,14],[918,15,918,16],[918,17,918,18],[918,19,918,21],[919,0,919,1],[919,2,919,3],[919,4,919,5],[919,6,919,7],[919,8,919,10],[919,13,919,14],[919,15,919,16],[919,17,919,18],[919,19,919,21],[920,0,920,1],[920,2,920,3],[920,4,920,5],[920,6,920,7],[920,8,920,10],[920,13,920,14],[920,15,920,16],[920,17,920,18],[920,19,920,21],[921,0,921,1],[921,2,921,3],[921,4,921,5],[921,6,921,7],[921,8,921,10],[921,13,921,14],[921,15,921,16],[921,17,921,18],[921,19,921,21],[922,0,922,1],[922,2,922,3],[922,4,922,5],[922,6,922,7],[922,8,922,10],[922,13,922,14],[922,15,922,16],[922,17,922,18],[922,19,922,21],[923,0,923,1],[923,2,923,3],[923,4,923,5],[923,6,923,7],[923,8,923,10],[923,13,923,14],[923,15,923,16],[923,17,923,18],[923,19,923,21],[923,22,923,23],[924,0,924,1],[924,2,924,3],[924,4,924,5],[924,6,924,7],[924,8,924,10],[924,13,924,14],[924,15,924,16],[924,17,924,18],[924,19,924,21],[925,0,925,1],[925,2,925,3],[925,4,925,5],[925,6,925,7],[925,8,925,10],[925,13,925,14],[925,15,925,16],[925,17,925,18],[925,19,925,21],[926,0,926,1],[926,2,926,3],[926,4,926,5],[926,6,926,7],[926,8,926,10],[926,13,926,14],[926,15,926,16],[926,17,926,18],[926,19,926,21],[927,0,927,1],[927,2,927,3],[927,4,927,5],[927,6,927,7],[927,8,927,10],[927,13,927,14],[927,15,927,16],[927,17,927,18],[927,19,927,21],[928,2,928,21],[929,0,929,1],[929,2,929,3],[929,4,929,5],[929,6,929,7],[929,8,929,10],[929,11,929,12],[929,13,929,14],[929,15,929,16],[929,17,929,18],[929,19,929,21],[930,0,930,1],[930,2,930,3],[930,4,930,5],[930,6,930,7],[930,8,930,10],[930,11,930,12],[930,13,930,14],[930,15,930,16],[930,17,930,18],[930,19,930,21],[931,0,931,1],[931,2,931,3],[931,4,931,5],[931,6,931,7],[931,8,931,10],[931,11,931,12],[931,13,931,14],[931,15,931,16],[931,17,931,18],[931,19,931,21],[932,11,932,21],[933,0,933,3],[933,4,933,5],[933,6,933,10],[933,12,933,15],[933,16,933,17],[933,18,933,21],[935,3,935,7],[935,15,935,19],[936,0,936,21],[937,0,937,21],[938,2,939,5],[938,6,939,10],[938,13,939,16],[938,17,939,21],[940,2,940,10],[940,13,940,21],[941,2,941,5],[941,6,941,10],[941,13,941,16],[941,17,941,21],[942,0,942,1],[942,2,942,3],[942,4,942,5],[942,6,942,7],[942,8,942,10],[942,13,942,14],[942,15,942,16],[942,17,942,18],[942,19,942,21],[943,0,943,1],[943,2,943,3],[943,4,943,5],[943,6,943,7],[943,8,943,10],[943,13,943,14],[943,15,943,16],[943,17,943,18],[943,19,943,21],[944,0,944,1],[944,2,944,3],[944,4,944,5],[944,6,944,7],[944,8,944,10],[944,13,944,14],[944,15,944,16],[944,17,944,18],[944,19,944,21],[945,0,945,1],[945,2,945,3],[945,4,945,5],[945,6,945,7],[945,8,945,10],[945,13,945,14],[945,15,945,16],[945,17,945,18],[945,19,945,21],[946,0,946,1],[946,2,946,3],[946,4,946,5],[946,6,946,7],[946,8,946,10],[946,13,946,14],[946,15,946,16],[946,17,946,18],[946,19,946,21],[947,0,947,1],[947,2,947,3],[947,4,947,5],[947,6,947,7],[947,8,947,10],[947,13,947,14],[947,15,947,16],[947,17,947,18],[947,19,947,21],[947,22,947,23],[948,0,948,1],[948,2,948,3],[948,4,948,5],[948,6,948,7],[948,8,948,10],[948,13,948,14],[948,15,948,16],[948,17,948,18],[948,19,948,21],[949,0,949,1],[949,2,949,3],[949,4,949,5],[949,6,949,7],[949,8,949,10],[949,13,949,14],[949,15,949,16],[949,17,949,18],[949,19,949,21],[950,0,950,1],[950,2,950,3],[950,4,950,5],[950,6,950,7],[950,8,950,10],[950,13,950,14],[950,15,950,16],[950,17,950,18],[950,19,950,21],[951,0,951,1],[951,2,951,3],[951,4,951,5],[951,6,951,7],[951,8,951,10],[951,13,951,14],[951,15,951,16],[951,17,951,18],[951,19,951,21],[952,2,952,21],[953,0,953,1],[953,2,953,3],[953,4,953,5],[953,6,953,7],[953,8,953,10],[953,11,953,12],[953,13,953,14],[953,15,953,16],[953,17,953,18],[953,19,953,21],[954,0,954,1],[954,2,954,3],[954,4,954,5],[954,6,954,7],[954,8,954,10],[954,11,954,12],[954,13,954,14],[954,15,954,16],[954,17,954,18],[954,19,954,21],[955,0,955,1],[955,2,955,3],[955,4,955,5],[955,6,955,7],[955,8,955,10],[955,11,955,12],[955,13,955,14],[955,15,955,16],[955,17,955,18],[955,19,955,21],[956,11,956,21],[957,0,957,3],[957,4,957,5],[957,6,957,10],[957,12,957,15],[957,16,957,17],[957,18,957,21],[959,3,959,7],[959,15,959,19],[960,0,960,21],[961,0,961,21],[962,2,963,5],[962,6,963,10],[962,13,963,16],[962,17,963,21],[964,2,964,10],[964,13,964,21],[965,2,965,5],[965,6,965,10],[965,13,965,16],[965,17,965,21],[966,0,966,1],[966,2,966,3],[966,4,966,5],[966,6,966,7],[966,8,966,10],[966,13,966,14],[966,15,966,16],[966,17,966,18],[966,19,966,21],[967,0,967,1],[967,2,967,3],[967,4,967,5],[967,6,967,7],[967,8,967,10],[967,13,967,14],[967,15,967,16],[967,17,967,18],[967,19,967,21],[968,0,968,1],[968,2,968,3],[968,4,968,5],[968,6,968,7],[968,8,968,10],[968,13,968,14],[968,15,968,16],[968,17,968,18],[968,19,968,21],[969,0,969,1],[969,2,969,3],[969,4,969,5],[969,6,969,7],[969,8,969,10],[969,13,969,14],[969,15,969,16],[969,17,969,18],[969,19,969,21],[970,0,970,1],[970,2,970,3],[970,4,970,5],[970,6,970,7],[970,8,970,10],[970,13,970,14],[970,15,970,16],[970,17,970,18],[970,19,970,21],[971,0,971,1],[971,2,971,3],[971,4,971,5],[971,6,971,7],[971,8,971,10],[971,13,971,14],[971,15,971,16],[971,17,971,18],[971,19,971,21],[971,22,971,23],[972,0,972,1],[972,2,972,3],[972,4,972,5],[972,6,972,7],[972,8,972,10],[972,13,972,14],[972,15,972,16],[972,17,972,18],[972,19,972,21],[973,0,973,1],[973,2,973,3],[973,4,973,5],[973,6,973,7],[973,8,973,10],[973,13,973,14],[973,15,973,16],[973,17,973,18],[973,19,973,21],[974,0,974,1],[974,2,974,3],[974,4,974,5],[974,6,974,7],[974,8,974,10],[974,13,974,14],[974,15,974,16],[974,17,974,18],[974,19,974,21],[975,0,975,1],[975,2,975,3],[975,4,975,5],[975,6,975,7],[975,8,975,10],[975,13,975,14],[975,15,975,16],[975,17,975,18],[975,19,975,21],[976,2,976,21],[977,0,977,1],[977,2,977,3],[977,4,977,5],[977,6,977,7],[977,8,977,10],[977,11,977,12],[977,13,977,14],[977,15,977,16],[977,17,977,18],[977,19,977,21],[978,0,978,1],[978,2,978,3],[978,4,978,5],[978,6,978,7],[978,8,978,10],[978,11,978,12],[978,13,978,14],[978,15,978,16],[978,17,978,18],[978,19,978,21],[979,0,979,1],[979,2,979,3],[979,4,979,5],[979,6,979,7],[979,8,979,10],[979,11,979,12],[979,13,979,14],[979,15,979,16],[979,17,979,18],[979,19,979,21],[980,11,980,21],[981,0,981,3],[981,4,981,5],[981,6,981,10],[981,12,981,15],[981,16,981,17],[981,18,981,21],[983,3,983,7],[983,15,983,19],[984,0,984,21],[985,0,985,21],[986,2,987,5],[986,6,987,10],[986,13,987,16],[986,17,987,21],[988,2,988,10],[988,13,988,21],[989,2,989,5],[989,6,989,10],[989,13,989,16],[989,17,989,21],[990,0,990,1],[990,2,990,3],[990,4,990,5],[990,6,990,7],[990,8,990,10],[990,13,990,14],[990,15,990,16],[990,17,990,18],[990,19,990,21],[991,0,991,1],[991,2,991,3],[991,4,991,5],[991,6,991,7],[991,8,991,10],[991,13,991,14],[991,15,991,16],[991,17,991,18],[991,19,991,21],[992,0,992,1],[992,2,992,3],[992,4,992,5],[992,6,992,7],[992,8,992,10],[992,13,992,14],[992,15,992,16],[992,17,992,18],[992,19,992,21],[993,0,993,1],[993,2,993,3],[993,4,993,5],[993,6,993,7],[993,8,993,10],[993,13,993,14],[993,15,993,16],[993,17,993,18],[993,19,993,21],[994,0,994,1],[994,2,994,3],[994,4,994,5],[994,6,994,7],[994,8,994,10],[994,13,994,14],[994,15,994,16],[994,17,994,18],[994,19,994,21],[995,0,995,1],[995,2,995,3],[995,4,995,5],[995,6,995,7],[995,8,995,10],[995,13,995,14],[995,15,995,16],[995,17,995,18],[995,19,995,21],[995,22,995,23],[996,0,996,1],[996,2,996,3],[996,4,996,5],[996,6,996,7],[996,8,996,10],[996,13,996,14],[996,15,996,16],[996,17,996,18],[996,19,996,21],[997,0,997,1],[997,2,997,3],[997,4,997,5],[997,6,997,7],[997,8,997,10],[997,13,997,14],[997,15,997,16],[997,17,997,18],[997,19,997,21],[998,0,998,1],[998,2,998,3],[998,4,998,5],[998,6,998,7],[998,8,998,10],[998,13,998,14],[998,15,998,16],[998,17,998,18],[998,19,998,21],[999,0,999,1],[999,2,999,3],[999,4,999,5],[999,6,999,7],[999,8,999,10],[999,13,999,14],[999,15,999,16],[999,17,999,18],[999,19,999,21],[1000,2,1000,21],[1001,0,1001,1],[1001,2,1001,3],[1001,4,1001,5],[1001,6,1001,7],[1001,8,1001,10],[1001,11,1001,12],[1001,13,1001,14],[1001,15,1001,16],[1001,17,1001,18],[1001,19,1001,21],[1002,0,1002,1],[1002,2,1002,3],[1002,4,1002,5],[1002,6,1002,7],[1002,8,1002,10],[1002,11,1002,12],[1002,13,1002,14],[1002,15,1002,16],[1002,17,1002,18],[1002,19,1002,21],[1003,0,1003,1],[1003,2,1003,3],[1003,4,1003,5],[1003,6,1003,7],[1003,8,1003,10],[1003,11,1003,12],[1003,13,1003,14],[1003,15,1003,16],[1003,17,1003,18],[1003,19,1003,21],[1004,11,1004,21],[1005,0,1005,3],[1005,4,1005,5],[1005,6,1005,10],[1005,12,1005,15],[1005,16,1005,17],[1005,18,1005,21],[1007,3,1007,7],[1007,15,1007,19]],"merged_total":6006,"flags":["merged_cut"]}
[{"$f":"DRAW!$C$1","v":0}]
["ROUND  2"]
[null,null,"TEAM NUMBER",{"$nulls":3},{"$f":"DRAW!$C$5","v":0},{"$nulls":6},"RINK NUMBER",{"$nulls":3},{"$f":"DRAW!$H$5","v":0}]
[]
[null,null,"First Set",{"$nulls":10},"Second Set"]
[null,null,{"$f":"G3","v":0},{"$nulls":3},{"$f":"DRAW!$I$5","v":0},{"$nulls":6},{"$f":"G3","v":0},{"$nulls":3},{"$f":"DRAW!$I$5","v":0}]
["End",null,"Shots",null,"Total",null,"Shots",null,"Total",{"$nulls":4},"Shots",null,"Total",null,"Shots",null,"Total"]
[1]
[2]
[3]
[4]
[5]
[6]
[7]
[8]
[9]
[null,null,"Tie Break Set (if needed)"]
["End",null,"Shots",null,"Total",null,"Shots",null,"Total",null,null,"End",null,"Shots",null,"Total",null,"Shots",null,"Total"]
[1,{"$nulls":10},3]
[2,{"$nulls":10},4]
[]
["Team",{"$nulls":3},{"$f":"C6","v":0},null,"points",{"$nulls":5},"Team",{"$nulls":3},{"$f":"G6","v":0},null,"points"]
[]
[]
[{"$f":"$A$1","v":0}]
["ROUND  2"]
[null,null,"TEAM NUMBER",{"$nulls":3},{"$f":"DRAW!$C$6","v":0},{"$nulls":6},"RINK NUMBER",{"$nulls":3},{"$f":"DRAW!$H$6","v":0}]
[]
[null,null,"First Set",{"$nulls":10},"Second Set"]
[null,null,{"$f":"G27","v":0},{"$nulls":3},{"$f":"DRAW!$I$6","v":0},{"$nulls":6},{"$f":"G27","v":0},{"$nulls":3},{"$f":"DRAW!$I$6","v":0}]
["End",null,"Shots",null,"Total",null,"Shots",null,"Total",{"$nulls":4},"Shots",null,"Total",null,"Shots",null,"Total"]
[1]
[2]
[3]
[4]
[5]
[6]
[7]
[8]
[9]
[null,null,"Tie Break Set (if needed)"]
["End",null,"Shots",null,"Total",null,"Shots",null,"Total",null,null,"End",null,"Shots",null,"Total",null,"Shots",null,"Total"]
[1,{"$nulls":10},3]
[2,{"$nulls":10},4]
[]
["Team",{"$nulls":3},{"$f":"C30","v":0},null,"points",{"$nulls":5},"Team",{"$nulls":3},{"$f":"G30","v":0},null,"points"]
[]
[]
[{"$f":"$A$1","v":0}]
["ROUND  2"]
[null,null,"TEAM NUMBER",{"$nulls":3},{"$f":"DRAW!$C$7","v":0},{"$nulls":6},"RINK NUMBER",{"$nulls":3},{"$f":"DRAW!$H$7","v":0}]
[]
[null,null,"First Set",{"$nulls":10},"Second Set"]
[null,null,{"$f":"G51","v":0},{"$nulls":3},{"$f":"DRAW!$I$7","v":0},{"$nulls":6},{"$f":"G51","v":0},{"$nulls":3},{"$f":"DRAW!$I$7","v":0}]
["End",null,"Shots",null,"Total",null,"Shots",null,"Total",{"$nulls":4},"Shots",null,"Total",null,"Shots",null,"Total"]
[1]
[2]
[3]
[4]
[5]
[6]
[7]
[8]
[9]
[null,null,"Tie Break Set (if needed)"]
["End",null,"Shots",null,"Total",null,"Shots",null,"Total",null,null,"End",null,"Shots",null,"Total",null,"Shots",null,"Total"]
[1,{"$nulls":10},3]
[2,{"$nulls":10},4]
[]
["Team",{"$nulls":3},{"$f":"C54","v":0},null,"points",{"$nulls":5},"Team",{"$nulls":3},{"$f":"G54","v":0},null,"points"]
[]
[]
[{"$f":"$A$1","v":0}]
["ROUND  2"]
[null,null,"TEAM NUMBER",{"$nulls":3},{"$f":"DRAW!$C$8","v":0},{"$nulls":6},"RINK NUMBER",{"$nulls":3},{"$f":"DRAW!$H$8","v":0}]
[]
[null,null,"First Set",{"$nulls":10},"Second Set"]
[null,null,{"$f":"G75","v":0},{"$nulls":3},{"$f":"DRAW!$I$8","v":0},{"$nulls":6},{"$f":"G75","v":0},{"$nulls":3},{"$f":"DRAW!$I$8","v":0}]
["End",null,"Shots",null,"Total",null,"Shots",null,"Total",{"$nulls":4},"Shots",null,"Total",null,"Shots",null,"Total"]
[1]
[2]
[3]
[4]
[5]
[6]
[7]
[8]
[9]
[null,null,"Tie Break Set (if needed)"]
["End",null,"Shots",null,"Total",null,"Shots",null,"Total",null,null,"End",null,"Shots",null,"Total",null,"Shots",null,"Total"]
[1,{"$nulls":10},3]
[2,{"$nulls":10},4]
[]
["Team",{"$nulls":3},{"$f":"C78","v":0},null,"points",{"$nulls":5},"Team",{"$nulls":3},{"$f":"G78","v":0},null,"points"]
[]
[]
[{"$f":"$A$1","v":0}]
["ROUND  2"]
[null,null,"TEAM NUMBER",{"$nulls":3},{"$f":"DRAW!$C$9","v":0},{"$nulls":6},"RINK NUMBER",{"$nulls":3},{"$f":"DRAW!$H$9","v":0}]
[]
[null,null,"First Set",{"$nulls":10},"Second Set"]
[null,null,{"$f":"G99","v":0},{"$nulls":3},{"$f":"DRAW!$I$9","v":0},{"$nulls":6},{"$f":"G99","v":0},{"$nulls":3},{"$f":"DRAW!$I$9","v":0}]
["End",null,"Shots",null,"Total",null,"Shots",null,"Total",{"$nulls":4},"Shots",null,"Total",null,"Shots",null,"Total"]
[1]
[2]
[3]
[4]
[5]
[6]
[7]
[8]
[9]
[null,null,"Tie Break Set (if needed)"]
["End",null,"Shots",null,"Total",null,"Shots",null,"Total",null,null,"End",null,"Shots",null,"Total",null,"Shots",null,"Total"]
[1,{"$nulls":10},3]
[2,{"$nulls":10},4]
[]
["Team",{"$nulls":3},{"$f":"C102","v":0},null,"points",{"$nulls":5},"Team",{"$nulls":3},{"$f":"G102","v":0},null,"points"]
[]
[]
[{"$f":"$A$1","v":0}]
["ROUND  2"]
[null,null,"TEAM NUMBER",{"$nulls":3},{"$f":"DRAW!$C$10","v":0},{"$nulls":6},"RINK NUMBER",{"$nulls":3},{"$f":"DRAW!$H$10","v":0}]
[]
[null,null,"First Set",{"$nulls":10},"Second Set"]
[null,null,{"$f":"G123","v":0},{"$nulls":3},{"$f":"DRAW!$I$10","v":0},{"$nulls":6},{"$f":"G123","v":0},{"$nulls":3},{"$f":"DRAW!$I$10","v":0}]
["End",null,"Shots",null,"Total",null,"Shots",null,"Total",{"$nulls":4},"Shots",null,"Total",null,"Shots",null,"Total"]
[1]
[2]
[3]
[4]
[5]
[6]
[7]
[8]
[9]
[null,null,"Tie Break Set (if needed)"]
["End",null,"Shots",null,"Total",null,"Shots",null,"Total",null,null,"End",null,"Shots",null,"Total",null,"Shots",null,"Total"]
[1,{"$nulls":10},3]
[2,{"$nulls":10},4]
[]
["Team",{"$nulls":3},{"$f":"C126","v":0},null,"points",{"$nulls":5},"Team",{"$nulls":3},{"$f":"G126","v":0},null,"points"]
[]
[]
[{"$f":"$A$1","v":0}]
["ROUND  2"]
[null,null,"TEAM NUMBER",{"$nulls":3},{"$f":"DRAW!$C$11","v":0},{"$nulls":6},"RINK NUMBER",{"$nulls":3},{"$f":"DRAW!$H$11","v":0}]
[]
[null,null,"First Set",{"$nulls":10},"Second Set"]
[null,null,{"$f":"G147","v":0},{"$nulls":3},{"$f":"DRAW!$I$11","v":0},{"$nulls":6},{"$f":"G147","v":0},{"$nulls":3},{"$f":"DRAW!$I$11","v":0}]
["End",null,"Shots",null,"Total",null,"Shots",null,"Total",{"$nulls":4},"Shots",null,"Total",null,"Shots",null,"Total"]
[1]
[2]
[3]
[4]
[5]
[6]
[7]
[8]
[9]
[null,null,"Tie Break Set (if needed)"]
["End",null,"Shots",null,"Total",null,"Shots",null,"Total",null,null,"End",null,"Shots",null,"Total",null,"Shots",null,"Total"]
[1,{"$nulls":10},3]
[2,{"$nulls":10},4]
[]
["Team",{"$nulls":3},{"$f":"C150","v":0},null,"points",{"$nulls":5},"Team",{"$nulls":3},{"$f":"G150","v":0},null,"points"]
[]
[]
[{"$f":"$A$1","v":0}]
["ROUND  2"]
[null,null,"TEAM NUMBER",{"$nulls":3},{"$f":"DRAW!$C$12","v":0},{"$nulls":6},"RINK NUMBER",{"$nulls":3},{"$f":"DRAW!$H$12","v":0}]
[]
[null,null,"First Set",{"$nulls":10},"Second Set"]
[null,null,{"$f":"G171","v":0},{"$nulls":3},{"$f":"DRAW!$I$12","v":0},{"$nulls":6},{"$f":"G171","v":0},{"$nulls":3},{"$f":"DRAW!$I$12","v":0}]
["End",null,"Shots",null,"Total",null,"Shots",null,"Total",{"$nulls":4},"Shots",null,"Total",null,"Shots",null,"Total"]
[1]
[2]
[3]
[4]
[5]
[6]
[7]
[8]
[9]
[null,null,"Tie Break Set (if needed)"]
["End",null,"Shots",null,"Total",null,"Shots",null,"Total",null,null,"End",null,"Shots",null,"Total",null,"Shots",null,"Total"]
[1,{"$nulls":10},3]
[2,{"$nulls":10},4]
[]
["Team",{"$nulls":3},{"$f":"C174","v":0},null,"points",{"$nulls":5},"Team",{"$nulls":3},{"$f":"G174","v":0},null,"points"]
[]
[]
[{"$f":"$A$1","v":0}]
["ROUND  2"]
[null,null,"TEAM NUMBER",{"$nulls":3},{"$f":"DRAW!$C$13","v":0},{"$nulls":6},"RINK NUMBER",{"$nulls":3},{"$f":"DRAW!$H$13","v":0}]
[]
[null,null,"First Set",{"$nulls":10},"Second Set"]
[null,null,{"$f":"G195","v":0},{"$nulls":3},{"$f":"DRAW!$I$13","v":0},{"$nulls":6},{"$f":"G195","v":0},{"$nulls":3},{"$f":"DRAW!$I$13","v":0}]
["End",null,"Shots",null,"Total",null,"Shots",null,"Total",{"$nulls":4},"Shots",null,"Total",null,"Shots",null,"Total"]
[1]
[2]
[3]
[4]
[5]
[6]
[7]
[8]
[9]
[null,null,"Tie Break Set (if needed)"]
["End",null,"Shots",null,"Total",null,"Shots",null,"Total",null,null,"End",null,"Shots",null,"Total",null,"Shots",null,"Total"]
[1,{"$nulls":10},3]
[2,{"$nulls":10},4]
[]
["Team",{"$nulls":3},{"$f":"C198","v":0},null,"points",{"$nulls":5},"Team",{"$nulls":3},{"$f":"G198","v":0},null,"points"]
[]
[]
[{"$f":"$A$1","v":0}]
["ROUND  2"]
[null,null,"TEAM NUMBER",{"$nulls":3},{"$f":"DRAW!$C$14","v":0},{"$nulls":6},"RINK NUMBER",{"$nulls":3},{"$f":"DRAW!$H$14","v":0}]
[]
[null,null,"First Set",{"$nulls":10},"Second Set"]
[null,null,{"$f":"G219","v":0},{"$nulls":3},{"$f":"DRAW!$I$14","v":0},{"$nulls":6},{"$f":"G219","v":0},{"$nulls":3},{"$f":"DRAW!$I$14","v":0}]
["End",null,"Shots",null,"Total",null,"Shots",null,"Total",{"$nulls":4},"Shots",null,"Total",null,"Shots",null,"Total"]
[1]
[2]
[3]
[4]
[5]
[6]
[7]
[8]
[9]
[null,null,"Tie Break Set (if needed)"]
["End",null,"Shots",null,"Total",null,"Shots",null,"Total",null,null,"End",null,"Shots",null,"Total",null,"Shots",null,"Total"]
[1,{"$nulls":10},3]
[2,{"$nulls":10},4]
[]
["Team",{"$nulls":3},{"$f":"C222","v":0},null,"points",{"$nulls":5},"Team",{"$nulls":3},{"$f":"G222","v":0},null,"points"]
[]
[]
[{"$f":"$A$1","v":0}]
["ROUND  2"]
[null,null,"TEAM NUMBER",{"$nulls":3},{"$f":"DRAW!$C$15","v":0},{"$nulls":6},"RINK NUMBER",{"$nulls":3},{"$f":"DRAW!$H$15","v":0}]
[]
[null,null,"First Set",{"$nulls":10},"Second Set"]
[null,null,{"$f":"G243","v":0},{"$nulls":3},{"$f":"DRAW!$I$15","v":0},{"$nulls":6},{"$f":"G243","v":0},{"$nulls":3},{"$f":"DRAW!$I$15","v":0}]
["End",null,"Shots",null,"Total",null,"Shots",null,"Total",{"$nulls":4},"Shots",null,"Total",null,"Shots",null,"Total"]
[1]
[2]
[3]
[4]
[5]
[6]
[7]
[8]
[9]
[null,null,"Tie Break Set (if needed)"]
["End",null,"Shots",null,"Total",null,"Shots",null,"Total",null,null,"End",null,"Shots",null,"Total",null,"Shots",null,"Total"]
[1,{"$nulls":10},3]
[2,{"$nulls":10},4]
[]
["Team",{"$nulls":3},{"$f":"C246","v":0},null,"points",{"$nulls":5},"Team",{"$nulls":3},{"$f":"G246","v":0},null,"points"]
[]
[]
[{"$f":"$A$1","v":0}]
["ROUND  2"]
[null,null,"TEAM NUMBER",{"$nulls":3},{"$f":"DRAW!$C$16","v":0},{"$nulls":6},"RINK NUMBER",{"$nulls":3},{"$f":"DRAW!$H$16","v":0}]
[]
[null,null,"First Set",{"$nulls":10},"Second Set"]
[null,null,{"$f":"G267","v":0},{"$nulls":3},{"$f":"DRAW!$I$16","v":0},{"$nulls":6},{"$f":"G267","v":0},{"$nulls":3},{"$f":"DRAW!$I$16","v":0}]
["End",null,"Shots",null,"Total",null,"Shots",null,"Total",{"$nulls":4},"Shots",null,"Total",null,"Shots",null,"Total"]
[1]
[2]
[3]
[4]
[5]
[6]
[7]
[8]
[9]
[null,null,"Tie Break Set (if needed)"]
["End",null,"Shots",null,"Total",null,"Shots",null,"Total",null,null,"End",null,"Shots",null,"Total",null,"Shots",null,"Total"]
[1,{"$nulls":10},3]
[2,{"$nulls":10},4]
[]
["Team",{"$nulls":3},{"$f":"C270","v":0},null,"points",{"$nulls":5},"Team",{"$nulls":3},{"$f":"G270","v":0},null,"points"]
[]
[]
[{"$f":"$A$1","v":0}]
["ROUND  2"]
[null,null,"TEAM NUMBER",{"$nulls":3},{"$f":"DRAW!$C$17","v":0},{"$nulls":6},"RINK NUMBER",{"$nulls":3},{"$f":"DRAW!$H$17","v":0}]
[]
[null,null,"First Set",{"$nulls":10},"Second Set"]
[null,null,{"$f":"G291","v":0},{"$nulls":3},{"$f":"DRAW!$I$17","v":0},{"$nulls":6},{"$f":"G291","v":0},{"$nulls":3},{"$f":"DRAW!$I$17","v":0}]
["End",null,"Shots",null,"Total",null,"Shots",null,"Total",{"$nulls":4},"Shots",null,"Total",null,"Shots",null,"Total"]
[1]
[2]
[3]
[4]
[5]
[6]
[7]
[8]
[9]
[null,null,"Tie Break Set (if needed)"]
["End",null,"Shots",null,"Total",null,"Shots",null,"Total",null,null,"End",null,"Shots",null,"Total",null,"Shots",null,"Total"]
[1,{"$nulls":10},3]
[2,{"$nulls":10},4]
[]
["Team",{"$nulls":3},{"$f":"C294","v":0},null,"points",{"$nulls":5},"Team",{"$nulls":3},{"$f":"G294","v":0},null,"points"]
[]
[]
[{"$f":"$A$1","v":0}]
["ROUND  2"]
[null,null,"TEAM NUMBER",{"$nulls":3},{"$f":"DRAW!$C$18","v":0},{"$nulls":6},"RINK NUMBER",{"$nulls":3},{"$f":"DRAW!$H$18","v":0}]
[]
[null,null,"First Set",{"$nulls":10},"Second Set"]
[null,null,{"$f":"G315","v":0},{"$nulls":3},{"$f":"DRAW!$I$18","v":0},{"$nulls":6},{"$f":"G315","v":0},{"$nulls":3},{"$f":"DRAW!$I$18","v":0}]
["End",null,"Shots",null,"Total",null,"Shots",null,"Total",{"$nulls":4},"Shots",null,"Total",null,"Shots",null,"Total"]
[1]
[2]
[3]
[4]
[5]
[6]
[7]
[8]
[9]
[null,null,"Tie Break Set (if needed)"]
["End",null,"Shots",null,"Total",null,"Shots",null,"Total",null,null,"End",null,"Shots",null,"Total",null,"Shots",null,"Total"]
[1,{"$nulls":10},3]
[2,{"$nulls":10},4]
[]
["Team",{"$nulls":3},{"$f":"C318","v":0},null,"points",{"$nulls":5},"Team",{"$nulls":3},{"$f":"G318","v":0},null,"points"]
[]
[]
[{"$f":"$A$1","v":0}]
["ROUND  2"]
[null,null,"TEAM NUMBER",{"$nulls":3},{"$f":"DRAW!$C$19","v":0},{"$nulls":6},"RINK NUMBER",{"$nulls":3},{"$f":"DRAW!$H$19","v":0}]
[]
[null,null,"First Set",{"$nulls":10},"Second Set"]
[null,null,{"$f":"G339","v":0},{"$nulls":3},{"$f":"DRAW!$I$19","v":0},{"$nulls":6},{"$f":"G339","v":0},{"$nulls":3},{"$f":"DRAW!$I$19","v":0}]
["End",null,"Shots",null,"Total",null,"Shots",null,"Total",{"$nulls":4},"Shots",null,"Total",null,"Shots",null,"Total"]
[1]
[2]
[3]
[4]
[5]
[6]
[7]
[8]
[9]
[null,null,"Tie Break Set (if needed)"]
["End",null,"Shots",null,"Total",null,"Shots",null,"Total",null,null,"End",null,"Shots",null,"Total",null,"Shots",null,"Total"]
[1,{"$nulls":10},3]
[2,{"$nulls":10},4]
[]
["Team",{"$nulls":3},{"$f":"C342","v":0},null,"points",{"$nulls":5},"Team",{"$nulls":3},{"$f":"G342","v":0},null,"points"]
[]
[]
[{"$f":"$A$1","v":0}]
["ROUND  2"]
[null,null,"TEAM NUMBER",{"$nulls":3},{"$f":"DRAW!$C$20","v":0},{"$nulls":6},"RINK NUMBER",{"$nulls":3},{"$f":"DRAW!$H$20","v":0}]
[]
[null,null,"First Set",{"$nulls":10},"Second Set"]
[null,null,{"$f":"G363","v":0},{"$nulls":3},{"$f":"DRAW!$I$20","v":0},{"$nulls":6},{"$f":"G363","v":0},{"$nulls":3},{"$f":"DRAW!$I$20","v":0}]
["End",null,"Shots",null,"Total",null,"Shots",null,"Total",{"$nulls":4},"Shots",null,"Total",null,"Shots",null,"Total"]
[1]
[2]
[3]
[4]
[5]
[6]
[7]
[8]
[9]
[null,null,"Tie Break Set (if needed)"]
["End",null,"Shots",null,"Total",null,"Shots",null,"Total",null,null,"End",null,"Shots",null,"Total",null,"Shots",null,"Total"]
[1,{"$nulls":10},3]
[2,{"$nulls":10},4]
[]
["Team",{"$nulls":3},{"$f":"C366","v":0},null,"points",{"$nulls":5},"Team",{"$nulls":3},{"$f":"G366","v":0},null,"points"]
[]
[]
[{"$f":"$A$1","v":0}]
["ROUND  2"]
[null,null,"TEAM NUMBER",{"$nulls":3},{"$f":"DRAW!$C$21","v":0},{"$nulls":6},"RINK NUMBER",{"$nulls":3},{"$f":"DRAW!$H$21","v":0}]
[]
[null,null,"First Set",{"$nulls":10},"Second Set"]
[null,null,{"$f":"G387","v":0},{"$nulls":3},{"$f":"DRAW!$I$21","v":0},{"$nulls":6},{"$f":"G387","v":0},{"$nulls":3},{"$f":"DRAW!$I$21","v":0}]
["End",null,"Shots",null,"Total",null,"Shots",null,"Total",{"$nulls":4},"Shots",null,"Total",null,"Shots",null,"Total"]
[1]
[2]
[3]
[4]
[5]
[6]
[7]
[8]
[9]
[null,null,"Tie Break Set (if needed)"]
["End",null,"Shots",null,"Total",null,"Shots",null,"Total",null,null,"End",null,"Shots",null,"Total",null,"Shots",null,"Total"]
[1,{"$nulls":10},3]
[2,{"$nulls":10},4]
[]
["Team",{"$nulls":3},{"$f":"C390","v":0},null,"points",{"$nulls":5},"Team",{"$nulls":3},{"$f":"G390","v":0},null,"points"]
[]
[]
[{"$f":"$A$1","v":0}]
["ROUND  2"]
[null,null,"TEAM NUMBER",{"$nulls":3},{"$f":"DRAW!$C$22","v":0},{"$nulls":6},"RINK NUMBER",{"$nulls":3},{"$f":"DRAW!$H$22","v":0}]
[]
[null,null,"First Set",{"$nulls":10},"Second Set"]
[null,null,{"$f":"G411","v":0},{"$nulls":3},{"$f":"DRAW!$I$22","v":0},{"$nulls":6},{"$f":"G411","v":0},{"$nulls":3},{"$f":"DRAW!$I$22","v":0}]
["End",null,"Shots",null,"Total",null,"Shots",null,"Total",{"$nulls":4},"Shots",null,"Total",null,"Shots",null,"Total"]
[1]
[2]
[3]
[4]
[5]
[6]
[7]
[8]
[9]
[null,null,"Tie Break Set (if needed)"]
["End",null,"Shots",null,"Total",null,"Shots",null,"Total",null,null,"End",null,"Shots",null,"Total",null,"Shots",null,"Total"]
[1,{"$nulls":10},3]
[2,{"$nulls":10},4]
[]
["Team",{"$nulls":3},{"$f":"C414","v":0},null,"points",{"$nulls":5},"Team",{"$nulls":3},{"$f":"G414","v":0},null,"points"]
[]
[]
[{"$f":"$A$1","v":0}]
["ROUND  2"]
[null,null,"TEAM NUMBER",{"$nulls":3},{"$f":"DRAW!$C$23","v":0},{"$nulls":6},"RINK NUMBER",{"$nulls":3},{"$f":"DRAW!$H$23","v":0}]
[]
[null,null,"First Set",{"$nulls":10},"Second Set"]
[null,null,{"$f":"G435","v":0},{"$nulls":3},{"$f":"DRAW!$I$23","v":0},{"$nulls":6},{"$f":"G435","v":0},{"$nulls":3},{"$f":"DRAW!$I$23","v":0}]
["End",null,"Shots",null,"Total",null,"Shots",null,"Total",{"$nulls":4},"Shots",null,"Total",null,"Shots",null,"Total"]
[1]
[2]
[3]
[4]
[5]
[6]
[7]
[8]
[9]
[null,null,"Tie Break Set (if needed)"]
["End",null,"Shots",null,"Total",null,"Shots",null,"Total",null,null,"End",null,"Shots",null,"Total",null,"Shots",null,"Total"]
[1,{"$nulls":10},3]
[2,{"$nulls":10},4]
[]
["Team",{"$nulls":3},{"$f":"C438","v":0},null,"points",{"$nulls":5},"Team",{"$nulls":3},{"$f":"G438","v":0},null,"points"]
[]
[]
[{"$f":"$A$1","v":0}]
["ROUND  2"]
[null,null,"TEAM NUMBER",{"$nulls":3},{"$f":"DRAW!$C$24","v":0},{"$nulls":6},"RINK NUMBER",{"$nulls":3},{"$f":"DRAW!$H$24","v":0}]
[]
[null,null,"First Set",{"$nulls":10},"Second Set"]
[null,null,{"$f":"G459","v":0},{"$nulls":3},{"$f":"DRAW!$I$24","v":0},{"$nulls":6},{"$f":"G459","v":0},{"$nulls":3},{"$f":"DRAW!$I$24","v":0}]
["End",null,"Shots",null,"Total",null,"Shots",null,"Total",{"$nulls":4},"Shots",null,"Total",null,"Shots",null,"Total"]
[1]
[2]
[3]
[4]
[5]
[6]
[7]
[8]
[9]
[null,null,"Tie Break Set (if needed)"]
["End",null,"Shots",null,"Total",null,"Shots",null,"Total",null,null,"End",null,"Shots",null,"Total",null,"Shots",null,"Total"]
[1,{"$nulls":10},3]
[2,{"$nulls":10},4]
[]
["Team",{"$nulls":3},{"$f":"C462","v":0},null,"points",{"$nulls":5},"Team",{"$nulls":3},{"$f":"G462","v":0},null,"points"]
[]
[]
[{"$f":"$A$1","v":0}]
["ROUND  2"]
[null,null,"TEAM NUMBER",{"$nulls":3},{"$f":"DRAW!$C$25","v":0},{"$nulls":6},"RINK NUMBER",{"$nulls":3},{"$f":"DRAW!$H$25","v":0}]
[]
[null,null,"First Set",{"$nulls":10},"Second Set"]
[null,null,{"$f":"G483","v":0},{"$nulls":3},{"$f":"DRAW!$I$25","v":0},{"$nulls":6},{"$f":"G483","v":0},{"$nulls":3},{"$f":"DRAW!$I$25","v":0}]
["End",null,"Shots",null,"Total",null,"Shots",null,"Total",{"$nulls":4},"Shots",null,"Total",null,"Shots",null,"Total"]
[1]
[2]
[3]
[4]
[5]
[6]
[7]
[8]
[9]
[null,null,"Tie Break Set (if needed)"]
["End",null,"Shots",null,"Total",null,"Shots",null,"Total",null,null,"End",null,"Shots",null,"Total",null,"Shots",null,"Total"]
[1,{"$nulls":10},3]
[2,{"$nulls":10},4]
[]
["Team",{"$nulls":3},{"$f":"C486","v":0},null,"points",{"$nulls":5},"Team",{"$nulls":3},{"$f":"G486","v":0},null,"points"]
[]
[]
[{"$f":"$A$1","v":0}]
["ROUND  2"]
[null,null,"TEAM NUMBER",{"$nulls":3},{"$f":"DRAW!$C$26","v":0},{"$nulls":6},"RINK NUMBER",{"$nulls":3},{"$f":"DRAW!$H$26","v":0}]
[]
[null,null,"First Set",{"$nulls":10},"Second Set"]
[null,null,{"$f":"G507","v":0},{"$nulls":3},{"$f":"DRAW!$I$26","v":0},{"$nulls":6},{"$f":"G507","v":0},{"$nulls":3},{"$f":"DRAW!$I$26","v":0}]
["End",null,"Shots",null,"Total",null,"Shots",null,"Total",{"$nulls":4},"Shots",null,"Total",null,"Shots",null,"Total"]
[1]
[2]
[3]
[4]
[5]
[6]
[7]
[8]
[9]
[null,null,"Tie Break Set (if needed)"]
["End",null,"Shots",null,"Total",null,"Shots",null,"Total",null,null,"End",null,"Shots",null,"Total",null,"Shots",null,"Total"]
[1,{"$nulls":10},3]
[2,{"$nulls":10},4]
[]
["Team",{"$nulls":3},{"$f":"C510","v":0},null,"points",{"$nulls":5},"Team",{"$nulls":3},{"$f":"G510","v":0},null,"points"]
[]
[]
[{"$f":"$A$1","v":0}]
["ROUND  2"]
[null,null,"TEAM NUMBER",{"$nulls":3},{"$f":"DRAW!$C$27","v":0},{"$nulls":6},"RINK NUMBER",{"$nulls":3},{"$f":"DRAW!$H$27","v":0}]
[]
[null,null,"First Set",{"$nulls":10},"Second Set"]
[null,null,{"$f":"G531","v":0},{"$nulls":3},{"$f":"DRAW!$I$27","v":0},{"$nulls":6},{"$f":"G531","v":0},{"$nulls":3},{"$f":"DRAW!$I$27","v":0}]
["End",null,"Shots",null,"Total",null,"Shots",null,"Total",{"$nulls":4},"Shots",null,"Total",null,"Shots",null,"Total"]
[1]
[2]
[3]
[4]
[5]
[6]
[7]
[8]
[9]
[null,null,"Tie Break Set (if needed)"]
["End",null,"Shots",null,"Total",null,"Shots",null,"Total",null,null,"End",null,"Shots",null,"Total",null,"Shots",null,"Total"]
[1,{"$nulls":10},3]
[2,{"$nulls":10},4]
[]
["Team",{"$nulls":3},{"$f":"C534","v":0},null,"points",{"$nulls":5},"Team",{"$nulls":3},{"$f":"G534","v":0},null,"points"]
[]
[]
[{"$f":"$A$1","v":0}]
["ROUND  2"]
[null,null,"TEAM NUMBER",{"$nulls":3},{"$f":"DRAW!$C$28","v":0},{"$nulls":6},"RINK NUMBER",{"$nulls":3},{"$f":"DRAW!$H$28","v":0}]
[]
[null,null,"First Set",{"$nulls":10},"Second Set"]
[null,null,{"$f":"G555","v":0},{"$nulls":3},{"$f":"DRAW!$I$28","v":0},{"$nulls":6},{"$f":"G555","v":0},{"$nulls":3},{"$f":"DRAW!$I$28","v":0}]
["End",null,"Shots",null,"Total",null,"Shots",null,"Total",{"$nulls":4},"Shots",null,"Total",null,"Shots",null,"Total"]
[1]
[2]
[3]
[4]
[5]
[6]
[7]
[8]
[9]
[null,null,"Tie Break Set (if needed)"]
["End",null,"Shots",null,"Total",null,"Shots",null,"Total",null,null,"End",null,"Shots",null,"Total",null,"Shots",null,"Total"]
[1,{"$nulls":10},3]
[2,{"$nulls":10},4]
[]
["Team",{"$nulls":3},{"$f":"C558","v":0},null,"points",{"$nulls":5},"Team",{"$nulls":3},{"$f":"G558","v":0},null,"points"]
[]
[]
[{"$f":"$A$1","v":0}]
["ROUND  2"]
[null,null,"TEAM NUMBER",{"$nulls":3},{"$f":"DRAW!$C$29","v":0},{"$nulls":6},"RINK NUMBER",{"$nulls":3},{"$f":"DRAW!$H$29","v":0}]
[]
[null,null,"First Set",{"$nulls":10},"Second Set"]
[null,null,{"$f":"G579","v":0},{"$nulls":3},{"$f":"DRAW!$I$29","v":0},{"$nulls":6},{"$f":"G579","v":0},{"$nulls":3},{"$f":"DRAW!$I$29","v":0}]
["End",null,"Shots",null,"Total",null,"Shots",null,"Total",{"$nulls":4},"Shots",null,"Total",null,"Shots",null,"Total"]
[1]
[2]
[3]
[4]
[5]
[6]
[7]
[8]
[9]
[null,null,"Tie Break Set (if needed)"]
["End",null,"Shots",null,"Total",null,"Shots",null,"Total",null,null,"End",null,"Shots",null,"Total",null,"Shots",null,"Total"]
[1,{"$nulls":10},3]
[2,{"$nulls":10},4]
[]
["Team",{"$nulls":3},{"$f":"C582","v":0},null,"points",{"$nulls":5},"Team",{"$nulls":3},{"$f":"G582","v":0},null,"points"]
[]
[]
[{"$f":"$A$1","v":0}]
["ROUND  2"]
[null,null,"TEAM NUMBER",{"$nulls":3},{"$f":"DRAW!$C$30","v":0},{"$nulls":6},"RINK NUMBER",{"$nulls":3},{"$f":"DRAW!$H$30","v":0}]
[]
[null,null,"First Set",{"$nulls":10},"Second Set"]
[null,null,{"$f":"G603","v":0},{"$nulls":3},{"$f":"DRAW!$I$30","v":0},{"$nulls":6},{"$f":"G603","v":0},{"$nulls":3},{"$f":"DRAW!$I$30","v":0}]
["End",null,"Shots",null,"Total",null,"Shots",null,"Total",{"$nulls":4},"Shots",null,"Total",null,"Shots",null,"Total"]
[1]
[2]
[3]
[4]
[5]
[6]
[7]
[8]
[9]
[null,null,"Tie Break Set (if needed)"]
["End",null,"Shots",null,"Total",null,"Shots",null,"Total",null,null,"End",null,"Shots",null,"Total",null,"Shots",null,"Total"]
[1,{"$nulls":10},3]
[2,{"$nulls":10},4]
[]
["Team",{"$nulls":3},{"$f":"C606","v":0},null,"points",{"$nulls":5},"Team",{"$nulls":3},{"$f":"G606","v":0},null,"points"]
[]
[]
[{"$f":"$A$1","v":0}]
["ROUND  2"]
[null,null,"TEAM NUMBER",{"$nulls":3},{"$f":"DRAW!$C$31","v":0},{"$nulls":6},"RINK NUMBER",{"$nulls":3},{"$f":"DRAW!$H$31","v":0}]
[]
[null,null,"First Set",{"$nulls":10},"Second Set"]
[null,null,{"$f":"G627","v":0},{"$nulls":3},{"$f":"DRAW!$I$31","v":0},{"$nulls":6},{"$f":"G627","v":0},{"$nulls":3},{"$f":"DRAW!$I$31","v":0}]
["End",null,"Shots",null,"Total",null,"Shots",null,"Total",{"$nulls":4},"Shots",null,"Total",null,"Shots",null,"Total"]
[1]
[2]
[3]
[4]
[5]
[6]
[7]
[8]
[9]
[null,null,"Tie Break Set (if needed)"]
["End",null,"Shots",null,"Total",null,"Shots",null,"Total",null,null,"End",null,"Shots",null,"Total",null,"Shots",null,"Total"]
[1,{"$nulls":10},3]
[2,{"$nulls":10},4]
[]
["Team",{"$nulls":3},{"$f":"C630","v":0},null,"points",{"$nulls":5},"Team",{"$nulls":3},{"$f":"G630","v":0},null,"points"]
[]
[]
[{"$f":"$A$1","v":0}]
["ROUND  2"]
[null,null,"TEAM NUMBER",{"$nulls":3},{"$f":"DRAW!$C$32","v":0},{"$nulls":6},"RINK NUMBER",{"$nulls":3},{"$f":"DRAW!$H$32","v":0}]
[]
[null,null,"First Set",{"$nulls":10},"Second Set"]
[null,null,{"$f":"G651","v":0},{"$nulls":3},{"$f":"DRAW!$I$32","v":0},{"$nulls":6},{"$f":"G651","v":0},{"$nulls":3},{"$f":"DRAW!$I$32","v":0}]
["End",null,"Shots",null,"Total",null,"Shots",null,"Total",{"$nulls":4},"Shots",null,"Total",null,"Shots",null,"Total"]
[1]
[2]
[3]
[4]
[5]
[6]
[7]
[8]
[9]
[null,null,"Tie Break Set (if needed)"]
["End",null,"Shots",null,"Total",null,"Shots",null,"Total",null,null,"End",null,"Shots",null,"Total",null,"Shots",null,"Total"]
[1,{"$nulls":10},3]
[2,{"$nulls":10},4]
[]
["Team",{"$nulls":3},{"$f":"C654","v":0},null,"points",{"$nulls":5},"Team",{"$nulls":3},{"$f":"G654","v":0},null,"points"]
[]
[]
[{"$f":"$A$1","v":0}]
["ROUND  2"]
[null,null,"TEAM NUMBER",{"$nulls":3},{"$f":"DRAW!$C$33","v":0},{"$nulls":6},"RINK NUMBER",{"$nulls":3},{"$f":"DRAW!$H$33","v":0}]
[]
[null,null,"First Set",{"$nulls":10},"Second Set"]
[null,null,{"$f":"G675","v":0},{"$nulls":3},{"$f":"DRAW!$I$33","v":0},{"$nulls":6},{"$f":"G675","v":0},{"$nulls":3},{"$f":"DRAW!$I$33","v":0}]
["End",null,"Shots",null,"Total",null,"Shots",null,"Total",{"$nulls":4},"Shots",null,"Total",null,"Shots",null,"Total"]
[1]
[2]
[3]
[4]
[5]
[6]
[7]
[8]
[9]
[null,null,"Tie Break Set (if needed)"]
["End",null,"Shots",null,"Total",null,"Shots",null,"Total",null,null,"End",null,"Shots",null,"Total",null,"Shots",null,"Total"]
[1,{"$nulls":10},3]
[2,{"$nulls":10},4]
[]
["Team",{"$nulls":3},{"$f":"C678","v":0},null,"points",{"$nulls":5},"Team",{"$nulls":3},{"$f":"G678","v":0},null,"points"]
[]
[]
[{"$f":"$A$1","v":0}]
["ROUND  2"]
[null,null,"TEAM NUMBER",{"$nulls":3},{"$f":"DRAW!$C$34","v":0},{"$nulls":6},"RINK NUMBER",{"$nulls":3},{"$f":"DRAW!$H$34","v":0}]
[]
[null,null,"First Set",{"$nulls":10},"Second Set"]
[null,null,{"$f":"G699","v":0},{"$nulls":3},{"$f":"DRAW!$I$34","v":0},{"$nulls":6},{"$f":"G699","v":0},{"$nulls":3},{"$f":"DRAW!$I$34","v":0}]
["End",null,"Shots",null,"Total",null,"Shots",null,"Total",{"$nulls":4},"Shots",null,"Total",null,"Shots",null,"Total"]
[1]
[2]
[3]
[4]
[5]
[6]
[7]
[8]
[9]
[null,null,"Tie Break Set (if needed)"]
["End",null,"Shots",null,"Total",null,"Shots",null,"Total",null,null,"End",null,"Shots",null,"Total",null,"Shots",null,"Total"]
[1,{"$nulls":10},3]
[2,{"$nulls":10},4]
[]
["Team",{"$nulls":3},{"$f":"C702","v":0},null,"points",{"$nulls":5},"Team",{"$nulls":3},{"$f":"G702","v":0},null,"points"]
[]
[]
[{"$f":"$A$1","v":0}]
["ROUND  2"]
[null,null,"TEAM NUMBER",{"$nulls":3},{"$f":"DRAW!$C$35","v":0},{"$nulls":6},"RINK NUMBER",{"$nulls":3},{"$f":"DRAW!$H$35","v":0}]
[]
[null,null,"First Set",{"$nulls":10},"Second Set"]
[null,null,{"$f":"G723","v":0},{"$nulls":3},{"$f":"DRAW!$I$35","v":0},{"$nulls":6},{"$f":"G723","v":0},{"$nulls":3},{"$f":"DRAW!$I$35","v":0}]
["End",null,"Shots",null,"Total",null,"Shots",null,"Total",{"$nulls":4},"Shots",null,"Total",null,"Shots",null,"Total"]
[1]
[2]
[3]
[4]
[5]
[6]
[7]
[8]
[9]
[null,null,"Tie Break Set (if needed)"]
["End",null,"Shots",null,"Total",null,"Shots",null,"Total",null,null,"End",null,"Shots",null,"Total",null,"Shots",null,"Total"]
[1,{"$nulls":10},3]
[2,{"$nulls":10},4]
[]
["Team",{"$nulls":3},{"$f":"C726","v":0},null,"points",{"$nulls":5},"Team",{"$nulls":3},{"$f":"G726","v":0},null,"points"]
[]
[]
[{"$f":"$A$1","v":0}]
["ROUND  2"]
[null,null,"TEAM NUMBER",{"$nulls":3},{"$f":"DRAW!$C$36","v":0},{"$nulls":6},"RINK NUMBER",{"$nulls":3},{"$f":"DRAW!$H$36","v":0}]
[]
[null,null,"First Set",{"$nulls":10},"Second Set"]
[null,null,{"$f":"G747","v":0},{"$nulls":3},{"$f":"DRAW!$I$36","v":0},{"$nulls":6},{"$f":"G747","v":0},{"$nulls":3},{"$f":"DRAW!$I$36","v":0}]
["End",null,"Shots",null,"Total",null,"Shots",null,"Total",{"$nulls":4},"Shots",null,"Total",null,"Shots",null,"Total"]
[1]
[2]
[3]
[4]
[5]
[6]
[7]
[8]
[9]
[null,null,"Tie Break Set (if needed)"]
["End",null,"Shots",null,"Total",null,"Shots",null,"Total",null,null,"End",null,"Shots",null,"Total",null,"Shots",null,"Total"]
[1,{"$nulls":10},3]
[2,{"$nulls":10},4]
[]
["Team",{"$nulls":3},{"$f":"C750","v":0},null,"points",{"$nulls":5},"Team",{"$nulls":3},{"$f":"G750","v":0},null,"points"]
[]
[]
[{"$f":"$A$1","v":0}]
["ROUND  2"]
[null,null,"TEAM NUMBER",{"$nulls":3},{"$f":"DRAW!$C$37","v":0},{"$nulls":6},"RINK NUMBER",{"$nulls":3},{"$f":"DRAW!$H$37","v":0}]
[]
[null,null,"First Set",{"$nulls":10},"Second Set"]
[null,null,{"$f":"G771","v":0},{"$nulls":3},{"$f":"DRAW!$I$37","v":0},{"$nulls":6},{"$f":"G771","v":0},{"$nulls":3},{"$f":"DRAW!$I$37","v":0}]
["End",null,"Shots",null,"Total",null,"Shots",null,"Total",{"$nulls":4},"Shots",null,"Total",null,"Shots",null,"Total"]
[1]
[2]
[3]
[4]
[5]
[6]
[7]
[8]
[9]
[null,null,"Tie Break Set (if needed)"]
["End",null,"Shots",null,"Total",null,"Shots",null,"Total",null,null,"End",null,"Shots",null,"Total",null,"Shots",null,"Total"]
[1,{"$nulls":10},3]
[2,{"$nulls":10},4]
[]
["Team",{"$nulls":3},{"$f":"C774","v":0},null,"points",{"$nulls":5},"Team",{"$nulls":3},{"$f":"G774","v":0},null,"points"]
[]
[]
[{"$f":"$A$1","v":0}]
["ROUND  2"]
[null,null,"TEAM NUMBER",{"$nulls":3},{"$f":"DRAW!$C$38","v":0},{"$nulls":6},"RINK NUMBER",{"$nulls":3},{"$f":"DRAW!$H$38","v":0}]
[]
[null,null,"First Set",{"$nulls":10},"Second Set"]
[null,null,{"$f":"G795","v":0},{"$nulls":3},{"$f":"DRAW!$I$38","v":0},{"$nulls":6},{"$f":"G795","v":0},{"$nulls":3},{"$f":"DRAW!$I$38","v":0}]
["End",null,"Shots",null,"Total",null,"Shots",null,"Total",{"$nulls":4},"Shots",null,"Total",null,"Shots",null,"Total"]
[1]
[2]
[3]
[4]
[5]
[6]
[7]
[8]
[9]
[null,null,"Tie Break Set (if needed)"]
["End",null,"Shots",null,"Total",null,"Shots",null,"Total",null,null,"End",null,"Shots",null,"Total",null,"Shots",null,"Total"]
[1,{"$nulls":10},3]
[2,{"$nulls":10},4]
[]
["Team",{"$nulls":3},{"$f":"C798","v":0},null,"points",{"$nulls":5},"Team",{"$nulls":3},{"$f":"G798","v":0},null,"points"]
[]
[]
[{"$f":"$A$1","v":0}]
["ROUND  2"]
[null,null,"TEAM NUMBER",{"$nulls":3},{"$f":"DRAW!$C$39","v":0},{"$nulls":6},"RINK NUMBER",{"$nulls":3},{"$f":"DRAW!$H$39","v":0}]
[]
[null,null,"First Set",{"$nulls":10},"Second Set"]
[null,null,{"$f":"G819","v":0},{"$nulls":3},{"$f":"DRAW!$I$39","v":0},{"$nulls":6},{"$f":"G819","v":0},{"$nulls":3},{"$f":"DRAW!$I$39","v":0}]
["End",null,"Shots",null,"Total",null,"Shots",null,"Total",{"$nulls":4},"Shots",null,"Total",null,"Shots",null,"Total"]
[1]
[2]
[3]
[4]
[5]
[6]
[7]
[8]
[9]
[null,null,"Tie Break Set (if needed)"]
["End",null,"Shots",null,"Total",null,"Shots",null,"Total",null,null,"End",null,"Shots",null,"Total",null,"Shots",null,"Total"]
[1,{"$nulls":10},3]
[2,{"$nulls":10},4]
[]
["Team",{"$nulls":3},{"$f":"C822","v":0},null,"points",{"$nulls":5},"Team",{"$nulls":3},{"$f":"G822","v":0},null,"points"]
[]
[]
[{"$f":"$A$1","v":0}]
["ROUND  2"]
[null,null,"TEAM NUMBER",{"$nulls":3},{"$f":"DRAW!$C$40","v":0},{"$nulls":6},"RINK NUMBER",{"$nulls":3},{"$f":"DRAW!$H$40","v":0}]
[]
[null,null,"First Set",{"$nulls":10},"Second Set"]
[null,null,{"$f":"G843","v":0},{"$nulls":3},{"$f":"DRAW!$I$40","v":0},{"$nulls":6},{"$f":"G843","v":0},{"$nulls":3},{"$f":"DRAW!$I$40","v":0}]
["End",null,"Shots",null,"Total",null,"Shots",null,"Total",{"$nulls":4},"Shots",null,"Total",null,"Shots",null,"Total"]
[1]
[2]
[3]
[4]
[5]
[6]
[7]
[8]
[9]
[null,null,"Tie Break Set (if needed)"]
["End",null,"Shots",null,"Total",null,"Shots",null,"Total",null,null,"End",null,"Shots",null,"Total",null,"Shots",null,"Total"]
[1,{"$nulls":10},3]
[2,{"$nulls":10},4]
[]
["Team",{"$nulls":3},{"$f":"C846","v":0},null,"points",{"$nulls":5},"Team",{"$nulls":3},{"$f":"G846","v":0},null,"points"]
[]
[]
[{"$f":"$A$1","v":0}]
["ROUND  2"]
[null,null,"TEAM NUMBER",{"$nulls":3},{"$f":"DRAW!$C$41","v":0},{"$nulls":6},"RINK NUMBER",{"$nulls":3},{"$f":"DRAW!$H$41","v":0}]
[]
[null,null,"First Set",{"$nulls":10},"Second Set"]
[null,null,{"$f":"G867","v":0},{"$nulls":3},{"$f":"DRAW!$I$41","v":0},{"$nulls":6},{"$f":"G867","v":0},{"$nulls":3},{"$f":"DRAW!$I$41","v":0}]
["End",null,"Shots",null,"Total",null,"Shots",null,"Total",{"$nulls":4},"Shots",null,"Total",null,"Shots",null,"Total"]
[1]
[2]
[3]
[4]
[5]
[6]
[7]
[8]
[9]
[null,null,"Tie Break Set (if needed)"]
["End",null,"Shots",null,"Total",null,"Shots",null,"Total",null,null,"End",null,"Shots",null,"Total",null,"Shots",null,"Total"]
[1,{"$nulls":10},3]
[2,{"$nulls":10},4]
[]
["Team",{"$nulls":3},{"$f":"C870","v":0},null,"points",{"$nulls":5},"Team",{"$nulls":3},{"$f":"G870","v":0},null,"points"]
[]
[]
[{"$f":"$A$1","v":0}]
["ROUND  2"]
[null,null,"TEAM NUMBER",{"$nulls":3},{"$f":"DRAW!$C$42","v":0},{"$nulls":6},"RINK NUMBER",{"$nulls":3},{"$f":"DRAW!$H$42","v":0}]
[]
[null,null,"First Set",{"$nulls":10},"Second Set"]
[null,null,{"$f":"G891","v":0},{"$nulls":3},{"$f":"DRAW!$I$42","v":0},{"$nulls":6},{"$f":"G891","v":0},{"$nulls":3},{"$f":"DRAW!$I$42","v":0}]
["End",null,"Shots",null,"Total",null,"Shots",null,"Total",{"$nulls":4},"Shots",null,"Total",null,"Shots",null,"Total"]
[1]
[2]
[3]
[4]
[5]
[6]
[7]
[8]
[9]
[null,null,"Tie Break Set (if needed)"]
["End",null,"Shots",null,"Total",null,"Shots",null,"Total",null,null,"End",null,"Shots",null,"Total",null,"Shots",null,"Total"]
[1,{"$nulls":10},3]
[2,{"$nulls":10},4]
[]
["Team",{"$nulls":3},{"$f":"C894","v":0},null,"points",{"$nulls":5},"Team",{"$nulls":3},{"$f":"G894","v":0},null,"points"]
[]
[]
[{"$f":"$A$1","v":0}]
["ROUND  2"]
[null,null,"TEAM NUMBER",{"$nulls":3},{"$f":"DRAW!$C$43","v":0},{"$nulls":6},"RINK NUMBER",{"$nulls":3},{"$f":"DRAW!$H$43","v":0}]
[]
[null,null,"First Set",{"$nulls":10},"Second Set"]
[null,null,{"$f":"G915","v":0},{"$nulls":3},{"$f":"DRAW!$I$43","v":0},{"$nulls":6},{"$f":"G915","v":0},{"$nulls":3},{"$f":"DRAW!$I$43","v":0}]
["End",null,"Shots",null,"Total",null,"Shots",null,"Total",{"$nulls":4},"Shots",null,"Total",null,"Shots",null,"Total"]
[1]
[2]
[3]
[4]
[5]
[6]
[7]
[8]
[9]
[null,null,"Tie Break Set (if needed)"]
["End",null,"Shots",null,"Total",null,"Shots",null,"Total",null,null,"End",null,"Shots",null,"Total",null,"Shots",null,"Total"]
[1,{"$nulls":10},3]
[2,{"$nulls":10},4]
[]
["Team",{"$nulls":3},{"$f":"C918","v":0},null,"points",{"$nulls":5},"Team",{"$nulls":3},{"$f":"G918","v":0},null,"points"]
[]
[]
[{"$f":"$A$1","v":0}]
["ROUND  2"]
[null,null,"TEAM NUMBER",{"$nulls":3},{"$f":"DRAW!$C$44","v":0},{"$nulls":6},"RINK NUMBER",{"$nulls":3},{"$f":"DRAW!$H$44","v":0}]
[]
[null,null,"First Set",{"$nulls":10},"Second Set"]
[null,null,{"$f":"G939","v":0},{"$nulls":3},{"$f":"DRAW!$I$44","v":0},{"$nulls":6},{"$f":"G939","v":0},{"$nulls":3},{"$f":"DRAW!$I$44","v":0}]
["End",null,"Shots",null,"Total",null,"Shots",null,"Total",{"$nulls":4},"Shots",null,"Total",null,"Shots",null,"Total"]
[1]
[2]
[3]
[4]
[5]
[6]
[7]
[8]
[9]
[null,null,"Tie Break Set (if needed)"]
["End",null,"Shots",null,"Total",null,"Shots",null,"Total",null,null,"End",null,"Shots",null,"Total",null,"Shots",null,"Total"]
[1,{"$nulls":10},3]
[2,{"$nulls":10},4]
[]
["Team",{"$nulls":3},{"$f":"C942","v":0},null,"points",{"$nulls":5},"Team",{"$nulls":3},{"$f":"G942","v":0},null,"points"]
[]
[]
[{"$f":"$A$1","v":0}]
["ROUND  2"]
[null,null,"TEAM NUMBER",{"$nulls":3},{"$f":"DRAW!$C$45","v":0},{"$nulls":6},"RINK NUMBER",{"$nulls":3},{"$f":"DRAW!$H$45","v":0}]
[]
[null,null,"First Set",{"$nulls":10},"Second Set"]
[null,null,{"$f":"G963","v":0},{"$nulls":3},{"$f":"DRAW!$I$45","v":0},{"$nulls":6},{"$f":"G963","v":0},{"$nulls":3},{"$f":"DRAW!$I$45","v":0}]
["End",null,"Shots",null,"Total",null,"Shots",null,"Total",{"$nulls":4},"Shots",null,"Total",null,"Shots",null,"Total"]
[1]
[2]
[3]
[4]
[5]
[6]
[7]
[8]
[9]
[null,null,"Tie Break Set (if needed)"]
["End",null,"Shots",null,"Total",null,"Shots",null,"Total",null,null,"End",null,"Shots",null,"Total",null,"Shots",null,"Total"]
[1,{"$nulls":10},3]
[2,{"$nulls":10},4]
[]
["Team",{"$nulls":3},{"$f":"C966","v":0},null,"points",{"$nulls":5},"Team",{"$nulls":3},{"$f":"G966","v":0},null,"points"]
[]
[]
[{"$f":"$A$1","v":0}]
["ROUND  2"]
[null,null,"TEAM NUMBER",{"$nulls":3},{"$f":"DRAW!$C$46","v":0},{"$nulls":6},"RINK NUMBER",{"$nulls":3},{"$f":"DRAW!$H$46","v":0}]
[]
[null,null,"First Set",{"$nulls":10},"Second Set"]
[null,null,{"$f":"G987","v":0},{"$nulls":3},{"$f":"DRAW!$I$46","v":0},{"$nulls":6},{"$f":"G987","v":0},{"$nulls":3},{"$f":"DRAW!$I$46","v":0}]
["End",null,"Shots",null,"Total",null,"Shots",null,"Total",{"$nulls":4},"Shots",null,"Total",null,"Shots",null,"Total"]
[1]
[2]
[3]
[4]
[5]
[6]
[7]
[8]
[9]
[null,null,"Tie Break Set (if needed)"]
["End",null,"Shots",null,"Total",null,"Shots",null,"Total",null,null,"End",null,"Shots",null,"Total",null,"Shots",null,"Total"]
[1,{"$nulls":10},3]
[2,{"$nulls":10},4]
[]
["Team",{"$nulls":3},{"$f":"C990","v":0},null,"points",{"$nulls":5},"Team",{"$nulls":3},{"$f":"G990","v":0},null,"points"]

{"sheet":"Round 3 Cards","index":12,"n_rows":1006,"n_cols":20,"rows_kept":1006,"merged":[[837,18,837,21],[839,3,839,7],[839,15,839,19],[840,0,840,21],[841,0,841,21],[844,2,844,10],[844,13,844,21],[845,2,845,5],[845,6,845,10],[845,13,845,16],[845,17,845,21],[846,0,846,1],[846,2,846,3],[846,4,846,5],[846,6,846,7],[846,8,846,10],[846,13,846,14],[846,15,846,16],[846,17,846,18],[846,19,846,21],[847,0,847,1],[847,2,847,3],[847,4,847,5],[847,6,847,7],[847,8,847,10],[847,13,847,14],[847,15,847,16],[847,17,847,18],[847,19,847,21],[848,0,848,1],[848,2,848,3],[848,4,848,5],[848,6,848,7],[848,8,848,10],[848,13,848,14],[848,15,848,16],[848,17,848,18],[848,19,848,21],[849,0,849,1],[849,2,849,3],[849,4,849,5],[849,6,849,7],[849,8,849,10],[849,13,849,14],[849,15,849,16],[849,17,849,18],[849,19,849,21],[850,0,850,1],[850,2,850,3],[850,4,850,5],[850,6,850,7],[850,8,850,10],[850,13,850,14],[850,15,850,16],[850,17,850,18],[850,19,850,21],[851,0,851,1],[851,2,851,3],[851,4,851,5],[851,6,851,7],[851,8,851,10],[851,13,851,14],[851,15,851,16],[851,17,851,18],[851,19,851,21],[851,22,851,23],[852,0,852,1],[852,2,852,3],[852,4,852,5],[852,6,852,7],[852,8,852,10],[852,13,852,14],[852,15,852,16],[852,17,852,18],[852,19,852,21],[853,0,853,1],[853,2,853,3],[853,4,853,5],[853,6,853,7],[853,8,853,10],[853,13,853,14],[853,15,853,16],[853,17,853,18],[853,19,853,21],[854,0,854,1],[854,2,854,3],[854,4,854,5],[854,6,854,7],[854,8,854,10],[854,13,854,14],[854,15,854,16],[854,17,854,18],[854,19,854,21],[855,0,855,1],[855,2,855,3],[855,4,855,5],[855,6,855,7],[855,8,855,10],[855,13,855,14],[855,15,855,16],[855,17,855,18],[855,19,855,21],[856,2,856,21],[857,0,857,1],[857,2,857,3],[857,4,857,5],[857,6,857,7],[857,8,857,10],[857,11,857,12],[857,13,857,14],[857,15,857,16],[857,17,857,18],[857,19,857,21],[858,0,858,1],[858,2,858,3],[858,4,858,5],[858,6,858,7],[858,8,858,10],[858,11,858,12],[858,13,858,14],[858,15,858,16],[858,17,858,18],[858,19,858,21],[859,0,859,1],[859,2,859,3],[859,4,859,5],[859,6,859,7],[859,8,859,10],[859,11,859,12],[859,13,859,14],[859,15,859,16],[859,17,859,18],[859,19,859,21],[860,11,860,21],[861,0,861,3],[861,4,861,5],[861,6,861,10],[861,12,861,15],[861,16,861,17],[861,18,861,21],[863,3,863,7],[863,15,863,19],[864,0,864,21],[865,0,865,21],[866,2,867,5],[866,6,867,10],[866,13,867,16],[866,17,867,21],[868,2,868,10],[868,13,868,21],[869,2,869,5],[869,6,869,10],[869,13,869,16],[869,17,869,21],[870,0,870,1],[870,2,870,3],[870,4,870,5],[870,6,870,7],[870,8,870,10],[870,13,870,14],[870,15,870,16],[870,17,870,18],[870,19,870,21],[871,0,871,1],[871,2,871,3],[871,4,871,5],[871,6,871,7],[871,8,871,10],[871,13,871,14],[871,15,871,16],[871,17,871,18],[871,19,871,21],[872,0,872,1],[872,2,872,3],[872,4,872,5],[872,6,872,7],[872,8,872,10],[872,13,872,14],[872,15,872,16],[872,17,872,18],[872,19,872,21],[873,0,873,1],[873,2,873,3],[873,4,873,5],[873,6,873,7],[873,8,873,10],[873,13,873,14],[873,15,873,16],[873,17,873,18],[873,19,873,21],[874,0,874,1],[874,2,874,3],[874,4,874,5],[874,6,874,7],[874,8,874,10],[874,13,874,14],[874,15,874,16],[874,17,874,18],[874,19,874,21],[875,0,875,1],[875,2,875,3],[875,4,875,5],[875,6,875,7],[875,8,875,10],[875,13,875,14],[875,15,875,16],[875,17,875,18],[875,19,875,21],[875,22,875,23],[876,0,876,1],[876,2,876,3],[876,4,876,5],[876,6,876,7],[876,8,876,10],[876,13,876,14],[876,15,876,16],[876,17,876,18],[876,19,876,21],[877,0,877,1],[877,2,877,3],[877,4,877,5],[877,6,877,7],[877,8,877,10],[877,13,877,14],[877,15,877,16],[877,17,877,18],[877,19,877,21],[878,0,878,1],[878,2,878,3],[878,4,878,5],[878,6,878,7],[878,8,878,10],[878,13,878,14],[878,15,878,16],[878,17,878,18],[878,19,878,21],[879,0,879,1],[879,2,879,3],[879,4,879,5],[879,6,879,7],[879,8,879,10],[879,13,879,14],[879,15,879,16],[879,17,879,18],[879,19,879,21],[880,2,880,21],[881,0,881,1],[881,2,881,3],[881,4,881,5],[881,6,881,7],[881,8,881,10],[881,11,881,12],[881,13,881,14],[881,15,881,16],[881,17,881,18],[881,19,881,21],[882,0,882,1],[882,2,882,3],[882,4,882,5],[882,6,882,7],[882,8,882,10],[882,11,882,12],[882,13,882,14],[882,15,882,16],[882,17,882,18],[882,19,882,21],[883,0,883,1],[883,2,883,3],[883,4,883,5],[883,6,883,7],[883,8,883,10],[883,11,883,12],[883,13,883,14],[883,15,883,16],[883,17,883,18],[883,19,883,21],[884,11,884,21],[885,0,885,3],[885,4,885,5],[885,6,885,10],[885,12,885,15],[885,16,885,17],[885,18,885,21],[887,3,887,7],[887,15,887,19],[888,0,888,21],[889,0,889,21],[890,2,891,5],[890,6,891,10],[890,13,891,16],[890,17,891,21],[892,2,892,10],[892,13,892,21],[893,2,893,5],[893,6,893,10],[893,13,893,16],[893,17,893,21],[894,0,894,1],[894,2,894,3],[894,4,894,5],[894,6,894,7],[894,8,894,10],[894,13,894,14],[894,15,894,16],[894,17,894,18],[894,19,894,21],[895,0,895,1],[895,2,895,3],[895,4,895,5],[895,6,895,7],[895,8,895,10],[895,13,895,14],[895,15,895,16],[895,17,895,18],[895,19,895,21],[896,0,896,1],[896,2,896,3],[896,4,896,5],[896,6,896,7],[896,8,896,10],[896,13,896,14],[896,15,896,16],[896,17,896,18],[896,19,896,21],[897,0,897,1],[897,2,897,3],[897,4,897,5],[897,6,897,7],[897,8,897,10],[897,13,897,14],[897,15,897,16],[897,17,897,18],[897,19,897,21],[898,0,898,1],[898,2,898,3],[898,4,898,5],[898,6,898,7],[898,8,898,10],[898,13,898,14],[898,15,898,16],[898,17,898,18],[898,19,898,21],[899,0,899,1],[899,2,899,3],[899,4,899,5],[899,6,899,7],[899,8,899,10],[899,13,899,14],[899,15,899,16],[899,17,899,18],[899,19,899,21],[899,22,899,23],[900,0,900,1],[900,2,900,3],[900,4,900,5],[900,6,900,7],[900,8,900,10],[900,13,900,14],[900,15,900,16],[900,17,900,18],[900,19,900,21],[901,0,901,1],[901,2,901,3],[901,4,901,5],[901,6,901,7],[901,8,901,10],[901,13,901,14],[901,15,901,16],[901,17,901,18],[901,19,901,21],[902,0,902,1],[902,2,902,3],[902,4,902,5],[902,6,902,7],[902,8,902,10],[902,13,902,14],[902,15,902,16],[902,17,902,18],[902,19,902,21],[903,0,903,1],[903,2,903,3],[903,4,903,5],[903,6,903,7],[903,8,903,10],[903,13,903,14],[903,15,903,16],[903,17,903,18],[903,19,903,21],[904,2,904,21],[905,0,905,1],[905,2,905,3],[905,4,905,5],[905,6,905,7],[905,8,905,10],[905,11,905,12],[905,13,905,14],[905,15,905,16],[905,17,905,18],[905,19,905,21],[906,0,906,1],[906,2,906,3],[906,4,906,5],[906,6,906,7],[906,8,906,10],[906,11,906,12],[906,13,906,14],[906,15,906,16],[906,17,906,18],[906,19,906,21],[907,0,907,1],[907,2,907,3],[907,4,907,5],[907,6,907,7],[907,8,907,10],[907,11,907,12],[907,13,907,14],[907,15,907,16],[907,17,907,18],[907,19,907,21],[908,11,908,21],[909,0,909,3],[909,4,909,5],[909,6,909,10],[909,12,909,15],[909,16,909,17],[909,18,909,21],[911,3,911,7],[911,15,911,19],[912,0,912,21],[913,0,913,21],[914,2,915,5],[914,6,915,10],[914,13,915,16],[914,17,915,21],[916,2,916,10],[916,13,916,21],[917,2,917,5],[917,6,917,10],[917,13,917,16],[917,17,917,21],[918,0,918,1],[918,2,918,3],[918,4,918,5],[918,6,918,7],[918,8,918,10],[918,13,918,14],[918,15,918,16],[918,17,918,18],[918,19,918,21],[919,0,919,1],[919,2,919,3],[919,4,919,5],[919,6,919,7],[919,8,919,10],[919,13,919,14],[919,15,919,16],[919,17,919,18],[919,19,919,21],[920,0,920,1],[920,2,920,3],[920,4,920,5],[920,6,920,7],[920,8,920,10],[920,13,920,14],[920,15,920,16],[920,17,920,18],[920,19,920,21],[921,0,921,1],[921,2,921,3],[921,4,921,5],[921,6,921,7],[921,8,921,10],[921,13,921,14],[921,15,921,16],[921,17,921,18],[921,19,921,21],[922,0,922,1],[922,2,922,3],[922,4,922,5],[922,6,922,7],[922,8,922,10],[922,13,922,14],[922,15,922,16],[922,17,922,18],[922,19,922,21],[923,0,923,1],[923,2,923,3],[923,4,923,5],[923,6,923,7],[923,8,923,10],[923,13,923,14],[923,15,923,16],[923,17,923,18],[923,19,923,21],[923,22,923,23],[924,0,924,1],[924,2,924,3],[924,4,924,5],[924,6,924,7],[924,8,924,10],[924,13,924,14],[924,15,924,16],[924,17,924,18],[924,19,924,21],[925,0,925,1],[925,2,925,3],[925,4,925,5],[925,6,925,7],[925,8,925,10],[925,13,925,14],[925,15,925,16],[925,17,925,18],[925,19,925,21],[926,0,926,1],[926,2,926,3],[926,4,926,5],[926,6,926,7],[926,8,926,10],[926,13,926,14],[926,15,926,16],[926,17,926,18],[926,19,926,21],[927,0,927,1],[927,2,927,3],[927,4,927,5],[927,6,927,7],[927,8,927,10],[927,13,927,14],[927,15,927,16],[927,17,927,18],[927,19,927,21],[928,2,928,21],[929,0,929,1],[929,2,929,3],[929,4,929,5],[929,6,929,7],[929,8,929,10],[929,11,929,12],[929,13,929,14],[929,15,929,16],[929,17,929,18],[929,19,929,21],[930,0,930,1],[930,2,930,3],[930,4,930,5],[930,6,930,7],[930,8,930,10],[930,11,930,12],[930,13,930,14],[930,15,930,16],[930,17,930,18],[930,19,930,21],[931,0,931,1],[931,2,931,3],[931,4,931,5],[931,6,931,7],[931,8,931,10],[931,11,931,12],[931,13,931,14],[931,15,931,16],[931,17,931,18],[931,19,931,21],[932,11,932,21],[933,0,933,3],[933,4,933,5],[933,6,933,10],[933,12,933,15],[933,16,933,17],[933,18,933,21],[935,3,935,7],[935,15,935,19],[936,0,936,21],[937,0,937,21],[938,2,939,5],[938,6,939,10],[938,13,939,16],[938,17,939,21],[940,2,940,10],[940,13,940,21],[941,2,941,5],[941,6,941,10],[941,13,941,16],[941,17,941,21],[942,0,942,1],[942,2,942,3],[942,4,942,5],[942,6,942,7],[942,8,942,10],[942,13,942,14],[942,15,942,16],[942,17,942,18],[942,19,942,21],[943,0,943,1],[943,2,943,3],[943,4,943,5],[943,6,943,7],[943,8,943,10],[943,13,943,14],[943,15,943,16],[943,17,943,18],[943,19,943,21],[944,0,944,1],[944,2,944,3],[944,4,944,5],[944,6,944,7],[944,8,944,10],[944,13,944,14],[944,15,944,16],[944,17,944,18],[944,19,944,21],[945,0,945,1],[945,2,945,3],[945,4,945,5],[945,6,945,7],[945,8,945,10],[945,13,945,14],[945,15,945,16],[945,17,945,18],[945,19,945,21],[946,0,946,1],[946,2,946,3],[946,4,946,5],[946,6,946,7],[946,8,946,10],[946,13,946,14],[946,15,946,16],[946,17,946,18],[946,19,946,21],[947,0,947,1],[947,2,947,3],[947,4,947,5],[947,6,947,7],[947,8,947,10],[947,13,947,14],[947,15,947,16],[947,17,947,18],[947,19,947,21],[947,22,947,23],[948,0,948,1],[948,2,948,3],[948,4,948,5],[948,6,948,7],[948,8,948,10],[948,13,948,14],[948,15,948,16],[948,17,948,18],[948,19,948,21],[949,0,949,1],[949,2,949,3],[949,4,949,5],[949,6,949,7],[949,8,949,10],[949,13,949,14],[949,15,949,16],[949,17,949,18],[949,19,949,21],[950,0,950,1],[950,2,950,3],[950,4,950,5],[950,6,950,7],[950,8,950,10],[950,13,950,14],[950,15,950,16],[950,17,950,18],[950,19,950,21],[951,0,951,1],[951,2,951,3],[951,4,951,5],[951,6,951,7],[951,8,951,10],[951,13,951,14],[951,15,951,16],[951,17,951,18],[951,19,951,21],[952,2,952,21],[953,0,953,1],[953,2,953,3],[953,4,953,5],[953,6,953,7],[953,8,953,10],[953,11,953,12],[953,13,953,14],[953,15,953,16],[953,17,953,18],[953,19,953,21],[954,0,954,1],[954,2,954,3],[954,4,954,5],[954,6,954,7],[954,8,954,10],[954,11,954,12],[954,13,954,14],[954,15,954,16],[954,17,954,18],[954,19,954,21],[955,0,955,1],[955,2,955,3],[955,4,955,5],[955,6,955,7],[955,8,955,10],[955,11,955,12],[955,13,955,14],[955,15,955,16],[955,17,955,18],[955,19,955,21],[956,11,956,21],[957,0,957,3],[957,4,957,5],[957,6,957,10],[957,12,957,15],[957,16,957,17],[957,18,957,21],[959,3,959,7],[959,15,959,19],[960,0,960,21],[961,0,961,21],[962,2,963,5],[962,6,963,10],[962,13,963,16],[962,17,963,21],[964,2,964,10],[964,13,964,21],[965,2,965,5],[965,6,965,10],[965,13,965,16],[965,17,965,21],[966,0,966,1],[966,2,966,3],[966,4,966,5],[966,6,966,7],[966,8,966,10],[966,13,966,14],[966,15,966,16],[966,17,966,18],[966,19,966,21],[967,0,967,1],[967,2,967,3],[967,4,967,5],[967,6,967,7],[967,8,967,10],[967,13,967,14],[967,15,967,16],[967,17,967,18],[967,19,967,21],[968,0,968,1],[968,2,968,3],[968,4,968,5],[968,6,968,7],[968,8,968,10],[968,13,968,14],[968,15,968,16],[968,17,968,18],[968,19,968,21],[969,0,969,1],[969,2,969,3],[969,4,969,5],[969,6,969,7],[969,8,969,10],[969,13,969,14],[969,15,969,16],[969,17,969,18],[969,19,969,21],[970,0,970,1],[970,2,970,3],[970,4,970,5],[970,6,970,7],[970,8,970,10],[970,13,970,14],[970,15,970,16],[970,17,970,18],[970,19,970,21],[971,0,971,1],[971,2,971,3],[971,4,971,5],[971,6,971,7],[971,8,971,10],[971,13,971,14],[971,15,971,16],[971,17,971,18],[971,19,971,21],[971,22,971,23],[972,0,972,1],[972,2,972,3],[972,4,972,5],[972,6,972,7],[972,8,972,10],[972,13,972,14],[972,15,972,16],[972,17,972,18],[972,19,972,21],[973,0,973,1],[973,2,973,3],[973,4,973,5],[973,6,973,7],[973,8,973,10],[973,13,973,14],[973,15,973,16],[973,17,973,18],[973,19,973,21],[974,0,974,1],[974,2,974,3],[974,4,974,5],[974,6,974,7],[974,8,974,10],[974,13,974,14],[974,15,974,16],[974,17,974,18],[974,19,974,21],[975,0,975,1],[975,2,975,3],[975,4,975,5],[975,6,975,7],[975,8,975,10],[975,13,975,14],[975,15,975,16],[975,17,975,18],[975,19,975,21],[976,2,976,21],[977,0,977,1],[977,2,977,3],[977,4,977,5],[977,6,977,7],[977,8,977,10],[977,11,977,12],[977,13,977,14],[977,15,977,16],[977,17,977,18],[977,19,977,21],[978,0,978,1],[978,2,978,3],[978,4,978,5],[978,6,978,7],[978,8,978,10],[978,11,978,12],[978,13,978,14],[978,15,978,16],[978,17,978,18],[978,19,978,21],[979,0,979,1],[979,2,979,3],[979,4,979,5],[979,6,979,7],[979,8,979,10],[979,11,979,12],[979,13,979,14],[979,15,979,16],[979,17,979,18],[979,19,979,21],[980,11,980,21],[981,0,981,3],[981,4,981,5],[981,6,981,10],[981,12,981,15],[981,16,981,17],[981,18,981,21],[983,3,983,7],[983,15,983,19],[984,0,984,21],[985,0,985,21],[986,2,987,5],[986,6,987,10],[986,13,987,16],[986,17,987,21],[988,2,988,10],[988,13,988,21],[989,2,989,5],[989,6,989,10],[989,13,989,16],[989,17,989,21],[990,0,990,1],[990,2,990,3],[990,4,990,5],[990,6,990,7],[990,8,990,10],[990,13,990,14],[990,15,990,16],[990,17,990,18],[990,19,990,21],[991,0,991,1],[991,2,991,3],[991,4,991,5],[991,6,991,7],[991,8,991,10],[991,13,991,14],[991,15,991,16],[991,17,991,18],[991,19,991,21],[992,0,992,1],[992,2,992,3],[992,4,992,5],[992,6,992,7],[992,8,992,10],[992,13,992,14],[992,15,992,16],[992,17,992,18],[992,19,992,21],[993,0,993,1],[993,2,993,3],[993,4,993,5],[993,6,993,7],[993,8,993,10],[993,13,993,14],[993,15,993,16],[993,17,993,18],[993,19,993,21],[994,0,994,1],[994,2,994,3],[994,4,994,5],[994,6,994,7],[994,8,994,10],[994,13,994,14],[994,15,994,16],[994,17,994,18],[994,19,994,21],[995,0,995,1],[995,2,995,3],[995,4,995,5],[995,6,995,7],[995,8,995,10],[995,13,995,14],[995,15,995,16],[995,17,995,18],[995,19,995,21],[995,22,995,23],[996,0,996,1],[996,2,996,3],[996,4,996,5],[996,6,996,7],[996,8,996,10],[996,13,996,14],[996,15,996,16],[996,17,996,18],[996,19,996,21],[997,0,997,1],[997,2,997,3],[997,4,997,5],[997,6,997,7],[997,8,997,10],[997,13,997,14],[997,15,997,16],[997,17,997,18],[997,19,997,21],[998,0,998,1],[998,2,998,3],[998,4,998,5],[998,6,998,7],[998,8,998,10],[998,13,998,14],[998,15,998,16],[998,17,998,18],[998,19,998,21],[999,0,999,1],[999,2,999,3],[999,4,999,5],[999,6,999,7],[999,8,999,10],[999,13,999,14],[999,15,999,16],[999,17,999,18],[999,19,999,21],[1000,2,1000,21],[1001,0,1001,1],[1001,2,1001,3],[1001,4,1001,5],[1001,6,1001,7],[1001,8,1001,10],[1001,11,1001,12],[1001,13,1001,14],[1001,15,1001,16],[1001,17,1001,18],[1001,19,1001,21],[1002,0,1002,1],[1002,2,1002,3],[1002,4,1002,5],[1002,6,1002,7],[1002,8,1002,10],[1002,11,1002,12],[1002,13,1002,14],[1002,15,1002,16],[1002,17,1002,18],[1002,19,1002,21],[1003,0,1003,1],[1003,2,1003,3],[1003,4,1003,5],[1003,6,1003,7],[1003,8,1003,10],[1003,11,1003,12],[1003,13,1003,14],[1003,15,1003,16],[1003,17,1003,18],[1003,19,1003,21],[1004,11,1004,21],[1005,0,1005,3],[1005,4,1005,5],[1005,6,1005,10],[1005,12,1005,15],[1005,16,1005,17],[1005,18,1005,21],[1007,3,1007,7],[1007,15,1007,19]],"merged_total":6006,"flags":["merged_cut"]}
[{"$f":"DRAW!$C$1","v":0}]
["ROUND  3"]
[null,null,"TEAM NUMBER",{"$nulls":3},{"$f":"DRAW!$C$5","v":0},{"$nulls":6},"RINK NUMBER",{"$nulls":3},{"$f":"DRAW!$J$5","v":0}]
[]
[null,null,"First Set",{"$nulls":10},"Second Set"]
[null,null,{"$f":"G3","v":0},{"$nulls":3},{"$f":"DRAW!$K$5","v":0},{"$nulls":6},{"$f":"G3","v":0},{"$nulls":3},{"$f":"DRAW!$K$5","v":0}]
["End",null,"Shots",null,"Total",null,"Shots",null,"Total",{"$nulls":4},"Shots",null,"Total",null,"Shots",null,"Total"]
[1]
[2]
[3]
[4]
[5]
[6]
[7]
[8]
[9]
[null,null,"Tie Break Set (if needed)"]
["End",null,"Shots",null,"Total",null,"Shots",null,"Total",null,null,"End",null,"Shots",null,"Total",null,"Shots",null,"Total"]
[1,{"$nulls":10},3]
[2,{"$nulls":10},4]
[]
["Team",{"$nulls":3},{"$f":"C6","v":0},null,"points",{"$nulls":5},"Team",{"$nulls":3},{"$f":"G6","v":0},null,"points"]
[]
[]
[{"$f":"$A$1","v":0}]
["ROUND  3"]
[null,null,"TEAM NUMBER",{"$nulls":3},{"$f":"DRAW!$C$6","v":0},{"$nulls":6},"RINK NUMBER",{"$nulls":3},{"$f":"DRAW!$J$6","v":0}]
[]
[null,null,"First Set",{"$nulls":10},"Second Set"]
[null,null,{"$f":"G27","v":0},{"$nulls":3},{"$f":"DRAW!$K$6","v":0},{"$nulls":6},{"$f":"G27","v":0},{"$nulls":3},{"$f":"DRAW!$K$6","v":0}]
["End",null,"Shots",null,"Total",null,"Shots",null,"Total",{"$nulls":4},"Shots",null,"Total",null,"Shots",null,"Total"]
[1]
[2]
[3]
[4]
[5]
[6]
[7]
[8]
[9]
[null,null,"Tie Break Set (if needed)"]
["End",null,"Shots",null,"Total",null,"Shots",null,"Total",null,null,"End",null,"Shots",null,"Total",null,"Shots",null,"Total"]
[1,{"$nulls":10},3]
[2,{"$nulls":10},4]
[]
["Team",{"$nulls":3},{"$f":"C30","v":0},null,"points",{"$nulls":5},"Team",{"$nulls":3},{"$f":"G30","v":0},null,"points"]
[]
[]
[{"$f":"$A$1","v":0}]
["ROUND  3"]
[null,null,"TEAM NUMBER",{"$nulls":3},{"$f":"DRAW!$C$7","v":0},{"$nulls":6},"RINK NUMBER",{"$nulls":3},{"$f":"DRAW!$J$7","v":0}]
[]
[null,null,"First Set",{"$nulls":10},"Second Set"]
[null,null,{"$f":"G51","v":0},{"$nulls":3},{"$f":"DRAW!$K$7","v":0},{"$nulls":6},{"$f":"G51","v":0},{"$nulls":3},{"$f":"DRAW!$K$7","v":0}]
["End",null,"Shots",null,"Total",null,"Shots",null,"Total",{"$nulls":4},"Shots",null,"Total",null,"Shots",null,"Total"]
[1]
[2]
[3]
[4]
[5]
[6]
[7]
[8]
[9]
[null,null,"Tie Break Set (if needed)"]
["End",null,"Shots",null,"Total",null,"Shots",null,"Total",null,null,"End",null,"Shots",null,"Total",null,"Shots",null,"Total"]
[1,{"$nulls":10},3]
[2,{"$nulls":10},4]
[]
["Team",{"$nulls":3},{"$f":"C54","v":0},null,"points",{"$nulls":5},"Team",{"$nulls":3},{"$f":"G54","v":0},null,"points"]
[]
[]
[{"$f":"$A$1","v":0}]
["ROUND  3"]
[null,null,"TEAM NUMBER",{"$nulls":3},{"$f":"DRAW!$C$8","v":0},{"$nulls":6},"RINK NUMBER",{"$nulls":3},{"$f":"DRAW!$J$8","v":0}]
[]
[null,null,"First Set",{"$nulls":10},"Second Set"]
[null,null,{"$f":"G75","v":0},{"$nulls":3},{"$f":"DRAW!$K$8","v":0},{"$nulls":6},{"$f":"G75","v":0},{"$nulls":3},{"$f":"DRAW!$K$8","v":0}]
["End",null,"Shots",null,"Total",null,"Shots",null,"Total",{"$nulls":4},"Shots",null,"Total",null,"Shots",null,"Total"]
[1]
[2]
[3]
[4]
[5]
[6]
[7]
[8]
[9]
[null,null,"Tie Break Set (if needed)"]
["End",null,"Shots",null,"Total",null,"Shots",null,"Total",null,null,"End",null,"Shots",null,"Total",null,"Shots",null,"Total"]
[1,{"$nulls":10},3]
[2,{"$nulls":10},4]
[]
["Team",{"$nulls":3},{"$f":"C78","v":0},null,"points",{"$nulls":5},"Team",{"$nulls":3},{"$f":"G78","v":0},null,"points"]
[]
[]
[{"$f":"$A$1","v":0}]
["ROUND  3"]
[null,null,"TEAM NUMBER",{"$nulls":3},{"$f":"DRAW!$C$9","v":0},{"$nulls":6},"RINK NUMBER",{"$nulls":3},{"$f":"DRAW!$J$9","v":0}]
[]
[null,null,"First Set",{"$nulls":10},"Second Set"]
[null,null,{"$f":"G99","v":0},{"$nulls":3},{"$f":"DRAW!$K$9","v":0},{"$nulls":6},{"$f":"G99","v":0},{"$nulls":3},{"$f":"DRAW!$K$9","v":0}]
["End",null,"Shots",null,"Total",null,"Shots",null,"Total",{"$nulls":4},"Shots",null,"Total",null,"Shots",null,"Total"]
[1]
[2]
[3]
[4]
[5]
[6]
[7]
[8]
[9]
[null,null,"Tie Break Set (if needed)"]
["End",null,"Shots",null,"Total",null,"Shots",null,"Total",null,null,"End",null,"Shots",null,"Total",null,"Shots",null,"Total"]
[1,{"$nulls":10},3]
[2,{"$nulls":10},4]
[]
["Team",{"$nulls":3},{"$f":"C102","v":0},null,"points",{"$nulls":5},"Team",{"$nulls":3},{"$f":"G102","v":0},null,"points"]
[]
[]
[{"$f":"$A$1","v":0}]
["ROUND  3"]
[null,null,"TEAM NUMBER",{"$nulls":3},{"$f":"DRAW!$C$10","v":0},{"$nulls":6},"RINK NUMBER",{"$nulls":3},{"$f":"DRAW!$J$10","v":0}]
[]
[null,null,"First Set",{"$nulls":10},"Second Set"]
[null,null,{"$f":"G123","v":0},{"$nulls":3},{"$f":"DRAW!$K$10","v":0},{"$nulls":6},{"$f":"G123","v":0},{"$nulls":3},{"$f":"DRAW!$K$10","v":0}]
["End",null,"Shots",null,"Total",null,"Shots",null,"Total",{"$nulls":4},"Shots",null,"Total",null,"Shots",null,"Total"]
[1]
[2]
[3]
[4]
[5]
[6]
[7]
[8]
[9]
[null,null,"Tie Break Set (if needed)"]
["End",null,"Shots",null,"Total",null,"Shots",null,"Total",null,null,"End",null,"Shots",null,"Total",null,"Shots",null,"Total"]
[1,{"$nulls":10},3]
[2,{"$nulls":10},4]
[]
["Team",{"$nulls":3},{"$f":"C126","v":0},null,"points",{"$nulls":5},"Team",{"$nulls":3},{"$f":"G126","v":0},null,"points"]
[]
[]
[{"$f":"$A$1","v":0}]
["ROUND  3"]
[null,null,"TEAM NUMBER",{"$nulls":3},{"$f":"DRAW!$C$11","v":0},{"$nulls":6},"RINK NUMBER",{"$nulls":3},{"$f":"DRAW!$J$11","v":0}]
[]
[null,null,"First Set",{"$nulls":10},"Second Set"]
[null,null,{"$f":"G147","v":0},{"$nulls":3},{"$f":"DRAW!$K$11","v":0},{"$nulls":6},{"$f":"G147","v":0},{"$nulls":3},{"$f":"DRAW!$K$11","v":0}]
["End",null,"Shots",null,"Total",null,"Shots",null,"Total",{"$nulls":4},"Shots",null,"Total",null,"Shots",null,"Total"]
[1]
[2]
[3]
[4]
[5]
[6]
[7]
[8]
[9]
[null,null,"Tie Break Set (if needed)"]
["End",null,"Shots",null,"Total",null,"Shots",null,"Total",null,null,"End",null,"Shots",null,"Total",null,"Shots",null,"Total"]
[1,{"$nulls":10},3]
[2,{"$nulls":10},4]
[]
["Team",{"$nulls":3},{"$f":"C150","v":0},null,"points",{"$nulls":5},"Team",{"$nulls":3},{"$f":"G150","v":0},null,"points"]
[]
[]
[{"$f":"$A$1","v":0}]
["ROUND  3"]
[null,null,"TEAM NUMBER",{"$nulls":3},{"$f":"DRAW!$C$12","v":0},{"$nulls":6},"RINK NUMBER",{"$nulls":3},{"$f":"DRAW!$J$12","v":0}]
[]
[null,null,"First Set",{"$nulls":10},"Second Set"]
[null,null,{"$f":"G171","v":0},{"$nulls":3},{"$f":"DRAW!$K$12","v":0},{"$nulls":6},{"$f":"G171","v":0},{"$nulls":3},{"$f":"DRAW!$K$12","v":0}]
["End",null,"Shots",null,"Total",null,"Shots",null,"Total",{"$nulls":4},"Shots",null,"Total",null,"Shots",null,"Total"]
[1]
[2]
[3]
[4]
[5]
[6]
[7]
[8]
[9]
[null,null,"Tie Break Set (if needed)"]
["End",null,"Shots",null,"Total",null,"Shots",null,"Total",null,null,"End",null,"Shots",null,"Total",null,"Shots",null,"Total"]
[1,{"$nulls":10},3]
[2,{"$nulls":10},4]
[]
["Team",{"$nulls":3},{"$f":"C174","v":0},null,"points",{"$nulls":5},"Team",{"$nulls":3},{"$f":"G174","v":0},null,"points"]
[]
[]
[{"$f":"$A$1","v":0}]
["ROUND  3"]
[null,null,"TEAM NUMBER",{"$nulls":3},{"$f":"DRAW!$C$13","v":0},{"$nulls":6},"RINK NUMBER",{"$nulls":3},{"$f":"DRAW!$J$13","v":0}]
[]
[null,null,"First Set",{"$nulls":10},"Second Set"]
[null,null,{"$f":"G195","v":0},{"$nulls":3},{"$f":"DRAW!$K$13","v":0},{"$nulls":6},{"$f":"G195","v":0},{"$nulls":3},{"$f":"DRAW!$K$13","v":0}]
["End",null,"Shots",null,"Total",null,"Shots",null,"Total",{"$nulls":4},"Shots",null,"Total",null,"Shots",null,"Total"]
[1]
[2]
[3]
[4]
[5]
[6]
[7]
[8]
[9]
[null,null,"Tie Break Set (if needed)"]
["End",null,"Shots",null,"Total",null,"Shots",null,"Total",null,null,"End",null,"Shots",null,"Total",null,"Shots",null,"Total"]
[1,{"$nulls":10},3]
[2,{"$nulls":10},4]
[]
["Team",{"$nulls":3},{"$f":"C198","v":0},null,"points",{"$nulls":5},"Team",{"$nulls":3},{"$f":"G198","v":0},null,"points"]
[]
[]
[{"$f":"$A$1","v":0}]
["ROUND  3"]
[null,null,"TEAM NUMBER",{"$nulls":3},{"$f":"DRAW!$C$14","v":0},{"$nulls":6},"RINK NUMBER",{"$nulls":3},{"$f":"DRAW!$J$14","v":0}]
[]
[null,null,"First Set",{"$nulls":10},"Second Set"]
[null,null,{"$f":"G219","v":0},{"$nulls":3},{"$f":"DRAW!$K$14","v":0},{"$nulls":6},{"$f":"G219","v":0},{"$nulls":3},{"$f":"DRAW!$K$14","v":0}]
["End",null,"Shots",null,"Total",null,"Shots",null,"Total",{"$nulls":4},"Shots",null,"Total",null,"Shots",null,"Total"]
[1]
[2]
[3]
[4]
[5]
[6]
[7]
[8]
[9]
[null,null,"Tie Break Set (if needed)"]
["End",null,"Shots",null,"Total",null,"Shots",null,"Total",null,null,"End",null,"Shots",null,"Total",null,"Shots",null,"Total"]
[1,{"$nulls":10},3]
[2,{"$nulls":10},4]
[]
["Team",{"$nulls":3},{"$f":"C222","v":0},null,"points",{"$nulls":5},"Team",{"$nulls":3},{"$f":"G222","v":0},null,"points"]
[]
[]
[{"$f":"$A$1","v":0}]
["ROUND  3"]
[null,null,"TEAM NUMBER",{"$nulls":3},{"$f":"DRAW!$C$15","v":0},{"$nulls":6},"RINK NUMBER",{"$nulls":3},{"$f":"DRAW!$J$15","v":0}]
[]
[null,null,"First Set",{"$nulls":10},"Second Set"]
[null,null,{"$f":"G243","v":0},{"$nulls":3},{"$f":"DRAW!$K$15","v":0},{"$nulls":6},{"$f":"G243","v":0},{"$nulls":3},{"$f":"DRAW!$K$15","v":0}]
["End",null,"Shots",null,"Total",null,"Shots",null,"Total",{"$nulls":4},"Shots",null,"Total",null,"Shots",null,"Total"]
[1]
[2]
[3]
[4]
[5]
[6]
[7]
[8]
[9]
[null,null,"Tie Break Set (if needed)"]
["End",null,"Shots",null,"Total",null,"Shots",null,"Total",null,null,"End",null,"Shots",null,"Total",null,"Shots",null,"Total"]
[1,{"$nulls":10},3]
[2,{"$nulls":10},4]
[]
["Team",{"$nulls":3},{"$f":"C246","v":0},null,"points",{"$nulls":5},"Team",{"$nulls":3},{"$f":"G246","v":0},null,"points"]
[]
[]
[{"$f":"$A$1","v":0}]
["ROUND  3"]
[null,null,"TEAM NUMBER",{"$nulls":3},{"$f":"DRAW!$C$16","v":0},{"$nulls":6},"RINK NUMBER",{"$nulls":3},{"$f":"DRAW!$J$16","v":0}]
[]
[null,null,"First Set",{"$nulls":10},"Second Set"]
[null,null,{"$f":"G267","v":0},{"$nulls":3},{"$f":"DRAW!$K$16","v":0},{"$nulls":6},{"$f":"G267","v":0},{"$nulls":3},{"$f":"DRAW!$K$16","v":0}]
["End",null,"Shots",null,"Total",null,"Shots",null,"Total",{"$nulls":4},"Shots",null,"Total",null,"Shots",null,"Total"]
[1]
[2]
[3]
[4]
[5]
[6]
[7]
[8]
[9]
[null,null,"Tie Break Set (if needed)"]
["End",null,"Shots",null,"Total",null,"Shots",null,"Total",null,null,"End",null,"Shots",null,"Total",null,"Shots",null,"Total"]
[1,{"$nulls":10},3]
[2,{"$nulls":10},4]
[]
["Team",{"$nulls":3},{"$f":"C270","v":0},null,"points",{"$nulls":5},"Team",{"$nulls":3},{"$f":"G270","v":0},null,"points"]
[]
[]
[{"$f":"$A$1","v":0}]
["ROUND  3"]
[null,null,"TEAM NUMBER",{"$nulls":3},{"$f":"DRAW!$C$17","v":0},{"$nulls":6},"RINK NUMBER",{"$nulls":3},{"$f":"DRAW!$J$17","v":0}]
[]
[null,null,"First Set",{"$nulls":10},"Second Set"]
[null,null,{"$f":"G291","v":0},{"$nulls":3},{"$f":"DRAW!$K$17","v":0},{"$nulls":6},{"$f":"G291","v":0},{"$nulls":3},{"$f":"DRAW!$K$17","v":0}]
["End",null,"Shots",null,"Total",null,"Shots",null,"Total",{"$nulls":4},"Shots",null,"Total",null,"Shots",null,"Total"]
[1]
[2]
[3]
[4]
[5]
[6]
[7]
[8]
[9]
[null,null,"Tie Break Set (if needed)"]
["End",null,"Shots",null,"Total",null,"Shots",null,"Total",null,null,"End",null,"Shots",null,"Total",null,"Shots",null,"Total"]
[1,{"$nulls":10},3]
[2,{"$nulls":10},4]
[]
["Team",{"$nulls":3},{"$f":"C294","v":0},null,"points",{"$nulls":5},"Team",{"$nulls":3},{"$f":"G294","v":0},null,"points"]
[]
[]
[{"$f":"$A$1","v":0}]
["ROUND  3"]
[null,null,"TEAM NUMBER",{"$nulls":3},{"$f":"DRAW!$C$18","v":0},{"$nulls":6},"RINK NUMBER",{"$nulls":3},{"$f":"DRAW!$J$18","v":0}]
[]
[null,null,"First Set",{"$nulls":10},"Second Set"]
[null,null,{"$f":"G315","v":0},{"$nulls":3},{"$f":"DRAW!$K$18","v":0},{"$nulls":6},{"$f":"G315","v":0},{"$nulls":3},{"$f":"DRAW!$K$18","v":0}]
["End",null,"Shots",null,"Total",null,"Shots",null,"Total",{"$nulls":4},"Shots",null,"Total",null,"Shots",null,"Total"]
[1]
[2]
[3]
[4]
[5]
[6]
[7]
[8]
[9]
[null,null,"Tie Break Set (if needed)"]
["End",null,"Shots",null,"Total",null,"Shots",null,"Total",null,null,"End",null,"Shots",null,"Total",null,"Shots",null,"Total"]
[1,{"$nulls":10},3]
[2,{"$nulls":10},4]
[]
["Team",{"$nulls":3},{"$f":"C318","v":0},null,"points",{"$nulls":5},"Team",{"$nulls":3},{"$f":"G318","v":0},null,"points"]
[]
[]
[{"$f":"$A$1","v":0}]
["ROUND  3"]
[null,null,"TEAM NUMBER",{"$nulls":3},{"$f":"DRAW!$C$19","v":0},{"$nulls":6},"RINK NUMBER",{"$nulls":3},{"$f":"DRAW!$J$19","v":0}]
[]
[null,null,"First Set",{"$nulls":10},"Second Set"]
[null,null,{"$f":"G339","v":0},{"$nulls":3},{"$f":"DRAW!$K$19","v":0},{"$nulls":6},{"$f":"G339","v":0},{"$nulls":3},{"$f":"DRAW!$K$19","v":0}]
["End",null,"Shots",null,"Total",null,"Shots",null,"Total",{"$nulls":4},"Shots",null,"Total",null,"Shots",null,"Total"]
[1]
[2]
[3]
[4]
[5]
[6]
[7]
[8]
[9]
[null,null,"Tie Break Set (if needed)"]
["End",null,"Shots",null,"Total",null,"Shots",null,"Total",null,null,"End",null,"Shots",null,"Total",null,"Shots",null,"Total"]
[1,{"$nulls":10},3]
[2,{"$nulls":10},4]
[]
["Team",{"$nulls":3},{"$f":"C342","v":0},null,"points",{"$nulls":5},"Team",{"$nulls":3},{"$f":"G342","v":0},null,"points"]
[]
[]
[{"$f":"$A$1","v":0}]
["ROUND  3"]
[null,null,"TEAM NUMBER",{"$nulls":3},{"$f":"DRAW!$C$20","v":0},{"$nulls":6},"RINK NUMBER",{"$nulls":3},{"$f":"DRAW!$J$20","v":0}]
[]
[null,null,"First Set",{"$nulls":10},"Second Set"]
[null,null,{"$f":"G363","v":0},{"$nulls":3},{"$f":"DRAW!$K$20","v":0},{"$nulls":6},{"$f":"G363","v":0},{"$nulls":3},{"$f":"DRAW!$K$20","v":0}]
["End",null,"Shots",null,"Total",null,"Shots",null,"Total",{"$nulls":4},"Shots",null,"Total",null,"Shots",null,"Total"]
[1]
[2]
[3]
[4]
[5]
[6]
[7]
[8]
[9]
[null,null,"Tie Break Set (if needed)"]
["End",null,"Shots",null,"Total",null,"Shots",null,"Total",null,null,"End",null,"Shots",null,"Total",null,"Shots",null,"Total"]
[1,{"$nulls":10},3]
[2,{"$nulls":10},4]
[]
["Team",{"$nulls":3},{"$f":"C366","v":0},null,"points",{"$nulls":5},"Team",{"$nulls":3},{"$f":"G366","v":0},null,"points"]
[]
[]
[{"$f":"$A$1","v":0}]
["ROUND  3"]
[null,null,"TEAM NUMBER",{"$nulls":3},{"$f":"DRAW!$C$21","v":0},{"$nulls":6},"RINK NUMBER",{"$nulls":3},{"$f":"DRAW!$J$21","v":0}]
[]
[null,null,"First Set",{"$nulls":10},"Second Set"]
[null,null,{"$f":"G387","v":0},{"$nulls":3},{"$f":"DRAW!$K$21","v":0},{"$nulls":6},{"$f":"G387","v":0},{"$nulls":3},{"$f":"DRAW!$K$21","v":0}]
["End",null,"Shots",null,"Total",null,"Shots",null,"Total",{"$nulls":4},"Shots",null,"Total",null,"Shots",null,"Total"]
[1]
[2]
[3]
[4]
[5]
[6]
[7]
[8]
[9]
[null,null,"Tie Break Set (if needed)"]
["End",null,"Shots",null,"Total",null,"Shots",null,"Total",null,null,"End",null,"Shots",null,"Total",null,"Shots",null,"Total"]
[1,{"$nulls":10},3]
[2,{"$nulls":10},4]
[]
["Team",{"$nulls":3},{"$f":"C390","v":0},null,"points",{"$nulls":5},"Team",{"$nulls":3},{"$f":"G390","v":0},null,"points"]
[]
[]
[{"$f":"$A$1","v":0}]
["ROUND  3"]
[null,null,"TEAM NUMBER",{"$nulls":3},{"$f":"DRAW!$C$22","v":0},{"$nulls":6},"RINK NUMBER",{"$nulls":3},{"$f":"DRAW!$J$22","v":0}]
[]
[null,null,"First Set",{"$nulls":10},"Second Set"]
[null,null,{"$f":"G411","v":0},{"$nulls":3},{"$f":"DRAW!$K$22","v":0},{"$nulls":6},{"$f":"G411","v":0},{"$nulls":3},{"$f":"DRAW!$K$22","v":0}]
["End",null,"Shots",null,"Total",null,"Shots",null,"Total",{"$nulls":4},"Shots",null,"Total",null,"Shots",null,"Total"]
[1]
[2]
[3]
[4]
[5]
[6]
[7]
[8]
[9]
[null,null,"Tie Break Set (if needed)"]
["End",null,"Shots",null,"Total",null,"Shots",null,"Total",null,null,"End",null,"Shots",null,"Total",null,"Shots",null,"Total"]
[1,{"$nulls":10},3]
[2,{"$nulls":10},4]
[]
["Team",{"$nulls":3},{"$f":"C414","v":0},null,"points",{"$nulls":5},"Team",{"$nulls":3},{"$f":"G414","v":0},null,"points"]
[]
[]
[{"$f":"$A$1","v":0}]
["ROUND  3"]
[null,null,"TEAM NUMBER",{"$nulls":3},{"$f":"DRAW!$C$23","v":0},{"$nulls":6},"RINK NUMBER",{"$nulls":3},{"$f":"DRAW!$J$23","v":0}]
[]
[null,null,"First Set",{"$nulls":10},"Second Set"]
[null,null,{"$f":"G435","v":0},{"$nulls":3},{"$f":"DRAW!$K$23","v":0},{"$nulls":6},{"$f":"G435","v":0},{"$nulls":3},{"$f":"DRAW!$K$23","v":0}]
["End",null,"Shots",null,"Total",null,"Shots",null,"Total",{"$nulls":4},"Shots",null,"Total",null,"Shots",null,"Total"]
[1]
[2]
[3]
[4]
[5]
[6]
[7]
[8]
[9]
[null,null,"Tie Break Set (if needed)"]
["End",null,"Shots",null,"Total",null,"Shots",null,"Total",null,null,"End",null,"Shots",null,"Total",null,"Shots",null,"Total"]
[1,{"$nulls":10},3]
[2,{"$nulls":10},4]
[]
["Team",{"$nulls":3},{"$f":"C438","v":0},null,"points",{"$nulls":5},"Team",{"$nulls":3},{"$f":"G438","v":0},null,"points"]
[]
[]
[{"$f":"$A$1","v":0}]
["ROUND  3"]
[null,null,"TEAM NUMBER",{"$nulls":3},{"$f":"DRAW!$C$24","v":0},{"$nulls":6},"RINK NUMBER",{"$nulls":3},{"$f":"DRAW!$J$24","v":0}]
[]
[null,null,"First Set",{"$nulls":10},"Second Set"]
[null,null,{"$f":"G459","v":0},{"$nulls":3},{"$f":"DRAW!$K$24","v":0},{"$nulls":6},{"$f":"G459","v":0},{"$nulls":3},{"$f":"DRAW!$K$24","v":0}]
["End",null,"Shots",null,"Total",null,"Shots",null,"Total",{"$nulls":4},"Shots",null,"Total",null,"Shots",null,"Total"]
[1]
[2]
[3]
[4]
[5]
[6]
[7]
[8]
[9]
[null,null,"Tie Break Set (if needed)"]
["End",null,"Shots",null,"Total",null,"Shots",null,"Total",null,null,"End",null,"Shots",null,"Total",null,"Shots",null,"Total"]
[1,{"$nulls":10},3]
[2,{"$nulls":10},4]
[]
["Team",{"$nulls":3},{"$f":"C462","v":0},null,"points",{"$nulls":5},"Team",{"$nulls":3},{"$f":"G462","v":0},null,"points"]
[]
[]
[{"$f":"$A$1","v":0}]
["ROUND  3"]
[null,null,"TEAM NUMBER",{"$nulls":3},{"$f":"DRAW!$C$25","v":0},{"$nulls":6},"RINK NUMBER",{"$nulls":3},{"$f":"DRAW!$J$25","v":0}]
[]
[null,null,"First Set",{"$nulls":10},"Second Set"]
[null,null,{"$f":"G483","v":0},{"$nulls":3},{"$f":"DRAW!$K$25","v":0},{"$nulls":6},{"$f":"G483","v":0},{"$nulls":3},{"$f":"DRAW!$K$25","v":0}]
["End",null,"Shots",null,"Total",null,"Shots",null,"Total",{"$nulls":4},"Shots",null,"Total",null,"Shots",null,"Total"]
[1]
[2]
[3]
[4]
[5]
[6]
[7]
[8]
[9]
[null,null,"Tie Break Set (if needed)"]
["End",null,"Shots",null,"Total",null,"Shots",null,"Total",null,null,"End",null,"Shots",null,"Total",null,"Shots",null,"Total"]
[1,{"$nulls":10},3]
[2,{"$nulls":10},4]
[]
["Team",{"$nulls":3},{"$f":"C486","v":0},null,"points",{"$nulls":5},"Team",{"$nulls":3},{"$f":"G486","v":0},null,"points"]
[]
[]
[{"$f":"$A$1","v":0}]
["ROUND  3"]
[null,null,"TEAM NUMBER",{"$nulls":3},{"$f":"DRAW!$C$26","v":0},{"$nulls":6},"RINK NUMBER",{"$nulls":3},{"$f":"DRAW!$J$26","v":0}]
[]
[null,null,"First Set",{"$nulls":10},"Second Set"]
[null,null,{"$f":"G507","v":0},{"$nulls":3},{"$f":"DRAW!$K$26","v":0},{"$nulls":6},{"$f":"G507","v":0},{"$nulls":3},{"$f":"DRAW!$K$26","v":0}]
["End",null,"Shots",null,"Total",null,"Shots",null,"Total",{"$nulls":4},"Shots",null,"Total",null,"Shots",null,"Total"]
[1]
[2]
[3]
[4]
[5]
[6]
[7]
[8]
[9]
[null,null,"Tie Break Set (if needed)"]
["End",null,"Shots",null,"Total",null,"Shots",null,"Total",null,null,"End",null,"Shots",null,"Total",null,"Shots",null,"Total"]
[1,{"$nulls":10},3]
[2,{"$nulls":10},4]
[]
["Team",{"$nulls":3},{"$f":"C510","v":0},null,"points",{"$nulls":5},"Team",{"$nulls":3},{"$f":"G510","v":0},null,"points"]
[]
[]
[{"$f":"$A$1","v":0}]
["ROUND  3"]
[null,null,"TEAM NUMBER",{"$nulls":3},{"$f":"DRAW!$C$27","v":0},{"$nulls":6},"RINK NUMBER",{"$nulls":3},{"$f":"DRAW!$J$27","v":0}]
[]
[null,null,"First Set",{"$nulls":10},"Second Set"]
[null,null,{"$f":"G531","v":0},{"$nulls":3},{"$f":"DRAW!$K$27","v":0},{"$nulls":6},{"$f":"G531","v":0},{"$nulls":3},{"$f":"DRAW!$K$27","v":0}]
["End",null,"Shots",null,"Total",null,"Shots",null,"Total",{"$nulls":4},"Shots",null,"Total",null,"Shots",null,"Total"]
[1]
[2]
[3]
[4]
[5]
[6]
[7]
[8]
[9]
[null,null,"Tie Break Set (if needed)"]
["End",null,"Shots",null,"Total",null,"Shots",null,"Total",null,null,"End",null,"Shots",null,"Total",null,"Shots",null,"Total"]
[1,{"$nulls":10},3]
[2,{"$nulls":10},4]
[]
["Team",{"$nulls":3},{"$f":"C534","v":0},null,"points",{"$nulls":5},"Team",{"$nulls":3},{"$f":"G534","v":0},null,"points"]
[]
[]
[{"$f":"$A$1","v":0}]
["ROUND  3"]
[null,null,"TEAM NUMBER",{"$nulls":3},{"$f":"DRAW!$C$28","v":0},{"$nulls":6},"RINK NUMBER",{"$nulls":3},{"$f":"DRAW!$J$28","v":0}]
[]
[null,null,"First Set",{"$nulls":10},"Second Set"]
[null,null,{"$f":"G555","v":0},{"$nulls":3},{"$f":"DRAW!$K$28","v":0},{"$nulls":6},{"$f":"G555","v":0},{"$nulls":3},{"$f":"DRAW!$K$28","v":0}]
["End",null,"Shots",null,"Total",null,"Shots",null,"Total",{"$nulls":4},"Shots",null,"Total",null,"Shots",null,"Total"]
[1]
[2]
[3]
[4]
[5]
[6]
[7]
[8]
[9]
[null,null,"Tie Break Set (if needed)"]
["End",null,"Shots",null,"Total",null,"Shots",null,"Total",null,null,"End",null,"Shots",null,"Total",null,"Shots",null,"Total"]
[1,{"$nulls":10},3]
[2,{"$nulls":10},4]
[]
["Team",{"$nulls":3},{"$f":"C558","v":0},null,"points",{"$nulls":5},"Team",{"$nulls":3},{"$f":"G558","v":0},null,"points"]
[]
[]
[{"$f":"$A$1","v":0}]
["ROUND  3"]
[null,null,"TEAM NUMBER",{"$nulls":3},{"$f":"DRAW!$C$29","v":0},{"$nulls":6},"RINK NUMBER",{"$nulls":3},{"$f":"DRAW!$J$29","v":0}]
[]
[null,null,"First Set",{"$nulls":10},"Second Set"]
[null,null,{"$f":"G579","v":0},{"$nulls":3},{"$f":"DRAW!$K$29","v":0},{"$nulls":6},{"$f":"G579","v":0},{"$nulls":3},{"$f":"DRAW!$K$29","v":0}]
["End",null,"Shots",null,"Total",null,"Shots",null,"Total",{"$nulls":4},"Shots",null,"Total",null,"Shots",null,"Total"]
[1]
[2]
[3]
[4]
[5]
[6]
[7]
[8]
[9]
[null,null,"Tie Break Set (if needed)"]
["End",null,"Shots",null,"Total",null,"Shots",null,"Total",null,null,"End",null,"Shots",null,"Total",null,"Shots",null,"Total"]
[1,{"$nulls":10},3]
[2,{"$nulls":10},4]
[]
["Team",{"$nulls":3},{"$f":"C582","v":0},null,"points",{"$nulls":5},"Team",{"$nulls":3},{"$f":"G582","v":0},null,"points"]
[]
[]
[{"$f":"$A$1","v":0}]
["ROUND  3"]
[null,null,"TEAM NUMBER",{"$nulls":3},{"$f":"DRAW!$C$30","v":0},{"$nulls":6},"RINK NUMBER",{"$nulls":3},{"$f":"DRAW!$J$30","v":0}]
[]
[null,null,"First Set",{"$nulls":10},"Second Set"]
[null,null,{"$f":"G603","v":0},{"$nulls":3},{"$f":"DRAW!$K$30","v":0},{"$nulls":6},{"$f":"G603","v":0},{"$nulls":3},{"$f":"DRAW!$K$30","v":0}]
["End",null,"Shots",null,"Total",null,"Shots",null,"Total",{"$nulls":4},"Shots",null,"Total",null,"Shots",null,"Total"]
[1]
[2]
[3]
[4]
[5]
[6]
[7]
[8]
[9]
[null,null,"Tie Break Set (if needed)"]
["End",null,"Shots",null,"Total",null,"Shots",null,"Total",null,null,"End",null,"Shots",null,"Total",null,"Shots",null,"Total"]
[1,{"$nulls":10},3]
[2,{"$nulls":10},4]
[]
["Team",{"$nulls":3},{"$f":"C606","v":0},null,"points",{"$nulls":5},"Team",{"$nulls":3},{"$f":"G606","v":0},null,"points"]
[]
[]
[{"$f":"$A$1","v":0}]
["ROUND  3"]
[null,null,"TEAM NUMBER",{"$nulls":3},{"$f":"DRAW!$C$31","v":0},{"$nulls":6},"RINK NUMBER",{"$nulls":3},{"$f":"DRAW!$J$31","v":0}]
[]
[null,null,"First Set",{"$nulls":10},"Second Set"]
[null,null,{"$f":"G627","v":0},{"$nulls":3},{"$f":"DRAW!$K$31","v":0},{"$nulls":6},{"$f":"G627","v":0},{"$nulls":3},{"$f":"DRAW!$K$31","v":0}]
["End",null,"Shots",null,"Total",null,"Shots",null,"Total",{"$nulls":4},"Shots",null,"Total",null,"Shots",null,"Total"]
[1]
[2]
[3]
[4]
[5]
[6]
[7]
[8]
[9]
[null,null,"Tie Break Set (if needed)"]
["End",null,"Shots",null,"Total",null,"Shots",null,"Total",null,null,"End",null,"Shots",null,"Total",null,"Shots",null,"Total"]
[1,{"$nulls":10},3]
[2,{"$nulls":10},4]
[]
["Team",{"$nulls":3},{"$f":"C630","v":0},null,"points",{"$nulls":5},"Team",{"$nulls":3},{"$f":"G630","v":0},null,"points"]
[]
[]
[{"$f":"$A$1","v":0}]
["ROUND  3"]
[null,null,"TEAM NUMBER",{"$nulls":3},{"$f":"DRAW!$C$32","v":0},{"$nulls":6},"RINK NUMBER",{"$nulls":3},{"$f":"DRAW!$J$32","v":0}]
[]
[null,null,"First Set",{"$nulls":10},"Second Set"]
[null,null,{"$f":"G651","v":0},{"$nulls":3},{"$f":"DRAW!$K$32","v":0},{"$nulls":6},{"$f":"G651","v":0},{"$nulls":3},{"$f":"DRAW!$K$32","v":0}]
["End",null,"Shots",null,"Total",null,"Shots",null,"Total",{"$nulls":4},"Shots",null,"Total",null,"Shots",null,"Total"]
[1]
[2]
[3]
[4]
[5]
[6]
[7]
[8]
[9]
[null,null,"Tie Break Set (if needed)"]
["End",null,"Shots",null,"Total",null,"Shots",null,"Total",null,null,"End",null,"Shots",null,"Total",null,"Shots",null,"Total"]
[1,{"$nulls":10},3]
[2,{"$nulls":10},4]
[]
["Team",{"$nulls":3},{"$f":"C654","v":0},null,"points",{"$nulls":5},"Team",{"$nulls":3},{"$f":"G654","v":0},null,"points"]
[]
[]
[{"$f":"$A$1","v":0}]
["ROUND  3"]
[null,null,"TEAM NUMBER",{"$nulls":3},{"$f":"DRAW!$C$33","v":0},{"$nulls":6},"RINK NUMBER",{"$nulls":3},{"$f":"DRAW!$J$33","v":0}]
[]
[null,null,"First Set",{"$nulls":10},"Second Set"]
[null,null,{"$f":"G675","v":0},{"$nulls":3},{"$f":"DRAW!$K$33","v":0},{"$nulls":6},{"$f":"G675","v":0},{"$nulls":3},{"$f":"DRAW!$K$33","v":0}]
["End",null,"Shots",null,"Total",null,"Shots",null,"Total",{"$nulls":4},"Shots",null,"Total",null,"Shots",null,"Total"]
[1]
[2]
[3]
[4]
[5]
[6]
[7]
[8]
[9]
[null,null,"Tie Break Set (if needed)"]
["End",null,"Shots",null,"Total",null,"Shots",null,"Total",null,null,"End",null,"Shots",null,"Total",null,"Shots",null,"Total"]
[1,{"$nulls":10},3]
[2,{"$nulls":10},4]
[]
["Team",{"$nulls":3},{"$f":"C678","v":0},null,"points",{"$nulls":5},"Team",{"$nulls":3},{"$f":"G678","v":0},null,"points"]
[]
[]
[{"$f":"$A$1","v":0}]
["ROUND  3"]
[null,null,"TEAM NUMBER",{"$nulls":3},{"$f":"DRAW!$C$34","v":0},{"$nulls":6},"RINK NUMBER",{"$nulls":3},{"$f":"DRAW!$J$34","v":0}]
[]
[null,null,"First Set",{"$nulls":10},"Second Set"]
[null,null,{"$f":"G699","v":0},{"$nulls":3},{"$f":"DRAW!$K$34","v":0},{"$nulls":6},{"$f":"G699","v":0},{"$nulls":3},{"$f":"DRAW!$K$34","v":0}]
["End",null,"Shots",null,"Total",null,"Shots",null,"Total",{"$nulls":4},"Shots",null,"Total",null,"Shots",null,"Total"]
[1]
[2]
[3]
[4]
[5]
[6]
[7]
[8]
[9]
[null,null,"Tie Break Set (if needed)"]
["End",null,"Shots",null,"Total",null,"Shots",null,"Total",null,null,"End",null,"Shots",null,"Total",null,"Shots",null,"Total"]
[1,{"$nulls":10},3]
[2,{"$nulls":10},4]
[]
["Team",{"$nulls":3},{"$f":"C702","v":0},null,"points",{"$nulls":5},"Team",{"$nulls":3},{"$f":"G702","v":0},null,"points"]
[]
[]
[{"$f":"$A$1","v":0}]
["ROUND  3"]
[null,null,"TEAM NUMBER",{"$nulls":3},{"$f":"DRAW!$C$35","v":0},{"$nulls":6},"RINK NUMBER",{"$nulls":3},{"$f":"DRAW!$J$35","v":0}]
[]
[null,null,"First Set",{"$nulls":10},"Second Set"]
[null,null,{"$f":"G723","v":0},{"$nulls":3},{"$f":"DRAW!$K$35","v":0},{"$nulls":6},{"$f":"G723","v":0},{"$nulls":3},{"$f":"DRAW!$K$35","v":0}]
["End",null,"Shots",null,"Total",null,"Shots",null,"Total",{"$nulls":4},"Shots",null,"Total",null,"Shots",null,"Total"]
[1]
[2]
[3]
[4]
[5]
[6]
[7]
[8]
[9]
[null,null,"Tie Break Set (if needed)"]
["End",null,"Shots",null,"Total",null,"Shots",null,"Total",null,null,"End",null,"Shots",null,"Total",null,"Shots",null,"Total"]
[1,{"$nulls":10},3]
[2,{"$nulls":10},4]
[]
["Team",{"$nulls":3},{"$f":"C726","v":0},null,"points",{"$nulls":5},"Team",{"$nulls":3},{"$f":"G726","v":0},null,"points"]
[]
[]
[{"$f":"$A$1","v":0}]
["ROUND  3"]
[null,null,"TEAM NUMBER",{"$nulls":3},{"$f":"DRAW!$C$36","v":0},{"$nulls":6},"RINK NUMBER",{"$nulls":3},{"$f":"DRAW!$J$36","v":0}]
[]
[null,null,"First Set",{"$nulls":10},"Second Set"]
[null,null,{"$f":"G747","v":0},{"$nulls":3},{"$f":"DRAW!$K$36","v":0},{"$nulls":6},{"$f":"G747","v":0},{"$nulls":3},{"$f":"DRAW!$K$36","v":0}]
["End",null,"Shots",null,"Total",null,"Shots",null,"Total",{"$nulls":4},"Shots",null,"Total",null,"Shots",null,"Total"]
[1]
[2]
[3]
[4]
[5]
[6]
[7]
[8]
[9]
[null,null,"Tie Break Set (if needed)"]
["End",null,"Shots",null,"Total",null,"Shots",null,"Total",null,null,"End",null,"Shots",null,"Total",null,"Shots",null,"Total"]
[1,{"$nulls":10},3]
[2,{"$nulls":10},4]
[]
["Team",{"$nulls":3},{"$f":"C750","v":0},null,"points",{"$nulls":5},"Team",{"$nulls":3},{"$f":"G750","v":0},null,"points"]
[]
[]
[{"$f":"$A$1","v":0}]
["ROUND  3"]
[null,null,"TEAM NUMBER",{"$nulls":3},{"$f":"DRAW!$C$37","v":0},{"$nulls":6},"RINK NUMBER",{"$nulls":3},{"$f":"DRAW!$J$37","v":0}]
[]
[null,null,"First Set",{"$nulls":10},"Second Set"]
[null,null,{"$f":"G771","v":0},{"$nulls":3},{"$f":"DRAW!$K$37","v":0},{"$nulls":6},{"$f":"G771","v":0},{"$nulls":3},{"$f":"DRAW!$K$37","v":0}]
["End",null,"Shots",null,"Total",null,"Shots",null,"Total",{"$nulls":4},"Shots",null,"Total",null,"Shots",null,"Total"]
[1]
[2]
[3]
[4]
[5]
[6]
[7]
[8]
[9]
[null,null,"Tie Break Set (if needed)"]
["End",null,"Shots",null,"Total",null,"Shots",null,"Total",null,null,"End",null,"Shots",null,"Total",null,"Shots",null,"Total"]
[1,{"$nulls":10},3]
[2,{"$nulls":10},4]
[]
["Team",{"$nulls":3},{"$f":"C774","v":0},null,"points",{"$nulls":5},"Team",{"$nulls":3},{"$f":"G774","v":0},null,"points"]
[]
[]
[{"$f":"$A$1","v":0}]
["ROUND  3"]
[null,null,"TEAM NUMBER",{"$nulls":3},{"$f":"DRAW!$C$38","v":0},{"$nulls":6},"RINK NUMBER",{"$nulls":3},{"$f":"DRAW!$J$38","v":0}]
[]
[null,null,"First Set",{"$nulls":10},"Second Set"]
[null,null,{"$f":"G795","v":0},{"$nulls":3},{"$f":"DRAW!$K$38","v":0},{"$nulls":6},{"$f":"G795","v":0},{"$nulls":3},{"$f":"DRAW!$K$38","v":0}]
["End",null,"Shots",null,"Total",null,"Shots",null,"Total",{"$nulls":4},"Shots",null,"Total",null,"Shots",null,"Total"]
[1]
[2]
[3]
[4]
[5]
[6]
[7]
[8]
[9]
[null,null,"Tie Break Set (if needed)"]
["End",null,"Shots",null,"Total",null,"Shots",null,"Total",null,null,"End",null,"Shots",null,"Total",null,"Shots",null,"Total"]
[1,{"$nulls":10},3]
[2,{"$nulls":10},4]
[]
["Team",{"$nulls":3},{"$f":"C798","v":0},null,"points",{"$nulls":5},"Team",{"$nulls":3},{"$f":"G798","v":0},null,"points"]
[]
[]
[{"$f":"$A$1","v":0}]
["ROUND  3"]
[null,null,"TEAM NUMBER",{"$nulls":3},{"$f":"DRAW!$C$39","v":0},{"$nulls":6},"RINK NUMBER",{"$nulls":3},{"$f":"DRAW!$J$39","v":0}]
[]
[null,null,"First Set",{"$nulls":10},"Second Set"]
[null,null,{"$f":"G819","v":0},{"$nulls":3},{"$f":"DRAW!$K$39","v":0},{"$nulls":6},{"$f":"G819","v":0},{"$nulls":3},{"$f":"DRAW!$K$39","v":0}]
["End",null,"Shots",null,"Total",null,"Shots",null,"Total",{"$nulls":4},"Shots",null,"Total",null,"Shots",null,"Total"]
[1]
[2]
[3]
[4]
[5]
[6]
[7]
[8]
[9]
[null,null,"Tie Break Set (if needed)"]
["End",null,"Shots",null,"Total",null,"Shots",null,"Total",null,null,"End",null,"Shots",null,"Total",null,"Shots",null,"Total"]
[1,{"$nulls":10},3]
[2,{"$nulls":10},4]
[]
["Team",{"$nulls":3},{"$f":"C822","v":0},null,"points",{"$nulls":5},"Team",{"$nulls":3},{"$f":"G822","v":0},null,"points"]
[]
[]
[{"$f":"$A$1","v":0}]
["ROUND  3"]
[null,null,"TEAM NUMBER",{"$nulls":3},{"$f":"DRAW!$C$40","v":0},{"$nulls":6},"RINK NUMBER",{"$nulls":3},{"$f":"DRAW!$J$40","v":0}]
[]
[null,null,"First Set",{"$nulls":10},"Second Set"]
[null,null,{"$f":"G843","v":0},{"$nulls":3},{"$f":"DRAW!$K$40","v":0},{"$nulls":6},{"$f":"G843","v":0},{"$nulls":3},{"$f":"DRAW!$K$40","v":0}]
["End",null,"Shots",null,"Total",null,"Shots",null,"Total",{"$nulls":4},"Shots",null,"Total",null,"Shots",null,"Total"]
[1]
[2]
[3]
[4]
[5]
[6]
[7]
[8]
[9]
[null,null,"Tie Break Set (if needed)"]
["End",null,"Shots",null,"Total",null,"Shots",null,"Total",null,null,"End",null,"Shots",null,"Total",null,"Shots",null,"Total"]
[1,{"$nulls":10},3]
[2,{"$nulls":10},4]
[]
["Team",{"$nulls":3},{"$f":"C846","v":0},null,"points",{"$nulls":5},"Team",{"$nulls":3},{"$f":"G846","v":0},null,"points"]
[]
[]
[{"$f":"$A$1","v":0}]
["ROUND  3"]
[null,null,"TEAM NUMBER",{"$nulls":3},{"$f":"DRAW!$C$41","v":0},{"$nulls":6},"RINK NUMBER",{"$nulls":3},{"$f":"DRAW!$J$41","v":0}]
[]
[null,null,"First Set",{"$nulls":10},"Second Set"]
[null,null,{"$f":"G867","v":0},{"$nulls":3},{"$f":"DRAW!$K$41","v":0},{"$nulls":6},{"$f":"G867","v":0},{"$nulls":3},{"$f":"DRAW!$K$41","v":0}]
["End",null,"Shots",null,"Total",null,"Shots",null,"Total",{"$nulls":4},"Shots",null,"Total",null,"Shots",null,"Total"]
[1]
[2]
[3]
[4]
[5]
[6]
[7]
[8]
[9]
[null,null,"Tie Break Set (if needed)"]
["End",null,"Shots",null,"Total",null,"Shots",null,"Total",null,null,"End",null,"Shots",null,"Total",null,"Shots",null,"Total"]
[1,{"$nulls":10},3]
[2,{"$nulls":10},4]
[]
["Team",{"$nulls":3},{"$f":"C870","v":0},null,"points",{"$nulls":5},"Team",{"$nulls":3},{"$f":"G870","v":0},null,"points"]
[]
[]
[{"$f":"$A$1","v":0}]
["ROUND  3"]
[null,null,"TEAM NUMBER",{"$nulls":3},{"$f":"DRAW!$C$42","v":0},{"$nulls":6},"RINK NUMBER",{"$nulls":3},{"$f":"DRAW!$J$42","v":0}]
[]
[null,null,"First Set",{"$nulls":10},"Second Set"]
[null,null,{"$f":"G891","v":0},{"$nulls":3},{"$f":"DRAW!$K$42","v":0},{"$nulls":6},{"$f":"G891","v":0},{"$nulls":3},{"$f":"DRAW!$K$42","v":0}]
["End",null,"Shots",null,"Total",null,"Shots",null,"Total",{"$nulls":4},"Shots",null,"Total",null,"Shots",null,"Total"]
[1]
[2]
[3]
[4]
[5]
[6]
[7]
[8]
[9]
[null,null,"Tie Break Set (if needed)"]
["End",null,"Shots",null,"Total",null,"Shots",null,"Total",null,null,"End",null,"Shots",null,"Total",null,"Shots",null,"Total"]
[1,{"$nulls":10},3]
[2,{"$nulls":10},4]
[]
["Team",{"$nulls":3},{"$f":"C894","v":0},null,"points",{"$nulls":5},"Team",{"$nulls":3},{"$f":"G894","v":0},null,"points"]
[]
[]
[{"$f":"$A$1","v":0}]
["ROUND  3"]
[null,null,"TEAM NUMBER",{"$nulls":3},{"$f":"DRAW!$C$43","v":0},{"$nulls":6},"RINK NUMBER",{"$nulls":3},{"$f":"DRAW!$J$43","v":0}]
[]
[null,null,"First Set",{"$nulls":10},"Second Set"]
[null,null,{"$f":"G915","v":0},{"$nulls":3},{"$f":"DRAW!$K$43","v":0},{"$nulls":6},{"$f":"G915","v":0},{"$nulls":3},{"$f":"DRAW!$K$43","v":0}]
["End",null,"Shots",null,"Total",null,"Shots",null,"Total",{"$nulls":4},"Shots",null,"Total",null,"Shots",null,"Total"]
[1]
[2]
[3]
[4]
[5]
[6]
[7]
[8]
[9]
[null,null,"Tie Break Set (if needed)"]
["End",null,"Shots",null,"Total",null,"Shots",null,"Total",null,null,"End",null,"Shots",null,"Total",null,"Shots",null,"Total"]
[1,{"$nulls":10},3]
[2,{"$nulls":10},4]
[]
["Team",{"$nulls":3},{"$f":"C918","v":0},null,"points",{"$nulls":5},"Team",{"$nulls":3},{"$f":"G918","v":0},null,"points"]
[]
[]
[{"$f":"$A$1","v":0}]
["ROUND  3"]
[null,null,"TEAM NUMBER",{"$nulls":3},{"$f":"DRAW!$C$44","v":0},{"$nulls":6},"RINK NUMBER",{"$nulls":3},{"$f":"DRAW!$J$44","v":0}]
[]
[null,null,"First Set",{"$nulls":10},"Second Set"]
[null,null,{"$f":"G939","v":0},{"$nulls":3},{"$f":"DRAW!$K$44","v":0},{"$nulls":6},{"$f":"G939","v":0},{"$nulls":3},{"$f":"DRAW!$K$44","v":0}]
["End",null,"Shots",null,"Total",null,"Shots",null,"Total",{"$nulls":4},"Shots",null,"Total",null,"Shots",null,"Total"]
[1]
[2]
[3]
[4]
[5]
[6]
[7]
[8]
[9]
[null,null,"Tie Break Set (if needed)"]
["End",null,"Shots",null,"Total",null,"Shots",null,"Total",null,null,"End",null,"Shots",null,"Total",null,"Shots",null,"Total"]
[1,{"$nulls":10},3]
[2,{"$nulls":10},4]
[]
["Team",{"$nulls":3},{"$f":"C942","v":0},null,"points",{"$nulls":5},"Team",{"$nulls":3},{"$f":"G942","v":0},null,"points"]
[]
[]
[{"$f":"$A$1","v":0}]
["ROUND  3"]
[null,null,"TEAM NUMBER",{"$nulls":3},{"$f":"DRAW!$C$45","v":0},{"$nulls":6},"RINK NUMBER",{"$nulls":3},{"$f":"DRAW!$J$45","v":0}]
[]
[null,null,"First Set",{"$nulls":10},"Second Set"]
[null,null,{"$f":"G963","v":0},{"$nulls":3},{"$f":"DRAW!$K$45","v":0},{"$nulls":6},{"$f":"G963","v":0},{"$nulls":3},{"$f":"DRAW!$K$45","v":0}]
["End",null,"Shots",null,"Total",null,"Shots",null,"Total",{"$nulls":4},"Shots",null,"Total",null,"Shots",null,"Total"]
[1]
[2]
[3]
[4]
[5]
[6]
[7]
[8]
[9]
[null,null,"Tie Break Set (if needed)"]
["End",null,"Shots",null,"Total",null,"Shots",null,"Total",null,null,"End",null,"Shots",null,"Total",null,"Shots",null,"Total"]
[1,{"$nulls":10},3]
[2,{"$nulls":10},4]
[]
["Team",{"$nulls":3},{"$f":"C966","v":0},null,"points",{"$nulls":5},"Team",{"$nulls":3},{"$f":"G966","v":0},null,"points"]
[]
[]
[{"$f":"$A$1","v":0}]
["ROUND  3"]
[null,null,"TEAM NUMBER",{"$nulls":3},{"$f":"DRAW!$C$46","v":0},{"$nulls":6},"RINK NUMBER",{"$nulls":3},{"$f":"DRAW!$J$46","v":0}]
[]
[null,null,"First Set",{"$nulls":10},"Second Set"]
[null,null,{"$f":"G987","v":0},{"$nulls":3},{"$f":"DRAW!$K$46","v":0},{"$nulls":6},{"$f":"G987","v":0},{"$nulls":3},{"$f":"DRAW!$K$46","v":0}]
["End",null,"Shots",null,"Total",null,"Shots",null,"Total",{"$nulls":4},"Shots",null,"Total",null,"Shots",null,"Total"]
[1]
[2]
[3]
[4]
[5]
[6]
[7]
[8]
[9]
[null,null,"Tie Break Set (if needed)"]
["End",null,"Shots",null,"Total",null,"Shots",null,"Total",null,null,"End",null,"Shots",null,"Total",null,"Shots",null,"Total"]
[1,{"$nulls":10},3]
[2,{"$nulls":10},4]
[]
["Team",{"$nulls":3},{"$f":"C990","v":0},null,"points",{"$nulls":5},"Team",{"$nulls":3},{"$f":"G990","v":0},null,"points"]

{"sheet":"Round 4 Cards","index":13,"n_rows":1006,"n_cols":20,"rows_kept":1006,"merged":[[837,18,837,21],[839,3,839,7],[839,15,839,19],[840,0,840,21],[841,0,841,21],[844,2,844,10],[844,13,844,21],[845,2,845,5],[845,6,845,10],[845,13,845,16],[845,17,845,21],[846,0,846,1],[846,2,846,3],[846,4,846,5],[846,6,846,7],[846,8,846,10],[846,13,846,14],[846,15,846,16],[846,17,846,18],[846,19,846,21],[847,0,847,1],[847,2,847,3],[847,4,847,5],[847,6,847,7],[847,8,847,10],[847,13,847,14],[847,15,847,16],[847,17,847,18],[847,19,847,21],[848,0,848,1],[848,2,848,3],[848,4,848,5],[848,6,848,7],[848,8,848,10],[848,13,848,14],[848,15,848,16],[848,17,848,18],[848,19,848,21],[849,0,849,1],[849,2,849,3],[849,4,849,5],[849,6,849,7],[849,8,849,10],[849,13,849,14],[849,15,849,16],[849,17,849,18],[849,19,849,21],[850,0,850,1],[850,2,850,3],[850,4,850,5],[850,6,850,7],[850,8,850,10],[850,13,850,14],[850,15,850,16],[850,17,850,18],[850,19,850,21],[851,0,851,1],[851,2,851,3],[851,4,851,5],[851,6,851,7],[851,8,851,10],[851,13,851,14],[851,15,851,16],[851,17,851,18],[851,19,851,21],[851,22,851,23],[852,0,852,1],[852,2,852,3],[852,4,852,5],[852,6,852,7],[852,8,852,10],[852,13,852,14],[852,15,852,16],[852,17,852,18],[852,19,852,21],[853,0,853,1],[853,2,853,3],[853,4,853,5],[853,6,853,7],[853,8,853,10],[853,13,853,14],[853,15,853,16],[853,17,853,18],[853,19,853,21],[854,0,854,1],[854,2,854,3],[854,4,854,5],[854,6,854,7],[854,8,854,10],[854,13,854,14],[854,15,854,16],[854,17,854,18],[854,19,854,21],[855,0,855,1],[855,2,855,3],[855,4,855,5],[855,6,855,7],[855,8,855,10],[855,13,855,14],[855,15,855,16],[855,17,855,18],[855,19,855,21],[856,2,856,21],[857,0,857,1],[857,2,857,3],[857,4,857,5],[857,6,857,7],[857,8,857,10],[857,11,857,12],[857,13,857,14],[857,15,857,16],[857,17,857,18],[857,19,857,21],[858,0,858,1],[858,2,858,3],[858,4,858,5],[858,6,858,7],[858,8,858,10],[858,11,858,12],[858,13,858,14],[858,15,858,16],[858,17,858,18],[858,19,858,21],[859,0,859,1],[859,2,859,3],[859,4,859,5],[859,6,859,7],[859,8,859,10],[859,11,859,12],[859,13,859,14],[859,15,859,16],[859,17,859,18],[859,19,859,21],[860,11,860,21],[861,0,861,3],[861,4,861,5],[861,6,861,10],[861,12,861,15],[861,16,861,17],[861,18,861,21],[863,3,863,7],[863,15,863,19],[864,0,864,21],[865,0,865,21],[866,2,867,5],[866,6,867,10],[866,13,867,16],[866,17,867,21],[868,2,868,10],[868,13,868,21],[869,2,869,5],[869,6,869,10],[869,13,869,16],[869,17,869,21],[870,0,870,1],[870,2,870,3],[870,4,870,5],[870,6,870,7],[870,8,870,10],[870,13,870,14],[870,15,870,16],[870,17,870,18],[870,19,870,21],[871,0,871,1],[871,2,871,3],[871,4,871,5],[871,6,871,7],[871,8,871,10],[871,13,871,14],[871,15,871,16],[871,17,871,18],[871,19,871,21],[872,0,872,1],[872,2,872,3],[872,4,872,5],[872,6,872,7],[872,8,872,10],[872,13,872,14],[872,15,872,16],[872,17,872,18],[872,19,872,21],[873,0,873,1],[873,2,873,3],[873,4,873,5],[873,6,873,7],[873,8,873,10],[873,13,873,14],[873,15,873,16],[873,17,873,18],[873,19,873,21],[874,0,874,1],[874,2,874,3],[874,4,874,5],[874,6,874,7],[874,8,874,10],[874,13,874,14],[874,15,874,16],[874,17,874,18],[874,19,874,21],[875,0,875,1],[875,2,875,3],[875,4,875,5],[875,6,875,7],[875,8,875,10],[875,13,875,14],[875,15,875,16],[875,17,875,18],[875,19,875,21],[875,22,875,23],[876,0,876,1],[876,2,876,3],[876,4,876,5],[876,6,876,7],[876,8,876,10],[876,13,876,14],[876,15,876,16],[876,17,876,18],[876,19,876,21],[877,0,877,1],[877,2,877,3],[877,4,877,5],[877,6,877,7],[877,8,877,10],[877,13,877,14],[877,15,877,16],[877,17,877,18],[877,19,877,21],[878,0,878,1],[878,2,878,3],[878,4,878,5],[878,6,878,7],[878,8,878,10],[878,13,878,14],[878,15,878,16],[878,17,878,18],[878,19,878,21],[879,0,879,1],[879,2,879,3],[879,4,879,5],[879,6,879,7],[879,8,879,10],[879,13,879,14],[879,15,879,16],[879,17,879,18],[879,19,879,21],[880,2,880,21],[881,0,881,1],[881,2,881,3],[881,4,881,5],[881,6,881,7],[881,8,881,10],[881,11,881,12],[881,13,881,14],[881,15,881,16],[881,17,881,18],[881,19,881,21],[882,0,882,1],[882,2,882,3],[882,4,882,5],[882,6,882,7],[882,8,882,10],[882,11,882,12],[882,13,882,14],[882,15,882,16],[882,17,882,18],[882,19,882,21],[883,0,883,1],[883,2,883,3],[883,4,883,5],[883,6,883,7],[883,8,883,10],[883,11,883,12],[883,13,883,14],[883,15,883,16],[883,17,883,18],[883,19,883,21],[884,11,884,21],[885,0,885,3],[885,4,885,5],[885,6,885,10],[885,12,885,15],[885,16,885,17],[885,18,885,21],[887,3,887,7],[887,15,887,19],[888,0,888,21],[889,0,889,21],[890,2,891,5],[890,6,891,10],[890,13,891,16],[890,17,891,21],[892,2,892,10],[892,13,892,21],[893,2,893,5],[893,6,893,10],[893,13,893,16],[893,17,893,21],[894,0,894,1],[894,2,894,3],[894,4,894,5],[894,6,894,7],[894,8,894,10],[894,13,894,14],[894,15,894,16],[894,17,894,18],[894,19,894,21],[895,0,895,1],[895,2,895,3],[895,4,895,5],[895,6,895,7],[895,8,895,10],[895,13,895,14],[895,15,895,16],[895,17,895,18],[895,19,895,21],[896,0,896,1],[896,2,896,3],[896,4,896,5],[896,6,896,7],[896,8,896,10],[896,13,896,14],[896,15,896,16],[896,17,896,18],[896,19,896,21],[897,0,897,1],[897,2,897,3],[897,4,897,5],[897,6,897,7],[897,8,897,10],[897,13,897,14],[897,15,897,16],[897,17,897,18],[897,19,897,21],[898,0,898,1],[898,2,898,3],[898,4,898,5],[898,6,898,7],[898,8,898,10],[898,13,898,14],[898,15,898,16],[898,17,898,18],[898,19,898,21],[899,0,899,1],[899,2,899,3],[899,4,899,5],[899,6,899,7],[899,8,899,10],[899,13,899,14],[899,15,899,16],[899,17,899,18],[899,19,899,21],[899,22,899,23],[900,0,900,1],[900,2,900,3],[900,4,900,5],[900,6,900,7],[900,8,900,10],[900,13,900,14],[900,15,900,16],[900,17,900,18],[900,19,900,21],[901,0,901,1],[901,2,901,3],[901,4,901,5],[901,6,901,7],[901,8,901,10],[901,13,901,14],[901,15,901,16],[901,17,901,18],[901,19,901,21],[902,0,902,1],[902,2,902,3],[902,4,902,5],[902,6,902,7],[902,8,902,10],[902,13,902,14],[902,15,902,16],[902,17,902,18],[902,19,902,21],[903,0,903,1],[903,2,903,3],[903,4,903,5],[903,6,903,7],[903,8,903,10],[903,13,903,14],[903,15,903,16],[903,17,903,18],[903,19,903,21],[904,2,904,21],[905,0,905,1],[905,2,905,3],[905,4,905,5],[905,6,905,7],[905,8,905,10],[905,11,905,12],[905,13,905,14],[905,15,905,16],[905,17,905,18],[905,19,905,21],[906,0,906,1],[906,2,906,3],[906,4,906,5],[906,6,906,7],[906,8,906,10],[906,11,906,12],[906,13,906,14],[906,15,906,16],[906,17,906,18],[906,19,906,21],[907,0,907,1],[907,2,907,3],[907,4,907,5],[907,6,907,7],[907,8,907,10],[907,11,907,12],[907,13,907,14],[907,15,907,16],[907,17,907,18],[907,19,907,21],[908,11,908,21],[909,0,909,3],[909,4,909,5],[909,6,909,10],[909,12,909,15],[909,16,909,17],[909,18,909,21],[911,3,911,7],[911,15,911,19],[912,0,912,21],[913,0,913,21],[914,2,915,5],[914,6,915,10],[914,13,915,16],[914,17,915,21],[916,2,916,10],[916,13,916,21],[917,2,917,5],[917,6,917,10],[917,13,917,16],[917,17,917,21],[918,0,918,1],[918,2,918,3],[918,4,918,5],[918,6,918,7],[918,8,918,10],[918,13,918,14],[918,15,918,16],[918,17,918,18],[918,19,918,21],[919,0,919,1],[919,2,919,3],[919,4,919,5],[919,6,919,7],[919,8,919,10],[919,13,919,14],[919,15,919,16],[919,17,919,18],[919,19,919,21],[920,0,920,1],[920,2,920,3],[920,4,920,5],[920,6,920,7],[920,8,920,10],[920,13,920,14],[920,15,920,16],[920,17,920,18],[920,19,920,21],[921,0,921,1],[921,2,921,3],[921,4,921,5],[921,6,921,7],[921,8,921,10],[921,13,921,14],[921,15,921,16],[921,17,921,18],[921,19,921,21],[922,0,922,1],[922,2,922,3],[922,4,922,5],[922,6,922,7],[922,8,922,10],[922,13,922,14],[922,15,922,16],[922,17,922,18],[922,19,922,21],[923,0,923,1],[923,2,923,3],[923,4,923,5],[923,6,923,7],[923,8,923,10],[923,13,923,14],[923,15,923,16],[923,17,923,18],[923,19,923,21],[923,22,923,23],[924,0,924,1],[924,2,924,3],[924,4,924,5],[924,6,924,7],[924,8,924,10],[924,13,924,14],[924,15,924,16],[924,17,924,18],[924,19,924,21],[925,0,925,1],[925,2,925,3],[925,4,925,5],[925,6,925,7],[925,8,925,10],[925,13,925,14],[925,15,925,16],[925,17,925,18],[925,19,925,21],[926,0,926,1],[926,2,926,3],[926,4,926,5],[926,6,926,7],[926,8,926,10],[926,13,926,14],[926,15,926,16],[926,17,926,18],[926,19,926,21],[927,0,927,1],[927,2,927,3],[927,4,927,5],[927,6,927,7],[927,8,927,10],[927,13,927,14],[927,15,927,16],[927,17,927,18],[927,19,927,21],[928,2,928,21],[929,0,929,1],[929,2,929,3],[929,4,929,5],[929,6,929,7],[929,8,929,10],[929,11,929,12],[929,13,929,14],[929,15,929,16],[929,17,929,18],[929,19,929,21],[930,0,930,1],[930,2,930,3],[930,4,930,5],[930,6,930,7],[930,8,930,10],[930,11,930,12],[930,13,930,14],[930,15,930,16],[930,17,930,18],[930,19,930,21],[931,0,931,1],[931,2,931,3],[931,4,931,5],[931,6,931,7],[931,8,931,10],[931,11,931,12],[931,13,931,14],[931,15,931,16],[931,17,931,18],[931,19,931,21],[932,11,932,21],[933,0,933,3],[933,4,933,5],[933,6,933,10],[933,12,933,15],[933,16,933,17],[933,18,933,21],[935,3,935,7],[935,15,935,19],[936,0,936,21],[937,0,937,21],[938,2,939,5],[938,6,939,10],[938,13,939,16],[938,17,939,21],[940,2,940,10],[940,13,940,21],[941,2,941,5],[941,6,941,10],[941,13,941,16],[941,17,941,21],[942,0,942,1],[942,2,942,3],[942,4,942,5],[942,6,942,7],[942,8,942,10],[942,13,942,14],[942,15,942,16],[942,17,942,18],[942,19,942,21],[943,0,943,1],[943,2,943,3],[943,4,943,5],[943,6,943,7],[943,8,943,10],[943,13,943,14],[943,15,943,16],[943,17,943,18],[943,19,943,21],[944,0,944,1],[944,2,944,3],[944,4,944,5],[944,6,944,7],[944,8,944,10],[944,13,944,14],[944,15,944,16],[944,17,944,18],[944,19,944,21],[945,0,945,1],[945,2,945,3],[945,4,945,5],[945,6,945,7],[945,8,945,10],[945,13,945,14],[945,15,945,16],[945,17,945,18],[945,19,945,21],[946,0,946,1],[946,2,946,3],[946,4,946,5],[946,6,946,7],[946,8,946,10],[946,13,946,14],[946,15,946,16],[946,17,946,18],[946,19,946,21],[947,0,947,1],[947,2,947,3],[947,4,947,5],[947,6,947,7],[947,8,947,10],[947,13,947,14],[947,15,947,16],[947,17,947,18],[947,19,947,21],[947,22,947,23],[948,0,948,1],[948,2,948,3],[948,4,948,5],[948,6,948,7],[948,8,948,10],[948,13,948,14],[948,15,948,16],[948,17,948,18],[948,19,948,21],[949,0,949,1],[949,2,949,3],[949,4,949,5],[949,6,949,7],[949,8,949,10],[949,13,949,14],[949,15,949,16],[949,17,949,18],[949,19,949,21],[950,0,950,1],[950,2,950,3],[950,4,950,5],[950,6,950,7],[950,8,950,10],[950,13,950,14],[950,15,950,16],[950,17,950,18],[950,19,950,21],[951,0,951,1],[951,2,951,3],[951,4,951,5],[951,6,951,7],[951,8,951,10],[951,13,951,14],[951,15,951,16],[951,17,951,18],[951,19,951,21],[952,2,952,21],[953,0,953,1],[953,2,953,3],[953,4,953,5],[953,6,953,7],[953,8,953,10],[953,11,953,12],[953,13,953,14],[953,15,953,16],[953,17,953,18],[953,19,953,21],[954,0,954,1],[954,2,954,3],[954,4,954,5],[954,6,954,7],[954,8,954,10],[954,11,954,12],[954,13,954,14],[954,15,954,16],[954,17,954,18],[954,19,954,21],[955,0,955,1],[955,2,955,3],[955,4,955,5],[955,6,955,7],[955,8,955,10],[955,11,955,12],[955,13,955,14],[955,15,955,16],[955,17,955,18],[955,19,955,21],[956,11,956,21],[957,0,957,3],[957,4,957,5],[957,6,957,10],[957,12,957,15],[957,16,957,17],[957,18,957,21],[959,3,959,7],[959,15,959,19],[960,0,960,21],[961,0,961,21],[962,2,963,5],[962,6,963,10],[962,13,963,16],[962,17,963,21],[964,2,964,10],[964,13,964,21],[965,2,965,5],[965,6,965,10],[965,13,965,16],[965,17,965,21],[966,0,966,1],[966,2,966,3],[966,4,966,5],[966,6,966,7],[966,8,966,10],[966,13,966,14],[966,15,966,16],[966,17,966,18],[966,19,966,21],[967,0,967,1],[967,2,967,3],[967,4,967,5],[967,6,967,7],[967,8,967,10],[967,13,967,14],[967,15,967,16],[967,17,967,18],[967,19,967,21],[968,0,968,1],[968,2,968,3],[968,4,968,5],[968,6,968,7],[968,8,968,10],[968,13,968,14],[968,15,968,16],[968,17,968,18],[968,19,968,21],[969,0,969,1],[969,2,969,3],[969,4,969,5],[969,6,969,7],[969,8,969,10],[969,13,969,14],[969,15,969,16],[969,17,969,18],[969,19,969,21],[970,0,970,1],[970,2,970,3],[970,4,970,5],[970,6,970,7],[970,8,970,10],[970,13,970,14],[970,15,970,16],[970,17,970,18],[970,19,970,21],[971,0,971,1],[971,2,971,3],[971,4,971,5],[971,6,971,7],[971,8,971,10],[971,13,971,14],[971,15,971,16],[971,17,971,18],[971,19,971,21],[971,22,971,23],[972,0,972,1],[972,2,972,3],[972,4,972,5],[972,6,972,7],[972,8,972,10],[972,13,972,14],[972,15,972,16],[972,17,972,18],[972,19,972,21],[973,0,973,1],[973,2,973,3],[973,4,973,5],[973,6,973,7],[973,8,973,10],[973,13,973,14],[973,15,973,16],[973,17,973,18],[973,19,973,21],[974,0,974,1],[974,2,974,3],[974,4,974,5],[974,6,974,7],[974,8,974,10],[974,13,974,14],[974,15,974,16],[974,17,974,18],[974,19,974,21],[975,0,975,1],[975,2,975,3],[975,4,975,5],[975,6,975,7],[975,8,975,10],[975,13,975,14],[975,15,975,16],[975,17,975,18],[975,19,975,21],[976,2,976,21],[977,0,977,1],[977,2,977,3],[977,4,977,5],[977,6,977,7],[977,8,977,10],[977,11,977,12],[977,13,977,14],[977,15,977,16],[977,17,977,18],[977,19,977,21],[978,0,978,1],[978,2,978,3],[978,4,978,5],[978,6,978,7],[978,8,978,10],[978,11,978,12],[978,13,978,14],[978,15,978,16],[978,17,978,18],[978,19,978,21],[979,0,979,1],[979,2,979,3],[979,4,979,5],[979,6,979,7],[979,8,979,10],[979,11,979,12],[979,13,979,14],[979,15,979,16],[979,17,979,18],[979,19,979,21],[980,11,980,21],[981,0,981,3],[981,4,981,5],[981,6,981,10],[981,12,981,15],[981,16,981,17],[981,18,981,21],[983,3,983,7],[983,15,983,19],[984,0,984,21],[985,0,985,21],[986,2,987,5],[986,6,987,10],[986,13,987,16],[986,17,987,21],[988,2,988,10],[988,13,988,21],[989,2,989,5],[989,6,989,10],[989,13,989,16],[989,17,989,21],[990,0,990,1],[990,2,990,3],[990,4,990,5],[990,6,990,7],[990,8,990,10],[990,13,990,14],[990,15,990,16],[990,17,990,18],[990,19,990,21],[991,0,991,1],[991,2,991,3],[991,4,991,5],[991,6,991,7],[991,8,991,10],[991,13,991,14],[991,15,991,16],[991,17,991,18],[991,19,991,21],[992,0,992,1],[992,2,992,3],[992,4,992,5],[992,6,992,7],[992,8,992,10],[992,13,992,14],[992,15,992,16],[992,17,992,18],[992,19,992,21],[993,0,993,1],[993,2,993,3],[993,4,993,5],[993,6,993,7],[993,8,993,10],[993,13,993,14],[993,15,993,16],[993,17,993,18],[993,19,993,21],[994,0,994,1],[994,2,994,3],[994,4,994,5],[994,6,994,7],[994,8,994,10],[994,13,994,14],[994,15,994,16],[994,17,994,18],[994,19,994,21],[995,0,995,1],[995,2,995,3],[995,4,995,5],[995,6,995,7],[995,8,995,10],[995,13,995,14],[995,15,995,16],[995,17,995,18],[995,19,995,21],[995,22,995,23],[996,0,996,1],[996,2,996,3],[996,4,996,5],[996,6,996,7],[996,8,996,10],[996,13,996,14],[996,15,996,16],[996,17,996,18],[996,19,996,21],[997,0,997,1],[997,2,997,3],[997,4,997,5],[997,6,997,7],[997,8,997,10],[997,13,997,14],[997,15,997,16],[997,17,997,18],[997,19,997,21],[998,0,998,1],[998,2,998,3],[998,4,998,5],[998,6,998,7],[998,8,998,10],[998,13,998,14],[998,15,998,16],[998,17,998,18],[998,19,998,21],[999,0,999,1],[999,2,999,3],[999,4,999,5],[999,6,999,7],[999,8,999,10],[999,13,999,14],[999,15,999,16],[999,17,999,18],[999,19,999,21],[1000,2,1000,21],[1001,0,1001,1],[1001,2,1001,3],[1001,4,1001,5],[1001,6,1001,7],[1001,8,1001,10],[1001,11,1001,12],[1001,13,1001,14],[1001,15,1001,16],[1001,17,1001,18],[1001,19,1001,21],[1002,0,1002,1],[1002,2,1002,3],[1002,4,1002,5],[1002,6,1002,7],[1002,8,1002,10],[1002,11,1002,12],[1002,13,1002,14],[1002,15,1002,16],[1002,17,1002,18],[1002,19,1002,21],[1003,0,1003,1],[1003,2,1003,3],[1003,4,1003,5],[1003,6,1003,7],[1003,8,1003,10],[1003,11,1003,12],[1003,13,1003,14],[1003,15,1003,16],[1003,17,1003,18],[1003,19,1003,21],[1004,11,1004,21],[1005,0,1005,3],[1005,4,1005,5],[1005,6,1005,10],[1005,12,1005,15],[1005,16,1005,17],[1005,18,1005,21],[1007,3,1007,7],[1007,15,1007,19]],"merged_total":6006,"flags":["merged_cut"]}
[{"$f":"DRAW!$C$1","v":0}]
["ROUND  4"]
[null,null,"TEAM NUMBER",{"$nulls":3},{"$f":"DRAW!$C$5","v":0},{"$nulls":6},"RINK NUMBER",{"$nulls":3},{"$f":"DRAW!$L$5","v":0}]
[]
[null,null,"First Set",{"$nulls":10},"Second Set"]
[null,null,{"$f":"G3","v":0},{"$nulls":3},{"$f":"DRAW!$M$5","v":0},{"$nulls":6},{"$f":"G3","v":0},{"$nulls":3},{"$f":"DRAW!$M$5","v":0}]
["End",null,"Shots",null,"Total",null,"Shots",null,"Total",{"$nulls":4},"Shots",null,"Total",null,"Shots",null,"Total"]
[1]
[2]
[3]
[4]
[5]
[6]
[7]
[8]
[9]
[null,null,"Tie Break Set (if needed)"]
["End",null,"Shots",null,"Total",null,"Shots",null,"Total",null,null,"End",null,"Shots",null,"Total",null,"Shots",null,"Total"]
[1,{"$nulls":10},3]
[2,{"$nulls":10},4]
[]
["Team",{"$nulls":3},{"$f":"C6","v":0},null,"points",{"$nulls":5},"Team",{"$nulls":3},{"$f":"G6","v":0},null,"points"]
[]
[]
[{"$f":"$A$1","v":0}]
["ROUND  4"]
[null,null,"TEAM NUMBER",{"$nulls":3},{"$f":"DRAW!$C$6","v":0},{"$nulls":6},"RINK NUMBER",{"$nulls":3},{"$f":"DRAW!$L$6","v":0}]
[]
[null,null,"First Set",{"$nulls":10},"Second Set"]
[null,null,{"$f":"G27","v":0},{"$nulls":3},{"$f":"DRAW!$M$6","v":0},{"$nulls":6},{"$f":"G27","v":0},{"$nulls":3},{"$f":"DRAW!$M$6","v":0}]
["End",null,"Shots",null,"Total",null,"Shots",null,"Total",{"$nulls":4},"Shots",null,"Total",null,"Shots",null,"Total"]
[1]
[2]
[3]
[4]
[5]
[6]
[7]
[8]
[9]
[null,null,"Tie Break Set (if needed)"]
["End",null,"Shots",null,"Total",null,"Shots",null,"Total",null,null,"End",null,"Shots",null,"Total",null,"Shots",null,"Total"]
[1,{"$nulls":10},3]
[2,{"$nulls":10},4]
[]
["Team",{"$nulls":3},{"$f":"C30","v":0},null,"points",{"$nulls":5},"Team",{"$nulls":3},{"$f":"G30","v":0},null,"points"]
[]
[]
[{"$f":"$A$1","v":0}]
["ROUND  4"]
[null,null,"TEAM NUMBER",{"$nulls":3},{"$f":"DRAW!$C$7","v":0},{"$nulls":6},"RINK NUMBER",{"$nulls":3},{"$f":"DRAW!$L$7","v":0}]
[]
[null,null,"First Set",{"$nulls":10},"Second Set"]
[null,null,{"$f":"G51","v":0},{"$nulls":3},{"$f":"DRAW!$M$7","v":0},{"$nulls":6},{"$f":"G51","v":0},{"$nulls":3},{"$f":"DRAW!$M$7","v":0}]
["End",null,"Shots",null,"Total",null,"Shots",null,"Total",{"$nulls":4},"Shots",null,"Total",null,"Shots",null,"Total"]
[1]
[2]
[3]
[4]
[5]
[6]
[7]
[8]
[9]
[null,null,"Tie Break Set (if needed)"]
["End",null,"Shots",null,"Total",null,"Shots",null,"Total",null,null,"End",null,"Shots",null,"Total",null,"Shots",null,"Total"]
[1,{"$nulls":10},3]
[2,{"$nulls":10},4]
[]
["Team",{"$nulls":3},{"$f":"C54","v":0},null,"points",{"$nulls":5},"Team",{"$nulls":3},{"$f":"G54","v":0},null,"points"]
[]
[]
[{"$f":"$A$1","v":0}]
["ROUND  4"]
[null,null,"TEAM NUMBER",{"$nulls":3},{"$f":"DRAW!$C$8","v":0},{"$nulls":6},"RINK NUMBER",{"$nulls":3},{"$f":"DRAW!$L$8","v":0}]
[]
[null,null,"First Set",{"$nulls":10},"Second Set"]
[null,null,{"$f":"G75","v":0},{"$nulls":3},{"$f":"DRAW!$M$8","v":0},{"$nulls":6},{"$f":"G75","v":0},{"$nulls":3},{"$f":"DRAW!$M$8","v":0}]
["End",null,"Shots",null,"Total",null,"Shots",null,"Total",{"$nulls":4},"Shots",null,"Total",null,"Shots",null,"Total"]
[1]
[2]
[3]
[4]
[5]
[6]
[7]
[8]
[9]
[null,null,"Tie Break Set (if needed)"]
["End",null,"Shots",null,"Total",null,"Shots",null,"Total",null,null,"End",null,"Shots",null,"Total",null,"Shots",null,"Total"]
[1,{"$nulls":10},3]
[2,{"$nulls":10},4]
[]
["Team",{"$nulls":3},{"$f":"C78","v":0},null,"points",{"$nulls":5},"Team",{"$nulls":3},{"$f":"G78","v":0},null,"points"]
[]
[]
[{"$f":"$A$1","v":0}]
["ROUND  4"]
[null,null,"TEAM NUMBER",{"$nulls":3},{"$f":"DRAW!$C$9","v":0},{"$nulls":6},"RINK NUMBER",{"$nulls":3},{"$f":"DRAW!$L$9","v":0}]
[]
[null,null,"First Set",{"$nulls":10},"Second Set"]
[null,null,{"$f":"G99","v":0},{"$nulls":3},{"$f":"DRAW!$M$9","v":0},{"$nulls":6},{"$f":"G99","v":0},{"$nulls":3},{"$f":"DRAW!$M$9","v":0}]
["End",null,"Shots",null,"Total",null,"Shots",null,"Total",{"$nulls":4},"Shots",null,"Total",null,"Shots",null,"Total"]
[1]
[2]
[3]
[4]
[5]
[6]
[7]
[8]
[9]
[null,null,"Tie Break Set (if needed)"]
["End",null,"Shots",null,"Total",null,"Shots",null,"Total",null,null,"End",null,"Shots",null,"Total",null,"Shots",null,"Total"]
[1,{"$nulls":10},3]
[2,{"$nulls":10},4]
[]
["Team",{"$nulls":3},{"$f":"C102","v":0},null,"points",{"$nulls":5},"Team",{"$nulls":3},{"$f":"G102","v":0},null,"points"]
[]
[]
[{"$f":"$A$1","v":0}]
["ROUND  4"]
[null,null,"TEAM NUMBER",{"$nulls":3},{"$f":"DRAW!$C$10","v":0},{"$nulls":6},"RINK NUMBER",{"$nulls":3},{"$f":"DRAW!$L$10","v":0}]
[]
[null,null,"First Set",{"$nulls":10},"Second Set"]
[null,null,{"$f":"G123","v":0},{"$nulls":3},{"$f":"DRAW!$M$10","v":0},{"$nulls":6},{"$f":"G123","v":0},{"$nulls":3},{"$f":"DRAW!$M$10","v":0}]
["End",null,"Shots",null,"Total",null,"Shots",null,"Total",{"$nulls":4},"Shots",null,"Total",null,"Shots",null,"Total"]
[1]
[2]
[3]
[4]
[5]
[6]
[7]
[8]
[9]
[null,null,"Tie Break Set (if needed)"]
["End",null,"Shots",null,"Total",null,"Shots",null,"Total",null,null,"End",null,"Shots",null,"Total",null,"Shots",null,"Total"]
[1,{"$nulls":10},3]
[2,{"$nulls":10},4]
[]
["Team",{"$nulls":3},{"$f":"C126","v":0},null,"points",{"$nulls":5},"Team",{"$nulls":3},{"$f":"G126","v":0},null,"points"]
[]
[]
[{"$f":"$A$1","v":0}]
["ROUND  4"]
[null,null,"TEAM NUMBER",{"$nulls":3},{"$f":"DRAW!$C$11","v":0},{"$nulls":6},"RINK NUMBER",{"$nulls":3},{"$f":"DRAW!$L$11","v":0}]
[]
[null,null,"First Set",{"$nulls":10},"Second Set"]
[null,null,{"$f":"G147","v":0},{"$nulls":3},{"$f":"DRAW!$M$11","v":0},{"$nulls":6},{"$f":"G147","v":0},{"$nulls":3},{"$f":"DRAW!$M$11","v":0}]
["End",null,"Shots",null,"Total",null,"Shots",null,"Total",{"$nulls":4},"Shots",null,"Total",null,"Shots",null,"Total"]
[1]
[2]
[3]
[4]
[5]
[6]
[7]
[8]
[9]
[null,null,"Tie Break Set (if needed)"]
["End",null,"Shots",null,"Total",null,"Shots",null,"Total",null,null,"End",null,"Shots",null,"Total",null,"Shots",null,"Total"]
[1,{"$nulls":10},3]
[2,{"$nulls":10},4]
[]
["Team",{"$nulls":3},{"$f":"C150","v":0},null,"points",{"$nulls":5},"Team",{"$nulls":3},{"$f":"G150","v":0},null,"points"]
[]
[]
[{"$f":"$A$1","v":0}]
["ROUND  4"]
[null,null,"TEAM NUMBER",{"$nulls":3},{"$f":"DRAW!$C$12","v":0},{"$nulls":6},"RINK NUMBER",{"$nulls":3},{"$f":"DRAW!$L$12","v":0}]
[]
[null,null,"First Set",{"$nulls":10},"Second Set"]
[null,null,{"$f":"G171","v":0},{"$nulls":3},{"$f":"DRAW!$M$12","v":0},{"$nulls":6},{"$f":"G171","v":0},{"$nulls":3},{"$f":"DRAW!$M$12","v":0}]
["End",null,"Shots",null,"Total",null,"Shots",null,"Total",{"$nulls":4},"Shots",null,"Total",null,"Shots",null,"Total"]
[1]
[2]
[3]
[4]
[5]
[6]
[7]
[8]
[9]
[null,null,"Tie Break Set (if needed)"]
["End",null,"Shots",null,"Total",null,"Shots",null,"Total",null,null,"End",null,"Shots",null,"Total",null,"Shots",null,"Total"]
[1,{"$nulls":10},3]
[2,{"$nulls":10},4]
[]
["Team",{"$nulls":3},{"$f":"C174","v":0},null,"points",{"$nulls":5},"Team",{"$nulls":3},{"$f":"G174","v":0},null,"points"]
[]
[]
[{"$f":"$A$1","v":0}]
["ROUND  4"]
[null,null,"TEAM NUMBER",{"$nulls":3},{"$f":"DRAW!$C$13","v":0},{"$nulls":6},"RINK NUMBER",{"$nulls":3},{"$f":"DRAW!$L$13","v":0}]
[]
[null,null,"First Set",{"$nulls":10},"Second Set"]
[null,null,{"$f":"G195","v":0},{"$nulls":3},{"$f":"DRAW!$M$13","v":0},{"$nulls":6},{"$f":"G195","v":0},{"$nulls":3},{"$f":"DRAW!$M$13","v":0}]
["End",null,"Shots",null,"Total",null,"Shots",null,"Total",{"$nulls":4},"Shots",null,"Total",null,"Shots",null,"Total"]
[1]
[2]
[3]
[4]
[5]
[6]
[7]
[8]
[9]
[null,null,"Tie Break Set (if needed)"]
["End",null,"Shots",null,"Total",null,"Shots",null,"Total",null,null,"End",null,"Shots",null,"Total",null,"Shots",null,"Total"]
[1,{"$nulls":10},3]
[2,{"$nulls":10},4]
[]
["Team",{"$nulls":3},{"$f":"C198","v":0},null,"points",{"$nulls":5},"Team",{"$nulls":3},{"$f":"G198","v":0},null,"points"]
[]
[]
[{"$f":"$A$1","v":0}]
["ROUND  4"]
[null,null,"TEAM NUMBER",{"$nulls":3},{"$f":"DRAW!$C$14","v":0},{"$nulls":6},"RINK NUMBER",{"$nulls":3},{"$f":"DRAW!$L$14","v":0}]
[]
[null,null,"First Set",{"$nulls":10},"Second Set"]
[null,null,{"$f":"G219","v":0},{"$nulls":3},{"$f":"DRAW!$M$14","v":0},{"$nulls":6},{"$f":"G219","v":0},{"$nulls":3},{"$f":"DRAW!$M$14","v":0}]
["End",null,"Shots",null,"Total",null,"Shots",null,"Total",{"$nulls":4},"Shots",null,"Total",null,"Shots",null,"Total"]
[1]
[2]
[3]
[4]
[5]
[6]
[7]
[8]
[9]
[null,null,"Tie Break Set (if needed)"]
["End",null,"Shots",null,"Total",null,"Shots",null,"Total",null,null,"End",null,"Shots",null,"Total",null,"Shots",null,"Total"]
[1,{"$nulls":10},3]
[2,{"$nulls":10},4]
[]
["Team",{"$nulls":3},{"$f":"C222","v":0},null,"points",{"$nulls":5},"Team",{"$nulls":3},{"$f":"G222","v":0},null,"points"]
[]
[]
[{"$f":"$A$1","v":0}]
["ROUND  4"]
[null,null,"TEAM NUMBER",{"$nulls":3},{"$f":"DRAW!$C$15","v":0},{"$nulls":6},"RINK NUMBER",{"$nulls":3},{"$f":"DRAW!$L$15","v":0}]
[]
[null,null,"First Set",{"$nulls":10},"Second Set"]
[null,null,{"$f":"G243","v":0},{"$nulls":3},{"$f":"DRAW!$M$15","v":0},{"$nulls":6},{"$f":"G243","v":0},{"$nulls":3},{"$f":"DRAW!$M$15","v":0}]
["End",null,"Shots",null,"Total",null,"Shots",null,"Total",{"$nulls":4},"Shots",null,"Total",null,"Shots",null,"Total"]
[1]
[2]
[3]
[4]
[5]
[6]
[7]
[8]
[9]
[null,null,"Tie Break Set (if needed)"]
["End",null,"Shots",null,"Total",null,"Shots",null,"Total",null,null,"End",null,"Shots",null,"Total",null,"Shots",null,"Total"]
[1,{"$nulls":10},3]
[2,{"$nulls":10},4]
[]
["Team",{"$nulls":3},{"$f":"C246","v":0},null,"points",{"$nulls":5},"Team",{"$nulls":3},{"$f":"G246","v":0},null,"points"]
[]
[]
[{"$f":"$A$1","v":0}]
["ROUND  4"]
[null,null,"TEAM NUMBER",{"$nulls":3},{"$f":"DRAW!$C$16","v":0},{"$nulls":6},"RINK NUMBER",{"$nulls":3},{"$f":"DRAW!$L$16","v":0}]
[]
[null,null,"First Set",{"$nulls":10},"Second Set"]
[null,null,{"$f":"G267","v":0},{"$nulls":3},{"$f":"DRAW!$M$16","v":0},{"$nulls":6},{"$f":"G267","v":0},{"$nulls":3},{"$f":"DRAW!$M$16","v":0}]
["End",null,"Shots",null,"Total",null,"Shots",null,"Total",{"$nulls":4},"Shots",null,"Total",null,"Shots",null,"Total"]
[1]
[2]
[3]
[4]
[5]
[6]
[7]
[8]
[9]
[null,null,"Tie Break Set (if needed)"]
["End",null,"Shots",null,"Total",null,"Shots",null,"Total",null,null,"End",null,"Shots",null,"Total",null,"Shots",null,"Total"]
[1,{"$nulls":10},3]
[2,{"$nulls":10},4]
[]
["Team",{"$nulls":3},{"$f":"C270","v":0},null,"points",{"$nulls":5},"Team",{"$nulls":3},{"$f":"G270","v":0},null,"points"]
[]
[]
[{"$f":"$A$1","v":0}]
["ROUND  4"]
[null,null,"TEAM NUMBER",{"$nulls":3},{"$f":"DRAW!$C$17","v":0},{"$nulls":6},"RINK NUMBER",{"$nulls":3},{"$f":"DRAW!$L$17","v":0}]
[]
[null,null,"First Set",{"$nulls":10},"Second Set"]
[null,null,{"$f":"G291","v":0},{"$nulls":3},{"$f":"DRAW!$M$17","v":0},{"$nulls":6},{"$f":"G291","v":0},{"$nulls":3},{"$f":"DRAW!$M$17","v":0}]
["End",null,"Shots",null,"Total",null,"Shots",null,"Total",{"$nulls":4},"Shots",null,"Total",null,"Shots",null,"Total"]
[1]
[2]
[3]
[4]
[5]
[6]
[7]
[8]
[9]
[null,null,"Tie Break Set (if needed)"]
["End",null,"Shots",null,"Total",null,"Shots",null,"Total",null,null,"End",null,"Shots",null,"Total",null,"Shots",null,"Total"]
[1,{"$nulls":10},3]
[2,{"$nulls":10},4]
[]
["Team",{"$nulls":3},{"$f":"C294","v":0},null,"points",{"$nulls":5},"Team",{"$nulls":3},{"$f":"G294","v":0},null,"points"]
[]
[]
[{"$f":"$A$1","v":0}]
["ROUND  4"]
[null,null,"TEAM NUMBER",{"$nulls":3},{"$f":"DRAW!$C$18","v":0},{"$nulls":6},"RINK NUMBER",{"$nulls":3},{"$f":"DRAW!$L$18","v":0}]
[]
[null,null,"First Set",{"$nulls":10},"Second Set"]
[null,null,{"$f":"G315","v":0},{"$nulls":3},{"$f":"DRAW!$M$18","v":0},{"$nulls":6},{"$f":"G315","v":0},{"$nulls":3},{"$f":"DRAW!$M$18","v":0}]
["End",null,"Shots",null,"Total",null,"Shots",null,"Total",{"$nulls":4},"Shots",null,"Total",null,"Shots",null,"Total"]
[1]
[2]
[3]
[4]
[5]
[6]
[7]
[8]
[9]
[null,null,"Tie Break Set (if needed)"]
["End",null,"Shots",null,"Total",null,"Shots",null,"Total",null,null,"End",null,"Shots",null,"Total",null,"Shots",null,"Total"]
[1,{"$nulls":10},3]
[2,{"$nulls":10},4]
[]
["Team",{"$nulls":3},{"$f":"C318","v":0},null,"points",{"$nulls":5},"Team",{"$nulls":3},{"$f":"G318","v":0},null,"points"]
[]
[]
[{"$f":"$A$1","v":0}]
["ROUND  4"]
[null,null,"TEAM NUMBER",{"$nulls":3},{"$f":"DRAW!$C$19","v":0},{"$nulls":6},"RINK NUMBER",{"$nulls":3},{"$f":"DRAW!$L$19","v":0}]
[]
[null,null,"First Set",{"$nulls":10},"Second Set"]
[null,null,{"$f":"G339","v":0},{"$nulls":3},{"$f":"DRAW!$M$19","v":0},{"$nulls":6},{"$f":"G339","v":0},{"$nulls":3},{"$f":"DRAW!$M$19","v":0}]
["End",null,"Shots",null,"Total",null,"Shots",null,"Total",{"$nulls":4},"Shots",null,"Total",null,"Shots",null,"Total"]
[1]
[2]
[3]
[4]
[5]
[6]
[7]
[8]
[9]
[null,null,"Tie Break Set (if needed)"]
["End",null,"Shots",null,"Total",null,"Shots",null,"Total",null,null,"End",null,"Shots",null,"Total",null,"Shots",null,"Total"]
[1,{"$nulls":10},3]
[2,{"$nulls":10},4]
[]
["Team",{"$nulls":3},{"$f":"C342","v":0},null,"points",{"$nulls":5},"Team",{"$nulls":3},{"$f":"G342","v":0},null,"points"]
[]
[]
[{"$f":"$A$1","v":0}]
["ROUND  4"]
[null,null,"TEAM NUMBER",{"$nulls":3},{"$f":"DRAW!$C$20","v":0},{"$nulls":6},"RINK NUMBER",{"$nulls":3},{"$f":"DRAW!$L$20","v":0}]
[]
[null,null,"First Set",{"$nulls":10},"Second Set"]
[null,null,{"$f":"G363","v":0},{"$nulls":3},{"$f":"DRAW!$M$20","v":0},{"$nulls":6},{"$f":"G363","v":0},{"$nulls":3},{"$f":"DRAW!$M$20","v":0}]
["End",null,"Shots",null,"Total",null,"Shots",null,"Total",{"$nulls":4},"Shots",null,"Total",null,"Shots",null,"Total"]
[1]
[2]
[3]
[4]
[5]
[6]
[7]
[8]
[9]
[null,null,"Tie Break Set (if needed)"]
["End",null,"Shots",null,"Total",null,"Shots",null,"Total",null,null,"End",null,"Shots",null,"Total",null,"Shots",null,"Total"]
[1,{"$nulls":10},3]
[2,{"$nulls":10},4]
[]
["Team",{"$nulls":3},{"$f":"C366","v":0},null,"points",{"$nulls":5},"Team",{"$nulls":3},{"$f":"G366","v":0},null,"points"]
[]
[]
[{"$f":"$A$1","v":0}]
["ROUND  4"]
[null,null,"TEAM NUMBER",{"$nulls":3},{"$f":"DRAW!$C$21","v":0},{"$nulls":6},"RINK NUMBER",{"$nulls":3},{"$f":"DRAW!$L$21","v":0}]
[]
[null,null,"First Set",{"$nulls":10},"Second Set"]
[null,null,{"$f":"G387","v":0},{"$nulls":3},{"$f":"DRAW!$M$21","v":0},{"$nulls":6},{"$f":"G387","v":0},{"$nulls":3},{"$f":"DRAW!$M$21","v":0}]
["End",null,"Shots",null,"Total",null,"Shots",null,"Total",{"$nulls":4},"Shots",null,"Total",null,"Shots",null,"Total"]
[1]
[2]
[3]
[4]
[5]
[6]
[7]
[8]
[9]
[null,null,"Tie Break Set (if needed)"]
["End",null,"Shots",null,"Total",null,"Shots",null,"Total",null,null,"End",null,"Shots",null,"Total",null,"Shots",null,"Total"]
[1,{"$nulls":10},3]
[2,{"$nulls":10},4]
[]
["Team",{"$nulls":3},{"$f":"C390","v":0},null,"points",{"$nulls":5},"Team",{"$nulls":3},{"$f":"G390","v":0},null,"points"]
[]
[]
[{"$f":"$A$1","v":0}]
["ROUND  4"]
[null,null,"TEAM NUMBER",{"$nulls":3},{"$f":"DRAW!$C$22","v":0},{"$nulls":6},"RINK NUMBER",{"$nulls":3},{"$f":"DRAW!$L$22","v":0}]
[]
[null,null,"First Set",{"$nulls":10},"Second Set"]
[null,null,{"$f":"G411","v":0},{"$nulls":3},{"$f":"DRAW!$M$22","v":0},{"$nulls":6},{"$f":"G411","v":0},{"$nulls":3},{"$f":"DRAW!$M$22","v":0}]
["End",null,"Shots",null,"Total",null,"Shots",null,"Total",{"$nulls":4},"Shots",null,"Total",null,"Shots",null,"Total"]
[1]
[2]
[3]
[4]
[5]
[6]
[7]
[8]
[9]
[null,null,"Tie Break Set (if needed)"]
["End",null,"Shots",null,"Total",null,"Shots",null,"Total",null,null,"End",null,"Shots",null,"Total",null,"Shots",null,"Total"]
[1,{"$nulls":10},3]
[2,{"$nulls":10},4]
[]
["Team",{"$nulls":3},{"$f":"C414","v":0},null,"points",{"$nulls":5},"Team",{"$nulls":3},{"$f":"G414","v":0},null,"points"]
[]
[]
[{"$f":"$A$1","v":0}]
["ROUND  4"]
[null,null,"TEAM NUMBER",{"$nulls":3},{"$f":"DRAW!$C$23","v":0},{"$nulls":6},"RINK NUMBER",{"$nulls":3},{"$f":"DRAW!$L$23","v":0}]
[]
[null,null,"First Set",{"$nulls":10},"Second Set"]
[null,null,{"$f":"G435","v":0},{"$nulls":3},{"$f":"DRAW!$M$23","v":0},{"$nulls":6},{"$f":"G435","v":0},{"$nulls":3},{"$f":"DRAW!$M$23","v":0}]
["End",null,"Shots",null,"Total",null,"Shots",null,"Total",{"$nulls":4},"Shots",null,"Total",null,"Shots",null,"Total"]
[1]
[2]
[3]
[4]
[5]
[6]
[7]
[8]
[9]
[null,null,"Tie Break Set (if needed)"]
["End",null,"Shots",null,"Total",null,"Shots",null,"Total",null,null,"End",null,"Shots",null,"Total",null,"Shots",null,"Total"]
[1,{"$nulls":10},3]
[2,{"$nulls":10},4]
[]
["Team",{"$nulls":3},{"$f":"C438","v":0},null,"points",{"$nulls":5},"Team",{"$nulls":3},{"$f":"G438","v":0},null,"points"]
[]
[]
[{"$f":"$A$1","v":0}]
["ROUND  4"]
[null,null,"TEAM NUMBER",{"$nulls":3},{"$f":"DRAW!$C$24","v":0},{"$nulls":6},"RINK NUMBER",{"$nulls":3},{"$f":"DRAW!$L$24","v":0}]
[]
[null,null,"First Set",{"$nulls":10},"Second Set"]
[null,null,{"$f":"G459","v":0},{"$nulls":3},{"$f":"DRAW!$M$24","v":0},{"$nulls":6},{"$f":"G459","v":0},{"$nulls":3},{"$f":"DRAW!$M$24","v":0}]
["End",null,"Shots",null,"Total",null,"Shots",null,"Total",{"$nulls":4},"Shots",null,"Total",null,"Shots",null,"Total"]
[1]
[2]
[3]
[4]
[5]
[6]
[7]
[8]
[9]
[null,null,"Tie Break Set (if needed)"]
["End",null,"Shots",null,"Total",null,"Shots",null,"Total",null,null,"End",null,"Shots",null,"Total",null,"Shots",null,"Total"]
[1,{"$nulls":10},3]
[2,{"$nulls":10},4]
[]
["Team",{"$nulls":3},{"$f":"C462","v":0},null,"points",{"$nulls":5},"Team",{"$nulls":3},{"$f":"G462","v":0},null,"points"]
[]
[]
[{"$f":"$A$1","v":0}]
["ROUND  4"]
[null,null,"TEAM NUMBER",{"$nulls":3},{"$f":"DRAW!$C$25","v":0},{"$nulls":6},"RINK NUMBER",{"$nulls":3},{"$f":"DRAW!$L$25","v":0}]
[]
[null,null,"First Set",{"$nulls":10},"Second Set"]
[null,null,{"$f":"G483","v":0},{"$nulls":3},{"$f":"DRAW!$M$25","v":0},{"$nulls":6},{"$f":"G483","v":0},{"$nulls":3},{"$f":"DRAW!$M$25","v":0}]
["End",null,"Shots",null,"Total",null,"Shots",null,"Total",{"$nulls":4},"Shots",null,"Total",null,"Shots",null,"Total"]
[1]
[2]
[3]
[4]
[5]
[6]
[7]
[8]
[9]
[null,null,"Tie Break Set (if needed)"]
["End",null,"Shots",null,"Total",null,"Shots",null,"Total",null,null,"End",null,"Shots",null,"Total",null,"Shots",null,"Total"]
[1,{"$nulls":10},3]
[2,{"$nulls":10},4]
[]
["Team",{"$nulls":3},{"$f":"C486","v":0},null,"points",{"$nulls":5},"Team",{"$nulls":3},{"$f":"G486","v":0},null,"points"]
[]
[]
[{"$f":"$A$1","v":0}]
["ROUND  4"]
[null,null,"TEAM NUMBER",{"$nulls":3},{"$f":"DRAW!$C$26","v":0},{"$nulls":6},"RINK NUMBER",{"$nulls":3},{"$f":"DRAW!$L$26","v":0}]
[]
[null,null,"First Set",{"$nulls":10},"Second Set"]
[null,null,{"$f":"G507","v":0},{"$nulls":3},{"$f":"DRAW!$M$26","v":0},{"$nulls":6},{"$f":"G507","v":0},{"$nulls":3},{"$f":"DRAW!$M$26","v":0}]
["End",null,"Shots",null,"Total",null,"Shots",null,"Total",{"$nulls":4},"Shots",null,"Total",null,"Shots",null,"Total"]
[1]
[2]
[3]
[4]
[5]
[6]
[7]
[8]
[9]
[null,null,"Tie Break Set (if needed)"]
["End",null,"Shots",null,"Total",null,"Shots",null,"Total",null,null,"End",null,"Shots",null,"Total",null,"Shots",null,"Total"]
[1,{"$nulls":10},3]
[2,{"$nulls":10},4]
[]
["Team",{"$nulls":3},{"$f":"C510","v":0},null,"points",{"$nulls":5},"Team",{"$nulls":3},{"$f":"G510","v":0},null,"points"]
[]
[]
[{"$f":"$A$1","v":0}]
["ROUND  4"]
[null,null,"TEAM NUMBER",{"$nulls":3},{"$f":"DRAW!$C$27","v":0},{"$nulls":6},"RINK NUMBER",{"$nulls":3},{"$f":"DRAW!$L$27","v":0}]
[]
[null,null,"First Set",{"$nulls":10},"Second Set"]
[null,null,{"$f":"G531","v":0},{"$nulls":3},{"$f":"DRAW!$M$27","v":0},{"$nulls":6},{"$f":"G531","v":0},{"$nulls":3},{"$f":"DRAW!$M$27","v":0}]
["End",null,"Shots",null,"Total",null,"Shots",null,"Total",{"$nulls":4},"Shots",null,"Total",null,"Shots",null,"Total"]
[1]
[2]
[3]
[4]
[5]
[6]
[7]
[8]
[9]
[null,null,"Tie Break Set (if needed)"]
["End",null,"Shots",null,"Total",null,"Shots",null,"Total",null,null,"End",null,"Shots",null,"Total",null,"Shots",null,"Total"]
[1,{"$nulls":10},3]
[2,{"$nulls":10},4]
[]
["Team",{"$nulls":3},{"$f":"C534","v":0},null,"points",{"$nulls":5},"Team",{"$nulls":3},{"$f":"G534","v":0},null,"points"]
[]
[]
[{"$f":"$A$1","v":0}]
["ROUND  4"]
[null,null,"TEAM NUMBER",{"$nulls":3},{"$f":"DRAW!$C$28","v":0},{"$nulls":6},"RINK NUMBER",{"$nulls":3},{"$f":"DRAW!$L$28","v":0}]
[]
[null,null,"First Set",{"$nulls":10},"Second Set"]
[null,null,{"$f":"G555","v":0},{"$nulls":3},{"$f":"DRAW!$M$28","v":0},{"$nulls":6},{"$f":"G555","v":0},{"$nulls":3},{"$f":"DRAW!$M$28","v":0}]
["End",null,"Shots",null,"Total",null,"Shots",null,"Total",{"$nulls":4},"Shots",null,"Total",null,"Shots",null,"Total"]
[1]
[2]
[3]
[4]
[5]
[6]
[7]
[8]
[9]
[null,null,"Tie Break Set (if needed)"]
["End",null,"Shots",null,"Total",null,"Shots",null,"Total",null,null,"End",null,"Shots",null,"Total",null,"Shots",null,"Total"]
[1,{"$nulls":10},3]
[2,{"$nulls":10},4]
[]
["Team",{"$nulls":3},{"$f":"C558","v":0},null,"points",{"$nulls":5},"Team",{"$nulls":3},{"$f":"G558","v":0},null,"points"]
[]
[]
[{"$f":"$A$1","v":0}]
["ROUND  4"]
[null,null,"TEAM NUMBER",{"$nulls":3},{"$f":"DRAW!$C$29","v":0},{"$nulls":6},"RINK NUMBER",{"$nulls":3},{"$f":"DRAW!$L$29","v":0}]
[]
[null,null,"First Set",{"$nulls":10},"Second Set"]
[null,null,{"$f":"G579","v":0},{"$nulls":3},{"$f":"DRAW!$M$29","v":0},{"$nulls":6},{"$f":"G579","v":0},{"$nulls":3},{"$f":"DRAW!$M$29","v":0}]
["End",null,"Shots",null,"Total",null,"Shots",null,"Total",{"$nulls":4},"Shots",null,"Total",null,"Shots",null,"Total"]
[1]
[2]
[3]
[4]
[5]
[6]
[7]
[8]
[9]
[null,null,"Tie Break Set (if needed)"]
["End",null,"Shots",null,"Total",null,"Shots",null,"Total",null,null,"End",null,"Shots",null,"Total",null,"Shots",null,"Total"]
[1,{"$nulls":10},3]
[2,{"$nulls":10},4]
[]
["Team",{"$nulls":3},{"$f":"C582","v":0},null,"points",{"$nulls":5},"Team",{"$nulls":3},{"$f":"G582","v":0},null,"points"]
[]
[]
[{"$f":"$A$1","v":0}]
["ROUND  4"]
[null,null,"TEAM NUMBER",{"$nulls":3},{"$f":"DRAW!$C$30","v":0},{"$nulls":6},"RINK NUMBER",{"$nulls":3},{"$f":"DRAW!$L$30","v":0}]
[]
[null,null,"First Set",{"$nulls":10},"Second Set"]
[null,null,{"$f":"G603","v":0},{"$nulls":3},{"$f":"DRAW!$M$30","v":0},{"$nulls":6},{"$f":"G603","v":0},{"$nulls":3},{"$f":"DRAW!$M$30","v":0}]
["End",null,"Shots",null,"Total",null,"Shots",null,"Total",{"$nulls":4},"Shots",null,"Total",null,"Shots",null,"Total"]
[1]
[2]
[3]
[4]
[5]
[6]
[7]
[8]
[9]
[null,null,"Tie Break Set (if needed)"]
["End",null,"Shots",null,"Total",null,"Shots",null,"Total",null,null,"End",null,"Shots",null,"Total",null,"Shots",null,"Total"]
[1,{"$nulls":10},3]
[2,{"$nulls":10},4]
[]
["Team",{"$nulls":3},{"$f":"C606","v":0},null,"points",{"$nulls":5},"Team",{"$nulls":3},{"$f":"G606","v":0},null,"points"]
[]
[]
[{"$f":"$A$1","v":0}]
["ROUND  4"]
[null,null,"TEAM NUMBER",{"$nulls":3},{"$f":"DRAW!$C$31","v":0},{"$nulls":6},"RINK NUMBER",{"$nulls":3},{"$f":"DRAW!$L$31","v":0}]
[]
[null,null,"First Set",{"$nulls":10},"Second Set"]
[null,null,{"$f":"G627","v":0},{"$nulls":3},{"$f":"DRAW!$M$31","v":0},{"$nulls":6},{"$f":"G627","v":0},{"$nulls":3},{"$f":"DRAW!$M$31","v":0}]
["End",null,"Shots",null,"Total",null,"Shots",null,"Total",{"$nulls":4},"Shots",null,"Total",null,"Shots",null,"Total"]
[1]
[2]
[3]
[4]
[5]
[6]
[7]
[8]
[9]
[null,null,"Tie Break Set (if needed)"]
["End",null,"Shots",null,"Total",null,"Shots",null,"Total",null,null,"End",null,"Shots",null,"Total",null,"Shots",null,"Total"]
[1,{"$nulls":10},3]
[2,{"$nulls":10},4]
[]
["Team",{"$nulls":3},{"$f":"C630","v":0},null,"points",{"$nulls":5},"Team",{"$nulls":3},{"$f":"G630","v":0},null,"points"]
[]
[]
[{"$f":"$A$1","v":0}]
["ROUND  4"]
[null,null,"TEAM NUMBER",{"$nulls":3},{"$f":"DRAW!$C$32","v":0},{"$nulls":6},"RINK NUMBER",{"$nulls":3},{"$f":"DRAW!$L$32","v":0}]
[]
[null,null,"First Set",{"$nulls":10},"Second Set"]
[null,null,{"$f":"G651","v":0},{"$nulls":3},{"$f":"DRAW!$M$32","v":0},{"$nulls":6},{"$f":"G651","v":0},{"$nulls":3},{"$f":"DRAW!$M$32","v":0}]
["End",null,"Shots",null,"Total",null,"Shots",null,"Total",{"$nulls":4},"Shots",null,"Total",null,"Shots",null,"Total"]
[1]
[2]
[3]
[4]
[5]
[6]
[7]
[8]
[9]
[null,null,"Tie Break Set (if needed)"]
["End",null,"Shots",null,"Total",null,"Shots",null,"Total",null,null,"End",null,"Shots",null,"Total",null,"Shots",null,"Total"]
[1,{"$nulls":10},3]
[2,{"$nulls":10},4]
[]
["Team",{"$nulls":3},{"$f":"C654","v":0},null,"points",{"$nulls":5},"Team",{"$nulls":3},{"$f":"G654","v":0},null,"points"]
[]
[]
[{"$f":"$A$1","v":0}]
["ROUND  4"]
[null,null,"TEAM NUMBER",{"$nulls":3},{"$f":"DRAW!$C$33","v":0},{"$nulls":6},"RINK NUMBER",{"$nulls":3},{"$f":"DRAW!$L$33","v":0}]
[]
[null,null,"First Set",{"$nulls":10},"Second Set"]
[null,null,{"$f":"G675","v":0},{"$nulls":3},{"$f":"DRAW!$M$33","v":0},{"$nulls":6},{"$f":"G675","v":0},{"$nulls":3},{"$f":"DRAW!$M$33","v":0}]
["End",null,"Shots",null,"Total",null,"Shots",null,"Total",{"$nulls":4},"Shots",null,"Total",null,"Shots",null,"Total"]
[1]
[2]
[3]
[4]
[5]
[6]
[7]
[8]
[9]
[null,null,"Tie Break Set (if needed)"]
["End",null,"Shots",null,"Total",null,"Shots",null,"Total",null,null,"End",null,"Shots",null,"Total",null,"Shots",null,"Total"]
[1,{"$nulls":10},3]
[2,{"$nulls":10},4]
[]
["Team",{"$nulls":3},{"$f":"C678","v":0},null,"points",{"$nulls":5},"Team",{"$nulls":3},{"$f":"G678","v":0},null,"points"]
[]
[]
[{"$f":"$A$1","v":0}]
["ROUND  4"]
[null,null,"TEAM NUMBER",{"$nulls":3},{"$f":"DRAW!$C$34","v":0},{"$nulls":6},"RINK NUMBER",{"$nulls":3},{"$f":"DRAW!$L$34","v":0}]
[]
[null,null,"First Set",{"$nulls":10},"Second Set"]
[null,null,{"$f":"G699","v":0},{"$nulls":3},{"$f":"DRAW!$M$34","v":0},{"$nulls":6},{"$f":"G699","v":0},{"$nulls":3},{"$f":"DRAW!$M$34","v":0}]
["End",null,"Shots",null,"Total",null,"Shots",null,"Total",{"$nulls":4},"Shots",null,"Total",null,"Shots",null,"Total"]
[1]
[2]
[3]
[4]
[5]
[6]
[7]
[8]
[9]
[null,null,"Tie Break Set (if needed)"]
["End",null,"Shots",null,"Total",null,"Shots",null,"Total",null,null,"End",null,"Shots",null,"Total",null,"Shots",null,"Total"]
[1,{"$nulls":10},3]
[2,{"$nulls":10},4]
[]
["Team",{"$nulls":3},{"$f":"C702","v":0},null,"points",{"$nulls":5},"Team",{"$nulls":3},{"$f":"G702","v":0},null,"points"]
[]
[]
[{"$f":"$A$1","v":0}]
["ROUND  4"]
[null,null,"TEAM NUMBER",{"$nulls":3},{"$f":"DRAW!$C$35","v":0},{"$nulls":6},"RINK NUMBER",{"$nulls":3},{"$f":"DRAW!$L$35","v":0}]
[]
[null,null,"First Set",{"$nulls":10},"Second Set"]
[null,null,{"$f":"G723","v":0},{"$nulls":3},{"$f":"DRAW!$M$35","v":0},{"$nulls":6},{"$f":"G723","v":0},{"$nulls":3},{"$f":"DRAW!$M$35","v":0}]
["End",null,"Shots",null,"Total",null,"Shots",null,"Total",{"$nulls":4},"Shots",null,"Total",null,"Shots",null,"Total"]
[1]
[2]
[3]
[4]
[5]
[6]
[7]
[8]
[9]
[null,null,"Tie Break Set (if needed)"]
["End",null,"Shots",null,"Total",null,"Shots",null,"Total",null,null,"End",null,"Shots",null,"Total",null,"Shots",null,"Total"]
[1,{"$nulls":10},3]
[2,{"$nulls":10},4]
[]
["Team",{"$nulls":3},{"$f":"C726","v":0},null,"points",{"$nulls":5},"Team",{"$nulls":3},{"$f":"G726","v":0},null,"points"]
[]
[]
[{"$f":"$A$1","v":0}]
["ROUND  4"]
[null,null,"TEAM NUMBER",{"$nulls":3},{"$f":"DRAW!$C$36","v":0},{"$nulls":6},"RINK NUMBER",{"$nulls":3},{"$f":"DRAW!$L$36","v":0}]
[]
[null,null,"First Set",{"$nulls":10},"Second Set"]
[null,null,{"$f":"G747","v":0},{"$nulls":3},{"$f":"DRAW!$M$36","v":0},{"$nulls":6},{"$f":"G747","v":0},{"$nulls":3},{"$f":"DRAW!$M$36","v":0}]
["End",null,"Shots",null,"Total",null,"Shots",null,"Total",{"$nulls":4},"Shots",null,"Total",null,"Shots",null,"Total"]
[1]
[2]
[3]
[4]
[5]
[6]
[7]
[8]
[9]
[null,null,"Tie Break Set (if needed)"]
["End",null,"Shots",null,"Total",null,"Shots",null,"Total",null,null,"End",null,"Shots",null,"Total",null,"Shots",null,"Total"]
[1,{"$nulls":10},3]
[2,{"$nulls":10},4]
[]
["Team",{"$nulls":3},{"$f":"C750","v":0},null,"points",{"$nulls":5},"Team",{"$nulls":3},{"$f":"G750","v":0},null,"points"]
[]
[]
[{"$f":"$A$1","v":0}]
["ROUND  4"]
[null,null,"TEAM NUMBER",{"$nulls":3},{"$f":"DRAW!$C$37","v":0},{"$nulls":6},"RINK NUMBER",{"$nulls":3},{"$f":"DRAW!$L$37","v":0}]
[]
[null,null,"First Set",{"$nulls":10},"Second Set"]
[null,null,{"$f":"G771","v":0},{"$nulls":3},{"$f":"DRAW!$M$37","v":0},{"$nulls":6},{"$f":"G771","v":0},{"$nulls":3},{"$f":"DRAW!$M$37","v":0}]
["End",null,"Shots",null,"Total",null,"Shots",null,"Total",{"$nulls":4},"Shots",null,"Total",null,"Shots",null,"Total"]
[1]
[2]
[3]
[4]
[5]
[6]
[7]
[8]
[9]
[null,null,"Tie Break Set (if needed)"]
["End",null,"Shots",null,"Total",null,"Shots",null,"Total",null,null,"End",null,"Shots",null,"Total",null,"Shots",null,"Total"]
[1,{"$nulls":10},3]
[2,{"$nulls":10},4]
[]
["Team",{"$nulls":3},{"$f":"C774","v":0},null,"points",{"$nulls":5},"Team",{"$nulls":3},{"$f":"G774","v":0},null,"points"]
[]
[]
[{"$f":"$A$1","v":0}]
["ROUND  4"]
[null,null,"TEAM NUMBER",{"$nulls":3},{"$f":"DRAW!$C$38","v":0},{"$nulls":6},"RINK NUMBER",{"$nulls":3},{"$f":"DRAW!$L$38","v":0}]
[]
[null,null,"First Set",{"$nulls":10},"Second Set"]
[null,null,{"$f":"G795","v":0},{"$nulls":3},{"$f":"DRAW!$M$38","v":0},{"$nulls":6},{"$f":"G795","v":0},{"$nulls":3},{"$f":"DRAW!$M$38","v":0}]
["End",null,"Shots",null,"Total",null,"Shots",null,"Total",{"$nulls":4},"Shots",null,"Total",null,"Shots",null,"Total"]
[1]
[2]
[3]
[4]
[5]
[6]
[7]
[8]
[9]
[null,null,"Tie Break Set (if needed)"]
["End",null,"Shots",null,"Total",null,"Shots",null,"Total",null,null,"End",null,"Shots",null,"Total",null,"Shots",null,"Total"]
[1,{"$nulls":10},3]
[2,{"$nulls":10},4]
[]
["Team",{"$nulls":3},{"$f":"C798","v":0},null,"points",{"$nulls":5},"Team",{"$nulls":3},{"$f":"G798","v":0},null,"points"]
[]
[]
[{"$f":"$A$1","v":0}]
["ROUND  4"]
[null,null,"TEAM NUMBER",{"$nulls":3},{"$f":"DRAW!$C$39","v":0},{"$nulls":6},"RINK NUMBER",{"$nulls":3},{"$f":"DRAW!$L$39","v":0}]
[]
[null,null,"First Set",{"$nulls":10},"Second Set"]
[null,null,{"$f":"G819","v":0},{"$nulls":3},{"$f":"DRAW!$M$39","v":0},{"$nulls":6},{"$f":"G819","v":0},{"$nulls":3},{"$f":"DRAW!$M$39","v":0}]
["End",null,"Shots",null,"Total",null,"Shots",null,"Total",{"$nulls":4},"Shots",null,"Total",null,"Shots",null,"Total"]
[1]
[2]
[3]
[4]
[5]
[6]
[7]
[8]
[9]
[null,null,"Tie Break Set (if needed)"]
["End",null,"Shots",null,"Total",null,"Shots",null,"Total",null,null,"End",null,"Shots",null,"Total",null,"Shots",null,"Total"]
[1,{"$nulls":10},3]
[2,{"$nulls":10},4]
[]
["Team",{"$nulls":3},{"$f":"C822","v":0},null,"points",{"$nulls":5},"Team",{"$nulls":3},{"$f":"G822","v":0},null,"points"]
[]
[]
[{"$f":"$A$1","v":0}]
["ROUND  4"]
[null,null,"TEAM NUMBER",{"$nulls":3},{"$f":"DRAW!$C$40","v":0},{"$nulls":6},"RINK NUMBER",{"$nulls":3},{"$f":"DRAW!$L$40","v":0}]
[]
[null,null,"First Set",{"$nulls":10},"Second Set"]
[null,null,{"$f":"G843","v":0},{"$nulls":3},{"$f":"DRAW!$M$40","v":0},{"$nulls":6},{"$f":"G843","v":0},{"$nulls":3},{"$f":"DRAW!$M$40","v":0}]
["End",null,"Shots",null,"Total",null,"Shots",null,"Total",{"$nulls":4},"Shots",null,"Total",null,"Shots",null,"Total"]
[1]
[2]
[3]
[4]
[5]
[6]
[7]
[8]
[9]
[null,null,"Tie Break Set (if needed)"]
["End",null,"Shots",null,"Total",null,"Shots",null,"Total",null,null,"End",null,"Shots",null,"Total",null,"Shots",null,"Total"]
[1,{"$nulls":10},3]
[2,{"$nulls":10},4]
[]
["Team",{"$nulls":3},{"$f":"C846","v":0},null,"points",{"$nulls":5},"Team",{"$nulls":3},{"$f":"G846","v":0},null,"points"]
[]
[]
[{"$f":"$A$1","v":0}]
["ROUND  4"]
[null,null,"TEAM NUMBER",{"$nulls":3},{"$f":"DRAW!$C$41","v":0},{"$nulls":6},"RINK NUMBER",{"$nulls":3},{"$f":"DRAW!$L$41","v":0}]
[]
[null,null,"First Set",{"$nulls":10},"Second Set"]
[null,null,{"$f":"G867","v":0},{"$nulls":3},{"$f":"DRAW!$M$41","v":0},{"$nulls":6},{"$f":"G867","v":0},{"$nulls":3},{"$f":"DRAW!$M$41","v":0}]
["End",null,"Shots",null,"Total",null,"Shots",null,"Total",{"$nulls":4},"Shots",null,"Total",null,"Shots",null,"Total"]
[1]
[2]
[3]
[4]
[5]
[6]
[7]
[8]
[9]
[null,null,"Tie Break Set (if needed)"]
["End",null,"Shots",null,"Total",null,"Shots",null,"Total",null,null,"End",null,"Shots",null,"Total",null,"Shots",null,"Total"]
[1,{"$nulls":10},3]
[2,{"$nulls":10},4]
[]
["Team",{"$nulls":3},{"$f":"C870","v":0},null,"points",{"$nulls":5},"Team",{"$nulls":3},{"$f":"G870","v":0},null,"points"]
[]
[]
[{"$f":"$A$1","v":0}]
["ROUND  4"]
[null,null,"TEAM NUMBER",{"$nulls":3},{"$f":"DRAW!$C$42","v":0},{"$nulls":6},"RINK NUMBER",{"$nulls":3},{"$f":"DRAW!$L$42","v":0}]
[]
[null,null,"First Set",{"$nulls":10},"Second Set"]
[null,null,{"$f":"G891","v":0},{"$nulls":3},{"$f":"DRAW!$M$42","v":0},{"$nulls":6},{"$f":"G891","v":0},{"$nulls":3},{"$f":"DRAW!$M$42","v":0}]
["End",null,"Shots",null,"Total",null,"Shots",null,"Total",{"$nulls":4},"Shots",null,"Total",null,"Shots",null,"Total"]
[1]
[2]
[3]
[4]
[5]
[6]
[7]
[8]
[9]
[null,null,"Tie Break Set (if needed)"]
["End",null,"Shots",null,"Total",null,"Shots",null,"Total",null,null,"End",null,"Shots",null,"Total",null,"Shots",null,"Total"]
[1,{"$nulls":10},3]
[2,{"$nulls":10},4]
[]
["Team",{"$nulls":3},{"$f":"C894","v":0},null,"points",{"$nulls":5},"Team",{"$nulls":3},{"$f":"G894","v":0},null,"points"]
[]
[]
[{"$f":"$A$1","v":0}]
["ROUND  4"]
[null,null,"TEAM NUMBER",{"$nulls":3},{"$f":"DRAW!$C$43","v":0},{"$nulls":6},"RINK NUMBER",{"$nulls":3},{"$f":"DRAW!$L$43","v":0}]
[]
[null,null,"First Set",{"$nulls":10},"Second Set"]
[null,null,{"$f":"G915","v":0},{"$nulls":3},{"$f":"DRAW!$M$43","v":0},{"$nulls":6},{"$f":"G915","v":0},{"$nulls":3},{"$f":"DRAW!$M$43","v":0}]
["End",null,"Shots",null,"Total",null,"Shots",null,"Total",{"$nulls":4},"Shots",null,"Total",null,"Shots",null,"Total"]
[1]
[2]
[3]
[4]
[5]
[6]
[7]
[8]
[9]
[null,null,"Tie Break Set (if needed)"]
["End",null,"Shots",null,"Total",null,"Shots",null,"Total",null,null,"End",null,"Shots",null,"Total",null,"Shots",null,"Total"]
[1,{"$nulls":10},3]
[2,{"$nulls":10},4]
[]
["Team",{"$nulls":3},{"$f":"C918","v":0},null,"points",{"$nulls":5},"Team",{"$nulls":3},{"$f":"G918","v":0},null,"points"]
[]
[]
[{"$f":"$A$1","v":0}]
["ROUND  4"]
[null,null,"TEAM NUMBER",{"$nulls":3},{"$f":"DRAW!$C$44","v":0},{"$nulls":6},"RINK NUMBER",{"$nulls":3},{"$f":"DRAW!$L$44","v":0}]
[]
[null,null,"First Set",{"$nulls":10},"Second Set"]
[null,null,{"$f":"G939","v":0},{"$nulls":3},{"$f":"DRAW!$M$44","v":0},{"$nulls":6},{"$f":"G939","v":0},{"$nulls":3},{"$f":"DRAW!$M$44","v":0}]
["End",null,"Shots",null,"Total",null,"Shots",null,"Total",{"$nulls":4},"Shots",null,"Total",null,"Shots",null,"Total"]
[1]
[2]
[3]
[4]
[5]
[6]
[7]
[8]
[9]
[null,null,"Tie Break Set (if needed)"]
["End",null,"Shots",null,"Total",null,"Shots",null,"Total",null,null,"End",null,"Shots",null,"Total",null,"Shots",null,"Total"]
[1,{"$nulls":10},3]
[2,{"$nulls":10},4]
[]
["Team",{"$nulls":3},{"$f":"C942","v":0},null,"points",{"$nulls":5},"Team",{"$nulls":3},{"$f":"G942","v":0},null,"points"]
[]
[]
[{"$f":"$A$1","v":0}]
["ROUND  4"]
[null,null,"TEAM NUMBER",{"$nulls":3},{"$f":"DRAW!$C$45","v":0},{"$nulls":6},"RINK NUMBER",{"$nulls":3},{"$f":"DRAW!$L$45","v":0}]
[]
[null,null,"First Set",{"$nulls":10},"Second Set"]
[null,null,{"$f":"G963","v":0},{"$nulls":3},{"$f":"DRAW!$M$45","v":0},{"$nulls":6},{"$f":"G963","v":0},{"$nulls":3},{"$f":"DRAW!$M$45","v":0}]
["End",null,"Shots",null,"Total",null,"Shots",null,"Total",{"$nulls":4},"Shots",null,"Total",null,"Shots",null,"Total"]
[1]
[2]
[3]
[4]
[5]
[6]
[7]
[8]
[9]
[null,null,"Tie Break Set (if needed)"]
["End",null,"Shots",null,"Total",null,"Shots",null,"Total",null,null,"End",null,"Shots",null,"Total",null,"Shots",null,"Total"]
[1,{"$nulls":10},3]
[2,{"$nulls":10},4]
[]
["Team",{"$nulls":3},{"$f":"C966","v":0},null,"points",{"$nulls":5},"Team",{"$nulls":3},{"$f":"G966","v":0},null,"points"]
[]
[]
[{"$f":"$A$1","v":0}]
["ROUND  4"]
[null,null,"TEAM NUMBER",{"$nulls":3},{"$f":"DRAW!$C$46","v":0},{"$nulls":6},"RINK NUMBER",{"$nulls":3},{"$f":"DRAW!$L$46","v":0}]
[]
[null,null,"First Set",{"$nulls":10},"Second Set"]
[null,null,{"$f":"G987","v":0},{"$nulls":3},{"$f":"DRAW!$M$46","v":0},{"$nulls":6},{"$f":"G987","v":0},{"$nulls":3},{"$f":"DRAW!$M$46","v":0}]
["End",null,"Shots",null,"Total",null,"Shots",null,"Total",{"$nulls":4},"Shots",null,"Total",null,"Shots",null,"Total"]
[1]
[2]
[3]
[4]
[5]
[6]
[7]
[8]
[9]
[null,null,"Tie Break Set (if needed)"]
["End",null,"Shots",null,"Total",null,"Shots",null,"Total",null,null,"End",null,"Shots",null,"Total",null,"Shots",null,"Total"]
[1,{"$nulls":10},3]
[2,{"$nulls":10},4]
[]
["Team",{"$nulls":3},{"$f":"C990","v":0},null,"points",{"$nulls":5},"Team",{"$nulls":3},{"$f":"G990","v":0},null,"points"]

{"sheet":"Round 5 Cards","index":14,"n_rows":1006,"n_cols":20,"rows_kept":1006,"merged":[[837,18,837,21],[839,3,839,7],[839,15,839,19],[840,0,840,21],[841,0,841,21],[844,2,844,10],[844,13,844,21],[845,2,845,5],[845,6,845,10],[845,13,845,16],[845,17,845,21],[846,0,846,1],[846,2,846,3],[846,4,846,5],[846,6,846,7],[846,8,846,10],[846,13,846,14],[846,15,846,16],[846,17,846,18],[846,19,846,21],[847,0,847,1],[847,2,847,3],[847,4,847,5],[847,6,847,7],[847,8,847,10],[847,13,847,14],[847,15,847,16],[847,17,847,18],[847,19,847,21],[848,0,848,1],[848,2,848,3],[848,4,848,5],[848,6,848,7],[848,8,848,10],[848,13,848,14],[848,15,848,16],[848,17,848,18],[848,19,848,21],[849,0,849,1],[849,2,849,3],[849,4,849,5],[849,6,849,7],[849,8,849,10],[849,13,849,14],[849,15,849,16],[849,17,849,18],[849,19,849,21],[850,0,850,1],[850,2,850,3],[850,4,850,5],[850,6,850,7],[850,8,850,10],[850,13,850,14],[850,15,850,16],[850,17,850,18],[850,19,850,21],[851,0,851,1],[851,2,851,3],[851,4,851,5],[851,6,851,7],[851,8,851,10],[851,13,851,14],[851,15,851,16],[851,17,851,18],[851,19,851,21],[851,22,851,23],[852,0,852,1],[852,2,852,3],[852,4,852,5],[852,6,852,7],[852,8,852,10],[852,13,852,14],[852,15,852,16],[852,17,852,18],[852,19,852,21],[853,0,853,1],[853,2,853,3],[853,4,853,5],[853,6,853,7],[853,8,853,10],[853,13,853,14],[853,15,853,16],[853,17,853,18],[853,19,853,21],[854,0,854,1],[854,2,854,3],[854,4,854,5],[854,6,854,7],[854,8,854,10],[854,13,854,14],[854,15,854,16],[854,17,854,18],[854,19,854,21],[855,0,855,1],[855,2,855,3],[855,4,855,5],[855,6,855,7],[855,8,855,10],[855,13,855,14],[855,15,855,16],[855,17,855,18],[855,19,855,21],[856,2,856,21],[857,0,857,1],[857,2,857,3],[857,4,857,5],[857,6,857,7],[857,8,857,10],[857,11,857,12],[857,13,857,14],[857,15,857,16],[857,17,857,18],[857,19,857,21],[858,0,858,1],[858,2,858,3],[858,4,858,5],[858,6,858,7],[858,8,858,10],[858,11,858,12],[858,13,858,14],[858,15,858,16],[858,17,858,18],[858,19,858,21],[859,0,859,1],[859,2,859,3],[859,4,859,5],[859,6,859,7],[859,8,859,10],[859,11,859,12],[859,13,859,14],[859,15,859,16],[859,17,859,18],[859,19,859,21],[860,11,860,21],[861,0,861,3],[861,4,861,5],[861,6,861,10],[861,12,861,15],[861,16,861,17],[861,18,861,21],[863,3,863,7],[863,15,863,19],[864,0,864,21],[865,0,865,21],[866,2,867,5],[866,6,867,10],[866,13,867,16],[866,17,867,21],[868,2,868,10],[868,13,868,21],[869,2,869,5],[869,6,869,10],[869,13,869,16],[869,17,869,21],[870,0,870,1],[870,2,870,3],[870,4,870,5],[870,6,870,7],[870,8,870,10],[870,13,870,14],[870,15,870,16],[870,17,870,18],[870,19,870,21],[871,0,871,1],[871,2,871,3],[871,4,871,5],[871,6,871,7],[871,8,871,10],[871,13,871,14],[871,15,871,16],[871,17,871,18],[871,19,871,21],[872,0,872,1],[872,2,872,3],[872,4,872,5],[872,6,872,7],[872,8,872,10],[872,13,872,14],[872,15,872,16],[872,17,872,18],[872,19,872,21],[873,0,873,1],[873,2,873,3],[873,4,873,5],[873,6,873,7],[873,8,873,10],[873,13,873,14],[873,15,873,16],[873,17,873,18],[873,19,873,21],[874,0,874,1],[874,2,874,3],[874,4,874,5],[874,6,874,7],[874,8,874,10],[874,13,874,14],[874,15,874,16],[874,17,874,18],[874,19,874,21],[875,0,875,1],[875,2,875,3],[875,4,875,5],[875,6,875,7],[875,8,875,10],[875,13,875,14],[875,15,875,16],[875,17,875,18],[875,19,875,21],[875,22,875,23],[876,0,876,1],[876,2,876,3],[876,4,876,5],[876,6,876,7],[876,8,876,10],[876,13,876,14],[876,15,876,16],[876,17,876,18],[876,19,876,21],[877,0,877,1],[877,2,877,3],[877,4,877,5],[877,6,877,7],[877,8,877,10],[877,13,877,14],[877,15,877,16],[877,17,877,18],[877,19,877,21],[878,0,878,1],[878,2,878,3],[878,4,878,5],[878,6,878,7],[878,8,878,10],[878,13,878,14],[878,15,878,16],[878,17,878,18],[878,19,878,21],[879,0,879,1],[879,2,879,3],[879,4,879,5],[879,6,879,7],[879,8,879,10],[879,13,879,14],[879,15,879,16],[879,17,879,18],[879,19,879,21],[880,2,880,21],[881,0,881,1],[881,2,881,3],[881,4,881,5],[881,6,881,7],[881,8,881,10],[881,11,881,12],[881,13,881,14],[881,15,881,16],[881,17,881,18],[881,19,881,21],[882,0,882,1],[882,2,882,3],[882,4,882,5],[882,6,882,7],[882,8,882,10],[882,11,882,12],[882,13,882,14],[882,15,882,16],[882,17,882,18],[882,19,882,21],[883,0,883,1],[883,2,883,3],[883,4,883,5],[883,6,883,7],[883,8,883,10],[883,11,883,12],[883,13,883,14],[883,15,883,16],[883,17,883,18],[883,19,883,21],[884,11,884,21],[885,0,885,3],[885,4,885,5],[885,6,885,10],[885,12,885,15],[885,16,885,17],[885,18,885,21],[887,3,887,7],[887,15,887,19],[888,0,888,21],[889,0,889,21],[890,2,891,5],[890,6,891,10],[890,13,891,16],[890,17,891,21],[892,2,892,10],[892,13,892,21],[893,2,893,5],[893,6,893,10],[893,13,893,16],[893,17,893,21],[894,0,894,1],[894,2,894,3],[894,4,894,5],[894,6,894,7],[894,8,894,10],[894,13,894,14],[894,15,894,16],[894,17,894,18],[894,19,894,21],[895,0,895,1],[895,2,895,3],[895,4,895,5],[895,6,895,7],[895,8,895,10],[895,13,895,14],[895,15,895,16],[895,17,895,18],[895,19,895,21],[896,0,896,1],[896,2,896,3],[896,4,896,5],[896,6,896,7],[896,8,896,10],[896,13,896,14],[896,15,896,16],[896,17,896,18],[896,19,896,21],[897,0,897,1],[897,2,897,3],[897,4,897,5],[897,6,897,7],[897,8,897,10],[897,13,897,14],[897,15,897,16],[897,17,897,18],[897,19,897,21],[898,0,898,1],[898,2,898,3],[898,4,898,5],[898,6,898,7],[898,8,898,10],[898,13,898,14],[898,15,898,16],[898,17,898,18],[898,19,898,21],[899,0,899,1],[899,2,899,3],[899,4,899,5],[899,6,899,7],[899,8,899,10],[899,13,899,14],[899,15,899,16],[899,17,899,18],[899,19,899,21],[899,22,899,23],[900,0,900,1],[900,2,900,3],[900,4,900,5],[900,6,900,7],[900,8,900,10],[900,13,900,14],[900,15,900,16],[900,17,900,18],[900,19,900,21],[901,0,901,1],[901,2,901,3],[901,4,901,5],[901,6,901,7],[901,8,901,10],[901,13,901,14],[901,15,901,16],[901,17,901,18],[901,19,901,21],[902,0,902,1],[902,2,902,3],[902,4,902,5],[902,6,902,7],[902,8,902,10],[902,13,902,14],[902,15,902,16],[902,17,902,18],[902,19,902,21],[903,0,903,1],[903,2,903,3],[903,4,903,5],[903,6,903,7],[903,8,903,10],[903,13,903,14],[903,15,903,16],[903,17,903,18],[903,19,903,21],[904,2,904,21],[905,0,905,1],[905,2,905,3],[905,4,905,5],[905,6,905,7],[905,8,905,10],[905,11,905,12],[905,13,905,14],[905,15,905,16],[905,17,905,18],[905,19,905,21],[906,0,906,1],[906,2,906,3],[906,4,906,5],[906,6,906,7],[906,8,906,10],[906,11,906,12],[906,13,906,14],[906,15,906,16],[906,17,906,18],[906,19,906,21],[907,0,907,1],[907,2,907,3],[907,4,907,5],[907,6,907,7],[907,8,907,10],[907,11,907,12],[907,13,907,14],[907,15,907,16],[907,17,907,18],[907,19,907,21],[908,11,908,21],[909,0,909,3],[909,4,909,5],[909,6,909,10],[909,12,909,15],[909,16,909,17],[909,18,909,21],[911,3,911,7],[911,15,911,19],[912,0,912,21],[913,0,913,21],[914,2,915,5],[914,6,915,10],[914,13,915,16],[914,17,915,21],[916,2,916,10],[916,13,916,21],[917,2,917,5],[917,6,917,10],[917,13,917,16],[917,17,917,21],[918,0,918,1],[918,2,918,3],[918,4,918,5],[918,6,918,7],[918,8,918,10],[918,13,918,14],[918,15,918,16],[918,17,918,18],[918,19,918,21],[919,0,919,1],[919,2,919,3],[919,4,919,5],[919,6,919,7],[919,8,919,10],[919,13,919,14],[919,15,919,16],[919,17,919,18],[919,19,919,21],[920,0,920,1],[920,2,920,3],[920,4,920,5],[920,6,920,7],[920,8,920,10],[920,13,920,14],[920,15,920,16],[920,17,920,18],[920,19,920,21],[921,0,921,1],[921,2,921,3],[921,4,921,5],[921,6,921,7],[921,8,921,10],[921,13,921,14],[921,15,921,16],[921,17,921,18],[921,19,921,21],[922,0,922,1],[922,2,922,3],[922,4,922,5],[922,6,922,7],[922,8,922,10],[922,13,922,14],[922,15,922,16],[922,17,922,18],[922,19,922,21],[923,0,923,1],[923,2,923,3],[923,4,923,5],[923,6,923,7],[923,8,923,10],[923,13,923,14],[923,15,923,16],[923,17,923,18],[923,19,923,21],[923,22,923,23],[924,0,924,1],[924,2,924,3],[924,4,924,5],[924,6,924,7],[924,8,924,10],[924,13,924,14],[924,15,924,16],[924,17,924,18],[924,19,924,21],[925,0,925,1],[925,2,925,3],[925,4,925,5],[925,6,925,7],[925,8,925,10],[925,13,925,14],[925,15,925,16],[925,17,925,18],[925,19,925,21],[926,0,926,1],[926,2,926,3],[926,4,926,5],[926,6,926,7],[926,8,926,10],[926,13,926,14],[926,15,926,16],[926,17,926,18],[926,19,926,21],[927,0,927,1],[927,2,927,3],[927,4,927,5],[927,6,927,7],[927,8,927,10],[927,13,927,14],[927,15,927,16],[927,17,927,18],[927,19,927,21],[928,2,928,21],[929,0,929,1],[929,2,929,3],[929,4,929,5],[929,6,929,7],[929,8,929,10],[929,11,929,12],[929,13,929,14],[929,15,929,16],[929,17,929,18],[929,19,929,21],[930,0,930,1],[930,2,930,3],[930,4,930,5],[930,6,930,7],[930,8,930,10],[930,11,930,12],[930,13,930,14],[930,15,930,16],[930,17,930,18],[930,19,930,21],[931,0,931,1],[931,2,931,3],[931,4,931,5],[931,6,931,7],[931,8,931,10],[931,11,931,12],[931,13,931,14],[931,15,931,16],[931,17,931,18],[931,19,931,21],[932,11,932,21],[933,0,933,3],[933,4,933,5],[933,6,933,10],[933,12,933,15],[933,16,933,17],[933,18,933,21],[935,3,935,7],[935,15,935,19],[936,0,936,21],[937,0,937,21],[938,2,939,5],[938,6,939,10],[938,13,939,16],[938,17,939,21],[940,2,940,10],[940,13,940,21],[941,2,941,5],[941,6,941,10],[941,13,941,16],[941,17,941,21],[942,0,942,1],[942,2,942,3],[942,4,942,5],[942,6,942,7],[942,8,942,10],[942,13,942,14],[942,15,942,16],[942,17,942,18],[942,19,942,21],[943,0,943,1],[943,2,943,3],[943,4,943,5],[943,6,943,7],[943,8,943,10],[943,13,943,14],[943,15,943,16],[943,17,943,18],[943,19,943,21],[944,0,944,1],[944,2,944,3],[944,4,944,5],[944,6,944,7],[944,8,944,10],[944,13,944,14],[944,15,944,16],[944,17,944,18],[944,19,944,21],[945,0,945,1],[945,2,945,3],[945,4,945,5],[945,6,945,7],[945,8,945,10],[945,13,945,14],[945,15,945,16],[945,17,945,18],[945,19,945,21],[946,0,946,1],[946,2,946,3],[946,4,946,5],[946,6,946,7],[946,8,946,10],[946,13,946,14],[946,15,946,16],[946,17,946,18],[946,19,946,21],[947,0,947,1],[947,2,947,3],[947,4,947,5],[947,6,947,7],[947,8,947,10],[947,13,947,14],[947,15,947,16],[947,17,947,18],[947,19,947,21],[947,22,947,23],[948,0,948,1],[948,2,948,3],[948,4,948,5],[948,6,948,7],[948,8,948,10],[948,13,948,14],[948,15,948,16],[948,17,948,18],[948,19,948,21],[949,0,949,1],[949,2,949,3],[949,4,949,5],[949,6,949,7],[949,8,949,10],[949,13,949,14],[949,15,949,16],[949,17,949,18],[949,19,949,21],[950,0,950,1],[950,2,950,3],[950,4,950,5],[950,6,950,7],[950,8,950,10],[950,13,950,14],[950,15,950,16],[950,17,950,18],[950,19,950,21],[951,0,951,1],[951,2,951,3],[951,4,951,5],[951,6,951,7],[951,8,951,10],[951,13,951,14],[951,15,951,16],[951,17,951,18],[951,19,951,21],[952,2,952,21],[953,0,953,1],[953,2,953,3],[953,4,953,5],[953,6,953,7],[953,8,953,10],[953,11,953,12],[953,13,953,14],[953,15,953,16],[953,17,953,18],[953,19,953,21],[954,0,954,1],[954,2,954,3],[954,4,954,5],[954,6,954,7],[954,8,954,10],[954,11,954,12],[954,13,954,14],[954,15,954,16],[954,17,954,18],[954,19,954,21],[955,0,955,1],[955,2,955,3],[955,4,955,5],[955,6,955,7],[955,8,955,10],[955,11,955,12],[955,13,955,14],[955,15,955,16],[955,17,955,18],[955,19,955,21],[956,11,956,21],[957,0,957,3],[957,4,957,5],[957,6,957,10],[957,12,957,15],[957,16,957,17],[957,18,957,21],[959,3,959,7],[959,15,959,19],[960,0,960,21],[961,0,961,21],[962,2,963,5],[962,6,963,10],[962,13,963,16],[962,17,963,21],[964,2,964,10],[964,13,964,21],[965,2,965,5],[965,6,965,10],[965,13,965,16],[965,17,965,21],[966,0,966,1],[966,2,966,3],[966,4,966,5],[966,6,966,7],[966,8,966,10],[966,13,966,14],[966,15,966,16],[966,17,966,18],[966,19,966,21],[967,0,967,1],[967,2,967,3],[967,4,967,5],[967,6,967,7],[967,8,967,10],[967,13,967,14],[967,15,967,16],[967,17,967,18],[967,19,967,21],[968,0,968,1],[968,2,968,3],[968,4,968,5],[968,6,968,7],[968,8,968,10],[968,13,968,14],[968,15,968,16],[968,17,968,18],[968,19,968,21],[969,0,969,1],[969,2,969,3],[969,4,969,5],[969,6,969,7],[969,8,969,10],[969,13,969,14],[969,15,969,16],[969,17,969,18],[969,19,969,21],[970,0,970,1],[970,2,970,3],[970,4,970,5],[970,6,970,7],[970,8,970,10],[970,13,970,14],[970,15,970,16],[970,17,970,18],[970,19,970,21],[971,0,971,1],[971,2,971,3],[971,4,971,5],[971,6,971,7],[971,8,971,10],[971,13,971,14],[971,15,971,16],[971,17,971,18],[971,19,971,21],[971,22,971,23],[972,0,972,1],[972,2,972,3],[972,4,972,5],[972,6,972,7],[972,8,972,10],[972,13,972,14],[972,15,972,16],[972,17,972,18],[972,19,972,21],[973,0,973,1],[973,2,973,3],[973,4,973,5],[973,6,973,7],[973,8,973,10],[973,13,973,14],[973,15,973,16],[973,17,973,18],[973,19,973,21],[974,0,974,1],[974,2,974,3],[974,4,974,5],[974,6,974,7],[974,8,974,10],[974,13,974,14],[974,15,974,16],[974,17,974,18],[974,19,974,21],[975,0,975,1],[975,2,975,3],[975,4,975,5],[975,6,975,7],[975,8,975,10],[975,13,975,14],[975,15,975,16],[975,17,975,18],[975,19,975,21],[976,2,976,21],[977,0,977,1],[977,2,977,3],[977,4,977,5],[977,6,977,7],[977,8,977,10],[977,11,977,12],[977,13,977,14],[977,15,977,16],[977,17,977,18],[977,19,977,21],[978,0,978,1],[978,2,978,3],[978,4,978,5],[978,6,978,7],[978,8,978,10],[978,11,978,12],[978,13,978,14],[978,15,978,16],[978,17,978,18],[978,19,978,21],[979,0,979,1],[979,2,979,3],[979,4,979,5],[979,6,979,7],[979,8,979,10],[979,11,979,12],[979,13,979,14],[979,15,979,16],[979,17,979,18],[979,19,979,21],[980,11,980,21],[981,0,981,3],[981,4,981,5],[981,6,981,10],[981,12,981,15],[981,16,981,17],[981,18,981,21],[983,3,983,7],[983,15,983,19],[984,0,984,21],[985,0,985,21],[986,2,987,5],[986,6,987,10],[986,13,987,16],[986,17,987,21],[988,2,988,10],[988,13,988,21],[989,2,989,5],[989,6,989,10],[989,13,989,16],[989,17,989,21],[990,0,990,1],[990,2,990,3],[990,4,990,5],[990,6,990,7],[990,8,990,10],[990,13,990,14],[990,15,990,16],[990,17,990,18],[990,19,990,21],[991,0,991,1],[991,2,991,3],[991,4,991,5],[991,6,991,7],[991,8,991,10],[991,13,991,14],[991,15,991,16],[991,17,991,18],[991,19,991,21],[992,0,992,1],[992,2,992,3],[992,4,992,5],[992,6,992,7],[992,8,992,10],[992,13,992,14],[992,15,992,16],[992,17,992,18],[992,19,992,21],[993,0,993,1],[993,2,993,3],[993,4,993,5],[993,6,993,7],[993,8,993,10],[993,13,993,14],[993,15,993,16],[993,17,993,18],[993,19,993,21],[994,0,994,1],[994,2,994,3],[994,4,994,5],[994,6,994,7],[994,8,994,10],[994,13,994,14],[994,15,994,16],[994,17,994,18],[994,19,994,21],[995,0,995,1],[995,2,995,3],[995,4,995,5],[995,6,995,7],[995,8,995,10],[995,13,995,14],[995,15,995,16],[995,17,995,18],[995,19,995,21],[995,22,995,23],[996,0,996,1],[996,2,996,3],[996,4,996,5],[996,6,996,7],[996,8,996,10],[996,13,996,14],[996,15,996,16],[996,17,996,18],[996,19,996,21],[997,0,997,1],[997,2,997,3],[997,4,997,5],[997,6,997,7],[997,8,997,10],[997,13,997,14],[997,15,997,16],[997,17,997,18],[997,19,997,21],[998,0,998,1],[998,2,998,3],[998,4,998,5],[998,6,998,7],[998,8,998,10],[998,13,998,14],[998,15,998,16],[998,17,998,18],[998,19,998,21],[999,0,999,1],[999,2,999,3],[999,4,999,5],[999,6,999,7],[999,8,999,10],[999,13,999,14],[999,15,999,16],[999,17,999,18],[999,19,999,21],[1000,2,1000,21],[1001,0,1001,1],[1001,2,1001,3],[1001,4,1001,5],[1001,6,1001,7],[1001,8,1001,10],[1001,11,1001,12],[1001,13,1001,14],[1001,15,1001,16],[1001,17,1001,18],[1001,19,1001,21],[1002,0,1002,1],[1002,2,1002,3],[1002,4,1002,5],[1002,6,1002,7],[1002,8,1002,10],[1002,11,1002,12],[1002,13,1002,14],[1002,15,1002,16],[1002,17,1002,18],[1002,19,1002,21],[1003,0,1003,1],[1003,2,1003,3],[1003,4,1003,5],[1003,6,1003,7],[1003,8,1003,10],[1003,11,1003,12],[1003,13,1003,14],[1003,15,1003,16],[1003,17,1003,18],[1003,19,1003,21],[1004,11,1004,21],[1005,0,1005,3],[1005,4,1005,5],[1005,6,1005,10],[1005,12,1005,15],[1005,16,1005,17],[1005,18,1005,21],[1007,3,1007,7],[1007,15,1007,19]],"merged_total":6006,"flags":["merged_cut"]}
[{"$f":"DRAW!$C$1","v":0}]
["ROUND  5"]
[null,null,"TEAM NUMBER",{"$nulls":3},{"$f":"DRAW!$C$5","v":0},{"$nulls":6},"RINK NUMBER",{"$nulls":3},{"$f":"DRAW!$N$5","v":0}]
[]
[null,null,"First Set",{"$nulls":10},"Second Set"]
[null,null,{"$f":"G3","v":0},{"$nulls":3},{"$f":"DRAW!$O$5","v":0},{"$nulls":6},{"$f":"G3","v":0},{"$nulls":3},{"$f":"DRAW!$O$5","v":0}]
["End",null,"Shots",null,"Total",null,"Shots",null,"Total",{"$nulls":4},"Shots",null,"Total",null,"Shots",null,"Total"]
[1]
[2]
[3]
[4]
[5]
[6]
[7]
[8]
[9]
[null,null,"Tie Break Set (if needed)"]
["End",null,"Shots",null,"Total",null,"Shots",null,"Total",null,null,"End",null,"Shots",null,"Total",null,"Shots",null,"Total"]
[1,{"$nulls":10},3]
[2,{"$nulls":10},4]
[]
["Team",{"$nulls":3},{"$f":"C6","v":0},null,"points",{"$nulls":5},"Team",{"$nulls":3},{"$f":"G6","v":0},null,"points"]
[]
[]
[{"$f":"$A$1","v":0}]
["ROUND  5"]
[null,null,"TEAM NUMBER",{"$nulls":3},{"$f":"DRAW!$C$6","v":0},{"$nulls":6},"RINK NUMBER",{"$nulls":3},{"$f":"DRAW!$N$6","v":0}]
[]
[null,null,"First Set",{"$nulls":10},"Second Set"]
[null,null,{"$f":"G27","v":0},{"$nulls":3},{"$f":"DRAW!$O$6","v":0},{"$nulls":6},{"$f":"G27","v":0},{"$nulls":3},{"$f":"DRAW!$O$6","v":0}]
["End",null,"Shots",null,"Total",null,"Shots",null,"Total",{"$nulls":4},"Shots",null,"Total",null,"Shots",null,"Total"]
[1]
[2]
[3]
[4]
[5]
[6]
[7]
[8]
[9]
[null,null,"Tie Break Set (if needed)"]
["End",null,"Shots",null,"Total",null,"Shots",null,"Total",null,null,"End",null,"Shots",null,"Total",null,"Shots",null,"Total"]
[1,{"$nulls":10},3]
[2,{"$nulls":10},4]
[]
["Team",{"$nulls":3},{"$f":"C30","v":0},null,"points",{"$nulls":5},"Team",{"$nulls":3},{"$f":"G30","v":0},null,"points"]
[]
[]
[{"$f":"$A$1","v":0}]
["ROUND  5"]
[null,null,"TEAM NUMBER",{"$nulls":3},{"$f":"DRAW!$C$7","v":0},{"$nulls":6},"RINK NUMBER",{"$nulls":3},{"$f":"DRAW!$N$7","v":0}]
[]
[null,null,"First Set",{"$nulls":10},"Second Set"]
[null,null,{"$f":"G51","v":0},{"$nulls":3},{"$f":"DRAW!$O$7","v":0},{"$nulls":6},{"$f":"G51","v":0},{"$nulls":3},{"$f":"DRAW!$O$7","v":0}]
["End",null,"Shots",null,"Total",null,"Shots",null,"Total",{"$nulls":4},"Shots",null,"Total",null,"Shots",null,"Total"]
[1]
[2]
[3]
[4]
[5]
[6]
[7]
[8]
[9]
[null,null,"Tie Break Set (if needed)"]
["End",null,"Shots",null,"Total",null,"Shots",null,"Total",null,null,"End",null,"Shots",null,"Total",null,"Shots",null,"Total"]
[1,{"$nulls":10},3]
[2,{"$nulls":10},4]
[]
["Team",{"$nulls":3},{"$f":"C54","v":0},null,"points",{"$nulls":5},"Team",{"$nulls":3},{"$f":"G54","v":0},null,"points"]
[]
[]
[{"$f":"$A$1","v":0}]
["ROUND  5"]
[null,null,"TEAM NUMBER",{"$nulls":3},{"$f":"DRAW!$C$8","v":0},{"$nulls":6},"RINK NUMBER",{"$nulls":3},{"$f":"DRAW!$N$8","v":0}]
[]
[null,null,"First Set",{"$nulls":10},"Second Set"]
[null,null,{"$f":"G75","v":0},{"$nulls":3},{"$f":"DRAW!$O$8","v":0},{"$nulls":6},{"$f":"G75","v":0},{"$nulls":3},{"$f":"DRAW!$O$8","v":0}]
["End",null,"Shots",null,"Total",null,"Shots",null,"Total",{"$nulls":4},"Shots",null,"Total",null,"Shots",null,"Total"]
[1]
[2]
[3]
[4]
[5]
[6]
[7]
[8]
[9]
[null,null,"Tie Break Set (if needed)"]
["End",null,"Shots",null,"Total",null,"Shots",null,"Total",null,null,"End",null,"Shots",null,"Total",null,"Shots",null,"Total"]
[1,{"$nulls":10},3]
[2,{"$nulls":10},4]
[]
["Team",{"$nulls":3},{"$f":"C78","v":0},null,"points",{"$nulls":5},"Team",{"$nulls":3},{"$f":"G78","v":0},null,"points"]
[]
[]
[{"$f":"$A$1","v":0}]
["ROUND  5"]
[null,null,"TEAM NUMBER",{"$nulls":3},{"$f":"DRAW!$C$9","v":0},{"$nulls":6},"RINK NUMBER",{"$nulls":3},{"$f":"DRAW!$N$9","v":0}]
[]
[null,null,"First Set",{"$nulls":10},"Second Set"]
[null,null,{"$f":"G99","v":0},{"$nulls":3},{"$f":"DRAW!$O$9","v":0},{"$nulls":6},{"$f":"G99","v":0},{"$nulls":3},{"$f":"DRAW!$O$9","v":0}]
["End",null,"Shots",null,"Total",null,"Shots",null,"Total",{"$nulls":4},"Shots",null,"Total",null,"Shots",null,"Total"]
[1]
[2]
[3]
[4]
[5]
[6]
[7]
[8]
[9]
[null,null,"Tie Break Set (if needed)"]
["End",null,"Shots",null,"Total",null,"Shots",null,"Total",null,null,"End",null,"Shots",null,"Total",null,"Shots",null,"Total"]
[1,{"$nulls":10},3]
[2,{"$nulls":10},4]
[]
["Team",{"$nulls":3},{"$f":"C102","v":0},null,"points",{"$nulls":5},"Team",{"$nulls":3},{"$f":"G102","v":0},null,"points"]
[]
[]
[{"$f":"$A$1","v":0}]
["ROUND  5"]
[null,null,"TEAM NUMBER",{"$nulls":3},{"$f":"DRAW!$C$10","v":0},{"$nulls":6},"RINK NUMBER",{"$nulls":3},{"$f":"DRAW!$N$10","v":0}]
[]
[null,null,"First Set",{"$nulls":10},"Second Set"]
[null,null,{"$f":"G123","v":0},{"$nulls":3},{"$f":"DRAW!$O$10","v":0},{"$nulls":6},{"$f":"G123","v":0},{"$nulls":3},{"$f":"DRAW!$O$10","v":0}]
["End",null,"Shots",null,"Total",null,"Shots",null,"Total",{"$nulls":4},"Shots",null,"Total",null,"Shots",null,"Total"]
[1]
[2]
[3]
[4]
[5]
[6]
[7]
[8]
[9]
[null,null,"Tie Break Set (if needed)"]
["End",null,"Shots",null,"Total",null,"Shots",null,"Total",null,null,"End",null,"Shots",null,"Total",null,"Shots",null,"Total"]
[1,{"$nulls":10},3]
[2,{"$nulls":10},4]
[]
["Team",{"$nulls":3},{"$f":"C126","v":0},null,"points",{"$nulls":5},"Team",{"$nulls":3},{"$f":"G126","v":0},null,"points"]
[]
[]
[{"$f":"$A$1","v":0}]
["ROUND  5"]
[null,null,"TEAM NUMBER",{"$nulls":3},{"$f":"DRAW!$C$11","v":0},{"$nulls":6},"RINK NUMBER",{"$nulls":3},{"$f":"DRAW!$N$11","v":0}]
[]
[null,null,"First Set",{"$nulls":10},"Second Set"]
[null,null,{"$f":"G147","v":0},{"$nulls":3},{"$f":"DRAW!$O$11","v":0},{"$nulls":6},{"$f":"G147","v":0},{"$nulls":3},{"$f":"DRAW!$O$11","v":0}]
["End",null,"Shots",null,"Total",null,"Shots",null,"Total",{"$nulls":4},"Shots",null,"Total",null,"Shots",null,"Total"]
[1]
[2]
[3]
[4]
[5]
[6]
[7]
[8]
[9]
[null,null,"Tie Break Set (if needed)"]
["End",null,"Shots",null,"Total",null,"Shots",null,"Total",null,null,"End",null,"Shots",null,"Total",null,"Shots",null,"Total"]
[1,{"$nulls":10},3]
[2,{"$nulls":10},4]
[]
["Team",{"$nulls":3},{"$f":"C150","v":0},null,"points",{"$nulls":5},"Team",{"$nulls":3},{"$f":"G150","v":0},null,"points"]
[]
[]
[{"$f":"$A$1","v":0}]
["ROUND  5"]
[null,null,"TEAM NUMBER",{"$nulls":3},{"$f":"DRAW!$C$12","v":0},{"$nulls":6},"RINK NUMBER",{"$nulls":3},{"$f":"DRAW!$N$12","v":0}]
[]
[null,null,"First Set",{"$nulls":10},"Second Set"]
[null,null,{"$f":"G171","v":0},{"$nulls":3},{"$f":"DRAW!$O$12","v":0},{"$nulls":6},{"$f":"G171","v":0},{"$nulls":3},{"$f":"DRAW!$O$12","v":0}]
["End",null,"Shots",null,"Total",null,"Shots",null,"Total",{"$nulls":4},"Shots",null,"Total",null,"Shots",null,"Total"]
[1]
[2]
[3]
[4]
[5]
[6]
[7]
[8]
[9]
[null,null,"Tie Break Set (if needed)"]
["End",null,"Shots",null,"Total",null,"Shots",null,"Total",null,null,"End",null,"Shots",null,"Total",null,"Shots",null,"Total"]
[1,{"$nulls":10},3]
[2,{"$nulls":10},4]
[]
["Team",{"$nulls":3},{"$f":"C174","v":0},null,"points",{"$nulls":5},"Team",{"$nulls":3},{"$f":"G174","v":0},null,"points"]
[]
[]
[{"$f":"$A$1","v":0}]
["ROUND  5"]
[null,null,"TEAM NUMBER",{"$nulls":3},{"$f":"DRAW!$C$13","v":0},{"$nulls":6},"RINK NUMBER",{"$nulls":3},{"$f":"DRAW!$N$13","v":0}]
[]
[null,null,"First Set",{"$nulls":10},"Second Set"]
[null,null,{"$f":"G195","v":0},{"$nulls":3},{"$f":"DRAW!$O$13","v":0},{"$nulls":6},{"$f":"G195","v":0},{"$nulls":3},{"$f":"DRAW!$O$13","v":0}]
["End",null,"Shots",null,"Total",null,"Shots",null,"Total",{"$nulls":4},"Shots",null,"Total",null,"Shots",null,"Total"]
[1]
[2]
[3]
[4]
[5]
[6]
[7]
[8]
[9]
[null,null,"Tie Break Set (if needed)"]
["End",null,"Shots",null,"Total",null,"Shots",null,"Total",null,null,"End",null,"Shots",null,"Total",null,"Shots",null,"Total"]
[1,{"$nulls":10},3]
[2,{"$nulls":10},4]
[]
["Team",{"$nulls":3},{"$f":"C198","v":0},null,"points",{"$nulls":5},"Team",{"$nulls":3},{"$f":"G198","v":0},null,"points"]
[]
[]
[{"$f":"$A$1","v":0}]
["ROUND  5"]
[null,null,"TEAM NUMBER",{"$nulls":3},{"$f":"DRAW!$C$14","v":0},{"$nulls":6},"RINK NUMBER",{"$nulls":3},{"$f":"DRAW!$N$14","v":0}]
[]
[null,null,"First Set",{"$nulls":10},"Second Set"]
[null,null,{"$f":"G219","v":0},{"$nulls":3},{"$f":"DRAW!$O$14","v":0},{"$nulls":6},{"$f":"G219","v":0},{"$nulls":3},{"$f":"DRAW!$O$14","v":0}]
["End",null,"Shots",null,"Total",null,"Shots",null,"Total",{"$nulls":4},"Shots",null,"Total",null,"Shots",null,"Total"]
[1]
[2]
[3]
[4]
[5]
[6]
[7]
[8]
[9]
[null,null,"Tie Break Set (if needed)"]
["End",null,"Shots",null,"Total",null,"Shots",null,"Total",null,null,"End",null,"Shots",null,"Total",null,"Shots",null,"Total"]
[1,{"$nulls":10},3]
[2,{"$nulls":10},4]
[]
["Team",{"$nulls":3},{"$f":"C222","v":0},null,"points",{"$nulls":5},"Team",{"$nulls":3},{"$f":"G222","v":0},null,"points"]
[]
[]
[{"$f":"$A$1","v":0}]
["ROUND  5"]
[null,null,"TEAM NUMBER",{"$nulls":3},{"$f":"DRAW!$C$15","v":0},{"$nulls":6},"RINK NUMBER",{"$nulls":3},{"$f":"DRAW!$N$15","v":0}]
[]
[null,null,"First Set",{"$nulls":10},"Second Set"]
[null,null,{"$f":"G243","v":0},{"$nulls":3},{"$f":"DRAW!$O$15","v":0},{"$nulls":6},{"$f":"G243","v":0},{"$nulls":3},{"$f":"DRAW!$O$15","v":0}]
["End",null,"Shots",null,"Total",null,"Shots",null,"Total",{"$nulls":4},"Shots",null,"Total",null,"Shots",null,"Total"]
[1]
[2]
[3]
[4]
[5]
[6]
[7]
[8]
[9]
[null,null,"Tie Break Set (if needed)"]
["End",null,"Shots",null,"Total",null,"Shots",null,"Total",null,null,"End",null,"Shots",null,"Total",null,"Shots",null,"Total"]
[1,{"$nulls":10},3]
[2,{"$nulls":10},4]
[]
["Team",{"$nulls":3},{"$f":"C246","v":0},null,"points",{"$nulls":5},"Team",{"$nulls":3},{"$f":"G246","v":0},null,"points"]
[]
[]
[{"$f":"$A$1","v":0}]
["ROUND  5"]
[null,null,"TEAM NUMBER",{"$nulls":3},{"$f":"DRAW!$C$16","v":0},{"$nulls":6},"RINK NUMBER",{"$nulls":3},{"$f":"DRAW!$N$16","v":0}]
[]
[null,null,"First Set",{"$nulls":10},"Second Set"]
[null,null,{"$f":"G267","v":0},{"$nulls":3},{"$f":"DRAW!$O$16","v":0},{"$nulls":6},{"$f":"G267","v":0},{"$nulls":3},{"$f":"DRAW!$O$16","v":0}]
["End",null,"Shots",null,"Total",null,"Shots",null,"Total",{"$nulls":4},"Shots",null,"Total",null,"Shots",null,"Total"]
[1]
[2]
[3]
[4]
[5]
[6]
[7]
[8]
[9]
[null,null,"Tie Break Set (if needed)"]
["End",null,"Shots",null,"Total",null,"Shots",null,"Total",null,null,"End",null,"Shots",null,"Total",null,"Shots",null,"Total"]
[1,{"$nulls":10},3]
[2,{"$nulls":10},4]
[]
["Team",{"$nulls":3},{"$f":"C270","v":0},null,"points",{"$nulls":5},"Team",{"$nulls":3},{"$f":"G270","v":0},null,"points"]
[]
[]
[{"$f":"$A$1","v":0}]
["ROUND  5"]
[null,null,"TEAM NUMBER",{"$nulls":3},{"$f":"DRAW!$C$17","v":0},{"$nulls":6},"RINK NUMBER",{"$nulls":3},{"$f":"DRAW!$N$17","v":0}]
[]
[null,null,"First Set",{"$nulls":10},"Second Set"]
[null,null,{"$f":"G291","v":0},{"$nulls":3},{"$f":"DRAW!$O$17","v":0},{"$nulls":6},{"$f":"G291","v":0},{"$nulls":3},{"$f":"DRAW!$O$17","v":0}]
["End",null,"Shots",null,"Total",null,"Shots",null,"Total",{"$nulls":4},"Shots",null,"Total",null,"Shots",null,"Total"]
[1]
[2]
[3]
[4]
[5]
[6]
[7]
[8]
[9]
[null,null,"Tie Break Set (if needed)"]
["End",null,"Shots",null,"Total",null,"Shots",null,"Total",null,null,"End",null,"Shots",null,"Total",null,"Shots",null,"Total"]
[1,{"$nulls":10},3]
[2,{"$nulls":10},4]
[]
["Team",{"$nulls":3},{"$f":"C294","v":0},null,"points",{"$nulls":5},"Team",{"$nulls":3},{"$f":"G294","v":0},null,"points"]
[]
[]
[{"$f":"$A$1","v":0}]
["ROUND  5"]
[null,null,"TEAM NUMBER",{"$nulls":3},{"$f":"DRAW!$C$18","v":0},{"$nulls":6},"RINK NUMBER",{"$nulls":3},{"$f":"DRAW!$N$18","v":0}]
[]
[null,null,"First Set",{"$nulls":10},"Second Set"]
[null,null,{"$f":"G315","v":0},{"$nulls":3},{"$f":"DRAW!$O$18","v":0},{"$nulls":6},{"$f":"G315","v":0},{"$nulls":3},{"$f":"DRAW!$O$18","v":0}]
["End",null,"Shots",null,"Total",null,"Shots",null,"Total",{"$nulls":4},"Shots",null,"Total",null,"Shots",null,"Total"]
[1]
[2]
[3]
[4]
[5]
[6]
[7]
[8]
[9]
[null,null,"Tie Break Set (if needed)"]
["End",null,"Shots",null,"Total",null,"Shots",null,"Total",null,null,"End",null,"Shots",null,"Total",null,"Shots",null,"Total"]
[1,{"$nulls":10},3]
[2,{"$nulls":10},4]
[]
["Team",{"$nulls":3},{"$f":"C318","v":0},null,"points",{"$nulls":5},"Team",{"$nulls":3},{"$f":"G318","v":0},null,"points"]
[]
[]
[{"$f":"$A$1","v":0}]
["ROUND  5"]
[null,null,"TEAM NUMBER",{"$nulls":3},{"$f":"DRAW!$C$19","v":0},{"$nulls":6},"RINK NUMBER",{"$nulls":3},{"$f":"DRAW!$N$19","v":0}]
[]
[null,null,"First Set",{"$nulls":10},"Second Set"]
[null,null,{"$f":"G339","v":0},{"$nulls":3},{"$f":"DRAW!$O$19","v":0},{"$nulls":6},{"$f":"G339","v":0},{"$nulls":3},{"$f":"DRAW!$O$19","v":0}]
["End",null,"Shots",null,"Total",null,"Shots",null,"Total",{"$nulls":4},"Shots",null,"Total",null,"Shots",null,"Total"]
[1]
[2]
[3]
[4]
[5]
[6]
[7]
[8]
[9]
[null,null,"Tie Break Set (if needed)"]
["End",null,"Shots",null,"Total",null,"Shots",null,"Total",null,null,"End",null,"Shots",null,"Total",null,"Shots",null,"Total"]
[1,{"$nulls":10},3]
[2,{"$nulls":10},4]
[]
["Team",{"$nulls":3},{"$f":"C342","v":0},null,"points",{"$nulls":5},"Team",{"$nulls":3},{"$f":"G342","v":0},null,"points"]
[]
[]
[{"$f":"$A$1","v":0}]
["ROUND  5"]
[null,null,"TEAM NUMBER",{"$nulls":3},{"$f":"DRAW!$C$20","v":0},{"$nulls":6},"RINK NUMBER",{"$nulls":3},{"$f":"DRAW!$N$20","v":0}]
[]
[null,null,"First Set",{"$nulls":10},"Second Set"]
[null,null,{"$f":"G363","v":0},{"$nulls":3},{"$f":"DRAW!$O$20","v":0},{"$nulls":6},{"$f":"G363","v":0},{"$nulls":3},{"$f":"DRAW!$O$20","v":0}]
["End",null,"Shots",null,"Total",null,"Shots",null,"Total",{"$nulls":4},"Shots",null,"Total",null,"Shots",null,"Total"]
[1]
[2]
[3]
[4]
[5]
[6]
[7]
[8]
[9]
[null,null,"Tie Break Set (if needed)"]
["End",null,"Shots",null,"Total",null,"Shots",null,"Total",null,null,"End",null,"Shots",null,"Total",null,"Shots",null,"Total"]
[1,{"$nulls":10},3]
[2,{"$nulls":10},4]
[]
["Team",{"$nulls":3},{"$f":"C366","v":0},null,"points",{"$nulls":5},"Team",{"$nulls":3},{"$f":"G366","v":0},null,"points"]
[]
[]
[{"$f":"$A$1","v":0}]
["ROUND  5"]
[null,null,"TEAM NUMBER",{"$nulls":3},{"$f":"DRAW!$C$21","v":0},{"$nulls":6},"RINK NUMBER",{"$nulls":3},{"$f":"DRAW!$N$21","v":0}]
[]
[null,null,"First Set",{"$nulls":10},"Second Set"]
[null,null,{"$f":"G387","v":0},{"$nulls":3},{"$f":"DRAW!$O$21","v":0},{"$nulls":6},{"$f":"G387","v":0},{"$nulls":3},{"$f":"DRAW!$O$21","v":0}]
["End",null,"Shots",null,"Total",null,"Shots",null,"Total",{"$nulls":4},"Shots",null,"Total",null,"Shots",null,"Total"]
[1]
[2]
[3]
[4]
[5]
[6]
[7]
[8]
[9]
[null,null,"Tie Break Set (if needed)"]
["End",null,"Shots",null,"Total",null,"Shots",null,"Total",null,null,"End",null,"Shots",null,"Total",null,"Shots",null,"Total"]
[1,{"$nulls":10},3]
[2,{"$nulls":10},4]
[]
["Team",{"$nulls":3},{"$f":"C390","v":0},null,"points",{"$nulls":5},"Team",{"$nulls":3},{"$f":"G390","v":0},null,"points"]
[]
[]
[{"$f":"$A$1","v":0}]
["ROUND  5"]
[null,null,"TEAM NUMBER",{"$nulls":3},{"$f":"DRAW!$C$22","v":0},{"$nulls":6},"RINK NUMBER",{"$nulls":3},{"$f":"DRAW!$N$22","v":0}]
[]
[null,null,"First Set",{"$nulls":10},"Second Set"]
[null,null,{"$f":"G411","v":0},{"$nulls":3},{"$f":"DRAW!$O$22","v":0},{"$nulls":6},{"$f":"G411","v":0},{"$nulls":3},{"$f":"DRAW!$O$22","v":0}]
["End",null,"Shots",null,"Total",null,"Shots",null,"Total",{"$nulls":4},"Shots",null,"Total",null,"Shots",null,"Total"]
[1]
[2]
[3]
[4]
[5]
[6]
[7]
[8]
[9]
[null,null,"Tie Break Set (if needed)"]
["End",null,"Shots",null,"Total",null,"Shots",null,"Total",null,null,"End",null,"Shots",null,"Total",null,"Shots",null,"Total"]
[1,{"$nulls":10},3]
[2,{"$nulls":10},4]
[]
["Team",{"$nulls":3},{"$f":"C414","v":0},null,"points",{"$nulls":5},"Team",{"$nulls":3},{"$f":"G414","v":0},null,"points"]
[]
[]
[{"$f":"$A$1","v":0}]
["ROUND  5"]
[null,null,"TEAM NUMBER",{"$nulls":3},{"$f":"DRAW!$C$23","v":0},{"$nulls":6},"RINK NUMBER",{"$nulls":3},{"$f":"DRAW!$N$23","v":0}]
[]
[null,null,"First Set",{"$nulls":10},"Second Set"]
[null,null,{"$f":"G435","v":0},{"$nulls":3},{"$f":"DRAW!$O$23","v":0},{"$nulls":6},{"$f":"G435","v":0},{"$nulls":3},{"$f":"DRAW!$O$23","v":0}]
["End",null,"Shots",null,"Total",null,"Shots",null,"Total",{"$nulls":4},"Shots",null,"Total",null,"Shots",null,"Total"]
[1]
[2]
[3]
[4]
[5]
[6]
[7]
[8]
[9]
[null,null,"Tie Break Set (if needed)"]
["End",null,"Shots",null,"Total",null,"Shots",null,"Total",null,null,"End",null,"Shots",null,"Total",null,"Shots",null,"Total"]
[1,{"$nulls":10},3]
[2,{"$nulls":10},4]
[]
["Team",{"$nulls":3},{"$f":"C438","v":0},null,"points",{"$nulls":5},"Team",{"$nulls":3},{"$f":"G438","v":0},null,"points"]
[]
[]
[{"$f":"$A$1","v":0}]
["ROUND  5"]
[null,null,"TEAM NUMBER",{"$nulls":3},{"$f":"DRAW!$C$24","v":0},{"$nulls":6},"RINK NUMBER",{"$nulls":3},{"$f":"DRAW!$N$24","v":0}]
[]
[null,null,"First Set",{"$nulls":10},"Second Set"]
[null,null,{"$f":"G459","v":0},{"$nulls":3},{"$f":"DRAW!$O$24","v":0},{"$nulls":6},{"$f":"G459","v":0},{"$nulls":3},{"$f":"DRAW!$O$24","v":0}]
["End",null,"Shots",null,"Total",null,"Shots",null,"Total",{"$nulls":4},"Shots",null,"Total",null,"Shots",null,"Total"]
[1]
[2]
[3]
[4]
[5]
[6]
[7]
[8]
[9]
[null,null,"Tie Break Set (if needed)"]
["End",null,"Shots",null,"Total",null,"Shots",null,"Total",null,null,"End",null,"Shots",null,"Total",null,"Shots",null,"Total"]
[1,{"$nulls":10},3]
[2,{"$nulls":10},4]
[]
["Team",{"$nulls":3},{"$f":"C462","v":0},null,"points",{"$nulls":5},"Team",{"$nulls":3},{"$f":"G462","v":0},null,"points"]
[]
[]
[{"$f":"$A$1","v":0}]
["ROUND  5"]
[null,null,"TEAM NUMBER",{"$nulls":3},{"$f":"DRAW!$C$25","v":0},{"$nulls":6},"RINK NUMBER",{"$nulls":3},{"$f":"DRAW!$N$25","v":0}]
[]
[null,null,"First Set",{"$nulls":10},"Second Set"]
[null,null,{"$f":"G483","v":0},{"$nulls":3},{"$f":"DRAW!$O$25","v":0},{"$nulls":6},{"$f":"G483","v":0},{"$nulls":3},{"$f":"DRAW!$O$25","v":0}]
["End",null,"Shots",null,"Total",null,"Shots",null,"Total",{"$nulls":4},"Shots",null,"Total",null,"Shots",null,"Total"]
[1]
[2]
[3]
[4]
[5]
[6]
[7]
[8]
[9]
[null,null,"Tie Break Set (if needed)"]
["End",null,"Shots",null,"Total",null,"Shots",null,"Total",null,null,"End",null,"Shots",null,"Total",null,"Shots",null,"Total"]
[1,{"$nulls":10},3]
[2,{"$nulls":10},4]
[]
["Team",{"$nulls":3},{"$f":"C486","v":0},null,"points",{"$nulls":5},"Team",{"$nulls":3},{"$f":"G486","v":0},null,"points"]
[]
[]
[{"$f":"$A$1","v":0}]
["ROUND  5"]
[null,null,"TEAM NUMBER",{"$nulls":3},{"$f":"DRAW!$C$26","v":0},{"$nulls":6},"RINK NUMBER",{"$nulls":3},{"$f":"DRAW!$N$26","v":0}]
[]
[null,null,"First Set",{"$nulls":10},"Second Set"]
[null,null,{"$f":"G507","v":0},{"$nulls":3},{"$f":"DRAW!$O$26","v":0},{"$nulls":6},{"$f":"G507","v":0},{"$nulls":3},{"$f":"DRAW!$O$26","v":0}]
["End",null,"Shots",null,"Total",null,"Shots",null,"Total",{"$nulls":4},"Shots",null,"Total",null,"Shots",null,"Total"]
[1]
[2]
[3]
[4]
[5]
[6]
[7]
[8]
[9]
[null,null,"Tie Break Set (if needed)"]
["End",null,"Shots",null,"Total",null,"Shots",null,"Total",null,null,"End",null,"Shots",null,"Total",null,"Shots",null,"Total"]
[1,{"$nulls":10},3]
[2,{"$nulls":10},4]
[]
["Team",{"$nulls":3},{"$f":"C510","v":0},null,"points",{"$nulls":5},"Team",{"$nulls":3},{"$f":"G510","v":0},null,"points"]
[]
[]
[{"$f":"$A$1","v":0}]
["ROUND  5"]
[null,null,"TEAM NUMBER",{"$nulls":3},{"$f":"DRAW!$C$27","v":0},{"$nulls":6},"RINK NUMBER",{"$nulls":3},{"$f":"DRAW!$N$27","v":0}]
[]
[null,null,"First Set",{"$nulls":10},"Second Set"]
[null,null,{"$f":"G531","v":0},{"$nulls":3},{"$f":"DRAW!$O$27","v":0},{"$nulls":6},{"$f":"G531","v":0},{"$nulls":3},{"$f":"DRAW!$O$27","v":0}]
["End",null,"Shots",null,"Total",null,"Shots",null,"Total",{"$nulls":4},"Shots",null,"Total",null,"Shots",null,"Total"]
[1]
[2]
[3]
[4]
[5]
[6]
[7]
[8]
[9]
[null,null,"Tie Break Set (if needed)"]
["End",null,"Shots",null,"Total",null,"Shots",null,"Total",null,null,"End",null,"Shots",null,"Total",null,"Shots",null,"Total"]
[1,{"$nulls":10},3]
[2,{"$nulls":10},4]
[]
["Team",{"$nulls":3},{"$f":"C534","v":0},null,"points",{"$nulls":5},"Team",{"$nulls":3},{"$f":"G534","v":0},null,"points"]
[]
[]
[{"$f":"$A$1","v":0}]
["ROUND  5"]
[null,null,"TEAM NUMBER",{"$nulls":3},{"$f":"DRAW!$C$28","v":0},{"$nulls":6},"RINK NUMBER",{"$nulls":3},{"$f":"DRAW!$N$28","v":0}]
[]
[null,null,"First Set",{"$nulls":10},"Second Set"]
[null,null,{"$f":"G555","v":0},{"$nulls":3},{"$f":"DRAW!$O$28","v":0},{"$nulls":6},{"$f":"G555","v":0},{"$nulls":3},{"$f":"DRAW!$O$28","v":0}]
["End",null,"Shots",null,"Total",null,"Shots",null,"Total",{"$nulls":4},"Shots",null,"Total",null,"Shots",null,"Total"]
[1]
[2]
[3]
[4]
[5]
[6]
[7]
[8]
[9]
[null,null,"Tie Break Set (if needed)"]
["End",null,"Shots",null,"Total",null,"Shots",null,"Total",null,null,"End",null,"Shots",null,"Total",null,"Shots",null,"Total"]
[1,{"$nulls":10},3]
[2,{"$nulls":10},4]
[]
["Team",{"$nulls":3},{"$f":"C558","v":0},null,"points",{"$nulls":5},"Team",{"$nulls":3},{"$f":"G558","v":0},null,"points"]
[]
[]
[{"$f":"$A$1","v":0}]
["ROUND  5"]
[null,null,"TEAM NUMBER",{"$nulls":3},{"$f":"DRAW!$C$29","v":0},{"$nulls":6},"RINK NUMBER",{"$nulls":3},{"$f":"DRAW!$N$29","v":0}]
[]
[null,null,"First Set",{"$nulls":10},"Second Set"]
[null,null,{"$f":"G579","v":0},{"$nulls":3},{"$f":"DRAW!$O$29","v":0},{"$nulls":6},{"$f":"G579","v":0},{"$nulls":3},{"$f":"DRAW!$O$29","v":0}]
["End",null,"Shots",null,"Total",null,"Shots",null,"Total",{"$nulls":4},"Shots",null,"Total",null,"Shots",null,"Total"]
[1]
[2]
[3]
[4]
[5]
[6]
[7]
[8]
[9]
[null,null,"Tie Break Set (if needed)"]
["End",null,"Shots",null,"Total",null,"Shots",null,"Total",null,null,"End",null,"Shots",null,"Total",null,"Shots",null,"Total"]
[1,{"$nulls":10},3]
[2,{"$nulls":10},4]
[]
["Team",{"$nulls":3},{"$f":"C582","v":0},null,"points",{"$nulls":5},"Team",{"$nulls":3},{"$f":"G582","v":0},null,"points"]
[]
[]
[{"$f":"$A$1","v":0}]
["ROUND  5"]
[null,null,"TEAM NUMBER",{"$nulls":3},{"$f":"DRAW!$C$30","v":0},{"$nulls":6},"RINK NUMBER",{"$nulls":3},{"$f":"DRAW!$N$30","v":0}]
[]
[null,null,"First Set",{"$nulls":10},"Second Set"]
[null,null,{"$f":"G603","v":0},{"$nulls":3},{"$f":"DRAW!$O$30","v":0},{"$nulls":6},{"$f":"G603","v":0},{"$nulls":3},{"$f":"DRAW!$O$30","v":0}]
["End",null,"Shots",null,"Total",null,"Shots",null,"Total",{"$nulls":4},"Shots",null,"Total",null,"Shots",null,"Total"]
[1]
[2]
[3]
[4]
[5]
[6]
[7]
[8]
[9]
[null,null,"Tie Break Set (if needed)"]
["End",null,"Shots",null,"Total",null,"Shots",null,"Total",null,null,"End",null,"Shots",null,"Total",null,"Shots",null,"Total"]
[1,{"$nulls":10},3]
[2,{"$nulls":10},4]
[]
["Team",{"$nulls":3},{"$f":"C606","v":0},null,"points",{"$nulls":5},"Team",{"$nulls":3},{"$f":"G606","v":0},null,"points"]
[]
[]
[{"$f":"$A$1","v":0}]
["ROUND  5"]
[null,null,"TEAM NUMBER",{"$nulls":3},{"$f":"DRAW!$C$31","v":0},{"$nulls":6},"RINK NUMBER",{"$nulls":3},{"$f":"DRAW!$N$31","v":0}]
[]
[null,null,"First Set",{"$nulls":10},"Second Set"]
[null,null,{"$f":"G627","v":0},{"$nulls":3},{"$f":"DRAW!$O$31","v":0},{"$nulls":6},{"$f":"G627","v":0},{"$nulls":3},{"$f":"DRAW!$O$31","v":0}]
["End",null,"Shots",null,"Total",null,"Shots",null,"Total",{"$nulls":4},"Shots",null,"Total",null,"Shots",null,"Total"]
[1]
[2]
[3]
[4]
[5]
[6]
[7]
[8]
[9]
[null,null,"Tie Break Set (if needed)"]
["End",null,"Shots",null,"Total",null,"Shots",null,"Total",null,null,"End",null,"Shots",null,"Total",null,"Shots",null,"Total"]
[1,{"$nulls":10},3]
[2,{"$nulls":10},4]
[]
["Team",{"$nulls":3},{"$f":"C630","v":0},null,"points",{"$nulls":5},"Team",{"$nulls":3},{"$f":"G630","v":0},null,"points"]
[]
[]
[{"$f":"$A$1","v":0}]
["ROUND  5"]
[null,null,"TEAM NUMBER",{"$nulls":3},{"$f":"DRAW!$C$32","v":0},{"$nulls":6},"RINK NUMBER",{"$nulls":3},{"$f":"DRAW!$N$32","v":0}]
[]
[null,null,"First Set",{"$nulls":10},"Second Set"]
[null,null,{"$f":"G651","v":0},{"$nulls":3},{"$f":"DRAW!$O$32","v":0},{"$nulls":6},{"$f":"G651","v":0},{"$nulls":3},{"$f":"DRAW!$O$32","v":0}]
["End",null,"Shots",null,"Total",null,"Shots",null,"Total",{"$nulls":4},"Shots",null,"Total",null,"Shots",null,"Total"]
[1]
[2]
[3]
[4]
[5]
[6]
[7]
[8]
[9]
[null,null,"Tie Break Set (if needed)"]
["End",null,"Shots",null,"Total",null,"Shots",null,"Total",null,null,"End",null,"Shots",null,"Total",null,"Shots",null,"Total"]
[1,{"$nulls":10},3]
[2,{"$nulls":10},4]
[]
["Team",{"$nulls":3},{"$f":"C654","v":0},null,"points",{"$nulls":5},"Team",{"$nulls":3},{"$f":"G654","v":0},null,"points"]
[]
[]
[{"$f":"$A$1","v":0}]
["ROUND  5"]
[null,null,"TEAM NUMBER",{"$nulls":3},{"$f":"DRAW!$C$33","v":0},{"$nulls":6},"RINK NUMBER",{"$nulls":3},{"$f":"DRAW!$N$33","v":0}]
[]
[null,null,"First Set",{"$nulls":10},"Second Set"]
[null,null,{"$f":"G675","v":0},{"$nulls":3},{"$f":"DRAW!$O$33","v":0},{"$nulls":6},{"$f":"G675","v":0},{"$nulls":3},{"$f":"DRAW!$O$33","v":0}]
["End",null,"Shots",null,"Total",null,"Shots",null,"Total",{"$nulls":4},"Shots",null,"Total",null,"Shots",null,"Total"]
[1]
[2]
[3]
[4]
[5]
[6]
[7]
[8]
[9]
[null,null,"Tie Break Set (if needed)"]
["End",null,"Shots",null,"Total",null,"Shots",null,"Total",null,null,"End",null,"Shots",null,"Total",null,"Shots",null,"Total"]
[1,{"$nulls":10},3]
[2,{"$nulls":10},4]
[]
["Team",{"$nulls":3},{"$f":"C678","v":0},null,"points",{"$nulls":5},"Team",{"$nulls":3},{"$f":"G678","v":0},null,"points"]
[]
[]
[{"$f":"$A$1","v":0}]
["ROUND  5"]
[null,null,"TEAM NUMBER",{"$nulls":3},{"$f":"DRAW!$C$34","v":0},{"$nulls":6},"RINK NUMBER",{"$nulls":3},{"$f":"DRAW!$N$34","v":0}]
[]
[null,null,"First Set",{"$nulls":10},"Second Set"]
[null,null,{"$f":"G699","v":0},{"$nulls":3},{"$f":"DRAW!$O$34","v":0},{"$nulls":6},{"$f":"G699","v":0},{"$nulls":3},{"$f":"DRAW!$O$34","v":0}]
["End",null,"Shots",null,"Total",null,"Shots",null,"Total",{"$nulls":4},"Shots",null,"Total",null,"Shots",null,"Total"]
[1]
[2]
[3]
[4]
[5]
[6]
[7]
[8]
[9]
[null,null,"Tie Break Set (if needed)"]
["End",null,"Shots",null,"Total",null,"Shots",null,"Total",null,null,"End",null,"Shots",null,"Total",null,"Shots",null,"Total"]
[1,{"$nulls":10},3]
[2,{"$nulls":10},4]
[]
["Team",{"$nulls":3},{"$f":"C702","v":0},null,"points",{"$nulls":5},"Team",{"$nulls":3},{"$f":"G702","v":0},null,"points"]
[]
[]
[{"$f":"$A$1","v":0}]
["ROUND  5"]
[null,null,"TEAM NUMBER",{"$nulls":3},{"$f":"DRAW!$C$35","v":0},{"$nulls":6},"RINK NUMBER",{"$nulls":3},{"$f":"DRAW!$N$35","v":0}]
[]
[null,null,"First Set",{"$nulls":10},"Second Set"]
[null,null,{"$f":"G723","v":0},{"$nulls":3},{"$f":"DRAW!$O$35","v":0},{"$nulls":6},{"$f":"G723","v":0},{"$nulls":3},{"$f":"DRAW!$O$35","v":0}]
["End",null,"Shots",null,"Total",null,"Shots",null,"Total",{"$nulls":4},"Shots",null,"Total",null,"Shots",null,"Total"]
[1]
[2]
[3]
[4]
[5]
[6]
[7]
[8]
[9]
[null,null,"Tie Break Set (if needed)"]
["End",null,"Shots",null,"Total",null,"Shots",null,"Total",null,null,"End",null,"Shots",null,"Total",null,"Shots",null,"Total"]
[1,{"$nulls":10},3]
[2,{"$nulls":10},4]
[]
["Team",{"$nulls":3},{"$f":"C726","v":0},null,"points",{"$nulls":5},"Team",{"$nulls":3},{"$f":"G726","v":0},null,"points"]
[]
[]
[{"$f":"$A$1","v":0}]
["ROUND  5"]
[null,null,"TEAM NUMBER",{"$nulls":3},{"$f":"DRAW!$C$36","v":0},{"$nulls":6},"RINK NUMBER",{"$nulls":3},{"$f":"DRAW!$N$36","v":0}]
[]
[null,null,"First Set",{"$nulls":10},"Second Set"]
[null,null,{"$f":"G747","v":0},{"$nulls":3},{"$f":"DRAW!$O$36","v":0},{"$nulls":6},{"$f":"G747","v":0},{"$nulls":3},{"$f":"DRAW!$O$36","v":0}]
["End",null,"Shots",null,"Total",null,"Shots",null,"Total",{"$nulls":4},"Shots",null,"Total",null,"Shots",null,"Total"]
[1]
[2]
[3]
[4]
[5]
[6]
[7]
[8]
[9]
[null,null,"Tie Break Set (if needed)"]
["End",null,"Shots",null,"Total",null,"Shots",null,"Total",null,null,"End",null,"Shots",null,"Total",null,"Shots",null,"Total"]
[1,{"$nulls":10},3]
[2,{"$nulls":10},4]
[]
["Team",{"$nulls":3},{"$f":"C750","v":0},null,"points",{"$nulls":5},"Team",{"$nulls":3},{"$f":"G750","v":0},null,"points"]
[]
[]
[{"$f":"$A$1","v":0}]
["ROUND  5"]
[null,null,"TEAM NUMBER",{"$nulls":3},{"$f":"DRAW!$C$37","v":0},{"$nulls":6},"RINK NUMBER",{"$nulls":3},{"$f":"DRAW!$N$37","v":0}]
[]
[null,null,"First Set",{"$nulls":10},"Second Set"]
[null,null,{"$f":"G771","v":0},{"$nulls":3},{"$f":"DRAW!$O$37","v":0},{"$nulls":6},{"$f":"G771","v":0},{"$nulls":3},{"$f":"DRAW!$O$37","v":0}]
["End",null,"Shots",null,"Total",null,"Shots",null,"Total",{"$nulls":4},"Shots",null,"Total",null,"Shots",null,"Total"]
[1]
[2]
[3]
[4]
[5]
[6]
[7]
[8]
[9]
[null,null,"Tie Break Set (if needed)"]
["End",null,"Shots",null,"Total",null,"Shots",null,"Total",null,null,"End",null,"Shots",null,"Total",null,"Shots",null,"Total"]
[1,{"$nulls":10},3]
[2,{"$nulls":10},4]
[]
["Team",{"$nulls":3},{"$f":"C774","v":0},null,"points",{"$nulls":5},"Team",{"$nulls":3},{"$f":"G774","v":0},null,"points"]
[]
[]
[{"$f":"$A$1","v":0}]
["ROUND  5"]
[null,null,"TEAM NUMBER",{"$nulls":3},{"$f":"DRAW!$C$38","v":0},{"$nulls":6},"RINK NUMBER",{"$nulls":3},{"$f":"DRAW!$N$38","v":0}]
[]
[null,null,"First Set",{"$nulls":10},"Second Set"]
[null,null,{"$f":"G795","v":0},{"$nulls":3},{"$f":"DRAW!$O$38","v":0},{"$nulls":6},{"$f":"G795","v":0},{"$nulls":3},{"$f":"DRAW!$O$38","v":0}]
["End",null,"Shots",null,"Total",null,"Shots",null,"Total",{"$nulls":4},"Shots",null,"Total",null,"Shots",null,"Total"]
[1]
[2]
[3]
[4]
[5]
[6]
[7]
[8]
[9]
[null,null,"Tie Break Set (if needed)"]
["End",null,"Shots",null,"Total",null,"Shots",null,"Total",null,null,"End",null,"Shots",null,"Total",null,"Shots",null,"Total"]
[1,{"$nulls":10},3]
[2,{"$nulls":10},4]
[]
["Team",{"$nulls":3},{"$f":"C798","v":0},null,"points",{"$nulls":5},"Team",{"$nulls":3},{"$f":"G798","v":0},null,"points"]
[]
[]
[{"$f":"$A$1","v":0}]
["ROUND  5"]
[null,null,"TEAM NUMBER",{"$nulls":3},{"$f":"DRAW!$C$39","v":0},{"$nulls":6},"RINK NUMBER",{"$nulls":3},{"$f":"DRAW!$N$39","v":0}]
[]
[null,null,"First Set",{"$nulls":10},"Second Set"]
[null,null,{"$f":"G819","v":0},{"$nulls":3},{"$f":"DRAW!$O$39","v":0},{"$nulls":6},{"$f":"G819","v":0},{"$nulls":3},{"$f":"DRAW!$O$39","v":0}]
["End",null,"Shots",null,"Total",null,"Shots",null,"Total",{"$nulls":4},"Shots",null,"Total",null,"Shots",null,"Total"]
[1]
[2]
[3]
[4]
[5]
[6]
[7]
[8]
[9]
[null,null,"Tie Break Set (if needed)"]
["End",null,"Shots",null,"Total",null,"Shots",null,"Total",null,null,"End",null,"Shots",null,"Total",null,"Shots",null,"Total"]
[1,{"$nulls":10},3]
[2,{"$nulls":10},4]
[]
["Team",{"$nulls":3},{"$f":"C822","v":0},null,"points",{"$nulls":5},"Team",{"$nulls":3},{"$f":"G822","v":0},null,"points"]
[]
[]
[{"$f":"$A$1","v":0}]
["ROUND  5"]
[null,null,"TEAM NUMBER",{"$nulls":3},{"$f":"DRAW!$C$40","v":0},{"$nulls":6},"RINK NUMBER",{"$nulls":3},{"$f":"DRAW!$N$40","v":0}]
[]
[null,null,"First Set",{"$nulls":10},"Second Set"]
[null,null,{"$f":"G843","v":0},{"$nulls":3},{"$f":"DRAW!$O$40","v":0},{"$nulls":6},{"$f":"G843","v":0},{"$nulls":3},{"$f":"DRAW!$O$40","v":0}]
["End",null,"Shots",null,"Total",null,"Shots",null,"Total",{"$nulls":4},"Shots",null,"Total",null,"Shots",null,"Total"]
[1]
[2]
[3]
[4]
[5]
[6]
[7]
[8]
[9]
[null,null,"Tie Break Set (if needed)"]
["End",null,"Shots",null,"Total",null,"Shots",null,"Total",null,null,"End",null,"Shots",null,"Total",null,"Shots",null,"Total"]
[1,{"$nulls":10},3]
[2,{"$nulls":10},4]
[]
["Team",{"$nulls":3},{"$f":"C846","v":0},null,"points",{"$nulls":5},"Team",{"$nulls":3},{"$f":"G846","v":0},null,"points"]
[]
[]
[{"$f":"$A$1","v":0}]
["ROUND  5"]
[null,null,"TEAM NUMBER",{"$nulls":3},{"$f":"DRAW!$C$41","v":0},{"$nulls":6},"RINK NUMBER",{"$nulls":3},{"$f":"DRAW!$N$41","v":0}]
[]
[null,null,"First Set",{"$nulls":10},"Second Set"]
[null,null,{"$f":"G867","v":0},{"$nulls":3},{"$f":"DRAW!$O$41","v":0},{"$nulls":6},{"$f":"G867","v":0},{"$nulls":3},{"$f":"DRAW!$O$41","v":0}]
["End",null,"Shots",null,"Total",null,"Shots",null,"Total",{"$nulls":4},"Shots",null,"Total",null,"Shots",null,"Total"]
[1]
[2]
[3]
[4]
[5]
[6]
[7]
[8]
[9]
[null,null,"Tie Break Set (if needed)"]
["End",null,"Shots",null,"Total",null,"Shots",null,"Total",null,null,"End",null,"Shots",null,"Total",null,"Shots",null,"Total"]
[1,{"$nulls":10},3]
[2,{"$nulls":10},4]
[]
["Team",{"$nulls":3},{"$f":"C870","v":0},null,"points",{"$nulls":5},"Team",{"$nulls":3},{"$f":"G870","v":0},null,"points"]
[]
[]
[{"$f":"$A$1","v":0}]
["ROUND  5"]
[null,null,"TEAM NUMBER",{"$nulls":3},{"$f":"DRAW!$C$42","v":0},{"$nulls":6},"RINK NUMBER",{"$nulls":3},{"$f":"DRAW!$N$42","v":0}]
[]
[null,null,"First Set",{"$nulls":10},"Second Set"]
[null,null,{"$f":"G891","v":0},{"$nulls":3},{"$f":"DRAW!$O$42","v":0},{"$nulls":6},{"$f":"G891","v":0},{"$nulls":3},{"$f":"DRAW!$O$42","v":0}]
["End",null,"Shots",null,"Total",null,"Shots",null,"Total",{"$nulls":4},"Shots",null,"Total",null,"Shots",null,"Total"]
[1]
[2]
[3]
[4]
[5]
[6]
[7]
[8]
[9]
[null,null,"Tie Break Set (if needed)"]
["End",null,"Shots",null,"Total",null,"Shots",null,"Total",null,null,"End",null,"Shots",null,"Total",null,"Shots",null,"Total"]
[1,{"$nulls":10},3]
[2,{"$nulls":10},4]
[]
["Team",{"$nulls":3},{"$f":"C894","v":0},null,"points",{"$nulls":5},"Team",{"$nulls":3},{"$f":"G894","v":0},null,"points"]
[]
[]
[{"$f":"$A$1","v":0}]
["ROUND  5"]
[null,null,"TEAM NUMBER",{"$nulls":3},{"$f":"DRAW!$C$43","v":0},{"$nulls":6},"RINK NUMBER",{"$nulls":3},{"$f":"DRAW!$N$43","v":0}]
[]
[null,null,"First Set",{"$nulls":10},"Second Set"]
[null,null,{"$f":"G915","v":0},{"$nulls":3},{"$f":"DRAW!$O$43","v":0},{"$nulls":6},{"$f":"G915","v":0},{"$nulls":3},{"$f":"DRAW!$O$43","v":0}]
["End",null,"Shots",null,"Total",null,"Shots",null,"Total",{"$nulls":4},"Shots",null,"Total",null,"Shots",null,"Total"]
[1]
[2]
[3]
[4]
[5]
[6]
[7]
[8]
[9]
[null,null,"Tie Break Set (if needed)"]
["End",null,"Shots",null,"Total",null,"Shots",null,"Total",null,null,"End",null,"Shots",null,"Total",null,"Shots",null,"Total"]
[1,{"$nulls":10},3]
[2,{"$nulls":10},4]
[]
["Team",{"$nulls":3},{"$f":"C918","v":0},null,"points",{"$nulls":5},"Team",{"$nulls":3},{"$f":"G918","v":0},null,"points"]
[]
[]
[{"$f":"$A$1","v":0}]
["ROUND  5"]
[null,null,"TEAM NUMBER",{"$nulls":3},{"$f":"DRAW!$C$44","v":0},{"$nulls":6},"RINK NUMBER",{"$nulls":3},{"$f":"DRAW!$N$44","v":0}]
[]
[null,null,"First Set",{"$nulls":10},"Second Set"]
[null,null,{"$f":"G939","v":0},{"$nulls":3},{"$f":"DRAW!$O$44","v":0},{"$nulls":6},{"$f":"G939","v":0},{"$nulls":3},{"$f":"DRAW!$O$44","v":0}]
["End",null,"Shots",null,"Total",null,"Shots",null,"Total",{"$nulls":4},"Shots",null,"Total",null,"Shots",null,"Total"]
[1]
[2]
[3]
[4]
[5]
[6]
[7]
[8]
[9]
[null,null,"Tie Break Set (if needed)"]
["End",null,"Shots",null,"Total",null,"Shots",null,"Total",null,null,"End",null,"Shots",null,"Total",null,"Shots",null,"Total"]
[1,{"$nulls":10},3]
[2,{"$nulls":10},4]
[]
["Team",{"$nulls":3},{"$f":"C942","v":0},null,"points",{"$nulls":5},"Team",{"$nulls":3},{"$f":"G942","v":0},null,"points"]
[]
[]
[{"$f":"$A$1","v":0}]
["ROUND  5"]
[null,null,"TEAM NUMBER",{"$nulls":3},{"$f":"DRAW!$C$45","v":0},{"$nulls":6},"RINK NUMBER",{"$nulls":3},{"$f":"DRAW!$N$45","v":0}]
[]
[null,null,"First Set",{"$nulls":10},"Second Set"]
[null,null,{"$f":"G963","v":0},{"$nulls":3},{"$f":"DRAW!$O$45","v":0},{"$nulls":6},{"$f":"G963","v":0},{"$nulls":3},{"$f":"DRAW!$O$45","v":0}]
["End",null,"Shots",null,"Total",null,"Shots",null,"Total",{"$nulls":4},"Shots",null,"Total",null,"Shots",null,"Total"]
[1]
[2]
[3]
[4]
[5]
[6]
[7]
[8]
[9]
[null,null,"Tie Break Set (if needed)"]
["End",null,"Shots",null,"Total",null,"Shots",null,"Total",null,null,"End",null,"Shots",null,"Total",null,"Shots",null,"Total"]
[1,{"$nulls":10},3]
[2,{"$nulls":10},4]
[]
["Team",{"$nulls":3},{"$f":"C966","v":0},null,"points",{"$nulls":5},"Team",{"$nulls":3},{"$f":"G966","v":0},null,"points"]
[]
[]
[{"$f":"$A$1","v":0}]
["ROUND  5"]
[null,null,"TEAM NUMBER",{"$nulls":3},{"$f":"DRAW!$C$46","v":0},{"$nulls":6},"RINK NUMBER",{"$nulls":3},{"$f":"DRAW!$N$46","v":0}]
[]
[null,null,"First Set",{"$nulls":10},"Second Set"]
[null,null,{"$f":"G987","v":0},{"$nulls":3},{"$f":"DRAW!$O$46","v":0},{"$nulls":6},{"$f":"G987","v":0},{"$nulls":3},{"$f":"DRAW!$O$46","v":0}]
["End",null,"Shots",null,"Total",null,"Shots",null,"Total",{"$nulls":4},"Shots",null,"Total",null,"Shots",null,"Total"]
[1]
[2]
[3]
[4]
[5]
[6]
[7]
[8]
[9]
[null,null,"Tie Break Set (if needed)"]
["End",null,"Shots",null,"Total",null,"Shots",null,"Total",null,null,"End",null,"Shots",null,"Total",null,"Shots",null,"Total"]
[1,{"$nulls":10},3]
[2,{"$nulls":10},4]
[]
["Team",{"$nulls":3},{"$f":"C990","v":0},null,"points",{"$nulls":5},"Team",{"$nulls":3},{"$f":"G990","v":0},null,"points"]

{"sheet":"42","index":15,"n_rows":115,"n_cols":15,"rows_kept":115,"merged":[[0,2,0,14],[1,2,1,14],[2,3,2,4],[2,5,2,6],[2,7,2,8],[2,9,2,10],[2,11,2,12],[2,13,2,14],[49,2,49,14],[50,2,50,14],[51,3,51,4],[51,5,51,6],[51,7,51,8],[51,9,51,10],[51,11,51,12],[51,13,51,14],[53,5,54,5],[53,7,54,7],[53,9,54,9],[53,11,54,11],[53,13,54,13],[56,5,57,5],[56,7,57,7],[56,9,57,9],[56,11,57,11],[56,13,57,13],[59,5,60,5],[59,7,60,7],[59,9,60,9],[59,11,60,11],[59,13,60,13],[62,5,63,5],[62,7,63,7],[62,9,63,9],[62,11,63,11],[62,13,63,13],[65,5,66,5],[65,7,66,7],[65,9,66,9],[65,11,66,11],[65,13,66,13],[68,5,69,5],[68,7,69,7],[68,9,69,9],[68,11,69,11],[68,13,69,13],[71,5,72,5],[71,7,72,7],[71,9,72,9],[71,11,72,11],[71,13,72,13],[74,5,75,5],[74,7,75,7],[74,9,75,9],[74,11,75,11],[74,13,75,13],[77,5,78,5],[77,7,78,7],[77,9,78,9],[77,11,78,11],[77,13,78,13],[80,5,81,5],[80,7,81,7],[80,9,81,9],[80,11,81,11],[80,13,81,13],[83,5,84,5],[83,7,84,7],[83,9,84,9],[83,11,84,11],[83,13,84,13],[86,5,87,5],[86,7,87,7],[86,9,87,9],[86,11,87,11],[86,13,87,13],[89,5,90,5],[89,7,90,7],[89,9,90,9],[89,11,90,11],[89,13,90,13],[92,5,93,5],[92,7,93,7],[92,9,93,9],[92,11,93,11],[92,13,93,13],[95,5,96,5],[95,7,96,7],[95,9,96,9],[95,11,96,11],[95,13,96,13],[98,5,99,5],[98,7,99,7],[98,9,99,9],[98,11,99,11],[98,13,99,13],[101,5,102,5],[101,7,102,7],[101,9,102,9],[101,11,102,11],[101,13,102,13],[104,5,105,5],[104,7,105,7],[104,9,105,9],[104,11,105,11],[104,13,105,13],[107,5,108,5],[107,7,108,7],[107,9,108,9],[107,11,108,11],[107,13,108,13],[110,5,111,5],[110,7,111,7],[110,9,111,9],[110,11,111,11],[110,13,111,13],[113,5,114,5],[113,7,114,7],[113,9,114,9],[113,11,114,11],[113,13,114,13]]}
[null,null,"Heading Info."]
[null,null,"DRAW"]
[{"$nulls":5},"R O U N D  1",null,"R O U N D  2",null,"R O U N D  3",null,"R O U N D  4",null,"R O U N D  5"]
[null,null,"Team No.","Player","Skip","Rink","Versus","Rink","Versus","Rink","Versus","Rink","Versus","Rink","Versus"]
[null,null,1,"BOWLER Fred","",1,2,9,3,21,4,2,5,10,6]
[null,null,2,".","",1,1,10,4,17,6,3,8,8,10]
[null,null,3,".","",2,14,9,1,16,5,1,7,11,9]
[null,null,4,".","",3,13,10,2,21,1,4,6,14,8]
[null,null,5,".","",4,12,8,14,16,3,2,1,9,7]
[null,null,6,".","",5,11,14,13,17,2,4,4,10,1]
[null,null,7,".","",6,10,11,12,18,14,1,3,9,5]
[null,null,8,".","",7,9,12,11,19,13,3,2,14,4]
[null,null,9,".","",7,8,13,10,20,12,6,14,11,3]
[null,null,10,".","",6,7,13,9,15,11,5,13,8,2]
[null,null,11,".","",5,6,12,8,15,10,7,12,13,14]
[null,null,12,".","",4,5,11,7,20,9,7,11,12,13]
[null,null,13,".","",3,4,14,6,19,8,5,10,12,12]
[null,null,14,".","",2,3,8,5,18,7,6,9,13,11]
[null,null,15,".","",8,16,16,17,7,18,9,19,17,20]
[null,null,16,".","",8,15,17,18,3,20,10,22,15,24]
[null,null,17,".","",9,28,16,15,2,19,8,21,18,23]
[null,null,18,".","",10,27,17,16,7,15,11,20,21,22]
[null,null,19,".","",11,26,15,28,2,17,9,15,16,21]
[null,null,20,".","",12,25,21,27,3,16,11,18,17,15]
[null,null,21,".","",13,24,18,26,4,28,8,17,16,19]
[null,null,22,".","",14,23,19,25,5,27,10,16,21,18]
[null,null,23,".","",14,22,20,24,6,26,13,28,18,17]
[null,null,24,".","",13,21,20,23,1,25,12,27,15,16]
[null,null,25,".","",12,20,19,22,1,24,14,26,20,28]
[null,null,26,".","",11,19,18,21,6,23,14,25,19,27]
[null,null,27,".","",10,18,21,20,5,22,12,24,19,26]
[null,null,28,".","",9,17,15,19,4,21,13,23,20,25]
[null,null,29,".","",15,30,2,31,14,32,16,33,3,34]
[null,null,30,".","",15,29,3,32,10,34,17,36,1,38]
[null,null,31,".","",16,42,2,29,9,33,15,35,4,37]
[null,null,32,".","",17,41,3,30,14,29,18,34,7,36]
[null,null,33,".","",18,40,1,42,9,31,16,29,2,35]
[null,null,34,".","",19,39,7,41,10,30,18,32,3,29]
[null,null,35,".","",20,38,4,40,11,42,15,31,2,33]
[null,null,36,".","",21,37,5,39,12,41,17,30,7,32]
[null,null,37,".","",21,36,6,38,13,40,20,42,4,31]
[null,null,38,".","",20,35,6,37,8,39,19,41,1,30]
[null,null,39,".","",19,34,5,36,8,38,21,40,6,42]
[null,null,40,".","",18,33,4,35,13,37,21,39,5,41]
[null,null,41,".","",17,32,7,34,12,36,19,38,5,40]
[null,null,42,".","",16,31,1,33,11,35,20,37,6,39]
[]
[]
[]
[null,null,"Heading Info."]
[null,null,"DRAW"]
[{"$nulls":5},"R O U N D  1",null,"R O U N D  2",null,"R O U N D  3",null,"R O U N D  4",null,"R O U N D  5"]
[{"$nulls":5},"Rink","Versus","Rink","Versus","Rink","Versus","Rink","Versus","Rink","Versus"]
[{"$nulls":5},1,2,1,42,1,25,1,7,1,38]
[{"$nulls":6},1,1,33,1,24,1,3,1,30]
[]
[{"$nulls":5},2,14,2,31,2,19,2,5,2,35]
[{"$nulls":5},2,3,2,29,2,17,2,1,2,33]
[]
[{"$nulls":5},3,13,3,32,3,20,3,8,3,34]
[{"$nulls":5},3,4,3,30,3,16,3,2,3,29]
[]
[{"$nulls":5},4,12,4,40,4,28,4,6,4,37]
[{"$nulls":5},4,5,4,35,4,21,4,4,4,31]
[]
[{"$nulls":5},5,11,5,39,5,27,5,13,5,41]
[{"$nulls":5},5,6,5,36,5,22,5,10,5,40]
[]
[{"$nulls":5},6,10,6,38,6,26,6,14,6,42]
[{"$nulls":5},6,7,6,37,6,23,6,9,6,39]
[]
[{"$nulls":5},7,9,7,41,7,18,7,12,7,36]
[{"$nulls":5},7,8,7,34,7,15,7,11,7,32]
[]
[{"$nulls":5},8,16,8,14,8,39,8,21,8,10]
[{"$nulls":5},8,15,8,5,8,38,8,17,8,2]
[]
[{"$nulls":5},9,28,9,3,9,33,9,19,9,7]
[{"$nulls":5},9,17,9,1,9,31,9,15,9,5]
[]
[{"$nulls":5},10,27,10,4,10,34,10,22,10,6]
[{"$nulls":5},10,18,10,2,10,30,10,16,10,1]
[]
[{"$nulls":5},11,26,11,12,11,42,11,20,11,9]
[{"$nulls":5},11,19,11,7,11,35,11,18,11,3]
[]
[{"$nulls":5},12,25,12,11,12,41,12,27,12,13]
[{"$nulls":5},12,20,12,8,12,36,12,24,12,12]
[]
[{"$nulls":5},13,24,13,10,13,40,13,28,13,14]
[{"$nulls":5},13,21,13,9,13,37,13,23,13,11]
[]
[{"$nulls":5},14,23,14,13,14,32,14,26,14,8]
[{"$nulls":5},14,22,14,6,14,29,14,25,14,4]
[]
[{"$nulls":5},15,30,15,28,15,11,15,35,15,24]
[{"$nulls":5},15,29,15,19,15,10,15,31,15,16]
[]
[{"$nulls":5},16,42,16,17,16,5,16,33,16,21]
[{"$nulls":5},16,31,16,15,16,3,16,29,16,19]
[]
[{"$nulls":5},17,41,17,18,17,6,17,36,17,20]
[{"$nulls":5},17,32,17,16,17,2,17,30,17,15]
[]
[{"$nulls":5},18,40,18,26,18,14,18,34,18,23]
[{"$nulls":5},18,33,18,21,18,7,18,32,18,17]
[]
[{"$nulls":5},19,39,19,25,19,13,19,41,19,27]
[{"$nulls":5},19,34,19,22,19,8,19,38,19,26]
[]
[{"$nulls":5},20,38,20,24,20,12,20,42,20,28]
[{"$nulls":5},20,35,20,23,20,9,20,37,20,25]
[]
[{"$nulls":5},21,37,21,27,21,4,21,40,21,22]
[{"$nulls":5},21,36,21,20,21,1,21,39,21,18]

{"sheet":"40","index":16,"n_rows":112,"n_cols":15,"rows_kept":112,"merged":[[0,2,0,14],[1,2,1,14],[2,3,2,4],[2,5,2,6],[2,7,2,8],[2,9,2,10],[2,11,2,12],[2,13,2,14],[49,2,49,14],[50,2,50,14],[51,3,51,4],[51,5,51,6],[51,7,51,8],[51,9,51,10],[51,11,51,12],[51,13,51,14],[53,5,54,5],[53,7,54,7],[53,9,54,9],[53,11,54,11],[53,13,54,13],[56,5,57,5],[56,7,57,7],[56,9,57,9],[56,11,57,11],[56,13,57,13],[59,5,60,5],[59,7,60,7],[59,9,60,9],[59,11,60,11],[59,13,60,13],[62,5,63,5],[62,7,63,7],[62,9,63,9],[62,11,63,11],[62,13,63,13],[65,5,66,5],[65,7,66,7],[65,9,66,9],[65,11,66,11],[65,13,66,13],[68,5,69,5],[68,7,69,7],[68,9,69,9],[68,11,69,11],[68,13,69,13],[71,5,72,5],[71,7,72,7],[71,9,72,9],[71,11,72,11],[71,13,72,13],[74,5,75,5],[74,7,75,7],[74,9,75,9],[74,11,75,11],[74,13,75,13],[77,5,78,5],[77,7,78,7],[77,9,78,9],[77,11,78,11],[77,13,78,13],[80,5,81,5],[80,7,81,7],[80,9,81,9],[80,11,81,11],[80,13,81,13],[83,5,84,5],[83,7,84,7],[83,9,84,9],[83,11,84,11],[83,13,84,13],[86,5,87,5],[86,7,87,7],[86,9,87,9],[86,11,87,11],[86,13,87,13],[89,5,90,5],[89,7,90,7],[89,9,90,9],[89,11,90,11],[89,13,90,13],[92,5,93,5],[92,7,93,7],[92,9,93,9],[92,11,93,11],[92,13,93,13],[95,5,96,5],[95,7,96,7],[95,9,96,9],[95,11,96,11],[95,13,96,13],[98,5,99,5],[98,7,99,7],[98,9,99,9],[98,11,99,11],[98,13,99,13],[101,5,102,5],[101,7,102,7],[101,9,102,9],[101,11,102,11],[101,13,102,13],[104,5,105,5],[104,7,105,7],[104,9,105,9],[104,11,105,11],[104,13,105,13],[107,5,108,5],[107,7,108,7],[107,9,108,9],[107,11,108,11],[107,13,108,13],[110,5,111,5],[110,7,111,7],[110,9,111,9],[110,11,111,11],[110,13,111,13],[129,7,130,7],[129,9,130,9],[129,11,130,11],[129,13,130,13],[129,15,130,15],[132,7,133,7],[132,9,133,9],[132,11,133,11],[132,13,133,13],[132,15,133,15]]}
[null,null,"Heading Info."]
[null,null,"DRAW"]
[{"$nulls":5},"R O U N D  1",null,"R O U N D  2",null,"R O U N D  3",null,"R O U N D  4",null,"R O U N D  5"]
[null,null,"Team No.","Player","Skip","Rink","Versus","Rink","Versus","Rink","Versus","Rink","Versus","Rink","Versus"]
[null,null,1,"BOWLER Fred","",1,2,9,3,21,4,2,5,10,6]
[null,null,2,".","",1,1,10,4,17,6,3,8,8,10]
[null,null,3,".","",2,14,9,1,16,5,1,7,11,9]
[null,null,4,".","",3,13,10,2,21,1,4,6,14,8]
[null,null,5,".","",4,12,8,14,16,3,2,1,9,7]
[null,null,6,".","",5,11,14,13,17,2,4,4,10,1]
[null,null,7,".","",6,10,11,12,18,14,1,3,9,5]
[null,null,8,".","",7,9,12,11,19,13,3,2,14,4]
[null,null,9,".","",7,8,13,10,20,12,6,14,11,3]
[null,null,10,".","",6,7,13,9,15,11,5,13,8,2]
[null,null,11,".","",5,6,12,8,15,10,7,12,13,14]
[null,null,12,".","",4,5,11,7,20,9,7,11,12,13]
[null,null,13,".","",3,4,14,6,19,8,5,10,12,12]
[null,null,14,".","",2,3,8,5,18,7,6,9,13,11]
[null,null,15,".","",8,16,16,17,7,18,9,19,17,20]
[null,null,16,".","",8,15,17,18,3,20,10,22,15,24]
[null,null,17,".","",9,28,16,15,2,19,8,21,18,23]
[null,null,18,".","",10,27,17,16,7,15,11,20,21,22]
[null,null,19,".","",11,26,15,28,2,17,9,15,16,21]
[null,null,20,".","",12,25,21,27,3,16,11,18,17,15]
[null,null,21,".","",13,24,18,26,4,28,8,17,16,19]
[null,null,22,".","",14,23,19,25,5,27,10,16,21,18]
[null,null,23,".","",14,22,20,24,6,26,13,28,18,17]
[null,null,24,".","",13,21,20,23,1,25,12,27,15,16]
[null,null,25,".","",12,20,19,22,1,24,14,26,20,28]
[null,null,26,".","",11,19,18,21,6,23,14,25,19,27]
[null,null,27,".","",10,18,21,20,5,22,12,24,19,26]
[null,null,28,".","",9,17,15,19,4,21,13,23,20,25]
[null,null,29,".","",15,30,3,31,9,32,16,33,6,34]
[null,null,30,".","",15,29,4,32,10,34,17,36,1,38]
[null,null,31,".","",16,40,3,29,11,33,15,35,5,37]
[null,null,32,".","",17,39,4,30,9,29,18,34,3,36]
[null,null,33,".","",18,38,1,40,11,31,16,29,2,35]
[null,null,34,".","",19,37,2,39,10,30,18,32,6,29]
[null,null,35,".","",20,36,5,38,12,40,15,31,2,33]
[null,null,36,".","",20,35,6,37,8,39,17,30,3,32]
[null,null,37,".","",19,34,6,36,13,38,20,40,5,31]
[null,null,38,".","",18,33,5,35,13,37,19,39,1,30]
[null,null,39,".","",17,32,2,34,8,36,19,38,4,40]
[null,null,40,".","",16,31,1,33,12,35,20,37,4,39]
[]
[]
[]
[]
[]
[null,null,"Heading Info."]
[null,null,"DRAW"]
[{"$nulls":5},"R O U N D  1",null,"R O U N D  2",null,"R O U N D  3",null,"R O U N D  4",null,"R O U N D  5"]
[{"$nulls":5},"Rink","Versus","Rink","Versus","Rink","Versus","Rink","Versus","Rink","Versus"]
[{"$nulls":5},1,2,1,40,1,25,1,7,1,38]
[{"$nulls":6},1,1,33,1,24,1,3,1,30]
[]
[{"$nulls":5},2,14,2,39,2,19,2,5,2,35]
[{"$nulls":5},2,3,2,34,2,17,2,1,2,33]
[]
[{"$nulls":5},3,13,3,31,3,20,3,8,3,36]
[{"$nulls":5},3,4,3,29,3,16,3,2,3,32]
[]
[{"$nulls":5},4,12,4,32,4,28,4,6,4,40]
[{"$nulls":5},4,5,4,30,4,21,4,4,4,39]
[]
[{"$nulls":5},5,11,5,38,5,27,5,13,5,37]
[{"$nulls":5},5,6,5,35,5,22,5,10,5,31]
[]
[{"$nulls":5},6,10,6,37,6,26,6,14,6,34]
[{"$nulls":5},6,7,6,36,6,23,6,9,6,29]
[]
[{"$nulls":5},7,9,8,14,7,18,7,12,8,10]
[{"$nulls":5},7,8,8,5,7,15,7,11,8,2]
[]
[{"$nulls":5},8,16,9,3,8,39,8,21,9,7]
[{"$nulls":5},8,15,9,1,8,36,8,17,9,5]
[]
[{"$nulls":5},9,28,10,4,9,32,9,19,10,6]
[{"$nulls":5},9,17,10,2,9,29,9,15,10,1]
[]
[{"$nulls":5},10,27,11,12,10,34,10,22,11,9]
[{"$nulls":5},10,18,11,7,10,30,10,16,11,3]
[]
[{"$nulls":5},11,26,12,11,11,33,11,20,12,13]
[{"$nulls":5},11,19,12,8,11,31,11,18,12,12]
[]
[{"$nulls":5},12,25,13,10,12,40,12,27,13,14]
[{"$nulls":5},12,20,13,9,12,35,12,24,13,11]
[]
[{"$nulls":5},13,24,14,13,13,38,13,28,14,8]
[{"$nulls":5},13,21,14,6,13,37,13,23,14,4]
[]
[{"$nulls":5},14,23,15,28,15,11,14,26,15,24]
[{"$nulls":5},14,22,15,19,15,10,14,25,15,16]
[]
[{"$nulls":5},15,30,16,17,16,5,15,35,16,21]
[{"$nulls":5},15,29,16,15,16,3,15,31,16,19]
[]
[{"$nulls":5},16,40,17,18,17,6,16,33,17,20]
[{"$nulls":5},16,31,17,16,17,2,16,29,17,15]
[]
[{"$nulls":5},17,39,18,26,18,14,17,36,18,23]
[{"$nulls":5},17,32,18,21,18,7,17,30,18,17]
[]
[{"$nulls":5},18,38,19,25,19,13,18,34,19,27]
[{"$nulls":5},18,33,19,22,19,8,18,32,19,26]
[]
[{"$nulls":5},19,37,20,24,20,12,19,39,20,28]
[{"$nulls":5},19,34,20,23,20,9,19,38,20,25]
[]
[{"$nulls":5},20,36,21,27,21,4,20,40,21,22]
[{"$nulls":5},20,35,21,20,21,1,20,37,21,18]

{"sheet":"38","index":17,"n_rows":109,"n_cols":15,"rows_kept":109,"merged":[[0,2,0,14],[1,2,1,14],[2,3,2,4],[2,5,2,6],[2,7,2,8],[2,9,2,10],[2,11,2,12],[2,13,2,14],[49,2,49,14],[50,2,50,14],[51,3,51,4],[51,5,51,6],[51,7,51,8],[51,9,51,10],[51,11,51,12],[51,13,51,14],[53,5,54,5],[53,7,54,7],[53,9,54,9],[53,11,54,11],[53,13,54,13],[56,5,57,5],[56,7,57,7],[56,9,57,9],[56,11,57,11],[56,13,57,13],[59,5,60,5],[59,7,60,7],[59,9,60,9],[59,11,60,11],[59,13,60,13],[62,5,63,5],[62,7,63,7],[62,9,63,9],[62,11,63,11],[62,13,63,13],[65,5,66,5],[65,7,66,7],[65,9,66,9],[65,11,66,11],[65,13,66,13],[68,5,69,5],[68,7,69,7],[68,9,69,9],[68,11,69,11],[68,13,69,13],[71,5,72,5],[71,7,72,7],[71,9,72,9],[71,11,72,11],[71,13,72,13],[74,5,75,5],[74,7,75,7],[74,9,75,9],[74,11,75,11],[74,13,75,13],[77,5,78,5],[77,7,78,7],[77,9,78,9],[77,11,78,11],[77,13,78,13],[80,5,81,5],[80,7,81,7],[80,9,81,9],[80,11,81,11],[80,13,81,13],[83,5,84,5],[83,7,84,7],[83,9,84,9],[83,11,84,11],[83,13,84,13],[86,5,87,5],[86,7,87,7],[86,9,87,9],[86,11,87,11],[86,13,87,13],[89,5,90,5],[89,7,90,7],[89,9,90,9],[89,11,90,11],[89,13,90,13],[92,5,93,5],[92,7,93,7],[92,9,93,9],[92,11,93,11],[92,13,93,13],[95,5,96,5],[95,7,96,7],[95,9,96,9],[95,11,96,11],[95,13,96,13],[98,5,99,5],[98,7,99,7],[98,9,99,9],[98,11,99,11],[98,13,99,13],[101,5,102,5],[101,7,102,7],[101,9,102,9],[101,11,102,11],[101,13,102,13],[104,5,105,5],[104,7,105,7],[104,9,105,9],[104,11,105,11],[104,13,105,13],[107,5,108,5],[107,7,108,7],[107,9,108,9],[107,11,108,11],[107,13,108,13],[126,7,127,7],[126,9,127,9],[126,11,127,11],[126,13,127,13],[129,7,130,7],[129,9,130,9],[129,11,130,11],[129,13,130,13]]}
[null,null,"Heading Info."]
[null,null,"DRAW"]
[{"$nulls":5},"R O U N D  1",null,"R O U N D  2",null,"R O U N D  3",null,"R O U N D  4",null,"R O U N D  5"]
[null,null,"Team No.","Player","Skip","Rink","Versus","Rink","Versus","Rink","Versus","Rink","Versus","Rink","Versus"]
[null,null,1,"BOWLER Fred","",1,2,9,3,21,4,2,5,10,6]
[null,null,2,".","",1,1,10,4,17,6,3,8,8,10]
[null,null,3,".","",2,14,9,1,16,5,1,7,11,9]
[null,null,4,".","",3,13,10,2,21,1,4,6,14,8]
[null,null,5,".","",4,12,8,14,16,3,2,1,9,7]
[null,null,6,".","",5,11,14,13,17,2,4,4,10,1]
[null,null,7,".","",6,10,11,12,18,14,1,3,9,5]
[null,null,8,".","",7,9,12,11,19,13,3,2,14,4]
[null,null,9,".","",7,8,13,10,20,12,6,14,11,3]
[null,null,10,".","",6,7,13,9,15,11,5,13,8,2]
[null,null,11,".","",5,6,12,8,15,10,7,12,13,14]
[null,null,12,".","",4,5,11,7,20,9,7,11,12,13]
[null,null,13,".","",3,4,14,6,19,8,5,10,12,12]
[null,null,14,".","",2,3,8,5,18,7,6,9,13,11]
[null,null,15,".","",8,16,17,17,2,18,9,19,20,20]
[null,null,16,".","",8,15,18,18,3,20,10,22,15,24]
[null,null,17,".","",9,26,17,15,4,19,8,21,19,23]
[null,null,18,".","",10,25,18,16,2,15,11,20,17,22]
[null,null,19,".","",11,24,15,26,4,17,9,15,16,21]
[null,null,20,".","",12,23,16,25,3,16,11,18,20,15]
[null,null,21,".","",13,22,19,24,5,26,8,17,16,19]
[null,null,22,".","",13,21,20,23,1,25,10,16,17,18]
[null,null,23,".","",12,20,20,22,6,24,13,26,19,17]
[null,null,24,".","",11,19,19,21,6,23,12,25,15,16]
[null,null,25,".","",10,18,16,20,1,22,12,24,18,26]
[null,null,26,".","",9,17,15,19,5,21,13,23,18,25]
[null,null,27,".","",15,28,3,29,9,30,16,31,6,32]
[null,null,28,".","",15,27,4,30,10,32,17,34,1,36]
[null,null,29,".","",16,38,3,27,11,31,15,33,5,35]
[null,null,30,".","",17,37,4,28,9,27,18,32,3,34]
[null,null,31,".","",18,36,1,38,11,29,16,27,2,33]
[null,null,32,".","",19,35,2,37,10,28,18,30,6,27]
[null,null,33,".","",20,34,5,36,12,38,15,29,2,31]
[null,null,34,".","",20,33,6,35,8,37,17,28,3,30]
[null,null,35,".","",19,32,6,34,13,36,20,38,5,29]
[null,null,36,".","",18,31,5,33,13,35,19,37,1,28]
[null,null,37,".","",17,30,2,32,8,34,19,36,4,38]
[null,null,38,".","",16,29,1,31,12,33,20,35,4,37]
{"$rows_empty":7}
[null,null,"Heading Info."]
[null,null,"DRAW"]
[{"$nulls":5},"R O U N D  1",null,"R O U N D  2",null,"R O U N D  3",null,"R O U N D  4",null,"R O U N D  5"]
[{"$nulls":5},"Rink","Versus","Rink","Versus","Rink","Versus","Rink","Versus","Rink","Versus"]
[{"$nulls":5},1,2,1,38,1,25,1,7,1,36]
[{"$nulls":6},1,1,31,1,22,1,3,1,28]
[]
[{"$nulls":5},2,14,2,37,2,18,2,5,2,33]
[{"$nulls":5},2,3,2,32,2,15,2,1,2,31]
[]
[{"$nulls":5},3,13,3,29,3,20,3,8,3,34]
[{"$nulls":5},3,4,3,27,3,16,3,2,3,30]
[]
[{"$nulls":5},4,12,4,30,4,19,4,6,4,38]
[{"$nulls":5},4,5,4,28,4,17,4,4,4,37]
[]
[{"$nulls":5},5,11,5,36,5,26,5,13,5,35]
[{"$nulls":5},5,6,5,33,5,21,5,10,5,29]
[]
[{"$nulls":5},6,10,6,35,6,24,6,14,6,32]
[{"$nulls":5},6,7,6,34,6,23,6,9,6,27]
[]
[{"$nulls":5},7,9,8,14,8,37,7,12,8,10]
[{"$nulls":5},7,8,8,5,8,34,7,11,8,2]
[]
[{"$nulls":5},8,16,9,3,9,30,8,21,9,7]
[{"$nulls":5},8,15,9,1,9,27,8,17,9,5]
[]
[{"$nulls":5},9,26,10,4,10,32,9,19,10,6]
[{"$nulls":5},9,17,10,2,10,28,9,15,10,1]
[]
[{"$nulls":5},10,25,11,12,11,31,10,22,11,9]
[{"$nulls":5},10,18,11,7,11,29,10,16,11,3]
[]
[{"$nulls":5},11,24,12,11,12,38,11,20,12,13]
[{"$nulls":5},11,19,12,8,12,33,11,18,12,12]
[]
[{"$nulls":5},12,23,13,10,13,36,12,25,13,14]
[{"$nulls":5},12,20,13,9,13,35,12,24,13,11]
[]
[{"$nulls":5},13,22,14,13,15,11,13,26,14,8]
[{"$nulls":5},13,21,14,6,15,10,13,23,14,4]
[]
[{"$nulls":5},15,28,15,26,16,5,15,33,15,24]
[{"$nulls":5},15,27,15,19,16,3,15,29,15,16]
[]
[{"$nulls":5},16,38,16,25,17,6,16,31,16,21]
[{"$nulls":5},16,29,16,20,17,2,16,27,16,19]
[]
[{"$nulls":5},17,37,17,17,18,14,17,34,17,22]
[{"$nulls":5},17,30,17,15,18,7,17,28,17,18]
[]
[{"$nulls":5},18,36,18,18,19,13,18,32,18,26]
[{"$nulls":5},18,31,18,16,19,8,18,30,18,25]
[]
[{"$nulls":5},19,35,19,24,20,12,19,37,19,23]
[{"$nulls":5},19,32,19,21,20,9,19,36,19,17]
[]
[{"$nulls":5},20,34,20,23,21,4,20,38,20,20]
[{"$nulls":5},20,33,20,22,21,1,20,35,20,15]

{"sheet":"36","index":18,"n_rows":106,"n_cols":15,"rows_kept":106,"merged":[[0,2,0,14],[1,2,1,14],[2,3,2,4],[2,5,2,6],[2,7,2,8],[2,9,2,10],[2,11,2,12],[2,13,2,14],[49,2,49,14],[50,2,50,14],[51,3,51,4],[51,5,51,6],[51,7,51,8],[51,9,51,10],[51,11,51,12],[51,13,51,14],[53,5,54,5],[53,7,54,7],[53,9,54,9],[53,11,54,11],[53,13,54,13],[56,5,57,5],[56,7,57,7],[56,9,57,9],[56,11,57,11],[56,13,57,13],[59,5,60,5],[59,7,60,7],[59,9,60,9],[59,11,60,11],[59,13,60,13],[62,5,63,5],[62,7,63,7],[62,9,63,9],[62,11,63,11],[62,13,63,13],[65,5,66,5],[65,7,66,7],[65,9,66,9],[65,11,66,11],[65,13,66,13],[68,5,69,5],[68,7,69,7],[68,9,69,9],[68,11,69,11],[68,13,69,13],[71,5,72,5],[71,7,72,7],[71,9,72,9],[71,11,72,11],[71,13,72,13],[74,5,75,5],[74,7,75,7],[74,9,75,9],[74,11,75,11],[74,13,75,13],[77,5,78,5],[77,7,78,7],[77,9,78,9],[77,11,78,11],[77,13,78,13],[80,5,81,5],[80,7,81,7],[80,9,81,9],[80,11,81,11],[80,13,81,13],[83,5,84,5],[83,7,84,7],[83,9,84,9],[83,11,84,11],[83,13,84,13],[86,5,87,5],[86,7,87,7],[86,9,87,9],[86,11,87,11],[86,13,87,13],[89,5,90,5],[89,7,90,7],[89,9,90,9],[89,11,90,11],[89,13,90,13],[92,5,93,5],[92,7,93,7],[92,9,93,9],[92,11,93,11],[92,13,93,13],[95,5,96,5],[95,7,96,7],[95,9,96,9],[95,11,96,11],[95,13,96,13],[98,5,99,5],[98,7,99,7],[98,9,99,9],[98,11,99,11],[98,13,99,13],[101,5,102,5],[101,7,102,7],[101,9,102,9],[101,11,102,11],[101,13,102,13],[104,5,105,5],[104,7,105,7],[104,9,105,9],[104,11,105,11],[104,13,105,13],[123,7,124,7],[123,9,124,9],[123,11,124,11],[123,13,124,13],[126,7,127,7],[126,9,127,9],[126,11,127,11],[126,13,127,13]]}
[null,null,"Heading Info."]
[null,null,"DRAW"]
[{"$nulls":5},"R O U N D  1",null,"R O U N D  2",null,"R O U N D  3",null,"R O U N D  4",null,"R O U N D  5"]
[null,null,"Team No.","Player","Skip","Rink","Versus","Rink","Versus","Rink","Versus","Rink","Versus","Rink","Versus"]
[null,null,1,"BOWLER Fred","",1,2,11,3,20,4,2,7,10,8]
[null,null,2,".","",1,1,12,4,19,3,3,8,9,9]
[null,null,3,".","",2,4,11,1,19,2,1,9,12,10]
[null,null,4,".","",2,3,12,2,20,1,6,10,13,7]
[null,null,5,".","",3,6,8,7,18,8,5,11,11,12]
[null,null,6,".","",3,5,9,8,17,7,4,12,8,11]
[null,null,7,".","",4,8,8,5,17,6,2,1,13,4]
[null,null,8,".","",4,7,9,6,18,5,3,2,10,1]
[null,null,9,".","",5,10,10,11,16,12,1,3,9,2]
[null,null,10,".","",5,9,13,12,15,11,6,4,12,3]
[null,null,11,".","",6,12,10,9,15,10,5,5,8,6]
[null,null,12,".","",6,11,13,10,16,9,4,6,11,5]
[null,null,13,".","",8,14,18,15,6,16,9,19,17,20]
[null,null,14,".","",8,13,19,16,5,15,10,20,16,21]
[null,null,15,".","",9,16,18,13,5,14,8,21,19,22]
[null,null,16,".","",9,15,19,14,6,13,13,22,20,19]
[null,null,17,".","",10,18,15,19,4,20,12,23,18,24]
[null,null,18,".","",10,17,16,20,3,19,11,24,15,23]
[null,null,19,".","",11,20,15,17,3,18,9,13,20,16]
[null,null,20,".","",11,19,16,18,4,17,10,14,17,13]
[null,null,21,".","",12,22,17,23,2,24,8,15,16,14]
[null,null,22,".","",12,21,20,24,1,23,13,16,19,15]
[null,null,23,".","",13,24,17,21,1,22,12,17,15,18]
[null,null,24,".","",13,23,20,22,2,21,11,18,18,17]
[null,null,25,".","",15,26,4,27,13,28,16,31,3,32]
[null,null,26,".","",15,25,5,28,12,27,17,32,2,33]
[null,null,27,".","",16,28,4,25,12,26,15,33,5,34]
[null,null,28,".","",16,27,5,26,13,25,20,34,6,31]
[null,null,29,".","",17,30,1,31,11,32,19,35,4,36]
[null,null,30,".","",17,29,2,32,10,31,18,36,1,35]
[null,null,31,".","",18,32,1,29,10,30,16,25,6,28]
[null,null,32,".","",18,31,2,30,11,29,17,26,3,25]
[null,null,33,".","",19,34,3,35,9,36,15,27,2,26]
[null,null,34,".","",19,33,6,36,8,35,20,28,5,27]
[null,null,35,".","",20,36,3,33,8,34,19,29,1,30]
[null,null,36,".","",20,35,6,34,9,33,18,30,4,29]
{"$rows_empty":9}
[null,null,"Heading Info."]
[null,null,"DRAW"]
[{"$nulls":5},"R O U N D  1",null,"R O U N D  2",null,"R O U N D  3",null,"R O U N D  4",null,"R O U N D  5"]
[{"$nulls":5},"Rink","Versus","Rink","Versus","Rink","Versus","Rink","Versus","Rink","Versus"]
[{"$nulls":5},1,2,1,31,1,23,1,9,1,35]
[{"$nulls":6},1,1,29,1,22,1,3,1,30]
[]
[{"$nulls":5},2,4,2,32,2,24,2,7,2,33]
[{"$nulls":5},2,3,2,30,2,21,2,1,2,26]
[]
[{"$nulls":5},3,6,3,35,3,19,3,8,3,32]
[{"$nulls":5},3,5,3,33,3,18,3,2,3,25]
[]
[{"$nulls":5},4,8,4,27,4,20,4,12,4,36]
[{"$nulls":5},4,7,4,25,4,17,4,6,4,29]
[]
[{"$nulls":5},5,10,5,28,5,15,5,11,5,34]
[{"$nulls":5},5,9,5,26,5,14,5,5,5,27]
[]
[{"$nulls":5},6,12,6,36,6,16,6,10,6,31]
[{"$nulls":5},6,11,6,34,6,13,6,4,6,28]
[]
[{"$nulls":5},8,14,8,7,8,35,8,21,8,11]
[{"$nulls":5},8,13,8,5,8,34,8,15,8,6]
[]
[{"$nulls":5},9,16,9,8,9,36,9,19,9,9]
[{"$nulls":5},9,15,9,6,9,33,9,13,9,2]
[]
[{"$nulls":5},10,18,10,11,10,31,10,20,10,8]
[{"$nulls":5},10,17,10,9,10,30,10,14,10,1]
[]
[{"$nulls":5},11,20,11,3,11,32,11,24,11,12]
[{"$nulls":5},11,19,11,1,11,29,11,18,11,5]
[]
[{"$nulls":5},12,22,12,4,12,27,12,23,12,10]
[{"$nulls":5},12,21,12,2,12,26,12,17,12,3]
[]
[{"$nulls":5},13,24,13,12,13,28,13,22,13,7]
[{"$nulls":5},13,23,13,10,13,25,13,16,13,4]
[]
[{"$nulls":5},15,26,15,19,15,11,15,33,15,23]
[{"$nulls":5},15,25,15,17,15,10,15,27,15,18]
[]
[{"$nulls":5},16,28,16,20,16,12,16,31,16,21]
[{"$nulls":5},16,27,16,18,16,9,16,25,16,14]
[]
[{"$nulls":5},17,30,17,23,17,7,17,32,17,20]
[{"$nulls":5},17,29,17,21,17,6,17,26,17,13]
[]
[{"$nulls":5},18,32,18,15,18,8,18,36,18,24]
[{"$nulls":5},18,31,18,13,18,5,18,30,18,17]
[]
[{"$nulls":5},19,34,19,16,19,3,19,35,19,22]
[{"$nulls":5},19,33,19,14,19,2,19,29,19,15]
[]
[{"$nulls":5},20,36,20,24,20,4,20,34,20,19]
[{"$nulls":5},20,35,20,22,20,1,20,28,20,16]

{"sheet":"34","index":19,"n_rows":103,"n_cols":15,"rows_kept":103,"merged":[[0,2,0,14],[1,2,1,14],[2,3,2,4],[2,5,2,6],[2,7,2,8],[2,9,2,10],[2,11,2,12],[2,13,2,14],[49,2,49,14],[50,2,50,14],[51,3,51,4],[51,5,51,6],[51,7,51,8],[51,9,51,10],[51,11,51,12],[51,13,51,14],[53,5,54,5],[53,7,54,7],[53,9,54,9],[53,11,54,11],[53,13,54,13],[56,5,57,5],[56,7,57,7],[56,9,57,9],[56,11,57,11],[56,13,57,13],[59,5,60,5],[59,7,60,7],[59,9,60,9],[59,11,60,11],[59,13,60,13],[62,5,63,5],[62,7,63,7],[62,9,63,9],[62,11,63,11],[62,13,63,13],[65,5,66,5],[65,7,66,7],[65,9,66,9],[65,11,66,11],[65,13,66,13],[68,5,69,5],[68,7,69,7],[68,9,69,9],[68,11,69,11],[68,13,69,13],[71,5,72,5],[71,7,72,7],[71,9,72,9],[71,11,72,11],[71,13,72,13],[74,5,75,5],[74,7,75,7],[74,9,75,9],[74,11,75,11],[74,13,75,13],[77,5,78,5],[77,7,78,7],[77,9,78,9],[77,11,78,11],[77,13,78,13],[80,5,81,5],[80,7,81,7],[80,9,81,9],[80,11,81,11],[80,13,81,13],[83,5,84,5],[83,7,84,7],[83,9,84,9],[83,11,84,11],[83,13,84,13],[86,5,87,5],[86,7,87,7],[86,9,87,9],[86,11,87,11],[86,13,87,13],[89,5,90,5],[89,7,90,7],[89,9,90,9],[89,11,90,11],[89,13,90,13],[92,5,93,5],[92,7,93,7],[92,9,93,9],[92,11,93,11],[92,13,93,13],[95,5,96,5],[95,7,96,7],[95,9,96,9],[95,11,96,11],[95,13,96,13],[98,5,99,5],[98,7,99,7],[98,9,99,9],[98,11,99,11],[98,13,99,13],[101,5,102,5],[101,7,102,7],[101,9,102,9],[101,11,102,11],[101,13,102,13],[120,7,121,7],[120,9,121,9],[120,11,121,11],[120,13,121,13],[123,7,124,7],[123,9,124,9],[123,11,124,11],[123,13,124,13]]}
[null,null,"Heading Info."]
[null,null,"DRAW"]
[{"$nulls":5},"R O U N D  1",null,"R O U N D  2",null,"R O U N D  3",null,"R O U N D  4",null,"R O U N D  5"]
[null,null,"Team No.","Player","Skip","Rink","Versus","Rink","Versus","Rink","Versus","Rink","Versus","Rink","Versus"]
[null,null,1,"BOWLER Fred","",1,2,11,3,20,4,2,7,10,8]
[null,null,2,".","",1,1,12,4,19,3,3,8,9,9]
[null,null,3,".","",2,4,11,1,19,2,1,9,12,10]
[null,null,4,".","",2,3,12,2,20,1,6,10,13,7]
[null,null,5,".","",3,6,8,7,18,8,5,11,11,12]
[null,null,6,".","",3,5,9,8,17,7,4,12,8,11]
[null,null,7,".","",4,8,8,5,17,6,2,1,13,4]
[null,null,8,".","",4,7,9,6,18,5,3,2,10,1]
[null,null,9,".","",5,10,10,11,16,12,1,3,9,2]
[null,null,10,".","",5,9,13,12,15,11,6,4,12,3]
[null,null,11,".","",6,12,10,9,15,10,5,5,8,6]
[null,null,12,".","",6,11,13,10,16,9,4,6,11,5]
[null,null,13,".","",8,14,18,15,6,16,9,19,17,20]
[null,null,14,".","",8,13,19,16,5,15,10,20,16,21]
[null,null,15,".","",9,16,18,13,5,14,8,21,19,22]
[null,null,16,".","",9,15,19,14,6,13,13,22,20,19]
[null,null,17,".","",10,18,15,19,4,20,12,23,18,24]
[null,null,18,".","",10,17,16,20,3,19,11,24,15,23]
[null,null,19,".","",11,20,15,17,3,18,9,13,20,16]
[null,null,20,".","",11,19,16,18,4,17,10,14,17,13]
[null,null,21,".","",12,22,17,23,2,24,8,15,16,14]
[null,null,22,".","",12,21,20,24,1,23,13,16,19,15]
[null,null,23,".","",13,24,17,21,1,22,12,17,15,18]
[null,null,24,".","",13,23,20,22,2,21,11,18,18,17]
[null,null,25,".","",20,26,2,27,12,31,19,28,5,29]
[null,null,26,".","",20,25,3,28,11,27,18,29,4,30]
[null,null,27,".","",16,28,2,25,11,26,20,30,3,34]
[null,null,28,".","",16,27,3,26,10,32,19,25,2,31]
[null,null,29,".","",17,30,4,32,9,33,18,26,5,25]
[null,null,30,".","",17,29,5,33,13,34,20,27,4,26]
[null,null,31,".","",18,32,6,34,12,25,16,33,2,28]
[null,null,32,".","",18,31,4,29,10,28,17,34,6,33]
[null,null,33,".","",19,34,5,30,9,29,16,31,6,32]
[null,null,34,".","",19,33,6,31,13,30,17,32,3,27]
{"$rows_empty":11}
[null,null,"Heading Info."]
[null,null,"DRAW"]
[{"$nulls":5},"R O U N D  1",null,"R O U N D  2",null,"R O U N D  3",null,"R O U N D  4",null,"R O U N D  5"]
[{"$nulls":5},"Rink","Versus","Rink","Versus","Rink","Versus","Rink","Versus","Rink","Versus"]
[{"$nulls":5},1,2,2,27,1,23,1,9,2,31]
[{"$nulls":6},1,2,25,1,22,1,3,2,28]
[]
[{"$nulls":5},2,4,3,28,2,24,2,7,3,34]
[{"$nulls":5},2,3,3,26,2,21,2,1,3,27]
[]
[{"$nulls":5},3,6,4,32,3,19,3,8,4,30]
[{"$nulls":5},3,5,4,29,3,18,3,2,4,26]
[]
[{"$nulls":5},4,8,5,33,4,20,4,12,5,29]
[{"$nulls":5},4,7,5,30,4,17,4,6,5,25]
[]
[{"$nulls":5},5,10,6,34,5,15,5,11,6,33]
[{"$nulls":5},5,9,6,31,5,14,5,5,6,32]
[]
[{"$nulls":5},6,12,8,7,6,16,6,10,8,11]
[{"$nulls":5},6,11,8,5,6,13,6,4,8,6]
[]
[{"$nulls":5},8,14,9,8,9,33,8,21,9,9]
[{"$nulls":5},8,13,9,6,9,29,8,15,9,2]
[]
[{"$nulls":5},9,16,10,11,10,32,9,19,10,8]
[{"$nulls":5},9,15,10,9,10,28,9,13,10,1]
[]
[{"$nulls":5},10,18,11,3,11,27,10,20,11,12]
[{"$nulls":5},10,17,11,1,11,26,10,14,11,5]
[]
[{"$nulls":5},11,20,12,4,12,31,11,24,12,10]
[{"$nulls":5},11,19,12,2,12,25,11,18,12,3]
[]
[{"$nulls":5},12,22,13,12,13,34,12,23,13,7]
[{"$nulls":5},12,21,13,10,13,30,12,17,13,4]
[]
[{"$nulls":5},13,24,15,19,15,11,13,22,15,23]
[{"$nulls":5},13,23,15,17,15,10,13,16,15,18]
[]
[{"$nulls":5},16,28,16,20,16,12,16,33,16,21]
[{"$nulls":5},16,27,16,18,16,9,16,31,16,14]
[]
[{"$nulls":5},17,30,17,23,17,7,17,34,17,20]
[{"$nulls":5},17,29,17,21,17,6,17,32,17,13]
[]
[{"$nulls":5},18,32,18,15,18,8,18,29,18,24]
[{"$nulls":5},18,31,18,13,18,5,18,26,18,17]
[]
[{"$nulls":5},19,34,19,16,19,3,19,28,19,22]
[{"$nulls":5},19,33,19,14,19,2,19,25,19,15]
[]
[{"$nulls":5},20,26,20,24,20,4,20,30,20,19]
[{"$nulls":5},20,25,20,22,20,1,20,27,20,16]

{"sheet":"32","index":20,"n_rows":100,"n_cols":15,"rows_kept":100,"merged":[[0,2,0,14],[1,2,1,14],[2,3,2,4],[2,5,2,6],[2,7,2,8],[2,9,2,10],[2,11,2,12],[2,13,2,14],[49,2,49,14],[50,2,50,14],[51,3,51,4],[51,5,51,6],[51,7,51,8],[51,9,51,10],[51,11,51,12],[51,13,51,14],[53,5,54,5],[53,7,54,7],[53,9,54,9],[53,11,54,11],[53,13,54,13],[56,5,57,5],[56,7,57,7],[56,9,57,9],[56,11,57,11],[56,13,57,13],[59,5,60,5],[59,7,60,7],[59,9,60,9],[59,11,60,11],[59,13,60,13],[62,5,63,5],[62,7,63,7],[62,9,63,9],[62,11,63,11],[62,13,63,13],[65,5,66,5],[65,7,66,7],[65,9,66,9],[65,11,66,11],[65,13,66,13],[68,5,69,5],[68,7,69,7],[68,9,69,9],[68,11,69,11],[68,13,69,13],[71,5,72,5],[71,7,72,7],[71,9,72,9],[71,11,72,11],[71,13,72,13],[74,5,75,5],[74,7,75,7],[74,9,75,9],[74,11,75,11],[74,13,75,13],[77,5,78,5],[77,7,78,7],[77,9,78,9],[77,11,78,11],[77,13,78,13],[80,5,81,5],[80,7,81,7],[80,9,81,9],[80,11,81,11],[80,13,81,13],[83,5,84,5],[83,7,84,7],[83,9,84,9],[83,11,84,11],[83,13,84,13],[86,5,87,5],[86,7,87,7],[86,9,87,9],[86,11,87,11],[86,13,87,13],[89,5,90,5],[89,7,90,7],[89,9,90,9],[89,11,90,11],[89,13,90,13],[92,5,93,5],[92,7,93,7],[92,9,93,9],[92,11,93,11],[92,13,93,13],[95,5,96,5],[95,7,96,7],[95,9,96,9],[95,11,96,11],[95,13,96,13],[98,5,99,5],[98,7,99,7],[98,9,99,9],[98,11,99,11],[98,13,99,13],[117,7,118,7],[117,9,118,9],[117,11,118,11],[117,13,118,13],[120,7,121,7],[120,9,121,9],[120,11,121,11],[120,13,121,13]]}
[null,null,"Heading Info."]
[null,null,"DRAW"]
[{"$nulls":5},"R O U N D  1",null,"R O U N D  2",null,"R O U N D  3",null,"R O U N D  4",null,"R O U N D  5"]
[null,null,"Team No.","Player","Skip","Rink","Versus","Rink","Versus","Rink","Versus","Rink","Versus","Rink","Versus"]
[null,null,1,"BOWLER Fred","",1,2,11,3,20,4,2,7,10,8]
[null,null,2,".","",1,1,12,4,19,3,3,8,9,9]
[null,null,3,".","",2,4,11,1,19,2,1,9,12,10]
[null,null,4,".","",2,3,12,2,20,1,6,10,13,7]
[null,null,5,".","",3,6,8,7,18,8,5,11,11,12]
[null,null,6,".","",3,5,9,8,17,7,4,12,8,11]
[null,null,7,".","",4,8,8,5,17,6,2,1,13,4]
[null,null,8,".","",4,7,9,6,18,5,3,2,10,1]
[null,null,9,".","",5,10,10,11,16,12,1,3,9,2]
[null,null,10,".","",5,9,13,12,15,11,6,4,12,3]
[null,null,11,".","",6,12,10,9,15,10,5,5,8,6]
[null,null,12,".","",6,11,13,10,16,9,4,6,11,5]
[null,null,13,".","",13,14,16,15,5,19,12,16,19,17]
[null,null,14,".","",13,13,17,16,4,15,11,17,18,18]
[null,null,15,".","",9,16,16,13,4,14,13,18,17,22]
[null,null,16,".","",9,15,17,14,3,20,12,13,16,19]
[null,null,17,".","",10,18,18,20,2,21,11,14,19,13]
[null,null,18,".","",10,17,19,21,6,22,13,15,18,14]
[null,null,19,".","",11,20,20,22,5,13,9,21,16,16]
[null,null,20,".","",11,19,18,17,3,16,10,22,20,21]
[null,null,21,".","",12,22,19,18,2,17,9,19,20,20]
[null,null,22,".","",12,21,20,19,6,18,10,20,17,15]
[null,null,23,".","",20,24,2,25,12,29,19,26,5,27]
[null,null,24,".","",20,23,3,26,11,25,18,27,4,28]
[null,null,25,".","",16,26,2,23,11,24,20,28,3,32]
[null,null,26,".","",16,25,3,24,10,30,19,23,2,29]
[null,null,27,".","",17,28,4,30,9,31,18,24,5,23]
[null,null,28,".","",17,27,5,31,13,32,20,25,4,24]
[null,null,29,".","",18,30,6,32,12,23,16,31,2,26]
[null,null,30,".","",18,29,4,27,10,26,17,32,6,31]
[null,null,31,".","",19,32,5,28,9,27,16,29,6,30]
[null,null,32,".","",19,31,6,29,13,28,17,30,3,25]
{"$rows_empty":13}
[null,null,"Heading Info."]
[null,null,"DRAW"]
[{"$nulls":5},"R O U N D  1",null,"R O U N D  2",null,"R O U N D  3",null,"R O U N D  4",null,"R O U N D  5"]
[{"$nulls":5},"Rink","Versus","Rink","Versus","Rink","Versus","Rink","Versus","Rink","Versus"]
[{"$nulls":5},1,2,2,25,2,21,1,9,2,29]
[{"$nulls":6},1,2,23,2,17,1,3,2,26]
[]
[{"$nulls":5},2,4,3,26,3,20,2,7,3,32]
[{"$nulls":5},2,3,3,24,3,16,2,1,3,25]
[]
[{"$nulls":5},3,6,4,30,4,15,3,8,4,28]
[{"$nulls":5},3,5,4,27,4,14,3,2,4,24]
[]
[{"$nulls":5},4,8,5,31,5,19,4,12,5,27]
[{"$nulls":5},4,7,5,28,5,13,4,6,5,23]
[]
[{"$nulls":5},5,10,6,32,6,22,5,11,6,31]
[{"$nulls":5},5,9,6,29,6,18,5,5,6,30]
[]
[{"$nulls":5},6,12,8,7,9,31,6,10,8,11]
[{"$nulls":5},6,11,8,5,9,27,6,4,8,6]
[]
[{"$nulls":5},9,16,9,8,10,30,9,21,9,9]
[{"$nulls":5},9,15,9,6,10,26,9,19,9,2]
[]
[{"$nulls":5},10,18,10,11,11,25,10,22,10,8]
[{"$nulls":5},10,17,10,9,11,24,10,20,10,1]
[]
[{"$nulls":5},11,20,11,3,12,29,11,17,11,12]
[{"$nulls":5},11,19,11,1,12,23,11,14,11,5]
[]
[{"$nulls":5},12,22,12,4,13,32,12,16,12,10]
[{"$nulls":5},12,21,12,2,13,28,12,13,12,3]
[]
[{"$nulls":5},13,14,13,12,15,11,13,18,13,7]
[{"$nulls":5},13,13,13,10,15,10,13,15,13,4]
[]
[{"$nulls":5},16,26,16,15,16,12,16,31,16,19]
[{"$nulls":5},16,25,16,13,16,9,16,29,16,16]
[]
[{"$nulls":5},17,28,17,16,17,7,17,32,17,22]
[{"$nulls":5},17,27,17,14,17,6,17,30,17,15]
[]
[{"$nulls":5},18,30,18,20,18,8,18,27,18,18]
[{"$nulls":5},18,29,18,17,18,5,18,24,18,14]
[]
[{"$nulls":5},19,32,19,21,19,3,19,26,19,17]
[{"$nulls":5},19,31,19,18,19,2,19,23,19,13]
[]
[{"$nulls":5},20,24,20,22,20,4,20,28,20,21]
[{"$nulls":5},20,23,20,19,20,1,20,25,20,20]

{"sheet":"30","index":21,"n_rows":97,"n_cols":15,"rows_kept":97,"merged":[[0,2,0,14],[1,2,1,14],[2,3,2,4],[2,5,2,6],[2,7,2,8],[2,9,2,10],[2,11,2,12],[2,13,2,14],[49,2,49,14],[50,2,50,14],[51,3,51,4],[51,5,51,6],[51,7,51,8],[51,9,51,10],[51,11,51,12],[51,13,51,14],[53,5,54,5],[53,7,54,7],[53,9,54,9],[53,11,54,11],[53,13,54,13],[56,5,57,5],[56,7,57,7],[56,9,57,9],[56,11,57,11],[56,13,57,13],[59,5,60,5],[59,7,60,7],[59,9,60,9],[59,11,60,11],[59,13,60,13],[62,5,63,5],[62,7,63,7],[62,9,63,9],[62,11,63,11],[62,13,63,13],[65,5,66,5],[65,7,66,7],[65,9,66,9],[65,11,66,11],[65,13,66,13],[68,5,69,5],[68,7,69,7],[68,9,69,9],[68,11,69,11],[68,13,69,13],[71,5,72,5],[71,7,72,7],[71,9,72,9],[71,11,72,11],[71,13,72,13],[74,5,75,5],[74,7,75,7],[74,9,75,9],[74,11,75,11],[74,13,75,13],[77,5,78,5],[77,7,78,7],[77,9,78,9],[77,11,78,11],[77,13,78,13],[80,5,81,5],[80,7,81,7],[80,9,81,9],[80,11,81,11],[80,13,81,13],[83,5,84,5],[83,7,84,7],[83,9,84,9],[83,11,84,11],[83,13,84,13],[86,5,87,5],[86,7,87,7],[86,9,87,9],[86,11,87,11],[86,13,87,13],[89,5,90,5],[89,7,90,7],[89,9,90,9],[89,11,90,11],[89,13,90,13],[92,5,93,5],[92,7,93,7],[92,9,93,9],[92,11,93,11],[92,13,93,13],[95,5,96,5],[95,7,96,7],[95,9,96,9],[95,11,96,11],[95,13,96,13],[114,7,115,7],[114,9,115,9],[114,11,115,11],[114,13,115,13],[117,7,118,7],[117,9,118,9],[117,11,118,11],[117,13,118,13]]}
[null,null,"Heading Info."]
[null,null,"DRAW"]
[{"$nulls":5},"R O U N D  1",null,"R O U N D  2",null,"R O U N D  3",null,"R O U N D  4",null,"R O U N D  5"]
[null,null,"Team No.","Player","Skip","Rink","Versus","Rink","Versus","Rink","Versus","Rink","Versus","Rink","Versus"]
[null,null,1,"BOWLER Fred","",6,2,9,3,19,7,5,4,12,5]
[null,null,2,".","",6,1,10,4,18,3,4,5,11,6]
[null,null,3,".","",2,4,9,1,18,2,6,6,10,10]
[null,null,4,".","",2,3,10,2,17,8,5,1,9,7]
[null,null,5,".","",3,6,11,8,16,9,4,2,12,1]
[null,null,6,".","",3,5,12,9,20,10,6,3,11,2]
[null,null,7,".","",4,8,13,10,19,1,2,9,9,4]
[null,null,8,".","",4,7,11,5,17,4,3,10,13,9]
[null,null,9,".","",5,10,12,6,16,5,2,7,13,8]
[null,null,10,".","",5,9,13,7,20,6,3,8,10,3]
[null,null,11,".","",13,12,16,13,5,17,12,14,19,15]
[null,null,12,".","",13,11,17,14,4,13,11,15,18,16]
[null,null,13,".","",9,14,16,11,4,12,13,16,17,20]
[null,null,14,".","",9,13,17,12,3,18,12,11,16,17]
[null,null,15,".","",10,16,18,18,2,19,11,12,19,11]
[null,null,16,".","",10,15,19,19,6,20,13,13,18,12]
[null,null,17,".","",11,18,20,20,5,11,9,19,16,14]
[null,null,18,".","",11,17,18,15,3,14,10,20,20,19]
[null,null,19,".","",12,20,19,16,2,15,9,17,20,18]
[null,null,20,".","",12,19,20,17,6,16,10,18,17,13]
[null,null,21,".","",20,22,2,23,12,27,19,24,5,25]
[null,null,22,".","",20,21,3,24,11,23,18,25,4,26]
[null,null,23,".","",16,24,2,21,11,22,20,26,3,30]
[null,null,24,".","",16,23,3,22,10,28,19,21,2,27]
[null,null,25,".","",17,26,4,28,9,29,18,22,5,21]
[null,null,26,".","",17,25,5,29,13,30,20,23,4,22]
[null,null,27,".","",18,28,6,30,12,21,16,29,2,24]
[null,null,28,".","",18,27,4,25,10,24,17,30,6,29]
[null,null,29,".","",19,30,5,26,9,25,16,27,6,28]
[null,null,30,".","",19,29,6,27,13,26,17,28,3,23]
{"$rows_empty":15}
[null,null,"Heading Info."]
[null,null,"DRAW"]
[{"$nulls":5},"R O U N D  1",null,"R O U N D  2",null,"R O U N D  3",null,"R O U N D  4",null,"R O U N D  5"]
[{"$nulls":5},"Rink","Versus","Rink","Versus","Rink","Versus","Rink","Versus","Rink","Versus"]
[{"$nulls":5},2,4,2,23,2,19,2,9,2,27]
[{"$nulls":6},3,2,21,2,15,2,7,2,24]
[]
[{"$nulls":5},3,6,3,24,3,18,3,10,3,30]
[{"$nulls":5},3,5,3,22,3,14,3,8,3,23]
[]
[{"$nulls":5},4,8,4,28,4,13,4,5,4,26]
[{"$nulls":5},4,7,4,25,4,12,4,2,4,22]
[]
[{"$nulls":5},5,10,5,29,5,17,5,4,5,25]
[{"$nulls":5},5,9,5,26,5,11,5,1,5,21]
[]
[{"$nulls":5},6,2,6,30,6,20,6,6,6,29]
[{"$nulls":5},6,1,6,27,6,16,6,3,6,28]
[]
[{"$nulls":5},9,14,9,3,9,29,9,19,9,7]
[{"$nulls":5},9,13,9,1,9,25,9,17,9,4]
[]
[{"$nulls":5},10,16,10,4,10,28,10,20,10,10]
[{"$nulls":5},10,15,10,2,10,24,10,18,10,3]
[]
[{"$nulls":5},11,18,11,8,11,23,11,15,11,6]
[{"$nulls":5},11,17,11,5,11,22,11,12,11,2]
[]
[{"$nulls":5},12,20,12,9,12,27,12,14,12,5]
[{"$nulls":5},12,19,12,6,12,21,12,11,12,1]
[]
[{"$nulls":5},13,12,13,10,13,30,13,16,13,9]
[{"$nulls":5},13,11,13,7,13,26,13,13,13,8]
[]
[{"$nulls":5},16,24,16,13,16,9,16,29,16,17]
[{"$nulls":5},16,23,16,11,16,5,16,27,16,14]
[]
[{"$nulls":5},17,26,17,14,17,8,17,30,17,20]
[{"$nulls":5},17,25,17,12,17,4,17,28,17,13]
[]
[{"$nulls":5},18,28,18,18,18,3,18,25,18,16]
[{"$nulls":5},18,27,18,15,18,2,18,22,18,12]
[]
[{"$nulls":5},19,30,19,19,19,7,19,24,19,15]
[{"$nulls":5},19,29,19,16,19,1,19,21,19,11]
[]
[{"$nulls":5},20,22,20,20,20,10,20,26,20,19]
[{"$nulls":5},20,21,20,17,20,6,20,23,20,18]

{"sheet":"28","index":22,"n_rows":94,"n_cols":15,"rows_kept":94,"merged":[[0,2,0,14],[1,2,1,14],[2,3,2,4],[2,5,2,6],[2,7,2,8],[2,9,2,10],[2,11,2,12],[2,13,2,14],[49,2,49,14],[50,2,50,14],[51,3,51,4],[51,5,51,6],[51,7,51,8],[51,9,51,10],[51,11,51,12],[51,13,51,14],[53,5,54,5],[53,7,54,7],[53,9,54,9],[53,11,54,11],[53,13,54,13],[56,5,57,5],[56,7,57,7],[56,9,57,9],[56,11,57,11],[56,13,57,13],[59,5,60,5],[59,7,60,7],[59,9,60,9],[59,11,60,11],[59,13,60,13],[62,5,63,5],[62,7,63,7],[62,9,63,9],[62,11,63,11],[62,13,63,13],[65,5,66,5],[65,7,66,7],[65,9,66,9],[65,11,66,11],[65,13,66,13],[68,5,69,5],[68,7,69,7],[68,9,69,9],[68,11,69,11],[68,13,69,13],[71,5,72,5],[71,7,72,7],[71,9,72,9],[71,11,72,11],[71,13,72,13],[74,5,75,5],[74,7,75,7],[74,9,75,9],[74,11,75,11],[74,13,75,13],[77,5,78,5],[77,7,78,7],[77,9,78,9],[77,11,78,11],[77,13,78,13],[80,5,81,5],[80,7,81,7],[80,9,81,9],[80,11,81,11],[80,13,81,13],[83,5,84,5],[83,7,84,7],[83,9,84,9],[83,11,84,11],[83,13,84,13],[86,5,87,5],[86,7,87,7],[86,9,87,9],[86,11,87,11],[86,13,87,13],[89,5,90,5],[89,7,90,7],[89,9,90,9],[89,11,90,11],[89,13,90,13],[92,5,93,5],[92,7,93,7],[92,9,93,9],[92,11,93,11],[92,13,93,13],[111,7,112,7],[111,9,112,9],[111,11,112,11],[111,13,112,13],[114,7,115,7],[114,9,115,9],[114,11,115,11],[114,13,115,13]]}
[null,null,"Heading Info."]
[null,null,"DRAW"]
[{"$nulls":5},"R O U N D  1",null,"R O U N D  2",null,"R O U N D  3",null,"R O U N D  4",null,"R O U N D  5"]
[null,null,"Team No.","Player","Skip","Rink","Versus","Rink","Versus","Rink","Versus","Rink","Versus","Rink","Versus"]
[null,null,1,"BOWLER Fred","",1,2,10,3,4,4,11,5,3,6]
[null,null,2,".","",1,1,9,4,6,6,13,8,2,10]
[null,null,3,".","",2,14,10,1,1,5,8,7,4,9]
[null,null,4,".","",3,13,9,2,4,1,12,6,1,8]
[null,null,5,".","",4,12,8,14,1,3,11,1,5,7]
[null,null,6,".","",5,11,14,13,6,2,12,4,3,1]
[null,null,7,".","",6,10,13,12,7,14,8,3,5,5]
[null,null,8,".","",7,9,12,11,5,13,13,2,1,4]
[null,null,9,".","",7,8,11,10,2,12,10,14,4,3]
[null,null,10,".","",6,7,11,9,3,11,9,13,2,2]
[null,null,11,".","",5,6,12,8,3,10,14,12,6,14]
[null,null,12,".","",4,5,13,7,2,9,14,11,7,13]
[null,null,13,".","",3,4,14,6,5,8,9,10,7,12]
[null,null,14,".","",2,3,8,5,7,7,10,9,6,11]
[null,null,15,".","",8,16,3,17,11,18,4,19,10,20]
[null,null,16,".","",8,15,2,18,13,20,6,22,9,24]
[null,null,17,".","",9,28,3,15,8,19,1,21,11,23]
[null,null,18,".","",10,27,2,16,11,15,5,20,8,22]
[null,null,19,".","",11,26,1,28,8,17,4,15,12,21]
[null,null,20,".","",12,25,7,27,13,16,5,18,10,15]
[null,null,21,".","",13,24,6,26,14,28,1,17,12,19]
[null,null,22,".","",14,23,5,25,12,27,6,16,8,18]
[null,null,23,".","",14,22,4,24,9,26,3,28,11,17]
[null,null,24,".","",13,21,4,23,10,25,2,27,9,16]
[null,null,25,".","",12,20,5,22,10,24,7,26,13,28]
[null,null,26,".","",11,19,6,21,9,23,7,25,14,27]
[null,null,27,".","",10,18,7,20,12,22,2,24,14,26]
[null,null,28,".","",9,17,1,19,14,21,3,23,13,25]
{"$rows_empty":17}
[null,null,"Heading Info."]
[null,null,"DRAW"]
[{"$nulls":5},"R O U N D  1",null,"R O U N D  2",null,"R O U N D  3",null,"R O U N D  4",null,"R O U N D  5"]
[{"$nulls":5},"Rink","Versus","Rink","Versus","Rink","Versus","Rink","Versus","Rink","Versus"]
[{"$nulls":5},1,2,1,28,1,5,1,21,1,8]
[{"$nulls":6},1,1,19,1,3,1,17,1,4]
[]
[{"$nulls":5},2,14,2,18,2,12,2,27,2,10]
[{"$nulls":5},2,3,2,16,2,9,2,24,2,2]
[]
[{"$nulls":5},3,13,3,17,3,11,3,28,3,6]
[{"$nulls":5},3,4,3,15,3,10,3,23,3,1]
[]
[{"$nulls":5},4,12,4,24,4,4,4,19,4,9]
[{"$nulls":5},4,5,4,23,4,1,4,15,4,3]
[]
[{"$nulls":5},5,11,5,25,5,13,5,20,5,7]
[{"$nulls":5},5,6,5,22,5,8,5,18,5,5]
[]
[{"$nulls":5},6,10,6,26,6,6,6,22,6,14]
[{"$nulls":5},6,7,6,21,6,2,6,16,6,11]
[]
[{"$nulls":5},7,9,7,27,7,14,7,26,7,13]
[{"$nulls":5},7,8,7,20,7,7,7,25,7,12]
[]
[{"$nulls":5},8,16,8,14,8,19,8,7,8,22]
[{"$nulls":5},8,15,8,5,8,17,8,3,8,18]
[]
[{"$nulls":5},9,28,9,4,9,26,9,13,9,24]
[{"$nulls":5},9,17,9,2,9,23,9,10,9,16]
[]
[{"$nulls":5},10,27,10,3,10,25,10,14,10,20]
[{"$nulls":5},10,18,10,1,10,24,10,9,10,15]
[]
[{"$nulls":5},11,26,11,10,11,18,11,5,11,23]
[{"$nulls":5},11,19,11,9,11,15,11,1,11,17]
[]
[{"$nulls":5},12,25,12,11,12,27,12,6,12,21]
[{"$nulls":5},12,20,12,8,12,22,12,4,12,19]
[]
[{"$nulls":5},13,24,13,12,13,20,13,8,13,28]
[{"$nulls":5},13,21,13,7,13,16,13,2,13,25]
[]
[{"$nulls":5},14,23,14,13,14,28,14,12,14,27]
[{"$nulls":5},14,22,14,6,14,21,14,11,14,26]

{"sheet":"26","index":23,"n_rows":91,"n_cols":15,"rows_kept":91,"merged":[[0,2,0,14],[1,2,1,14],[2,3,2,4],[2,5,2,6],[2,7,2,8],[2,9,2,10],[2,11,2,12],[2,13,2,14],[49,2,49,14],[50,2,50,14],[51,3,51,4],[51,5,51,6],[51,7,51,8],[51,9,51,10],[51,11,51,12],[51,13,51,14],[53,5,54,5],[53,7,54,7],[53,9,54,9],[53,11,54,11],[53,13,54,13],[56,5,57,5],[56,7,57,7],[56,9,57,9],[56,11,57,11],[56,13,57,13],[59,5,60,5],[59,7,60,7],[59,9,60,9],[59,11,60,11],[59,13,60,13],[62,5,63,5],[62,7,63,7],[62,9,63,9],[62,11,63,11],[62,13,63,13],[65,5,66,5],[65,7,66,7],[65,9,66,9],[65,11,66,11],[65,13,66,13],[68,5,69,5],[68,7,69,7],[68,9,69,9],[68,11,69,11],[68,13,69,13],[71,5,72,5],[71,7,72,7],[71,9,72,9],[71,11,72,11],[71,13,72,13],[74,5,75,5],[74,7,75,7],[74,9,75,9],[74,11,75,11],[74,13,75,13],[77,5,78,5],[77,7,78,7],[77,9,78,9],[77,11,78,11],[77,13,78,13],[80,5,81,5],[80,7,81,7],[80,9,81,9],[80,11,81,11],[80,13,81,13],[83,5,84,5],[83,7,84,7],[83,9,84,9],[83,11,84,11],[83,13,84,13],[86,5,87,5],[86,7,87,7],[86,9,87,9],[86,11,87,11],[86,13,87,13],[89,5,90,5],[89,7,90,7],[89,9,90,9],[89,11,90,11],[89,13,90,13],[108,7,109,7],[108,9,109,9],[108,11,109,11],[108,13,109,13],[111,7,112,7],[111,9,112,9],[111,11,112,11],[111,13,112,13]]}
[null,null,"Heading Info."]
[null,null,"DRAW"]
[{"$nulls":5},"R O U N D  1",null,"R O U N D  2",null,"R O U N D  3",null,"R O U N D  4",null,"R O U N D  5"]
[null,null,"Team No.","Player","Skip","Rink","Versus","Rink","Versus","Rink","Versus","Rink","Versus","Rink","Versus"]
[null,null,1,"BOWLER Fred","",1,2,10,3,4,4,11,5,3,6]
[null,null,2,".","",1,1,9,4,6,6,13,8,2,10]
[null,null,3,".","",2,14,10,1,1,5,8,7,4,9]
[null,null,4,".","",3,13,9,2,4,1,12,6,1,8]
[null,null,5,".","",4,12,8,14,1,3,11,1,5,7]
[null,null,6,".","",5,11,14,13,6,2,12,4,3,1]
[null,null,7,".","",6,10,13,12,7,14,8,3,5,5]
[null,null,8,".","",7,9,12,11,5,13,13,2,1,4]
[null,null,9,".","",7,8,11,10,2,12,10,14,4,3]
[null,null,10,".","",6,7,11,9,3,11,9,13,2,2]
[null,null,11,".","",5,6,12,8,3,10,14,12,6,14]
[null,null,12,".","",4,5,13,7,2,9,14,11,7,13]
[null,null,13,".","",3,4,14,6,5,8,9,10,7,12]
[null,null,14,".","",2,3,8,5,7,7,10,9,6,11]
[null,null,15,".","",8,16,3,17,11,18,2,19,9,20]
[null,null,16,".","",8,15,2,18,13,20,3,22,12,24]
[null,null,17,".","",9,26,3,15,12,19,1,21,11,23]
[null,null,18,".","",10,25,2,16,11,15,5,20,8,22]
[null,null,19,".","",11,24,1,26,12,17,2,15,10,21]
[null,null,20,".","",12,23,4,25,13,16,5,18,9,15]
[null,null,21,".","",13,22,5,24,9,26,1,17,10,19]
[null,null,22,".","",13,21,6,23,8,25,3,16,8,18]
[null,null,23,".","",12,20,6,22,10,24,4,26,11,17]
[null,null,24,".","",11,19,5,21,10,23,6,25,12,16]
[null,null,25,".","",10,18,4,20,8,22,6,24,13,26]
[null,null,26,".","",9,17,1,19,9,21,4,23,13,25]
{"$rows_empty":19}
[null,null,"Heading Info."]
[null,null,"DRAW"]
[{"$nulls":5},"R O U N D  1",null,"R O U N D  2",null,"R O U N D  3",null,"R O U N D  4",null,"R O U N D  5"]
[{"$nulls":5},"Rink","Versus","Rink","Versus","Rink","Versus","Rink","Versus","Rink","Versus"]
[{"$nulls":5},1,2,1,26,1,5,1,21,1,8]
[{"$nulls":6},1,1,19,1,3,1,17,1,4]
[]
[{"$nulls":5},2,14,2,18,2,12,2,19,2,10]
[{"$nulls":5},2,3,2,16,2,9,2,15,2,2]
[]
[{"$nulls":5},3,13,3,17,3,11,3,22,3,6]
[{"$nulls":5},3,4,3,15,3,10,3,16,3,1]
[]
[{"$nulls":5},4,12,4,25,4,4,4,26,4,9]
[{"$nulls":5},4,5,4,20,4,1,4,23,4,3]
[]
[{"$nulls":5},5,11,5,24,5,13,5,20,5,7]
[{"$nulls":5},5,6,5,21,5,8,5,18,5,5]
[]
[{"$nulls":5},6,10,6,23,6,6,6,25,6,14]
[{"$nulls":5},6,7,6,22,6,2,6,24,6,11]
[]
[{"$nulls":5},7,9,8,14,7,14,8,7,7,13]
[{"$nulls":5},7,8,8,5,7,7,8,3,7,12]
[]
[{"$nulls":5},8,16,9,4,8,25,9,13,8,22]
[{"$nulls":5},8,15,9,2,8,22,9,10,8,18]
[]
[{"$nulls":5},9,26,10,3,9,26,10,14,9,20]
[{"$nulls":5},9,17,10,1,9,21,10,9,9,15]
[]
[{"$nulls":5},10,25,11,10,10,24,11,5,10,21]
[{"$nulls":5},10,18,11,9,10,23,11,1,10,19]
[]
[{"$nulls":5},11,24,12,11,11,18,12,6,11,23]
[{"$nulls":5},11,19,12,8,11,15,12,4,11,17]
[]
[{"$nulls":5},12,23,13,12,12,19,13,8,12,24]
[{"$nulls":5},12,20,13,7,12,17,13,2,12,16]
[]
[{"$nulls":5},13,22,14,13,13,20,14,12,13,26]
[{"$nulls":5},13,21,14,6,13,16,14,11,13,25]

{"sheet":"24","index":24,"n_rows":88,"n_cols":15,"rows_kept":88,"merged":[[0,2,0,14],[1,2,1,14],[2,3,2,4],[2,5,2,6],[2,7,2,8],[2,9,2,10],[2,11,2,12],[2,13,2,14],[49,2,49,14],[50,2,50,14],[51,3,51,4],[51,5,51,6],[51,7,51,8],[51,9,51,10],[51,11,51,12],[51,13,51,14],[53,5,54,5],[68,13,69,13],[71,5,72,5],[71,7,72,7],[71,9,72,9],[71,11,72,11],[71,13,72,13],[74,5,75,5],[74,7,75,7],[74,9,75,9],[74,11,75,11],[74,13,75,13],[77,5,78,5],[77,7,78,7],[77,9,78,9],[77,11,78,11],[77,13,78,13],[80,5,81,5],[80,7,81,7],[80,9,81,9],[80,11,81,11],[80,13,81,13],[83,5,84,5],[83,7,84,7],[83,9,84,9],[83,11,84,11],[83,13,84,13],[86,11,87,11],[86,13,87,13],[105,7,106,7],[105,9,106,9],[105,11,106,11],[105,13,106,13],[108,7,109,7],[108,9,109,9],[108,11,109,11],[108,13,109,13]]}
[null,null,"Heading Info."]
[null,null,"DRAW"]
[{"$nulls":5},"R O U N D  1",null,"R O U N D  2",null,"R O U N D  3",null,"R O U N D  4",null,"R O U N D  5"]
[null,null,"Team No.","Player","Skip","Rink","Versus","Rink","Versus","Rink","Versus","Rink","Versus","Rink","Versus"]
[null,null,1,"BOWLER Fred","",1,2,10,3,4,4,9,5,2,6]
[null,null,2,".","",1,1,9,4,6,6,10,8,5,10]
[null,null,3,".","",2,12,10,1,3,5,8,7,4,9]
[null,null,4,".","",3,11,9,2,4,1,12,6,1,8]
[null,null,5,".","",4,10,8,12,3,3,9,1,3,7]
[null,null,6,".","",5,9,11,11,6,2,12,4,2,1]
[null,null,7,".","",6,8,12,10,2,12,8,3,3,5]
[null,null,8,".","",6,7,13,9,5,11,10,2,1,4]
[null,null,9,".","",5,6,13,8,1,10,11,12,4,3]
[null,null,10,".","",4,5,12,7,1,9,13,11,5,2]
[null,null,11,".","",3,4,11,6,5,8,13,10,6,12]
[null,null,12,".","",2,3,8,5,2,7,11,9,6,11]
[null,null,13,".","",8,14,3,15,11,16,2,17,9,18]
[null,null,14,".","",8,13,2,16,13,18,3,20,12,22]
[null,null,15,".","",9,24,3,13,10,17,1,19,11,21]
[null,null,16,".","",10,23,2,14,11,13,5,18,8,20]
[null,null,17,".","",11,22,1,24,10,15,2,13,10,19]
[null,null,18,".","",12,21,4,23,13,14,5,16,9,13]
[null,null,19,".","",13,20,5,22,9,24,1,15,10,17]
[null,null,20,".","",13,19,6,21,12,23,3,14,8,16]
[null,null,21,".","",12,18,6,20,8,22,4,24,11,15]
[null,null,22,".","",11,17,5,19,8,21,6,23,12,14]
[null,null,23,".","",10,16,4,18,12,20,6,22,13,24]
[null,null,24,".","",9,15,1,17,9,19,4,21,13,23]
{"$rows_empty":21}
[null,null,"Heading Info."]
[null,null,"DRAW"]
[{"$nulls":5},"R O U N D  1",null,"R O U N D  2",null,"R O U N D  3",null,"R O U N D  4",null,"R O U N D  5"]
[{"$nulls":5},"Rink","Versus","Rink","Versus","Rink","Versus","Rink","Versus","Rink","Versus"]
[{"$nulls":5},1,2,1,24,1,10,1,19,1,8]
[{"$nulls":6},1,1,17,1,9,1,15,1,4]
[]
[{"$nulls":5},2,12,2,16,2,12,2,17,2,6]
[{"$nulls":5},2,3,2,14,2,7,2,13,2,1]
[]
[{"$nulls":5},3,11,3,15,3,5,3,20,3,7]
[{"$nulls":5},3,4,3,13,3,3,3,14,3,5]
[]
[{"$nulls":5},4,10,4,23,4,4,4,24,4,9]
[{"$nulls":5},4,5,4,18,4,1,4,21,4,3]
[]
[{"$nulls":5},5,9,5,22,5,11,5,18,5,10]
[{"$nulls":5},5,6,5,19,5,8,5,16,5,2]
[]
[{"$nulls":5},6,8,6,21,6,6,6,23,6,12]
[{"$nulls":5},6,7,6,20,6,2,6,22,6,11]
[]
[{"$nulls":5},8,14,8,12,8,22,8,7,8,20]
[{"$nulls":5},8,13,8,5,8,21,8,3,8,16]
[]
[{"$nulls":5},9,24,9,4,9,24,9,5,9,18]
[{"$nulls":5},9,15,9,2,9,19,9,1,9,13]
[]
[{"$nulls":5},10,23,10,3,10,17,10,8,10,19]
[{"$nulls":5},10,16,10,1,10,15,10,2,10,17]
[]
[{"$nulls":5},11,22,11,11,11,16,11,12,11,21]
[{"$nulls":5},11,17,11,6,11,13,11,9,11,15]
[]
[{"$nulls":5},12,21,12,10,12,23,12,6,12,22]
[{"$nulls":5},12,18,12,7,12,20,12,4,12,14]
[]
[{"$nulls":5},13,20,13,9,13,18,13,11,13,24]
[{"$nulls":5},13,19,13,8,13,14,13,10,13,23]

{"sheet":"22","index":25,"n_rows":85,"n_cols":15,"rows_kept":85,"merged":[[0,2,0,14],[1,2,1,14],[2,3,2,4],[2,5,2,6],[2,7,2,8],[2,9,2,10],[2,11,2,12],[2,13,2,14],[49,2,49,14],[50,2,50,14],[51,3,51,4],[51,5,51,6],[51,7,51,8],[51,9,51,10],[51,11,51,12],[51,13,51,14],[53,5,54,5],[53,7,54,7],[53,9,54,9],[53,11,54,11],[53,13,54,13],[56,5,57,5],[56,7,57,7],[56,9,57,9],[56,11,57,11],[56,13,57,13],[59,5,60,5],[59,7,60,7],[59,9,60,9],[59,11,60,11],[59,13,60,13],[62,5,63,5],[62,7,63,7],[62,9,63,9],[62,11,63,11],[62,13,63,13],[65,5,66,5],[65,7,66,7],[65,9,66,9],[65,11,66,11],[65,13,66,13],[68,5,69,5],[68,7,69,7],[68,9,69,9],[68,11,69,11],[68,13,69,13],[71,5,72,5],[71,7,72,7],[71,9,72,9],[71,11,72,11],[71,13,72,13],[74,5,75,5],[74,7,75,7],[74,9,75,9],[74,11,75,11],[74,13,75,13],[77,5,78,5],[77,7,78,7],[77,9,78,9],[77,11,78,11],[77,13,78,13],[80,5,81,5],[80,7,81,7],[80,9,81,9],[80,11,81,11],[80,13,81,13],[83,5,84,5],[83,7,84,7],[83,9,84,9],[83,11,84,11],[83,13,84,13],[102,7,103,7],[102,9,103,9],[102,11,103,11],[102,13,103,13],[105,7,106,7],[105,9,106,9],[105,11,106,11],[105,13,106,13]]}
[null,null,"Heading Info."]
[null,null,"DRAW"]
[{"$nulls":5},"R O U N D  1",null,"R O U N D  2",null,"R O U N D  3",null,"R O U N D  4",null,"R O U N D  5"]
[null,null,"Team No.","Player","Skip","Rink","Versus","Rink","Versus","Rink","Versus","Rink","Versus","Rink","Versus"]
[null,null,1,"BOWLER Fred","",1,2,10,3,4,4,9,5,2,6]
[null,null,2,".","",1,1,9,4,6,6,10,8,5,10]
[null,null,3,".","",2,12,10,1,3,5,8,7,4,9]
[null,null,4,".","",3,11,9,2,4,1,12,6,1,8]
[null,null,5,".","",4,10,8,12,3,3,9,1,3,7]
[null,null,6,".","",5,9,11,11,6,2,12,4,2,1]
[null,null,7,".","",6,8,12,10,2,12,8,3,3,5]
[null,null,8,".","",6,7,13,9,5,11,10,2,1,4]
[null,null,9,".","",5,6,13,8,1,10,11,12,4,3]
[null,null,10,".","",4,5,12,7,1,9,13,11,5,2]
[null,null,11,".","",3,4,11,6,5,8,13,10,6,12]
[null,null,12,".","",2,3,8,5,2,7,11,9,6,11]
[null,null,13,".","",13,14,2,15,9,16,6,17,12,22]
[null,null,14,".","",13,13,3,16,10,18,5,20,9,21]
[null,null,15,".","",9,22,2,13,13,17,4,19,11,18]
[null,null,16,".","",10,21,3,14,9,13,2,18,13,19]
[null,null,17,".","",11,20,4,22,13,15,6,13,10,20]
[null,null,18,".","",12,19,5,21,10,14,2,16,11,15]
[null,null,19,".","",12,18,6,20,11,22,4,15,13,16]
[null,null,20,".","",11,17,6,19,12,21,5,14,10,17]
[null,null,21,".","",10,16,5,18,12,20,3,22,9,14]
[null,null,22,".","",9,15,4,17,11,19,3,21,12,13]
{"$rows_empty":23}
[null,null,"Heading Info."]
[null,null,"DRAW"]
[{"$nulls":5},"R O U N D  1",null,"R O U N D  2",null,"R O U N D  3",null,"R O U N D  4",null,"R O U N D  5"]
[{"$nulls":5},"Rink","Versus","Rink","Versus","Rink","Versus","Rink","Versus","Rink","Versus"]
[{"$nulls":5},1,2,2,15,1,10,2,18,1,8]
[{"$nulls":6},1,2,13,1,9,2,16,1,4]
[]
[{"$nulls":5},2,12,3,16,2,12,3,22,2,6]
[{"$nulls":5},2,3,3,14,2,7,3,21,2,1]
[]
[{"$nulls":5},3,11,4,22,3,5,4,19,3,7]
[{"$nulls":5},3,4,4,17,3,3,4,15,3,5]
[]
[{"$nulls":5},4,10,5,21,4,4,5,20,4,9]
[{"$nulls":5},4,5,5,18,4,1,5,14,4,3]
[]
[{"$nulls":5},5,9,6,20,5,11,6,17,5,10]
[{"$nulls":5},5,6,6,19,5,8,6,13,5,2]
[]
[{"$nulls":5},6,8,8,12,6,6,8,7,6,12]
[{"$nulls":5},6,7,8,5,6,2,8,3,6,11]
[]
[{"$nulls":5},9,22,9,4,9,16,9,5,9,21]
[{"$nulls":5},9,15,9,2,9,13,9,1,9,14]
[]
[{"$nulls":5},10,21,10,3,10,18,10,8,10,20]
[{"$nulls":5},10,16,10,1,10,14,10,2,10,17]
[]
[{"$nulls":5},11,20,11,11,11,22,11,12,11,18]
[{"$nulls":5},11,17,11,6,11,19,11,9,11,15]
[]
[{"$nulls":5},12,19,12,10,12,21,12,6,12,22]
[{"$nulls":5},12,18,12,7,12,20,12,4,12,13]
[]
[{"$nulls":5},13,14,13,9,13,17,13,11,13,19]
[{"$nulls":5},13,13,13,8,13,15,13,10,13,16]

{"sheet":"20","index":26,"n_rows":82,"n_cols":15,"rows_kept":82,"merged":[[0,2,0,14],[1,2,1,14],[2,3,2,4],[2,5,2,6],[2,7,2,8],[2,9,2,10],[2,11,2,12],[2,13,2,14],[49,2,49,14],[50,2,50,14],[51,3,51,4],[51,5,51,6],[51,7,51,8],[51,9,51,10],[51,11,51,12],[51,13,51,14],[53,5,54,5],[53,7,54,7],[53,9,54,9],[53,11,54,11],[53,13,54,13],[56,5,57,5],[56,7,57,7],[56,9,57,9],[56,11,57,11],[56,13,57,13],[59,5,60,5],[59,7,60,7],[59,9,60,9],[59,11,60,11],[59,13,60,13],[62,5,63,5],[62,7,63,7],[62,9,63,9],[62,11,63,11],[62,13,63,13],[65,5,66,5],[65,7,66,7],[65,9,66,9],[65,11,66,11],[65,13,66,13],[68,5,69,5],[68,7,69,7],[68,9,69,9],[68,11,69,11],[68,13,69,13],[71,5,72,5],[71,7,72,7],[71,9,72,9],[71,11,72,11],[71,13,72,13],[74,5,75,5],[74,7,75,7],[74,9,75,9],[74,11,75,11],[74,13,75,13],[77,5,78,5],[77,7,78,7],[77,9,78,9],[77,11,78,11],[77,13,78,13],[80,5,81,5],[80,7,81,7],[80,9,81,9],[80,11,81,11],[80,13,81,13],[99,7,100,7],[99,9,100,9],[99,11,100,11],[99,13,100,13],[102,7,103,7],[102,9,103,9],[102,11,103,11],[102,13,103,13]]}
[null,null,"Heading Info."]
[null,null,"DRAW"]
[{"$nulls":5},"R O U N D  1",null,"R O U N D  2",null,"R O U N D  3",null,"R O U N D  4",null,"R O U N D  5"]
[null,null,"Team No.","Player","Skip","Rink","Versus","Rink","Versus","Rink","Versus","Rink","Versus","Rink","Versus"]
[null,null,1,"BOWLER Fred","",6,2,9,3,2,4,13,5,3,10]
[null,null,2,".","",6,1,10,4,3,6,12,8,2,9]
[null,null,3,".","",2,10,9,1,6,5,11,7,4,8]
[null,null,4,".","",3,9,10,2,2,1,9,6,6,7]
[null,null,5,".","",4,8,11,10,6,3,13,1,5,6]
[null,null,6,".","",5,7,12,9,3,2,9,4,5,5]
[null,null,7,".","",5,6,13,8,4,10,11,3,6,4]
[null,null,8,".","",4,5,13,7,5,9,12,2,4,3]
[null,null,9,".","",3,4,12,6,5,8,10,10,2,2]
[null,null,10,".","",2,3,11,5,4,7,10,9,3,1]
[null,null,11,".","",13,12,2,13,9,14,6,15,12,20]
[null,null,12,".","",13,11,3,14,10,16,5,18,9,19]
[null,null,13,".","",9,20,2,11,13,15,4,17,11,16]
[null,null,14,".","",10,19,3,12,9,11,2,16,13,17]
[null,null,15,".","",11,18,4,20,13,13,6,11,10,18]
[null,null,16,".","",12,17,5,19,10,12,2,14,11,13]
[null,null,17,".","",12,16,6,18,11,20,4,13,13,14]
[null,null,18,".","",11,15,6,17,12,19,5,12,10,15]
[null,null,19,".","",10,14,5,16,12,18,3,20,9,12]
[null,null,20,".","",9,13,4,15,11,17,3,19,12,11]
{"$rows_empty":25}
[null,null,"Heading Info."]
[null,null,"DRAW"]
[{"$nulls":5},"R O U N D  1",null,"R O U N D  2",null,"R O U N D  3",null,"R O U N D  4",null,"R O U N D  5"]
[{"$nulls":5},"Rink","Versus","Rink","Versus","Rink","Versus","Rink","Versus","Rink","Versus"]
[{"$nulls":5},2,10,2,13,2,4,2,16,2,9]
[{"$nulls":6},3,2,11,2,1,2,14,2,2]
[]
[{"$nulls":5},3,9,3,14,3,6,3,20,3,10]
[{"$nulls":5},3,4,3,12,3,2,3,19,3,1]
[]
[{"$nulls":5},4,8,4,20,4,10,4,17,4,8]
[{"$nulls":5},4,5,4,15,4,7,4,13,4,3]
[]
[{"$nulls":5},5,7,5,19,5,9,5,18,5,6]
[{"$nulls":5},5,6,5,16,5,8,5,12,5,5]
[]
[{"$nulls":5},6,2,6,18,6,5,6,15,6,7]
[{"$nulls":5},6,1,6,17,6,3,6,11,6,4]
[]
[{"$nulls":5},9,20,9,3,9,14,9,6,9,19]
[{"$nulls":5},9,13,9,1,9,11,9,4,9,12]
[]
[{"$nulls":5},10,19,10,4,10,16,10,10,10,18]
[{"$nulls":5},10,14,10,2,10,12,10,9,10,15]
[]
[{"$nulls":5},11,18,11,10,11,20,11,7,11,16]
[{"$nulls":5},11,15,11,5,11,17,11,3,11,13]
[]
[{"$nulls":5},12,17,12,9,12,19,12,8,12,20]
[{"$nulls":5},12,16,12,6,12,18,12,2,12,11]
[]
[{"$nulls":5},13,12,13,8,13,15,13,5,13,17]
[{"$nulls":5},13,11,13,7,13,13,13,1,13,14]

{"sheet":"14","index":27,"n_rows":73,"n_cols":15,"rows_kept":73,"merged":[[0,2,0,14],[1,2,1,14],[2,3,2,4],[2,5,2,6],[2,7,2,8],[2,9,2,10],[2,11,2,12],[2,13,2,14],[49,2,49,14],[50,2,50,14],[51,3,51,4],[51,5,51,6],[51,7,51,8],[51,9,51,10],[51,11,51,12],[51,13,51,14],[53,5,54,5],[53,7,54,7],[53,9,54,9],[53,11,54,11],[53,13,54,13],[56,5,57,5],[56,7,57,7],[56,9,57,9],[56,11,57,11],[56,13,57,13],[59,5,60,5],[59,7,60,7],[59,9,60,9],[59,11,60,11],[59,13,60,13],[62,5,63,5],[62,7,63,7],[62,9,63,9],[62,11,63,11],[62,13,63,13],[65,5,66,5],[65,7,66,7],[65,9,66,9],[65,11,66,11],[65,13,66,13],[68,5,69,5],[68,7,69,7],[68,9,69,9],[68,11,69,11],[68,13,69,13],[71,5,72,5],[71,7,72,7],[71,9,72,9],[71,11,72,11],[71,13,72,13],[74,5,75,5],[74,7,75,7],[74,9,75,9],[74,11,75,11],[74,13,75,13],[77,5,78,5],[77,7,78,7],[77,9,78,9],[77,11,78,11],[77,13,78,13],[80,5,81,5],[80,7,81,7],[80,9,81,9],[80,11,81,11],[80,13,81,13],[83,5,84,5],[83,7,84,7],[83,9,84,9],[83,11,84,11],[83,13,84,13],[86,5,87,5],[86,7,87,7],[86,9,87,9],[86,11,87,11],[86,13,87,13],[89,5,90,5],[89,7,90,7],[89,9,90,9],[89,11,90,11],[89,13,90,13],[92,5,93,5],[92,7,93,7],[92,9,93,9],[92,11,93,11],[92,13,93,13],[95,5,96,5],[95,7,96,7],[95,9,96,9],[95,11,96,11],[95,13,96,13],[98,5,99,5],[98,7,99,7],[98,9,99,9],[98,11,99,11],[98,13,99,13],[101,5,102,5],[101,7,102,7],[101,9,102,9],[101,11,102,11],[101,13,102,13],[104,5,105,5],[104,7,105,7],[104,9,105,9],[104,11,105,11],[104,13,105,13],[107,5,108,5],[107,7,108,7],[107,9,108,9],[107,11,108,11],[107,13,108,13],[110,5,111,5],[110,7,111,7],[110,9,111,9],[110,11,111,11],[110,13,111,13],[113,5,114,5],[113,7,114,7],[113,9,114,9],[113,11,114,11],[113,13,114,13]]}
[null,null,"Heading Info."]
[null,null,"DRAW"]
[{"$nulls":5},"R O U N D  1",null,"R O U N D  2",null,"R O U N D  3",null,"R O U N D  4",null,"R O U N D  5"]
[null,null,"Team No.","Player","Skip","Rink","Versus","Rink","Versus","Rink","Versus","Rink","Versus","Rink","Versus"]
[null,null,1,"BOWLER Fred","",6,3,5,12,3,5,7,2,1,11]
[null,null,2,".","",1,4,3,13,6,11,7,1,5,14]
[null,null,3,".","",6,1,1,9,2,14,5,13,4,10]
[null,null,4,".","",1,2,4,11,5,9,2,8,6,5]
[null,null,5,".","",2,12,7,14,3,1,4,6,6,4]
[null,null,6,".","",3,9,6,8,7,10,4,5,3,13]
[null,null,7,".","",4,14,2,10,1,8,6,9,2,12]
[null,null,8,".","",5,10,6,6,1,7,2,4,7,9]
[null,null,9,".","",3,6,1,3,5,4,6,7,7,8]
[null,null,10,".","",5,8,2,7,7,6,1,12,4,3]
[null,null,11,".","",7,13,4,4,6,2,3,14,1,1]
[null,null,12,".","",2,5,5,1,4,13,1,10,2,7]
[null,null,13,".","",7,11,3,2,4,12,5,3,3,6]
[null,null,14,".","",4,7,7,5,2,3,3,11,5,2]
{"$rows_empty":31}
[null,null,"Heading Info."]
[null,null,"DRAW"]
[{"$nulls":5},"R O U N D  1",null,"R O U N D  2",null,"R O U N D  3",null,"R O U N D  4",null,"R O U N D  5"]
[{"$nulls":5},"Rink","Versus","Rink","Versus","Rink","Versus","Rink","Versus","Rink","Versus"]
[{"$nulls":5},1,4,1,9,1,8,1,12,1,11]
[{"$nulls":6},2,1,3,1,7,1,10,1,1]
[]
[{"$nulls":5},2,12,2,10,2,14,2,8,2,12]
[{"$nulls":5},2,5,2,7,2,3,2,4,2,7]
[]
[{"$nulls":5},3,9,3,13,3,5,3,14,3,13]
[{"$nulls":5},3,6,3,2,3,1,3,11,3,6]
[]
[{"$nulls":5},4,14,4,11,4,13,4,6,4,10]
[{"$nulls":5},4,7,4,4,4,12,4,5,4,3]
[]
[{"$nulls":5},5,10,5,12,5,9,5,13,5,14]
[{"$nulls":5},5,8,5,1,5,4,5,3,5,2]
[]
[{"$nulls":5},6,3,6,8,6,11,6,9,6,5]
[{"$nulls":5},6,1,6,6,6,2,6,7,6,4]
[]
[{"$nulls":5},7,13,7,14,7,10,7,2,7,9]
[{"$nulls":5},7,11,7,5,7,6,7,1,7,8]