{"text_format":"3","workbook":"xlsx","n_sheets":43,"sheets":["Notes","Starters","Results","copy 1","12","14","16","18","20","22","24","26","28","30","32","34","36","38","40","42","44","46","48","50","52","54","56","58","60","62","64","66","68","70","72","74","76","78","80","82","84","DRAWS","Score Cards"],"not_rendered":{"images":26,"macros":1,"defined_names":1},"read":"whole","date_system":"1900"}

{"sheet":"Notes","index":0,"n_rows":37,"n_cols":21,"rows_kept":37,"merged":[[0,13,0,16],[0,17,0,20]]}
[{"$nulls":12},"Starters","GREEN 1",{"$nulls":3},"GREEN 2"]
[{"$nulls":12},14,"2xPairs","8","1XTriples","6"]
[{"$nulls":12},16,"4XPairs","16"]
[{"$nulls":12},18,"3XPairs","12","1XTriples","6"]
[{"$nulls":12},20,"5XPairs","20"]
[{"$nulls":12},22,"4XPairs","16","1XTriples","6"]
[{"$nulls":12},24,"6XPairs","24"]
[{"$nulls":12},26,"5XPairs","20","1XTriples","6"]
[{"$nulls":12},28,"7XPairs","28"]
[{"$nulls":12},30,"6XPairs","24","1XTriples","6"]
[{"$nulls":12},32,"4XPairs","16",null,null,"4XPairs","16"]
[{"$nulls":12},34,"3XPairs","12","1XTriples","6","4XPairs","16"]
[{"$nulls":12},36,"5XPairs","20",null,null,"4XPairs","16"]
[{"$nulls":12},38,"5XPairs","20",null,null,"3XPairs","12","1XTriples","6"]
[{"$nulls":12},40,"5XPairs","20",null,null,"5XPairs","20"]
[{"$nulls":12},42,"4XPairs","16","1XTriples","6","5XPairs","20"]
[{"$nulls":12},44,"6XPairs","24",null,null,"5XPairs","20"]
[{"$nulls":12},46,"6XPairs","24",null,null,"4XPairs","16","1XTriples","6"]
[{"$nulls":12},48,"6XPairs","24",null,null,"6XPairs","24"]
[{"$nulls":12},50,"5XPairs","20","1XTriples","6","6XPairs","24"]
[{"$nulls":12},52,"7XPairs","28",null,null,"6XPairs","24"]
[{"$nulls":12},54,"7XPairs","28",null,null,"5XPairs","20","1XTriples","6"]
[{"$nulls":12},56,"7XPairs","28",null,null,"7XPairs","28"]
[{"$nulls":12},58,"6XPairs","24","1XTriples","6","7XPairs","28"]
[{"$nulls":12},60,"6XPairs","24","1XTriples","6","6XPairs","24","1XTriples","6"]
[{"$nulls":12},62,"5XPairs","20","2XTriples","12","6XPairs","24","1XTriples","6"]
[{"$nulls":12},64,"5XPairs","20","2XTriples","12","5XPairs","20","2XTriples","12"]
[{"$nulls":12},66,"4XPairs","16","3XTriples","18","5XPairs","20","2XTriples","12"]
[{"$nulls":12},68,"4XPairs","16","3XTriples","18","4XPairs","16","3XTriples","18"]
[{"$nulls":12},70,"3XPairs","12","4XTriples","24","4XPairs","16","3XTriples","18"]
[{"$nulls":12},72,"3XPairs","12","4XTriples","24","3XPairs","12","4XTriples","24"]
[{"$nulls":12},74,"2xPairs","8","5XTriples","30","3XPairs","12","4XTriples","24"]
[{"$nulls":12},76,"2xPairs","8","5XTriples","30","2XPairs","8","5XTriples","30"]
[{"$nulls":12},78,"1xPairs","4","6XTriples","36","2XPairs","8","5XTriples","30"]
[{"$nulls":12},80,"1xPairs","4","6XTriples","36","1XPairs","4","6XTriples","36"]
[{"$nulls":12},82,null,null,"7XTriples","42","1XPairs","4","6XTriples","36"]
[{"$nulls":12},84,null,null,"7XTriples","42",null,null,"7XTriples","42"]

{"sheet":"Starters","index":1,"n_rows":19,"n_cols":3,"rows_kept":19,"merged":[[1,0,1,18],[13,2,13,18],[14,2,14,18],[16,2,16,18],[17,2,17,18]]}
[]
["PLEASE CLICK THE BUTTON BELOW REPRESENTING THE NUMBER OF ENTRIES"]
{"$rows_empty":11}
[null,null,"To print the score cards you will need 250gsm paper cut to 8.5cm X 13.5cm & this paper is available at Office Works."]
[null,null,"The placings will be decided as follows. Most wins then highest margin and finally least shots scored against. These"]
[null,null,"calculations will all be done automatically as the scores are entered on the result sheet. A draw = half a win"]
[null,null,"Pairs will be played as 3 bowl pairs. Triples will be played as 2 bowl triples."]
[null,null,"The rink numbers will be shown at the top of the draw which will appear after you select one of the boxes above."]
[null,null," If you wish to change them please do so before printing cards."]

{"sheet":"Results","index":2,"n_rows":90,"n_cols":78,"rows_kept":90,"hidden":true,"merged":[[0,1,0,77],[1,1,1,77],[2,0,2,1],[2,3,2,6],[2,11,2,14],[3,3,3,7],[3,11,3,15],[3,19,3,23],[3,27,3,31],[3,35,3,39],[3,43,3,47],[3,51,3,55],[3,59,3,63],[3,74,4,75],[4,68,4,70]]}
[null,"Tournament Name etc. Here."]
[null,"Other heading info"]
[{"$nulls":3},"win =",{"$nulls":3},{"v":1,"d":"1.0"},{"$nulls":3},"draw=",{"$nulls":3},0.5]
[{"$nulls":3},"ROUND 1",{"$nulls":7},"ROUND 2",{"$nulls":7},"ROUND 3",{"$nulls":7},"ROUND 4",{"$nulls":7},"ROUND 5",{"$nulls":7},"ROUND 6",{"$nulls":7},"ROUND 7",{"$nulls":7},"ROUND 8",{"$nulls":8},{"$f":"SUM(BQ7:BQ20)-SUM(BR7:BR20)","v":0},{"$f":"SUM(BR7:BR20)-SUM(BQ7:BQ20)","v":0},{"$f":"SUM(BS7:BS20)","v":0},{"$nulls":3},"TOTALS"]
[null,"CLICK to SORT TEAM No.",{"$nulls":3},{"$f":"SUM(F7:F26)-SUM(G7:G26)","v":0},{"$f":"SUM(G7:G26)-SUM(F7:F26)","v":0},{"$nulls":6},{"$f":"SUM(N7:N26)-SUM(O7:O26)","v":0},{"$f":"SUM(O7:O26)-SUM(N7:N26)","v":0},{"$nulls":6},{"$f":"SUM(V7:V26)-SUM(W7:W26)","v":0},{"$f":"SUM(W7:W26)-SUM(V7:V26)","v":0},{"$nulls":6},{"$f":"SUM(AD7:AD26)-SUM(AE7:AE26)","v":0},{"$f":"SUM(AE7:AE26)-SUM(AD7:AD26)","v":0},{"$nulls":6},{"$f":"SUM(AL7:AL26)-SUM(AM7:AM26)","v":0},{"$f":"SUM(AM7:AM26)-SUM(AL7:AL26)","v":0},{"$nulls":6},{"$f":"SUM(AT7:AT26)-SUM(AU7:AU26)","v":0},{"$f":"SUM(AU7:AU26)-SUM(AT7:AT26)","v":0},{"$nulls":6},{"$f":"SUM(BB7:BB26)-SUM(BC7:BC26)","v":0},{"$f":"SUM(BC7:BC26)-SUM(BB7:BB26)","v":0},{"$nulls":6},{"$f":"SUM(BJ7:BJ26)-SUM(BK7:BK26)","v":0},{"$f":"SUM(BK7:BK26)-SUM(BJ7:BJ26)","v":0},{"$nulls":5},"ROUND 9",{"$nulls":8},"CLICK to SORT RANKINGS"]
[null,"Team #","Name","V's","Rink","F","A","M'gin",{"$nulls":3},"V's","Rink","F","A","M'gin",{"$nulls":3},"V's","Rink","F","A","M'gin",{"$nulls":3},"V's","Rink","F","A","M'gin",{"$nulls":3},"V's","Rink","F","A","M'gin",{"$nulls":3},"V's","Rink","F","A","M'gin",{"$nulls":3},"V's","Rink","F","A","M'gin",{"$nulls":3},"V's","Rink","F","A","M'gin",{"$nulls":3},"shots against","F","A","M'gin",{"$nulls":3},"Wins","Margin",null,"Rank"]
[null,1,null,2,1,null,null,{"$f":"IF(K7=\"D\",\"D\",IF(K7=\"W\",I7,IF(K7=\"L\",I7,0)))","v":0},{"$f":"IF(F7+G7=0,0,IF(F7+G7>0.1,F7-G7,0))","v":0},{"$f":"IF(K7=\"W\",$H$3,IF(K7=\"D\",$P$3,0))","v":{"v":0,"d":"0.0"}},{"$f":"IF(F7>G7,\"W\",IF(F7<G7,\"L\",IF(F7+G7=0,\"\",IF(F7=G7,\"D\",0))))","v":""},3,13,null,null,{"$f":"IF(S7=\"D\",\"D\",IF(S7=\"W\",Q7,IF(S7=\"L\",Q7,0)))","v":0},{"$f":"IF(N7+O7=0,0,IF(N7+O7>0.1,N7-O7,0))","v":0},{"$f":"IF(S7=\"W\",$H$3,IF(S7=\"D\",$P$3,0))","v":{"v":0,"d":"0.0"}},{"$f":"IF(N7>O7,\"W\",IF(N7<O7,\"L\",IF(N7+O7=0,\"\",IF(N7=O7,\"D\",0))))","v":""},5,19,null,null,{"$f":"IF(AA7=\"D\",\"D\",IF(AA7=\"W\",Y7,IF(AA7=\"L\",Y7,0)))","v":0},{"$f":"IF(V7+W7=0,0,IF(V7+W7>0.1,V7-W7,0))","v":0},{"$f":"IF(AA7=\"W\",$H$3,IF(AA7=\"D\",$P$3,0))","v":{"v":0,"d":"0.0"}},{"$f":"IF(V7>W7,\"W\",IF(V7<W7,\"L\",IF(V7+W7=0,\"\",IF(V7=W7,\"D\",0))))","v":""},7,2,null,null,{"$f":"IF(AI7=\"D\",\"D\",IF(AI7=\"W\",AG7,IF(AI7=\"L\",AG7,0)))","v":0},{"$f":"IF(AD7+AE7=0,0,IF(AD7+AE7>0.1,AD7-AE7,0))","v":0},{"$f":"IF(AI7=\"W\",$H$3,IF(AI7=\"D\",$P$3,0))","v":{"v":0,"d":"0.0"}},{"$f":"IF(AD7>AE7,\"W\",IF(AD7<AE7,\"L\",IF(AD7+AE7=0,\"\",IF(AD7=AE7,\"D\",0))))","v":""},14,14,null,null,{"$f":"IF(AQ7=\"D\",\"D\",IF(AQ7=\"W\",AO7,IF(AQ7=\"L\",AO7,0)))","v":0},{"$f":"IF(AL7+AM7=0,0,IF(AL7+AM7>0.1,AL7-AM7,0))","v":0},{"$f":"IF(AQ7=\"W\",$H$3,IF(AQ7=\"D\",$P$3,0))","v":{"v":0,"d":"0.0"}},{"$f":"IF(AL7>AM7,\"W\",IF(AL7<AM7,\"L\",IF(AL7+AM7=0,\"\",IF(AL7=AM7,\"D\",0))))","v":""},12,17,null,null,{"$f":"IF(AY7=\"D\",\"D\",IF(AY7=\"W\",AW7,IF(AY7=\"L\",AW7,0)))","v":0},{"$f":"IF(AT7+AU7=0,0,IF(AT7+AU7>0.1,AT7-AU7,0))","v":0},{"$f":"IF(AY7=\"W\",$H$3,IF(AY7=\"D\",$P$3,0))","v":{"v":0,"d":"0.0"}},{"$f":"IF(AT7>AU7,\"W\",IF(AT7<AU7,\"L\",IF(AT7+AU7=0,\"\",IF(AT7=AU7,\"D\",0))))","v":""},13,5,null,null,{"$f":"IF(BG7=\"D\",\"D\",IF(BG7=\"W\",BE7,IF(BG7=\"L\",BE7,0)))","v":0},{"$f":"IF(BB7+BC7=0,0,IF(BB7+BC7>0.1,BB7-BC7,0))","v":0},{"$f":"IF(BG7=\"W\",$H$3,IF(BG7=\"D\",$P$3,0))","v":{"v":0,"d":"0.0"}},{"$f":"IF(BB7>BC7,\"W\",IF(BB7<BC7,\"L\",IF(BB7+BC7=0,\"\",IF(BB7=BC7,\"D\",0))))","v":""},8,8,null,null,{"$f":"IF(BO7=\"D\",\"D\",IF(BO7=\"W\",BM7,IF(BO7=\"L\",BM7,0)))","v":0},{"$f":"IF(BJ7+BK7=0,0,IF(BJ7+BK7>0.1,BJ7-BK7,0))","v":0},{"$f":"IF(BO7=\"W\",$H$3,IF(BO7=\"D\",$P$3,0))","v":{"v":0,"d":"0.0"}},{"$f":"IF(BJ7>BK7,\"W\",IF(BJ7<BK7,\"L\",IF(BJ7+BK7=0,\"\",IF(BJ7=BK7,\"D\",0))))","v":""},{"$f":"G7+O7+W7+AE7+AM7+AU7+BC7+BK7","v":0},null,null,{"$f":"IF(BV7=\"D\",\"D\",IF(BV7=\"W\",BT7,IF(BV7=\"L\",BT7,0)))","v":0},{"$f":"IF(BQ7+BR7=0,0,IF(BQ7+BR7>0.1,BQ7-BR7,0))","v":0},{"$f":"IF(BV7=\"W\",1,IF(BV7=\"D\",0.5,0))","v":{"v":0,"d":"0.0"}},{"$f":"IF(BQ7>BR7,\"W\",IF(BQ7<BR7,\"L\",IF(BQ7=0,\"\",IF(BQ7=BR7,\"D\",0))))","v":""},{"$f":"(J7+R7+Z7+AH7+AP7+AX7+BF7+BN7+BU7)","v":0},{"$f":"I7+Q7+Y7+AG7+AO7+AW7+BE7+BM7+BT7","v":0},{"$f":"(BW7*1000000)+(BX7*100)-BP7","v":0},{"$f":"IF($BY$7:$BY$90=0,\"\",RANK(BY7,$BY$7:$BY$90))","v":""}]
[null,2,null,1,1,null,null,0,0,{"v":0,"d":"0.0"},"",4,12,null,null,0,0,{"v":0,"d":"0.0"},"",8,16,null,null,0,0,{"v":0,"d":"0.0"},"",12,5,null,null,0,0,{"v":0,"d":"0.0"},"",13,8,null,null,0,0,{"v":0,"d":"0.0"},"",14,18,null,null,0,0,{"v":0,"d":"0.0"},"",9,2,null,null,0,0,{"v":0,"d":"0.0"},"",5,9,null,null,0,0,{"v":0,"d":"0.0"},"",0,null,null,0,0,{"v":0,"d":"0.0"},"",0,0,0,""]
[null,3,null,14,2,null,null,0,0,{"v":0,"d":"0.0"},"",1,13,null,null,0,0,{"v":0,"d":"0.0"},"",7,15,null,null,0,0,{"v":0,"d":"0.0"},"",11,4,null,null,0,0,{"v":0,"d":"0.0"},"",12,10,null,null,0,0,{"v":0,"d":"0.0"},"",13,16,null,null,0,0,{"v":0,"d":"0.0"},"",10,1,null,null,0,0,{"v":0,"d":"0.0"},"",4,11,null,null,0,0,{"v":0,"d":"0.0"},"",0,null,null,0,0,{"v":0,"d":"0.0"},"",0,0,0,""]
[null,4,null,13,3,null,null,0,0,{"v":0,"d":"0.0"},"",2,12,null,null,0,0,{"v":0,"d":"0.0"},"",6,18,null,null,0,0,{"v":0,"d":"0.0"},"",10,7,null,null,0,0,{"v":0,"d":"0.0"},"",11,9,null,null,0,0,{"v":0,"d":"0.0"},"",8,20,null,null,0,0,{"v":0,"d":"0.0"},"",12,7,null,null,0,0,{"v":0,"d":"0.0"},"",3,11,null,null,0,0,{"v":0,"d":"0.0"},"",0,null,null,0,0,{"v":0,"d":"0.0"},"",0,0,0,""]
[null,5,null,12,4,null,null,0,0,{"v":0,"d":"0.0"},"",14,8,null,null,0,0,{"v":0,"d":"0.0"},"",1,19,null,null,0,0,{"v":0,"d":"0.0"},"",9,3,null,null,0,0,{"v":0,"d":"0.0"},"",10,12,null,null,0,0,{"v":0,"d":"0.0"},"",11,15,null,null,0,0,{"v":0,"d":"0.0"},"",8,6,null,null,0,0,{"v":0,"d":"0.0"},"",2,9,null,null,0,0,{"v":0,"d":"0.0"},"",0,null,null,0,0,{"v":0,"d":"0.0"},"",0,0,0,""]
[null,6,null,11,5,null,null,0,0,{"v":0,"d":"0.0"},"",13,14,null,null,0,0,{"v":0,"d":"0.0"},"",4,18,null,null,0,0,{"v":0,"d":"0.0"},"",8,1,null,null,0,0,{"v":0,"d":"0.0"},"",9,13,null,null,0,0,{"v":0,"d":"0.0"},"",10,19,null,null,0,0,{"v":0,"d":"0.0"},"",7,4,null,null,0,0,{"v":0,"d":"0.0"},"",14,14,null,null,0,0,{"v":0,"d":"0.0"},"",0,null,null,0,0,{"v":0,"d":"0.0"},"",0,0,0,""]
[null,7,null,10,6,null,null,0,0,{"v":0,"d":"0.0"},"",12,9,null,null,0,0,{"v":0,"d":"0.0"},"",3,15,null,null,0,0,{"v":0,"d":"0.0"},"",1,2,null,null,0,0,{"v":0,"d":"0.0"},"",8,11,null,null,0,0,{"v":0,"d":"0.0"},"",9,21,null,null,0,0,{"v":0,"d":"0.0"},"",6,4,null,null,0,0,{"v":0,"d":"0.0"},"",13,10,null,null,0,0,{"v":0,"d":"0.0"},"",0,null,null,0,0,{"v":0,"d":"0.0"},"",0,0,0,""]
[null,8,null,9,7,null,null,0,0,{"v":0,"d":"0.0"},"",11,10,null,null,0,0,{"v":0,"d":"0.0"},"",2,16,null,null,0,0,{"v":0,"d":"0.0"},"",6,1,null,null,0,0,{"v":0,"d":"0.0"},"",7,11,null,null,0,0,{"v":0,"d":"0.0"},"",4,20,null,null,0,0,{"v":0,"d":"0.0"},"",5,6,null,null,0,0,{"v":0,"d":"0.0"},"",1,8,null,null,0,0,{"v":0,"d":"0.0"},"",0,null,null,0,0,{"v":0,"d":"0.0"},"",0,0,0,""]
[null,9,null,8,7,null,null,0,0,{"v":0,"d":"0.0"},"",10,11,null,null,0,0,{"v":0,"d":"0.0"},"",14,17,null,null,0,0,{"v":0,"d":"0.0"},"",5,3,null,null,0,0,{"v":0,"d":"0.0"},"",6,13,null,null,0,0,{"v":0,"d":"0.0"},"",7,21,null,null,0,0,{"v":0,"d":"0.0"},"",2,2,null,null,0,0,{"v":0,"d":"0.0"},"",11,12,null,null,0,0,{"v":0,"d":"0.0"},"",0,null,null,0,0,{"v":0,"d":"0.0"},"",0,0,0,""]
[null,10,null,7,6,null,null,0,0,{"v":0,"d":"0.0"},"",9,11,null,null,0,0,{"v":0,"d":"0.0"},"",13,20,null,null,0,0,{"v":0,"d":"0.0"},"",4,7,null,null,0,0,{"v":0,"d":"0.0"},"",5,12,null,null,0,0,{"v":0,"d":"0.0"},"",6,19,null,null,0,0,{"v":0,"d":"0.0"},"",3,1,null,null,0,0,{"v":0,"d":"0.0"},"",12,13,null,null,0,0,{"v":0,"d":"0.0"},"",0,null,null,0,0,{"v":0,"d":"0.0"},"",0,0,0,""]
[null,11,null,6,5,null,null,0,0,{"v":0,"d":"0.0"},"",8,10,null,null,0,0,{"v":0,"d":"0.0"},"",12,21,null,null,0,0,{"v":0,"d":"0.0"},"",3,4,null,null,0,0,{"v":0,"d":"0.0"},"",4,9,null,null,0,0,{"v":0,"d":"0.0"},"",5,15,null,null,0,0,{"v":0,"d":"0.0"},"",14,3,null,null,0,0,{"v":0,"d":"0.0"},"",9,12,null,null,0,0,{"v":0,"d":"0.0"},"",0,null,null,0,0,{"v":0,"d":"0.0"},"",0,0,0,""]
[null,12,null,5,4,null,null,0,0,{"v":0,"d":"0.0"},"",7,9,null,null,0,0,{"v":0,"d":"0.0"},"",11,21,null,null,0,0,{"v":0,"d":"0.0"},"",2,5,null,null,0,0,{"v":0,"d":"0.0"},"",3,10,null,null,0,0,{"v":0,"d":"0.0"},"",1,17,null,null,0,0,{"v":0,"d":"0.0"},"",4,7,null,null,0,0,{"v":0,"d":"0.0"},"",10,13,null,null,0,0,{"v":0,"d":"0.0"},"",0,null,null,0,0,{"v":0,"d":"0.0"},"",0,0,0,""]
[null,13,null,4,3,null,null,0,0,{"v":0,"d":"0.0"},"",6,14,null,null,0,0,{"v":0,"d":"0.0"},"",10,20,null,null,0,0,{"v":0,"d":"0.0"},"",14,6,null,null,0,0,{"v":0,"d":"0.0"},"",2,8,null,null,0,0,{"v":0,"d":"0.0"},"",3,16,null,null,0,0,{"v":0,"d":"0.0"},"",1,5,null,null,0,0,{"v":0,"d":"0.0"},"",7,10,null,null,0,0,{"v":0,"d":"0.0"},"",0,null,null,0,0,{"v":0,"d":"0.0"},"",0,0,0,""]
[null,14,null,3,2,null,null,0,0,{"v":0,"d":"0.0"},"",5,8,null,null,0,0,{"v":0,"d":"0.0"},"",9,17,null,null,0,0,{"v":0,"d":"0.0"},"",13,6,null,null,0,0,{"v":0,"d":"0.0"},"",1,14,null,null,0,0,{"v":0,"d":"0.0"},"",2,18,null,null,0,0,{"v":0,"d":"0.0"},"",11,3,null,null,0,0,{"v":0,"d":"0.0"},"",6,14,null,null,0,0,{"v":0,"d":"0.0"},"",0,null,null,0,0,{"v":0,"d":"0.0"},"",0,0,0,""]
[null,15,null,16,8,null,null,0,0,{"v":0,"d":"0.0"},"",17,20,null,null,0,0,{"v":0,"d":"0.0"},"",19,5,null,null,0,0,{"v":0,"d":"0.0"},"",21,9,null,null,0,0,{"v":0,"d":"0.0"},"",28,21,null,null,0,0,{"v":0,"d":"0.0"},"",26,3,null,null,0,0,{"v":0,"d":"0.0"},"",27,12,null,null,0,0,{"v":0,"d":"0.0"},"",22,15,null,null,0,0,{"v":0,"d":"0.0"},"",0,null,null,0,0,{"v":0,"d":"0.0"},"",0,0,0,""]
[null,16,null,15,8,null,null,0,0,{"v":0,"d":"0.0"},"",18,19,null,null,0,0,{"v":0,"d":"0.0"},"",22,2,null,null,0,0,{"v":0,"d":"0.0"},"",26,12,null,null,0,0,{"v":0,"d":"0.0"},"",27,15,null,null,0,0,{"v":0,"d":"0.0"},"",28,4,null,null,0,0,{"v":0,"d":"0.0"},"",23,9,null,null,0,0,{"v":0,"d":"0.0"},"",19,16,null,null,0,0,{"v":0,"d":"0.0"},"",0,null,null,0,0,{"v":0,"d":"0.0"},"",0,0,0,""]
[null,17,null,28,9,null,null,0,0,{"v":0,"d":"0.0"},"",15,20,null,null,0,0,{"v":0,"d":"0.0"},"",21,1,null,null,0,0,{"v":0,"d":"0.0"},"",25,11,null,null,0,0,{"v":0,"d":"0.0"},"",26,17,null,null,0,0,{"v":0,"d":"0.0"},"",27,2,null,null,0,0,{"v":0,"d":"0.0"},"",24,8,null,null,0,0,{"v":0,"d":"0.0"},"",18,18,null,null,0,0,{"v":0,"d":"0.0"},"",0,null,null,0,0,{"v":0,"d":"0.0"},"",0,0,0,""]
[null,18,null,27,10,null,null,0,0,{"v":0,"d":"0.0"},"",16,19,null,null,0,0,{"v":0,"d":"0.0"},"",20,4,null,null,0,0,{"v":0,"d":"0.0"},"",24,14,null,null,0,0,{"v":0,"d":"0.0"},"",25,16,null,null,0,0,{"v":0,"d":"0.0"},"",22,6,null,null,0,0,{"v":0,"d":"0.0"},"",26,14,null,null,0,0,{"v":0,"d":"0.0"},"",17,18,null,null,0,0,{"v":0,"d":"0.0"},"",0,null,null,0,0,{"v":0,"d":"0.0"},"",0,0,0,""]
[null,19,null,26,11,null,null,0,0,{"v":0,"d":"0.0"},"",28,15,null,null,0,0,{"v":0,"d":"0.0"},"",15,5,null,null,0,0,{"v":0,"d":"0.0"},"",23,10,null,null,0,0,{"v":0,"d":"0.0"},"",24,19,null,null,0,0,{"v":0,"d":"0.0"},"",25,1,null,null,0,0,{"v":0,"d":"0.0"},"",22,13,null,null,0,0,{"v":0,"d":"0.0"},"",16,16,null,null,0,0,{"v":0,"d":"0.0"},"",0,null,null,0,0,{"v":0,"d":"0.0"},"",0,0,0,""]
[null,20,null,25,12,null,null,0,0,{"v":0,"d":"0.0"},"",27,21,null,null,0,0,{"v":0,"d":"0.0"},"",18,4,null,null,0,0,{"v":0,"d":"0.0"},"",22,8,null,null,0,0,{"v":0,"d":"0.0"},"",23,20,null,null,0,0,{"v":0,"d":"0.0"},"",24,5,null,null,0,0,{"v":0,"d":"0.0"},"",21,11,null,null,0,0,{"v":0,"d":"0.0"},"",28,21,null,null,0,0,{"v":0,"d":"0.0"},"",0,null,null,0,0,{"v":0,"d":"0.0"},"",0,0,0,""]
[null,21,null,25,12,null,null,0,0,{"v":0,"d":"0.0"},"",27,21,null,null,0,0,{"v":0,"d":"0.0"},"",18,4,null,null,0,0,{"v":0,"d":"0.0"},"",22,8,null,null,0,0,{"v":0,"d":"0.0"},"",23,20,null,null,0,0,{"v":0,"d":"0.0"},"",24,5,null,null,0,0,{"v":0,"d":"0.0"},"",21,11,null,null,0,0,{"v":0,"d":"0.0"},"",28,21,null,null,0,0,{"v":0,"d":"0.0"},"",0,null,null,0,0,{"v":0,"d":"0.0"},"",0,0,0,""]
[null,22,null,25,12,null,null,0,0,{"v":0,"d":"0.0"},"",27,21,null,null,0,0,{"v":0,"d":"0.0"},"",18,4,null,null,0,0,{"v":0,"d":"0.0"},"",22,8,null,null,0,0,{"v":0,"d":"0.0"},"",23,20,null,null,0,0,{"v":0,"d":"0.0"},"",24,5,null,null,0,0,{"v":0,"d":"0.0"},"",21,11,null,null,0,0,{"v":0,"d":"0.0"},"",28,21,null,null,0,0,{"v":0,"d":"0.0"},"",0,null,null,0,0,{"v":0,"d":"0.0"},"",0,0,0,""]
[null,23,null,25,12,null,null,0,0,{"v":0,"d":"0.0"},"",27,21,null,null,0,0,{"v":0,"d":"0.0"},"",18,4,null,null,0,0,{"v":0,"d":"0.0"},"",22,8,null,null,0,0,{"v":0,"d":"0.0"},"",23,20,null,null,0,0,{"v":0,"d":"0.0"},"",24,5,null,null,0,0,{"v":0,"d":"0.0"},"",21,11,null,null,0,0,{"v":0,"d":"0.0"},"",28,21,null,null,0,0,{"v":0,"d":"0.0"},"",0,null,null,0,0,{"v":0,"d":"0.0"},"",0,0,0,""]
[null,24,null,25,12,null,null,0,0,{"v":0,"d":"0.0"},"",27,21,null,null,0,0,{"v":0,"d":"0.0"},"",18,4,null,null,0,0,{"v":0,"d":"0.0"},"",22,8,null,null,0,0,{"v":0,"d":"0.0"},"",23,20,null,null,0,0,{"v":0,"d":"0.0"},"",24,5,null,null,0,0,{"v":0,"d":"0.0"},"",21,11,null,null,0,0,{"v":0,"d":"0.0"},"",28,21,null,null,0,0,{"v":0,"d":"0.0"},"",0,null,null,0,0,{"v":0,"d":"0.0"},"",0,0,0,""]
[null,25,null,25,12,null,null,0,0,{"v":0,"d":"0.0"},"",27,21,null,null,0,0,{"v":0,"d":"0.0"},"",18,4,null,null,0,0,{"v":0,"d":"0.0"},"",22,8,null,null,0,0,{"v":0,"d":"0.0"},"",23,20,null,null,0,0,{"v":0,"d":"0.0"},"",24,5,null,null,0,0,{"v":0,"d":"0.0"},"",21,11,null,null,0,0,{"v":0,"d":"0.0"},"",28,21,null,null,0,0,{"v":0,"d":"0.0"},"",0,null,null,0,0,{"v":0,"d":"0.0"},"",0,0,0,""]
[null,26,null,25,12,null,null,0,0,{"v":0,"d":"0.0"},"",27,21,null,null,0,0,{"v":0,"d":"0.0"},"",18,4,null,null,0,0,{"v":0,"d":"0.0"},"",22,8,null,null,0,0,{"v":0,"d":"0.0"},"",23,20,null,null,0,0,{"v":0,"d":"0.0"},"",24,5,null,null,0,0,{"v":0,"d":"0.0"},"",21,11,null,null,0,0,{"v":0,"d":"0.0"},"",28,21,null,null,0,0,{"v":0,"d":"0.0"},"",0,null,null,0,0,{"v":0,"d":"0.0"},"",0,0,0,""]
[null,27,null,25,12,null,null,0,0,{"v":0,"d":"0.0"},"",27,21,null,null,0,0,{"v":0,"d":"0.0"},"",18,4,null,null,0,0,{"v":0,"d":"0.0"},"",22,8,null,null,0,0,{"v":0,"d":"0.0"},"",23,20,null,null,0,0,{"v":0,"d":"0.0"},"",24,5,null,null,0,0,{"v":0,"d":"0.0"},"",21,11,null,null,0,0,{"v":0,"d":"0.0"},"",28,21,null,null,0,0,{"v":0,"d":"0.0"},"",0,null,null,0,0,{"v":0,"d":"0.0"},"",0,0,0,""]
[null,28,null,25,12,null,null,0,0,{"v":0,"d":"0.0"},"",27,21,null,null,0,0,{"v":0,"d":"0.0"},"",18,4,null,null,0,0,{"v":0,"d":"0.0"},"",22,8,null,null,0,0,{"v":0,"d":"0.0"},"",23,20,null,null,0,0,{"v":0,"d":"0.0"},"",24,5,null,null,0,0,{"v":0,"d":"0.0"},"",21,11,null,null,0,0,{"v":0,"d":"0.0"},"",28,21,null,null,0,0,{"v":0,"d":"0.0"},"",0,null,null,0,0,{"v":0,"d":"0.0"},"",0,0,0,""]
[null,29,null,25,12,null,null,0,0,{"v":0,"d":"0.0"},"",27,21,null,null,0,0,{"v":0,"d":"0.0"},"",18,4,null,null,0,0,{"v":0,"d":"0.0"},"",22,8,null,null,0,0,{"v":0,"d":"0.0"},"",23,20,null,null,0,0,{"v":0,"d":"0.0"},"",24,5,null,null,0,0,{"v":0,"d":"0.0"},"",21,11,null,null,0,0,{"v":0,"d":"0.0"},"",28,21,null,null,0,0,{"v":0,"d":"0.0"},"",0,null,null,0,0,{"v":0,"d":"0.0"},"",0,0,0,""]
[null,30,null,25,12,null,null,0,0,{"v":0,"d":"0.0"},"",27,21,null,null,0,0,{"v":0,"d":"0.0"},"",18,4,null,null,0,0,{"v":0,"d":"0.0"},"",22,8,null,null,0,0,{"v":0,"d":"0.0"},"",23,20,null,null,0,0,{"v":0,"d":"0.0"},"",24,5,null,null,0,0,{"v":0,"d":"0.0"},"",21,11,null,null,0,0,{"v":0,"d":"0.0"},"",28,21,null,null,0,0,{"v":0,"d":"0.0"},"",0,null,null,0,0,{"v":0,"d":"0.0"},"",0,0,0,""]
[null,31,null,25,12,null,null,0,0,{"v":0,"d":"0.0"},"",27,21,null,null,0,0,{"v":0,"d":"0.0"},"",18,4,null,null,0,0,{"v":0,"d":"0.0"},"",22,8,null,null,0,0,{"v":0,"d":"0.0"},"",23,20,null,null,0,0,{"v":0,"d":"0.0"},"",24,5,null,null,0,0,{"v":0,"d":"0.0"},"",21,11,null,null,0,0,{"v":0,"d":"0.0"},"",28,21,null,null,0,0,{"v":0,"d":"0.0"},"",0,null,null,0,0,{"v":0,"d":"0.0"},"",0,0,0,""]
[null,32,null,25,12,null,null,0,0,{"v":0,"d":"0.0"},"",27,21,null,null,0,0,{"v":0,"d":"0.0"},"",18,4,null,null,0,0,{"v":0,"d":"0.0"},"",22,8,null,null,0,0,{"v":0,"d":"0.0"},"",23,20,null,null,0,0,{"v":0,"d":"0.0"},"",24,5,null,null,0,0,{"v":0,"d":"0.0"},"",21,11,null,null,0,0,{"v":0,"d":"0.0"},"",28,21,null,null,0,0,{"v":0,"d":"0.0"},"",0,null,null,0,0,{"v":0,"d":"0.0"},"",0,0,0,""]
[null,33,null,25,12,null,null,{"$f":"IF(K39=\"D\",\"D\",IF(K39=\"W\",I39,IF(K39=\"L\",I39,0)))","v":0},{"$f":"IF(F39+G39=0,0,IF(F39+G39>0.1,F39-G39,0))","v":0},{"$f":"IF(K39=\"W\",$H$3,IF(K39=\"D\",$P$3,0))","v":{"v":0,"d":"0.0"}},{"$f":"IF(F39>G39,\"W\",IF(F39<G39,\"L\",IF(F39+G39=0,\"\",IF(F39=G39,\"D\",0))))","v":""},27,21,null,null,{"$f":"IF(S39=\"D\",\"D\",IF(S39=\"W\",Q39,IF(S39=\"L\",Q39,0)))","v":0},{"$f":"IF(N39+O39=0,0,IF(N39+O39>0.1,N39-O39,0))","v":0},{"$f":"IF(S39=\"W\",$H$3,IF(S39=\"D\",$P$3,0))","v":{"v":0,"d":"0.0"}},{"$f":"IF(N39>O39,\"W\",IF(N39<O39,\"L\",IF(N39+O39=0,\"\",IF(N39=O39,\"D\",0))))","v":""},18,4,null,null,{"$f":"IF(AA39=\"D\",\"D\",IF(AA39=\"W\",Y39,IF(AA39=\"L\",Y39,0)))","v":0},{"$f":"IF(V39+W39=0,0,IF(V39+W39>0.1,V39-W39,0))","v":0},{"$f":"IF(AA39=\"W\",$H$3,IF(AA39=\"D\",$P$3,0))","v":{"v":0,"d":"0.0"}},{"$f":"IF(V39>W39,\"W\",IF(V39<W39,\"L\",IF(V39+W39=0,\"\",IF(V39=W39,\"D\",0))))","v":""},22,8,null,null,{"$f":"IF(AI39=\"D\",\"D\",IF(AI39=\"W\",AG39,IF(AI39=\"L\",AG39,0)))","v":0},{"$f":"IF(AD39+AE39=0,0,IF(AD39+AE39>0.1,AD39-AE39,0))","v":0},{"$f":"IF(AI39=\"W\",$H$3,IF(AI39=\"D\",$P$3,0))","v":{"v":0,"d":"0.0"}},{"$f":"IF(AD39>AE39,\"W\",IF(AD39<AE39,\"L\",IF(AD39+AE39=0,\"\",IF(AD39=AE39,\"D\",0))))","v":""},23,20,null,null,{"$f":"IF(AQ39=\"D\",\"D\",IF(AQ39=\"W\",AO39,IF(AQ39=\"L\",AO39,0)))","v":0},{"$f":"IF(AL39+AM39=0,0,IF(AL39+AM39>0.1,AL39-AM39,0))","v":0},{"$f":"IF(AQ39=\"W\",$H$3,IF(AQ39=\"D\",$P$3,0))","v":{"v":0,"d":"0.0"}},{"$f":"IF(AL39>AM39,\"W\",IF(AL39<AM39,\"L\",IF(AL39+AM39=0,\"\",IF(AL39=AM39,\"D\",0))))","v":""},24,5,null,null,{"$f":"IF(AY39=\"D\",\"D\",IF(AY39=\"W\",AW39,IF(AY39=\"L\",AW39,0)))","v":0},{"$f":"IF(AT39+AU39=0,0,IF(AT39+AU39>0.1,AT39-AU39,0))","v":0},{"$f":"IF(AY39=\"W\",$H$3,IF(AY39=\"D\",$P$3,0))","v":{"v":0,"d":"0.0"}},{"$f":"IF(AT39>AU39,\"W\",IF(AT39<AU39,\"L\",IF(AT39+AU39=0,\"\",IF(AT39=AU39,\"D\",0))))","v":""},21,11,null,null,{"$f":"IF(BG39=\"D\",\"D\",IF(BG39=\"W\",BE39,IF(BG39=\"L\",BE39,0)))","v":0},{"$f":"IF(BB39+BC39=0,0,IF(BB39+BC39>0.1,BB39-BC39,0))","v":0},{"$f":"IF(BG39=\"W\",$H$3,IF(BG39=\"D\",$P$3,0))","v":{"v":0,"d":"0.0"}},{"$f":"IF(BB39>BC39,\"W\",IF(BB39<BC39,\"L\",IF(BB39+BC39=0,\"\",IF(BB39=BC39,\"D\",0))))","v":""},28,21,null,null,{"$f":"IF(BO39=\"D\",\"D\",IF(BO39=\"W\",BM39,IF(BO39=\"L\",BM39,0)))","v":0},{"$f":"IF(BJ39+BK39=0,0,IF(BJ39+BK39>0.1,BJ39-BK39,0))","v":0},{"$f":"IF(BO39=\"W\",$H$3,IF(BO39=\"D\",$P$3,0))","v":{"v":0,"d":"0.0"}},{"$f":"IF(BJ39>BK39,\"W\",IF(BJ39<BK39,\"L\",IF(BJ39+BK39=0,\"\",IF(BJ39=BK39,\"D\",0))))","v":""},{"$f":"G39+O39+W39+AE39+AM39+AU39+BC39+BK39","v":0},null,null,{"$f":"IF(BV39=\"D\",\"D\",IF(BV39=\"W\",BT39,IF(BV39=\"L\",BT39,0)))","v":0},{"$f":"IF(BQ39+BR39=0,0,IF(BQ39+BR39>0.1,BQ39-BR39,0))","v":0},{"$f":"IF(BV39=\"W\",1,IF(BV39=\"D\",0.5,0))","v":{"v":0,"d":"0.0"}},{"$f":"IF(BQ39>BR39,\"W\",IF(BQ39<BR39,\"L\",IF(BQ39=0,\"\",IF(BQ39=BR39,\"D\",0))))","v":""},{"$f":"(J39+R39+Z39+AH39+AP39+AX39+BF39+BN39+BU39)","v":0},{"$f":"I39+Q39+Y39+AG39+AO39+AW39+BE39+BM39+BT39","v":0},{"$f":"(BW39*1000000)+(BX39*100)-BP39","v":0},{"$f":"IF($BY$7:$BY$90=0,\"\",RANK(BY39,$BY$7:$BY$90))","v":""}]
[null,34,null,25,12,null,null,0,0,{"v":0,"d":"0.0"},"",27,21,null,null,0,0,{"v":0,"d":"0.0"},"",18,4,null,null,0,0,{"v":0,"d":"0.0"},"",22,8,null,null,0,0,{"v":0,"d":"0.0"},"",23,20,null,null,0,0,{"v":0,"d":"0.0"},"",24,5,null,null,0,0,{"v":0,"d":"0.0"},"",21,11,null,null,0,0,{"v":0,"d":"0.0"},"",28,21,null,null,0,0,{"v":0,"d":"0.0"},"",0,null,null,0,0,{"v":0,"d":"0.0"},"",0,0,0,""]
[null,35,null,25,12,null,null,0,0,{"v":0,"d":"0.0"},"",27,21,null,null,0,0,{"v":0,"d":"0.0"},"",18,4,null,null,0,0,{"v":0,"d":"0.0"},"",22,8,null,null,0,0,{"v":0,"d":"0.0"},"",23,20,null,null,0,0,{"v":0,"d":"0.0"},"",24,5,null,null,0,0,{"v":0,"d":"0.0"},"",21,11,null,null,0,0,{"v":0,"d":"0.0"},"",28,21,null,null,0,0,{"v":0,"d":"0.0"},"",0,null,null,0,0,{"v":0,"d":"0.0"},"",0,0,0,""]
[null,36,null,25,12,null,null,0,0,{"v":0,"d":"0.0"},"",27,21,null,null,0,0,{"v":0,"d":"0.0"},"",18,4,null,null,0,0,{"v":0,"d":"0.0"},"",22,8,null,null,0,0,{"v":0,"d":"0.0"},"",23,20,null,null,0,0,{"v":0,"d":"0.0"},"",24,5,null,null,0,0,{"v":0,"d":"0.0"},"",21,11,null,null,0,0,{"v":0,"d":"0.0"},"",28,21,null,null,0,0,{"v":0,"d":"0.0"},"",0,null,null,0,0,{"v":0,"d":"0.0"},"",0,0,0,""]
[null,37,null,25,12,null,null,0,0,{"v":0,"d":"0.0"},"",27,21,null,null,0,0,{"v":0,"d":"0.0"},"",18,4,null,null,0,0,{"v":0,"d":"0.0"},"",22,8,null,null,0,0,{"v":0,"d":"0.0"},"",23,20,null,null,0,0,{"v":0,"d":"0.0"},"",24,5,null,null,0,0,{"v":0,"d":"0.0"},"",21,11,null,null,0,0,{"v":0,"d":"0.0"},"",28,21,null,null,0,0,{"v":0,"d":"0.0"},"",0,null,null,0,0,{"v":0,"d":"0.0"},"",0,0,0,""]
[null,38,null,25,12,null,null,0,0,{"v":0,"d":"0.0"},"",27,21,null,null,0,0,{"v":0,"d":"0.0"},"",18,4,null,null,0,0,{"v":0,"d":"0.0"},"",22,8,null,null,0,0,{"v":0,"d":"0.0"},"",23,20,null,null,0,0,{"v":0,"d":"0.0"},"",24,5,null,null,0,0,{"v":0,"d":"0.0"},"",21,11,null,null,0,0,{"v":0,"d":"0.0"},"",28,21,null,null,0,0,{"v":0,"d":"0.0"},"",0,null,null,0,0,{"v":0,"d":"0.0"},"",0,0,0,""]
[null,39,null,25,12,null,null,0,0,{"v":0,"d":"0.0"},"",27,21,null,null,0,0,{"v":0,"d":"0.0"},"",18,4,null,null,0,0,{"v":0,"d":"0.0"},"",22,8,null,null,0,0,{"v":0,"d":"0.0"},"",23,20,null,null,0,0,{"v":0,"d":"0.0"},"",24,5,null,null,0,0,{"v":0,"d":"0.0"},"",21,11,null,null,0,0,{"v":0,"d":"0.0"},"",28,21,null,null,0,0,{"v":0,"d":"0.0"},"",0,null,null,0,0,{"v":0,"d":"0.0"},"",0,0,0,""]
[null,40,null,25,12,null,null,0,0,{"v":0,"d":"0.0"},"",27,21,null,null,0,0,{"v":0,"d":"0.0"},"",18,4,null,null,0,0,{"v":0,"d":"0.0"},"",22,8,null,null,0,0,{"v":0,"d":"0.0"},"",23,20,null,null,0,0,{"v":0,"d":"0.0"},"",24,5,null,null,0,0,{"v":0,"d":"0.0"},"",21,11,null,null,0,0,{"v":0,"d":"0.0"},"",28,21,null,null,0,0,{"v":0,"d":"0.0"},"",0,null,null,0,0,{"v":0,"d":"0.0"},"",0,0,0,""]
[null,41,null,25,12,null,null,0,0,{"v":0,"d":"0.0"},"",27,21,null,null,0,0,{"v":0,"d":"0.0"},"",18,4,null,null,0,0,{"v":0,"d":"0.0"},"",22,8,null,null,0,0,{"v":0,"d":"0.0"},"",23,20,null,null,0,0,{"v":0,"d":"0.0"},"",24,5,null,null,0,0,{"v":0,"d":"0.0"},"",21,11,null,null,0,0,{"v":0,"d":"0.0"},"",28,21,null,null,0,0,{"v":0,"d":"0.0"},"",0,null,null,0,0,{"v":0,"d":"0.0"},"",0,0,0,""]
[null,42,null,25,12,null,null,0,0,{"v":0,"d":"0.0"},"",27,21,null,null,0,0,{"v":0,"d":"0.0"},"",18,4,null,null,0,0,{"v":0,"d":"0.0"},"",22,8,null,null,0,0,{"v":0,"d":"0.0"},"",23,20,null,null,0,0,{"v":0,"d":"0.0"},"",24,5,null,null,0,0,{"v":0,"d":"0.0"},"",21,11,null,null,0,0,{"v":0,"d":"0.0"},"",28,21,null,null,0,0,{"v":0,"d":"0.0"},"",0,null,null,0,0,{"v":0,"d":"0.0"},"",0,0,0,""]
[null,43,null,25,12,null,null,0,0,{"v":0,"d":"0.0"},"",27,21,null,null,0,0,{"v":0,"d":"0.0"},"",18,4,null,null,0,0,{"v":0,"d":"0.0"},"",22,8,null,null,0,0,{"v":0,"d":"0.0"},"",23,20,null,null,0,0,{"v":0,"d":"0.0"},"",24,5,null,null,0,0,{"v":0,"d":"0.0"},"",21,11,null,null,0,0,{"v":0,"d":"0.0"},"",28,21,null,null,0,0,{"v":0,"d":"0.0"},"",0,null,null,0,0,{"v":0,"d":"0.0"},"",0,0,0,""]
[null,44,null,25,12,null,null,0,0,{"v":0,"d":"0.0"},"",27,21,null,null,0,0,{"v":0,"d":"0.0"},"",18,4,null,null,0,0,{"v":0,"d":"0.0"},"",22,8,null,null,0,0,{"v":0,"d":"0.0"},"",23,20,null,null,0,0,{"v":0,"d":"0.0"},"",24,5,null,null,0,0,{"v":0,"d":"0.0"},"",21,11,null,null,0,0,{"v":0,"d":"0.0"},"",28,21,null,null,0,0,{"v":0,"d":"0.0"},"",0,null,null,0,0,{"v":0,"d":"0.0"},"",0,0,0,""]
[null,45,null,25,12,null,null,0,0,{"v":0,"d":"0.0"},"",27,21,null,null,0,0,{"v":0,"d":"0.0"},"",18,4,null,null,0,0,{"v":0,"d":"0.0"},"",22,8,null,null,0,0,{"v":0,"d":"0.0"},"",23,20,null,null,0,0,{"v":0,"d":"0.0"},"",24,5,null,null,0,0,{"v":0,"d":"0.0"},"",21,11,null,null,0,0,{"v":0,"d":"0.0"},"",28,21,null,null,0,0,{"v":0,"d":"0.0"},"",0,null,null,0,0,{"v":0,"d":"0.0"},"",0,0,0,""]
[null,46,null,25,12,null,null,0,0,{"v":0,"d":"0.0"},"",27,21,null,null,0,0,{"v":0,"d":"0.0"},"",18,4,null,null,0,0,{"v":0,"d":"0.0"},"",22,8,null,null,0,0,{"v":0,"d":"0.0"},"",23,20,null,null,0,0,{"v":0,"d":"0.0"},"",24,5,null,null,0,0,{"v":0,"d":"0.0"},"",21,11,null,null,0,0,{"v":0,"d":"0.0"},"",28,21,null,null,0,0,{"v":0,"d":"0.0"},"",0,null,null,0,0,{"v":0,"d":"0.0"},"",0,0,0,""]
[null,47,null,25,12,null,null,0,0,{"v":0,"d":"0.0"},"",27,21,null,null,0,0,{"v":0,"d":"0.0"},"",18,4,null,null,0,0,{"v":0,"d":"0.0"},"",22,8,null,null,0,0,{"v":0,"d":"0.0"},"",23,20,null,null,0,0,{"v":0,"d":"0.0"},"",24,5,null,null,0,0,{"v":0,"d":"0.0"},"",21,11,null,null,0,0,{"v":0,"d":"0.0"},"",28,21,null,null,0,0,{"v":0,"d":"0.0"},"",0,null,null,0,0,{"v":0,"d":"0.0"},"",0,0,0,""]
[null,48,null,25,12,null,null,0,0,{"v":0,"d":"0.0"},"",27,21,null,null,0,0,{"v":0,"d":"0.0"},"",18,4,null,null,0,0,{"v":0,"d":"0.0"},"",22,8,null,null,0,0,{"v":0,"d":"0.0"},"",23,20,null,null,0,0,{"v":0,"d":"0.0"},"",24,5,null,null,0,0,{"v":0,"d":"0.0"},"",21,11,null,null,0,0,{"v":0,"d":"0.0"},"",28,21,null,null,0,0,{"v":0,"d":"0.0"},"",0,null,null,0,0,{"v":0,"d":"0.0"},"",0,0,0,""]
[null,49,null,25,12,null,null,0,0,{"v":0,"d":"0.0"},"",27,21,null,null,0,0,{"v":0,"d":"0.0"},"",18,4,null,null,0,0,{"v":0,"d":"0.0"},"",22,8,null,null,0,0,{"v":0,"d":"0.0"},"",23,20,null,null,0,0,{"v":0,"d":"0.0"},"",24,5,null,null,0,0,{"v":0,"d":"0.0"},"",21,11,null,null,0,0,{"v":0,"d":"0.0"},"",28,21,null,null,0,0,{"v":0,"d":"0.0"},"",0,null,null,0,0,{"v":0,"d":"0.0"},"",0,0,0,""]
[null,50,null,25,12,null,null,0,0,{"v":0,"d":"0.0"},"",27,21,null,null,0,0,{"v":0,"d":"0.0"},"",18,4,null,null,0,0,{"v":0,"d":"0.0"},"",22,8,null,null,0,0,{"v":0,"d":"0.0"},"",23,20,null,null,0,0,{"v":0,"d":"0.0"},"",24,5,null,null,0,0,{"v":0,"d":"0.0"},"",21,11,null,null,0,0,{"v":0,"d":"0.0"},"",28,21,null,null,0,0,{"v":0,"d":"0.0"},"",0,null,null,0,0,{"v":0,"d":"0.0"},"",0,0,0,""]
[null,51,null,25,12,null,null,0,0,{"v":0,"d":"0.0"},"",27,21,null,null,0,0,{"v":0,"d":"0.0"},"",18,4,null,null,0,0,{"v":0,"d":"0.0"},"",22,8,null,null,0,0,{"v":0,"d":"0.0"},"",23,20,null,null,0,0,{"v":0,"d":"0.0"},"",24,5,null,null,0,0,{"v":0,"d":"0.0"},"",21,11,null,null,0,0,{"v":0,"d":"0.0"},"",28,21,null,null,0,0,{"v":0,"d":"0.0"},"",0,null,null,0,0,{"v":0,"d":"0.0"},"",0,0,0,""]
[null,52,null,25,12,null,null,0,0,{"v":0,"d":"0.0"},"",27,21,null,null,0,0,{"v":0,"d":"0.0"},"",18,4,null,null,0,0,{"v":0,"d":"0.0"},"",22,8,null,null,0,0,{"v":0,"d":"0.0"},"",23,20,null,null,0,0,{"v":0,"d":"0.0"},"",24,5,null,null,0,0,{"v":0,"d":"0.0"},"",21,11,null,null,0,0,{"v":0,"d":"0.0"},"",28,21,null,null,0,0,{"v":0,"d":"0.0"},"",0,null,null,0,0,{"v":0,"d":"0.0"},"",0,0,0,""]
[null,53,null,25,12,null,null,0,0,{"v":0,"d":"0.0"},"",27,21,null,null,0,0,{"v":0,"d":"0.0"},"",18,4,null,null,0,0,{"v":0,"d":"0.0"},"",22,8,null,null,0,0,{"v":0,"d":"0.0"},"",23,20,null,null,0,0,{"v":0,"d":"0.0"},"",24,5,null,null,0,0,{"v":0,"d":"0.0"},"",21,11,null,null,0,0,{"v":0,"d":"0.0"},"",28,21,null,null,0,0,{"v":0,"d":"0.0"},"",0,null,null,0,0,{"v":0,"d":"0.0"},"",0,0,0,""]
[null,54,null,25,12,null,null,0,0,{"v":0,"d":"0.0"},"",27,21,null,null,0,0,{"v":0,"d":"0.0"},"",18,4,null,null,0,0,{"v":0,"d":"0.0"},"",22,8,null,null,0,0,{"v":0,"d":"0.0"},"",23,20,null,null,0,0,{"v":0,"d":"0.0"},"",24,5,null,null,0,0,{"v":0,"d":"0.0"},"",21,11,null,null,0,0,{"v":0,"d":"0.0"},"",28,21,null,null,0,0,{"v":0,"d":"0.0"},"",0,null,null,0,0,{"v":0,"d":"0.0"},"",0,0,0,""]
[null,55,null,25,12,null,null,0,0,{"v":0,"d":"0.0"},"",27,21,null,null,0,0,{"v":0,"d":"0.0"},"",18,4,null,null,0,0,{"v":0,"d":"0.0"},"",22,8,null,null,0,0,{"v":0,"d":"0.0"},"",23,20,null,null,0,0,{"v":0,"d":"0.0"},"",24,5,null,null,0,0,{"v":0,"d":"0.0"},"",21,11,null,null,0,0,{"v":0,"d":"0.0"},"",28,21,null,null,0,0,{"v":0,"d":"0.0"},"",0,null,null,0,0,{"v":0,"d":"0.0"},"",0,0,0,""]
[null,56,null,25,12,null,null,0,0,{"v":0,"d":"0.0"},"",27,21,null,null,0,0,{"v":0,"d":"0.0"},"",18,4,null,null,0,0,{"v":0,"d":"0.0"},"",22,8,null,null,0,0,{"v":0,"d":"0.0"},"",23,20,null,null,0,0,{"v":0,"d":"0.0"},"",24,5,null,null,0,0,{"v":0,"d":"0.0"},"",21,11,null,null,0,0,{"v":0,"d":"0.0"},"",28,21,null,null,0,0,{"v":0,"d":"0.0"},"",0,null,null,0,0,{"v":0,"d":"0.0"},"",0,0,0,""]
[null,57,null,25,12,null,null,0,0,{"v":0,"d":"0.0"},"",27,21,null,null,0,0,{"v":0,"d":"0.0"},"",18,4,null,null,0,0,{"v":0,"d":"0.0"},"",22,8,null,null,0,0,{"v":0,"d":"0.0"},"",23,20,null,null,0,0,{"v":0,"d":"0.0"},"",24,5,null,null,0,0,{"v":0,"d":"0.0"},"",21,11,null,null,0,0,{"v":0,"d":"0.0"},"",28,21,null,null,0,0,{"v":0,"d":"0.0"},"",0,null,null,0,0,{"v":0,"d":"0.0"},"",0,0,0,""]
[null,58,null,25,12,null,null,0,0,{"v":0,"d":"0.0"},"",27,21,null,null,0,0,{"v":0,"d":"0.0"},"",18,4,null,null,0,0,{"v":0,"d":"0.0"},"",22,8,null,null,0,0,{"v":0,"d":"0.0"},"",23,20,null,null,0,0,{"v":0,"d":"0.0"},"",24,5,null,null,0,0,{"v":0,"d":"0.0"},"",21,11,null,null,0,0,{"v":0,"d":"0.0"},"",28,21,null,null,0,0,{"v":0,"d":"0.0"},"",0,null,null,0,0,{"v":0,"d":"0.0"},"",0,0,0,""]
[null,59,null,25,12,null,null,0,0,{"v":0,"d":"0.0"},"",27,21,null,null,0,0,{"v":0,"d":"0.0"},"",18,4,null,null,0,0,{"v":0,"d":"0.0"},"",22,8,null,null,0,0,{"v":0,"d":"0.0"},"",23,20,null,null,0,0,{"v":0,"d":"0.0"},"",24,5,null,null,0,0,{"v":0,"d":"0.0"},"",21,11,null,null,0,0,{"v":0,"d":"0.0"},"",28,21,null,null,0,0,{"v":0,"d":"0.0"},"",0,null,null,0,0,{"v":0,"d":"0.0"},"",0,0,0,""]
[null,60,null,25,12,null,null,0,0,{"v":0,"d":"0.0"},"",27,21,null,null,0,0,{"v":0,"d":"0.0"},"",18,4,null,null,0,0,{"v":0,"d":"0.0"},"",22,8,null,null,0,0,{"v":0,"d":"0.0"},"",23,20,null,null,0,0,{"v":0,"d":"0.0"},"",24,5,null,null,0,0,{"v":0,"d":"0.0"},"",21,11,null,null,0,0,{"v":0,"d":"0.0"},"",28,21,null,null,0,0,{"v":0,"d":"0.0"},"",0,null,null,0,0,{"v":0,"d":"0.0"},"",0,0,0,""]
[null,61,null,25,12,null,null,0,0,{"v":0,"d":"0.0"},"",27,21,null,null,0,0,{"v":0,"d":"0.0"},"",18,4,null,null,0,0,{"v":0,"d":"0.0"},"",22,8,null,null,0,0,{"v":0,"d":"0.0"},"",23,20,null,null,0,0,{"v":0,"d":"0.0"},"",24,5,null,null,0,0,{"v":0,"d":"0.0"},"",21,11,null,null,0,0,{"v":0,"d":"0.0"},"",28,21,null,null,0,0,{"v":0,"d":"0.0"},"",0,null,null,0,0,{"v":0,"d":"0.0"},"",0,0,0,""]
[null,62,null,25,12,null,null,0,0,{"v":0,"d":"0.0"},"",27,21,null,null,0,0,{"v":0,"d":"0.0"},"",18,4,null,null,0,0,{"v":0,"d":"0.0"},"",22,8,null,null,0,0,{"v":0,"d":"0.0"},"",23,20,null,null,0,0,{"v":0,"d":"0.0"},"",24,5,null,null,0,0,{"v":0,"d":"0.0"},"",21,11,null,null,0,0,{"v":0,"d":"0.0"},"",28,21,null,null,0,0,{"v":0,"d":"0.0"},"",0,null,null,0,0,{"v":0,"d":"0.0"},"",0,0,0,""]
[null,63,null,25,12,null,null,0,0,{"v":0,"d":"0.0"},"",27,21,null,null,0,0,{"v":0,"d":"0.0"},"",18,4,null,null,0,0,{"v":0,"d":"0.0"},"",22,8,null,null,0,0,{"v":0,"d":"0.0"},"",23,20,null,null,0,0,{"v":0,"d":"0.0"},"",24,5,null,null,0,0,{"v":0,"d":"0.0"},"",21,11,null,null,0,0,{"v":0,"d":"0.0"},"",28,21,null,null,0,0,{"v":0,"d":"0.0"},"",0,null,null,0,0,{"v":0,"d":"0.0"},"",0,0,0,""]
[null,64,null,25,12,null,null,0,0,{"v":0,"d":"0.0"},"",27,21,null,null,0,0,{"v":0,"d":"0.0"},"",18,4,null,null,0,0,{"v":0,"d":"0.0"},"",22,8,null,null,0,0,{"v":0,"d":"0.0"},"",23,20,null,null,0,0,{"v":0,"d":"0.0"},"",24,5,null,null,0,0,{"v":0,"d":"0.0"},"",21,11,null,null,0,0,{"v":0,"d":"0.0"},"",28,21,null,null,0,0,{"v":0,"d":"0.0"},"",0,null,null,0,0,{"v":0,"d":"0.0"},"",0,0,0,""]
[null,65,null,25,12,null,null,{"$f":"IF(K71=\"D\",\"D\",IF(K71=\"W\",I71,IF(K71=\"L\",I71,0)))","v":0},{"$f":"IF(F71+G71=0,0,IF(F71+G71>0.1,F71-G71,0))","v":0},{"$f":"IF(K71=\"W\",$H$3,IF(K71=\"D\",$P$3,0))","v":{"v":0,"d":"0.0"}},{"$f":"IF(F71>G71,\"W\",IF(F71<G71,\"L\",IF(F71+G71=0,\"\",IF(F71=G71,\"D\",0))))","v":""},27,21,null,null,{"$f":"IF(S71=\"D\",\"D\",IF(S71=\"W\",Q71,IF(S71=\"L\",Q71,0)))","v":0},{"$f":"IF(N71+O71=0,0,IF(N71+O71>0.1,N71-O71,0))","v":0},{"$f":"IF(S71=\"W\",$H$3,IF(S71=\"D\",$P$3,0))","v":{"v":0,"d":"0.0"}},{"$f":"IF(N71>O71,\"W\",IF(N71<O71,\"L\",IF(N71+O71=0,\"\",IF(N71=O71,\"D\",0))))","v":""},18,4,null,null,{"$f":"IF(AA71=\"D\",\"D\",IF(AA71=\"W\",Y71,IF(AA71=\"L\",Y71,0)))","v":0},{"$f":"IF(V71+W71=0,0,IF(V71+W71>0.1,V71-W71,0))","v":0},{"$f":"IF(AA71=\"W\",$H$3,IF(AA71=\"D\",$P$3,0))","v":{"v":0,"d":"0.0"}},{"$f":"IF(V71>W71,\"W\",IF(V71<W71,\"L\",IF(V71+W71=0,\"\",IF(V71=W71,\"D\",0))))","v":""},22,8,null,null,{"$f":"IF(AI71=\"D\",\"D\",IF(AI71=\"W\",AG71,IF(AI71=\"L\",AG71,0)))","v":0},{"$f":"IF(AD71+AE71=0,0,IF(AD71+AE71>0.1,AD71-AE71,0))","v":0},{"$f":"IF(AI71=\"W\",$H$3,IF(AI71=\"D\",$P$3,0))","v":{"v":0,"d":"0.0"}},{"$f":"IF(AD71>AE71,\"W\",IF(AD71<AE71,\"L\",IF(AD71+AE71=0,\"\",IF(AD71=AE71,\"D\",0))))","v":""},23,20,null,null,{"$f":"IF(AQ71=\"D\",\"D\",IF(AQ71=\"W\",AO71,IF(AQ71=\"L\",AO71,0)))","v":0},{"$f":"IF(AL71+AM71=0,0,IF(AL71+AM71>0.1,AL71-AM71,0))","v":0},{"$f":"IF(AQ71=\"W\",$H$3,IF(AQ71=\"D\",$P$3,0))","v":{"v":0,"d":"0.0"}},{"$f":"IF(AL71>AM71,\"W\",IF(AL71<AM71,\"L\",IF(AL71+AM71=0,\"\",IF(AL71=AM71,\"D\",0))))","v":""},24,5,null,null,{"$f":"IF(AY71=\"D\",\"D\",IF(AY71=\"W\",AW71,IF(AY71=\"L\",AW71,0)))","v":0},{"$f":"IF(AT71+AU71=0,0,IF(AT71+AU71>0.1,AT71-AU71,0))","v":0},{"$f":"IF(AY71=\"W\",$H$3,IF(AY71=\"D\",$P$3,0))","v":{"v":0,"d":"0.0"}},{"$f":"IF(AT71>AU71,\"W\",IF(AT71<AU71,\"L\",IF(AT71+AU71=0,\"\",IF(AT71=AU71,\"D\",0))))","v":""},21,11,null,null,{"$f":"IF(BG71=\"D\",\"D\",IF(BG71=\"W\",BE71,IF(BG71=\"L\",BE71,0)))","v":0},{"$f":"IF(BB71+BC71=0,0,IF(BB71+BC71>0.1,BB71-BC71,0))","v":0},{"$f":"IF(BG71=\"W\",$H$3,IF(BG71=\"D\",$P$3,0))","v":{"v":0,"d":"0.0"}},{"$f":"IF(BB71>BC71,\"W\",IF(BB71<BC71,\"L\",IF(BB71+BC71=0,\"\",IF(BB71=BC71,\"D\",0))))","v":""},28,21,null,null,{"$f":"IF(BO71=\"D\",\"D\",IF(BO71=\"W\",BM71,IF(BO71=\"L\",BM71,0)))","v":0},{"$f":"IF(BJ71+BK71=0,0,IF(BJ71+BK71>0.1,BJ71-BK71,0))","v":0},{"$f":"IF(BO71=\"W\",$H$3,IF(BO71=\"D\",$P$3,0))","v":{"v":0,"d":"0.0"}},{"$f":"IF(BJ71>BK71,\"W\",IF(BJ71<BK71,\"L\",IF(BJ71+BK71=0,\"\",IF(BJ71=BK71,\"D\",0))))","v":""},{"$f":"G71+O71+W71+AE71+AM71+AU71+BC71+BK71","v":0},null,null,{"$f":"IF(BV71=\"D\",\"D\",IF(BV71=\"W\",BT71,IF(BV71=\"L\",BT71,0)))","v":0},{"$f":"IF(BQ71+BR71=0,0,IF(BQ71+BR71>0.1,BQ71-BR71,0))","v":0},{"$f":"IF(BV71=\"W\",1,IF(BV71=\"D\",0.5,0))","v":{"v":0,"d":"0.0"}},{"$f":"IF(BQ71>BR71,\"W\",IF(BQ71<BR71,\"L\",IF(BQ71=0,\"\",IF(BQ71=BR71,\"D\",0))))","v":""},{"$f":"(J71+R71+Z71+AH71+AP71+AX71+BF71+BN71+BU71)","v":0},{"$f":"I71+Q71+Y71+AG71+AO71+AW71+BE71+BM71+BT71","v":0},{"$f":"(BW71*1000000)+(BX71*100)-BP71","v":0},{"$f":"IF($BY$7:$BY$90=0,\"\",RANK(BY71,$BY$7:$BY$90))","v":""}]
[null,66,null,25,12,null,null,0,0,{"v":0,"d":"0.0"},"",27,21,null,null,0,0,{"v":0,"d":"0.0"},"",18,4,null,null,0,0,{"v":0,"d":"0.0"},"",22,8,null,null,0,0,{"v":0,"d":"0.0"},"",23,20,null,null,0,0,{"v":0,"d":"0.0"},"",24,5,null,null,0,0,{"v":0,"d":"0.0"},"",21,11,null,null,0,0,{"v":0,"d":"0.0"},"",28,21,null,null,0,0,{"v":0,"d":"0.0"},"",0,null,null,0,0,{"v":0,"d":"0.0"},"",0,0,0,""]
[null,67,null,25,12,null,null,0,0,{"v":0,"d":"0.0"},"",27,21,null,null,0,0,{"v":0,"d":"0.0"},"",18,4,null,null,0,0,{"v":0,"d":"0.0"},"",22,8,null,null,0,0,{"v":0,"d":"0.0"},"",23,20,null,null,0,0,{"v":0,"d":"0.0"},"",24,5,null,null,0,0,{"v":0,"d":"0.0"},"",21,11,null,null,0,0,{"v":0,"d":"0.0"},"",28,21,null,null,0,0,{"v":0,"d":"0.0"},"",0,null,null,0,0,{"v":0,"d":"0.0"},"",0,0,0,""]
[null,68,null,25,12,null,null,0,0,{"v":0,"d":"0.0"},"",27,21,null,null,0,0,{"v":0,"d":"0.0"},"",18,4,null,null,0,0,{"v":0,"d":"0.0"},"",22,8,null,null,0,0,{"v":0,"d":"0.0"},"",23,20,null,null,0,0,{"v":0,"d":"0.0"},"",24,5,null,null,0,0,{"v":0,"d":"0.0"},"",21,11,null,null,0,0,{"v":0,"d":"0.0"},"",28,21,null,null,0,0,{"v":0,"d":"0.0"},"",0,null,null,0,0,{"v":0,"d":"0.0"},"",0,0,0,""]
[null,69,null,25,12,null,null,0,0,{"v":0,"d":"0.0"},"",27,21,null,null,0,0,{"v":0,"d":"0.0"},"",18,4,null,null,0,0,{"v":0,"d":"0.0"},"",22,8,null,null,0,0,{"v":0,"d":"0.0"},"",23,20,null,null,0,0,{"v":0,"d":"0.0"},"",24,5,null,null,0,0,{"v":0,"d":"0.0"},"",21,11,null,null,0,0,{"v":0,"d":"0.0"},"",28,21,null,null,0,0,{"v":0,"d":"0.0"},"",0,null,null,0,0,{"v":0,"d":"0.0"},"",0,0,0,""]
[null,70,null,25,12,null,null,0,0,{"v":0,"d":"0.0"},"",27,21,null,null,0,0,{"v":0,"d":"0.0"},"",18,4,null,null,0,0,{"v":0,"d":"0.0"},"",22,8,null,null,0,0,{"v":0,"d":"0.0"},"",23,20,null,null,0,0,{"v":0,"d":"0.0"},"",24,5,null,null,0,0,{"v":0,"d":"0.0"},"",21,11,null,null,0,0,{"v":0,"d":"0.0"},"",28,21,null,null,0,0,{"v":0,"d":"0.0"},"",0,null,null,0,0,{"v":0,"d":"0.0"},"",0,0,0,""]
[null,71,null,25,12,null,null,0,0,{"v":0,"d":"0.0"},"",27,21,null,null,0,0,{"v":0,"d":"0.0"},"",18,4,null,null,0,0,{"v":0,"d":"0.0"},"",22,8,null,null,0,0,{"v":0,"d":"0.0"},"",23,20,null,null,0,0,{"v":0,"d":"0.0"},"",24,5,null,null,0,0,{"v":0,"d":"0.0"},"",21,11,null,null,0,0,{"v":0,"d":"0.0"},"",28,21,null,null,0,0,{"v":0,"d":"0.0"},"",0,null,null,0,0,{"v":0,"d":"0.0"},"",0,0,0,""]
[null,72,null,25,12,null,null,0,0,{"v":0,"d":"0.0"},"",27,21,null,null,0,0,{"v":0,"d":"0.0"},"",18,4,null,null,0,0,{"v":0,"d":"0.0"},"",22,8,null,null,0,0,{"v":0,"d":"0.0"},"",23,20,null,null,0,0,{"v":0,"d":"0.0"},"",24,5,null,null,0,0,{"v":0,"d":"0.0"},"",21,11,null,null,0,0,{"v":0,"d":"0.0"},"",28,21,null,null,0,0,{"v":0,"d":"0.0"},"",0,null,null,0,0,{"v":0,"d":"0.0"},"",0,0,0,""]
[null,73,null,25,12,null,null,0,0,{"v":0,"d":"0.0"},"",27,21,null,null,0,0,{"v":0,"d":"0.0"},"",18,4,null,null,0,0,{"v":0,"d":"0.0"},"",22,8,null,null,0,0,{"v":0,"d":"0.0"},"",23,20,null,null,0,0,{"v":0,"d":"0.0"},"",24,5,null,null,0,0,{"v":0,"d":"0.0"},"",21,11,null,null,0,0,{"v":0,"d":"0.0"},"",28,21,null,null,0,0,{"v":0,"d":"0.0"},"",0,null,null,0,0,{"v":0,"d":"0.0"},"",0,0,0,""]
[null,74,null,25,12,null,null,0,0,{"v":0,"d":"0.0"},"",27,21,null,null,0,0,{"v":0,"d":"0.0"},"",18,4,null,null,0,0,{"v":0,"d":"0.0"},"",22,8,null,null,0,0,{"v":0,"d":"0.0"},"",23,20,null,null,0,0,{"v":0,"d":"0.0"},"",24,5,null,null,0,0,{"v":0,"d":"0.0"},"",21,11,null,null,0,0,{"v":0,"d":"0.0"},"",28,21,null,null,0,0,{"v":0,"d":"0.0"},"",0,null,null,0,0,{"v":0,"d":"0.0"},"",0,0,0,""]
[null,75,null,25,12,null,null,0,0,{"v":0,"d":"0.0"},"",27,21,null,null,0,0,{"v":0,"d":"0.0"},"",18,4,null,null,0,0,{"v":0,"d":"0.0"},"",22,8,null,null,0,0,{"v":0,"d":"0.0"},"",23,20,null,null,0,0,{"v":0,"d":"0.0"},"",24,5,null,null,0,0,{"v":0,"d":"0.0"},"",21,11,null,null,0,0,{"v":0,"d":"0.0"},"",28,21,null,null,0,0,{"v":0,"d":"0.0"},"",0,null,null,0,0,{"v":0,"d":"0.0"},"",0,0,0,""]
[null,76,null,25,12,null,null,0,0,{"v":0,"d":"0.0"},"",27,21,null,null,0,0,{"v":0,"d":"0.0"},"",18,4,null,null,0,0,{"v":0,"d":"0.0"},"",22,8,null,null,0,0,{"v":0,"d":"0.0"},"",23,20,null,null,0,0,{"v":0,"d":"0.0"},"",24,5,null,null,0,0,{"v":0,"d":"0.0"},"",21,11,null,null,0,0,{"v":0,"d":"0.0"},"",28,21,null,null,0,0,{"v":0,"d":"0.0"},"",0,null,null,0,0,{"v":0,"d":"0.0"},"",0,0,0,""]
[null,77,null,25,12,null,null,0,0,{"v":0,"d":"0.0"},"",27,21,null,null,0,0,{"v":0,"d":"0.0"},"",18,4,null,null,0,0,{"v":0,"d":"0.0"},"",22,8,null,null,0,0,{"v":0,"d":"0.0"},"",23,20,null,null,0,0,{"v":0,"d":"0.0"},"",24,5,null,null,0,0,{"v":0,"d":"0.0"},"",21,11,null,null,0,0,{"v":0,"d":"0.0"},"",28,21,null,null,0,0,{"v":0,"d":"0.0"},"",0,null,null,0,0,{"v":0,"d":"0.0"},"",0,0,0,""]
[null,78,null,25,12,null,null,0,0,{"v":0,"d":"0.0"},"",27,21,null,null,0,0,{"v":0,"d":"0.0"},"",18,4,null,null,0,0,{"v":0,"d":"0.0"},"",22,8,null,null,0,0,{"v":0,"d":"0.0"},"",23,20,null,null,0,0,{"v":0,"d":"0.0"},"",24,5,null,null,0,0,{"v":0,"d":"0.0"},"",21,11,null,null,0,0,{"v":0,"d":"0.0"},"",28,21,null,null,0,0,{"v":0,"d":"0.0"},"",0,null,null,0,0,{"v":0,"d":"0.0"},"",0,0,0,""]
[null,79,null,25,12,null,null,0,0,{"v":0,"d":"0.0"},"",27,21,null,null,0,0,{"v":0,"d":"0.0"},"",18,4,null,null,0,0,{"v":0,"d":"0.0"},"",22,8,null,null,0,0,{"v":0,"d":"0.0"},"",23,20,null,null,0,0,{"v":0,"d":"0.0"},"",24,5,null,null,0,0,{"v":0,"d":"0.0"},"",21,11,null,null,0,0,{"v":0,"d":"0.0"},"",28,21,null,null,0,0,{"v":0,"d":"0.0"},"",0,null,null,0,0,{"v":0,"d":"0.0"},"",0,0,0,""]
[null,80,null,25,12,null,null,0,0,{"v":0,"d":"0.0"},"",27,21,null,null,0,0,{"v":0,"d":"0.0"},"",18,4,null,null,0,0,{"v":0,"d":"0.0"},"",22,8,null,null,0,0,{"v":0,"d":"0.0"},"",23,20,null,null,0,0,{"v":0,"d":"0.0"},"",24,5,null,null,0,0,{"v":0,"d":"0.0"},"",21,11,null,null,0,0,{"v":0,"d":"0.0"},"",28,21,null,null,0,0,{"v":0,"d":"0.0"},"",0,null,null,0,0,{"v":0,"d":"0.0"},"",0,0,0,""]
[null,81,null,25,12,null,null,0,0,{"v":0,"d":"0.0"},"",27,21,null,null,0,0,{"v":0,"d":"0.0"},"",18,4,null,null,0,0,{"v":0,"d":"0.0"},"",22,8,null,null,0,0,{"v":0,"d":"0.0"},"",23,20,null,null,0,0,{"v":0,"d":"0.0"},"",24,5,null,null,0,0,{"v":0,"d":"0.0"},"",21,11,null,null,0,0,{"v":0,"d":"0.0"},"",28,21,null,null,0,0,{"v":0,"d":"0.0"},"",0,null,null,0,0,{"v":0,"d":"0.0"},"",0,0,0,""]
[null,82,null,25,12,null,null,0,0,{"v":0,"d":"0.0"},"",27,21,null,null,0,0,{"v":0,"d":"0.0"},"",18,4,null,null,0,0,{"v":0,"d":"0.0"},"",22,8,null,null,0,0,{"v":0,"d":"0.0"},"",23,20,null,null,0,0,{"v":0,"d":"0.0"},"",24,5,null,null,0,0,{"v":0,"d":"0.0"},"",21,11,null,null,0,0,{"v":0,"d":"0.0"},"",28,21,null,null,0,0,{"v":0,"d":"0.0"},"",0,null,null,0,0,{"v":0,"d":"0.0"},"",0,0,0,""]
[null,83,null,25,12,null,null,0,0,{"v":0,"d":"0.0"},"",27,21,null,null,0,0,{"v":0,"d":"0.0"},"",18,4,null,null,0,0,{"v":0,"d":"0.0"},"",22,8,null,null,0,0,{"v":0,"d":"0.0"},"",23,20,null,null,0,0,{"v":0,"d":"0.0"},"",24,5,null,null,0,0,{"v":0,"d":"0.0"},"",21,11,null,null,0,0,{"v":0,"d":"0.0"},"",28,21,null,null,0,0,{"v":0,"d":"0.0"},"",0,null,null,0,0,{"v":0,"d":"0.0"},"",0,0,0,""]
[null,84,null,25,12,null,null,0,0,{"v":0,"d":"0.0"},"",27,21,null,null,0,0,{"v":0,"d":"0.0"},"",18,4,null,null,0,0,{"v":0,"d":"0.0"},"",22,8,null,null,0,0,{"v":0,"d":"0.0"},"",23,20,null,null,0,0,{"v":0,"d":"0.0"},"",24,5,null,null,0,0,{"v":0,"d":"0.0"},"",21,11,null,null,0,0,{"v":0,"d":"0.0"},"",28,21,null,null,0,0,{"v":0,"d":"0.0"},"",0,null,null,0,0,{"v":0,"d":"0.0"},"",0,0,0,""]

{"sheet":"copy 1","index":3,"n_rows":90,"n_cols":78,"rows_kept":90,"hidden":true,"merged":[[0,1,0,77],[1,1,1,77],[2,0,2,1],[2,3,2,6],[2,11,2,14],[3,3,3,7],[3,11,3,15],[3,19,3,23],[3,27,3,31],[3,35,3,39],[3,43,3,47],[3,51,3,55],[3,59,3,63],[3,74,4,75],[4,68,4,70]]}
[null,"Tournament Name etc. Here."]
[null,"Other heading info"]
[{"$nulls":3},"win =",{"$nulls":3},{"v":1,"d":"1.0"},{"$nulls":3},"draw=",{"$nulls":3},0.5]
[{"$nulls":3},"ROUND 1",{"$nulls":7},"ROUND 2",{"$nulls":7},"ROUND 3",{"$nulls":7},"ROUND 4",{"$nulls":7},"ROUND 5",{"$nulls":7},"ROUND 6",{"$nulls":7},"ROUND 7",{"$nulls":7},"ROUND 8",{"$nulls":8},{"$f":"SUM(BQ7:BQ20)-SUM(BR7:BR20)","v":0},{"$f":"SUM(BR7:BR20)-SUM(BQ7:BQ20)","v":0},{"$f":"SUM(BS7:BS20)","v":0},{"$nulls":3},"TOTALS"]
[null,"CLICK to SORT TEAM No.",{"$nulls":3},{"$f":"SUM(F7:F26)-SUM(G7:G26)","v":0},{"$f":"SUM(G7:G26)-SUM(F7:F26)","v":0},{"$nulls":6},{"$f":"SUM(N7:N26)-SUM(O7:O26)","v":0},{"$f":"SUM(O7:O26)-SUM(N7:N26)","v":0},{"$nulls":6},{"$f":"SUM(V7:V26)-SUM(W7:W26)","v":0},{"$f":"SUM(W7:W26)-SUM(V7:V26)","v":0},{"$nulls":6},{"$f":"SUM(AD7:AD26)-SUM(AE7:AE26)","v":0},{"$f":"SUM(AE7:AE26)-SUM(AD7:AD26)","v":0},{"$nulls":6},{"$f":"SUM(AL7:AL26)-SUM(AM7:AM26)","v":0},{"$f":"SUM(AM7:AM26)-SUM(AL7:AL26)","v":0},{"$nulls":6},{"$f":"SUM(AT7:AT26)-SUM(AU7:AU26)","v":0},{"$f":"SUM(AU7:AU26)-SUM(AT7:AT26)","v":0},{"$nulls":6},{"$f":"SUM(BB7:BB26)-SUM(BC7:BC26)","v":0},{"$f":"SUM(BC7:BC26)-SUM(BB7:BB26)","v":0},{"$nulls":6},{"$f":"SUM(BJ7:BJ26)-SUM(BK7:BK26)","v":0},{"$f":"SUM(BK7:BK26)-SUM(BJ7:BJ26)","v":0},{"$nulls":5},"ROUND 9",{"$nulls":8},"CLICK to SORT RANKINGS"]
[null,"Team #","Name","V's","Rink","F","A","M'gin",{"$nulls":3},"V's","Rink","F","A","M'gin",{"$nulls":3},"V's","Rink","F","A","M'gin",{"$nulls":3},"V's","Rink","F","A","M'gin",{"$nulls":3},"V's","Rink","F","A","M'gin",{"$nulls":3},"V's","Rink","F","A","M'gin",{"$nulls":3},"V's","Rink","F","A","M'gin",{"$nulls":3},"V's","Rink","F","A","M'gin",{"$nulls":3},"shots against","F","A","M'gin",{"$nulls":3},"Wins","Margin",null,"Rank"]
[null,1,null,2,1,null,null,{"$f":"IF(K7=\"D\",\"D\",IF(K7=\"W\",I7,IF(K7=\"L\",I7,0)))","v":0},{"$f":"IF(F7+G7=0,0,IF(F7+G7>0.1,F7-G7,0))","v":0},{"$f":"IF(K7=\"W\",$H$3,IF(K7=\"D\",$P$3,0))","v":{"v":0,"d":"0.0"}},{"$f":"IF(F7>G7,\"W\",IF(F7<G7,\"L\",IF(F7+G7=0,\"\",IF(F7=G7,\"D\",0))))","v":""},3,13,null,null,{"$f":"IF(S7=\"D\",\"D\",IF(S7=\"W\",Q7,IF(S7=\"L\",Q7,0)))","v":0},{"$f":"IF(N7+O7=0,0,IF(N7+O7>0.1,N7-O7,0))","v":0},{"$f":"IF(S7=\"W\",$H$3,IF(S7=\"D\",$P$3,0))","v":{"v":0,"d":"0.0"}},{"$f":"IF(N7>O7,\"W\",IF(N7<O7,\"L\",IF(N7+O7=0,\"\",IF(N7=O7,\"D\",0))))","v":""},5,19,null,null,{"$f":"IF(AA7=\"D\",\"D\",IF(AA7=\"W\",Y7,IF(AA7=\"L\",Y7,0)))","v":0},{"$f":"IF(V7+W7=0,0,IF(V7+W7>0.1,V7-W7,0))","v":0},{"$f":"IF(AA7=\"W\",$H$3,IF(AA7=\"D\",$P$3,0))","v":{"v":0,"d":"0.0"}},{"$f":"IF(V7>W7,\"W\",IF(V7<W7,\"L\",IF(V7+W7=0,\"\",IF(V7=W7,\"D\",0))))","v":""},7,2,null,null,{"$f":"IF(AI7=\"D\",\"D\",IF(AI7=\"W\",AG7,IF(AI7=\"L\",AG7,0)))","v":0},{"$f":"IF(AD7+AE7=0,0,IF(AD7+AE7>0.1,AD7-AE7,0))","v":0},{"$f":"IF(AI7=\"W\",$H$3,IF(AI7=\"D\",$P$3,0))","v":{"v":0,"d":"0.0"}},{"$f":"IF(AD7>AE7,\"W\",IF(AD7<AE7,\"L\",IF(AD7+AE7=0,\"\",IF(AD7=AE7,\"D\",0))))","v":""},14,14,null,null,{"$f":"IF(AQ7=\"D\",\"D\",IF(AQ7=\"W\",AO7,IF(AQ7=\"L\",AO7,0)))","v":0},{"$f":"IF(AL7+AM7=0,0,IF(AL7+AM7>0.1,AL7-AM7,0))","v":0},{"$f":"IF(AQ7=\"W\",$H$3,IF(AQ7=\"D\",$P$3,0))","v":{"v":0,"d":"0.0"}},{"$f":"IF(AL7>AM7,\"W\",IF(AL7<AM7,\"L\",IF(AL7+AM7=0,\"\",IF(AL7=AM7,\"D\",0))))","v":""},12,17,null,null,{"$f":"IF(AY7=\"D\",\"D\",IF(AY7=\"W\",AW7,IF(AY7=\"L\",AW7,0)))","v":0},{"$f":"IF(AT7+AU7=0,0,IF(AT7+AU7>0.1,AT7-AU7,0))","v":0},{"$f":"IF(AY7=\"W\",$H$3,IF(AY7=\"D\",$P$3,0))","v":{"v":0,"d":"0.0"}},{"$f":"IF(AT7>AU7,\"W\",IF(AT7<AU7,\"L\",IF(AT7+AU7=0,\"\",IF(AT7=AU7,\"D\",0))))","v":""},13,5,null,null,{"$f":"IF(BG7=\"D\",\"D\",IF(BG7=\"W\",BE7,IF(BG7=\"L\",BE7,0)))","v":0},{"$f":"IF(BB7+BC7=0,0,IF(BB7+BC7>0.1,BB7-BC7,0))","v":0},{"$f":"IF(BG7=\"W\",$H$3,IF(BG7=\"D\",$P$3,0))","v":{"v":0,"d":"0.0"}},{"$f":"IF(BB7>BC7,\"W\",IF(BB7<BC7,\"L\",IF(BB7+BC7=0,\"\",IF(BB7=BC7,\"D\",0))))","v":""},8,8,null,null,{"$f":"IF(BO7=\"D\",\"D\",IF(BO7=\"W\",BM7,IF(BO7=\"L\",BM7,0)))","v":0},{"$f":"IF(BJ7+BK7=0,0,IF(BJ7+BK7>0.1,BJ7-BK7,0))","v":0},{"$f":"IF(BO7=\"W\",$H$3,IF(BO7=\"D\",$P$3,0))","v":{"v":0,"d":"0.0"}},{"$f":"IF(BJ7>BK7,\"W\",IF(BJ7<BK7,\"L\",IF(BJ7+BK7=0,\"\",IF(BJ7=BK7,\"D\",0))))","v":""},{"$f":"G7+O7+W7+AE7+AM7+AU7+BC7+BK7","v":0},null,null,{"$f":"IF(BV7=\"D\",\"D\",IF(BV7=\"W\",BT7,IF(BV7=\"L\",BT7,0)))","v":0},{"$f":"IF(BQ7+BR7=0,0,IF(BQ7+BR7>0.1,BQ7-BR7,0))","v":0},{"$f":"IF(BV7=\"W\",1,IF(BV7=\"D\",0.5,0))","v":{"v":0,"d":"0.0"}},{"$f":"IF(BQ7>BR7,\"W\",IF(BQ7<BR7,\"L\",IF(BQ7=0,\"\",IF(BQ7=BR7,\"D\",0))))","v":""},{"$f":"(J7+R7+Z7+AH7+AP7+AX7+BF7+BN7+BU7)","v":0},{"$f":"I7+Q7+Y7+AG7+AO7+AW7+BE7+BM7+BT7","v":0},{"$f":"(BW7*1000000)+(BX7*100)-BP7","v":0},{"$f":"IF($BY$7:$BY$90=0,\"\",RANK(BY7,$BY$7:$BY$90))","v":""}]
[null,2,null,1,1,null,null,0,0,{"v":0,"d":"0.0"},"",4,12,null,null,0,0,{"v":0,"d":"0.0"},"",8,16,null,null,0,0,{"v":0,"d":"0.0"},"",12,5,null,null,0,0,{"v":0,"d":"0.0"},"",13,8,null,null,0,0,{"v":0,"d":"0.0"},"",14,18,null,null,0,0,{"v":0,"d":"0.0"},"",9,2,null,null,0,0,{"v":0,"d":"0.0"},"",5,9,null,null,0,0,{"v":0,"d":"0.0"},"",0,null,null,0,0,{"v":0,"d":"0.0"},"",0,0,0,{"$f":"IF($BY$7:$BY$90=0,\"\",RANK(BY8,$BY$7:$BY$90))","v":""}]
[null,3,null,14,2,null,null,0,0,{"v":0,"d":"0.0"},"",1,13,null,null,0,0,{"v":0,"d":"0.0"},"",7,15,null,null,0,0,{"v":0,"d":"0.0"},"",11,4,null,null,0,0,{"v":0,"d":"0.0"},"",12,10,null,null,0,0,{"v":0,"d":"0.0"},"",13,16,null,null,0,0,{"v":0,"d":"0.0"},"",10,1,null,null,0,0,{"v":0,"d":"0.0"},"",4,11,null,null,0,0,{"v":0,"d":"0.0"},"",0,null,null,0,0,{"v":0,"d":"0.0"},"",0,0,0,""]
[null,4,null,13,3,null,null,0,0,{"v":0,"d":"0.0"},"",2,12,null,null,0,0,{"v":0,"d":"0.0"},"",6,18,null,null,0,0,{"v":0,"d":"0.0"},"",10,7,null,null,0,0,{"v":0,"d":"0.0"},"",11,9,null,null,0,0,{"v":0,"d":"0.0"},"",8,20,null,null,0,0,{"v":0,"d":"0.0"},"",12,7,null,null,0,0,{"v":0,"d":"0.0"},"",3,11,null,null,0,0,{"v":0,"d":"0.0"},"",0,null,null,0,0,{"v":0,"d":"0.0"},"",0,0,0,""]
[null,5,null,12,4,null,null,0,0,{"v":0,"d":"0.0"},"",14,8,null,null,0,0,{"v":0,"d":"0.0"},"",1,19,null,null,0,0,{"v":0,"d":"0.0"},"",9,3,null,null,0,0,{"v":0,"d":"0.0"},"",10,12,null,null,0,0,{"v":0,"d":"0.0"},"",11,15,null,null,0,0,{"v":0,"d":"0.0"},"",8,6,null,null,0,0,{"v":0,"d":"0.0"},"",2,9,null,null,0,0,{"v":0,"d":"0.0"},"",0,null,null,0,0,{"v":0,"d":"0.0"},"",0,0,0,""]
[null,6,null,11,5,null,null,0,0,{"v":0,"d":"0.0"},"",13,14,null,null,0,0,{"v":0,"d":"0.0"},"",4,18,null,null,0,0,{"v":0,"d":"0.0"},"",8,1,null,null,0,0,{"v":0,"d":"0.0"},"",9,13,null,null,0,0,{"v":0,"d":"0.0"},"",10,19,null,null,0,0,{"v":0,"d":"0.0"},"",7,4,null,null,0,0,{"v":0,"d":"0.0"},"",14,14,null,null,0,0,{"v":0,"d":"0.0"},"",0,null,null,0,0,{"v":0,"d":"0.0"},"",0,0,0,""]
[null,7,null,10,6,null,null,0,0,{"v":0,"d":"0.0"},"",12,9,null,null,0,0,{"v":0,"d":"0.0"},"",3,15,null,null,0,0,{"v":0,"d":"0.0"},"",1,2,null,null,0,0,{"v":0,"d":"0.0"},"",8,11,null,null,0,0,{"v":0,"d":"0.0"},"",9,21,null,null,0,0,{"v":0,"d":"0.0"},"",6,4,null,null,0,0,{"v":0,"d":"0.0"},"",13,10,null,null,0,0,{"v":0,"d":"0.0"},"",0,null,null,0,0,{"v":0,"d":"0.0"},"",0,0,0,""]
[null,8,null,9,7,null,null,0,0,{"v":0,"d":"0.0"},"",11,10,null,null,0,0,{"v":0,"d":"0.0"},"",2,16,null,null,0,0,{"v":0,"d":"0.0"},"",6,1,null,null,0,0,{"v":0,"d":"0.0"},"",7,11,null,null,0,0,{"v":0,"d":"0.0"},"",4,20,null,null,0,0,{"v":0,"d":"0.0"},"",5,6,null,null,0,0,{"v":0,"d":"0.0"},"",1,8,null,null,0,0,{"v":0,"d":"0.0"},"",0,null,null,0,0,{"v":0,"d":"0.0"},"",0,0,0,""]
[null,9,null,8,7,null,null,0,0,{"v":0,"d":"0.0"},"",10,11,null,null,0,0,{"v":0,"d":"0.0"},"",14,17,null,null,0,0,{"v":0,"d":"0.0"},"",5,3,null,null,0,0,{"v":0,"d":"0.0"},"",6,13,null,null,0,0,{"v":0,"d":"0.0"},"",7,21,null,null,0,0,{"v":0,"d":"0.0"},"",2,2,null,null,0,0,{"v":0,"d":"0.0"},"",11,12,null,null,0,0,{"v":0,"d":"0.0"},"",0,null,null,0,0,{"v":0,"d":"0.0"},"",0,0,0,""]
[null,10,null,7,6,null,null,0,0,{"v":0,"d":"0.0"},"",9,11,null,null,0,0,{"v":0,"d":"0.0"},"",13,20,null,null,0,0,{"v":0,"d":"0.0"},"",4,7,null,null,0,0,{"v":0,"d":"0.0"},"",5,12,null,null,0,0,{"v":0,"d":"0.0"},"",6,19,null,null,0,0,{"v":0,"d":"0.0"},"",3,1,null,null,0,0,{"v":0,"d":"0.0"},"",12,13,null,null,0,0,{"v":0,"d":"0.0"},"",0,null,null,0,0,{"v":0,"d":"0.0"},"",0,0,0,""]
[null,11,null,6,5,null,null,0,0,{"v":0,"d":"0.0"},"",8,10,null,null,0,0,{"v":0,"d":"0.0"},"",12,21,null,null,0,0,{"v":0,"d":"0.0"},"",3,4,null,null,0,0,{"v":0,"d":"0.0"},"",4,9,null,null,0,0,{"v":0,"d":"0.0"},"",5,15,null,null,0,0,{"v":0,"d":"0.0"},"",14,3,null,null,0,0,{"v":0,"d":"0.0"},"",9,12,null,null,0,0,{"v":0,"d":"0.0"},"",0,null,null,0,0,{"v":0,"d":"0.0"},"",0,0,0,""]
[null,12,null,5,4,null,null,0,0,{"v":0,"d":"0.0"},"",7,9,null,null,0,0,{"v":0,"d":"0.0"},"",11,21,null,null,0,0,{"v":0,"d":"0.0"},"",2,5,null,null,0,0,{"v":0,"d":"0.0"},"",3,10,null,null,0,0,{"v":0,"d":"0.0"},"",1,17,null,null,0,0,{"v":0,"d":"0.0"},"",4,7,null,null,0,0,{"v":0,"d":"0.0"},"",10,13,null,null,0,0,{"v":0,"d":"0.0"},"",0,null,null,0,0,{"v":0,"d":"0.0"},"",0,0,0,""]
[null,13,null,4,3,null,null,0,0,{"v":0,"d":"0.0"},"",6,14,null,null,0,0,{"v":0,"d":"0.0"},"",10,20,null,null,0,0,{"v":0,"d":"0.0"},"",14,6,null,null,0,0,{"v":0,"d":"0.0"},"",2,8,null,null,0,0,{"v":0,"d":"0.0"},"",3,16,null,null,0,0,{"v":0,"d":"0.0"},"",1,5,null,null,0,0,{"v":0,"d":"0.0"},"",7,10,null,null,0,0,{"v":0,"d":"0.0"},"",0,null,null,0,0,{"v":0,"d":"0.0"},"",0,0,0,""]
[null,14,null,3,2,null,null,0,0,{"v":0,"d":"0.0"},"",5,8,null,null,0,0,{"v":0,"d":"0.0"},"",9,17,null,null,0,0,{"v":0,"d":"0.0"},"",13,6,null,null,0,0,{"v":0,"d":"0.0"},"",1,14,null,null,0,0,{"v":0,"d":"0.0"},"",2,18,null,null,0,0,{"v":0,"d":"0.0"},"",11,3,null,null,0,0,{"v":0,"d":"0.0"},"",6,14,null,null,0,0,{"v":0,"d":"0.0"},"",0,null,null,0,0,{"v":0,"d":"0.0"},"",0,0,0,""]
[null,15,null,16,8,null,null,0,0,{"v":0,"d":"0.0"},"",17,20,null,null,0,0,{"v":0,"d":"0.0"},"",19,5,null,null,0,0,{"v":0,"d":"0.0"},"",21,9,null,null,0,0,{"v":0,"d":"0.0"},"",28,21,null,null,0,0,{"v":0,"d":"0.0"},"",26,3,null,null,0,0,{"v":0,"d":"0.0"},"",27,12,null,null,0,0,{"v":0,"d":"0.0"},"",22,15,null,null,0,0,{"v":0,"d":"0.0"},"",0,null,null,0,0,{"v":0,"d":"0.0"},"",0,0,0,""]
[null,16,null,15,8,null,null,0,0,{"v":0,"d":"0.0"},"",18,19,null,null,0,0,{"v":0,"d":"0.0"},"",22,2,null,null,0,0,{"v":0,"d":"0.0"},"",26,12,null,null,0,0,{"v":0,"d":"0.0"},"",27,15,null,null,0,0,{"v":0,"d":"0.0"},"",28,4,null,null,0,0,{"v":0,"d":"0.0"},"",23,9,null,null,0,0,{"v":0,"d":"0.0"},"",19,16,null,null,0,0,{"v":0,"d":"0.0"},"",0,null,null,0,0,{"v":0,"d":"0.0"},"",0,0,0,""]
[null,17,null,28,9,null,null,0,0,{"v":0,"d":"0.0"},"",15,20,null,null,0,0,{"v":0,"d":"0.0"},"",21,1,null,null,0,0,{"v":0,"d":"0.0"},"",25,11,null,null,0,0,{"v":0,"d":"0.0"},"",26,17,null,null,0,0,{"v":0,"d":"0.0"},"",27,2,null,null,0,0,{"v":0,"d":"0.0"},"",24,8,null,null,0,0,{"v":0,"d":"0.0"},"",18,18,null,null,0,0,{"v":0,"d":"0.0"},"",0,null,null,0,0,{"v":0,"d":"0.0"},"",0,0,0,""]
[null,18,null,27,10,null,null,0,0,{"v":0,"d":"0.0"},"",16,19,null,null,0,0,{"v":0,"d":"0.0"},"",20,4,null,null,0,0,{"v":0,"d":"0.0"},"",24,14,null,null,0,0,{"v":0,"d":"0.0"},"",25,16,null,null,0,0,{"v":0,"d":"0.0"},"",22,6,null,null,0,0,{"v":0,"d":"0.0"},"",26,14,null,null,0,0,{"v":0,"d":"0.0"},"",17,18,null,null,0,0,{"v":0,"d":"0.0"},"",0,null,null,0,0,{"v":0,"d":"0.0"},"",0,0,0,""]
[null,19,null,26,11,null,null,0,0,{"v":0,"d":"0.0"},"",28,15,null,null,0,0,{"v":0,"d":"0.0"},"",15,5,null,null,0,0,{"v":0,"d":"0.0"},"",23,10,null,null,0,0,{"v":0,"d":"0.0"},"",24,19,null,null,0,0,{"v":0,"d":"0.0"},"",25,1,null,null,0,0,{"v":0,"d":"0.0"},"",22,13,null,null,0,0,{"v":0,"d":"0.0"},"",16,16,null,null,0,0,{"v":0,"d":"0.0"},"",0,null,null,0,0,{"v":0,"d":"0.0"},"",0,0,0,""]
[null,20,null,25,12,null,null,0,0,{"v":0,"d":"0.0"},"",27,21,null,null,0,0,{"v":0,"d":"0.0"},"",18,4,null,null,0,0,{"v":0,"d":"0.0"},"",22,8,null,null,0,0,{"v":0,"d":"0.0"},"",23,20,null,null,0,0,{"v":0,"d":"0.0"},"",24,5,null,null,0,0,{"v":0,"d":"0.0"},"",21,11,null,null,0,0,{"v":0,"d":"0.0"},"",28,21,null,null,0,0,{"v":0,"d":"0.0"},"",0,null,null,0,0,{"v":0,"d":"0.0"},"",0,0,0,""]
[null,{"$f":"B26+1","v":21},null,25,12,null,null,0,0,{"v":0,"d":"0.0"},"",27,21,null,null,0,0,{"v":0,"d":"0.0"},"",18,4,null,null,0,0,{"v":0,"d":"0.0"},"",22,8,null,null,0,0,{"v":0,"d":"0.0"},"",23,20,null,null,0,0,{"v":0,"d":"0.0"},"",24,5,null,null,0,0,{"v":0,"d":"0.0"},"",21,11,null,null,0,0,{"v":0,"d":"0.0"},"",28,21,null,null,0,0,{"v":0,"d":"0.0"},"",0,null,null,0,0,{"v":0,"d":"0.0"},"",0,0,0,""]
[null,{"$f":"B27+1","v":22},null,25,12,null,null,0,0,{"v":0,"d":"0.0"},"",27,21,null,null,0,0,{"v":0,"d":"0.0"},"",18,4,null,null,0,0,{"v":0,"d":"0.0"},"",22,8,null,null,0,0,{"v":0,"d":"0.0"},"",23,20,null,null,0,0,{"v":0,"d":"0.0"},"",24,5,null,null,0,0,{"v":0,"d":"0.0"},"",21,11,null,null,0,0,{"v":0,"d":"0.0"},"",28,21,null,null,0,0,{"v":0,"d":"0.0"},"",0,null,null,0,0,{"v":0,"d":"0.0"},"",0,0,0,""]
[null,23,null,25,12,null,null,0,0,{"v":0,"d":"0.0"},"",27,21,null,null,0,0,{"v":0,"d":"0.0"},"",18,4,null,null,0,0,{"v":0,"d":"0.0"},"",22,8,null,null,0,0,{"v":0,"d":"0.0"},"",23,20,null,null,0,0,{"v":0,"d":"0.0"},"",24,5,null,null,0,0,{"v":0,"d":"0.0"},"",21,11,null,null,0,0,{"v":0,"d":"0.0"},"",28,21,null,null,0,0,{"v":0,"d":"0.0"},"",0,null,null,0,0,{"v":0,"d":"0.0"},"",0,0,0,""]
[null,24,null,25,12,null,null,0,0,{"v":0,"d":"0.0"},"",27,21,null,null,0,0,{"v":0,"d":"0.0"},"",18,4,null,null,0,0,{"v":0,"d":"0.0"},"",22,8,null,null,0,0,{"v":0,"d":"0.0"},"",23,20,null,null,0,0,{"v":0,"d":"0.0"},"",24,5,null,null,0,0,{"v":0,"d":"0.0"},"",21,11,null,null,0,0,{"v":0,"d":"0.0"},"",28,21,null,null,0,0,{"v":0,"d":"0.0"},"",0,null,null,0,0,{"v":0,"d":"0.0"},"",0,0,0,""]
[null,25,null,25,12,null,null,0,0,{"v":0,"d":"0.0"},"",27,21,null,null,0,0,{"v":0,"d":"0.0"},"",18,4,null,null,0,0,{"v":0,"d":"0.0"},"",22,8,null,null,0,0,{"v":0,"d":"0.0"},"",23,20,null,null,0,0,{"v":0,"d":"0.0"},"",24,5,null,null,0,0,{"v":0,"d":"0.0"},"",21,11,null,null,0,0,{"v":0,"d":"0.0"},"",28,21,null,null,0,0,{"v":0,"d":"0.0"},"",0,null,null,0,0,{"v":0,"d":"0.0"},"",0,0,0,""]
[null,26,null,25,12,null,null,0,0,{"v":0,"d":"0.0"},"",27,21,null,null,0,0,{"v":0,"d":"0.0"},"",18,4,null,null,0,0,{"v":0,"d":"0.0"},"",22,8,null,null,0,0,{"v":0,"d":"0.0"},"",23,20,null,null,0,0,{"v":0,"d":"0.0"},"",24,5,null,null,0,0,{"v":0,"d":"0.0"},"",21,11,null,null,0,0,{"v":0,"d":"0.0"},"",28,21,null,null,0,0,{"v":0,"d":"0.0"},"",0,null,null,0,0,{"v":0,"d":"0.0"},"",0,0,0,""]
[null,27,null,25,12,null,null,0,0,{"v":0,"d":"0.0"},"",27,21,null,null,0,0,{"v":0,"d":"0.0"},"",18,4,null,null,0,0,{"v":0,"d":"0.0"},"",22,8,null,null,0,0,{"v":0,"d":"0.0"},"",23,20,null,null,0,0,{"v":0,"d":"0.0"},"",24,5,null,null,0,0,{"v":0,"d":"0.0"},"",21,11,null,null,0,0,{"v":0,"d":"0.0"},"",28,21,null,null,0,0,{"v":0,"d":"0.0"},"",0,null,null,0,0,{"v":0,"d":"0.0"},"",0,0,0,""]
[null,28,null,25,12,null,null,0,0,{"v":0,"d":"0.0"},"",27,21,null,null,0,0,{"v":0,"d":"0.0"},"",18,4,null,null,0,0,{"v":0,"d":"0.0"},"",22,8,null,null,0,0,{"v":0,"d":"0.0"},"",23,20,null,null,0,0,{"v":0,"d":"0.0"},"",24,5,null,null,0,0,{"v":0,"d":"0.0"},"",21,11,null,null,0,0,{"v":0,"d":"0.0"},"",28,21,null,null,0,0,{"v":0,"d":"0.0"},"",0,null,null,0,0,{"v":0,"d":"0.0"},"",0,0,0,""]
[null,29,null,25,12,null,null,0,0,{"v":0,"d":"0.0"},"",27,21,null,null,0,0,{"v":0,"d":"0.0"},"",18,4,null,null,0,0,{"v":0,"d":"0.0"},"",22,8,null,null,0,0,{"v":0,"d":"0.0"},"",23,20,null,null,0,0,{"v":0,"d":"0.0"},"",24,5,null,null,0,0,{"v":0,"d":"0.0"},"",21,11,null,null,0,0,{"v":0,"d":"0.0"},"",28,21,null,null,0,0,{"v":0,"d":"0.0"},"",0,null,null,0,0,{"v":0,"d":"0.0"},"",0,0,0,""]
[null,30,null,25,12,null,null,0,0,{"v":0,"d":"0.0"},"",27,21,null,null,0,0,{"v":0,"d":"0.0"},"",18,4,null,null,0,0,{"v":0,"d":"0.0"},"",22,8,null,null,0,0,{"v":0,"d":"0.0"},"",23,20,null,null,0,0,{"v":0,"d":"0.0"},"",24,5,null,null,0,0,{"v":0,"d":"0.0"},"",21,11,null,null,0,0,{"v":0,"d":"0.0"},"",28,21,null,null,0,0,{"v":0,"d":"0.0"},"",0,null,null,0,0,{"v":0,"d":"0.0"},"",0,0,0,""]
[null,31,null,25,12,null,null,0,0,{"v":0,"d":"0.0"},"",27,21,null,null,0,0,{"v":0,"d":"0.0"},"",18,4,null,null,0,0,{"v":0,"d":"0.0"},"",22,8,null,null,0,0,{"v":0,"d":"0.0"},"",23,20,null,null,0,0,{"v":0,"d":"0.0"},"",24,5,null,null,0,0,{"v":0,"d":"0.0"},"",21,11,null,null,0,0,{"v":0,"d":"0.0"},"",28,21,null,null,0,0,{"v":0,"d":"0.0"},"",0,null,null,0,0,{"v":0,"d":"0.0"},"",0,0,0,""]
[null,32,null,25,12,null,null,0,0,{"v":0,"d":"0.0"},"",27,21,null,null,0,0,{"v":0,"d":"0.0"},"",18,4,null,null,0,0,{"v":0,"d":"0.0"},"",22,8,null,null,0,0,{"v":0,"d":"0.0"},"",23,20,null,null,0,0,{"v":0,"d":"0.0"},"",24,5,null,null,0,0,{"v":0,"d":"0.0"},"",21,11,null,null,0,0,{"v":0,"d":"0.0"},"",28,21,null,null,0,0,{"v":0,"d":"0.0"},"",0,null,null,0,0,{"v":0,"d":"0.0"},"",0,0,0,""]
[null,33,null,25,12,null,null,0,0,{"v":0,"d":"0.0"},"",27,21,null,null,0,0,{"v":0,"d":"0.0"},"",18,4,null,null,0,0,{"v":0,"d":"0.0"},"",22,8,null,null,0,0,{"v":0,"d":"0.0"},"",23,20,null,null,0,0,{"v":0,"d":"0.0"},"",24,5,null,null,0,0,{"v":0,"d":"0.0"},"",21,11,null,null,0,0,{"v":0,"d":"0.0"},"",28,21,null,null,0,0,{"v":0,"d":"0.0"},"",0,null,null,0,0,{"v":0,"d":"0.0"},"",0,0,0,""]
[null,34,null,25,12,null,null,0,0,{"v":0,"d":"0.0"},"",27,21,null,null,0,0,{"v":0,"d":"0.0"},"",18,4,null,null,0,0,{"v":0,"d":"0.0"},"",22,8,null,null,0,0,{"v":0,"d":"0.0"},"",23,20,null,null,0,0,{"v":0,"d":"0.0"},"",24,5,null,null,0,0,{"v":0,"d":"0.0"},"",21,11,null,null,0,0,{"v":0,"d":"0.0"},"",28,21,null,null,0,0,{"v":0,"d":"0.0"},"",0,null,null,0,0,{"v":0,"d":"0.0"},"",0,0,0,""]
[null,35,null,25,12,null,null,0,0,{"v":0,"d":"0.0"},"",27,21,null,null,0,0,{"v":0,"d":"0.0"},"",18,4,null,null,0,0,{"v":0,"d":"0.0"},"",22,8,null,null,0,0,{"v":0,"d":"0.0"},"",23,20,null,null,0,0,{"v":0,"d":"0.0"},"",24,5,null,null,0,0,{"v":0,"d":"0.0"},"",21,11,null,null,0,0,{"v":0,"d":"0.0"},"",28,21,null,null,0,0,{"v":0,"d":"0.0"},"",0,null,null,0,0,{"v":0,"d":"0.0"},"",0,0,0,""]
[null,36,null,25,12,null,null,0,0,{"v":0,"d":"0.0"},"",27,21,null,null,0,0,{"v":0,"d":"0.0"},"",18,4,null,null,0,0,{"v":0,"d":"0.0"},"",22,8,null,null,0,0,{"v":0,"d":"0.0"},"",23,20,null,null,0,0,{"v":0,"d":"0.0"},"",24,5,null,null,0,0,{"v":0,"d":"0.0"},"",21,11,null,null,0,0,{"v":0,"d":"0.0"},"",28,21,null,null,0,0,{"v":0,"d":"0.0"},"",0,null,null,0,0,{"v":0,"d":"0.0"},"",0,0,0,""]
[null,37,null,25,12,null,null,0,0,{"v":0,"d":"0.0"},"",27,21,null,null,0,0,{"v":0,"d":"0.0"},"",18,4,null,null,0,0,{"v":0,"d":"0.0"},"",22,8,null,null,0,0,{"v":0,"d":"0.0"},"",23,20,null,null,0,0,{"v":0,"d":"0.0"},"",24,5,null,null,0,0,{"v":0,"d":"0.0"},"",21,11,null,null,0,0,{"v":0,"d":"0.0"},"",28,21,null,null,0,0,{"v":0,"d":"0.0"},"",0,null,null,0,0,{"v":0,"d":"0.0"},"",0,0,0,""]
[null,38,null,25,12,null,null,0,0,{"v":0,"d":"0.0"},"",27,21,null,null,0,0,{"v":0,"d":"0.0"},"",18,4,null,null,0,0,{"v":0,"d":"0.0"},"",22,8,null,null,0,0,{"v":0,"d":"0.0"},"",23,20,null,null,0,0,{"v":0,"d":"0.0"},"",24,5,null,null,0,0,{"v":0,"d":"0.0"},"",21,11,null,null,0,0,{"v":0,"d":"0.0"},"",28,21,null,null,0,0,{"v":0,"d":"0.0"},"",0,null,null,0,0,{"v":0,"d":"0.0"},"",0,0,0,""]
[null,39,null,25,12,null,null,0,0,{"v":0,"d":"0.0"},"",27,21,null,null,0,0,{"v":0,"d":"0.0"},"",18,4,null,null,0,0,{"v":0,"d":"0.0"},"",22,8,null,null,0,0,{"v":0,"d":"0.0"},"",23,20,null,null,0,0,{"v":0,"d":"0.0"},"",24,5,null,null,0,0,{"v":0,"d":"0.0"},"",21,11,null,null,0,0,{"v":0,"d":"0.0"},"",28,21,null,null,0,0,{"v":0,"d":"0.0"},"",0,null,null,0,0,{"v":0,"d":"0.0"},"",0,0,0,""]
[null,40,null,25,12,null,null,0,0,{"v":0,"d":"0.0"},"",27,21,null,null,0,0,{"v":0,"d":"0.0"},"",18,4,null,null,0,0,{"v":0,"d":"0.0"},"",22,8,null,null,0,0,{"v":0,"d":"0.0"},"",23,20,null,null,0,0,{"v":0,"d":"0.0"},"",24,5,null,null,0,0,{"v":0,"d":"0.0"},"",21,11,null,null,0,0,{"v":0,"d":"0.0"},"",28,21,null,null,0,0,{"v":0,"d":"0.0"},"",0,null,null,0,0,{"v":0,"d":"0.0"},"",0,0,0,""]
[null,41,null,25,12,null,null,0,0,{"v":0,"d":"0.0"},"",27,21,null,null,0,0,{"v":0,"d":"0.0"},"",18,4,null,null,0,0,{"v":0,"d":"0.0"},"",22,8,null,null,0,0,{"v":0,"d":"0.0"},"",23,20,null,null,0,0,{"v":0,"d":"0.0"},"",24,5,null,null,0,0,{"v":0,"d":"0.0"},"",21,11,null,null,0,0,{"v":0,"d":"0.0"},"",28,21,null,null,0,0,{"v":0,"d":"0.0"},"",0,null,null,0,0,{"v":0,"d":"0.0"},"",0,0,0,""]
[null,42,null,25,12,null,null,0,0,{"v":0,"d":"0.0"},"",27,21,null,null,0,0,{"v":0,"d":"0.0"},"",18,4,null,null,0,0,{"v":0,"d":"0.0"},"",22,8,null,null,0,0,{"v":0,"d":"0.0"},"",23,20,null,null,0,0,{"v":0,"d":"0.0"},"",24,5,null,null,0,0,{"v":0,"d":"0.0"},"",21,11,null,null,0,0,{"v":0,"d":"0.0"},"",28,21,null,null,0,0,{"v":0,"d":"0.0"},"",0,null,null,0,0,{"v":0,"d":"0.0"},"",0,0,0,""]
[null,43,null,25,12,null,null,0,0,{"v":0,"d":"0.0"},"",27,21,null,null,0,0,{"v":0,"d":"0.0"},"",18,4,null,null,0,0,{"v":0,"d":"0.0"},"",22,8,null,null,0,0,{"v":0,"d":"0.0"},"",23,20,null,null,0,0,{"v":0,"d":"0.0"},"",24,5,null,null,0,0,{"v":0,"d":"0.0"},"",21,11,null,null,0,0,{"v":0,"d":"0.0"},"",28,21,null,null,0,0,{"v":0,"d":"0.0"},"",0,null,null,0,0,{"v":0,"d":"0.0"},"",0,0,0,""]
[null,44,null,25,12,null,null,0,0,{"v":0,"d":"0.0"},"",27,21,null,null,0,0,{"v":0,"d":"0.0"},"",18,4,null,null,0,0,{"v":0,"d":"0.0"},"",22,8,null,null,0,0,{"v":0,"d":"0.0"},"",23,20,null,null,0,0,{"v":0,"d":"0.0"},"",24,5,null,null,0,0,{"v":0,"d":"0.0"},"",21,11,null,null,0,0,{"v":0,"d":"0.0"},"",28,21,null,null,0,0,{"v":0,"d":"0.0"},"",0,null,null,0,0,{"v":0,"d":"0.0"},"",0,0,0,""]
[null,45,null,25,12,null,null,0,0,{"v":0,"d":"0.0"},"",27,21,null,null,0,0,{"v":0,"d":"0.0"},"",18,4,null,null,0,0,{"v":0,"d":"0.0"},"",22,8,null,null,0,0,{"v":0,"d":"0.0"},"",23,20,null,null,0,0,{"v":0,"d":"0.0"},"",24,5,null,null,0,0,{"v":0,"d":"0.0"},"",21,11,null,null,0,0,{"v":0,"d":"0.0"},"",28,21,null,null,0,0,{"v":0,"d":"0.0"},"",0,null,null,0,0,{"v":0,"d":"0.0"},"",0,0,0,""]
[null,46,null,25,12,null,null,0,0,{"v":0,"d":"0.0"},"",27,21,null,null,0,0,{"v":0,"d":"0.0"},"",18,4,null,null,0,0,{"v":0,"d":"0.0"},"",22,8,null,null,0,0,{"v":0,"d":"0.0"},"",23,20,null,null,0,0,{"v":0,"d":"0.0"},"",24,5,null,null,0,0,{"v":0,"d":"0.0"},"",21,11,null,null,0,0,{"v":0,"d":"0.0"},"",28,21,null,null,0,0,{"v":0,"d":"0.0"},"",0,null,null,0,0,{"v":0,"d":"0.0"},"",0,0,0,""]
[null,47,null,25,12,null,null,0,0,{"v":0,"d":"0.0"},"",27,21,null,null,0,0,{"v":0,"d":"0.0"},"",18,4,null,null,0,0,{"v":0,"d":"0.0"},"",22,8,null,null,0,0,{"v":0,"d":"0.0"},"",23,20,null,null,0,0,{"v":0,"d":"0.0"},"",24,5,null,null,0,0,{"v":0,"d":"0.0"},"",21,11,null,null,0,0,{"v":0,"d":"0.0"},"",28,21,null,null,0,0,{"v":0,"d":"0.0"},"",0,null,null,0,0,{"v":0,"d":"0.0"},"",0,0,0,""]
[null,48,null,25,12,null,null,0,0,{"v":0,"d":"0.0"},"",27,21,null,null,0,0,{"v":0,"d":"0.0"},"",18,4,null,null,0,0,{"v":0,"d":"0.0"},"",22,8,null,null,0,0,{"v":0,"d":"0.0"},"",23,20,null,null,0,0,{"v":0,"d":"0.0"},"",24,5,null,null,0,0,{"v":0,"d":"0.0"},"",21,11,null,null,0,0,{"v":0,"d":"0.0"},"",28,21,null,null,0,0,{"v":0,"d":"0.0"},"",0,null,null,0,0,{"v":0,"d":"0.0"},"",0,0,0,""]
[null,49,null,25,12,null,null,0,0,{"v":0,"d":"0.0"},"",27,21,null,null,0,0,{"v":0,"d":"0.0"},"",18,4,null,null,0,0,{"v":0,"d":"0.0"},"",22,8,null,null,0,0,{"v":0,"d":"0.0"},"",23,20,null,null,0,0,{"v":0,"d":"0.0"},"",24,5,null,null,0,0,{"v":0,"d":"0.0"},"",21,11,null,null,0,0,{"v":0,"d":"0.0"},"",28,21,null,null,0,0,{"v":0,"d":"0.0"},"",0,null,null,0,0,{"v":0,"d":"0.0"},"",0,0,0,""]
[null,50,null,25,12,null,null,0,0,{"v":0,"d":"0.0"},"",27,21,null,null,0,0,{"v":0,"d":"0.0"},"",18,4,null,null,0,0,{"v":0,"d":"0.0"},"",22,8,null,null,0,0,{"v":0,"d":"0.0"},"",23,20,null,null,0,0,{"v":0,"d":"0.0"},"",24,5,null,null,0,0,{"v":0,"d":"0.0"},"",21,11,null,null,0,0,{"v":0,"d":"0.0"},"",28,21,null,null,0,0,{"v":0,"d":"0.0"},"",0,null,null,0,0,{"v":0,"d":"0.0"},"",0,0,0,""]
[null,51,null,25,12,null,null,0,0,{"v":0,"d":"0.0"},"",27,21,null,null,0,0,{"v":0,"d":"0.0"},"",18,4,null,null,0,0,{"v":0,"d":"0.0"},"",22,8,null,null,0,0,{"v":0,"d":"0.0"},"",23,20,null,null,0,0,{"v":0,"d":"0.0"},"",24,5,null,null,0,0,{"v":0,"d":"0.0"},"",21,11,null,null,0,0,{"v":0,"d":"0.0"},"",28,21,null,null,0,0,{"v":0,"d":"0.0"},"",0,null,null,0,0,{"v":0,"d":"0.0"},"",0,0,0,""]
[null,52,null,25,12,null,null,0,0,{"v":0,"d":"0.0"},"",27,21,null,null,0,0,{"v":0,"d":"0.0"},"",18,4,null,null,0,0,{"v":0,"d":"0.0"},"",22,8,null,null,0,0,{"v":0,"d":"0.0"},"",23,20,null,null,0,0,{"v":0,"d":"0.0"},"",24,5,null,null,0,0,{"v":0,"d":"0.0"},"",21,11,null,null,0,0,{"v":0,"d":"0.0"},"",28,21,null,null,0,0,{"v":0,"d":"0.0"},"",0,null,null,0,0,{"v":0,"d":"0.0"},"",0,0,0,""]
[null,53,null,25,12,null,null,0,0,{"v":0,"d":"0.0"},"",27,21,null,null,0,0,{"v":0,"d":"0.0"},"",18,4,null,null,0,0,{"v":0,"d":"0.0"},"",22,8,null,null,0,0,{"v":0,"d":"0.0"},"",23,20,null,null,0,0,{"v":0,"d":"0.0"},"",24,5,null,null,0,0,{"v":0,"d":"0.0"},"",21,11,null,null,0,0,{"v":0,"d":"0.0"},"",28,21,null,null,0,0,{"v":0,"d":"0.0"},"",0,null,null,0,0,{"v":0,"d":"0.0"},"",0,0,0,""]
[null,54,null,25,12,null,null,0,0,{"v":0,"d":"0.0"},"",27,21,null,null,0,0,{"v":0,"d":"0.0"},"",18,4,null,null,0,0,{"v":0,"d":"0.0"},"",22,8,null,null,0,0,{"v":0,"d":"0.0"},"",23,20,null,null,0,0,{"v":0,"d":"0.0"},"",24,5,null,null,0,0,{"v":0,"d":"0.0"},"",21,11,null,null,0,0,{"v":0,"d":"0.0"},"",28,21,null,null,0,0,{"v":0,"d":"0.0"},"",0,null,null,0,0,{"v":0,"d":"0.0"},"",0,0,0,""]
[null,55,null,25,12,null,null,0,0,{"v":0,"d":"0.0"},"",27,21,null,null,0,0,{"v":0,"d":"0.0"},"",18,4,null,null,0,0,{"v":0,"d":"0.0"},"",22,8,null,null,0,0,{"v":0,"d":"0.0"},"",23,20,null,null,0,0,{"v":0,"d":"0.0"},"",24,5,null,null,0,0,{"v":0,"d":"0.0"},"",21,11,null,null,0,0,{"v":0,"d":"0.0"},"",28,21,null,null,0,0,{"v":0,"d":"0.0"},"",0,null,null,0,0,{"v":0,"d":"0.0"},"",0,0,0,""]
[null,56,null,25,12,null,null,0,0,{"v":0,"d":"0.0"},"",27,21,null,null,0,0,{"v":0,"d":"0.0"},"",18,4,null,null,0,0,{"v":0,"d":"0.0"},"",22,8,null,null,0,0,{"v":0,"d":"0.0"},"",23,20,null,null,0,0,{"v":0,"d":"0.0"},"",24,5,null,null,0,0,{"v":0,"d":"0.0"},"",21,11,null,null,0,0,{"v":0,"d":"0.0"},"",28,21,null,null,0,0,{"v":0,"d":"0.0"},"",0,null,null,0,0,{"v":0,"d":"0.0"},"",0,0,0,""]
[null,57,null,25,12,null,null,0,0,{"v":0,"d":"0.0"},"",27,21,null,null,0,0,{"v":0,"d":"0.0"},"",18,4,null,null,0,0,{"v":0,"d":"0.0"},"",22,8,null,null,0,0,{"v":0,"d":"0.0"},"",23,20,null,null,0,0,{"v":0,"d":"0.0"},"",24,5,null,null,0,0,{"v":0,"d":"0.0"},"",21,11,null,null,0,0,{"v":0,"d":"0.0"},"",28,21,null,null,0,0,{"v":0,"d":"0.0"},"",0,null,null,0,0,{"v":0,"d":"0.0"},"",0,0,0,""]
[null,58,null,25,12,null,null,0,0,{"v":0,"d":"0.0"},"",27,21,null,null,0,0,{"v":0,"d":"0.0"},"",18,4,null,null,0,0,{"v":0,"d":"0.0"},"",22,8,null,null,0,0,{"v":0,"d":"0.0"},"",23,20,null,null,0,0,{"v":0,"d":"0.0"},"",24,5,null,null,0,0,{"v":0,"d":"0.0"},"",21,11,null,null,0,0,{"v":0,"d":"0.0"},"",28,21,null,null,0,0,{"v":0,"d":"0.0"},"",0,null,null,0,0,{"v":0,"d":"0.0"},"",0,0,0,""]
[null,59,null,25,12,null,null,0,0,{"v":0,"d":"0.0"},"",27,21,null,null,0,0,{"v":0,"d":"0.0"},"",18,4,null,null,0,0,{"v":0,"d":"0.0"},"",22,8,null,null,0,0,{"v":0,"d":"0.0"},"",23,20,null,null,0,0,{"v":0,"d":"0.0"},"",24,5,null,null,0,0,{"v":0,"d":"0.0"},"",21,11,null,null,0,0,{"v":0,"d":"0.0"},"",28,21,null,null,0,0,{"v":0,"d":"0.0"},"",0,null,null,0,0,{"v":0,"d":"0.0"},"",0,0,0,""]
[null,60,null,25,12,null,null,0,0,{"v":0,"d":"0.0"},"",27,21,null,null,0,0,{"v":0,"d":"0.0"},"",18,4,null,null,0,0,{"v":0,"d":"0.0"},"",22,8,null,null,0,0,{"v":0,"d":"0.0"},"",23,20,null,null,0,0,{"v":0,"d":"0.0"},"",24,5,null,null,0,0,{"v":0,"d":"0.0"},"",21,11,null,null,0,0,{"v":0,"d":"0.0"},"",28,21,null,null,0,0,{"v":0,"d":"0.0"},"",0,null,null,0,0,{"v":0,"d":"0.0"},"",0,0,0,""]
[null,61,null,25,12,null,null,0,0,{"v":0,"d":"0.0"},"",27,21,null,null,0,0,{"v":0,"d":"0.0"},"",18,4,null,null,0,0,{"v":0,"d":"0.0"},"",22,8,null,null,0,0,{"v":0,"d":"0.0"},"",23,20,null,null,0,0,{"v":0,"d":"0.0"},"",24,5,null,null,0,0,{"v":0,"d":"0.0"},"",21,11,null,null,0,0,{"v":0,"d":"0.0"},"",28,21,null,null,0,0,{"v":0,"d":"0.0"},"",0,null,null,0,0,{"v":0,"d":"0.0"},"",0,0,0,""]
[null,62,null,25,12,null,null,0,0,{"v":0,"d":"0.0"},"",27,21,null,null,0,0,{"v":0,"d":"0.0"},"",18,4,null,null,0,0,{"v":0,"d":"0.0"},"",22,8,null,null,0,0,{"v":0,"d":"0.0"},"",23,20,null,null,0,0,{"v":0,"d":"0.0"},"",24,5,null,null,0,0,{"v":0,"d":"0.0"},"",21,11,null,null,0,0,{"v":0,"d":"0.0"},"",28,21,null,null,0,0,{"v":0,"d":"0.0"},"",0,null,null,0,0,{"v":0,"d":"0.0"},"",0,0,0,""]
[null,63,null,25,12,null,null,0,0,{"v":0,"d":"0.0"},"",27,21,null,null,0,0,{"v":0,"d":"0.0"},"",18,4,null,null,0,0,{"v":0,"d":"0.0"},"",22,8,null,null,0,0,{"v":0,"d":"0.0"},"",23,20,null,null,0,0,{"v":0,"d":"0.0"},"",24,5,null,null,0,0,{"v":0,"d":"0.0"},"",21,11,null,null,0,0,{"v":0,"d":"0.0"},"",28,21,null,null,0,0,{"v":0,"d":"0.0"},"",0,null,null,0,0,{"v":0,"d":"0.0"},"",0,0,0,""]
[null,64,null,25,12,null,null,0,0,{"v":0,"d":"0.0"},"",27,21,null,null,0,0,{"v":0,"d":"0.0"},"",18,4,null,null,0,0,{"v":0,"d":"0.0"},"",22,8,null,null,0,0,{"v":0,"d":"0.0"},"",23,20,null,null,0,0,{"v":0,"d":"0.0"},"",24,5,null,null,0,0,{"v":0,"d":"0.0"},"",21,11,null,null,0,0,{"v":0,"d":"0.0"},"",28,21,null,null,0,0,{"v":0,"d":"0.0"},"",0,null,null,0,0,{"v":0,"d":"0.0"},"",0,0,0,""]
[null,65,null,25,12,null,null,{"$f":"IF(K71=\"D\",\"D\",IF(K71=\"W\",I71,IF(K71=\"L\",I71,0)))","v":0},{"$f":"IF(F71+G71=0,0,IF(F71+G71>0.1,F71-G71,0))","v":0},{"$f":"IF(K71=\"W\",$H$3,IF(K71=\"D\",$P$3,0))","v":{"v":0,"d":"0.0"}},{"$f":"IF(F71>G71,\"W\",IF(F71<G71,\"L\",IF(F71+G71=0,\"\",IF(F71=G71,\"D\",0))))","v":""},27,21,null,null,{"$f":"IF(S71=\"D\",\"D\",IF(S71=\"W\",Q71,IF(S71=\"L\",Q71,0)))","v":0},{"$f":"IF(N71+O71=0,0,IF(N71+O71>0.1,N71-O71,0))","v":0},{"$f":"IF(S71=\"W\",$H$3,IF(S71=\"D\",$P$3,0))","v":{"v":0,"d":"0.0"}},{"$f":"IF(N71>O71,\"W\",IF(N71<O71,\"L\",IF(N71+O71=0,\"\",IF(N71=O71,\"D\",0))))","v":""},18,4,null,null,{"$f":"IF(AA71=\"D\",\"D\",IF(AA71=\"W\",Y71,IF(AA71=\"L\",Y71,0)))","v":0},{"$f":"IF(V71+W71=0,0,IF(V71+W71>0.1,V71-W71,0))","v":0},{"$f":"IF(AA71=\"W\",$H$3,IF(AA71=\"D\",$P$3,0))","v":{"v":0,"d":"0.0"}},{"$f":"IF(V71>W71,\"W\",IF(V71<W71,\"L\",IF(V71+W71=0,\"\",IF(V71=W71,\"D\",0))))","v":""},22,8,null,null,{"$f":"IF(AI71=\"D\",\"D\",IF(AI71=\"W\",AG71,IF(AI71=\"L\",AG71,0)))","v":0},{"$f":"IF(AD71+AE71=0,0,IF(AD71+AE71>0.1,AD71-AE71,0))","v":0},{"$f":"IF(AI71=\"W\",$H$3,IF(AI71=\"D\",$P$3,0))","v":{"v":0,"d":"0.0"}},{"$f":"IF(AD71>AE71,\"W\",IF(AD71<AE71,\"L\",IF(AD71+AE71=0,\"\",IF(AD71=AE71,\"D\",0))))","v":""},23,20,null,null,{"$f":"IF(AQ71=\"D\",\"D\",IF(AQ71=\"W\",AO71,IF(AQ71=\"L\",AO71,0)))","v":0},{"$f":"IF(AL71+AM71=0,0,IF(AL71+AM71>0.1,AL71-AM71,0))","v":0},{"$f":"IF(AQ71=\"W\",$H$3,IF(AQ71=\"D\",$P$3,0))","v":{"v":0,"d":"0.0"}},{"$f":"IF(AL71>AM71,\"W\",IF(AL71<AM71,\"L\",IF(AL71+AM71=0,\"\",IF(AL71=AM71,\"D\",0))))","v":""},24,5,null,null,{"$f":"IF(AY71=\"D\",\"D\",IF(AY71=\"W\",AW71,IF(AY71=\"L\",AW71,0)))","v":0},{"$f":"IF(AT71+AU71=0,0,IF(AT71+AU71>0.1,AT71-AU71,0))","v":0},{"$f":"IF(AY71=\"W\",$H$3,IF(AY71=\"D\",$P$3,0))","v":{"v":0,"d":"0.0"}},{"$f":"IF(AT71>AU71,\"W\",IF(AT71<AU71,\"L\",IF(AT71+AU71=0,\"\",IF(AT71=AU71,\"D\",0))))","v":""},21,11,null,null,{"$f":"IF(BG71=\"D\",\"D\",IF(BG71=\"W\",BE71,IF(BG71=\"L\",BE71,0)))","v":0},{"$f":"IF(BB71+BC71=0,0,IF(BB71+BC71>0.1,BB71-BC71,0))","v":0},{"$f":"IF(BG71=\"W\",$H$3,IF(BG71=\"D\",$P$3,0))","v":{"v":0,"d":"0.0"}},{"$f":"IF(BB71>BC71,\"W\",IF(BB71<BC71,\"L\",IF(BB71+BC71=0,\"\",IF(BB71=BC71,\"D\",0))))","v":""},28,21,null,null,{"$f":"IF(BO71=\"D\",\"D\",IF(BO71=\"W\",BM71,IF(BO71=\"L\",BM71,0)))","v":0},{"$f":"IF(BJ71+BK71=0,0,IF(BJ71+BK71>0.1,BJ71-BK71,0))","v":0},{"$f":"IF(BO71=\"W\",$H$3,IF(BO71=\"D\",$P$3,0))","v":{"v":0,"d":"0.0"}},{"$f":"IF(BJ71>BK71,\"W\",IF(BJ71<BK71,\"L\",IF(BJ71+BK71=0,\"\",IF(BJ71=BK71,\"D\",0))))","v":""},{"$f":"G71+O71+W71+AE71+AM71+AU71+BC71+BK71","v":0},null,null,{"$f":"IF(BV71=\"D\",\"D\",IF(BV71=\"W\",BT71,IF(BV71=\"L\",BT71,0)))","v":0},{"$f":"IF(BQ71+BR71=0,0,IF(BQ71+BR71>0.1,BQ71-BR71,0))","v":0},{"$f":"IF(BV71=\"W\",1,IF(BV71=\"D\",0.5,0))","v":{"v":0,"d":"0.0"}},{"$f":"IF(BQ71>BR71,\"W\",IF(BQ71<BR71,\"L\",IF(BQ71=0,\"\",IF(BQ71=BR71,\"D\",0))))","v":""},{"$f":"(J71+R71+Z71+AH71+AP71+AX71+BF71+BN71+BU71)","v":0},{"$f":"I71+Q71+Y71+AG71+AO71+AW71+BE71+BM71+BT71","v":0},{"$f":"(BW71*1000000)+(BX71*100)-BP71","v":0},""]
[null,66,null,25,12,null,null,0,0,{"v":0,"d":"0.0"},"",27,21,null,null,0,0,{"v":0,"d":"0.0"},"",18,4,null,null,0,0,{"v":0,"d":"0.0"},"",22,8,null,null,0,0,{"v":0,"d":"0.0"},"",23,20,null,null,0,0,{"v":0,"d":"0.0"},"",24,5,null,null,0,0,{"v":0,"d":"0.0"},"",21,11,null,null,0,0,{"v":0,"d":"0.0"},"",28,21,null,null,0,0,{"v":0,"d":"0.0"},"",0,null,null,0,0,{"v":0,"d":"0.0"},"",0,0,0,{"$f":"IF($BY$7:$BY$90=0,\"\",RANK(BY72,$BY$7:$BY$90))","v":""}]
[null,67,null,25,12,null,null,0,0,{"v":0,"d":"0.0"},"",27,21,null,null,0,0,{"v":0,"d":"0.0"},"",18,4,null,null,0,0,{"v":0,"d":"0.0"},"",22,8,null,null,0,0,{"v":0,"d":"0.0"},"",23,20,null,null,0,0,{"v":0,"d":"0.0"},"",24,5,null,null,0,0,{"v":0,"d":"0.0"},"",21,11,null,null,0,0,{"v":0,"d":"0.0"},"",28,21,null,null,0,0,{"v":0,"d":"0.0"},"",0,null,null,0,0,{"v":0,"d":"0.0"},"",0,0,0,""]
[null,68,null,25,12,null,null,0,0,{"v":0,"d":"0.0"},"",27,21,null,null,0,0,{"v":0,"d":"0.0"},"",18,4,null,null,0,0,{"v":0,"d":"0.0"},"",22,8,null,null,0,0,{"v":0,"d":"0.0"},"",23,20,null,null,0,0,{"v":0,"d":"0.0"},"",24,5,null,null,0,0,{"v":0,"d":"0.0"},"",21,11,null,null,0,0,{"v":0,"d":"0.0"},"",28,21,null,null,0,0,{"v":0,"d":"0.0"},"",0,null,null,0,0,{"v":0,"d":"0.0"},"",0,0,0,""]
[null,69,null,25,12,null,null,0,0,{"v":0,"d":"0.0"},"",27,21,null,null,0,0,{"v":0,"d":"0.0"},"",18,4,null,null,0,0,{"v":0,"d":"0.0"},"",22,8,null,null,0,0,{"v":0,"d":"0.0"},"",23,20,null,null,0,0,{"v":0,"d":"0.0"},"",24,5,null,null,0,0,{"v":0,"d":"0.0"},"",21,11,null,null,0,0,{"v":0,"d":"0.0"},"",28,21,null,null,0,0,{"v":0,"d":"0.0"},"",0,null,null,0,0,{"v":0,"d":"0.0"},"",0,0,0,""]
[null,70,null,25,12,null,null,0,0,{"v":0,"d":"0.0"},"",27,21,null,null,0,0,{"v":0,"d":"0.0"},"",18,4,null,null,0,0,{"v":0,"d":"0.0"},"",22,8,null,null,0,0,{"v":0,"d":"0.0"},"",23,20,null,null,0,0,{"v":0,"d":"0.0"},"",24,5,null,null,0,0,{"v":0,"d":"0.0"},"",21,11,null,null,0,0,{"v":0,"d":"0.0"},"",28,21,null,null,0,0,{"v":0,"d":"0.0"},"",0,null,null,0,0,{"v":0,"d":"0.0"},"",0,0,0,""]
[null,71,null,25,12,null,null,0,0,{"v":0,"d":"0.0"},"",27,21,null,null,0,0,{"v":0,"d":"0.0"},"",18,4,null,null,0,0,{"v":0,"d":"0.0"},"",22,8,null,null,0,0,{"v":0,"d":"0.0"},"",23,20,null,null,0,0,{"v":0,"d":"0.0"},"",24,5,null,null,0,0,{"v":0,"d":"0.0"},"",21,11,null,null,0,0,{"v":0,"d":"0.0"},"",28,21,null,null,0,0,{"v":0,"d":"0.0"},"",0,null,null,0,0,{"v":0,"d":"0.0"},"",0,0,0,""]
[null,{"$f":"B77+1","v":72},null,25,12,null,null,0,0,{"v":0,"d":"0.0"},"",27,21,null,null,0,0,{"v":0,"d":"0.0"},"",18,4,null,null,0,0,{"v":0,"d":"0.0"},"",22,8,null,null,0,0,{"v":0,"d":"0.0"},"",23,20,null,null,0,0,{"v":0,"d":"0.0"},"",24,5,null,null,0,0,{"v":0,"d":"0.0"},"",21,11,null,null,0,0,{"v":0,"d":"0.0"},"",28,21,null,null,0,0,{"v":0,"d":"0.0"},"",0,null,null,0,0,{"v":0,"d":"0.0"},"",0,0,0,""]
[null,73,null,25,12,null,null,0,0,{"v":0,"d":"0.0"},"",27,21,null,null,0,0,{"v":0,"d":"0.0"},"",18,4,null,null,0,0,{"v":0,"d":"0.0"},"",22,8,null,null,0,0,{"v":0,"d":"0.0"},"",23,20,null,null,0,0,{"v":0,"d":"0.0"},"",24,5,null,null,0,0,{"v":0,"d":"0.0"},"",21,11,null,null,0,0,{"v":0,"d":"0.0"},"",28,21,null,null,0,0,{"v":0,"d":"0.0"},"",0,null,null,0,0,{"v":0,"d":"0.0"},"",0,0,0,""]
[null,74,null,25,12,null,null,0,0,{"v":0,"d":"0.0"},"",27,21,null,null,0,0,{"v":0,"d":"0.0"},"",18,4,null,null,0,0,{"v":0,"d":"0.0"},"",22,8,null,null,0,0,{"v":0,"d":"0.0"},"",23,20,null,null,0,0,{"v":0,"d":"0.0"},"",24,5,null,null,0,0,{"v":0,"d":"0.0"},"",21,11,null,null,0,0,{"v":0,"d":"0.0"},"",28,21,null,null,0,0,{"v":0,"d":"0.0"},"",0,null,null,0,0,{"v":0,"d":"0.0"},"",0,0,0,""]
[null,75,null,25,12,null,null,0,0,{"v":0,"d":"0.0"},"",27,21,null,null,0,0,{"v":0,"d":"0.0"},"",18,4,null,null,0,0,{"v":0,"d":"0.0"},"",22,8,null,null,0,0,{"v":0,"d":"0.0"},"",23,20,null,null,0,0,{"v":0,"d":"0.0"},"",24,5,null,null,0,0,{"v":0,"d":"0.0"},"",21,11,null,null,0,0,{"v":0,"d":"0.0"},"",28,21,null,null,0,0,{"v":0,"d":"0.0"},"",0,null,null,0,0,{"v":0,"d":"0.0"},"",0,0,0,""]
[null,76,null,25,12,null,null,0,0,{"v":0,"d":"0.0"},"",27,21,null,null,0,0,{"v":0,"d":"0.0"},"",18,4,null,null,0,0,{"v":0,"d":"0.0"},"",22,8,null,null,0,0,{"v":0,"d":"0.0"},"",23,20,null,null,0,0,{"v":0,"d":"0.0"},"",24,5,null,null,0,0,{"v":0,"d":"0.0"},"",21,11,null,null,0,0,{"v":0,"d":"0.0"},"",28,21,null,null,0,0,{"v":0,"d":"0.0"},"",0,null,null,0,0,{"v":0,"d":"0.0"},"",0,0,0,""]
[null,77,null,25,12,null,null,0,0,{"v":0,"d":"0.0"},"",27,21,null,null,0,0,{"v":0,"d":"0.0"},"",18,4,null,null,0,0,{"v":0,"d":"0.0"},"",22,8,null,null,0,0,{"v":0,"d":"0.0"},"",23,20,null,null,0,0,{"v":0,"d":"0.0"},"",24,5,null,null,0,0,{"v":0,"d":"0.0"},"",21,11,null,null,0,0,{"v":0,"d":"0.0"},"",28,21,null,null,0,0,{"v":0,"d":"0.0"},"",0,null,null,0,0,{"v":0,"d":"0.0"},"",0,0,0,""]
[null,78,null,25,12,null,null,0,0,{"v":0,"d":"0.0"},"",27,21,null,null,0,0,{"v":0,"d":"0.0"},"",18,4,null,null,0,0,{"v":0,"d":"0.0"},"",22,8,null,null,0,0,{"v":0,"d":"0.0"},"",23,20,null,null,0,0,{"v":0,"d":"0.0"},"",24,5,null,null,0,0,{"v":0,"d":"0.0"},"",21,11,null,null,0,0,{"v":0,"d":"0.0"},"",28,21,null,null,0,0,{"v":0,"d":"0.0"},"",0,null,null,0,0,{"v":0,"d":"0.0"},"",0,0,0,""]
[null,79,null,25,12,null,null,0,0,{"v":0,"d":"0.0"},"",27,21,null,null,0,0,{"v":0,"d":"0.0"},"",18,4,null,null,0,0,{"v":0,"d":"0.0"},"",22,8,null,null,0,0,{"v":0,"d":"0.0"},"",23,20,null,null,0,0,{"v":0,"d":"0.0"},"",24,5,null,null,0,0,{"v":0,"d":"0.0"},"",21,11,null,null,0,0,{"v":0,"d":"0.0"},"",28,21,null,null,0,0,{"v":0,"d":"0.0"},"",0,null,null,0,0,{"v":0,"d":"0.0"},"",0,0,0,""]
[null,80,null,25,12,null,null,0,0,{"v":0,"d":"0.0"},"",27,21,null,null,0,0,{"v":0,"d":"0.0"},"",18,4,null,null,0,0,{"v":0,"d":"0.0"},"",22,8,null,null,0,0,{"v":0,"d":"0.0"},"",23,20,null,null,0,0,{"v":0,"d":"0.0"},"",24,5,null,null,0,0,{"v":0,"d":"0.0"},"",21,11,null,null,0,0,{"v":0,"d":"0.0"},"",28,21,null,null,0,0,{"v":0,"d":"0.0"},"",0,null,null,0,0,{"v":0,"d":"0.0"},"",0,0,0,""]
[null,81,null,25,12,null,null,0,0,{"v":0,"d":"0.0"},"",27,21,null,null,0,0,{"v":0,"d":"0.0"},"",18,4,null,null,0,0,{"v":0,"d":"0.0"},"",22,8,null,null,0,0,{"v":0,"d":"0.0"},"",23,20,null,null,0,0,{"v":0,"d":"0.0"},"",24,5,null,null,0,0,{"v":0,"d":"0.0"},"",21,11,null,null,0,0,{"v":0,"d":"0.0"},"",28,21,null,null,0,0,{"v":0,"d":"0.0"},"",0,null,null,0,0,{"v":0,"d":"0.0"},"",0,0,0,""]
[null,82,null,25,12,null,null,0,0,{"v":0,"d":"0.0"},"",27,21,null,null,0,0,{"v":0,"d":"0.0"},"",18,4,null,null,0,0,{"v":0,"d":"0.0"},"",22,8,null,null,0,0,{"v":0,"d":"0.0"},"",23,20,null,null,0,0,{"v":0,"d":"0.0"},"",24,5,null,null,0,0,{"v":0,"d":"0.0"},"",21,11,null,null,0,0,{"v":0,"d":"0.0"},"",28,21,null,null,0,0,{"v":0,"d":"0.0"},"",0,null,null,0,0,{"v":0,"d":"0.0"},"",0,0,0,""]
[null,83,null,25,12,null,null,0,0,{"v":0,"d":"0.0"},"",27,21,null,null,0,0,{"v":0,"d":"0.0"},"",18,4,null,null,0,0,{"v":0,"d":"0.0"},"",22,8,null,null,0,0,{"v":0,"d":"0.0"},"",23,20,null,null,0,0,{"v":0,"d":"0.0"},"",24,5,null,null,0,0,{"v":0,"d":"0.0"},"",21,11,null,null,0,0,{"v":0,"d":"0.0"},"",28,21,null,null,0,0,{"v":0,"d":"0.0"},"",0,null,null,0,0,{"v":0,"d":"0.0"},"",0,0,0,""]
[null,84,null,25,12,null,null,0,0,{"v":0,"d":"0.0"},"",27,21,null,null,0,0,{"v":0,"d":"0.0"},"",18,4,null,null,0,0,{"v":0,"d":"0.0"},"",22,8,20,10,10,10,{"v":1,"d":"1.0"},"W",23,20,null,null,0,0,{"v":0,"d":"0.0"},"",24,5,null,null,0,0,{"v":0,"d":"0.0"},"",21,11,null,null,0,0,{"v":0,"d":"0.0"},"",28,21,null,null,0,0,{"v":0,"d":"0.0"},"",10,null,null,0,0,{"v":0,"d":"0.0"},"",1,10,1000990,1]

{"sheet":"12","index":4,"n_rows":101,"n_cols":45,"rows_kept":101,"hidden":true,"merged":[[0,1,0,6],[1,1,1,2],[1,3,1,4],[1,5,1,6],[2,0,3,0],[4,0,5,0],[6,0,7,0],[8,0,9,0],[10,1,10,6],[15,1,15,6],[15,10,15,15],[15,19,15,24],[15,28,15,33],[16,37,16,38],[16,39,16,40],[16,41,16,42],[16,43,16,44]]}
[null,"YOU MAY CHANGE THESE RINK NUMBERS IF YOU WISH"]
["Round",2,null,3,null,4]
[1,1,3,5,7,9,11]
[null,2,4,6,8,10,12]
[2,5,9,1,10,2,6]
[null,7,11,3,12,4,8]
[3,2,8,6,9,11,5]
[null,3,1,7,4,10,12]
[4,6,4,2,8,1,3]
[null,10,5,11,12,7,9]
[null,"12 on 1 green"]
[]
[]
[]
[]
[null,1,{"$nulls":8},2,{"$nulls":8},3,{"$nulls":8},4]
[null,"no","Left","rink","no","Right","rink","L","R",null,"no","Left","rink","no","Right","rink","L","R",null,"no","Left","rink","no","Right","rink","L","R",null,"no","Left","rink","no","Right","rink","L","R",null,1,null,2,null,3,null,4]
[null,1,"Left",{"$f":"$B$2","v":2},3,"Right",{"$f":"$B$2","v":2},{"$f":"(D18&\" \"&C18)","v":"2 Left"},{"$f":"(G18&\" \"&F18)","v":"2 Right"},null,5,"Left",{"$f":"$B$2","v":2},9,"Right",{"$f":"$B$2","v":2},{"$f":"(M18&\" \"&L18)","v":"2 Left"},{"$f":"(P18&\" \"&O18)","v":"2 Right"},null,2,"Left",{"$f":"$B$2","v":2},8,"Right",{"$f":"$B$2","v":2},{"$f":"(V18&\" \"&U18)","v":"2 Left"},{"$f":"(Y18&\" \"&X18)","v":"2 Right"},null,6,"Left",{"$f":"$B$2","v":2},4,"Right",{"$f":"$B$2","v":2},{"$f":"(AE18&\" \"&AD18)","v":"2 Left"},{"$f":"(AH18&\" \"&AG18)","v":"2 Right"}]
[null,2,"Left",{"$f":"$B$2","v":2},4,"Right",{"$f":"$B$2","v":2},{"$f":"(D19&\" \"&C19)","v":"2 Left"},{"$f":"(G19&\" \"&F19)","v":"2 Right"},null,7,"Left",{"$f":"$B$2","v":2},11,"Right",{"$f":"$B$2","v":2},{"$f":"(M19&\" \"&L19)","v":"2 Left"},{"$f":"(P19&\" \"&O19)","v":"2 Right"},null,3,"Left",{"$f":"$B$2","v":2},1,"Right",{"$f":"$B$2","v":2},{"$f":"(V19&\" \"&U19)","v":"2 Left"},{"$f":"(Y19&\" \"&X19)","v":"2 Right"},null,10,"Left",{"$f":"$B$2","v":2},5,"Right",{"$f":"$B$2","v":2},{"$f":"(AE19&\" \"&AD19)","v":"2 Left"},{"$f":"(AH19&\" \"&AG19)","v":"2 Right"}]
[null,null,"Left",{"$f":"$B$2","v":2},null,"Right",{"$f":"$B$2","v":2},"2 Left","2 Right",null,null,"Left",{"$f":"$B$2","v":2},null,"Right",{"$f":"$B$2","v":2},"2 Left","2 Right",null,null,"Left",{"$f":"$B$2","v":2},null,"Right",{"$f":"$B$2","v":2},"2 Left","2 Right",null,null,"Left",{"$f":"$B$2","v":2},null,"Right",{"$f":"$B$2","v":2},"2 Left","2 Right"]
[null,5,"Left",{"$f":"$D$2","v":3},7,"Right",{"$f":"$D$2","v":3},"3 Left","3 Right",null,1,"Left",{"$f":"$D$2","v":3},10,"Right",{"$f":"$D$2","v":3},"3 Left","3 Right",null,6,"Left",{"$f":"$D$2","v":3},9,"Right",{"$f":"$D$2","v":3},"3 Left","3 Right",null,2,"Left",{"$f":"$D$2","v":3},8,"Right",{"$f":"$D$2","v":3},"3 Left","3 Right"]
[null,6,"Left",{"$f":"$D$2","v":3},8,"Right",{"$f":"$D$2","v":3},"3 Left","3 Right",null,3,"Left",{"$f":"$D$2","v":3},12,"Right",{"$f":"$D$2","v":3},"3 Left","3 Right",null,7,"Left",{"$f":"$D$2","v":3},4,"Right",{"$f":"$D$2","v":3},"3 Left","3 Right",null,11,"Left",{"$f":"$D$2","v":3},12,"Right",{"$f":"$D$2","v":3},"3 Left","3 Right"]
[null,null,"Left",{"$f":"$D$2","v":3},null,"Right",{"$f":"$D$2","v":3},"3 Left","3 Right",null,null,"Left",{"$f":"$D$2","v":3},null,"Right",{"$f":"$D$2","v":3},"3 Left","3 Right",null,null,"Left",{"$f":"$D$2","v":3},null,"Right",{"$f":"$D$2","v":3},"3 Left","3 Right",null,null,"Left",{"$f":"$D$2","v":3},null,"Right",{"$f":"$D$2","v":3},"3 Left","3 Right"]
[null,9,"Left",{"$f":"$F$2","v":4},11,"Right",{"$f":"$F$2","v":4},"4 Left","4 Right",null,2,"Left",{"$f":"$F$2","v":4},6,"Right",{"$f":"$F$2","v":4},"4 Left","4 Right",null,11,"Left",{"$f":"$F$2","v":4},5,"Right",{"$f":"$F$2","v":4},"4 Left","4 Right",null,1,"Left",{"$f":"$F$2","v":4},3,"Right",{"$f":"$F$2","v":4},"4 Left","4 Right"]
[null,10,"Left",{"$f":"$F$2","v":4},12,"Right",{"$f":"$F$2","v":4},"4 Left","4 Right",null,4,"Left",{"$f":"$F$2","v":4},8,"Right",{"$f":"$F$2","v":4},"4 Left","4 Right",null,10,"Left",{"$f":"$F$2","v":4},12,"Right",{"$f":"$F$2","v":4},"4 Left","4 Right",null,7,"Left",{"$f":"$F$2","v":4},9,"Right",{"$f":"$F$2","v":4},"4 Left","4 Right"]
[null,null,"Left",{"$f":"$F$2","v":4},null,"Right",{"$f":"$F$2","v":4},"4 Left","4 Right",null,null,"Left",{"$f":"$F$2","v":4},null,"Right",{"$f":"$F$2","v":4},"4 Left","4 Right",null,null,"Left",{"$f":"$F$2","v":4},null,"Right",{"$f":"$F$2","v":4},"4 Left","4 Right",null,null,"Left",{"$f":"$F$2","v":4},null,"Right",{"$f":"$F$2","v":4},"4 Left","4 Right"]
[null,null,"Left",{"$f":"$H$2","v":0},null,"Right",{"$f":"$H$2","v":0},"0 Left","0 Right",null,null,"Left",{"$f":"$H$2","v":0},null,"Right",{"$f":"$H$2","v":0},"0 Left","0 Right",null,null,"Left",{"$f":"$H$2","v":0},null,"Right",{"$f":"$H$2","v":0},"0 Left","0 Right",null,null,"Left",{"$f":"$H$2","v":0},null,"Right",{"$f":"$H$2","v":0},"0 Left","0 Right"]
[null,null,"Left",{"$f":"$H$2","v":0},null,"Right",{"$f":"$H$2","v":0},"0 Left","0 Right",null,null,"Left",{"$f":"$H$2","v":0},null,"Right",{"$f":"$H$2","v":0},"0 Left","0 Right",null,null,"Left",{"$f":"$H$2","v":0},null,"Right",{"$f":"$H$2","v":0},"0 Left","0 Right",null,null,"Left",{"$f":"$H$2","v":0},null,"Right",{"$f":"$H$2","v":0},"0 Left","0 Right"]
[null,null,"Left",0,null,"Right",0,"0 Left","0 Right",null,null,"Left",0,null,"Right",0,"0 Left","0 Right",null,null,"Left",0,null,"Right",0,"0 Left","0 Right",null,null,"Left",0,null,"Right",0,"0 Left","0 Right"]
[null,null,"Left",{"$f":"$J$2","v":0},null,"Right",{"$f":"$J$2","v":0},"0 Left","0 Right",null,null,"Left",{"$f":"$J$2","v":0},null,"Right",{"$f":"$J$2","v":0},"0 Left","0 Right",null,null,"Left",{"$f":"$J$2","v":0},null,"Right",{"$f":"$J$2","v":0},"0 Left","0 Right",null,null,"Left",{"$f":"$J$2","v":0},null,"Right",{"$f":"$J$2","v":0},"0 Left","0 Right",null,{"$f":"$B$27","v":0},{"$f":"$H$27","v":"0 Left"},{"$f":"$K$20","v":0},{"$f":"$Q$20","v":"2 Left"},{"$f":"$T$20","v":0},{"$f":"$Z$20","v":"2 Left"},{"$f":"$AC$20","v":0},{"$f":"$AI$20","v":"2 Left"}]
[null,null,"Left",{"$f":"$J$2","v":0},null,"Right",{"$f":"$J$2","v":0},"0 Left","0 Right",null,null,"Left",{"$f":"$J$2","v":0},null,"Right",{"$f":"$J$2","v":0},"0 Left","0 Right",null,null,"Left",{"$f":"$J$2","v":0},null,"Right",{"$f":"$J$2","v":0},"0 Left","0 Right",null,null,"Left",{"$f":"$J$2","v":0},null,"Right",{"$f":"$J$2","v":0},"0 Left","0 Right",null,{"$f":"$E$27","v":0},{"$f":"$I$27","v":"0 Right"},{"$f":"$K$23","v":0},{"$f":"$Q$23","v":"3 Left"},{"$f":"$T$23","v":0},{"$f":"$Z$23","v":"3 Left"},{"$f":"$AC$23","v":0},{"$f":"$AI$23","v":"3 Left"}]
[null,null,"Left",0,null,"Right",0,"0 Left","0 Right",null,null,"Left",0,null,"Right",0,"0 Left","0 Right",null,null,"Left",0,null,"Right",0,"0 Left","0 Right",null,null,"Left",0,null,"Right",0,"0 Left","0 Right",null,{"$f":"$B$30","v":0},{"$f":"$H$30","v":"0 Left"},{"$f":"$K$26","v":0},{"$f":"$Q$26","v":"4 Left"},{"$f":"$T$26","v":0},{"$f":"$Z$26","v":"4 Left"},{"$f":"$AC$26","v":0},{"$f":"$AI$26","v":"4 Left"}]
[null,null,"Left",{"$f":"$L$2","v":0},null,"Right",{"$f":"$L$2","v":0},"0 Left","0 Right",null,null,"Left",{"$f":"$L$2","v":0},null,"Right",{"$f":"$L$2","v":0},"0 Left","0 Right",null,null,"Left",{"$f":"$L$2","v":0},null,"Right",{"$f":"$L$2","v":0},"0 Left","0 Right",null,null,"Left",{"$f":"$L$2","v":0},null,"Right",{"$f":"$L$2","v":0},"0 Left","0 Right",null,{"$f":"$E$30","v":0},{"$f":"$I$30","v":"0 Right"},{"$f":"$K$27","v":0},{"$f":"$Q$27","v":"0 Left"},{"$f":"$T$27","v":0},{"$f":"$Z$27","v":"0 Left"},{"$f":"$AC$27","v":0},{"$f":"$AI$27","v":"0 Left"}]
[null,null,"Left",{"$f":"$L$2","v":0},null,"Right",{"$f":"$L$2","v":0},"0 Left","0 Right",null,null,"Left",{"$f":"$L$2","v":0},null,"Right",{"$f":"$L$2","v":0},"0 Left","0 Right",null,null,"Left",{"$f":"$L$2","v":0},null,"Right",{"$f":"$L$2","v":0},"0 Left","0 Right",null,null,"Left",{"$f":"$L$2","v":0},null,"Right",{"$f":"$L$2","v":0},"0 Left","0 Right",null,{"$f":"$B$28","v":0},{"$f":"$H$28","v":"0 Left"},{"$f":"$K$28","v":0},{"$f":"$Q$28","v":"0 Left"},{"$f":"$T$28","v":0},{"$f":"$Z$28","v":"0 Left"},{"$f":"$AC$28","v":0},{"$f":"$AI$28","v":"0 Left"}]
[null,null,"Left",0,null,"Right",0,"0 Left","0 Right",null,null,"Left",0,null,"Right",0,"0 Left","0 Right",null,null,"Left",0,null,"Right",0,"0 Left","0 Right",null,null,"Left",0,null,"Right",0,"0 Left","0 Right",null,{"$f":"$E$28","v":0},{"$f":"$I$28","v":"0 Right"},{"$f":"$K$29","v":0},{"$f":"$Q$29","v":"0 Left"},{"$f":"$T$29","v":0},{"$f":"$Z$29","v":"0 Left"},{"$f":"$AC$29","v":0},{"$f":"$AI$29","v":"0 Left"}]
[null,null,"Left",{"$f":"$N$2","v":0},null,"Right",{"$f":"$N$2","v":0},"0 Left","0 Right",null,null,"Left",{"$f":"$N$2","v":0},null,"Right",{"$f":"$N$2","v":0},"0 Left","0 Right",null,null,"Left",{"$f":"$N$2","v":0},null,"Right",{"$f":"$N$2","v":0},"0 Left","0 Right",null,null,"Left",{"$f":"$N$2","v":0},null,"Right",{"$f":"$N$2","v":0},"0 Left","0 Right",null,{"$f":"$B$31","v":0},{"$f":"$H$31","v":"0 Left"},{"$f":"$K$30","v":0},{"$f":"$Q$30","v":"0 Left"},{"$f":"$T$30","v":0},{"$f":"$Z$30","v":"0 Left"},{"$f":"$AC$30","v":0},{"$f":"$AI$30","v":"0 Left"}]
[null,null,"Left",{"$f":"$N$2","v":0},null,"Right",{"$f":"$N$2","v":0},"0 Left","0 Right",null,null,"Left",{"$f":"$N$2","v":0},null,"Right",{"$f":"$N$2","v":0},"0 Left","0 Right",null,null,"Left",{"$f":"$N$2","v":0},null,"Right",{"$f":"$N$2","v":0},"0 Left","0 Right",null,null,"Left",{"$f":"$N$2","v":0},null,"Right",{"$f":"$N$2","v":0},"0 Left","0 Right",null,{"$f":"$E$31","v":0},{"$f":"$I$31","v":"0 Right"},{"$f":"$K$31","v":0},{"$f":"$Q$31","v":"0 Left"},{"$f":"$T$31","v":0},{"$f":"$Z$31","v":"0 Left"},{"$f":"$AC$31","v":0},{"$f":"$AI$31","v":"0 Left"}]
[null,null,"Left",0,null,"Right",0,"0 Left","0 Right",null,null,"Left",0,null,"Right",0,"0 Left","0 Right",null,null,"Left",0,null,"Right",0,"0 Left","0 Right",null,null,"Left",0,null,"Right",0,"0 Left","0 Right",null,{"$f":"$B$20","v":0},{"$f":"$H$20","v":"2 Left"},{"$f":"$K$32","v":0},{"$f":"$Q$32","v":"0 Left"},{"$f":"$T$32","v":0},{"$f":"$Z$32","v":"0 Left"},{"$f":"$AC$32","v":0},{"$f":"$AI$32","v":"0 Left"}]
[null,null,"Left",{"$f":"$P$2","v":0},null,"Right",{"$f":"$P$2","v":0},"0 Left","0 Right",null,null,"Left",{"$f":"$P$2","v":0},null,"Right",{"$f":"$P$2","v":0},"0 Left","0 Right",null,null,"Left",{"$f":"$P$2","v":0},null,"Right",{"$f":"$P$2","v":0},"0 Left","0 Right",null,null,"Left",{"$f":"$P$2","v":0},null,"Right",{"$f":"$P$2","v":0},"0 Left","0 Right",null,{"$f":"$E$20","v":0},{"$f":"$I$20","v":"2 Right"},{"$f":"$K$33","v":0},{"$f":"$Q$33","v":"0 Left"},{"$f":"$T$33","v":0},{"$f":"$Z$33","v":"0 Left"},{"$f":"$AC$33","v":0},{"$f":"$AI$33","v":"0 Left"}]
[null,null,"Left",{"$f":"$P$2","v":0},null,"Right",{"$f":"$P$2","v":0},"0 Left","0 Right",null,null,"Left",{"$f":"$P$2","v":0},null,"Right",{"$f":"$P$2","v":0},"0 Left","0 Right",null,null,"Left",{"$f":"$P$2","v":0},null,"Right",{"$f":"$P$2","v":0},"0 Left","0 Right",null,null,"Left",{"$f":"$P$2","v":0},null,"Right",{"$f":"$P$2","v":0},"0 Left","0 Right",null,{"$f":"$B$33","v":0},{"$f":"$H$33","v":"0 Left"},{"$f":"$K$34","v":0},{"$f":"$Q$34","v":"0 Left"},{"$f":"$T$34","v":0},{"$f":"$Z$34","v":"0 Left"},{"$f":"$AC$34","v":0},{"$f":"$AI$34","v":"0 Left"}]
[null,null,"Left",0,null,"Right",0,"0 Left","0 Right",null,null,"Left",0,null,"Right",0,"0 Left","0 Right",null,null,"Left",0,null,"Right",0,"0 Left","0 Right",null,null,"Left",0,null,"Right",0,"0 Left","0 Right",null,{"$f":"$E$33","v":0},{"$f":"$I$33","v":"0 Right"},{"$f":"$K$35","v":0},{"$f":"$Q$35","v":"0 Left"},{"$f":"$T$35","v":0},{"$f":"$Z$35","v":"0 Left"},{"$f":"$AC$35","v":0},{"$f":"$AI$35","v":"0 Left"}]
[null,null,"Left",{"$f":"$R$2","v":0},null,"Right",{"$f":"$R$2","v":0},"0 Left","0 Right",null,null,"Left",{"$f":"$R$2","v":0},null,"Right",{"$f":"$R$2","v":0},"0 Left","0 Right",null,null,"Left",{"$f":"$R$2","v":0},null,"Right",{"$f":"$R$2","v":0},"0 Left","0 Right",null,null,"Left",{"$f":"$R$2","v":0},null,"Right",{"$f":"$R$2","v":0},"0 Left","0 Right",null,{"$f":"$B$36","v":0},{"$f":"$H$36","v":"0 Left"},{"$f":"$K$36","v":0},{"$f":"$Q$36","v":"0 Left"},{"$f":"$T$36","v":0},{"$f":"$Z$36","v":"0 Left"},{"$f":"$AC$36","v":0},{"$f":"$AI$36","v":"0 Left"}]
[null,null,"Left",{"$f":"$R$2","v":0},null,"Right",{"$f":"$R$2","v":0},"0 Left","0 Right",null,null,"Left",{"$f":"$R$2","v":0},null,"Right",{"$f":"$R$2","v":0},"0 Left","0 Right",null,null,"Left",{"$f":"$R$2","v":0},null,"Right",{"$f":"$R$2","v":0},"0 Left","0 Right",null,null,"Left",{"$f":"$R$2","v":0},null,"Right",{"$f":"$R$2","v":0},"0 Left","0 Right",null,{"$f":"$E$36","v":0},{"$f":"$I$36","v":"0 Right"},{"$f":"$K$37","v":0},{"$f":"$Q$37","v":"0 Left"},{"$f":"$T$37","v":0},{"$f":"$Z$37","v":"0 Left"},{"$f":"$AC$37","v":0},{"$f":"$AI$37","v":"0 Left"}]
[null,null,"Left",0,null,"Right",0,"0 Left","0 Right",null,null,"Left",0,null,"Right",0,"0 Left","0 Right",null,null,"Left",0,null,"Right",0,"0 Left","0 Right",null,null,"Left",0,null,"Right",0,"0 Left","0 Right",null,{"$f":"$B$39","v":0},{"$f":"$H$39","v":"0 Left"},{"$f":"$K$38","v":0},{"$f":"$Q$38","v":"0 Left"},{"$f":"$T$38","v":0},{"$f":"$Z$38","v":"0 Left"},{"$f":"$AC$38","v":0},{"$f":"$AI$38","v":"0 Left"}]
[null,null,"Left",{"$f":"$T$2","v":0},null,"Right",{"$f":"$T$2","v":0},"0 Left","0 Right",null,null,"Left",{"$f":"$T$2","v":0},null,"Right",{"$f":"$T$2","v":0},"0 Left","0 Right",null,null,"Left",{"$f":"$T$2","v":0},null,"Right",{"$f":"$T$2","v":0},"0 Left","0 Right",null,null,"Left",{"$f":"$T$2","v":0},null,"Right",{"$f":"$T$2","v":0},"0 Left","0 Right",null,{"$f":"$E$39","v":0},{"$f":"$I$39","v":"0 Right"},{"$f":"$K$39","v":0},{"$f":"$Q$39","v":"0 Left"},{"$f":"$T$39","v":0},{"$f":"$Z$39","v":"0 Left"},{"$f":"$AC$39","v":0},{"$f":"$AI$39","v":"0 Left"}]
[null,null,"Left",{"$f":"$T$2","v":0},null,"Right",{"$f":"$T$2","v":0},"0 Left","0 Right",null,null,"Left",{"$f":"$T$2","v":0},null,"Right",{"$f":"$T$2","v":0},"0 Left","0 Right",null,null,"Left",{"$f":"$T$2","v":0},null,"Right",{"$f":"$T$2","v":0},"0 Left","0 Right",null,null,"Left",{"$f":"$T$2","v":0},null,"Right",{"$f":"$T$2","v":0},"0 Left","0 Right",null,{"$f":"$B$42","v":0},{"$f":"$H$42","v":"0 Left"},{"$f":"$K$40","v":0},{"$f":"$Q$40","v":"0 Left"},{"$f":"$T$40","v":0},{"$f":"$Z$40","v":"0 Left"},{"$f":"$AC$40","v":0},{"$f":"$AI$40","v":"0 Left"}]
[null,null,"Left",0,null,"Right",0,"0 Left","0 Right",null,null,"Left",0,null,"Right",0,"0 Left","0 Right",null,null,"Left",0,null,"Right",0,"0 Left","0 Right",null,null,"Left",0,null,"Right",0,"0 Left","0 Right",null,{"$f":"$E$42","v":0},{"$f":"$I$42","v":"0 Right"},{"$f":"$K$41","v":0},{"$f":"$Q$41","v":"0 Left"},{"$f":"$T$41","v":0},{"$f":"$Z$41","v":"0 Left"},{"$f":"$AC$41","v":0},{"$f":"$AI$41","v":"0 Left"}]
[null,null,"Left",{"$f":"$V$2","v":0},null,"Right",{"$f":"$V$2","v":0},"0 Left","0 Right",null,null,"Left",{"$f":"$V$2","v":0},null,"Right",{"$f":"$V$2","v":0},"0 Left","0 Right",null,null,"Left",{"$f":"$V$2","v":0},null,"Right",{"$f":"$V$2","v":0},"0 Left","0 Right",null,null,"Left",{"$f":"$V$2","v":0},null,"Right",{"$f":"$V$2","v":0},"0 Left","0 Right",null,{"$f":"$B$45","v":0},{"$f":"$H$45","v":"0 Left"},{"$f":"$K$42","v":0},{"$f":"$Q$42","v":"0 Left"},{"$f":"$T$42","v":0},{"$f":"$Z$42","v":"0 Left"},{"$f":"$AC$42","v":0},{"$f":"$AI$42","v":"0 Left"}]
[null,null,"Left",{"$f":"$V$2","v":0},null,"Right",{"$f":"$V$2","v":0},"0 Left","0 Right",null,null,"Left",{"$f":"$V$2","v":0},null,"Right",{"$f":"$V$2","v":0},"0 Left","0 Right",null,null,"Left",{"$f":"$V$2","v":0},null,"Right",{"$f":"$V$2","v":0},"0 Left","0 Right",null,null,"Left",{"$f":"$V$2","v":0},null,"Right",{"$f":"$V$2","v":0},"0 Left","0 Right",null,{"$f":"$E$45","v":0},{"$f":"$I$45","v":"0 Right"},{"$f":"$K$43","v":0},{"$f":"$Q$43","v":"0 Left"},{"$f":"$T$43","v":0},{"$f":"$Z$43","v":"0 Left"},{"$f":"$AC$43","v":0},{"$f":"$AI$43","v":"0 Left"}]
[null,null,"Left",0,null,"Right",0,"0 Left","0 Right",null,null,"Left",0,null,"Right",0,"0 Left","0 Right",null,null,"Left",0,null,"Right",0,"0 Left","0 Right",null,null,"Left",0,null,"Right",0,"0 Left","0 Right",null,{"$f":"$B$34","v":0},{"$f":"$H$34","v":"0 Left"},{"$f":"$K$44","v":0},{"$f":"$Q$44","v":"0 Left"},{"$f":"$T$44","v":0},{"$f":"$Z$44","v":"0 Left"},{"$f":"$AC$44","v":0},{"$f":"$AI$44","v":"0 Left"}]
[null,null,"Left",{"$f":"$X$2","v":0},null,"Right",{"$f":"$X$2","v":0},"0 Left","0 Right",null,null,"Left",{"$f":"$X$2","v":0},null,"Right",{"$f":"$X$2","v":0},"0 Left","0 Right",null,null,"Left",{"$f":"$X$2","v":0},null,"Right",{"$f":"$X$2","v":0},"0 Left","0 Right",null,null,"Left",{"$f":"$X$2","v":0},null,"Right",{"$f":"$X$2","v":0},"0 Left","0 Right",null,{"$f":"$E$34","v":0},{"$f":"$I$34","v":"0 Right"},{"$f":"$K$45","v":0},{"$f":"$Q$45","v":"0 Left"},{"$f":"$T$45","v":0},{"$f":"$Z$45","v":"0 Left"},{"$f":"$AC$45","v":0},{"$f":"$AI$45","v":"0 Left"}]
[null,null,"Left",{"$f":"$X$2","v":0},null,"Right",{"$f":"$X$2","v":0},"0 Left","0 Right",null,null,"Left",{"$f":"$X$2","v":0},null,"Right",{"$f":"$X$2","v":0},"0 Left","0 Right",null,null,"Left",{"$f":"$X$2","v":0},null,"Right",{"$f":"$X$2","v":0},"0 Left","0 Right",null,null,"Left",{"$f":"$X$2","v":0},null,"Right",{"$f":"$X$2","v":0},"0 Left","0 Right",null,{"$f":"$B$37","v":0},{"$f":"$H$37","v":"0 Left"},{"$f":"$K$46","v":0},{"$f":"$Q$46","v":"0 Left"},{"$f":"$T$46","v":0},{"$f":"$Z$46","v":"0 Left"},{"$f":"$AC$46","v":0},{"$f":"$AI$46","v":"0 Left"}]
[null,null,"Left",0,null,"Right",0,"0 Left","0 Right",null,null,"Left",0,null,"Right",0,"0 Left","0 Right",null,null,"Left",0,null,"Right",0,"0 Left","0 Right",null,null,"Left",0,null,"Right",0,"0 Left","0 Right",null,{"$f":"$E$37","v":0},{"$f":"$I$37","v":"0 Right"},{"$f":"$K$47","v":0},{"$f":"$Q$47","v":"0 Left"},{"$f":"$T$47","v":0},{"$f":"$Z$47","v":"0 Left"},{"$f":"$AC$47","v":0},{"$f":"$AI$47","v":"0 Left"}]
[null,null,"Left",{"$f":"$Z$2","v":0},null,"Right",{"$f":"$Z$2","v":0},"0 Left","0 Right",null,null,"Left",{"$f":"$Z$2","v":0},null,"Right",{"$f":"$Z$2","v":0},"0 Left","0 Right",null,null,"Left",{"$f":"$Z$2","v":0},null,"Right",{"$f":"$Z$2","v":0},"0 Left","0 Right",null,null,"Left",{"$f":"$Z$2","v":0},null,"Right",{"$f":"$Z$2","v":0},"0 Left","0 Right",null,{"$f":"$B$40","v":0},{"$f":"$H$40","v":"0 Left"},{"$f":"$K$48","v":0},{"$f":"$Q$48","v":"0 Left"},{"$f":"$T$48","v":0},{"$f":"$Z$48","v":"0 Left"},{"$f":"$AC$48","v":0},{"$f":"$AI$48","v":"0 Left"}]
[null,null,"Left",{"$f":"$Z$2","v":0},null,"Right",{"$f":"$Z$2","v":0},"0 Left","0 Right",null,null,"Left",{"$f":"$Z$2","v":0},null,"Right",{"$f":"$Z$2","v":0},"0 Left","0 Right",null,null,"Left",{"$f":"$Z$2","v":0},null,"Right",{"$f":"$Z$2","v":0},"0 Left","0 Right",null,null,"Left",{"$f":"$Z$2","v":0},null,"Right",{"$f":"$Z$2","v":0},"0 Left","0 Right",null,{"$f":"$E$40","v":0},{"$f":"$I$40","v":"0 Right"},{"$f":"$K$49","v":0},{"$f":"$Q$49","v":"0 Left"},{"$f":"$T$49","v":0},{"$f":"$Z$49","v":"0 Left"},{"$f":"$AC$49","v":0},{"$f":"$AI$49","v":"0 Left"}]
[null,null,"Left",0,null,"Right",0,"0 Left","0 Right",null,null,"Left",0,null,"Right",0,"0 Left","0 Right",null,null,"Left",0,null,"Right",0,"0 Left","0 Right",null,null,"Left",0,null,"Right",0,"0 Left","0 Right",null,{"$f":"$B$43","v":0},{"$f":"$H$43","v":"0 Left"},{"$f":"$K$50","v":0},{"$f":"$Q$50","v":"0 Left"},{"$f":"$T$50","v":0},{"$f":"$Z$50","v":"0 Left"},{"$f":"$AC$50","v":0},{"$f":"$AI$50","v":"0 Left"}]
[null,null,"Left",{"$f":"$AB$2","v":0},null,"Right",{"$f":"$AB$2","v":0},"0 Left","0 Right",null,null,"Left",{"$f":"$AB$2","v":0},null,"Right",{"$f":"$AB$2","v":0},"0 Left","0 Right",null,null,"Left",{"$f":"$AB$2","v":0},null,"Right",{"$f":"$AB$2","v":0},"0 Left","0 Right",null,null,"Left",{"$f":"$AB$2","v":0},null,"Right",{"$f":"$AB$2","v":0},"0 Left","0 Right",null,{"$f":"$E$43","v":0},{"$f":"$I$43","v":"0 Right"},{"$f":"$K$51","v":0},{"$f":"$Q$51","v":"0 Left"},{"$f":"$T$51","v":0},{"$f":"$Z$51","v":"0 Left"},{"$f":"$AC$51","v":0},{"$f":"$AI$51","v":"0 Left"}]
[null,null,"Left",{"$f":"$AB$2","v":0},null,"Right",{"$f":"$AB$2","v":0},"0 Left","0 Right",null,null,"Left",{"$f":"$AB$2","v":0},null,"Right",{"$f":"$AB$2","v":0},"0 Left","0 Right",null,null,"Left",{"$f":"$AB$2","v":0},null,"Right",{"$f":"$AB$2","v":0},"0 Left","0 Right",null,null,"Left",{"$f":"$AB$2","v":0},null,"Right",{"$f":"$AB$2","v":0},"0 Left","0 Right",null,{"$f":"$B$46","v":0},{"$f":"$H$46","v":"0 Left"},{"$f":"$K$52","v":0},{"$f":"$Q$52","v":"0 Left"},{"$f":"$T$52","v":0},{"$f":"$Z$52","v":"0 Left"},{"$f":"$AC$52","v":0},{"$f":"$AI$52","v":"0 Left"}]
[null,null,"Left",0,null,"Right",0,"0 Left","0 Right",null,null,"Left",0,null,"Right",0,"0 Left","0 Right",null,null,"Left",0,null,"Right",0,"0 Left","0 Right",null,null,"Left",0,null,"Right",0,"0 Left","0 Right",null,{"$f":"$E$46","v":0},{"$f":"$I$46","v":"0 Right"},{"$f":"$K$53","v":0},{"$f":"$Q$53","v":"0 Left"},{"$f":"$T$53","v":0},{"$f":"$Z$53","v":"0 Left"},{"$f":"$AC$53","v":0},{"$f":"$AI$53","v":"0 Left"}]
[{"$nulls":37},{"$f":"$B$23","v":0},{"$f":"$H$23","v":"3 Left"},{"$f":"$K$54","v":0},{"$f":"$Q$54","v":"0 Left"},{"$f":"$T$54","v":0},{"$f":"$Z$54","v":"0 Left"},{"$f":"$AC$54","v":0},{"$f":"$AI$54","v":"0 Left"}]
[{"$nulls":37},{"$f":"$B$26","v":0},{"$f":"$H$26","v":"4 Left"},{"$f":"$K$55","v":0},{"$f":"$Q$55","v":"0 Left"},{"$f":"$T$55","v":0},{"$f":"$Z$55","v":"0 Left"},{"$f":"$AC$55","v":0},{"$f":"$AI$55","v":"0 Left"}]
[{"$nulls":37},{"$f":"$B$29","v":0},{"$f":"$H$29","v":"0 Left"},{"$f":"$K$56","v":0},{"$f":"$Q$56","v":"0 Left"},{"$f":"$T$56","v":0},{"$f":"$Z$56","v":"0 Left"},{"$f":"$AC$56","v":0},{"$f":"$AI$56","v":"0 Left"}]
[{"$nulls":37},{"$f":"$B$32","v":0},{"$f":"$H$32","v":"0 Left"},{"$f":"$K$57","v":0},{"$f":"$Q$57","v":"0 Left"},{"$f":"$T$57","v":0},{"$f":"$Z$57","v":"0 Left"},{"$f":"$AC$57","v":0},{"$f":"$AI$57","v":"0 Left"}]
[{"$nulls":37},{"$f":"$B$35","v":0},{"$f":"$H$35","v":"0 Left"},{"$f":"$K$58","v":0},{"$f":"$Q$58","v":"0 Left"},{"$f":"$T$58","v":0},{"$f":"$Z$58","v":"0 Left"},{"$f":"$AC$58","v":0},{"$f":"$AI$58","v":"0 Left"}]
[{"$nulls":37},{"$f":"$B$38","v":0},{"$f":"$H$38","v":"0 Left"},{"$f":"$K$59","v":0},{"$f":"$Q$59","v":"0 Left"},{"$f":"$T$59","v":0},{"$f":"$Z$59","v":"0 Left"},{"$f":"$AC$59","v":0},{"$f":"$AI$59","v":"0 Left"}]
[{"$nulls":37},{"$f":"$B$41","v":0},{"$f":"$H$41","v":"0 Left"},{"$f":"$N$20","v":0},{"$f":"$R$20","v":"2 Right"},{"$f":"$W$20","v":0},{"$f":"$AA$20","v":"2 Right"},{"$f":"$AF$20","v":0},{"$f":"$AJ$20","v":"2 Right"}]
[{"$nulls":37},{"$f":"$B$44","v":0},{"$f":"$H$44","v":"0 Left"},{"$f":"$N$23","v":0},{"$f":"$R$23","v":"3 Right"},{"$f":"$W$23","v":0},{"$f":"$AA$23","v":"3 Right"},{"$f":"$AF$23","v":0},{"$f":"$AJ$23","v":"3 Right"}]
[{"$nulls":37},{"$f":"$B$47","v":0},{"$f":"$H$47","v":"0 Left"},{"$f":"$N$26","v":0},{"$f":"$R$26","v":"4 Right"},{"$f":"$W$26","v":0},{"$f":"$AA$26","v":"4 Right"},{"$f":"$AF$26","v":0},{"$f":"$AJ$26","v":"4 Right"}]
[{"$nulls":37},{"$f":"$B$48","v":0},{"$f":"$H$48","v":"0 Left"},{"$f":"$N$27","v":0},{"$f":"$R$27","v":"0 Right"},{"$f":"$W$27","v":0},{"$f":"$AA$27","v":"0 Right"},{"$f":"$AF$27","v":0},{"$f":"$AJ$27","v":"0 Right"}]
[{"$nulls":37},{"$f":"$B$49","v":0},{"$f":"$H$49","v":"0 Left"},{"$f":"$N$28","v":0},{"$f":"$R$28","v":"0 Right"},{"$f":"$W$28","v":0},{"$f":"$AA$28","v":"0 Right"},{"$f":"$AF$28","v":0},{"$f":"$AJ$28","v":"0 Right"}]
[{"$nulls":37},{"$f":"$B$50","v":0},{"$f":"$H$50","v":"0 Left"},{"$f":"$N$29","v":0},{"$f":"$R$29","v":"0 Right"},{"$f":"$W$29","v":0},{"$f":"$AA$29","v":"0 Right"},{"$f":"$AF$29","v":0},{"$f":"$AJ$29","v":"0 Right"}]
[{"$nulls":37},{"$f":"$B$51","v":0},{"$f":"$H$51","v":"0 Left"},{"$f":"$N$30","v":0},{"$f":"$R$30","v":"0 Right"},{"$f":"$W$30","v":0},{"$f":"$AA$30","v":"0 Right"},{"$f":"$AF$30","v":0},{"$f":"$AJ$30","v":"0 Right"}]
[{"$nulls":37},{"$f":"$B$52","v":0},{"$f":"$H$52","v":"0 Left"},{"$f":"$N$31","v":0},{"$f":"$R$31","v":"0 Right"},{"$f":"$W$31","v":0},{"$f":"$AA$31","v":"0 Right"},{"$f":"$AF$31","v":0},{"$f":"$AJ$31","v":"0 Right"}]
[{"$nulls":37},{"$f":"$B$53","v":0},{"$f":"$H$53","v":"0 Left"},{"$f":"$N$32","v":0},{"$f":"$R$32","v":"0 Right"},{"$f":"$W$32","v":0},{"$f":"$AA$32","v":"0 Right"},{"$f":"$AF$32","v":0},{"$f":"$AJ$32","v":"0 Right"}]
[{"$nulls":37},{"$f":"$B$54","v":0},{"$f":"$H$54","v":"0 Left"},{"$f":"$N$33","v":0},{"$f":"$R$33","v":"0 Right"},{"$f":"$W$33","v":0},{"$f":"$AA$33","v":"0 Right"},{"$f":"$AF$33","v":0},{"$f":"$AJ$33","v":"0 Right"}]
[{"$nulls":37},{"$f":"$B$55","v":0},{"$f":"$H$55","v":"0 Left"},{"$f":"$N$34","v":0},{"$f":"$R$34","v":"0 Right"},{"$f":"$W$34","v":0},{"$f":"$AA$34","v":"0 Right"},{"$f":"$AF$34","v":0},{"$f":"$AJ$34","v":"0 Right"}]
[{"$nulls":37},{"$f":"$B$56","v":0},{"$f":"$H$56","v":"0 Left"},{"$f":"$N$35","v":0},{"$f":"$R$35","v":"0 Right"},{"$f":"$W$35","v":0},{"$f":"$AA$35","v":"0 Right"},{"$f":"$AF$35","v":0},{"$f":"$AJ$35","v":"0 Right"}]
[{"$nulls":37},{"$f":"$B$57","v":0},{"$f":"$H$57","v":"0 Left"},{"$f":"$N$36","v":0},{"$f":"$R$36","v":"0 Right"},{"$f":"$W$36","v":0},{"$f":"$AA$36","v":"0 Right"},{"$f":"$AF$36","v":0},{"$f":"$AJ$36","v":"0 Right"}]
[{"$nulls":37},{"$f":"$B$58","v":0},{"$f":"$H$58","v":"0 Left"},{"$f":"$N$37","v":0},{"$f":"$R$37","v":"0 Right"},{"$f":"$W$37","v":0},{"$f":"$AA$37","v":"0 Right"},{"$f":"$AF$37","v":0},{"$f":"$AJ$37","v":"0 Right"}]
[{"$nulls":37},{"$f":"$B$59","v":0},{"$f":"$H$59","v":"0 Left"},{"$f":"$N$38","v":0},{"$f":"$R$38","v":"0 Right"},{"$f":"$W$38","v":0},{"$f":"$AA$38","v":"0 Right"},{"$f":"$AF$38","v":0},{"$f":"$AJ$38","v":"0 Right"}]
[{"$nulls":37},{"$f":"$E$23","v":0},{"$f":"$I$23","v":"3 Right"},{"$f":"$N$39","v":0},{"$f":"$R$39","v":"0 Right"},{"$f":"$W$39","v":0},{"$f":"$AA$39","v":"0 Right"},{"$f":"$AF$39","v":0},{"$f":"$AJ$39","v":"0 Right"}]
[{"$nulls":37},{"$f":"$E$26","v":0},{"$f":"$I$26","v":"4 Right"},{"$f":"$N$40","v":0},{"$f":"$R$40","v":"0 Right"},{"$f":"$W$40","v":0},{"$f":"$AA$40","v":"0 Right"},{"$f":"$AF$40","v":0},{"$f":"$AJ$40","v":"0 Right"}]
[{"$nulls":37},{"$f":"$E$29","v":0},{"$f":"$I$29","v":"0 Right"},{"$f":"$N$41","v":0},{"$f":"$R$41","v":"0 Right"},{"$f":"$W$41","v":0},{"$f":"$AA$41","v":"0 Right"},{"$f":"$AF$41","v":0},{"$f":"$AJ$41","v":"0 Right"}]
[{"$nulls":37},{"$f":"$E$32","v":0},{"$f":"$I$32","v":"0 Right"},{"$f":"$N$42","v":0},{"$f":"$R$42","v":"0 Right"},{"$f":"$W$42","v":0},{"$f":"$AA$42","v":"0 Right"},{"$f":"$AF$42","v":0},{"$f":"$AJ$42","v":"0 Right"}]
[{"$nulls":37},{"$f":"$E$35","v":0},{"$f":"$I$35","v":"0 Right"},{"$f":"$N$43","v":0},{"$f":"$R$43","v":"0 Right"},{"$f":"$W$43","v":0},{"$f":"$AA$43","v":"0 Right"},{"$f":"$AF$43","v":0},{"$f":"$AJ$43","v":"0 Right"}]
[{"$nulls":37},{"$f":"$E$38","v":0},{"$f":"$I$38","v":"0 Right"},{"$f":"$N$44","v":0},{"$f":"$R$44","v":"0 Right"},{"$f":"$W$44","v":0},{"$f":"$AA$44","v":"0 Right"},{"$f":"$AF$44","v":0},{"$f":"$AJ$44","v":"0 Right"}]
[{"$nulls":37},{"$f":"$E$41","v":0},{"$f":"$I$41","v":"0 Right"},{"$f":"$N$45","v":0},{"$f":"$R$45","v":"0 Right"},{"$f":"$W$45","v":0},{"$f":"$AA$45","v":"0 Right"},{"$f":"$AF$45","v":0},{"$f":"$AJ$45","v":"0 Right"}]
[{"$nulls":37},{"$f":"$E$44","v":0},{"$f":"$I$44","v":"0 Right"},{"$f":"$N$46","v":0},{"$f":"$R$46","v":"0 Right"},{"$f":"$W$46","v":0},{"$f":"$AA$46","v":"0 Right"},{"$f":"$AF$46","v":0},{"$f":"$AJ$46","v":"0 Right"}]
[{"$nulls":37},{"$f":"$E$47","v":0},{"$f":"$I$47","v":"0 Right"},{"$f":"$N$47","v":0},{"$f":"$R$47","v":"0 Right"},{"$f":"$W$47","v":0},{"$f":"$AA$47","v":"0 Right"},{"$f":"$AF$47","v":0},{"$f":"$AJ$47","v":"0 Right"}]
[{"$nulls":37},{"$f":"$E$48","v":0},{"$f":"$I$48","v":"0 Right"},{"$f":"$N$48","v":0},{"$f":"$R$48","v":"0 Right"},{"$f":"$W$48","v":0},{"$f":"$AA$48","v":"0 Right"},{"$f":"$AF$48","v":0},{"$f":"$AJ$48","v":"0 Right"}]
[{"$nulls":37},{"$f":"$E$49","v":0},{"$f":"$I$49","v":"0 Right"},{"$f":"$N$49","v":0},{"$f":"$R$49","v":"0 Right"},{"$f":"$W$49","v":0},{"$f":"$AA$49","v":"0 Right"},{"$f":"$AF$49","v":0},{"$f":"$AJ$49","v":"0 Right"}]
[{"$nulls":37},{"$f":"$E$50","v":0},{"$f":"$I$50","v":"0 Right"},{"$f":"$N$50","v":0},{"$f":"$R$50","v":"0 Right"},{"$f":"$W$50","v":0},{"$f":"$AA$50","v":"0 Right"},{"$f":"$AF$50","v":0},{"$f":"$AJ$50","v":"0 Right"}]
[{"$nulls":37},{"$f":"$E$51","v":0},{"$f":"$I$51","v":"0 Right"},{"$f":"$N$51","v":0},{"$f":"$R$51","v":"0 Right"},{"$f":"$W$51","v":0},{"$f":"$AA$51","v":"0 Right"},{"$f":"$AF$51","v":0},{"$f":"$AJ$51","v":"0 Right"}]
[{"$nulls":37},{"$f":"$E$52","v":0},{"$f":"$I$52","v":"0 Right"},{"$f":"$N$52","v":0},{"$f":"$R$52","v":"0 Right"},{"$f":"$W$52","v":0},{"$f":"$AA$52","v":"0 Right"},{"$f":"$AF$52","v":0},{"$f":"$AJ$52","v":"0 Right"}]
[{"$nulls":37},{"$f":"$E$53","v":0},{"$f":"$I$53","v":"0 Right"},{"$f":"$N$53","v":0},{"$f":"$R$53","v":"0 Right"},{"$f":"$W$53","v":0},{"$f":"$AA$53","v":"0 Right"},{"$f":"$AF$53","v":0},{"$f":"$AJ$53","v":"0 Right"}]
[{"$nulls":37},{"$f":"$E$54","v":0},{"$f":"$I$54","v":"0 Right"},{"$f":"$N$54","v":0},{"$f":"$R$54","v":"0 Right"},{"$f":"$W$54","v":0},{"$f":"$AA$54","v":"0 Right"},{"$f":"$AF$54","v":0},{"$f":"$AJ$54","v":"0 Right"}]
[{"$nulls":37},{"$f":"$E$55","v":0},{"$f":"$I$55","v":"0 Right"},{"$f":"$N$55","v":0},{"$f":"$R$55","v":"0 Right"},{"$f":"$W$55","v":0},{"$f":"$AA$55","v":"0 Right"},{"$f":"$AF$55","v":0},{"$f":"$AJ$55","v":"0 Right"}]
[{"$nulls":37},{"$f":"$E$56","v":0},{"$f":"$I$56","v":"0 Right"},{"$f":"$N$56","v":0},{"$f":"$R$56","v":"0 Right"},{"$f":"$W$56","v":0},{"$f":"$AA$56","v":"0 Right"},{"$f":"$AF$56","v":0},{"$f":"$AJ$56","v":"0 Right"}]
[{"$nulls":37},{"$f":"$E$57","v":0},{"$f":"$I$57","v":"0 Right"},{"$f":"$N$57","v":0},{"$f":"$R$57","v":"0 Right"},{"$f":"$W$57","v":0},{"$f":"$AA$57","v":"0 Right"},{"$f":"$AF$57","v":0},{"$f":"$AJ$57","v":"0 Right"}]
[{"$nulls":37},{"$f":"$E$58","v":0},{"$f":"$I$58","v":"0 Right"},{"$f":"$N$58","v":0},{"$f":"$R$58","v":"0 Right"},{"$f":"$W$58","v":0},{"$f":"$AA$58","v":"0 Right"},{"$f":"$AF$58","v":0},{"$f":"$AJ$58","v":"0 Right"}]
[{"$nulls":37},{"$f":"$E$59","v":0},{"$f":"$I$59","v":"0 Right"},{"$f":"$N$59","v":0},{"$f":"$R$59","v":"0 Right"},{"$f":"$W$59","v":0},{"$f":"$AA$59","v":"0 Right"},{"$f":"$AF$59","v":0},{"$f":"$AJ$59","v":"0 Right"}]

{"sheet":"14","index":5,"n_rows":101,"n_cols":45,"rows_kept":101,"hidden":true,"merged":[[0,1,0,6],[1,1,1,2],[1,3,1,4],[1,5,1,6],[2,0,4,0],[5,0,7,0],[8,0,10,0],[11,0,13,0],[14,1,14,6],[15,1,15,6],[15,10,15,15],[15,19,15,24],[15,28,15,33],[16,37,16,38],[16,39,16,40],[16,41,16,42],[16,43,16,44]]}
[null,"YOU MAY CHANGE THESE RINK NUMBERS IF YOU WISH"]
["Round",1,1,2,2,3,3]
[1,1,2,3,4,5,13]
[null,6,7,8,9,14,10]
[null,11,12]
[2,4,3,2,5,1,6]
[null,8,9,10,11,7,12]
[null,13,14]
[3,5,10,6,7,4,3]
[null,1,11,8,9,14,13]
[null,2,12]
[4,6,13,2,5,8,1]
[null,3,7,11,10,12,9]
[null,4,14]
[null,"14 on 1 green"]
[null,1,{"$nulls":8},2,{"$nulls":8},3,{"$nulls":8},4]
[null,"no","Left","rink","no","Right","rink","L","R",null,"no","Left","rink","no","Right","rink","L","R",null,"no","Left","rink","no","Right","rink","L","R",null,"no","Left","rink","no","Right","rink","L","R",null,1,null,2,null,3,null,4]
[null,1,"Left",{"$f":"$B$2","v":1},2,"Right",{"$f":"$B$2","v":1},{"$f":"(D18&\" \"&C18)","v":"1 Left"},{"$f":"(G18&\" \"&F18)","v":"1 Right"},null,4,"Left",{"$f":"$B$2","v":1},3,"Right",{"$f":"$B$2","v":1},{"$f":"(M18&\" \"&L18)","v":"1 Left"},{"$f":"(P18&\" \"&O18)","v":"1 Right"},null,5,"Left",{"$f":"$B$2","v":1},10,"Right",{"$f":"$B$2","v":1},{"$f":"(V18&\" \"&U18)","v":"1 Left"},{"$f":"(Y18&\" \"&X18)","v":"1 Right"},null,6,"Left",{"$f":"$B$2","v":1},13,"Right",{"$f":"$B$2","v":1},{"$f":"(AE18&\" \"&AD18)","v":"1 Left"},{"$f":"(AH18&\" \"&AG18)","v":"1 Right"},null,1,{"$f":"'14'!$H$18","v":"1 Left"},{"$f":"'14'!$Q$24","v":"3 Left"},{"$f":"'14'!$Z$19","v":"1 Left"},{"$f":"'14'!$AJ$24","v":"3 Right"}]
[null,6,"Left",{"$f":"$B$2","v":1},7,"Right",{"$f":"$B$2","v":1},{"$f":"(D19&\" \"&C19)","v":"1 Left"},{"$f":"(G19&\" \"&F19)","v":"1 Right"},null,8,"Left",{"$f":"$B$2","v":1},9,"Right",{"$f":"$B$2","v":1},{"$f":"(M19&\" \"&L19)","v":"1 Left"},{"$f":"(P19&\" \"&O19)","v":"1 Right"},null,1,"Left",{"$f":"$B$2","v":1},11,"Right",{"$f":"$B$2","v":1},{"$f":"(V19&\" \"&U19)","v":"1 Left"},{"$f":"(Y19&\" \"&X19)","v":"1 Right"},null,3,"Left",{"$f":"$B$2","v":1},7,"Right",{"$f":"$B$2","v":1},{"$f":"(AE19&\" \"&AD19)","v":"1 Left"},{"$f":"(AH19&\" \"&AG19)","v":"1 Right"},null,2,{"$f":"'14'!$I$18","v":"1 Right"},{"$f":"'14'!$Q$21","v":"2 Left"},{"$f":"'14'!$Z$20","v":"1 Left"},{"$f":"'14'!$AI$21","v":"2 Left"}]
[null,11,"Left",{"$f":"$B$2","v":1},12,"Right",{"$f":"$B$2","v":1},"1 Left","1 Right",null,13,"Left",{"$f":"$B$2","v":1},14,"Right",{"$f":"$B$2","v":1},"1 Left","1 Right",null,2,"Left",{"$f":"$B$2","v":1},12,"Right",{"$f":"$B$2","v":1},"1 Left","1 Right",null,4,"Left",{"$f":"$B$2","v":1},14,"Right",{"$f":"$B$2","v":1},"1 Left","1 Right",null,3,{"$f":"'14'!$H$21","v":"2 Left"},{"$f":"'14'!$R$18","v":"1 Right"},{"$f":"'14'!$AA$24","v":"3 Right"},{"$f":"'14'!$AI$19","v":"1 Left"}]
[null,3,"Left",{"$f":"$D$2","v":2},4,"Right",{"$f":"$D$2","v":2},"2 Left","2 Right",null,2,"Left",{"$f":"$D$2","v":2},5,"Right",{"$f":"$D$2","v":2},"2 Left","2 Right",null,6,"Left",{"$f":"$D$2","v":2},7,"Right",{"$f":"$D$2","v":2},"2 Left","2 Right",null,2,"Left",{"$f":"$D$2","v":2},5,"Right",{"$f":"$D$2","v":2},"2 Left","2 Right",null,4,{"$f":"'14'!$I$21","v":"2 Right"},{"$f":"'14'!$Q$18","v":"1 Left"},{"$f":"'14'!$Z$24","v":"3 Left"},{"$f":"'14'!$AI$20","v":"1 Left"}]
[null,8,"Left",{"$f":"$D$2","v":2},9,"Right",{"$f":"$D$2","v":2},"2 Left","2 Right",null,10,"Left",{"$f":"$D$2","v":2},11,"Right",{"$f":"$D$2","v":2},"2 Left","2 Right",null,8,"Left",{"$f":"$D$2","v":2},9,"Right",{"$f":"$D$2","v":2},"2 Left","2 Right",null,11,"Left",{"$f":"$D$2","v":2},10,"Right",{"$f":"$D$2","v":2},"2 Left","2 Right",null,5,{"$f":"'14'!$H$24","v":"3 Left"},{"$f":"'14'!$R$21","v":"2 Right"},{"$f":"'14'!$Z$18","v":"1 Left"},{"$f":"'14'!$AJ$21","v":"2 Right"}]
[null,null,"Left",{"$f":"$D$2","v":2},null,"Right",{"$f":"$D$2","v":2},"2 Left","2 Right",null,null,"Left",{"$f":"$D$2","v":2},null,"Right",{"$f":"$D$2","v":2},"2 Left","2 Right",null,null,"Left",{"$f":"$D$2","v":2},null,"Right",{"$f":"$D$2","v":2},"2 Left","2 Right",null,null,"Left",{"$f":"$D$2","v":2},null,"Right",{"$f":"$D$2","v":2},"2 Left","2 Right",null,6,{"$f":"'14'!$H$19","v":"1 Left"},{"$f":"'14'!$R$24","v":"3 Right"},{"$f":"'14'!$Z$21","v":"2 Left"},{"$f":"'14'!$AI$18","v":"1 Left"}]
[null,5,"Left",{"$f":"$F$2","v":3},13,"Right",{"$f":"$F$2","v":3},"3 Left","3 Right",null,1,"Left",{"$f":"$F$2","v":3},6,"Right",{"$f":"$F$2","v":3},"3 Left","3 Right",null,4,"Left",{"$f":"$F$2","v":3},3,"Right",{"$f":"$F$2","v":3},"3 Left","3 Right",null,8,"Left",{"$f":"$F$2","v":3},1,"Right",{"$f":"$F$2","v":3},"3 Left","3 Right",null,7,{"$f":"'14'!$I$19","v":"1 Right"},{"$f":"'14'!$Q$24","v":"3 Left"},{"$f":"'14'!$AA$21","v":"2 Right"},{"$f":"'14'!$AJ$19","v":"1 Right"}]
[null,14,"Left",{"$f":"$F$2","v":3},10,"Right",{"$f":"$F$2","v":3},"3 Left","3 Right",null,7,"Left",{"$f":"$F$2","v":3},12,"Right",{"$f":"$F$2","v":3},"3 Left","3 Right",null,14,"Left",{"$f":"$F$2","v":3},13,"Right",{"$f":"$F$2","v":3},"3 Left","3 Right",null,12,"Left",{"$f":"$F$2","v":3},9,"Right",{"$f":"$F$2","v":3},"3 Left","3 Right",null,8,{"$f":"'14'!$H$21","v":"2 Left"},{"$f":"'14'!$Q$19","v":"1 Left"},{"$f":"'14'!$Z$21","v":"2 Left"},{"$f":"'14'!$AI$24","v":"3 Left"}]
[null,null,"Left",{"$f":"$F$2","v":3},null,"Right",{"$f":"$F$2","v":3},"3 Left","3 Right",null,null,"Left",{"$f":"$F$2","v":3},null,"Right",{"$f":"$F$2","v":3},"3 Left","3 Right",null,null,"Left",{"$f":"$F$2","v":3},null,"Right",{"$f":"$F$2","v":3},"3 Left","3 Right",null,null,"Left",{"$f":"$F$2","v":3},null,"Right",{"$f":"$F$2","v":3},"3 Left","3 Right",null,9,{"$f":"'14'!$I$21","v":"2 Right"},{"$f":"'14'!$R$19","v":"1 Right"},{"$f":"'14'!$AA$21","v":"2 Right"},{"$f":"'14'!$AJ$24","v":"3 Right"}]
[null,null,"Left",{"$f":"$H$2","v":0},null,"Right",{"$f":"$H$2","v":0},"0 Left","0 Right",null,null,"Left",{"$f":"$H$2","v":0},null,"Right",{"$f":"$H$2","v":0},"0 Left","0 Right",null,null,"Left",{"$f":"$H$2","v":0},null,"Right",{"$f":"$H$2","v":0},"0 Left","0 Right",null,null,"Left",{"$f":"$H$2","v":0},null,"Right",{"$f":"$H$2","v":0},"0 Left","0 Right",null,10,{"$f":"'14'!$I$24","v":"3 Right"},{"$f":"'14'!$Q$21","v":"2 Left"},{"$f":"'14'!$AA$18","v":"1 Right"},{"$f":"'14'!$AJ$21","v":"2 Right"}]
[null,null,"Left",{"$f":"$H$2","v":0},null,"Right",{"$f":"$H$2","v":0},"0 Left","0 Right",null,null,"Left",{"$f":"$H$2","v":0},null,"Right",{"$f":"$H$2","v":0},"0 Left","0 Right",null,null,"Left",{"$f":"$H$2","v":0},null,"Right",{"$f":"$H$2","v":0},"0 Left","0 Right",null,null,"Left",{"$f":"$H$2","v":0},null,"Right",{"$f":"$H$2","v":0},"0 Left","0 Right",null,11,{"$f":"'14'!$H$20","v":"1 Left"},{"$f":"'14'!$R$21","v":"2 Right"},{"$f":"'14'!$AA$19","v":"1 Right"},{"$f":"'14'!$AI$21","v":"2 Left"}]
[null,null,"Left",0,null,"Right",0,"0 Left","0 Right",null,null,"Left",0,null,"Right",0,"0 Left","0 Right",null,null,"Left",0,null,"Right",0,"0 Left","0 Right",null,null,"Left",0,null,"Right",0,"0 Left","0 Right",null,12,{"$f":"'14'!$I$20","v":"1 Right"},{"$f":"'14'!$R$24","v":"3 Right"},{"$f":"'14'!$AA$20","v":"1 Right"},{"$f":"'14'!$AI$24","v":"3 Left"}]
[null,null,"Left",{"$f":"$J$2","v":0},null,"Right",{"$f":"$J$2","v":0},"0 Left","0 Right",null,null,"Left",{"$f":"$J$2","v":0},null,"Right",{"$f":"$J$2","v":0},"0 Left","0 Right",null,null,"Left",{"$f":"$J$2","v":0},null,"Right",{"$f":"$J$2","v":0},"0 Left","0 Right",null,null,"Left",{"$f":"$J$2","v":0},null,"Right",{"$f":"$J$2","v":0},"0 Left","0 Right",null,13,{"$f":"'14'!$I$24","v":"3 Right"},{"$f":"'14'!$Q$20","v":"1 Left"},{"$f":"'14'!$AA$24","v":"3 Right"},{"$f":"'14'!$AJ$18","v":"1 Right"}]
[null,null,"Left",{"$f":"$J$2","v":0},null,"Right",{"$f":"$J$2","v":0},"0 Left","0 Right",null,null,"Left",{"$f":"$J$2","v":0},null,"Right",{"$f":"$J$2","v":0},"0 Left","0 Right",null,null,"Left",{"$f":"$J$2","v":0},null,"Right",{"$f":"$J$2","v":0},"0 Left","0 Right",null,null,"Left",{"$f":"$J$2","v":0},null,"Right",{"$f":"$J$2","v":0},"0 Left","0 Right",null,14,{"$f":"'14'!$H$24","v":"3 Left"},{"$f":"'14'!$R$20","v":"1 Right"},{"$f":"'14'!$Z$24","v":"3 Left"},{"$f":"'14'!$AJ$20","v":"1 Right"}]
[null,null,"Left",0,null,"Right",0,"0 Left","0 Right",null,null,"Left",0,null,"Right",0,"0 Left","0 Right",null,null,"Left",0,null,"Right",0,"0 Left","0 Right",null,null,"Left",0,null,"Right",0,"0 Left","0 Right",null,{"$f":"$B$27","v":0},{"$f":"$H$27","v":"0 Left"},{"$f":"$K$23","v":0},{"$f":"$Q$23","v":"2 Left"},{"$f":"$T$23","v":0},{"$f":"$Z$23","v":"2 Left"},{"$f":"$AC$23","v":0},{"$f":"$AI$23","v":"2 Left"}]
[null,null,"Left",{"$f":"$L$2","v":0},null,"Right",{"$f":"$L$2","v":0},"0 Left","0 Right",null,null,"Left",{"$f":"$L$2","v":0},null,"Right",{"$f":"$L$2","v":0},"0 Left","0 Right",null,null,"Left",{"$f":"$L$2","v":0},null,"Right",{"$f":"$L$2","v":0},"0 Left","0 Right",null,null,"Left",{"$f":"$L$2","v":0},null,"Right",{"$f":"$L$2","v":0},"0 Left","0 Right",null,{"$f":"$E$27","v":0},{"$f":"$I$27","v":"0 Right"},{"$f":"$K$26","v":0},{"$f":"$Q$26","v":"3 Left"},{"$f":"$T$26","v":0},{"$f":"$Z$26","v":"3 Left"},{"$f":"$AC$26","v":0},{"$f":"$AI$26","v":"3 Left"}]
[null,null,"Left",{"$f":"$L$2","v":0},null,"Right",{"$f":"$L$2","v":0},"0 Left","0 Right",null,null,"Left",{"$f":"$L$2","v":0},null,"Right",{"$f":"$L$2","v":0},"0 Left","0 Right",null,null,"Left",{"$f":"$L$2","v":0},null,"Right",{"$f":"$L$2","v":0},"0 Left","0 Right",null,null,"Left",{"$f":"$L$2","v":0},null,"Right",{"$f":"$L$2","v":0},"0 Left","0 Right",null,{"$f":"$B$30","v":0},{"$f":"$H$30","v":"0 Left"},{"$f":"$K$27","v":0},{"$f":"$Q$27","v":"0 Left"},{"$f":"$T$27","v":0},{"$f":"$Z$27","v":"0 Left"},{"$f":"$AC$27","v":0},{"$f":"$AI$27","v":"0 Left"}]
[null,null,"Left",0,null,"Right",0,"0 Left","0 Right",null,null,"Left",0,null,"Right",0,"0 Left","0 Right",null,null,"Left",0,null,"Right",0,"0 Left","0 Right",null,null,"Left",0,null,"Right",0,"0 Left","0 Right",null,{"$f":"$E$30","v":0},{"$f":"$I$30","v":"0 Right"},{"$f":"$K$28","v":0},{"$f":"$Q$28","v":"0 Left"},{"$f":"$T$28","v":0},{"$f":"$Z$28","v":"0 Left"},{"$f":"$AC$28","v":0},{"$f":"$AI$28","v":"0 Left"}]
[null,null,"Left",{"$f":"$N$2","v":0},null,"Right",{"$f":"$N$2","v":0},"0 Left","0 Right",null,null,"Left",{"$f":"$N$2","v":0},null,"Right",{"$f":"$N$2","v":0},"0 Left","0 Right",null,null,"Left",{"$f":"$N$2","v":0},null,"Right",{"$f":"$N$2","v":0},"0 Left","0 Right",null,null,"Left",{"$f":"$N$2","v":0},null,"Right",{"$f":"$N$2","v":0},"0 Left","0 Right",null,{"$f":"$B$28","v":0},{"$f":"$H$28","v":"0 Left"},{"$f":"$K$29","v":0},{"$f":"$Q$29","v":"0 Left"},{"$f":"$T$29","v":0},{"$f":"$Z$29","v":"0 Left"},{"$f":"$AC$29","v":0},{"$f":"$AI$29","v":"0 Left"}]
[null,null,"Left",{"$f":"$N$2","v":0},null,"Right",{"$f":"$N$2","v":0},"0 Left","0 Right",null,null,"Left",{"$f":"$N$2","v":0},null,"Right",{"$f":"$N$2","v":0},"0 Left","0 Right",null,null,"Left",{"$f":"$N$2","v":0},null,"Right",{"$f":"$N$2","v":0},"0 Left","0 Right",null,null,"Left",{"$f":"$N$2","v":0},null,"Right",{"$f":"$N$2","v":0},"0 Left","0 Right",null,{"$f":"$E$28","v":0},{"$f":"$I$28","v":"0 Right"},{"$f":"$K$30","v":0},{"$f":"$Q$30","v":"0 Left"},{"$f":"$T$30","v":0},{"$f":"$Z$30","v":"0 Left"},{"$f":"$AC$30","v":0},{"$f":"$AI$30","v":"0 Left"}]
[null,null,"Left",0,null,"Right",0,"0 Left","0 Right",null,null,"Left",0,null,"Right",0,"0 Left","0 Right",null,null,"Left",0,null,"Right",0,"0 Left","0 Right",null,null,"Left",0,null,"Right",0,"0 Left","0 Right",null,{"$f":"$B$31","v":0},{"$f":"$H$31","v":"0 Left"},{"$f":"$K$31","v":0},{"$f":"$Q$31","v":"0 Left"},{"$f":"$T$31","v":0},{"$f":"$Z$31","v":"0 Left"},{"$f":"$AC$31","v":0},{"$f":"$AI$31","v":"0 Left"}]
[null,null,"Left",{"$f":"$P$2","v":0},null,"Right",{"$f":"$P$2","v":0},"0 Left","0 Right",null,null,"Left",{"$f":"$P$2","v":0},null,"Right",{"$f":"$P$2","v":0},"0 Left","0 Right",null,null,"Left",{"$f":"$P$2","v":0},null,"Right",{"$f":"$P$2","v":0},"0 Left","0 Right",null,null,"Left",{"$f":"$P$2","v":0},null,"Right",{"$f":"$P$2","v":0},"0 Left","0 Right",null,{"$f":"$E$31","v":0},{"$f":"$I$31","v":"0 Right"},{"$f":"$K$32","v":0},{"$f":"$Q$32","v":"0 Left"},{"$f":"$T$32","v":0},{"$f":"$Z$32","v":"0 Left"},{"$f":"$AC$32","v":0},{"$f":"$AI$32","v":"0 Left"}]
[null,null,"Left",{"$f":"$P$2","v":0},null,"Right",{"$f":"$P$2","v":0},"0 Left","0 Right",null,null,"Left",{"$f":"$P$2","v":0},null,"Right",{"$f":"$P$2","v":0},"0 Left","0 Right",null,null,"Left",{"$f":"$P$2","v":0},null,"Right",{"$f":"$P$2","v":0},"0 Left","0 Right",null,null,"Left",{"$f":"$P$2","v":0},null,"Right",{"$f":"$P$2","v":0},"0 Left","0 Right",null,{"$f":"$B$33","v":0},{"$f":"$H$33","v":"0 Left"},{"$f":"$K$33","v":0},{"$f":"$Q$33","v":"0 Left"},{"$f":"$T$33","v":0},{"$f":"$Z$33","v":"0 Left"},{"$f":"$AC$33","v":0},{"$f":"$AI$33","v":"0 Left"}]
[null,null,"Left",0,null,"Right",0,"0 Left","0 Right",null,null,"Left",0,null,"Right",0,"0 Left","0 Right",null,null,"Left",0,null,"Right",0,"0 Left","0 Right",null,null,"Left",0,null,"Right",0,"0 Left","0 Right",null,{"$f":"$E$33","v":0},{"$f":"$I$33","v":"0 Right"},{"$f":"$K$34","v":0},{"$f":"$Q$34","v":"0 Left"},{"$f":"$T$34","v":0},{"$f":"$Z$34","v":"0 Left"},{"$f":"$AC$34","v":0},{"$f":"$AI$34","v":"0 Left"}]
[null,null,"Left",{"$f":"$R$2","v":0},null,"Right",{"$f":"$R$2","v":0},"0 Left","0 Right",null,null,"Left",{"$f":"$R$2","v":0},null,"Right",{"$f":"$R$2","v":0},"0 Left","0 Right",null,null,"Left",{"$f":"$R$2","v":0},null,"Right",{"$f":"$R$2","v":0},"0 Left","0 Right",null,null,"Left",{"$f":"$R$2","v":0},null,"Right",{"$f":"$R$2","v":0},"0 Left","0 Right",null,{"$f":"$B$36","v":0},{"$f":"$H$36","v":"0 Left"},{"$f":"$K$35","v":0},{"$f":"$Q$35","v":"0 Left"},{"$f":"$T$35","v":0},{"$f":"$Z$35","v":"0 Left"},{"$f":"$AC$35","v":0},{"$f":"$AI$35","v":"0 Left"}]
[null,null,"Left",{"$f":"$R$2","v":0},null,"Right",{"$f":"$R$2","v":0},"0 Left","0 Right",null,null,"Left",{"$f":"$R$2","v":0},null,"Right",{"$f":"$R$2","v":0},"0 Left","0 Right",null,null,"Left",{"$f":"$R$2","v":0},null,"Right",{"$f":"$R$2","v":0},"0 Left","0 Right",null,null,"Left",{"$f":"$R$2","v":0},null,"Right",{"$f":"$R$2","v":0},"0 Left","0 Right",null,{"$f":"$E$36","v":0},{"$f":"$I$36","v":"0 Right"},{"$f":"$K$36","v":0},{"$f":"$Q$36","v":"0 Left"},{"$f":"$T$36","v":0},{"$f":"$Z$36","v":"0 Left"},{"$f":"$AC$36","v":0},{"$f":"$AI$36","v":"0 Left"}]
[null,null,"Left",0,null,"Right",0,"0 Left","0 Right",null,null,"Left",0,null,"Right",0,"0 Left","0 Right",null,null,"Left",0,null,"Right",0,"0 Left","0 Right",null,null,"Left",0,null,"Right",0,"0 Left","0 Right",null,{"$f":"$B$39","v":0},{"$f":"$H$39","v":"0 Left"},{"$f":"$K$37","v":0},{"$f":"$Q$37","v":"0 Left"},{"$f":"$T$37","v":0},{"$f":"$Z$37","v":"0 Left"},{"$f":"$AC$37","v":0},{"$f":"$AI$37","v":"0 Left"}]
[null,null,"Left",{"$f":"$T$2","v":0},null,"Right",{"$f":"$T$2","v":0},"0 Left","0 Right",null,null,"Left",{"$f":"$T$2","v":0},null,"Right",{"$f":"$T$2","v":0},"0 Left","0 Right",null,null,"Left",{"$f":"$T$2","v":0},null,"Right",{"$f":"$T$2","v":0},"0 Left","0 Right",null,null,"Left",{"$f":"$T$2","v":0},null,"Right",{"$f":"$T$2","v":0},"0 Left","0 Right",null,{"$f":"$E$39","v":0},{"$f":"$I$39","v":"0 Right"},{"$f":"$K$38","v":0},{"$f":"$Q$38","v":"0 Left"},{"$f":"$T$38","v":0},{"$f":"$Z$38","v":"0 Left"},{"$f":"$AC$38","v":0},{"$f":"$AI$38","v":"0 Left"}]
[null,null,"Left",{"$f":"$T$2","v":0},null,"Right",{"$f":"$T$2","v":0},"0 Left","0 Right",null,null,"Left",{"$f":"$T$2","v":0},null,"Right",{"$f":"$T$2","v":0},"0 Left","0 Right",null,null,"Left",{"$f":"$T$2","v":0},null,"Right",{"$f":"$T$2","v":0},"0 Left","0 Right",null,null,"Left",{"$f":"$T$2","v":0},null,"Right",{"$f":"$T$2","v":0},"0 Left","0 Right",null,{"$f":"$B$42","v":0},{"$f":"$H$42","v":"0 Left"},{"$f":"$K$39","v":0},{"$f":"$Q$39","v":"0 Left"},{"$f":"$T$39","v":0},{"$f":"$Z$39","v":"0 Left"},{"$f":"$AC$39","v":0},{"$f":"$AI$39","v":"0 Left"}]
[null,null,"Left",0,null,"Right",0,"0 Left","0 Right",null,null,"Left",0,null,"Right",0,"0 Left","0 Right",null,null,"Left",0,null,"Right",0,"0 Left","0 Right",null,null,"Left",0,null,"Right",0,"0 Left","0 Right",null,{"$f":"$E$42","v":0},{"$f":"$I$42","v":"0 Right"},{"$f":"$K$40","v":0},{"$f":"$Q$40","v":"0 Left"},{"$f":"$T$40","v":0},{"$f":"$Z$40","v":"0 Left"},{"$f":"$AC$40","v":0},{"$f":"$AI$40","v":"0 Left"}]
[null,null,"Left",{"$f":"$V$2","v":0},null,"Right",{"$f":"$V$2","v":0},"0 Left","0 Right",null,null,"Left",{"$f":"$V$2","v":0},null,"Right",{"$f":"$V$2","v":0},"0 Left","0 Right",null,null,"Left",{"$f":"$V$2","v":0},null,"Right",{"$f":"$V$2","v":0},"0 Left","0 Right",null,null,"Left",{"$f":"$V$2","v":0},null,"Right",{"$f":"$V$2","v":0},"0 Left","0 Right",null,{"$f":"$B$45","v":0},{"$f":"$H$45","v":"0 Left"},{"$f":"$K$41","v":0},{"$f":"$Q$41","v":"0 Left"},{"$f":"$T$41","v":0},{"$f":"$Z$41","v":"0 Left"},{"$f":"$AC$41","v":0},{"$f":"$AI$41","v":"0 Left"}]
[null,null,"Left",{"$f":"$V$2","v":0},null,"Right",{"$f":"$V$2","v":0},"0 Left","0 Right",null,null,"Left",{"$f":"$V$2","v":0},null,"Right",{"$f":"$V$2","v":0},"0 Left","0 Right",null,null,"Left",{"$f":"$V$2","v":0},null,"Right",{"$f":"$V$2","v":0},"0 Left","0 Right",null,null,"Left",{"$f":"$V$2","v":0},null,"Right",{"$f":"$V$2","v":0},"0 Left","0 Right",null,{"$f":"$E$45","v":0},{"$f":"$I$45","v":"0 Right"},{"$f":"$K$42","v":0},{"$f":"$Q$42","v":"0 Left"},{"$f":"$T$42","v":0},{"$f":"$Z$42","v":"0 Left"},{"$f":"$AC$42","v":0},{"$f":"$AI$42","v":"0 Left"}]
[null,null,"Left",0,null,"Right",0,"0 Left","0 Right",null,null,"Left",0,null,"Right",0,"0 Left","0 Right",null,null,"Left",0,null,"Right",0,"0 Left","0 Right",null,null,"Left",0,null,"Right",0,"0 Left","0 Right",null,{"$f":"$B$34","v":0},{"$f":"$H$34","v":"0 Left"},{"$f":"$K$43","v":0},{"$f":"$Q$43","v":"0 Left"},{"$f":"$T$43","v":0},{"$f":"$Z$43","v":"0 Left"},{"$f":"$AC$43","v":0},{"$f":"$AI$43","v":"0 Left"}]
[null,null,"Left",{"$f":"$X$2","v":0},null,"Right",{"$f":"$X$2","v":0},"0 Left","0 Right",null,null,"Left",{"$f":"$X$2","v":0},null,"Right",{"$f":"$X$2","v":0},"0 Left","0 Right",null,null,"Left",{"$f":"$X$2","v":0},null,"Right",{"$f":"$X$2","v":0},"0 Left","0 Right",null,null,"Left",{"$f":"$X$2","v":0},null,"Right",{"$f":"$X$2","v":0},"0 Left","0 Right",null,{"$f":"$E$34","v":0},{"$f":"$I$34","v":"0 Right"},{"$f":"$K$44","v":0},{"$f":"$Q$44","v":"0 Left"},{"$f":"$T$44","v":0},{"$f":"$Z$44","v":"0 Left"},{"$f":"$AC$44","v":0},{"$f":"$AI$44","v":"0 Left"}]
[null,null,"Left",{"$f":"$X$2","v":0},null,"Right",{"$f":"$X$2","v":0},"0 Left","0 Right",null,null,"Left",{"$f":"$X$2","v":0},null,"Right",{"$f":"$X$2","v":0},"0 Left","0 Right",null,null,"Left",{"$f":"$X$2","v":0},null,"Right",{"$f":"$X$2","v":0},"0 Left","0 Right",null,null,"Left",{"$f":"$X$2","v":0},null,"Right",{"$f":"$X$2","v":0},"0 Left","0 Right",null,{"$f":"$B$37","v":0},{"$f":"$H$37","v":"0 Left"},{"$f":"$K$45","v":0},{"$f":"$Q$45","v":"0 Left"},{"$f":"$T$45","v":0},{"$f":"$Z$45","v":"0 Left"},{"$f":"$AC$45","v":0},{"$f":"$AI$45","v":"0 Left"}]
[null,null,"Left",0,null,"Right",0,"0 Left","0 Right",null,null,"Left",0,null,"Right",0,"0 Left","0 Right",null,null,"Left",0,null,"Right",0,"0 Left","0 Right",null,null,"Left",0,null,"Right",0,"0 Left","0 Right",null,{"$f":"$E$37","v":0},{"$f":"$I$37","v":"0 Right"},{"$f":"$K$46","v":0},{"$f":"$Q$46","v":"0 Left"},{"$f":"$T$46","v":0},{"$f":"$Z$46","v":"0 Left"},{"$f":"$AC$46","v":0},{"$f":"$AI$46","v":"0 Left"}]
[null,null,"Left",{"$f":"$Z$2","v":0},null,"Right",{"$f":"$Z$2","v":0},"0 Left","0 Right",null,null,"Left",{"$f":"$Z$2","v":0},null,"Right",{"$f":"$Z$2","v":0},"0 Left","0 Right",null,null,"Left",{"$f":"$Z$2","v":0},null,"Right",{"$f":"$Z$2","v":0},"0 Left","0 Right",null,null,"Left",{"$f":"$Z$2","v":0},null,"Right",{"$f":"$Z$2","v":0},"0 Left","0 Right",null,{"$f":"$B$40","v":0},{"$f":"$H$40","v":"0 Left"},{"$f":"$K$47","v":0},{"$f":"$Q$47","v":"0 Left"},{"$f":"$T$47","v":0},{"$f":"$Z$47","v":"0 Left"},{"$f":"$AC$47","v":0},{"$f":"$AI$47","v":"0 Left"}]
[null,null,"Left",{"$f":"$Z$2","v":0},null,"Right",{"$f":"$Z$2","v":0},"0 Left","0 Right",null,null,"Left",{"$f":"$Z$2","v":0},null,"Right",{"$f":"$Z$2","v":0},"0 Left","0 Right",null,null,"Left",{"$f":"$Z$2","v":0},null,"Right",{"$f":"$Z$2","v":0},"0 Left","0 Right",null,null,"Left",{"$f":"$Z$2","v":0},null,"Right",{"$f":"$Z$2","v":0},"0 Left","0 Right",null,{"$f":"$E$40","v":0},{"$f":"$I$40","v":"0 Right"},{"$f":"$K$48","v":0},{"$f":"$Q$48","v":"0 Left"},{"$f":"$T$48","v":0},{"$f":"$Z$48","v":"0 Left"},{"$f":"$AC$48","v":0},{"$f":"$AI$48","v":"0 Left"}]
[null,null,"Left",0,null,"Right",0,"0 Left","0 Right",null,null,"Left",0,null,"Right",0,"0 Left","0 Right",null,null,"Left",0,null,"Right",0,"0 Left","0 Right",null,null,"Left",0,null,"Right",0,"0 Left","0 Right",null,{"$f":"$B$43","v":0},{"$f":"$H$43","v":"0 Left"},{"$f":"$K$49","v":0},{"$f":"$Q$49","v":"0 Left"},{"$f":"$T$49","v":0},{"$f":"$Z$49","v":"0 Left"},{"$f":"$AC$49","v":0},{"$f":"$AI$49","v":"0 Left"}]
[null,null,"Left",{"$f":"$AB$2","v":0},null,"Right",{"$f":"$AB$2","v":0},"0 Left","0 Right",null,null,"Left",{"$f":"$AB$2","v":0},null,"Right",{"$f":"$AB$2","v":0},"0 Left","0 Right",null,null,"Left",{"$f":"$AB$2","v":0},null,"Right",{"$f":"$AB$2","v":0},"0 Left","0 Right",null,null,"Left",{"$f":"$AB$2","v":0},null,"Right",{"$f":"$AB$2","v":0},"0 Left","0 Right",null,{"$f":"$E$43","v":0},{"$f":"$I$43","v":"0 Right"},{"$f":"$K$50","v":0},{"$f":"$Q$50","v":"0 Left"},{"$f":"$T$50","v":0},{"$f":"$Z$50","v":"0 Left"},{"$f":"$AC$50","v":0},{"$f":"$AI$50","v":"0 Left"}]
[null,null,"Left",{"$f":"$AB$2","v":0},null,"Right",{"$f":"$AB$2","v":0},"0 Left","0 Right",null,null,"Left",{"$f":"$AB$2","v":0},null,"Right",{"$f":"$AB$2","v":0},"0 Left","0 Right",null,null,"Left",{"$f":"$AB$2","v":0},null,"Right",{"$f":"$AB$2","v":0},"0 Left","0 Right",null,null,"Left",{"$f":"$AB$2","v":0},null,"Right",{"$f":"$AB$2","v":0},"0 Left","0 Right",null,{"$f":"$B$46","v":0},{"$f":"$H$46","v":"0 Left"},{"$f":"$K$51","v":0},{"$f":"$Q$51","v":"0 Left"},{"$f":"$T$51","v":0},{"$f":"$Z$51","v":"0 Left"},{"$f":"$AC$51","v":0},{"$f":"$AI$51","v":"0 Left"}]
[null,null,"Left",0,null,"Right",0,"0 Left","0 Right",null,null,"Left",0,null,"Right",0,"0 Left","0 Right",null,null,"Left",0,null,"Right",0,"0 Left","0 Right",null,null,"Left",0,null,"Right",0,"0 Left","0 Right",null,{"$f":"$E$46","v":0},{"$f":"$I$46","v":"0 Right"},{"$f":"$K$52","v":0},{"$f":"$Q$52","v":"0 Left"},{"$f":"$T$52","v":0},{"$f":"$Z$52","v":"0 Left"},{"$f":"$AC$52","v":0},{"$f":"$AI$52","v":"0 Left"}]
[{"$nulls":37},{"$f":"$B$23","v":0},{"$f":"$H$23","v":"2 Left"},{"$f":"$K$53","v":0},{"$f":"$Q$53","v":"0 Left"},{"$f":"$T$53","v":0},{"$f":"$Z$53","v":"0 Left"},{"$f":"$AC$53","v":0},{"$f":"$AI$53","v":"0 Left"}]
[{"$nulls":37},{"$f":"$B$26","v":0},{"$f":"$H$26","v":"3 Left"},{"$f":"$K$54","v":0},{"$f":"$Q$54","v":"0 Left"},{"$f":"$T$54","v":0},{"$f":"$Z$54","v":"0 Left"},{"$f":"$AC$54","v":0},{"$f":"$AI$54","v":"0 Left"}]
[{"$nulls":37},{"$f":"$B$29","v":0},{"$f":"$H$29","v":"0 Left"},{"$f":"$K$55","v":0},{"$f":"$Q$55","v":"0 Left"},{"$f":"$T$55","v":0},{"$f":"$Z$55","v":"0 Left"},{"$f":"$AC$55","v":0},{"$f":"$AI$55","v":"0 Left"}]
[{"$nulls":37},{"$f":"$B$32","v":0},{"$f":"$H$32","v":"0 Left"},{"$f":"$K$56","v":0},{"$f":"$Q$56","v":"0 Left"},{"$f":"$T$56","v":0},{"$f":"$Z$56","v":"0 Left"},{"$f":"$AC$56","v":0},{"$f":"$AI$56","v":"0 Left"}]
[{"$nulls":37},{"$f":"$B$35","v":0},{"$f":"$H$35","v":"0 Left"},{"$f":"$K$57","v":0},{"$f":"$Q$57","v":"0 Left"},{"$f":"$T$57","v":0},{"$f":"$Z$57","v":"0 Left"},{"$f":"$AC$57","v":0},{"$f":"$AI$57","v":"0 Left"}]
[{"$nulls":37},{"$f":"$B$38","v":0},{"$f":"$H$38","v":"0 Left"},{"$f":"$K$58","v":0},{"$f":"$Q$58","v":"0 Left"},{"$f":"$T$58","v":0},{"$f":"$Z$58","v":"0 Left"},{"$f":"$AC$58","v":0},{"$f":"$AI$58","v":"0 Left"}]
[{"$nulls":37},{"$f":"$B$41","v":0},{"$f":"$H$41","v":"0 Left"},{"$f":"$K$59","v":0},{"$f":"$Q$59","v":"0 Left"},{"$f":"$T$59","v":0},{"$f":"$Z$59","v":"0 Left"},{"$f":"$AC$59","v":0},{"$f":"$AI$59","v":"0 Left"}]
[{"$nulls":37},{"$f":"$B$44","v":0},{"$f":"$H$44","v":"0 Left"},{"$f":"$N$23","v":0},{"$f":"$R$23","v":"2 Right"},{"$f":"$W$23","v":0},{"$f":"$AA$23","v":"2 Right"},{"$f":"$AF$23","v":0},{"$f":"$AJ$23","v":"2 Right"}]
[{"$nulls":37},{"$f":"$B$47","v":0},{"$f":"$H$47","v":"0 Left"},{"$f":"$N$26","v":0},{"$f":"$R$26","v":"3 Right"},{"$f":"$W$26","v":0},{"$f":"$AA$26","v":"3 Right"},{"$f":"$AF$26","v":0},{"$f":"$AJ$26","v":"3 Right"}]
[{"$nulls":37},{"$f":"$B$48","v":0},{"$f":"$H$48","v":"0 Left"},{"$f":"$N$27","v":0},{"$f":"$R$27","v":"0 Right"},{"$f":"$W$27","v":0},{"$f":"$AA$27","v":"0 Right"},{"$f":"$AF$27","v":0},{"$f":"$AJ$27","v":"0 Right"}]
[{"$nulls":37},{"$f":"$B$49","v":0},{"$f":"$H$49","v":"0 Left"},{"$f":"$N$28","v":0},{"$f":"$R$28","v":"0 Right"},{"$f":"$W$28","v":0},{"$f":"$AA$28","v":"0 Right"},{"$f":"$AF$28","v":0},{"$f":"$AJ$28","v":"0 Right"}]
[{"$nulls":37},{"$f":"$B$50","v":0},{"$f":"$H$50","v":"0 Left"},{"$f":"$N$29","v":0},{"$f":"$R$29","v":"0 Right"},{"$f":"$W$29","v":0},{"$f":"$AA$29","v":"0 Right"},{"$f":"$AF$29","v":0},{"$f":"$AJ$29","v":"0 Right"}]
[{"$nulls":37},{"$f":"$B$51","v":0},{"$f":"$H$51","v":"0 Left"},{"$f":"$N$30","v":0},{"$f":"$R$30","v":"0 Right"},{"$f":"$W$30","v":0},{"$f":"$AA$30","v":"0 Right"},{"$f":"$AF$30","v":0},{"$f":"$AJ$30","v":"0 Right"}]
[{"$nulls":37},{"$f":"$B$52","v":0},{"$f":"$H$52","v":"0 Left"},{"$f":"$N$31","v":0},{"$f":"$R$31","v":"0 Right"},{"$f":"$W$31","v":0},{"$f":"$AA$31","v":"0 Right"},{"$f":"$AF$31","v":0},{"$f":"$AJ$31","v":"0 Right"}]
[{"$nulls":37},{"$f":"$B$53","v":0},{"$f":"$H$53","v":"0 Left"},{"$f":"$N$32","v":0},{"$f":"$R$32","v":"0 Right"},{"$f":"$W$32","v":0},{"$f":"$AA$32","v":"0 Right"},{"$f":"$AF$32","v":0},{"$f":"$AJ$32","v":"0 Right"}]
[{"$nulls":37},{"$f":"$B$54","v":0},{"$f":"$H$54","v":"0 Left"},{"$f":"$N$33","v":0},{"$f":"$R$33","v":"0 Right"},{"$f":"$W$33","v":0},{"$f":"$AA$33","v":"0 Right"},{"$f":"$AF$33","v":0},{"$f":"$AJ$33","v":"0 Right"}]
[{"$nulls":37},{"$f":"$B$55","v":0},{"$f":"$H$55","v":"0 Left"},{"$f":"$N$34","v":0},{"$f":"$R$34","v":"0 Right"},{"$f":"$W$34","v":0},{"$f":"$AA$34","v":"0 Right"},{"$f":"$AF$34","v":0},{"$f":"$AJ$34","v":"0 Right"}]
[{"$nulls":37},{"$f":"$B$56","v":0},{"$f":"$H$56","v":"0 Left"},{"$f":"$N$35","v":0},{"$f":"$R$35","v":"0 Right"},{"$f":"$W$35","v":0},{"$f":"$AA$35","v":"0 Right"},{"$f":"$AF$35","v":0},{"$f":"$AJ$35","v":"0 Right"}]
[{"$nulls":37},{"$f":"$B$57","v":0},{"$f":"$H$57","v":"0 Left"},{"$f":"$N$36","v":0},{"$f":"$R$36","v":"0 Right"},{"$f":"$W$36","v":0},{"$f":"$AA$36","v":"0 Right"},{"$f":"$AF$36","v":0},{"$f":"$AJ$36","v":"0 Right"}]
[{"$nulls":37},{"$f":"$B$58","v":0},{"$f":"$H$58","v":"0 Left"},{"$f":"$N$37","v":0},{"$f":"$R$37","v":"0 Right"},{"$f":"$W$37","v":0},{"$f":"$AA$37","v":"0 Right"},{"$f":"$AF$37","v":0},{"$f":"$AJ$37","v":"0 Right"}]
[{"$nulls":37},{"$f":"$B$59","v":0},{"$f":"$H$59","v":"0 Left"},{"$f":"$N$38","v":0},{"$f":"$R$38","v":"0 Right"},{"$f":"$W$38","v":0},{"$f":"$AA$38","v":"0 Right"},{"$f":"$AF$38","v":0},{"$f":"$AJ$38","v":"0 Right"}]
[{"$nulls":37},{"$f":"$E$23","v":0},{"$f":"$I$23","v":"2 Right"},{"$f":"$N$39","v":0},{"$f":"$R$39","v":"0 Right"},{"$f":"$W$39","v":0},{"$f":"$AA$39","v":"0 Right"},{"$f":"$AF$39","v":0},{"$f":"$AJ$39","v":"0 Right"}]
[{"$nulls":37},{"$f":"$E$26","v":0},{"$f":"$I$26","v":"3 Right"},{"$f":"$N$40","v":0},{"$f":"$R$40","v":"0 Right"},{"$f":"$W$40","v":0},{"$f":"$AA$40","v":"0 Right"},{"$f":"$AF$40","v":0},{"$f":"$AJ$40","v":"0 Right"}]
[{"$nulls":37},{"$f":"$E$29","v":0},{"$f":"$I$29","v":"0 Right"},{"$f":"$N$41","v":0},{"$f":"$R$41","v":"0 Right"},{"$f":"$W$41","v":0},{"$f":"$AA$41","v":"0 Right"},{"$f":"$AF$41","v":0},{"$f":"$AJ$41","v":"0 Right"}]
[{"$nulls":37},{"$f":"$E$32","v":0},{"$f":"$I$32","v":"0 Right"},{"$f":"$N$42","v":0},{"$f":"$R$42","v":"0 Right"},{"$f":"$W$42","v":0},{"$f":"$AA$42","v":"0 Right"},{"$f":"$AF$42","v":0},{"$f":"$AJ$42","v":"0 Right"}]
[{"$nulls":37},{"$f":"$E$35","v":0},{"$f":"$I$35","v":"0 Right"},{"$f":"$N$43","v":0},{"$f":"$R$43","v":"0 Right"},{"$f":"$W$43","v":0},{"$f":"$AA$43","v":"0 Right"},{"$f":"$AF$43","v":0},{"$f":"$AJ$43","v":"0 Right"}]
[{"$nulls":37},{"$f":"$E$38","v":0},{"$f":"$I$38","v":"0 Right"},{"$f":"$N$44","v":0},{"$f":"$R$44","v":"0 Right"},{"$f":"$W$44","v":0},{"$f":"$AA$44","v":"0 Right"},{"$f":"$AF$44","v":0},{"$f":"$AJ$44","v":"0 Right"}]
[{"$nulls":37},{"$f":"$E$41","v":0},{"$f":"$I$41","v":"0 Right"},{"$f":"$N$45","v":0},{"$f":"$R$45","v":"0 Right"},{"$f":"$W$45","v":0},{"$f":"$AA$45","v":"0 Right"},{"$f":"$AF$45","v":0},{"$f":"$AJ$45","v":"0 Right"}]
[{"$nulls":37},{"$f":"$E$44","v":0},{"$f":"$I$44","v":"0 Right"},{"$f":"$N$46","v":0},{"$f":"$R$46","v":"0 Right"},{"$f":"$W$46","v":0},{"$f":"$AA$46","v":"0 Right"},{"$f":"$AF$46","v":0},{"$f":"$AJ$46","v":"0 Right"}]
[{"$nulls":37},{"$f":"$E$47","v":0},{"$f":"$I$47","v":"0 Right"},{"$f":"$N$47","v":0},{"$f":"$R$47","v":"0 Right"},{"$f":"$W$47","v":0},{"$f":"$AA$47","v":"0 Right"},{"$f":"$AF$47","v":0},{"$f":"$AJ$47","v":"0 Right"}]
[{"$nulls":37},{"$f":"$E$48","v":0},{"$f":"$I$48","v":"0 Right"},{"$f":"$N$48","v":0},{"$f":"$R$48","v":"0 Right"},{"$f":"$W$48","v":0},{"$f":"$AA$48","v":"0 Right"},{"$f":"$AF$48","v":0},{"$f":"$AJ$48","v":"0 Right"}]
[{"$nulls":37},{"$f":"$E$49","v":0},{"$f":"$I$49","v":"0 Right"},{"$f":"$N$49","v":0},{"$f":"$R$49","v":"0 Right"},{"$f":"$W$49","v":0},{"$f":"$AA$49","v":"0 Right"},{"$f":"$AF$49","v":0},{"$f":"$AJ$49","v":"0 Right"}]
[{"$nulls":37},{"$f":"$E$50","v":0},{"$f":"$I$50","v":"0 Right"},{"$f":"$N$50","v":0},{"$f":"$R$50","v":"0 Right"},{"$f":"$W$50","v":0},{"$f":"$AA$50","v":"0 Right"},{"$f":"$AF$50","v":0},{"$f":"$AJ$50","v":"0 Right"}]
[{"$nulls":37},{"$f":"$E$51","v":0},{"$f":"$I$51","v":"0 Right"},{"$f":"$N$51","v":0},{"$f":"$R$51","v":"0 Right"},{"$f":"$W$51","v":0},{"$f":"$AA$51","v":"0 Right"},{"$f":"$AF$51","v":0},{"$f":"$AJ$51","v":"0 Right"}]
[{"$nulls":37},{"$f":"$E$52","v":0},{"$f":"$I$52","v":"0 Right"},{"$f":"$N$52","v":0},{"$f":"$R$52","v":"0 Right"},{"$f":"$W$52","v":0},{"$f":"$AA$52","v":"0 Right"},{"$f":"$AF$52","v":0},{"$f":"$AJ$52","v":"0 Right"}]
[{"$nulls":37},{"$f":"$E$53","v":0},{"$f":"$I$53","v":"0 Right"},{"$f":"$N$53","v":0},{"$f":"$R$53","v":"0 Right"},{"$f":"$W$53","v":0},{"$f":"$AA$53","v":"0 Right"},{"$f":"$AF$53","v":0},{"$f":"$AJ$53","v":"0 Right"}]
[{"$nulls":37},{"$f":"$E$54","v":0},{"$f":"$I$54","v":"0 Right"},{"$f":"$N$54","v":0},{"$f":"$R$54","v":"0 Right"},{"$f":"$W$54","v":0},{"$f":"$AA$54","v":"0 Right"},{"$f":"$AF$54","v":0},{"$f":"$AJ$54","v":"0 Right"}]
[{"$nulls":37},{"$f":"$E$55","v":0},{"$f":"$I$55","v":"0 Right"},{"$f":"$N$55","v":0},{"$f":"$R$55","v":"0 Right"},{"$f":"$W$55","v":0},{"$f":"$AA$55","v":"0 Right"},{"$f":"$AF$55","v":0},{"$f":"$AJ$55","v":"0 Right"}]
[{"$nulls":37},{"$f":"$E$56","v":0},{"$f":"$I$56","v":"0 Right"},{"$f":"$N$56","v":0},{"$f":"$R$56","v":"0 Right"},{"$f":"$W$56","v":0},{"$f":"$AA$56","v":"0 Right"},{"$f":"$AF$56","v":0},{"$f":"$AJ$56","v":"0 Right"}]
[{"$nulls":37},{"$f":"$E$57","v":0},{"$f":"$I$57","v":"0 Right"},{"$f":"$N$57","v":0},{"$f":"$R$57","v":"0 Right"},{"$f":"$W$57","v":0},{"$f":"$AA$57","v":"0 Right"},{"$f":"$AF$57","v":0},{"$f":"$AJ$57","v":"0 Right"}]
[{"$nulls":37},{"$f":"$E$58","v":0},{"$f":"$I$58","v":"0 Right"},{"$f":"$N$58","v":0},{"$f":"$R$58","v":"0 Right"},{"$f":"$W$58","v":0},{"$f":"$AA$58","v":"0 Right"},{"$f":"$AF$58","v":0},{"$f":"$AJ$58","v":"0 Right"}]
[{"$nulls":37},{"$f":"$E$59","v":0},{"$f":"$I$59","v":"0 Right"},{"$f":"$N$59","v":0},{"$f":"$R$59","v":"0 Right"},{"$f":"$W$59","v":0},{"$f":"$AA$59","v":"0 Right"},{"$f":"$AF$59","v":0},{"$f":"$AJ$59","v":"0 Right"}]

{"sheet":"16","index":6,"n_rows":101,"n_cols":45,"rows_kept":101,"hidden":true,"merged":[[0,1,0,8],[1,1,1,2],[1,3,1,4],[1,5,1,6],[1,7,1,8],[2,0,3,0],[4,0,5,0],[6,0,7,0],[8,0,9,0],[10,1,10,8],[15,1,15,6],[15,10,15,15],[15,19,15,24],[15,28,15,33],[16,37,16,38],[16,39,16,40],[16,41,16,42],[16,43,16,44]]}
[null,"YOU MAY CHANGE THESE RINK NUMBERS IF YOU WISH"]
["Round",2,null,3,2,4,3,5,4]
[1,1,2,3,4,5,6,7,8]
[null,9,10,11,12,13,14,15,16]
[2,6,8,1,7,2,3,4,5]
[null,12,14,15,13,16,9,10,11]
[3,3,5,4,6,1,8,2,7]
[null,13,15,14,16,11,10,12,9]
[4,7,6,5,8,2,4,1,3]
[null,12,11,10,13,15,9,14,16]
[null,"16 on 1 green"]
[]
[]
[]
[]
[null,1,{"$nulls":8},2,{"$nulls":8},3,{"$nulls":8},4]
[null,"no","Left","rink","no","Right","rink","L","R",null,"no","Left","rink","no","Right","rink","L","R",null,"no","Left","rink","no","Right","rink","L","R",null,"no","Left","rink","no","Right","rink","L","R",null,1,null,2,null,3,null,4]
[null,1,"Left",{"$f":"$B$2","v":2},2,"Right",{"$f":"$B$2","v":2},{"$f":"(D18&\" \"&C18)","v":"2 Left"},{"$f":"(G18&\" \"&F18)","v":"2 Right"},null,6,"Left",{"$f":"$B$2","v":2},8,"Right",{"$f":"$B$2","v":2},{"$f":"(M18&\" \"&L18)","v":"2 Left"},{"$f":"(P18&\" \"&O18)","v":"2 Right"},null,3,"Left",{"$f":"$B$2","v":2},5,"Right",{"$f":"$B$2","v":2},{"$f":"(V18&\" \"&U18)","v":"2 Left"},{"$f":"(Y18&\" \"&X18)","v":"2 Right"},null,7,"Left",{"$f":"$B$2","v":2},6,"Right",{"$f":"$B$2","v":2},{"$f":"(AE18&\" \"&AD18)","v":"2 Left"},{"$f":"(AH18&\" \"&AG18)","v":"2 Right"},null,1,{"$f":"'16'!$H$18","v":"2 Left"},{"$f":"'16'!$Q$21","v":"3 Left"},{"$f":"'16'!$Z$24","v":"4 Left"},{"$f":"'16'!$AI$27","v":"5 Left"}]
[null,9,"Left",{"$f":"$B$2","v":2},10,"Right",{"$f":"$B$2","v":2},{"$f":"(D19&\" \"&C19)","v":"2 Left"},{"$f":"(G19&\" \"&F19)","v":"2 Right"},null,12,"Left",{"$f":"$B$2","v":2},14,"Right",{"$f":"$B$2","v":2},{"$f":"(M19&\" \"&L19)","v":"2 Left"},{"$f":"(P19&\" \"&O19)","v":"2 Right"},null,13,"Left",{"$f":"$B$2","v":2},15,"Right",{"$f":"$B$2","v":2},{"$f":"(V19&\" \"&U19)","v":"2 Left"},{"$f":"(Y19&\" \"&X19)","v":"2 Right"},null,12,"Left",{"$f":"$B$2","v":2},11,"Right",{"$f":"$B$2","v":2},{"$f":"(AE19&\" \"&AD19)","v":"2 Left"},{"$f":"(AH19&\" \"&AG19)","v":"2 Right"},null,2,{"$f":"'16'!$I$18","v":"2 Right"},{"$f":"'16'!$Q$24","v":"4 Left"},{"$f":"'16'!$Z$27","v":"5 Left"},{"$f":"'16'!$AI$24","v":"4 Left"}]
[null,null,"Left",{"$f":"$B$2","v":2},null,"Right",{"$f":"$B$2","v":2},"2 Left","2 Right",null,null,"Left",{"$f":"$B$2","v":2},null,"Right",{"$f":"$B$2","v":2},"2 Left","2 Right",null,null,"Left",{"$f":"$B$2","v":2},null,"Right",{"$f":"$B$2","v":2},"2 Left","2 Right",null,null,"Left",{"$f":"$B$2","v":2},null,"Right",{"$f":"$B$2","v":2},"2 Left","2 Right",null,3,{"$f":"'16'!$H$21","v":"3 Left"},{"$f":"'16'!$R$24","v":"4 Right"},{"$f":"'16'!$Z$18","v":"2 Left"},{"$f":"'16'!$AJ$27","v":"5 Right"}]
[null,3,"Left",{"$f":"$D$2","v":3},4,"Right",{"$f":"$D$2","v":3},"3 Left","3 Right",null,1,"Left",{"$f":"$D$2","v":3},7,"Right",{"$f":"$D$2","v":3},"3 Left","3 Right",null,4,"Left",{"$f":"$D$2","v":3},6,"Right",{"$f":"$D$2","v":3},"3 Left","3 Right",null,5,"Left",{"$f":"$D$2","v":3},8,"Right",{"$f":"$D$2","v":3},"3 Left","3 Right",null,4,{"$f":"'16'!$I$21","v":"3 Right"},{"$f":"'16'!$Q$27","v":"5 Left"},{"$f":"'16'!$Z$21","v":"3 Left"},{"$f":"'16'!$AJ$24","v":"4 Right"}]
[null,11,"Left",{"$f":"$D$2","v":3},12,"Right",{"$f":"$D$2","v":3},"3 Left","3 Right",null,15,"Left",{"$f":"$D$2","v":3},13,"Right",{"$f":"$D$2","v":3},"3 Left","3 Right",null,14,"Left",{"$f":"$D$2","v":3},16,"Right",{"$f":"$D$2","v":3},"3 Left","3 Right",null,10,"Left",{"$f":"$D$2","v":3},13,"Right",{"$f":"$D$2","v":3},"3 Left","3 Right",null,5,{"$f":"'16'!$H$24","v":"4 Left"},{"$f":"'16'!$R$27","v":"5 Right"},{"$f":"'16'!$AA$18","v":"2 Right"},{"$f":"'16'!$AI$21","v":"3 Left"}]
[null,null,"Left",{"$f":"$D$2","v":3},null,"Right",{"$f":"$D$2","v":3},"3 Left","3 Right",null,null,"Left",{"$f":"$D$2","v":3},null,"Right",{"$f":"$D$2","v":3},"3 Left","3 Right",null,null,"Left",{"$f":"$D$2","v":3},null,"Right",{"$f":"$D$2","v":3},"3 Left","3 Right",null,null,"Left",{"$f":"$D$2","v":3},null,"Right",{"$f":"$D$2","v":3},"3 Left","3 Right",null,6,{"$f":"'16'!$I$24","v":"4 Right"},{"$f":"'16'!$Q$18","v":"2 Left"},{"$f":"'16'!$AA$21","v":"3 Right"},{"$f":"'16'!$AJ$18","v":"2 Right"}]
[null,5,"Left",{"$f":"$F$2","v":4},6,"Right",{"$f":"$F$2","v":4},"4 Left","4 Right",null,2,"Left",{"$f":"$F$2","v":4},3,"Right",{"$f":"$F$2","v":4},"4 Left","4 Right",null,1,"Left",{"$f":"$F$2","v":4},8,"Right",{"$f":"$F$2","v":4},"4 Left","4 Right",null,2,"Left",{"$f":"$F$2","v":4},4,"Right",{"$f":"$F$2","v":4},"4 Left","4 Right",null,7,{"$f":"'16'!$H$27","v":"5 Left"},{"$f":"'16'!$R$21","v":"3 Right"},{"$f":"'16'!$AA$27","v":"5 Right"},{"$f":"'16'!$AI$18","v":"2 Left"}]
[null,13,"Left",{"$f":"$F$2","v":4},14,"Right",{"$f":"$F$2","v":4},"4 Left","4 Right",null,16,"Left",{"$f":"$F$2","v":4},9,"Right",{"$f":"$F$2","v":4},"4 Left","4 Right",null,11,"Left",{"$f":"$F$2","v":4},10,"Right",{"$f":"$F$2","v":4},"4 Left","4 Right",null,15,"Left",{"$f":"$F$2","v":4},9,"Right",{"$f":"$F$2","v":4},"4 Left","4 Right",null,8,{"$f":"'16'!$I$27","v":"5 Right"},{"$f":"'16'!$R$18","v":"2 Right"},{"$f":"'16'!$AA$24","v":"4 Right"},{"$f":"'16'!$AJ$21","v":"3 Right"}]
[null,null,"Left",{"$f":"$F$2","v":4},null,"Right",{"$f":"$F$2","v":4},"4 Left","4 Right",null,null,"Left",{"$f":"$F$2","v":4},null,"Right",{"$f":"$F$2","v":4},"4 Left","4 Right",null,null,"Left",{"$f":"$F$2","v":4},null,"Right",{"$f":"$F$2","v":4},"4 Left","4 Right",null,null,"Left",{"$f":"$F$2","v":4},null,"Right",{"$f":"$F$2","v":4},"4 Left","4 Right",null,9,{"$f":"'16'!$H$19","v":"2 Left"},{"$f":"'16'!$R$24","v":"4 Right"},{"$f":"'16'!$AA$27","v":"5 Right"},{"$f":"'16'!$AJ$24","v":"4 Right"}]
[null,7,"Left",{"$f":"$H$2","v":5},8,"Right",{"$f":"$H$2","v":5},"5 Left","5 Right",null,4,"Left",{"$f":"$H$2","v":5},5,"Right",{"$f":"$H$2","v":5},"5 Left","5 Right",null,2,"Left",{"$f":"$H$2","v":5},7,"Right",{"$f":"$H$2","v":5},"5 Left","5 Right",null,1,"Left",{"$f":"$H$2","v":5},3,"Right",{"$f":"$H$2","v":5},"5 Left","5 Right",null,10,{"$f":"'16'!$I$19","v":"2 Right"},{"$f":"'16'!$Q$27","v":"5 Left"},{"$f":"'16'!$AA$24","v":"4 Right"},{"$f":"'16'!$AI$21","v":"3 Left"}]
[null,15,"Left",{"$f":"$H$2","v":5},16,"Right",{"$f":"$H$2","v":5},"5 Left","5 Right",null,10,"Left",{"$f":"$H$2","v":5},11,"Right",{"$f":"$H$2","v":5},"5 Left","5 Right",null,12,"Left",{"$f":"$H$2","v":5},9,"Right",{"$f":"$H$2","v":5},"5 Left","5 Right",null,14,"Left",{"$f":"$H$2","v":5},16,"Right",{"$f":"$H$2","v":5},"5 Left","5 Right",null,11,{"$f":"'16'!$H$21","v":"3 Left"},{"$f":"'16'!$R$27","v":"5 Right"},{"$f":"'16'!$Z$24","v":"4 Left"},{"$f":"'16'!$AJ$19","v":"2 Right"}]
[null,null,"Left",5,null,"Right",5,"5 Left","5 Right",null,null,"Left",5,null,"Right",5,"5 Left","5 Right",null,null,"Left",5,null,"Right",5,"5 Left","5 Right",null,null,"Left",5,null,"Right",5,"5 Left","5 Right",null,12,{"$f":"'16'!$I$21","v":"3 Right"},{"$f":"'16'!$Q$19","v":"2 Left"},{"$f":"'16'!$Z$27","v":"5 Left"},{"$f":"'16'!$AI$19","v":"2 Left"}]
[null,null,"Left",{"$f":"$J$2","v":0},null,"Right",{"$f":"$J$2","v":0},"0 Left","0 Right",null,null,"Left",{"$f":"$J$2","v":0},null,"Right",{"$f":"$J$2","v":0},"0 Left","0 Right",null,null,"Left",{"$f":"$J$2","v":0},null,"Right",{"$f":"$J$2","v":0},"0 Left","0 Right",null,null,"Left",{"$f":"$J$2","v":0},null,"Right",{"$f":"$J$2","v":0},"0 Left","0 Right",null,13,{"$f":"'16'!$H$24","v":"4 Left"},{"$f":"'16'!$R$21","v":"3 Right"},{"$f":"'16'!$Z$19","v":"2 Left"},{"$f":"'16'!$AJ$21","v":"3 Right"}]
[null,null,"Left",{"$f":"$J$2","v":0},null,"Right",{"$f":"$J$2","v":0},"0 Left","0 Right",null,null,"Left",{"$f":"$J$2","v":0},null,"Right",{"$f":"$J$2","v":0},"0 Left","0 Right",null,null,"Left",{"$f":"$J$2","v":0},null,"Right",{"$f":"$J$2","v":0},"0 Left","0 Right",null,null,"Left",{"$f":"$J$2","v":0},null,"Right",{"$f":"$J$2","v":0},"0 Left","0 Right",null,14,{"$f":"'16'!$I$24","v":"4 Right"},{"$f":"'16'!$R$19","v":"2 Right"},{"$f":"'16'!$Z$21","v":"3 Left"},{"$f":"'16'!$AI$27","v":"5 Left"}]
[null,null,"Left",0,null,"Right",0,"0 Left","0 Right",null,null,"Left",0,null,"Right",0,"0 Left","0 Right",null,null,"Left",0,null,"Right",0,"0 Left","0 Right",null,null,"Left",0,null,"Right",0,"0 Left","0 Right",null,15,{"$f":"'16'!$H$27","v":"5 Left"},{"$f":"'16'!$Q$21","v":"3 Left"},{"$f":"'16'!$AA$19","v":"2 Right"},{"$f":"'16'!$AI$24","v":"4 Left"}]
[null,null,"Left",{"$f":"$L$2","v":0},null,"Right",{"$f":"$L$2","v":0},"0 Left","0 Right",null,null,"Left",{"$f":"$L$2","v":0},null,"Right",{"$f":"$L$2","v":0},"0 Left","0 Right",null,null,"Left",{"$f":"$L$2","v":0},null,"Right",{"$f":"$L$2","v":0},"0 Left","0 Right",null,null,"Left",{"$f":"$L$2","v":0},null,"Right",{"$f":"$L$2","v":0},"0 Left","0 Right",null,16,{"$f":"'16'!$I$27","v":"5 Right"},{"$f":"'16'!$Q$24","v":"4 Left"},{"$f":"'16'!$AA$21","v":"3 Right"},{"$f":"'16'!$AJ$27","v":"5 Right"}]
[null,null,"Left",{"$f":"$L$2","v":0},null,"Right",{"$f":"$L$2","v":0},"0 Left","0 Right",null,null,"Left",{"$f":"$L$2","v":0},null,"Right",{"$f":"$L$2","v":0},"0 Left","0 Right",null,null,"Left",{"$f":"$L$2","v":0},null,"Right",{"$f":"$L$2","v":0},"0 Left","0 Right",null,null,"Left",{"$f":"$L$2","v":0},null,"Right",{"$f":"$L$2","v":0},"0 Left","0 Right",null,{"$f":"$B$30","v":0},{"$f":"$H$30","v":"0 Left"},{"$f":"$K$20","v":0},{"$f":"$Q$20","v":"2 Left"},{"$f":"$T$20","v":0},{"$f":"$Z$20","v":"2 Left"},{"$f":"$AC$20","v":0},{"$f":"$AI$20","v":"2 Left"}]
[null,null,"Left",0,null,"Right",0,"0 Left","0 Right",null,null,"Left",0,null,"Right",0,"0 Left","0 Right",null,null,"Left",0,null,"Right",0,"0 Left","0 Right",null,null,"Left",0,null,"Right",0,"0 Left","0 Right",null,{"$f":"$E$30","v":0},{"$f":"$I$30","v":"0 Right"},{"$f":"$K$23","v":0},{"$f":"$Q$23","v":"3 Left"},{"$f":"$T$23","v":0},{"$f":"$Z$23","v":"3 Left"},{"$f":"$AC$23","v":0},{"$f":"$AI$23","v":"3 Left"}]
[null,null,"Left",{"$f":"$N$2","v":0},null,"Right",{"$f":"$N$2","v":0},"0 Left","0 Right",null,null,"Left",{"$f":"$N$2","v":0},null,"Right",{"$f":"$N$2","v":0},"0 Left","0 Right",null,null,"Left",{"$f":"$N$2","v":0},null,"Right",{"$f":"$N$2","v":0},"0 Left","0 Right",null,null,"Left",{"$f":"$N$2","v":0},null,"Right",{"$f":"$N$2","v":0},"0 Left","0 Right",null,{"$f":"$B$31","v":0},{"$f":"$H$31","v":"0 Left"},{"$f":"$K$26","v":0},{"$f":"$Q$26","v":"4 Left"},{"$f":"$T$26","v":0},{"$f":"$Z$26","v":"4 Left"},{"$f":"$AC$26","v":0},{"$f":"$AI$26","v":"4 Left"}]
[null,null,"Left",{"$f":"$N$2","v":0},null,"Right",{"$f":"$N$2","v":0},"0 Left","0 Right",null,null,"Left",{"$f":"$N$2","v":0},null,"Right",{"$f":"$N$2","v":0},"0 Left","0 Right",null,null,"Left",{"$f":"$N$2","v":0},null,"Right",{"$f":"$N$2","v":0},"0 Left","0 Right",null,null,"Left",{"$f":"$N$2","v":0},null,"Right",{"$f":"$N$2","v":0},"0 Left","0 Right",null,{"$f":"$E$31","v":0},{"$f":"$I$31","v":"0 Right"},{"$f":"$K$29","v":0},{"$f":"$Q$29","v":"5 Left"},{"$f":"$T$29","v":0},{"$f":"$Z$29","v":"5 Left"},{"$f":"$AC$29","v":0},{"$f":"$AI$29","v":"5 Left"}]
[null,null,"Left",0,null,"Right",0,"0 Left","0 Right",null,null,"Left",0,null,"Right",0,"0 Left","0 Right",null,null,"Left",0,null,"Right",0,"0 Left","0 Right",null,null,"Left",0,null,"Right",0,"0 Left","0 Right",null,{"$f":"$B$20","v":0},{"$f":"$H$20","v":"2 Left"},{"$f":"$K$30","v":0},{"$f":"$Q$30","v":"0 Left"},{"$f":"$T$30","v":0},{"$f":"$Z$30","v":"0 Left"},{"$f":"$AC$30","v":0},{"$f":"$AI$30","v":"0 Left"}]
[null,null,"Left",{"$f":"$P$2","v":0},null,"Right",{"$f":"$P$2","v":0},"0 Left","0 Right",null,null,"Left",{"$f":"$P$2","v":0},null,"Right",{"$f":"$P$2","v":0},"0 Left","0 Right",null,null,"Left",{"$f":"$P$2","v":0},null,"Right",{"$f":"$P$2","v":0},"0 Left","0 Right",null,null,"Left",{"$f":"$P$2","v":0},null,"Right",{"$f":"$P$2","v":0},"0 Left","0 Right",null,{"$f":"$E$20","v":0},{"$f":"$I$20","v":"2 Right"},{"$f":"$K$31","v":0},{"$f":"$Q$31","v":"0 Left"},{"$f":"$T$31","v":0},{"$f":"$Z$31","v":"0 Left"},{"$f":"$AC$31","v":0},{"$f":"$AI$31","v":"0 Left"}]
[null,null,"Left",{"$f":"$P$2","v":0},null,"Right",{"$f":"$P$2","v":0},"0 Left","0 Right",null,null,"Left",{"$f":"$P$2","v":0},null,"Right",{"$f":"$P$2","v":0},"0 Left","0 Right",null,null,"Left",{"$f":"$P$2","v":0},null,"Right",{"$f":"$P$2","v":0},"0 Left","0 Right",null,null,"Left",{"$f":"$P$2","v":0},null,"Right",{"$f":"$P$2","v":0},"0 Left","0 Right",null,{"$f":"$B$33","v":0},{"$f":"$H$33","v":"0 Left"},{"$f":"$K$32","v":0},{"$f":"$Q$32","v":"0 Left"},{"$f":"$T$32","v":0},{"$f":"$Z$32","v":"0 Left"},{"$f":"$AC$32","v":0},{"$f":"$AI$32","v":"0 Left"}]
[null,null,"Left",0,null,"Right",0,"0 Left","0 Right",null,null,"Left",0,null,"Right",0,"0 Left","0 Right",null,null,"Left",0,null,"Right",0,"0 Left","0 Right",null,null,"Left",0,null,"Right",0,"0 Left","0 Right",null,{"$f":"$E$33","v":0},{"$f":"$I$33","v":"0 Right"},{"$f":"$K$33","v":0},{"$f":"$Q$33","v":"0 Left"},{"$f":"$T$33","v":0},{"$f":"$Z$33","v":"0 Left"},{"$f":"$AC$33","v":0},{"$f":"$AI$33","v":"0 Left"}]
[null,null,"Left",{"$f":"$R$2","v":0},null,"Right",{"$f":"$R$2","v":0},"0 Left","0 Right",null,null,"Left",{"$f":"$R$2","v":0},null,"Right",{"$f":"$R$2","v":0},"0 Left","0 Right",null,null,"Left",{"$f":"$R$2","v":0},null,"Right",{"$f":"$R$2","v":0},"0 Left","0 Right",null,null,"Left",{"$f":"$R$2","v":0},null,"Right",{"$f":"$R$2","v":0},"0 Left","0 Right",null,{"$f":"$B$36","v":0},{"$f":"$H$36","v":"0 Left"},{"$f":"$K$34","v":0},{"$f":"$Q$34","v":"0 Left"},{"$f":"$T$34","v":0},{"$f":"$Z$34","v":"0 Left"},{"$f":"$AC$34","v":0},{"$f":"$AI$34","v":"0 Left"}]
[null,null,"Left",{"$f":"$R$2","v":0},null,"Right",{"$f":"$R$2","v":0},"0 Left","0 Right",null,null,"Left",{"$f":"$R$2","v":0},null,"Right",{"$f":"$R$2","v":0},"0 Left","0 Right",null,null,"Left",{"$f":"$R$2","v":0},null,"Right",{"$f":"$R$2","v":0},"0 Left","0 Right",null,null,"Left",{"$f":"$R$2","v":0},null,"Right",{"$f":"$R$2","v":0},"0 Left","0 Right",null,{"$f":"$E$36","v":0},{"$f":"$I$36","v":"0 Right"},{"$f":"$K$35","v":0},{"$f":"$Q$35","v":"0 Left"},{"$f":"$T$35","v":0},{"$f":"$Z$35","v":"0 Left"},{"$f":"$AC$35","v":0},{"$f":"$AI$35","v":"0 Left"}]
[null,null,"Left",0,null,"Right",0,"0 Left","0 Right",null,null,"Left",0,null,"Right",0,"0 Left","0 Right",null,null,"Left",0,null,"Right",0,"0 Left","0 Right",null,null,"Left",0,null,"Right",0,"0 Left","0 Right",null,{"$f":"$B$39","v":0},{"$f":"$H$39","v":"0 Left"},{"$f":"$K$36","v":0},{"$f":"$Q$36","v":"0 Left"},{"$f":"$T$36","v":0},{"$f":"$Z$36","v":"0 Left"},{"$f":"$AC$36","v":0},{"$f":"$AI$36","v":"0 Left"}]
[null,null,"Left",{"$f":"$T$2","v":0},null,"Right",{"$f":"$T$2","v":0},"0 Left","0 Right",null,null,"Left",{"$f":"$T$2","v":0},null,"Right",{"$f":"$T$2","v":0},"0 Left","0 Right",null,null,"Left",{"$f":"$T$2","v":0},null,"Right",{"$f":"$T$2","v":0},"0 Left","0 Right",null,null,"Left",{"$f":"$T$2","v":0},null,"Right",{"$f":"$T$2","v":0},"0 Left","0 Right",null,{"$f":"$E$39","v":0},{"$f":"$I$39","v":"0 Right"},{"$f":"$K$37","v":0},{"$f":"$Q$37","v":"0 Left"},{"$f":"$T$37","v":0},{"$f":"$Z$37","v":"0 Left"},{"$f":"$AC$37","v":0},{"$f":"$AI$37","v":"0 Left"}]
[null,null,"Left",{"$f":"$T$2","v":0},null,"Right",{"$f":"$T$2","v":0},"0 Left","0 Right",null,null,"Left",{"$f":"$T$2","v":0},null,"Right",{"$f":"$T$2","v":0},"0 Left","0 Right",null,null,"Left",{"$f":"$T$2","v":0},null,"Right",{"$f":"$T$2","v":0},"0 Left","0 Right",null,null,"Left",{"$f":"$T$2","v":0},null,"Right",{"$f":"$T$2","v":0},"0 Left","0 Right",null,{"$f":"$B$42","v":0},{"$f":"$H$42","v":"0 Left"},{"$f":"$K$38","v":0},{"$f":"$Q$38","v":"0 Left"},{"$f":"$T$38","v":0},{"$f":"$Z$38","v":"0 Left"},{"$f":"$AC$38","v":0},{"$f":"$AI$38","v":"0 Left"}]
[null,null,"Left",0,null,"Right",0,"0 Left","0 Right",null,null,"Left",0,null,"Right",0,"0 Left","0 Right",null,null,"Left",0,null,"Right",0,"0 Left","0 Right",null,null,"Left",0,null,"Right",0,"0 Left","0 Right",null,{"$f":"$E$42","v":0},{"$f":"$I$42","v":"0 Right"},{"$f":"$K$39","v":0},{"$f":"$Q$39","v":"0 Left"},{"$f":"$T$39","v":0},{"$f":"$Z$39","v":"0 Left"},{"$f":"$AC$39","v":0},{"$f":"$AI$39","v":"0 Left"}]
[null,null,"Left",{"$f":"$V$2","v":0},null,"Right",{"$f":"$V$2","v":0},"0 Left","0 Right",null,null,"Left",{"$f":"$V$2","v":0},null,"Right",{"$f":"$V$2","v":0},"0 Left","0 Right",null,null,"Left",{"$f":"$V$2","v":0},null,"Right",{"$f":"$V$2","v":0},"0 Left","0 Right",null,null,"Left",{"$f":"$V$2","v":0},null,"Right",{"$f":"$V$2","v":0},"0 Left","0 Right",null,{"$f":"$B$45","v":0},{"$f":"$H$45","v":"0 Left"},{"$f":"$K$40","v":0},{"$f":"$Q$40","v":"0 Left"},{"$f":"$T$40","v":0},{"$f":"$Z$40","v":"0 Left"},{"$f":"$AC$40","v":0},{"$f":"$AI$40","v":"0 Left"}]
[null,null,"Left",{"$f":"$V$2","v":0},null,"Right",{"$f":"$V$2","v":0},"0 Left","0 Right",null,null,"Left",{"$f":"$V$2","v":0},null,"Right",{"$f":"$V$2","v":0},"0 Left","0 Right",null,null,"Left",{"$f":"$V$2","v":0},null,"Right",{"$f":"$V$2","v":0},"0 Left","0 Right",null,null,"Left",{"$f":"$V$2","v":0},null,"Right",{"$f":"$V$2","v":0},"0 Left","0 Right",null,{"$f":"$E$45","v":0},{"$f":"$I$45","v":"0 Right"},{"$f":"$K$41","v":0},{"$f":"$Q$41","v":"0 Left"},{"$f":"$T$41","v":0},{"$f":"$Z$41","v":"0 Left"},{"$f":"$AC$41","v":0},{"$f":"$AI$41","v":"0 Left"}]
[null,null,"Left",0,null,"Right",0,"0 Left","0 Right",null,null,"Left",0,null,"Right",0,"0 Left","0 Right",null,null,"Left",0,null,"Right",0,"0 Left","0 Right",null,null,"Left",0,null,"Right",0,"0 Left","0 Right",null,{"$f":"$B$34","v":0},{"$f":"$H$34","v":"0 Left"},{"$f":"$K$42","v":0},{"$f":"$Q$42","v":"0 Left"},{"$f":"$T$42","v":0},{"$f":"$Z$42","v":"0 Left"},{"$f":"$AC$42","v":0},{"$f":"$AI$42","v":"0 Left"}]
[null,null,"Left",{"$f":"$X$2","v":0},null,"Right",{"$f":"$X$2","v":0},"0 Left","0 Right",null,null,"Left",{"$f":"$X$2","v":0},null,"Right",{"$f":"$X$2","v":0},"0 Left","0 Right",null,null,"Left",{"$f":"$X$2","v":0},null,"Right",{"$f":"$X$2","v":0},"0 Left","0 Right",null,null,"Left",{"$f":"$X$2","v":0},null,"Right",{"$f":"$X$2","v":0},"0 Left","0 Right",null,{"$f":"$E$34","v":0},{"$f":"$I$34","v":"0 Right"},{"$f":"$K$43","v":0},{"$f":"$Q$43","v":"0 Left"},{"$f":"$T$43","v":0},{"$f":"$Z$43","v":"0 Left"},{"$f":"$AC$43","v":0},{"$f":"$AI$43","v":"0 Left"}]
[null,null,"Left",{"$f":"$X$2","v":0},null,"Right",{"$f":"$X$2","v":0},"0 Left","0 Right",null,null,"Left",{"$f":"$X$2","v":0},null,"Right",{"$f":"$X$2","v":0},"0 Left","0 Right",null,null,"Left",{"$f":"$X$2","v":0},null,"Right",{"$f":"$X$2","v":0},"0 Left","0 Right",null,null,"Left",{"$f":"$X$2","v":0},null,"Right",{"$f":"$X$2","v":0},"0 Left","0 Right",null,{"$f":"$B$37","v":0},{"$f":"$H$37","v":"0 Left"},{"$f":"$K$44","v":0},{"$f":"$Q$44","v":"0 Left"},{"$f":"$T$44","v":0},{"$f":"$Z$44","v":"0 Left"},{"$f":"$AC$44","v":0},{"$f":"$AI$44","v":"0 Left"}]
[null,null,"Left",0,null,"Right",0,"0 Left","0 Right",null,null,"Left",0,null,"Right",0,"0 Left","0 Right",null,null,"Left",0,null,"Right",0,"0 Left","0 Right",null,null,"Left",0,null,"Right",0,"0 Left","0 Right",null,{"$f":"$E$37","v":0},{"$f":"$I$37","v":"0 Right"},{"$f":"$K$45","v":0},{"$f":"$Q$45","v":"0 Left"},{"$f":"$T$45","v":0},{"$f":"$Z$45","v":"0 Left"},{"$f":"$AC$45","v":0},{"$f":"$AI$45","v":"0 Left"}]
[null,null,"Left",{"$f":"$Z$2","v":0},null,"Right",{"$f":"$Z$2","v":0},"0 Left","0 Right",null,null,"Left",{"$f":"$Z$2","v":0},null,"Right",{"$f":"$Z$2","v":0},"0 Left","0 Right",null,null,"Left",{"$f":"$Z$2","v":0},null,"Right",{"$f":"$Z$2","v":0},"0 Left","0 Right",null,null,"Left",{"$f":"$Z$2","v":0},null,"Right",{"$f":"$Z$2","v":0},"0 Left","0 Right",null,{"$f":"$B$40","v":0},{"$f":"$H$40","v":"0 Left"},{"$f":"$K$46","v":0},{"$f":"$Q$46","v":"0 Left"},{"$f":"$T$46","v":0},{"$f":"$Z$46","v":"0 Left"},{"$f":"$AC$46","v":0},{"$f":"$AI$46","v":"0 Left"}]
[null,null,"Left",{"$f":"$Z$2","v":0},null,"Right",{"$f":"$Z$2","v":0},"0 Left","0 Right",null,null,"Left",{"$f":"$Z$2","v":0},null,"Right",{"$f":"$Z$2","v":0},"0 Left","0 Right",null,null,"Left",{"$f":"$Z$2","v":0},null,"Right",{"$f":"$Z$2","v":0},"0 Left","0 Right",null,null,"Left",{"$f":"$Z$2","v":0},null,"Right",{"$f":"$Z$2","v":0},"0 Left","0 Right",null,{"$f":"$E$40","v":0},{"$f":"$I$40","v":"0 Right"},{"$f":"$K$47","v":0},{"$f":"$Q$47","v":"0 Left"},{"$f":"$T$47","v":0},{"$f":"$Z$47","v":"0 Left"},{"$f":"$AC$47","v":0},{"$f":"$AI$47","v":"0 Left"}]
[null,null,"Left",0,null,"Right",0,"0 Left","0 Right",null,null,"Left",0,null,"Right",0,"0 Left","0 Right",null,null,"Left",0,null,"Right",0,"0 Left","0 Right",null,null,"Left",0,null,"Right",0,"0 Left","0 Right",null,{"$f":"$B$43","v":0},{"$f":"$H$43","v":"0 Left"},{"$f":"$K$48","v":0},{"$f":"$Q$48","v":"0 Left"},{"$f":"$T$48","v":0},{"$f":"$Z$48","v":"0 Left"},{"$f":"$AC$48","v":0},{"$f":"$AI$48","v":"0 Left"}]
[null,null,"Left",{"$f":"$AB$2","v":0},null,"Right",{"$f":"$AB$2","v":0},"0 Left","0 Right",null,null,"Left",{"$f":"$AB$2","v":0},null,"Right",{"$f":"$AB$2","v":0},"0 Left","0 Right",null,null,"Left",{"$f":"$AB$2","v":0},null,"Right",{"$f":"$AB$2","v":0},"0 Left","0 Right",null,null,"Left",{"$f":"$AB$2","v":0},null,"Right",{"$f":"$AB$2","v":0},"0 Left","0 Right",null,{"$f":"$E$43","v":0},{"$f":"$I$43","v":"0 Right"},{"$f":"$K$49","v":0},{"$f":"$Q$49","v":"0 Left"},{"$f":"$T$49","v":0},{"$f":"$Z$49","v":"0 Left"},{"$f":"$AC$49","v":0},{"$f":"$AI$49","v":"0 Left"}]
[null,null,"Left",{"$f":"$AB$2","v":0},null,"Right",{"$f":"$AB$2","v":0},"0 Left","0 Right",null,null,"Left",{"$f":"$AB$2","v":0},null,"Right",{"$f":"$AB$2","v":0},"0 Left","0 Right",null,null,"Left",{"$f":"$AB$2","v":0},null,"Right",{"$f":"$AB$2","v":0},"0 Left","0 Right",null,null,"Left",{"$f":"$AB$2","v":0},null,"Right",{"$f":"$AB$2","v":0},"0 Left","0 Right",null,{"$f":"$B$46","v":0},{"$f":"$H$46","v":"0 Left"},{"$f":"$K$50","v":0},{"$f":"$Q$50","v":"0 Left"},{"$f":"$T$50","v":0},{"$f":"$Z$50","v":"0 Left"},{"$f":"$AC$50","v":0},{"$f":"$AI$50","v":"0 Left"}]
[null,null,"Left",0,null,"Right",0,"0 Left","0 Right",null,null,"Left",0,null,"Right",0,"0 Left","0 Right",null,null,"Left",0,null,"Right",0,"0 Left","0 Right",null,null,"Left",0,null,"Right",0,"0 Left","0 Right",null,{"$f":"$E$46","v":0},{"$f":"$I$46","v":"0 Right"},{"$f":"$K$51","v":0},{"$f":"$Q$51","v":"0 Left"},{"$f":"$T$51","v":0},{"$f":"$Z$51","v":"0 Left"},{"$f":"$AC$51","v":0},{"$f":"$AI$51","v":"0 Left"}]
[{"$nulls":37},{"$f":"$B$23","v":0},{"$f":"$H$23","v":"3 Left"},{"$f":"$K$52","v":0},{"$f":"$Q$52","v":"0 Left"},{"$f":"$T$52","v":0},{"$f":"$Z$52","v":"0 Left"},{"$f":"$AC$52","v":0},{"$f":"$AI$52","v":"0 Left"}]
[{"$nulls":37},{"$f":"$B$26","v":0},{"$f":"$H$26","v":"4 Left"},{"$f":"$K$53","v":0},{"$f":"$Q$53","v":"0 Left"},{"$f":"$T$53","v":0},{"$f":"$Z$53","v":"0 Left"},{"$f":"$AC$53","v":0},{"$f":"$AI$53","v":"0 Left"}]
[{"$nulls":37},{"$f":"$B$29","v":0},{"$f":"$H$29","v":"5 Left"},{"$f":"$K$54","v":0},{"$f":"$Q$54","v":"0 Left"},{"$f":"$T$54","v":0},{"$f":"$Z$54","v":"0 Left"},{"$f":"$AC$54","v":0},{"$f":"$AI$54","v":"0 Left"}]
[{"$nulls":37},{"$f":"$B$32","v":0},{"$f":"$H$32","v":"0 Left"},{"$f":"$K$55","v":0},{"$f":"$Q$55","v":"0 Left"},{"$f":"$T$55","v":0},{"$f":"$Z$55","v":"0 Left"},{"$f":"$AC$55","v":0},{"$f":"$AI$55","v":"0 Left"}]
[{"$nulls":37},{"$f":"$B$35","v":0},{"$f":"$H$35","v":"0 Left"},{"$f":"$K$56","v":0},{"$f":"$Q$56","v":"0 Left"},{"$f":"$T$56","v":0},{"$f":"$Z$56","v":"0 Left"},{"$f":"$AC$56","v":0},{"$f":"$AI$56","v":"0 Left"}]
[{"$nulls":37},{"$f":"$B$38","v":0},{"$f":"$H$38","v":"0 Left"},{"$f":"$K$57","v":0},{"$f":"$Q$57","v":"0 Left"},{"$f":"$T$57","v":0},{"$f":"$Z$57","v":"0 Left"},{"$f":"$AC$57","v":0},{"$f":"$AI$57","v":"0 Left"}]
[{"$nulls":37},{"$f":"$B$41","v":0},{"$f":"$H$41","v":"0 Left"},{"$f":"$K$58","v":0},{"$f":"$Q$58","v":"0 Left"},{"$f":"$T$58","v":0},{"$f":"$Z$58","v":"0 Left"},{"$f":"$AC$58","v":0},{"$f":"$AI$58","v":"0 Left"}]
[{"$nulls":37},{"$f":"$B$44","v":0},{"$f":"$H$44","v":"0 Left"},{"$f":"$K$59","v":0},{"$f":"$Q$59","v":"0 Left"},{"$f":"$T$59","v":0},{"$f":"$Z$59","v":"0 Left"},{"$f":"$AC$59","v":0},{"$f":"$AI$59","v":"0 Left"}]
[{"$nulls":37},{"$f":"$B$47","v":0},{"$f":"$H$47","v":"0 Left"},{"$f":"$N$20","v":0},{"$f":"$R$20","v":"2 Right"},{"$f":"$W$20","v":0},{"$f":"$AA$20","v":"2 Right"},{"$f":"$AF$20","v":0},{"$f":"$AJ$20","v":"2 Right"}]
[{"$nulls":37},{"$f":"$B$48","v":0},{"$f":"$H$48","v":"0 Left"},{"$f":"$N$23","v":0},{"$f":"$R$23","v":"3 Right"},{"$f":"$W$23","v":0},{"$f":"$AA$23","v":"3 Right"},{"$f":"$AF$23","v":0},{"$f":"$AJ$23","v":"3 Right"}]
[{"$nulls":37},{"$f":"$B$49","v":0},{"$f":"$H$49","v":"0 Left"},{"$f":"$N$26","v":0},{"$f":"$R$26","v":"4 Right"},{"$f":"$W$26","v":0},{"$f":"$AA$26","v":"4 Right"},{"$f":"$AF$26","v":0},{"$f":"$AJ$26","v":"4 Right"}]
[{"$nulls":37},{"$f":"$B$50","v":0},{"$f":"$H$50","v":"0 Left"},{"$f":"$N$29","v":0},{"$f":"$R$29","v":"5 Right"},{"$f":"$W$29","v":0},{"$f":"$AA$29","v":"5 Right"},{"$f":"$AF$29","v":0},{"$f":"$AJ$29","v":"5 Right"}]
[{"$nulls":37},{"$f":"$B$51","v":0},{"$f":"$H$51","v":"0 Left"},{"$f":"$N$30","v":0},{"$f":"$R$30","v":"0 Right"},{"$f":"$W$30","v":0},{"$f":"$AA$30","v":"0 Right"},{"$f":"$AF$30","v":0},{"$f":"$AJ$30","v":"0 Right"}]
[{"$nulls":37},{"$f":"$B$52","v":0},{"$f":"$H$52","v":"0 Left"},{"$f":"$N$31","v":0},{"$f":"$R$31","v":"0 Right"},{"$f":"$W$31","v":0},{"$f":"$AA$31","v":"0 Right"},{"$f":"$AF$31","v":0},{"$f":"$AJ$31","v":"0 Right"}]
[{"$nulls":37},{"$f":"$B$53","v":0},{"$f":"$H$53","v":"0 Left"},{"$f":"$N$32","v":0},{"$f":"$R$32","v":"0 Right"},{"$f":"$W$32","v":0},{"$f":"$AA$32","v":"0 Right"},{"$f":"$AF$32","v":0},{"$f":"$AJ$32","v":"0 Right"}]
[{"$nulls":37},{"$f":"$B$54","v":0},{"$f":"$H$54","v":"0 Left"},{"$f":"$N$33","v":0},{"$f":"$R$33","v":"0 Right"},{"$f":"$W$33","v":0},{"$f":"$AA$33","v":"0 Right"},{"$f":"$AF$33","v":0},{"$f":"$AJ$33","v":"0 Right"}]
[{"$nulls":37},{"$f":"$B$55","v":0},{"$f":"$H$55","v":"0 Left"},{"$f":"$N$34","v":0},{"$f":"$R$34","v":"0 Right"},{"$f":"$W$34","v":0},{"$f":"$AA$34","v":"0 Right"},{"$f":"$AF$34","v":0},{"$f":"$AJ$34","v":"0 Right"}]
[{"$nulls":37},{"$f":"$B$56","v":0},{"$f":"$H$56","v":"0 Left"},{"$f":"$N$35","v":0},{"$f":"$R$35","v":"0 Right"},{"$f":"$W$35","v":0},{"$f":"$AA$35","v":"0 Right"},{"$f":"$AF$35","v":0},{"$f":"$AJ$35","v":"0 Right"}]
[{"$nulls":37},{"$f":"$B$57","v":0},{"$f":"$H$57","v":"0 Left"},{"$f":"$N$36","v":0},{"$f":"$R$36","v":"0 Right"},{"$f":"$W$36","v":0},{"$f":"$AA$36","v":"0 Right"},{"$f":"$AF$36","v":0},{"$f":"$AJ$36","v":"0 Right"}]
[{"$nulls":37},{"$f":"$B$58","v":0},{"$f":"$H$58","v":"0 Left"},{"$f":"$N$37","v":0},{"$f":"$R$37","v":"0 Right"},{"$f":"$W$37","v":0},{"$f":"$AA$37","v":"0 Right"},{"$f":"$AF$37","v":0},{"$f":"$AJ$37","v":"0 Right"}]
[{"$nulls":37},{"$f":"$B$59","v":0},{"$f":"$H$59","v":"0 Left"},{"$f":"$N$38","v":0},{"$f":"$R$38","v":"0 Right"},{"$f":"$W$38","v":0},{"$f":"$AA$38","v":"0 Right"},{"$f":"$AF$38","v":0},{"$f":"$AJ$38","v":"0 Right"}]
[{"$nulls":37},{"$f":"$E$23","v":0},{"$f":"$I$23","v":"3 Right"},{"$f":"$N$39","v":0},{"$f":"$R$39","v":"0 Right"},{"$f":"$W$39","v":0},{"$f":"$AA$39","v":"0 Right"},{"$f":"$AF$39","v":0},{"$f":"$AJ$39","v":"0 Right"}]
[{"$nulls":37},{"$f":"$E$26","v":0},{"$f":"$I$26","v":"4 Right"},{"$f":"$N$40","v":0},{"$f":"$R$40","v":"0 Right"},{"$f":"$W$40","v":0},{"$f":"$AA$40","v":"0 Right"},{"$f":"$AF$40","v":0},{"$f":"$AJ$40","v":"0 Right"}]
[{"$nulls":37},{"$f":"$E$29","v":0},{"$f":"$I$29","v":"5 Right"},{"$f":"$N$41","v":0},{"$f":"$R$41","v":"0 Right"},{"$f":"$W$41","v":0},{"$f":"$AA$41","v":"0 Right"},{"$f":"$AF$41","v":0},{"$f":"$AJ$41","v":"0 Right"}]
[{"$nulls":37},{"$f":"$E$32","v":0},{"$f":"$I$32","v":"0 Right"},{"$f":"$N$42","v":0},{"$f":"$R$42","v":"0 Right"},{"$f":"$W$42","v":0},{"$f":"$AA$42","v":"0 Right"},{"$f":"$AF$42","v":0},{"$f":"$AJ$42","v":"0 Right"}]
[{"$nulls":37},{"$f":"$E$35","v":0},{"$f":"$I$35","v":"0 Right"},{"$f":"$N$43","v":0},{"$f":"$R$43","v":"0 Right"},{"$f":"$W$43","v":0},{"$f":"$AA$43","v":"0 Right"},{"$f":"$AF$43","v":0},{"$f":"$AJ$43","v":"0 Right"}]
[{"$nulls":37},{"$f":"$E$38","v":0},{"$f":"$I$38","v":"0 Right"},{"$f":"$N$44","v":0},{"$f":"$R$44","v":"0 Right"},{"$f":"$W$44","v":0},{"$f":"$AA$44","v":"0 Right"},{"$f":"$AF$44","v":0},{"$f":"$AJ$44","v":"0 Right"}]
[{"$nulls":37},{"$f":"$E$41","v":0},{"$f":"$I$41","v":"0 Right"},{"$f":"$N$45","v":0},{"$f":"$R$45","v":"0 Right"},{"$f":"$W$45","v":0},{"$f":"$AA$45","v":"0 Right"},{"$f":"$AF$45","v":0},{"$f":"$AJ$45","v":"0 Right"}]
[{"$nulls":37},{"$f":"$E$44","v":0},{"$f":"$I$44","v":"0 Right"},{"$f":"$N$46","v":0},{"$f":"$R$46","v":"0 Right"},{"$f":"$W$46","v":0},{"$f":"$AA$46","v":"0 Right"},{"$f":"$AF$46","v":0},{"$f":"$AJ$46","v":"0 Right"}]
[{"$nulls":37},{"$f":"$E$47","v":0},{"$f":"$I$47","v":"0 Right"},{"$f":"$N$47","v":0},{"$f":"$R$47","v":"0 Right"},{"$f":"$W$47","v":0},{"$f":"$AA$47","v":"0 Right"},{"$f":"$AF$47","v":0},{"$f":"$AJ$47","v":"0 Right"}]
[{"$nulls":37},{"$f":"$E$48","v":0},{"$f":"$I$48","v":"0 Right"},{"$f":"$N$48","v":0},{"$f":"$R$48","v":"0 Right"},{"$f":"$W$48","v":0},{"$f":"$AA$48","v":"0 Right"},{"$f":"$AF$48","v":0},{"$f":"$AJ$48","v":"0 Right"}]
[{"$nulls":37},{"$f":"$E$49","v":0},{"$f":"$I$49","v":"0 Right"},{"$f":"$N$49","v":0},{"$f":"$R$49","v":"0 Right"},{"$f":"$W$49","v":0},{"$f":"$AA$49","v":"0 Right"},{"$f":"$AF$49","v":0},{"$f":"$AJ$49","v":"0 Right"}]
[{"$nulls":37},{"$f":"$E$50","v":0},{"$f":"$I$50","v":"0 Right"},{"$f":"$N$50","v":0},{"$f":"$R$50","v":"0 Right"},{"$f":"$W$50","v":0},{"$f":"$AA$50","v":"0 Right"},{"$f":"$AF$50","v":0},{"$f":"$AJ$50","v":"0 Right"}]
[{"$nulls":37},{"$f":"$E$51","v":0},{"$f":"$I$51","v":"0 Right"},{"$f":"$N$51","v":0},{"$f":"$R$51","v":"0 Right"},{"$f":"$W$51","v":0},{"$f":"$AA$51","v":"0 Right"},{"$f":"$AF$51","v":0},{"$f":"$AJ$51","v":"0 Right"}]
[{"$nulls":37},{"$f":"$E$52","v":0},{"$f":"$I$52","v":"0 Right"},{"$f":"$N$52","v":0},{"$f":"$R$52","v":"0 Right"},{"$f":"$W$52","v":0},{"$f":"$AA$52","v":"0 Right"},{"$f":"$AF$52","v":0},{"$f":"$AJ$52","v":"0 Right"}]
[{"$nulls":37},{"$f":"$E$53","v":0},{"$f":"$I$53","v":"0 Right"},{"$f":"$N$53","v":0},{"$f":"$R$53","v":"0 Right"},{"$f":"$W$53","v":0},{"$f":"$AA$53","v":"0 Right"},{"$f":"$AF$53","v":0},{"$f":"$AJ$53","v":"0 Right"}]
[{"$nulls":37},{"$f":"$E$54","v":0},{"$f":"$I$54","v":"0 Right"},{"$f":"$N$54","v":0},{"$f":"$R$54","v":"0 Right"},{"$f":"$W$54","v":0},{"$f":"$AA$54","v":"0 Right"},{"$f":"$AF$54","v":0},{"$f":"$AJ$54","v":"0 Right"}]
[{"$nulls":37},{"$f":"$E$55","v":0},{"$f":"$I$55","v":"0 Right"},{"$f":"$N$55","v":0},{"$f":"$R$55","v":"0 Right"},{"$f":"$W$55","v":0},{"$f":"$AA$55","v":"0 Right"},{"$f":"$AF$55","v":0},{"$f":"$AJ$55","v":"0 Right"}]
[{"$nulls":37},{"$f":"$E$56","v":0},{"$f":"$I$56","v":"0 Right"},{"$f":"$N$56","v":0},{"$f":"$R$56","v":"0 Right"},{"$f":"$W$56","v":0},{"$f":"$AA$56","v":"0 Right"},{"$f":"$AF$56","v":0},{"$f":"$AJ$56","v":"0 Right"}]
[{"$nulls":37},{"$f":"$E$57","v":0},{"$f":"$I$57","v":"0 Right"},{"$f":"$N$57","v":0},{"$f":"$R$57","v":"0 Right"},{"$f":"$W$57","v":0},{"$f":"$AA$57","v":"0 Right"},{"$f":"$AF$57","v":0},{"$f":"$AJ$57","v":"0 Right"}]
[{"$nulls":37},{"$f":"$E$58","v":0},{"$f":"$I$58","v":"0 Right"},{"$f":"$N$58","v":0},{"$f":"$R$58","v":"0 Right"},{"$f":"$W$58","v":0},{"$f":"$AA$58","v":"0 Right"},{"$f":"$AF$58","v":0},{"$f":"$AJ$58","v":"0 Right"}]
[{"$nulls":37},{"$f":"$E$59","v":0},{"$f":"$I$59","v":"0 Right"},{"$f":"$N$59","v":0},{"$f":"$R$59","v":"0 Right"},{"$f":"$W$59","v":0},{"$f":"$AA$59","v":"0 Right"},{"$f":"$AF$59","v":0},{"$f":"$AJ$59","v":"0 Right"}]

{"sheet":"18","index":7,"n_rows":101,"n_cols":45,"rows_kept":101,"hidden":true,"merged":[[0,1,0,8],[1,1,1,2],[1,3,1,4],[1,5,1,6],[1,7,1,8],[2,0,4,0],[5,0,7,0],[8,0,10,0],[11,0,13,0],[14,1,14,8],[15,1,15,6],[15,10,15,15],[15,19,15,24],[15,28,15,33],[16,37,16,38],[16,39,16,40],[16,41,16,42],[16,43,16,44]]}
[null,"YOU MAY CHANGE THESE RINK NUMBERS IF YOU WISH"]
["Round",1,1,2,2,3,3,4,4]
[1,1,2,6,5,7,3,4,8]
[null,10,11,15,14,16,12,17,13]
[null,9,18]
[2,3,7,2,4,1,6,5,9]
[null,17,12,16,18,15,11,10,14]
[null,8,13]
[3,4,5,1,3,8,9,2,7]
[null,14,15,11,13,10,18,12,17]
[null,6,16]
[4,1,7,6,4,2,5,9,3]
[null,12,18,17,15,14,13,11,16]
[null,8,10]
[null,"18 on 1 green"]
[null,1,{"$nulls":8},2,{"$nulls":8},3,{"$nulls":8},4]
[null,"no","Left","rink","no","Right","rink","L","R",null,"no","Left","rink","no","Right","rink","L","R",null,"no","Left","rink","no","Right","rink","L","R",null,"no","Left","rink","no","Right","rink","L","R",null,1,null,2,null,3,null,4]
[null,1,"Left",{"$f":"$B$2","v":1},2,"Right",{"$f":"$B$2","v":1},{"$f":"(D18&\" \"&C18)","v":"1 Left"},{"$f":"(G18&\" \"&F18)","v":"1 Right"},null,3,"Left",{"$f":"$B$2","v":1},7,"Right",{"$f":"$B$2","v":1},{"$f":"(M18&\" \"&L18)","v":"1 Left"},{"$f":"(P18&\" \"&O18)","v":"1 Right"},null,4,"Left",{"$f":"$B$2","v":1},5,"Right",{"$f":"$B$2","v":1},{"$f":"(V18&\" \"&U18)","v":"1 Left"},{"$f":"(Y18&\" \"&X18)","v":"1 Right"},null,1,"Left",{"$f":"$B$2","v":1},7,"Right",{"$f":"$B$2","v":1},{"$f":"(AE18&\" \"&AD18)","v":"1 Left"},{"$f":"(AH18&\" \"&AG18)","v":"1 Right"},null,1,{"$f":"'18'!$H$18","v":"1 Left"},{"$f":"'18'!$Q$24","v":"3 Left"},{"$f":"'18'!$Z$21","v":"2 Left"},{"$f":"'18'!$AI$18","v":"1 Left"}]
[null,10,"Left",{"$f":"$B$2","v":1},11,"Right",{"$f":"$B$2","v":1},{"$f":"(D19&\" \"&C19)","v":"1 Left"},{"$f":"(G19&\" \"&F19)","v":"1 Right"},null,17,"Left",{"$f":"$B$2","v":1},12,"Right",{"$f":"$B$2","v":1},{"$f":"(M19&\" \"&L19)","v":"1 Left"},{"$f":"(P19&\" \"&O19)","v":"1 Right"},null,14,"Left",{"$f":"$B$2","v":1},15,"Right",{"$f":"$B$2","v":1},{"$f":"(V19&\" \"&U19)","v":"1 Left"},{"$f":"(Y19&\" \"&X19)","v":"1 Right"},null,12,"Left",{"$f":"$B$2","v":1},18,"Right",{"$f":"$B$2","v":1},{"$f":"(AE19&\" \"&AD19)","v":"1 Left"},{"$f":"(AH19&\" \"&AG19)","v":"1 Right"},null,2,{"$f":"'18'!$I$18","v":"1 Right"},{"$f":"'18'!$Q$21","v":"2 Left"},{"$f":"'18'!$Z$27","v":"4 Left"},{"$f":"'18'!$AI$24","v":"3 Left"}]
[null,9,"Left",{"$f":"$B$2","v":1},18,"Right",{"$f":"$B$2","v":1},"1 Left","1 Right",null,8,"Left",{"$f":"$B$2","v":1},13,"Right",{"$f":"$B$2","v":1},"1 Left","1 Right",null,6,"Left",{"$f":"$B$2","v":1},16,"Right",{"$f":"$B$2","v":1},"1 Left","1 Right",null,8,"Left",{"$f":"$B$2","v":1},10,"Right",{"$f":"$B$2","v":1},"1 Left","1 Right",null,3,{"$f":"'18'!$I$24","v":"3 Right"},{"$f":"'18'!$Q$18","v":"1 Left"},{"$f":"'18'!$AA$21","v":"2 Right"},{"$f":"'18'!$AJ$27","v":"4 Right"}]
[null,6,"Left",{"$f":"$D$2","v":2},5,"Right",{"$f":"$D$2","v":2},"2 Left","2 Right",null,2,"Left",{"$f":"$D$2","v":2},4,"Right",{"$f":"$D$2","v":2},"2 Left","2 Right",null,1,"Left",{"$f":"$D$2","v":2},3,"Right",{"$f":"$D$2","v":2},"2 Left","2 Right",null,6,"Left",{"$f":"$D$2","v":2},4,"Right",{"$f":"$D$2","v":2},"2 Left","2 Right",null,4,{"$f":"'18'!$H$27","v":"4 Left"},{"$f":"'18'!$R$21","v":"2 Right"},{"$f":"'18'!$Z$18","v":"1 Left"},{"$f":"'18'!$AJ$21","v":"2 Right"}]
[null,15,"Left",{"$f":"$D$2","v":2},14,"Right",{"$f":"$D$2","v":2},"2 Left","2 Right",null,16,"Left",{"$f":"$D$2","v":2},18,"Right",{"$f":"$D$2","v":2},"2 Left","2 Right",null,11,"Left",{"$f":"$D$2","v":2},13,"Right",{"$f":"$D$2","v":2},"2 Left","2 Right",null,17,"Left",{"$f":"$D$2","v":2},15,"Right",{"$f":"$D$2","v":2},"2 Left","2 Right",null,5,{"$f":"'18'!$I$21","v":"2 Right"},{"$f":"'18'!$Q$27","v":"4 Left"},{"$f":"'18'!$AA$18","v":"1 Right"},{"$f":"'18'!$AJ$24","v":"3 Right"}]
[null,null,"Left",{"$f":"$D$2","v":2},null,"Right",{"$f":"$D$2","v":2},"2 Left","2 Right",null,null,"Left",{"$f":"$D$2","v":2},null,"Right",{"$f":"$D$2","v":2},"2 Left","2 Right",null,null,"Left",{"$f":"$D$2","v":2},null,"Right",{"$f":"$D$2","v":2},"2 Left","2 Right",null,null,"Left",{"$f":"$D$2","v":2},null,"Right",{"$f":"$D$2","v":2},"2 Left","2 Right",null,6,{"$f":"'18'!$H$21","v":"2 Left"},{"$f":"'18'!$R$24","v":"3 Right"},{"$f":"'18'!$Z$20","v":"1 Left"},{"$f":"'18'!$AI$21","v":"2 Left"}]
[null,7,"Left",{"$f":"$F$2","v":3},3,"Right",{"$f":"$F$2","v":3},"3 Left","3 Right",null,1,"Left",{"$f":"$F$2","v":3},6,"Right",{"$f":"$F$2","v":3},"3 Left","3 Right",null,8,"Left",{"$f":"$F$2","v":3},9,"Right",{"$f":"$F$2","v":3},"3 Left","3 Right",null,2,"Left",{"$f":"$F$2","v":3},5,"Right",{"$f":"$F$2","v":3},"3 Left","3 Right",null,7,{"$f":"'18'!$H$24","v":"3 Left"},{"$f":"'18'!$R$18","v":"1 Right"},{"$f":"'18'!$AA$27","v":"4 Right"},{"$f":"'18'!$AJ$18","v":"1 Right"}]
[null,16,"Left",{"$f":"$F$2","v":3},12,"Right",{"$f":"$F$2","v":3},"3 Left","3 Right",null,15,"Left",{"$f":"$F$2","v":3},11,"Right",{"$f":"$F$2","v":3},"3 Left","3 Right",null,10,"Left",{"$f":"$F$2","v":3},18,"Right",{"$f":"$F$2","v":3},"3 Left","3 Right",null,14,"Left",{"$f":"$F$2","v":3},13,"Right",{"$f":"$F$2","v":3},"3 Left","3 Right",null,8,{"$f":"'18'!$I$27","v":"4 Right"},{"$f":"'18'!$Q$20","v":"1 Left"},{"$f":"'18'!$Z$24","v":"3 Left"},{"$f":"'18'!$AI$20","v":"1 Left"}]
[null,null,"Left",{"$f":"$F$2","v":3},null,"Right",{"$f":"$F$2","v":3},"3 Left","3 Right",null,null,"Left",{"$f":"$F$2","v":3},null,"Right",{"$f":"$F$2","v":3},"3 Left","3 Right",null,null,"Left",{"$f":"$F$2","v":3},null,"Right",{"$f":"$F$2","v":3},"3 Left","3 Right",null,null,"Left",{"$f":"$F$2","v":3},null,"Right",{"$f":"$F$2","v":3},"3 Left","3 Right",null,9,{"$f":"'18'!$H$20","v":"1 Left"},{"$f":"'18'!$R$27","v":"4 Right"},{"$f":"'18'!$AA$24","v":"3 Right"},{"$f":"'18'!$AI$27","v":"4 Left"}]
[null,4,"Left",{"$f":"$H$2","v":4},8,"Right",{"$f":"$H$2","v":4},"4 Left","4 Right",null,5,"Left",{"$f":"$H$2","v":4},9,"Right",{"$f":"$H$2","v":4},"4 Left","4 Right",null,2,"Left",{"$f":"$H$2","v":4},7,"Right",{"$f":"$H$2","v":4},"4 Left","4 Right",null,9,"Left",{"$f":"$H$2","v":4},3,"Right",{"$f":"$H$2","v":4},"4 Left","4 Right",null,10,{"$f":"'18'!$H$19","v":"1 Left"},{"$f":"'18'!$Q$27","v":"4 Left"},{"$f":"'18'!$Z$24","v":"3 Left"},{"$f":"'18'!$AJ$20","v":"1 Right"}]
[null,17,"Left",{"$f":"$H$2","v":4},13,"Right",{"$f":"$H$2","v":4},"4 Left","4 Right",null,10,"Left",{"$f":"$H$2","v":4},14,"Right",{"$f":"$H$2","v":4},"4 Left","4 Right",null,12,"Left",{"$f":"$H$2","v":4},17,"Right",{"$f":"$H$2","v":4},"4 Left","4 Right",null,11,"Left",{"$f":"$H$2","v":4},16,"Right",{"$f":"$H$2","v":4},"4 Left","4 Right",null,11,{"$f":"'18'!$I$19","v":"1 Right"},{"$f":"'18'!$R$24","v":"3 Right"},{"$f":"'18'!$Z$21","v":"2 Left"},{"$f":"'18'!$AI$27","v":"4 Left"}]
[null,null,"Left",4,null,"Right",4,"4 Left","4 Right",null,null,"Left",4,null,"Right",4,"4 Left","4 Right",null,null,"Left",4,null,"Right",4,"4 Left","4 Right",null,null,"Left",4,null,"Right",4,"4 Left","4 Right",null,12,{"$f":"'18'!$I$24","v":"3 Right"},{"$f":"'18'!$R$19","v":"1 Right"},{"$f":"'18'!$Z$27","v":"4 Left"},{"$f":"'18'!$AI$19","v":"1 Left"}]
[null,null,"Left",{"$f":"$J$2","v":0},null,"Right",{"$f":"$J$2","v":0},"0 Left","0 Right",null,null,"Left",{"$f":"$J$2","v":0},null,"Right",{"$f":"$J$2","v":0},"0 Left","0 Right",null,null,"Left",{"$f":"$J$2","v":0},null,"Right",{"$f":"$J$2","v":0},"0 Left","0 Right",null,null,"Left",{"$f":"$J$2","v":0},null,"Right",{"$f":"$J$2","v":0},"0 Left","0 Right",null,13,{"$f":"'18'!$I$27","v":"4 Right"},{"$f":"'18'!$R$20","v":"1 Right"},{"$f":"'18'!$AA$21","v":"2 Right"},{"$f":"'18'!$AJ$24","v":"3 Right"}]
[null,null,"Left",{"$f":"$J$2","v":0},null,"Right",{"$f":"$J$2","v":0},"0 Left","0 Right",null,null,"Left",{"$f":"$J$2","v":0},null,"Right",{"$f":"$J$2","v":0},"0 Left","0 Right",null,null,"Left",{"$f":"$J$2","v":0},null,"Right",{"$f":"$J$2","v":0},"0 Left","0 Right",null,null,"Left",{"$f":"$J$2","v":0},null,"Right",{"$f":"$J$2","v":0},"0 Left","0 Right",null,14,{"$f":"'18'!$I$21","v":"2 Right"},{"$f":"'18'!$R$27","v":"4 Right"},{"$f":"'18'!$Z$19","v":"1 Left"},{"$f":"'18'!$AI$24","v":"3 Left"}]
[null,null,"Left",0,null,"Right",0,"0 Left","0 Right",null,null,"Left",0,null,"Right",0,"0 Left","0 Right",null,null,"Left",0,null,"Right",0,"0 Left","0 Right",null,null,"Left",0,null,"Right",0,"0 Left","0 Right",null,15,{"$f":"'18'!$H$21","v":"2 Left"},{"$f":"'18'!$Q$24","v":"3 Left"},{"$f":"'18'!$AA$19","v":"1 Right"},{"$f":"'18'!$AJ$21","v":"2 Right"}]
[null,null,"Left",{"$f":"$L$2","v":0},null,"Right",{"$f":"$L$2","v":0},"0 Left","0 Right",null,null,"Left",{"$f":"$L$2","v":0},null,"Right",{"$f":"$L$2","v":0},"0 Left","0 Right",null,null,"Left",{"$f":"$L$2","v":0},null,"Right",{"$f":"$L$2","v":0},"0 Left","0 Right",null,null,"Left",{"$f":"$L$2","v":0},null,"Right",{"$f":"$L$2","v":0},"0 Left","0 Right",null,16,{"$f":"'18'!$H$24","v":"3 Left"},{"$f":"'18'!$Q$21","v":"2 Left"},{"$f":"'18'!$AA$20","v":"1 Right"},{"$f":"'18'!$AJ$27","v":"4 Right"}]
[null,null,"Left",{"$f":"$L$2","v":0},null,"Right",{"$f":"$L$2","v":0},"0 Left","0 Right",null,null,"Left",{"$f":"$L$2","v":0},null,"Right",{"$f":"$L$2","v":0},"0 Left","0 Right",null,null,"Left",{"$f":"$L$2","v":0},null,"Right",{"$f":"$L$2","v":0},"0 Left","0 Right",null,null,"Left",{"$f":"$L$2","v":0},null,"Right",{"$f":"$L$2","v":0},"0 Left","0 Right",null,17,{"$f":"'18'!$H$27","v":"4 Left"},{"$f":"'18'!$Q$19","v":"1 Left"},{"$f":"'18'!$AA$27","v":"4 Right"},{"$f":"'18'!$AI$21","v":"2 Left"}]
[null,null,"Left",0,null,"Right",0,"0 Left","0 Right",null,null,"Left",0,null,"Right",0,"0 Left","0 Right",null,null,"Left",0,null,"Right",0,"0 Left","0 Right",null,null,"Left",0,null,"Right",0,"0 Left","0 Right",null,18,{"$f":"'18'!$I$20","v":"1 Right"},{"$f":"'18'!$R$21","v":"2 Right"},{"$f":"'18'!$AA$24","v":"3 Right"},{"$f":"'18'!$AJ$19","v":"1 Right"}]
[null,null,"Left",{"$f":"$N$2","v":0},null,"Right",{"$f":"$N$2","v":0},"0 Left","0 Right",null,null,"Left",{"$f":"$N$2","v":0},null,"Right",{"$f":"$N$2","v":0},"0 Left","0 Right",null,null,"Left",{"$f":"$N$2","v":0},null,"Right",{"$f":"$N$2","v":0},"0 Left","0 Right",null,null,"Left",{"$f":"$N$2","v":0},null,"Right",{"$f":"$N$2","v":0},"0 Left","0 Right",null,{"$f":"$B$30","v":0},{"$f":"$H$30","v":"0 Left"},{"$f":"$K$23","v":0},{"$f":"$Q$23","v":"2 Left"},{"$f":"$T$23","v":0},{"$f":"$Z$23","v":"2 Left"},{"$f":"$AC$23","v":0},{"$f":"$AI$23","v":"2 Left"}]
[null,null,"Left",{"$f":"$N$2","v":0},null,"Right",{"$f":"$N$2","v":0},"0 Left","0 Right",null,null,"Left",{"$f":"$N$2","v":0},null,"Right",{"$f":"$N$2","v":0},"0 Left","0 Right",null,null,"Left",{"$f":"$N$2","v":0},null,"Right",{"$f":"$N$2","v":0},"0 Left","0 Right",null,null,"Left",{"$f":"$N$2","v":0},null,"Right",{"$f":"$N$2","v":0},"0 Left","0 Right",null,{"$f":"$E$30","v":0},{"$f":"$I$30","v":"0 Right"},{"$f":"$K$26","v":0},{"$f":"$Q$26","v":"3 Left"},{"$f":"$T$26","v":0},{"$f":"$Z$26","v":"3 Left"},{"$f":"$AC$26","v":0},{"$f":"$AI$26","v":"3 Left"}]
[null,null,"Left",0,null,"Right",0,"0 Left","0 Right",null,null,"Left",0,null,"Right",0,"0 Left","0 Right",null,null,"Left",0,null,"Right",0,"0 Left","0 Right",null,null,"Left",0,null,"Right",0,"0 Left","0 Right",null,{"$f":"$B$31","v":0},{"$f":"$H$31","v":"0 Left"},{"$f":"$K$29","v":0},{"$f":"$Q$29","v":"4 Left"},{"$f":"$T$29","v":0},{"$f":"$Z$29","v":"4 Left"},{"$f":"$AC$29","v":0},{"$f":"$AI$29","v":"4 Left"}]
[null,null,"Left",{"$f":"$P$2","v":0},null,"Right",{"$f":"$P$2","v":0},"0 Left","0 Right",null,null,"Left",{"$f":"$P$2","v":0},null,"Right",{"$f":"$P$2","v":0},"0 Left","0 Right",null,null,"Left",{"$f":"$P$2","v":0},null,"Right",{"$f":"$P$2","v":0},"0 Left","0 Right",null,null,"Left",{"$f":"$P$2","v":0},null,"Right",{"$f":"$P$2","v":0},"0 Left","0 Right",null,{"$f":"$E$31","v":0},{"$f":"$I$31","v":"0 Right"},{"$f":"$K$30","v":0},{"$f":"$Q$30","v":"0 Left"},{"$f":"$T$30","v":0},{"$f":"$Z$30","v":"0 Left"},{"$f":"$AC$30","v":0},{"$f":"$AI$30","v":"0 Left"}]
[null,null,"Left",{"$f":"$P$2","v":0},null,"Right",{"$f":"$P$2","v":0},"0 Left","0 Right",null,null,"Left",{"$f":"$P$2","v":0},null,"Right",{"$f":"$P$2","v":0},"0 Left","0 Right",null,null,"Left",{"$f":"$P$2","v":0},null,"Right",{"$f":"$P$2","v":0},"0 Left","0 Right",null,null,"Left",{"$f":"$P$2","v":0},null,"Right",{"$f":"$P$2","v":0},"0 Left","0 Right",null,{"$f":"$B$33","v":0},{"$f":"$H$33","v":"0 Left"},{"$f":"$K$31","v":0},{"$f":"$Q$31","v":"0 Left"},{"$f":"$T$31","v":0},{"$f":"$Z$31","v":"0 Left"},{"$f":"$AC$31","v":0},{"$f":"$AI$31","v":"0 Left"}]
[null,null,"Left",0,null,"Right",0,"0 Left","0 Right",null,null,"Left",0,null,"Right",0,"0 Left","0 Right",null,null,"Left",0,null,"Right",0,"0 Left","0 Right",null,null,"Left",0,null,"Right",0,"0 Left","0 Right",null,{"$f":"$E$33","v":0},{"$f":"$I$33","v":"0 Right"},{"$f":"$K$32","v":0},{"$f":"$Q$32","v":"0 Left"},{"$f":"$T$32","v":0},{"$f":"$Z$32","v":"0 Left"},{"$f":"$AC$32","v":0},{"$f":"$AI$32","v":"0 Left"}]
[null,null,"Left",{"$f":"$R$2","v":0},null,"Right",{"$f":"$R$2","v":0},"0 Left","0 Right",null,null,"Left",{"$f":"$R$2","v":0},null,"Right",{"$f":"$R$2","v":0},"0 Left","0 Right",null,null,"Left",{"$f":"$R$2","v":0},null,"Right",{"$f":"$R$2","v":0},"0 Left","0 Right",null,null,"Left",{"$f":"$R$2","v":0},null,"Right",{"$f":"$R$2","v":0},"0 Left","0 Right",null,{"$f":"$B$36","v":0},{"$f":"$H$36","v":"0 Left"},{"$f":"$K$33","v":0},{"$f":"$Q$33","v":"0 Left"},{"$f":"$T$33","v":0},{"$f":"$Z$33","v":"0 Left"},{"$f":"$AC$33","v":0},{"$f":"$AI$33","v":"0 Left"}]
[null,null,"Left",{"$f":"$R$2","v":0},null,"Right",{"$f":"$R$2","v":0},"0 Left","0 Right",null,null,"Left",{"$f":"$R$2","v":0},null,"Right",{"$f":"$R$2","v":0},"0 Left","0 Right",null,null,"Left",{"$f":"$R$2","v":0},null,"Right",{"$f":"$R$2","v":0},"0 Left","0 Right",null,null,"Left",{"$f":"$R$2","v":0},null,"Right",{"$f":"$R$2","v":0},"0 Left","0 Right",null,{"$f":"$E$36","v":0},{"$f":"$I$36","v":"0 Right"},{"$f":"$K$34","v":0},{"$f":"$Q$34","v":"0 Left"},{"$f":"$T$34","v":0},{"$f":"$Z$34","v":"0 Left"},{"$f":"$AC$34","v":0},{"$f":"$AI$34","v":"0 Left"}]
[null,null,"Left",0,null,"Right",0,"0 Left","0 Right",null,null,"Left",0,null,"Right",0,"0 Left","0 Right",null,null,"Left",0,null,"Right",0,"0 Left","0 Right",null,null,"Left",0,null,"Right",0,"0 Left","0 Right",null,{"$f":"$B$39","v":0},{"$f":"$H$39","v":"0 Left"},{"$f":"$K$35","v":0},{"$f":"$Q$35","v":"0 Left"},{"$f":"$T$35","v":0},{"$f":"$Z$35","v":"0 Left"},{"$f":"$AC$35","v":0},{"$f":"$AI$35","v":"0 Left"}]
[null,null,"Left",{"$f":"$T$2","v":0},null,"Right",{"$f":"$T$2","v":0},"0 Left","0 Right",null,null,"Left",{"$f":"$T$2","v":0},null,"Right",{"$f":"$T$2","v":0},"0 Left","0 Right",null,null,"Left",{"$f":"$T$2","v":0},null,"Right",{"$f":"$T$2","v":0},"0 Left","0 Right",null,null,"Left",{"$f":"$T$2","v":0},null,"Right",{"$f":"$T$2","v":0},"0 Left","0 Right",null,{"$f":"$E$39","v":0},{"$f":"$I$39","v":"0 Right"},{"$f":"$K$36","v":0},{"$f":"$Q$36","v":"0 Left"},{"$f":"$T$36","v":0},{"$f":"$Z$36","v":"0 Left"},{"$f":"$AC$36","v":0},{"$f":"$AI$36","v":"0 Left"}]
[null,null,"Left",{"$f":"$T$2","v":0},null,"Right",{"$f":"$T$2","v":0},"0 Left","0 Right",null,null,"Left",{"$f":"$T$2","v":0},null,"Right",{"$f":"$T$2","v":0},"0 Left","0 Right",null,null,"Left",{"$f":"$T$2","v":0},null,"Right",{"$f":"$T$2","v":0},"0 Left","0 Right",null,null,"Left",{"$f":"$T$2","v":0},null,"Right",{"$f":"$T$2","v":0},"0 Left","0 Right",null,{"$f":"$B$42","v":0},{"$f":"$H$42","v":"0 Left"},{"$f":"$K$37","v":0},{"$f":"$Q$37","v":"0 Left"},{"$f":"$T$37","v":0},{"$f":"$Z$37","v":"0 Left"},{"$f":"$AC$37","v":0},{"$f":"$AI$37","v":"0 Left"}]
[null,null,"Left",0,null,"Right",0,"0 Left","0 Right",null,null,"Left",0,null,"Right",0,"0 Left","0 Right",null,null,"Left",0,null,"Right",0,"0 Left","0 Right",null,null,"Left",0,null,"Right",0,"0 Left","0 Right",null,{"$f":"$E$42","v":0},{"$f":"$I$42","v":"0 Right"},{"$f":"$K$38","v":0},{"$f":"$Q$38","v":"0 Left"},{"$f":"$T$38","v":0},{"$f":"$Z$38","v":"0 Left"},{"$f":"$AC$38","v":0},{"$f":"$AI$38","v":"0 Left"}]
[null,null,"Left",{"$f":"$V$2","v":0},null,"Right",{"$f":"$V$2","v":0},"0 Left","0 Right",null,null,"Left",{"$f":"$V$2","v":0},null,"Right",{"$f":"$V$2","v":0},"0 Left","0 Right",null,null,"Left",{"$f":"$V$2","v":0},null,"Right",{"$f":"$V$2","v":0},"0 Left","0 Right",null,null,"Left",{"$f":"$V$2","v":0},null,"Right",{"$f":"$V$2","v":0},"0 Left","0 Right",null,{"$f":"$B$45","v":0},{"$f":"$H$45","v":"0 Left"},{"$f":"$K$39","v":0},{"$f":"$Q$39","v":"0 Left"},{"$f":"$T$39","v":0},{"$f":"$Z$39","v":"0 Left"},{"$f":"$AC$39","v":0},{"$f":"$AI$39","v":"0 Left"}]
[null,null,"Left",{"$f":"$V$2","v":0},null,"Right",{"$f":"$V$2","v":0},"0 Left","0 Right",null,null,"Left",{"$f":"$V$2","v":0},null,"Right",{"$f":"$V$2","v":0},"0 Left","0 Right",null,null,"Left",{"$f":"$V$2","v":0},null,"Right",{"$f":"$V$2","v":0},"0 Left","0 Right",null,null,"Left",{"$f":"$V$2","v":0},null,"Right",{"$f":"$V$2","v":0},"0 Left","0 Right",null,{"$f":"$E$45","v":0},{"$f":"$I$45","v":"0 Right"},{"$f":"$K$40","v":0},{"$f":"$Q$40","v":"0 Left"},{"$f":"$T$40","v":0},{"$f":"$Z$40","v":"0 Left"},{"$f":"$AC$40","v":0},{"$f":"$AI$40","v":"0 Left"}]
[null,null,"Left",0,null,"Right",0,"0 Left","0 Right",null,null,"Left",0,null,"Right",0,"0 Left","0 Right",null,null,"Left",0,null,"Right",0,"0 Left","0 Right",null,null,"Left",0,null,"Right",0,"0 Left","0 Right",null,{"$f":"$B$34","v":0},{"$f":"$H$34","v":"0 Left"},{"$f":"$K$41","v":0},{"$f":"$Q$41","v":"0 Left"},{"$f":"$T$41","v":0},{"$f":"$Z$41","v":"0 Left"},{"$f":"$AC$41","v":0},{"$f":"$AI$41","v":"0 Left"}]
[null,null,"Left",{"$f":"$X$2","v":0},null,"Right",{"$f":"$X$2","v":0},"0 Left","0 Right",null,null,"Left",{"$f":"$X$2","v":0},null,"Right",{"$f":"$X$2","v":0},"0 Left","0 Right",null,null,"Left",{"$f":"$X$2","v":0},null,"Right",{"$f":"$X$2","v":0},"0 Left","0 Right",null,null,"Left",{"$f":"$X$2","v":0},null,"Right",{"$f":"$X$2","v":0},"0 Left","0 Right",null,{"$f":"$E$34","v":0},{"$f":"$I$34","v":"0 Right"},{"$f":"$K$42","v":0},{"$f":"$Q$42","v":"0 Left"},{"$f":"$T$42","v":0},{"$f":"$Z$42","v":"0 Left"},{"$f":"$AC$42","v":0},{"$f":"$AI$42","v":"0 Left"}]
[null,null,"Left",{"$f":"$X$2","v":0},null,"Right",{"$f":"$X$2","v":0},"0 Left","0 Right",null,null,"Left",{"$f":"$X$2","v":0},null,"Right",{"$f":"$X$2","v":0},"0 Left","0 Right",null,null,"Left",{"$f":"$X$2","v":0},null,"Right",{"$f":"$X$2","v":0},"0 Left","0 Right",null,null,"Left",{"$f":"$X$2","v":0},null,"Right",{"$f":"$X$2","v":0},"0 Left","0 Right",null,{"$f":"$B$37","v":0},{"$f":"$H$37","v":"0 Left"},{"$f":"$K$43","v":0},{"$f":"$Q$43","v":"0 Left"},{"$f":"$T$43","v":0},{"$f":"$Z$43","v":"0 Left"},{"$f":"$AC$43","v":0},{"$f":"$AI$43","v":"0 Left"}]
[null,null,"Left",0,null,"Right",0,"0 Left","0 Right",null,null,"Left",0,null,"Right",0,"0 Left","0 Right",null,null,"Left",0,null,"Right",0,"0 Left","0 Right",null,null,"Left",0,null,"Right",0,"0 Left","0 Right",null,{"$f":"$E$37","v":0},{"$f":"$I$37","v":"0 Right"},{"$f":"$K$44","v":0},{"$f":"$Q$44","v":"0 Left"},{"$f":"$T$44","v":0},{"$f":"$Z$44","v":"0 Left"},{"$f":"$AC$44","v":0},{"$f":"$AI$44","v":"0 Left"}]
[null,null,"Left",{"$f":"$Z$2","v":0},null,"Right",{"$f":"$Z$2","v":0},"0 Left","0 Right",null,null,"Left",{"$f":"$Z$2","v":0},null,"Right",{"$f":"$Z$2","v":0},"0 Left","0 Right",null,null,"Left",{"$f":"$Z$2","v":0},null,"Right",{"$f":"$Z$2","v":0},"0 Left","0 Right",null,null,"Left",{"$f":"$Z$2","v":0},null,"Right",{"$f":"$Z$2","v":0},"0 Left","0 Right",null,{"$f":"$B$40","v":0},{"$f":"$H$40","v":"0 Left"},{"$f":"$K$45","v":0},{"$f":"$Q$45","v":"0 Left"},{"$f":"$T$45","v":0},{"$f":"$Z$45","v":"0 Left"},{"$f":"$AC$45","v":0},{"$f":"$AI$45","v":"0 Left"}]
[null,null,"Left",{"$f":"$Z$2","v":0},null,"Right",{"$f":"$Z$2","v":0},"0 Left","0 Right",null,null,"Left",{"$f":"$Z$2","v":0},null,"Right",{"$f":"$Z$2","v":0},"0 Left","0 Right",null,null,"Left",{"$f":"$Z$2","v":0},null,"Right",{"$f":"$Z$2","v":0},"0 Left","0 Right",null,null,"Left",{"$f":"$Z$2","v":0},null,"Right",{"$f":"$Z$2","v":0},"0 Left","0 Right",null,{"$f":"$E$40","v":0},{"$f":"$I$40","v":"0 Right"},{"$f":"$K$46","v":0},{"$f":"$Q$46","v":"0 Left"},{"$f":"$T$46","v":0},{"$f":"$Z$46","v":"0 Left"},{"$f":"$AC$46","v":0},{"$f":"$AI$46","v":"0 Left"}]
[null,null,"Left",0,null,"Right",0,"0 Left","0 Right",null,null,"Left",0,null,"Right",0,"0 Left","0 Right",null,null,"Left",0,null,"Right",0,"0 Left","0 Right",null,null,"Left",0,null,"Right",0,"0 Left","0 Right",null,{"$f":"$B$43","v":0},{"$f":"$H$43","v":"0 Left"},{"$f":"$K$47","v":0},{"$f":"$Q$47","v":"0 Left"},{"$f":"$T$47","v":0},{"$f":"$Z$47","v":"0 Left"},{"$f":"$AC$47","v":0},{"$f":"$AI$47","v":"0 Left"}]
[null,null,"Left",{"$f":"$AB$2","v":0},null,"Right",{"$f":"$AB$2","v":0},"0 Left","0 Right",null,null,"Left",{"$f":"$AB$2","v":0},null,"Right",{"$f":"$AB$2","v":0},"0 Left","0 Right",null,null,"Left",{"$f":"$AB$2","v":0},null,"Right",{"$f":"$AB$2","v":0},"0 Left","0 Right",null,null,"Left",{"$f":"$AB$2","v":0},null,"Right",{"$f":"$AB$2","v":0},"0 Left","0 Right",null,{"$f":"$E$43","v":0},{"$f":"$I$43","v":"0 Right"},{"$f":"$K$48","v":0},{"$f":"$Q$48","v":"0 Left"},{"$f":"$T$48","v":0},{"$f":"$Z$48","v":"0 Left"},{"$f":"$AC$48","v":0},{"$f":"$AI$48","v":"0 Left"}]
[null,null,"Left",{"$f":"$AB$2","v":0},null,"Right",{"$f":"$AB$2","v":0},"0 Left","0 Right",null,null,"Left",{"$f":"$AB$2","v":0},null,"Right",{"$f":"$AB$2","v":0},"0 Left","0 Right",null,null,"Left",{"$f":"$AB$2","v":0},null,"Right",{"$f":"$AB$2","v":0},"0 Left","0 Right",null,null,"Left",{"$f":"$AB$2","v":0},null,"Right",{"$f":"$AB$2","v":0},"0 Left","0 Right",null,{"$f":"$B$46","v":0},{"$f":"$H$46","v":"0 Left"},{"$f":"$K$49","v":0},{"$f":"$Q$49","v":"0 Left"},{"$f":"$T$49","v":0},{"$f":"$Z$49","v":"0 Left"},{"$f":"$AC$49","v":0},{"$f":"$AI$49","v":"0 Left"}]
[null,null,"Left",0,null,"Right",0,"0 Left","0 Right",null,null,"Left",0,null,"Right",0,"0 Left","0 Right",null,null,"Left",0,null,"Right",0,"0 Left","0 Right",null,null,"Left",0,null,"Right",0,"0 Left","0 Right",null,{"$f":"$E$46","v":0},{"$f":"$I$46","v":"0 Right"},{"$f":"$K$50","v":0},{"$f":"$Q$50","v":"0 Left"},{"$f":"$T$50","v":0},{"$f":"$Z$50","v":"0 Left"},{"$f":"$AC$50","v":0},{"$f":"$AI$50","v":"0 Left"}]
[{"$nulls":37},{"$f":"$B$23","v":0},{"$f":"$H$23","v":"2 Left"},{"$f":"$K$51","v":0},{"$f":"$Q$51","v":"0 Left"},{"$f":"$T$51","v":0},{"$f":"$Z$51","v":"0 Left"},{"$f":"$AC$51","v":0},{"$f":"$AI$51","v":"0 Left"}]
[{"$nulls":37},{"$f":"$B$26","v":0},{"$f":"$H$26","v":"3 Left"},{"$f":"$K$52","v":0},{"$f":"$Q$52","v":"0 Left"},{"$f":"$T$52","v":0},{"$f":"$Z$52","v":"0 Left"},{"$f":"$AC$52","v":0},{"$f":"$AI$52","v":"0 Left"}]
[{"$nulls":37},{"$f":"$B$29","v":0},{"$f":"$H$29","v":"4 Left"},{"$f":"$K$53","v":0},{"$f":"$Q$53","v":"0 Left"},{"$f":"$T$53","v":0},{"$f":"$Z$53","v":"0 Left"},{"$f":"$AC$53","v":0},{"$f":"$AI$53","v":"0 Left"}]
[{"$nulls":37},{"$f":"$B$32","v":0},{"$f":"$H$32","v":"0 Left"},{"$f":"$K$54","v":0},{"$f":"$Q$54","v":"0 Left"},{"$f":"$T$54","v":0},{"$f":"$Z$54","v":"0 Left"},{"$f":"$AC$54","v":0},{"$f":"$AI$54","v":"0 Left"}]
[{"$nulls":37},{"$f":"$B$35","v":0},{"$f":"$H$35","v":"0 Left"},{"$f":"$K$55","v":0},{"$f":"$Q$55","v":"0 Left"},{"$f":"$T$55","v":0},{"$f":"$Z$55","v":"0 Left"},{"$f":"$AC$55","v":0},{"$f":"$AI$55","v":"0 Left"}]
[{"$nulls":37},{"$f":"$B$38","v":0},{"$f":"$H$38","v":"0 Left"},{"$f":"$K$56","v":0},{"$f":"$Q$56","v":"0 Left"},{"$f":"$T$56","v":0},{"$f":"$Z$56","v":"0 Left"},{"$f":"$AC$56","v":0},{"$f":"$AI$56","v":"0 Left"}]
[{"$nulls":37},{"$f":"$B$41","v":0},{"$f":"$H$41","v":"0 Left"},{"$f":"$K$57","v":0},{"$f":"$Q$57","v":"0 Left"},{"$f":"$T$57","v":0},{"$f":"$Z$57","v":"0 Left"},{"$f":"$AC$57","v":0},{"$f":"$AI$57","v":"0 Left"}]
[{"$nulls":37},{"$f":"$B$44","v":0},{"$f":"$H$44","v":"0 Left"},{"$f":"$K$58","v":0},{"$f":"$Q$58","v":"0 Left"},{"$f":"$T$58","v":0},{"$f":"$Z$58","v":"0 Left"},{"$f":"$AC$58","v":0},{"$f":"$AI$58","v":"0 Left"}]
[{"$nulls":37},{"$f":"$B$47","v":0},{"$f":"$H$47","v":"0 Left"},{"$f":"$K$59","v":0},{"$f":"$Q$59","v":"0 Left"},{"$f":"$T$59","v":0},{"$f":"$Z$59","v":"0 Left"},{"$f":"$AC$59","v":0},{"$f":"$AI$59","v":"0 Left"}]
[{"$nulls":37},{"$f":"$B$48","v":0},{"$f":"$H$48","v":"0 Left"},{"$f":"$N$23","v":0},{"$f":"$R$23","v":"2 Right"},{"$f":"$W$23","v":0},{"$f":"$AA$23","v":"2 Right"},{"$f":"$AF$23","v":0},{"$f":"$AJ$23","v":"2 Right"}]
[{"$nulls":37},{"$f":"$B$49","v":0},{"$f":"$H$49","v":"0 Left"},{"$f":"$N$26","v":0},{"$f":"$R$26","v":"3 Right"},{"$f":"$W$26","v":0},{"$f":"$AA$26","v":"3 Right"},{"$f":"$AF$26","v":0},{"$f":"$AJ$26","v":"3 Right"}]
[{"$nulls":37},{"$f":"$B$50","v":0},{"$f":"$H$50","v":"0 Left"},{"$f":"$N$29","v":0},{"$f":"$R$29","v":"4 Right"},{"$f":"$W$29","v":0},{"$f":"$AA$29","v":"4 Right"},{"$f":"$AF$29","v":0},{"$f":"$AJ$29","v":"4 Right"}]
[{"$nulls":37},{"$f":"$B$51","v":0},{"$f":"$H$51","v":"0 Left"},{"$f":"$N$30","v":0},{"$f":"$R$30","v":"0 Right"},{"$f":"$W$30","v":0},{"$f":"$AA$30","v":"0 Right"},{"$f":"$AF$30","v":0},{"$f":"$AJ$30","v":"0 Right"}]
[{"$nulls":37},{"$f":"$B$52","v":0},{"$f":"$H$52","v":"0 Left"},{"$f":"$N$31","v":0},{"$f":"$R$31","v":"0 Right"},{"$f":"$W$31","v":0},{"$f":"$AA$31","v":"0 Right"},{"$f":"$AF$31","v":0},{"$f":"$AJ$31","v":"0 Right"}]
[{"$nulls":37},{"$f":"$B$53","v":0},{"$f":"$H$53","v":"0 Left"},{"$f":"$N$32","v":0},{"$f":"$R$32","v":"0 Right"},{"$f":"$W$32","v":0},{"$f":"$AA$32","v":"0 Right"},{"$f":"$AF$32","v":0},{"$f":"$AJ$32","v":"0 Right"}]
[{"$nulls":37},{"$f":"$B$54","v":0},{"$f":"$H$54","v":"0 Left"},{"$f":"$N$33","v":0},{"$f":"$R$33","v":"0 Right"},{"$f":"$W$33","v":0},{"$f":"$AA$33","v":"0 Right"},{"$f":"$AF$33","v":0},{"$f":"$AJ$33","v":"0 Right"}]
[{"$nulls":37},{"$f":"$B$55","v":0},{"$f":"$H$55","v":"0 Left"},{"$f":"$N$34","v":0},{"$f":"$R$34","v":"0 Right"},{"$f":"$W$34","v":0},{"$f":"$AA$34","v":"0 Right"},{"$f":"$AF$34","v":0},{"$f":"$AJ$34","v":"0 Right"}]
[{"$nulls":37},{"$f":"$B$56","v":0},{"$f":"$H$56","v":"0 Left"},{"$f":"$N$35","v":0},{"$f":"$R$35","v":"0 Right"},{"$f":"$W$35","v":0},{"$f":"$AA$35","v":"0 Right"},{"$f":"$AF$35","v":0},{"$f":"$AJ$35","v":"0 Right"}]
[{"$nulls":37},{"$f":"$B$57","v":0},{"$f":"$H$57","v":"0 Left"},{"$f":"$N$36","v":0},{"$f":"$R$36","v":"0 Right"},{"$f":"$W$36","v":0},{"$f":"$AA$36","v":"0 Right"},{"$f":"$AF$36","v":0},{"$f":"$AJ$36","v":"0 Right"}]
[{"$nulls":37},{"$f":"$B$58","v":0},{"$f":"$H$58","v":"0 Left"},{"$f":"$N$37","v":0},{"$f":"$R$37","v":"0 Right"},{"$f":"$W$37","v":0},{"$f":"$AA$37","v":"0 Right"},{"$f":"$AF$37","v":0},{"$f":"$AJ$37","v":"0 Right"}]
[{"$nulls":37},{"$f":"$B$59","v":0},{"$f":"$H$59","v":"0 Left"},{"$f":"$N$38","v":0},{"$f":"$R$38","v":"0 Right"},{"$f":"$W$38","v":0},{"$f":"$AA$38","v":"0 Right"},{"$f":"$AF$38","v":0},{"$f":"$AJ$38","v":"0 Right"}]
[{"$nulls":37},{"$f":"$E$23","v":0},{"$f":"$I$23","v":"2 Right"},{"$f":"$N$39","v":0},{"$f":"$R$39","v":"0 Right"},{"$f":"$W$39","v":0},{"$f":"$AA$39","v":"0 Right"},{"$f":"$AF$39","v":0},{"$f":"$AJ$39","v":"0 Right"}]
[{"$nulls":37},{"$f":"$E$26","v":0},{"$f":"$I$26","v":"3 Right"},{"$f":"$N$40","v":0},{"$f":"$R$40","v":"0 Right"},{"$f":"$W$40","v":0},{"$f":"$AA$40","v":"0 Right"},{"$f":"$AF$40","v":0},{"$f":"$AJ$40","v":"0 Right"}]
[{"$nulls":37},{"$f":"$E$29","v":0},{"$f":"$I$29","v":"4 Right"},{"$f":"$N$41","v":0},{"$f":"$R$41","v":"0 Right"},{"$f":"$W$41","v":0},{"$f":"$AA$41","v":"0 Right"},{"$f":"$AF$41","v":0},{"$f":"$AJ$41","v":"0 Right"}]
[{"$nulls":37},{"$f":"$E$32","v":0},{"$f":"$I$32","v":"0 Right"},{"$f":"$N$42","v":0},{"$f":"$R$42","v":"0 Right"},{"$f":"$W$42","v":0},{"$f":"$AA$42","v":"0 Right"},{"$f":"$AF$42","v":0},{"$f":"$AJ$42","v":"0 Right"}]
[{"$nulls":37},{"$f":"$E$35","v":0},{"$f":"$I$35","v":"0 Right"},{"$f":"$N$43","v":0},{"$f":"$R$43","v":"0 Right"},{"$f":"$W$43","v":0},{"$f":"$AA$43","v":"0 Right"},{"$f":"$AF$43","v":0},{"$f":"$AJ$43","v":"0 Right"}]
[{"$nulls":37},{"$f":"$E$38","v":0},{"$f":"$I$38","v":"0 Right"},{"$f":"$N$44","v":0},{"$f":"$R$44","v":"0 Right"},{"$f":"$W$44","v":0},{"$f":"$AA$44","v":"0 Right"},{"$f":"$AF$44","v":0},{"$f":"$AJ$44","v":"0 Right"}]
[{"$nulls":37},{"$f":"$E$41","v":0},{"$f":"$I$41","v":"0 Right"},{"$f":"$N$45","v":0},{"$f":"$R$45","v":"0 Right"},{"$f":"$W$45","v":0},{"$f":"$AA$45","v":"0 Right"},{"$f":"$AF$45","v":0},{"$f":"$AJ$45","v":"0 Right"}]
[{"$nulls":37},{"$f":"$E$44","v":0},{"$f":"$I$44","v":"0 Right"},{"$f":"$N$46","v":0},{"$f":"$R$46","v":"0 Right"},{"$f":"$W$46","v":0},{"$f":"$AA$46","v":"0 Right"},{"$f":"$AF$46","v":0},{"$f":"$AJ$46","v":"0 Right"}]
[{"$nulls":37},{"$f":"$E$47","v":0},{"$f":"$I$47","v":"0 Right"},{"$f":"$N$47","v":0},{"$f":"$R$47","v":"0 Right"},{"$f":"$W$47","v":0},{"$f":"$AA$47","v":"0 Right"},{"$f":"$AF$47","v":0},{"$f":"$AJ$47","v":"0 Right"}]
[{"$nulls":37},{"$f":"$E$48","v":0},{"$f":"$I$48","v":"0 Right"},{"$f":"$N$48","v":0},{"$f":"$R$48","v":"0 Right"},{"$f":"$W$48","v":0},{"$f":"$AA$48","v":"0 Right"},{"$f":"$AF$48","v":0},{"$f":"$AJ$48","v":"0 Right"}]
[{"$nulls":37},{"$f":"$E$49","v":0},{"$f":"$I$49","v":"0 Right"},{"$f":"$N$49","v":0},{"$f":"$R$49","v":"0 Right"},{"$f":"$W$49","v":0},{"$f":"$AA$49","v":"0 Right"},{"$f":"$AF$49","v":0},{"$f":"$AJ$49","v":"0 Right"}]
[{"$nulls":37},{"$f":"$E$50","v":0},{"$f":"$I$50","v":"0 Right"},{"$f":"$N$50","v":0},{"$f":"$R$50","v":"0 Right"},{"$f":"$W$50","v":0},{"$f":"$AA$50","v":"0 Right"},{"$f":"$AF$50","v":0},{"$f":"$AJ$50","v":"0 Right"}]
[{"$nulls":37},{"$f":"$E$51","v":0},{"$f":"$I$51","v":"0 Right"},{"$f":"$N$51","v":0},{"$f":"$R$51","v":"0 Right"},{"$f":"$W$51","v":0},{"$f":"$AA$51","v":"0 Right"},{"$f":"$AF$51","v":0},{"$f":"$AJ$51","v":"0 Right"}]
[{"$nulls":37},{"$f":"$E$52","v":0},{"$f":"$I$52","v":"0 Right"},{"$f":"$N$52","v":0},{"$f":"$R$52","v":"0 Right"},{"$f":"$W$52","v":0},{"$f":"$AA$52","v":"0 Right"},{"$f":"$AF$52","v":0},{"$f":"$AJ$52","v":"0 Right"}]
[{"$nulls":37},{"$f":"$E$53","v":0},{"$f":"$I$53","v":"0 Right"},{"$f":"$N$53","v":0},{"$f":"$R$53","v":"0 Right"},{"$f":"$W$53","v":0},{"$f":"$AA$53","v":"0 Right"},{"$f":"$AF$53","v":0},{"$f":"$AJ$53","v":"0 Right"}]
[{"$nulls":37},{"$f":"$E$54","v":0},{"$f":"$I$54","v":"0 Right"},{"$f":"$N$54","v":0},{"$f":"$R$54","v":"0 Right"},{"$f":"$W$54","v":0},{"$f":"$AA$54","v":"0 Right"},{"$f":"$AF$54","v":0},{"$f":"$AJ$54","v":"0 Right"}]
[{"$nulls":37},{"$f":"$E$55","v":0},{"$f":"$I$55","v":"0 Right"},{"$f":"$N$55","v":0},{"$f":"$R$55","v":"0 Right"},{"$f":"$W$55","v":0},{"$f":"$AA$55","v":"0 Right"},{"$f":"$AF$55","v":0},{"$f":"$AJ$55","v":"0 Right"}]
[{"$nulls":37},{"$f":"$E$56","v":0},{"$f":"$I$56","v":"0 Right"},{"$f":"$N$56","v":0},{"$f":"$R$56","v":"0 Right"},{"$f":"$W$56","v":0},{"$f":"$AA$56","v":"0 Right"},{"$f":"$AF$56","v":0},{"$f":"$AJ$56","v":"0 Right"}]
[{"$nulls":37},{"$f":"$E$57","v":0},{"$f":"$I$57","v":"0 Right"},{"$f":"$N$57","v":0},{"$f":"$R$57","v":"0 Right"},{"$f":"$W$57","v":0},{"$f":"$AA$57","v":"0 Right"},{"$f":"$AF$57","v":0},{"$f":"$AJ$57","v":"0 Right"}]
[{"$nulls":37},{"$f":"$E$58","v":0},{"$f":"$I$58","v":"0 Right"},{"$f":"$N$58","v":0},{"$f":"$R$58","v":"0 Right"},{"$f":"$W$58","v":0},{"$f":"$AA$58","v":"0 Right"},{"$f":"$AF$58","v":0},{"$f":"$AJ$58","v":"0 Right"}]
[{"$nulls":37},{"$f":"$E$59","v":0},{"$f":"$I$59","v":"0 Right"},{"$f":"$N$59","v":0},{"$f":"$R$59","v":"0 Right"},{"$f":"$W$59","v":0},{"$f":"$AA$59","v":"0 Right"},{"$f":"$AF$59","v":0},{"$f":"$AJ$59","v":"0 Right"}]

{"sheet":"20","index":8,"n_rows":101,"n_cols":45,"rows_kept":101,"hidden":true,"merged":[[0,1,0,10],[1,1,1,2],[1,3,1,4],[1,5,1,6],[1,7,1,8],[1,9,1,10],[2,0,4,0],[5,0,7,0],[8,0,10,0],[11,0,13,0],[14,1,14,10],[15,1,15,6],[15,10,15,15],[15,19,15,24],[15,28,15,33],[16,37,16,38],[16,39,16,40],[16,41,16,42],[16,43,16,44]]}
[null,"YOU MAY CHANGE THESE RINK NUMBERS IF YOU WISH"]
["Round",2,null,3,2,4,3,5,4,6,5]
[1,1,2,3,4,5,6,7,8,9,10]
[null,11,12,13,14,15,16,17,18,19,20]
[]
[2,5,10,1,8,2,9,3,6,4,7]
[null,13,18,19,16,20,17,11,14,12,15]
[]
[3,3,9,2,6,7,8,4,10,1,5]
[null,19,15,18,12,13,14,20,16,17,11]
[]
[4,6,8,10,7,4,5,3,1,2,9]
[null,20,12,14,11,18,19,17,15,16,13]
[]
[null,"20 on 1 green"]
[null,1,{"$nulls":8},2,{"$nulls":8},3,{"$nulls":8},4]
[null,"no","Left","rink","no","Right","rink","L","R",null,"no","Left","rink","no","Right","rink","L","R",null,"no","Left","rink","no","Right","rink","L","R",null,"no","Left","rink","no","Right","rink","L","R",null,1,null,2,null,3,null,4]
[null,1,"Left",{"$f":"$B$2","v":2},2,"Right",{"$f":"$B$2","v":2},{"$f":"(D18&\" \"&C18)","v":"2 Left"},{"$f":"(G18&\" \"&F18)","v":"2 Right"},null,5,"Left",{"$f":"$B$2","v":2},10,"Right",{"$f":"$B$2","v":2},{"$f":"(M18&\" \"&L18)","v":"2 Left"},{"$f":"(P18&\" \"&O18)","v":"2 Right"},null,3,"Left",{"$f":"$B$2","v":2},9,"Right",{"$f":"$B$2","v":2},{"$f":"(V18&\" \"&U18)","v":"2 Left"},{"$f":"(Y18&\" \"&X18)","v":"2 Right"},null,6,"Left",{"$f":"$B$2","v":2},8,"Right",{"$f":"$B$2","v":2},{"$f":"(AE18&\" \"&AD18)","v":"2 Left"},{"$f":"(AH18&\" \"&AG18)","v":"2 Right"}]
[null,11,"Left",{"$f":"$B$2","v":2},12,"Right",{"$f":"$B$2","v":2},"2 Left","2 Right",null,13,"Left",{"$f":"$B$2","v":2},18,"Right",{"$f":"$B$2","v":2},"2 Left","2 Right",null,19,"Left",{"$f":"$B$2","v":2},15,"Right",{"$f":"$B$2","v":2},"2 Left","2 Right",null,20,"Left",{"$f":"$B$2","v":2},12,"Right",{"$f":"$B$2","v":2},"2 Left","2 Right"]
[null,null,"Left",{"$f":"$B$2","v":2},null,"Right",{"$f":"$B$2","v":2},"2 Left","2 Right",null,null,"Left",{"$f":"$B$2","v":2},null,"Right",{"$f":"$B$2","v":2},"2 Left","2 Right",null,null,"Left",{"$f":"$B$2","v":2},null,"Right",{"$f":"$B$2","v":2},"2 Left","2 Right",null,null,"Left",{"$f":"$B$2","v":2},null,"Right",{"$f":"$B$2","v":2},"2 Left","2 Right"]
[null,3,"Left",{"$f":"$D$2","v":3},4,"Right",{"$f":"$D$2","v":3},"3 Left","3 Right",null,1,"Left",{"$f":"$D$2","v":3},8,"Right",{"$f":"$D$2","v":3},"3 Left","3 Right",null,2,"Left",{"$f":"$D$2","v":3},6,"Right",{"$f":"$D$2","v":3},"3 Left","3 Right",null,10,"Left",{"$f":"$D$2","v":3},7,"Right",{"$f":"$D$2","v":3},"3 Left","3 Right"]
[null,13,"Left",{"$f":"$D$2","v":3},14,"Right",{"$f":"$D$2","v":3},"3 Left","3 Right",null,19,"Left",{"$f":"$D$2","v":3},16,"Right",{"$f":"$D$2","v":3},"3 Left","3 Right",null,18,"Left",{"$f":"$D$2","v":3},12,"Right",{"$f":"$D$2","v":3},"3 Left","3 Right",null,14,"Left",{"$f":"$D$2","v":3},11,"Right",{"$f":"$D$2","v":3},"3 Left","3 Right"]
[null,null,"Left",{"$f":"$D$2","v":3},null,"Right",{"$f":"$D$2","v":3},"3 Left","3 Right",null,null,"Left",{"$f":"$D$2","v":3},null,"Right",{"$f":"$D$2","v":3},"3 Left","3 Right",null,null,"Left",{"$f":"$D$2","v":3},null,"Right",{"$f":"$D$2","v":3},"3 Left","3 Right",null,null,"Left",{"$f":"$D$2","v":3},null,"Right",{"$f":"$D$2","v":3},"3 Left","3 Right"]
[null,5,"Left",{"$f":"$F$2","v":4},6,"Right",{"$f":"$F$2","v":4},"4 Left","4 Right",null,2,"Left",{"$f":"$F$2","v":4},9,"Right",{"$f":"$F$2","v":4},"4 Left","4 Right",null,7,"Left",{"$f":"$F$2","v":4},8,"Right",{"$f":"$F$2","v":4},"4 Left","4 Right",null,4,"Left",{"$f":"$F$2","v":4},5,"Right",{"$f":"$F$2","v":4},"4 Left","4 Right"]
[null,15,"Left",{"$f":"$F$2","v":4},16,"Right",{"$f":"$F$2","v":4},"4 Left","4 Right",null,20,"Left",{"$f":"$F$2","v":4},17,"Right",{"$f":"$F$2","v":4},"4 Left","4 Right",null,13,"Left",{"$f":"$F$2","v":4},14,"Right",{"$f":"$F$2","v":4},"4 Left","4 Right",null,18,"Left",{"$f":"$F$2","v":4},19,"Right",{"$f":"$F$2","v":4},"4 Left","4 Right"]
[null,null,"Left",{"$f":"$F$2","v":4},null,"Right",{"$f":"$F$2","v":4},"4 Left","4 Right",null,null,"Left",{"$f":"$F$2","v":4},null,"Right",{"$f":"$F$2","v":4},"4 Left","4 Right",null,null,"Left",{"$f":"$F$2","v":4},null,"Right",{"$f":"$F$2","v":4},"4 Left","4 Right",null,null,"Left",{"$f":"$F$2","v":4},null,"Right",{"$f":"$F$2","v":4},"4 Left","4 Right"]
[null,7,"Left",{"$f":"$H$2","v":5},8,"Right",{"$f":"$H$2","v":5},"5 Left","5 Right",null,3,"Left",{"$f":"$H$2","v":5},6,"Right",{"$f":"$H$2","v":5},"5 Left","5 Right",null,4,"Left",{"$f":"$H$2","v":5},10,"Right",{"$f":"$H$2","v":5},"5 Left","5 Right",null,3,"Left",{"$f":"$H$2","v":5},1,"Right",{"$f":"$H$2","v":5},"5 Left","5 Right"]
[null,17,"Left",{"$f":"$H$2","v":5},18,"Right",{"$f":"$H$2","v":5},"5 Left","5 Right",null,11,"Left",{"$f":"$H$2","v":5},14,"Right",{"$f":"$H$2","v":5},"5 Left","5 Right",null,20,"Left",{"$f":"$H$2","v":5},16,"Right",{"$f":"$H$2","v":5},"5 Left","5 Right",null,17,"Left",{"$f":"$H$2","v":5},15,"Right",{"$f":"$H$2","v":5},"5 Left","5 Right"]
[null,null,"Left",{"$f":"$H$2","v":5},null,"Right",{"$f":"$H$2","v":5},"5 Left","5 Right",null,null,"Left",{"$f":"$H$2","v":5},null,"Right",{"$f":"$H$2","v":5},"5 Left","5 Right",null,null,"Left",{"$f":"$H$2","v":5},null,"Right",{"$f":"$H$2","v":5},"5 Left","5 Right",null,null,"Left",{"$f":"$H$2","v":5},null,"Right",{"$f":"$H$2","v":5},"5 Left","5 Right"]
[null,9,"Left",{"$f":"$J$2","v":6},10,"Right",{"$f":"$J$2","v":6},"6 Left","6 Right",null,4,"Left",{"$f":"$J$2","v":6},7,"Right",{"$f":"$J$2","v":6},"6 Left","6 Right",null,1,"Left",{"$f":"$J$2","v":6},5,"Right",{"$f":"$J$2","v":6},"6 Left","6 Right",null,2,"Left",{"$f":"$J$2","v":6},9,"Right",{"$f":"$J$2","v":6},"6 Left","6 Right"]
[null,19,"Left",{"$f":"$J$2","v":6},20,"Right",{"$f":"$J$2","v":6},"6 Left","6 Right",null,12,"Left",{"$f":"$J$2","v":6},15,"Right",{"$f":"$J$2","v":6},"6 Left","6 Right",null,17,"Left",{"$f":"$J$2","v":6},11,"Right",{"$f":"$J$2","v":6},"6 Left","6 Right",null,16,"Left",{"$f":"$J$2","v":6},13,"Right",{"$f":"$J$2","v":6},"6 Left","6 Right"]
[null,null,"Left",{"$f":"$J$2","v":6},null,"Right",{"$f":"$J$2","v":6},"6 Left","6 Right",null,null,"Left",{"$f":"$J$2","v":6},null,"Right",{"$f":"$J$2","v":6},"6 Left","6 Right",null,null,"Left",{"$f":"$J$2","v":6},null,"Right",{"$f":"$J$2","v":6},"6 Left","6 Right",null,null,"Left",{"$f":"$J$2","v":6},null,"Right",{"$f":"$J$2","v":6},"6 Left","6 Right"]
[null,null,"Left",{"$f":"$L$2","v":0},null,"Right",{"$f":"$L$2","v":0},"0 Left","0 Right",null,null,"Left",{"$f":"$L$2","v":0},null,"Right",{"$f":"$L$2","v":0},"0 Left","0 Right",null,null,"Left",{"$f":"$L$2","v":0},null,"Right",{"$f":"$L$2","v":0},"0 Left","0 Right",null,null,"Left",{"$f":"$L$2","v":0},null,"Right",{"$f":"$L$2","v":0},"0 Left","0 Right"]
[null,null,"Left",{"$f":"$L$2","v":0},null,"Right",{"$f":"$L$2","v":0},"0 Left","0 Right",null,null,"Left",{"$f":"$L$2","v":0},null,"Right",{"$f":"$L$2","v":0},"0 Left","0 Right",null,null,"Left",{"$f":"$L$2","v":0},null,"Right",{"$f":"$L$2","v":0},"0 Left","0 Right",null,null,"Left",{"$f":"$L$2","v":0},null,"Right",{"$f":"$L$2","v":0},"0 Left","0 Right"]
[null,null,"Left",{"$f":"$L$2","v":0},null,"Right",{"$f":"$L$2","v":0},"0 Left","0 Right",null,null,"Left",{"$f":"$L$2","v":0},null,"Right",{"$f":"$L$2","v":0},"0 Left","0 Right",null,null,"Left",{"$f":"$L$2","v":0},null,"Right",{"$f":"$L$2","v":0},"0 Left","0 Right",null,null,"Left",{"$f":"$L$2","v":0},null,"Right",{"$f":"$L$2","v":0},"0 Left","0 Right"]
[null,null,"Left",{"$f":"$N$2","v":0},null,"Right",{"$f":"$N$2","v":0},"0 Left","0 Right",null,null,"Left",{"$f":"$N$2","v":0},null,"Right",{"$f":"$N$2","v":0},"0 Left","0 Right",null,null,"Left",{"$f":"$N$2","v":0},null,"Right",{"$f":"$N$2","v":0},"0 Left","0 Right",null,null,"Left",{"$f":"$N$2","v":0},null,"Right",{"$f":"$N$2","v":0},"0 Left","0 Right"]
[null,null,"Left",{"$f":"$N$2","v":0},null,"Right",{"$f":"$N$2","v":0},"0 Left","0 Right",null,null,"Left",{"$f":"$N$2","v":0},null,"Right",{"$f":"$N$2","v":0},"0 Left","0 Right",null,null,"Left",{"$f":"$N$2","v":0},null,"Right",{"$f":"$N$2","v":0},"0 Left","0 Right",null,null,"Left",{"$f":"$N$2","v":0},null,"Right",{"$f":"$N$2","v":0},"0 Left","0 Right"]
[null,null,"Left",{"$f":"$N$2","v":0},null,"Right",{"$f":"$N$2","v":0},"0 Left","0 Right",null,null,"Left",{"$f":"$N$2","v":0},null,"Right",{"$f":"$N$2","v":0},"0 Left","0 Right",null,null,"Left",{"$f":"$N$2","v":0},null,"Right",{"$f":"$N$2","v":0},"0 Left","0 Right",null,null,"Left",{"$f":"$N$2","v":0},null,"Right",{"$f":"$N$2","v":0},"0 Left","0 Right",null,{"$f":"$B$20","v":0},{"$f":"$H$20","v":"2 Left"},{"$f":"$K$20","v":0},{"$f":"$Q$20","v":"2 Left"},{"$f":"$T$20","v":0},{"$f":"$Z$20","v":"2 Left"},{"$f":"$AC$20","v":0},{"$f":"$AI$20","v":"2 Left"}]
[null,null,"Left",{"$f":"$P$2","v":0},null,"Right",{"$f":"$P$2","v":0},"0 Left","0 Right",null,null,"Left",{"$f":"$P$2","v":0},null,"Right",{"$f":"$P$2","v":0},"0 Left","0 Right",null,null,"Left",{"$f":"$P$2","v":0},null,"Right",{"$f":"$P$2","v":0},"0 Left","0 Right",null,null,"Left",{"$f":"$P$2","v":0},null,"Right",{"$f":"$P$2","v":0},"0 Left","0 Right",null,{"$f":"$E$20","v":0},{"$f":"$I$20","v":"2 Right"},{"$f":"$K$23","v":0},{"$f":"$Q$23","v":"3 Left"},{"$f":"$T$23","v":0},{"$f":"$Z$23","v":"3 Left"},{"$f":"$AC$23","v":0},{"$f":"$AI$23","v":"3 Left"}]
[null,null,"Left",{"$f":"$P$2","v":0},null,"Right",{"$f":"$P$2","v":0},"0 Left","0 Right",null,null,"Left",{"$f":"$P$2","v":0},null,"Right",{"$f":"$P$2","v":0},"0 Left","0 Right",null,null,"Left",{"$f":"$P$2","v":0},null,"Right",{"$f":"$P$2","v":0},"0 Left","0 Right",null,null,"Left",{"$f":"$P$2","v":0},null,"Right",{"$f":"$P$2","v":0},"0 Left","0 Right",null,{"$f":"$B$33","v":0},{"$f":"$H$33","v":"0 Left"},{"$f":"$K$26","v":0},{"$f":"$Q$26","v":"4 Left"},{"$f":"$T$26","v":0},{"$f":"$Z$26","v":"4 Left"},{"$f":"$AC$26","v":0},{"$f":"$AI$26","v":"4 Left"}]
[null,null,"Left",{"$f":"$P$2","v":0},null,"Right",{"$f":"$P$2","v":0},"0 Left","0 Right",null,null,"Left",{"$f":"$P$2","v":0},null,"Right",{"$f":"$P$2","v":0},"0 Left","0 Right",null,null,"Left",{"$f":"$P$2","v":0},null,"Right",{"$f":"$P$2","v":0},"0 Left","0 Right",null,null,"Left",{"$f":"$P$2","v":0},null,"Right",{"$f":"$P$2","v":0},"0 Left","0 Right",null,{"$f":"$E$33","v":0},{"$f":"$I$33","v":"0 Right"},{"$f":"$K$29","v":0},{"$f":"$Q$29","v":"5 Left"},{"$f":"$T$29","v":0},{"$f":"$Z$29","v":"5 Left"},{"$f":"$AC$29","v":0},{"$f":"$AI$29","v":"5 Left"}]
[null,null,"Left",{"$f":"$R$2","v":0},null,"Right",{"$f":"$R$2","v":0},"0 Left","0 Right",null,null,"Left",{"$f":"$R$2","v":0},null,"Right",{"$f":"$R$2","v":0},"0 Left","0 Right",null,null,"Left",{"$f":"$R$2","v":0},null,"Right",{"$f":"$R$2","v":0},"0 Left","0 Right",null,null,"Left",{"$f":"$R$2","v":0},null,"Right",{"$f":"$R$2","v":0},"0 Left","0 Right",null,{"$f":"$B$36","v":0},{"$f":"$H$36","v":"0 Left"},{"$f":"$K$32","v":0},{"$f":"$Q$32","v":"6 Left"},{"$f":"$T$32","v":0},{"$f":"$Z$32","v":"6 Left"},{"$f":"$AC$32","v":0},{"$f":"$AI$32","v":"6 Left"}]
[null,null,"Left",{"$f":"$R$2","v":0},null,"Right",{"$f":"$R$2","v":0},"0 Left","0 Right",null,null,"Left",{"$f":"$R$2","v":0},null,"Right",{"$f":"$R$2","v":0},"0 Left","0 Right",null,null,"Left",{"$f":"$R$2","v":0},null,"Right",{"$f":"$R$2","v":0},"0 Left","0 Right",null,null,"Left",{"$f":"$R$2","v":0},null,"Right",{"$f":"$R$2","v":0},"0 Left","0 Right",null,{"$f":"$E$36","v":0},{"$f":"$I$36","v":"0 Right"},{"$f":"$K$33","v":0},{"$f":"$Q$33","v":"0 Left"},{"$f":"$T$33","v":0},{"$f":"$Z$33","v":"0 Left"},{"$f":"$AC$33","v":0},{"$f":"$AI$33","v":"0 Left"}]
[null,null,"Left",{"$f":"$R$2","v":0},null,"Right",{"$f":"$R$2","v":0},"0 Left","0 Right",null,null,"Left",{"$f":"$R$2","v":0},null,"Right",{"$f":"$R$2","v":0},"0 Left","0 Right",null,null,"Left",{"$f":"$R$2","v":0},null,"Right",{"$f":"$R$2","v":0},"0 Left","0 Right",null,null,"Left",{"$f":"$R$2","v":0},null,"Right",{"$f":"$R$2","v":0},"0 Left","0 Right",null,{"$f":"$B$39","v":0},{"$f":"$H$39","v":"0 Left"},{"$f":"$K$34","v":0},{"$f":"$Q$34","v":"0 Left"},{"$f":"$T$34","v":0},{"$f":"$Z$34","v":"0 Left"},{"$f":"$AC$34","v":0},{"$f":"$AI$34","v":"0 Left"}]
[null,null,"Left",{"$f":"$T$2","v":0},null,"Right",{"$f":"$T$2","v":0},"0 Left","0 Right",null,null,"Left",{"$f":"$T$2","v":0},null,"Right",{"$f":"$T$2","v":0},"0 Left","0 Right",null,null,"Left",{"$f":"$T$2","v":0},null,"Right",{"$f":"$T$2","v":0},"0 Left","0 Right",null,null,"Left",{"$f":"$T$2","v":0},null,"Right",{"$f":"$T$2","v":0},"0 Left","0 Right",null,{"$f":"$E$39","v":0},{"$f":"$I$39","v":"0 Right"},{"$f":"$K$35","v":0},{"$f":"$Q$35","v":"0 Left"},{"$f":"$T$35","v":0},{"$f":"$Z$35","v":"0 Left"},{"$f":"$AC$35","v":0},{"$f":"$AI$35","v":"0 Left"}]
[null,null,"Left",{"$f":"$T$2","v":0},null,"Right",{"$f":"$T$2","v":0},"0 Left","0 Right",null,null,"Left",{"$f":"$T$2","v":0},null,"Right",{"$f":"$T$2","v":0},"0 Left","0 Right",null,null,"Left",{"$f":"$T$2","v":0},null,"Right",{"$f":"$T$2","v":0},"0 Left","0 Right",null,null,"Left",{"$f":"$T$2","v":0},null,"Right",{"$f":"$T$2","v":0},"0 Left","0 Right",null,{"$f":"$B$42","v":0},{"$f":"$H$42","v":"0 Left"},{"$f":"$K$36","v":0},{"$f":"$Q$36","v":"0 Left"},{"$f":"$T$36","v":0},{"$f":"$Z$36","v":"0 Left"},{"$f":"$AC$36","v":0},{"$f":"$AI$36","v":"0 Left"}]
[null,null,"Left",{"$f":"$T$2","v":0},null,"Right",{"$f":"$T$2","v":0},"0 Left","0 Right",null,null,"Left",{"$f":"$T$2","v":0},null,"Right",{"$f":"$T$2","v":0},"0 Left","0 Right",null,null,"Left",{"$f":"$T$2","v":0},null,"Right",{"$f":"$T$2","v":0},"0 Left","0 Right",null,null,"Left",{"$f":"$T$2","v":0},null,"Right",{"$f":"$T$2","v":0},"0 Left","0 Right",null,{"$f":"$E$42","v":0},{"$f":"$I$42","v":"0 Right"},{"$f":"$K$37","v":0},{"$f":"$Q$37","v":"0 Left"},{"$f":"$T$37","v":0},{"$f":"$Z$37","v":"0 Left"},{"$f":"$AC$37","v":0},{"$f":"$AI$37","v":"0 Left"}]
[null,null,"Left",{"$f":"$V$2","v":0},null,"Right",{"$f":"$V$2","v":0},"0 Left","0 Right",null,null,"Left",{"$f":"$V$2","v":0},null,"Right",{"$f":"$V$2","v":0},"0 Left","0 Right",null,null,"Left",{"$f":"$V$2","v":0},null,"Right",{"$f":"$V$2","v":0},"0 Left","0 Right",null,null,"Left",{"$f":"$V$2","v":0},null,"Right",{"$f":"$V$2","v":0},"0 Left","0 Right",null,{"$f":"$B$45","v":0},{"$f":"$H$45","v":"0 Left"},{"$f":"$K$38","v":0},{"$f":"$Q$38","v":"0 Left"},{"$f":"$T$38","v":0},{"$f":"$Z$38","v":"0 Left"},{"$f":"$AC$38","v":0},{"$f":"$AI$38","v":"0 Left"}]
[null,null,"Left",{"$f":"$V$2","v":0},null,"Right",{"$f":"$V$2","v":0},"0 Left","0 Right",null,null,"Left",{"$f":"$V$2","v":0},null,"Right",{"$f":"$V$2","v":0},"0 Left","0 Right",null,null,"Left",{"$f":"$V$2","v":0},null,"Right",{"$f":"$V$2","v":0},"0 Left","0 Right",null,null,"Left",{"$f":"$V$2","v":0},null,"Right",{"$f":"$V$2","v":0},"0 Left","0 Right",null,{"$f":"$E$45","v":0},{"$f":"$I$45","v":"0 Right"},{"$f":"$K$39","v":0},{"$f":"$Q$39","v":"0 Left"},{"$f":"$T$39","v":0},{"$f":"$Z$39","v":"0 Left"},{"$f":"$AC$39","v":0},{"$f":"$AI$39","v":"0 Left"}]
[null,null,"Left",{"$f":"$V$2","v":0},null,"Right",{"$f":"$V$2","v":0},"0 Left","0 Right",null,null,"Left",{"$f":"$V$2","v":0},null,"Right",{"$f":"$V$2","v":0},"0 Left","0 Right",null,null,"Left",{"$f":"$V$2","v":0},null,"Right",{"$f":"$V$2","v":0},"0 Left","0 Right",null,null,"Left",{"$f":"$V$2","v":0},null,"Right",{"$f":"$V$2","v":0},"0 Left","0 Right",null,{"$f":"$B$34","v":0},{"$f":"$H$34","v":"0 Left"},{"$f":"$K$40","v":0},{"$f":"$Q$40","v":"0 Left"},{"$f":"$T$40","v":0},{"$f":"$Z$40","v":"0 Left"},{"$f":"$AC$40","v":0},{"$f":"$AI$40","v":"0 Left"}]
[null,null,"Left",{"$f":"$X$2","v":0},null,"Right",{"$f":"$X$2","v":0},"0 Left","0 Right",null,null,"Left",{"$f":"$X$2","v":0},null,"Right",{"$f":"$X$2","v":0},"0 Left","0 Right",null,null,"Left",{"$f":"$X$2","v":0},null,"Right",{"$f":"$X$2","v":0},"0 Left","0 Right",null,null,"Left",{"$f":"$X$2","v":0},null,"Right",{"$f":"$X$2","v":0},"0 Left","0 Right",null,{"$f":"$E$34","v":0},{"$f":"$I$34","v":"0 Right"},{"$f":"$K$41","v":0},{"$f":"$Q$41","v":"0 Left"},{"$f":"$T$41","v":0},{"$f":"$Z$41","v":"0 Left"},{"$f":"$AC$41","v":0},{"$f":"$AI$41","v":"0 Left"}]
[null,null,"Left",{"$f":"$X$2","v":0},null,"Right",{"$f":"$X$2","v":0},"0 Left","0 Right",null,null,"Left",{"$f":"$X$2","v":0},null,"Right",{"$f":"$X$2","v":0},"0 Left","0 Right",null,null,"Left",{"$f":"$X$2","v":0},null,"Right",{"$f":"$X$2","v":0},"0 Left","0 Right",null,null,"Left",{"$f":"$X$2","v":0},null,"Right",{"$f":"$X$2","v":0},"0 Left","0 Right",null,{"$f":"$B$37","v":0},{"$f":"$H$37","v":"0 Left"},{"$f":"$K$42","v":0},{"$f":"$Q$42","v":"0 Left"},{"$f":"$T$42","v":0},{"$f":"$Z$42","v":"0 Left"},{"$f":"$AC$42","v":0},{"$f":"$AI$42","v":"0 Left"}]
[null,null,"Left",{"$f":"$X$2","v":0},null,"Right",{"$f":"$X$2","v":0},"0 Left","0 Right",null,null,"Left",{"$f":"$X$2","v":0},null,"Right",{"$f":"$X$2","v":0},"0 Left","0 Right",null,null,"Left",{"$f":"$X$2","v":0},null,"Right",{"$f":"$X$2","v":0},"0 Left","0 Right",null,null,"Left",{"$f":"$X$2","v":0},null,"Right",{"$f":"$X$2","v":0},"0 Left","0 Right",null,{"$f":"$E$37","v":0},{"$f":"$I$37","v":"0 Right"},{"$f":"$K$43","v":0},{"$f":"$Q$43","v":"0 Left"},{"$f":"$T$43","v":0},{"$f":"$Z$43","v":"0 Left"},{"$f":"$AC$43","v":0},{"$f":"$AI$43","v":"0 Left"}]
[null,null,"Left",{"$f":"$Z$2","v":0},null,"Right",{"$f":"$Z$2","v":0},"0 Left","0 Right",null,null,"Left",{"$f":"$Z$2","v":0},null,"Right",{"$f":"$Z$2","v":0},"0 Left","0 Right",null,null,"Left",{"$f":"$Z$2","v":0},null,"Right",{"$f":"$Z$2","v":0},"0 Left","0 Right",null,null,"Left",{"$f":"$Z$2","v":0},null,"Right",{"$f":"$Z$2","v":0},"0 Left","0 Right",null,{"$f":"$B$40","v":0},{"$f":"$H$40","v":"0 Left"},{"$f":"$K$44","v":0},{"$f":"$Q$44","v":"0 Left"},{"$f":"$T$44","v":0},{"$f":"$Z$44","v":"0 Left"},{"$f":"$AC$44","v":0},{"$f":"$AI$44","v":"0 Left"}]
[null,null,"Left",{"$f":"$Z$2","v":0},null,"Right",{"$f":"$Z$2","v":0},"0 Left","0 Right",null,null,"Left",{"$f":"$Z$2","v":0},null,"Right",{"$f":"$Z$2","v":0},"0 Left","0 Right",null,null,"Left",{"$f":"$Z$2","v":0},null,"Right",{"$f":"$Z$2","v":0},"0 Left","0 Right",null,null,"Left",{"$f":"$Z$2","v":0},null,"Right",{"$f":"$Z$2","v":0},"0 Left","0 Right",null,{"$f":"$E$40","v":0},{"$f":"$I$40","v":"0 Right"},{"$f":"$K$45","v":0},{"$f":"$Q$45","v":"0 Left"},{"$f":"$T$45","v":0},{"$f":"$Z$45","v":"0 Left"},{"$f":"$AC$45","v":0},{"$f":"$AI$45","v":"0 Left"}]
[null,null,"Left",{"$f":"$Z$2","v":0},null,"Right",{"$f":"$Z$2","v":0},"0 Left","0 Right",null,null,"Left",{"$f":"$Z$2","v":0},null,"Right",{"$f":"$Z$2","v":0},"0 Left","0 Right",null,null,"Left",{"$f":"$Z$2","v":0},null,"Right",{"$f":"$Z$2","v":0},"0 Left","0 Right",null,null,"Left",{"$f":"$Z$2","v":0},null,"Right",{"$f":"$Z$2","v":0},"0 Left","0 Right",null,{"$f":"$B$43","v":0},{"$f":"$H$43","v":"0 Left"},{"$f":"$K$46","v":0},{"$f":"$Q$46","v":"0 Left"},{"$f":"$T$46","v":0},{"$f":"$Z$46","v":"0 Left"},{"$f":"$AC$46","v":0},{"$f":"$AI$46","v":"0 Left"}]
[null,null,"Left",{"$f":"$AB$2","v":0},null,"Right",{"$f":"$AB$2","v":0},"0 Left","0 Right",null,null,"Left",{"$f":"$AB$2","v":0},null,"Right",{"$f":"$AB$2","v":0},"0 Left","0 Right",null,null,"Left",{"$f":"$AB$2","v":0},null,"Right",{"$f":"$AB$2","v":0},"0 Left","0 Right",null,null,"Left",{"$f":"$AB$2","v":0},null,"Right",{"$f":"$AB$2","v":0},"0 Left","0 Right",null,{"$f":"$E$43","v":0},{"$f":"$I$43","v":"0 Right"},{"$f":"$K$47","v":0},{"$f":"$Q$47","v":"0 Left"},{"$f":"$T$47","v":0},{"$f":"$Z$47","v":"0 Left"},{"$f":"$AC$47","v":0},{"$f":"$AI$47","v":"0 Left"}]
[null,null,"Left",{"$f":"$AB$2","v":0},null,"Right",{"$f":"$AB$2","v":0},"0 Left","0 Right",null,null,"Left",{"$f":"$AB$2","v":0},null,"Right",{"$f":"$AB$2","v":0},"0 Left","0 Right",null,null,"Left",{"$f":"$AB$2","v":0},null,"Right",{"$f":"$AB$2","v":0},"0 Left","0 Right",null,null,"Left",{"$f":"$AB$2","v":0},null,"Right",{"$f":"$AB$2","v":0},"0 Left","0 Right",null,{"$f":"$B$46","v":0},{"$f":"$H$46","v":"0 Left"},{"$f":"$K$48","v":0},{"$f":"$Q$48","v":"0 Left"},{"$f":"$T$48","v":0},{"$f":"$Z$48","v":"0 Left"},{"$f":"$AC$48","v":0},{"$f":"$AI$48","v":"0 Left"}]
[null,null,"Left",{"$f":"$AB$2","v":0},null,"Right",{"$f":"$AB$2","v":0},"0 Left","0 Right",null,null,"Left",{"$f":"$AB$2","v":0},null,"Right",{"$f":"$AB$2","v":0},"0 Left","0 Right",null,null,"Left",{"$f":"$AB$2","v":0},null,"Right",{"$f":"$AB$2","v":0},"0 Left","0 Right",null,null,"Left",{"$f":"$AB$2","v":0},null,"Right",{"$f":"$AB$2","v":0},"0 Left","0 Right",null,{"$f":"$E$46","v":0},{"$f":"$I$46","v":"0 Right"},{"$f":"$K$49","v":0},{"$f":"$Q$49","v":"0 Left"},{"$f":"$T$49","v":0},{"$f":"$Z$49","v":"0 Left"},{"$f":"$AC$49","v":0},{"$f":"$AI$49","v":"0 Left"}]
[{"$nulls":37},{"$f":"$B$23","v":0},{"$f":"$H$23","v":"3 Left"},{"$f":"$K$50","v":0},{"$f":"$Q$50","v":"0 Left"},{"$f":"$T$50","v":0},{"$f":"$Z$50","v":"0 Left"},{"$f":"$AC$50","v":0},{"$f":"$AI$50","v":"0 Left"}]
[{"$nulls":37},{"$f":"$B$26","v":0},{"$f":"$H$26","v":"4 Left"},{"$f":"$K$51","v":0},{"$f":"$Q$51","v":"0 Left"},{"$f":"$T$51","v":0},{"$f":"$Z$51","v":"0 Left"},{"$f":"$AC$51","v":0},{"$f":"$AI$51","v":"0 Left"}]
[{"$nulls":37},{"$f":"$B$29","v":0},{"$f":"$H$29","v":"5 Left"},{"$f":"$K$52","v":0},{"$f":"$Q$52","v":"0 Left"},{"$f":"$T$52","v":0},{"$f":"$Z$52","v":"0 Left"},{"$f":"$AC$52","v":0},{"$f":"$AI$52","v":"0 Left"}]
[{"$nulls":37},{"$f":"$B$32","v":0},{"$f":"$H$32","v":"6 Left"},{"$f":"$K$53","v":0},{"$f":"$Q$53","v":"0 Left"},{"$f":"$T$53","v":0},{"$f":"$Z$53","v":"0 Left"},{"$f":"$AC$53","v":0},{"$f":"$AI$53","v":"0 Left"}]
[{"$nulls":37},{"$f":"$B$35","v":0},{"$f":"$H$35","v":"0 Left"},{"$f":"$K$54","v":0},{"$f":"$Q$54","v":"0 Left"},{"$f":"$T$54","v":0},{"$f":"$Z$54","v":"0 Left"},{"$f":"$AC$54","v":0},{"$f":"$AI$54","v":"0 Left"}]
[{"$nulls":37},{"$f":"$B$38","v":0},{"$f":"$H$38","v":"0 Left"},{"$f":"$K$55","v":0},{"$f":"$Q$55","v":"0 Left"},{"$f":"$T$55","v":0},{"$f":"$Z$55","v":"0 Left"},{"$f":"$AC$55","v":0},{"$f":"$AI$55","v":"0 Left"}]
[{"$nulls":37},{"$f":"$B$41","v":0},{"$f":"$H$41","v":"0 Left"},{"$f":"$K$56","v":0},{"$f":"$Q$56","v":"0 Left"},{"$f":"$T$56","v":0},{"$f":"$Z$56","v":"0 Left"},{"$f":"$AC$56","v":0},{"$f":"$AI$56","v":"0 Left"}]
[{"$nulls":37},{"$f":"$B$44","v":0},{"$f":"$H$44","v":"0 Left"},{"$f":"$K$57","v":0},{"$f":"$Q$57","v":"0 Left"},{"$f":"$T$57","v":0},{"$f":"$Z$57","v":"0 Left"},{"$f":"$AC$57","v":0},{"$f":"$AI$57","v":"0 Left"}]
[{"$nulls":37},{"$f":"$B$47","v":0},{"$f":"$H$47","v":"0 Left"},{"$f":"$K$58","v":0},{"$f":"$Q$58","v":"0 Left"},{"$f":"$T$58","v":0},{"$f":"$Z$58","v":"0 Left"},{"$f":"$AC$58","v":0},{"$f":"$AI$58","v":"0 Left"}]
[{"$nulls":37},{"$f":"$B$48","v":0},{"$f":"$H$48","v":"0 Left"},{"$f":"$K$59","v":0},{"$f":"$Q$59","v":"0 Left"},{"$f":"$T$59","v":0},{"$f":"$Z$59","v":"0 Left"},{"$f":"$AC$59","v":0},{"$f":"$AI$59","v":"0 Left"}]
[{"$nulls":37},{"$f":"$B$49","v":0},{"$f":"$H$49","v":"0 Left"},{"$f":"$N$20","v":0},{"$f":"$R$20","v":"2 Right"},{"$f":"$W$20","v":0},{"$f":"$AA$20","v":"2 Right"},{"$f":"$AF$20","v":0},{"$f":"$AJ$20","v":"2 Right"}]
[{"$nulls":37},{"$f":"$B$50","v":0},{"$f":"$H$50","v":"0 Left"},{"$f":"$N$23","v":0},{"$f":"$R$23","v":"3 Right"},{"$f":"$W$23","v":0},{"$f":"$AA$23","v":"3 Right"},{"$f":"$AF$23","v":0},{"$f":"$AJ$23","v":"3 Right"}]
[{"$nulls":37},{"$f":"$B$51","v":0},{"$f":"$H$51","v":"0 Left"},{"$f":"$N$26","v":0},{"$f":"$R$26","v":"4 Right"},{"$f":"$W$26","v":0},{"$f":"$AA$26","v":"4 Right"},{"$f":"$AF$26","v":0},{"$f":"$AJ$26","v":"4 Right"}]
[{"$nulls":37},{"$f":"$B$52","v":0},{"$f":"$H$52","v":"0 Left"},{"$f":"$N$29","v":0},{"$f":"$R$29","v":"5 Right"},{"$f":"$W$29","v":0},{"$f":"$AA$29","v":"5 Right"},{"$f":"$AF$29","v":0},{"$f":"$AJ$29","v":"5 Right"}]
[{"$nulls":37},{"$f":"$B$53","v":0},{"$f":"$H$53","v":"0 Left"},{"$f":"$N$32","v":0},{"$f":"$R$32","v":"6 Right"},{"$f":"$W$32","v":0},{"$f":"$AA$32","v":"6 Right"},{"$f":"$AF$32","v":0},{"$f":"$AJ$32","v":"6 Right"}]
[{"$nulls":37},{"$f":"$B$54","v":0},{"$f":"$H$54","v":"0 Left"},{"$f":"$N$33","v":0},{"$f":"$R$33","v":"0 Right"},{"$f":"$W$33","v":0},{"$f":"$AA$33","v":"0 Right"},{"$f":"$AF$33","v":0},{"$f":"$AJ$33","v":"0 Right"}]
[{"$nulls":37},{"$f":"$B$55","v":0},{"$f":"$H$55","v":"0 Left"},{"$f":"$N$34","v":0},{"$f":"$R$34","v":"0 Right"},{"$f":"$W$34","v":0},{"$f":"$AA$34","v":"0 Right"},{"$f":"$AF$34","v":0},{"$f":"$AJ$34","v":"0 Right"}]
[{"$nulls":37},{"$f":"$B$56","v":0},{"$f":"$H$56","v":"0 Left"},{"$f":"$N$35","v":0},{"$f":"$R$35","v":"0 Right"},{"$f":"$W$35","v":0},{"$f":"$AA$35","v":"0 Right"},{"$f":"$AF$35","v":0},{"$f":"$AJ$35","v":"0 Right"}]
[{"$nulls":37},{"$f":"$B$57","v":0},{"$f":"$H$57","v":"0 Left"},{"$f":"$N$36","v":0},{"$f":"$R$36","v":"0 Right"},{"$f":"$W$36","v":0},{"$f":"$AA$36","v":"0 Right"},{"$f":"$AF$36","v":0},{"$f":"$AJ$36","v":"0 Right"}]
[{"$nulls":37},{"$f":"$B$58","v":0},{"$f":"$H$58","v":"0 Left"},{"$f":"$N$37","v":0},{"$f":"$R$37","v":"0 Right"},{"$f":"$W$37","v":0},{"$f":"$AA$37","v":"0 Right"},{"$f":"$AF$37","v":0},{"$f":"$AJ$37","v":"0 Right"}]
[{"$nulls":37},{"$f":"$B$59","v":0},{"$f":"$H$59","v":"0 Left"},{"$f":"$N$38","v":0},{"$f":"$R$38","v":"0 Right"},{"$f":"$W$38","v":0},{"$f":"$AA$38","v":"0 Right"},{"$f":"$AF$38","v":0},{"$f":"$AJ$38","v":"0 Right"}]
[{"$nulls":37},{"$f":"$E$23","v":0},{"$f":"$I$23","v":"3 Right"},{"$f":"$N$39","v":0},{"$f":"$R$39","v":"0 Right"},{"$f":"$W$39","v":0},{"$f":"$AA$39","v":"0 Right"},{"$f":"$AF$39","v":0},{"$f":"$AJ$39","v":"0 Right"}]
[{"$nulls":37},{"$f":"$E$26","v":0},{"$f":"$I$26","v":"4 Right"},{"$f":"$N$40","v":0},{"$f":"$R$40","v":"0 Right"},{"$f":"$W$40","v":0},{"$f":"$AA$40","v":"0 Right"},{"$f":"$AF$40","v":0},{"$f":"$AJ$40","v":"0 Right"}]
[{"$nulls":37},{"$f":"$E$29","v":0},{"$f":"$I$29","v":"5 Right"},{"$f":"$N$41","v":0},{"$f":"$R$41","v":"0 Right"},{"$f":"$W$41","v":0},{"$f":"$AA$41","v":"0 Right"},{"$f":"$AF$41","v":0},{"$f":"$AJ$41","v":"0 Right"}]
[{"$nulls":37},{"$f":"$E$32","v":0},{"$f":"$I$32","v":"6 Right"},{"$f":"$N$42","v":0},{"$f":"$R$42","v":"0 Right"},{"$f":"$W$42","v":0},{"$f":"$AA$42","v":"0 Right"},{"$f":"$AF$42","v":0},{"$f":"$AJ$42","v":"0 Right"}]
[{"$nulls":37},{"$f":"$E$35","v":0},{"$f":"$I$35","v":"0 Right"},{"$f":"$N$43","v":0},{"$f":"$R$43","v":"0 Right"},{"$f":"$W$43","v":0},{"$f":"$AA$43","v":"0 Right"},{"$f":"$AF$43","v":0},{"$f":"$AJ$43","v":"0 Right"}]
[{"$nulls":37},{"$f":"$E$38","v":0},{"$f":"$I$38","v":"0 Right"},{"$f":"$N$44","v":0},{"$f":"$R$44","v":"0 Right"},{"$f":"$W$44","v":0},{"$f":"$AA$44","v":"0 Right"},{"$f":"$AF$44","v":0},{"$f":"$AJ$44","v":"0 Right"}]
[{"$nulls":37},{"$f":"$E$41","v":0},{"$f":"$I$41","v":"0 Right"},{"$f":"$N$45","v":0},{"$f":"$R$45","v":"0 Right"},{"$f":"$W$45","v":0},{"$f":"$AA$45","v":"0 Right"},{"$f":"$AF$45","v":0},{"$f":"$AJ$45","v":"0 Right"}]
[{"$nulls":37},{"$f":"$E$44","v":0},{"$f":"$I$44","v":"0 Right"},{"$f":"$N$46","v":0},{"$f":"$R$46","v":"0 Right"},{"$f":"$W$46","v":0},{"$f":"$AA$46","v":"0 Right"},{"$f":"$AF$46","v":0},{"$f":"$AJ$46","v":"0 Right"}]
[{"$nulls":37},{"$f":"$E$47","v":0},{"$f":"$I$47","v":"0 Right"},{"$f":"$N$47","v":0},{"$f":"$R$47","v":"0 Right"},{"$f":"$W$47","v":0},{"$f":"$AA$47","v":"0 Right"},{"$f":"$AF$47","v":0},{"$f":"$AJ$47","v":"0 Right"}]
[{"$nulls":37},{"$f":"$E$48","v":0},{"$f":"$I$48","v":"0 Right"},{"$f":"$N$48","v":0},{"$f":"$R$48","v":"0 Right"},{"$f":"$W$48","v":0},{"$f":"$AA$48","v":"0 Right"},{"$f":"$AF$48","v":0},{"$f":"$AJ$48","v":"0 Right"}]
[{"$nulls":37},{"$f":"$E$49","v":0},{"$f":"$I$49","v":"0 Right"},{"$f":"$N$49","v":0},{"$f":"$R$49","v":"0 Right"},{"$f":"$W$49","v":0},{"$f":"$AA$49","v":"0 Right"},{"$f":"$AF$49","v":0},{"$f":"$AJ$49","v":"0 Right"}]
[{"$nulls":37},{"$f":"$E$50","v":0},{"$f":"$I$50","v":"0 Right"},{"$f":"$N$50","v":0},{"$f":"$R$50","v":"0 Right"},{"$f":"$W$50","v":0},{"$f":"$AA$50","v":"0 Right"},{"$f":"$AF$50","v":0},{"$f":"$AJ$50","v":"0 Right"}]
[{"$nulls":37},{"$f":"$E$51","v":0},{"$f":"$I$51","v":"0 Right"},{"$f":"$N$51","v":0},{"$f":"$R$51","v":"0 Right"},{"$f":"$W$51","v":0},{"$f":"$AA$51","v":"0 Right"},{"$f":"$AF$51","v":0},{"$f":"$AJ$51","v":"0 Right"}]
[{"$nulls":37},{"$f":"$E$52","v":0},{"$f":"$I$52","v":"0 Right"},{"$f":"$N$52","v":0},{"$f":"$R$52","v":"0 Right"},{"$f":"$W$52","v":0},{"$f":"$AA$52","v":"0 Right"},{"$f":"$AF$52","v":0},{"$f":"$AJ$52","v":"0 Right"}]
[{"$nulls":37},{"$f":"$E$53","v":0},{"$f":"$I$53","v":"0 Right"},{"$f":"$N$53","v":0},{"$f":"$R$53","v":"0 Right"},{"$f":"$W$53","v":0},{"$f":"$AA$53","v":"0 Right"},{"$f":"$AF$53","v":0},{"$f":"$AJ$53","v":"0 Right"}]
[{"$nulls":37},{"$f":"$E$54","v":0},{"$f":"$I$54","v":"0 Right"},{"$f":"$N$54","v":0},{"$f":"$R$54","v":"0 Right"},{"$f":"$W$54","v":0},{"$f":"$AA$54","v":"0 Right"},{"$f":"$AF$54","v":0},{"$f":"$AJ$54","v":"0 Right"}]
[{"$nulls":37},{"$f":"$E$55","v":0},{"$f":"$I$55","v":"0 Right"},{"$f":"$N$55","v":0},{"$f":"$R$55","v":"0 Right"},{"$f":"$W$55","v":0},{"$f":"$AA$55","v":"0 Right"},{"$f":"$AF$55","v":0},{"$f":"$AJ$55","v":"0 Right"}]
[{"$nulls":37},{"$f":"$E$56","v":0},{"$f":"$I$56","v":"0 Right"},{"$f":"$N$56","v":0},{"$f":"$R$56","v":"0 Right"},{"$f":"$W$56","v":0},{"$f":"$AA$56","v":"0 Right"},{"$f":"$AF$56","v":0},{"$f":"$AJ$56","v":"0 Right"}]
[{"$nulls":37},{"$f":"$E$57","v":0},{"$f":"$I$57","v":"0 Right"},{"$f":"$N$57","v":0},{"$f":"$R$57","v":"0 Right"},{"$f":"$W$57","v":0},{"$f":"$AA$57","v":"0 Right"},{"$f":"$AF$57","v":0},{"$f":"$AJ$57","v":"0 Right"}]
[{"$nulls":37},{"$f":"$E$58","v":0},{"$f":"$I$58","v":"0 Right"},{"$f":"$N$58","v":0},{"$f":"$R$58","v":"0 Right"},{"$f":"$W$58","v":0},{"$f":"$AA$58","v":"0 Right"},{"$f":"$AF$58","v":0},{"$f":"$AJ$58","v":"0 Right"}]
[{"$nulls":37},{"$f":"$E$59","v":0},{"$f":"$I$59","v":"0 Right"},{"$f":"$N$59","v":0},{"$f":"$R$59","v":"0 Right"},{"$f":"$W$59","v":0},{"$f":"$AA$59","v":"0 Right"},{"$f":"$AF$59","v":0},{"$f":"$AJ$59","v":"0 Right"}]

{"sheet":"22","index":9,"n_rows":101,"n_cols":45,"rows_kept":101,"hidden":true,"merged":[[0,1,0,10],[1,1,1,2],[1,3,1,4],[1,5,1,6],[1,7,1,8],[1,9,1,10],[2,0,4,0],[5,0,7,0],[8,0,10,0],[11,0,13,0],[14,1,14,10],[15,1,15,6],[15,10,15,15],[15,19,15,24],[15,28,15,33],[16,37,16,38],[16,39,16,40],[16,41,16,42],[16,43,16,44]]}
[null,"YOU MAY CHANGE THESE RINK NUMBERS IF YOU WISH"]
["Round",2,1,3,2,4,3,5,4,6,5]
[1,1,2,3,4,5,6,7,8,9,10]
[null,11,12,13,14,15,16,17,18,19,20]
[null,21,22]
[2,3,5,1,8,2,9,4,10,6,11]
[null,14,16,12,19,13,20,15,21,17,22]
[null,7,18]
[3,6,8,2,11,4,3,1,9,7,5]
[null,13,15,20,18,22,21,19,14,16,12]
[null,10,17]
[4,4,1,7,9,8,10,2,11,3,6]
[null,19,16,22,13,12,14,17,15,18,21]
[null,5,20]
[null,"22 on 1 green"]
[null,1,{"$nulls":8},2,{"$nulls":8},3,{"$nulls":8},4]
[null,"no","Left","rink","no","Right","rink","L","R",null,"no","Left","rink","no","Right","rink","L","R",null,"no","Left","rink","no","Right","rink","L","R",null,"no","Left","rink","no","Right","rink","L","R",null,1,null,2,null,3,null,4]
[null,1,"Left",{"$f":"$B$2","v":2},2,"Right",{"$f":"$B$2","v":2},{"$f":"(D18&\" \"&C18)","v":"2 Left"},{"$f":"(G18&\" \"&F18)","v":"2 Right"},null,3,"Left",{"$f":"$B$2","v":2},5,"Right",{"$f":"$B$2","v":2},{"$f":"(M18&\" \"&L18)","v":"2 Left"},{"$f":"(P18&\" \"&O18)","v":"2 Right"},null,6,"Left",{"$f":"$B$2","v":2},8,"Right",{"$f":"$B$2","v":2},{"$f":"(V18&\" \"&U18)","v":"2 Left"},{"$f":"(Y18&\" \"&X18)","v":"2 Right"},null,4,"Left",{"$f":"$B$2","v":2},1,"Right",{"$f":"$B$2","v":2},{"$f":"(AE18&\" \"&AD18)","v":"2 Left"},{"$f":"(AH18&\" \"&AG18)","v":"2 Right"}]
[null,11,"Left",{"$f":"$B$2","v":2},12,"Right",{"$f":"$B$2","v":2},{"$f":"(D19&\" \"&C19)","v":"2 Left"},{"$f":"(G19&\" \"&F19)","v":"2 Right"},null,14,"Left",{"$f":"$B$2","v":2},16,"Right",{"$f":"$B$2","v":2},{"$f":"(M19&\" \"&L19)","v":"2 Left"},{"$f":"(P19&\" \"&O19)","v":"2 Right"},null,13,"Left",{"$f":"$B$2","v":2},15,"Right",{"$f":"$B$2","v":2},{"$f":"(V19&\" \"&U19)","v":"2 Left"},{"$f":"(Y19&\" \"&X19)","v":"2 Right"},null,19,"Left",{"$f":"$B$2","v":2},16,"Right",{"$f":"$B$2","v":2},{"$f":"(AE19&\" \"&AD19)","v":"2 Left"},{"$f":"(AH19&\" \"&AG19)","v":"2 Right"}]
[null,21,"Left",{"$f":"$B$2","v":2},22,"Right",{"$f":"$B$2","v":2},"2 Left","2 Right",null,7,"Left",{"$f":"$B$2","v":2},18,"Right",{"$f":"$B$2","v":2},"2 Left","2 Right",null,10,"Left",{"$f":"$B$2","v":2},17,"Right",{"$f":"$B$2","v":2},"2 Left","2 Right",null,5,"Left",{"$f":"$B$2","v":2},20,"Right",{"$f":"$B$2","v":2},"2 Left","2 Right"]
[null,3,"Left",{"$f":"$D$2","v":3},4,"Right",{"$f":"$D$2","v":3},"3 Left","3 Right",null,1,"Left",{"$f":"$D$2","v":3},8,"Right",{"$f":"$D$2","v":3},"3 Left","3 Right",null,2,"Left",{"$f":"$D$2","v":3},11,"Right",{"$f":"$D$2","v":3},"3 Left","3 Right",null,7,"Left",{"$f":"$D$2","v":3},9,"Right",{"$f":"$D$2","v":3},"3 Left","3 Right"]
[null,13,"Left",{"$f":"$D$2","v":3},14,"Right",{"$f":"$D$2","v":3},"3 Left","3 Right",null,12,"Left",{"$f":"$D$2","v":3},19,"Right",{"$f":"$D$2","v":3},"3 Left","3 Right",null,20,"Left",{"$f":"$D$2","v":3},18,"Right",{"$f":"$D$2","v":3},"3 Left","3 Right",null,22,"Left",{"$f":"$D$2","v":3},13,"Right",{"$f":"$D$2","v":3},"3 Left","3 Right"]
[null,null,"Left",{"$f":"$D$2","v":3},null,"Right",{"$f":"$D$2","v":3},"3 Left","3 Right",null,null,"Left",{"$f":"$D$2","v":3},null,"Right",{"$f":"$D$2","v":3},"3 Left","3 Right",null,null,"Left",{"$f":"$D$2","v":3},null,"Right",{"$f":"$D$2","v":3},"3 Left","3 Right",null,null,"Left",{"$f":"$D$2","v":3},null,"Right",{"$f":"$D$2","v":3},"3 Left","3 Right"]
[null,5,"Left",{"$f":"$F$2","v":4},6,"Right",{"$f":"$F$2","v":4},"4 Left","4 Right",null,2,"Left",{"$f":"$F$2","v":4},9,"Right",{"$f":"$F$2","v":4},"4 Left","4 Right",null,4,"Left",{"$f":"$F$2","v":4},3,"Right",{"$f":"$F$2","v":4},"4 Left","4 Right",null,8,"Left",{"$f":"$F$2","v":4},10,"Right",{"$f":"$F$2","v":4},"4 Left","4 Right"]
[null,15,"Left",{"$f":"$F$2","v":4},16,"Right",{"$f":"$F$2","v":4},"4 Left","4 Right",null,13,"Left",{"$f":"$F$2","v":4},20,"Right",{"$f":"$F$2","v":4},"4 Left","4 Right",null,22,"Left",{"$f":"$F$2","v":4},21,"Right",{"$f":"$F$2","v":4},"4 Left","4 Right",null,12,"Left",{"$f":"$F$2","v":4},14,"Right",{"$f":"$F$2","v":4},"4 Left","4 Right"]
[null,null,"Left",{"$f":"$F$2","v":4},null,"Right",{"$f":"$F$2","v":4},"4 Left","4 Right",null,null,"Left",{"$f":"$F$2","v":4},null,"Right",{"$f":"$F$2","v":4},"4 Left","4 Right",null,null,"Left",{"$f":"$F$2","v":4},null,"Right",{"$f":"$F$2","v":4},"4 Left","4 Right",null,null,"Left",{"$f":"$F$2","v":4},null,"Right",{"$f":"$F$2","v":4},"4 Left","4 Right"]
[null,7,"Left",{"$f":"$H$2","v":5},8,"Right",{"$f":"$H$2","v":5},"5 Left","5 Right",null,4,"Left",{"$f":"$H$2","v":5},10,"Right",{"$f":"$H$2","v":5},"5 Left","5 Right",null,1,"Left",{"$f":"$H$2","v":5},9,"Right",{"$f":"$H$2","v":5},"5 Left","5 Right",null,2,"Left",{"$f":"$H$2","v":5},11,"Right",{"$f":"$H$2","v":5},"5 Left","5 Right"]
[null,17,"Left",{"$f":"$H$2","v":5},18,"Right",{"$f":"$H$2","v":5},"5 Left","5 Right",null,15,"Left",{"$f":"$H$2","v":5},21,"Right",{"$f":"$H$2","v":5},"5 Left","5 Right",null,19,"Left",{"$f":"$H$2","v":5},14,"Right",{"$f":"$H$2","v":5},"5 Left","5 Right",null,17,"Left",{"$f":"$H$2","v":5},15,"Right",{"$f":"$H$2","v":5},"5 Left","5 Right"]
[null,null,"Left",5,null,"Right",5,"5 Left","5 Right",null,null,"Left",5,null,"Right",5,"5 Left","5 Right",null,null,"Left",5,null,"Right",5,"5 Left","5 Right",null,null,"Left",5,null,"Right",5,"5 Left","5 Right"]
[null,9,"Left",{"$f":"$J$2","v":6},10,"Right",{"$f":"$J$2","v":6},"6 Left","6 Right",null,6,"Left",{"$f":"$J$2","v":6},11,"Right",{"$f":"$J$2","v":6},"6 Left","6 Right",null,7,"Left",{"$f":"$J$2","v":6},5,"Right",{"$f":"$J$2","v":6},"6 Left","6 Right",null,3,"Left",{"$f":"$J$2","v":6},6,"Right",{"$f":"$J$2","v":6},"6 Left","6 Right"]
[null,19,"Left",{"$f":"$J$2","v":6},20,"Right",{"$f":"$J$2","v":6},"6 Left","6 Right",null,17,"Left",{"$f":"$J$2","v":6},22,"Right",{"$f":"$J$2","v":6},"6 Left","6 Right",null,16,"Left",{"$f":"$J$2","v":6},12,"Right",{"$f":"$J$2","v":6},"6 Left","6 Right",null,18,"Left",{"$f":"$J$2","v":6},21,"Right",{"$f":"$J$2","v":6},"6 Left","6 Right"]
[null,null,"Left",6,null,"Right",6,"6 Left","6 Right",null,null,"Left",6,null,"Right",6,"6 Left","6 Right",null,null,"Left",6,null,"Right",6,"6 Left","6 Right",null,null,"Left",6,null,"Right",6,"6 Left","6 Right"]
[null,null,"Left",{"$f":"$L$2","v":0},null,"Right",{"$f":"$L$2","v":0},"0 Left","0 Right",null,null,"Left",{"$f":"$L$2","v":0},null,"Right",{"$f":"$L$2","v":0},"0 Left","0 Right",null,null,"Left",{"$f":"$L$2","v":0},null,"Right",{"$f":"$L$2","v":0},"0 Left","0 Right",null,null,"Left",{"$f":"$L$2","v":0},null,"Right",{"$f":"$L$2","v":0},"0 Left","0 Right"]
[null,null,"Left",{"$f":"$L$2","v":0},null,"Right",{"$f":"$L$2","v":0},"0 Left","0 Right",null,null,"Left",{"$f":"$L$2","v":0},null,"Right",{"$f":"$L$2","v":0},"0 Left","0 Right",null,null,"Left",{"$f":"$L$2","v":0},null,"Right",{"$f":"$L$2","v":0},"0 Left","0 Right",null,null,"Left",{"$f":"$L$2","v":0},null,"Right",{"$f":"$L$2","v":0},"0 Left","0 Right"]
[null,null,"Left",0,null,"Right",0,"0 Left","0 Right",null,null,"Left",0,null,"Right",0,"0 Left","0 Right",null,null,"Left",0,null,"Right",0,"0 Left","0 Right",null,null,"Left",0,null,"Right",0,"0 Left","0 Right"]
[null,null,"Left",{"$f":"$N$2","v":0},null,"Right",{"$f":"$N$2","v":0},"0 Left","0 Right",null,null,"Left",{"$f":"$N$2","v":0},null,"Right",{"$f":"$N$2","v":0},"0 Left","0 Right",null,null,"Left",{"$f":"$N$2","v":0},null,"Right",{"$f":"$N$2","v":0},"0 Left","0 Right",null,null,"Left",{"$f":"$N$2","v":0},null,"Right",{"$f":"$N$2","v":0},"0 Left","0 Right"]
[null,null,"Left",{"$f":"$N$2","v":0},null,"Right",{"$f":"$N$2","v":0},"0 Left","0 Right",null,null,"Left",{"$f":"$N$2","v":0},null,"Right",{"$f":"$N$2","v":0},"0 Left","0 Right",null,null,"Left",{"$f":"$N$2","v":0},null,"Right",{"$f":"$N$2","v":0},"0 Left","0 Right",null,null,"Left",{"$f":"$N$2","v":0},null,"Right",{"$f":"$N$2","v":0},"0 Left","0 Right"]
[null,null,"Left",0,null,"Right",0,"0 Left","0 Right",null,null,"Left",0,null,"Right",0,"0 Left","0 Right",null,null,"Left",0,null,"Right",0,"0 Left","0 Right",null,null,"Left",0,null,"Right",0,"0 Left","0 Right"]
[null,null,"Left",{"$f":"$P$2","v":0},null,"Right",{"$f":"$P$2","v":0},"0 Left","0 Right",null,null,"Left",{"$f":"$P$2","v":0},null,"Right",{"$f":"$P$2","v":0},"0 Left","0 Right",null,null,"Left",{"$f":"$P$2","v":0},null,"Right",{"$f":"$P$2","v":0},"0 Left","0 Right",null,null,"Left",{"$f":"$P$2","v":0},null,"Right",{"$f":"$P$2","v":0},"0 Left","0 Right"]
[null,null,"Left",{"$f":"$P$2","v":0},null,"Right",{"$f":"$P$2","v":0},"0 Left","0 Right",null,null,"Left",{"$f":"$P$2","v":0},null,"Right",{"$f":"$P$2","v":0},"0 Left","0 Right",null,null,"Left",{"$f":"$P$2","v":0},null,"Right",{"$f":"$P$2","v":0},"0 Left","0 Right",null,null,"Left",{"$f":"$P$2","v":0},null,"Right",{"$f":"$P$2","v":0},"0 Left","0 Right",null,{"$f":"$B$33","v":0},{"$f":"$H$33","v":"0 Left"},{"$f":"$K$23","v":0},{"$f":"$Q$23","v":"3 Left"},{"$f":"$T$23","v":0},{"$f":"$Z$23","v":"3 Left"},{"$f":"$AC$23","v":0},{"$f":"$AI$23","v":"3 Left"}]
[null,null,"Left",0,null,"Right",0,"0 Left","0 Right",null,null,"Left",0,null,"Right",0,"0 Left","0 Right",null,null,"Left",0,null,"Right",0,"0 Left","0 Right",null,null,"Left",0,null,"Right",0,"0 Left","0 Right",null,{"$f":"$E$33","v":0},{"$f":"$I$33","v":"0 Right"},{"$f":"$K$26","v":0},{"$f":"$Q$26","v":"4 Left"},{"$f":"$T$26","v":0},{"$f":"$Z$26","v":"4 Left"},{"$f":"$AC$26","v":0},{"$f":"$AI$26","v":"4 Left"}]
[null,null,"Left",{"$f":"$R$2","v":0},null,"Right",{"$f":"$R$2","v":0},"0 Left","0 Right",null,null,"Left",{"$f":"$R$2","v":0},null,"Right",{"$f":"$R$2","v":0},"0 Left","0 Right",null,null,"Left",{"$f":"$R$2","v":0},null,"Right",{"$f":"$R$2","v":0},"0 Left","0 Right",null,null,"Left",{"$f":"$R$2","v":0},null,"Right",{"$f":"$R$2","v":0},"0 Left","0 Right",null,{"$f":"$B$36","v":0},{"$f":"$H$36","v":"0 Left"},{"$f":"$K$29","v":0},{"$f":"$Q$29","v":"5 Left"},{"$f":"$T$29","v":0},{"$f":"$Z$29","v":"5 Left"},{"$f":"$AC$29","v":0},{"$f":"$AI$29","v":"5 Left"}]
[null,null,"Left",{"$f":"$R$2","v":0},null,"Right",{"$f":"$R$2","v":0},"0 Left","0 Right",null,null,"Left",{"$f":"$R$2","v":0},null,"Right",{"$f":"$R$2","v":0},"0 Left","0 Right",null,null,"Left",{"$f":"$R$2","v":0},null,"Right",{"$f":"$R$2","v":0},"0 Left","0 Right",null,null,"Left",{"$f":"$R$2","v":0},null,"Right",{"$f":"$R$2","v":0},"0 Left","0 Right",null,{"$f":"$E$36","v":0},{"$f":"$I$36","v":"0 Right"},{"$f":"$K$32","v":0},{"$f":"$Q$32","v":"6 Left"},{"$f":"$T$32","v":0},{"$f":"$Z$32","v":"6 Left"},{"$f":"$AC$32","v":0},{"$f":"$AI$32","v":"6 Left"}]
[null,null,"Left",0,null,"Right",0,"0 Left","0 Right",null,null,"Left",0,null,"Right",0,"0 Left","0 Right",null,null,"Left",0,null,"Right",0,"0 Left","0 Right",null,null,"Left",0,null,"Right",0,"0 Left","0 Right",null,{"$f":"$B$39","v":0},{"$f":"$H$39","v":"0 Left"},{"$f":"$K$33","v":0},{"$f":"$Q$33","v":"0 Left"},{"$f":"$T$33","v":0},{"$f":"$Z$33","v":"0 Left"},{"$f":"$AC$33","v":0},{"$f":"$AI$33","v":"0 Left"}]
[null,null,"Left",{"$f":"$T$2","v":0},null,"Right",{"$f":"$T$2","v":0},"0 Left","0 Right",null,null,"Left",{"$f":"$T$2","v":0},null,"Right",{"$f":"$T$2","v":0},"0 Left","0 Right",null,null,"Left",{"$f":"$T$2","v":0},null,"Right",{"$f":"$T$2","v":0},"0 Left","0 Right",null,null,"Left",{"$f":"$T$2","v":0},null,"Right",{"$f":"$T$2","v":0},"0 Left","0 Right",null,{"$f":"$E$39","v":0},{"$f":"$I$39","v":"0 Right"},{"$f":"$K$34","v":0},{"$f":"$Q$34","v":"0 Left"},{"$f":"$T$34","v":0},{"$f":"$Z$34","v":"0 Left"},{"$f":"$AC$34","v":0},{"$f":"$AI$34","v":"0 Left"}]
[null,null,"Left",{"$f":"$T$2","v":0},null,"Right",{"$f":"$T$2","v":0},"0 Left","0 Right",null,null,"Left",{"$f":"$T$2","v":0},null,"Right",{"$f":"$T$2","v":0},"0 Left","0 Right",null,null,"Left",{"$f":"$T$2","v":0},null,"Right",{"$f":"$T$2","v":0},"0 Left","0 Right",null,null,"Left",{"$f":"$T$2","v":0},null,"Right",{"$f":"$T$2","v":0},"0 Left","0 Right",null,{"$f":"$B$42","v":0},{"$f":"$H$42","v":"0 Left"},{"$f":"$K$35","v":0},{"$f":"$Q$35","v":"0 Left"},{"$f":"$T$35","v":0},{"$f":"$Z$35","v":"0 Left"},{"$f":"$AC$35","v":0},{"$f":"$AI$35","v":"0 Left"}]
[null,null,"Left",0,null,"Right",0,"0 Left","0 Right",null,null,"Left",0,null,"Right",0,"0 Left","0 Right",null,null,"Left",0,null,"Right",0,"0 Left","0 Right",null,null,"Left",0,null,"Right",0,"0 Left","0 Right",null,{"$f":"$E$42","v":0},{"$f":"$I$42","v":"0 Right"},{"$f":"$K$36","v":0},{"$f":"$Q$36","v":"0 Left"},{"$f":"$T$36","v":0},{"$f":"$Z$36","v":"0 Left"},{"$f":"$AC$36","v":0},{"$f":"$AI$36","v":"0 Left"}]
[null,null,"Left",{"$f":"$V$2","v":0},null,"Right",{"$f":"$V$2","v":0},"0 Left","0 Right",null,null,"Left",{"$f":"$V$2","v":0},null,"Right",{"$f":"$V$2","v":0},"0 Left","0 Right",null,null,"Left",{"$f":"$V$2","v":0},null,"Right",{"$f":"$V$2","v":0},"0 Left","0 Right",null,null,"Left",{"$f":"$V$2","v":0},null,"Right",{"$f":"$V$2","v":0},"0 Left","0 Right",null,{"$f":"$B$45","v":0},{"$f":"$H$45","v":"0 Left"},{"$f":"$K$37","v":0},{"$f":"$Q$37","v":"0 Left"},{"$f":"$T$37","v":0},{"$f":"$Z$37","v":"0 Left"},{"$f":"$AC$37","v":0},{"$f":"$AI$37","v":"0 Left"}]
[null,null,"Left",{"$f":"$V$2","v":0},null,"Right",{"$f":"$V$2","v":0},"0 Left","0 Right",null,null,"Left",{"$f":"$V$2","v":0},null,"Right",{"$f":"$V$2","v":0},"0 Left","0 Right",null,null,"Left",{"$f":"$V$2","v":0},null,"Right",{"$f":"$V$2","v":0},"0 Left","0 Right",null,null,"Left",{"$f":"$V$2","v":0},null,"Right",{"$f":"$V$2","v":0},"0 Left","0 Right",null,{"$f":"$E$45","v":0},{"$f":"$I$45","v":"0 Right"},{"$f":"$K$38","v":0},{"$f":"$Q$38","v":"0 Left"},{"$f":"$T$38","v":0},{"$f":"$Z$38","v":"0 Left"},{"$f":"$AC$38","v":0},{"$f":"$AI$38","v":"0 Left"}]
[null,null,"Left",0,null,"Right",0,"0 Left","0 Right",null,null,"Left",0,null,"Right",0,"0 Left","0 Right",null,null,"Left",0,null,"Right",0,"0 Left","0 Right",null,null,"Left",0,null,"Right",0,"0 Left","0 Right",null,{"$f":"$B$34","v":0},{"$f":"$H$34","v":"0 Left"},{"$f":"$K$39","v":0},{"$f":"$Q$39","v":"0 Left"},{"$f":"$T$39","v":0},{"$f":"$Z$39","v":"0 Left"},{"$f":"$AC$39","v":0},{"$f":"$AI$39","v":"0 Left"}]
[null,null,"Left",{"$f":"$X$2","v":0},null,"Right",{"$f":"$X$2","v":0},"0 Left","0 Right",null,null,"Left",{"$f":"$X$2","v":0},null,"Right",{"$f":"$X$2","v":0},"0 Left","0 Right",null,null,"Left",{"$f":"$X$2","v":0},null,"Right",{"$f":"$X$2","v":0},"0 Left","0 Right",null,null,"Left",{"$f":"$X$2","v":0},null,"Right",{"$f":"$X$2","v":0},"0 Left","0 Right",null,{"$f":"$E$34","v":0},{"$f":"$I$34","v":"0 Right"},{"$f":"$K$40","v":0},{"$f":"$Q$40","v":"0 Left"},{"$f":"$T$40","v":0},{"$f":"$Z$40","v":"0 Left"},{"$f":"$AC$40","v":0},{"$f":"$AI$40","v":"0 Left"}]
[null,null,"Left",{"$f":"$X$2","v":0},null,"Right",{"$f":"$X$2","v":0},"0 Left","0 Right",null,null,"Left",{"$f":"$X$2","v":0},null,"Right",{"$f":"$X$2","v":0},"0 Left","0 Right",null,null,"Left",{"$f":"$X$2","v":0},null,"Right",{"$f":"$X$2","v":0},"0 Left","0 Right",null,null,"Left",{"$f":"$X$2","v":0},null,"Right",{"$f":"$X$2","v":0},"0 Left","0 Right",null,{"$f":"$B$37","v":0},{"$f":"$H$37","v":"0 Left"},{"$f":"$K$41","v":0},{"$f":"$Q$41","v":"0 Left"},{"$f":"$T$41","v":0},{"$f":"$Z$41","v":"0 Left"},{"$f":"$AC$41","v":0},{"$f":"$AI$41","v":"0 Left"}]
[null,null,"Left",0,null,"Right",0,"0 Left","0 Right",null,null,"Left",0,null,"Right",0,"0 Left","0 Right",null,null,"Left",0,null,"Right",0,"0 Left","0 Right",null,null,"Left",0,null,"Right",0,"0 Left","0 Right",null,{"$f":"$E$37","v":0},{"$f":"$I$37","v":"0 Right"},{"$f":"$K$42","v":0},{"$f":"$Q$42","v":"0 Left"},{"$f":"$T$42","v":0},{"$f":"$Z$42","v":"0 Left"},{"$f":"$AC$42","v":0},{"$f":"$AI$42","v":"0 Left"}]
[null,null,"Left",{"$f":"$Z$2","v":0},null,"Right",{"$f":"$Z$2","v":0},"0 Left","0 Right",null,null,"Left",{"$f":"$Z$2","v":0},null,"Right",{"$f":"$Z$2","v":0},"0 Left","0 Right",null,null,"Left",{"$f":"$Z$2","v":0},null,"Right",{"$f":"$Z$2","v":0},"0 Left","0 Right",null,null,"Left",{"$f":"$Z$2","v":0},null,"Right",{"$f":"$Z$2","v":0},"0 Left","0 Right",null,{"$f":"$B$40","v":0},{"$f":"$H$40","v":"0 Left"},{"$f":"$K$43","v":0},{"$f":"$Q$43","v":"0 Left"},{"$f":"$T$43","v":0},{"$f":"$Z$43","v":"0 Left"},{"$f":"$AC$43","v":0},{"$f":"$AI$43","v":"0 Left"}]
[null,null,"Left",{"$f":"$Z$2","v":0},null,"Right",{"$f":"$Z$2","v":0},"0 Left","0 Right",null,null,"Left",{"$f":"$Z$2","v":0},null,"Right",{"$f":"$Z$2","v":0},"0 Left","0 Right",null,null,"Left",{"$f":"$Z$2","v":0},null,"Right",{"$f":"$Z$2","v":0},"0 Left","0 Right",null,null,"Left",{"$f":"$Z$2","v":0},null,"Right",{"$f":"$Z$2","v":0},"0 Left","0 Right",null,{"$f":"$E$40","v":0},{"$f":"$I$40","v":"0 Right"},{"$f":"$K$44","v":0},{"$f":"$Q$44","v":"0 Left"},{"$f":"$T$44","v":0},{"$f":"$Z$44","v":"0 Left"},{"$f":"$AC$44","v":0},{"$f":"$AI$44","v":"0 Left"}]
[null,null,"Left",0,null,"Right",0,"0 Left","0 Right",null,null,"Left",0,null,"Right",0,"0 Left","0 Right",null,null,"Left",0,null,"Right",0,"0 Left","0 Right",null,null,"Left",0,null,"Right",0,"0 Left","0 Right",null,{"$f":"$B$43","v":0},{"$f":"$H$43","v":"0 Left"},{"$f":"$K$45","v":0},{"$f":"$Q$45","v":"0 Left"},{"$f":"$T$45","v":0},{"$f":"$Z$45","v":"0 Left"},{"$f":"$AC$45","v":0},{"$f":"$AI$45","v":"0 Left"}]
[null,null,"Left",{"$f":"$AB$2","v":0},null,"Right",{"$f":"$AB$2","v":0},"0 Left","0 Right",null,null,"Left",{"$f":"$AB$2","v":0},null,"Right",{"$f":"$AB$2","v":0},"0 Left","0 Right",null,null,"Left",{"$f":"$AB$2","v":0},null,"Right",{"$f":"$AB$2","v":0},"0 Left","0 Right",null,null,"Left",{"$f":"$AB$2","v":0},null,"Right",{"$f":"$AB$2","v":0},"0 Left","0 Right",null,{"$f":"$E$43","v":0},{"$f":"$I$43","v":"0 Right"},{"$f":"$K$46","v":0},{"$f":"$Q$46","v":"0 Left"},{"$f":"$T$46","v":0},{"$f":"$Z$46","v":"0 Left"},{"$f":"$AC$46","v":0},{"$f":"$AI$46","v":"0 Left"}]
[null,null,"Left",{"$f":"$AB$2","v":0},null,"Right",{"$f":"$AB$2","v":0},"0 Left","0 Right",null,null,"Left",{"$f":"$AB$2","v":0},null,"Right",{"$f":"$AB$2","v":0},"0 Left","0 Right",null,null,"Left",{"$f":"$AB$2","v":0},null,"Right",{"$f":"$AB$2","v":0},"0 Left","0 Right",null,null,"Left",{"$f":"$AB$2","v":0},null,"Right",{"$f":"$AB$2","v":0},"0 Left","0 Right",null,{"$f":"$B$46","v":0},{"$f":"$H$46","v":"0 Left"},{"$f":"$K$47","v":0},{"$f":"$Q$47","v":"0 Left"},{"$f":"$T$47","v":0},{"$f":"$Z$47","v":"0 Left"},{"$f":"$AC$47","v":0},{"$f":"$AI$47","v":"0 Left"}]
[null,null,"Left",0,null,"Right",0,"0 Left","0 Right",null,null,"Left",0,null,"Right",0,"0 Left","0 Right",null,null,"Left",0,null,"Right",0,"0 Left","0 Right",null,null,"Left",0,null,"Right",0,"0 Left","0 Right",null,{"$f":"$E$46","v":0},{"$f":"$I$46","v":"0 Right"},{"$f":"$K$48","v":0},{"$f":"$Q$48","v":"0 Left"},{"$f":"$T$48","v":0},{"$f":"$Z$48","v":"0 Left"},{"$f":"$AC$48","v":0},{"$f":"$AI$48","v":"0 Left"}]
[{"$nulls":37},{"$f":"$B$23","v":0},{"$f":"$H$23","v":"3 Left"},{"$f":"$K$49","v":0},{"$f":"$Q$49","v":"0 Left"},{"$f":"$T$49","v":0},{"$f":"$Z$49","v":"0 Left"},{"$f":"$AC$49","v":0},{"$f":"$AI$49","v":"0 Left"}]
[{"$nulls":37},{"$f":"$B$26","v":0},{"$f":"$H$26","v":"4 Left"},{"$f":"$K$50","v":0},{"$f":"$Q$50","v":"0 Left"},{"$f":"$T$50","v":0},{"$f":"$Z$50","v":"0 Left"},{"$f":"$AC$50","v":0},{"$f":"$AI$50","v":"0 Left"}]
[{"$nulls":37},{"$f":"$B$29","v":0},{"$f":"$H$29","v":"5 Left"},{"$f":"$K$51","v":0},{"$f":"$Q$51","v":"0 Left"},{"$f":"$T$51","v":0},{"$f":"$Z$51","v":"0 Left"},{"$f":"$AC$51","v":0},{"$f":"$AI$51","v":"0 Left"}]
[{"$nulls":37},{"$f":"$B$32","v":0},{"$f":"$H$32","v":"6 Left"},{"$f":"$K$52","v":0},{"$f":"$Q$52","v":"0 Left"},{"$f":"$T$52","v":0},{"$f":"$Z$52","v":"0 Left"},{"$f":"$AC$52","v":0},{"$f":"$AI$52","v":"0 Left"}]
[{"$nulls":37},{"$f":"$B$35","v":0},{"$f":"$H$35","v":"0 Left"},{"$f":"$K$53","v":0},{"$f":"$Q$53","v":"0 Left"},{"$f":"$T$53","v":0},{"$f":"$Z$53","v":"0 Left"},{"$f":"$AC$53","v":0},{"$f":"$AI$53","v":"0 Left"}]
[{"$nulls":37},{"$f":"$B$38","v":0},{"$f":"$H$38","v":"0 Left"},{"$f":"$K$54","v":0},{"$f":"$Q$54","v":"0 Left"},{"$f":"$T$54","v":0},{"$f":"$Z$54","v":"0 Left"},{"$f":"$AC$54","v":0},{"$f":"$AI$54","v":"0 Left"}]
[{"$nulls":37},{"$f":"$B$41","v":0},{"$f":"$H$41","v":"0 Left"},{"$f":"$K$55","v":0},{"$f":"$Q$55","v":"0 Left"},{"$f":"$T$55","v":0},{"$f":"$Z$55","v":"0 Left"},{"$f":"$AC$55","v":0},{"$f":"$AI$55","v":"0 Left"}]
[{"$nulls":37},{"$f":"$B$44","v":0},{"$f":"$H$44","v":"0 Left"},{"$f":"$K$56","v":0},{"$f":"$Q$56","v":"0 Left"},{"$f":"$T$56","v":0},{"$f":"$Z$56","v":"0 Left"},{"$f":"$AC$56","v":0},{"$f":"$AI$56","v":"0 Left"}]
[{"$nulls":37},{"$f":"$B$47","v":0},{"$f":"$H$47","v":"0 Left"},{"$f":"$K$57","v":0},{"$f":"$Q$57","v":"0 Left"},{"$f":"$T$57","v":0},{"$f":"$Z$57","v":"0 Left"},{"$f":"$AC$57","v":0},{"$f":"$AI$57","v":"0 Left"}]
[{"$nulls":37},{"$f":"$B$48","v":0},{"$f":"$H$48","v":"0 Left"},{"$f":"$K$58","v":0},{"$f":"$Q$58","v":"0 Left"},{"$f":"$T$58","v":0},{"$f":"$Z$58","v":"0 Left"},{"$f":"$AC$58","v":0},{"$f":"$AI$58","v":"0 Left"}]
[{"$nulls":37},{"$f":"$B$49","v":0},{"$f":"$H$49","v":"0 Left"},{"$f":"$K$59","v":0},{"$f":"$Q$59","v":"0 Left"},{"$f":"$T$59","v":0},{"$f":"$Z$59","v":"0 Left"},{"$f":"$AC$59","v":0},{"$f":"$AI$59","v":"0 Left"}]
[{"$nulls":37},{"$f":"$B$50","v":0},{"$f":"$H$50","v":"0 Left"},{"$f":"$N$23","v":0},{"$f":"$R$23","v":"3 Right"},{"$f":"$W$23","v":0},{"$f":"$AA$23","v":"3 Right"},{"$f":"$AF$23","v":0},{"$f":"$AJ$23","v":"3 Right"}]
[{"$nulls":37},{"$f":"$B$51","v":0},{"$f":"$H$51","v":"0 Left"},{"$f":"$N$26","v":0},{"$f":"$R$26","v":"4 Right"},{"$f":"$W$26","v":0},{"$f":"$AA$26","v":"4 Right"},{"$f":"$AF$26","v":0},{"$f":"$AJ$26","v":"4 Right"}]
[{"$nulls":37},{"$f":"$B$52","v":0},{"$f":"$H$52","v":"0 Left"},{"$f":"$N$29","v":0},{"$f":"$R$29","v":"5 Right"},{"$f":"$W$29","v":0},{"$f":"$AA$29","v":"5 Right"},{"$f":"$AF$29","v":0},{"$f":"$AJ$29","v":"5 Right"}]
[{"$nulls":37},{"$f":"$B$53","v":0},{"$f":"$H$53","v":"0 Left"},{"$f":"$N$32","v":0},{"$f":"$R$32","v":"6 Right"},{"$f":"$W$32","v":0},{"$f":"$AA$32","v":"6 Right"},{"$f":"$AF$32","v":0},{"$f":"$AJ$32","v":"6 Right"}]
[{"$nulls":37},{"$f":"$B$54","v":0},{"$f":"$H$54","v":"0 Left"},{"$f":"$N$33","v":0},{"$f":"$R$33","v":"0 Right"},{"$f":"$W$33","v":0},{"$f":"$AA$33","v":"0 Right"},{"$f":"$AF$33","v":0},{"$f":"$AJ$33","v":"0 Right"}]
[{"$nulls":37},{"$f":"$B$55","v":0},{"$f":"$H$55","v":"0 Left"},{"$f":"$N$34","v":0},{"$f":"$R$34","v":"0 Right"},{"$f":"$W$34","v":0},{"$f":"$AA$34","v":"0 Right"},{"$f":"$AF$34","v":0},{"$f":"$AJ$34","v":"0 Right"}]
[{"$nulls":37},{"$f":"$B$56","v":0},{"$f":"$H$56","v":"0 Left"},{"$f":"$N$35","v":0},{"$f":"$R$35","v":"0 Right"},{"$f":"$W$35","v":0},{"$f":"$AA$35","v":"0 Right"},{"$f":"$AF$35","v":0},{"$f":"$AJ$35","v":"0 Right"}]
[{"$nulls":37},{"$f":"$B$57","v":0},{"$f":"$H$57","v":"0 Left"},{"$f":"$N$36","v":0},{"$f":"$R$36","v":"0 Right"},{"$f":"$W$36","v":0},{"$f":"$AA$36","v":"0 Right"},{"$f":"$AF$36","v":0},{"$f":"$AJ$36","v":"0 Right"}]
[{"$nulls":37},{"$f":"$B$58","v":0},{"$f":"$H$58","v":"0 Left"},{"$f":"$N$37","v":0},{"$f":"$R$37","v":"0 Right"},{"$f":"$W$37","v":0},{"$f":"$AA$37","v":"0 Right"},{"$f":"$AF$37","v":0},{"$f":"$AJ$37","v":"0 Right"}]
[{"$nulls":37},{"$f":"$B$59","v":0},{"$f":"$H$59","v":"0 Left"},{"$f":"$N$38","v":0},{"$f":"$R$38","v":"0 Right"},{"$f":"$W$38","v":0},{"$f":"$AA$38","v":"0 Right"},{"$f":"$AF$38","v":0},{"$f":"$AJ$38","v":"0 Right"}]
[{"$nulls":37},{"$f":"$E$23","v":0},{"$f":"$I$23","v":"3 Right"},{"$f":"$N$39","v":0},{"$f":"$R$39","v":"0 Right"},{"$f":"$W$39","v":0},{"$f":"$AA$39","v":"0 Right"},{"$f":"$AF$39","v":0},{"$f":"$AJ$39","v":"0 Right"}]
[{"$nulls":37},{"$f":"$E$26","v":0},{"$f":"$I$26","v":"4 Right"},{"$f":"$N$40","v":0},{"$f":"$R$40","v":"0 Right"},{"$f":"$W$40","v":0},{"$f":"$AA$40","v":"0 Right"},{"$f":"$AF$40","v":0},{"$f":"$AJ$40","v":"0 Right"}]
[{"$nulls":37},{"$f":"$E$29","v":0},{"$f":"$I$29","v":"5 Right"},{"$f":"$N$41","v":0},{"$f":"$R$41","v":"0 Right"},{"$f":"$W$41","v":0},{"$f":"$AA$41","v":"0 Right"},{"$f":"$AF$41","v":0},{"$f":"$AJ$41","v":"0 Right"}]
[{"$nulls":37},{"$f":"$E$32","v":0},{"$f":"$I$32","v":"6 Right"},{"$f":"$N$42","v":0},{"$f":"$R$42","v":"0 Right"},{"$f":"$W$42","v":0},{"$f":"$AA$42","v":"0 Right"},{"$f":"$AF$42","v":0},{"$f":"$AJ$42","v":"0 Right"}]
[{"$nulls":37},{"$f":"$E$35","v":0},{"$f":"$I$35","v":"0 Right"},{"$f":"$N$43","v":0},{"$f":"$R$43","v":"0 Right"},{"$f":"$W$43","v":0},{"$f":"$AA$43","v":"0 Right"},{"$f":"$AF$43","v":0},{"$f":"$AJ$43","v":"0 Right"}]
[{"$nulls":37},{"$f":"$E$38","v":0},{"$f":"$I$38","v":"0 Right"},{"$f":"$N$44","v":0},{"$f":"$R$44","v":"0 Right"},{"$f":"$W$44","v":0},{"$f":"$AA$44","v":"0 Right"},{"$f":"$AF$44","v":0},{"$f":"$AJ$44","v":"0 Right"}]
[{"$nulls":37},{"$f":"$E$41","v":0},{"$f":"$I$41","v":"0 Right"},{"$f":"$N$45","v":0},{"$f":"$R$45","v":"0 Right"},{"$f":"$W$45","v":0},{"$f":"$AA$45","v":"0 Right"},{"$f":"$AF$45","v":0},{"$f":"$AJ$45","v":"0 Right"}]
[{"$nulls":37},{"$f":"$E$44","v":0},{"$f":"$I$44","v":"0 Right"},{"$f":"$N$46","v":0},{"$f":"$R$46","v":"0 Right"},{"$f":"$W$46","v":0},{"$f":"$AA$46","v":"0 Right"},{"$f":"$AF$46","v":0},{"$f":"$AJ$46","v":"0 Right"}]
[{"$nulls":37},{"$f":"$E$47","v":0},{"$f":"$I$47","v":"0 Right"},{"$f":"$N$47","v":0},{"$f":"$R$47","v":"0 Right"},{"$f":"$W$47","v":0},{"$f":"$AA$47","v":"0 Right"},{"$f":"$AF$47","v":0},{"$f":"$AJ$47","v":"0 Right"}]
[{"$nulls":37},{"$f":"$E$48","v":0},{"$f":"$I$48","v":"0 Right"},{"$f":"$N$48","v":0},{"$f":"$R$48","v":"0 Right"},{"$f":"$W$48","v":0},{"$f":"$AA$48","v":"0 Right"},{"$f":"$AF$48","v":0},{"$f":"$AJ$48","v":"0 Right"}]
[{"$nulls":37},{"$f":"$E$49","v":0},{"$f":"$I$49","v":"0 Right"},{"$f":"$N$49","v":0},{"$f":"$R$49","v":"0 Right"},{"$f":"$W$49","v":0},{"$f":"$AA$49","v":"0 Right"},{"$f":"$AF$49","v":0},{"$f":"$AJ$49","v":"0 Right"}]
[{"$nulls":37},{"$f":"$E$50","v":0},{"$f":"$I$50","v":"0 Right"},{"$f":"$N$50","v":0},{"$f":"$R$50","v":"0 Right"},{"$f":"$W$50","v":0},{"$f":"$AA$50","v":"0 Right"},{"$f":"$AF$50","v":0},{"$f":"$AJ$50","v":"0 Right"}]
[{"$nulls":37},{"$f":"$E$51","v":0},{"$f":"$I$51","v":"0 Right"},{"$f":"$N$51","v":0},{"$f":"$R$51","v":"0 Right"},{"$f":"$W$51","v":0},{"$f":"$AA$51","v":"0 Right"},{"$f":"$AF$51","v":0},{"$f":"$AJ$51","v":"0 Right"}]
[{"$nulls":37},{"$f":"$E$52","v":0},{"$f":"$I$52","v":"0 Right"},{"$f":"$N$52","v":0},{"$f":"$R$52","v":"0 Right"},{"$f":"$W$52","v":0},{"$f":"$AA$52","v":"0 Right"},{"$f":"$AF$52","v":0},{"$f":"$AJ$52","v":"0 Right"}]
[{"$nulls":37},{"$f":"$E$53","v":0},{"$f":"$I$53","v":"0 Right"},{"$f":"$N$53","v":0},{"$f":"$R$53","v":"0 Right"},{"$f":"$W$53","v":0},{"$f":"$AA$53","v":"0 Right"},{"$f":"$AF$53","v":0},{"$f":"$AJ$53","v":"0 Right"}]
[{"$nulls":37},{"$f":"$E$54","v":0},{"$f":"$I$54","v":"0 Right"},{"$f":"$N$54","v":0},{"$f":"$R$54","v":"0 Right"},{"$f":"$W$54","v":0},{"$f":"$AA$54","v":"0 Right"},{"$f":"$AF$54","v":0},{"$f":"$AJ$54","v":"0 Right"}]
[{"$nulls":37},{"$f":"$E$55","v":0},{"$f":"$I$55","v":"0 Right"},{"$f":"$N$55","v":0},{"$f":"$R$55","v":"0 Right"},{"$f":"$W$55","v":0},{"$f":"$AA$55","v":"0 Right"},{"$f":"$AF$55","v":0},{"$f":"$AJ$55","v":"0 Right"}]
[{"$nulls":37},{"$f":"$E$56","v":0},{"$f":"$I$56","v":"0 Right"},{"$f":"$N$56","v":0},{"$f":"$R$56","v":"0 Right"},{"$f":"$W$56","v":0},{"$f":"$AA$56","v":"0 Right"},{"$f":"$AF$56","v":0},{"$f":"$AJ$56","v":"0 Right"}]
[{"$nulls":37},{"$f":"$E$57","v":0},{"$f":"$I$57","v":"0 Right"},{"$f":"$N$57","v":0},{"$f":"$R$57","v":"0 Right"},{"$f":"$W$57","v":0},{"$f":"$AA$57","v":"0 Right"},{"$f":"$AF$57","v":0},{"$f":"$AJ$57","v":"0 Right"}]
[{"$nulls":37},{"$f":"$E$58","v":0},{"$f":"$I$58","v":"0 Right"},{"$f":"$N$58","v":0},{"$f":"$R$58","v":"0 Right"},{"$f":"$W$58","v":0},{"$f":"$AA$58","v":"0 Right"},{"$f":"$AF$58","v":0},{"$f":"$AJ$58","v":"0 Right"}]
[{"$nulls":37},{"$f":"$E$59","v":0},{"$f":"$I$59","v":"0 Right"},{"$f":"$N$59","v":0},{"$f":"$R$59","v":"0 Right"},{"$f":"$W$59","v":0},{"$f":"$AA$59","v":"0 Right"},{"$f":"$AF$59","v":0},{"$f":"$AJ$59","v":"0 Right"}]

{"sheet":"24","index":10,"n_rows":101,"n_cols":45,"rows_kept":101,"hidden":true,"merged":[[0,1,0,12],[1,1,1,2],[1,3,1,4],[1,5,1,6],[1,7,1,8],[1,9,1,10],[1,11,1,12],[2,0,4,0],[5,0,7,0],[8,0,10,0],[11,0,13,0],[14,1,14,12],[15,1,15,6],[15,10,15,15],[15,19,15,24],[15,28,15,33],[16,37,16,38],[16,39,16,40],[16,41,16,42],[16,43,16,44]]}
[null,"YOU MAY CHANGE THESE RINK NUMBERS IF YOU WISH"]
["Round",1,null,2,2,3,3,4,4,5,5,6,6]
[1,1,2,3,4,5,6,7,8,9,10,11,12]
[null,13,14,15,16,17,18,19,20,21,22,23,24]
[]
[2,6,9,1,10,2,11,3,12,4,8,5,7]
[null,16,19,23,20,24,21,13,22,14,18,15,17]
[]
[3,3,4,2,5,12,8,1,9,7,11,6,10]
[null,23,24,22,13,20,16,21,17,15,19,14,18]
[]
[4,12,7,8,11,1,9,6,10,2,5,3,4]
[null,18,13,14,17,19,15,24,16,20,23,21,22]
[]
[null,"24 on 1 green"]
[null,1,{"$nulls":8},2,{"$nulls":8},3,{"$nulls":8},4]
[null,"no","Left","rink","no","Right","rink","L","R",null,"no","Left","rink","no","Right","rink","L","R",null,"no","Left","rink","no","Right","rink","L","R",null,"no","Left","rink","no","Right","rink","L","R",null,1,null,2,null,3,null,4]
[null,1,"Left",{"$f":"$B$2","v":1},2,"Right",{"$f":"$B$2","v":1},{"$f":"(D18&\" \"&C18)","v":"1 Left"},{"$f":"(G18&\" \"&F18)","v":"1 Right"},null,6,"Left",{"$f":"$B$2","v":1},9,"Right",{"$f":"$B$2","v":1},{"$f":"(M18&\" \"&L18)","v":"1 Left"},{"$f":"(P18&\" \"&O18)","v":"1 Right"},null,3,"Left",{"$f":"$B$2","v":1},4,"Right",{"$f":"$B$2","v":1},{"$f":"(V18&\" \"&U18)","v":"1 Left"},{"$f":"(Y18&\" \"&X18)","v":"1 Right"},null,12,"Left",{"$f":"$B$2","v":1},7,"Right",{"$f":"$B$2","v":1},{"$f":"(AE18&\" \"&AD18)","v":"1 Left"},{"$f":"(AH18&\" \"&AG18)","v":"1 Right"}]
[null,13,"Left",{"$f":"$B$2","v":1},14,"Right",{"$f":"$B$2","v":1},{"$f":"(D19&\" \"&C19)","v":"1 Left"},{"$f":"(G19&\" \"&F19)","v":"1 Right"},null,16,"Left",{"$f":"$B$2","v":1},19,"Right",{"$f":"$B$2","v":1},{"$f":"(M19&\" \"&L19)","v":"1 Left"},{"$f":"(P19&\" \"&O19)","v":"1 Right"},null,23,"Left",{"$f":"$B$2","v":1},24,"Right",{"$f":"$B$2","v":1},{"$f":"(V19&\" \"&U19)","v":"1 Left"},{"$f":"(Y19&\" \"&X19)","v":"1 Right"},null,18,"Left",{"$f":"$B$2","v":1},13,"Right",{"$f":"$B$2","v":1},{"$f":"(AE19&\" \"&AD19)","v":"1 Left"},{"$f":"(AH19&\" \"&AG19)","v":"1 Right"}]
[null,null,"Left",{"$f":"$B$2","v":1},null,"Right",{"$f":"$B$2","v":1},"1 Left","1 Right",null,null,"Left",{"$f":"$B$2","v":1},null,"Right",{"$f":"$B$2","v":1},"1 Left","1 Right",null,null,"Left",{"$f":"$B$2","v":1},null,"Right",{"$f":"$B$2","v":1},"1 Left","1 Right",null,null,"Left",{"$f":"$B$2","v":1},null,"Right",{"$f":"$B$2","v":1},"1 Left","1 Right"]
[null,3,"Left",{"$f":"$D$2","v":2},4,"Right",{"$f":"$D$2","v":2},"2 Left","2 Right",null,1,"Left",{"$f":"$D$2","v":2},10,"Right",{"$f":"$D$2","v":2},"2 Left","2 Right",null,2,"Left",{"$f":"$D$2","v":2},5,"Right",{"$f":"$D$2","v":2},"2 Left","2 Right",null,8,"Left",{"$f":"$D$2","v":2},11,"Right",{"$f":"$D$2","v":2},"2 Left","2 Right"]
[null,15,"Left",{"$f":"$D$2","v":2},16,"Right",{"$f":"$D$2","v":2},"2 Left","2 Right",null,23,"Left",{"$f":"$D$2","v":2},20,"Right",{"$f":"$D$2","v":2},"2 Left","2 Right",null,22,"Left",{"$f":"$D$2","v":2},13,"Right",{"$f":"$D$2","v":2},"2 Left","2 Right",null,14,"Left",{"$f":"$D$2","v":2},17,"Right",{"$f":"$D$2","v":2},"2 Left","2 Right"]
[null,null,"Left",{"$f":"$D$2","v":2},null,"Right",{"$f":"$D$2","v":2},"2 Left","2 Right",null,null,"Left",{"$f":"$D$2","v":2},null,"Right",{"$f":"$D$2","v":2},"2 Left","2 Right",null,null,"Left",{"$f":"$D$2","v":2},null,"Right",{"$f":"$D$2","v":2},"2 Left","2 Right",null,null,"Left",{"$f":"$D$2","v":2},null,"Right",{"$f":"$D$2","v":2},"2 Left","2 Right"]
[null,5,"Left",{"$f":"$F$2","v":3},6,"Right",{"$f":"$F$2","v":3},"3 Left","3 Right",null,2,"Left",{"$f":"$F$2","v":3},11,"Right",{"$f":"$F$2","v":3},"3 Left","3 Right",null,12,"Left",{"$f":"$F$2","v":3},8,"Right",{"$f":"$F$2","v":3},"3 Left","3 Right",null,1,"Left",{"$f":"$F$2","v":3},9,"Right",{"$f":"$F$2","v":3},"3 Left","3 Right"]
[null,17,"Left",{"$f":"$F$2","v":3},18,"Right",{"$f":"$F$2","v":3},"3 Left","3 Right",null,24,"Left",{"$f":"$F$2","v":3},21,"Right",{"$f":"$F$2","v":3},"3 Left","3 Right",null,20,"Left",{"$f":"$F$2","v":3},16,"Right",{"$f":"$F$2","v":3},"3 Left","3 Right",null,19,"Left",{"$f":"$F$2","v":3},15,"Right",{"$f":"$F$2","v":3},"3 Left","3 Right"]
[null,null,"Left",{"$f":"$F$2","v":3},null,"Right",{"$f":"$F$2","v":3},"3 Left","3 Right",null,null,"Left",{"$f":"$F$2","v":3},null,"Right",{"$f":"$F$2","v":3},"3 Left","3 Right",null,null,"Left",{"$f":"$F$2","v":3},null,"Right",{"$f":"$F$2","v":3},"3 Left","3 Right",null,null,"Left",{"$f":"$F$2","v":3},null,"Right",{"$f":"$F$2","v":3},"3 Left","3 Right"]
[null,7,"Left",{"$f":"$H$2","v":4},8,"Right",{"$f":"$H$2","v":4},"4 Left","4 Right",null,3,"Left",{"$f":"$H$2","v":4},12,"Right",{"$f":"$H$2","v":4},"4 Left","4 Right",null,1,"Left",{"$f":"$H$2","v":4},9,"Right",{"$f":"$H$2","v":4},"4 Left","4 Right",null,6,"Left",{"$f":"$H$2","v":4},10,"Right",{"$f":"$H$2","v":4},"4 Left","4 Right"]
[null,19,"Left",{"$f":"$H$2","v":4},20,"Right",{"$f":"$H$2","v":4},"4 Left","4 Right",null,13,"Left",{"$f":"$H$2","v":4},22,"Right",{"$f":"$H$2","v":4},"4 Left","4 Right",null,21,"Left",{"$f":"$H$2","v":4},17,"Right",{"$f":"$H$2","v":4},"4 Left","4 Right",null,24,"Left",{"$f":"$H$2","v":4},16,"Right",{"$f":"$H$2","v":4},"4 Left","4 Right"]
[null,null,"Left",4,null,"Right",4,"4 Left","4 Right",null,null,"Left",4,null,"Right",4,"4 Left","4 Right",null,null,"Left",4,null,"Right",4,"4 Left","4 Right",null,null,"Left",4,null,"Right",4,"4 Left","4 Right"]
[null,9,"Left",{"$f":"$J$2","v":5},10,"Right",{"$f":"$J$2","v":5},"5 Left","5 Right",null,4,"Left",{"$f":"$J$2","v":5},8,"Right",{"$f":"$J$2","v":5},"5 Left","5 Right",null,7,"Left",{"$f":"$J$2","v":5},11,"Right",{"$f":"$J$2","v":5},"5 Left","5 Right",null,2,"Left",{"$f":"$J$2","v":5},5,"Right",{"$f":"$J$2","v":5},"5 Left","5 Right"]
[null,21,"Left",{"$f":"$J$2","v":5},22,"Right",{"$f":"$J$2","v":5},"5 Left","5 Right",null,14,"Left",{"$f":"$J$2","v":5},18,"Right",{"$f":"$J$2","v":5},"5 Left","5 Right",null,15,"Left",{"$f":"$J$2","v":5},19,"Right",{"$f":"$J$2","v":5},"5 Left","5 Right",null,20,"Left",{"$f":"$J$2","v":5},23,"Right",{"$f":"$J$2","v":5},"5 Left","5 Right"]
[null,null,"Left",5,null,"Right",5,"5 Left","5 Right",null,null,"Left",5,null,"Right",5,"5 Left","5 Right",null,null,"Left",5,null,"Right",5,"5 Left","5 Right",null,null,"Left",5,null,"Right",5,"5 Left","5 Right"]
[null,11,"Left",{"$f":"$L$2","v":6},12,"Right",{"$f":"$L$2","v":6},"6 Left","6 Right",null,5,"Left",{"$f":"$L$2","v":6},7,"Right",{"$f":"$L$2","v":6},"6 Left","6 Right",null,6,"Left",{"$f":"$L$2","v":6},10,"Right",{"$f":"$L$2","v":6},"6 Left","6 Right",null,3,"Left",{"$f":"$L$2","v":6},4,"Right",{"$f":"$L$2","v":6},"6 Left","6 Right"]
[null,23,"Left",{"$f":"$L$2","v":6},24,"Right",{"$f":"$L$2","v":6},"6 Left","6 Right",null,15,"Left",{"$f":"$L$2","v":6},17,"Right",{"$f":"$L$2","v":6},"6 Left","6 Right",null,14,"Left",{"$f":"$L$2","v":6},18,"Right",{"$f":"$L$2","v":6},"6 Left","6 Right",null,21,"Left",{"$f":"$L$2","v":6},22,"Right",{"$f":"$L$2","v":6},"6 Left","6 Right"]
[null,null,"Left",6,null,"Right",6,"6 Left","6 Right",null,null,"Left",6,null,"Right",6,"6 Left","6 Right",null,null,"Left",6,null,"Right",6,"6 Left","6 Right",null,null,"Left",6,null,"Right",6,"6 Left","6 Right"]
[null,null,"Left",{"$f":"$N$2","v":0},null,"Right",{"$f":"$N$2","v":0},"0 Left","0 Right",null,null,"Left",{"$f":"$N$2","v":0},null,"Right",{"$f":"$N$2","v":0},"0 Left","0 Right",null,null,"Left",{"$f":"$N$2","v":0},null,"Right",{"$f":"$N$2","v":0},"0 Left","0 Right",null,null,"Left",{"$f":"$N$2","v":0},null,"Right",{"$f":"$N$2","v":0},"0 Left","0 Right"]
[null,null,"Left",{"$f":"$N$2","v":0},null,"Right",{"$f":"$N$2","v":0},"0 Left","0 Right",null,null,"Left",{"$f":"$N$2","v":0},null,"Right",{"$f":"$N$2","v":0},"0 Left","0 Right",null,null,"Left",{"$f":"$N$2","v":0},null,"Right",{"$f":"$N$2","v":0},"0 Left","0 Right",null,null,"Left",{"$f":"$N$2","v":0},null,"Right",{"$f":"$N$2","v":0},"0 Left","0 Right"]
[null,null,"Left",0,null,"Right",0,"0 Left","0 Right",null,null,"Left",0,null,"Right",0,"0 Left","0 Right",null,null,"Left",0,null,"Right",0,"0 Left","0 Right",null,null,"Left",0,null,"Right",0,"0 Left","0 Right"]
[null,null,"Left",{"$f":"$P$2","v":0},null,"Right",{"$f":"$P$2","v":0},"0 Left","0 Right",null,null,"Left",{"$f":"$P$2","v":0},null,"Right",{"$f":"$P$2","v":0},"0 Left","0 Right",null,null,"Left",{"$f":"$P$2","v":0},null,"Right",{"$f":"$P$2","v":0},"0 Left","0 Right",null,null,"Left",{"$f":"$P$2","v":0},null,"Right",{"$f":"$P$2","v":0},"0 Left","0 Right"]
[null,null,"Left",{"$f":"$P$2","v":0},null,"Right",{"$f":"$P$2","v":0},"0 Left","0 Right",null,null,"Left",{"$f":"$P$2","v":0},null,"Right",{"$f":"$P$2","v":0},"0 Left","0 Right",null,null,"Left",{"$f":"$P$2","v":0},null,"Right",{"$f":"$P$2","v":0},"0 Left","0 Right",null,null,"Left",{"$f":"$P$2","v":0},null,"Right",{"$f":"$P$2","v":0},"0 Left","0 Right"]
[null,null,"Left",0,null,"Right",0,"0 Left","0 Right",null,null,"Left",0,null,"Right",0,"0 Left","0 Right",null,null,"Left",0,null,"Right",0,"0 Left","0 Right",null,null,"Left",0,null,"Right",0,"0 Left","0 Right"]
[null,null,"Left",{"$f":"$R$2","v":0},null,"Right",{"$f":"$R$2","v":0},"0 Left","0 Right",null,null,"Left",{"$f":"$R$2","v":0},null,"Right",{"$f":"$R$2","v":0},"0 Left","0 Right",null,null,"Left",{"$f":"$R$2","v":0},null,"Right",{"$f":"$R$2","v":0},"0 Left","0 Right",null,null,"Left",{"$f":"$R$2","v":0},null,"Right",{"$f":"$R$2","v":0},"0 Left","0 Right",null,{"$f":"$B$20","v":0},{"$f":"$H$20","v":"1 Left"},{"$f":"$K$20","v":0},{"$f":"$Q$20","v":"1 Left"},{"$f":"$T$20","v":0},{"$f":"$Z$20","v":"1 Left"},{"$f":"$AC$20","v":0},{"$f":"$AI$20","v":"1 Left"}]
[null,null,"Left",{"$f":"$R$2","v":0},null,"Right",{"$f":"$R$2","v":0},"0 Left","0 Right",null,null,"Left",{"$f":"$R$2","v":0},null,"Right",{"$f":"$R$2","v":0},"0 Left","0 Right",null,null,"Left",{"$f":"$R$2","v":0},null,"Right",{"$f":"$R$2","v":0},"0 Left","0 Right",null,null,"Left",{"$f":"$R$2","v":0},null,"Right",{"$f":"$R$2","v":0},"0 Left","0 Right",null,{"$f":"$E$20","v":0},{"$f":"$I$20","v":"1 Right"},{"$f":"$K$23","v":0},{"$f":"$Q$23","v":"2 Left"},{"$f":"$T$23","v":0},{"$f":"$Z$23","v":"2 Left"},{"$f":"$AC$23","v":0},{"$f":"$AI$23","v":"2 Left"}]
[null,null,"Left",0,null,"Right",0,"0 Left","0 Right",null,null,"Left",0,null,"Right",0,"0 Left","0 Right",null,null,"Left",0,null,"Right",0,"0 Left","0 Right",null,null,"Left",0,null,"Right",0,"0 Left","0 Right",null,{"$f":"$B$36","v":0},{"$f":"$H$36","v":"0 Left"},{"$f":"$K$26","v":0},{"$f":"$Q$26","v":"3 Left"},{"$f":"$T$26","v":0},{"$f":"$Z$26","v":"3 Left"},{"$f":"$AC$26","v":0},{"$f":"$AI$26","v":"3 Left"}]
[null,null,"Left",{"$f":"$T$2","v":0},null,"Right",{"$f":"$T$2","v":0},"0 Left","0 Right",null,null,"Left",{"$f":"$T$2","v":0},null,"Right",{"$f":"$T$2","v":0},"0 Left","0 Right",null,null,"Left",{"$f":"$T$2","v":0},null,"Right",{"$f":"$T$2","v":0},"0 Left","0 Right",null,null,"Left",{"$f":"$T$2","v":0},null,"Right",{"$f":"$T$2","v":0},"0 Left","0 Right",null,{"$f":"$E$36","v":0},{"$f":"$I$36","v":"0 Right"},{"$f":"$K$29","v":0},{"$f":"$Q$29","v":"4 Left"},{"$f":"$T$29","v":0},{"$f":"$Z$29","v":"4 Left"},{"$f":"$AC$29","v":0},{"$f":"$AI$29","v":"4 Left"}]
[null,null,"Left",{"$f":"$T$2","v":0},null,"Right",{"$f":"$T$2","v":0},"0 Left","0 Right",null,null,"Left",{"$f":"$T$2","v":0},null,"Right",{"$f":"$T$2","v":0},"0 Left","0 Right",null,null,"Left",{"$f":"$T$2","v":0},null,"Right",{"$f":"$T$2","v":0},"0 Left","0 Right",null,null,"Left",{"$f":"$T$2","v":0},null,"Right",{"$f":"$T$2","v":0},"0 Left","0 Right",null,{"$f":"$B$39","v":0},{"$f":"$H$39","v":"0 Left"},{"$f":"$K$32","v":0},{"$f":"$Q$32","v":"5 Left"},{"$f":"$T$32","v":0},{"$f":"$Z$32","v":"5 Left"},{"$f":"$AC$32","v":0},{"$f":"$AI$32","v":"5 Left"}]
[null,null,"Left",0,null,"Right",0,"0 Left","0 Right",null,null,"Left",0,null,"Right",0,"0 Left","0 Right",null,null,"Left",0,null,"Right",0,"0 Left","0 Right",null,null,"Left",0,null,"Right",0,"0 Left","0 Right",null,{"$f":"$E$39","v":0},{"$f":"$I$39","v":"0 Right"},{"$f":"$K$35","v":0},{"$f":"$Q$35","v":"6 Left"},{"$f":"$T$35","v":0},{"$f":"$Z$35","v":"6 Left"},{"$f":"$AC$35","v":0},{"$f":"$AI$35","v":"6 Left"}]
[null,null,"Left",{"$f":"$V$2","v":0},null,"Right",{"$f":"$V$2","v":0},"0 Left","0 Right",null,null,"Left",{"$f":"$V$2","v":0},null,"Right",{"$f":"$V$2","v":0},"0 Left","0 Right",null,null,"Left",{"$f":"$V$2","v":0},null,"Right",{"$f":"$V$2","v":0},"0 Left","0 Right",null,null,"Left",{"$f":"$V$2","v":0},null,"Right",{"$f":"$V$2","v":0},"0 Left","0 Right",null,{"$f":"$B$42","v":0},{"$f":"$H$42","v":"0 Left"},{"$f":"$K$36","v":0},{"$f":"$Q$36","v":"0 Left"},{"$f":"$T$36","v":0},{"$f":"$Z$36","v":"0 Left"},{"$f":"$AC$36","v":0},{"$f":"$AI$36","v":"0 Left"}]
[null,null,"Left",{"$f":"$V$2","v":0},null,"Right",{"$f":"$V$2","v":0},"0 Left","0 Right",null,null,"Left",{"$f":"$V$2","v":0},null,"Right",{"$f":"$V$2","v":0},"0 Left","0 Right",null,null,"Left",{"$f":"$V$2","v":0},null,"Right",{"$f":"$V$2","v":0},"0 Left","0 Right",null,null,"Left",{"$f":"$V$2","v":0},null,"Right",{"$f":"$V$2","v":0},"0 Left","0 Right",null,{"$f":"$E$42","v":0},{"$f":"$I$42","v":"0 Right"},{"$f":"$K$37","v":0},{"$f":"$Q$37","v":"0 Left"},{"$f":"$T$37","v":0},{"$f":"$Z$37","v":"0 Left"},{"$f":"$AC$37","v":0},{"$f":"$AI$37","v":"0 Left"}]
[null,null,"Left",0,null,"Right",0,"0 Left","0 Right",null,null,"Left",0,null,"Right",0,"0 Left","0 Right",null,null,"Left",0,null,"Right",0,"0 Left","0 Right",null,null,"Left",0,null,"Right",0,"0 Left","0 Right",null,{"$f":"$B$45","v":0},{"$f":"$H$45","v":"0 Left"},{"$f":"$K$38","v":0},{"$f":"$Q$38","v":"0 Left"},{"$f":"$T$38","v":0},{"$f":"$Z$38","v":"0 Left"},{"$f":"$AC$38","v":0},{"$f":"$AI$38","v":"0 Left"}]
[null,null,"Left",{"$f":"$X$2","v":0},null,"Right",{"$f":"$X$2","v":0},"0 Left","0 Right",null,null,"Left",{"$f":"$X$2","v":0},null,"Right",{"$f":"$X$2","v":0},"0 Left","0 Right",null,null,"Left",{"$f":"$X$2","v":0},null,"Right",{"$f":"$X$2","v":0},"0 Left","0 Right",null,null,"Left",{"$f":"$X$2","v":0},null,"Right",{"$f":"$X$2","v":0},"0 Left","0 Right",null,{"$f":"$E$45","v":0},{"$f":"$I$45","v":"0 Right"},{"$f":"$K$39","v":0},{"$f":"$Q$39","v":"0 Left"},{"$f":"$T$39","v":0},{"$f":"$Z$39","v":"0 Left"},{"$f":"$AC$39","v":0},{"$f":"$AI$39","v":"0 Left"}]
[null,null,"Left",{"$f":"$X$2","v":0},null,"Right",{"$f":"$X$2","v":0},"0 Left","0 Right",null,null,"Left",{"$f":"$X$2","v":0},null,"Right",{"$f":"$X$2","v":0},"0 Left","0 Right",null,null,"Left",{"$f":"$X$2","v":0},null,"Right",{"$f":"$X$2","v":0},"0 Left","0 Right",null,null,"Left",{"$f":"$X$2","v":0},null,"Right",{"$f":"$X$2","v":0},"0 Left","0 Right",null,{"$f":"$B$37","v":0},{"$f":"$H$37","v":"0 Left"},{"$f":"$K$40","v":0},{"$f":"$Q$40","v":"0 Left"},{"$f":"$T$40","v":0},{"$f":"$Z$40","v":"0 Left"},{"$f":"$AC$40","v":0},{"$f":"$AI$40","v":"0 Left"}]
[null,null,"Left",0,null,"Right",0,"0 Left","0 Right",null,null,"Left",0,null,"Right",0,"0 Left","0 Right",null,null,"Left",0,null,"Right",0,"0 Left","0 Right",null,null,"Left",0,null,"Right",0,"0 Left","0 Right",null,{"$f":"$E$37","v":0},{"$f":"$I$37","v":"0 Right"},{"$f":"$K$41","v":0},{"$f":"$Q$41","v":"0 Left"},{"$f":"$T$41","v":0},{"$f":"$Z$41","v":"0 Left"},{"$f":"$AC$41","v":0},{"$f":"$AI$41","v":"0 Left"}]
[null,null,"Left",{"$f":"$Z$2","v":0},null,"Right",{"$f":"$Z$2","v":0},"0 Left","0 Right",null,null,"Left",{"$f":"$Z$2","v":0},null,"Right",{"$f":"$Z$2","v":0},"0 Left","0 Right",null,null,"Left",{"$f":"$Z$2","v":0},null,"Right",{"$f":"$Z$2","v":0},"0 Left","0 Right",null,null,"Left",{"$f":"$Z$2","v":0},null,"Right",{"$f":"$Z$2","v":0},"0 Left","0 Right",null,{"$f":"$B$40","v":0},{"$f":"$H$40","v":"0 Left"},{"$f":"$K$42","v":0},{"$f":"$Q$42","v":"0 Left"},{"$f":"$T$42","v":0},{"$f":"$Z$42","v":"0 Left"},{"$f":"$AC$42","v":0},{"$f":"$AI$42","v":"0 Left"}]
[null,null,"Left",{"$f":"$Z$2","v":0},null,"Right",{"$f":"$Z$2","v":0},"0 Left","0 Right",null,null,"Left",{"$f":"$Z$2","v":0},null,"Right",{"$f":"$Z$2","v":0},"0 Left","0 Right",null,null,"Left",{"$f":"$Z$2","v":0},null,"Right",{"$f":"$Z$2","v":0},"0 Left","0 Right",null,null,"Left",{"$f":"$Z$2","v":0},null,"Right",{"$f":"$Z$2","v":0},"0 Left","0 Right",null,{"$f":"$E$40","v":0},{"$f":"$I$40","v":"0 Right"},{"$f":"$K$43","v":0},{"$f":"$Q$43","v":"0 Left"},{"$f":"$T$43","v":0},{"$f":"$Z$43","v":"0 Left"},{"$f":"$AC$43","v":0},{"$f":"$AI$43","v":"0 Left"}]
[null,null,"Left",0,null,"Right",0,"0 Left","0 Right",null,null,"Left",0,null,"Right",0,"0 Left","0 Right",null,null,"Left",0,null,"Right",0,"0 Left","0 Right",null,null,"Left",0,null,"Right",0,"0 Left","0 Right",null,{"$f":"$B$43","v":0},{"$f":"$H$43","v":"0 Left"},{"$f":"$K$44","v":0},{"$f":"$Q$44","v":"0 Left"},{"$f":"$T$44","v":0},{"$f":"$Z$44","v":"0 Left"},{"$f":"$AC$44","v":0},{"$f":"$AI$44","v":"0 Left"}]
[null,null,"Left",{"$f":"$AB$2","v":0},null,"Right",{"$f":"$AB$2","v":0},"0 Left","0 Right",null,null,"Left",{"$f":"$AB$2","v":0},null,"Right",{"$f":"$AB$2","v":0},"0 Left","0 Right",null,null,"Left",{"$f":"$AB$2","v":0},null,"Right",{"$f":"$AB$2","v":0},"0 Left","0 Right",null,null,"Left",{"$f":"$AB$2","v":0},null,"Right",{"$f":"$AB$2","v":0},"0 Left","0 Right",null,{"$f":"$E$43","v":0},{"$f":"$I$43","v":"0 Right"},{"$f":"$K$45","v":0},{"$f":"$Q$45","v":"0 Left"},{"$f":"$T$45","v":0},{"$f":"$Z$45","v":"0 Left"},{"$f":"$AC$45","v":0},{"$f":"$AI$45","v":"0 Left"}]
[null,null,"Left",{"$f":"$AB$2","v":0},null,"Right",{"$f":"$AB$2","v":0},"0 Left","0 Right",null,null,"Left",{"$f":"$AB$2","v":0},null,"Right",{"$f":"$AB$2","v":0},"0 Left","0 Right",null,null,"Left",{"$f":"$AB$2","v":0},null,"Right",{"$f":"$AB$2","v":0},"0 Left","0 Right",null,null,"Left",{"$f":"$AB$2","v":0},null,"Right",{"$f":"$AB$2","v":0},"0 Left","0 Right",null,{"$f":"$B$46","v":0},{"$f":"$H$46","v":"0 Left"},{"$f":"$K$46","v":0},{"$f":"$Q$46","v":"0 Left"},{"$f":"$T$46","v":0},{"$f":"$Z$46","v":"0 Left"},{"$f":"$AC$46","v":0},{"$f":"$AI$46","v":"0 Left"}]
[null,null,"Left",0,null,"Right",0,"0 Left","0 Right",null,null,"Left",0,null,"Right",0,"0 Left","0 Right",null,null,"Left",0,null,"Right",0,"0 Left","0 Right",null,null,"Left",0,null,"Right",0,"0 Left","0 Right",null,{"$f":"$E$46","v":0},{"$f":"$I$46","v":"0 Right"},{"$f":"$K$47","v":0},{"$f":"$Q$47","v":"0 Left"},{"$f":"$T$47","v":0},{"$f":"$Z$47","v":"0 Left"},{"$f":"$AC$47","v":0},{"$f":"$AI$47","v":"0 Left"}]
[{"$nulls":37},{"$f":"$B$23","v":0},{"$f":"$H$23","v":"2 Left"},{"$f":"$K$48","v":0},{"$f":"$Q$48","v":"0 Left"},{"$f":"$T$48","v":0},{"$f":"$Z$48","v":"0 Left"},{"$f":"$AC$48","v":0},{"$f":"$AI$48","v":"0 Left"}]
[{"$nulls":37},{"$f":"$B$26","v":0},{"$f":"$H$26","v":"3 Left"},{"$f":"$K$49","v":0},{"$f":"$Q$49","v":"0 Left"},{"$f":"$T$49","v":0},{"$f":"$Z$49","v":"0 Left"},{"$f":"$AC$49","v":0},{"$f":"$AI$49","v":"0 Left"}]
[{"$nulls":37},{"$f":"$B$29","v":0},{"$f":"$H$29","v":"4 Left"},{"$f":"$K$50","v":0},{"$f":"$Q$50","v":"0 Left"},{"$f":"$T$50","v":0},{"$f":"$Z$50","v":"0 Left"},{"$f":"$AC$50","v":0},{"$f":"$AI$50","v":"0 Left"}]
[{"$nulls":37},{"$f":"$B$32","v":0},{"$f":"$H$32","v":"5 Left"},{"$f":"$K$51","v":0},{"$f":"$Q$51","v":"0 Left"},{"$f":"$T$51","v":0},{"$f":"$Z$51","v":"0 Left"},{"$f":"$AC$51","v":0},{"$f":"$AI$51","v":"0 Left"}]
[{"$nulls":37},{"$f":"$B$35","v":0},{"$f":"$H$35","v":"6 Left"},{"$f":"$K$52","v":0},{"$f":"$Q$52","v":"0 Left"},{"$f":"$T$52","v":0},{"$f":"$Z$52","v":"0 Left"},{"$f":"$AC$52","v":0},{"$f":"$AI$52","v":"0 Left"}]
[{"$nulls":37},{"$f":"$B$38","v":0},{"$f":"$H$38","v":"0 Left"},{"$f":"$K$53","v":0},{"$f":"$Q$53","v":"0 Left"},{"$f":"$T$53","v":0},{"$f":"$Z$53","v":"0 Left"},{"$f":"$AC$53","v":0},{"$f":"$AI$53","v":"0 Left"}]
[{"$nulls":37},{"$f":"$B$41","v":0},{"$f":"$H$41","v":"0 Left"},{"$f":"$K$54","v":0},{"$f":"$Q$54","v":"0 Left"},{"$f":"$T$54","v":0},{"$f":"$Z$54","v":"0 Left"},{"$f":"$AC$54","v":0},{"$f":"$AI$54","v":"0 Left"}]
[{"$nulls":37},{"$f":"$B$44","v":0},{"$f":"$H$44","v":"0 Left"},{"$f":"$K$55","v":0},{"$f":"$Q$55","v":"0 Left"},{"$f":"$T$55","v":0},{"$f":"$Z$55","v":"0 Left"},{"$f":"$AC$55","v":0},{"$f":"$AI$55","v":"0 Left"}]
[{"$nulls":37},{"$f":"$B$47","v":0},{"$f":"$H$47","v":"0 Left"},{"$f":"$K$56","v":0},{"$f":"$Q$56","v":"0 Left"},{"$f":"$T$56","v":0},{"$f":"$Z$56","v":"0 Left"},{"$f":"$AC$56","v":0},{"$f":"$AI$56","v":"0 Left"}]
[{"$nulls":37},{"$f":"$B$48","v":0},{"$f":"$H$48","v":"0 Left"},{"$f":"$K$57","v":0},{"$f":"$Q$57","v":"0 Left"},{"$f":"$T$57","v":0},{"$f":"$Z$57","v":"0 Left"},{"$f":"$AC$57","v":0},{"$f":"$AI$57","v":"0 Left"}]
[{"$nulls":37},{"$f":"$B$49","v":0},{"$f":"$H$49","v":"0 Left"},{"$f":"$K$58","v":0},{"$f":"$Q$58","v":"0 Left"},{"$f":"$T$58","v":0},{"$f":"$Z$58","v":"0 Left"},{"$f":"$AC$58","v":0},{"$f":"$AI$58","v":"0 Left"}]
[{"$nulls":37},{"$f":"$B$50","v":0},{"$f":"$H$50","v":"0 Left"},{"$f":"$K$59","v":0},{"$f":"$Q$59","v":"0 Left"},{"$f":"$T$59","v":0},{"$f":"$Z$59","v":"0 Left"},{"$f":"$AC$59","v":0},{"$f":"$AI$59","v":"0 Left"}]
[{"$nulls":37},{"$f":"$B$51","v":0},{"$f":"$H$51","v":"0 Left"},{"$f":"$N$20","v":0},{"$f":"$R$20","v":"1 Right"},{"$f":"$W$20","v":0},{"$f":"$AA$20","v":"1 Right"},{"$f":"$AF$20","v":0},{"$f":"$AJ$20","v":"1 Right"}]
[{"$nulls":37},{"$f":"$B$52","v":0},{"$f":"$H$52","v":"0 Left"},{"$f":"$N$23","v":0},{"$f":"$R$23","v":"2 Right"},{"$f":"$W$23","v":0},{"$f":"$AA$23","v":"2 Right"},{"$f":"$AF$23","v":0},{"$f":"$AJ$23","v":"2 Right"}]
[{"$nulls":37},{"$f":"$B$53","v":0},{"$f":"$H$53","v":"0 Left"},{"$f":"$N$26","v":0},{"$f":"$R$26","v":"3 Right"},{"$f":"$W$26","v":0},{"$f":"$AA$26","v":"3 Right"},{"$f":"$AF$26","v":0},{"$f":"$AJ$26","v":"3 Right"}]
[{"$nulls":37},{"$f":"$B$54","v":0},{"$f":"$H$54","v":"0 Left"},{"$f":"$N$29","v":0},{"$f":"$R$29","v":"4 Right"},{"$f":"$W$29","v":0},{"$f":"$AA$29","v":"4 Right"},{"$f":"$AF$29","v":0},{"$f":"$AJ$29","v":"4 Right"}]
[{"$nulls":37},{"$f":"$B$55","v":0},{"$f":"$H$55","v":"0 Left"},{"$f":"$N$32","v":0},{"$f":"$R$32","v":"5 Right"},{"$f":"$W$32","v":0},{"$f":"$AA$32","v":"5 Right"},{"$f":"$AF$32","v":0},{"$f":"$AJ$32","v":"5 Right"}]
[{"$nulls":37},{"$f":"$B$56","v":0},{"$f":"$H$56","v":"0 Left"},{"$f":"$N$35","v":0},{"$f":"$R$35","v":"6 Right"},{"$f":"$W$35","v":0},{"$f":"$AA$35","v":"6 Right"},{"$f":"$AF$35","v":0},{"$f":"$AJ$35","v":"6 Right"}]
[{"$nulls":37},{"$f":"$B$57","v":0},{"$f":"$H$57","v":"0 Left"},{"$f":"$N$36","v":0},{"$f":"$R$36","v":"0 Right"},{"$f":"$W$36","v":0},{"$f":"$AA$36","v":"0 Right"},{"$f":"$AF$36","v":0},{"$f":"$AJ$36","v":"0 Right"}]
[{"$nulls":37},{"$f":"$B$58","v":0},{"$f":"$H$58","v":"0 Left"},{"$f":"$N$37","v":0},{"$f":"$R$37","v":"0 Right"},{"$f":"$W$37","v":0},{"$f":"$AA$37","v":"0 Right"},{"$f":"$AF$37","v":0},{"$f":"$AJ$37","v":"0 Right"}]
[{"$nulls":37},{"$f":"$B$59","v":0},{"$f":"$H$59","v":"0 Left"},{"$f":"$N$38","v":0},{"$f":"$R$38","v":"0 Right"},{"$f":"$W$38","v":0},{"$f":"$AA$38","v":"0 Right"},{"$f":"$AF$38","v":0},{"$f":"$AJ$38","v":"0 Right"}]
[{"$nulls":37},{"$f":"$E$23","v":0},{"$f":"$I$23","v":"2 Right"},{"$f":"$N$39","v":0},{"$f":"$R$39","v":"0 Right"},{"$f":"$W$39","v":0},{"$f":"$AA$39","v":"0 Right"},{"$f":"$AF$39","v":0},{"$f":"$AJ$39","v":"0 Right"}]
[{"$nulls":37},{"$f":"$E$26","v":0},{"$f":"$I$26","v":"3 Right"},{"$f":"$N$40","v":0},{"$f":"$R$40","v":"0 Right"},{"$f":"$W$40","v":0},{"$f":"$AA$40","v":"0 Right"},{"$f":"$AF$40","v":0},{"$f":"$AJ$40","v":"0 Right"}]
[{"$nulls":37},{"$f":"$E$29","v":0},{"$f":"$I$29","v":"4 Right"},{"$f":"$N$41","v":0},{"$f":"$R$41","v":"0 Right"},{"$f":"$W$41","v":0},{"$f":"$AA$41","v":"0 Right"},{"$f":"$AF$41","v":0},{"$f":"$AJ$41","v":"0 Right"}]
[{"$nulls":37},{"$f":"$E$32","v":0},{"$f":"$I$32","v":"5 Right"},{"$f":"$N$42","v":0},{"$f":"$R$42","v":"0 Right"},{"$f":"$W$42","v":0},{"$f":"$AA$42","v":"0 Right"},{"$f":"$AF$42","v":0},{"$f":"$AJ$42","v":"0 Right"}]
[{"$nulls":37},{"$f":"$E$35","v":0},{"$f":"$I$35","v":"6 Right"},{"$f":"$N$43","v":0},{"$f":"$R$43","v":"0 Right"},{"$f":"$W$43","v":0},{"$f":"$AA$43","v":"0 Right"},{"$f":"$AF$43","v":0},{"$f":"$AJ$43","v":"0 Right"}]
[{"$nulls":37},{"$f":"$E$38","v":0},{"$f":"$I$38","v":"0 Right"},{"$f":"$N$44","v":0},{"$f":"$R$44","v":"0 Right"},{"$f":"$W$44","v":0},{"$f":"$AA$44","v":"0 Right"},{"$f":"$AF$44","v":0},{"$f":"$AJ$44","v":"0 Right"}]
[{"$nulls":37},{"$f":"$E$41","v":0},{"$f":"$I$41","v":"0 Right"},{"$f":"$N$45","v":0},{"$f":"$R$45","v":"0 Right"},{"$f":"$W$45","v":0},{"$f":"$AA$45","v":"0 Right"},{"$f":"$AF$45","v":0},{"$f":"$AJ$45","v":"0 Right"}]
[{"$nulls":37},{"$f":"$E$44","v":0},{"$f":"$I$44","v":"0 Right"},{"$f":"$N$46","v":0},{"$f":"$R$46","v":"0 Right"},{"$f":"$W$46","v":0},{"$f":"$AA$46","v":"0 Right"},{"$f":"$AF$46","v":0},{"$f":"$AJ$46","v":"0 Right"}]
[{"$nulls":37},{"$f":"$E$47","v":0},{"$f":"$I$47","v":"0 Right"},{"$f":"$N$47","v":0},{"$f":"$R$47","v":"0 Right"},{"$f":"$W$47","v":0},{"$f":"$AA$47","v":"0 Right"},{"$f":"$AF$47","v":0},{"$f":"$AJ$47","v":"0 Right"}]
[{"$nulls":37},{"$f":"$E$48","v":0},{"$f":"$I$48","v":"0 Right"},{"$f":"$N$48","v":0},{"$f":"$R$48","v":"0 Right"},{"$f":"$W$48","v":0},{"$f":"$AA$48","v":"0 Right"},{"$f":"$AF$48","v":0},{"$f":"$AJ$48","v":"0 Right"}]
[{"$nulls":37},{"$f":"$E$49","v":0},{"$f":"$I$49","v":"0 Right"},{"$f":"$N$49","v":0},{"$f":"$R$49","v":"0 Right"},{"$f":"$W$49","v":0},{"$f":"$AA$49","v":"0 Right"},{"$f":"$AF$49","v":0},{"$f":"$AJ$49","v":"0 Right"}]
[{"$nulls":37},{"$f":"$E$50","v":0},{"$f":"$I$50","v":"0 Right"},{"$f":"$N$50","v":0},{"$f":"$R$50","v":"0 Right"},{"$f":"$W$50","v":0},{"$f":"$AA$50","v":"0 Right"},{"$f":"$AF$50","v":0},{"$f":"$AJ$50","v":"0 Right"}]
[{"$nulls":37},{"$f":"$E$51","v":0},{"$f":"$I$51","v":"0 Right"},{"$f":"$N$51","v":0},{"$f":"$R$51","v":"0 Right"},{"$f":"$W$51","v":0},{"$f":"$AA$51","v":"0 Right"},{"$f":"$AF$51","v":0},{"$f":"$AJ$51","v":"0 Right"}]
[{"$nulls":37},{"$f":"$E$52","v":0},{"$f":"$I$52","v":"0 Right"},{"$f":"$N$52","v":0},{"$f":"$R$52","v":"0 Right"},{"$f":"$W$52","v":0},{"$f":"$AA$52","v":"0 Right"},{"$f":"$AF$52","v":0},{"$f":"$AJ$52","v":"0 Right"}]
[{"$nulls":37},{"$f":"$E$53","v":0},{"$f":"$I$53","v":"0 Right"},{"$f":"$N$53","v":0},{"$f":"$R$53","v":"0 Right"},{"$f":"$W$53","v":0},{"$f":"$AA$53","v":"0 Right"},{"$f":"$AF$53","v":0},{"$f":"$AJ$53","v":"0 Right"}]
[{"$nulls":37},{"$f":"$E$54","v":0},{"$f":"$I$54","v":"0 Right"},{"$f":"$N$54","v":0},{"$f":"$R$54","v":"0 Right"},{"$f":"$W$54","v":0},{"$f":"$AA$54","v":"0 Right"},{"$f":"$AF$54","v":0},{"$f":"$AJ$54","v":"0 Right"}]
[{"$nulls":37},{"$f":"$E$55","v":0},{"$f":"$I$55","v":"0 Right"},{"$f":"$N$55","v":0},{"$f":"$R$55","v":"0 Right"},{"$f":"$W$55","v":0},{"$f":"$AA$55","v":"0 Right"},{"$f":"$AF$55","v":0},{"$f":"$AJ$55","v":"0 Right"}]
[{"$nulls":37},{"$f":"$E$56","v":0},{"$f":"$I$56","v":"0 Right"},{"$f":"$N$56","v":0},{"$f":"$R$56","v":"0 Right"},{"$f":"$W$56","v":0},{"$f":"$AA$56","v":"0 Right"},{"$f":"$AF$56","v":0},{"$f":"$AJ$56","v":"0 Right"}]
[{"$nulls":37},{"$f":"$E$57","v":0},{"$f":"$I$57","v":"0 Right"},{"$f":"$N$57","v":0},{"$f":"$R$57","v":"0 Right"},{"$f":"$W$57","v":0},{"$f":"$AA$57","v":"0 Right"},{"$f":"$AF$57","v":0},{"$f":"$AJ$57","v":"0 Right"}]
[{"$nulls":37},{"$f":"$E$58","v":0},{"$f":"$I$58","v":"0 Right"},{"$f":"$N$58","v":0},{"$f":"$R$58","v":"0 Right"},{"$f":"$W$58","v":0},{"$f":"$AA$58","v":"0 Right"},{"$f":"$AF$58","v":0},{"$f":"$AJ$58","v":"0 Right"}]
[{"$nulls":37},{"$f":"$E$59","v":0},{"$f":"$I$59","v":"0 Right"},{"$f":"$N$59","v":0},{"$f":"$R$59","v":"0 Right"},{"$f":"$W$59","v":0},{"$f":"$AA$59","v":"0 Right"},{"$f":"$AF$59","v":0},{"$f":"$AJ$59","v":"0 Right"}]

{"sheet":"26","index":11,"n_rows":101,"n_cols":45,"rows_kept":101,"hidden":true,"merged":[[0,1,0,14],[1,1,1,2],[1,3,1,4],[1,5,1,6],[1,7,1,8],[1,9,1,10],[1,11,1,12],[2,0,4,0],[5,0,7,0],[8,0,10,0],[11,0,13,0],[14,1,14,12],[15,1,15,6],[15,10,15,15],[15,19,15,24],[15,28,15,33],[16,37,16,38],[16,39,16,40],[16,41,16,42],[16,43,16,44]]}
[null,"YOU MAY CHANGE THESE RINK NUMBERS IF YOU WISH"]
["Round",1,1,2,2,3,3,4,4,5,5,6,6]
[1,1,2,3,4,5,6,7,8,9,10,11,12]
[null,14,15,16,17,18,19,20,21,22,23,24,25]
[null,13,26]
[2,5,7,1,10,2,11,3,12,4,13,6,9]
[null,16,18,26,21,25,22,14,23,15,24,17,20]
[null,8,19]
[3,3,6,5,13,1,10,2,11,7,12,4,8]
[null,17,20,19,25,15,24,16,26,21,14,18,22]
[null,9,23]
[4,10,11,6,9,3,8,1,12,2,5,7,13]
[null,22,21,14,16,20,17,18,24,19,26,15,23]
[null,4,25]
[null,"26 on 1 green"]
[null,1,{"$nulls":8},2,{"$nulls":8},3,{"$nulls":8},4]
[null,"no","Left","rink","no","Right","rink","L","R",null,"no","Left","rink","no","Right","rink","L","R",null,"no","Left","rink","no","Right","rink","L","R",null,"no","Left","rink","no","Right","rink","L","R",null,1,null,2,null,3,null,4]
[null,1,"Left",{"$f":"$B$2","v":1},2,"Right",{"$f":"$B$2","v":1},{"$f":"(D18&\" \"&C18)","v":"1 Left"},{"$f":"(G18&\" \"&F18)","v":"1 Right"},null,5,"Left",{"$f":"$B$2","v":1},7,"Right",{"$f":"$B$2","v":1},{"$f":"(M18&\" \"&L18)","v":"1 Left"},{"$f":"(P18&\" \"&O18)","v":"1 Right"},null,3,"Left",{"$f":"$B$2","v":1},6,"Right",{"$f":"$B$2","v":1},{"$f":"(V18&\" \"&U18)","v":"1 Left"},{"$f":"(Y18&\" \"&X18)","v":"1 Right"},null,10,"Left",{"$f":"$B$2","v":1},11,"Right",{"$f":"$B$2","v":1},{"$f":"(AE18&\" \"&AD18)","v":"1 Left"},{"$f":"(AH18&\" \"&AG18)","v":"1 Right"}]
[null,14,"Left",{"$f":"$B$2","v":1},15,"Right",{"$f":"$B$2","v":1},{"$f":"(D19&\" \"&C19)","v":"1 Left"},{"$f":"(G19&\" \"&F19)","v":"1 Right"},null,16,"Left",{"$f":"$B$2","v":1},18,"Right",{"$f":"$B$2","v":1},{"$f":"(M19&\" \"&L19)","v":"1 Left"},{"$f":"(P19&\" \"&O19)","v":"1 Right"},null,17,"Left",{"$f":"$B$2","v":1},20,"Right",{"$f":"$B$2","v":1},{"$f":"(V19&\" \"&U19)","v":"1 Left"},{"$f":"(Y19&\" \"&X19)","v":"1 Right"},null,22,"Left",{"$f":"$B$2","v":1},21,"Right",{"$f":"$B$2","v":1},{"$f":"(AE19&\" \"&AD19)","v":"1 Left"},{"$f":"(AH19&\" \"&AG19)","v":"1 Right"}]
[null,13,"Left",{"$f":"$B$2","v":1},26,"Right",{"$f":"$B$2","v":1},"1 Left","1 Right",null,8,"Left",{"$f":"$B$2","v":1},19,"Right",{"$f":"$B$2","v":1},"1 Left","1 Right",null,9,"Left",{"$f":"$B$2","v":1},23,"Right",{"$f":"$B$2","v":1},"1 Left","1 Right",null,4,"Left",{"$f":"$B$2","v":1},25,"Right",{"$f":"$B$2","v":1},"1 Left","1 Right"]
[null,3,"Left",{"$f":"$D$2","v":2},4,"Right",{"$f":"$D$2","v":2},"2 Left","2 Right",null,1,"Left",{"$f":"$D$2","v":2},10,"Right",{"$f":"$D$2","v":2},"2 Left","2 Right",null,5,"Left",{"$f":"$D$2","v":2},13,"Right",{"$f":"$D$2","v":2},"2 Left","2 Right",null,6,"Left",{"$f":"$D$2","v":2},9,"Right",{"$f":"$D$2","v":2},"2 Left","2 Right"]
[null,16,"Left",{"$f":"$D$2","v":2},17,"Right",{"$f":"$D$2","v":2},"2 Left","2 Right",null,26,"Left",{"$f":"$D$2","v":2},21,"Right",{"$f":"$D$2","v":2},"2 Left","2 Right",null,19,"Left",{"$f":"$D$2","v":2},25,"Right",{"$f":"$D$2","v":2},"2 Left","2 Right",null,14,"Left",{"$f":"$D$2","v":2},16,"Right",{"$f":"$D$2","v":2},"2 Left","2 Right"]
[null,null,"Left",{"$f":"$D$2","v":2},null,"Right",{"$f":"$D$2","v":2},"2 Left","2 Right",null,null,"Left",{"$f":"$D$2","v":2},null,"Right",{"$f":"$D$2","v":2},"2 Left","2 Right",null,null,"Left",{"$f":"$D$2","v":2},null,"Right",{"$f":"$D$2","v":2},"2 Left","2 Right",null,null,"Left",{"$f":"$D$2","v":2},null,"Right",{"$f":"$D$2","v":2},"2 Left","2 Right"]
[null,5,"Left",{"$f":"$F$2","v":3},6,"Right",{"$f":"$F$2","v":3},"3 Left","3 Right",null,2,"Left",{"$f":"$F$2","v":3},11,"Right",{"$f":"$F$2","v":3},"3 Left","3 Right",null,1,"Left",{"$f":"$F$2","v":3},10,"Right",{"$f":"$F$2","v":3},"3 Left","3 Right",null,3,"Left",{"$f":"$F$2","v":3},8,"Right",{"$f":"$F$2","v":3},"3 Left","3 Right"]
[null,18,"Left",{"$f":"$F$2","v":3},19,"Right",{"$f":"$F$2","v":3},"3 Left","3 Right",null,25,"Left",{"$f":"$F$2","v":3},22,"Right",{"$f":"$F$2","v":3},"3 Left","3 Right",null,15,"Left",{"$f":"$F$2","v":3},24,"Right",{"$f":"$F$2","v":3},"3 Left","3 Right",null,20,"Left",{"$f":"$F$2","v":3},17,"Right",{"$f":"$F$2","v":3},"3 Left","3 Right"]
[null,null,"Left",{"$f":"$F$2","v":3},null,"Right",{"$f":"$F$2","v":3},"3 Left","3 Right",null,null,"Left",{"$f":"$F$2","v":3},null,"Right",{"$f":"$F$2","v":3},"3 Left","3 Right",null,null,"Left",{"$f":"$F$2","v":3},null,"Right",{"$f":"$F$2","v":3},"3 Left","3 Right",null,null,"Left",{"$f":"$F$2","v":3},null,"Right",{"$f":"$F$2","v":3},"3 Left","3 Right"]
[null,7,"Left",{"$f":"$H$2","v":4},8,"Right",{"$f":"$H$2","v":4},"4 Left","4 Right",null,3,"Left",{"$f":"$H$2","v":4},12,"Right",{"$f":"$H$2","v":4},"4 Left","4 Right",null,2,"Left",{"$f":"$H$2","v":4},11,"Right",{"$f":"$H$2","v":4},"4 Left","4 Right",null,1,"Left",{"$f":"$H$2","v":4},12,"Right",{"$f":"$H$2","v":4},"4 Left","4 Right"]
[null,20,"Left",{"$f":"$H$2","v":4},21,"Right",{"$f":"$H$2","v":4},"4 Left","4 Right",null,14,"Left",{"$f":"$H$2","v":4},23,"Right",{"$f":"$H$2","v":4},"4 Left","4 Right",null,16,"Left",{"$f":"$H$2","v":4},26,"Right",{"$f":"$H$2","v":4},"4 Left","4 Right",null,18,"Left",{"$f":"$H$2","v":4},24,"Right",{"$f":"$H$2","v":4},"4 Left","4 Right"]
[null,null,"Left",4,null,"Right",4,"4 Left","4 Right",null,null,"Left",4,null,"Right",4,"4 Left","4 Right",null,null,"Left",4,null,"Right",4,"4 Left","4 Right",null,null,"Left",4,null,"Right",4,"4 Left","4 Right"]
[null,9,"Left",{"$f":"$J$2","v":5},10,"Right",{"$f":"$J$2","v":5},"5 Left","5 Right",null,4,"Left",{"$f":"$J$2","v":5},13,"Right",{"$f":"$J$2","v":5},"5 Left","5 Right",null,7,"Left",{"$f":"$J$2","v":5},12,"Right",{"$f":"$J$2","v":5},"5 Left","5 Right",null,2,"Left",{"$f":"$J$2","v":5},5,"Right",{"$f":"$J$2","v":5},"5 Left","5 Right"]
[null,22,"Left",{"$f":"$J$2","v":5},23,"Right",{"$f":"$J$2","v":5},"5 Left","5 Right",null,15,"Left",{"$f":"$J$2","v":5},24,"Right",{"$f":"$J$2","v":5},"5 Left","5 Right",null,21,"Left",{"$f":"$J$2","v":5},14,"Right",{"$f":"$J$2","v":5},"5 Left","5 Right",null,19,"Left",{"$f":"$J$2","v":5},26,"Right",{"$f":"$J$2","v":5},"5 Left","5 Right"]
[null,null,"Left",5,null,"Right",5,"5 Left","5 Right",null,null,"Left",5,null,"Right",5,"5 Left","5 Right",null,null,"Left",5,null,"Right",5,"5 Left","5 Right",null,null,"Left",5,null,"Right",5,"5 Left","5 Right"]
[null,11,"Left",{"$f":"$L$2","v":6},12,"Right",{"$f":"$L$2","v":6},"6 Left","6 Right",null,6,"Left",{"$f":"$L$2","v":6},9,"Right",{"$f":"$L$2","v":6},"6 Left","6 Right",null,4,"Left",{"$f":"$L$2","v":6},8,"Right",{"$f":"$L$2","v":6},"6 Left","6 Right",null,7,"Left",{"$f":"$L$2","v":6},13,"Right",{"$f":"$L$2","v":6},"6 Left","6 Right"]
[null,24,"Left",{"$f":"$L$2","v":6},25,"Right",{"$f":"$L$2","v":6},"6 Left","6 Right",null,17,"Left",{"$f":"$L$2","v":6},20,"Right",{"$f":"$L$2","v":6},"6 Left","6 Right",null,18,"Left",{"$f":"$L$2","v":6},22,"Right",{"$f":"$L$2","v":6},"6 Left","6 Right",null,15,"Left",{"$f":"$L$2","v":6},23,"Right",{"$f":"$L$2","v":6},"6 Left","6 Right"]
[null,null,"Left",6,null,"Right",6,"6 Left","6 Right",null,null,"Left",6,null,"Right",6,"6 Left","6 Right",null,null,"Left",6,null,"Right",6,"6 Left","6 Right",null,null,"Left",6,null,"Right",6,"6 Left","6 Right"]
[null,null,"Left",{"$f":"$N$2","v":0},null,"Right",{"$f":"$N$2","v":0},"0 Left","0 Right",null,null,"Left",{"$f":"$N$2","v":0},null,"Right",{"$f":"$N$2","v":0},"0 Left","0 Right",null,null,"Left",{"$f":"$N$2","v":0},null,"Right",{"$f":"$N$2","v":0},"0 Left","0 Right",null,null,"Left",{"$f":"$N$2","v":0},null,"Right",{"$f":"$N$2","v":0},"0 Left","0 Right"]
[null,null,"Left",{"$f":"$N$2","v":0},null,"Right",{"$f":"$N$2","v":0},"0 Left","0 Right",null,null,"Left",{"$f":"$N$2","v":0},null,"Right",{"$f":"$N$2","v":0},"0 Left","0 Right",null,null,"Left",{"$f":"$N$2","v":0},null,"Right",{"$f":"$N$2","v":0},"0 Left","0 Right",null,null,"Left",{"$f":"$N$2","v":0},null,"Right",{"$f":"$N$2","v":0},"0 Left","0 Right"]
[null,null,"Left",0,null,"Right",0,"0 Left","0 Right",null,null,"Left",0,null,"Right",0,"0 Left","0 Right",null,null,"Left",0,null,"Right",0,"0 Left","0 Right",null,null,"Left",0,null,"Right",0,"0 Left","0 Right"]
[null,null,"Left",{"$f":"$P$2","v":0},null,"Right",{"$f":"$P$2","v":0},"0 Left","0 Right",null,null,"Left",{"$f":"$P$2","v":0},null,"Right",{"$f":"$P$2","v":0},"0 Left","0 Right",null,null,"Left",{"$f":"$P$2","v":0},null,"Right",{"$f":"$P$2","v":0},"0 Left","0 Right",null,null,"Left",{"$f":"$P$2","v":0},null,"Right",{"$f":"$P$2","v":0},"0 Left","0 Right"]
[null,null,"Left",{"$f":"$P$2","v":0},null,"Right",{"$f":"$P$2","v":0},"0 Left","0 Right",null,null,"Left",{"$f":"$P$2","v":0},null,"Right",{"$f":"$P$2","v":0},"0 Left","0 Right",null,null,"Left",{"$f":"$P$2","v":0},null,"Right",{"$f":"$P$2","v":0},"0 Left","0 Right",null,null,"Left",{"$f":"$P$2","v":0},null,"Right",{"$f":"$P$2","v":0},"0 Left","0 Right"]
[null,null,"Left",0,null,"Right",0,"0 Left","0 Right",null,null,"Left",0,null,"Right",0,"0 Left","0 Right",null,null,"Left",0,null,"Right",0,"0 Left","0 Right",null,null,"Left",0,null,"Right",0,"0 Left","0 Right"]
[null,null,"Left",{"$f":"$R$2","v":0},null,"Right",{"$f":"$R$2","v":0},"0 Left","0 Right",null,null,"Left",{"$f":"$R$2","v":0},null,"Right",{"$f":"$R$2","v":0},"0 Left","0 Right",null,null,"Left",{"$f":"$R$2","v":0},null,"Right",{"$f":"$R$2","v":0},"0 Left","0 Right",null,null,"Left",{"$f":"$R$2","v":0},null,"Right",{"$f":"$R$2","v":0},"0 Left","0 Right"]
[null,null,"Left",{"$f":"$R$2","v":0},null,"Right",{"$f":"$R$2","v":0},"0 Left","0 Right",null,null,"Left",{"$f":"$R$2","v":0},null,"Right",{"$f":"$R$2","v":0},"0 Left","0 Right",null,null,"Left",{"$f":"$R$2","v":0},null,"Right",{"$f":"$R$2","v":0},"0 Left","0 Right",null,null,"Left",{"$f":"$R$2","v":0},null,"Right",{"$f":"$R$2","v":0},"0 Left","0 Right"]
[null,null,"Left",0,null,"Right",0,"0 Left","0 Right",null,null,"Left",0,null,"Right",0,"0 Left","0 Right",null,null,"Left",0,null,"Right",0,"0 Left","0 Right",null,null,"Left",0,null,"Right",0,"0 Left","0 Right",null,{"$f":"$B$36","v":0},{"$f":"$H$36","v":"0 Left"},{"$f":"$K$23","v":0},{"$f":"$Q$23","v":"2 Left"},{"$f":"$T$23","v":0},{"$f":"$Z$23","v":"2 Left"},{"$f":"$AC$23","v":0},{"$f":"$AI$23","v":"2 Left"}]
[null,null,"Left",{"$f":"$T$2","v":0},null,"Right",{"$f":"$T$2","v":0},"0 Left","0 Right",null,null,"Left",{"$f":"$T$2","v":0},null,"Right",{"$f":"$T$2","v":0},"0 Left","0 Right",null,null,"Left",{"$f":"$T$2","v":0},null,"Right",{"$f":"$T$2","v":0},"0 Left","0 Right",null,null,"Left",{"$f":"$T$2","v":0},null,"Right",{"$f":"$T$2","v":0},"0 Left","0 Right",null,{"$f":"$E$36","v":0},{"$f":"$I$36","v":"0 Right"},{"$f":"$K$26","v":0},{"$f":"$Q$26","v":"3 Left"},{"$f":"$T$26","v":0},{"$f":"$Z$26","v":"3 Left"},{"$f":"$AC$26","v":0},{"$f":"$AI$26","v":"3 Left"}]
[null,null,"Left",{"$f":"$T$2","v":0},null,"Right",{"$f":"$T$2","v":0},"0 Left","0 Right",null,null,"Left",{"$f":"$T$2","v":0},null,"Right",{"$f":"$T$2","v":0},"0 Left","0 Right",null,null,"Left",{"$f":"$T$2","v":0},null,"Right",{"$f":"$T$2","v":0},"0 Left","0 Right",null,null,"Left",{"$f":"$T$2","v":0},null,"Right",{"$f":"$T$2","v":0},"0 Left","0 Right",null,{"$f":"$B$39","v":0},{"$f":"$H$39","v":"0 Left"},{"$f":"$K$29","v":0},{"$f":"$Q$29","v":"4 Left"},{"$f":"$T$29","v":0},{"$f":"$Z$29","v":"4 Left"},{"$f":"$AC$29","v":0},{"$f":"$AI$29","v":"4 Left"}]
[null,null,"Left",0,null,"Right",0,"0 Left","0 Right",null,null,"Left",0,null,"Right",0,"0 Left","0 Right",null,null,"Left",0,null,"Right",0,"0 Left","0 Right",null,null,"Left",0,null,"Right",0,"0 Left","0 Right",null,{"$f":"$E$39","v":0},{"$f":"$I$39","v":"0 Right"},{"$f":"$K$32","v":0},{"$f":"$Q$32","v":"5 Left"},{"$f":"$T$32","v":0},{"$f":"$Z$32","v":"5 Left"},{"$f":"$AC$32","v":0},{"$f":"$AI$32","v":"5 Left"}]
[null,null,"Left",{"$f":"$V$2","v":0},null,"Right",{"$f":"$V$2","v":0},"0 Left","0 Right",null,null,"Left",{"$f":"$V$2","v":0},null,"Right",{"$f":"$V$2","v":0},"0 Left","0 Right",null,null,"Left",{"$f":"$V$2","v":0},null,"Right",{"$f":"$V$2","v":0},"0 Left","0 Right",null,null,"Left",{"$f":"$V$2","v":0},null,"Right",{"$f":"$V$2","v":0},"0 Left","0 Right",null,{"$f":"$B$42","v":0},{"$f":"$H$42","v":"0 Left"},{"$f":"$K$35","v":0},{"$f":"$Q$35","v":"6 Left"},{"$f":"$T$35","v":0},{"$f":"$Z$35","v":"6 Left"},{"$f":"$AC$35","v":0},{"$f":"$AI$35","v":"6 Left"}]
[null,null,"Left",{"$f":"$V$2","v":0},null,"Right",{"$f":"$V$2","v":0},"0 Left","0 Right",null,null,"Left",{"$f":"$V$2","v":0},null,"Right",{"$f":"$V$2","v":0},"0 Left","0 Right",null,null,"Left",{"$f":"$V$2","v":0},null,"Right",{"$f":"$V$2","v":0},"0 Left","0 Right",null,null,"Left",{"$f":"$V$2","v":0},null,"Right",{"$f":"$V$2","v":0},"0 Left","0 Right",null,{"$f":"$E$42","v":0},{"$f":"$I$42","v":"0 Right"},{"$f":"$K$36","v":0},{"$f":"$Q$36","v":"0 Left"},{"$f":"$T$36","v":0},{"$f":"$Z$36","v":"0 Left"},{"$f":"$AC$36","v":0},{"$f":"$AI$36","v":"0 Left"}]
[null,null,"Left",0,null,"Right",0,"0 Left","0 Right",null,null,"Left",0,null,"Right",0,"0 Left","0 Right",null,null,"Left",0,null,"Right",0,"0 Left","0 Right",null,null,"Left",0,null,"Right",0,"0 Left","0 Right",null,{"$f":"$B$45","v":0},{"$f":"$H$45","v":"0 Left"},{"$f":"$K$37","v":0},{"$f":"$Q$37","v":"0 Left"},{"$f":"$T$37","v":0},{"$f":"$Z$37","v":"0 Left"},{"$f":"$AC$37","v":0},{"$f":"$AI$37","v":"0 Left"}]
[null,null,"Left",{"$f":"$X$2","v":0},null,"Right",{"$f":"$X$2","v":0},"0 Left","0 Right",null,null,"Left",{"$f":"$X$2","v":0},null,"Right",{"$f":"$X$2","v":0},"0 Left","0 Right",null,null,"Left",{"$f":"$X$2","v":0},null,"Right",{"$f":"$X$2","v":0},"0 Left","0 Right",null,null,"Left",{"$f":"$X$2","v":0},null,"Right",{"$f":"$X$2","v":0},"0 Left","0 Right",null,{"$f":"$E$45","v":0},{"$f":"$I$45","v":"0 Right"},{"$f":"$K$38","v":0},{"$f":"$Q$38","v":"0 Left"},{"$f":"$T$38","v":0},{"$f":"$Z$38","v":"0 Left"},{"$f":"$AC$38","v":0},{"$f":"$AI$38","v":"0 Left"}]
[null,null,"Left",{"$f":"$X$2","v":0},null,"Right",{"$f":"$X$2","v":0},"0 Left","0 Right",null,null,"Left",{"$f":"$X$2","v":0},null,"Right",{"$f":"$X$2","v":0},"0 Left","0 Right",null,null,"Left",{"$f":"$X$2","v":0},null,"Right",{"$f":"$X$2","v":0},"0 Left","0 Right",null,null,"Left",{"$f":"$X$2","v":0},null,"Right",{"$f":"$X$2","v":0},"0 Left","0 Right",null,{"$f":"$B$37","v":0},{"$f":"$H$37","v":"0 Left"},{"$f":"$K$39","v":0},{"$f":"$Q$39","v":"0 Left"},{"$f":"$T$39","v":0},{"$f":"$Z$39","v":"0 Left"},{"$f":"$AC$39","v":0},{"$f":"$AI$39","v":"0 Left"}]
[null,null,"Left",0,null,"Right",0,"0 Left","0 Right",null,null,"Left",0,null,"Right",0,"0 Left","0 Right",null,null,"Left",0,null,"Right",0,"0 Left","0 Right",null,null,"Left",0,null,"Right",0,"0 Left","0 Right",null,{"$f":"$E$37","v":0},{"$f":"$I$37","v":"0 Right"},{"$f":"$K$40","v":0},{"$f":"$Q$40","v":"0 Left"},{"$f":"$T$40","v":0},{"$f":"$Z$40","v":"0 Left"},{"$f":"$AC$40","v":0},{"$f":"$AI$40","v":"0 Left"}]
[null,null,"Left",{"$f":"$Z$2","v":0},null,"Right",{"$f":"$Z$2","v":0},"0 Left","0 Right",null,null,"Left",{"$f":"$Z$2","v":0},null,"Right",{"$f":"$Z$2","v":0},"0 Left","0 Right",null,null,"Left",{"$f":"$Z$2","v":0},null,"Right",{"$f":"$Z$2","v":0},"0 Left","0 Right",null,null,"Left",{"$f":"$Z$2","v":0},null,"Right",{"$f":"$Z$2","v":0},"0 Left","0 Right",null,{"$f":"$B$40","v":0},{"$f":"$H$40","v":"0 Left"},{"$f":"$K$41","v":0},{"$f":"$Q$41","v":"0 Left"},{"$f":"$T$41","v":0},{"$f":"$Z$41","v":"0 Left"},{"$f":"$AC$41","v":0},{"$f":"$AI$41","v":"0 Left"}]
[null,null,"Left",{"$f":"$Z$2","v":0},null,"Right",{"$f":"$Z$2","v":0},"0 Left","0 Right",null,null,"Left",{"$f":"$Z$2","v":0},null,"Right",{"$f":"$Z$2","v":0},"0 Left","0 Right",null,null,"Left",{"$f":"$Z$2","v":0},null,"Right",{"$f":"$Z$2","v":0},"0 Left","0 Right",null,null,"Left",{"$f":"$Z$2","v":0},null,"Right",{"$f":"$Z$2","v":0},"0 Left","0 Right",null,{"$f":"$E$40","v":0},{"$f":"$I$40","v":"0 Right"},{"$f":"$K$42","v":0},{"$f":"$Q$42","v":"0 Left"},{"$f":"$T$42","v":0},{"$f":"$Z$42","v":"0 Left"},{"$f":"$AC$42","v":0},{"$f":"$AI$42","v":"0 Left"}]
[null,null,"Left",0,null,"Right",0,"0 Left","0 Right",null,null,"Left",0,null,"Right",0,"0 Left","0 Right",null,null,"Left",0,null,"Right",0,"0 Left","0 Right",null,null,"Left",0,null,"Right",0,"0 Left","0 Right",null,{"$f":"$B$43","v":0},{"$f":"$H$43","v":"0 Left"},{"$f":"$K$43","v":0},{"$f":"$Q$43","v":"0 Left"},{"$f":"$T$43","v":0},{"$f":"$Z$43","v":"0 Left"},{"$f":"$AC$43","v":0},{"$f":"$AI$43","v":"0 Left"}]
[null,null,"Left",{"$f":"$AB$2","v":0},null,"Right",{"$f":"$AB$2","v":0},"0 Left","0 Right",null,null,"Left",{"$f":"$AB$2","v":0},null,"Right",{"$f":"$AB$2","v":0},"0 Left","0 Right",null,null,"Left",{"$f":"$AB$2","v":0},null,"Right",{"$f":"$AB$2","v":0},"0 Left","0 Right",null,null,"Left",{"$f":"$AB$2","v":0},null,"Right",{"$f":"$AB$2","v":0},"0 Left","0 Right",null,{"$f":"$E$43","v":0},{"$f":"$I$43","v":"0 Right"},{"$f":"$K$44","v":0},{"$f":"$Q$44","v":"0 Left"},{"$f":"$T$44","v":0},{"$f":"$Z$44","v":"0 Left"},{"$f":"$AC$44","v":0},{"$f":"$AI$44","v":"0 Left"}]
[null,null,"Left",{"$f":"$AB$2","v":0},null,"Right",{"$f":"$AB$2","v":0},"0 Left","0 Right",null,null,"Left",{"$f":"$AB$2","v":0},null,"Right",{"$f":"$AB$2","v":0},"0 Left","0 Right",null,null,"Left",{"$f":"$AB$2","v":0},null,"Right",{"$f":"$AB$2","v":0},"0 Left","0 Right",null,null,"Left",{"$f":"$AB$2","v":0},null,"Right",{"$f":"$AB$2","v":0},"0 Left","0 Right",null,{"$f":"$B$46","v":0},{"$f":"$H$46","v":"0 Left"},{"$f":"$K$45","v":0},{"$f":"$Q$45","v":"0 Left"},{"$f":"$T$45","v":0},{"$f":"$Z$45","v":"0 Left"},{"$f":"$AC$45","v":0},{"$f":"$AI$45","v":"0 Left"}]
[null,null,"Left",0,null,"Right",0,"0 Left","0 Right",null,null,"Left",0,null,"Right",0,"0 Left","0 Right",null,null,"Left",0,null,"Right",0,"0 Left","0 Right",null,null,"Left",0,null,"Right",0,"0 Left","0 Right",null,{"$f":"$E$46","v":0},{"$f":"$I$46","v":"0 Right"},{"$f":"$K$46","v":0},{"$f":"$Q$46","v":"0 Left"},{"$f":"$T$46","v":0},{"$f":"$Z$46","v":"0 Left"},{"$f":"$AC$46","v":0},{"$f":"$AI$46","v":"0 Left"}]
[{"$nulls":37},{"$f":"$B$23","v":0},{"$f":"$H$23","v":"2 Left"},{"$f":"$K$47","v":0},{"$f":"$Q$47","v":"0 Left"},{"$f":"$T$47","v":0},{"$f":"$Z$47","v":"0 Left"},{"$f":"$AC$47","v":0},{"$f":"$AI$47","v":"0 Left"}]
[{"$nulls":37},{"$f":"$B$26","v":0},{"$f":"$H$26","v":"3 Left"},{"$f":"$K$48","v":0},{"$f":"$Q$48","v":"0 Left"},{"$f":"$T$48","v":0},{"$f":"$Z$48","v":"0 Left"},{"$f":"$AC$48","v":0},{"$f":"$AI$48","v":"0 Left"}]
[{"$nulls":37},{"$f":"$B$29","v":0},{"$f":"$H$29","v":"4 Left"},{"$f":"$K$49","v":0},{"$f":"$Q$49","v":"0 Left"},{"$f":"$T$49","v":0},{"$f":"$Z$49","v":"0 Left"},{"$f":"$AC$49","v":0},{"$f":"$AI$49","v":"0 Left"}]
[{"$nulls":37},{"$f":"$B$32","v":0},{"$f":"$H$32","v":"5 Left"},{"$f":"$K$50","v":0},{"$f":"$Q$50","v":"0 Left"},{"$f":"$T$50","v":0},{"$f":"$Z$50","v":"0 Left"},{"$f":"$AC$50","v":0},{"$f":"$AI$50","v":"0 Left"}]
[{"$nulls":37},{"$f":"$B$35","v":0},{"$f":"$H$35","v":"6 Left"},{"$f":"$K$51","v":0},{"$f":"$Q$51","v":"0 Left"},{"$f":"$T$51","v":0},{"$f":"$Z$51","v":"0 Left"},{"$f":"$AC$51","v":0},{"$f":"$AI$51","v":"0 Left"}]
[{"$nulls":37},{"$f":"$B$38","v":0},{"$f":"$H$38","v":"0 Left"},{"$f":"$K$52","v":0},{"$f":"$Q$52","v":"0 Left"},{"$f":"$T$52","v":0},{"$f":"$Z$52","v":"0 Left"},{"$f":"$AC$52","v":0},{"$f":"$AI$52","v":"0 Left"}]
[{"$nulls":37},{"$f":"$B$41","v":0},{"$f":"$H$41","v":"0 Left"},{"$f":"$K$53","v":0},{"$f":"$Q$53","v":"0 Left"},{"$f":"$T$53","v":0},{"$f":"$Z$53","v":"0 Left"},{"$f":"$AC$53","v":0},{"$f":"$AI$53","v":"0 Left"}]
[{"$nulls":37},{"$f":"$B$44","v":0},{"$f":"$H$44","v":"0 Left"},{"$f":"$K$54","v":0},{"$f":"$Q$54","v":"0 Left"},{"$f":"$T$54","v":0},{"$f":"$Z$54","v":"0 Left"},{"$f":"$AC$54","v":0},{"$f":"$AI$54","v":"0 Left"}]
[{"$nulls":37},{"$f":"$B$47","v":0},{"$f":"$H$47","v":"0 Left"},{"$f":"$K$55","v":0},{"$f":"$Q$55","v":"0 Left"},{"$f":"$T$55","v":0},{"$f":"$Z$55","v":"0 Left"},{"$f":"$AC$55","v":0},{"$f":"$AI$55","v":"0 Left"}]
[{"$nulls":37},{"$f":"$B$48","v":0},{"$f":"$H$48","v":"0 Left"},{"$f":"$K$56","v":0},{"$f":"$Q$56","v":"0 Left"},{"$f":"$T$56","v":0},{"$f":"$Z$56","v":"0 Left"},{"$f":"$AC$56","v":0},{"$f":"$AI$56","v":"0 Left"}]
[{"$nulls":37},{"$f":"$B$49","v":0},{"$f":"$H$49","v":"0 Left"},{"$f":"$K$57","v":0},{"$f":"$Q$57","v":"0 Left"},{"$f":"$T$57","v":0},{"$f":"$Z$57","v":"0 Left"},{"$f":"$AC$57","v":0},{"$f":"$AI$57","v":"0 Left"}]
[{"$nulls":37},{"$f":"$B$50","v":0},{"$f":"$H$50","v":"0 Left"},{"$f":"$K$58","v":0},{"$f":"$Q$58","v":"0 Left"},{"$f":"$T$58","v":0},{"$f":"$Z$58","v":"0 Left"},{"$f":"$AC$58","v":0},{"$f":"$AI$58","v":"0 Left"}]
[{"$nulls":37},{"$f":"$B$51","v":0},{"$f":"$H$51","v":"0 Left"},{"$f":"$K$59","v":0},{"$f":"$Q$59","v":"0 Left"},{"$f":"$T$59","v":0},{"$f":"$Z$59","v":"0 Left"},{"$f":"$AC$59","v":0},{"$f":"$AI$59","v":"0 Left"}]
[{"$nulls":37},{"$f":"$B$52","v":0},{"$f":"$H$52","v":"0 Left"},{"$f":"$N$23","v":0},{"$f":"$R$23","v":"2 Right"},{"$f":"$W$23","v":0},{"$f":"$AA$23","v":"2 Right"},{"$f":"$AF$23","v":0},{"$f":"$AJ$23","v":"2 Right"}]
[{"$nulls":37},{"$f":"$B$53","v":0},{"$f":"$H$53","v":"0 Left"},{"$f":"$N$26","v":0},{"$f":"$R$26","v":"3 Right"},{"$f":"$W$26","v":0},{"$f":"$AA$26","v":"3 Right"},{"$f":"$AF$26","v":0},{"$f":"$AJ$26","v":"3 Right"}]
[{"$nulls":37},{"$f":"$B$54","v":0},{"$f":"$H$54","v":"0 Left"},{"$f":"$N$29","v":0},{"$f":"$R$29","v":"4 Right"},{"$f":"$W$29","v":0},{"$f":"$AA$29","v":"4 Right"},{"$f":"$AF$29","v":0},{"$f":"$AJ$29","v":"4 Right"}]
[{"$nulls":37},{"$f":"$B$55","v":0},{"$f":"$H$55","v":"0 Left"},{"$f":"$N$32","v":0},{"$f":"$R$32","v":"5 Right"},{"$f":"$W$32","v":0},{"$f":"$AA$32","v":"5 Right"},{"$f":"$AF$32","v":0},{"$f":"$AJ$32","v":"5 Right"}]
[{"$nulls":37},{"$f":"$B$56","v":0},{"$f":"$H$56","v":"0 Left"},{"$f":"$N$35","v":0},{"$f":"$R$35","v":"6 Right"},{"$f":"$W$35","v":0},{"$f":"$AA$35","v":"6 Right"},{"$f":"$AF$35","v":0},{"$f":"$AJ$35","v":"6 Right"}]
[{"$nulls":37},{"$f":"$B$57","v":0},{"$f":"$H$57","v":"0 Left"},{"$f":"$N$36","v":0},{"$f":"$R$36","v":"0 Right"},{"$f":"$W$36","v":0},{"$f":"$AA$36","v":"0 Right"},{"$f":"$AF$36","v":0},{"$f":"$AJ$36","v":"0 Right"}]
[{"$nulls":37},{"$f":"$B$58","v":0},{"$f":"$H$58","v":"0 Left"},{"$f":"$N$37","v":0},{"$f":"$R$37","v":"0 Right"},{"$f":"$W$37","v":0},{"$f":"$AA$37","v":"0 Right"},{"$f":"$AF$37","v":0},{"$f":"$AJ$37","v":"0 Right"}]
[{"$nulls":37},{"$f":"$B$59","v":0},{"$f":"$H$59","v":"0 Left"},{"$f":"$N$38","v":0},{"$f":"$R$38","v":"0 Right"},{"$f":"$W$38","v":0},{"$f":"$AA$38","v":"0 Right"},{"$f":"$AF$38","v":0},{"$f":"$AJ$38","v":"0 Right"}]
[{"$nulls":37},{"$f":"$E$23","v":0},{"$f":"$I$23","v":"2 Right"},{"$f":"$N$39","v":0},{"$f":"$R$39","v":"0 Right"},{"$f":"$W$39","v":0},{"$f":"$AA$39","v":"0 Right"},{"$f":"$AF$39","v":0},{"$f":"$AJ$39","v":"0 Right"}]
[{"$nulls":37},{"$f":"$E$26","v":0},{"$f":"$I$26","v":"3 Right"},{"$f":"$N$40","v":0},{"$f":"$R$40","v":"0 Right"},{"$f":"$W$40","v":0},{"$f":"$AA$40","v":"0 Right"},{"$f":"$AF$40","v":0},{"$f":"$AJ$40","v":"0 Right"}]
[{"$nulls":37},{"$f":"$E$29","v":0},{"$f":"$I$29","v":"4 Right"},{"$f":"$N$41","v":0},{"$f":"$R$41","v":"0 Right"},{"$f":"$W$41","v":0},{"$f":"$AA$41","v":"0 Right"},{"$f":"$AF$41","v":0},{"$f":"$AJ$41","v":"0 Right"}]
[{"$nulls":37},{"$f":"$E$32","v":0},{"$f":"$I$32","v":"5 Right"},{"$f":"$N$42","v":0},{"$f":"$R$42","v":"0 Right"},{"$f":"$W$42","v":0},{"$f":"$AA$42","v":"0 Right"},{"$f":"$AF$42","v":0},{"$f":"$AJ$42","v":"0 Right"}]
[{"$nulls":37},{"$f":"$E$35","v":0},{"$f":"$I$35","v":"6 Right"},{"$f":"$N$43","v":0},{"$f":"$R$43","v":"0 Right"},{"$f":"$W$43","v":0},{"$f":"$AA$43","v":"0 Right"},{"$f":"$AF$43","v":0},{"$f":"$AJ$43","v":"0 Right"}]
[{"$nulls":37},{"$f":"$E$38","v":0},{"$f":"$I$38","v":"0 Right"},{"$f":"$N$44","v":0},{"$f":"$R$44","v":"0 Right"},{"$f":"$W$44","v":0},{"$f":"$AA$44","v":"0 Right"},{"$f":"$AF$44","v":0},{"$f":"$AJ$44","v":"0 Right"}]
[{"$nulls":37},{"$f":"$E$41","v":0},{"$f":"$I$41","v":"0 Right"},{"$f":"$N$45","v":0},{"$f":"$R$45","v":"0 Right"},{"$f":"$W$45","v":0},{"$f":"$AA$45","v":"0 Right"},{"$f":"$AF$45","v":0},{"$f":"$AJ$45","v":"0 Right"}]
[{"$nulls":37},{"$f":"$E$44","v":0},{"$f":"$I$44","v":"0 Right"},{"$f":"$N$46","v":0},{"$f":"$R$46","v":"0 Right"},{"$f":"$W$46","v":0},{"$f":"$AA$46","v":"0 Right"},{"$f":"$AF$46","v":0},{"$f":"$AJ$46","v":"0 Right"}]
[{"$nulls":37},{"$f":"$E$47","v":0},{"$f":"$I$47","v":"0 Right"},{"$f":"$N$47","v":0},{"$f":"$R$47","v":"0 Right"},{"$f":"$W$47","v":0},{"$f":"$AA$47","v":"0 Right"},{"$f":"$AF$47","v":0},{"$f":"$AJ$47","v":"0 Right"}]
[{"$nulls":37},{"$f":"$E$48","v":0},{"$f":"$I$48","v":"0 Right"},{"$f":"$N$48","v":0},{"$f":"$R$48","v":"0 Right"},{"$f":"$W$48","v":0},{"$f":"$AA$48","v":"0 Right"},{"$f":"$AF$48","v":0},{"$f":"$AJ$48","v":"0 Right"}]
[{"$nulls":37},{"$f":"$E$49","v":0},{"$f":"$I$49","v":"0 Right"},{"$f":"$N$49","v":0},{"$f":"$R$49","v":"0 Right"},{"$f":"$W$49","v":0},{"$f":"$AA$49","v":"0 Right"},{"$f":"$AF$49","v":0},{"$f":"$AJ$49","v":"0 Right"}]
[{"$nulls":37},{"$f":"$E$50","v":0},{"$f":"$I$50","v":"0 Right"},{"$f":"$N$50","v":0},{"$f":"$R$50","v":"0 Right"},{"$f":"$W$50","v":0},{"$f":"$AA$50","v":"0 Right"},{"$f":"$AF$50","v":0},{"$f":"$AJ$50","v":"0 Right"}]
[{"$nulls":37},{"$f":"$E$51","v":0},{"$f":"$I$51","v":"0 Right"},{"$f":"$N$51","v":0},{"$f":"$R$51","v":"0 Right"},{"$f":"$W$51","v":0},{"$f":"$AA$51","v":"0 Right"},{"$f":"$AF$51","v":0},{"$f":"$AJ$51","v":"0 Right"}]
[{"$nulls":37},{"$f":"$E$52","v":0},{"$f":"$I$52","v":"0 Right"},{"$f":"$N$52","v":0},{"$f":"$R$52","v":"0 Right"},{"$f":"$W$52","v":0},{"$f":"$AA$52","v":"0 Right"},{"$f":"$AF$52","v":0},{"$f":"$AJ$52","v":"0 Right"}]
[{"$nulls":37},{"$f":"$E$53","v":0},{"$f":"$I$53","v":"0 Right"},{"$f":"$N$53","v":0},{"$f":"$R$53","v":"0 Right"},{"$f":"$W$53","v":0},{"$f":"$AA$53","v":"0 Right"},{"$f":"$AF$53","v":0},{"$f":"$AJ$53","v":"0 Right"}]
[{"$nulls":37},{"$f":"$E$54","v":0},{"$f":"$I$54","v":"0 Right"},{"$f":"$N$54","v":0},{"$f":"$R$54","v":"0 Right"},{"$f":"$W$54","v":0},{"$f":"$AA$54","v":"0 Right"},{"$f":"$AF$54","v":0},{"$f":"$AJ$54","v":"0 Right"}]
[{"$nulls":37},{"$f":"$E$55","v":0},{"$f":"$I$55","v":"0 Right"},{"$f":"$N$55","v":0},{"$f":"$R$55","v":"0 Right"},{"$f":"$W$55","v":0},{"$f":"$AA$55","v":"0 Right"},{"$f":"$AF$55","v":0},{"$f":"$AJ$55","v":"0 Right"}]
[{"$nulls":37},{"$f":"$E$56","v":0},{"$f":"$I$56","v":"0 Right"},{"$f":"$N$56","v":0},{"$f":"$R$56","v":"0 Right"},{"$f":"$W$56","v":0},{"$f":"$AA$56","v":"0 Right"},{"$f":"$AF$56","v":0},{"$f":"$AJ$56","v":"0 Right"}]
[{"$nulls":37},{"$f":"$E$57","v":0},{"$f":"$I$57","v":"0 Right"},{"$f":"$N$57","v":0},{"$f":"$R$57","v":"0 Right"},{"$f":"$W$57","v":0},{"$f":"$AA$57","v":"0 Right"},{"$f":"$AF$57","v":0},{"$f":"$AJ$57","v":"0 Right"}]
[{"$nulls":37},{"$f":"$E$58","v":0},{"$f":"$I$58","v":"0 Right"},{"$f":"$N$58","v":0},{"$f":"$R$58","v":"0 Right"},{"$f":"$W$58","v":0},{"$f":"$AA$58","v":"0 Right"},{"$f":"$AF$58","v":0},{"$f":"$AJ$58","v":"0 Right"}]
[{"$nulls":37},{"$f":"$E$59","v":0},{"$f":"$I$59","v":"0 Right"},{"$f":"$N$59","v":0},{"$f":"$R$59","v":"0 Right"},{"$f":"$W$59","v":0},{"$f":"$AA$59","v":"0 Right"},{"$f":"$AF$59","v":0},{"$f":"$AJ$59","v":"0 Right"}]

{"sheet":"28","index":12,"n_rows":101,"n_cols":45,"rows_kept":101,"hidden":true,"merged":[[0,1,0,14],[1,1,1,2],[1,3,1,4],[1,5,1,6],[1,7,1,8],[1,9,1,10],[1,11,1,12],[1,13,1,14],[2,0,4,0],[5,0,7,0],[8,0,10,0],[11,0,13,0],[14,1,14,14],[15,1,15,6],[15,10,15,15],[15,19,15,24],[15,28,15,33],[16,37,16,38],[16,39,16,40],[16,41,16,42],[16,43,16,44]]}
[null,"YOU MAY CHANGE THESE RINK NUMBERS IF YOU WISH"]
["Round",1,null,2,2,3,3,4,4,5,5,6,6,7,7]
[1,1,2,3,4,5,6,7,8,9,10,11,12,13,14]
[null,15,16,17,18,19,20,21,22,23,24,25,26,27,28]
[]
[2,9,14,1,10,2,11,3,12,4,13,5,8,6,7]
[null,21,26,27,22,28,23,15,24,16,25,17,20,18,19]
[]
[3,7,10,6,14,1,12,2,13,3,8,4,9,5,11]
[null,17,20,16,24,25,22,26,23,27,18,28,19,15,21]
[]
[4,3,11,7,12,4,8,5,9,6,14,13,10,2,1]
[null,25,19,15,20,26,16,27,17,28,22,21,18,24,23]
[]
[null,"28 on 1 green"]
[null,1,{"$nulls":8},2,{"$nulls":8},3,{"$nulls":8},4]
[null,"no","Left","rink","no","Right","rink","L","R",null,"no","Left","rink","no","Right","rink","L","R",null,"no","Left","rink","no","Right","rink","L","R",null,"no","Left","rink","no","Right","rink","L","R",null,1,null,2,null,3,null,4]
[null,1,"Left",{"$f":"$B$2","v":1},2,"Right",{"$f":"$B$2","v":1},{"$f":"(D18&\" \"&C18)","v":"1 Left"},{"$f":"(G18&\" \"&F18)","v":"1 Right"},null,9,"Left",{"$f":"$B$2","v":1},14,"Right",{"$f":"$B$2","v":1},{"$f":"(M18&\" \"&L18)","v":"1 Left"},{"$f":"(P18&\" \"&O18)","v":"1 Right"},null,7,"Left",{"$f":"$B$2","v":1},10,"Right",{"$f":"$B$2","v":1},{"$f":"(V18&\" \"&U18)","v":"1 Left"},{"$f":"(Y18&\" \"&X18)","v":"1 Right"},null,3,"Left",{"$f":"$B$2","v":1},11,"Right",{"$f":"$B$2","v":1},{"$f":"(AE18&\" \"&AD18)","v":"1 Left"},{"$f":"(AH18&\" \"&AG18)","v":"1 Right"}]
[null,15,"Left",{"$f":"$B$2","v":1},16,"Right",{"$f":"$B$2","v":1},"1 Left","1 Right",null,21,"Left",{"$f":"$B$2","v":1},26,"Right",{"$f":"$B$2","v":1},"1 Left","1 Right",null,17,"Left",{"$f":"$B$2","v":1},20,"Right",{"$f":"$B$2","v":1},"1 Left","1 Right",null,25,"Left",{"$f":"$B$2","v":1},19,"Right",{"$f":"$B$2","v":1},"1 Left","1 Right"]
[null,null,"Left",{"$f":"$B$2","v":1},null,"Right",{"$f":"$B$2","v":1},"1 Left","1 Right",null,null,"Left",{"$f":"$B$2","v":1},null,"Right",{"$f":"$B$2","v":1},"1 Left","1 Right",null,null,"Left",{"$f":"$B$2","v":1},null,"Right",{"$f":"$B$2","v":1},"1 Left","1 Right",null,null,"Left",{"$f":"$B$2","v":1},null,"Right",{"$f":"$B$2","v":1},"1 Left","1 Right"]
[null,3,"Left",{"$f":"$D$2","v":2},4,"Right",{"$f":"$D$2","v":2},"2 Left","2 Right",null,1,"Left",{"$f":"$D$2","v":2},10,"Right",{"$f":"$D$2","v":2},"2 Left","2 Right",null,6,"Left",{"$f":"$D$2","v":2},14,"Right",{"$f":"$D$2","v":2},"2 Left","2 Right",null,7,"Left",{"$f":"$D$2","v":2},12,"Right",{"$f":"$D$2","v":2},"2 Left","2 Right"]
[null,17,"Left",{"$f":"$D$2","v":2},18,"Right",{"$f":"$D$2","v":2},"2 Left","2 Right",null,27,"Left",{"$f":"$D$2","v":2},22,"Right",{"$f":"$D$2","v":2},"2 Left","2 Right",null,16,"Left",{"$f":"$D$2","v":2},24,"Right",{"$f":"$D$2","v":2},"2 Left","2 Right",null,15,"Left",{"$f":"$D$2","v":2},20,"Right",{"$f":"$D$2","v":2},"2 Left","2 Right"]
[null,null,"Left",{"$f":"$D$2","v":2},null,"Right",{"$f":"$D$2","v":2},"2 Left","2 Right",null,null,"Left",{"$f":"$D$2","v":2},null,"Right",{"$f":"$D$2","v":2},"2 Left","2 Right",null,null,"Left",{"$f":"$D$2","v":2},null,"Right",{"$f":"$D$2","v":2},"2 Left","2 Right",null,null,"Left",{"$f":"$D$2","v":2},null,"Right",{"$f":"$D$2","v":2},"2 Left","2 Right"]
[null,5,"Left",{"$f":"$F$2","v":3},6,"Right",{"$f":"$F$2","v":3},"3 Left","3 Right",null,2,"Left",{"$f":"$F$2","v":3},11,"Right",{"$f":"$F$2","v":3},"3 Left","3 Right",null,1,"Left",{"$f":"$F$2","v":3},12,"Right",{"$f":"$F$2","v":3},"3 Left","3 Right",null,4,"Left",{"$f":"$F$2","v":3},8,"Right",{"$f":"$F$2","v":3},"3 Left","3 Right"]
[null,19,"Left",{"$f":"$F$2","v":3},20,"Right",{"$f":"$F$2","v":3},"3 Left","3 Right",null,28,"Left",{"$f":"$F$2","v":3},23,"Right",{"$f":"$F$2","v":3},"3 Left","3 Right",null,25,"Left",{"$f":"$F$2","v":3},22,"Right",{"$f":"$F$2","v":3},"3 Left","3 Right",null,26,"Left",{"$f":"$F$2","v":3},16,"Right",{"$f":"$F$2","v":3},"3 Left","3 Right"]
[null,null,"Left",{"$f":"$F$2","v":3},null,"Right",{"$f":"$F$2","v":3},"3 Left","3 Right",null,null,"Left",{"$f":"$F$2","v":3},null,"Right",{"$f":"$F$2","v":3},"3 Left","3 Right",null,null,"Left",{"$f":"$F$2","v":3},null,"Right",{"$f":"$F$2","v":3},"3 Left","3 Right",null,null,"Left",{"$f":"$F$2","v":3},null,"Right",{"$f":"$F$2","v":3},"3 Left","3 Right"]
[null,7,"Left",{"$f":"$H$2","v":4},8,"Right",{"$f":"$H$2","v":4},"4 Left","4 Right",null,3,"Left",{"$f":"$H$2","v":4},12,"Right",{"$f":"$H$2","v":4},"4 Left","4 Right",null,2,"Left",{"$f":"$H$2","v":4},13,"Right",{"$f":"$H$2","v":4},"4 Left","4 Right",null,5,"Left",{"$f":"$H$2","v":4},9,"Right",{"$f":"$H$2","v":4},"4 Left","4 Right"]
[null,21,"Left",{"$f":"$H$2","v":4},22,"Right",{"$f":"$H$2","v":4},"4 Left","4 Right",null,15,"Left",{"$f":"$H$2","v":4},24,"Right",{"$f":"$H$2","v":4},"4 Left","4 Right",null,26,"Left",{"$f":"$H$2","v":4},23,"Right",{"$f":"$H$2","v":4},"4 Left","4 Right",null,27,"Left",{"$f":"$H$2","v":4},17,"Right",{"$f":"$H$2","v":4},"4 Left","4 Right"]
[null,null,"Left",{"$f":"$H$2","v":4},null,"Right",{"$f":"$H$2","v":4},"4 Left","4 Right",null,null,"Left",{"$f":"$H$2","v":4},null,"Right",{"$f":"$H$2","v":4},"4 Left","4 Right",null,null,"Left",{"$f":"$H$2","v":4},null,"Right",{"$f":"$H$2","v":4},"4 Left","4 Right",null,null,"Left",{"$f":"$H$2","v":4},null,"Right",{"$f":"$H$2","v":4},"4 Left","4 Right"]
[null,9,"Left",{"$f":"$J$2","v":5},10,"Right",{"$f":"$J$2","v":5},"5 Left","5 Right",null,4,"Left",{"$f":"$J$2","v":5},13,"Right",{"$f":"$J$2","v":5},"5 Left","5 Right",null,3,"Left",{"$f":"$J$2","v":5},8,"Right",{"$f":"$J$2","v":5},"5 Left","5 Right",null,6,"Left",{"$f":"$J$2","v":5},14,"Right",{"$f":"$J$2","v":5},"5 Left","5 Right"]
[null,23,"Left",{"$f":"$J$2","v":5},24,"Right",{"$f":"$J$2","v":5},"5 Left","5 Right",null,16,"Left",{"$f":"$J$2","v":5},25,"Right",{"$f":"$J$2","v":5},"5 Left","5 Right",null,27,"Left",{"$f":"$J$2","v":5},18,"Right",{"$f":"$J$2","v":5},"5 Left","5 Right",null,28,"Left",{"$f":"$J$2","v":5},22,"Right",{"$f":"$J$2","v":5},"5 Left","5 Right"]
[null,null,"Left",{"$f":"$J$2","v":5},null,"Right",{"$f":"$J$2","v":5},"5 Left","5 Right",null,null,"Left",{"$f":"$J$2","v":5},null,"Right",{"$f":"$J$2","v":5},"5 Left","5 Right",null,null,"Left",{"$f":"$J$2","v":5},null,"Right",{"$f":"$J$2","v":5},"5 Left","5 Right",null,null,"Left",{"$f":"$J$2","v":5},null,"Right",{"$f":"$J$2","v":5},"5 Left","5 Right"]
[null,11,"Left",{"$f":"$L$2","v":6},12,"Right",{"$f":"$L$2","v":6},"6 Left","6 Right",null,5,"Left",{"$f":"$L$2","v":6},8,"Right",{"$f":"$L$2","v":6},"6 Left","6 Right",null,4,"Left",{"$f":"$L$2","v":6},9,"Right",{"$f":"$L$2","v":6},"6 Left","6 Right",null,13,"Left",{"$f":"$L$2","v":6},10,"Right",{"$f":"$L$2","v":6},"6 Left","6 Right"]
[null,25,"Left",{"$f":"$L$2","v":6},26,"Right",{"$f":"$L$2","v":6},"6 Left","6 Right",null,17,"Left",{"$f":"$L$2","v":6},20,"Right",{"$f":"$L$2","v":6},"6 Left","6 Right",null,28,"Left",{"$f":"$L$2","v":6},19,"Right",{"$f":"$L$2","v":6},"6 Left","6 Right",null,21,"Left",{"$f":"$L$2","v":6},18,"Right",{"$f":"$L$2","v":6},"6 Left","6 Right"]
[null,null,"Left",{"$f":"$L$2","v":6},null,"Right",{"$f":"$L$2","v":6},"6 Left","6 Right",null,null,"Left",{"$f":"$L$2","v":6},null,"Right",{"$f":"$L$2","v":6},"6 Left","6 Right",null,null,"Left",{"$f":"$L$2","v":6},null,"Right",{"$f":"$L$2","v":6},"6 Left","6 Right",null,null,"Left",{"$f":"$L$2","v":6},null,"Right",{"$f":"$L$2","v":6},"6 Left","6 Right"]
[null,13,"Left",{"$f":"$N$2","v":7},14,"Right",{"$f":"$N$2","v":7},"7 Left","7 Right",null,6,"Left",{"$f":"$N$2","v":7},7,"Right",{"$f":"$N$2","v":7},"7 Left","7 Right",null,5,"Left",{"$f":"$N$2","v":7},11,"Right",{"$f":"$N$2","v":7},"7 Left","7 Right",null,2,"Left",{"$f":"$N$2","v":7},1,"Right",{"$f":"$N$2","v":7},"7 Left","7 Right"]
[null,27,"Left",{"$f":"$N$2","v":7},28,"Right",{"$f":"$N$2","v":7},"7 Left","7 Right",null,18,"Left",{"$f":"$N$2","v":7},19,"Right",{"$f":"$N$2","v":7},"7 Left","7 Right",null,15,"Left",{"$f":"$N$2","v":7},21,"Right",{"$f":"$N$2","v":7},"7 Left","7 Right",null,24,"Left",{"$f":"$N$2","v":7},23,"Right",{"$f":"$N$2","v":7},"7 Left","7 Right"]
[null,null,"Left",{"$f":"$N$2","v":7},null,"Right",{"$f":"$N$2","v":7},"7 Left","7 Right",null,null,"Left",{"$f":"$N$2","v":7},null,"Right",{"$f":"$N$2","v":7},"7 Left","7 Right",null,null,"Left",{"$f":"$N$2","v":7},null,"Right",{"$f":"$N$2","v":7},"7 Left","7 Right",null,null,"Left",{"$f":"$N$2","v":7},null,"Right",{"$f":"$N$2","v":7},"7 Left","7 Right"]
[null,null,"Left",{"$f":"$P$2","v":0},null,"Right",{"$f":"$P$2","v":0},"0 Left","0 Right",null,null,"Left",{"$f":"$P$2","v":0},null,"Right",{"$f":"$P$2","v":0},"0 Left","0 Right",null,null,"Left",{"$f":"$P$2","v":0},null,"Right",{"$f":"$P$2","v":0},"0 Left","0 Right",null,null,"Left",{"$f":"$P$2","v":0},null,"Right",{"$f":"$P$2","v":0},"0 Left","0 Right"]
[null,null,"Left",{"$f":"$P$2","v":0},null,"Right",{"$f":"$P$2","v":0},"0 Left","0 Right",null,null,"Left",{"$f":"$P$2","v":0},null,"Right",{"$f":"$P$2","v":0},"0 Left","0 Right",null,null,"Left",{"$f":"$P$2","v":0},null,"Right",{"$f":"$P$2","v":0},"0 Left","0 Right",null,null,"Left",{"$f":"$P$2","v":0},null,"Right",{"$f":"$P$2","v":0},"0 Left","0 Right"]
[null,null,"Left",{"$f":"$P$2","v":0},null,"Right",{"$f":"$P$2","v":0},"0 Left","0 Right",null,null,"Left",{"$f":"$P$2","v":0},null,"Right",{"$f":"$P$2","v":0},"0 Left","0 Right",null,null,"Left",{"$f":"$P$2","v":0},null,"Right",{"$f":"$P$2","v":0},"0 Left","0 Right",null,null,"Left",{"$f":"$P$2","v":0},null,"Right",{"$f":"$P$2","v":0},"0 Left","0 Right"]
[null,null,"Left",{"$f":"$R$2","v":0},null,"Right",{"$f":"$R$2","v":0},"0 Left","0 Right",null,null,"Left",{"$f":"$R$2","v":0},null,"Right",{"$f":"$R$2","v":0},"0 Left","0 Right",null,null,"Left",{"$f":"$R$2","v":0},null,"Right",{"$f":"$R$2","v":0},"0 Left","0 Right",null,null,"Left",{"$f":"$R$2","v":0},null,"Right",{"$f":"$R$2","v":0},"0 Left","0 Right"]
[null,null,"Left",{"$f":"$R$2","v":0},null,"Right",{"$f":"$R$2","v":0},"0 Left","0 Right",null,null,"Left",{"$f":"$R$2","v":0},null,"Right",{"$f":"$R$2","v":0},"0 Left","0 Right",null,null,"Left",{"$f":"$R$2","v":0},null,"Right",{"$f":"$R$2","v":0},"0 Left","0 Right",null,null,"Left",{"$f":"$R$2","v":0},null,"Right",{"$f":"$R$2","v":0},"0 Left","0 Right"]
[null,null,"Left",{"$f":"$R$2","v":0},null,"Right",{"$f":"$R$2","v":0},"0 Left","0 Right",null,null,"Left",{"$f":"$R$2","v":0},null,"Right",{"$f":"$R$2","v":0},"0 Left","0 Right",null,null,"Left",{"$f":"$R$2","v":0},null,"Right",{"$f":"$R$2","v":0},"0 Left","0 Right",null,null,"Left",{"$f":"$R$2","v":0},null,"Right",{"$f":"$R$2","v":0},"0 Left","0 Right"]
[null,null,"Left",{"$f":"$T$2","v":0},null,"Right",{"$f":"$T$2","v":0},"0 Left","0 Right",null,null,"Left",{"$f":"$T$2","v":0},null,"Right",{"$f":"$T$2","v":0},"0 Left","0 Right",null,null,"Left",{"$f":"$T$2","v":0},null,"Right",{"$f":"$T$2","v":0},"0 Left","0 Right",null,null,"Left",{"$f":"$T$2","v":0},null,"Right",{"$f":"$T$2","v":0},"0 Left","0 Right"]
[null,null,"Left",{"$f":"$T$2","v":0},null,"Right",{"$f":"$T$2","v":0},"0 Left","0 Right",null,null,"Left",{"$f":"$T$2","v":0},null,"Right",{"$f":"$T$2","v":0},"0 Left","0 Right",null,null,"Left",{"$f":"$T$2","v":0},null,"Right",{"$f":"$T$2","v":0},"0 Left","0 Right",null,null,"Left",{"$f":"$T$2","v":0},null,"Right",{"$f":"$T$2","v":0},"0 Left","0 Right",null,{"$f":"$B$20","v":0},{"$f":"$H$20","v":"1 Left"},{"$f":"$K$20","v":0},{"$f":"$Q$20","v":"1 Left"},{"$f":"$T$20","v":0},{"$f":"$Z$20","v":"1 Left"},{"$f":"$AC$20","v":0},{"$f":"$AI$20","v":"1 Left"}]
[null,null,"Left",{"$f":"$T$2","v":0},null,"Right",{"$f":"$T$2","v":0},"0 Left","0 Right",null,null,"Left",{"$f":"$T$2","v":0},null,"Right",{"$f":"$T$2","v":0},"0 Left","0 Right",null,null,"Left",{"$f":"$T$2","v":0},null,"Right",{"$f":"$T$2","v":0},"0 Left","0 Right",null,null,"Left",{"$f":"$T$2","v":0},null,"Right",{"$f":"$T$2","v":0},"0 Left","0 Right",null,{"$f":"$E$20","v":0},{"$f":"$I$20","v":"1 Right"},{"$f":"$K$23","v":0},{"$f":"$Q$23","v":"2 Left"},{"$f":"$T$23","v":0},{"$f":"$Z$23","v":"2 Left"},{"$f":"$AC$23","v":0},{"$f":"$AI$23","v":"2 Left"}]
[null,null,"Left",{"$f":"$V$2","v":0},null,"Right",{"$f":"$V$2","v":0},"0 Left","0 Right",null,null,"Left",{"$f":"$V$2","v":0},null,"Right",{"$f":"$V$2","v":0},"0 Left","0 Right",null,null,"Left",{"$f":"$V$2","v":0},null,"Right",{"$f":"$V$2","v":0},"0 Left","0 Right",null,null,"Left",{"$f":"$V$2","v":0},null,"Right",{"$f":"$V$2","v":0},"0 Left","0 Right",null,{"$f":"$B$39","v":0},{"$f":"$H$39","v":"0 Left"},{"$f":"$K$26","v":0},{"$f":"$Q$26","v":"3 Left"},{"$f":"$T$26","v":0},{"$f":"$Z$26","v":"3 Left"},{"$f":"$AC$26","v":0},{"$f":"$AI$26","v":"3 Left"}]
[null,null,"Left",{"$f":"$V$2","v":0},null,"Right",{"$f":"$V$2","v":0},"0 Left","0 Right",null,null,"Left",{"$f":"$V$2","v":0},null,"Right",{"$f":"$V$2","v":0},"0 Left","0 Right",null,null,"Left",{"$f":"$V$2","v":0},null,"Right",{"$f":"$V$2","v":0},"0 Left","0 Right",null,null,"Left",{"$f":"$V$2","v":0},null,"Right",{"$f":"$V$2","v":0},"0 Left","0 Right",null,{"$f":"$E$39","v":0},{"$f":"$I$39","v":"0 Right"},{"$f":"$K$29","v":0},{"$f":"$Q$29","v":"4 Left"},{"$f":"$T$29","v":0},{"$f":"$Z$29","v":"4 Left"},{"$f":"$AC$29","v":0},{"$f":"$AI$29","v":"4 Left"}]
[null,null,"Left",{"$f":"$V$2","v":0},null,"Right",{"$f":"$V$2","v":0},"0 Left","0 Right",null,null,"Left",{"$f":"$V$2","v":0},null,"Right",{"$f":"$V$2","v":0},"0 Left","0 Right",null,null,"Left",{"$f":"$V$2","v":0},null,"Right",{"$f":"$V$2","v":0},"0 Left","0 Right",null,null,"Left",{"$f":"$V$2","v":0},null,"Right",{"$f":"$V$2","v":0},"0 Left","0 Right",null,{"$f":"$B$42","v":0},{"$f":"$H$42","v":"0 Left"},{"$f":"$K$32","v":0},{"$f":"$Q$32","v":"5 Left"},{"$f":"$T$32","v":0},{"$f":"$Z$32","v":"5 Left"},{"$f":"$AC$32","v":0},{"$f":"$AI$32","v":"5 Left"}]
[null,null,"Left",{"$f":"$X$2","v":0},null,"Right",{"$f":"$X$2","v":0},"0 Left","0 Right",null,null,"Left",{"$f":"$X$2","v":0},null,"Right",{"$f":"$X$2","v":0},"0 Left","0 Right",null,null,"Left",{"$f":"$X$2","v":0},null,"Right",{"$f":"$X$2","v":0},"0 Left","0 Right",null,null,"Left",{"$f":"$X$2","v":0},null,"Right",{"$f":"$X$2","v":0},"0 Left","0 Right",null,{"$f":"$E$42","v":0},{"$f":"$I$42","v":"0 Right"},{"$f":"$K$35","v":0},{"$f":"$Q$35","v":"6 Left"},{"$f":"$T$35","v":0},{"$f":"$Z$35","v":"6 Left"},{"$f":"$AC$35","v":0},{"$f":"$AI$35","v":"6 Left"}]
[null,null,"Left",{"$f":"$X$2","v":0},null,"Right",{"$f":"$X$2","v":0},"0 Left","0 Right",null,null,"Left",{"$f":"$X$2","v":0},null,"Right",{"$f":"$X$2","v":0},"0 Left","0 Right",null,null,"Left",{"$f":"$X$2","v":0},null,"Right",{"$f":"$X$2","v":0},"0 Left","0 Right",null,null,"Left",{"$f":"$X$2","v":0},null,"Right",{"$f":"$X$2","v":0},"0 Left","0 Right",null,{"$f":"$B$45","v":0},{"$f":"$H$45","v":"0 Left"},{"$f":"$K$38","v":0},{"$f":"$Q$38","v":"7 Left"},{"$f":"$T$38","v":0},{"$f":"$Z$38","v":"7 Left"},{"$f":"$AC$38","v":0},{"$f":"$AI$38","v":"7 Left"}]
[null,null,"Left",{"$f":"$X$2","v":0},null,"Right",{"$f":"$X$2","v":0},"0 Left","0 Right",null,null,"Left",{"$f":"$X$2","v":0},null,"Right",{"$f":"$X$2","v":0},"0 Left","0 Right",null,null,"Left",{"$f":"$X$2","v":0},null,"Right",{"$f":"$X$2","v":0},"0 Left","0 Right",null,null,"Left",{"$f":"$X$2","v":0},null,"Right",{"$f":"$X$2","v":0},"0 Left","0 Right",null,{"$f":"$E$45","v":0},{"$f":"$I$45","v":"0 Right"},{"$f":"$K$39","v":0},{"$f":"$Q$39","v":"0 Left"},{"$f":"$T$39","v":0},{"$f":"$Z$39","v":"0 Left"},{"$f":"$AC$39","v":0},{"$f":"$AI$39","v":"0 Left"}]
[null,null,"Left",{"$f":"$Z$2","v":0},null,"Right",{"$f":"$Z$2","v":0},"0 Left","0 Right",null,null,"Left",{"$f":"$Z$2","v":0},null,"Right",{"$f":"$Z$2","v":0},"0 Left","0 Right",null,null,"Left",{"$f":"$Z$2","v":0},null,"Right",{"$f":"$Z$2","v":0},"0 Left","0 Right",null,null,"Left",{"$f":"$Z$2","v":0},null,"Right",{"$f":"$Z$2","v":0},"0 Left","0 Right",null,{"$f":"$B$40","v":0},{"$f":"$H$40","v":"0 Left"},{"$f":"$K$40","v":0},{"$f":"$Q$40","v":"0 Left"},{"$f":"$T$40","v":0},{"$f":"$Z$40","v":"0 Left"},{"$f":"$AC$40","v":0},{"$f":"$AI$40","v":"0 Left"}]
[null,null,"Left",{"$f":"$Z$2","v":0},null,"Right",{"$f":"$Z$2","v":0},"0 Left","0 Right",null,null,"Left",{"$f":"$Z$2","v":0},null,"Right",{"$f":"$Z$2","v":0},"0 Left","0 Right",null,null,"Left",{"$f":"$Z$2","v":0},null,"Right",{"$f":"$Z$2","v":0},"0 Left","0 Right",null,null,"Left",{"$f":"$Z$2","v":0},null,"Right",{"$f":"$Z$2","v":0},"0 Left","0 Right",null,{"$f":"$E$40","v":0},{"$f":"$I$40","v":"0 Right"},{"$f":"$K$41","v":0},{"$f":"$Q$41","v":"0 Left"},{"$f":"$T$41","v":0},{"$f":"$Z$41","v":"0 Left"},{"$f":"$AC$41","v":0},{"$f":"$AI$41","v":"0 Left"}]
[null,null,"Left",{"$f":"$Z$2","v":0},null,"Right",{"$f":"$Z$2","v":0},"0 Left","0 Right",null,null,"Left",{"$f":"$Z$2","v":0},null,"Right",{"$f":"$Z$2","v":0},"0 Left","0 Right",null,null,"Left",{"$f":"$Z$2","v":0},null,"Right",{"$f":"$Z$2","v":0},"0 Left","0 Right",null,null,"Left",{"$f":"$Z$2","v":0},null,"Right",{"$f":"$Z$2","v":0},"0 Left","0 Right",null,{"$f":"$B$43","v":0},{"$f":"$H$43","v":"0 Left"},{"$f":"$K$42","v":0},{"$f":"$Q$42","v":"0 Left"},{"$f":"$T$42","v":0},{"$f":"$Z$42","v":"0 Left"},{"$f":"$AC$42","v":0},{"$f":"$AI$42","v":"0 Left"}]
[null,null,"Left",{"$f":"$AB$2","v":0},null,"Right",{"$f":"$AB$2","v":0},"0 Left","0 Right",null,null,"Left",{"$f":"$AB$2","v":0},null,"Right",{"$f":"$AB$2","v":0},"0 Left","0 Right",null,null,"Left",{"$f":"$AB$2","v":0},null,"Right",{"$f":"$AB$2","v":0},"0 Left","0 Right",null,null,"Left",{"$f":"$AB$2","v":0},null,"Right",{"$f":"$AB$2","v":0},"0 Left","0 Right",null,{"$f":"$E$43","v":0},{"$f":"$I$43","v":"0 Right"},{"$f":"$K$43","v":0},{"$f":"$Q$43","v":"0 Left"},{"$f":"$T$43","v":0},{"$f":"$Z$43","v":"0 Left"},{"$f":"$AC$43","v":0},{"$f":"$AI$43","v":"0 Left"}]
[null,null,"Left",{"$f":"$AB$2","v":0},null,"Right",{"$f":"$AB$2","v":0},"0 Left","0 Right",null,null,"Left",{"$f":"$AB$2","v":0},null,"Right",{"$f":"$AB$2","v":0},"0 Left","0 Right",null,null,"Left",{"$f":"$AB$2","v":0},null,"Right",{"$f":"$AB$2","v":0},"0 Left","0 Right",null,null,"Left",{"$f":"$AB$2","v":0},null,"Right",{"$f":"$AB$2","v":0},"0 Left","0 Right",null,{"$f":"$B$46","v":0},{"$f":"$H$46","v":"0 Left"},{"$f":"$K$44","v":0},{"$f":"$Q$44","v":"0 Left"},{"$f":"$T$44","v":0},{"$f":"$Z$44","v":"0 Left"},{"$f":"$AC$44","v":0},{"$f":"$AI$44","v":"0 Left"}]
[null,null,"Left",{"$f":"$AB$2","v":0},null,"Right",{"$f":"$AB$2","v":0},"0 Left","0 Right",null,null,"Left",{"$f":"$AB$2","v":0},null,"Right",{"$f":"$AB$2","v":0},"0 Left","0 Right",null,null,"Left",{"$f":"$AB$2","v":0},null,"Right",{"$f":"$AB$2","v":0},"0 Left","0 Right",null,null,"Left",{"$f":"$AB$2","v":0},null,"Right",{"$f":"$AB$2","v":0},"0 Left","0 Right",null,{"$f":"$E$46","v":0},{"$f":"$I$46","v":"0 Right"},{"$f":"$K$45","v":0},{"$f":"$Q$45","v":"0 Left"},{"$f":"$T$45","v":0},{"$f":"$Z$45","v":"0 Left"},{"$f":"$AC$45","v":0},{"$f":"$AI$45","v":"0 Left"}]
[{"$nulls":37},{"$f":"$B$23","v":0},{"$f":"$H$23","v":"2 Left"},{"$f":"$K$46","v":0},{"$f":"$Q$46","v":"0 Left"},{"$f":"$T$46","v":0},{"$f":"$Z$46","v":"0 Left"},{"$f":"$AC$46","v":0},{"$f":"$AI$46","v":"0 Left"}]
[{"$nulls":37},{"$f":"$B$26","v":0},{"$f":"$H$26","v":"3 Left"},{"$f":"$K$47","v":0},{"$f":"$Q$47","v":"0 Left"},{"$f":"$T$47","v":0},{"$f":"$Z$47","v":"0 Left"},{"$f":"$AC$47","v":0},{"$f":"$AI$47","v":"0 Left"}]
[{"$nulls":37},{"$f":"$B$29","v":0},{"$f":"$H$29","v":"4 Left"},{"$f":"$K$48","v":0},{"$f":"$Q$48","v":"0 Left"},{"$f":"$T$48","v":0},{"$f":"$Z$48","v":"0 Left"},{"$f":"$AC$48","v":0},{"$f":"$AI$48","v":"0 Left"}]
[{"$nulls":37},{"$f":"$B$32","v":0},{"$f":"$H$32","v":"5 Left"},{"$f":"$K$49","v":0},{"$f":"$Q$49","v":"0 Left"},{"$f":"$T$49","v":0},{"$f":"$Z$49","v":"0 Left"},{"$f":"$AC$49","v":0},{"$f":"$AI$49","v":"0 Left"}]
[{"$nulls":37},{"$f":"$B$35","v":0},{"$f":"$H$35","v":"6 Left"},{"$f":"$K$50","v":0},{"$f":"$Q$50","v":"0 Left"},{"$f":"$T$50","v":0},{"$f":"$Z$50","v":"0 Left"},{"$f":"$AC$50","v":0},{"$f":"$AI$50","v":"0 Left"}]
[{"$nulls":37},{"$f":"$B$38","v":0},{"$f":"$H$38","v":"7 Left"},{"$f":"$K$51","v":0},{"$f":"$Q$51","v":"0 Left"},{"$f":"$T$51","v":0},{"$f":"$Z$51","v":"0 Left"},{"$f":"$AC$51","v":0},{"$f":"$AI$51","v":"0 Left"}]
[{"$nulls":37},{"$f":"$B$41","v":0},{"$f":"$H$41","v":"0 Left"},{"$f":"$K$52","v":0},{"$f":"$Q$52","v":"0 Left"},{"$f":"$T$52","v":0},{"$f":"$Z$52","v":"0 Left"},{"$f":"$AC$52","v":0},{"$f":"$AI$52","v":"0 Left"}]
[{"$nulls":37},{"$f":"$B$44","v":0},{"$f":"$H$44","v":"0 Left"},{"$f":"$K$53","v":0},{"$f":"$Q$53","v":"0 Left"},{"$f":"$T$53","v":0},{"$f":"$Z$53","v":"0 Left"},{"$f":"$AC$53","v":0},{"$f":"$AI$53","v":"0 Left"}]
[{"$nulls":37},{"$f":"$B$47","v":0},{"$f":"$H$47","v":"0 Left"},{"$f":"$K$54","v":0},{"$f":"$Q$54","v":"0 Left"},{"$f":"$T$54","v":0},{"$f":"$Z$54","v":"0 Left"},{"$f":"$AC$54","v":0},{"$f":"$AI$54","v":"0 Left"}]
[{"$nulls":37},{"$f":"$B$48","v":0},{"$f":"$H$48","v":"0 Left"},{"$f":"$K$55","v":0},{"$f":"$Q$55","v":"0 Left"},{"$f":"$T$55","v":0},{"$f":"$Z$55","v":"0 Left"},{"$f":"$AC$55","v":0},{"$f":"$AI$55","v":"0 Left"}]
[{"$nulls":37},{"$f":"$B$49","v":0},{"$f":"$H$49","v":"0 Left"},{"$f":"$K$56","v":0},{"$f":"$Q$56","v":"0 Left"},{"$f":"$T$56","v":0},{"$f":"$Z$56","v":"0 Left"},{"$f":"$AC$56","v":0},{"$f":"$AI$56","v":"0 Left"}]
[{"$nulls":37},{"$f":"$B$50","v":0},{"$f":"$H$50","v":"0 Left"},{"$f":"$K$57","v":0},{"$f":"$Q$57","v":"0 Left"},{"$f":"$T$57","v":0},{"$f":"$Z$57","v":"0 Left"},{"$f":"$AC$57","v":0},{"$f":"$AI$57","v":"0 Left"}]
[{"$nulls":37},{"$f":"$B$51","v":0},{"$f":"$H$51","v":"0 Left"},{"$f":"$K$58","v":0},{"$f":"$Q$58","v":"0 Left"},{"$f":"$T$58","v":0},{"$f":"$Z$58","v":"0 Left"},{"$f":"$AC$58","v":0},{"$f":"$AI$58","v":"0 Left"}]
[{"$nulls":37},{"$f":"$B$52","v":0},{"$f":"$H$52","v":"0 Left"},{"$f":"$K$59","v":0},{"$f":"$Q$59","v":"0 Left"},{"$f":"$T$59","v":0},{"$f":"$Z$59","v":"0 Left"},{"$f":"$AC$59","v":0},{"$f":"$AI$59","v":"0 Left"}]
[{"$nulls":37},{"$f":"$B$53","v":0},{"$f":"$H$53","v":"0 Left"},{"$f":"$N$20","v":0},{"$f":"$R$20","v":"1 Right"},{"$f":"$W$20","v":0},{"$f":"$AA$20","v":"1 Right"},{"$f":"$AF$20","v":0},{"$f":"$AJ$20","v":"1 Right"}]
[{"$nulls":37},{"$f":"$B$54","v":0},{"$f":"$H$54","v":"0 Left"},{"$f":"$N$23","v":0},{"$f":"$R$23","v":"2 Right"},{"$f":"$W$23","v":0},{"$f":"$AA$23","v":"2 Right"},{"$f":"$AF$23","v":0},{"$f":"$AJ$23","v":"2 Right"}]
[{"$nulls":37},{"$f":"$B$55","v":0},{"$f":"$H$55","v":"0 Left"},{"$f":"$N$26","v":0},{"$f":"$R$26","v":"3 Right"},{"$f":"$W$26","v":0},{"$f":"$AA$26","v":"3 Right"},{"$f":"$AF$26","v":0},{"$f":"$AJ$26","v":"3 Right"}]
[{"$nulls":37},{"$f":"$B$56","v":0},{"$f":"$H$56","v":"0 Left"},{"$f":"$N$29","v":0},{"$f":"$R$29","v":"4 Right"},{"$f":"$W$29","v":0},{"$f":"$AA$29","v":"4 Right"},{"$f":"$AF$29","v":0},{"$f":"$AJ$29","v":"4 Right"}]
[{"$nulls":37},{"$f":"$B$57","v":0},{"$f":"$H$57","v":"0 Left"},{"$f":"$N$32","v":0},{"$f":"$R$32","v":"5 Right"},{"$f":"$W$32","v":0},{"$f":"$AA$32","v":"5 Right"},{"$f":"$AF$32","v":0},{"$f":"$AJ$32","v":"5 Right"}]
[{"$nulls":37},{"$f":"$B$58","v":0},{"$f":"$H$58","v":"0 Left"},{"$f":"$N$35","v":0},{"$f":"$R$35","v":"6 Right"},{"$f":"$W$35","v":0},{"$f":"$AA$35","v":"6 Right"},{"$f":"$AF$35","v":0},{"$f":"$AJ$35","v":"6 Right"}]
[{"$nulls":37},{"$f":"$B$59","v":0},{"$f":"$H$59","v":"0 Left"},{"$f":"$N$38","v":0},{"$f":"$R$38","v":"7 Right"},{"$f":"$W$38","v":0},{"$f":"$AA$38","v":"7 Right"},{"$f":"$AF$38","v":0},{"$f":"$AJ$38","v":"7 Right"}]
[{"$nulls":37},{"$f":"$E$23","v":0},{"$f":"$I$23","v":"2 Right"},{"$f":"$N$39","v":0},{"$f":"$R$39","v":"0 Right"},{"$f":"$W$39","v":0},{"$f":"$AA$39","v":"0 Right"},{"$f":"$AF$39","v":0},{"$f":"$AJ$39","v":"0 Right"}]
[{"$nulls":37},{"$f":"$E$26","v":0},{"$f":"$I$26","v":"3 Right"},{"$f":"$N$40","v":0},{"$f":"$R$40","v":"0 Right"},{"$f":"$W$40","v":0},{"$f":"$AA$40","v":"0 Right"},{"$f":"$AF$40","v":0},{"$f":"$AJ$40","v":"0 Right"}]
[{"$nulls":37},{"$f":"$E$29","v":0},{"$f":"$I$29","v":"4 Right"},{"$f":"$N$41","v":0},{"$f":"$R$41","v":"0 Right"},{"$f":"$W$41","v":0},{"$f":"$AA$41","v":"0 Right"},{"$f":"$AF$41","v":0},{"$f":"$AJ$41","v":"0 Right"}]
[{"$nulls":37},{"$f":"$E$32","v":0},{"$f":"$I$32","v":"5 Right"},{"$f":"$N$42","v":0},{"$f":"$R$42","v":"0 Right"},{"$f":"$W$42","v":0},{"$f":"$AA$42","v":"0 Right"},{"$f":"$AF$42","v":0},{"$f":"$AJ$42","v":"0 Right"}]
[{"$nulls":37},{"$f":"$E$35","v":0},{"$f":"$I$35","v":"6 Right"},{"$f":"$N$43","v":0},{"$f":"$R$43","v":"0 Right"},{"$f":"$W$43","v":0},{"$f":"$AA$43","v":"0 Right"},{"$f":"$AF$43","v":0},{"$f":"$AJ$43","v":"0 Right"}]
[{"$nulls":37},{"$f":"$E$38","v":0},{"$f":"$I$38","v":"7 Right"},{"$f":"$N$44","v":0},{"$f":"$R$44","v":"0 Right"},{"$f":"$W$44","v":0},{"$f":"$AA$44","v":"0 Right"},{"$f":"$AF$44","v":0},{"$f":"$AJ$44","v":"0 Right"}]
[{"$nulls":37},{"$f":"$E$41","v":0},{"$f":"$I$41","v":"0 Right"},{"$f":"$N$45","v":0},{"$f":"$R$45","v":"0 Right"},{"$f":"$W$45","v":0},{"$f":"$AA$45","v":"0 Right"},{"$f":"$AF$45","v":0},{"$f":"$AJ$45","v":"0 Right"}]
[{"$nulls":37},{"$f":"$E$44","v":0},{"$f":"$I$44","v":"0 Right"},{"$f":"$N$46","v":0},{"$f":"$R$46","v":"0 Right"},{"$f":"$W$46","v":0},{"$f":"$AA$46","v":"0 Right"},{"$f":"$AF$46","v":0},{"$f":"$AJ$46","v":"0 Right"}]
[{"$nulls":37},{"$f":"$E$47","v":0},{"$f":"$I$47","v":"0 Right"},{"$f":"$N$47","v":0},{"$f":"$R$47","v":"0 Right"},{"$f":"$W$47","v":0},{"$f":"$AA$47","v":"0 Right"},{"$f":"$AF$47","v":0},{"$f":"$AJ$47","v":"0 Right"}]
[{"$nulls":37},{"$f":"$E$48","v":0},{"$f":"$I$48","v":"0 Right"},{"$f":"$N$48","v":0},{"$f":"$R$48","v":"0 Right"},{"$f":"$W$48","v":0},{"$f":"$AA$48","v":"0 Right"},{"$f":"$AF$48","v":0},{"$f":"$AJ$48","v":"0 Right"}]
[{"$nulls":37},{"$f":"$E$49","v":0},{"$f":"$I$49","v":"0 Right"},{"$f":"$N$49","v":0},{"$f":"$R$49","v":"0 Right"},{"$f":"$W$49","v":0},{"$f":"$AA$49","v":"0 Right"},{"$f":"$AF$49","v":0},{"$f":"$AJ$49","v":"0 Right"}]
[{"$nulls":37},{"$f":"$E$50","v":0},{"$f":"$I$50","v":"0 Right"},{"$f":"$N$50","v":0},{"$f":"$R$50","v":"0 Right"},{"$f":"$W$50","v":0},{"$f":"$AA$50","v":"0 Right"},{"$f":"$AF$50","v":0},{"$f":"$AJ$50","v":"0 Right"}]
[{"$nulls":37},{"$f":"$E$51","v":0},{"$f":"$I$51","v":"0 Right"},{"$f":"$N$51","v":0},{"$f":"$R$51","v":"0 Right"},{"$f":"$W$51","v":0},{"$f":"$AA$51","v":"0 Right"},{"$f":"$AF$51","v":0},{"$f":"$AJ$51","v":"0 Right"}]
[{"$nulls":37},{"$f":"$E$52","v":0},{"$f":"$I$52","v":"0 Right"},{"$f":"$N$52","v":0},{"$f":"$R$52","v":"0 Right"},{"$f":"$W$52","v":0},{"$f":"$AA$52","v":"0 Right"},{"$f":"$AF$52","v":0},{"$f":"$AJ$52","v":"0 Right"}]
[{"$nulls":37},{"$f":"$E$53","v":0},{"$f":"$I$53","v":"0 Right"},{"$f":"$N$53","v":0},{"$f":"$R$53","v":"0 Right"},{"$f":"$W$53","v":0},{"$f":"$AA$53","v":"0 Right"},{"$f":"$AF$53","v":0},{"$f":"$AJ$53","v":"0 Right"}]
[{"$nulls":37},{"$f":"$E$54","v":0},{"$f":"$I$54","v":"0 Right"},{"$f":"$N$54","v":0},{"$f":"$R$54","v":"0 Right"},{"$f":"$W$54","v":0},{"$f":"$AA$54","v":"0 Right"},{"$f":"$AF$54","v":0},{"$f":"$AJ$54","v":"0 Right"}]
[{"$nulls":37},{"$f":"$E$55","v":0},{"$f":"$I$55","v":"0 Right"},{"$f":"$N$55","v":0},{"$f":"$R$55","v":"0 Right"},{"$f":"$W$55","v":0},{"$f":"$AA$55","v":"0 Right"},{"$f":"$AF$55","v":0},{"$f":"$AJ$55","v":"0 Right"}]
[{"$nulls":37},{"$f":"$E$56","v":0},{"$f":"$I$56","v":"0 Right"},{"$f":"$N$56","v":0},{"$f":"$R$56","v":"0 Right"},{"$f":"$W$56","v":0},{"$f":"$AA$56","v":"0 Right"},{"$f":"$AF$56","v":0},{"$f":"$AJ$56","v":"0 Right"}]
[{"$nulls":37},{"$f":"$E$57","v":0},{"$f":"$I$57","v":"0 Right"},{"$f":"$N$57","v":0},{"$f":"$R$57","v":"0 Right"},{"$f":"$W$57","v":0},{"$f":"$AA$57","v":"0 Right"},{"$f":"$AF$57","v":0},{"$f":"$AJ$57","v":"0 Right"}]
[{"$nulls":37},{"$f":"$E$58","v":0},{"$f":"$I$58","v":"0 Right"},{"$f":"$N$58","v":0},{"$f":"$R$58","v":"0 Right"},{"$f":"$W$58","v":0},{"$f":"$AA$58","v":"0 Right"},{"$f":"$AF$58","v":0},{"$f":"$AJ$58","v":"0 Right"}]
[{"$nulls":37},{"$f":"$E$59","v":0},{"$f":"$I$59","v":"0 Right"},{"$f":"$N$59","v":0},{"$f":"$R$59","v":"0 Right"},{"$f":"$W$59","v":0},{"$f":"$AA$59","v":"0 Right"},{"$f":"$AF$59","v":0},{"$f":"$AJ$59","v":"0 Right"}]

{"sheet":"30","index":13,"n_rows":101,"n_cols":45,"rows_kept":101,"hidden":true,"merged":[[0,1,0,14],[1,1,1,2],[1,3,1,4],[1,5,1,6],[1,7,1,8],[1,9,1,10],[1,11,1,12],[1,13,1,14],[2,0,4,0],[5,0,7,0],[8,0,10,0],[11,0,13,0],[14,1,14,14],[15,1,15,6],[15,10,15,15],[15,19,15,24],[15,28,15,33],[16,37,16,38],[16,39,16,40],[16,41,16,42],[16,43,16,44]]}
[null,"YOU MAY CHANGE THESE RINK NUMBERS IF YOU WISH"]
["Round",1,null,2,2,3,3,4,4,5,5,6,6,7,7]
[1,1,2,3,4,5,6,7,8,9,10,11,12,13,14]
[null,16,17,18,19,20,21,22,23,24,25,26,27,28,29]
[null,15,30]
[2,5,7,1,13,2,14,3,12,4,15,6,10,9,11]
[null,18,20,30,26,29,27,16,25,17,28,19,23,22,24]
[null,8,21]
[3,3,11,2,14,7,15,1,10,5,8,13,9,4,6]
[null,29,22,28,25,18,26,27,21,16,19,24,20,30,17]
[null,12,23]
[4,4,10,15,11,8,3,14,13,12,6,1,5,7,2]
[null,28,26,24,27,16,19,30,29,20,22,17,21,23,18]
[null,25,9]
[null,"30 on 1 green"]
[null,1,{"$nulls":8},2,{"$nulls":8},3,{"$nulls":8},4]
[null,"no","Left","rink","no","Right","rink","L","R",null,"no","Left","rink","no","Right","rink","L","R",null,"no","Left","rink","no","Right","rink","L","R",null,"no","Left","rink","no","Right","rink","L","R",null,1,null,2,null,3,null,4]
[null,1,"Left",{"$f":"$B$2","v":1},2,"Right",{"$f":"$B$2","v":1},{"$f":"(D18&\" \"&C18)","v":"1 Left"},{"$f":"(G18&\" \"&F18)","v":"1 Right"},null,5,"Left",{"$f":"$B$2","v":1},7,"Right",{"$f":"$B$2","v":1},{"$f":"(M18&\" \"&L18)","v":"1 Left"},{"$f":"(P18&\" \"&O18)","v":"1 Right"},null,3,"Left",{"$f":"$B$2","v":1},11,"Right",{"$f":"$B$2","v":1},{"$f":"(V18&\" \"&U18)","v":"1 Left"},{"$f":"(Y18&\" \"&X18)","v":"1 Right"},null,4,"Left",{"$f":"$B$2","v":1},10,"Right",{"$f":"$B$2","v":1},{"$f":"(AE18&\" \"&AD18)","v":"1 Left"},{"$f":"(AH18&\" \"&AG18)","v":"1 Right"}]
[null,16,"Left",{"$f":"$B$2","v":1},17,"Right",{"$f":"$B$2","v":1},{"$f":"(D19&\" \"&C19)","v":"1 Left"},{"$f":"(G19&\" \"&F19)","v":"1 Right"},null,18,"Left",{"$f":"$B$2","v":1},20,"Right",{"$f":"$B$2","v":1},{"$f":"(M19&\" \"&L19)","v":"1 Left"},{"$f":"(P19&\" \"&O19)","v":"1 Right"},null,29,"Left",{"$f":"$B$2","v":1},22,"Right",{"$f":"$B$2","v":1},{"$f":"(V19&\" \"&U19)","v":"1 Left"},{"$f":"(Y19&\" \"&X19)","v":"1 Right"},null,28,"Left",{"$f":"$B$2","v":1},26,"Right",{"$f":"$B$2","v":1},{"$f":"(AE19&\" \"&AD19)","v":"1 Left"},{"$f":"(AH19&\" \"&AG19)","v":"1 Right"}]
[null,15,"Left",{"$f":"$B$2","v":1},30,"Right",{"$f":"$B$2","v":1},"1 Left","1 Right",null,8,"Left",{"$f":"$B$2","v":1},21,"Right",{"$f":"$B$2","v":1},"1 Left","1 Right",null,12,"Left",{"$f":"$B$2","v":1},23,"Right",{"$f":"$B$2","v":1},"1 Left","1 Right",null,25,"Left",{"$f":"$B$2","v":1},9,"Right",{"$f":"$B$2","v":1},"1 Left","1 Right"]
[null,3,"Left",{"$f":"$D$2","v":2},4,"Right",{"$f":"$D$2","v":2},"2 Left","2 Right",null,1,"Left",{"$f":"$D$2","v":2},13,"Right",{"$f":"$D$2","v":2},"2 Left","2 Right",null,2,"Left",{"$f":"$D$2","v":2},14,"Right",{"$f":"$D$2","v":2},"2 Left","2 Right",null,15,"Left",{"$f":"$D$2","v":2},11,"Right",{"$f":"$D$2","v":2},"2 Left","2 Right"]
[null,18,"Left",{"$f":"$D$2","v":2},19,"Right",{"$f":"$D$2","v":2},"2 Left","2 Right",null,30,"Left",{"$f":"$D$2","v":2},26,"Right",{"$f":"$D$2","v":2},"2 Left","2 Right",null,28,"Left",{"$f":"$D$2","v":2},25,"Right",{"$f":"$D$2","v":2},"2 Left","2 Right",null,24,"Left",{"$f":"$D$2","v":2},27,"Right",{"$f":"$D$2","v":2},"2 Left","2 Right"]
[null,null,"Left",{"$f":"$D$2","v":2},null,"Right",{"$f":"$D$2","v":2},"2 Left","2 Right",null,null,"Left",{"$f":"$D$2","v":2},null,"Right",{"$f":"$D$2","v":2},"2 Left","2 Right",null,null,"Left",{"$f":"$D$2","v":2},null,"Right",{"$f":"$D$2","v":2},"2 Left","2 Right",null,null,"Left",{"$f":"$D$2","v":2},null,"Right",{"$f":"$D$2","v":2},"2 Left","2 Right"]
[null,5,"Left",{"$f":"$F$2","v":3},6,"Right",{"$f":"$F$2","v":3},"3 Left","3 Right",null,2,"Left",{"$f":"$F$2","v":3},14,"Right",{"$f":"$F$2","v":3},"3 Left","3 Right",null,7,"Left",{"$f":"$F$2","v":3},15,"Right",{"$f":"$F$2","v":3},"3 Left","3 Right",null,8,"Left",{"$f":"$F$2","v":3},3,"Right",{"$f":"$F$2","v":3},"3 Left","3 Right"]
[null,20,"Left",{"$f":"$F$2","v":3},21,"Right",{"$f":"$F$2","v":3},"3 Left","3 Right",null,29,"Left",{"$f":"$F$2","v":3},27,"Right",{"$f":"$F$2","v":3},"3 Left","3 Right",null,18,"Left",{"$f":"$F$2","v":3},26,"Right",{"$f":"$F$2","v":3},"3 Left","3 Right",null,16,"Left",{"$f":"$F$2","v":3},19,"Right",{"$f":"$F$2","v":3},"3 Left","3 Right"]
[null,null,"Left",{"$f":"$F$2","v":3},null,"Right",{"$f":"$F$2","v":3},"3 Left","3 Right",null,null,"Left",{"$f":"$F$2","v":3},null,"Right",{"$f":"$F$2","v":3},"3 Left","3 Right",null,null,"Left",{"$f":"$F$2","v":3},null,"Right",{"$f":"$F$2","v":3},"3 Left","3 Right",null,null,"Left",{"$f":"$F$2","v":3},null,"Right",{"$f":"$F$2","v":3},"3 Left","3 Right"]
[null,7,"Left",{"$f":"$H$2","v":4},8,"Right",{"$f":"$H$2","v":4},"4 Left","4 Right",null,3,"Left",{"$f":"$H$2","v":4},12,"Right",{"$f":"$H$2","v":4},"4 Left","4 Right",null,1,"Left",{"$f":"$H$2","v":4},10,"Right",{"$f":"$H$2","v":4},"4 Left","4 Right",null,14,"Left",{"$f":"$H$2","v":4},13,"Right",{"$f":"$H$2","v":4},"4 Left","4 Right"]
[null,22,"Left",{"$f":"$H$2","v":4},23,"Right",{"$f":"$H$2","v":4},"4 Left","4 Right",null,16,"Left",{"$f":"$H$2","v":4},25,"Right",{"$f":"$H$2","v":4},"4 Left","4 Right",null,27,"Left",{"$f":"$H$2","v":4},21,"Right",{"$f":"$H$2","v":4},"4 Left","4 Right",null,30,"Left",{"$f":"$H$2","v":4},29,"Right",{"$f":"$H$2","v":4},"4 Left","4 Right"]
[null,null,"Left",4,null,"Right",4,"4 Left","4 Right",null,null,"Left",4,null,"Right",4,"4 Left","4 Right",null,null,"Left",4,null,"Right",4,"4 Left","4 Right",null,null,"Left",4,null,"Right",4,"4 Left","4 Right"]
[null,9,"Left",{"$f":"$J$2","v":5},10,"Right",{"$f":"$J$2","v":5},"5 Left","5 Right",null,4,"Left",{"$f":"$J$2","v":5},15,"Right",{"$f":"$J$2","v":5},"5 Left","5 Right",null,5,"Left",{"$f":"$J$2","v":5},8,"Right",{"$f":"$J$2","v":5},"5 Left","5 Right",null,12,"Left",{"$f":"$J$2","v":5},6,"Right",{"$f":"$J$2","v":5},"5 Left","5 Right"]
[null,24,"Left",{"$f":"$J$2","v":5},25,"Right",{"$f":"$J$2","v":5},"5 Left","5 Right",null,17,"Left",{"$f":"$J$2","v":5},28,"Right",{"$f":"$J$2","v":5},"5 Left","5 Right",null,16,"Left",{"$f":"$J$2","v":5},19,"Right",{"$f":"$J$2","v":5},"5 Left","5 Right",null,20,"Left",{"$f":"$J$2","v":5},22,"Right",{"$f":"$J$2","v":5},"5 Left","5 Right"]
[null,null,"Left",5,null,"Right",5,"5 Left","5 Right",null,null,"Left",5,null,"Right",5,"5 Left","5 Right",null,null,"Left",5,null,"Right",5,"5 Left","5 Right",null,null,"Left",5,null,"Right",5,"5 Left","5 Right"]
[null,11,"Left",{"$f":"$L$2","v":6},12,"Right",{"$f":"$L$2","v":6},"6 Left","6 Right",null,6,"Left",{"$f":"$L$2","v":6},10,"Right",{"$f":"$L$2","v":6},"6 Left","6 Right",null,13,"Left",{"$f":"$L$2","v":6},9,"Right",{"$f":"$L$2","v":6},"6 Left","6 Right",null,1,"Left",{"$f":"$L$2","v":6},5,"Right",{"$f":"$L$2","v":6},"6 Left","6 Right"]
[null,26,"Left",{"$f":"$L$2","v":6},27,"Right",{"$f":"$L$2","v":6},"6 Left","6 Right",null,19,"Left",{"$f":"$L$2","v":6},23,"Right",{"$f":"$L$2","v":6},"6 Left","6 Right",null,24,"Left",{"$f":"$L$2","v":6},20,"Right",{"$f":"$L$2","v":6},"6 Left","6 Right",null,17,"Left",{"$f":"$L$2","v":6},21,"Right",{"$f":"$L$2","v":6},"6 Left","6 Right"]
[null,null,"Left",6,null,"Right",6,"6 Left","6 Right",null,null,"Left",6,null,"Right",6,"6 Left","6 Right",null,null,"Left",6,null,"Right",6,"6 Left","6 Right",null,null,"Left",6,null,"Right",6,"6 Left","6 Right"]
[null,13,"Left",{"$f":"$N$2","v":7},14,"Right",{"$f":"$N$2","v":7},"7 Left","7 Right",null,9,"Left",{"$f":"$N$2","v":7},11,"Right",{"$f":"$N$2","v":7},"7 Left","7 Right",null,4,"Left",{"$f":"$N$2","v":7},6,"Right",{"$f":"$N$2","v":7},"7 Left","7 Right",null,7,"Left",{"$f":"$N$2","v":7},2,"Right",{"$f":"$N$2","v":7},"7 Left","7 Right"]
[null,28,"Left",{"$f":"$N$2","v":7},29,"Right",{"$f":"$N$2","v":7},"7 Left","7 Right",null,22,"Left",{"$f":"$N$2","v":7},24,"Right",{"$f":"$N$2","v":7},"7 Left","7 Right",null,30,"Left",{"$f":"$N$2","v":7},17,"Right",{"$f":"$N$2","v":7},"7 Left","7 Right",null,23,"Left",{"$f":"$N$2","v":7},18,"Right",{"$f":"$N$2","v":7},"7 Left","7 Right"]
[null,null,"Left",7,null,"Right",7,"7 Left","7 Right",null,null,"Left",7,null,"Right",7,"7 Left","7 Right",null,null,"Left",7,null,"Right",7,"7 Left","7 Right",null,null,"Left",7,null,"Right",7,"7 Left","7 Right"]
[null,null,"Left",{"$f":"$P$2","v":0},null,"Right",{"$f":"$P$2","v":0},"0 Left","0 Right",null,null,"Left",{"$f":"$P$2","v":0},null,"Right",{"$f":"$P$2","v":0},"0 Left","0 Right",null,null,"Left",{"$f":"$P$2","v":0},null,"Right",{"$f":"$P$2","v":0},"0 Left","0 Right",null,null,"Left",{"$f":"$P$2","v":0},null,"Right",{"$f":"$P$2","v":0},"0 Left","0 Right"]
[null,null,"Left",{"$f":"$P$2","v":0},null,"Right",{"$f":"$P$2","v":0},"0 Left","0 Right",null,null,"Left",{"$f":"$P$2","v":0},null,"Right",{"$f":"$P$2","v":0},"0 Left","0 Right",null,null,"Left",{"$f":"$P$2","v":0},null,"Right",{"$f":"$P$2","v":0},"0 Left","0 Right",null,null,"Left",{"$f":"$P$2","v":0},null,"Right",{"$f":"$P$2","v":0},"0 Left","0 Right"]
[null,null,"Left",0,null,"Right",0,"0 Left","0 Right",null,null,"Left",0,null,"Right",0,"0 Left","0 Right",null,null,"Left",0,null,"Right",0,"0 Left","0 Right",null,null,"Left",0,null,"Right",0,"0 Left","0 Right"]
[null,null,"Left",{"$f":"$R$2","v":0},null,"Right",{"$f":"$R$2","v":0},"0 Left","0 Right",null,null,"Left",{"$f":"$R$2","v":0},null,"Right",{"$f":"$R$2","v":0},"0 Left","0 Right",null,null,"Left",{"$f":"$R$2","v":0},null,"Right",{"$f":"$R$2","v":0},"0 Left","0 Right",null,null,"Left",{"$f":"$R$2","v":0},null,"Right",{"$f":"$R$2","v":0},"0 Left","0 Right"]
[null,null,"Left",{"$f":"$R$2","v":0},null,"Right",{"$f":"$R$2","v":0},"0 Left","0 Right",null,null,"Left",{"$f":"$R$2","v":0},null,"Right",{"$f":"$R$2","v":0},"0 Left","0 Right",null,null,"Left",{"$f":"$R$2","v":0},null,"Right",{"$f":"$R$2","v":0},"0 Left","0 Right",null,null,"Left",{"$f":"$R$2","v":0},null,"Right",{"$f":"$R$2","v":0},"0 Left","0 Right"]
[null,null,"Left",0,null,"Right",0,"0 Left","0 Right",null,null,"Left",0,null,"Right",0,"0 Left","0 Right",null,null,"Left",0,null,"Right",0,"0 Left","0 Right",null,null,"Left",0,null,"Right",0,"0 Left","0 Right"]
[null,null,"Left",{"$f":"$T$2","v":0},null,"Right",{"$f":"$T$2","v":0},"0 Left","0 Right",null,null,"Left",{"$f":"$T$2","v":0},null,"Right",{"$f":"$T$2","v":0},"0 Left","0 Right",null,null,"Left",{"$f":"$T$2","v":0},null,"Right",{"$f":"$T$2","v":0},"0 Left","0 Right",null,null,"Left",{"$f":"$T$2","v":0},null,"Right",{"$f":"$T$2","v":0},"0 Left","0 Right"]
[null,null,"Left",{"$f":"$T$2","v":0},null,"Right",{"$f":"$T$2","v":0},"0 Left","0 Right",null,null,"Left",{"$f":"$T$2","v":0},null,"Right",{"$f":"$T$2","v":0},"0 Left","0 Right",null,null,"Left",{"$f":"$T$2","v":0},null,"Right",{"$f":"$T$2","v":0},"0 Left","0 Right",null,null,"Left",{"$f":"$T$2","v":0},null,"Right",{"$f":"$T$2","v":0},"0 Left","0 Right"]
[null,null,"Left",0,null,"Right",0,"0 Left","0 Right",null,null,"Left",0,null,"Right",0,"0 Left","0 Right",null,null,"Left",0,null,"Right",0,"0 Left","0 Right",null,null,"Left",0,null,"Right",0,"0 Left","0 Right"]
[null,null,"Left",{"$f":"$V$2","v":0},null,"Right",{"$f":"$V$2","v":0},"0 Left","0 Right",null,null,"Left",{"$f":"$V$2","v":0},null,"Right",{"$f":"$V$2","v":0},"0 Left","0 Right",null,null,"Left",{"$f":"$V$2","v":0},null,"Right",{"$f":"$V$2","v":0},"0 Left","0 Right",null,null,"Left",{"$f":"$V$2","v":0},null,"Right",{"$f":"$V$2","v":0},"0 Left","0 Right",null,{"$f":"$B$39","v":0},{"$f":"$H$39","v":"0 Left"},{"$f":"$K$23","v":0},{"$f":"$Q$23","v":"2 Left"},{"$f":"$T$23","v":0},{"$f":"$Z$23","v":"2 Left"},{"$f":"$AC$23","v":0},{"$f":"$AI$23","v":"2 Left"}]
[null,null,"Left",{"$f":"$V$2","v":0},null,"Right",{"$f":"$V$2","v":0},"0 Left","0 Right",null,null,"Left",{"$f":"$V$2","v":0},null,"Right",{"$f":"$V$2","v":0},"0 Left","0 Right",null,null,"Left",{"$f":"$V$2","v":0},null,"Right",{"$f":"$V$2","v":0},"0 Left","0 Right",null,null,"Left",{"$f":"$V$2","v":0},null,"Right",{"$f":"$V$2","v":0},"0 Left","0 Right",null,{"$f":"$E$39","v":0},{"$f":"$I$39","v":"0 Right"},{"$f":"$K$26","v":0},{"$f":"$Q$26","v":"3 Left"},{"$f":"$T$26","v":0},{"$f":"$Z$26","v":"3 Left"},{"$f":"$AC$26","v":0},{"$f":"$AI$26","v":"3 Left"}]
[null,null,"Left",0,null,"Right",0,"0 Left","0 Right",null,null,"Left",0,null,"Right",0,"0 Left","0 Right",null,null,"Left",0,null,"Right",0,"0 Left","0 Right",null,null,"Left",0,null,"Right",0,"0 Left","0 Right",null,{"$f":"$B$42","v":0},{"$f":"$H$42","v":"0 Left"},{"$f":"$K$29","v":0},{"$f":"$Q$29","v":"4 Left"},{"$f":"$T$29","v":0},{"$f":"$Z$29","v":"4 Left"},{"$f":"$AC$29","v":0},{"$f":"$AI$29","v":"4 Left"}]
[null,null,"Left",{"$f":"$X$2","v":0},null,"Right",{"$f":"$X$2","v":0},"0 Left","0 Right",null,null,"Left",{"$f":"$X$2","v":0},null,"Right",{"$f":"$X$2","v":0},"0 Left","0 Right",null,null,"Left",{"$f":"$X$2","v":0},null,"Right",{"$f":"$X$2","v":0},"0 Left","0 Right",null,null,"Left",{"$f":"$X$2","v":0},null,"Right",{"$f":"$X$2","v":0},"0 Left","0 Right",null,{"$f":"$E$42","v":0},{"$f":"$I$42","v":"0 Right"},{"$f":"$K$32","v":0},{"$f":"$Q$32","v":"5 Left"},{"$f":"$T$32","v":0},{"$f":"$Z$32","v":"5 Left"},{"$f":"$AC$32","v":0},{"$f":"$AI$32","v":"5 Left"}]
[null,null,"Left",{"$f":"$X$2","v":0},null,"Right",{"$f":"$X$2","v":0},"0 Left","0 Right",null,null,"Left",{"$f":"$X$2","v":0},null,"Right",{"$f":"$X$2","v":0},"0 Left","0 Right",null,null,"Left",{"$f":"$X$2","v":0},null,"Right",{"$f":"$X$2","v":0},"0 Left","0 Right",null,null,"Left",{"$f":"$X$2","v":0},null,"Right",{"$f":"$X$2","v":0},"0 Left","0 Right",null,{"$f":"$B$45","v":0},{"$f":"$H$45","v":"0 Left"},{"$f":"$K$35","v":0},{"$f":"$Q$35","v":"6 Left"},{"$f":"$T$35","v":0},{"$f":"$Z$35","v":"6 Left"},{"$f":"$AC$35","v":0},{"$f":"$AI$35","v":"6 Left"}]
[null,null,"Left",0,null,"Right",0,"0 Left","0 Right",null,null,"Left",0,null,"Right",0,"0 Left","0 Right",null,null,"Left",0,null,"Right",0,"0 Left","0 Right",null,null,"Left",0,null,"Right",0,"0 Left","0 Right",null,{"$f":"$E$45","v":0},{"$f":"$I$45","v":"0 Right"},{"$f":"$K$38","v":0},{"$f":"$Q$38","v":"7 Left"},{"$f":"$T$38","v":0},{"$f":"$Z$38","v":"7 Left"},{"$f":"$AC$38","v":0},{"$f":"$AI$38","v":"7 Left"}]
[null,null,"Left",{"$f":"$Z$2","v":0},null,"Right",{"$f":"$Z$2","v":0},"0 Left","0 Right",null,null,"Left",{"$f":"$Z$2","v":0},null,"Right",{"$f":"$Z$2","v":0},"0 Left","0 Right",null,null,"Left",{"$f":"$Z$2","v":0},null,"Right",{"$f":"$Z$2","v":0},"0 Left","0 Right",null,null,"Left",{"$f":"$Z$2","v":0},null,"Right",{"$f":"$Z$2","v":0},"0 Left","0 Right",null,{"$f":"$B$40","v":0},{"$f":"$H$40","v":"0 Left"},{"$f":"$K$39","v":0},{"$f":"$Q$39","v":"0 Left"},{"$f":"$T$39","v":0},{"$f":"$Z$39","v":"0 Left"},{"$f":"$AC$39","v":0},{"$f":"$AI$39","v":"0 Left"}]
[null,null,"Left",{"$f":"$Z$2","v":0},null,"Right",{"$f":"$Z$2","v":0},"0 Left","0 Right",null,null,"Left",{"$f":"$Z$2","v":0},null,"Right",{"$f":"$Z$2","v":0},"0 Left","0 Right",null,null,"Left",{"$f":"$Z$2","v":0},null,"Right",{"$f":"$Z$2","v":0},"0 Left","0 Right",null,null,"Left",{"$f":"$Z$2","v":0},null,"Right",{"$f":"$Z$2","v":0},"0 Left","0 Right",null,{"$f":"$E$40","v":0},{"$f":"$I$40","v":"0 Right"},{"$f":"$K$40","v":0},{"$f":"$Q$40","v":"0 Left"},{"$f":"$T$40","v":0},{"$f":"$Z$40","v":"0 Left"},{"$f":"$AC$40","v":0},{"$f":"$AI$40","v":"0 Left"}]
[null,null,"Left",0,null,"Right",0,"0 Left","0 Right",null,null,"Left",0,null,"Right",0,"0 Left","0 Right",null,null,"Left",0,null,"Right",0,"0 Left","0 Right",null,null,"Left",0,null,"Right",0,"0 Left","0 Right",null,{"$f":"$B$43","v":0},{"$f":"$H$43","v":"0 Left"},{"$f":"$K$41","v":0},{"$f":"$Q$41","v":"0 Left"},{"$f":"$T$41","v":0},{"$f":"$Z$41","v":"0 Left"},{"$f":"$AC$41","v":0},{"$f":"$AI$41","v":"0 Left"}]
[null,null,"Left",{"$f":"$AB$2","v":0},null,"Right",{"$f":"$AB$2","v":0},"0 Left","0 Right",null,null,"Left",{"$f":"$AB$2","v":0},null,"Right",{"$f":"$AB$2","v":0},"0 Left","0 Right",null,null,"Left",{"$f":"$AB$2","v":0},null,"Right",{"$f":"$AB$2","v":0},"0 Left","0 Right",null,null,"Left",{"$f":"$AB$2","v":0},null,"Right",{"$f":"$AB$2","v":0},"0 Left","0 Right",null,{"$f":"$E$43","v":0},{"$f":"$I$43","v":"0 Right"},{"$f":"$K$42","v":0},{"$f":"$Q$42","v":"0 Left"},{"$f":"$T$42","v":0},{"$f":"$Z$42","v":"0 Left"},{"$f":"$AC$42","v":0},{"$f":"$AI$42","v":"0 Left"}]
[null,null,"Left",{"$f":"$AB$2","v":0},null,"Right",{"$f":"$AB$2","v":0},"0 Left","0 Right",null,null,"Left",{"$f":"$AB$2","v":0},null,"Right",{"$f":"$AB$2","v":0},"0 Left","0 Right",null,null,"Left",{"$f":"$AB$2","v":0},null,"Right",{"$f":"$AB$2","v":0},"0 Left","0 Right",null,null,"Left",{"$f":"$AB$2","v":0},null,"Right",{"$f":"$AB$2","v":0},"0 Left","0 Right",null,{"$f":"$B$46","v":0},{"$f":"$H$46","v":"0 Left"},{"$f":"$K$43","v":0},{"$f":"$Q$43","v":"0 Left"},{"$f":"$T$43","v":0},{"$f":"$Z$43","v":"0 Left"},{"$f":"$AC$43","v":0},{"$f":"$AI$43","v":"0 Left"}]
[null,null,"Left",0,null,"Right",0,"0 Left","0 Right",null,null,"Left",0,null,"Right",0,"0 Left","0 Right",null,null,"Left",0,null,"Right",0,"0 Left","0 Right",null,null,"Left",0,null,"Right",0,"0 Left","0 Right",null,{"$f":"$E$46","v":0},{"$f":"$I$46","v":"0 Right"},{"$f":"$K$44","v":0},{"$f":"$Q$44","v":"0 Left"},{"$f":"$T$44","v":0},{"$f":"$Z$44","v":"0 Left"},{"$f":"$AC$44","v":0},{"$f":"$AI$44","v":"0 Left"}]
[{"$nulls":37},{"$f":"$B$23","v":0},{"$f":"$H$23","v":"2 Left"},{"$f":"$K$45","v":0},{"$f":"$Q$45","v":"0 Left"},{"$f":"$T$45","v":0},{"$f":"$Z$45","v":"0 Left"},{"$f":"$AC$45","v":0},{"$f":"$AI$45","v":"0 Left"}]
[{"$nulls":37},{"$f":"$B$26","v":0},{"$f":"$H$26","v":"3 Left"},{"$f":"$K$46","v":0},{"$f":"$Q$46","v":"0 Left"},{"$f":"$T$46","v":0},{"$f":"$Z$46","v":"0 Left"},{"$f":"$AC$46","v":0},{"$f":"$AI$46","v":"0 Left"}]
[{"$nulls":37},{"$f":"$B$29","v":0},{"$f":"$H$29","v":"4 Left"},{"$f":"$K$47","v":0},{"$f":"$Q$47","v":"0 Left"},{"$f":"$T$47","v":0},{"$f":"$Z$47","v":"0 Left"},{"$f":"$AC$47","v":0},{"$f":"$AI$47","v":"0 Left"}]
[{"$nulls":37},{"$f":"$B$32","v":0},{"$f":"$H$32","v":"5 Left"},{"$f":"$K$48","v":0},{"$f":"$Q$48","v":"0 Left"},{"$f":"$T$48","v":0},{"$f":"$Z$48","v":"0 Left"},{"$f":"$AC$48","v":0},{"$f":"$AI$48","v":"0 Left"}]
[{"$nulls":37},{"$f":"$B$35","v":0},{"$f":"$H$35","v":"6 Left"},{"$f":"$K$49","v":0},{"$f":"$Q$49","v":"0 Left"},{"$f":"$T$49","v":0},{"$f":"$Z$49","v":"0 Left"},{"$f":"$AC$49","v":0},{"$f":"$AI$49","v":"0 Left"}]
[{"$nulls":37},{"$f":"$B$38","v":0},{"$f":"$H$38","v":"7 Left"},{"$f":"$K$50","v":0},{"$f":"$Q$50","v":"0 Left"},{"$f":"$T$50","v":0},{"$f":"$Z$50","v":"0 Left"},{"$f":"$AC$50","v":0},{"$f":"$AI$50","v":"0 Left"}]
[{"$nulls":37},{"$f":"$B$41","v":0},{"$f":"$H$41","v":"0 Left"},{"$f":"$K$51","v":0},{"$f":"$Q$51","v":"0 Left"},{"$f":"$T$51","v":0},{"$f":"$Z$51","v":"0 Left"},{"$f":"$AC$51","v":0},{"$f":"$AI$51","v":"0 Left"}]
[{"$nulls":37},{"$f":"$B$44","v":0},{"$f":"$H$44","v":"0 Left"},{"$f":"$K$52","v":0},{"$f":"$Q$52","v":"0 Left"},{"$f":"$T$52","v":0},{"$f":"$Z$52","v":"0 Left"},{"$f":"$AC$52","v":0},{"$f":"$AI$52","v":"0 Left"}]
[{"$nulls":37},{"$f":"$B$47","v":0},{"$f":"$H$47","v":"0 Left"},{"$f":"$K$53","v":0},{"$f":"$Q$53","v":"0 Left"},{"$f":"$T$53","v":0},{"$f":"$Z$53","v":"0 Left"},{"$f":"$AC$53","v":0},{"$f":"$AI$53","v":"0 Left"}]
[{"$nulls":37},{"$f":"$B$48","v":0},{"$f":"$H$48","v":"0 Left"},{"$f":"$K$54","v":0},{"$f":"$Q$54","v":"0 Left"},{"$f":"$T$54","v":0},{"$f":"$Z$54","v":"0 Left"},{"$f":"$AC$54","v":0},{"$f":"$AI$54","v":"0 Left"}]
[{"$nulls":37},{"$f":"$B$49","v":0},{"$f":"$H$49","v":"0 Left"},{"$f":"$K$55","v":0},{"$f":"$Q$55","v":"0 Left"},{"$f":"$T$55","v":0},{"$f":"$Z$55","v":"0 Left"},{"$f":"$AC$55","v":0},{"$f":"$AI$55","v":"0 Left"}]
[{"$nulls":37},{"$f":"$B$50","v":0},{"$f":"$H$50","v":"0 Left"},{"$f":"$K$56","v":0},{"$f":"$Q$56","v":"0 Left"},{"$f":"$T$56","v":0},{"$f":"$Z$56","v":"0 Left"},{"$f":"$AC$56","v":0},{"$f":"$AI$56","v":"0 Left"}]
[{"$nulls":37},{"$f":"$B$51","v":0},{"$f":"$H$51","v":"0 Left"},{"$f":"$K$57","v":0},{"$f":"$Q$57","v":"0 Left"},{"$f":"$T$57","v":0},{"$f":"$Z$57","v":"0 Left"},{"$f":"$AC$57","v":0},{"$f":"$AI$57","v":"0 Left"}]
[{"$nulls":37},{"$f":"$B$52","v":0},{"$f":"$H$52","v":"0 Left"},{"$f":"$K$58","v":0},{"$f":"$Q$58","v":"0 Left"},{"$f":"$T$58","v":0},{"$f":"$Z$58","v":"0 Left"},{"$f":"$AC$58","v":0},{"$f":"$AI$58","v":"0 Left"}]
[{"$nulls":37},{"$f":"$B$53","v":0},{"$f":"$H$53","v":"0 Left"},{"$f":"$K$59","v":0},{"$f":"$Q$59","v":"0 Left"},{"$f":"$T$59","v":0},{"$f":"$Z$59","v":"0 Left"},{"$f":"$AC$59","v":0},{"$f":"$AI$59","v":"0 Left"}]
[{"$nulls":37},{"$f":"$B$54","v":0},{"$f":"$H$54","v":"0 Left"},{"$f":"$N$23","v":0},{"$f":"$R$23","v":"2 Right"},{"$f":"$W$23","v":0},{"$f":"$AA$23","v":"2 Right"},{"$f":"$AF$23","v":0},{"$f":"$AJ$23","v":"2 Right"}]
[{"$nulls":37},{"$f":"$B$55","v":0},{"$f":"$H$55","v":"0 Left"},{"$f":"$N$26","v":0},{"$f":"$R$26","v":"3 Right"},{"$f":"$W$26","v":0},{"$f":"$AA$26","v":"3 Right"},{"$f":"$AF$26","v":0},{"$f":"$AJ$26","v":"3 Right"}]
[{"$nulls":37},{"$f":"$B$56","v":0},{"$f":"$H$56","v":"0 Left"},{"$f":"$N$29","v":0},{"$f":"$R$29","v":"4 Right"},{"$f":"$W$29","v":0},{"$f":"$AA$29","v":"4 Right"},{"$f":"$AF$29","v":0},{"$f":"$AJ$29","v":"4 Right"}]
[{"$nulls":37},{"$f":"$B$57","v":0},{"$f":"$H$57","v":"0 Left"},{"$f":"$N$32","v":0},{"$f":"$R$32","v":"5 Right"},{"$f":"$W$32","v":0},{"$f":"$AA$32","v":"5 Right"},{"$f":"$AF$32","v":0},{"$f":"$AJ$32","v":"5 Right"}]
[{"$nulls":37},{"$f":"$B$58","v":0},{"$f":"$H$58","v":"0 Left"},{"$f":"$N$35","v":0},{"$f":"$R$35","v":"6 Right"},{"$f":"$W$35","v":0},{"$f":"$AA$35","v":"6 Right"},{"$f":"$AF$35","v":0},{"$f":"$AJ$35","v":"6 Right"}]
[{"$nulls":37},{"$f":"$B$59","v":0},{"$f":"$H$59","v":"0 Left"},{"$f":"$N$38","v":0},{"$f":"$R$38","v":"7 Right"},{"$f":"$W$38","v":0},{"$f":"$AA$38","v":"7 Right"},{"$f":"$AF$38","v":0},{"$f":"$AJ$38","v":"7 Right"}]
[{"$nulls":37},{"$f":"$E$23","v":0},{"$f":"$I$23","v":"2 Right"},{"$f":"$N$39","v":0},{"$f":"$R$39","v":"0 Right"},{"$f":"$W$39","v":0},{"$f":"$AA$39","v":"0 Right"},{"$f":"$AF$39","v":0},{"$f":"$AJ$39","v":"0 Right"}]
[{"$nulls":37},{"$f":"$E$26","v":0},{"$f":"$I$26","v":"3 Right"},{"$f":"$N$40","v":0},{"$f":"$R$40","v":"0 Right"},{"$f":"$W$40","v":0},{"$f":"$AA$40","v":"0 Right"},{"$f":"$AF$40","v":0},{"$f":"$AJ$40","v":"0 Right"}]
[{"$nulls":37},{"$f":"$E$29","v":0},{"$f":"$I$29","v":"4 Right"},{"$f":"$N$41","v":0},{"$f":"$R$41","v":"0 Right"},{"$f":"$W$41","v":0},{"$f":"$AA$41","v":"0 Right"},{"$f":"$AF$41","v":0},{"$f":"$AJ$41","v":"0 Right"}]
[{"$nulls":37},{"$f":"$E$32","v":0},{"$f":"$I$32","v":"5 Right"},{"$f":"$N$42","v":0},{"$f":"$R$42","v":"0 Right"},{"$f":"$W$42","v":0},{"$f":"$AA$42","v":"0 Right"},{"$f":"$AF$42","v":0},{"$f":"$AJ$42","v":"0 Right"}]
[{"$nulls":37},{"$f":"$E$35","v":0},{"$f":"$I$35","v":"6 Right"},{"$f":"$N$43","v":0},{"$f":"$R$43","v":"0 Right"},{"$f":"$W$43","v":0},{"$f":"$AA$43","v":"0 Right"},{"$f":"$AF$43","v":0},{"$f":"$AJ$43","v":"0 Right"}]
[{"$nulls":37},{"$f":"$E$38","v":0},{"$f":"$I$38","v":"7 Right"},{"$f":"$N$44","v":0},{"$f":"$R$44","v":"0 Right"},{"$f":"$W$44","v":0},{"$f":"$AA$44","v":"0 Right"},{"$f":"$AF$44","v":0},{"$f":"$AJ$44","v":"0 Right"}]
[{"$nulls":37},{"$f":"$E$41","v":0},{"$f":"$I$41","v":"0 Right"},{"$f":"$N$45","v":0},{"$f":"$R$45","v":"0 Right"},{"$f":"$W$45","v":0},{"$f":"$AA$45","v":"0 Right"},{"$f":"$AF$45","v":0},{"$f":"$AJ$45","v":"0 Right"}]
[{"$nulls":37},{"$f":"$E$44","v":0},{"$f":"$I$44","v":"0 Right"},{"$f":"$N$46","v":0},{"$f":"$R$46","v":"0 Right"},{"$f":"$W$46","v":0},{"$f":"$AA$46","v":"0 Right"},{"$f":"$AF$46","v":0},{"$f":"$AJ$46","v":"0 Right"}]
[{"$nulls":37},{"$f":"$E$47","v":0},{"$f":"$I$47","v":"0 Right"},{"$f":"$N$47","v":0},{"$f":"$R$47","v":"0 Right"},{"$f":"$W$47","v":0},{"$f":"$AA$47","v":"0 Right"},{"$f":"$AF$47","v":0},{"$f":"$AJ$47","v":"0 Right"}]
[{"$nulls":37},{"$f":"$E$48","v":0},{"$f":"$I$48","v":"0 Right"},{"$f":"$N$48","v":0},{"$f":"$R$48","v":"0 Right"},{"$f":"$W$48","v":0},{"$f":"$AA$48","v":"0 Right"},{"$f":"$AF$48","v":0},{"$f":"$AJ$48","v":"0 Right"}]
[{"$nulls":37},{"$f":"$E$49","v":0},{"$f":"$I$49","v":"0 Right"},{"$f":"$N$49","v":0},{"$f":"$R$49","v":"0 Right"},{"$f":"$W$49","v":0},{"$f":"$AA$49","v":"0 Right"},{"$f":"$AF$49","v":0},{"$f":"$AJ$49","v":"0 Right"}]
[{"$nulls":37},{"$f":"$E$50","v":0},{"$f":"$I$50","v":"0 Right"},{"$f":"$N$50","v":0},{"$f":"$R$50","v":"0 Right"},{"$f":"$W$50","v":0},{"$f":"$AA$50","v":"0 Right"},{"$f":"$AF$50","v":0},{"$f":"$AJ$50","v":"0 Right"}]
[{"$nulls":37},{"$f":"$E$51","v":0},{"$f":"$I$51","v":"0 Right"},{"$f":"$N$51","v":0},{"$f":"$R$51","v":"0 Right"},{"$f":"$W$51","v":0},{"$f":"$AA$51","v":"0 Right"},{"$f":"$AF$51","v":0},{"$f":"$AJ$51","v":"0 Right"}]
[{"$nulls":37},{"$f":"$E$52","v":0},{"$f":"$I$52","v":"0 Right"},{"$f":"$N$52","v":0},{"$f":"$R$52","v":"0 Right"},{"$f":"$W$52","v":0},{"$f":"$AA$52","v":"0 Right"},{"$f":"$AF$52","v":0},{"$f":"$AJ$52","v":"0 Right"}]
[{"$nulls":37},{"$f":"$E$53","v":0},{"$f":"$I$53","v":"0 Right"},{"$f":"$N$53","v":0},{"$f":"$R$53","v":"0 Right"},{"$f":"$W$53","v":0},{"$f":"$AA$53","v":"0 Right"},{"$f":"$AF$53","v":0},{"$f":"$AJ$53","v":"0 Right"}]
[{"$nulls":37},{"$f":"$E$54","v":0},{"$f":"$I$54","v":"0 Right"},{"$f":"$N$54","v":0},{"$f":"$R$54","v":"0 Right"},{"$f":"$W$54","v":0},{"$f":"$AA$54","v":"0 Right"},{"$f":"$AF$54","v":0},{"$f":"$AJ$54","v":"0 Right"}]
[{"$nulls":37},{"$f":"$E$55","v":0},{"$f":"$I$55","v":"0 Right"},{"$f":"$N$55","v":0},{"$f":"$R$55","v":"0 Right"},{"$f":"$W$55","v":0},{"$f":"$AA$55","v":"0 Right"},{"$f":"$AF$55","v":0},{"$f":"$AJ$55","v":"0 Right"}]
[{"$nulls":37},{"$f":"$E$56","v":0},{"$f":"$I$56","v":"0 Right"},{"$f":"$N$56","v":0},{"$f":"$R$56","v":"0 Right"},{"$f":"$W$56","v":0},{"$f":"$AA$56","v":"0 Right"},{"$f":"$AF$56","v":0},{"$f":"$AJ$56","v":"0 Right"}]
[{"$nulls":37},{"$f":"$E$57","v":0},{"$f":"$I$57","v":"0 Right"},{"$f":"$N$57","v":0},{"$f":"$R$57","v":"0 Right"},{"$f":"$W$57","v":0},{"$f":"$AA$57","v":"0 Right"},{"$f":"$AF$57","v":0},{"$f":"$AJ$57","v":"0 Right"}]
[{"$nulls":37},{"$f":"$E$58","v":0},{"$f":"$I$58","v":"0 Right"},{"$f":"$N$58","v":0},{"$f":"$R$58","v":"0 Right"},{"$f":"$W$58","v":0},{"$f":"$AA$58","v":"0 Right"},{"$f":"$AF$58","v":0},{"$f":"$AJ$58","v":"0 Right"}]
[{"$nulls":37},{"$f":"$E$59","v":0},{"$f":"$I$59","v":"0 Right"},{"$f":"$N$59","v":0},{"$f":"$R$59","v":"0 Right"},{"$f":"$W$59","v":0},{"$f":"$AA$59","v":"0 Right"},{"$f":"$AF$59","v":0},{"$f":"$AJ$59","v":"0 Right"}]

{"sheet":"32","index":14,"n_rows":101,"n_cols":45,"rows_kept":101,"hidden":true,"merged":[[0,1,0,16],[1,1,1,2],[1,3,1,4],[1,5,1,6],[1,7,1,8],[1,9,1,10],[1,11,1,12],[1,13,1,14],[1,15,1,16],[2,0,4,0],[5,0,7,0],[8,0,10,0],[11,0,13,0],[14,1,14,16],[15,1,15,6],[15,10,15,15],[15,19,15,24],[15,28,15,33],[16,37,16,38],[16,39,16,40],[16,41,16,42],[16,43,16,44]]}
[null,"YOU MAY CHANGE THESE RINK NUMBERS IF YOU WISH"]
["Round",2,null,3,2,4,3,5,4,9,null,10,2,11,3,12,4]
[1,1,2,3,4,5,6,7,8,17,18,19,20,21,22,23,24]
[null,9,10,11,12,13,14,15,16,25,26,27,28,29,30,31,32]
[]
[2,6,8,1,7,2,3,4,5,22,24,17,23,18,19,20,21]
[null,12,14,15,13,16,9,10,11,28,30,31,29,32,25,26,27]
[]
[3,3,5,4,6,1,8,2,7,19,21,20,22,17,24,18,23]
[null,13,15,14,16,11,10,12,9,29,31,30,32,27,26,28,25]
[]
[4,7,6,5,8,2,4,1,3,23,22,21,24,18,20,17,19]
[null,12,11,10,13,15,9,14,16,28,27,26,29,31,25,30,32]
[]
[null,"32 on 2 greens"]
[null,1,{"$nulls":8},2,{"$nulls":8},3,{"$nulls":8},4]
[null,"no","Left","rink","no","Right","rink","L","R",null,"no","Left","rink","no","Right","rink","L","R",null,"no","Left","rink","no","Right","rink","L","R",null,"no","Left","rink","no","Right","rink","L","R",null,1,null,2,null,3,null,4]
[null,1,"Left",{"$f":"$B$2","v":2},2,"Right",{"$f":"$B$2","v":2},{"$f":"(D18&\" \"&C18)","v":"2 Left"},{"$f":"(G18&\" \"&F18)","v":"2 Right"},null,6,"Left",{"$f":"$B$2","v":2},8,"Right",{"$f":"$B$2","v":2},{"$f":"(M18&\" \"&L18)","v":"2 Left"},{"$f":"(P18&\" \"&O18)","v":"2 Right"},null,3,"Left",{"$f":"$B$2","v":2},5,"Right",{"$f":"$B$2","v":2},{"$f":"(V18&\" \"&U18)","v":"2 Left"},{"$f":"(Y18&\" \"&X18)","v":"2 Right"},null,7,"Left",{"$f":"$B$2","v":2},6,"Right",{"$f":"$B$2","v":2},{"$f":"(AE18&\" \"&AD18)","v":"2 Left"},{"$f":"(AH18&\" \"&AG18)","v":"2 Right"}]
[null,9,"Left",{"$f":"$B$2","v":2},10,"Right",{"$f":"$B$2","v":2},{"$f":"(D19&\" \"&C19)","v":"2 Left"},{"$f":"(G19&\" \"&F19)","v":"2 Right"},null,12,"Left",{"$f":"$B$2","v":2},14,"Right",{"$f":"$B$2","v":2},{"$f":"(M19&\" \"&L19)","v":"2 Left"},{"$f":"(P19&\" \"&O19)","v":"2 Right"},null,13,"Left",{"$f":"$B$2","v":2},15,"Right",{"$f":"$B$2","v":2},{"$f":"(V19&\" \"&U19)","v":"2 Left"},{"$f":"(Y19&\" \"&X19)","v":"2 Right"},null,12,"Left",{"$f":"$B$2","v":2},11,"Right",{"$f":"$B$2","v":2},{"$f":"(AE19&\" \"&AD19)","v":"2 Left"},{"$f":"(AH19&\" \"&AG19)","v":"2 Right"}]
[null,null,"Left",{"$f":"$B$2","v":2},null,"Right",{"$f":"$B$2","v":2},"2 Left","2 Right",null,null,"Left",{"$f":"$B$2","v":2},null,"Right",{"$f":"$B$2","v":2},"2 Left","2 Right",null,null,"Left",{"$f":"$B$2","v":2},null,"Right",{"$f":"$B$2","v":2},"2 Left","2 Right",null,null,"Left",{"$f":"$B$2","v":2},null,"Right",{"$f":"$B$2","v":2},"2 Left","2 Right"]
[null,3,"Left",{"$f":"$D$2","v":3},4,"Right",{"$f":"$D$2","v":3},"3 Left","3 Right",null,1,"Left",{"$f":"$D$2","v":3},7,"Right",{"$f":"$D$2","v":3},"3 Left","3 Right",null,4,"Left",{"$f":"$D$2","v":3},6,"Right",{"$f":"$D$2","v":3},"3 Left","3 Right",null,5,"Left",{"$f":"$D$2","v":3},8,"Right",{"$f":"$D$2","v":3},"3 Left","3 Right"]
[null,11,"Left",{"$f":"$D$2","v":3},12,"Right",{"$f":"$D$2","v":3},"3 Left","3 Right",null,15,"Left",{"$f":"$D$2","v":3},13,"Right",{"$f":"$D$2","v":3},"3 Left","3 Right",null,14,"Left",{"$f":"$D$2","v":3},16,"Right",{"$f":"$D$2","v":3},"3 Left","3 Right",null,10,"Left",{"$f":"$D$2","v":3},13,"Right",{"$f":"$D$2","v":3},"3 Left","3 Right"]
[null,null,"Left",{"$f":"$D$2","v":3},null,"Right",{"$f":"$D$2","v":3},"3 Left","3 Right",null,null,"Left",{"$f":"$D$2","v":3},null,"Right",{"$f":"$D$2","v":3},"3 Left","3 Right",null,null,"Left",{"$f":"$D$2","v":3},null,"Right",{"$f":"$D$2","v":3},"3 Left","3 Right",null,null,"Left",{"$f":"$D$2","v":3},null,"Right",{"$f":"$D$2","v":3},"3 Left","3 Right"]
[null,5,"Left",{"$f":"$F$2","v":4},6,"Right",{"$f":"$F$2","v":4},"4 Left","4 Right",null,2,"Left",{"$f":"$F$2","v":4},3,"Right",{"$f":"$F$2","v":4},"4 Left","4 Right",null,1,"Left",{"$f":"$F$2","v":4},8,"Right",{"$f":"$F$2","v":4},"4 Left","4 Right",null,2,"Left",{"$f":"$F$2","v":4},4,"Right",{"$f":"$F$2","v":4},"4 Left","4 Right"]
[null,13,"Left",{"$f":"$F$2","v":4},14,"Right",{"$f":"$F$2","v":4},"4 Left","4 Right",null,16,"Left",{"$f":"$F$2","v":4},9,"Right",{"$f":"$F$2","v":4},"4 Left","4 Right",null,11,"Left",{"$f":"$F$2","v":4},10,"Right",{"$f":"$F$2","v":4},"4 Left","4 Right",null,15,"Left",{"$f":"$F$2","v":4},9,"Right",{"$f":"$F$2","v":4},"4 Left","4 Right"]
[null,null,"Left",{"$f":"$F$2","v":4},null,"Right",{"$f":"$F$2","v":4},"4 Left","4 Right",null,null,"Left",{"$f":"$F$2","v":4},null,"Right",{"$f":"$F$2","v":4},"4 Left","4 Right",null,null,"Left",{"$f":"$F$2","v":4},null,"Right",{"$f":"$F$2","v":4},"4 Left","4 Right",null,null,"Left",{"$f":"$F$2","v":4},null,"Right",{"$f":"$F$2","v":4},"4 Left","4 Right"]
[null,7,"Left",{"$f":"$H$2","v":5},8,"Right",{"$f":"$H$2","v":5},"5 Left","5 Right",null,4,"Left",{"$f":"$H$2","v":5},5,"Right",{"$f":"$H$2","v":5},"5 Left","5 Right",null,2,"Left",{"$f":"$H$2","v":5},7,"Right",{"$f":"$H$2","v":5},"5 Left","5 Right",null,1,"Left",{"$f":"$H$2","v":5},3,"Right",{"$f":"$H$2","v":5},"5 Left","5 Right"]
[null,15,"Left",{"$f":"$H$2","v":5},16,"Right",{"$f":"$H$2","v":5},"5 Left","5 Right",null,10,"Left",{"$f":"$H$2","v":5},11,"Right",{"$f":"$H$2","v":5},"5 Left","5 Right",null,12,"Left",{"$f":"$H$2","v":5},9,"Right",{"$f":"$H$2","v":5},"5 Left","5 Right",null,14,"Left",{"$f":"$H$2","v":5},16,"Right",{"$f":"$H$2","v":5},"5 Left","5 Right"]
[null,null,"Left",5,null,"Right",5,"5 Left","5 Right",null,null,"Left",5,null,"Right",5,"5 Left","5 Right",null,null,"Left",5,null,"Right",5,"5 Left","5 Right",null,null,"Left",5,null,"Right",5,"5 Left","5 Right"]
[null,17,"Left",{"$f":"$J$2","v":9},18,"Right",{"$f":"$J$2","v":9},"9 Left","9 Right",null,22,"Left",{"$f":"$J$2","v":9},24,"Right",{"$f":"$J$2","v":9},"9 Left","9 Right",null,19,"Left",{"$f":"$J$2","v":9},21,"Right",{"$f":"$J$2","v":9},"9 Left","9 Right",null,23,"Left",{"$f":"$J$2","v":9},22,"Right",{"$f":"$J$2","v":9},"9 Left","9 Right"]
[null,25,"Left",{"$f":"$J$2","v":9},26,"Right",{"$f":"$J$2","v":9},"9 Left","9 Right",null,28,"Left",{"$f":"$J$2","v":9},30,"Right",{"$f":"$J$2","v":9},"9 Left","9 Right",null,29,"Left",{"$f":"$J$2","v":9},31,"Right",{"$f":"$J$2","v":9},"9 Left","9 Right",null,28,"Left",{"$f":"$J$2","v":9},27,"Right",{"$f":"$J$2","v":9},"9 Left","9 Right"]
[null,null,"Left",9,null,"Right",9,"9 Left","9 Right",null,null,"Left",9,null,"Right",9,"9 Left","9 Right",null,null,"Left",9,null,"Right",9,"9 Left","9 Right",null,null,"Left",9,null,"Right",9,"9 Left","9 Right"]
[null,19,"Left",{"$f":"$L$2","v":10},20,"Right",{"$f":"$L$2","v":10},"10 Left","10 Right",null,17,"Left",{"$f":"$L$2","v":10},23,"Right",{"$f":"$L$2","v":10},"10 Left","10 Right",null,20,"Left",{"$f":"$L$2","v":10},22,"Right",{"$f":"$L$2","v":10},"10 Left","10 Right",null,21,"Left",{"$f":"$L$2","v":10},24,"Right",{"$f":"$L$2","v":10},"10 Left","10 Right"]
[null,27,"Left",{"$f":"$L$2","v":10},28,"Right",{"$f":"$L$2","v":10},"10 Left","10 Right",null,31,"Left",{"$f":"$L$2","v":10},29,"Right",{"$f":"$L$2","v":10},"10 Left","10 Right",null,30,"Left",{"$f":"$L$2","v":10},32,"Right",{"$f":"$L$2","v":10},"10 Left","10 Right",null,26,"Left",{"$f":"$L$2","v":10},29,"Right",{"$f":"$L$2","v":10},"10 Left","10 Right"]
[null,null,"Left",10,null,"Right",10,"10 Left","10 Right",null,null,"Left",10,null,"Right",10,"10 Left","10 Right",null,null,"Left",10,null,"Right",10,"10 Left","10 Right",null,null,"Left",10,null,"Right",10,"10 Left","10 Right"]
[null,21,"Left",{"$f":"$N$2","v":11},22,"Right",{"$f":"$N$2","v":11},"11 Left","11 Right",null,18,"Left",{"$f":"$N$2","v":11},19,"Right",{"$f":"$N$2","v":11},"11 Left","11 Right",null,17,"Left",{"$f":"$N$2","v":11},24,"Right",{"$f":"$N$2","v":11},"11 Left","11 Right",null,18,"Left",{"$f":"$N$2","v":11},20,"Right",{"$f":"$N$2","v":11},"11 Left","11 Right"]
[null,29,"Left",{"$f":"$N$2","v":11},30,"Right",{"$f":"$N$2","v":11},"11 Left","11 Right",null,32,"Left",{"$f":"$N$2","v":11},25,"Right",{"$f":"$N$2","v":11},"11 Left","11 Right",null,27,"Left",{"$f":"$N$2","v":11},26,"Right",{"$f":"$N$2","v":11},"11 Left","11 Right",null,31,"Left",{"$f":"$N$2","v":11},25,"Right",{"$f":"$N$2","v":11},"11 Left","11 Right"]
[null,null,"Left",11,null,"Right",11,"11 Left","11 Right",null,null,"Left",11,null,"Right",11,"11 Left","11 Right",null,null,"Left",11,null,"Right",11,"11 Left","11 Right",null,null,"Left",11,null,"Right",11,"11 Left","11 Right"]
[null,23,"Left",{"$f":"$P$2","v":12},24,"Right",{"$f":"$P$2","v":12},"12 Left","12 Right",null,20,"Left",{"$f":"$P$2","v":12},21,"Right",{"$f":"$P$2","v":12},"12 Left","12 Right",null,18,"Left",{"$f":"$P$2","v":12},23,"Right",{"$f":"$P$2","v":12},"12 Left","12 Right",null,17,"Left",{"$f":"$P$2","v":12},19,"Right",{"$f":"$P$2","v":12},"12 Left","12 Right"]
[null,31,"Left",{"$f":"$P$2","v":12},32,"Right",{"$f":"$P$2","v":12},"12 Left","12 Right",null,26,"Left",{"$f":"$P$2","v":12},27,"Right",{"$f":"$P$2","v":12},"12 Left","12 Right",null,28,"Left",{"$f":"$P$2","v":12},25,"Right",{"$f":"$P$2","v":12},"12 Left","12 Right",null,30,"Left",{"$f":"$P$2","v":12},32,"Right",{"$f":"$P$2","v":12},"12 Left","12 Right"]
[null,null,"Left",12,null,"Right",12,"12 Left","12 Right",null,null,"Left",12,null,"Right",12,"12 Left","12 Right",null,null,"Left",12,null,"Right",12,"12 Left","12 Right",null,null,"Left",12,null,"Right",12,"12 Left","12 Right"]
[null,null,"Left",{"$f":"$R$2","v":0},null,"Right",{"$f":"$R$2","v":0},"0 Left","0 Right",null,null,"Left",{"$f":"$R$2","v":0},null,"Right",{"$f":"$R$2","v":0},"0 Left","0 Right",null,null,"Left",{"$f":"$R$2","v":0},null,"Right",{"$f":"$R$2","v":0},"0 Left","0 Right",null,null,"Left",{"$f":"$R$2","v":0},null,"Right",{"$f":"$R$2","v":0},"0 Left","0 Right"]
[null,null,"Left",{"$f":"$R$2","v":0},null,"Right",{"$f":"$R$2","v":0},"0 Left","0 Right",null,null,"Left",{"$f":"$R$2","v":0},null,"Right",{"$f":"$R$2","v":0},"0 Left","0 Right",null,null,"Left",{"$f":"$R$2","v":0},null,"Right",{"$f":"$R$2","v":0},"0 Left","0 Right",null,null,"Left",{"$f":"$R$2","v":0},null,"Right",{"$f":"$R$2","v":0},"0 Left","0 Right"]
[null,null,"Left",0,null,"Right",0,"0 Left","0 Right",null,null,"Left",0,null,"Right",0,"0 Left","0 Right",null,null,"Left",0,null,"Right",0,"0 Left","0 Right",null,null,"Left",0,null,"Right",0,"0 Left","0 Right"]
[null,null,"Left",{"$f":"$T$2","v":0},null,"Right",{"$f":"$T$2","v":0},"0 Left","0 Right",null,null,"Left",{"$f":"$T$2","v":0},null,"Right",{"$f":"$T$2","v":0},"0 Left","0 Right",null,null,"Left",{"$f":"$T$2","v":0},null,"Right",{"$f":"$T$2","v":0},"0 Left","0 Right",null,null,"Left",{"$f":"$T$2","v":0},null,"Right",{"$f":"$T$2","v":0},"0 Left","0 Right"]
[null,null,"Left",{"$f":"$T$2","v":0},null,"Right",{"$f":"$T$2","v":0},"0 Left","0 Right",null,null,"Left",{"$f":"$T$2","v":0},null,"Right",{"$f":"$T$2","v":0},"0 Left","0 Right",null,null,"Left",{"$f":"$T$2","v":0},null,"Right",{"$f":"$T$2","v":0},"0 Left","0 Right",null,null,"Left",{"$f":"$T$2","v":0},null,"Right",{"$f":"$T$2","v":0},"0 Left","0 Right"]
[null,null,"Left",0,null,"Right",0,"0 Left","0 Right",null,null,"Left",0,null,"Right",0,"0 Left","0 Right",null,null,"Left",0,null,"Right",0,"0 Left","0 Right",null,null,"Left",0,null,"Right",0,"0 Left","0 Right"]
[null,null,"Left",{"$f":"$V$2","v":0},null,"Right",{"$f":"$V$2","v":0},"0 Left","0 Right",null,null,"Left",{"$f":"$V$2","v":0},null,"Right",{"$f":"$V$2","v":0},"0 Left","0 Right",null,null,"Left",{"$f":"$V$2","v":0},null,"Right",{"$f":"$V$2","v":0},"0 Left","0 Right",null,null,"Left",{"$f":"$V$2","v":0},null,"Right",{"$f":"$V$2","v":0},"0 Left","0 Right"]
[null,null,"Left",{"$f":"$V$2","v":0},null,"Right",{"$f":"$V$2","v":0},"0 Left","0 Right",null,null,"Left",{"$f":"$V$2","v":0},null,"Right",{"$f":"$V$2","v":0},"0 Left","0 Right",null,null,"Left",{"$f":"$V$2","v":0},null,"Right",{"$f":"$V$2","v":0},"0 Left","0 Right",null,null,"Left",{"$f":"$V$2","v":0},null,"Right",{"$f":"$V$2","v":0},"0 Left","0 Right"]
[null,null,"Left",0,null,"Right",0,"0 Left","0 Right",null,null,"Left",0,null,"Right",0,"0 Left","0 Right",null,null,"Left",0,null,"Right",0,"0 Left","0 Right",null,null,"Left",0,null,"Right",0,"0 Left","0 Right",null,{"$f":"$B$20","v":0},{"$f":"$H$20","v":"2 Left"},{"$f":"$K$20","v":0},{"$f":"$Q$20","v":"2 Left"},{"$f":"$T$20","v":0},{"$f":"$Z$20","v":"2 Left"},{"$f":"$AC$20","v":0},{"$f":"$AI$20","v":"2 Left"}]
[null,null,"Left",{"$f":"$X$2","v":0},null,"Right",{"$f":"$X$2","v":0},"0 Left","0 Right",null,null,"Left",{"$f":"$X$2","v":0},null,"Right",{"$f":"$X$2","v":0},"0 Left","0 Right",null,null,"Left",{"$f":"$X$2","v":0},null,"Right",{"$f":"$X$2","v":0},"0 Left","0 Right",null,null,"Left",{"$f":"$X$2","v":0},null,"Right",{"$f":"$X$2","v":0},"0 Left","0 Right",null,{"$f":"$E$20","v":0},{"$f":"$I$20","v":"2 Right"},{"$f":"$K$23","v":0},{"$f":"$Q$23","v":"3 Left"},{"$f":"$T$23","v":0},{"$f":"$Z$23","v":"3 Left"},{"$f":"$AC$23","v":0},{"$f":"$AI$23","v":"3 Left"}]
[null,null,"Left",{"$f":"$X$2","v":0},null,"Right",{"$f":"$X$2","v":0},"0 Left","0 Right",null,null,"Left",{"$f":"$X$2","v":0},null,"Right",{"$f":"$X$2","v":0},"0 Left","0 Right",null,null,"Left",{"$f":"$X$2","v":0},null,"Right",{"$f":"$X$2","v":0},"0 Left","0 Right",null,null,"Left",{"$f":"$X$2","v":0},null,"Right",{"$f":"$X$2","v":0},"0 Left","0 Right",null,{"$f":"$B$42","v":0},{"$f":"$H$42","v":"0 Left"},{"$f":"$K$26","v":0},{"$f":"$Q$26","v":"4 Left"},{"$f":"$T$26","v":0},{"$f":"$Z$26","v":"4 Left"},{"$f":"$AC$26","v":0},{"$f":"$AI$26","v":"4 Left"}]
[null,null,"Left",0,null,"Right",0,"0 Left","0 Right",null,null,"Left",0,null,"Right",0,"0 Left","0 Right",null,null,"Left",0,null,"Right",0,"0 Left","0 Right",null,null,"Left",0,null,"Right",0,"0 Left","0 Right",null,{"$f":"$E$42","v":0},{"$f":"$I$42","v":"0 Right"},{"$f":"$K$29","v":0},{"$f":"$Q$29","v":"5 Left"},{"$f":"$T$29","v":0},{"$f":"$Z$29","v":"5 Left"},{"$f":"$AC$29","v":0},{"$f":"$AI$29","v":"5 Left"}]
[null,null,"Left",{"$f":"$Z$2","v":0},null,"Right",{"$f":"$Z$2","v":0},"0 Left","0 Right",null,null,"Left",{"$f":"$Z$2","v":0},null,"Right",{"$f":"$Z$2","v":0},"0 Left","0 Right",null,null,"Left",{"$f":"$Z$2","v":0},null,"Right",{"$f":"$Z$2","v":0},"0 Left","0 Right",null,null,"Left",{"$f":"$Z$2","v":0},null,"Right",{"$f":"$Z$2","v":0},"0 Left","0 Right",null,{"$f":"$B$45","v":0},{"$f":"$H$45","v":"0 Left"},{"$f":"$K$32","v":0},{"$f":"$Q$32","v":"9 Left"},{"$f":"$T$32","v":0},{"$f":"$Z$32","v":"9 Left"},{"$f":"$AC$32","v":0},{"$f":"$AI$32","v":"9 Left"}]
[null,null,"Left",{"$f":"$Z$2","v":0},null,"Right",{"$f":"$Z$2","v":0},"0 Left","0 Right",null,null,"Left",{"$f":"$Z$2","v":0},null,"Right",{"$f":"$Z$2","v":0},"0 Left","0 Right",null,null,"Left",{"$f":"$Z$2","v":0},null,"Right",{"$f":"$Z$2","v":0},"0 Left","0 Right",null,null,"Left",{"$f":"$Z$2","v":0},null,"Right",{"$f":"$Z$2","v":0},"0 Left","0 Right",null,{"$f":"$E$45","v":0},{"$f":"$I$45","v":"0 Right"},{"$f":"$K$35","v":0},{"$f":"$Q$35","v":"10 Left"},{"$f":"$T$35","v":0},{"$f":"$Z$35","v":"10 Left"},{"$f":"$AC$35","v":0},{"$f":"$AI$35","v":"10 Left"}]
[null,null,"Left",0,null,"Right",0,"0 Left","0 Right",null,null,"Left",0,null,"Right",0,"0 Left","0 Right",null,null,"Left",0,null,"Right",0,"0 Left","0 Right",null,null,"Left",0,null,"Right",0,"0 Left","0 Right",null,{"$f":"$B$43","v":0},{"$f":"$H$43","v":"0 Left"},{"$f":"$K$38","v":0},{"$f":"$Q$38","v":"11 Left"},{"$f":"$T$38","v":0},{"$f":"$Z$38","v":"11 Left"},{"$f":"$AC$38","v":0},{"$f":"$AI$38","v":"11 Left"}]
[null,null,"Left",{"$f":"$AB$2","v":0},null,"Right",{"$f":"$AB$2","v":0},"0 Left","0 Right",null,null,"Left",{"$f":"$AB$2","v":0},null,"Right",{"$f":"$AB$2","v":0},"0 Left","0 Right",null,null,"Left",{"$f":"$AB$2","v":0},null,"Right",{"$f":"$AB$2","v":0},"0 Left","0 Right",null,null,"Left",{"$f":"$AB$2","v":0},null,"Right",{"$f":"$AB$2","v":0},"0 Left","0 Right",null,{"$f":"$E$43","v":0},{"$f":"$I$43","v":"0 Right"},{"$f":"$K$41","v":0},{"$f":"$Q$41","v":"12 Left"},{"$f":"$T$41","v":0},{"$f":"$Z$41","v":"12 Left"},{"$f":"$AC$41","v":0},{"$f":"$AI$41","v":"12 Left"}]
[null,null,"Left",{"$f":"$AB$2","v":0},null,"Right",{"$f":"$AB$2","v":0},"0 Left","0 Right",null,null,"Left",{"$f":"$AB$2","v":0},null,"Right",{"$f":"$AB$2","v":0},"0 Left","0 Right",null,null,"Left",{"$f":"$AB$2","v":0},null,"Right",{"$f":"$AB$2","v":0},"0 Left","0 Right",null,null,"Left",{"$f":"$AB$2","v":0},null,"Right",{"$f":"$AB$2","v":0},"0 Left","0 Right",null,{"$f":"$B$46","v":0},{"$f":"$H$46","v":"0 Left"},{"$f":"$K$42","v":0},{"$f":"$Q$42","v":"0 Left"},{"$f":"$T$42","v":0},{"$f":"$Z$42","v":"0 Left"},{"$f":"$AC$42","v":0},{"$f":"$AI$42","v":"0 Left"}]
[null,null,"Left",0,null,"Right",0,"0 Left","0 Right",null,null,"Left",0,null,"Right",0,"0 Left","0 Right",null,null,"Left",0,null,"Right",0,"0 Left","0 Right",null,null,"Left",0,null,"Right",0,"0 Left","0 Right",null,{"$f":"$E$46","v":0},{"$f":"$I$46","v":"0 Right"},{"$f":"$K$43","v":0},{"$f":"$Q$43","v":"0 Left"},{"$f":"$T$43","v":0},{"$f":"$Z$43","v":"0 Left"},{"$f":"$AC$43","v":0},{"$f":"$AI$43","v":"0 Left"}]
[{"$nulls":37},{"$f":"$B$23","v":0},{"$f":"$H$23","v":"3 Left"},{"$f":"$K$44","v":0},{"$f":"$Q$44","v":"0 Left"},{"$f":"$T$44","v":0},{"$f":"$Z$44","v":"0 Left"},{"$f":"$AC$44","v":0},{"$f":"$AI$44","v":"0 Left"}]
[{"$nulls":37},{"$f":"$B$26","v":0},{"$f":"$H$26","v":"4 Left"},{"$f":"$K$45","v":0},{"$f":"$Q$45","v":"0 Left"},{"$f":"$T$45","v":0},{"$f":"$Z$45","v":"0 Left"},{"$f":"$AC$45","v":0},{"$f":"$AI$45","v":"0 Left"}]
[{"$nulls":37},{"$f":"$B$29","v":0},{"$f":"$H$29","v":"5 Left"},{"$f":"$K$46","v":0},{"$f":"$Q$46","v":"0 Left"},{"$f":"$T$46","v":0},{"$f":"$Z$46","v":"0 Left"},{"$f":"$AC$46","v":0},{"$f":"$AI$46","v":"0 Left"}]
[{"$nulls":37},{"$f":"$B$32","v":0},{"$f":"$H$32","v":"9 Left"},{"$f":"$K$47","v":0},{"$f":"$Q$47","v":"0 Left"},{"$f":"$T$47","v":0},{"$f":"$Z$47","v":"0 Left"},{"$f":"$AC$47","v":0},{"$f":"$AI$47","v":"0 Left"}]
[{"$nulls":37},{"$f":"$B$35","v":0},{"$f":"$H$35","v":"10 Left"},{"$f":"$K$48","v":0},{"$f":"$Q$48","v":"0 Left"},{"$f":"$T$48","v":0},{"$f":"$Z$48","v":"0 Left"},{"$f":"$AC$48","v":0},{"$f":"$AI$48","v":"0 Left"}]
[{"$nulls":37},{"$f":"$B$38","v":0},{"$f":"$H$38","v":"11 Left"},{"$f":"$K$49","v":0},{"$f":"$Q$49","v":"0 Left"},{"$f":"$T$49","v":0},{"$f":"$Z$49","v":"0 Left"},{"$f":"$AC$49","v":0},{"$f":"$AI$49","v":"0 Left"}]
[{"$nulls":37},{"$f":"$B$41","v":0},{"$f":"$H$41","v":"12 Left"},{"$f":"$K$50","v":0},{"$f":"$Q$50","v":"0 Left"},{"$f":"$T$50","v":0},{"$f":"$Z$50","v":"0 Left"},{"$f":"$AC$50","v":0},{"$f":"$AI$50","v":"0 Left"}]
[{"$nulls":37},{"$f":"$B$44","v":0},{"$f":"$H$44","v":"0 Left"},{"$f":"$K$51","v":0},{"$f":"$Q$51","v":"0 Left"},{"$f":"$T$51","v":0},{"$f":"$Z$51","v":"0 Left"},{"$f":"$AC$51","v":0},{"$f":"$AI$51","v":"0 Left"}]
[{"$nulls":37},{"$f":"$B$47","v":0},{"$f":"$H$47","v":"0 Left"},{"$f":"$K$52","v":0},{"$f":"$Q$52","v":"0 Left"},{"$f":"$T$52","v":0},{"$f":"$Z$52","v":"0 Left"},{"$f":"$AC$52","v":0},{"$f":"$AI$52","v":"0 Left"}]
[{"$nulls":37},{"$f":"$B$48","v":0},{"$f":"$H$48","v":"0 Left"},{"$f":"$K$53","v":0},{"$f":"$Q$53","v":"0 Left"},{"$f":"$T$53","v":0},{"$f":"$Z$53","v":"0 Left"},{"$f":"$AC$53","v":0},{"$f":"$AI$53","v":"0 Left"}]
[{"$nulls":37},{"$f":"$B$49","v":0},{"$f":"$H$49","v":"0 Left"},{"$f":"$K$54","v":0},{"$f":"$Q$54","v":"0 Left"},{"$f":"$T$54","v":0},{"$f":"$Z$54","v":"0 Left"},{"$f":"$AC$54","v":0},{"$f":"$AI$54","v":"0 Left"}]
[{"$nulls":37},{"$f":"$B$50","v":0},{"$f":"$H$50","v":"0 Left"},{"$f":"$K$55","v":0},{"$f":"$Q$55","v":"0 Left"},{"$f":"$T$55","v":0},{"$f":"$Z$55","v":"0 Left"},{"$f":"$AC$55","v":0},{"$f":"$AI$55","v":"0 Left"}]
[{"$nulls":37},{"$f":"$B$51","v":0},{"$f":"$H$51","v":"0 Left"},{"$f":"$K$56","v":0},{"$f":"$Q$56","v":"0 Left"},{"$f":"$T$56","v":0},{"$f":"$Z$56","v":"0 Left"},{"$f":"$AC$56","v":0},{"$f":"$AI$56","v":"0 Left"}]
[{"$nulls":37},{"$f":"$B$52","v":0},{"$f":"$H$52","v":"0 Left"},{"$f":"$K$57","v":0},{"$f":"$Q$57","v":"0 Left"},{"$f":"$T$57","v":0},{"$f":"$Z$57","v":"0 Left"},{"$f":"$AC$57","v":0},{"$f":"$AI$57","v":"0 Left"}]
[{"$nulls":37},{"$f":"$B$53","v":0},{"$f":"$H$53","v":"0 Left"},{"$f":"$K$58","v":0},{"$f":"$Q$58","v":"0 Left"},{"$f":"$T$58","v":0},{"$f":"$Z$58","v":"0 Left"},{"$f":"$AC$58","v":0},{"$f":"$AI$58","v":"0 Left"}]
[{"$nulls":37},{"$f":"$B$54","v":0},{"$f":"$H$54","v":"0 Left"},{"$f":"$K$59","v":0},{"$f":"$Q$59","v":"0 Left"},{"$f":"$T$59","v":0},{"$f":"$Z$59","v":"0 Left"},{"$f":"$AC$59","v":0},{"$f":"$AI$59","v":"0 Left"}]
[{"$nulls":37},{"$f":"$B$55","v":0},{"$f":"$H$55","v":"0 Left"},{"$f":"$N$20","v":0},{"$f":"$R$20","v":"2 Right"},{"$f":"$W$20","v":0},{"$f":"$AA$20","v":"2 Right"},{"$f":"$AF$20","v":0},{"$f":"$AJ$20","v":"2 Right"}]
[{"$nulls":37},{"$f":"$B$56","v":0},{"$f":"$H$56","v":"0 Left"},{"$f":"$N$23","v":0},{"$f":"$R$23","v":"3 Right"},{"$f":"$W$23","v":0},{"$f":"$AA$23","v":"3 Right"},{"$f":"$AF$23","v":0},{"$f":"$AJ$23","v":"3 Right"}]
[{"$nulls":37},{"$f":"$B$57","v":0},{"$f":"$H$57","v":"0 Left"},{"$f":"$N$26","v":0},{"$f":"$R$26","v":"4 Right"},{"$f":"$W$26","v":0},{"$f":"$AA$26","v":"4 Right"},{"$f":"$AF$26","v":0},{"$f":"$AJ$26","v":"4 Right"}]
[{"$nulls":37},{"$f":"$B$58","v":0},{"$f":"$H$58","v":"0 Left"},{"$f":"$N$29","v":0},{"$f":"$R$29","v":"5 Right"},{"$f":"$W$29","v":0},{"$f":"$AA$29","v":"5 Right"},{"$f":"$AF$29","v":0},{"$f":"$AJ$29","v":"5 Right"}]
[{"$nulls":37},{"$f":"$B$59","v":0},{"$f":"$H$59","v":"0 Left"},{"$f":"$N$32","v":0},{"$f":"$R$32","v":"9 Right"},{"$f":"$W$32","v":0},{"$f":"$AA$32","v":"9 Right"},{"$f":"$AF$32","v":0},{"$f":"$AJ$32","v":"9 Right"}]
[{"$nulls":37},{"$f":"$E$23","v":0},{"$f":"$I$23","v":"3 Right"},{"$f":"$N$35","v":0},{"$f":"$R$35","v":"10 Right"},{"$f":"$W$35","v":0},{"$f":"$AA$35","v":"10 Right"},{"$f":"$AF$35","v":0},{"$f":"$AJ$35","v":"10 Right"}]
[{"$nulls":37},{"$f":"$E$26","v":0},{"$f":"$I$26","v":"4 Right"},{"$f":"$N$38","v":0},{"$f":"$R$38","v":"11 Right"},{"$f":"$W$38","v":0},{"$f":"$AA$38","v":"11 Right"},{"$f":"$AF$38","v":0},{"$f":"$AJ$38","v":"11 Right"}]
[{"$nulls":37},{"$f":"$E$29","v":0},{"$f":"$I$29","v":"5 Right"},{"$f":"$N$41","v":0},{"$f":"$R$41","v":"12 Right"},{"$f":"$W$41","v":0},{"$f":"$AA$41","v":"12 Right"},{"$f":"$AF$41","v":0},{"$f":"$AJ$41","v":"12 Right"}]
[{"$nulls":37},{"$f":"$E$32","v":0},{"$f":"$I$32","v":"9 Right"},{"$f":"$N$42","v":0},{"$f":"$R$42","v":"0 Right"},{"$f":"$W$42","v":0},{"$f":"$AA$42","v":"0 Right"},{"$f":"$AF$42","v":0},{"$f":"$AJ$42","v":"0 Right"}]
[{"$nulls":37},{"$f":"$E$35","v":0},{"$f":"$I$35","v":"10 Right"},{"$f":"$N$43","v":0},{"$f":"$R$43","v":"0 Right"},{"$f":"$W$43","v":0},{"$f":"$AA$43","v":"0 Right"},{"$f":"$AF$43","v":0},{"$f":"$AJ$43","v":"0 Right"}]
[{"$nulls":37},{"$f":"$E$38","v":0},{"$f":"$I$38","v":"11 Right"},{"$f":"$N$44","v":0},{"$f":"$R$44","v":"0 Right"},{"$f":"$W$44","v":0},{"$f":"$AA$44","v":"0 Right"},{"$f":"$AF$44","v":0},{"$f":"$AJ$44","v":"0 Right"}]
[{"$nulls":37},{"$f":"$E$41","v":0},{"$f":"$I$41","v":"12 Right"},{"$f":"$N$45","v":0},{"$f":"$R$45","v":"0 Right"},{"$f":"$W$45","v":0},{"$f":"$AA$45","v":"0 Right"},{"$f":"$AF$45","v":0},{"$f":"$AJ$45","v":"0 Right"}]
[{"$nulls":37},{"$f":"$E$44","v":0},{"$f":"$I$44","v":"0 Right"},{"$f":"$N$46","v":0},{"$f":"$R$46","v":"0 Right"},{"$f":"$W$46","v":0},{"$f":"$AA$46","v":"0 Right"},{"$f":"$AF$46","v":0},{"$f":"$AJ$46","v":"0 Right"}]
[{"$nulls":37},{"$f":"$E$47","v":0},{"$f":"$I$47","v":"0 Right"},{"$f":"$N$47","v":0},{"$f":"$R$47","v":"0 Right"},{"$f":"$W$47","v":0},{"$f":"$AA$47","v":"0 Right"},{"$f":"$AF$47","v":0},{"$f":"$AJ$47","v":"0 Right"}]
[{"$nulls":37},{"$f":"$E$48","v":0},{"$f":"$I$48","v":"0 Right"},{"$f":"$N$48","v":0},{"$f":"$R$48","v":"0 Right"},{"$f":"$W$48","v":0},{"$f":"$AA$48","v":"0 Right"},{"$f":"$AF$48","v":0},{"$f":"$AJ$48","v":"0 Right"}]
[{"$nulls":37},{"$f":"$E$49","v":0},{"$f":"$I$49","v":"0 Right"},{"$f":"$N$49","v":0},{"$f":"$R$49","v":"0 Right"},{"$f":"$W$49","v":0},{"$f":"$AA$49","v":"0 Right"},{"$f":"$AF$49","v":0},{"$f":"$AJ$49","v":"0 Right"}]
[{"$nulls":37},{"$f":"$E$50","v":0},{"$f":"$I$50","v":"0 Right"},{"$f":"$N$50","v":0},{"$f":"$R$50","v":"0 Right"},{"$f":"$W$50","v":0},{"$f":"$AA$50","v":"0 Right"},{"$f":"$AF$50","v":0},{"$f":"$AJ$50","v":"0 Right"}]
[{"$nulls":37},{"$f":"$E$51","v":0},{"$f":"$I$51","v":"0 Right"},{"$f":"$N$51","v":0},{"$f":"$R$51","v":"0 Right"},{"$f":"$W$51","v":0},{"$f":"$AA$51","v":"0 Right"},{"$f":"$AF$51","v":0},{"$f":"$AJ$51","v":"0 Right"}]
[{"$nulls":37},{"$f":"$E$52","v":0},{"$f":"$I$52","v":"0 Right"},{"$f":"$N$52","v":0},{"$f":"$R$52","v":"0 Right"},{"$f":"$W$52","v":0},{"$f":"$AA$52","v":"0 Right"},{"$f":"$AF$52","v":0},{"$f":"$AJ$52","v":"0 Right"}]
[{"$nulls":37},{"$f":"$E$53","v":0},{"$f":"$I$53","v":"0 Right"},{"$f":"$N$53","v":0},{"$f":"$R$53","v":"0 Right"},{"$f":"$W$53","v":0},{"$f":"$AA$53","v":"0 Right"},{"$f":"$AF$53","v":0},{"$f":"$AJ$53","v":"0 Right"}]
[{"$nulls":37},{"$f":"$E$54","v":0},{"$f":"$I$54","v":"0 Right"},{"$f":"$N$54","v":0},{"$f":"$R$54","v":"0 Right"},{"$f":"$W$54","v":0},{"$f":"$AA$54","v":"0 Right"},{"$f":"$AF$54","v":0},{"$f":"$AJ$54","v":"0 Right"}]
[{"$nulls":37},{"$f":"$E$55","v":0},{"$f":"$I$55","v":"0 Right"},{"$f":"$N$55","v":0},{"$f":"$R$55","v":"0 Right"},{"$f":"$W$55","v":0},{"$f":"$AA$55","v":"0 Right"},{"$f":"$AF$55","v":0},{"$f":"$AJ$55","v":"0 Right"}]
[{"$nulls":37},{"$f":"$E$56","v":0},{"$f":"$I$56","v":"0 Right"},{"$f":"$N$56","v":0},{"$f":"$R$56","v":"0 Right"},{"$f":"$W$56","v":0},{"$f":"$AA$56","v":"0 Right"},{"$f":"$AF$56","v":0},{"$f":"$AJ$56","v":"0 Right"}]
[{"$nulls":37},{"$f":"$E$57","v":0},{"$f":"$I$57","v":"0 Right"},{"$f":"$N$57","v":0},{"$f":"$R$57","v":"0 Right"},{"$f":"$W$57","v":0},{"$f":"$AA$57","v":"0 Right"},{"$f":"$AF$57","v":0},{"$f":"$AJ$57","v":"0 Right"}]
[{"$nulls":37},{"$f":"$E$58","v":0},{"$f":"$I$58","v":"0 Right"},{"$f":"$N$58","v":0},{"$f":"$R$58","v":"0 Right"},{"$f":"$W$58","v":0},{"$f":"$AA$58","v":"0 Right"},{"$f":"$AF$58","v":0},{"$f":"$AJ$58","v":"0 Right"}]
[{"$nulls":37},{"$f":"$E$59","v":0},{"$f":"$I$59","v":"0 Right"},{"$f":"$N$59","v":0},{"$f":"$R$59","v":"0 Right"},{"$f":"$W$59","v":0},{"$f":"$AA$59","v":"0 Right"},{"$f":"$AF$59","v":0},{"$f":"$AJ$59","v":"0 Right"}]

{"sheet":"34","index":15,"n_rows":101,"n_cols":45,"rows_kept":101,"hidden":true,"merged":[[0,1,0,16],[1,1,1,2],[1,3,1,4],[1,5,1,6],[1,7,1,8],[1,9,1,10],[1,11,1,12],[1,13,1,14],[1,15,1,16],[2,0,4,0],[5,0,7,0],[8,0,10,0],[11,0,13,0],[14,1,14,16],[15,1,15,6],[15,10,15,15],[15,19,15,24],[15,28,15,33],[16,37,16,38],[16,39,16,40],[16,41,16,42],[16,43,16,44]]}
[null,"YOU MAY CHANGE THESE RINK NUMBERS IF YOU WISH"]
["Round",1,1,2,2,3,3,4,4,9,null,10,2,11,3,12,4]
[1,1,2,6,5,7,3,4,8,19,20,21,22,23,24,25,26]
[null,10,11,15,14,16,12,17,13,27,28,29,30,31,32,33,34]
[null,9,18]
[2,3,7,2,4,1,6,5,9,24,26,19,25,20,21,22,23]
[null,17,12,16,18,15,11,10,14,30,32,33,31,34,27,28,29]
[null,8,13]
[3,4,5,1,3,8,9,2,7,21,23,22,24,19,26,20,25]
[null,14,15,11,13,10,18,12,17,31,33,32,34,29,28,30,27]
[null,6,16]
[4,1,7,6,4,2,5,9,3,25,24,23,26,20,22,19,21]
[null,12,18,17,15,14,13,11,16,30,29,28,31,33,27,32,34]
[null,8,10]
[null,"34 on 2 greens"]
[null,1,{"$nulls":8},2,{"$nulls":8},3,{"$nulls":8},4]
[null,"no","Left","rink","no","Right","rink","L","R",null,"no","Left","rink","no","Right","rink","L","R",null,"no","Left","rink","no","Right","rink","L","R",null,"no","Left","rink","no","Right","rink","L","R",null,1,null,2,null,3,null,4]
[null,1,"Left",{"$f":"$B$2","v":1},2,"Right",{"$f":"$B$2","v":1},{"$f":"(D18&\" \"&C18)","v":"1 Left"},{"$f":"(G18&\" \"&F18)","v":"1 Right"},null,3,"Left",{"$f":"$B$2","v":1},7,"Right",{"$f":"$B$2","v":1},{"$f":"(M18&\" \"&L18)","v":"1 Left"},{"$f":"(P18&\" \"&O18)","v":"1 Right"},null,4,"Left",{"$f":"$B$2","v":1},5,"Right",{"$f":"$B$2","v":1},{"$f":"(V18&\" \"&U18)","v":"1 Left"},{"$f":"(Y18&\" \"&X18)","v":"1 Right"},null,1,"Left",{"$f":"$B$2","v":1},7,"Right",{"$f":"$B$2","v":1},{"$f":"(AE18&\" \"&AD18)","v":"1 Left"},{"$f":"(AH18&\" \"&AG18)","v":"1 Right"}]
[null,10,"Left",{"$f":"$B$2","v":1},11,"Right",{"$f":"$B$2","v":1},"1 Left","1 Right",null,17,"Left",{"$f":"$B$2","v":1},12,"Right",{"$f":"$B$2","v":1},"1 Left","1 Right",null,14,"Left",{"$f":"$B$2","v":1},15,"Right",{"$f":"$B$2","v":1},"1 Left","1 Right",null,12,"Left",{"$f":"$B$2","v":1},18,"Right",{"$f":"$B$2","v":1},"1 Left","1 Right"]
[null,9,"Left",{"$f":"$B$2","v":1},18,"Right",{"$f":"$B$2","v":1},"1 Left","1 Right",null,8,"Left",{"$f":"$B$2","v":1},13,"Right",{"$f":"$B$2","v":1},"1 Left","1 Right",null,6,"Left",{"$f":"$B$2","v":1},16,"Right",{"$f":"$B$2","v":1},"1 Left","1 Right",null,8,"Left",{"$f":"$B$2","v":1},10,"Right",{"$f":"$B$2","v":1},"1 Left","1 Right"]
[null,6,"Left",{"$f":"$D$2","v":2},5,"Right",{"$f":"$D$2","v":2},"2 Left","2 Right",null,2,"Left",{"$f":"$D$2","v":2},4,"Right",{"$f":"$D$2","v":2},"2 Left","2 Right",null,1,"Left",{"$f":"$D$2","v":2},3,"Right",{"$f":"$D$2","v":2},"2 Left","2 Right",null,6,"Left",{"$f":"$D$2","v":2},4,"Right",{"$f":"$D$2","v":2},"2 Left","2 Right"]
[null,15,"Left",{"$f":"$D$2","v":2},14,"Right",{"$f":"$D$2","v":2},"2 Left","2 Right",null,16,"Left",{"$f":"$D$2","v":2},18,"Right",{"$f":"$D$2","v":2},"2 Left","2 Right",null,11,"Left",{"$f":"$D$2","v":2},13,"Right",{"$f":"$D$2","v":2},"2 Left","2 Right",null,17,"Left",{"$f":"$D$2","v":2},15,"Right",{"$f":"$D$2","v":2},"2 Left","2 Right"]
[null,null,"Left",{"$f":"$D$2","v":2},null,"Right",{"$f":"$D$2","v":2},"2 Left","2 Right",null,null,"Left",{"$f":"$D$2","v":2},null,"Right",{"$f":"$D$2","v":2},"2 Left","2 Right",null,null,"Left",{"$f":"$D$2","v":2},null,"Right",{"$f":"$D$2","v":2},"2 Left","2 Right",null,null,"Left",{"$f":"$D$2","v":2},null,"Right",{"$f":"$D$2","v":2},"2 Left","2 Right"]
[null,7,"Left",{"$f":"$F$2","v":3},3,"Right",{"$f":"$F$2","v":3},"3 Left","3 Right",null,1,"Left",{"$f":"$F$2","v":3},6,"Right",{"$f":"$F$2","v":3},"3 Left","3 Right",null,8,"Left",{"$f":"$F$2","v":3},9,"Right",{"$f":"$F$2","v":3},"3 Left","3 Right",null,2,"Left",{"$f":"$F$2","v":3},5,"Right",{"$f":"$F$2","v":3},"3 Left","3 Right"]
[null,16,"Left",{"$f":"$F$2","v":3},12,"Right",{"$f":"$F$2","v":3},"3 Left","3 Right",null,15,"Left",{"$f":"$F$2","v":3},11,"Right",{"$f":"$F$2","v":3},"3 Left","3 Right",null,10,"Left",{"$f":"$F$2","v":3},18,"Right",{"$f":"$F$2","v":3},"3 Left","3 Right",null,14,"Left",{"$f":"$F$2","v":3},13,"Right",{"$f":"$F$2","v":3},"3 Left","3 Right"]
[null,null,"Left",{"$f":"$F$2","v":3},null,"Right",{"$f":"$F$2","v":3},"3 Left","3 Right",null,null,"Left",{"$f":"$F$2","v":3},null,"Right",{"$f":"$F$2","v":3},"3 Left","3 Right",null,null,"Left",{"$f":"$F$2","v":3},null,"Right",{"$f":"$F$2","v":3},"3 Left","3 Right",null,null,"Left",{"$f":"$F$2","v":3},null,"Right",{"$f":"$F$2","v":3},"3 Left","3 Right"]
[null,4,"Left",{"$f":"$H$2","v":4},8,"Right",{"$f":"$H$2","v":4},"4 Left","4 Right",null,5,"Left",{"$f":"$H$2","v":4},9,"Right",{"$f":"$H$2","v":4},"4 Left","4 Right",null,2,"Left",{"$f":"$H$2","v":4},7,"Right",{"$f":"$H$2","v":4},"4 Left","4 Right",null,9,"Left",{"$f":"$H$2","v":4},3,"Right",{"$f":"$H$2","v":4},"4 Left","4 Right"]
[null,17,"Left",{"$f":"$H$2","v":4},13,"Right",{"$f":"$H$2","v":4},"4 Left","4 Right",null,10,"Left",{"$f":"$H$2","v":4},14,"Right",{"$f":"$H$2","v":4},"4 Left","4 Right",null,12,"Left",{"$f":"$H$2","v":4},17,"Right",{"$f":"$H$2","v":4},"4 Left","4 Right",null,11,"Left",{"$f":"$H$2","v":4},16,"Right",{"$f":"$H$2","v":4},"4 Left","4 Right"]
[null,null,"Left",{"$f":"$H$2","v":4},null,"Right",{"$f":"$H$2","v":4},"4 Left","4 Right",null,null,"Left",{"$f":"$H$2","v":4},null,"Right",{"$f":"$H$2","v":4},"4 Left","4 Right",null,null,"Left",{"$f":"$H$2","v":4},null,"Right",{"$f":"$H$2","v":4},"4 Left","4 Right",null,null,"Left",{"$f":"$H$2","v":4},null,"Right",{"$f":"$H$2","v":4},"4 Left","4 Right"]
[null,19,"Left",{"$f":"$J$2","v":9},20,"Right",{"$f":"$J$2","v":9},"9 Left","9 Right",null,24,"Left",{"$f":"$J$2","v":9},26,"Right",{"$f":"$J$2","v":9},"9 Left","9 Right",null,21,"Left",{"$f":"$J$2","v":9},23,"Right",{"$f":"$J$2","v":9},"9 Left","9 Right",null,25,"Left",{"$f":"$J$2","v":9},24,"Right",{"$f":"$J$2","v":9},"9 Left","9 Right"]
[null,27,"Left",{"$f":"$J$2","v":9},28,"Right",{"$f":"$J$2","v":9},"9 Left","9 Right",null,30,"Left",{"$f":"$J$2","v":9},32,"Right",{"$f":"$J$2","v":9},"9 Left","9 Right",null,31,"Left",{"$f":"$J$2","v":9},33,"Right",{"$f":"$J$2","v":9},"9 Left","9 Right",null,30,"Left",{"$f":"$J$2","v":9},29,"Right",{"$f":"$J$2","v":9},"9 Left","9 Right"]
[null,null,"Left",{"$f":"$J$2","v":9},null,"Right",{"$f":"$J$2","v":9},"9 Left","9 Right",null,null,"Left",{"$f":"$J$2","v":9},null,"Right",{"$f":"$J$2","v":9},"9 Left","9 Right",null,null,"Left",{"$f":"$J$2","v":9},null,"Right",{"$f":"$J$2","v":9},"9 Left","9 Right",null,null,"Left",{"$f":"$J$2","v":9},null,"Right",{"$f":"$J$2","v":9},"9 Left","9 Right"]
[null,21,"Left",{"$f":"$L$2","v":10},22,"Right",{"$f":"$L$2","v":10},"10 Left","10 Right",null,19,"Left",{"$f":"$L$2","v":10},25,"Right",{"$f":"$L$2","v":10},"10 Left","10 Right",null,22,"Left",{"$f":"$L$2","v":10},24,"Right",{"$f":"$L$2","v":10},"10 Left","10 Right",null,23,"Left",{"$f":"$L$2","v":10},26,"Right",{"$f":"$L$2","v":10},"10 Left","10 Right"]
[null,29,"Left",{"$f":"$L$2","v":10},30,"Right",{"$f":"$L$2","v":10},"10 Left","10 Right",null,33,"Left",{"$f":"$L$2","v":10},31,"Right",{"$f":"$L$2","v":10},"10 Left","10 Right",null,32,"Left",{"$f":"$L$2","v":10},34,"Right",{"$f":"$L$2","v":10},"10 Left","10 Right",null,28,"Left",{"$f":"$L$2","v":10},31,"Right",{"$f":"$L$2","v":10},"10 Left","10 Right"]
[null,null,"Left",{"$f":"$L$2","v":10},null,"Right",{"$f":"$L$2","v":10},"10 Left","10 Right",null,null,"Left",{"$f":"$L$2","v":10},null,"Right",{"$f":"$L$2","v":10},"10 Left","10 Right",null,null,"Left",{"$f":"$L$2","v":10},null,"Right",{"$f":"$L$2","v":10},"10 Left","10 Right",null,null,"Left",{"$f":"$L$2","v":10},null,"Right",{"$f":"$L$2","v":10},"10 Left","10 Right"]
[null,23,"Left",{"$f":"$N$2","v":11},24,"Right",{"$f":"$N$2","v":11},"11 Left","11 Right",null,20,"Left",{"$f":"$N$2","v":11},21,"Right",{"$f":"$N$2","v":11},"11 Left","11 Right",null,19,"Left",{"$f":"$N$2","v":11},26,"Right",{"$f":"$N$2","v":11},"11 Left","11 Right",null,20,"Left",{"$f":"$N$2","v":11},22,"Right",{"$f":"$N$2","v":11},"11 Left","11 Right"]
[null,31,"Left",{"$f":"$N$2","v":11},32,"Right",{"$f":"$N$2","v":11},"11 Left","11 Right",null,34,"Left",{"$f":"$N$2","v":11},27,"Right",{"$f":"$N$2","v":11},"11 Left","11 Right",null,29,"Left",{"$f":"$N$2","v":11},28,"Right",{"$f":"$N$2","v":11},"11 Left","11 Right",null,33,"Left",{"$f":"$N$2","v":11},27,"Right",{"$f":"$N$2","v":11},"11 Left","11 Right"]
[null,null,"Left",{"$f":"$N$2","v":11},null,"Right",{"$f":"$N$2","v":11},"11 Left","11 Right",null,null,"Left",{"$f":"$N$2","v":11},null,"Right",{"$f":"$N$2","v":11},"11 Left","11 Right",null,null,"Left",{"$f":"$N$2","v":11},null,"Right",{"$f":"$N$2","v":11},"11 Left","11 Right",null,null,"Left",{"$f":"$N$2","v":11},null,"Right",{"$f":"$N$2","v":11},"11 Left","11 Right"]
[null,25,"Left",{"$f":"$P$2","v":12},26,"Right",{"$f":"$P$2","v":12},"12 Left","12 Right",null,22,"Left",{"$f":"$P$2","v":12},23,"Right",{"$f":"$P$2","v":12},"12 Left","12 Right",null,20,"Left",{"$f":"$P$2","v":12},25,"Right",{"$f":"$P$2","v":12},"12 Left","12 Right",null,19,"Left",{"$f":"$P$2","v":12},21,"Right",{"$f":"$P$2","v":12},"12 Left","12 Right"]
[null,33,"Left",{"$f":"$P$2","v":12},34,"Right",{"$f":"$P$2","v":12},"12 Left","12 Right",null,28,"Left",{"$f":"$P$2","v":12},29,"Right",{"$f":"$P$2","v":12},"12 Left","12 Right",null,30,"Left",{"$f":"$P$2","v":12},27,"Right",{"$f":"$P$2","v":12},"12 Left","12 Right",null,32,"Left",{"$f":"$P$2","v":12},34,"Right",{"$f":"$P$2","v":12},"12 Left","12 Right"]
[null,null,"Left",{"$f":"$P$2","v":12},null,"Right",{"$f":"$P$2","v":12},"12 Left","12 Right",null,null,"Left",{"$f":"$P$2","v":12},null,"Right",{"$f":"$P$2","v":12},"12 Left","12 Right",null,null,"Left",{"$f":"$P$2","v":12},null,"Right",{"$f":"$P$2","v":12},"12 Left","12 Right",null,null,"Left",{"$f":"$P$2","v":12},null,"Right",{"$f":"$P$2","v":12},"12 Left","12 Right"]
[null,null,"Left",{"$f":"$R$2","v":0},null,"Right",{"$f":"$R$2","v":0},"0 Left","0 Right",null,null,"Left",{"$f":"$R$2","v":0},null,"Right",{"$f":"$R$2","v":0},"0 Left","0 Right",null,null,"Left",{"$f":"$R$2","v":0},null,"Right",{"$f":"$R$2","v":0},"0 Left","0 Right",null,null,"Left",{"$f":"$R$2","v":0},null,"Right",{"$f":"$R$2","v":0},"0 Left","0 Right"]
[null,null,"Left",{"$f":"$R$2","v":0},null,"Right",{"$f":"$R$2","v":0},"0 Left","0 Right",null,null,"Left",{"$f":"$R$2","v":0},null,"Right",{"$f":"$R$2","v":0},"0 Left","0 Right",null,null,"Left",{"$f":"$R$2","v":0},null,"Right",{"$f":"$R$2","v":0},"0 Left","0 Right",null,null,"Left",{"$f":"$R$2","v":0},null,"Right",{"$f":"$R$2","v":0},"0 Left","0 Right"]
[null,null,"Left",{"$f":"$R$2","v":0},null,"Right",{"$f":"$R$2","v":0},"0 Left","0 Right",null,null,"Left",{"$f":"$R$2","v":0},null,"Right",{"$f":"$R$2","v":0},"0 Left","0 Right",null,null,"Left",{"$f":"$R$2","v":0},null,"Right",{"$f":"$R$2","v":0},"0 Left","0 Right",null,null,"Left",{"$f":"$R$2","v":0},null,"Right",{"$f":"$R$2","v":0},"0 Left","0 Right"]
[null,null,"Left",{"$f":"$T$2","v":0},null,"Right",{"$f":"$T$2","v":0},"0 Left","0 Right",null,null,"Left",{"$f":"$T$2","v":0},null,"Right",{"$f":"$T$2","v":0},"0 Left","0 Right",null,null,"Left",{"$f":"$T$2","v":0},null,"Right",{"$f":"$T$2","v":0},"0 Left","0 Right",null,null,"Left",{"$f":"$T$2","v":0},null,"Right",{"$f":"$T$2","v":0},"0 Left","0 Right"]
[null,null,"Left",{"$f":"$T$2","v":0},null,"Right",{"$f":"$T$2","v":0},"0 Left","0 Right",null,null,"Left",{"$f":"$T$2","v":0},null,"Right",{"$f":"$T$2","v":0},"0 Left","0 Right",null,null,"Left",{"$f":"$T$2","v":0},null,"Right",{"$f":"$T$2","v":0},"0 Left","0 Right",null,null,"Left",{"$f":"$T$2","v":0},null,"Right",{"$f":"$T$2","v":0},"0 Left","0 Right"]
[null,null,"Left",{"$f":"$T$2","v":0},null,"Right",{"$f":"$T$2","v":0},"0 Left","0 Right",null,null,"Left",{"$f":"$T$2","v":0},null,"Right",{"$f":"$T$2","v":0},"0 Left","0 Right",null,null,"Left",{"$f":"$T$2","v":0},null,"Right",{"$f":"$T$2","v":0},"0 Left","0 Right",null,null,"Left",{"$f":"$T$2","v":0},null,"Right",{"$f":"$T$2","v":0},"0 Left","0 Right"]
[null,null,"Left",{"$f":"$V$2","v":0},null,"Right",{"$f":"$V$2","v":0},"0 Left","0 Right",null,null,"Left",{"$f":"$V$2","v":0},null,"Right",{"$f":"$V$2","v":0},"0 Left","0 Right",null,null,"Left",{"$f":"$V$2","v":0},null,"Right",{"$f":"$V$2","v":0},"0 Left","0 Right",null,null,"Left",{"$f":"$V$2","v":0},null,"Right",{"$f":"$V$2","v":0},"0 Left","0 Right"]
[null,null,"Left",{"$f":"$V$2","v":0},null,"Right",{"$f":"$V$2","v":0},"0 Left","0 Right",null,null,"Left",{"$f":"$V$2","v":0},null,"Right",{"$f":"$V$2","v":0},"0 Left","0 Right",null,null,"Left",{"$f":"$V$2","v":0},null,"Right",{"$f":"$V$2","v":0},"0 Left","0 Right",null,null,"Left",{"$f":"$V$2","v":0},null,"Right",{"$f":"$V$2","v":0},"0 Left","0 Right"]
[null,null,"Left",{"$f":"$V$2","v":0},null,"Right",{"$f":"$V$2","v":0},"0 Left","0 Right",null,null,"Left",{"$f":"$V$2","v":0},null,"Right",{"$f":"$V$2","v":0},"0 Left","0 Right",null,null,"Left",{"$f":"$V$2","v":0},null,"Right",{"$f":"$V$2","v":0},"0 Left","0 Right",null,null,"Left",{"$f":"$V$2","v":0},null,"Right",{"$f":"$V$2","v":0},"0 Left","0 Right"]
[null,null,"Left",{"$f":"$X$2","v":0},null,"Right",{"$f":"$X$2","v":0},"0 Left","0 Right",null,null,"Left",{"$f":"$X$2","v":0},null,"Right",{"$f":"$X$2","v":0},"0 Left","0 Right",null,null,"Left",{"$f":"$X$2","v":0},null,"Right",{"$f":"$X$2","v":0},"0 Left","0 Right",null,null,"Left",{"$f":"$X$2","v":0},null,"Right",{"$f":"$X$2","v":0},"0 Left","0 Right"]
[null,null,"Left",{"$f":"$X$2","v":0},null,"Right",{"$f":"$X$2","v":0},"0 Left","0 Right",null,null,"Left",{"$f":"$X$2","v":0},null,"Right",{"$f":"$X$2","v":0},"0 Left","0 Right",null,null,"Left",{"$f":"$X$2","v":0},null,"Right",{"$f":"$X$2","v":0},"0 Left","0 Right",null,null,"Left",{"$f":"$X$2","v":0},null,"Right",{"$f":"$X$2","v":0},"0 Left","0 Right",null,{"$f":"$B$42","v":0},{"$f":"$H$42","v":"0 Left"},{"$f":"$K$23","v":0},{"$f":"$Q$23","v":"2 Left"},{"$f":"$T$23","v":0},{"$f":"$Z$23","v":"2 Left"},{"$f":"$AC$23","v":0},{"$f":"$AI$23","v":"2 Left"}]
[null,null,"Left",{"$f":"$X$2","v":0},null,"Right",{"$f":"$X$2","v":0},"0 Left","0 Right",null,null,"Left",{"$f":"$X$2","v":0},null,"Right",{"$f":"$X$2","v":0},"0 Left","0 Right",null,null,"Left",{"$f":"$X$2","v":0},null,"Right",{"$f":"$X$2","v":0},"0 Left","0 Right",null,null,"Left",{"$f":"$X$2","v":0},null,"Right",{"$f":"$X$2","v":0},"0 Left","0 Right",null,{"$f":"$E$42","v":0},{"$f":"$I$42","v":"0 Right"},{"$f":"$K$26","v":0},{"$f":"$Q$26","v":"3 Left"},{"$f":"$T$26","v":0},{"$f":"$Z$26","v":"3 Left"},{"$f":"$AC$26","v":0},{"$f":"$AI$26","v":"3 Left"}]
[null,null,"Left",{"$f":"$Z$2","v":0},null,"Right",{"$f":"$Z$2","v":0},"0 Left","0 Right",null,null,"Left",{"$f":"$Z$2","v":0},null,"Right",{"$f":"$Z$2","v":0},"0 Left","0 Right",null,null,"Left",{"$f":"$Z$2","v":0},null,"Right",{"$f":"$Z$2","v":0},"0 Left","0 Right",null,null,"Left",{"$f":"$Z$2","v":0},null,"Right",{"$f":"$Z$2","v":0},"0 Left","0 Right",null,{"$f":"$B$45","v":0},{"$f":"$H$45","v":"0 Left"},{"$f":"$K$29","v":0},{"$f":"$Q$29","v":"4 Left"},{"$f":"$T$29","v":0},{"$f":"$Z$29","v":"4 Left"},{"$f":"$AC$29","v":0},{"$f":"$AI$29","v":"4 Left"}]
[null,null,"Left",{"$f":"$Z$2","v":0},null,"Right",{"$f":"$Z$2","v":0},"0 Left","0 Right",null,null,"Left",{"$f":"$Z$2","v":0},null,"Right",{"$f":"$Z$2","v":0},"0 Left","0 Right",null,null,"Left",{"$f":"$Z$2","v":0},null,"Right",{"$f":"$Z$2","v":0},"0 Left","0 Right",null,null,"Left",{"$f":"$Z$2","v":0},null,"Right",{"$f":"$Z$2","v":0},"0 Left","0 Right",null,{"$f":"$E$45","v":0},{"$f":"$I$45","v":"0 Right"},{"$f":"$K$32","v":0},{"$f":"$Q$32","v":"9 Left"},{"$f":"$T$32","v":0},{"$f":"$Z$32","v":"9 Left"},{"$f":"$AC$32","v":0},{"$f":"$AI$32","v":"9 Left"}]
[null,null,"Left",{"$f":"$Z$2","v":0},null,"Right",{"$f":"$Z$2","v":0},"0 Left","0 Right",null,null,"Left",{"$f":"$Z$2","v":0},null,"Right",{"$f":"$Z$2","v":0},"0 Left","0 Right",null,null,"Left",{"$f":"$Z$2","v":0},null,"Right",{"$f":"$Z$2","v":0},"0 Left","0 Right",null,null,"Left",{"$f":"$Z$2","v":0},null,"Right",{"$f":"$Z$2","v":0},"0 Left","0 Right",null,{"$f":"$B$43","v":0},{"$f":"$H$43","v":"0 Left"},{"$f":"$K$35","v":0},{"$f":"$Q$35","v":"10 Left"},{"$f":"$T$35","v":0},{"$f":"$Z$35","v":"10 Left"},{"$f":"$AC$35","v":0},{"$f":"$AI$35","v":"10 Left"}]
[null,null,"Left",{"$f":"$AB$2","v":0},null,"Right",{"$f":"$AB$2","v":0},"0 Left","0 Right",null,null,"Left",{"$f":"$AB$2","v":0},null,"Right",{"$f":"$AB$2","v":0},"0 Left","0 Right",null,null,"Left",{"$f":"$AB$2","v":0},null,"Right",{"$f":"$AB$2","v":0},"0 Left","0 Right",null,null,"Left",{"$f":"$AB$2","v":0},null,"Right",{"$f":"$AB$2","v":0},"0 Left","0 Right",null,{"$f":"$E$43","v":0},{"$f":"$I$43","v":"0 Right"},{"$f":"$K$38","v":0},{"$f":"$Q$38","v":"11 Left"},{"$f":"$T$38","v":0},{"$f":"$Z$38","v":"11 Left"},{"$f":"$AC$38","v":0},{"$f":"$AI$38","v":"11 Left"}]
[null,null,"Left",{"$f":"$AB$2","v":0},null,"Right",{"$f":"$AB$2","v":0},"0 Left","0 Right",null,null,"Left",{"$f":"$AB$2","v":0},null,"Right",{"$f":"$AB$2","v":0},"0 Left","0 Right",null,null,"Left",{"$f":"$AB$2","v":0},null,"Right",{"$f":"$AB$2","v":0},"0 Left","0 Right",null,null,"Left",{"$f":"$AB$2","v":0},null,"Right",{"$f":"$AB$2","v":0},"0 Left","0 Right",null,{"$f":"$B$46","v":0},{"$f":"$H$46","v":"0 Left"},{"$f":"$K$41","v":0},{"$f":"$Q$41","v":"12 Left"},{"$f":"$T$41","v":0},{"$f":"$Z$41","v":"12 Left"},{"$f":"$AC$41","v":0},{"$f":"$AI$41","v":"12 Left"}]
[null,null,"Left",{"$f":"$AB$2","v":0},null,"Right",{"$f":"$AB$2","v":0},"0 Left","0 Right",null,null,"Left",{"$f":"$AB$2","v":0},null,"Right",{"$f":"$AB$2","v":0},"0 Left","0 Right",null,null,"Left",{"$f":"$AB$2","v":0},null,"Right",{"$f":"$AB$2","v":0},"0 Left","0 Right",null,null,"Left",{"$f":"$AB$2","v":0},null,"Right",{"$f":"$AB$2","v":0},"0 Left","0 Right",null,{"$f":"$E$46","v":0},{"$f":"$I$46","v":"0 Right"},{"$f":"$K$42","v":0},{"$f":"$Q$42","v":"0 Left"},{"$f":"$T$42","v":0},{"$f":"$Z$42","v":"0 Left"},{"$f":"$AC$42","v":0},{"$f":"$AI$42","v":"0 Left"}]
[{"$nulls":37},{"$f":"$B$23","v":0},{"$f":"$H$23","v":"2 Left"},{"$f":"$K$43","v":0},{"$f":"$Q$43","v":"0 Left"},{"$f":"$T$43","v":0},{"$f":"$Z$43","v":"0 Left"},{"$f":"$AC$43","v":0},{"$f":"$AI$43","v":"0 Left"}]
[{"$nulls":37},{"$f":"$B$26","v":0},{"$f":"$H$26","v":"3 Left"},{"$f":"$K$44","v":0},{"$f":"$Q$44","v":"0 Left"},{"$f":"$T$44","v":0},{"$f":"$Z$44","v":"0 Left"},{"$f":"$AC$44","v":0},{"$f":"$AI$44","v":"0 Left"}]
[{"$nulls":37},{"$f":"$B$29","v":0},{"$f":"$H$29","v":"4 Left"},{"$f":"$K$45","v":0},{"$f":"$Q$45","v":"0 Left"},{"$f":"$T$45","v":0},{"$f":"$Z$45","v":"0 Left"},{"$f":"$AC$45","v":0},{"$f":"$AI$45","v":"0 Left"}]
[{"$nulls":37},{"$f":"$B$32","v":0},{"$f":"$H$32","v":"9 Left"},{"$f":"$K$46","v":0},{"$f":"$Q$46","v":"0 Left"},{"$f":"$T$46","v":0},{"$f":"$Z$46","v":"0 Left"},{"$f":"$AC$46","v":0},{"$f":"$AI$46","v":"0 Left"}]
[{"$nulls":37},{"$f":"$B$35","v":0},{"$f":"$H$35","v":"10 Left"},{"$f":"$K$47","v":0},{"$f":"$Q$47","v":"0 Left"},{"$f":"$T$47","v":0},{"$f":"$Z$47","v":"0 Left"},{"$f":"$AC$47","v":0},{"$f":"$AI$47","v":"0 Left"}]
[{"$nulls":37},{"$f":"$B$38","v":0},{"$f":"$H$38","v":"11 Left"},{"$f":"$K$48","v":0},{"$f":"$Q$48","v":"0 Left"},{"$f":"$T$48","v":0},{"$f":"$Z$48","v":"0 Left"},{"$f":"$AC$48","v":0},{"$f":"$AI$48","v":"0 Left"}]
[{"$nulls":37},{"$f":"$B$41","v":0},{"$f":"$H$41","v":"12 Left"},{"$f":"$K$49","v":0},{"$f":"$Q$49","v":"0 Left"},{"$f":"$T$49","v":0},{"$f":"$Z$49","v":"0 Left"},{"$f":"$AC$49","v":0},{"$f":"$AI$49","v":"0 Left"}]
[{"$nulls":37},{"$f":"$B$44","v":0},{"$f":"$H$44","v":"0 Left"},{"$f":"$K$50","v":0},{"$f":"$Q$50","v":"0 Left"},{"$f":"$T$50","v":0},{"$f":"$Z$50","v":"0 Left"},{"$f":"$AC$50","v":0},{"$f":"$AI$50","v":"0 Left"}]
[{"$nulls":37},{"$f":"$B$47","v":0},{"$f":"$H$47","v":"0 Left"},{"$f":"$K$51","v":0},{"$f":"$Q$51","v":"0 Left"},{"$f":"$T$51","v":0},{"$f":"$Z$51","v":"0 Left"},{"$f":"$AC$51","v":0},{"$f":"$AI$51","v":"0 Left"}]
[{"$nulls":37},{"$f":"$B$48","v":0},{"$f":"$H$48","v":"0 Left"},{"$f":"$K$52","v":0},{"$f":"$Q$52","v":"0 Left"},{"$f":"$T$52","v":0},{"$f":"$Z$52","v":"0 Left"},{"$f":"$AC$52","v":0},{"$f":"$AI$52","v":"0 Left"}]
[{"$nulls":37},{"$f":"$B$49","v":0},{"$f":"$H$49","v":"0 Left"},{"$f":"$K$53","v":0},{"$f":"$Q$53","v":"0 Left"},{"$f":"$T$53","v":0},{"$f":"$Z$53","v":"0 Left"},{"$f":"$AC$53","v":0},{"$f":"$AI$53","v":"0 Left"}]
[{"$nulls":37},{"$f":"$B$50","v":0},{"$f":"$H$50","v":"0 Left"},{"$f":"$K$54","v":0},{"$f":"$Q$54","v":"0 Left"},{"$f":"$T$54","v":0},{"$f":"$Z$54","v":"0 Left"},{"$f":"$AC$54","v":0},{"$f":"$AI$54","v":"0 Left"}]
[{"$nulls":37},{"$f":"$B$51","v":0},{"$f":"$H$51","v":"0 Left"},{"$f":"$K$55","v":0},{"$f":"$Q$55","v":"0 Left"},{"$f":"$T$55","v":0},{"$f":"$Z$55","v":"0 Left"},{"$f":"$AC$55","v":0},{"$f":"$AI$55","v":"0 Left"}]
[{"$nulls":37},{"$f":"$B$52","v":0},{"$f":"$H$52","v":"0 Left"},{"$f":"$K$56","v":0},{"$f":"$Q$56","v":"0 Left"},{"$f":"$T$56","v":0},{"$f":"$Z$56","v":"0 Left"},{"$f":"$AC$56","v":0},{"$f":"$AI$56","v":"0 Left"}]
[{"$nulls":37},{"$f":"$B$53","v":0},{"$f":"$H$53","v":"0 Left"},{"$f":"$K$57","v":0},{"$f":"$Q$57","v":"0 Left"},{"$f":"$T$57","v":0},{"$f":"$Z$57","v":"0 Left"},{"$f":"$AC$57","v":0},{"$f":"$AI$57","v":"0 Left"}]
[{"$nulls":37},{"$f":"$B$54","v":0},{"$f":"$H$54","v":"0 Left"},{"$f":"$K$58","v":0},{"$f":"$Q$58","v":"0 Left"},{"$f":"$T$58","v":0},{"$f":"$Z$58","v":"0 Left"},{"$f":"$AC$58","v":0},{"$f":"$AI$58","v":"0 Left"}]
[{"$nulls":37},{"$f":"$B$55","v":0},{"$f":"$H$55","v":"0 Left"},{"$f":"$K$59","v":0},{"$f":"$Q$59","v":"0 Left"},{"$f":"$T$59","v":0},{"$f":"$Z$59","v":"0 Left"},{"$f":"$AC$59","v":0},{"$f":"$AI$59","v":"0 Left"}]
[{"$nulls":37},{"$f":"$B$56","v":0},{"$f":"$H$56","v":"0 Left"},{"$f":"$N$23","v":0},{"$f":"$R$23","v":"2 Right"},{"$f":"$W$23","v":0},{"$f":"$AA$23","v":"2 Right"},{"$f":"$AF$23","v":0},{"$f":"$AJ$23","v":"2 Right"}]
[{"$nulls":37},{"$f":"$B$57","v":0},{"$f":"$H$57","v":"0 Left"},{"$f":"$N$26","v":0},{"$f":"$R$26","v":"3 Right"},{"$f":"$W$26","v":0},{"$f":"$AA$26","v":"3 Right"},{"$f":"$AF$26","v":0},{"$f":"$AJ$26","v":"3 Right"}]
[{"$nulls":37},{"$f":"$B$58","v":0},{"$f":"$H$58","v":"0 Left"},{"$f":"$N$29","v":0},{"$f":"$R$29","v":"4 Right"},{"$f":"$W$29","v":0},{"$f":"$AA$29","v":"4 Right"},{"$f":"$AF$29","v":0},{"$f":"$AJ$29","v":"4 Right"}]
[{"$nulls":37},{"$f":"$B$59","v":0},{"$f":"$H$59","v":"0 Left"},{"$f":"$N$32","v":0},{"$f":"$R$32","v":"9 Right"},{"$f":"$W$32","v":0},{"$f":"$AA$32","v":"9 Right"},{"$f":"$AF$32","v":0},{"$f":"$AJ$32","v":"9 Right"}]
[{"$nulls":37},{"$f":"$E$23","v":0},{"$f":"$I$23","v":"2 Right"},{"$f":"$N$35","v":0},{"$f":"$R$35","v":"10 Right"},{"$f":"$W$35","v":0},{"$f":"$AA$35","v":"10 Right"},{"$f":"$AF$35","v":0},{"$f":"$AJ$35","v":"10 Right"}]
[{"$nulls":37},{"$f":"$E$26","v":0},{"$f":"$I$26","v":"3 Right"},{"$f":"$N$38","v":0},{"$f":"$R$38","v":"11 Right"},{"$f":"$W$38","v":0},{"$f":"$AA$38","v":"11 Right"},{"$f":"$AF$38","v":0},{"$f":"$AJ$38","v":"11 Right"}]
[{"$nulls":37},{"$f":"$E$29","v":0},{"$f":"$I$29","v":"4 Right"},{"$f":"$N$41","v":0},{"$f":"$R$41","v":"12 Right"},{"$f":"$W$41","v":0},{"$f":"$AA$41","v":"12 Right"},{"$f":"$AF$41","v":0},{"$f":"$AJ$41","v":"12 Right"}]
[{"$nulls":37},{"$f":"$E$32","v":0},{"$f":"$I$32","v":"9 Right"},{"$f":"$N$42","v":0},{"$f":"$R$42","v":"0 Right"},{"$f":"$W$42","v":0},{"$f":"$AA$42","v":"0 Right"},{"$f":"$AF$42","v":0},{"$f":"$AJ$42","v":"0 Right"}]
[{"$nulls":37},{"$f":"$E$35","v":0},{"$f":"$I$35","v":"10 Right"},{"$f":"$N$43","v":0},{"$f":"$R$43","v":"0 Right"},{"$f":"$W$43","v":0},{"$f":"$AA$43","v":"0 Right"},{"$f":"$AF$43","v":0},{"$f":"$AJ$43","v":"0 Right"}]
[{"$nulls":37},{"$f":"$E$38","v":0},{"$f":"$I$38","v":"11 Right"},{"$f":"$N$44","v":0},{"$f":"$R$44","v":"0 Right"},{"$f":"$W$44","v":0},{"$f":"$AA$44","v":"0 Right"},{"$f":"$AF$44","v":0},{"$f":"$AJ$44","v":"0 Right"}]
[{"$nulls":37},{"$f":"$E$41","v":0},{"$f":"$I$41","v":"12 Right"},{"$f":"$N$45","v":0},{"$f":"$R$45","v":"0 Right"},{"$f":"$W$45","v":0},{"$f":"$AA$45","v":"0 Right"},{"$f":"$AF$45","v":0},{"$f":"$AJ$45","v":"0 Right"}]
[{"$nulls":37},{"$f":"$E$44","v":0},{"$f":"$I$44","v":"0 Right"},{"$f":"$N$46","v":0},{"$f":"$R$46","v":"0 Right"},{"$f":"$W$46","v":0},{"$f":"$AA$46","v":"0 Right"},{"$f":"$AF$46","v":0},{"$f":"$AJ$46","v":"0 Right"}]
[{"$nulls":37},{"$f":"$E$47","v":0},{"$f":"$I$47","v":"0 Right"},{"$f":"$N$47","v":0},{"$f":"$R$47","v":"0 Right"},{"$f":"$W$47","v":0},{"$f":"$AA$47","v":"0 Right"},{"$f":"$AF$47","v":0},{"$f":"$AJ$47","v":"0 Right"}]
[{"$nulls":37},{"$f":"$E$48","v":0},{"$f":"$I$48","v":"0 Right"},{"$f":"$N$48","v":0},{"$f":"$R$48","v":"0 Right"},{"$f":"$W$48","v":0},{"$f":"$AA$48","v":"0 Right"},{"$f":"$AF$48","v":0},{"$f":"$AJ$48","v":"0 Right"}]
[{"$nulls":37},{"$f":"$E$49","v":0},{"$f":"$I$49","v":"0 Right"},{"$f":"$N$49","v":0},{"$f":"$R$49","v":"0 Right"},{"$f":"$W$49","v":0},{"$f":"$AA$49","v":"0 Right"},{"$f":"$AF$49","v":0},{"$f":"$AJ$49","v":"0 Right"}]
[{"$nulls":37},{"$f":"$E$50","v":0},{"$f":"$I$50","v":"0 Right"},{"$f":"$N$50","v":0},{"$f":"$R$50","v":"0 Right"},{"$f":"$W$50","v":0},{"$f":"$AA$50","v":"0 Right"},{"$f":"$AF$50","v":0},{"$f":"$AJ$50","v":"0 Right"}]
[{"$nulls":37},{"$f":"$E$51","v":0},{"$f":"$I$51","v":"0 Right"},{"$f":"$N$51","v":0},{"$f":"$R$51","v":"0 Right"},{"$f":"$W$51","v":0},{"$f":"$AA$51","v":"0 Right"},{"$f":"$AF$51","v":0},{"$f":"$AJ$51","v":"0 Right"}]
[{"$nulls":37},{"$f":"$E$52","v":0},{"$f":"$I$52","v":"0 Right"},{"$f":"$N$52","v":0},{"$f":"$R$52","v":"0 Right"},{"$f":"$W$52","v":0},{"$f":"$AA$52","v":"0 Right"},{"$f":"$AF$52","v":0},{"$f":"$AJ$52","v":"0 Right"}]
[{"$nulls":37},{"$f":"$E$53","v":0},{"$f":"$I$53","v":"0 Right"},{"$f":"$N$53","v":0},{"$f":"$R$53","v":"0 Right"},{"$f":"$W$53","v":0},{"$f":"$AA$53","v":"0 Right"},{"$f":"$AF$53","v":0},{"$f":"$AJ$53","v":"0 Right"}]
[{"$nulls":37},{"$f":"$E$54","v":0},{"$f":"$I$54","v":"0 Right"},{"$f":"$N$54","v":0},{"$f":"$R$54","v":"0 Right"},{"$f":"$W$54","v":0},{"$f":"$AA$54","v":"0 Right"},{"$f":"$AF$54","v":0},{"$f":"$AJ$54","v":"0 Right"}]
[{"$nulls":37},{"$f":"$E$55","v":0},{"$f":"$I$55","v":"0 Right"},{"$f":"$N$55","v":0},{"$f":"$R$55","v":"0 Right"},{"$f":"$W$55","v":0},{"$f":"$AA$55","v":"0 Right"},{"$f":"$AF$55","v":0},{"$f":"$AJ$55","v":"0 Right"}]
[{"$nulls":37},{"$f":"$E$56","v":0},{"$f":"$I$56","v":"0 Right"},{"$f":"$N$56","v":0},{"$f":"$R$56","v":"0 Right"},{"$f":"$W$56","v":0},{"$f":"$AA$56","v":"0 Right"},{"$f":"$AF$56","v":0},{"$f":"$AJ$56","v":"0 Right"}]
[{"$nulls":37},{"$f":"$E$57","v":0},{"$f":"$I$57","v":"0 Right"},{"$f":"$N$57","v":0},{"$f":"$R$57","v":"0 Right"},{"$f":"$W$57","v":0},{"$f":"$AA$57","v":"0 Right"},{"$f":"$AF$57","v":0},{"$f":"$AJ$57","v":"0 Right"}]
[{"$nulls":37},{"$f":"$E$58","v":0},{"$f":"$I$58","v":"0 Right"},{"$f":"$N$58","v":0},{"$f":"$R$58","v":"0 Right"},{"$f":"$W$58","v":0},{"$f":"$AA$58","v":"0 Right"},{"$f":"$AF$58","v":0},{"$f":"$AJ$58","v":"0 Right"}]
[{"$nulls":37},{"$f":"$E$59","v":0},{"$f":"$I$59","v":"0 Right"},{"$f":"$N$59","v":0},{"$f":"$R$59","v":"0 Right"},{"$f":"$W$59","v":0},{"$f":"$AA$59","v":"0 Right"},{"$f":"$AF$59","v":0},{"$f":"$AJ$59","v":"0 Right"}]

{"sheet":"36","index":16,"n_rows":101,"n_cols":45,"rows_kept":101,"hidden":true,"merged":[[0,1,0,18],[1,1,1,2],[1,3,1,4],[1,5,1,6],[1,7,1,8],[1,9,1,10],[1,11,1,12],[1,13,1,14],[1,15,1,16],[1,17,1,18],[2,0,4,0],[5,0,7,0],[8,0,10,0],[11,0,13,0],[14,1,14,18],[15,1,15,6],[15,10,15,15],[15,19,15,24],[15,28,15,33],[16,37,16,38],[16,39,16,40],[16,41,16,42],[16,43,16,44]]}
[null,"YOU MAY CHANGE THESE RINK NUMBERS IF YOU WISH"]
["Round",2,null,3,2,4,3,5,4,6,5,9,null,10,2,11,3,12,4]
[1,1,2,3,4,5,6,7,8,9,10,21,22,23,24,25,26,27,28]
[null,11,12,13,14,15,16,17,18,19,20,29,30,31,32,33,34,35,36]
[]
[2,5,10,1,8,2,9,3,6,4,7,26,28,21,27,22,23,24,25]
[null,13,18,19,16,20,17,11,14,12,15,32,34,35,33,36,29,30,31]
[]
[3,3,9,2,6,7,8,4,10,1,5,23,25,24,26,21,28,22,27]
[null,19,15,18,12,13,14,20,16,17,11,33,35,34,36,31,30,32,29]
[]
[4,6,8,10,7,4,5,3,1,2,9,27,26,25,28,22,24,21,23]
[null,20,12,14,11,18,19,17,15,16,13,32,31,30,33,35,29,34,36]
[]
[null,"36 on 2 greens"]
[null,1,{"$nulls":8},2,{"$nulls":8},3,{"$nulls":8},4]
[null,"no","Left","rink","no","Right","rink","L","R",null,"no","Left","rink","no","Right","rink","L","R",null,"no","Left","rink","no","Right","rink","L","R",null,"no","Left","rink","no","Right","rink","L","R",null,1,null,2,null,3,null,4]
[null,1,"Left",{"$f":"$B$2","v":2},2,"Right",{"$f":"$B$2","v":2},{"$f":"(D18&\" \"&C18)","v":"2 Left"},{"$f":"(G18&\" \"&F18)","v":"2 Right"},null,5,"Left",{"$f":"$B$2","v":2},10,"Right",{"$f":"$B$2","v":2},{"$f":"(M18&\" \"&L18)","v":"2 Left"},{"$f":"(P18&\" \"&O18)","v":"2 Right"},null,3,"Left",{"$f":"$B$2","v":2},9,"Right",{"$f":"$B$2","v":2},{"$f":"(V18&\" \"&U18)","v":"2 Left"},{"$f":"(Y18&\" \"&X18)","v":"2 Right"},null,6,"Left",{"$f":"$B$2","v":2},8,"Right",{"$f":"$B$2","v":2},{"$f":"(AE18&\" \"&AD18)","v":"2 Left"},{"$f":"(AH18&\" \"&AG18)","v":"2 Right"}]
[null,11,"Left",{"$f":"$B$2","v":2},12,"Right",{"$f":"$B$2","v":2},{"$f":"(D19&\" \"&C19)","v":"2 Left"},{"$f":"(G19&\" \"&F19)","v":"2 Right"},null,13,"Left",{"$f":"$B$2","v":2},18,"Right",{"$f":"$B$2","v":2},{"$f":"(M19&\" \"&L19)","v":"2 Left"},{"$f":"(P19&\" \"&O19)","v":"2 Right"},null,19,"Left",{"$f":"$B$2","v":2},15,"Right",{"$f":"$B$2","v":2},{"$f":"(V19&\" \"&U19)","v":"2 Left"},{"$f":"(Y19&\" \"&X19)","v":"2 Right"},null,20,"Left",{"$f":"$B$2","v":2},12,"Right",{"$f":"$B$2","v":2},{"$f":"(AE19&\" \"&AD19)","v":"2 Left"},{"$f":"(AH19&\" \"&AG19)","v":"2 Right"}]
[null,null,"Left",{"$f":"$B$2","v":2},null,"Right",{"$f":"$B$2","v":2},"2 Left","2 Right",null,null,"Left",{"$f":"$B$2","v":2},null,"Right",{"$f":"$B$2","v":2},"2 Left","2 Right",null,null,"Left",{"$f":"$B$2","v":2},null,"Right",{"$f":"$B$2","v":2},"2 Left","2 Right",null,null,"Left",{"$f":"$B$2","v":2},null,"Right",{"$f":"$B$2","v":2},"2 Left","2 Right"]
[null,3,"Left",{"$f":"$D$2","v":3},4,"Right",{"$f":"$D$2","v":3},"3 Left","3 Right",null,1,"Left",{"$f":"$D$2","v":3},8,"Right",{"$f":"$D$2","v":3},"3 Left","3 Right",null,2,"Left",{"$f":"$D$2","v":3},6,"Right",{"$f":"$D$2","v":3},"3 Left","3 Right",null,10,"Left",{"$f":"$D$2","v":3},7,"Right",{"$f":"$D$2","v":3},"3 Left","3 Right"]
[null,13,"Left",{"$f":"$D$2","v":3},14,"Right",{"$f":"$D$2","v":3},"3 Left","3 Right",null,19,"Left",{"$f":"$D$2","v":3},16,"Right",{"$f":"$D$2","v":3},"3 Left","3 Right",null,18,"Left",{"$f":"$D$2","v":3},12,"Right",{"$f":"$D$2","v":3},"3 Left","3 Right",null,14,"Left",{"$f":"$D$2","v":3},11,"Right",{"$f":"$D$2","v":3},"3 Left","3 Right"]
[null,null,"Left",{"$f":"$D$2","v":3},null,"Right",{"$f":"$D$2","v":3},"3 Left","3 Right",null,null,"Left",{"$f":"$D$2","v":3},null,"Right",{"$f":"$D$2","v":3},"3 Left","3 Right",null,null,"Left",{"$f":"$D$2","v":3},null,"Right",{"$f":"$D$2","v":3},"3 Left","3 Right",null,null,"Left",{"$f":"$D$2","v":3},null,"Right",{"$f":"$D$2","v":3},"3 Left","3 Right"]
[null,5,"Left",{"$f":"$F$2","v":4},6,"Right",{"$f":"$F$2","v":4},"4 Left","4 Right",null,2,"Left",{"$f":"$F$2","v":4},9,"Right",{"$f":"$F$2","v":4},"4 Left","4 Right",null,7,"Left",{"$f":"$F$2","v":4},8,"Right",{"$f":"$F$2","v":4},"4 Left","4 Right",null,4,"Left",{"$f":"$F$2","v":4},5,"Right",{"$f":"$F$2","v":4},"4 Left","4 Right"]
[null,15,"Left",{"$f":"$F$2","v":4},16,"Right",{"$f":"$F$2","v":4},"4 Left","4 Right",null,20,"Left",{"$f":"$F$2","v":4},17,"Right",{"$f":"$F$2","v":4},"4 Left","4 Right",null,13,"Left",{"$f":"$F$2","v":4},14,"Right",{"$f":"$F$2","v":4},"4 Left","4 Right",null,18,"Left",{"$f":"$F$2","v":4},19,"Right",{"$f":"$F$2","v":4},"4 Left","4 Right"]
[null,null,"Left",{"$f":"$F$2","v":4},null,"Right",{"$f":"$F$2","v":4},"4 Left","4 Right",null,null,"Left",{"$f":"$F$2","v":4},null,"Right",{"$f":"$F$2","v":4},"4 Left","4 Right",null,null,"Left",{"$f":"$F$2","v":4},null,"Right",{"$f":"$F$2","v":4},"4 Left","4 Right",null,null,"Left",{"$f":"$F$2","v":4},null,"Right",{"$f":"$F$2","v":4},"4 Left","4 Right"]
[null,7,"Left",{"$f":"$H$2","v":5},8,"Right",{"$f":"$H$2","v":5},"5 Left","5 Right",null,3,"Left",{"$f":"$H$2","v":5},6,"Right",{"$f":"$H$2","v":5},"5 Left","5 Right",null,4,"Left",{"$f":"$H$2","v":5},10,"Right",{"$f":"$H$2","v":5},"5 Left","5 Right",null,3,"Left",{"$f":"$H$2","v":5},1,"Right",{"$f":"$H$2","v":5},"5 Left","5 Right"]
[null,17,"Left",{"$f":"$H$2","v":5},18,"Right",{"$f":"$H$2","v":5},"5 Left","5 Right",null,11,"Left",{"$f":"$H$2","v":5},14,"Right",{"$f":"$H$2","v":5},"5 Left","5 Right",null,20,"Left",{"$f":"$H$2","v":5},16,"Right",{"$f":"$H$2","v":5},"5 Left","5 Right",null,17,"Left",{"$f":"$H$2","v":5},15,"Right",{"$f":"$H$2","v":5},"5 Left","5 Right"]
[null,null,"Left",5,null,"Right",5,"5 Left","5 Right",null,null,"Left",5,null,"Right",5,"5 Left","5 Right",null,null,"Left",5,null,"Right",5,"5 Left","5 Right",null,null,"Left",5,null,"Right",5,"5 Left","5 Right"]
[null,9,"Left",{"$f":"$J$2","v":6},10,"Right",{"$f":"$J$2","v":6},"6 Left","6 Right",null,4,"Left",{"$f":"$J$2","v":6},7,"Right",{"$f":"$J$2","v":6},"6 Left","6 Right",null,1,"Left",{"$f":"$J$2","v":6},5,"Right",{"$f":"$J$2","v":6},"6 Left","6 Right",null,2,"Left",{"$f":"$J$2","v":6},9,"Right",{"$f":"$J$2","v":6},"6 Left","6 Right"]
[null,19,"Left",{"$f":"$J$2","v":6},20,"Right",{"$f":"$J$2","v":6},"6 Left","6 Right",null,12,"Left",{"$f":"$J$2","v":6},15,"Right",{"$f":"$J$2","v":6},"6 Left","6 Right",null,17,"Left",{"$f":"$J$2","v":6},11,"Right",{"$f":"$J$2","v":6},"6 Left","6 Right",null,16,"Left",{"$f":"$J$2","v":6},13,"Right",{"$f":"$J$2","v":6},"6 Left","6 Right"]
[null,null,"Left",6,null,"Right",6,"6 Left","6 Right",null,null,"Left",6,null,"Right",6,"6 Left","6 Right",null,null,"Left",6,null,"Right",6,"6 Left","6 Right",null,null,"Left",6,null,"Right",6,"6 Left","6 Right"]
[null,21,"Left",{"$f":"$L$2","v":9},22,"Right",{"$f":"$L$2","v":9},"9 Left","9 Right",null,26,"Left",{"$f":"$L$2","v":9},28,"Right",{"$f":"$L$2","v":9},"9 Left","9 Right",null,23,"Left",{"$f":"$L$2","v":9},25,"Right",{"$f":"$L$2","v":9},"9 Left","9 Right",null,27,"Left",{"$f":"$L$2","v":9},26,"Right",{"$f":"$L$2","v":9},"9 Left","9 Right"]
[null,29,"Left",{"$f":"$L$2","v":9},30,"Right",{"$f":"$L$2","v":9},"9 Left","9 Right",null,32,"Left",{"$f":"$L$2","v":9},34,"Right",{"$f":"$L$2","v":9},"9 Left","9 Right",null,33,"Left",{"$f":"$L$2","v":9},35,"Right",{"$f":"$L$2","v":9},"9 Left","9 Right",null,32,"Left",{"$f":"$L$2","v":9},31,"Right",{"$f":"$L$2","v":9},"9 Left","9 Right"]
[null,null,"Left",9,null,"Right",9,"9 Left","9 Right",null,null,"Left",9,null,"Right",9,"9 Left","9 Right",null,null,"Left",9,null,"Right",9,"9 Left","9 Right",null,null,"Left",9,null,"Right",9,"9 Left","9 Right"]
[null,23,"Left",{"$f":"$N$2","v":10},24,"Right",{"$f":"$N$2","v":10},"10 Left","10 Right",null,21,"Left",{"$f":"$N$2","v":10},27,"Right",{"$f":"$N$2","v":10},"10 Left","10 Right",null,24,"Left",{"$f":"$N$2","v":10},26,"Right",{"$f":"$N$2","v":10},"10 Left","10 Right",null,25,"Left",{"$f":"$N$2","v":10},28,"Right",{"$f":"$N$2","v":10},"10 Left","10 Right"]
[null,31,"Left",{"$f":"$N$2","v":10},32,"Right",{"$f":"$N$2","v":10},"10 Left","10 Right",null,35,"Left",{"$f":"$N$2","v":10},33,"Right",{"$f":"$N$2","v":10},"10 Left","10 Right",null,34,"Left",{"$f":"$N$2","v":10},36,"Right",{"$f":"$N$2","v":10},"10 Left","10 Right",null,30,"Left",{"$f":"$N$2","v":10},33,"Right",{"$f":"$N$2","v":10},"10 Left","10 Right"]
[null,null,"Left",10,null,"Right",10,"10 Left","10 Right",null,null,"Left",10,null,"Right",10,"10 Left","10 Right",null,null,"Left",10,null,"Right",10,"10 Left","10 Right",null,null,"Left",10,null,"Right",10,"10 Left","10 Right"]
[null,25,"Left",{"$f":"$P$2","v":11},26,"Right",{"$f":"$P$2","v":11},"11 Left","11 Right",null,22,"Left",{"$f":"$P$2","v":11},23,"Right",{"$f":"$P$2","v":11},"11 Left","11 Right",null,21,"Left",{"$f":"$P$2","v":11},28,"Right",{"$f":"$P$2","v":11},"11 Left","11 Right",null,22,"Left",{"$f":"$P$2","v":11},24,"Right",{"$f":"$P$2","v":11},"11 Left","11 Right"]
[null,33,"Left",{"$f":"$P$2","v":11},34,"Right",{"$f":"$P$2","v":11},"11 Left","11 Right",null,36,"Left",{"$f":"$P$2","v":11},29,"Right",{"$f":"$P$2","v":11},"11 Left","11 Right",null,31,"Left",{"$f":"$P$2","v":11},30,"Right",{"$f":"$P$2","v":11},"11 Left","11 Right",null,35,"Left",{"$f":"$P$2","v":11},29,"Right",{"$f":"$P$2","v":11},"11 Left","11 Right"]
[null,null,"Left",11,null,"Right",11,"11 Left","11 Right",null,null,"Left",11,null,"Right",11,"11 Left","11 Right",null,null,"Left",11,null,"Right",11,"11 Left","11 Right",null,null,"Left",11,null,"Right",11,"11 Left","11 Right"]
[null,27,"Left",{"$f":"$R$2","v":12},28,"Right",{"$f":"$R$2","v":12},"12 Left","12 Right",null,24,"Left",{"$f":"$R$2","v":12},25,"Right",{"$f":"$R$2","v":12},"12 Left","12 Right",null,22,"Left",{"$f":"$R$2","v":12},27,"Right",{"$f":"$R$2","v":12},"12 Left","12 Right",null,21,"Left",{"$f":"$R$2","v":12},23,"Right",{"$f":"$R$2","v":12},"12 Left","12 Right"]
[null,35,"Left",{"$f":"$R$2","v":12},36,"Right",{"$f":"$R$2","v":12},"12 Left","12 Right",null,30,"Left",{"$f":"$R$2","v":12},31,"Right",{"$f":"$R$2","v":12},"12 Left","12 Right",null,32,"Left",{"$f":"$R$2","v":12},29,"Right",{"$f":"$R$2","v":12},"12 Left","12 Right",null,34,"Left",{"$f":"$R$2","v":12},36,"Right",{"$f":"$R$2","v":12},"12 Left","12 Right"]
[null,null,"Left",12,null,"Right",12,"12 Left","12 Right",null,null,"Left",12,null,"Right",12,"12 Left","12 Right",null,null,"Left",12,null,"Right",12,"12 Left","12 Right",null,null,"Left",12,null,"Right",12,"12 Left","12 Right"]
[null,null,"Left",{"$f":"$T$2","v":0},null,"Right",{"$f":"$T$2","v":0},"0 Left","0 Right",null,null,"Left",{"$f":"$T$2","v":0},null,"Right",{"$f":"$T$2","v":0},"0 Left","0 Right",null,null,"Left",{"$f":"$T$2","v":0},null,"Right",{"$f":"$T$2","v":0},"0 Left","0 Right",null,null,"Left",{"$f":"$T$2","v":0},null,"Right",{"$f":"$T$2","v":0},"0 Left","0 Right"]
[null,null,"Left",{"$f":"$T$2","v":0},null,"Right",{"$f":"$T$2","v":0},"0 Left","0 Right",null,null,"Left",{"$f":"$T$2","v":0},null,"Right",{"$f":"$T$2","v":0},"0 Left","0 Right",null,null,"Left",{"$f":"$T$2","v":0},null,"Right",{"$f":"$T$2","v":0},"0 Left","0 Right",null,null,"Left",{"$f":"$T$2","v":0},null,"Right",{"$f":"$T$2","v":0},"0 Left","0 Right"]
[null,null,"Left",0,null,"Right",0,"0 Left","0 Right",null,null,"Left",0,null,"Right",0,"0 Left","0 Right",null,null,"Left",0,null,"Right",0,"0 Left","0 Right",null,null,"Left",0,null,"Right",0,"0 Left","0 Right"]
[null,null,"Left",{"$f":"$V$2","v":0},null,"Right",{"$f":"$V$2","v":0},"0 Left","0 Right",null,null,"Left",{"$f":"$V$2","v":0},null,"Right",{"$f":"$V$2","v":0},"0 Left","0 Right",null,null,"Left",{"$f":"$V$2","v":0},null,"Right",{"$f":"$V$2","v":0},"0 Left","0 Right",null,null,"Left",{"$f":"$V$2","v":0},null,"Right",{"$f":"$V$2","v":0},"0 Left","0 Right"]
[null,null,"Left",{"$f":"$V$2","v":0},null,"Right",{"$f":"$V$2","v":0},"0 Left","0 Right",null,null,"Left",{"$f":"$V$2","v":0},null,"Right",{"$f":"$V$2","v":0},"0 Left","0 Right",null,null,"Left",{"$f":"$V$2","v":0},null,"Right",{"$f":"$V$2","v":0},"0 Left","0 Right",null,null,"Left",{"$f":"$V$2","v":0},null,"Right",{"$f":"$V$2","v":0},"0 Left","0 Right"]
[null,null,"Left",0,null,"Right",0,"0 Left","0 Right",null,null,"Left",0,null,"Right",0,"0 Left","0 Right",null,null,"Left",0,null,"Right",0,"0 Left","0 Right",null,null,"Left",0,null,"Right",0,"0 Left","0 Right"]
[null,null,"Left",{"$f":"$X$2","v":0},null,"Right",{"$f":"$X$2","v":0},"0 Left","0 Right",null,null,"Left",{"$f":"$X$2","v":0},null,"Right",{"$f":"$X$2","v":0},"0 Left","0 Right",null,null,"Left",{"$f":"$X$2","v":0},null,"Right",{"$f":"$X$2","v":0},"0 Left","0 Right",null,null,"Left",{"$f":"$X$2","v":0},null,"Right",{"$f":"$X$2","v":0},"0 Left","0 Right"]
[null,null,"Left",{"$f":"$X$2","v":0},null,"Right",{"$f":"$X$2","v":0},"0 Left","0 Right",null,null,"Left",{"$f":"$X$2","v":0},null,"Right",{"$f":"$X$2","v":0},"0 Left","0 Right",null,null,"Left",{"$f":"$X$2","v":0},null,"Right",{"$f":"$X$2","v":0},"0 Left","0 Right",null,null,"Left",{"$f":"$X$2","v":0},null,"Right",{"$f":"$X$2","v":0},"0 Left","0 Right"]
[null,null,"Left",0,null,"Right",0,"0 Left","0 Right",null,null,"Left",0,null,"Right",0,"0 Left","0 Right",null,null,"Left",0,null,"Right",0,"0 Left","0 Right",null,null,"Left",0,null,"Right",0,"0 Left","0 Right"]
[null,null,"Left",{"$f":"$Z$2","v":0},null,"Right",{"$f":"$Z$2","v":0},"0 Left","0 Right",null,null,"Left",{"$f":"$Z$2","v":0},null,"Right",{"$f":"$Z$2","v":0},"0 Left","0 Right",null,null,"Left",{"$f":"$Z$2","v":0},null,"Right",{"$f":"$Z$2","v":0},"0 Left","0 Right",null,null,"Left",{"$f":"$Z$2","v":0},null,"Right",{"$f":"$Z$2","v":0},"0 Left","0 Right",null,{"$f":"$B$20","v":0},{"$f":"$H$20","v":"2 Left"},{"$f":"$K$20","v":0},{"$f":"$Q$20","v":"2 Left"},{"$f":"$T$20","v":0},{"$f":"$Z$20","v":"2 Left"},{"$f":"$AC$20","v":0},{"$f":"$AI$20","v":"2 Left"}]
[null,null,"Left",{"$f":"$Z$2","v":0},null,"Right",{"$f":"$Z$2","v":0},"0 Left","0 Right",null,null,"Left",{"$f":"$Z$2","v":0},null,"Right",{"$f":"$Z$2","v":0},"0 Left","0 Right",null,null,"Left",{"$f":"$Z$2","v":0},null,"Right",{"$f":"$Z$2","v":0},"0 Left","0 Right",null,null,"Left",{"$f":"$Z$2","v":0},null,"Right",{"$f":"$Z$2","v":0},"0 Left","0 Right",null,{"$f":"$E$20","v":0},{"$f":"$I$20","v":"2 Right"},{"$f":"$K$23","v":0},{"$f":"$Q$23","v":"3 Left"},{"$f":"$T$23","v":0},{"$f":"$Z$23","v":"3 Left"},{"$f":"$AC$23","v":0},{"$f":"$AI$23","v":"3 Left"}]
[null,null,"Left",0,null,"Right",0,"0 Left","0 Right",null,null,"Left",0,null,"Right",0,"0 Left","0 Right",null,null,"Left",0,null,"Right",0,"0 Left","0 Right",null,null,"Left",0,null,"Right",0,"0 Left","0 Right",null,{"$f":"$B$45","v":0},{"$f":"$H$45","v":"0 Left"},{"$f":"$K$26","v":0},{"$f":"$Q$26","v":"4 Left"},{"$f":"$T$26","v":0},{"$f":"$Z$26","v":"4 Left"},{"$f":"$AC$26","v":0},{"$f":"$AI$26","v":"4 Left"}]
[null,null,"Left",{"$f":"$AB$2","v":0},null,"Right",{"$f":"$AB$2","v":0},"0 Left","0 Right",null,null,"Left",{"$f":"$AB$2","v":0},null,"Right",{"$f":"$AB$2","v":0},"0 Left","0 Right",null,null,"Left",{"$f":"$AB$2","v":0},null,"Right",{"$f":"$AB$2","v":0},"0 Left","0 Right",null,null,"Left",{"$f":"$AB$2","v":0},null,"Right",{"$f":"$AB$2","v":0},"0 Left","0 Right",null,{"$f":"$E$45","v":0},{"$f":"$I$45","v":"0 Right"},{"$f":"$K$29","v":0},{"$f":"$Q$29","v":"5 Left"},{"$f":"$T$29","v":0},{"$f":"$Z$29","v":"5 Left"},{"$f":"$AC$29","v":0},{"$f":"$AI$29","v":"5 Left"}]
[null,null,"Left",{"$f":"$AB$2","v":0},null,"Right",{"$f":"$AB$2","v":0},"0 Left","0 Right",null,null,"Left",{"$f":"$AB$2","v":0},null,"Right",{"$f":"$AB$2","v":0},"0 Left","0 Right",null,null,"Left",{"$f":"$AB$2","v":0},null,"Right",{"$f":"$AB$2","v":0},"0 Left","0 Right",null,null,"Left",{"$f":"$AB$2","v":0},null,"Right",{"$f":"$AB$2","v":0},"0 Left","0 Right",null,{"$f":"$B$46","v":0},{"$f":"$H$46","v":"0 Left"},{"$f":"$K$32","v":0},{"$f":"$Q$32","v":"6 Left"},{"$f":"$T$32","v":0},{"$f":"$Z$32","v":"6 Left"},{"$f":"$AC$32","v":0},{"$f":"$AI$32","v":"6 Left"}]
[null,null,"Left",0,null,"Right",0,"0 Left","0 Right",null,null,"Left",0,null,"Right",0,"0 Left","0 Right",null,null,"Left",0,null,"Right",0,"0 Left","0 Right",null,null,"Left",0,null,"Right",0,"0 Left","0 Right",null,{"$f":"$E$46","v":0},{"$f":"$I$46","v":"0 Right"},{"$f":"$K$35","v":0},{"$f":"$Q$35","v":"9 Left"},{"$f":"$T$35","v":0},{"$f":"$Z$35","v":"9 Left"},{"$f":"$AC$35","v":0},{"$f":"$AI$35","v":"9 Left"}]
[{"$nulls":37},{"$f":"$B$23","v":0},{"$f":"$H$23","v":"3 Left"},{"$f":"$K$38","v":0},{"$f":"$Q$38","v":"10 Left"},{"$f":"$T$38","v":0},{"$f":"$Z$38","v":"10 Left"},{"$f":"$AC$38","v":0},{"$f":"$AI$38","v":"10 Left"}]
[{"$nulls":37},{"$f":"$B$26","v":0},{"$f":"$H$26","v":"4 Left"},{"$f":"$K$41","v":0},{"$f":"$Q$41","v":"11 Left"},{"$f":"$T$41","v":0},{"$f":"$Z$41","v":"11 Left"},{"$f":"$AC$41","v":0},{"$f":"$AI$41","v":"11 Left"}]
[{"$nulls":37},{"$f":"$B$29","v":0},{"$f":"$H$29","v":"5 Left"},{"$f":"$K$44","v":0},{"$f":"$Q$44","v":"12 Left"},{"$f":"$T$44","v":0},{"$f":"$Z$44","v":"12 Left"},{"$f":"$AC$44","v":0},{"$f":"$AI$44","v":"12 Left"}]
[{"$nulls":37},{"$f":"$B$32","v":0},{"$f":"$H$32","v":"6 Left"},{"$f":"$K$45","v":0},{"$f":"$Q$45","v":"0 Left"},{"$f":"$T$45","v":0},{"$f":"$Z$45","v":"0 Left"},{"$f":"$AC$45","v":0},{"$f":"$AI$45","v":"0 Left"}]
[{"$nulls":37},{"$f":"$B$35","v":0},{"$f":"$H$35","v":"9 Left"},{"$f":"$K$46","v":0},{"$f":"$Q$46","v":"0 Left"},{"$f":"$T$46","v":0},{"$f":"$Z$46","v":"0 Left"},{"$f":"$AC$46","v":0},{"$f":"$AI$46","v":"0 Left"}]
[{"$nulls":37},{"$f":"$B$38","v":0},{"$f":"$H$38","v":"10 Left"},{"$f":"$K$47","v":0},{"$f":"$Q$47","v":"0 Left"},{"$f":"$T$47","v":0},{"$f":"$Z$47","v":"0 Left"},{"$f":"$AC$47","v":0},{"$f":"$AI$47","v":"0 Left"}]
[{"$nulls":37},{"$f":"$B$41","v":0},{"$f":"$H$41","v":"11 Left"},{"$f":"$K$48","v":0},{"$f":"$Q$48","v":"0 Left"},{"$f":"$T$48","v":0},{"$f":"$Z$48","v":"0 Left"},{"$f":"$AC$48","v":0},{"$f":"$AI$48","v":"0 Left"}]
[{"$nulls":37},{"$f":"$B$44","v":0},{"$f":"$H$44","v":"12 Left"},{"$f":"$K$49","v":0},{"$f":"$Q$49","v":"0 Left"},{"$f":"$T$49","v":0},{"$f":"$Z$49","v":"0 Left"},{"$f":"$AC$49","v":0},{"$f":"$AI$49","v":"0 Left"}]
[{"$nulls":37},{"$f":"$B$47","v":0},{"$f":"$H$47","v":"0 Left"},{"$f":"$K$50","v":0},{"$f":"$Q$50","v":"0 Left"},{"$f":"$T$50","v":0},{"$f":"$Z$50","v":"0 Left"},{"$f":"$AC$50","v":0},{"$f":"$AI$50","v":"0 Left"}]
[{"$nulls":37},{"$f":"$B$48","v":0},{"$f":"$H$48","v":"0 Left"},{"$f":"$K$51","v":0},{"$f":"$Q$51","v":"0 Left"},{"$f":"$T$51","v":0},{"$f":"$Z$51","v":"0 Left"},{"$f":"$AC$51","v":0},{"$f":"$AI$51","v":"0 Left"}]
[{"$nulls":37},{"$f":"$B$49","v":0},{"$f":"$H$49","v":"0 Left"},{"$f":"$K$52","v":0},{"$f":"$Q$52","v":"0 Left"},{"$f":"$T$52","v":0},{"$f":"$Z$52","v":"0 Left"},{"$f":"$AC$52","v":0},{"$f":"$AI$52","v":"0 Left"}]
[{"$nulls":37},{"$f":"$B$50","v":0},{"$f":"$H$50","v":"0 Left"},{"$f":"$K$53","v":0},{"$f":"$Q$53","v":"0 Left"},{"$f":"$T$53","v":0},{"$f":"$Z$53","v":"0 Left"},{"$f":"$AC$53","v":0},{"$f":"$AI$53","v":"0 Left"}]
[{"$nulls":37},{"$f":"$B$51","v":0},{"$f":"$H$51","v":"0 Left"},{"$f":"$K$54","v":0},{"$f":"$Q$54","v":"0 Left"},{"$f":"$T$54","v":0},{"$f":"$Z$54","v":"0 Left"},{"$f":"$AC$54","v":0},{"$f":"$AI$54","v":"0 Left"}]
[{"$nulls":37},{"$f":"$B$52","v":0},{"$f":"$H$52","v":"0 Left"},{"$f":"$K$55","v":0},{"$f":"$Q$55","v":"0 Left"},{"$f":"$T$55","v":0},{"$f":"$Z$55","v":"0 Left"},{"$f":"$AC$55","v":0},{"$f":"$AI$55","v":"0 Left"}]
[{"$nulls":37},{"$f":"$B$53","v":0},{"$f":"$H$53","v":"0 Left"},{"$f":"$K$56","v":0},{"$f":"$Q$56","v":"0 Left"},{"$f":"$T$56","v":0},{"$f":"$Z$56","v":"0 Left"},{"$f":"$AC$56","v":0},{"$f":"$AI$56","v":"0 Left"}]
[{"$nulls":37},{"$f":"$B$54","v":0},{"$f":"$H$54","v":"0 Left"},{"$f":"$K$57","v":0},{"$f":"$Q$57","v":"0 Left"},{"$f":"$T$57","v":0},{"$f":"$Z$57","v":"0 Left"},{"$f":"$AC$57","v":0},{"$f":"$AI$57","v":"0 Left"}]
[{"$nulls":37},{"$f":"$B$55","v":0},{"$f":"$H$55","v":"0 Left"},{"$f":"$K$58","v":0},{"$f":"$Q$58","v":"0 Left"},{"$f":"$T$58","v":0},{"$f":"$Z$58","v":"0 Left"},{"$f":"$AC$58","v":0},{"$f":"$AI$58","v":"0 Left"}]
[{"$nulls":37},{"$f":"$B$56","v":0},{"$f":"$H$56","v":"0 Left"},{"$f":"$K$59","v":0},{"$f":"$Q$59","v":"0 Left"},{"$f":"$T$59","v":0},{"$f":"$Z$59","v":"0 Left"},{"$f":"$AC$59","v":0},{"$f":"$AI$59","v":"0 Left"}]
[{"$nulls":37},{"$f":"$B$57","v":0},{"$f":"$H$57","v":"0 Left"},{"$f":"$N$20","v":0},{"$f":"$R$20","v":"2 Right"},{"$f":"$W$20","v":0},{"$f":"$AA$20","v":"2 Right"},{"$f":"$AF$20","v":0},{"$f":"$AJ$20","v":"2 Right"}]
[{"$nulls":37},{"$f":"$B$58","v":0},{"$f":"$H$58","v":"0 Left"},{"$f":"$N$23","v":0},{"$f":"$R$23","v":"3 Right"},{"$f":"$W$23","v":0},{"$f":"$AA$23","v":"3 Right"},{"$f":"$AF$23","v":0},{"$f":"$AJ$23","v":"3 Right"}]
[{"$nulls":37},{"$f":"$B$59","v":0},{"$f":"$H$59","v":"0 Left"},{"$f":"$N$26","v":0},{"$f":"$R$26","v":"4 Right"},{"$f":"$W$26","v":0},{"$f":"$AA$26","v":"4 Right"},{"$f":"$AF$26","v":0},{"$f":"$AJ$26","v":"4 Right"}]
[{"$nulls":37},{"$f":"$E$23","v":0},{"$f":"$I$23","v":"3 Right"},{"$f":"$N$29","v":0},{"$f":"$R$29","v":"5 Right"},{"$f":"$W$29","v":0},{"$f":"$AA$29","v":"5 Right"},{"$f":"$AF$29","v":0},{"$f":"$AJ$29","v":"5 Right"}]
[{"$nulls":37},{"$f":"$E$26","v":0},{"$f":"$I$26","v":"4 Right"},{"$f":"$N$32","v":0},{"$f":"$R$32","v":"6 Right"},{"$f":"$W$32","v":0},{"$f":"$AA$32","v":"6 Right"},{"$f":"$AF$32","v":0},{"$f":"$AJ$32","v":"6 Right"}]
[{"$nulls":37},{"$f":"$E$29","v":0},{"$f":"$I$29","v":"5 Right"},{"$f":"$N$35","v":0},{"$f":"$R$35","v":"9 Right"},{"$f":"$W$35","v":0},{"$f":"$AA$35","v":"9 Right"},{"$f":"$AF$35","v":0},{"$f":"$AJ$35","v":"9 Right"}]
[{"$nulls":37},{"$f":"$E$32","v":0},{"$f":"$I$32","v":"6 Right"},{"$f":"$N$38","v":0},{"$f":"$R$38","v":"10 Right"},{"$f":"$W$38","v":0},{"$f":"$AA$38","v":"10 Right"},{"$f":"$AF$38","v":0},{"$f":"$AJ$38","v":"10 Right"}]
[{"$nulls":37},{"$f":"$E$35","v":0},{"$f":"$I$35","v":"9 Right"},{"$f":"$N$41","v":0},{"$f":"$R$41","v":"11 Right"},{"$f":"$W$41","v":0},{"$f":"$AA$41","v":"11 Right"},{"$f":"$AF$41","v":0},{"$f":"$AJ$41","v":"11 Right"}]
[{"$nulls":37},{"$f":"$E$38","v":0},{"$f":"$I$38","v":"10 Right"},{"$f":"$N$44","v":0},{"$f":"$R$44","v":"12 Right"},{"$f":"$W$44","v":0},{"$f":"$AA$44","v":"12 Right"},{"$f":"$AF$44","v":0},{"$f":"$AJ$44","v":"12 Right"}]
[{"$nulls":37},{"$f":"$E$41","v":0},{"$f":"$I$41","v":"11 Right"},{"$f":"$N$45","v":0},{"$f":"$R$45","v":"0 Right"},{"$f":"$W$45","v":0},{"$f":"$AA$45","v":"0 Right"},{"$f":"$AF$45","v":0},{"$f":"$AJ$45","v":"0 Right"}]
[{"$nulls":37},{"$f":"$E$44","v":0},{"$f":"$I$44","v":"12 Right"},{"$f":"$N$46","v":0},{"$f":"$R$46","v":"0 Right"},{"$f":"$W$46","v":0},{"$f":"$AA$46","v":"0 Right"},{"$f":"$AF$46","v":0},{"$f":"$AJ$46","v":"0 Right"}]
[{"$nulls":37},{"$f":"$E$47","v":0},{"$f":"$I$47","v":"0 Right"},{"$f":"$N$47","v":0},{"$f":"$R$47","v":"0 Right"},{"$f":"$W$47","v":0},{"$f":"$AA$47","v":"0 Right"},{"$f":"$AF$47","v":0},{"$f":"$AJ$47","v":"0 Right"}]
[{"$nulls":37},{"$f":"$E$48","v":0},{"$f":"$I$48","v":"0 Right"},{"$f":"$N$48","v":0},{"$f":"$R$48","v":"0 Right"},{"$f":"$W$48","v":0},{"$f":"$AA$48","v":"0 Right"},{"$f":"$AF$48","v":0},{"$f":"$AJ$48","v":"0 Right"}]
[{"$nulls":37},{"$f":"$E$49","v":0},{"$f":"$I$49","v":"0 Right"},{"$f":"$N$49","v":0},{"$f":"$R$49","v":"0 Right"},{"$f":"$W$49","v":0},{"$f":"$AA$49","v":"0 Right"},{"$f":"$AF$49","v":0},{"$f":"$AJ$49","v":"0 Right"}]
[{"$nulls":37},{"$f":"$E$50","v":0},{"$f":"$I$50","v":"0 Right"},{"$f":"$N$50","v":0},{"$f":"$R$50","v":"0 Right"},{"$f":"$W$50","v":0},{"$f":"$AA$50","v":"0 Right"},{"$f":"$AF$50","v":0},{"$f":"$AJ$50","v":"0 Right"}]
[{"$nulls":37},{"$f":"$E$51","v":0},{"$f":"$I$51","v":"0 Right"},{"$f":"$N$51","v":0},{"$f":"$R$51","v":"0 Right"},{"$f":"$W$51","v":0},{"$f":"$AA$51","v":"0 Right"},{"$f":"$AF$51","v":0},{"$f":"$AJ$51","v":"0 Right"}]
[{"$nulls":37},{"$f":"$E$52","v":0},{"$f":"$I$52","v":"0 Right"},{"$f":"$N$52","v":0},{"$f":"$R$52","v":"0 Right"},{"$f":"$W$52","v":0},{"$f":"$AA$52","v":"0 Right"},{"$f":"$AF$52","v":0},{"$f":"$AJ$52","v":"0 Right"}]
[{"$nulls":37},{"$f":"$E$53","v":0},{"$f":"$I$53","v":"0 Right"},{"$f":"$N$53","v":0},{"$f":"$R$53","v":"0 Right"},{"$f":"$W$53","v":0},{"$f":"$AA$53","v":"0 Right"},{"$f":"$AF$53","v":0},{"$f":"$AJ$53","v":"0 Right"}]
[{"$nulls":37},{"$f":"$E$54","v":0},{"$f":"$I$54","v":"0 Right"},{"$f":"$N$54","v":0},{"$f":"$R$54","v":"0 Right"},{"$f":"$W$54","v":0},{"$f":"$AA$54","v":"0 Right"},{"$f":"$AF$54","v":0},{"$f":"$AJ$54","v":"0 Right"}]
[{"$nulls":37},{"$f":"$E$55","v":0},{"$f":"$I$55","v":"0 Right"},{"$f":"$N$55","v":0},{"$f":"$R$55","v":"0 Right"},{"$f":"$W$55","v":0},{"$f":"$AA$55","v":"0 Right"},{"$f":"$AF$55","v":0},{"$f":"$AJ$55","v":"0 Right"}]
[{"$nulls":37},{"$f":"$E$56","v":0},{"$f":"$I$56","v":"0 Right"},{"$f":"$N$56","v":0},{"$f":"$R$56","v":"0 Right"},{"$f":"$W$56","v":0},{"$f":"$AA$56","v":"0 Right"},{"$f":"$AF$56","v":0},{"$f":"$AJ$56","v":"0 Right"}]
[{"$nulls":37},{"$f":"$E$57","v":0},{"$f":"$I$57","v":"0 Right"},{"$f":"$N$57","v":0},{"$f":"$R$57","v":"0 Right"},{"$f":"$W$57","v":0},{"$f":"$AA$57","v":"0 Right"},{"$f":"$AF$57","v":0},{"$f":"$AJ$57","v":"0 Right"}]
[{"$nulls":37},{"$f":"$E$58","v":0},{"$f":"$I$58","v":"0 Right"},{"$f":"$N$58","v":0},{"$f":"$R$58","v":"0 Right"},{"$f":"$W$58","v":0},{"$f":"$AA$58","v":"0 Right"},{"$f":"$AF$58","v":0},{"$f":"$AJ$58","v":"0 Right"}]
[{"$nulls":37},{"$f":"$E$59","v":0},{"$f":"$I$59","v":"0 Right"},{"$f":"$N$59","v":0},{"$f":"$R$59","v":"0 Right"},{"$f":"$W$59","v":0},{"$f":"$AA$59","v":"0 Right"},{"$f":"$AF$59","v":0},{"$f":"$AJ$59","v":"0 Right"}]

{"sheet":"38","index":17,"n_rows":101,"n_cols":45,"rows_kept":101,"hidden":true,"merged":[[0,1,0,18],[1,1,1,2],[1,3,1,4],[1,5,1,6],[1,7,1,8],[1,9,1,10],[1,11,1,12],[1,13,1,14],[1,15,1,16],[1,17,1,18],[2,0,4,0],[5,0,7,0],[8,0,10,0],[11,0,13,0],[14,1,14,18],[15,1,15,6],[15,10,15,15],[15,19,15,24],[15,28,15,33],[16,37,16,38],[16,39,16,40],[16,41,16,42],[16,43,16,44]]}
[null,"YOU MAY CHANGE THESE RINK NUMBERS IF YOU WISH"]
["Round",2,null,3,2,4,3,5,4,6,5,9,1,10,2,11,3,12,4]
[1,1,2,3,4,5,6,7,8,9,10,21,22,26,25,27,23,24,28]
[null,11,12,13,14,15,16,17,18,19,20,30,31,35,34,36,32,37,33]
[{"$nulls":11},29,38]
[2,5,10,1,8,2,9,3,6,4,7,23,27,22,24,21,26,25,29]
[null,13,18,19,16,20,17,11,14,12,15,37,32,36,38,35,31,30,34]
[{"$nulls":11},28,33]
[3,3,9,2,6,7,8,4,10,1,5,24,25,21,23,28,29,22,27]
[null,19,15,18,12,13,14,20,16,17,11,34,35,31,33,30,38,32,37]
[{"$nulls":11},26,36]
[4,6,8,10,7,4,5,3,1,2,9,21,27,26,24,22,25,29,23]
[null,20,12,14,11,18,19,17,15,16,13,32,38,37,35,34,33,31,36]
[{"$nulls":11},28,30]
[null,"38 on 2 greens"]
[null,1,{"$nulls":8},2,{"$nulls":8},3,{"$nulls":8},4]
[null,"no","Left","rink","no","Right","rink","L","R",null,"no","Left","rink","no","Right","rink","L","R",null,"no","Left","rink","no","Right","rink","L","R",null,"no","Left","rink","no","Right","rink","L","R",null,1,null,2,null,3,null,4]
[null,1,"Left",{"$f":"$B$2","v":2},2,"Right",{"$f":"$B$2","v":2},{"$f":"(D18&\" \"&C18)","v":"2 Left"},{"$f":"(G18&\" \"&F18)","v":"2 Right"},null,5,"Left",{"$f":"$B$2","v":2},10,"Right",{"$f":"$B$2","v":2},{"$f":"(M18&\" \"&L18)","v":"2 Left"},{"$f":"(P18&\" \"&O18)","v":"2 Right"},null,3,"Left",{"$f":"$B$2","v":2},9,"Right",{"$f":"$B$2","v":2},{"$f":"(V18&\" \"&U18)","v":"2 Left"},{"$f":"(Y18&\" \"&X18)","v":"2 Right"},null,6,"Left",{"$f":"$B$2","v":2},8,"Right",{"$f":"$B$2","v":2},{"$f":"(AE18&\" \"&AD18)","v":"2 Left"},{"$f":"(AH18&\" \"&AG18)","v":"2 Right"}]
[null,11,"Left",{"$f":"$B$2","v":2},12,"Right",{"$f":"$B$2","v":2},{"$f":"(D19&\" \"&C19)","v":"2 Left"},{"$f":"(G19&\" \"&F19)","v":"2 Right"},null,13,"Left",{"$f":"$B$2","v":2},18,"Right",{"$f":"$B$2","v":2},{"$f":"(M19&\" \"&L19)","v":"2 Left"},{"$f":"(P19&\" \"&O19)","v":"2 Right"},null,19,"Left",{"$f":"$B$2","v":2},15,"Right",{"$f":"$B$2","v":2},{"$f":"(V19&\" \"&U19)","v":"2 Left"},{"$f":"(Y19&\" \"&X19)","v":"2 Right"},null,20,"Left",{"$f":"$B$2","v":2},12,"Right",{"$f":"$B$2","v":2},{"$f":"(AE19&\" \"&AD19)","v":"2 Left"},{"$f":"(AH19&\" \"&AG19)","v":"2 Right"}]
[null,null,"Left",{"$f":"$B$2","v":2},null,"Right",{"$f":"$B$2","v":2},"2 Left","2 Right",null,null,"Left",{"$f":"$B$2","v":2},null,"Right",{"$f":"$B$2","v":2},"2 Left","2 Right",null,null,"Left",{"$f":"$B$2","v":2},null,"Right",{"$f":"$B$2","v":2},"2 Left","2 Right",null,null,"Left",{"$f":"$B$2","v":2},null,"Right",{"$f":"$B$2","v":2},"2 Left","2 Right"]
[null,3,"Left",{"$f":"$D$2","v":3},4,"Right",{"$f":"$D$2","v":3},"3 Left","3 Right",null,1,"Left",{"$f":"$D$2","v":3},8,"Right",{"$f":"$D$2","v":3},"3 Left","3 Right",null,2,"Left",{"$f":"$D$2","v":3},6,"Right",{"$f":"$D$2","v":3},"3 Left","3 Right",null,10,"Left",{"$f":"$D$2","v":3},7,"Right",{"$f":"$D$2","v":3},"3 Left","3 Right"]
[null,13,"Left",{"$f":"$D$2","v":3},14,"Right",{"$f":"$D$2","v":3},"3 Left","3 Right",null,19,"Left",{"$f":"$D$2","v":3},16,"Right",{"$f":"$D$2","v":3},"3 Left","3 Right",null,18,"Left",{"$f":"$D$2","v":3},12,"Right",{"$f":"$D$2","v":3},"3 Left","3 Right",null,14,"Left",{"$f":"$D$2","v":3},11,"Right",{"$f":"$D$2","v":3},"3 Left","3 Right"]
[null,null,"Left",{"$f":"$D$2","v":3},null,"Right",{"$f":"$D$2","v":3},"3 Left","3 Right",null,null,"Left",{"$f":"$D$2","v":3},null,"Right",{"$f":"$D$2","v":3},"3 Left","3 Right",null,null,"Left",{"$f":"$D$2","v":3},null,"Right",{"$f":"$D$2","v":3},"3 Left","3 Right",null,null,"Left",{"$f":"$D$2","v":3},null,"Right",{"$f":"$D$2","v":3},"3 Left","3 Right"]
[null,5,"Left",{"$f":"$F$2","v":4},6,"Right",{"$f":"$F$2","v":4},"4 Left","4 Right",null,2,"Left",{"$f":"$F$2","v":4},9,"Right",{"$f":"$F$2","v":4},"4 Left","4 Right",null,7,"Left",{"$f":"$F$2","v":4},8,"Right",{"$f":"$F$2","v":4},"4 Left","4 Right",null,4,"Left",{"$f":"$F$2","v":4},5,"Right",{"$f":"$F$2","v":4},"4 Left","4 Right"]
[null,15,"Left",{"$f":"$F$2","v":4},16,"Right",{"$f":"$F$2","v":4},"4 Left","4 Right",null,20,"Left",{"$f":"$F$2","v":4},17,"Right",{"$f":"$F$2","v":4},"4 Left","4 Right",null,13,"Left",{"$f":"$F$2","v":4},14,"Right",{"$f":"$F$2","v":4},"4 Left","4 Right",null,18,"Left",{"$f":"$F$2","v":4},19,"Right",{"$f":"$F$2","v":4},"4 Left","4 Right"]
[null,null,"Left",{"$f":"$F$2","v":4},null,"Right",{"$f":"$F$2","v":4},"4 Left","4 Right",null,null,"Left",{"$f":"$F$2","v":4},null,"Right",{"$f":"$F$2","v":4},"4 Left","4 Right",null,null,"Left",{"$f":"$F$2","v":4},null,"Right",{"$f":"$F$2","v":4},"4 Left","4 Right",null,null,"Left",{"$f":"$F$2","v":4},null,"Right",{"$f":"$F$2","v":4},"4 Left","4 Right"]
[null,7,"Left",{"$f":"$H$2","v":5},8,"Right",{"$f":"$H$2","v":5},"5 Left","5 Right",null,3,"Left",{"$f":"$H$2","v":5},6,"Right",{"$f":"$H$2","v":5},"5 Left","5 Right",null,4,"Left",{"$f":"$H$2","v":5},10,"Right",{"$f":"$H$2","v":5},"5 Left","5 Right",null,3,"Left",{"$f":"$H$2","v":5},1,"Right",{"$f":"$H$2","v":5},"5 Left","5 Right"]
[null,17,"Left",{"$f":"$H$2","v":5},18,"Right",{"$f":"$H$2","v":5},"5 Left","5 Right",null,11,"Left",{"$f":"$H$2","v":5},14,"Right",{"$f":"$H$2","v":5},"5 Left","5 Right",null,20,"Left",{"$f":"$H$2","v":5},16,"Right",{"$f":"$H$2","v":5},"5 Left","5 Right",null,17,"Left",{"$f":"$H$2","v":5},15,"Right",{"$f":"$H$2","v":5},"5 Left","5 Right"]
[null,null,"Left",5,null,"Right",5,"5 Left","5 Right",null,null,"Left",5,null,"Right",5,"5 Left","5 Right",null,null,"Left",5,null,"Right",5,"5 Left","5 Right",null,null,"Left",5,null,"Right",5,"5 Left","5 Right"]
[null,9,"Left",{"$f":"$J$2","v":6},10,"Right",{"$f":"$J$2","v":6},"6 Left","6 Right",null,4,"Left",{"$f":"$J$2","v":6},7,"Right",{"$f":"$J$2","v":6},"6 Left","6 Right",null,1,"Left",{"$f":"$J$2","v":6},5,"Right",{"$f":"$J$2","v":6},"6 Left","6 Right",null,2,"Left",{"$f":"$J$2","v":6},9,"Right",{"$f":"$J$2","v":6},"6 Left","6 Right"]
[null,19,"Left",{"$f":"$J$2","v":6},20,"Right",{"$f":"$J$2","v":6},"6 Left","6 Right",null,12,"Left",{"$f":"$J$2","v":6},15,"Right",{"$f":"$J$2","v":6},"6 Left","6 Right",null,17,"Left",{"$f":"$J$2","v":6},11,"Right",{"$f":"$J$2","v":6},"6 Left","6 Right",null,16,"Left",{"$f":"$J$2","v":6},13,"Right",{"$f":"$J$2","v":6},"6 Left","6 Right"]
[null,null,"Left",6,null,"Right",6,"6 Left","6 Right",null,null,"Left",6,null,"Right",6,"6 Left","6 Right",null,null,"Left",6,null,"Right",6,"6 Left","6 Right",null,null,"Left",6,null,"Right",6,"6 Left","6 Right"]
[null,21,"Left",{"$f":"$L$2","v":9},22,"Right",{"$f":"$L$2","v":9},"9 Left","9 Right",null,23,"Left",{"$f":"$L$2","v":9},27,"Right",{"$f":"$L$2","v":9},"9 Left","9 Right",null,24,"Left",{"$f":"$L$2","v":9},25,"Right",{"$f":"$L$2","v":9},"9 Left","9 Right",null,21,"Left",{"$f":"$L$2","v":9},27,"Right",{"$f":"$L$2","v":9},"9 Left","9 Right"]
[null,30,"Left",{"$f":"$L$2","v":9},31,"Right",{"$f":"$L$2","v":9},"9 Left","9 Right",null,37,"Left",{"$f":"$L$2","v":9},32,"Right",{"$f":"$L$2","v":9},"9 Left","9 Right",null,34,"Left",{"$f":"$L$2","v":9},35,"Right",{"$f":"$L$2","v":9},"9 Left","9 Right",null,32,"Left",{"$f":"$L$2","v":9},38,"Right",{"$f":"$L$2","v":9},"9 Left","9 Right"]
[null,29,"Left",9,38,"Right",9,"9 Left","9 Right",null,28,"Left",9,33,"Right",9,"9 Left","9 Right",null,26,"Left",9,36,"Right",9,"9 Left","9 Right",null,28,"Left",9,30,"Right",9,"9 Left","9 Right"]
[null,26,"Left",{"$f":"$N$2","v":10},25,"Right",{"$f":"$N$2","v":10},"10 Left","10 Right",null,22,"Left",{"$f":"$N$2","v":10},24,"Right",{"$f":"$N$2","v":10},"10 Left","10 Right",null,21,"Left",{"$f":"$N$2","v":10},23,"Right",{"$f":"$N$2","v":10},"10 Left","10 Right",null,26,"Left",{"$f":"$N$2","v":10},24,"Right",{"$f":"$N$2","v":10},"10 Left","10 Right"]
[null,35,"Left",{"$f":"$N$2","v":10},34,"Right",{"$f":"$N$2","v":10},"10 Left","10 Right",null,36,"Left",{"$f":"$N$2","v":10},38,"Right",{"$f":"$N$2","v":10},"10 Left","10 Right",null,31,"Left",{"$f":"$N$2","v":10},33,"Right",{"$f":"$N$2","v":10},"10 Left","10 Right",null,37,"Left",{"$f":"$N$2","v":10},35,"Right",{"$f":"$N$2","v":10},"10 Left","10 Right"]
[null,null,"Left",10,null,"Right",10,"10 Left","10 Right",null,null,"Left",10,null,"Right",10,"10 Left","10 Right",null,null,"Left",10,null,"Right",10,"10 Left","10 Right",null,null,"Left",10,null,"Right",10,"10 Left","10 Right"]
[null,27,"Left",{"$f":"$P$2","v":11},23,"Right",{"$f":"$P$2","v":11},"11 Left","11 Right",null,21,"Left",{"$f":"$P$2","v":11},26,"Right",{"$f":"$P$2","v":11},"11 Left","11 Right",null,28,"Left",{"$f":"$P$2","v":11},29,"Right",{"$f":"$P$2","v":11},"11 Left","11 Right",null,22,"Left",{"$f":"$P$2","v":11},25,"Right",{"$f":"$P$2","v":11},"11 Left","11 Right"]
[null,36,"Left",{"$f":"$P$2","v":11},32,"Right",{"$f":"$P$2","v":11},"11 Left","11 Right",null,35,"Left",{"$f":"$P$2","v":11},31,"Right",{"$f":"$P$2","v":11},"11 Left","11 Right",null,30,"Left",{"$f":"$P$2","v":11},38,"Right",{"$f":"$P$2","v":11},"11 Left","11 Right",null,34,"Left",{"$f":"$P$2","v":11},33,"Right",{"$f":"$P$2","v":11},"11 Left","11 Right"]
[null,null,"Left",11,null,"Right",11,"11 Left","11 Right",null,null,"Left",11,null,"Right",11,"11 Left","11 Right",null,null,"Left",11,null,"Right",11,"11 Left","11 Right",null,null,"Left",11,null,"Right",11,"11 Left","11 Right"]
[null,24,"Left",{"$f":"$R$2","v":12},28,"Right",{"$f":"$R$2","v":12},"12 Left","12 Right",null,25,"Left",{"$f":"$R$2","v":12},29,"Right",{"$f":"$R$2","v":12},"12 Left","12 Right",null,22,"Left",{"$f":"$R$2","v":12},27,"Right",{"$f":"$R$2","v":12},"12 Left","12 Right",null,29,"Left",{"$f":"$R$2","v":12},23,"Right",{"$f":"$R$2","v":12},"12 Left","12 Right"]
[null,37,"Left",{"$f":"$R$2","v":12},33,"Right",{"$f":"$R$2","v":12},"12 Left","12 Right",null,30,"Left",{"$f":"$R$2","v":12},34,"Right",{"$f":"$R$2","v":12},"12 Left","12 Right",null,32,"Left",{"$f":"$R$2","v":12},37,"Right",{"$f":"$R$2","v":12},"12 Left","12 Right",null,31,"Left",{"$f":"$R$2","v":12},36,"Right",{"$f":"$R$2","v":12},"12 Left","12 Right"]
[null,null,"Left",12,null,"Right",12,"12 Left","12 Right",null,null,"Left",12,null,"Right",12,"12 Left","12 Right",null,null,"Left",12,null,"Right",12,"12 Left","12 Right",null,null,"Left",12,null,"Right",12,"12 Left","12 Right"]
[null,null,"Left",{"$f":"$T$2","v":0},null,"Right",{"$f":"$T$2","v":0},"0 Left","0 Right",null,null,"Left",{"$f":"$T$2","v":0},null,"Right",{"$f":"$T$2","v":0},"0 Left","0 Right",null,null,"Left",{"$f":"$T$2","v":0},null,"Right",{"$f":"$T$2","v":0},"0 Left","0 Right",null,null,"Left",{"$f":"$T$2","v":0},null,"Right",{"$f":"$T$2","v":0},"0 Left","0 Right"]
[null,null,"Left",{"$f":"$T$2","v":0},null,"Right",{"$f":"$T$2","v":0},"0 Left","0 Right",null,null,"Left",{"$f":"$T$2","v":0},null,"Right",{"$f":"$T$2","v":0},"0 Left","0 Right",null,null,"Left",{"$f":"$T$2","v":0},null,"Right",{"$f":"$T$2","v":0},"0 Left","0 Right",null,null,"Left",{"$f":"$T$2","v":0},null,"Right",{"$f":"$T$2","v":0},"0 Left","0 Right"]
[null,null,"Left",0,null,"Right",0,"0 Left","0 Right",null,null,"Left",0,null,"Right",0,"0 Left","0 Right",null,null,"Left",0,null,"Right",0,"0 Left","0 Right",null,null,"Left",0,null,"Right",0,"0 Left","0 Right"]
[null,null,"Left",{"$f":"$V$2","v":0},null,"Right",{"$f":"$V$2","v":0},"0 Left","0 Right",null,null,"Left",{"$f":"$V$2","v":0},null,"Right",{"$f":"$V$2","v":0},"0 Left","0 Right",null,null,"Left",{"$f":"$V$2","v":0},null,"Right",{"$f":"$V$2","v":0},"0 Left","0 Right",null,null,"Left",{"$f":"$V$2","v":0},null,"Right",{"$f":"$V$2","v":0},"0 Left","0 Right"]
[null,null,"Left",{"$f":"$V$2","v":0},null,"Right",{"$f":"$V$2","v":0},"0 Left","0 Right",null,null,"Left",{"$f":"$V$2","v":0},null,"Right",{"$f":"$V$2","v":0},"0 Left","0 Right",null,null,"Left",{"$f":"$V$2","v":0},null,"Right",{"$f":"$V$2","v":0},"0 Left","0 Right",null,null,"Left",{"$f":"$V$2","v":0},null,"Right",{"$f":"$V$2","v":0},"0 Left","0 Right"]
[null,null,"Left",0,null,"Right",0,"0 Left","0 Right",null,null,"Left",0,null,"Right",0,"0 Left","0 Right",null,null,"Left",0,null,"Right",0,"0 Left","0 Right",null,null,"Left",0,null,"Right",0,"0 Left","0 Right"]
[null,null,"Left",{"$f":"$X$2","v":0},null,"Right",{"$f":"$X$2","v":0},"0 Left","0 Right",null,null,"Left",{"$f":"$X$2","v":0},null,"Right",{"$f":"$X$2","v":0},"0 Left","0 Right",null,null,"Left",{"$f":"$X$2","v":0},null,"Right",{"$f":"$X$2","v":0},"0 Left","0 Right",null,null,"Left",{"$f":"$X$2","v":0},null,"Right",{"$f":"$X$2","v":0},"0 Left","0 Right"]
[null,null,"Left",{"$f":"$X$2","v":0},null,"Right",{"$f":"$X$2","v":0},"0 Left","0 Right",null,null,"Left",{"$f":"$X$2","v":0},null,"Right",{"$f":"$X$2","v":0},"0 Left","0 Right",null,null,"Left",{"$f":"$X$2","v":0},null,"Right",{"$f":"$X$2","v":0},"0 Left","0 Right",null,null,"Left",{"$f":"$X$2","v":0},null,"Right",{"$f":"$X$2","v":0},"0 Left","0 Right"]
[null,null,"Left",0,null,"Right",0,"0 Left","0 Right",null,null,"Left",0,null,"Right",0,"0 Left","0 Right",null,null,"Left",0,null,"Right",0,"0 Left","0 Right",null,null,"Left",0,null,"Right",0,"0 Left","0 Right"]
[null,null,"Left",{"$f":"$Z$2","v":0},null,"Right",{"$f":"$Z$2","v":0},"0 Left","0 Right",null,null,"Left",{"$f":"$Z$2","v":0},null,"Right",{"$f":"$Z$2","v":0},"0 Left","0 Right",null,null,"Left",{"$f":"$Z$2","v":0},null,"Right",{"$f":"$Z$2","v":0},"0 Left","0 Right",null,null,"Left",{"$f":"$Z$2","v":0},null,"Right",{"$f":"$Z$2","v":0},"0 Left","0 Right"]
[null,null,"Left",{"$f":"$Z$2","v":0},null,"Right",{"$f":"$Z$2","v":0},"0 Left","0 Right",null,null,"Left",{"$f":"$Z$2","v":0},null,"Right",{"$f":"$Z$2","v":0},"0 Left","0 Right",null,null,"Left",{"$f":"$Z$2","v":0},null,"Right",{"$f":"$Z$2","v":0},"0 Left","0 Right",null,null,"Left",{"$f":"$Z$2","v":0},null,"Right",{"$f":"$Z$2","v":0},"0 Left","0 Right"]
[null,null,"Left",0,null,"Right",0,"0 Left","0 Right",null,null,"Left",0,null,"Right",0,"0 Left","0 Right",null,null,"Left",0,null,"Right",0,"0 Left","0 Right",null,null,"Left",0,null,"Right",0,"0 Left","0 Right",null,{"$f":"$B$20","v":0},{"$f":"$H$20","v":"2 Left"},{"$f":"$K$20","v":0},{"$f":"$Q$20","v":"2 Left"},{"$f":"$T$20","v":0},{"$f":"$Z$20","v":"2 Left"},{"$f":"$AC$20","v":0},{"$f":"$AI$20","v":"2 Left"}]
[null,null,"Left",{"$f":"$AB$2","v":0},null,"Right",{"$f":"$AB$2","v":0},"0 Left","0 Right",null,null,"Left",{"$f":"$AB$2","v":0},null,"Right",{"$f":"$AB$2","v":0},"0 Left","0 Right",null,null,"Left",{"$f":"$AB$2","v":0},null,"Right",{"$f":"$AB$2","v":0},"0 Left","0 Right",null,null,"Left",{"$f":"$AB$2","v":0},null,"Right",{"$f":"$AB$2","v":0},"0 Left","0 Right",null,{"$f":"$E$20","v":0},{"$f":"$I$20","v":"2 Right"},{"$f":"$K$23","v":0},{"$f":"$Q$23","v":"3 Left"},{"$f":"$T$23","v":0},{"$f":"$Z$23","v":"3 Left"},{"$f":"$AC$23","v":0},{"$f":"$AI$23","v":"3 Left"}]
[null,null,"Left",{"$f":"$AB$2","v":0},null,"Right",{"$f":"$AB$2","v":0},"0 Left","0 Right",null,null,"Left",{"$f":"$AB$2","v":0},null,"Right",{"$f":"$AB$2","v":0},"0 Left","0 Right",null,null,"Left",{"$f":"$AB$2","v":0},null,"Right",{"$f":"$AB$2","v":0},"0 Left","0 Right",null,null,"Left",{"$f":"$AB$2","v":0},null,"Right",{"$f":"$AB$2","v":0},"0 Left","0 Right",null,{"$f":"$B$45","v":0},{"$f":"$H$45","v":"0 Left"},{"$f":"$K$26","v":0},{"$f":"$Q$26","v":"4 Left"},{"$f":"$T$26","v":0},{"$f":"$Z$26","v":"4 Left"},{"$f":"$AC$26","v":0},{"$f":"$AI$26","v":"4 Left"}]
[null,null,"Left",0,null,"Right",0,"0 Left","0 Right",null,null,"Left",0,null,"Right",0,"0 Left","0 Right",null,null,"Left",0,null,"Right",0,"0 Left","0 Right",null,null,"Left",0,null,"Right",0,"0 Left","0 Right",null,{"$f":"$E$45","v":0},{"$f":"$I$45","v":"0 Right"},{"$f":"$K$29","v":0},{"$f":"$Q$29","v":"5 Left"},{"$f":"$T$29","v":0},{"$f":"$Z$29","v":"5 Left"},{"$f":"$AC$29","v":0},{"$f":"$AI$29","v":"5 Left"}]
[{"$nulls":37},{"$f":"$B$46","v":0},{"$f":"$H$46","v":"0 Left"},{"$f":"$K$32","v":0},{"$f":"$Q$32","v":"6 Left"},{"$f":"$T$32","v":0},{"$f":"$Z$32","v":"6 Left"},{"$f":"$AC$32","v":0},{"$f":"$AI$32","v":"6 Left"}]
[{"$nulls":37},{"$f":"$E$46","v":0},{"$f":"$I$46","v":"0 Right"},{"$f":"$K$38","v":0},{"$f":"$Q$38","v":"10 Left"},{"$f":"$T$38","v":0},{"$f":"$Z$38","v":"10 Left"},{"$f":"$AC$38","v":0},{"$f":"$AI$38","v":"10 Left"}]
[{"$nulls":37},{"$f":"$B$23","v":0},{"$f":"$H$23","v":"3 Left"},{"$f":"$K$41","v":0},{"$f":"$Q$41","v":"11 Left"},{"$f":"$T$41","v":0},{"$f":"$Z$41","v":"11 Left"},{"$f":"$AC$41","v":0},{"$f":"$AI$41","v":"11 Left"}]
[{"$nulls":37},{"$f":"$B$26","v":0},{"$f":"$H$26","v":"4 Left"},{"$f":"$K$44","v":0},{"$f":"$Q$44","v":"12 Left"},{"$f":"$T$44","v":0},{"$f":"$Z$44","v":"12 Left"},{"$f":"$AC$44","v":0},{"$f":"$AI$44","v":"12 Left"}]
[{"$nulls":37},{"$f":"$B$29","v":0},{"$f":"$H$29","v":"5 Left"},{"$f":"$K$45","v":0},{"$f":"$Q$45","v":"0 Left"},{"$f":"$T$45","v":0},{"$f":"$Z$45","v":"0 Left"},{"$f":"$AC$45","v":0},{"$f":"$AI$45","v":"0 Left"}]
[{"$nulls":37},{"$f":"$B$32","v":0},{"$f":"$H$32","v":"6 Left"},{"$f":"$K$46","v":0},{"$f":"$Q$46","v":"0 Left"},{"$f":"$T$46","v":0},{"$f":"$Z$46","v":"0 Left"},{"$f":"$AC$46","v":0},{"$f":"$AI$46","v":"0 Left"}]
[{"$nulls":37},{"$f":"$B$38","v":0},{"$f":"$H$38","v":"10 Left"},{"$f":"$K$47","v":0},{"$f":"$Q$47","v":"0 Left"},{"$f":"$T$47","v":0},{"$f":"$Z$47","v":"0 Left"},{"$f":"$AC$47","v":0},{"$f":"$AI$47","v":"0 Left"}]
[{"$nulls":37},{"$f":"$B$41","v":0},{"$f":"$H$41","v":"11 Left"},{"$f":"$K$48","v":0},{"$f":"$Q$48","v":"0 Left"},{"$f":"$T$48","v":0},{"$f":"$Z$48","v":"0 Left"},{"$f":"$AC$48","v":0},{"$f":"$AI$48","v":"0 Left"}]
[{"$nulls":37},{"$f":"$B$44","v":0},{"$f":"$H$44","v":"12 Left"},{"$f":"$K$49","v":0},{"$f":"$Q$49","v":"0 Left"},{"$f":"$T$49","v":0},{"$f":"$Z$49","v":"0 Left"},{"$f":"$AC$49","v":0},{"$f":"$AI$49","v":"0 Left"}]
[{"$nulls":37},{"$f":"$B$47","v":0},{"$f":"$H$47","v":"0 Left"},{"$f":"$K$50","v":0},{"$f":"$Q$50","v":"0 Left"},{"$f":"$T$50","v":0},{"$f":"$Z$50","v":"0 Left"},{"$f":"$AC$50","v":0},{"$f":"$AI$50","v":"0 Left"}]
[{"$nulls":37},{"$f":"$B$48","v":0},{"$f":"$H$48","v":"0 Left"},{"$f":"$K$51","v":0},{"$f":"$Q$51","v":"0 Left"},{"$f":"$T$51","v":0},{"$f":"$Z$51","v":"0 Left"},{"$f":"$AC$51","v":0},{"$f":"$AI$51","v":"0 Left"}]
[{"$nulls":37},{"$f":"$B$49","v":0},{"$f":"$H$49","v":"0 Left"},{"$f":"$K$52","v":0},{"$f":"$Q$52","v":"0 Left"},{"$f":"$T$52","v":0},{"$f":"$Z$52","v":"0 Left"},{"$f":"$AC$52","v":0},{"$f":"$AI$52","v":"0 Left"}]
[{"$nulls":37},{"$f":"$B$50","v":0},{"$f":"$H$50","v":"0 Left"},{"$f":"$K$53","v":0},{"$f":"$Q$53","v":"0 Left"},{"$f":"$T$53","v":0},{"$f":"$Z$53","v":"0 Left"},{"$f":"$AC$53","v":0},{"$f":"$AI$53","v":"0 Left"}]
[{"$nulls":37},{"$f":"$B$51","v":0},{"$f":"$H$51","v":"0 Left"},{"$f":"$K$54","v":0},{"$f":"$Q$54","v":"0 Left"},{"$f":"$T$54","v":0},{"$f":"$Z$54","v":"0 Left"},{"$f":"$AC$54","v":0},{"$f":"$AI$54","v":"0 Left"}]
[{"$nulls":37},{"$f":"$B$52","v":0},{"$f":"$H$52","v":"0 Left"},{"$f":"$K$55","v":0},{"$f":"$Q$55","v":"0 Left"},{"$f":"$T$55","v":0},{"$f":"$Z$55","v":"0 Left"},{"$f":"$AC$55","v":0},{"$f":"$AI$55","v":"0 Left"}]
[{"$nulls":37},{"$f":"$B$53","v":0},{"$f":"$H$53","v":"0 Left"},{"$f":"$K$56","v":0},{"$f":"$Q$56","v":"0 Left"},{"$f":"$T$56","v":0},{"$f":"$Z$56","v":"0 Left"},{"$f":"$AC$56","v":0},{"$f":"$AI$56","v":"0 Left"}]
[{"$nulls":37},{"$f":"$B$54","v":0},{"$f":"$H$54","v":"0 Left"},{"$f":"$K$57","v":0},{"$f":"$Q$57","v":"0 Left"},{"$f":"$T$57","v":0},{"$f":"$Z$57","v":"0 Left"},{"$f":"$AC$57","v":0},{"$f":"$AI$57","v":"0 Left"}]
[{"$nulls":37},{"$f":"$B$55","v":0},{"$f":"$H$55","v":"0 Left"},{"$f":"$K$58","v":0},{"$f":"$Q$58","v":"0 Left"},{"$f":"$T$58","v":0},{"$f":"$Z$58","v":"0 Left"},{"$f":"$AC$58","v":0},{"$f":"$AI$58","v":"0 Left"}]
[{"$nulls":37},{"$f":"$B$56","v":0},{"$f":"$H$56","v":"0 Left"},{"$f":"$K$59","v":0},{"$f":"$Q$59","v":"0 Left"},{"$f":"$T$59","v":0},{"$f":"$Z$59","v":"0 Left"},{"$f":"$AC$59","v":0},{"$f":"$AI$59","v":"0 Left"}]
[{"$nulls":37},{"$f":"$B$57","v":0},{"$f":"$H$57","v":"0 Left"},{"$f":"$N$20","v":0},{"$f":"$R$20","v":"2 Right"},{"$f":"$W$20","v":0},{"$f":"$AA$20","v":"2 Right"},{"$f":"$AF$20","v":0},{"$f":"$AJ$20","v":"2 Right"}]
[{"$nulls":37},{"$f":"$B$58","v":0},{"$f":"$H$58","v":"0 Left"},{"$f":"$N$23","v":0},{"$f":"$R$23","v":"3 Right"},{"$f":"$W$23","v":0},{"$f":"$AA$23","v":"3 Right"},{"$f":"$AF$23","v":0},{"$f":"$AJ$23","v":"3 Right"}]
[{"$nulls":37},{"$f":"$B$59","v":0},{"$f":"$H$59","v":"0 Left"},{"$f":"$N$26","v":0},{"$f":"$R$26","v":"4 Right"},{"$f":"$W$26","v":0},{"$f":"$AA$26","v":"4 Right"},{"$f":"$AF$26","v":0},{"$f":"$AJ$26","v":"4 Right"}]
[{"$nulls":37},{"$f":"$E$23","v":0},{"$f":"$I$23","v":"3 Right"},{"$f":"$N$29","v":0},{"$f":"$R$29","v":"5 Right"},{"$f":"$W$29","v":0},{"$f":"$AA$29","v":"5 Right"},{"$f":"$AF$29","v":0},{"$f":"$AJ$29","v":"5 Right"}]
[{"$nulls":37},{"$f":"$E$26","v":0},{"$f":"$I$26","v":"4 Right"},{"$f":"$N$32","v":0},{"$f":"$R$32","v":"6 Right"},{"$f":"$W$32","v":0},{"$f":"$AA$32","v":"6 Right"},{"$f":"$AF$32","v":0},{"$f":"$AJ$32","v":"6 Right"}]
[{"$nulls":37},{"$f":"$E$29","v":0},{"$f":"$I$29","v":"5 Right"},{"$f":"$N$38","v":0},{"$f":"$R$38","v":"10 Right"},{"$f":"$W$38","v":0},{"$f":"$AA$38","v":"10 Right"},{"$f":"$AF$38","v":0},{"$f":"$AJ$38","v":"10 Right"}]
[{"$nulls":37},{"$f":"$E$32","v":0},{"$f":"$I$32","v":"6 Right"},{"$f":"$N$41","v":0},{"$f":"$R$41","v":"11 Right"},{"$f":"$W$41","v":0},{"$f":"$AA$41","v":"11 Right"},{"$f":"$AF$41","v":0},{"$f":"$AJ$41","v":"11 Right"}]
[{"$nulls":37},{"$f":"$E$38","v":0},{"$f":"$I$38","v":"10 Right"},{"$f":"$N$44","v":0},{"$f":"$R$44","v":"12 Right"},{"$f":"$W$44","v":0},{"$f":"$AA$44","v":"12 Right"},{"$f":"$AF$44","v":0},{"$f":"$AJ$44","v":"12 Right"}]
[{"$nulls":37},{"$f":"$E$41","v":0},{"$f":"$I$41","v":"11 Right"},{"$f":"$N$45","v":0},{"$f":"$R$45","v":"0 Right"},{"$f":"$W$45","v":0},{"$f":"$AA$45","v":"0 Right"},{"$f":"$AF$45","v":0},{"$f":"$AJ$45","v":"0 Right"}]
[{"$nulls":37},{"$f":"$E$44","v":0},{"$f":"$I$44","v":"12 Right"},{"$f":"$N$46","v":0},{"$f":"$R$46","v":"0 Right"},{"$f":"$W$46","v":0},{"$f":"$AA$46","v":"0 Right"},{"$f":"$AF$46","v":0},{"$f":"$AJ$46","v":"0 Right"}]
[{"$nulls":37},{"$f":"$E$47","v":0},{"$f":"$I$47","v":"0 Right"},{"$f":"$N$47","v":0},{"$f":"$R$47","v":"0 Right"},{"$f":"$W$47","v":0},{"$f":"$AA$47","v":"0 Right"},{"$f":"$AF$47","v":0},{"$f":"$AJ$47","v":"0 Right"}]
[{"$nulls":37},{"$f":"$E$48","v":0},{"$f":"$I$48","v":"0 Right"},{"$f":"$N$48","v":0},{"$f":"$R$48","v":"0 Right"},{"$f":"$W$48","v":0},{"$f":"$AA$48","v":"0 Right"},{"$f":"$AF$48","v":0},{"$f":"$AJ$48","v":"0 Right"}]
[{"$nulls":37},{"$f":"$E$49","v":0},{"$f":"$I$49","v":"0 Right"},{"$f":"$N$49","v":0},{"$f":"$R$49","v":"0 Right"},{"$f":"$W$49","v":0},{"$f":"$AA$49","v":"0 Right"},{"$f":"$AF$49","v":0},{"$f":"$AJ$49","v":"0 Right"}]
[{"$nulls":37},{"$f":"$E$50","v":0},{"$f":"$I$50","v":"0 Right"},{"$f":"$N$50","v":0},{"$f":"$R$50","v":"0 Right"},{"$f":"$W$50","v":0},{"$f":"$AA$50","v":"0 Right"},{"$f":"$AF$50","v":0},{"$f":"$AJ$50","v":"0 Right"}]
[{"$nulls":37},{"$f":"$E$51","v":0},{"$f":"$I$51","v":"0 Right"},{"$f":"$N$51","v":0},{"$f":"$R$51","v":"0 Right"},{"$f":"$W$51","v":0},{"$f":"$AA$51","v":"0 Right"},{"$f":"$AF$51","v":0},{"$f":"$AJ$51","v":"0 Right"}]
[{"$nulls":37},{"$f":"$E$52","v":0},{"$f":"$I$52","v":"0 Right"},{"$f":"$N$52","v":0},{"$f":"$R$52","v":"0 Right"},{"$f":"$W$52","v":0},{"$f":"$AA$52","v":"0 Right"},{"$f":"$AF$52","v":0},{"$f":"$AJ$52","v":"0 Right"}]
[{"$nulls":37},{"$f":"$E$53","v":0},{"$f":"$I$53","v":"0 Right"},{"$f":"$N$53","v":0},{"$f":"$R$53","v":"0 Right"},{"$f":"$W$53","v":0},{"$f":"$AA$53","v":"0 Right"},{"$f":"$AF$53","v":0},{"$f":"$AJ$53","v":"0 Right"}]
[{"$nulls":37},{"$f":"$E$54","v":0},{"$f":"$I$54","v":"0 Right"},{"$f":"$N$54","v":0},{"$f":"$R$54","v":"0 Right"},{"$f":"$W$54","v":0},{"$f":"$AA$54","v":"0 Right"},{"$f":"$AF$54","v":0},{"$f":"$AJ$54","v":"0 Right"}]
[{"$nulls":37},{"$f":"$E$55","v":0},{"$f":"$I$55","v":"0 Right"},{"$f":"$N$55","v":0},{"$f":"$R$55","v":"0 Right"},{"$f":"$W$55","v":0},{"$f":"$AA$55","v":"0 Right"},{"$f":"$AF$55","v":0},{"$f":"$AJ$55","v":"0 Right"}]
[{"$nulls":37},{"$f":"$E$56","v":0},{"$f":"$I$56","v":"0 Right"},{"$f":"$N$56","v":0},{"$f":"$R$56","v":"0 Right"},{"$f":"$W$56","v":0},{"$f":"$AA$56","v":"0 Right"},{"$f":"$AF$56","v":0},{"$f":"$AJ$56","v":"0 Right"}]
[{"$nulls":37},{"$f":"$E$57","v":0},{"$f":"$I$57","v":"0 Right"},{"$f":"$N$57","v":0},{"$f":"$R$57","v":"0 Right"},{"$f":"$W$57","v":0},{"$f":"$AA$57","v":"0 Right"},{"$f":"$AF$57","v":0},{"$f":"$AJ$57","v":"0 Right"}]
[{"$nulls":37},{"$f":"$E$58","v":0},{"$f":"$I$58","v":"0 Right"},{"$f":"$N$58","v":0},{"$f":"$R$58","v":"0 Right"},{"$f":"$W$58","v":0},{"$f":"$AA$58","v":"0 Right"},{"$f":"$AF$58","v":0},{"$f":"$AJ$58","v":"0 Right"}]
[{"$nulls":37},{"$f":"$E$59","v":0},{"$f":"$I$59","v":"0 Right"},{"$f":"$N$59","v":0},{"$f":"$R$59","v":"0 Right"},{"$f":"$W$59","v":0},{"$f":"$AA$59","v":"0 Right"},{"$f":"$AF$59","v":0},{"$f":"$AJ$59","v":"0 Right"}]

{"sheet":"40","index":18,"n_rows":101,"n_cols":45,"rows_kept":101,"hidden":true,"merged":[[0,1,0,20],[1,1,1,2],[1,3,1,4],[1,5,1,6],[1,7,1,8],[1,9,1,10],[1,11,1,12],[1,13,1,14],[1,15,1,16],[1,17,1,18],[1,19,1,20],[2,0,4,0],[5,0,7,0],[8,0,10,0],[11,0,13,0],[14,1,14,20],[15,1,15,6],[15,10,15,15],[15,19,15,24],[15,28,15,33],[16,37,16,38],[16,39,16,40],[16,41,16,42],[16,43,16,44]]}
[null,"YOU MAY CHANGE THESE RINK NUMBERS IF YOU WISH"]
["Round",2,null,3,2,4,3,5,4,6,5,9,null,10,null,11,null,12,null,13]
[1,1,2,3,4,5,6,7,8,9,10,21,22,23,24,25,26,27,28,29,30]
[null,11,12,13,14,15,16,17,18,19,20,31,32,33,34,35,36,37,38,39,40]
[]
[2,5,10,1,8,2,9,3,6,4,7,25,30,21,28,22,29,23,26,24,27]
[null,13,18,19,16,20,17,11,14,12,15,33,38,39,36,40,37,31,34,32,35]
[]
[3,3,9,2,6,7,8,4,10,1,5,23,29,22,26,27,28,24,30,21,25]
[null,19,15,18,12,13,14,20,16,17,11,39,35,38,32,33,34,40,36,37,31]
[]
[4,6,8,10,7,4,5,3,1,2,9,26,28,30,27,24,25,23,21,22,29]
[null,20,12,14,11,18,19,17,15,16,13,40,32,34,31,38,39,37,35,36,33]
[]
[null,"40 on 2 greens"]
[null,1,{"$nulls":8},2,{"$nulls":8},3,{"$nulls":8},4]
[null,"no","Left","rink","no","Right","rink","L","R",null,"no","Left","rink","no","Right","rink","L","R",null,"no","Left","rink","no","Right","rink","L","R",null,"no","Left","rink","no","Right","rink","L","R",null,1,null,2,null,3,null,4]
[null,1,"Left",{"$f":"$B$2","v":2},2,"Right",{"$f":"$B$2","v":2},{"$f":"(D18&\" \"&C18)","v":"2 Left"},{"$f":"(G18&\" \"&F18)","v":"2 Right"},null,5,"Left",{"$f":"$B$2","v":2},10,"Right",{"$f":"$B$2","v":2},{"$f":"(M18&\" \"&L18)","v":"2 Left"},{"$f":"(P18&\" \"&O18)","v":"2 Right"},null,3,"Left",{"$f":"$B$2","v":2},9,"Right",{"$f":"$B$2","v":2},{"$f":"(V18&\" \"&U18)","v":"2 Left"},{"$f":"(Y18&\" \"&X18)","v":"2 Right"},null,6,"Left",{"$f":"$B$2","v":2},8,"Right",{"$f":"$B$2","v":2},{"$f":"(AE18&\" \"&AD18)","v":"2 Left"},{"$f":"(AH18&\" \"&AG18)","v":"2 Right"}]
[null,11,"Left",{"$f":"$B$2","v":2},12,"Right",{"$f":"$B$2","v":2},{"$f":"(D19&\" \"&C19)","v":"2 Left"},{"$f":"(G19&\" \"&F19)","v":"2 Right"},null,13,"Left",{"$f":"$B$2","v":2},18,"Right",{"$f":"$B$2","v":2},{"$f":"(M19&\" \"&L19)","v":"2 Left"},{"$f":"(P19&\" \"&O19)","v":"2 Right"},null,19,"Left",{"$f":"$B$2","v":2},15,"Right",{"$f":"$B$2","v":2},{"$f":"(V19&\" \"&U19)","v":"2 Left"},{"$f":"(Y19&\" \"&X19)","v":"2 Right"},null,20,"Left",{"$f":"$B$2","v":2},12,"Right",{"$f":"$B$2","v":2},{"$f":"(AE19&\" \"&AD19)","v":"2 Left"},{"$f":"(AH19&\" \"&AG19)","v":"2 Right"}]
[null,null,"Left",{"$f":"$B$2","v":2},null,"Right",{"$f":"$B$2","v":2},"2 Left","2 Right",null,null,"Left",{"$f":"$B$2","v":2},null,"Right",{"$f":"$B$2","v":2},"2 Left","2 Right",null,null,"Left",{"$f":"$B$2","v":2},null,"Right",{"$f":"$B$2","v":2},"2 Left","2 Right",null,null,"Left",{"$f":"$B$2","v":2},null,"Right",{"$f":"$B$2","v":2},"2 Left","2 Right"]
[null,3,"Left",{"$f":"$D$2","v":3},4,"Right",{"$f":"$D$2","v":3},"3 Left","3 Right",null,1,"Left",{"$f":"$D$2","v":3},8,"Right",{"$f":"$D$2","v":3},"3 Left","3 Right",null,2,"Left",{"$f":"$D$2","v":3},6,"Right",{"$f":"$D$2","v":3},"3 Left","3 Right",null,10,"Left",{"$f":"$D$2","v":3},7,"Right",{"$f":"$D$2","v":3},"3 Left","3 Right"]
[null,13,"Left",{"$f":"$D$2","v":3},14,"Right",{"$f":"$D$2","v":3},"3 Left","3 Right",null,19,"Left",{"$f":"$D$2","v":3},16,"Right",{"$f":"$D$2","v":3},"3 Left","3 Right",null,18,"Left",{"$f":"$D$2","v":3},12,"Right",{"$f":"$D$2","v":3},"3 Left","3 Right",null,14,"Left",{"$f":"$D$2","v":3},11,"Right",{"$f":"$D$2","v":3},"3 Left","3 Right"]
[null,null,"Left",{"$f":"$D$2","v":3},null,"Right",{"$f":"$D$2","v":3},"3 Left","3 Right",null,null,"Left",{"$f":"$D$2","v":3},null,"Right",{"$f":"$D$2","v":3},"3 Left","3 Right",null,null,"Left",{"$f":"$D$2","v":3},null,"Right",{"$f":"$D$2","v":3},"3 Left","3 Right",null,null,"Left",{"$f":"$D$2","v":3},null,"Right",{"$f":"$D$2","v":3},"3 Left","3 Right"]
[null,5,"Left",{"$f":"$F$2","v":4},6,"Right",{"$f":"$F$2","v":4},"4 Left","4 Right",null,2,"Left",{"$f":"$F$2","v":4},9,"Right",{"$f":"$F$2","v":4},"4 Left","4 Right",null,7,"Left",{"$f":"$F$2","v":4},8,"Right",{"$f":"$F$2","v":4},"4 Left","4 Right",null,4,"Left",{"$f":"$F$2","v":4},5,"Right",{"$f":"$F$2","v":4},"4 Left","4 Right"]
[null,15,"Left",{"$f":"$F$2","v":4},16,"Right",{"$f":"$F$2","v":4},"4 Left","4 Right",null,20,"Left",{"$f":"$F$2","v":4},17,"Right",{"$f":"$F$2","v":4},"4 Left","4 Right",null,13,"Left",{"$f":"$F$2","v":4},14,"Right",{"$f":"$F$2","v":4},"4 Left","4 Right",null,18,"Left",{"$f":"$F$2","v":4},19,"Right",{"$f":"$F$2","v":4},"4 Left","4 Right"]
[null,null,"Left",{"$f":"$F$2","v":4},null,"Right",{"$f":"$F$2","v":4},"4 Left","4 Right",null,null,"Left",{"$f":"$F$2","v":4},null,"Right",{"$f":"$F$2","v":4},"4 Left","4 Right",null,null,"Left",{"$f":"$F$2","v":4},null,"Right",{"$f":"$F$2","v":4},"4 Left","4 Right",null,null,"Left",{"$f":"$F$2","v":4},null,"Right",{"$f":"$F$2","v":4},"4 Left","4 Right"]
[null,7,"Left",{"$f":"$H$2","v":5},8,"Right",{"$f":"$H$2","v":5},"5 Left","5 Right",null,3,"Left",{"$f":"$H$2","v":5},6,"Right",{"$f":"$H$2","v":5},"5 Left","5 Right",null,4,"Left",{"$f":"$H$2","v":5},10,"Right",{"$f":"$H$2","v":5},"5 Left","5 Right",null,3,"Left",{"$f":"$H$2","v":5},1,"Right",{"$f":"$H$2","v":5},"5 Left","5 Right"]
[null,17,"Left",{"$f":"$H$2","v":5},18,"Right",{"$f":"$H$2","v":5},"5 Left","5 Right",null,11,"Left",{"$f":"$H$2","v":5},14,"Right",{"$f":"$H$2","v":5},"5 Left","5 Right",null,20,"Left",{"$f":"$H$2","v":5},16,"Right",{"$f":"$H$2","v":5},"5 Left","5 Right",null,17,"Left",{"$f":"$H$2","v":5},15,"Right",{"$f":"$H$2","v":5},"5 Left","5 Right"]
[null,null,"Left",5,null,"Right",5,"5 Left","5 Right",null,null,"Left",5,null,"Right",5,"5 Left","5 Right",null,null,"Left",5,null,"Right",5,"5 Left","5 Right",null,null,"Left",5,null,"Right",5,"5 Left","5 Right"]
[null,9,"Left",{"$f":"$J$2","v":6},10,"Right",{"$f":"$J$2","v":6},"6 Left","6 Right",null,4,"Left",{"$f":"$J$2","v":6},7,"Right",{"$f":"$J$2","v":6},"6 Left","6 Right",null,1,"Left",{"$f":"$J$2","v":6},5,"Right",{"$f":"$J$2","v":6},"6 Left","6 Right",null,2,"Left",{"$f":"$J$2","v":6},9,"Right",{"$f":"$J$2","v":6},"6 Left","6 Right"]
[null,19,"Left",{"$f":"$J$2","v":6},20,"Right",{"$f":"$J$2","v":6},"6 Left","6 Right",null,12,"Left",{"$f":"$J$2","v":6},15,"Right",{"$f":"$J$2","v":6},"6 Left","6 Right",null,17,"Left",{"$f":"$J$2","v":6},11,"Right",{"$f":"$J$2","v":6},"6 Left","6 Right",null,16,"Left",{"$f":"$J$2","v":6},13,"Right",{"$f":"$J$2","v":6},"6 Left","6 Right"]
[null,null,"Left",6,null,"Right",6,"6 Left","6 Right",null,null,"Left",6,null,"Right",6,"6 Left","6 Right",null,null,"Left",6,null,"Right",6,"6 Left","6 Right",null,null,"Left",6,null,"Right",6,"6 Left","6 Right"]
[null,21,"Left",{"$f":"$L$2","v":9},22,"Right",{"$f":"$L$2","v":9},"9 Left","9 Right",null,25,"Left",{"$f":"$L$2","v":9},30,"Right",{"$f":"$L$2","v":9},"9 Left","9 Right",null,23,"Left",{"$f":"$L$2","v":9},29,"Right",{"$f":"$L$2","v":9},"9 Left","9 Right",null,26,"Left",{"$f":"$L$2","v":9},28,"Right",{"$f":"$L$2","v":9},"9 Left","9 Right"]
[null,31,"Left",{"$f":"$L$2","v":9},32,"Right",{"$f":"$L$2","v":9},"9 Left","9 Right",null,33,"Left",{"$f":"$L$2","v":9},38,"Right",{"$f":"$L$2","v":9},"9 Left","9 Right",null,39,"Left",{"$f":"$L$2","v":9},35,"Right",{"$f":"$L$2","v":9},"9 Left","9 Right",null,40,"Left",{"$f":"$L$2","v":9},32,"Right",{"$f":"$L$2","v":9},"9 Left","9 Right"]
[null,null,"Left",9,null,"Right",9,"9 Left","9 Right",null,null,"Left",9,null,"Right",9,"9 Left","9 Right",null,null,"Left",9,null,"Right",9,"9 Left","9 Right",null,null,"Left",9,null,"Right",9,"9 Left","9 Right"]
[null,23,"Left",{"$f":"$N$2","v":10},24,"Right",{"$f":"$N$2","v":10},"10 Left","10 Right",null,21,"Left",{"$f":"$N$2","v":10},28,"Right",{"$f":"$N$2","v":10},"10 Left","10 Right",null,22,"Left",{"$f":"$N$2","v":10},26,"Right",{"$f":"$N$2","v":10},"10 Left","10 Right",null,30,"Left",{"$f":"$N$2","v":10},27,"Right",{"$f":"$N$2","v":10},"10 Left","10 Right"]
[null,33,"Left",{"$f":"$N$2","v":10},34,"Right",{"$f":"$N$2","v":10},"10 Left","10 Right",null,39,"Left",{"$f":"$N$2","v":10},36,"Right",{"$f":"$N$2","v":10},"10 Left","10 Right",null,38,"Left",{"$f":"$N$2","v":10},32,"Right",{"$f":"$N$2","v":10},"10 Left","10 Right",null,34,"Left",{"$f":"$N$2","v":10},31,"Right",{"$f":"$N$2","v":10},"10 Left","10 Right"]
[null,null,"Left",10,null,"Right",10,"10 Left","10 Right",null,null,"Left",10,null,"Right",10,"10 Left","10 Right",null,null,"Left",10,null,"Right",10,"10 Left","10 Right",null,null,"Left",10,null,"Right",10,"10 Left","10 Right"]
[null,25,"Left",{"$f":"$P$2","v":11},26,"Right",{"$f":"$P$2","v":11},"11 Left","11 Right",null,22,"Left",{"$f":"$P$2","v":11},29,"Right",{"$f":"$P$2","v":11},"11 Left","11 Right",null,27,"Left",{"$f":"$P$2","v":11},28,"Right",{"$f":"$P$2","v":11},"11 Left","11 Right",null,24,"Left",{"$f":"$P$2","v":11},25,"Right",{"$f":"$P$2","v":11},"11 Left","11 Right"]
[null,35,"Left",{"$f":"$P$2","v":11},36,"Right",{"$f":"$P$2","v":11},"11 Left","11 Right",null,40,"Left",{"$f":"$P$2","v":11},37,"Right",{"$f":"$P$2","v":11},"11 Left","11 Right",null,33,"Left",{"$f":"$P$2","v":11},34,"Right",{"$f":"$P$2","v":11},"11 Left","11 Right",null,38,"Left",{"$f":"$P$2","v":11},39,"Right",{"$f":"$P$2","v":11},"11 Left","11 Right"]
[null,null,"Left",11,null,"Right",11,"11 Left","11 Right",null,null,"Left",11,null,"Right",11,"11 Left","11 Right",null,null,"Left",11,null,"Right",11,"11 Left","11 Right",null,null,"Left",11,null,"Right",11,"11 Left","11 Right"]
[null,27,"Left",{"$f":"$R$2","v":12},28,"Right",{"$f":"$R$2","v":12},"12 Left","12 Right",null,23,"Left",{"$f":"$R$2","v":12},26,"Right",{"$f":"$R$2","v":12},"12 Left","12 Right",null,24,"Left",{"$f":"$R$2","v":12},30,"Right",{"$f":"$R$2","v":12},"12 Left","12 Right",null,23,"Left",{"$f":"$R$2","v":12},21,"Right",{"$f":"$R$2","v":12},"12 Left","12 Right"]
[null,37,"Left",{"$f":"$R$2","v":12},38,"Right",{"$f":"$R$2","v":12},"12 Left","12 Right",null,31,"Left",{"$f":"$R$2","v":12},34,"Right",{"$f":"$R$2","v":12},"12 Left","12 Right",null,40,"Left",{"$f":"$R$2","v":12},36,"Right",{"$f":"$R$2","v":12},"12 Left","12 Right",null,37,"Left",{"$f":"$R$2","v":12},35,"Right",{"$f":"$R$2","v":12},"12 Left","12 Right"]
[null,null,"Left",12,null,"Right",12,"12 Left","12 Right",null,null,"Left",12,null,"Right",12,"12 Left","12 Right",null,null,"Left",12,null,"Right",12,"12 Left","12 Right",null,null,"Left",12,null,"Right",12,"12 Left","12 Right"]
[null,29,"Left",{"$f":"$T$2","v":13},30,"Right",{"$f":"$T$2","v":13},"13 Left","13 Right",null,24,"Left",{"$f":"$T$2","v":13},27,"Right",{"$f":"$T$2","v":13},"13 Left","13 Right",null,21,"Left",{"$f":"$T$2","v":13},25,"Right",{"$f":"$T$2","v":13},"13 Left","13 Right",null,22,"Left",{"$f":"$T$2","v":13},29,"Right",{"$f":"$T$2","v":13},"13 Left","13 Right"]
[null,39,"Left",{"$f":"$T$2","v":13},40,"Right",{"$f":"$T$2","v":13},"13 Left","13 Right",null,32,"Left",{"$f":"$T$2","v":13},35,"Right",{"$f":"$T$2","v":13},"13 Left","13 Right",null,37,"Left",{"$f":"$T$2","v":13},31,"Right",{"$f":"$T$2","v":13},"13 Left","13 Right",null,36,"Left",{"$f":"$T$2","v":13},33,"Right",{"$f":"$T$2","v":13},"13 Left","13 Right"]
[null,null,"Left",13,null,"Right",13,"13 Left","13 Right",null,null,"Left",13,null,"Right",13,"13 Left","13 Right",null,null,"Left",13,null,"Right",13,"13 Left","13 Right",null,null,"Left",13,null,"Right",13,"13 Left","13 Right"]
[null,null,"Left",{"$f":"$V$2","v":0},null,"Right",{"$f":"$V$2","v":0},"0 Left","0 Right",null,null,"Left",{"$f":"$V$2","v":0},null,"Right",{"$f":"$V$2","v":0},"0 Left","0 Right",null,null,"Left",{"$f":"$V$2","v":0},null,"Right",{"$f":"$V$2","v":0},"0 Left","0 Right",null,null,"Left",{"$f":"$V$2","v":0},null,"Right",{"$f":"$V$2","v":0},"0 Left","0 Right"]
[null,null,"Left",{"$f":"$V$2","v":0},null,"Right",{"$f":"$V$2","v":0},"0 Left","0 Right",null,null,"Left",{"$f":"$V$2","v":0},null,"Right",{"$f":"$V$2","v":0},"0 Left","0 Right",null,null,"Left",{"$f":"$V$2","v":0},null,"Right",{"$f":"$V$2","v":0},"0 Left","0 Right",null,null,"Left",{"$f":"$V$2","v":0},null,"Right",{"$f":"$V$2","v":0},"0 Left","0 Right"]
[null,null,"Left",0,null,"Right",0,"0 Left","0 Right",null,null,"Left",0,null,"Right",0,"0 Left","0 Right",null,null,"Left",0,null,"Right",0,"0 Left","0 Right",null,null,"Left",0,null,"Right",0,"0 Left","0 Right"]
[null,null,"Left",{"$f":"$X$2","v":0},null,"Right",{"$f":"$X$2","v":0},"0 Left","0 Right",null,null,"Left",{"$f":"$X$2","v":0},null,"Right",{"$f":"$X$2","v":0},"0 Left","0 Right",null,null,"Left",{"$f":"$X$2","v":0},null,"Right",{"$f":"$X$2","v":0},"0 Left","0 Right",null,null,"Left",{"$f":"$X$2","v":0},null,"Right",{"$f":"$X$2","v":0},"0 Left","0 Right"]
[null,null,"Left",{"$f":"$X$2","v":0},null,"Right",{"$f":"$X$2","v":0},"0 Left","0 Right",null,null,"Left",{"$f":"$X$2","v":0},null,"Right",{"$f":"$X$2","v":0},"0 Left","0 Right",null,null,"Left",{"$f":"$X$2","v":0},null,"Right",{"$f":"$X$2","v":0},"0 Left","0 Right",null,null,"Left",{"$f":"$X$2","v":0},null,"Right",{"$f":"$X$2","v":0},"0 Left","0 Right"]
[null,null,"Left",0,null,"Right",0,"0 Left","0 Right",null,null,"Left",0,null,"Right",0,"0 Left","0 Right",null,null,"Left",0,null,"Right",0,"0 Left","0 Right",null,null,"Left",0,null,"Right",0,"0 Left","0 Right"]
[null,null,"Left",{"$f":"$Z$2","v":0},null,"Right",{"$f":"$Z$2","v":0},"0 Left","0 Right",null,null,"Left",{"$f":"$Z$2","v":0},null,"Right",{"$f":"$Z$2","v":0},"0 Left","0 Right",null,null,"Left",{"$f":"$Z$2","v":0},null,"Right",{"$f":"$Z$2","v":0},"0 Left","0 Right",null,null,"Left",{"$f":"$Z$2","v":0},null,"Right",{"$f":"$Z$2","v":0},"0 Left","0 Right"]
[null,null,"Left",{"$f":"$Z$2","v":0},null,"Right",{"$f":"$Z$2","v":0},"0 Left","0 Right",null,null,"Left",{"$f":"$Z$2","v":0},null,"Right",{"$f":"$Z$2","v":0},"0 Left","0 Right",null,null,"Left",{"$f":"$Z$2","v":0},null,"Right",{"$f":"$Z$2","v":0},"0 Left","0 Right",null,null,"Left",{"$f":"$Z$2","v":0},null,"Right",{"$f":"$Z$2","v":0},"0 Left","0 Right"]
[null,null,"Left",0,null,"Right",0,"0 Left","0 Right",null,null,"Left",0,null,"Right",0,"0 Left","0 Right",null,null,"Left",0,null,"Right",0,"0 Left","0 Right",null,null,"Left",0,null,"Right",0,"0 Left","0 Right"]
[null,null,"Left",{"$f":"$AB$2","v":0},null,"Right",{"$f":"$AB$2","v":0},"0 Left","0 Right",null,null,"Left",{"$f":"$AB$2","v":0},null,"Right",{"$f":"$AB$2","v":0},"0 Left","0 Right",null,null,"Left",{"$f":"$AB$2","v":0},null,"Right",{"$f":"$AB$2","v":0},"0 Left","0 Right",null,null,"Left",{"$f":"$AB$2","v":0},null,"Right",{"$f":"$AB$2","v":0},"0 Left","0 Right"]
[null,null,"Left",{"$f":"$AB$2","v":0},null,"Right",{"$f":"$AB$2","v":0},"0 Left","0 Right",null,null,"Left",{"$f":"$AB$2","v":0},null,"Right",{"$f":"$AB$2","v":0},"0 Left","0 Right",null,null,"Left",{"$f":"$AB$2","v":0},null,"Right",{"$f":"$AB$2","v":0},"0 Left","0 Right",null,null,"Left",{"$f":"$AB$2","v":0},null,"Right",{"$f":"$AB$2","v":0},"0 Left","0 Right",null,{"$f":"$B$20","v":0},{"$f":"$H$20","v":"2 Left"},{"$f":"$K$20","v":0},{"$f":"$Q$20","v":"2 Left"},{"$f":"$T$20","v":0},{"$f":"$Z$20","v":"2 Left"},{"$f":"$AC$20","v":0},{"$f":"$AI$20","v":"2 Left"}]
[null,null,"Left",0,null,"Right",0,"0 Left","0 Right",null,null,"Left",0,null,"Right",0,"0 Left","0 Right",null,null,"Left",0,null,"Right",0,"0 Left","0 Right",null,null,"Left",0,null,"Right",0,"0 Left","0 Right",null,{"$f":"$E$20","v":0},{"$f":"$I$20","v":"2 Right"},{"$f":"$K$23","v":0},{"$f":"$Q$23","v":"3 Left"},{"$f":"$T$23","v":0},{"$f":"$Z$23","v":"3 Left"},{"$f":"$AC$23","v":0},{"$f":"$AI$23","v":"3 Left"}]
[{"$nulls":37},{"$f":"$B$23","v":0},{"$f":"$H$23","v":"3 Left"},{"$f":"$K$26","v":0},{"$f":"$Q$26","v":"4 Left"},{"$f":"$T$26","v":0},{"$f":"$Z$26","v":"4 Left"},{"$f":"$AC$26","v":0},{"$f":"$AI$26","v":"4 Left"}]
[{"$nulls":37},{"$f":"$B$26","v":0},{"$f":"$H$26","v":"4 Left"},{"$f":"$K$29","v":0},{"$f":"$Q$29","v":"5 Left"},{"$f":"$T$29","v":0},{"$f":"$Z$29","v":"5 Left"},{"$f":"$AC$29","v":0},{"$f":"$AI$29","v":"5 Left"}]
[{"$nulls":37},{"$f":"$B$29","v":0},{"$f":"$H$29","v":"5 Left"},{"$f":"$K$32","v":0},{"$f":"$Q$32","v":"6 Left"},{"$f":"$T$32","v":0},{"$f":"$Z$32","v":"6 Left"},{"$f":"$AC$32","v":0},{"$f":"$AI$32","v":"6 Left"}]
[{"$nulls":37},{"$f":"$B$32","v":0},{"$f":"$H$32","v":"6 Left"},{"$f":"$K$35","v":0},{"$f":"$Q$35","v":"9 Left"},{"$f":"$T$35","v":0},{"$f":"$Z$35","v":"9 Left"},{"$f":"$AC$35","v":0},{"$f":"$AI$35","v":"9 Left"}]
[{"$nulls":37},{"$f":"$B$35","v":0},{"$f":"$H$35","v":"9 Left"},{"$f":"$K$38","v":0},{"$f":"$Q$38","v":"10 Left"},{"$f":"$T$38","v":0},{"$f":"$Z$38","v":"10 Left"},{"$f":"$AC$38","v":0},{"$f":"$AI$38","v":"10 Left"}]
[{"$nulls":37},{"$f":"$B$38","v":0},{"$f":"$H$38","v":"10 Left"},{"$f":"$K$41","v":0},{"$f":"$Q$41","v":"11 Left"},{"$f":"$T$41","v":0},{"$f":"$Z$41","v":"11 Left"},{"$f":"$AC$41","v":0},{"$f":"$AI$41","v":"11 Left"}]
[{"$nulls":37},{"$f":"$B$41","v":0},{"$f":"$H$41","v":"11 Left"},{"$f":"$K$44","v":0},{"$f":"$Q$44","v":"12 Left"},{"$f":"$T$44","v":0},{"$f":"$Z$44","v":"12 Left"},{"$f":"$AC$44","v":0},{"$f":"$AI$44","v":"12 Left"}]
[{"$nulls":37},{"$f":"$B$44","v":0},{"$f":"$H$44","v":"12 Left"},{"$f":"$K$47","v":0},{"$f":"$Q$47","v":"13 Left"},{"$f":"$T$47","v":0},{"$f":"$Z$47","v":"13 Left"},{"$f":"$AC$47","v":0},{"$f":"$AI$47","v":"13 Left"}]
[{"$nulls":37},{"$f":"$B$47","v":0},{"$f":"$H$47","v":"13 Left"},{"$f":"$K$48","v":0},{"$f":"$Q$48","v":"0 Left"},{"$f":"$T$48","v":0},{"$f":"$Z$48","v":"0 Left"},{"$f":"$AC$48","v":0},{"$f":"$AI$48","v":"0 Left"}]
[{"$nulls":37},{"$f":"$B$48","v":0},{"$f":"$H$48","v":"0 Left"},{"$f":"$K$49","v":0},{"$f":"$Q$49","v":"0 Left"},{"$f":"$T$49","v":0},{"$f":"$Z$49","v":"0 Left"},{"$f":"$AC$49","v":0},{"$f":"$AI$49","v":"0 Left"}]
[{"$nulls":37},{"$f":"$B$49","v":0},{"$f":"$H$49","v":"0 Left"},{"$f":"$K$50","v":0},{"$f":"$Q$50","v":"0 Left"},{"$f":"$T$50","v":0},{"$f":"$Z$50","v":"0 Left"},{"$f":"$AC$50","v":0},{"$f":"$AI$50","v":"0 Left"}]
[{"$nulls":37},{"$f":"$B$50","v":0},{"$f":"$H$50","v":"0 Left"},{"$f":"$K$51","v":0},{"$f":"$Q$51","v":"0 Left"},{"$f":"$T$51","v":0},{"$f":"$Z$51","v":"0 Left"},{"$f":"$AC$51","v":0},{"$f":"$AI$51","v":"0 Left"}]
[{"$nulls":37},{"$f":"$B$51","v":0},{"$f":"$H$51","v":"0 Left"},{"$f":"$K$52","v":0},{"$f":"$Q$52","v":"0 Left"},{"$f":"$T$52","v":0},{"$f":"$Z$52","v":"0 Left"},{"$f":"$AC$52","v":0},{"$f":"$AI$52","v":"0 Left"}]
[{"$nulls":37},{"$f":"$B$52","v":0},{"$f":"$H$52","v":"0 Left"},{"$f":"$K$53","v":0},{"$f":"$Q$53","v":"0 Left"},{"$f":"$T$53","v":0},{"$f":"$Z$53","v":"0 Left"},{"$f":"$AC$53","v":0},{"$f":"$AI$53","v":"0 Left"}]
[{"$nulls":37},{"$f":"$B$53","v":0},{"$f":"$H$53","v":"0 Left"},{"$f":"$K$54","v":0},{"$f":"$Q$54","v":"0 Left"},{"$f":"$T$54","v":0},{"$f":"$Z$54","v":"0 Left"},{"$f":"$AC$54","v":0},{"$f":"$AI$54","v":"0 Left"}]
[{"$nulls":37},{"$f":"$B$54","v":0},{"$f":"$H$54","v":"0 Left"},{"$f":"$K$55","v":0},{"$f":"$Q$55","v":"0 Left"},{"$f":"$T$55","v":0},{"$f":"$Z$55","v":"0 Left"},{"$f":"$AC$55","v":0},{"$f":"$AI$55","v":"0 Left"}]
[{"$nulls":37},{"$f":"$B$55","v":0},{"$f":"$H$55","v":"0 Left"},{"$f":"$K$56","v":0},{"$f":"$Q$56","v":"0 Left"},{"$f":"$T$56","v":0},{"$f":"$Z$56","v":"0 Left"},{"$f":"$AC$56","v":0},{"$f":"$AI$56","v":"0 Left"}]
[{"$nulls":37},{"$f":"$B$56","v":0},{"$f":"$H$56","v":"0 Left"},{"$f":"$K$57","v":0},{"$f":"$Q$57","v":"0 Left"},{"$f":"$T$57","v":0},{"$f":"$Z$57","v":"0 Left"},{"$f":"$AC$57","v":0},{"$f":"$AI$57","v":"0 Left"}]
[{"$nulls":37},{"$f":"$B$57","v":0},{"$f":"$H$57","v":"0 Left"},{"$f":"$K$58","v":0},{"$f":"$Q$58","v":"0 Left"},{"$f":"$T$58","v":0},{"$f":"$Z$58","v":"0 Left"},{"$f":"$AC$58","v":0},{"$f":"$AI$58","v":"0 Left"}]
[{"$nulls":37},{"$f":"$B$58","v":0},{"$f":"$H$58","v":"0 Left"},{"$f":"$K$59","v":0},{"$f":"$Q$59","v":"0 Left"},{"$f":"$T$59","v":0},{"$f":"$Z$59","v":"0 Left"},{"$f":"$AC$59","v":0},{"$f":"$AI$59","v":"0 Left"}]
[{"$nulls":37},{"$f":"$B$59","v":0},{"$f":"$H$59","v":"0 Left"},{"$f":"$N$20","v":0},{"$f":"$R$20","v":"2 Right"},{"$f":"$W$20","v":0},{"$f":"$AA$20","v":"2 Right"},{"$f":"$AF$20","v":0},{"$f":"$AJ$20","v":"2 Right"}]
[{"$nulls":37},{"$f":"$E$23","v":0},{"$f":"$I$23","v":"3 Right"},{"$f":"$N$23","v":0},{"$f":"$R$23","v":"3 Right"},{"$f":"$W$23","v":0},{"$f":"$AA$23","v":"3 Right"},{"$f":"$AF$23","v":0},{"$f":"$AJ$23","v":"3 Right"}]
[{"$nulls":37},{"$f":"$E$26","v":0},{"$f":"$I$26","v":"4 Right"},{"$f":"$N$26","v":0},{"$f":"$R$26","v":"4 Right"},{"$f":"$W$26","v":0},{"$f":"$AA$26","v":"4 Right"},{"$f":"$AF$26","v":0},{"$f":"$AJ$26","v":"4 Right"}]
[{"$nulls":37},{"$f":"$E$29","v":0},{"$f":"$I$29","v":"5 Right"},{"$f":"$N$29","v":0},{"$f":"$R$29","v":"5 Right"},{"$f":"$W$29","v":0},{"$f":"$AA$29","v":"5 Right"},{"$f":"$AF$29","v":0},{"$f":"$AJ$29","v":"5 Right"}]
[{"$nulls":37},{"$f":"$E$32","v":0},{"$f":"$I$32","v":"6 Right"},{"$f":"$N$32","v":0},{"$f":"$R$32","v":"6 Right"},{"$f":"$W$32","v":0},{"$f":"$AA$32","v":"6 Right"},{"$f":"$AF$32","v":0},{"$f":"$AJ$32","v":"6 Right"}]
[{"$nulls":37},{"$f":"$E$35","v":0},{"$f":"$I$35","v":"9 Right"},{"$f":"$N$35","v":0},{"$f":"$R$35","v":"9 Right"},{"$f":"$W$35","v":0},{"$f":"$AA$35","v":"9 Right"},{"$f":"$AF$35","v":0},{"$f":"$AJ$35","v":"9 Right"}]
[{"$nulls":37},{"$f":"$E$38","v":0},{"$f":"$I$38","v":"10 Right"},{"$f":"$N$38","v":0},{"$f":"$R$38","v":"10 Right"},{"$f":"$W$38","v":0},{"$f":"$AA$38","v":"10 Right"},{"$f":"$AF$38","v":0},{"$f":"$AJ$38","v":"10 Right"}]
[{"$nulls":37},{"$f":"$E$41","v":0},{"$f":"$I$41","v":"11 Right"},{"$f":"$N$41","v":0},{"$f":"$R$41","v":"11 Right"},{"$f":"$W$41","v":0},{"$f":"$AA$41","v":"11 Right"},{"$f":"$AF$41","v":0},{"$f":"$AJ$41","v":"11 Right"}]
[{"$nulls":37},{"$f":"$E$44","v":0},{"$f":"$I$44","v":"12 Right"},{"$f":"$N$44","v":0},{"$f":"$R$44","v":"12 Right"},{"$f":"$W$44","v":0},{"$f":"$AA$44","v":"12 Right"},{"$f":"$AF$44","v":0},{"$f":"$AJ$44","v":"12 Right"}]
[{"$nulls":37},{"$f":"$E$47","v":0},{"$f":"$I$47","v":"13 Right"},{"$f":"$N$47","v":0},{"$f":"$R$47","v":"13 Right"},{"$f":"$W$47","v":0},{"$f":"$AA$47","v":"13 Right"},{"$f":"$AF$47","v":0},{"$f":"$AJ$47","v":"13 Right"}]
[{"$nulls":37},{"$f":"$E$48","v":0},{"$f":"$I$48","v":"0 Right"},{"$f":"$N$48","v":0},{"$f":"$R$48","v":"0 Right"},{"$f":"$W$48","v":0},{"$f":"$AA$48","v":"0 Right"},{"$f":"$AF$48","v":0},{"$f":"$AJ$48","v":"0 Right"}]
[{"$nulls":37},{"$f":"$E$49","v":0},{"$f":"$I$49","v":"0 Right"},{"$f":"$N$49","v":0},{"$f":"$R$49","v":"0 Right"},{"$f":"$W$49","v":0},{"$f":"$AA$49","v":"0 Right"},{"$f":"$AF$49","v":0},{"$f":"$AJ$49","v":"0 Right"}]
[{"$nulls":37},{"$f":"$E$50","v":0},{"$f":"$I$50","v":"0 Right"},{"$f":"$N$50","v":0},{"$f":"$R$50","v":"0 Right"},{"$f":"$W$50","v":0},{"$f":"$AA$50","v":"0 Right"},{"$f":"$AF$50","v":0},{"$f":"$AJ$50","v":"0 Right"}]
[{"$nulls":37},{"$f":"$E$51","v":0},{"$f":"$I$51","v":"0 Right"},{"$f":"$N$51","v":0},{"$f":"$R$51","v":"0 Right"},{"$f":"$W$51","v":0},{"$f":"$AA$51","v":"0 Right"},{"$f":"$AF$51","v":0},{"$f":"$AJ$51","v":"0 Right"}]
[{"$nulls":37},{"$f":"$E$52","v":0},{"$f":"$I$52","v":"0 Right"},{"$f":"$N$52","v":0},{"$f":"$R$52","v":"0 Right"},{"$f":"$W$52","v":0},{"$f":"$AA$52","v":"0 Right"},{"$f":"$AF$52","v":0},{"$f":"$AJ$52","v":"0 Right"}]
[{"$nulls":37},{"$f":"$E$53","v":0},{"$f":"$I$53","v":"0 Right"},{"$f":"$N$53","v":0},{"$f":"$R$53","v":"0 Right"},{"$f":"$W$53","v":0},{"$f":"$AA$53","v":"0 Right"},{"$f":"$AF$53","v":0},{"$f":"$AJ$53","v":"0 Right"}]
[{"$nulls":37},{"$f":"$E$54","v":0},{"$f":"$I$54","v":"0 Right"},{"$f":"$N$54","v":0},{"$f":"$R$54","v":"0 Right"},{"$f":"$W$54","v":0},{"$f":"$AA$54","v":"0 Right"},{"$f":"$AF$54","v":0},{"$f":"$AJ$54","v":"0 Right"}]
[{"$nulls":37},{"$f":"$E$55","v":0},{"$f":"$I$55","v":"0 Right"},{"$f":"$N$55","v":0},{"$f":"$R$55","v":"0 Right"},{"$f":"$W$55","v":0},{"$f":"$AA$55","v":"0 Right"},{"$f":"$AF$55","v":0},{"$f":"$AJ$55","v":"0 Right"}]
[{"$nulls":37},{"$f":"$E$56","v":0},{"$f":"$I$56","v":"0 Right"},{"$f":"$N$56","v":0},{"$f":"$R$56","v":"0 Right"},{"$f":"$W$56","v":0},{"$f":"$AA$56","v":"0 Right"},{"$f":"$AF$56","v":0},{"$f":"$AJ$56","v":"0 Right"}]
[{"$nulls":37},{"$f":"$E$57","v":0},{"$f":"$I$57","v":"0 Right"},{"$f":"$N$57","v":0},{"$f":"$R$57","v":"0 Right"},{"$f":"$W$57","v":0},{"$f":"$AA$57","v":"0 Right"},{"$f":"$AF$57","v":0},{"$f":"$AJ$57","v":"0 Right"}]
[{"$nulls":37},{"$f":"$E$58","v":0},{"$f":"$I$58","v":"0 Right"},{"$f":"$N$58","v":0},{"$f":"$R$58","v":"0 Right"},{"$f":"$W$58","v":0},{"$f":"$AA$58","v":"0 Right"},{"$f":"$AF$58","v":0},{"$f":"$AJ$58","v":"0 Right"}]
[{"$nulls":37},{"$f":"$E$59","v":0},{"$f":"$I$59","v":"0 Right"},{"$f":"$N$59","v":0},{"$f":"$R$59","v":"0 Right"},{"$f":"$W$59","v":0},{"$f":"$AA$59","v":"0 Right"},{"$f":"$AF$59","v":0},{"$f":"$AJ$59","v":"0 Right"}]

{"sheet":"42","index":19,"n_rows":101,"n_cols":45,"rows_kept":101,"hidden":true,"merged":[[0,1,0,20],[1,1,1,2],[1,3,1,4],[1,5,1,6],[1,7,1,8],[1,9,1,10],[1,11,1,12],[1,13,1,14],[1,15,1,16],[1,17,1,18],[1,19,1,20],[2,0,4,0],[5,0,7,0],[8,0,10,0],[11,0,13,0],[14,1,14,20],[15,1,15,6],[15,10,15,15],[15,19,15,24],[15,28,15,33],[16,37,16,38],[16,39,16,40],[16,41,16,42],[16,43,16,44]]}
[null,"YOU MAY CHANGE THESE RINK NUMBERS IF YOU WISH"]
["Round",2,1,3,2,4,3,5,4,6,5,9,null,10,null,11,null,12,null,13]
[1,1,2,3,4,5,6,7,8,9,10,23,24,25,26,27,28,29,30,31,32]
[null,11,12,13,14,15,16,17,18,19,20,33,34,35,36,37,38,39,40,41,42]
[null,21,22]
[2,3,5,1,8,2,9,4,10,6,11,27,32,23,30,24,31,25,28,26,29]
[null,14,16,12,19,13,20,15,21,17,22,35,40,41,38,42,39,33,36,34,37]
[null,7,18]
[3,6,8,2,11,4,3,1,9,7,5,25,31,24,28,29,30,26,32,23,27]
[null,13,15,20,18,22,21,19,14,16,12,41,37,40,34,35,36,42,38,39,33]
[null,10,17]
[4,4,1,7,9,8,10,2,11,3,6,28,30,32,29,26,27,25,23,24,31]
[null,19,16,22,13,12,14,17,15,18,21,42,34,36,33,40,41,39,37,38,35]
[null,5,20]
[null,"42 on 2 greens"]
[null,1,{"$nulls":8},2,{"$nulls":8},3,{"$nulls":8},4]
[null,"no","Left","rink","no","Right","rink","L","R",null,"no","Left","rink","no","Right","rink","L","R",null,"no","Left","rink","no","Right","rink","L","R",null,"no","Left","rink","no","Right","rink","L","R",null,1,null,2,null,3,null,4]
[null,1,"Left",{"$f":"$B$2","v":2},2,"Right",{"$f":"$B$2","v":2},{"$f":"(D18&\" \"&C18)","v":"2 Left"},{"$f":"(G18&\" \"&F18)","v":"2 Right"},null,3,"Left",{"$f":"$B$2","v":2},5,"Right",{"$f":"$B$2","v":2},{"$f":"(M18&\" \"&L18)","v":"2 Left"},{"$f":"(P18&\" \"&O18)","v":"2 Right"},null,6,"Left",{"$f":"$B$2","v":2},8,"Right",{"$f":"$B$2","v":2},{"$f":"(V18&\" \"&U18)","v":"2 Left"},{"$f":"(Y18&\" \"&X18)","v":"2 Right"},null,4,"Left",{"$f":"$B$2","v":2},1,"Right",{"$f":"$B$2","v":2},{"$f":"(AE18&\" \"&AD18)","v":"2 Left"},{"$f":"(AH18&\" \"&AG18)","v":"2 Right"}]
[null,11,"Left",{"$f":"$B$2","v":2},12,"Right",{"$f":"$B$2","v":2},{"$f":"(D19&\" \"&C19)","v":"2 Left"},{"$f":"(G19&\" \"&F19)","v":"2 Right"},null,14,"Left",{"$f":"$B$2","v":2},16,"Right",{"$f":"$B$2","v":2},{"$f":"(M19&\" \"&L19)","v":"2 Left"},{"$f":"(P19&\" \"&O19)","v":"2 Right"},null,13,"Left",{"$f":"$B$2","v":2},15,"Right",{"$f":"$B$2","v":2},{"$f":"(V19&\" \"&U19)","v":"2 Left"},{"$f":"(Y19&\" \"&X19)","v":"2 Right"},null,19,"Left",{"$f":"$B$2","v":2},16,"Right",{"$f":"$B$2","v":2},{"$f":"(AE19&\" \"&AD19)","v":"2 Left"},{"$f":"(AH19&\" \"&AG19)","v":"2 Right"}]
[null,21,"Left",{"$f":"$B$2","v":2},22,"Right",{"$f":"$B$2","v":2},"2 Left","2 Right",null,7,"Left",{"$f":"$B$2","v":2},18,"Right",{"$f":"$B$2","v":2},"2 Left","2 Right",null,10,"Left",{"$f":"$B$2","v":2},17,"Right",{"$f":"$B$2","v":2},"2 Left","2 Right",null,5,"Left",{"$f":"$B$2","v":2},20,"Right",{"$f":"$B$2","v":2},"2 Left","2 Right"]
[null,3,"Left",{"$f":"$D$2","v":3},4,"Right",{"$f":"$D$2","v":3},"3 Left","3 Right",null,1,"Left",{"$f":"$D$2","v":3},8,"Right",{"$f":"$D$2","v":3},"3 Left","3 Right",null,2,"Left",{"$f":"$D$2","v":3},11,"Right",{"$f":"$D$2","v":3},"3 Left","3 Right",null,7,"Left",{"$f":"$D$2","v":3},9,"Right",{"$f":"$D$2","v":3},"3 Left","3 Right"]
[null,13,"Left",{"$f":"$D$2","v":3},14,"Right",{"$f":"$D$2","v":3},"3 Left","3 Right",null,12,"Left",{"$f":"$D$2","v":3},19,"Right",{"$f":"$D$2","v":3},"3 Left","3 Right",null,20,"Left",{"$f":"$D$2","v":3},18,"Right",{"$f":"$D$2","v":3},"3 Left","3 Right",null,22,"Left",{"$f":"$D$2","v":3},13,"Right",{"$f":"$D$2","v":3},"3 Left","3 Right"]
[null,null,"Left",{"$f":"$D$2","v":3},null,"Right",{"$f":"$D$2","v":3},"3 Left","3 Right",null,null,"Left",{"$f":"$D$2","v":3},null,"Right",{"$f":"$D$2","v":3},"3 Left","3 Right",null,null,"Left",{"$f":"$D$2","v":3},null,"Right",{"$f":"$D$2","v":3},"3 Left","3 Right",null,null,"Left",{"$f":"$D$2","v":3},null,"Right",{"$f":"$D$2","v":3},"3 Left","3 Right"]
[null,5,"Left",{"$f":"$F$2","v":4},6,"Right",{"$f":"$F$2","v":4},"4 Left","4 Right",null,2,"Left",{"$f":"$F$2","v":4},9,"Right",{"$f":"$F$2","v":4},"4 Left","4 Right",null,4,"Left",{"$f":"$F$2","v":4},3,"Right",{"$f":"$F$2","v":4},"4 Left","4 Right",null,8,"Left",{"$f":"$F$2","v":4},10,"Right",{"$f":"$F$2","v":4},"4 Left","4 Right"]
[null,15,"Left",{"$f":"$F$2","v":4},16,"Right",{"$f":"$F$2","v":4},"4 Left","4 Right",null,13,"Left",{"$f":"$F$2","v":4},20,"Right",{"$f":"$F$2","v":4},"4 Left","4 Right",null,22,"Left",{"$f":"$F$2","v":4},21,"Right",{"$f":"$F$2","v":4},"4 Left","4 Right",null,12,"Left",{"$f":"$F$2","v":4},14,"Right",{"$f":"$F$2","v":4},"4 Left","4 Right"]
[null,null,"Left",{"$f":"$F$2","v":4},null,"Right",{"$f":"$F$2","v":4},"4 Left","4 Right",null,null,"Left",{"$f":"$F$2","v":4},null,"Right",{"$f":"$F$2","v":4},"4 Left","4 Right",null,null,"Left",{"$f":"$F$2","v":4},null,"Right",{"$f":"$F$2","v":4},"4 Left","4 Right",null,null,"Left",{"$f":"$F$2","v":4},null,"Right",{"$f":"$F$2","v":4},"4 Left","4 Right"]
[null,7,"Left",{"$f":"$H$2","v":5},8,"Right",{"$f":"$H$2","v":5},"5 Left","5 Right",null,4,"Left",{"$f":"$H$2","v":5},10,"Right",{"$f":"$H$2","v":5},"5 Left","5 Right",null,1,"Left",{"$f":"$H$2","v":5},9,"Right",{"$f":"$H$2","v":5},"5 Left","5 Right",null,2,"Left",{"$f":"$H$2","v":5},11,"Right",{"$f":"$H$2","v":5},"5 Left","5 Right"]
[null,17,"Left",{"$f":"$H$2","v":5},18,"Right",{"$f":"$H$2","v":5},"5 Left","5 Right",null,15,"Left",{"$f":"$H$2","v":5},21,"Right",{"$f":"$H$2","v":5},"5 Left","5 Right",null,19,"Left",{"$f":"$H$2","v":5},14,"Right",{"$f":"$H$2","v":5},"5 Left","5 Right",null,17,"Left",{"$f":"$H$2","v":5},15,"Right",{"$f":"$H$2","v":5},"5 Left","5 Right"]
[null,null,"Left",5,null,"Right",5,"5 Left","5 Right",null,null,"Left",5,null,"Right",5,"5 Left","5 Right",null,null,"Left",5,null,"Right",5,"5 Left","5 Right",null,null,"Left",5,null,"Right",5,"5 Left","5 Right"]
[null,9,"Left",{"$f":"$J$2","v":6},10,"Right",{"$f":"$J$2","v":6},"6 Left","6 Right",null,6,"Left",{"$f":"$J$2","v":6},11,"Right",{"$f":"$J$2","v":6},"6 Left","6 Right",null,7,"Left",{"$f":"$J$2","v":6},5,"Right",{"$f":"$J$2","v":6},"6 Left","6 Right",null,3,"Left",{"$f":"$J$2","v":6},6,"Right",{"$f":"$J$2","v":6},"6 Left","6 Right"]
[null,19,"Left",{"$f":"$J$2","v":6},20,"Right",{"$f":"$J$2","v":6},"6 Left","6 Right",null,17,"Left",{"$f":"$J$2","v":6},22,"Right",{"$f":"$J$2","v":6},"6 Left","6 Right",null,16,"Left",{"$f":"$J$2","v":6},12,"Right",{"$f":"$J$2","v":6},"6 Left","6 Right",null,18,"Left",{"$f":"$J$2","v":6},21,"Right",{"$f":"$J$2","v":6},"6 Left","6 Right"]
[null,null,"Left",6,null,"Right",6,"6 Left","6 Right",null,null,"Left",6,null,"Right",6,"6 Left","6 Right",null,null,"Left",6,null,"Right",6,"6 Left","6 Right",null,null,"Left",6,null,"Right",6,"6 Left","6 Right"]
[null,23,"Left",{"$f":"$L$2","v":9},24,"Right",{"$f":"$L$2","v":9},"9 Left","9 Right",null,27,"Left",{"$f":"$L$2","v":9},32,"Right",{"$f":"$L$2","v":9},"9 Left","9 Right",null,25,"Left",{"$f":"$L$2","v":9},31,"Right",{"$f":"$L$2","v":9},"9 Left","9 Right",null,28,"Left",{"$f":"$L$2","v":9},30,"Right",{"$f":"$L$2","v":9},"9 Left","9 Right"]
[null,33,"Left",{"$f":"$L$2","v":9},34,"Right",{"$f":"$L$2","v":9},"9 Left","9 Right",null,35,"Left",{"$f":"$L$2","v":9},40,"Right",{"$f":"$L$2","v":9},"9 Left","9 Right",null,41,"Left",{"$f":"$L$2","v":9},37,"Right",{"$f":"$L$2","v":9},"9 Left","9 Right",null,42,"Left",{"$f":"$L$2","v":9},34,"Right",{"$f":"$L$2","v":9},"9 Left","9 Right"]
[null,null,"Left",9,null,"Right",9,"9 Left","9 Right",null,null,"Left",9,null,"Right",9,"9 Left","9 Right",null,null,"Left",9,null,"Right",9,"9 Left","9 Right",null,null,"Left",9,null,"Right",9,"9 Left","9 Right"]
[null,25,"Left",{"$f":"$N$2","v":10},26,"Right",{"$f":"$N$2","v":10},"10 Left","10 Right",null,23,"Left",{"$f":"$N$2","v":10},30,"Right",{"$f":"$N$2","v":10},"10 Left","10 Right",null,24,"Left",{"$f":"$N$2","v":10},28,"Right",{"$f":"$N$2","v":10},"10 Left","10 Right",null,32,"Left",{"$f":"$N$2","v":10},29,"Right",{"$f":"$N$2","v":10},"10 Left","10 Right"]
[null,35,"Left",{"$f":"$N$2","v":10},36,"Right",{"$f":"$N$2","v":10},"10 Left","10 Right",null,41,"Left",{"$f":"$N$2","v":10},38,"Right",{"$f":"$N$2","v":10},"10 Left","10 Right",null,40,"Left",{"$f":"$N$2","v":10},34,"Right",{"$f":"$N$2","v":10},"10 Left","10 Right",null,36,"Left",{"$f":"$N$2","v":10},33,"Right",{"$f":"$N$2","v":10},"10 Left","10 Right"]
[null,null,"Left",10,null,"Right",10,"10 Left","10 Right",null,null,"Left",10,null,"Right",10,"10 Left","10 Right",null,null,"Left",10,null,"Right",10,"10 Left","10 Right",null,null,"Left",10,null,"Right",10,"10 Left","10 Right"]
[null,27,"Left",{"$f":"$P$2","v":11},28,"Right",{"$f":"$P$2","v":11},"11 Left","11 Right",null,24,"Left",{"$f":"$P$2","v":11},31,"Right",{"$f":"$P$2","v":11},"11 Left","11 Right",null,29,"Left",{"$f":"$P$2","v":11},30,"Right",{"$f":"$P$2","v":11},"11 Left","11 Right",null,26,"Left",{"$f":"$P$2","v":11},27,"Right",{"$f":"$P$2","v":11},"11 Left","11 Right"]
[null,37,"Left",{"$f":"$P$2","v":11},38,"Right",{"$f":"$P$2","v":11},"11 Left","11 Right",null,42,"Left",{"$f":"$P$2","v":11},39,"Right",{"$f":"$P$2","v":11},"11 Left","11 Right",null,35,"Left",{"$f":"$P$2","v":11},36,"Right",{"$f":"$P$2","v":11},"11 Left","11 Right",null,40,"Left",{"$f":"$P$2","v":11},41,"Right",{"$f":"$P$2","v":11},"11 Left","11 Right"]
[null,null,"Left",11,null,"Right",11,"11 Left","11 Right",null,null,"Left",11,null,"Right",11,"11 Left","11 Right",null,null,"Left",11,null,"Right",11,"11 Left","11 Right",null,null,"Left",11,null,"Right",11,"11 Left","11 Right"]
[null,29,"Left",{"$f":"$R$2","v":12},30,"Right",{"$f":"$R$2","v":12},"12 Left","12 Right",null,25,"Left",{"$f":"$R$2","v":12},28,"Right",{"$f":"$R$2","v":12},"12 Left","12 Right",null,26,"Left",{"$f":"$R$2","v":12},32,"Right",{"$f":"$R$2","v":12},"12 Left","12 Right",null,25,"Left",{"$f":"$R$2","v":12},23,"Right",{"$f":"$R$2","v":12},"12 Left","12 Right"]
[null,39,"Left",{"$f":"$R$2","v":12},40,"Right",{"$f":"$R$2","v":12},"12 Left","12 Right",null,33,"Left",{"$f":"$R$2","v":12},36,"Right",{"$f":"$R$2","v":12},"12 Left","12 Right",null,42,"Left",{"$f":"$R$2","v":12},38,"Right",{"$f":"$R$2","v":12},"12 Left","12 Right",null,39,"Left",{"$f":"$R$2","v":12},37,"Right",{"$f":"$R$2","v":12},"12 Left","12 Right"]
[null,null,"Left",12,null,"Right",12,"12 Left","12 Right",null,null,"Left",12,null,"Right",12,"12 Left","12 Right",null,null,"Left",12,null,"Right",12,"12 Left","12 Right",null,null,"Left",12,null,"Right",12,"12 Left","12 Right"]
[null,31,"Left",{"$f":"$T$2","v":13},32,"Right",{"$f":"$T$2","v":13},"13 Left","13 Right",null,26,"Left",{"$f":"$T$2","v":13},29,"Right",{"$f":"$T$2","v":13},"13 Left","13 Right",null,23,"Left",{"$f":"$T$2","v":13},27,"Right",{"$f":"$T$2","v":13},"13 Left","13 Right",null,24,"Left",{"$f":"$T$2","v":13},31,"Right",{"$f":"$T$2","v":13},"13 Left","13 Right"]
[null,41,"Left",{"$f":"$T$2","v":13},42,"Right",{"$f":"$T$2","v":13},"13 Left","13 Right",null,34,"Left",{"$f":"$T$2","v":13},37,"Right",{"$f":"$T$2","v":13},"13 Left","13 Right",null,39,"Left",{"$f":"$T$2","v":13},33,"Right",{"$f":"$T$2","v":13},"13 Left","13 Right",null,38,"Left",{"$f":"$T$2","v":13},35,"Right",{"$f":"$T$2","v":13},"13 Left","13 Right"]
[null,null,"Left",13,null,"Right",13,"13 Left","13 Right",null,null,"Left",13,null,"Right",13,"13 Left","13 Right",null,null,"Left",13,null,"Right",13,"13 Left","13 Right",null,null,"Left",13,null,"Right",13,"13 Left","13 Right"]
[null,null,"Left",{"$f":"$V$2","v":0},null,"Right",{"$f":"$V$2","v":0},"0 Left","0 Right",null,null,"Left",{"$f":"$V$2","v":0},null,"Right",{"$f":"$V$2","v":0},"0 Left","0 Right",null,null,"Left",{"$f":"$V$2","v":0},null,"Right",{"$f":"$V$2","v":0},"0 Left","0 Right",null,null,"Left",{"$f":"$V$2","v":0},null,"Right",{"$f":"$V$2","v":0},"0 Left","0 Right"]
[null,null,"Left",{"$f":"$V$2","v":0},null,"Right",{"$f":"$V$2","v":0},"0 Left","0 Right",null,null,"Left",{"$f":"$V$2","v":0},null,"Right",{"$f":"$V$2","v":0},"0 Left","0 Right",null,null,"Left",{"$f":"$V$2","v":0},null,"Right",{"$f":"$V$2","v":0},"0 Left","0 Right",null,null,"Left",{"$f":"$V$2","v":0},null,"Right",{"$f":"$V$2","v":0},"0 Left","0 Right"]
[null,null,"Left",0,null,"Right",0,"0 Left","0 Right",null,null,"Left",0,null,"Right",0,"0 Left","0 Right",null,null,"Left",0,null,"Right",0,"0 Left","0 Right",null,null,"Left",0,null,"Right",0,"0 Left","0 Right"]
[null,null,"Left",{"$f":"$X$2","v":0},null,"Right",{"$f":"$X$2","v":0},"0 Left","0 Right",null,null,"Left",{"$f":"$X$2","v":0},null,"Right",{"$f":"$X$2","v":0},"0 Left","0 Right",null,null,"Left",{"$f":"$X$2","v":0},null,"Right",{"$f":"$X$2","v":0},"0 Left","0 Right",null,null,"Left",{"$f":"$X$2","v":0},null,"Right",{"$f":"$X$2","v":0},"0 Left","0 Right"]
[null,null,"Left",{"$f":"$X$2","v":0},null,"Right",{"$f":"$X$2","v":0},"0 Left","0 Right",null,null,"Left",{"$f":"$X$2","v":0},null,"Right",{"$f":"$X$2","v":0},"0 Left","0 Right",null,null,"Left",{"$f":"$X$2","v":0},null,"Right",{"$f":"$X$2","v":0},"0 Left","0 Right",null,null,"Left",{"$f":"$X$2","v":0},null,"Right",{"$f":"$X$2","v":0},"0 Left","0 Right"]
[null,null,"Left",0,null,"Right",0,"0 Left","0 Right",null,null,"Left",0,null,"Right",0,"0 Left","0 Right",null,null,"Left",0,null,"Right",0,"0 Left","0 Right",null,null,"Left",0,null,"Right",0,"0 Left","0 Right"]
[null,null,"Left",{"$f":"$Z$2","v":0},null,"Right",{"$f":"$Z$2","v":0},"0 Left","0 Right",null,null,"Left",{"$f":"$Z$2","v":0},null,"Right",{"$f":"$Z$2","v":0},"0 Left","0 Right",null,null,"Left",{"$f":"$Z$2","v":0},null,"Right",{"$f":"$Z$2","v":0},"0 Left","0 Right",null,null,"Left",{"$f":"$Z$2","v":0},null,"Right",{"$f":"$Z$2","v":0},"0 Left","0 Right"]
[null,null,"Left",{"$f":"$Z$2","v":0},null,"Right",{"$f":"$Z$2","v":0},"0 Left","0 Right",null,null,"Left",{"$f":"$Z$2","v":0},null,"Right",{"$f":"$Z$2","v":0},"0 Left","0 Right",null,null,"Left",{"$f":"$Z$2","v":0},null,"Right",{"$f":"$Z$2","v":0},"0 Left","0 Right",null,null,"Left",{"$f":"$Z$2","v":0},null,"Right",{"$f":"$Z$2","v":0},"0 Left","0 Right"]
[null,null,"Left",0,null,"Right",0,"0 Left","0 Right",null,null,"Left",0,null,"Right",0,"0 Left","0 Right",null,null,"Left",0,null,"Right",0,"0 Left","0 Right",null,null,"Left",0,null,"Right",0,"0 Left","0 Right"]
[null,null,"Left",{"$f":"$AB$2","v":0},null,"Right",{"$f":"$AB$2","v":0},"0 Left","0 Right",null,null,"Left",{"$f":"$AB$2","v":0},null,"Right",{"$f":"$AB$2","v":0},"0 Left","0 Right",null,null,"Left",{"$f":"$AB$2","v":0},null,"Right",{"$f":"$AB$2","v":0},"0 Left","0 Right",null,null,"Left",{"$f":"$AB$2","v":0},null,"Right",{"$f":"$AB$2","v":0},"0 Left","0 Right"]
[null,null,"Left",{"$f":"$AB$2","v":0},null,"Right",{"$f":"$AB$2","v":0},"0 Left","0 Right",null,null,"Left",{"$f":"$AB$2","v":0},null,"Right",{"$f":"$AB$2","v":0},"0 Left","0 Right",null,null,"Left",{"$f":"$AB$2","v":0},null,"Right",{"$f":"$AB$2","v":0},"0 Left","0 Right",null,null,"Left",{"$f":"$AB$2","v":0},null,"Right",{"$f":"$AB$2","v":0},"0 Left","0 Right"]
[null,null,"Left",0,null,"Right",0,"0 Left","0 Right",null,null,"Left",0,null,"Right",0,"0 Left","0 Right",null,null,"Left",0,null,"Right",0,"0 Left","0 Right",null,null,"Left",0,null,"Right",0,"0 Left","0 Right"]
[{"$nulls":37},{"$f":"$B$23","v":0},{"$f":"$H$23","v":"3 Left"},{"$f":"$K$23","v":0},{"$f":"$Q$23","v":"3 Left"},{"$f":"$T$23","v":0},{"$f":"$Z$23","v":"3 Left"},{"$f":"$AC$23","v":0},{"$f":"$AI$23","v":"3 Left"}]
[{"$nulls":37},{"$f":"$B$26","v":0},{"$f":"$H$26","v":"4 Left"},{"$f":"$K$26","v":0},{"$f":"$Q$26","v":"4 Left"},{"$f":"$T$26","v":0},{"$f":"$Z$26","v":"4 Left"},{"$f":"$AC$26","v":0},{"$f":"$AI$26","v":"4 Left"}]
[{"$nulls":37},{"$f":"$B$29","v":0},{"$f":"$H$29","v":"5 Left"},{"$f":"$K$29","v":0},{"$f":"$Q$29","v":"5 Left"},{"$f":"$T$29","v":0},{"$f":"$Z$29","v":"5 Left"},{"$f":"$AC$29","v":0},{"$f":"$AI$29","v":"5 Left"}]
[{"$nulls":37},{"$f":"$B$32","v":0},{"$f":"$H$32","v":"6 Left"},{"$f":"$K$32","v":0},{"$f":"$Q$32","v":"6 Left"},{"$f":"$T$32","v":0},{"$f":"$Z$32","v":"6 Left"},{"$f":"$AC$32","v":0},{"$f":"$AI$32","v":"6 Left"}]
[{"$nulls":37},{"$f":"$B$35","v":0},{"$f":"$H$35","v":"9 Left"},{"$f":"$K$35","v":0},{"$f":"$Q$35","v":"9 Left"},{"$f":"$T$35","v":0},{"$f":"$Z$35","v":"9 Left"},{"$f":"$AC$35","v":0},{"$f":"$AI$35","v":"9 Left"}]
[{"$nulls":37},{"$f":"$B$38","v":0},{"$f":"$H$38","v":"10 Left"},{"$f":"$K$38","v":0},{"$f":"$Q$38","v":"10 Left"},{"$f":"$T$38","v":0},{"$f":"$Z$38","v":"10 Left"},{"$f":"$AC$38","v":0},{"$f":"$AI$38","v":"10 Left"}]
[{"$nulls":37},{"$f":"$B$41","v":0},{"$f":"$H$41","v":"11 Left"},{"$f":"$K$41","v":0},{"$f":"$Q$41","v":"11 Left"},{"$f":"$T$41","v":0},{"$f":"$Z$41","v":"11 Left"},{"$f":"$AC$41","v":0},{"$f":"$AI$41","v":"11 Left"}]
[{"$nulls":37},{"$f":"$B$44","v":0},{"$f":"$H$44","v":"12 Left"},{"$f":"$K$44","v":0},{"$f":"$Q$44","v":"12 Left"},{"$f":"$T$44","v":0},{"$f":"$Z$44","v":"12 Left"},{"$f":"$AC$44","v":0},{"$f":"$AI$44","v":"12 Left"}]
[{"$nulls":37},{"$f":"$B$47","v":0},{"$f":"$H$47","v":"13 Left"},{"$f":"$K$47","v":0},{"$f":"$Q$47","v":"13 Left"},{"$f":"$T$47","v":0},{"$f":"$Z$47","v":"13 Left"},{"$f":"$AC$47","v":0},{"$f":"$AI$47","v":"13 Left"}]
[{"$nulls":37},{"$f":"$B$48","v":0},{"$f":"$H$48","v":"0 Left"},{"$f":"$K$48","v":0},{"$f":"$Q$48","v":"0 Left"},{"$f":"$T$48","v":0},{"$f":"$Z$48","v":"0 Left"},{"$f":"$AC$48","v":0},{"$f":"$AI$48","v":"0 Left"}]
[{"$nulls":37},{"$f":"$B$49","v":0},{"$f":"$H$49","v":"0 Left"},{"$f":"$K$49","v":0},{"$f":"$Q$49","v":"0 Left"},{"$f":"$T$49","v":0},{"$f":"$Z$49","v":"0 Left"},{"$f":"$AC$49","v":0},{"$f":"$AI$49","v":"0 Left"}]
[{"$nulls":37},{"$f":"$B$50","v":0},{"$f":"$H$50","v":"0 Left"},{"$f":"$K$50","v":0},{"$f":"$Q$50","v":"0 Left"},{"$f":"$T$50","v":0},{"$f":"$Z$50","v":"0 Left"},{"$f":"$AC$50","v":0},{"$f":"$AI$50","v":"0 Left"}]
[{"$nulls":37},{"$f":"$B$51","v":0},{"$f":"$H$51","v":"0 Left"},{"$f":"$K$51","v":0},{"$f":"$Q$51","v":"0 Left"},{"$f":"$T$51","v":0},{"$f":"$Z$51","v":"0 Left"},{"$f":"$AC$51","v":0},{"$f":"$AI$51","v":"0 Left"}]
[{"$nulls":37},{"$f":"$B$52","v":0},{"$f":"$H$52","v":"0 Left"},{"$f":"$K$52","v":0},{"$f":"$Q$52","v":"0 Left"},{"$f":"$T$52","v":0},{"$f":"$Z$52","v":"0 Left"},{"$f":"$AC$52","v":0},{"$f":"$AI$52","v":"0 Left"}]
[{"$nulls":37},{"$f":"$B$53","v":0},{"$f":"$H$53","v":"0 Left"},{"$f":"$K$53","v":0},{"$f":"$Q$53","v":"0 Left"},{"$f":"$T$53","v":0},{"$f":"$Z$53","v":"0 Left"},{"$f":"$AC$53","v":0},{"$f":"$AI$53","v":"0 Left"}]
[{"$nulls":37},{"$f":"$B$54","v":0},{"$f":"$H$54","v":"0 Left"},{"$f":"$K$54","v":0},{"$f":"$Q$54","v":"0 Left"},{"$f":"$T$54","v":0},{"$f":"$Z$54","v":"0 Left"},{"$f":"$AC$54","v":0},{"$f":"$AI$54","v":"0 Left"}]
[{"$nulls":37},{"$f":"$B$55","v":0},{"$f":"$H$55","v":"0 Left"},{"$f":"$K$55","v":0},{"$f":"$Q$55","v":"0 Left"},{"$f":"$T$55","v":0},{"$f":"$Z$55","v":"0 Left"},{"$f":"$AC$55","v":0},{"$f":"$AI$55","v":"0 Left"}]
[{"$nulls":37},{"$f":"$B$56","v":0},{"$f":"$H$56","v":"0 Left"},{"$f":"$K$56","v":0},{"$f":"$Q$56","v":"0 Left"},{"$f":"$T$56","v":0},{"$f":"$Z$56","v":"0 Left"},{"$f":"$AC$56","v":0},{"$f":"$AI$56","v":"0 Left"}]
[{"$nulls":37},{"$f":"$B$57","v":0},{"$f":"$H$57","v":"0 Left"},{"$f":"$K$57","v":0},{"$f":"$Q$57","v":"0 Left"},{"$f":"$T$57","v":0},{"$f":"$Z$57","v":"0 Left"},{"$f":"$AC$57","v":0},{"$f":"$AI$57","v":"0 Left"}]
[{"$nulls":37},{"$f":"$B$58","v":0},{"$f":"$H$58","v":"0 Left"},{"$f":"$K$58","v":0},{"$f":"$Q$58","v":"0 Left"},{"$f":"$T$58","v":0},{"$f":"$Z$58","v":"0 Left"},{"$f":"$AC$58","v":0},{"$f":"$AI$58","v":"0 Left"}]
[{"$nulls":37},{"$f":"$B$59","v":0},{"$f":"$H$59","v":"0 Left"},{"$f":"$K$59","v":0},{"$f":"$Q$59","v":"0 Left"},{"$f":"$T$59","v":0},{"$f":"$Z$59","v":"0 Left"},{"$f":"$AC$59","v":0},{"$f":"$AI$59","v":"0 Left"}]
[{"$nulls":37},{"$f":"$E$23","v":0},{"$f":"$I$23","v":"3 Right"},{"$f":"$N$23","v":0},{"$f":"$R$23","v":"3 Right"},{"$f":"$W$23","v":0},{"$f":"$AA$23","v":"3 Right"},{"$f":"$AF$23","v":0},{"$f":"$AJ$23","v":"3 Right"}]
[{"$nulls":37},{"$f":"$E$26","v":0},{"$f":"$I$26","v":"4 Right"},{"$f":"$N$26","v":0},{"$f":"$R$26","v":"4 Right"},{"$f":"$W$26","v":0},{"$f":"$AA$26","v":"4 Right"},{"$f":"$AF$26","v":0},{"$f":"$AJ$26","v":"4 Right"}]
[{"$nulls":37},{"$f":"$E$29","v":0},{"$f":"$I$29","v":"5 Right"},{"$f":"$N$29","v":0},{"$f":"$R$29","v":"5 Right"},{"$f":"$W$29","v":0},{"$f":"$AA$29","v":"5 Right"},{"$f":"$AF$29","v":0},{"$f":"$AJ$29","v":"5 Right"}]
[{"$nulls":37},{"$f":"$E$32","v":0},{"$f":"$I$32","v":"6 Right"},{"$f":"$N$32","v":0},{"$f":"$R$32","v":"6 Right"},{"$f":"$W$32","v":0},{"$f":"$AA$32","v":"6 Right"},{"$f":"$AF$32","v":0},{"$f":"$AJ$32","v":"6 Right"}]
[{"$nulls":37},{"$f":"$E$35","v":0},{"$f":"$I$35","v":"9 Right"},{"$f":"$N$35","v":0},{"$f":"$R$35","v":"9 Right"},{"$f":"$W$35","v":0},{"$f":"$AA$35","v":"9 Right"},{"$f":"$AF$35","v":0},{"$f":"$AJ$35","v":"9 Right"}]
[{"$nulls":37},{"$f":"$E$38","v":0},{"$f":"$I$38","v":"10 Right"},{"$f":"$N$38","v":0},{"$f":"$R$38","v":"10 Right"},{"$f":"$W$38","v":0},{"$f":"$AA$38","v":"10 Right"},{"$f":"$AF$38","v":0},{"$f":"$AJ$38","v":"10 Right"}]
[{"$nulls":37},{"$f":"$E$41","v":0},{"$f":"$I$41","v":"11 Right"},{"$f":"$N$41","v":0},{"$f":"$R$41","v":"11 Right"},{"$f":"$W$41","v":0},{"$f":"$AA$41","v":"11 Right"},{"$f":"$AF$41","v":0},{"$f":"$AJ$41","v":"11 Right"}]
[{"$nulls":37},{"$f":"$E$44","v":0},{"$f":"$I$44","v":"12 Right"},{"$f":"$N$44","v":0},{"$f":"$R$44","v":"12 Right"},{"$f":"$W$44","v":0},{"$f":"$AA$44","v":"12 Right"},{"$f":"$AF$44","v":0},{"$f":"$AJ$44","v":"12 Right"}]
[{"$nulls":37},{"$f":"$E$47","v":0},{"$f":"$I$47","v":"13 Right"},{"$f":"$N$47","v":0},{"$f":"$R$47","v":"13 Right"},{"$f":"$W$47","v":0},{"$f":"$AA$47","v":"13 Right"},{"$f":"$AF$47","v":0},{"$f":"$AJ$47","v":"13 Right"}]
[{"$nulls":37},{"$f":"$E$48","v":0},{"$f":"$I$48","v":"0 Right"},{"$f":"$N$48","v":0},{"$f":"$R$48","v":"0 Right"},{"$f":"$W$48","v":0},{"$f":"$AA$48","v":"0 Right"},{"$f":"$AF$48","v":0},{"$f":"$AJ$48","v":"0 Right"}]
[{"$nulls":37},{"$f":"$E$49","v":0},{"$f":"$I$49","v":"0 Right"},{"$f":"$N$49","v":0},{"$f":"$R$49","v":"0 Right"},{"$f":"$W$49","v":0},{"$f":"$AA$49","v":"0 Right"},{"$f":"$AF$49","v":0},{"$f":"$AJ$49","v":"0 Right"}]
[{"$nulls":37},{"$f":"$E$50","v":0},{"$f":"$I$50","v":"0 Right"},{"$f":"$N$50","v":0},{"$f":"$R$50","v":"0 Right"},{"$f":"$W$50","v":0},{"$f":"$AA$50","v":"0 Right"},{"$f":"$AF$50","v":0},{"$f":"$AJ$50","v":"0 Right"}]
[{"$nulls":37},{"$f":"$E$51","v":0},{"$f":"$I$51","v":"0 Right"},{"$f":"$N$51","v":0},{"$f":"$R$51","v":"0 Right"},{"$f":"$W$51","v":0},{"$f":"$AA$51","v":"0 Right"},{"$f":"$AF$51","v":0},{"$f":"$AJ$51","v":"0 Right"}]
[{"$nulls":37},{"$f":"$E$52","v":0},{"$f":"$I$52","v":"0 Right"},{"$f":"$N$52","v":0},{"$f":"$R$52","v":"0 Right"},{"$f":"$W$52","v":0},{"$f":"$AA$52","v":"0 Right"},{"$f":"$AF$52","v":0},{"$f":"$AJ$52","v":"0 Right"}]
[{"$nulls":37},{"$f":"$E$53","v":0},{"$f":"$I$53","v":"0 Right"},{"$f":"$N$53","v":0},{"$f":"$R$53","v":"0 Right"},{"$f":"$W$53","v":0},{"$f":"$AA$53","v":"0 Right"},{"$f":"$AF$53","v":0},{"$f":"$AJ$53","v":"0 Right"}]
[{"$nulls":37},{"$f":"$E$54","v":0},{"$f":"$I$54","v":"0 Right"},{"$f":"$N$54","v":0},{"$f":"$R$54","v":"0 Right"},{"$f":"$W$54","v":0},{"$f":"$AA$54","v":"0 Right"},{"$f":"$AF$54","v":0},{"$f":"$AJ$54","v":"0 Right"}]
[{"$nulls":37},{"$f":"$E$55","v":0},{"$f":"$I$55","v":"0 Right"},{"$f":"$N$55","v":0},{"$f":"$R$55","v":"0 Right"},{"$f":"$W$55","v":0},{"$f":"$AA$55","v":"0 Right"},{"$f":"$AF$55","v":0},{"$f":"$AJ$55","v":"0 Right"}]
[{"$nulls":37},{"$f":"$E$56","v":0},{"$f":"$I$56","v":"0 Right"},{"$f":"$N$56","v":0},{"$f":"$R$56","v":"0 Right"},{"$f":"$W$56","v":0},{"$f":"$AA$56","v":"0 Right"},{"$f":"$AF$56","v":0},{"$f":"$AJ$56","v":"0 Right"}]
[{"$nulls":37},{"$f":"$E$57","v":0},{"$f":"$I$57","v":"0 Right"},{"$f":"$N$57","v":0},{"$f":"$R$57","v":"0 Right"},{"$f":"$W$57","v":0},{"$f":"$AA$57","v":"0 Right"},{"$f":"$AF$57","v":0},{"$f":"$AJ$57","v":"0 Right"}]
[{"$nulls":37},{"$f":"$E$58","v":0},{"$f":"$I$58","v":"0 Right"},{"$f":"$N$58","v":0},{"$f":"$R$58","v":"0 Right"},{"$f":"$W$58","v":0},{"$f":"$AA$58","v":"0 Right"},{"$f":"$AF$58","v":0},{"$f":"$AJ$58","v":"0 Right"}]
[{"$nulls":37},{"$f":"$E$59","v":0},{"$f":"$I$59","v":"0 Right"},{"$f":"$N$59","v":0},{"$f":"$R$59","v":"0 Right"},{"$f":"$W$59","v":0},{"$f":"$AA$59","v":"0 Right"},{"$f":"$AF$59","v":0},{"$f":"$AJ$59","v":"0 Right"}]

{"sheet":"44","index":20,"n_rows":101,"n_cols":45,"rows_kept":101,"hidden":true,"merged":[[0,1,0,22],[1,1,1,2],[1,3,1,4],[1,5,1,6],[1,7,1,8],[1,9,1,10],[1,11,1,12],[1,13,1,14],[1,15,1,16],[1,17,1,18],[1,19,1,20],[1,21,1,22],[2,0,4,0],[5,0,7,0],[8,0,10,0],[11,0,13,0],[14,1,14,22],[15,1,15,6],[15,10,15,15],[15,19,15,24],[15,28,15,33],[16,37,16,38],[16,39,16,40],[16,41,16,42],[16,43,16,44]]}
[null,"YOU MAY CHANGE THESE RINK NUMBERS IF YOU WISH"]
["Round",1,null,2,2,3,3,4,4,5,5,6,6,9,null,10,null,11,null,12,null,13]
[1,1,2,3,4,5,6,7,8,9,10,11,12,25,26,27,28,29,30,31,32,33,34]
[null,13,14,15,16,17,18,19,20,21,22,23,24,35,36,37,38,39,40,41,42,43,44]
[]
[2,6,9,1,10,2,11,3,12,4,8,5,7,29,34,25,32,26,33,27,30,28,31]
[null,16,19,23,20,24,21,13,22,14,18,15,17,37,42,43,40,44,41,35,38,36,39]
[]
[3,3,4,2,5,12,8,1,9,7,11,6,10,27,33,26,30,31,32,28,34,25,29]
[null,23,24,22,13,20,16,21,17,15,19,14,18,43,39,42,36,37,38,44,40,41,35]
[]
[4,12,7,8,11,1,9,6,10,2,5,3,4,30,32,34,31,28,29,27,25,26,33]
[null,18,13,14,17,19,15,24,16,20,23,21,22,44,36,38,35,42,43,41,39,40,37]
[]
[null,"44 on 2 greens"]
[null,1,{"$nulls":8},2,{"$nulls":8},3,{"$nulls":8},4]
[null,"no","Left","rink","no","Right","rink","L","R",null,"no","Left","rink","no","Right","rink","L","R",null,"no","Left","rink","no","Right","rink","L","R",null,"no","Left","rink","no","Right","rink","L","R",null,1,null,2,null,3,null,4]
[null,1,"Left",{"$f":"$B$2","v":1},2,"Right",{"$f":"$B$2","v":1},{"$f":"(D18&\" \"&C18)","v":"1 Left"},{"$f":"(G18&\" \"&F18)","v":"1 Right"},null,6,"Left",{"$f":"$B$2","v":1},9,"Right",{"$f":"$B$2","v":1},{"$f":"(M18&\" \"&L18)","v":"1 Left"},{"$f":"(P18&\" \"&O18)","v":"1 Right"},null,3,"Left",{"$f":"$B$2","v":1},4,"Right",{"$f":"$B$2","v":1},{"$f":"(V18&\" \"&U18)","v":"1 Left"},{"$f":"(Y18&\" \"&X18)","v":"1 Right"},null,12,"Left",{"$f":"$B$2","v":1},7,"Right",{"$f":"$B$2","v":1},{"$f":"(AE18&\" \"&AD18)","v":"1 Left"},{"$f":"(AH18&\" \"&AG18)","v":"1 Right"}]
[null,13,"Left",{"$f":"$B$2","v":1},14,"Right",{"$f":"$B$2","v":1},{"$f":"(D19&\" \"&C19)","v":"1 Left"},{"$f":"(G19&\" \"&F19)","v":"1 Right"},null,16,"Left",{"$f":"$B$2","v":1},19,"Right",{"$f":"$B$2","v":1},{"$f":"(M19&\" \"&L19)","v":"1 Left"},{"$f":"(P19&\" \"&O19)","v":"1 Right"},null,23,"Left",{"$f":"$B$2","v":1},24,"Right",{"$f":"$B$2","v":1},{"$f":"(V19&\" \"&U19)","v":"1 Left"},{"$f":"(Y19&\" \"&X19)","v":"1 Right"},null,18,"Left",{"$f":"$B$2","v":1},13,"Right",{"$f":"$B$2","v":1},{"$f":"(AE19&\" \"&AD19)","v":"1 Left"},{"$f":"(AH19&\" \"&AG19)","v":"1 Right"}]
[null,null,"Left",{"$f":"$B$2","v":1},null,"Right",{"$f":"$B$2","v":1},"1 Left","1 Right",null,null,"Left",{"$f":"$B$2","v":1},null,"Right",{"$f":"$B$2","v":1},"1 Left","1 Right",null,null,"Left",{"$f":"$B$2","v":1},null,"Right",{"$f":"$B$2","v":1},"1 Left","1 Right",null,null,"Left",{"$f":"$B$2","v":1},null,"Right",{"$f":"$B$2","v":1},"1 Left","1 Right"]
[null,3,"Left",{"$f":"$D$2","v":2},4,"Right",{"$f":"$D$2","v":2},"2 Left","2 Right",null,1,"Left",{"$f":"$D$2","v":2},10,"Right",{"$f":"$D$2","v":2},"2 Left","2 Right",null,2,"Left",{"$f":"$D$2","v":2},5,"Right",{"$f":"$D$2","v":2},"2 Left","2 Right",null,8,"Left",{"$f":"$D$2","v":2},11,"Right",{"$f":"$D$2","v":2},"2 Left","2 Right"]
[null,15,"Left",{"$f":"$D$2","v":2},16,"Right",{"$f":"$D$2","v":2},"2 Left","2 Right",null,23,"Left",{"$f":"$D$2","v":2},20,"Right",{"$f":"$D$2","v":2},"2 Left","2 Right",null,22,"Left",{"$f":"$D$2","v":2},13,"Right",{"$f":"$D$2","v":2},"2 Left","2 Right",null,14,"Left",{"$f":"$D$2","v":2},17,"Right",{"$f":"$D$2","v":2},"2 Left","2 Right"]
[null,null,"Left",{"$f":"$D$2","v":2},null,"Right",{"$f":"$D$2","v":2},"2 Left","2 Right",null,null,"Left",{"$f":"$D$2","v":2},null,"Right",{"$f":"$D$2","v":2},"2 Left","2 Right",null,null,"Left",{"$f":"$D$2","v":2},null,"Right",{"$f":"$D$2","v":2},"2 Left","2 Right",null,null,"Left",{"$f":"$D$2","v":2},null,"Right",{"$f":"$D$2","v":2},"2 Left","2 Right"]
[null,5,"Left",{"$f":"$F$2","v":3},6,"Right",{"$f":"$F$2","v":3},"3 Left","3 Right",null,2,"Left",{"$f":"$F$2","v":3},11,"Right",{"$f":"$F$2","v":3},"3 Left","3 Right",null,12,"Left",{"$f":"$F$2","v":3},8,"Right",{"$f":"$F$2","v":3},"3 Left","3 Right",null,1,"Left",{"$f":"$F$2","v":3},9,"Right",{"$f":"$F$2","v":3},"3 Left","3 Right"]
[null,17,"Left",{"$f":"$F$2","v":3},18,"Right",{"$f":"$F$2","v":3},"3 Left","3 Right",null,24,"Left",{"$f":"$F$2","v":3},21,"Right",{"$f":"$F$2","v":3},"3 Left","3 Right",null,20,"Left",{"$f":"$F$2","v":3},16,"Right",{"$f":"$F$2","v":3},"3 Left","3 Right",null,19,"Left",{"$f":"$F$2","v":3},15,"Right",{"$f":"$F$2","v":3},"3 Left","3 Right"]
[null,null,"Left",{"$f":"$F$2","v":3},null,"Right",{"$f":"$F$2","v":3},"3 Left","3 Right",null,null,"Left",{"$f":"$F$2","v":3},null,"Right",{"$f":"$F$2","v":3},"3 Left","3 Right",null,null,"Left",{"$f":"$F$2","v":3},null,"Right",{"$f":"$F$2","v":3},"3 Left","3 Right",null,null,"Left",{"$f":"$F$2","v":3},null,"Right",{"$f":"$F$2","v":3},"3 Left","3 Right"]
[null,7,"Left",{"$f":"$H$2","v":4},8,"Right",{"$f":"$H$2","v":4},"4 Left","4 Right",null,3,"Left",{"$f":"$H$2","v":4},12,"Right",{"$f":"$H$2","v":4},"4 Left","4 Right",null,1,"Left",{"$f":"$H$2","v":4},9,"Right",{"$f":"$H$2","v":4},"4 Left","4 Right",null,6,"Left",{"$f":"$H$2","v":4},10,"Right",{"$f":"$H$2","v":4},"4 Left","4 Right"]
[null,19,"Left",{"$f":"$H$2","v":4},20,"Right",{"$f":"$H$2","v":4},"4 Left","4 Right",null,13,"Left",{"$f":"$H$2","v":4},22,"Right",{"$f":"$H$2","v":4},"4 Left","4 Right",null,21,"Left",{"$f":"$H$2","v":4},17,"Right",{"$f":"$H$2","v":4},"4 Left","4 Right",null,24,"Left",{"$f":"$H$2","v":4},16,"Right",{"$f":"$H$2","v":4},"4 Left","4 Right"]
[null,null,"Left",4,null,"Right",4,"4 Left","4 Right",null,null,"Left",4,null,"Right",4,"4 Left","4 Right",null,null,"Left",4,null,"Right",4,"4 Left","4 Right",null,null,"Left",4,null,"Right",4,"4 Left","4 Right"]
[null,9,"Left",{"$f":"$J$2","v":5},10,"Right",{"$f":"$J$2","v":5},"5 Left","5 Right",null,4,"Left",{"$f":"$J$2","v":5},8,"Right",{"$f":"$J$2","v":5},"5 Left","5 Right",null,7,"Left",{"$f":"$J$2","v":5},11,"Right",{"$f":"$J$2","v":5},"5 Left","5 Right",null,2,"Left",{"$f":"$J$2","v":5},5,"Right",{"$f":"$J$2","v":5},"5 Left","5 Right"]
[null,21,"Left",{"$f":"$J$2","v":5},22,"Right",{"$f":"$J$2","v":5},"5 Left","5 Right",null,14,"Left",{"$f":"$J$2","v":5},18,"Right",{"$f":"$J$2","v":5},"5 Left","5 Right",null,15,"Left",{"$f":"$J$2","v":5},19,"Right",{"$f":"$J$2","v":5},"5 Left","5 Right",null,20,"Left",{"$f":"$J$2","v":5},23,"Right",{"$f":"$J$2","v":5},"5 Left","5 Right"]
[null,null,"Left",5,null,"Right",5,"5 Left","5 Right",null,null,"Left",5,null,"Right",5,"5 Left","5 Right",null,null,"Left",5,null,"Right",5,"5 Left","5 Right",null,null,"Left",5,null,"Right",5,"5 Left","5 Right"]
[null,11,"Left",{"$f":"$L$2","v":6},12,"Right",{"$f":"$L$2","v":6},"6 Left","6 Right",null,5,"Left",{"$f":"$L$2","v":6},7,"Right",{"$f":"$L$2","v":6},"6 Left","6 Right",null,6,"Left",{"$f":"$L$2","v":6},10,"Right",{"$f":"$L$2","v":6},"6 Left","6 Right",null,3,"Left",{"$f":"$L$2","v":6},4,"Right",{"$f":"$L$2","v":6},"6 Left","6 Right"]
[null,23,"Left",{"$f":"$L$2","v":6},24,"Right",{"$f":"$L$2","v":6},"6 Left","6 Right",null,15,"Left",{"$f":"$L$2","v":6},17,"Right",{"$f":"$L$2","v":6},"6 Left","6 Right",null,14,"Left",{"$f":"$L$2","v":6},18,"Right",{"$f":"$L$2","v":6},"6 Left","6 Right",null,21,"Left",{"$f":"$L$2","v":6},22,"Right",{"$f":"$L$2","v":6},"6 Left","6 Right"]
[null,null,"Left",6,null,"Right",6,"6 Left","6 Right",null,null,"Left",6,null,"Right",6,"6 Left","6 Right",null,null,"Left",6,null,"Right",6,"6 Left","6 Right",null,null,"Left",6,null,"Right",6,"6 Left","6 Right"]
[null,25,"Left",{"$f":"$N$2","v":9},26,"Right",{"$f":"$N$2","v":9},"9 Left","9 Right",null,29,"Left",{"$f":"$N$2","v":9},34,"Right",{"$f":"$N$2","v":9},"9 Left","9 Right",null,27,"Left",{"$f":"$N$2","v":9},33,"Right",{"$f":"$N$2","v":9},"9 Left","9 Right",null,30,"Left",{"$f":"$N$2","v":9},32,"Right",{"$f":"$N$2","v":9},"9 Left","9 Right"]
[null,35,"Left",{"$f":"$N$2","v":9},36,"Right",{"$f":"$N$2","v":9},"9 Left","9 Right",null,37,"Left",{"$f":"$N$2","v":9},42,"Right",{"$f":"$N$2","v":9},"9 Left","9 Right",null,43,"Left",{"$f":"$N$2","v":9},39,"Right",{"$f":"$N$2","v":9},"9 Left","9 Right",null,44,"Left",{"$f":"$N$2","v":9},36,"Right",{"$f":"$N$2","v":9},"9 Left","9 Right"]
[null,null,"Left",9,null,"Right",9,"9 Left","9 Right",null,null,"Left",9,null,"Right",9,"9 Left","9 Right",null,null,"Left",9,null,"Right",9,"9 Left","9 Right",null,null,"Left",9,null,"Right",9,"9 Left","9 Right"]
[null,27,"Left",{"$f":"$P$2","v":10},28,"Right",{"$f":"$P$2","v":10},"10 Left","10 Right",null,25,"Left",{"$f":"$P$2","v":10},32,"Right",{"$f":"$P$2","v":10},"10 Left","10 Right",null,26,"Left",{"$f":"$P$2","v":10},30,"Right",{"$f":"$P$2","v":10},"10 Left","10 Right",null,34,"Left",{"$f":"$P$2","v":10},31,"Right",{"$f":"$P$2","v":10},"10 Left","10 Right"]
[null,37,"Left",{"$f":"$P$2","v":10},38,"Right",{"$f":"$P$2","v":10},"10 Left","10 Right",null,43,"Left",{"$f":"$P$2","v":10},40,"Right",{"$f":"$P$2","v":10},"10 Left","10 Right",null,42,"Left",{"$f":"$P$2","v":10},36,"Right",{"$f":"$P$2","v":10},"10 Left","10 Right",null,38,"Left",{"$f":"$P$2","v":10},35,"Right",{"$f":"$P$2","v":10},"10 Left","10 Right"]
[null,null,"Left",10,null,"Right",10,"10 Left","10 Right",null,null,"Left",10,null,"Right",10,"10 Left","10 Right",null,null,"Left",10,null,"Right",10,"10 Left","10 Right",null,null,"Left",10,null,"Right",10,"10 Left","10 Right"]
[null,29,"Left",{"$f":"$R$2","v":11},30,"Right",{"$f":"$R$2","v":11},"11 Left","11 Right",null,26,"Left",{"$f":"$R$2","v":11},33,"Right",{"$f":"$R$2","v":11},"11 Left","11 Right",null,31,"Left",{"$f":"$R$2","v":11},32,"Right",{"$f":"$R$2","v":11},"11 Left","11 Right",null,28,"Left",{"$f":"$R$2","v":11},29,"Right",{"$f":"$R$2","v":11},"11 Left","11 Right"]
[null,39,"Left",{"$f":"$R$2","v":11},40,"Right",{"$f":"$R$2","v":11},"11 Left","11 Right",null,44,"Left",{"$f":"$R$2","v":11},41,"Right",{"$f":"$R$2","v":11},"11 Left","11 Right",null,37,"Left",{"$f":"$R$2","v":11},38,"Right",{"$f":"$R$2","v":11},"11 Left","11 Right",null,42,"Left",{"$f":"$R$2","v":11},43,"Right",{"$f":"$R$2","v":11},"11 Left","11 Right"]
[null,null,"Left",11,null,"Right",11,"11 Left","11 Right",null,null,"Left",11,null,"Right",11,"11 Left","11 Right",null,null,"Left",11,null,"Right",11,"11 Left","11 Right",null,null,"Left",11,null,"Right",11,"11 Left","11 Right"]
[null,31,"Left",{"$f":"$T$2","v":12},32,"Right",{"$f":"$T$2","v":12},"12 Left","12 Right",null,27,"Left",{"$f":"$T$2","v":12},30,"Right",{"$f":"$T$2","v":12},"12 Left","12 Right",null,28,"Left",{"$f":"$T$2","v":12},34,"Right",{"$f":"$T$2","v":12},"12 Left","12 Right",null,27,"Left",{"$f":"$T$2","v":12},25,"Right",{"$f":"$T$2","v":12},"12 Left","12 Right"]
[null,41,"Left",{"$f":"$T$2","v":12},42,"Right",{"$f":"$T$2","v":12},"12 Left","12 Right",null,35,"Left",{"$f":"$T$2","v":12},38,"Right",{"$f":"$T$2","v":12},"12 Left","12 Right",null,44,"Left",{"$f":"$T$2","v":12},40,"Right",{"$f":"$T$2","v":12},"12 Left","12 Right",null,41,"Left",{"$f":"$T$2","v":12},39,"Right",{"$f":"$T$2","v":12},"12 Left","12 Right"]
[null,null,"Left",12,null,"Right",12,"12 Left","12 Right",null,null,"Left",12,null,"Right",12,"12 Left","12 Right",null,null,"Left",12,null,"Right",12,"12 Left","12 Right",null,null,"Left",12,null,"Right",12,"12 Left","12 Right"]
[null,33,"Left",{"$f":"$V$2","v":13},34,"Right",{"$f":"$V$2","v":13},"13 Left","13 Right",null,28,"Left",{"$f":"$V$2","v":13},31,"Right",{"$f":"$V$2","v":13},"13 Left","13 Right",null,25,"Left",{"$f":"$V$2","v":13},29,"Right",{"$f":"$V$2","v":13},"13 Left","13 Right",null,26,"Left",{"$f":"$V$2","v":13},33,"Right",{"$f":"$V$2","v":13},"13 Left","13 Right"]
[null,43,"Left",{"$f":"$V$2","v":13},44,"Right",{"$f":"$V$2","v":13},"13 Left","13 Right",null,36,"Left",{"$f":"$V$2","v":13},39,"Right",{"$f":"$V$2","v":13},"13 Left","13 Right",null,41,"Left",{"$f":"$V$2","v":13},35,"Right",{"$f":"$V$2","v":13},"13 Left","13 Right",null,40,"Left",{"$f":"$V$2","v":13},37,"Right",{"$f":"$V$2","v":13},"13 Left","13 Right"]
[null,null,"Left",13,null,"Right",13,"13 Left","13 Right",null,null,"Left",13,null,"Right",13,"13 Left","13 Right",null,null,"Left",13,null,"Right",13,"13 Left","13 Right",null,null,"Left",13,null,"Right",13,"13 Left","13 Right"]
[null,null,"Left",{"$f":"$X$2","v":0},null,"Right",{"$f":"$X$2","v":0},"0 Left","0 Right",null,null,"Left",{"$f":"$X$2","v":0},null,"Right",{"$f":"$X$2","v":0},"0 Left","0 Right",null,null,"Left",{"$f":"$X$2","v":0},null,"Right",{"$f":"$X$2","v":0},"0 Left","0 Right",null,null,"Left",{"$f":"$X$2","v":0},null,"Right",{"$f":"$X$2","v":0},"0 Left","0 Right"]
[null,null,"Left",{"$f":"$X$2","v":0},null,"Right",{"$f":"$X$2","v":0},"0 Left","0 Right",null,null,"Left",{"$f":"$X$2","v":0},null,"Right",{"$f":"$X$2","v":0},"0 Left","0 Right",null,null,"Left",{"$f":"$X$2","v":0},null,"Right",{"$f":"$X$2","v":0},"0 Left","0 Right",null,null,"Left",{"$f":"$X$2","v":0},null,"Right",{"$f":"$X$2","v":0},"0 Left","0 Right"]
[null,null,"Left",0,null,"Right",0,"0 Left","0 Right",null,null,"Left",0,null,"Right",0,"0 Left","0 Right",null,null,"Left",0,null,"Right",0,"0 Left","0 Right",null,null,"Left",0,null,"Right",0,"0 Left","0 Right"]
[null,null,"Left",{"$f":"$Z$2","v":0},null,"Right",{"$f":"$Z$2","v":0},"0 Left","0 Right",null,null,"Left",{"$f":"$Z$2","v":0},null,"Right",{"$f":"$Z$2","v":0},"0 Left","0 Right",null,null,"Left",{"$f":"$Z$2","v":0},null,"Right",{"$f":"$Z$2","v":0},"0 Left","0 Right",null,null,"Left",{"$f":"$Z$2","v":0},null,"Right",{"$f":"$Z$2","v":0},"0 Left","0 Right"]
[null,null,"Left",{"$f":"$Z$2","v":0},null,"Right",{"$f":"$Z$2","v":0},"0 Left","0 Right",null,null,"Left",{"$f":"$Z$2","v":0},null,"Right",{"$f":"$Z$2","v":0},"0 Left","0 Right",null,null,"Left",{"$f":"$Z$2","v":0},null,"Right",{"$f":"$Z$2","v":0},"0 Left","0 Right",null,null,"Left",{"$f":"$Z$2","v":0},null,"Right",{"$f":"$Z$2","v":0},"0 Left","0 Right"]
[null,null,"Left",0,null,"Right",0,"0 Left","0 Right",null,null,"Left",0,null,"Right",0,"0 Left","0 Right",null,null,"Left",0,null,"Right",0,"0 Left","0 Right",null,null,"Left",0,null,"Right",0,"0 Left","0 Right"]
[null,null,"Left",{"$f":"$AB$2","v":0},null,"Right",{"$f":"$AB$2","v":0},"0 Left","0 Right",null,null,"Left",{"$f":"$AB$2","v":0},null,"Right",{"$f":"$AB$2","v":0},"0 Left","0 Right",null,null,"Left",{"$f":"$AB$2","v":0},null,"Right",{"$f":"$AB$2","v":0},"0 Left","0 Right",null,null,"Left",{"$f":"$AB$2","v":0},null,"Right",{"$f":"$AB$2","v":0},"0 Left","0 Right"]
[null,null,"Left",{"$f":"$AB$2","v":0},null,"Right",{"$f":"$AB$2","v":0},"0 Left","0 Right",null,null,"Left",{"$f":"$AB$2","v":0},null,"Right",{"$f":"$AB$2","v":0},"0 Left","0 Right",null,null,"Left",{"$f":"$AB$2","v":0},null,"Right",{"$f":"$AB$2","v":0},"0 Left","0 Right",null,null,"Left",{"$f":"$AB$2","v":0},null,"Right",{"$f":"$AB$2","v":0},"0 Left","0 Right"]
[null,null,"Left",0,null,"Right",0,"0 Left","0 Right",null,null,"Left",0,null,"Right",0,"0 Left","0 Right",null,null,"Left",0,null,"Right",0,"0 Left","0 Right",null,null,"Left",0,null,"Right",0,"0 Left","0 Right"]
[]
[]
[{"$nulls":37},{"$f":"$B$20","v":0},{"$f":"$H$20","v":"1 Left"},{"$f":"$K$20","v":0},{"$f":"$Q$20","v":"1 Left"},{"$f":"$T$20","v":0},{"$f":"$Z$20","v":"1 Left"},{"$f":"$AC$20","v":0},{"$f":"$AI$20","v":"1 Left"}]
[{"$nulls":37},{"$f":"$E$20","v":0},{"$f":"$I$20","v":"1 Right"},{"$f":"$K$23","v":0},{"$f":"$Q$23","v":"2 Left"},{"$f":"$T$23","v":0},{"$f":"$Z$23","v":"2 Left"},{"$f":"$AC$23","v":0},{"$f":"$AI$23","v":"2 Left"}]
[{"$nulls":37},{"$f":"$B$23","v":0},{"$f":"$H$23","v":"2 Left"},{"$f":"$K$26","v":0},{"$f":"$Q$26","v":"3 Left"},{"$f":"$T$26","v":0},{"$f":"$Z$26","v":"3 Left"},{"$f":"$AC$26","v":0},{"$f":"$AI$26","v":"3 Left"}]
[{"$nulls":37},{"$f":"$B$26","v":0},{"$f":"$H$26","v":"3 Left"},{"$f":"$K$29","v":0},{"$f":"$Q$29","v":"4 Left"},{"$f":"$T$29","v":0},{"$f":"$Z$29","v":"4 Left"},{"$f":"$AC$29","v":0},{"$f":"$AI$29","v":"4 Left"}]
[{"$nulls":37},{"$f":"$B$29","v":0},{"$f":"$H$29","v":"4 Left"},{"$f":"$K$32","v":0},{"$f":"$Q$32","v":"5 Left"},{"$f":"$T$32","v":0},{"$f":"$Z$32","v":"5 Left"},{"$f":"$AC$32","v":0},{"$f":"$AI$32","v":"5 Left"}]
[{"$nulls":37},{"$f":"$B$32","v":0},{"$f":"$H$32","v":"5 Left"},{"$f":"$K$35","v":0},{"$f":"$Q$35","v":"6 Left"},{"$f":"$T$35","v":0},{"$f":"$Z$35","v":"6 Left"},{"$f":"$AC$35","v":0},{"$f":"$AI$35","v":"6 Left"}]
[{"$nulls":37},{"$f":"$B$35","v":0},{"$f":"$H$35","v":"6 Left"},{"$f":"$K$38","v":0},{"$f":"$Q$38","v":"9 Left"},{"$f":"$T$38","v":0},{"$f":"$Z$38","v":"9 Left"},{"$f":"$AC$38","v":0},{"$f":"$AI$38","v":"9 Left"}]
[{"$nulls":37},{"$f":"$B$38","v":0},{"$f":"$H$38","v":"9 Left"},{"$f":"$K$41","v":0},{"$f":"$Q$41","v":"10 Left"},{"$f":"$T$41","v":0},{"$f":"$Z$41","v":"10 Left"},{"$f":"$AC$41","v":0},{"$f":"$AI$41","v":"10 Left"}]
[{"$nulls":37},{"$f":"$B$41","v":0},{"$f":"$H$41","v":"10 Left"},{"$f":"$K$44","v":0},{"$f":"$Q$44","v":"11 Left"},{"$f":"$T$44","v":0},{"$f":"$Z$44","v":"11 Left"},{"$f":"$AC$44","v":0},{"$f":"$AI$44","v":"11 Left"}]
[{"$nulls":37},{"$f":"$B$44","v":0},{"$f":"$H$44","v":"11 Left"},{"$f":"$K$47","v":0},{"$f":"$Q$47","v":"12 Left"},{"$f":"$T$47","v":0},{"$f":"$Z$47","v":"12 Left"},{"$f":"$AC$47","v":0},{"$f":"$AI$47","v":"12 Left"}]
[{"$nulls":37},{"$f":"$B$47","v":0},{"$f":"$H$47","v":"12 Left"},{"$f":"$K$50","v":0},{"$f":"$Q$50","v":"13 Left"},{"$f":"$T$50","v":0},{"$f":"$Z$50","v":"13 Left"},{"$f":"$AC$50","v":0},{"$f":"$AI$50","v":"13 Left"}]
[{"$nulls":37},{"$f":"$B$50","v":0},{"$f":"$H$50","v":"13 Left"},{"$f":"$K$51","v":0},{"$f":"$Q$51","v":"0 Left"},{"$f":"$T$51","v":0},{"$f":"$Z$51","v":"0 Left"},{"$f":"$AC$51","v":0},{"$f":"$AI$51","v":"0 Left"}]
[{"$nulls":37},{"$f":"$B$51","v":0},{"$f":"$H$51","v":"0 Left"},{"$f":"$K$52","v":0},{"$f":"$Q$52","v":"0 Left"},{"$f":"$T$52","v":0},{"$f":"$Z$52","v":"0 Left"},{"$f":"$AC$52","v":0},{"$f":"$AI$52","v":"0 Left"}]
[{"$nulls":37},{"$f":"$B$52","v":0},{"$f":"$H$52","v":"0 Left"},{"$f":"$K$53","v":0},{"$f":"$Q$53","v":"0 Left"},{"$f":"$T$53","v":0},{"$f":"$Z$53","v":"0 Left"},{"$f":"$AC$53","v":0},{"$f":"$AI$53","v":"0 Left"}]
[{"$nulls":37},{"$f":"$B$53","v":0},{"$f":"$H$53","v":"0 Left"},{"$f":"$K$54","v":0},{"$f":"$Q$54","v":"0 Left"},{"$f":"$T$54","v":0},{"$f":"$Z$54","v":"0 Left"},{"$f":"$AC$54","v":0},{"$f":"$AI$54","v":"0 Left"}]
[{"$nulls":37},{"$f":"$B$54","v":0},{"$f":"$H$54","v":"0 Left"},{"$f":"$K$55","v":0},{"$f":"$Q$55","v":"0 Left"},{"$f":"$T$55","v":0},{"$f":"$Z$55","v":"0 Left"},{"$f":"$AC$55","v":0},{"$f":"$AI$55","v":"0 Left"}]
[{"$nulls":37},{"$f":"$B$55","v":0},{"$f":"$H$55","v":"0 Left"},{"$f":"$K$56","v":0},{"$f":"$Q$56","v":"0 Left"},{"$f":"$T$56","v":0},{"$f":"$Z$56","v":"0 Left"},{"$f":"$AC$56","v":0},{"$f":"$AI$56","v":"0 Left"}]
[{"$nulls":37},{"$f":"$B$56","v":0},{"$f":"$H$56","v":"0 Left"},{"$f":"$K$57","v":0},{"$f":"$Q$57","v":"0 Left"},{"$f":"$T$57","v":0},{"$f":"$Z$57","v":"0 Left"},{"$f":"$AC$57","v":0},{"$f":"$AI$57","v":"0 Left"}]
[{"$nulls":37},{"$f":"$B$57","v":0},{"$f":"$H$57","v":"0 Left"},{"$f":"$K$58","v":0},{"$f":"$Q$58","v":"0 Left"},{"$f":"$T$58","v":0},{"$f":"$Z$58","v":"0 Left"},{"$f":"$AC$58","v":0},{"$f":"$AI$58","v":"0 Left"}]
[{"$nulls":37},{"$f":"$B$58","v":0},{"$f":"$H$58","v":"0 Left"},{"$f":"$K$59","v":0},{"$f":"$Q$59","v":"0 Left"},{"$f":"$T$59","v":0},{"$f":"$Z$59","v":"0 Left"},{"$f":"$AC$59","v":0},{"$f":"$AI$59","v":"0 Left"}]
[{"$nulls":37},{"$f":"$B$59","v":0},{"$f":"$H$59","v":"0 Left"},{"$f":"$N$20","v":0},{"$f":"$R$20","v":"1 Right"},{"$f":"$W$20","v":0},{"$f":"$AA$20","v":"1 Right"},{"$f":"$AF$20","v":0},{"$f":"$AJ$20","v":"1 Right"}]
[{"$nulls":37},{"$f":"$E$23","v":0},{"$f":"$I$23","v":"2 Right"},{"$f":"$N$23","v":0},{"$f":"$R$23","v":"2 Right"},{"$f":"$W$23","v":0},{"$f":"$AA$23","v":"2 Right"},{"$f":"$AF$23","v":0},{"$f":"$AJ$23","v":"2 Right"}]
[{"$nulls":37},{"$f":"$E$26","v":0},{"$f":"$I$26","v":"3 Right"},{"$f":"$N$26","v":0},{"$f":"$R$26","v":"3 Right"},{"$f":"$W$26","v":0},{"$f":"$AA$26","v":"3 Right"},{"$f":"$AF$26","v":0},{"$f":"$AJ$26","v":"3 Right"}]
[{"$nulls":37},{"$f":"$E$29","v":0},{"$f":"$I$29","v":"4 Right"},{"$f":"$N$29","v":0},{"$f":"$R$29","v":"4 Right"},{"$f":"$W$29","v":0},{"$f":"$AA$29","v":"4 Right"},{"$f":"$AF$29","v":0},{"$f":"$AJ$29","v":"4 Right"}]
[{"$nulls":37},{"$f":"$E$32","v":0},{"$f":"$I$32","v":"5 Right"},{"$f":"$N$32","v":0},{"$f":"$R$32","v":"5 Right"},{"$f":"$W$32","v":0},{"$f":"$AA$32","v":"5 Right"},{"$f":"$AF$32","v":0},{"$f":"$AJ$32","v":"5 Right"}]
[{"$nulls":37},{"$f":"$E$35","v":0},{"$f":"$I$35","v":"6 Right"},{"$f":"$N$35","v":0},{"$f":"$R$35","v":"6 Right"},{"$f":"$W$35","v":0},{"$f":"$AA$35","v":"6 Right"},{"$f":"$AF$35","v":0},{"$f":"$AJ$35","v":"6 Right"}]
[{"$nulls":37},{"$f":"$E$38","v":0},{"$f":"$I$38","v":"9 Right"},{"$f":"$N$38","v":0},{"$f":"$R$38","v":"9 Right"},{"$f":"$W$38","v":0},{"$f":"$AA$38","v":"9 Right"},{"$f":"$AF$38","v":0},{"$f":"$AJ$38","v":"9 Right"}]
[{"$nulls":37},{"$f":"$E$41","v":0},{"$f":"$I$41","v":"10 Right"},{"$f":"$N$41","v":0},{"$f":"$R$41","v":"10 Right"},{"$f":"$W$41","v":0},{"$f":"$AA$41","v":"10 Right"},{"$f":"$AF$41","v":0},{"$f":"$AJ$41","v":"10 Right"}]
[{"$nulls":37},{"$f":"$E$44","v":0},{"$f":"$I$44","v":"11 Right"},{"$f":"$N$44","v":0},{"$f":"$R$44","v":"11 Right"},{"$f":"$W$44","v":0},{"$f":"$AA$44","v":"11 Right"},{"$f":"$AF$44","v":0},{"$f":"$AJ$44","v":"11 Right"}]
[{"$nulls":37},{"$f":"$E$47","v":0},{"$f":"$I$47","v":"12 Right"},{"$f":"$N$47","v":0},{"$f":"$R$47","v":"12 Right"},{"$f":"$W$47","v":0},{"$f":"$AA$47","v":"12 Right"},{"$f":"$AF$47","v":0},{"$f":"$AJ$47","v":"12 Right"}]
[{"$nulls":37},{"$f":"$E$50","v":0},{"$f":"$I$50","v":"13 Right"},{"$f":"$N$50","v":0},{"$f":"$R$50","v":"13 Right"},{"$f":"$W$50","v":0},{"$f":"$AA$50","v":"13 Right"},{"$f":"$AF$50","v":0},{"$f":"$AJ$50","v":"13 Right"}]
[{"$nulls":37},{"$f":"$E$51","v":0},{"$f":"$I$51","v":"0 Right"},{"$f":"$N$51","v":0},{"$f":"$R$51","v":"0 Right"},{"$f":"$W$51","v":0},{"$f":"$AA$51","v":"0 Right"},{"$f":"$AF$51","v":0},{"$f":"$AJ$51","v":"0 Right"}]
[{"$nulls":37},{"$f":"$E$52","v":0},{"$f":"$I$52","v":"0 Right"},{"$f":"$N$52","v":0},{"$f":"$R$52","v":"0 Right"},{"$f":"$W$52","v":0},{"$f":"$AA$52","v":"0 Right"},{"$f":"$AF$52","v":0},{"$f":"$AJ$52","v":"0 Right"}]
[{"$nulls":37},{"$f":"$E$53","v":0},{"$f":"$I$53","v":"0 Right"},{"$f":"$N$53","v":0},{"$f":"$R$53","v":"0 Right"},{"$f":"$W$53","v":0},{"$f":"$AA$53","v":"0 Right"},{"$f":"$AF$53","v":0},{"$f":"$AJ$53","v":"0 Right"}]
[{"$nulls":37},{"$f":"$E$54","v":0},{"$f":"$I$54","v":"0 Right"},{"$f":"$N$54","v":0},{"$f":"$R$54","v":"0 Right"},{"$f":"$W$54","v":0},{"$f":"$AA$54","v":"0 Right"},{"$f":"$AF$54","v":0},{"$f":"$AJ$54","v":"0 Right"}]
[{"$nulls":37},{"$f":"$E$55","v":0},{"$f":"$I$55","v":"0 Right"},{"$f":"$N$55","v":0},{"$f":"$R$55","v":"0 Right"},{"$f":"$W$55","v":0},{"$f":"$AA$55","v":"0 Right"},{"$f":"$AF$55","v":0},{"$f":"$AJ$55","v":"0 Right"}]
[{"$nulls":37},{"$f":"$E$56","v":0},{"$f":"$I$56","v":"0 Right"},{"$f":"$N$56","v":0},{"$f":"$R$56","v":"0 Right"},{"$f":"$W$56","v":0},{"$f":"$AA$56","v":"0 Right"},{"$f":"$AF$56","v":0},{"$f":"$AJ$56","v":"0 Right"}]
[{"$nulls":37},{"$f":"$E$57","v":0},{"$f":"$I$57","v":"0 Right"},{"$f":"$N$57","v":0},{"$f":"$R$57","v":"0 Right"},{"$f":"$W$57","v":0},{"$f":"$AA$57","v":"0 Right"},{"$f":"$AF$57","v":0},{"$f":"$AJ$57","v":"0 Right"}]
[{"$nulls":37},{"$f":"$E$58","v":0},{"$f":"$I$58","v":"0 Right"},{"$f":"$N$58","v":0},{"$f":"$R$58","v":"0 Right"},{"$f":"$W$58","v":0},{"$f":"$AA$58","v":"0 Right"},{"$f":"$AF$58","v":0},{"$f":"$AJ$58","v":"0 Right"}]
[{"$nulls":37},{"$f":"$E$59","v":0},{"$f":"$I$59","v":"0 Right"},{"$f":"$N$59","v":0},{"$f":"$R$59","v":"0 Right"},{"$f":"$W$59","v":0},{"$f":"$AA$59","v":"0 Right"},{"$f":"$AF$59","v":0},{"$f":"$AJ$59","v":"0 Right"}]

{"sheet":"46","index":21,"n_rows":101,"n_cols":45,"rows_kept":101,"hidden":true,"merged":[[0,1,0,22],[1,1,1,2],[1,3,1,4],[1,5,1,6],[1,7,1,8],[1,9,1,10],[1,11,1,12],[1,13,1,14],[1,15,1,16],[1,17,1,18],[1,19,1,20],[1,21,1,22],[2,0,4,0],[5,0,7,0],[8,0,10,0],[11,0,13,0],[14,1,14,22],[15,1,15,6],[15,10,15,15],[15,19,15,24],[15,28,15,33],[16,37,16,38],[16,39,16,40],[16,41,16,42],[16,43,16,44]]}
[null,"YOU MAY CHANGE THESE RINK NUMBERS IF YOU WISH"]
["Round",1,null,2,2,3,3,4,4,5,5,6,6,8,1,9,2,10,3,11,4,12,5]
[1,1,2,3,4,5,6,7,8,9,10,11,12,25,26,27,28,29,30,31,32,33,34]
[null,13,14,15,16,17,18,19,20,21,22,23,24,35,36,37,38,39,40,41,42,43,44]
[{"$nulls":13},45,46]
[2,6,9,1,10,2,11,3,12,4,8,5,7,27,29,25,32,26,33,28,34,30,35]
[null,16,19,23,20,24,21,13,22,14,18,15,17,38,40,36,43,37,44,39,45,41,46]
[{"$nulls":13},31,42]
[3,3,4,2,5,12,8,1,9,7,11,6,10,30,32,26,35,28,27,25,33,31,29]
[null,23,24,22,13,20,16,21,17,15,19,14,18,37,39,44,42,46,45,43,38,40,36]
[{"$nulls":13},34,41]
[4,12,7,8,11,1,9,6,10,2,5,3,4,28,25,31,33,32,34,26,35,27,30]
[null,18,13,14,17,19,15,24,16,20,23,21,22,43,40,46,37,36,38,41,39,42,45]
[{"$nulls":13},29,44]
[null,"46 on 2 greens"]
[null,1,{"$nulls":8},2,{"$nulls":8},3,{"$nulls":8},4]
[" ","no","Left","rink","no","Right","rink","L","R",null,"no","Left","rink","no","Right","rink","L","R",null,"no","Left","rink","no","Right","rink","L","R",null,"no","Left","rink","no","Right","rink","L","R",null,1,null,2,null,3,null,4]
[null,1,"Left",{"$f":"$B$2","v":1},2,"Right",{"$f":"$B$2","v":1},{"$f":"(D18&\" \"&C18)","v":"1 Left"},{"$f":"(G18&\" \"&F18)","v":"1 Right"},null,6,"Left",{"$f":"$B$2","v":1},9,"Right",{"$f":"$B$2","v":1},{"$f":"(M18&\" \"&L18)","v":"1 Left"},{"$f":"(P18&\" \"&O18)","v":"1 Right"},null,3,"Left",{"$f":"$B$2","v":1},4,"Right",{"$f":"$B$2","v":1},{"$f":"(V18&\" \"&U18)","v":"1 Left"},{"$f":"(Y18&\" \"&X18)","v":"1 Right"},null,12,"Left",{"$f":"$B$2","v":1},7,"Right",{"$f":"$B$2","v":1},{"$f":"(AE18&\" \"&AD18)","v":"1 Left"},{"$f":"(AH18&\" \"&AG18)","v":"1 Right"}]
[null,13,"Left",{"$f":"$B$2","v":1},14,"Right",{"$f":"$B$2","v":1},{"$f":"(D19&\" \"&C19)","v":"1 Left"},{"$f":"(G19&\" \"&F19)","v":"1 Right"},null,16,"Left",{"$f":"$B$2","v":1},19,"Right",{"$f":"$B$2","v":1},{"$f":"(M19&\" \"&L19)","v":"1 Left"},{"$f":"(P19&\" \"&O19)","v":"1 Right"},null,23,"Left",{"$f":"$B$2","v":1},24,"Right",{"$f":"$B$2","v":1},{"$f":"(V19&\" \"&U19)","v":"1 Left"},{"$f":"(Y19&\" \"&X19)","v":"1 Right"},null,18,"Left",{"$f":"$B$2","v":1},13,"Right",{"$f":"$B$2","v":1},{"$f":"(AE19&\" \"&AD19)","v":"1 Left"},{"$f":"(AH19&\" \"&AG19)","v":"1 Right"}]
[null,null,"Left",{"$f":"$B$2","v":1},null,"Right",{"$f":"$B$2","v":1},"1 Left","1 Right",null,null,"Left",{"$f":"$B$2","v":1},null,"Right",{"$f":"$B$2","v":1},"1 Left","1 Right",null,null,"Left",{"$f":"$B$2","v":1},null,"Right",{"$f":"$B$2","v":1},"1 Left","1 Right",null,null,"Left",{"$f":"$B$2","v":1},null,"Right",{"$f":"$B$2","v":1},"1 Left","1 Right"]
[null,3,"Left",{"$f":"$D$2","v":2},4,"Right",{"$f":"$D$2","v":2},"2 Left","2 Right",null,1,"Left",{"$f":"$D$2","v":2},10,"Right",{"$f":"$D$2","v":2},"2 Left","2 Right",null,2,"Left",{"$f":"$D$2","v":2},5,"Right",{"$f":"$D$2","v":2},"2 Left","2 Right",null,8,"Left",{"$f":"$D$2","v":2},11,"Right",{"$f":"$D$2","v":2},"2 Left","2 Right"]
[null,15,"Left",{"$f":"$D$2","v":2},16,"Right",{"$f":"$D$2","v":2},"2 Left","2 Right",null,23,"Left",{"$f":"$D$2","v":2},20,"Right",{"$f":"$D$2","v":2},"2 Left","2 Right",null,22,"Left",{"$f":"$D$2","v":2},13,"Right",{"$f":"$D$2","v":2},"2 Left","2 Right",null,14,"Left",{"$f":"$D$2","v":2},17,"Right",{"$f":"$D$2","v":2},"2 Left","2 Right"]
[null,null,"Left",{"$f":"$D$2","v":2},null,"Right",{"$f":"$D$2","v":2},"2 Left","2 Right",null,null,"Left",{"$f":"$D$2","v":2},null,"Right",{"$f":"$D$2","v":2},"2 Left","2 Right",null,null,"Left",{"$f":"$D$2","v":2},null,"Right",{"$f":"$D$2","v":2},"2 Left","2 Right",null,null,"Left",{"$f":"$D$2","v":2},null,"Right",{"$f":"$D$2","v":2},"2 Left","2 Right"]
[null,5,"Left",{"$f":"$F$2","v":3},6,"Right",{"$f":"$F$2","v":3},"3 Left","3 Right",null,2,"Left",{"$f":"$F$2","v":3},11,"Right",{"$f":"$F$2","v":3},"3 Left","3 Right",null,12,"Left",{"$f":"$F$2","v":3},8,"Right",{"$f":"$F$2","v":3},"3 Left","3 Right",null,1,"Left",{"$f":"$F$2","v":3},9,"Right",{"$f":"$F$2","v":3},"3 Left","3 Right"]
[null,17,"Left",{"$f":"$F$2","v":3},18,"Right",{"$f":"$F$2","v":3},"3 Left","3 Right",null,24,"Left",{"$f":"$F$2","v":3},21,"Right",{"$f":"$F$2","v":3},"3 Left","3 Right",null,20,"Left",{"$f":"$F$2","v":3},16,"Right",{"$f":"$F$2","v":3},"3 Left","3 Right",null,19,"Left",{"$f":"$F$2","v":3},15,"Right",{"$f":"$F$2","v":3},"3 Left","3 Right"]
[null,null,"Left",{"$f":"$F$2","v":3},null,"Right",{"$f":"$F$2","v":3},"3 Left","3 Right",null,null,"Left",{"$f":"$F$2","v":3},null,"Right",{"$f":"$F$2","v":3},"3 Left","3 Right",null,null,"Left",{"$f":"$F$2","v":3},null,"Right",{"$f":"$F$2","v":3},"3 Left","3 Right",null,null,"Left",{"$f":"$F$2","v":3},null,"Right",{"$f":"$F$2","v":3},"3 Left","3 Right"]
[null,7,"Left",{"$f":"$H$2","v":4},8,"Right",{"$f":"$H$2","v":4},"4 Left","4 Right",null,3,"Left",{"$f":"$H$2","v":4},12,"Right",{"$f":"$H$2","v":4},"4 Left","4 Right",null,1,"Left",{"$f":"$H$2","v":4},9,"Right",{"$f":"$H$2","v":4},"4 Left","4 Right",null,6,"Left",{"$f":"$H$2","v":4},10,"Right",{"$f":"$H$2","v":4},"4 Left","4 Right"]
[null,19,"Left",{"$f":"$H$2","v":4},20,"Right",{"$f":"$H$2","v":4},"4 Left","4 Right",null,13,"Left",{"$f":"$H$2","v":4},22,"Right",{"$f":"$H$2","v":4},"4 Left","4 Right",null,21,"Left",{"$f":"$H$2","v":4},17,"Right",{"$f":"$H$2","v":4},"4 Left","4 Right",null,24,"Left",{"$f":"$H$2","v":4},16,"Right",{"$f":"$H$2","v":4},"4 Left","4 Right"]
[null,null,"Left",4,null,"Right",4,"4 Left","4 Right",null,null,"Left",4,null,"Right",4,"4 Left","4 Right",null,null,"Left",4,null,"Right",4,"4 Left","4 Right",null,null,"Left",4,null,"Right",4,"4 Left","4 Right"]
[null,9,"Left",{"$f":"$J$2","v":5},10,"Right",{"$f":"$J$2","v":5},"5 Left","5 Right",null,4,"Left",{"$f":"$J$2","v":5},8,"Right",{"$f":"$J$2","v":5},"5 Left","5 Right",null,7,"Left",{"$f":"$J$2","v":5},11,"Right",{"$f":"$J$2","v":5},"5 Left","5 Right",null,2,"Left",{"$f":"$J$2","v":5},5,"Right",{"$f":"$J$2","v":5},"5 Left","5 Right"]
[null,21,"Left",{"$f":"$J$2","v":5},22,"Right",{"$f":"$J$2","v":5},"5 Left","5 Right",null,14,"Left",{"$f":"$J$2","v":5},18,"Right",{"$f":"$J$2","v":5},"5 Left","5 Right",null,15,"Left",{"$f":"$J$2","v":5},19,"Right",{"$f":"$J$2","v":5},"5 Left","5 Right",null,20,"Left",{"$f":"$J$2","v":5},23,"Right",{"$f":"$J$2","v":5},"5 Left","5 Right"]
[null,null,"Left",5,null,"Right",5,"5 Left","5 Right",null,null,"Left",5,null,"Right",5,"5 Left","5 Right",null,null,"Left",5,null,"Right",5,"5 Left","5 Right",null,null,"Left",5,null,"Right",5,"5 Left","5 Right"]
[null,11,"Left",{"$f":"$L$2","v":6},12,"Right",{"$f":"$L$2","v":6},"6 Left","6 Right",null,5,"Left",{"$f":"$L$2","v":6},7,"Right",{"$f":"$L$2","v":6},"6 Left","6 Right",null,6,"Left",{"$f":"$L$2","v":6},10,"Right",{"$f":"$L$2","v":6},"6 Left","6 Right",null,3,"Left",{"$f":"$L$2","v":6},4,"Right",{"$f":"$L$2","v":6},"6 Left","6 Right"]
[null,23,"Left",{"$f":"$L$2","v":6},24,"Right",{"$f":"$L$2","v":6},"6 Left","6 Right",null,15,"Left",{"$f":"$L$2","v":6},17,"Right",{"$f":"$L$2","v":6},"6 Left","6 Right",null,14,"Left",{"$f":"$L$2","v":6},18,"Right",{"$f":"$L$2","v":6},"6 Left","6 Right",null,21,"Left",{"$f":"$L$2","v":6},22,"Right",{"$f":"$L$2","v":6},"6 Left","6 Right"]
[null,null,"Left",6,null,"Right",6,"6 Left","6 Right",null,null,"Left",6,null,"Right",6,"6 Left","6 Right",null,null,"Left",6,null,"Right",6,"6 Left","6 Right",null,null,"Left",6,null,"Right",6,"6 Left","6 Right"]
[null,25,"Left",{"$f":"$N$2","v":8},26,"Right",{"$f":"$N$2","v":8},"8 Left","8 Right",null,27,"Left",{"$f":"$N$2","v":8},29,"Right",{"$f":"$N$2","v":8},"8 Left","8 Right",null,30,"Left",{"$f":"$N$2","v":8},32,"Right",{"$f":"$N$2","v":8},"8 Left","8 Right",null,28,"Left",{"$f":"$N$2","v":8},25,"Right",{"$f":"$N$2","v":8},"8 Left","8 Right"]
[null,35,"Left",{"$f":"$N$2","v":8},36,"Right",{"$f":"$N$2","v":8},"8 Left","8 Right",null,38,"Left",{"$f":"$N$2","v":8},40,"Right",{"$f":"$N$2","v":8},"8 Left","8 Right",null,37,"Left",{"$f":"$N$2","v":8},39,"Right",{"$f":"$N$2","v":8},"8 Left","8 Right",null,43,"Left",{"$f":"$N$2","v":8},40,"Right",{"$f":"$N$2","v":8},"8 Left","8 Right"]
[null,45,"Left",8,46,"Right",8,"8 Left","8 Right",null,31,"Left",8,42,"Right",8,"8 Left","8 Right",null,34,"Left",8,41,"Right",8,"8 Left","8 Right",null,29,"Left",8,44,"Right",8,"8 Left","8 Right"]
[null,27,"Left",{"$f":"$P$2","v":9},28,"Right",{"$f":"$P$2","v":9},"9 Left","9 Right",null,25,"Left",{"$f":"$P$2","v":9},32,"Right",{"$f":"$P$2","v":9},"9 Left","9 Right",null,26,"Left",{"$f":"$P$2","v":9},35,"Right",{"$f":"$P$2","v":9},"9 Left","9 Right",null,31,"Left",{"$f":"$P$2","v":9},33,"Right",{"$f":"$P$2","v":9},"9 Left","9 Right"]
[null,37,"Left",{"$f":"$P$2","v":9},38,"Right",{"$f":"$P$2","v":9},"9 Left","9 Right",null,36,"Left",{"$f":"$P$2","v":9},43,"Right",{"$f":"$P$2","v":9},"9 Left","9 Right",null,44,"Left",{"$f":"$P$2","v":9},42,"Right",{"$f":"$P$2","v":9},"9 Left","9 Right",null,46,"Left",{"$f":"$P$2","v":9},37,"Right",{"$f":"$P$2","v":9},"9 Left","9 Right"]
[null,null,"Left",9,null,"Right",9,"9 Left","9 Right",null,null,"Left",9,null,"Right",9,"9 Left","9 Right",null,null,"Left",9,null,"Right",9,"9 Left","9 Right",null,null,"Left",9,null,"Right",9,"9 Left","9 Right"]
[null,29,"Left",{"$f":"$R$2","v":10},30,"Right",{"$f":"$R$2","v":10},"10 Left","10 Right",null,26,"Left",{"$f":"$R$2","v":10},33,"Right",{"$f":"$R$2","v":10},"10 Left","10 Right",null,28,"Left",{"$f":"$R$2","v":10},27,"Right",{"$f":"$R$2","v":10},"10 Left","10 Right",null,32,"Left",{"$f":"$R$2","v":10},34,"Right",{"$f":"$R$2","v":10},"10 Left","10 Right"]
[null,39,"Left",{"$f":"$R$2","v":10},40,"Right",{"$f":"$R$2","v":10},"10 Left","10 Right",null,37,"Left",{"$f":"$R$2","v":10},44,"Right",{"$f":"$R$2","v":10},"10 Left","10 Right",null,46,"Left",{"$f":"$R$2","v":10},45,"Right",{"$f":"$R$2","v":10},"10 Left","10 Right",null,36,"Left",{"$f":"$R$2","v":10},38,"Right",{"$f":"$R$2","v":10},"10 Left","10 Right"]
[null,null,"Left",10,null,"Right",10,"10 Left","10 Right",null,null,"Left",10,null,"Right",10,"10 Left","10 Right",null,null,"Left",10,null,"Right",10,"10 Left","10 Right",null,null,"Left",10,null,"Right",10,"10 Left","10 Right"]
[null,31,"Left",{"$f":"$T$2","v":11},32,"Right",{"$f":"$T$2","v":11},"11 Left","11 Right",null,28,"Left",{"$f":"$T$2","v":11},34,"Right",{"$f":"$T$2","v":11},"11 Left","11 Right",null,25,"Left",{"$f":"$T$2","v":11},33,"Right",{"$f":"$T$2","v":11},"11 Left","11 Right",null,26,"Left",{"$f":"$T$2","v":11},35,"Right",{"$f":"$T$2","v":11},"11 Left","11 Right"]
[null,41,"Left",{"$f":"$T$2","v":11},42,"Right",{"$f":"$T$2","v":11},"11 Left","11 Right",null,39,"Left",{"$f":"$T$2","v":11},45,"Right",{"$f":"$T$2","v":11},"11 Left","11 Right",null,43,"Left",{"$f":"$T$2","v":11},38,"Right",{"$f":"$T$2","v":11},"11 Left","11 Right",null,41,"Left",{"$f":"$T$2","v":11},39,"Right",{"$f":"$T$2","v":11},"11 Left","11 Right"]
[null,null,"Left",11,null,"Right",11,"11 Left","11 Right",null,null,"Left",11,null,"Right",11,"11 Left","11 Right",null,null,"Left",11,null,"Right",11,"11 Left","11 Right",null,null,"Left",11,null,"Right",11,"11 Left","11 Right"]
[null,33,"Left",{"$f":"$V$2","v":12},34,"Right",{"$f":"$V$2","v":12},"12 Left","12 Right",null,30,"Left",{"$f":"$V$2","v":12},35,"Right",{"$f":"$V$2","v":12},"12 Left","12 Right",null,31,"Left",{"$f":"$V$2","v":12},29,"Right",{"$f":"$V$2","v":12},"12 Left","12 Right",null,27,"Left",{"$f":"$V$2","v":12},30,"Right",{"$f":"$V$2","v":12},"12 Left","12 Right"]
[null,43,"Left",{"$f":"$V$2","v":12},44,"Right",{"$f":"$V$2","v":12},"12 Left","12 Right",null,41,"Left",{"$f":"$V$2","v":12},46,"Right",{"$f":"$V$2","v":12},"12 Left","12 Right",null,40,"Left",{"$f":"$V$2","v":12},36,"Right",{"$f":"$V$2","v":12},"12 Left","12 Right",null,42,"Left",{"$f":"$V$2","v":12},45,"Right",{"$f":"$V$2","v":12},"12 Left","12 Right"]
[null,null,"Left",12,null,"Right",12,"12 Left","12 Right",null,null,"Left",12,null,"Right",12,"12 Left","12 Right",null,null,"Left",12,null,"Right",12,"12 Left","12 Right",null,null,"Left",12,null,"Right",12,"12 Left","12 Right"]
[null,null,"Left",{"$f":"$X$2","v":0},null,"Right",{"$f":"$X$2","v":0},"0 Left","0 Right",null,null,"Left",{"$f":"$X$2","v":0},null,"Right",{"$f":"$X$2","v":0},"0 Left","0 Right",null,null,"Left",{"$f":"$X$2","v":0},null,"Right",{"$f":"$X$2","v":0},"0 Left","0 Right",null,null,"Left",{"$f":"$X$2","v":0},null,"Right",{"$f":"$X$2","v":0},"0 Left","0 Right"]
[null,null,"Left",{"$f":"$X$2","v":0},null,"Right",{"$f":"$X$2","v":0},"0 Left","0 Right",null,null,"Left",{"$f":"$X$2","v":0},null,"Right",{"$f":"$X$2","v":0},"0 Left","0 Right",null,null,"Left",{"$f":"$X$2","v":0},null,"Right",{"$f":"$X$2","v":0},"0 Left","0 Right",null,null,"Left",{"$f":"$X$2","v":0},null,"Right",{"$f":"$X$2","v":0},"0 Left","0 Right"]
[null,null,"Left",0,null,"Right",0,"0 Left","0 Right",null,null,"Left",0,null,"Right",0,"0 Left","0 Right",null,null,"Left",0,null,"Right",0,"0 Left","0 Right",null,null,"Left",0,null,"Right",0,"0 Left","0 Right"]
[null,null,"Left",{"$f":"$Z$2","v":0},null,"Right",{"$f":"$Z$2","v":0},"0 Left","0 Right",null,null,"Left",{"$f":"$Z$2","v":0},null,"Right",{"$f":"$Z$2","v":0},"0 Left","0 Right",null,null,"Left",{"$f":"$Z$2","v":0},null,"Right",{"$f":"$Z$2","v":0},"0 Left","0 Right",null,null,"Left",{"$f":"$Z$2","v":0},null,"Right",{"$f":"$Z$2","v":0},"0 Left","0 Right"]
[null,null,"Left",{"$f":"$Z$2","v":0},null,"Right",{"$f":"$Z$2","v":0},"0 Left","0 Right",null,null,"Left",{"$f":"$Z$2","v":0},null,"Right",{"$f":"$Z$2","v":0},"0 Left","0 Right",null,null,"Left",{"$f":"$Z$2","v":0},null,"Right",{"$f":"$Z$2","v":0},"0 Left","0 Right",null,null,"Left",{"$f":"$Z$2","v":0},null,"Right",{"$f":"$Z$2","v":0},"0 Left","0 Right"]
[null,null,"Left",0,null,"Right",0,"0 Left","0 Right",null,null,"Left",0,null,"Right",0,"0 Left","0 Right",null,null,"Left",0,null,"Right",0,"0 Left","0 Right",null,null,"Left",0,null,"Right",0,"0 Left","0 Right"]
[null,null,"Left",{"$f":"$AB$2","v":0},null,"Right",{"$f":"$AB$2","v":0},"0 Left","0 Right",null,null,"Left",{"$f":"$AB$2","v":0},null,"Right",{"$f":"$AB$2","v":0},"0 Left","0 Right",null,null,"Left",{"$f":"$AB$2","v":0},null,"Right",{"$f":"$AB$2","v":0},"0 Left","0 Right",null,null,"Left",{"$f":"$AB$2","v":0},null,"Right",{"$f":"$AB$2","v":0},"0 Left","0 Right"]
[null,null,"Left",{"$f":"$AB$2","v":0},null,"Right",{"$f":"$AB$2","v":0},"0 Left","0 Right",null,null,"Left",{"$f":"$AB$2","v":0},null,"Right",{"$f":"$AB$2","v":0},"0 Left","0 Right",null,null,"Left",{"$f":"$AB$2","v":0},null,"Right",{"$f":"$AB$2","v":0},"0 Left","0 Right",null,null,"Left",{"$f":"$AB$2","v":0},null,"Right",{"$f":"$AB$2","v":0},"0 Left","0 Right"]
[null,null,"Left",0,null,"Right",0,"0 Left","0 Right",null,null,"Left",0,null,"Right",0,"0 Left","0 Right",null,null,"Left",0,null,"Right",0,"0 Left","0 Right",null,null,"Left",0,null,"Right",0,"0 Left","0 Right"]
[]
[]
[]
[]
[{"$nulls":37},{"$f":"$B$20","v":0},{"$f":"$H$20","v":"1 Left"},{"$f":"$K$20","v":0},{"$f":"$Q$20","v":"1 Left"},{"$f":"$T$20","v":0},{"$f":"$Z$20","v":"1 Left"},{"$f":"$AC$20","v":0},{"$f":"$AI$20","v":"1 Left"}]
[{"$nulls":37},{"$f":"$E$20","v":0},{"$f":"$I$20","v":"1 Right"},{"$f":"$K$23","v":0},{"$f":"$Q$23","v":"2 Left"},{"$f":"$T$23","v":0},{"$f":"$Z$23","v":"2 Left"},{"$f":"$AC$23","v":0},{"$f":"$AI$23","v":"2 Left"}]
[{"$nulls":37},{"$f":"$B$23","v":0},{"$f":"$H$23","v":"2 Left"},{"$f":"$K$26","v":0},{"$f":"$Q$26","v":"3 Left"},{"$f":"$T$26","v":0},{"$f":"$Z$26","v":"3 Left"},{"$f":"$AC$26","v":0},{"$f":"$AI$26","v":"3 Left"}]
[{"$nulls":37},{"$f":"$B$26","v":0},{"$f":"$H$26","v":"3 Left"},{"$f":"$K$29","v":0},{"$f":"$Q$29","v":"4 Left"},{"$f":"$T$29","v":0},{"$f":"$Z$29","v":"4 Left"},{"$f":"$AC$29","v":0},{"$f":"$AI$29","v":"4 Left"}]
[{"$nulls":37},{"$f":"$B$29","v":0},{"$f":"$H$29","v":"4 Left"},{"$f":"$K$32","v":0},{"$f":"$Q$32","v":"5 Left"},{"$f":"$T$32","v":0},{"$f":"$Z$32","v":"5 Left"},{"$f":"$AC$32","v":0},{"$f":"$AI$32","v":"5 Left"}]
[{"$nulls":37},{"$f":"$B$32","v":0},{"$f":"$H$32","v":"5 Left"},{"$f":"$K$35","v":0},{"$f":"$Q$35","v":"6 Left"},{"$f":"$T$35","v":0},{"$f":"$Z$35","v":"6 Left"},{"$f":"$AC$35","v":0},{"$f":"$AI$35","v":"6 Left"}]
[{"$nulls":37},{"$f":"$B$35","v":0},{"$f":"$H$35","v":"6 Left"},{"$f":"$K$41","v":0},{"$f":"$Q$41","v":"9 Left"},{"$f":"$T$41","v":0},{"$f":"$Z$41","v":"9 Left"},{"$f":"$AC$41","v":0},{"$f":"$AI$41","v":"9 Left"}]
[{"$nulls":37},{"$f":"$B$41","v":0},{"$f":"$H$41","v":"9 Left"},{"$f":"$K$44","v":0},{"$f":"$Q$44","v":"10 Left"},{"$f":"$T$44","v":0},{"$f":"$Z$44","v":"10 Left"},{"$f":"$AC$44","v":0},{"$f":"$AI$44","v":"10 Left"}]
[{"$nulls":37},{"$f":"$B$44","v":0},{"$f":"$H$44","v":"10 Left"},{"$f":"$K$47","v":0},{"$f":"$Q$47","v":"11 Left"},{"$f":"$T$47","v":0},{"$f":"$Z$47","v":"11 Left"},{"$f":"$AC$47","v":0},{"$f":"$AI$47","v":"11 Left"}]
[{"$nulls":37},{"$f":"$B$47","v":0},{"$f":"$H$47","v":"11 Left"},{"$f":"$K$50","v":0},{"$f":"$Q$50","v":"12 Left"},{"$f":"$T$50","v":0},{"$f":"$Z$50","v":"12 Left"},{"$f":"$AC$50","v":0},{"$f":"$AI$50","v":"12 Left"}]
[{"$nulls":37},{"$f":"$B$50","v":0},{"$f":"$H$50","v":"12 Left"},{"$f":"$K$51","v":0},{"$f":"$Q$51","v":"0 Left"},{"$f":"$T$51","v":0},{"$f":"$Z$51","v":"0 Left"},{"$f":"$AC$51","v":0},{"$f":"$AI$51","v":"0 Left"}]
[{"$nulls":37},{"$f":"$B$51","v":0},{"$f":"$H$51","v":"0 Left"},{"$f":"$K$52","v":0},{"$f":"$Q$52","v":"0 Left"},{"$f":"$T$52","v":0},{"$f":"$Z$52","v":"0 Left"},{"$f":"$AC$52","v":0},{"$f":"$AI$52","v":"0 Left"}]
[{"$nulls":37},{"$f":"$B$52","v":0},{"$f":"$H$52","v":"0 Left"},{"$f":"$K$53","v":0},{"$f":"$Q$53","v":"0 Left"},{"$f":"$T$53","v":0},{"$f":"$Z$53","v":"0 Left"},{"$f":"$AC$53","v":0},{"$f":"$AI$53","v":"0 Left"}]
[{"$nulls":37},{"$f":"$B$53","v":0},{"$f":"$H$53","v":"0 Left"},{"$f":"$K$54","v":0},{"$f":"$Q$54","v":"0 Left"},{"$f":"$T$54","v":0},{"$f":"$Z$54","v":"0 Left"},{"$f":"$AC$54","v":0},{"$f":"$AI$54","v":"0 Left"}]
[{"$nulls":37},{"$f":"$B$54","v":0},{"$f":"$H$54","v":"0 Left"},{"$f":"$K$55","v":0},{"$f":"$Q$55","v":"0 Left"},{"$f":"$T$55","v":0},{"$f":"$Z$55","v":"0 Left"},{"$f":"$AC$55","v":0},{"$f":"$AI$55","v":"0 Left"}]
[{"$nulls":37},{"$f":"$B$55","v":0},{"$f":"$H$55","v":"0 Left"},{"$f":"$K$56","v":0},{"$f":"$Q$56","v":"0 Left"},{"$f":"$T$56","v":0},{"$f":"$Z$56","v":"0 Left"},{"$f":"$AC$56","v":0},{"$f":"$AI$56","v":"0 Left"}]
[{"$nulls":37},{"$f":"$B$56","v":0},{"$f":"$H$56","v":"0 Left"},{"$f":"$K$57","v":0},{"$f":"$Q$57","v":"0 Left"},{"$f":"$T$57","v":0},{"$f":"$Z$57","v":"0 Left"},{"$f":"$AC$57","v":0},{"$f":"$AI$57","v":"0 Left"}]
[{"$nulls":37},{"$f":"$B$57","v":0},{"$f":"$H$57","v":"0 Left"},{"$f":"$K$58","v":0},{"$f":"$Q$58","v":"0 Left"},{"$f":"$T$58","v":0},{"$f":"$Z$58","v":"0 Left"},{"$f":"$AC$58","v":0},{"$f":"$AI$58","v":"0 Left"}]
[{"$nulls":37},{"$f":"$B$58","v":0},{"$f":"$H$58","v":"0 Left"},{"$f":"$K$59","v":0},{"$f":"$Q$59","v":"0 Left"},{"$f":"$T$59","v":0},{"$f":"$Z$59","v":"0 Left"},{"$f":"$AC$59","v":0},{"$f":"$AI$59","v":"0 Left"}]
[{"$nulls":37},{"$f":"$B$59","v":0},{"$f":"$H$59","v":"0 Left"},{"$f":"$N$20","v":0},{"$f":"$R$20","v":"1 Right"},{"$f":"$W$20","v":0},{"$f":"$AA$20","v":"1 Right"},{"$f":"$AF$20","v":0},{"$f":"$AJ$20","v":"1 Right"}]
[{"$nulls":37},{"$f":"$E$23","v":0},{"$f":"$I$23","v":"2 Right"},{"$f":"$N$23","v":0},{"$f":"$R$23","v":"2 Right"},{"$f":"$W$23","v":0},{"$f":"$AA$23","v":"2 Right"},{"$f":"$AF$23","v":0},{"$f":"$AJ$23","v":"2 Right"}]
[{"$nulls":37},{"$f":"$E$26","v":0},{"$f":"$I$26","v":"3 Right"},{"$f":"$N$26","v":0},{"$f":"$R$26","v":"3 Right"},{"$f":"$W$26","v":0},{"$f":"$AA$26","v":"3 Right"},{"$f":"$AF$26","v":0},{"$f":"$AJ$26","v":"3 Right"}]
[{"$nulls":37},{"$f":"$E$29","v":0},{"$f":"$I$29","v":"4 Right"},{"$f":"$N$29","v":0},{"$f":"$R$29","v":"4 Right"},{"$f":"$W$29","v":0},{"$f":"$AA$29","v":"4 Right"},{"$f":"$AF$29","v":0},{"$f":"$AJ$29","v":"4 Right"}]
[{"$nulls":37},{"$f":"$E$32","v":0},{"$f":"$I$32","v":"5 Right"},{"$f":"$N$32","v":0},{"$f":"$R$32","v":"5 Right"},{"$f":"$W$32","v":0},{"$f":"$AA$32","v":"5 Right"},{"$f":"$AF$32","v":0},{"$f":"$AJ$32","v":"5 Right"}]
[{"$nulls":37},{"$f":"$E$35","v":0},{"$f":"$I$35","v":"6 Right"},{"$f":"$N$35","v":0},{"$f":"$R$35","v":"6 Right"},{"$f":"$W$35","v":0},{"$f":"$AA$35","v":"6 Right"},{"$f":"$AF$35","v":0},{"$f":"$AJ$35","v":"6 Right"}]
[{"$nulls":37},{"$f":"$E$41","v":0},{"$f":"$I$41","v":"9 Right"},{"$f":"$N$41","v":0},{"$f":"$R$41","v":"9 Right"},{"$f":"$W$41","v":0},{"$f":"$AA$41","v":"9 Right"},{"$f":"$AF$41","v":0},{"$f":"$AJ$41","v":"9 Right"}]
[{"$nulls":37},{"$f":"$E$44","v":0},{"$f":"$I$44","v":"10 Right"},{"$f":"$N$44","v":0},{"$f":"$R$44","v":"10 Right"},{"$f":"$W$44","v":0},{"$f":"$AA$44","v":"10 Right"},{"$f":"$AF$44","v":0},{"$f":"$AJ$44","v":"10 Right"}]
[{"$nulls":37},{"$f":"$E$47","v":0},{"$f":"$I$47","v":"11 Right"},{"$f":"$N$47","v":0},{"$f":"$R$47","v":"11 Right"},{"$f":"$W$47","v":0},{"$f":"$AA$47","v":"11 Right"},{"$f":"$AF$47","v":0},{"$f":"$AJ$47","v":"11 Right"}]
[{"$nulls":37},{"$f":"$E$50","v":0},{"$f":"$I$50","v":"12 Right"},{"$f":"$N$50","v":0},{"$f":"$R$50","v":"12 Right"},{"$f":"$W$50","v":0},{"$f":"$AA$50","v":"12 Right"},{"$f":"$AF$50","v":0},{"$f":"$AJ$50","v":"12 Right"}]
[{"$nulls":37},{"$f":"$E$51","v":0},{"$f":"$I$51","v":"0 Right"},{"$f":"$N$51","v":0},{"$f":"$R$51","v":"0 Right"},{"$f":"$W$51","v":0},{"$f":"$AA$51","v":"0 Right"},{"$f":"$AF$51","v":0},{"$f":"$AJ$51","v":"0 Right"}]
[{"$nulls":37},{"$f":"$E$52","v":0},{"$f":"$I$52","v":"0 Right"},{"$f":"$N$52","v":0},{"$f":"$R$52","v":"0 Right"},{"$f":"$W$52","v":0},{"$f":"$AA$52","v":"0 Right"},{"$f":"$AF$52","v":0},{"$f":"$AJ$52","v":"0 Right"}]
[{"$nulls":37},{"$f":"$E$53","v":0},{"$f":"$I$53","v":"0 Right"},{"$f":"$N$53","v":0},{"$f":"$R$53","v":"0 Right"},{"$f":"$W$53","v":0},{"$f":"$AA$53","v":"0 Right"},{"$f":"$AF$53","v":0},{"$f":"$AJ$53","v":"0 Right"}]
[{"$nulls":37},{"$f":"$E$54","v":0},{"$f":"$I$54","v":"0 Right"},{"$f":"$N$54","v":0},{"$f":"$R$54","v":"0 Right"},{"$f":"$W$54","v":0},{"$f":"$AA$54","v":"0 Right"},{"$f":"$AF$54","v":0},{"$f":"$AJ$54","v":"0 Right"}]
[{"$nulls":37},{"$f":"$E$55","v":0},{"$f":"$I$55","v":"0 Right"},{"$f":"$N$55","v":0},{"$f":"$R$55","v":"0 Right"},{"$f":"$W$55","v":0},{"$f":"$AA$55","v":"0 Right"},{"$f":"$AF$55","v":0},{"$f":"$AJ$55","v":"0 Right"}]
[{"$nulls":37},{"$f":"$E$56","v":0},{"$f":"$I$56","v":"0 Right"},{"$f":"$N$56","v":0},{"$f":"$R$56","v":"0 Right"},{"$f":"$W$56","v":0},{"$f":"$AA$56","v":"0 Right"},{"$f":"$AF$56","v":0},{"$f":"$AJ$56","v":"0 Right"}]
[{"$nulls":37},{"$f":"$E$57","v":0},{"$f":"$I$57","v":"0 Right"},{"$f":"$N$57","v":0},{"$f":"$R$57","v":"0 Right"},{"$f":"$W$57","v":0},{"$f":"$AA$57","v":"0 Right"},{"$f":"$AF$57","v":0},{"$f":"$AJ$57","v":"0 Right"}]
[{"$nulls":37},{"$f":"$E$58","v":0},{"$f":"$I$58","v":"0 Right"},{"$f":"$N$58","v":0},{"$f":"$R$58","v":"0 Right"},{"$f":"$W$58","v":0},{"$f":"$AA$58","v":"0 Right"},{"$f":"$AF$58","v":0},{"$f":"$AJ$58","v":"0 Right"}]
[{"$nulls":37},{"$f":"$E$59","v":0},{"$f":"$I$59","v":"0 Right"},{"$f":"$N$59","v":0},{"$f":"$R$59","v":"0 Right"},{"$f":"$W$59","v":0},{"$f":"$AA$59","v":"0 Right"},{"$f":"$AF$59","v":0},{"$f":"$AJ$59","v":"0 Right"}]

{"sheet":"48","index":22,"n_rows":101,"n_cols":45,"rows_kept":101,"hidden":true,"merged":[[0,1,0,24],[1,1,1,2],[1,3,1,4],[1,5,1,6],[1,7,1,8],[1,9,1,10],[1,11,1,12],[1,13,1,14],[1,15,1,16],[1,17,1,18],[1,19,1,20],[1,21,1,22],[1,23,1,24],[2,0,4,0],[5,0,7,0],[8,0,10,0],[11,0,13,0],[14,1,14,24],[15,1,15,6],[15,10,15,15],[15,19,15,24],[15,28,15,33],[16,37,16,38],[16,39,16,40],[16,41,16,42],[16,43,16,44]]}
[null,"YOU MAY CHANGE THESE RINK NUMBERS IF YOU WISH"]
["Round",1,null,2,2,3,3,4,4,5,5,6,6,8,null,9,2,10,3,11,4,12,5,13,6]
[1,1,2,3,4,5,6,7,8,9,10,11,12,25,26,27,28,29,30,31,32,33,34,35,36]
[null,13,14,15,16,17,18,19,20,21,22,23,24,37,38,39,40,41,42,43,44,45,46,47,48]
[]
[2,6,9,1,10,2,11,3,12,4,8,5,7,30,33,25,34,26,35,27,36,28,32,29,31]
[null,16,19,23,20,24,21,13,22,14,18,15,17,40,43,47,44,48,45,37,46,38,42,39,41]
[]
[3,3,4,2,5,12,8,1,9,7,11,6,10,27,28,26,29,36,32,25,33,31,35,30,34]
[null,23,24,22,13,20,16,21,17,15,19,14,18,47,48,46,37,44,40,45,41,39,43,38,42]
[]
[4,12,7,8,11,1,9,6,10,2,5,3,4,36,31,32,35,25,33,30,34,26,29,27,28]
[null,18,13,14,17,19,15,24,16,20,23,21,22,42,37,38,41,43,39,48,40,44,47,45,46]
[]
[null,"48 on 2 greens"]
[null,1,{"$nulls":8},2,{"$nulls":8},3,{"$nulls":8},4]
["    ","no","Left","rink","no","Right","rink","L","R",null,"no","Left","rink","no","Right","rink","L","R",null,"no","Left","rink","no","Right","rink","L","R",null,"no","Left","rink","no","Right","rink","L","R",null,1,null,2,null,3,null,4]
[null,1,"Left",{"$f":"$B$2","v":1},2,"Right",{"$f":"$B$2","v":1},{"$f":"(D18&\" \"&C18)","v":"1 Left"},{"$f":"(G18&\" \"&F18)","v":"1 Right"},null,6,"Left",{"$f":"$B$2","v":1},9,"Right",{"$f":"$B$2","v":1},{"$f":"(M18&\" \"&L18)","v":"1 Left"},{"$f":"(P18&\" \"&O18)","v":"1 Right"},null,3,"Left",{"$f":"$B$2","v":1},4,"Right",{"$f":"$B$2","v":1},{"$f":"(V18&\" \"&U18)","v":"1 Left"},{"$f":"(Y18&\" \"&X18)","v":"1 Right"},null,12,"Left",{"$f":"$B$2","v":1},7,"Right",{"$f":"$B$2","v":1},{"$f":"(AE18&\" \"&AD18)","v":"1 Left"},{"$f":"(AH18&\" \"&AG18)","v":"1 Right"}]
[null,13,"Left",{"$f":"$B$2","v":1},14,"Right",{"$f":"$B$2","v":1},{"$f":"(D19&\" \"&C19)","v":"1 Left"},{"$f":"(G19&\" \"&F19)","v":"1 Right"},null,16,"Left",{"$f":"$B$2","v":1},19,"Right",{"$f":"$B$2","v":1},{"$f":"(M19&\" \"&L19)","v":"1 Left"},{"$f":"(P19&\" \"&O19)","v":"1 Right"},null,23,"Left",{"$f":"$B$2","v":1},24,"Right",{"$f":"$B$2","v":1},{"$f":"(V19&\" \"&U19)","v":"1 Left"},{"$f":"(Y19&\" \"&X19)","v":"1 Right"},null,18,"Left",{"$f":"$B$2","v":1},13,"Right",{"$f":"$B$2","v":1},{"$f":"(AE19&\" \"&AD19)","v":"1 Left"},{"$f":"(AH19&\" \"&AG19)","v":"1 Right"}]
[null,null,"Left",{"$f":"$B$2","v":1},null,"Right",{"$f":"$B$2","v":1},"1 Left","1 Right",null,null,"Left",{"$f":"$B$2","v":1},null,"Right",{"$f":"$B$2","v":1},"1 Left","1 Right",null,null,"Left",{"$f":"$B$2","v":1},null,"Right",{"$f":"$B$2","v":1},"1 Left","1 Right",null,null,"Left",{"$f":"$B$2","v":1},null,"Right",{"$f":"$B$2","v":1},"1 Left","1 Right"]
[null,3,"Left",{"$f":"$D$2","v":2},4,"Right",{"$f":"$D$2","v":2},"2 Left","2 Right",null,1,"Left",{"$f":"$D$2","v":2},10,"Right",{"$f":"$D$2","v":2},"2 Left","2 Right",null,2,"Left",{"$f":"$D$2","v":2},5,"Right",{"$f":"$D$2","v":2},"2 Left","2 Right",null,8,"Left",{"$f":"$D$2","v":2},11,"Right",{"$f":"$D$2","v":2},"2 Left","2 Right"]
[null,15,"Left",{"$f":"$D$2","v":2},16,"Right",{"$f":"$D$2","v":2},"2 Left","2 Right",null,23,"Left",{"$f":"$D$2","v":2},20,"Right",{"$f":"$D$2","v":2},"2 Left","2 Right",null,22,"Left",{"$f":"$D$2","v":2},13,"Right",{"$f":"$D$2","v":2},"2 Left","2 Right",null,14,"Left",{"$f":"$D$2","v":2},17,"Right",{"$f":"$D$2","v":2},"2 Left","2 Right"]
[null,null,"Left",{"$f":"$D$2","v":2},null,"Right",{"$f":"$D$2","v":2},"2 Left","2 Right",null,null,"Left",{"$f":"$D$2","v":2},null,"Right",{"$f":"$D$2","v":2},"2 Left","2 Right",null,null,"Left",{"$f":"$D$2","v":2},null,"Right",{"$f":"$D$2","v":2},"2 Left","2 Right",null,null,"Left",{"$f":"$D$2","v":2},null,"Right",{"$f":"$D$2","v":2},"2 Left","2 Right"]
[null,5,"Left",{"$f":"$F$2","v":3},6,"Right",{"$f":"$F$2","v":3},"3 Left","3 Right",null,2,"Left",{"$f":"$F$2","v":3},11,"Right",{"$f":"$F$2","v":3},"3 Left","3 Right",null,12,"Left",{"$f":"$F$2","v":3},8,"Right",{"$f":"$F$2","v":3},"3 Left","3 Right",null,1,"Left",{"$f":"$F$2","v":3},9,"Right",{"$f":"$F$2","v":3},"3 Left","3 Right"]
[null,17,"Left",{"$f":"$F$2","v":3},18,"Right",{"$f":"$F$2","v":3},"3 Left","3 Right",null,24,"Left",{"$f":"$F$2","v":3},21,"Right",{"$f":"$F$2","v":3},"3 Left","3 Right",null,20,"Left",{"$f":"$F$2","v":3},16,"Right",{"$f":"$F$2","v":3},"3 Left","3 Right",null,19,"Left",{"$f":"$F$2","v":3},15,"Right",{"$f":"$F$2","v":3},"3 Left","3 Right"]
[null,null,"Left",{"$f":"$F$2","v":3},null,"Right",{"$f":"$F$2","v":3},"3 Left","3 Right",null,null,"Left",{"$f":"$F$2","v":3},null,"Right",{"$f":"$F$2","v":3},"3 Left","3 Right",null,null,"Left",{"$f":"$F$2","v":3},null,"Right",{"$f":"$F$2","v":3},"3 Left","3 Right",null,null,"Left",{"$f":"$F$2","v":3},null,"Right",{"$f":"$F$2","v":3},"3 Left","3 Right"]
[null,7,"Left",{"$f":"$H$2","v":4},8,"Right",{"$f":"$H$2","v":4},"4 Left","4 Right",null,3,"Left",{"$f":"$H$2","v":4},12,"Right",{"$f":"$H$2","v":4},"4 Left","4 Right",null,1,"Left",{"$f":"$H$2","v":4},9,"Right",{"$f":"$H$2","v":4},"4 Left","4 Right",null,6,"Left",{"$f":"$H$2","v":4},10,"Right",{"$f":"$H$2","v":4},"4 Left","4 Right"]
[null,19,"Left",{"$f":"$H$2","v":4},20,"Right",{"$f":"$H$2","v":4},"4 Left","4 Right",null,13,"Left",{"$f":"$H$2","v":4},22,"Right",{"$f":"$H$2","v":4},"4 Left","4 Right",null,21,"Left",{"$f":"$H$2","v":4},17,"Right",{"$f":"$H$2","v":4},"4 Left","4 Right",null,24,"Left",{"$f":"$H$2","v":4},16,"Right",{"$f":"$H$2","v":4},"4 Left","4 Right"]
[null,null,"Left",4,null,"Right",4,"4 Left","4 Right",null,null,"Left",4,null,"Right",4,"4 Left","4 Right",null,null,"Left",4,null,"Right",4,"4 Left","4 Right",null,null,"Left",4,null,"Right",4,"4 Left","4 Right"]
[null,9,"Left",{"$f":"$J$2","v":5},10,"Right",{"$f":"$J$2","v":5},"5 Left","5 Right",null,4,"Left",{"$f":"$J$2","v":5},8,"Right",{"$f":"$J$2","v":5},"5 Left","5 Right",null,7,"Left",{"$f":"$J$2","v":5},11,"Right",{"$f":"$J$2","v":5},"5 Left","5 Right",null,2,"Left",{"$f":"$J$2","v":5},5,"Right",{"$f":"$J$2","v":5},"5 Left","5 Right"]
[null,21,"Left",{"$f":"$J$2","v":5},22,"Right",{"$f":"$J$2","v":5},"5 Left","5 Right",null,14,"Left",{"$f":"$J$2","v":5},18,"Right",{"$f":"$J$2","v":5},"5 Left","5 Right",null,15,"Left",{"$f":"$J$2","v":5},19,"Right",{"$f":"$J$2","v":5},"5 Left","5 Right",null,20,"Left",{"$f":"$J$2","v":5},23,"Right",{"$f":"$J$2","v":5},"5 Left","5 Right"]
[null,null,"Left",5,null,"Right",5,"5 Left","5 Right",null,null,"Left",5,null,"Right",5,"5 Left","5 Right",null,null,"Left",5,null,"Right",5,"5 Left","5 Right",null,null,"Left",5,null,"Right",5,"5 Left","5 Right"]
[null,11,"Left",{"$f":"$L$2","v":6},12,"Right",{"$f":"$L$2","v":6},"6 Left","6 Right",null,5,"Left",{"$f":"$L$2","v":6},7,"Right",{"$f":"$L$2","v":6},"6 Left","6 Right",null,6,"Left",{"$f":"$L$2","v":6},10,"Right",{"$f":"$L$2","v":6},"6 Left","6 Right",null,3,"Left",{"$f":"$L$2","v":6},4,"Right",{"$f":"$L$2","v":6},"6 Left","6 Right"]
[null,23,"Left",{"$f":"$L$2","v":6},24,"Right",{"$f":"$L$2","v":6},"6 Left","6 Right",null,15,"Left",{"$f":"$L$2","v":6},17,"Right",{"$f":"$L$2","v":6},"6 Left","6 Right",null,14,"Left",{"$f":"$L$2","v":6},18,"Right",{"$f":"$L$2","v":6},"6 Left","6 Right",null,21,"Left",{"$f":"$L$2","v":6},22,"Right",{"$f":"$L$2","v":6},"6 Left","6 Right"]
[null,null,"Left",6,null,"Right",6,"6 Left","6 Right",null,null,"Left",6,null,"Right",6,"6 Left","6 Right",null,null,"Left",6,null,"Right",6,"6 Left","6 Right",null,null,"Left",6,null,"Right",6,"6 Left","6 Right"]
[null,25,"Left",{"$f":"$N$2","v":8},26,"Right",{"$f":"$N$2","v":8},"8 Left","8 Right",null,30,"Left",{"$f":"$N$2","v":8},33,"Right",{"$f":"$N$2","v":8},"8 Left","8 Right",null,27,"Left",{"$f":"$N$2","v":8},28,"Right",{"$f":"$N$2","v":8},"8 Left","8 Right",null,36,"Left",{"$f":"$N$2","v":8},31,"Right",{"$f":"$N$2","v":8},"8 Left","8 Right"]
[null,37,"Left",{"$f":"$N$2","v":8},38,"Right",{"$f":"$N$2","v":8},"8 Left","8 Right",null,40,"Left",{"$f":"$N$2","v":8},43,"Right",{"$f":"$N$2","v":8},"8 Left","8 Right",null,47,"Left",{"$f":"$N$2","v":8},48,"Right",{"$f":"$N$2","v":8},"8 Left","8 Right",null,42,"Left",{"$f":"$N$2","v":8},37,"Right",{"$f":"$N$2","v":8},"8 Left","8 Right"]
[null,null,"Left",8,null,"Right",8,"8 Left","8 Right",null,null,"Left",8,null,"Right",8,"8 Left","8 Right",null,null,"Left",8,null,"Right",8,"8 Left","8 Right",null,null,"Left",8,null,"Right",8,"8 Left","8 Right"]
[null,27,"Left",{"$f":"$P$2","v":9},28,"Right",{"$f":"$P$2","v":9},"9 Left","9 Right",null,25,"Left",{"$f":"$P$2","v":9},34,"Right",{"$f":"$P$2","v":9},"9 Left","9 Right",null,26,"Left",{"$f":"$P$2","v":9},29,"Right",{"$f":"$P$2","v":9},"9 Left","9 Right",null,32,"Left",{"$f":"$P$2","v":9},35,"Right",{"$f":"$P$2","v":9},"9 Left","9 Right"]
[null,39,"Left",{"$f":"$P$2","v":9},40,"Right",{"$f":"$P$2","v":9},"9 Left","9 Right",null,47,"Left",{"$f":"$P$2","v":9},44,"Right",{"$f":"$P$2","v":9},"9 Left","9 Right",null,46,"Left",{"$f":"$P$2","v":9},37,"Right",{"$f":"$P$2","v":9},"9 Left","9 Right",null,38,"Left",{"$f":"$P$2","v":9},41,"Right",{"$f":"$P$2","v":9},"9 Left","9 Right"]
[null,null,"Left",9,null,"Right",9,"9 Left","9 Right",null,null,"Left",9,null,"Right",9,"9 Left","9 Right",null,null,"Left",9,null,"Right",9,"9 Left","9 Right",null,null,"Left",9,null,"Right",9,"9 Left","9 Right"]
[null,29,"Left",{"$f":"$R$2","v":10},30,"Right",{"$f":"$R$2","v":10},"10 Left","10 Right",null,26,"Left",{"$f":"$R$2","v":10},35,"Right",{"$f":"$R$2","v":10},"10 Left","10 Right",null,36,"Left",{"$f":"$R$2","v":10},32,"Right",{"$f":"$R$2","v":10},"10 Left","10 Right",null,25,"Left",{"$f":"$R$2","v":10},33,"Right",{"$f":"$R$2","v":10},"10 Left","10 Right"]
[null,41,"Left",{"$f":"$R$2","v":10},42,"Right",{"$f":"$R$2","v":10},"10 Left","10 Right",null,48,"Left",{"$f":"$R$2","v":10},45,"Right",{"$f":"$R$2","v":10},"10 Left","10 Right",null,44,"Left",{"$f":"$R$2","v":10},40,"Right",{"$f":"$R$2","v":10},"10 Left","10 Right",null,43,"Left",{"$f":"$R$2","v":10},39,"Right",{"$f":"$R$2","v":10},"10 Left","10 Right"]
[null,null,"Left",10,null,"Right",10,"10 Left","10 Right",null,null,"Left",10,null,"Right",10,"10 Left","10 Right",null,null,"Left",10,null,"Right",10,"10 Left","10 Right",null,null,"Left",10,null,"Right",10,"10 Left","10 Right"]
[null,31,"Left",{"$f":"$T$2","v":11},32,"Right",{"$f":"$T$2","v":11},"11 Left","11 Right",null,27,"Left",{"$f":"$T$2","v":11},36,"Right",{"$f":"$T$2","v":11},"11 Left","11 Right",null,25,"Left",{"$f":"$T$2","v":11},33,"Right",{"$f":"$T$2","v":11},"11 Left","11 Right",null,30,"Left",{"$f":"$T$2","v":11},34,"Right",{"$f":"$T$2","v":11},"11 Left","11 Right"]
[null,43,"Left",{"$f":"$T$2","v":11},44,"Right",{"$f":"$T$2","v":11},"11 Left","11 Right",null,37,"Left",{"$f":"$T$2","v":11},46,"Right",{"$f":"$T$2","v":11},"11 Left","11 Right",null,45,"Left",{"$f":"$T$2","v":11},41,"Right",{"$f":"$T$2","v":11},"11 Left","11 Right",null,48,"Left",{"$f":"$T$2","v":11},40,"Right",{"$f":"$T$2","v":11},"11 Left","11 Right"]
[null,null,"Left",11,null,"Right",11,"11 Left","11 Right",null,null,"Left",11,null,"Right",11,"11 Left","11 Right",null,null,"Left",11,null,"Right",11,"11 Left","11 Right",null,null,"Left",11,null,"Right",11,"11 Left","11 Right"]
[null,33,"Left",{"$f":"$V$2","v":12},34,"Right",{"$f":"$V$2","v":12},"12 Left","12 Right",null,28,"Left",{"$f":"$V$2","v":12},32,"Right",{"$f":"$V$2","v":12},"12 Left","12 Right",null,31,"Left",{"$f":"$V$2","v":12},35,"Right",{"$f":"$V$2","v":12},"12 Left","12 Right",null,26,"Left",{"$f":"$V$2","v":12},29,"Right",{"$f":"$V$2","v":12},"12 Left","12 Right"]
[null,45,"Left",{"$f":"$V$2","v":12},46,"Right",{"$f":"$V$2","v":12},"12 Left","12 Right",null,38,"Left",{"$f":"$V$2","v":12},42,"Right",{"$f":"$V$2","v":12},"12 Left","12 Right",null,39,"Left",{"$f":"$V$2","v":12},43,"Right",{"$f":"$V$2","v":12},"12 Left","12 Right",null,44,"Left",{"$f":"$V$2","v":12},47,"Right",{"$f":"$V$2","v":12},"12 Left","12 Right"]
[null,null,"Left",12,null,"Right",12,"12 Left","12 Right",null,null,"Left",12,null,"Right",12,"12 Left","12 Right",null,null,"Left",12,null,"Right",12,"12 Left","12 Right",null,null,"Left",12,null,"Right",12,"12 Left","12 Right"]
[null,35,"Left",{"$f":"$X$2","v":13},36,"Right",{"$f":"$X$2","v":13},"13 Left","13 Right",null,29,"Left",{"$f":"$X$2","v":13},31,"Right",{"$f":"$X$2","v":13},"13 Left","13 Right",null,30,"Left",{"$f":"$X$2","v":13},34,"Right",{"$f":"$X$2","v":13},"13 Left","13 Right",null,27,"Left",{"$f":"$X$2","v":13},28,"Right",{"$f":"$X$2","v":13},"13 Left","13 Right"]
[null,47,"Left",{"$f":"$X$2","v":13},48,"Right",{"$f":"$X$2","v":13},"13 Left","13 Right",null,39,"Left",{"$f":"$X$2","v":13},41,"Right",{"$f":"$X$2","v":13},"13 Left","13 Right",null,38,"Left",{"$f":"$X$2","v":13},42,"Right",{"$f":"$X$2","v":13},"13 Left","13 Right",null,45,"Left",{"$f":"$X$2","v":13},46,"Right",{"$f":"$X$2","v":13},"13 Left","13 Right"]
[null,null,"Left",13,null,"Right",13,"13 Left","13 Right",null,null,"Left",13,null,"Right",13,"13 Left","13 Right",null,null,"Left",13,null,"Right",13,"13 Left","13 Right",null,null,"Left",13,null,"Right",13,"13 Left","13 Right"]
[null,null,"Left",{"$f":"$Z$2","v":0},null,"Right",{"$f":"$Z$2","v":0},"0 Left","0 Right",null,null,"Left",{"$f":"$Z$2","v":0},null,"Right",{"$f":"$Z$2","v":0},"0 Left","0 Right",null,null,"Left",{"$f":"$Z$2","v":0},null,"Right",{"$f":"$Z$2","v":0},"0 Left","0 Right",null,null,"Left",{"$f":"$Z$2","v":0},null,"Right",{"$f":"$Z$2","v":0},"0 Left","0 Right"]
[null,null,"Left",{"$f":"$Z$2","v":0},null,"Right",{"$f":"$Z$2","v":0},"0 Left","0 Right",null,null,"Left",{"$f":"$Z$2","v":0},null,"Right",{"$f":"$Z$2","v":0},"0 Left","0 Right",null,null,"Left",{"$f":"$Z$2","v":0},null,"Right",{"$f":"$Z$2","v":0},"0 Left","0 Right",null,null,"Left",{"$f":"$Z$2","v":0},null,"Right",{"$f":"$Z$2","v":0},"0 Left","0 Right"]
[null,null,"Left",0,null,"Right",0,"0 Left","0 Right",null,null,"Left",0,null,"Right",0,"0 Left","0 Right",null,null,"Left",0,null,"Right",0,"0 Left","0 Right",null,null,"Left",0,null,"Right",0,"0 Left","0 Right"]
[null,null,"Left",{"$f":"$AB$2","v":0},null,"Right",{"$f":"$AB$2","v":0},"0 Left","0 Right",null,null,"Left",{"$f":"$AB$2","v":0},null,"Right",{"$f":"$AB$2","v":0},"0 Left","0 Right",null,null,"Left",{"$f":"$AB$2","v":0},null,"Right",{"$f":"$AB$2","v":0},"0 Left","0 Right",null,null,"Left",{"$f":"$AB$2","v":0},null,"Right",{"$f":"$AB$2","v":0},"0 Left","0 Right"]
[null,null,"Left",{"$f":"$AB$2","v":0},null,"Right",{"$f":"$AB$2","v":0},"0 Left","0 Right",null,null,"Left",{"$f":"$AB$2","v":0},null,"Right",{"$f":"$AB$2","v":0},"0 Left","0 Right",null,null,"Left",{"$f":"$AB$2","v":0},null,"Right",{"$f":"$AB$2","v":0},"0 Left","0 Right",null,null,"Left",{"$f":"$AB$2","v":0},null,"Right",{"$f":"$AB$2","v":0},"0 Left","0 Right"]
[null,null,"Left",0,null,"Right",0,"0 Left","0 Right",null,null,"Left",0,null,"Right",0,"0 Left","0 Right",null,null,"Left",0,null,"Right",0,"0 Left","0 Right",null,null,"Left",0,null,"Right",0,"0 Left","0 Right"]
[]
[]
[]
[]
[]
[]
[{"$nulls":37},{"$f":"$B$20","v":0},{"$f":"$H$20","v":"1 Left"},{"$f":"$K$20","v":0},{"$f":"$Q$20","v":"1 Left"},{"$f":"$T$20","v":0},{"$f":"$Z$20","v":"1 Left"},{"$f":"$AC$20","v":0},{"$f":"$AI$20","v":"1 Left"}]
[{"$nulls":37},{"$f":"$E$20","v":0},{"$f":"$I$20","v":"1 Right"},{"$f":"$K$23","v":0},{"$f":"$Q$23","v":"2 Left"},{"$f":"$T$23","v":0},{"$f":"$Z$23","v":"2 Left"},{"$f":"$AC$23","v":0},{"$f":"$AI$23","v":"2 Left"}]
[{"$nulls":37},{"$f":"$B$23","v":0},{"$f":"$H$23","v":"2 Left"},{"$f":"$K$26","v":0},{"$f":"$Q$26","v":"3 Left"},{"$f":"$T$26","v":0},{"$f":"$Z$26","v":"3 Left"},{"$f":"$AC$26","v":0},{"$f":"$AI$26","v":"3 Left"}]
[{"$nulls":37},{"$f":"$B$26","v":0},{"$f":"$H$26","v":"3 Left"},{"$f":"$K$29","v":0},{"$f":"$Q$29","v":"4 Left"},{"$f":"$T$29","v":0},{"$f":"$Z$29","v":"4 Left"},{"$f":"$AC$29","v":0},{"$f":"$AI$29","v":"4 Left"}]
[{"$nulls":37},{"$f":"$B$29","v":0},{"$f":"$H$29","v":"4 Left"},{"$f":"$K$32","v":0},{"$f":"$Q$32","v":"5 Left"},{"$f":"$T$32","v":0},{"$f":"$Z$32","v":"5 Left"},{"$f":"$AC$32","v":0},{"$f":"$AI$32","v":"5 Left"}]
[{"$nulls":37},{"$f":"$B$32","v":0},{"$f":"$H$32","v":"5 Left"},{"$f":"$K$35","v":0},{"$f":"$Q$35","v":"6 Left"},{"$f":"$T$35","v":0},{"$f":"$Z$35","v":"6 Left"},{"$f":"$AC$35","v":0},{"$f":"$AI$35","v":"6 Left"}]
[{"$nulls":37},{"$f":"$B$35","v":0},{"$f":"$H$35","v":"6 Left"},{"$f":"$K$38","v":0},{"$f":"$Q$38","v":"8 Left"},{"$f":"$T$38","v":0},{"$f":"$Z$38","v":"8 Left"},{"$f":"$AC$38","v":0},{"$f":"$AI$38","v":"8 Left"}]
[{"$nulls":37},{"$f":"$B$38","v":0},{"$f":"$H$38","v":"8 Left"},{"$f":"$K$41","v":0},{"$f":"$Q$41","v":"9 Left"},{"$f":"$T$41","v":0},{"$f":"$Z$41","v":"9 Left"},{"$f":"$AC$41","v":0},{"$f":"$AI$41","v":"9 Left"}]
[{"$nulls":37},{"$f":"$B$41","v":0},{"$f":"$H$41","v":"9 Left"},{"$f":"$K$44","v":0},{"$f":"$Q$44","v":"10 Left"},{"$f":"$T$44","v":0},{"$f":"$Z$44","v":"10 Left"},{"$f":"$AC$44","v":0},{"$f":"$AI$44","v":"10 Left"}]
[{"$nulls":37},{"$f":"$B$44","v":0},{"$f":"$H$44","v":"10 Left"},{"$f":"$K$47","v":0},{"$f":"$Q$47","v":"11 Left"},{"$f":"$T$47","v":0},{"$f":"$Z$47","v":"11 Left"},{"$f":"$AC$47","v":0},{"$f":"$AI$47","v":"11 Left"}]
[{"$nulls":37},{"$f":"$B$47","v":0},{"$f":"$H$47","v":"11 Left"},{"$f":"$K$50","v":0},{"$f":"$Q$50","v":"12 Left"},{"$f":"$T$50","v":0},{"$f":"$Z$50","v":"12 Left"},{"$f":"$AC$50","v":0},{"$f":"$AI$50","v":"12 Left"}]
[{"$nulls":37},{"$f":"$B$50","v":0},{"$f":"$H$50","v":"12 Left"},{"$f":"$K$53","v":0},{"$f":"$Q$53","v":"13 Left"},{"$f":"$T$53","v":0},{"$f":"$Z$53","v":"13 Left"},{"$f":"$AC$53","v":0},{"$f":"$AI$53","v":"13 Left"}]
[{"$nulls":37},{"$f":"$B$53","v":0},{"$f":"$H$53","v":"13 Left"},{"$f":"$K$54","v":0},{"$f":"$Q$54","v":"0 Left"},{"$f":"$T$54","v":0},{"$f":"$Z$54","v":"0 Left"},{"$f":"$AC$54","v":0},{"$f":"$AI$54","v":"0 Left"}]
[{"$nulls":37},{"$f":"$B$54","v":0},{"$f":"$H$54","v":"0 Left"},{"$f":"$K$55","v":0},{"$f":"$Q$55","v":"0 Left"},{"$f":"$T$55","v":0},{"$f":"$Z$55","v":"0 Left"},{"$f":"$AC$55","v":0},{"$f":"$AI$55","v":"0 Left"}]
[{"$nulls":37},{"$f":"$B$55","v":0},{"$f":"$H$55","v":"0 Left"},{"$f":"$K$56","v":0},{"$f":"$Q$56","v":"0 Left"},{"$f":"$T$56","v":0},{"$f":"$Z$56","v":"0 Left"},{"$f":"$AC$56","v":0},{"$f":"$AI$56","v":"0 Left"}]
[{"$nulls":37},{"$f":"$B$56","v":0},{"$f":"$H$56","v":"0 Left"},{"$f":"$K$57","v":0},{"$f":"$Q$57","v":"0 Left"},{"$f":"$T$57","v":0},{"$f":"$Z$57","v":"0 Left"},{"$f":"$AC$57","v":0},{"$f":"$AI$57","v":"0 Left"}]
[{"$nulls":37},{"$f":"$B$57","v":0},{"$f":"$H$57","v":"0 Left"},{"$f":"$K$58","v":0},{"$f":"$Q$58","v":"0 Left"},{"$f":"$T$58","v":0},{"$f":"$Z$58","v":"0 Left"},{"$f":"$AC$58","v":0},{"$f":"$AI$58","v":"0 Left"}]
[{"$nulls":37},{"$f":"$B$58","v":0},{"$f":"$H$58","v":"0 Left"},{"$f":"$K$59","v":0},{"$f":"$Q$59","v":"0 Left"},{"$f":"$T$59","v":0},{"$f":"$Z$59","v":"0 Left"},{"$f":"$AC$59","v":0},{"$f":"$AI$59","v":"0 Left"}]
[{"$nulls":37},{"$f":"$B$59","v":0},{"$f":"$H$59","v":"0 Left"},{"$f":"$N$20","v":0},{"$f":"$R$20","v":"1 Right"},{"$f":"$W$20","v":0},{"$f":"$AA$20","v":"1 Right"},{"$f":"$AF$20","v":0},{"$f":"$AJ$20","v":"1 Right"}]
[{"$nulls":37},{"$f":"$E$23","v":0},{"$f":"$I$23","v":"2 Right"},{"$f":"$N$23","v":0},{"$f":"$R$23","v":"2 Right"},{"$f":"$W$23","v":0},{"$f":"$AA$23","v":"2 Right"},{"$f":"$AF$23","v":0},{"$f":"$AJ$23","v":"2 Right"}]
[{"$nulls":37},{"$f":"$E$26","v":0},{"$f":"$I$26","v":"3 Right"},{"$f":"$N$26","v":0},{"$f":"$R$26","v":"3 Right"},{"$f":"$W$26","v":0},{"$f":"$AA$26","v":"3 Right"},{"$f":"$AF$26","v":0},{"$f":"$AJ$26","v":"3 Right"}]
[{"$nulls":37},{"$f":"$E$29","v":0},{"$f":"$I$29","v":"4 Right"},{"$f":"$N$29","v":0},{"$f":"$R$29","v":"4 Right"},{"$f":"$W$29","v":0},{"$f":"$AA$29","v":"4 Right"},{"$f":"$AF$29","v":0},{"$f":"$AJ$29","v":"4 Right"}]
[{"$nulls":37},{"$f":"$E$32","v":0},{"$f":"$I$32","v":"5 Right"},{"$f":"$N$32","v":0},{"$f":"$R$32","v":"5 Right"},{"$f":"$W$32","v":0},{"$f":"$AA$32","v":"5 Right"},{"$f":"$AF$32","v":0},{"$f":"$AJ$32","v":"5 Right"}]
[{"$nulls":37},{"$f":"$E$35","v":0},{"$f":"$I$35","v":"6 Right"},{"$f":"$N$35","v":0},{"$f":"$R$35","v":"6 Right"},{"$f":"$W$35","v":0},{"$f":"$AA$35","v":"6 Right"},{"$f":"$AF$35","v":0},{"$f":"$AJ$35","v":"6 Right"}]
[{"$nulls":37},{"$f":"$E$38","v":0},{"$f":"$I$38","v":"8 Right"},{"$f":"$N$38","v":0},{"$f":"$R$38","v":"8 Right"},{"$f":"$W$38","v":0},{"$f":"$AA$38","v":"8 Right"},{"$f":"$AF$38","v":0},{"$f":"$AJ$38","v":"8 Right"}]
[{"$nulls":37},{"$f":"$E$41","v":0},{"$f":"$I$41","v":"9 Right"},{"$f":"$N$41","v":0},{"$f":"$R$41","v":"9 Right"},{"$f":"$W$41","v":0},{"$f":"$AA$41","v":"9 Right"},{"$f":"$AF$41","v":0},{"$f":"$AJ$41","v":"9 Right"}]
[{"$nulls":37},{"$f":"$E$44","v":0},{"$f":"$I$44","v":"10 Right"},{"$f":"$N$44","v":0},{"$f":"$R$44","v":"10 Right"},{"$f":"$W$44","v":0},{"$f":"$AA$44","v":"10 Right"},{"$f":"$AF$44","v":0},{"$f":"$AJ$44","v":"10 Right"}]
[{"$nulls":37},{"$f":"$E$47","v":0},{"$f":"$I$47","v":"11 Right"},{"$f":"$N$47","v":0},{"$f":"$R$47","v":"11 Right"},{"$f":"$W$47","v":0},{"$f":"$AA$47","v":"11 Right"},{"$f":"$AF$47","v":0},{"$f":"$AJ$47","v":"11 Right"}]
[{"$nulls":37},{"$f":"$E$50","v":0},{"$f":"$I$50","v":"12 Right"},{"$f":"$N$50","v":0},{"$f":"$R$50","v":"12 Right"},{"$f":"$W$50","v":0},{"$f":"$AA$50","v":"12 Right"},{"$f":"$AF$50","v":0},{"$f":"$AJ$50","v":"12 Right"}]
[{"$nulls":37},{"$f":"$E$53","v":0},{"$f":"$I$53","v":"13 Right"},{"$f":"$N$53","v":0},{"$f":"$R$53","v":"13 Right"},{"$f":"$W$53","v":0},{"$f":"$AA$53","v":"13 Right"},{"$f":"$AF$53","v":0},{"$f":"$AJ$53","v":"13 Right"}]
[{"$nulls":37},{"$f":"$E$54","v":0},{"$f":"$I$54","v":"0 Right"},{"$f":"$N$54","v":0},{"$f":"$R$54","v":"0 Right"},{"$f":"$W$54","v":0},{"$f":"$AA$54","v":"0 Right"},{"$f":"$AF$54","v":0},{"$f":"$AJ$54","v":"0 Right"}]
[{"$nulls":37},{"$f":"$E$55","v":0},{"$f":"$I$55","v":"0 Right"},{"$f":"$N$55","v":0},{"$f":"$R$55","v":"0 Right"},{"$f":"$W$55","v":0},{"$f":"$AA$55","v":"0 Right"},{"$f":"$AF$55","v":0},{"$f":"$AJ$55","v":"0 Right"}]
[{"$nulls":37},{"$f":"$E$56","v":0},{"$f":"$I$56","v":"0 Right"},{"$f":"$N$56","v":0},{"$f":"$R$56","v":"0 Right"},{"$f":"$W$56","v":0},{"$f":"$AA$56","v":"0 Right"},{"$f":"$AF$56","v":0},{"$f":"$AJ$56","v":"0 Right"}]
[{"$nulls":37},{"$f":"$E$57","v":0},{"$f":"$I$57","v":"0 Right"},{"$f":"$N$57","v":0},{"$f":"$R$57","v":"0 Right"},{"$f":"$W$57","v":0},{"$f":"$AA$57","v":"0 Right"},{"$f":"$AF$57","v":0},{"$f":"$AJ$57","v":"0 Right"}]
[{"$nulls":37},{"$f":"$E$58","v":0},{"$f":"$I$58","v":"0 Right"},{"$f":"$N$58","v":0},{"$f":"$R$58","v":"0 Right"},{"$f":"$W$58","v":0},{"$f":"$AA$58","v":"0 Right"},{"$f":"$AF$58","v":0},{"$f":"$AJ$58","v":"0 Right"}]
[{"$nulls":37},{"$f":"$E$59","v":0},{"$f":"$I$59","v":"0 Right"},{"$f":"$N$59","v":0},{"$f":"$R$59","v":"0 Right"},{"$f":"$W$59","v":0},{"$f":"$AA$59","v":"0 Right"},{"$f":"$AF$59","v":0},{"$f":"$AJ$59","v":"0 Right"}]

{"sheet":"50","index":23,"n_rows":101,"n_cols":45,"rows_kept":101,"hidden":true,"merged":[[0,1,0,24],[1,1,1,2],[1,3,1,4],[1,5,1,6],[1,7,1,8],[1,9,1,10],[1,11,1,12],[1,13,1,14],[1,15,1,16],[1,17,1,18],[1,19,1,20],[1,21,1,22],[1,23,1,24],[2,0,4,0],[5,0,7,0],[8,0,10,0],[11,0,13,0],[14,1,14,24],[15,1,15,6],[15,10,15,15],[15,19,15,24],[15,28,15,33],[16,37,16,38],[16,39,16,40],[16,41,16,42],[16,43,16,44]]}
[null,"YOU MAY CHANGE THESE RINK NUMBERS IF YOU WISH"]
["Round",1,1,2,2,3,3,4,4,5,5,6,6,8,null,9,2,10,3,11,4,12,5,13,6]
[1,1,2,3,4,5,6,7,8,9,10,11,12,27,28,29,30,31,32,33,34,35,36,37,38]
[null,14,15,16,17,18,19,20,21,22,23,24,25,39,40,41,42,43,44,45,46,47,48,49,50]
[null,13,26]
[2,5,7,1,10,2,11,3,12,4,13,6,9,32,35,27,36,28,37,29,38,30,34,31,33]
[null,16,18,26,21,25,22,14,23,15,24,17,20,42,45,49,46,50,47,39,48,40,44,41,43]
[null,8,19]
[3,3,6,5,13,1,10,2,11,7,12,4,8,29,30,28,31,38,34,27,35,33,37,32,36]
[null,17,20,19,25,15,24,16,26,21,14,18,22,49,50,48,39,46,42,47,43,41,45,40,44]
[null,9,23]
[4,10,11,6,9,3,8,1,12,2,5,7,13,38,33,34,37,27,35,32,36,28,31,29,30]
[null,22,21,14,16,20,17,18,24,19,26,15,23,44,39,40,43,45,41,50,42,46,49,47,48]
[null,4,25]
[null,"50 on 2 greens"]
[null,1,{"$nulls":8},2,{"$nulls":8},3,{"$nulls":8},4]
[null,"no","Left","rink","no","Right","rink","L","R",null,"no","Left","rink","no","Right","rink","L","R",null,"no","Left","rink","no","Right","rink","L","R",null,"no","Left","rink","no","Right","rink","L","R",null,1,null,2,null,3,null,4]
[null,1,"Left",{"$f":"$B$2","v":1},2,"Right",{"$f":"$B$2","v":1},{"$f":"(D18&\" \"&C18)","v":"1 Left"},{"$f":"(G18&\" \"&F18)","v":"1 Right"},null,5,"Left",{"$f":"$B$2","v":1},7,"Right",{"$f":"$B$2","v":1},{"$f":"(M18&\" \"&L18)","v":"1 Left"},{"$f":"(P18&\" \"&O18)","v":"1 Right"},null,3,"Left",{"$f":"$B$2","v":1},6,"Right",{"$f":"$B$2","v":1},{"$f":"(V18&\" \"&U18)","v":"1 Left"},{"$f":"(Y18&\" \"&X18)","v":"1 Right"},null,10,"Left",{"$f":"$B$2","v":1},11,"Right",{"$f":"$B$2","v":1},{"$f":"(AE18&\" \"&AD18)","v":"1 Left"},{"$f":"(AH18&\" \"&AG18)","v":"1 Right"}]
[null,14,"Left",{"$f":"$B$2","v":1},15,"Right",{"$f":"$B$2","v":1},{"$f":"(D19&\" \"&C19)","v":"1 Left"},{"$f":"(G19&\" \"&F19)","v":"1 Right"},null,16,"Left",{"$f":"$B$2","v":1},18,"Right",{"$f":"$B$2","v":1},{"$f":"(M19&\" \"&L19)","v":"1 Left"},{"$f":"(P19&\" \"&O19)","v":"1 Right"},null,17,"Left",{"$f":"$B$2","v":1},20,"Right",{"$f":"$B$2","v":1},{"$f":"(V19&\" \"&U19)","v":"1 Left"},{"$f":"(Y19&\" \"&X19)","v":"1 Right"},null,22,"Left",{"$f":"$B$2","v":1},21,"Right",{"$f":"$B$2","v":1},{"$f":"(AE19&\" \"&AD19)","v":"1 Left"},{"$f":"(AH19&\" \"&AG19)","v":"1 Right"}]
[null,13,"Left",{"$f":"$B$2","v":1},26,"Right",{"$f":"$B$2","v":1},"1 Left","1 Right",null,8,"Left",{"$f":"$B$2","v":1},19,"Right",{"$f":"$B$2","v":1},"1 Left","1 Right",null,9,"Left",{"$f":"$B$2","v":1},23,"Right",{"$f":"$B$2","v":1},"1 Left","1 Right",null,4,"Left",{"$f":"$B$2","v":1},25,"Right",{"$f":"$B$2","v":1},"1 Left","1 Right"]
[null,3,"Left",{"$f":"$D$2","v":2},4,"Right",{"$f":"$D$2","v":2},"2 Left","2 Right",null,1,"Left",{"$f":"$D$2","v":2},10,"Right",{"$f":"$D$2","v":2},"2 Left","2 Right",null,5,"Left",{"$f":"$D$2","v":2},13,"Right",{"$f":"$D$2","v":2},"2 Left","2 Right",null,6,"Left",{"$f":"$D$2","v":2},9,"Right",{"$f":"$D$2","v":2},"2 Left","2 Right"]
[null,16,"Left",{"$f":"$D$2","v":2},17,"Right",{"$f":"$D$2","v":2},"2 Left","2 Right",null,26,"Left",{"$f":"$D$2","v":2},21,"Right",{"$f":"$D$2","v":2},"2 Left","2 Right",null,19,"Left",{"$f":"$D$2","v":2},25,"Right",{"$f":"$D$2","v":2},"2 Left","2 Right",null,14,"Left",{"$f":"$D$2","v":2},16,"Right",{"$f":"$D$2","v":2},"2 Left","2 Right"]
[null,null,"Left",{"$f":"$D$2","v":2},null,"Right",{"$f":"$D$2","v":2},"2 Left","2 Right",null,null,"Left",{"$f":"$D$2","v":2},null,"Right",{"$f":"$D$2","v":2},"2 Left","2 Right",null,null,"Left",{"$f":"$D$2","v":2},null,"Right",{"$f":"$D$2","v":2},"2 Left","2 Right",null,null,"Left",{"$f":"$D$2","v":2},null,"Right",{"$f":"$D$2","v":2},"2 Left","2 Right"]
[null,5,"Left",{"$f":"$F$2","v":3},6,"Right",{"$f":"$F$2","v":3},"3 Left","3 Right",null,2,"Left",{"$f":"$F$2","v":3},11,"Right",{"$f":"$F$2","v":3},"3 Left","3 Right",null,1,"Left",{"$f":"$F$2","v":3},10,"Right",{"$f":"$F$2","v":3},"3 Left","3 Right",null,3,"Left",{"$f":"$F$2","v":3},8,"Right",{"$f":"$F$2","v":3},"3 Left","3 Right"]
[null,18,"Left",{"$f":"$F$2","v":3},19,"Right",{"$f":"$F$2","v":3},"3 Left","3 Right",null,25,"Left",{"$f":"$F$2","v":3},22,"Right",{"$f":"$F$2","v":3},"3 Left","3 Right",null,15,"Left",{"$f":"$F$2","v":3},24,"Right",{"$f":"$F$2","v":3},"3 Left","3 Right",null,20,"Left",{"$f":"$F$2","v":3},17,"Right",{"$f":"$F$2","v":3},"3 Left","3 Right"]
[null,null,"Left",{"$f":"$F$2","v":3},null,"Right",{"$f":"$F$2","v":3},"3 Left","3 Right",null,null,"Left",{"$f":"$F$2","v":3},null,"Right",{"$f":"$F$2","v":3},"3 Left","3 Right",null,null,"Left",{"$f":"$F$2","v":3},null,"Right",{"$f":"$F$2","v":3},"3 Left","3 Right",null,null,"Left",{"$f":"$F$2","v":3},null,"Right",{"$f":"$F$2","v":3},"3 Left","3 Right"]
[null,7,"Left",{"$f":"$H$2","v":4},8,"Right",{"$f":"$H$2","v":4},"4 Left","4 Right",null,3,"Left",{"$f":"$H$2","v":4},12,"Right",{"$f":"$H$2","v":4},"4 Left","4 Right",null,2,"Left",{"$f":"$H$2","v":4},11,"Right",{"$f":"$H$2","v":4},"4 Left","4 Right",null,1,"Left",{"$f":"$H$2","v":4},12,"Right",{"$f":"$H$2","v":4},"4 Left","4 Right"]
[null,20,"Left",{"$f":"$H$2","v":4},21,"Right",{"$f":"$H$2","v":4},"4 Left","4 Right",null,14,"Left",{"$f":"$H$2","v":4},23,"Right",{"$f":"$H$2","v":4},"4 Left","4 Right",null,16,"Left",{"$f":"$H$2","v":4},26,"Right",{"$f":"$H$2","v":4},"4 Left","4 Right",null,18,"Left",{"$f":"$H$2","v":4},24,"Right",{"$f":"$H$2","v":4},"4 Left","4 Right"]
[null,null,"Left",4,null,"Right",4,"4 Left","4 Right",null,null,"Left",4,null,"Right",4,"4 Left","4 Right",null,null,"Left",4,null,"Right",4,"4 Left","4 Right",null,null,"Left",4,null,"Right",4,"4 Left","4 Right"]
[null,9,"Left",{"$f":"$J$2","v":5},10,"Right",{"$f":"$J$2","v":5},"5 Left","5 Right",null,4,"Left",{"$f":"$J$2","v":5},13,"Right",{"$f":"$J$2","v":5},"5 Left","5 Right",null,7,"Left",{"$f":"$J$2","v":5},12,"Right",{"$f":"$J$2","v":5},"5 Left","5 Right",null,2,"Left",{"$f":"$J$2","v":5},5,"Right",{"$f":"$J$2","v":5},"5 Left","5 Right"]
[null,22,"Left",{"$f":"$J$2","v":5},23,"Right",{"$f":"$J$2","v":5},"5 Left","5 Right",null,15,"Left",{"$f":"$J$2","v":5},24,"Right",{"$f":"$J$2","v":5},"5 Left","5 Right",null,21,"Left",{"$f":"$J$2","v":5},14,"Right",{"$f":"$J$2","v":5},"5 Left","5 Right",null,19,"Left",{"$f":"$J$2","v":5},26,"Right",{"$f":"$J$2","v":5},"5 Left","5 Right"]
[null,null,"Left",5,null,"Right",5,"5 Left","5 Right",null,null,"Left",5,null,"Right",5,"5 Left","5 Right",null,null,"Left",5,null,"Right",5,"5 Left","5 Right",null,null,"Left",5,null,"Right",5,"5 Left","5 Right"]
[null,11,"Left",{"$f":"$L$2","v":6},12,"Right",{"$f":"$L$2","v":6},"6 Left","6 Right",null,6,"Left",{"$f":"$L$2","v":6},9,"Right",{"$f":"$L$2","v":6},"6 Left","6 Right",null,4,"Left",{"$f":"$L$2","v":6},8,"Right",{"$f":"$L$2","v":6},"6 Left","6 Right",null,7,"Left",{"$f":"$L$2","v":6},13,"Right",{"$f":"$L$2","v":6},"6 Left","6 Right"]
[null,24,"Left",{"$f":"$L$2","v":6},25,"Right",{"$f":"$L$2","v":6},"6 Left","6 Right",null,17,"Left",{"$f":"$L$2","v":6},20,"Right",{"$f":"$L$2","v":6},"6 Left","6 Right",null,18,"Left",{"$f":"$L$2","v":6},22,"Right",{"$f":"$L$2","v":6},"6 Left","6 Right",null,15,"Left",{"$f":"$L$2","v":6},23,"Right",{"$f":"$L$2","v":6},"6 Left","6 Right"]
[null,null,"Left",6,null,"Right",6,"6 Left","6 Right",null,null,"Left",6,null,"Right",6,"6 Left","6 Right",null,null,"Left",6,null,"Right",6,"6 Left","6 Right",null,null,"Left",6,null,"Right",6,"6 Left","6 Right"]
[null,27,"Left",{"$f":"$N$2","v":8},28,"Right",{"$f":"$N$2","v":8},"8 Left","8 Right",null,32,"Left",{"$f":"$N$2","v":8},35,"Right",{"$f":"$N$2","v":8},"8 Left","8 Right",null,29,"Left",{"$f":"$N$2","v":8},30,"Right",{"$f":"$N$2","v":8},"8 Left","8 Right",null,38,"Left",{"$f":"$N$2","v":8},33,"Right",{"$f":"$N$2","v":8},"8 Left","8 Right"]
[null,39,"Left",{"$f":"$N$2","v":8},40,"Right",{"$f":"$N$2","v":8},"8 Left","8 Right",null,42,"Left",{"$f":"$N$2","v":8},45,"Right",{"$f":"$N$2","v":8},"8 Left","8 Right",null,49,"Left",{"$f":"$N$2","v":8},50,"Right",{"$f":"$N$2","v":8},"8 Left","8 Right",null,44,"Left",{"$f":"$N$2","v":8},39,"Right",{"$f":"$N$2","v":8},"8 Left","8 Right"]
[null,null,"Left",8,null,"Right",8,"8 Left","8 Right",null,null,"Left",8,null,"Right",8,"8 Left","8 Right",null,null,"Left",8,null,"Right",8,"8 Left","8 Right",null,null,"Left",8,null,"Right",8,"8 Left","8 Right"]
[null,29,"Left",{"$f":"$P$2","v":9},30,"Right",{"$f":"$P$2","v":9},"9 Left","9 Right",null,27,"Left",{"$f":"$P$2","v":9},36,"Right",{"$f":"$P$2","v":9},"9 Left","9 Right",null,28,"Left",{"$f":"$P$2","v":9},31,"Right",{"$f":"$P$2","v":9},"9 Left","9 Right",null,34,"Left",{"$f":"$P$2","v":9},37,"Right",{"$f":"$P$2","v":9},"9 Left","9 Right"]
[null,41,"Left",{"$f":"$P$2","v":9},42,"Right",{"$f":"$P$2","v":9},"9 Left","9 Right",null,49,"Left",{"$f":"$P$2","v":9},46,"Right",{"$f":"$P$2","v":9},"9 Left","9 Right",null,48,"Left",{"$f":"$P$2","v":9},39,"Right",{"$f":"$P$2","v":9},"9 Left","9 Right",null,40,"Left",{"$f":"$P$2","v":9},43,"Right",{"$f":"$P$2","v":9},"9 Left","9 Right"]
[null,null,"Left",9,null,"Right",9,"9 Left","9 Right",null,null,"Left",9,null,"Right",9,"9 Left","9 Right",null,null,"Left",9,null,"Right",9,"9 Left","9 Right",null,null,"Left",9,null,"Right",9,"9 Left","9 Right"]
[null,31,"Left",{"$f":"$R$2","v":10},32,"Right",{"$f":"$R$2","v":10},"10 Left","10 Right",null,28,"Left",{"$f":"$R$2","v":10},37,"Right",{"$f":"$R$2","v":10},"10 Left","10 Right",null,38,"Left",{"$f":"$R$2","v":10},34,"Right",{"$f":"$R$2","v":10},"10 Left","10 Right",null,27,"Left",{"$f":"$R$2","v":10},35,"Right",{"$f":"$R$2","v":10},"10 Left","10 Right"]
[null,43,"Left",{"$f":"$R$2","v":10},44,"Right",{"$f":"$R$2","v":10},"10 Left","10 Right",null,50,"Left",{"$f":"$R$2","v":10},47,"Right",{"$f":"$R$2","v":10},"10 Left","10 Right",null,46,"Left",{"$f":"$R$2","v":10},42,"Right",{"$f":"$R$2","v":10},"10 Left","10 Right",null,45,"Left",{"$f":"$R$2","v":10},41,"Right",{"$f":"$R$2","v":10},"10 Left","10 Right"]
[null,null,"Left",10,null,"Right",10,"10 Left","10 Right",null,null,"Left",10,null,"Right",10,"10 Left","10 Right",null,null,"Left",10,null,"Right",10,"10 Left","10 Right",null,null,"Left",10,null,"Right",10,"10 Left","10 Right"]
[null,33,"Left",{"$f":"$T$2","v":11},34,"Right",{"$f":"$T$2","v":11},"11 Left","11 Right",null,29,"Left",{"$f":"$T$2","v":11},38,"Right",{"$f":"$T$2","v":11},"11 Left","11 Right",null,27,"Left",{"$f":"$T$2","v":11},35,"Right",{"$f":"$T$2","v":11},"11 Left","11 Right",null,32,"Left",{"$f":"$T$2","v":11},36,"Right",{"$f":"$T$2","v":11},"11 Left","11 Right"]
[null,45,"Left",{"$f":"$T$2","v":11},46,"Right",{"$f":"$T$2","v":11},"11 Left","11 Right",null,39,"Left",{"$f":"$T$2","v":11},48,"Right",{"$f":"$T$2","v":11},"11 Left","11 Right",null,47,"Left",{"$f":"$T$2","v":11},43,"Right",{"$f":"$T$2","v":11},"11 Left","11 Right",null,50,"Left",{"$f":"$T$2","v":11},42,"Right",{"$f":"$T$2","v":11},"11 Left","11 Right"]
[null,null,"Left",11,null,"Right",11,"11 Left","11 Right",null,null,"Left",11,null,"Right",11,"11 Left","11 Right",null,null,"Left",11,null,"Right",11,"11 Left","11 Right",null,null,"Left",11,null,"Right",11,"11 Left","11 Right"]
[null,35,"Left",{"$f":"$V$2","v":12},36,"Right",{"$f":"$V$2","v":12},"12 Left","12 Right",null,30,"Left",{"$f":"$V$2","v":12},34,"Right",{"$f":"$V$2","v":12},"12 Left","12 Right",null,33,"Left",{"$f":"$V$2","v":12},37,"Right",{"$f":"$V$2","v":12},"12 Left","12 Right",null,28,"Left",{"$f":"$V$2","v":12},31,"Right",{"$f":"$V$2","v":12},"12 Left","12 Right"]
[null,47,"Left",{"$f":"$V$2","v":12},48,"Right",{"$f":"$V$2","v":12},"12 Left","12 Right",null,40,"Left",{"$f":"$V$2","v":12},44,"Right",{"$f":"$V$2","v":12},"12 Left","12 Right",null,41,"Left",{"$f":"$V$2","v":12},45,"Right",{"$f":"$V$2","v":12},"12 Left","12 Right",null,46,"Left",{"$f":"$V$2","v":12},49,"Right",{"$f":"$V$2","v":12},"12 Left","12 Right"]
[null,null,"Left",12,null,"Right",12,"12 Left","12 Right",null,null,"Left",12,null,"Right",12,"12 Left","12 Right",null,null,"Left",12,null,"Right",12,"12 Left","12 Right",null,null,"Left",12,null,"Right",12,"12 Left","12 Right"]
[null,37,"Left",{"$f":"$X$2","v":13},38,"Right",{"$f":"$X$2","v":13},"13 Left","13 Right",null,31,"Left",{"$f":"$X$2","v":13},33,"Right",{"$f":"$X$2","v":13},"13 Left","13 Right",null,32,"Left",{"$f":"$X$2","v":13},36,"Right",{"$f":"$X$2","v":13},"13 Left","13 Right",null,29,"Left",{"$f":"$X$2","v":13},30,"Right",{"$f":"$X$2","v":13},"13 Left","13 Right"]
[null,49,"Left",{"$f":"$X$2","v":13},50,"Right",{"$f":"$X$2","v":13},"13 Left","13 Right",null,41,"Left",{"$f":"$X$2","v":13},43,"Right",{"$f":"$X$2","v":13},"13 Left","13 Right",null,40,"Left",{"$f":"$X$2","v":13},44,"Right",{"$f":"$X$2","v":13},"13 Left","13 Right",null,47,"Left",{"$f":"$X$2","v":13},48,"Right",{"$f":"$X$2","v":13},"13 Left","13 Right"]
[null,null,"Left",13,null,"Right",13,"13 Left","13 Right",null,null,"Left",13,null,"Right",13,"13 Left","13 Right",null,null,"Left",13,null,"Right",13,"13 Left","13 Right",null,null,"Left",13,null,"Right",13,"13 Left","13 Right"]
[null,null,"Left",{"$f":"$Z$2","v":0},null,"Right",{"$f":"$Z$2","v":0},"0 Left","0 Right",null,null,"Left",{"$f":"$Z$2","v":0},null,"Right",{"$f":"$Z$2","v":0},"0 Left","0 Right",null,null,"Left",{"$f":"$Z$2","v":0},null,"Right",{"$f":"$Z$2","v":0},"0 Left","0 Right",null,null,"Left",{"$f":"$Z$2","v":0},null,"Right",{"$f":"$Z$2","v":0},"0 Left","0 Right"]
[null,null,"Left",{"$f":"$Z$2","v":0},null,"Right",{"$f":"$Z$2","v":0},"0 Left","0 Right",null,null,"Left",{"$f":"$Z$2","v":0},null,"Right",{"$f":"$Z$2","v":0},"0 Left","0 Right",null,null,"Left",{"$f":"$Z$2","v":0},null,"Right",{"$f":"$Z$2","v":0},"0 Left","0 Right",null,null,"Left",{"$f":"$Z$2","v":0},null,"Right",{"$f":"$Z$2","v":0},"0 Left","0 Right"]
[null,null,"Left",0,null,"Right",0,"0 Left","0 Right",null,null,"Left",0,null,"Right",0,"0 Left","0 Right",null,null,"Left",0,null,"Right",0,"0 Left","0 Right",null,null,"Left",0,null,"Right",0,"0 Left","0 Right"]
[null,null,"Left",{"$f":"$AB$2","v":0},null,"Right",{"$f":"$AB$2","v":0},"0 Left","0 Right",null,null,"Left",{"$f":"$AB$2","v":0},null,"Right",{"$f":"$AB$2","v":0},"0 Left","0 Right",null,null,"Left",{"$f":"$AB$2","v":0},null,"Right",{"$f":"$AB$2","v":0},"0 Left","0 Right",null,null,"Left",{"$f":"$AB$2","v":0},null,"Right",{"$f":"$AB$2","v":0},"0 Left","0 Right"]
[null,null,"Left",{"$f":"$AB$2","v":0},null,"Right",{"$f":"$AB$2","v":0},"0 Left","0 Right",null,null,"Left",{"$f":"$AB$2","v":0},null,"Right",{"$f":"$AB$2","v":0},"0 Left","0 Right",null,null,"Left",{"$f":"$AB$2","v":0},null,"Right",{"$f":"$AB$2","v":0},"0 Left","0 Right",null,null,"Left",{"$f":"$AB$2","v":0},null,"Right",{"$f":"$AB$2","v":0},"0 Left","0 Right"]
[null,null,"Left",0,null,"Right",0,"0 Left","0 Right",null,null,"Left",0,null,"Right",0,"0 Left","0 Right",null,null,"Left",0,null,"Right",0,"0 Left","0 Right",null,null,"Left",0,null,"Right",0,"0 Left","0 Right"]
{"$rows_empty":8}
[{"$nulls":37},{"$f":"$B$23","v":0},{"$f":"$H$23","v":"2 Left"},{"$f":"$K$23","v":0},{"$f":"$Q$23","v":"2 Left"},{"$f":"$T$23","v":0},{"$f":"$Z$23","v":"2 Left"},{"$f":"$AC$23","v":0},{"$f":"$AI$23","v":"2 Left"}]
[{"$nulls":37},{"$f":"$B$26","v":0},{"$f":"$H$26","v":"3 Left"},{"$f":"$K$26","v":0},{"$f":"$Q$26","v":"3 Left"},{"$f":"$T$26","v":0},{"$f":"$Z$26","v":"3 Left"},{"$f":"$AC$26","v":0},{"$f":"$AI$26","v":"3 Left"}]
[{"$nulls":37},{"$f":"$B$29","v":0},{"$f":"$H$29","v":"4 Left"},{"$f":"$K$29","v":0},{"$f":"$Q$29","v":"4 Left"},{"$f":"$T$29","v":0},{"$f":"$Z$29","v":"4 Left"},{"$f":"$AC$29","v":0},{"$f":"$AI$29","v":"4 Left"}]
[{"$nulls":37},{"$f":"$B$32","v":0},{"$f":"$H$32","v":"5 Left"},{"$f":"$K$32","v":0},{"$f":"$Q$32","v":"5 Left"},{"$f":"$T$32","v":0},{"$f":"$Z$32","v":"5 Left"},{"$f":"$AC$32","v":0},{"$f":"$AI$32","v":"5 Left"}]
[{"$nulls":37},{"$f":"$B$35","v":0},{"$f":"$H$35","v":"6 Left"},{"$f":"$K$35","v":0},{"$f":"$Q$35","v":"6 Left"},{"$f":"$T$35","v":0},{"$f":"$Z$35","v":"6 Left"},{"$f":"$AC$35","v":0},{"$f":"$AI$35","v":"6 Left"}]
[{"$nulls":37},{"$f":"$B$38","v":0},{"$f":"$H$38","v":"8 Left"},{"$f":"$K$38","v":0},{"$f":"$Q$38","v":"8 Left"},{"$f":"$T$38","v":0},{"$f":"$Z$38","v":"8 Left"},{"$f":"$AC$38","v":0},{"$f":"$AI$38","v":"8 Left"}]
[{"$nulls":37},{"$f":"$B$41","v":0},{"$f":"$H$41","v":"9 Left"},{"$f":"$K$41","v":0},{"$f":"$Q$41","v":"9 Left"},{"$f":"$T$41","v":0},{"$f":"$Z$41","v":"9 Left"},{"$f":"$AC$41","v":0},{"$f":"$AI$41","v":"9 Left"}]
[{"$nulls":37},{"$f":"$B$44","v":0},{"$f":"$H$44","v":"10 Left"},{"$f":"$K$44","v":0},{"$f":"$Q$44","v":"10 Left"},{"$f":"$T$44","v":0},{"$f":"$Z$44","v":"10 Left"},{"$f":"$AC$44","v":0},{"$f":"$AI$44","v":"10 Left"}]
[{"$nulls":37},{"$f":"$B$47","v":0},{"$f":"$H$47","v":"11 Left"},{"$f":"$K$47","v":0},{"$f":"$Q$47","v":"11 Left"},{"$f":"$T$47","v":0},{"$f":"$Z$47","v":"11 Left"},{"$f":"$AC$47","v":0},{"$f":"$AI$47","v":"11 Left"}]
[{"$nulls":37},{"$f":"$B$50","v":0},{"$f":"$H$50","v":"12 Left"},{"$f":"$K$50","v":0},{"$f":"$Q$50","v":"12 Left"},{"$f":"$T$50","v":0},{"$f":"$Z$50","v":"12 Left"},{"$f":"$AC$50","v":0},{"$f":"$AI$50","v":"12 Left"}]
[{"$nulls":37},{"$f":"$B$53","v":0},{"$f":"$H$53","v":"13 Left"},{"$f":"$K$53","v":0},{"$f":"$Q$53","v":"13 Left"},{"$f":"$T$53","v":0},{"$f":"$Z$53","v":"13 Left"},{"$f":"$AC$53","v":0},{"$f":"$AI$53","v":"13 Left"}]
[{"$nulls":37},{"$f":"$B$54","v":0},{"$f":"$H$54","v":"0 Left"},{"$f":"$K$54","v":0},{"$f":"$Q$54","v":"0 Left"},{"$f":"$T$54","v":0},{"$f":"$Z$54","v":"0 Left"},{"$f":"$AC$54","v":0},{"$f":"$AI$54","v":"0 Left"}]
[{"$nulls":37},{"$f":"$B$55","v":0},{"$f":"$H$55","v":"0 Left"},{"$f":"$K$55","v":0},{"$f":"$Q$55","v":"0 Left"},{"$f":"$T$55","v":0},{"$f":"$Z$55","v":"0 Left"},{"$f":"$AC$55","v":0},{"$f":"$AI$55","v":"0 Left"}]
[{"$nulls":37},{"$f":"$B$56","v":0},{"$f":"$H$56","v":"0 Left"},{"$f":"$K$56","v":0},{"$f":"$Q$56","v":"0 Left"},{"$f":"$T$56","v":0},{"$f":"$Z$56","v":"0 Left"},{"$f":"$AC$56","v":0},{"$f":"$AI$56","v":"0 Left"}]
[{"$nulls":37},{"$f":"$B$57","v":0},{"$f":"$H$57","v":"0 Left"},{"$f":"$K$57","v":0},{"$f":"$Q$57","v":"0 Left"},{"$f":"$T$57","v":0},{"$f":"$Z$57","v":"0 Left"},{"$f":"$AC$57","v":0},{"$f":"$AI$57","v":"0 Left"}]
[{"$nulls":37},{"$f":"$B$58","v":0},{"$f":"$H$58","v":"0 Left"},{"$f":"$K$58","v":0},{"$f":"$Q$58","v":"0 Left"},{"$f":"$T$58","v":0},{"$f":"$Z$58","v":"0 Left"},{"$f":"$AC$58","v":0},{"$f":"$AI$58","v":"0 Left"}]
[{"$nulls":37},{"$f":"$B$59","v":0},{"$f":"$H$59","v":"0 Left"},{"$f":"$K$59","v":0},{"$f":"$Q$59","v":"0 Left"},{"$f":"$T$59","v":0},{"$f":"$Z$59","v":"0 Left"},{"$f":"$AC$59","v":0},{"$f":"$AI$59","v":"0 Left"}]
[{"$nulls":37},{"$f":"$E$23","v":0},{"$f":"$I$23","v":"2 Right"},{"$f":"$N$23","v":0},{"$f":"$R$23","v":"2 Right"},{"$f":"$W$23","v":0},{"$f":"$AA$23","v":"2 Right"},{"$f":"$AF$23","v":0},{"$f":"$AJ$23","v":"2 Right"}]
[{"$nulls":37},{"$f":"$E$26","v":0},{"$f":"$I$26","v":"3 Right"},{"$f":"$N$26","v":0},{"$f":"$R$26","v":"3 Right"},{"$f":"$W$26","v":0},{"$f":"$AA$26","v":"3 Right"},{"$f":"$AF$26","v":0},{"$f":"$AJ$26","v":"3 Right"}]
[{"$nulls":37},{"$f":"$E$29","v":0},{"$f":"$I$29","v":"4 Right"},{"$f":"$N$29","v":0},{"$f":"$R$29","v":"4 Right"},{"$f":"$W$29","v":0},{"$f":"$AA$29","v":"4 Right"},{"$f":"$AF$29","v":0},{"$f":"$AJ$29","v":"4 Right"}]
[{"$nulls":37},{"$f":"$E$32","v":0},{"$f":"$I$32","v":"5 Right"},{"$f":"$N$32","v":0},{"$f":"$R$32","v":"5 Right"},{"$f":"$W$32","v":0},{"$f":"$AA$32","v":"5 Right"},{"$f":"$AF$32","v":0},{"$f":"$AJ$32","v":"5 Right"}]
[{"$nulls":37},{"$f":"$E$35","v":0},{"$f":"$I$35","v":"6 Right"},{"$f":"$N$35","v":0},{"$f":"$R$35","v":"6 Right"},{"$f":"$W$35","v":0},{"$f":"$AA$35","v":"6 Right"},{"$f":"$AF$35","v":0},{"$f":"$AJ$35","v":"6 Right"}]
[{"$nulls":37},{"$f":"$E$38","v":0},{"$f":"$I$38","v":"8 Right"},{"$f":"$N$38","v":0},{"$f":"$R$38","v":"8 Right"},{"$f":"$W$38","v":0},{"$f":"$AA$38","v":"8 Right"},{"$f":"$AF$38","v":0},{"$f":"$AJ$38","v":"8 Right"}]
[{"$nulls":37},{"$f":"$E$41","v":0},{"$f":"$I$41","v":"9 Right"},{"$f":"$N$41","v":0},{"$f":"$R$41","v":"9 Right"},{"$f":"$W$41","v":0},{"$f":"$AA$41","v":"9 Right"},{"$f":"$AF$41","v":0},{"$f":"$AJ$41","v":"9 Right"}]
[{"$nulls":37},{"$f":"$E$44","v":0},{"$f":"$I$44","v":"10 Right"},{"$f":"$N$44","v":0},{"$f":"$R$44","v":"10 Right"},{"$f":"$W$44","v":0},{"$f":"$AA$44","v":"10 Right"},{"$f":"$AF$44","v":0},{"$f":"$AJ$44","v":"10 Right"}]
[{"$nulls":37},{"$f":"$E$47","v":0},{"$f":"$I$47","v":"11 Right"},{"$f":"$N$47","v":0},{"$f":"$R$47","v":"11 Right"},{"$f":"$W$47","v":0},{"$f":"$AA$47","v":"11 Right"},{"$f":"$AF$47","v":0},{"$f":"$AJ$47","v":"11 Right"}]
[{"$nulls":37},{"$f":"$E$50","v":0},{"$f":"$I$50","v":"12 Right"},{"$f":"$N$50","v":0},{"$f":"$R$50","v":"12 Right"},{"$f":"$W$50","v":0},{"$f":"$AA$50","v":"12 Right"},{"$f":"$AF$50","v":0},{"$f":"$AJ$50","v":"12 Right"}]
[{"$nulls":37},{"$f":"$E$53","v":0},{"$f":"$I$53","v":"13 Right"},{"$f":"$N$53","v":0},{"$f":"$R$53","v":"13 Right"},{"$f":"$W$53","v":0},{"$f":"$AA$53","v":"13 Right"},{"$f":"$AF$53","v":0},{"$f":"$AJ$53","v":"13 Right"}]
[{"$nulls":37},{"$f":"$E$54","v":0},{"$f":"$I$54","v":"0 Right"},{"$f":"$N$54","v":0},{"$f":"$R$54","v":"0 Right"},{"$f":"$W$54","v":0},{"$f":"$AA$54","v":"0 Right"},{"$f":"$AF$54","v":0},{"$f":"$AJ$54","v":"0 Right"}]
[{"$nulls":37},{"$f":"$E$55","v":0},{"$f":"$I$55","v":"0 Right"},{"$f":"$N$55","v":0},{"$f":"$R$55","v":"0 Right"},{"$f":"$W$55","v":0},{"$f":"$AA$55","v":"0 Right"},{"$f":"$AF$55","v":0},{"$f":"$AJ$55","v":"0 Right"}]
[{"$nulls":37},{"$f":"$E$56","v":0},{"$f":"$I$56","v":"0 Right"},{"$f":"$N$56","v":0},{"$f":"$R$56","v":"0 Right"},{"$f":"$W$56","v":0},{"$f":"$AA$56","v":"0 Right"},{"$f":"$AF$56","v":0},{"$f":"$AJ$56","v":"0 Right"}]
[{"$nulls":37},{"$f":"$E$57","v":0},{"$f":"$I$57","v":"0 Right"},{"$f":"$N$57","v":0},{"$f":"$R$57","v":"0 Right"},{"$f":"$W$57","v":0},{"$f":"$AA$57","v":"0 Right"},{"$f":"$AF$57","v":0},{"$f":"$AJ$57","v":"0 Right"}]
[{"$nulls":37},{"$f":"$E$58","v":0},{"$f":"$I$58","v":"0 Right"},{"$f":"$N$58","v":0},{"$f":"$R$58","v":"0 Right"},{"$f":"$W$58","v":0},{"$f":"$AA$58","v":"0 Right"},{"$f":"$AF$58","v":0},{"$f":"$AJ$58","v":"0 Right"}]
[{"$nulls":37},{"$f":"$E$59","v":0},{"$f":"$I$59","v":"0 Right"},{"$f":"$N$59","v":0},{"$f":"$R$59","v":"0 Right"},{"$f":"$W$59","v":0},{"$f":"$AA$59","v":"0 Right"},{"$f":"$AF$59","v":0},{"$f":"$AJ$59","v":"0 Right"}]

{"sheet":"52","index":24,"n_rows":101,"n_cols":45,"rows_kept":101,"hidden":true,"merged":[[0,1,0,28],[1,1,1,2],[1,3,1,4],[1,5,1,6],[1,7,1,8],[1,9,1,10],[1,11,1,12],[1,13,1,14],[1,15,1,16],[1,17,1,18],[1,19,1,20],[1,21,1,22],[1,23,1,24],[1,25,1,26],[2,0,4,0],[5,0,7,0],[8,0,10,0],[11,0,13,0],[13,1,13,26],[15,1,15,6],[15,10,15,15],[15,19,15,24],[15,28,15,33],[16,37,16,38],[16,39,16,40],[16,41,16,42],[16,43,16,44]]}
[null,"YOU MAY CHANGE THESE RINK NUMBERS IF YOU WISH"]
["Round",1,null,2,2,3,3,4,4,5,5,6,6,7,7,8,null,9,2,10,3,11,4,12,5,13,6]
[1,1,2,3,4,5,6,7,8,9,10,11,12,13,14,29,30,31,32,33,34,35,36,37,38,39,40]
[null,15,16,17,18,19,20,21,22,23,24,25,26,27,28,41,42,43,44,45,46,47,48,49,50,51,52]
[]
[2,9,14,1,10,2,11,3,12,4,13,5,8,6,7,34,37,29,38,30,39,31,40,32,36,33,35]
[null,21,26,27,22,28,23,15,24,16,25,17,20,18,19,44,47,51,48,52,49,41,50,42,46,43,45]
[]
[3,7,10,6,14,1,12,2,13,3,8,4,9,5,11,31,32,30,33,40,36,29,37,35,39,34,38]
[null,17,20,16,24,25,22,26,23,27,18,28,19,15,21,51,52,50,41,48,44,49,45,43,47,42,46]
[]
[4,3,11,7,12,4,8,5,9,6,14,13,10,2,1,40,35,36,39,29,37,34,38,30,33,31,32]
[null,25,19,15,20,26,16,27,17,28,22,21,18,24,23,46,41,42,45,47,43,52,44,48,51,49,50]
[null,"52 on 2 greens"]
[]
[null,1,{"$nulls":8},2,{"$nulls":8},3,{"$nulls":8},4]
[null,"no","Left","rink","no","Right","rink","L","R",null,"no","Left","rink","no","Right","rink","L","R",null,"no","Left","rink","no","Right","rink","L","R",null,"no","Left","rink","no","Right","rink","L","R",null,1,null,2,null,3,null,4]
[null,1,"Left",{"$f":"$B$2","v":1},2,"Right",{"$f":"$B$2","v":1},{"$f":"(D18&\" \"&C18)","v":"1 Left"},{"$f":"(G18&\" \"&F18)","v":"1 Right"},null,9,"Left",{"$f":"$B$2","v":1},14,"Right",{"$f":"$B$2","v":1},{"$f":"(M18&\" \"&L18)","v":"1 Left"},{"$f":"(P18&\" \"&O18)","v":"1 Right"},null,7,"Left",{"$f":"$B$2","v":1},10,"Right",{"$f":"$B$2","v":1},{"$f":"(V18&\" \"&U18)","v":"1 Left"},{"$f":"(Y18&\" \"&X18)","v":"1 Right"},null,3,"Left",{"$f":"$B$2","v":1},11,"Right",{"$f":"$B$2","v":1},{"$f":"(AE18&\" \"&AD18)","v":"1 Left"},{"$f":"(AH18&\" \"&AG18)","v":"1 Right"}]
[null,15,"Left",{"$f":"$B$2","v":1},16,"Right",{"$f":"$B$2","v":1},{"$f":"(D19&\" \"&C19)","v":"1 Left"},{"$f":"(G19&\" \"&F19)","v":"1 Right"},null,21,"Left",{"$f":"$B$2","v":1},26,"Right",{"$f":"$B$2","v":1},{"$f":"(M19&\" \"&L19)","v":"1 Left"},{"$f":"(P19&\" \"&O19)","v":"1 Right"},null,17,"Left",{"$f":"$B$2","v":1},20,"Right",{"$f":"$B$2","v":1},{"$f":"(V19&\" \"&U19)","v":"1 Left"},{"$f":"(Y19&\" \"&X19)","v":"1 Right"},null,25,"Left",{"$f":"$B$2","v":1},19,"Right",{"$f":"$B$2","v":1},{"$f":"(AE19&\" \"&AD19)","v":"1 Left"},{"$f":"(AH19&\" \"&AG19)","v":"1 Right"}]
[null,null,"Left",{"$f":"$B$2","v":1},null,"Right",{"$f":"$B$2","v":1},"1 Left","1 Right",null,null,"Left",{"$f":"$B$2","v":1},null,"Right",{"$f":"$B$2","v":1},"1 Left","1 Right",null,null,"Left",{"$f":"$B$2","v":1},null,"Right",{"$f":"$B$2","v":1},"1 Left","1 Right",null,null,"Left",{"$f":"$B$2","v":1},null,"Right",{"$f":"$B$2","v":1},"1 Left","1 Right"]
[null,3,"Left",{"$f":"$D$2","v":2},4,"Right",{"$f":"$D$2","v":2},"2 Left","2 Right",null,1,"Left",{"$f":"$D$2","v":2},10,"Right",{"$f":"$D$2","v":2},"2 Left","2 Right",null,6,"Left",{"$f":"$D$2","v":2},14,"Right",{"$f":"$D$2","v":2},"2 Left","2 Right",null,7,"Left",{"$f":"$D$2","v":2},12,"Right",{"$f":"$D$2","v":2},"2 Left","2 Right"]
[null,17,"Left",{"$f":"$D$2","v":2},18,"Right",{"$f":"$D$2","v":2},"2 Left","2 Right",null,27,"Left",{"$f":"$D$2","v":2},22,"Right",{"$f":"$D$2","v":2},"2 Left","2 Right",null,16,"Left",{"$f":"$D$2","v":2},24,"Right",{"$f":"$D$2","v":2},"2 Left","2 Right",null,15,"Left",{"$f":"$D$2","v":2},20,"Right",{"$f":"$D$2","v":2},"2 Left","2 Right"]
[null,null,"Left",{"$f":"$D$2","v":2},null,"Right",{"$f":"$D$2","v":2},"2 Left","2 Right",null,null,"Left",{"$f":"$D$2","v":2},null,"Right",{"$f":"$D$2","v":2},"2 Left","2 Right",null,null,"Left",{"$f":"$D$2","v":2},null,"Right",{"$f":"$D$2","v":2},"2 Left","2 Right",null,null,"Left",{"$f":"$D$2","v":2},null,"Right",{"$f":"$D$2","v":2},"2 Left","2 Right"]
[null,5,"Left",{"$f":"$F$2","v":3},6,"Right",{"$f":"$F$2","v":3},"3 Left","3 Right",null,2,"Left",{"$f":"$F$2","v":3},11,"Right",{"$f":"$F$2","v":3},"3 Left","3 Right",null,1,"Left",{"$f":"$F$2","v":3},12,"Right",{"$f":"$F$2","v":3},"3 Left","3 Right",null,4,"Left",{"$f":"$F$2","v":3},8,"Right",{"$f":"$F$2","v":3},"3 Left","3 Right"]
[null,19,"Left",{"$f":"$F$2","v":3},20,"Right",{"$f":"$F$2","v":3},"3 Left","3 Right",null,28,"Left",{"$f":"$F$2","v":3},23,"Right",{"$f":"$F$2","v":3},"3 Left","3 Right",null,25,"Left",{"$f":"$F$2","v":3},22,"Right",{"$f":"$F$2","v":3},"3 Left","3 Right",null,26,"Left",{"$f":"$F$2","v":3},16,"Right",{"$f":"$F$2","v":3},"3 Left","3 Right"]
[null,null,"Left",{"$f":"$F$2","v":3},null,"Right",{"$f":"$F$2","v":3},"3 Left","3 Right",null,null,"Left",{"$f":"$F$2","v":3},null,"Right",{"$f":"$F$2","v":3},"3 Left","3 Right",null,null,"Left",{"$f":"$F$2","v":3},null,"Right",{"$f":"$F$2","v":3},"3 Left","3 Right",null,null,"Left",{"$f":"$F$2","v":3},null,"Right",{"$f":"$F$2","v":3},"3 Left","3 Right"]
[null,7,"Left",{"$f":"$H$2","v":4},8,"Right",{"$f":"$H$2","v":4},"4 Left","4 Right",null,3,"Left",{"$f":"$H$2","v":4},12,"Right",{"$f":"$H$2","v":4},"4 Left","4 Right",null,2,"Left",{"$f":"$H$2","v":4},13,"Right",{"$f":"$H$2","v":4},"4 Left","4 Right",null,5,"Left",{"$f":"$H$2","v":4},9,"Right",{"$f":"$H$2","v":4},"4 Left","4 Right"]
[null,21,"Left",{"$f":"$H$2","v":4},22,"Right",{"$f":"$H$2","v":4},"4 Left","4 Right",null,15,"Left",{"$f":"$H$2","v":4},24,"Right",{"$f":"$H$2","v":4},"4 Left","4 Right",null,26,"Left",{"$f":"$H$2","v":4},23,"Right",{"$f":"$H$2","v":4},"4 Left","4 Right",null,27,"Left",{"$f":"$H$2","v":4},17,"Right",{"$f":"$H$2","v":4},"4 Left","4 Right"]
[null,null,"Left",4,null,"Right",4,"4 Left","4 Right",null,null,"Left",4,null,"Right",4,"4 Left","4 Right",null,null,"Left",4,null,"Right",4,"4 Left","4 Right",null,null,"Left",4,null,"Right",4,"4 Left","4 Right"]
[null,9,"Left",{"$f":"$J$2","v":5},10,"Right",{"$f":"$J$2","v":5},"5 Left","5 Right",null,4,"Left",{"$f":"$J$2","v":5},13,"Right",{"$f":"$J$2","v":5},"5 Left","5 Right",null,3,"Left",{"$f":"$J$2","v":5},8,"Right",{"$f":"$J$2","v":5},"5 Left","5 Right",null,6,"Left",{"$f":"$J$2","v":5},14,"Right",{"$f":"$J$2","v":5},"5 Left","5 Right"]
[null,23,"Left",{"$f":"$J$2","v":5},24,"Right",{"$f":"$J$2","v":5},"5 Left","5 Right",null,16,"Left",{"$f":"$J$2","v":5},25,"Right",{"$f":"$J$2","v":5},"5 Left","5 Right",null,27,"Left",{"$f":"$J$2","v":5},18,"Right",{"$f":"$J$2","v":5},"5 Left","5 Right",null,28,"Left",{"$f":"$J$2","v":5},22,"Right",{"$f":"$J$2","v":5},"5 Left","5 Right"]
[null,null,"Left",5,null,"Right",5,"5 Left","5 Right",null,null,"Left",5,null,"Right",5,"5 Left","5 Right",null,null,"Left",5,null,"Right",5,"5 Left","5 Right",null,null,"Left",5,null,"Right",5,"5 Left","5 Right"]
[null,11,"Left",{"$f":"$L$2","v":6},12,"Right",{"$f":"$L$2","v":6},"6 Left","6 Right",null,5,"Left",{"$f":"$L$2","v":6},8,"Right",{"$f":"$L$2","v":6},"6 Left","6 Right",null,4,"Left",{"$f":"$L$2","v":6},9,"Right",{"$f":"$L$2","v":6},"6 Left","6 Right",null,13,"Left",{"$f":"$L$2","v":6},10,"Right",{"$f":"$L$2","v":6},"6 Left","6 Right"]
[null,25,"Left",{"$f":"$L$2","v":6},26,"Right",{"$f":"$L$2","v":6},"6 Left","6 Right",null,17,"Left",{"$f":"$L$2","v":6},20,"Right",{"$f":"$L$2","v":6},"6 Left","6 Right",null,28,"Left",{"$f":"$L$2","v":6},19,"Right",{"$f":"$L$2","v":6},"6 Left","6 Right",null,21,"Left",{"$f":"$L$2","v":6},18,"Right",{"$f":"$L$2","v":6},"6 Left","6 Right"]
[null,null,"Left",6,null,"Right",6,"6 Left","6 Right",null,null,"Left",6,null,"Right",6,"6 Left","6 Right",null,null,"Left",6,null,"Right",6,"6 Left","6 Right",null,null,"Left",6,null,"Right",6,"6 Left","6 Right"]
[null,13,"Left",{"$f":"$N$2","v":7},14,"Right",{"$f":"$N$2","v":7},"7 Left","7 Right",null,6,"Left",{"$f":"$N$2","v":7},7,"Right",{"$f":"$N$2","v":7},"7 Left","7 Right",null,5,"Left",{"$f":"$N$2","v":7},11,"Right",{"$f":"$N$2","v":7},"7 Left","7 Right",null,2,"Left",{"$f":"$N$2","v":7},1,"Right",{"$f":"$N$2","v":7},"7 Left","7 Right"]
[null,27,"Left",{"$f":"$N$2","v":7},28,"Right",{"$f":"$N$2","v":7},"7 Left","7 Right",null,18,"Left",{"$f":"$N$2","v":7},19,"Right",{"$f":"$N$2","v":7},"7 Left","7 Right",null,15,"Left",{"$f":"$N$2","v":7},21,"Right",{"$f":"$N$2","v":7},"7 Left","7 Right",null,24,"Left",{"$f":"$N$2","v":7},23,"Right",{"$f":"$N$2","v":7},"7 Left","7 Right"]
[null,null,"Left",7,null,"Right",7,"7 Left","7 Right",null,null,"Left",7,null,"Right",7,"7 Left","7 Right",null,null,"Left",7,null,"Right",7,"7 Left","7 Right",null,null,"Left",7,null,"Right",7,"7 Left","7 Right"]
[null,29,"Left",{"$f":"$P$2","v":8},30,"Right",{"$f":"$P$2","v":8},"8 Left","8 Right",null,34,"Left",{"$f":"$P$2","v":8},37,"Right",{"$f":"$P$2","v":8},"8 Left","8 Right",null,31,"Left",{"$f":"$P$2","v":8},32,"Right",{"$f":"$P$2","v":8},"8 Left","8 Right",null,40,"Left",{"$f":"$P$2","v":8},35,"Right",{"$f":"$P$2","v":8},"8 Left","8 Right"]
[null,41,"Left",{"$f":"$P$2","v":8},42,"Right",{"$f":"$P$2","v":8},"8 Left","8 Right",null,44,"Left",{"$f":"$P$2","v":8},47,"Right",{"$f":"$P$2","v":8},"8 Left","8 Right",null,51,"Left",{"$f":"$P$2","v":8},52,"Right",{"$f":"$P$2","v":8},"8 Left","8 Right",null,46,"Left",{"$f":"$P$2","v":8},41,"Right",{"$f":"$P$2","v":8},"8 Left","8 Right"]
[null,null,"Left",8,null,"Right",8,"8 Left","8 Right",null,null,"Left",8,null,"Right",8,"8 Left","8 Right",null,null,"Left",8,null,"Right",8,"8 Left","8 Right",null,null,"Left",8,null,"Right",8,"8 Left","8 Right"]
[null,31,"Left",{"$f":"$R$2","v":9},32,"Right",{"$f":"$R$2","v":9},"9 Left","9 Right",null,29,"Left",{"$f":"$R$2","v":9},38,"Right",{"$f":"$R$2","v":9},"9 Left","9 Right",null,30,"Left",{"$f":"$R$2","v":9},33,"Right",{"$f":"$R$2","v":9},"9 Left","9 Right",null,36,"Left",{"$f":"$R$2","v":9},39,"Right",{"$f":"$R$2","v":9},"9 Left","9 Right"]
[null,43,"Left",{"$f":"$R$2","v":9},44,"Right",{"$f":"$R$2","v":9},"9 Left","9 Right",null,51,"Left",{"$f":"$R$2","v":9},48,"Right",{"$f":"$R$2","v":9},"9 Left","9 Right",null,50,"Left",{"$f":"$R$2","v":9},41,"Right",{"$f":"$R$2","v":9},"9 Left","9 Right",null,42,"Left",{"$f":"$R$2","v":9},45,"Right",{"$f":"$R$2","v":9},"9 Left","9 Right"]
[null,null,"Left",9,null,"Right",9,"9 Left","9 Right",null,null,"Left",9,null,"Right",9,"9 Left","9 Right",null,null,"Left",9,null,"Right",9,"9 Left","9 Right",null,null,"Left",9,null,"Right",9,"9 Left","9 Right"]
[null,33,"Left",{"$f":"$T$2","v":10},34,"Right",{"$f":"$T$2","v":10},"10 Left","10 Right",null,30,"Left",{"$f":"$T$2","v":10},39,"Right",{"$f":"$T$2","v":10},"10 Left","10 Right",null,40,"Left",{"$f":"$T$2","v":10},36,"Right",{"$f":"$T$2","v":10},"10 Left","10 Right",null,29,"Left",{"$f":"$T$2","v":10},37,"Right",{"$f":"$T$2","v":10},"10 Left","10 Right"]
[null,45,"Left",{"$f":"$T$2","v":10},46,"Right",{"$f":"$T$2","v":10},"10 Left","10 Right",null,52,"Left",{"$f":"$T$2","v":10},49,"Right",{"$f":"$T$2","v":10},"10 Left","10 Right",null,48,"Left",{"$f":"$T$2","v":10},44,"Right",{"$f":"$T$2","v":10},"10 Left","10 Right",null,47,"Left",{"$f":"$T$2","v":10},43,"Right",{"$f":"$T$2","v":10},"10 Left","10 Right"]
[null,null,"Left",10,null,"Right",10,"10 Left","10 Right",null,null,"Left",10,null,"Right",10,"10 Left","10 Right",null,null,"Left",10,null,"Right",10,"10 Left","10 Right",null,null,"Left",10,null,"Right",10,"10 Left","10 Right"]
[null,35,"Left",{"$f":"$V$2","v":11},36,"Right",{"$f":"$V$2","v":11},"11 Left","11 Right",null,31,"Left",{"$f":"$V$2","v":11},40,"Right",{"$f":"$V$2","v":11},"11 Left","11 Right",null,29,"Left",{"$f":"$V$2","v":11},37,"Right",{"$f":"$V$2","v":11},"11 Left","11 Right",null,34,"Left",{"$f":"$V$2","v":11},38,"Right",{"$f":"$V$2","v":11},"11 Left","11 Right"]
[null,47,"Left",{"$f":"$V$2","v":11},48,"Right",{"$f":"$V$2","v":11},"11 Left","11 Right",null,41,"Left",{"$f":"$V$2","v":11},50,"Right",{"$f":"$V$2","v":11},"11 Left","11 Right",null,49,"Left",{"$f":"$V$2","v":11},45,"Right",{"$f":"$V$2","v":11},"11 Left","11 Right",null,52,"Left",{"$f":"$V$2","v":11},44,"Right",{"$f":"$V$2","v":11},"11 Left","11 Right"]
[null,null,"Left",11,null,"Right",11,"11 Left","11 Right",null,null,"Left",11,null,"Right",11,"11 Left","11 Right",null,null,"Left",11,null,"Right",11,"11 Left","11 Right",null,null,"Left",11,null,"Right",11,"11 Left","11 Right"]
[null,37,"Left",{"$f":"$X$2","v":12},38,"Right",{"$f":"$X$2","v":12},"12 Left","12 Right",null,32,"Left",{"$f":"$X$2","v":12},36,"Right",{"$f":"$X$2","v":12},"12 Left","12 Right",null,35,"Left",{"$f":"$X$2","v":12},39,"Right",{"$f":"$X$2","v":12},"12 Left","12 Right",null,30,"Left",{"$f":"$X$2","v":12},33,"Right",{"$f":"$X$2","v":12},"12 Left","12 Right"]
[null,49,"Left",{"$f":"$X$2","v":12},50,"Right",{"$f":"$X$2","v":12},"12 Left","12 Right",null,42,"Left",{"$f":"$X$2","v":12},46,"Right",{"$f":"$X$2","v":12},"12 Left","12 Right",null,43,"Left",{"$f":"$X$2","v":12},47,"Right",{"$f":"$X$2","v":12},"12 Left","12 Right",null,48,"Left",{"$f":"$X$2","v":12},51,"Right",{"$f":"$X$2","v":12},"12 Left","12 Right"]
[null,null,"Left",12,null,"Right",12,"12 Left","12 Right",null,null,"Left",12,null,"Right",12,"12 Left","12 Right",null,null,"Left",12,null,"Right",12,"12 Left","12 Right",null,null,"Left",12,null,"Right",12,"12 Left","12 Right"]
[null,39,"Left",{"$f":"$Z$2","v":13},40,"Right",{"$f":"$Z$2","v":13},"13 Left","13 Right",null,33,"Left",{"$f":"$Z$2","v":13},35,"Right",{"$f":"$Z$2","v":13},"13 Left","13 Right",null,34,"Left",{"$f":"$Z$2","v":13},38,"Right",{"$f":"$Z$2","v":13},"13 Left","13 Right",null,31,"Left",{"$f":"$Z$2","v":13},32,"Right",{"$f":"$Z$2","v":13},"13 Left","13 Right"]
[null,51,"Left",{"$f":"$Z$2","v":13},52,"Right",{"$f":"$Z$2","v":13},"13 Left","13 Right",null,43,"Left",{"$f":"$Z$2","v":13},45,"Right",{"$f":"$Z$2","v":13},"13 Left","13 Right",null,42,"Left",{"$f":"$Z$2","v":13},46,"Right",{"$f":"$Z$2","v":13},"13 Left","13 Right",null,49,"Left",{"$f":"$Z$2","v":13},50,"Right",{"$f":"$Z$2","v":13},"13 Left","13 Right"]
[null,null,"Left",13,null,"Right",13,"13 Left","13 Right",null,null,"Left",13,null,"Right",13,"13 Left","13 Right",null,null,"Left",13,null,"Right",13,"13 Left","13 Right",null,null,"Left",13,null,"Right",13,"13 Left","13 Right"]
[null,null,"Left",{"$f":"$AB$2","v":0},null,"Right",{"$f":"$AB$2","v":0},"0 Left","0 Right",null,null,"Left",{"$f":"$AB$2","v":0},null,"Right",{"$f":"$AB$2","v":0},"0 Left","0 Right",null,null,"Left",{"$f":"$AB$2","v":0},null,"Right",{"$f":"$AB$2","v":0},"0 Left","0 Right",null,null,"Left",{"$f":"$AB$2","v":0},null,"Right",{"$f":"$AB$2","v":0},"0 Left","0 Right"]
[null,null,"Left",{"$f":"$AB$2","v":0},null,"Right",{"$f":"$AB$2","v":0},"0 Left","0 Right",null,null,"Left",{"$f":"$AB$2","v":0},null,"Right",{"$f":"$AB$2","v":0},"0 Left","0 Right",null,null,"Left",{"$f":"$AB$2","v":0},null,"Right",{"$f":"$AB$2","v":0},"0 Left","0 Right",null,null,"Left",{"$f":"$AB$2","v":0},null,"Right",{"$f":"$AB$2","v":0},"0 Left","0 Right"]
[null,null,"Left",0,null,"Right",0,"0 Left","0 Right",null,null,"Left",0,null,"Right",0,"0 Left","0 Right",null,null,"Left",0,null,"Right",0,"0 Left","0 Right",null,null,"Left",0,null,"Right",0,"0 Left","0 Right"]
{"$rows_empty":10}
[{"$nulls":37},{"$f":"$B$20","v":0},{"$f":"$H$20","v":"1 Left"},{"$f":"$K$20","v":0},{"$f":"$Q$20","v":"1 Left"},{"$f":"$T$20","v":0},{"$f":"$Z$20","v":"1 Left"},{"$f":"$AC$20","v":0},{"$f":"$AI$20","v":"1 Left"}]
[{"$nulls":37},{"$f":"$E$20","v":0},{"$f":"$I$20","v":"1 Right"},{"$f":"$K$23","v":0},{"$f":"$Q$23","v":"2 Left"},{"$f":"$T$23","v":0},{"$f":"$Z$23","v":"2 Left"},{"$f":"$AC$23","v":0},{"$f":"$AI$23","v":"2 Left"}]
[{"$nulls":37},{"$f":"$B$23","v":0},{"$f":"$H$23","v":"2 Left"},{"$f":"$K$26","v":0},{"$f":"$Q$26","v":"3 Left"},{"$f":"$T$26","v":0},{"$f":"$Z$26","v":"3 Left"},{"$f":"$AC$26","v":0},{"$f":"$AI$26","v":"3 Left"}]
[{"$nulls":37},{"$f":"$B$26","v":0},{"$f":"$H$26","v":"3 Left"},{"$f":"$K$29","v":0},{"$f":"$Q$29","v":"4 Left"},{"$f":"$T$29","v":0},{"$f":"$Z$29","v":"4 Left"},{"$f":"$AC$29","v":0},{"$f":"$AI$29","v":"4 Left"}]
[{"$nulls":37},{"$f":"$B$29","v":0},{"$f":"$H$29","v":"4 Left"},{"$f":"$K$32","v":0},{"$f":"$Q$32","v":"5 Left"},{"$f":"$T$32","v":0},{"$f":"$Z$32","v":"5 Left"},{"$f":"$AC$32","v":0},{"$f":"$AI$32","v":"5 Left"}]
[{"$nulls":37},{"$f":"$B$32","v":0},{"$f":"$H$32","v":"5 Left"},{"$f":"$K$35","v":0},{"$f":"$Q$35","v":"6 Left"},{"$f":"$T$35","v":0},{"$f":"$Z$35","v":"6 Left"},{"$f":"$AC$35","v":0},{"$f":"$AI$35","v":"6 Left"}]
[{"$nulls":37},{"$f":"$B$35","v":0},{"$f":"$H$35","v":"6 Left"},{"$f":"$K$38","v":0},{"$f":"$Q$38","v":"7 Left"},{"$f":"$T$38","v":0},{"$f":"$Z$38","v":"7 Left"},{"$f":"$AC$38","v":0},{"$f":"$AI$38","v":"7 Left"}]
[{"$nulls":37},{"$f":"$B$38","v":0},{"$f":"$H$38","v":"7 Left"},{"$f":"$K$41","v":0},{"$f":"$Q$41","v":"8 Left"},{"$f":"$T$41","v":0},{"$f":"$Z$41","v":"8 Left"},{"$f":"$AC$41","v":0},{"$f":"$AI$41","v":"8 Left"}]
[{"$nulls":37},{"$f":"$B$41","v":0},{"$f":"$H$41","v":"8 Left"},{"$f":"$K$44","v":0},{"$f":"$Q$44","v":"9 Left"},{"$f":"$T$44","v":0},{"$f":"$Z$44","v":"9 Left"},{"$f":"$AC$44","v":0},{"$f":"$AI$44","v":"9 Left"}]
[{"$nulls":37},{"$f":"$B$44","v":0},{"$f":"$H$44","v":"9 Left"},{"$f":"$K$47","v":0},{"$f":"$Q$47","v":"10 Left"},{"$f":"$T$47","v":0},{"$f":"$Z$47","v":"10 Left"},{"$f":"$AC$47","v":0},{"$f":"$AI$47","v":"10 Left"}]
[{"$nulls":37},{"$f":"$B$47","v":0},{"$f":"$H$47","v":"10 Left"},{"$f":"$K$50","v":0},{"$f":"$Q$50","v":"11 Left"},{"$f":"$T$50","v":0},{"$f":"$Z$50","v":"11 Left"},{"$f":"$AC$50","v":0},{"$f":"$AI$50","v":"11 Left"}]
[{"$nulls":37},{"$f":"$B$50","v":0},{"$f":"$H$50","v":"11 Left"},{"$f":"$K$53","v":0},{"$f":"$Q$53","v":"12 Left"},{"$f":"$T$53","v":0},{"$f":"$Z$53","v":"12 Left"},{"$f":"$AC$53","v":0},{"$f":"$AI$53","v":"12 Left"}]
[{"$nulls":37},{"$f":"$B$53","v":0},{"$f":"$H$53","v":"12 Left"},{"$f":"$K$56","v":0},{"$f":"$Q$56","v":"13 Left"},{"$f":"$T$56","v":0},{"$f":"$Z$56","v":"13 Left"},{"$f":"$AC$56","v":0},{"$f":"$AI$56","v":"13 Left"}]
[{"$nulls":37},{"$f":"$B$56","v":0},{"$f":"$H$56","v":"13 Left"},{"$f":"$K$57","v":0},{"$f":"$Q$57","v":"0 Left"},{"$f":"$T$57","v":0},{"$f":"$Z$57","v":"0 Left"},{"$f":"$AC$57","v":0},{"$f":"$AI$57","v":"0 Left"}]
[{"$nulls":37},{"$f":"$B$57","v":0},{"$f":"$H$57","v":"0 Left"},{"$f":"$K$58","v":0},{"$f":"$Q$58","v":"0 Left"},{"$f":"$T$58","v":0},{"$f":"$Z$58","v":"0 Left"},{"$f":"$AC$58","v":0},{"$f":"$AI$58","v":"0 Left"}]
[{"$nulls":37},{"$f":"$B$58","v":0},{"$f":"$H$58","v":"0 Left"},{"$f":"$K$59","v":0},{"$f":"$Q$59","v":"0 Left"},{"$f":"$T$59","v":0},{"$f":"$Z$59","v":"0 Left"},{"$f":"$AC$59","v":0},{"$f":"$AI$59","v":"0 Left"}]
[{"$nulls":37},{"$f":"$B$59","v":0},{"$f":"$H$59","v":"0 Left"},{"$f":"$N$20","v":0},{"$f":"$R$20","v":"1 Right"},{"$f":"$W$20","v":0},{"$f":"$AA$20","v":"1 Right"},{"$f":"$AF$20","v":0},{"$f":"$AJ$20","v":"1 Right"}]
[{"$nulls":37},{"$f":"$E$23","v":0},{"$f":"$I$23","v":"2 Right"},{"$f":"$N$23","v":0},{"$f":"$R$23","v":"2 Right"},{"$f":"$W$23","v":0},{"$f":"$AA$23","v":"2 Right"},{"$f":"$AF$23","v":0},{"$f":"$AJ$23","v":"2 Right"}]
[{"$nulls":37},{"$f":"$E$26","v":0},{"$f":"$I$26","v":"3 Right"},{"$f":"$N$26","v":0},{"$f":"$R$26","v":"3 Right"},{"$f":"$W$26","v":0},{"$f":"$AA$26","v":"3 Right"},{"$f":"$AF$26","v":0},{"$f":"$AJ$26","v":"3 Right"}]
[{"$nulls":37},{"$f":"$E$29","v":0},{"$f":"$I$29","v":"4 Right"},{"$f":"$N$29","v":0},{"$f":"$R$29","v":"4 Right"},{"$f":"$W$29","v":0},{"$f":"$AA$29","v":"4 Right"},{"$f":"$AF$29","v":0},{"$f":"$AJ$29","v":"4 Right"}]
[{"$nulls":37},{"$f":"$E$32","v":0},{"$f":"$I$32","v":"5 Right"},{"$f":"$N$32","v":0},{"$f":"$R$32","v":"5 Right"},{"$f":"$W$32","v":0},{"$f":"$AA$32","v":"5 Right"},{"$f":"$AF$32","v":0},{"$f":"$AJ$32","v":"5 Right"}]
[{"$nulls":37},{"$f":"$E$35","v":0},{"$f":"$I$35","v":"6 Right"},{"$f":"$N$35","v":0},{"$f":"$R$35","v":"6 Right"},{"$f":"$W$35","v":0},{"$f":"$AA$35","v":"6 Right"},{"$f":"$AF$35","v":0},{"$f":"$AJ$35","v":"6 Right"}]
[{"$nulls":37},{"$f":"$E$38","v":0},{"$f":"$I$38","v":"7 Right"},{"$f":"$N$38","v":0},{"$f":"$R$38","v":"7 Right"},{"$f":"$W$38","v":0},{"$f":"$AA$38","v":"7 Right"},{"$f":"$AF$38","v":0},{"$f":"$AJ$38","v":"7 Right"}]
[{"$nulls":37},{"$f":"$E$41","v":0},{"$f":"$I$41","v":"8 Right"},{"$f":"$N$41","v":0},{"$f":"$R$41","v":"8 Right"},{"$f":"$W$41","v":0},{"$f":"$AA$41","v":"8 Right"},{"$f":"$AF$41","v":0},{"$f":"$AJ$41","v":"8 Right"}]
[{"$nulls":37},{"$f":"$E$44","v":0},{"$f":"$I$44","v":"9 Right"},{"$f":"$N$44","v":0},{"$f":"$R$44","v":"9 Right"},{"$f":"$W$44","v":0},{"$f":"$AA$44","v":"9 Right"},{"$f":"$AF$44","v":0},{"$f":"$AJ$44","v":"9 Right"}]
[{"$nulls":37},{"$f":"$E$47","v":0},{"$f":"$I$47","v":"10 Right"},{"$f":"$N$47","v":0},{"$f":"$R$47","v":"10 Right"},{"$f":"$W$47","v":0},{"$f":"$AA$47","v":"10 Right"},{"$f":"$AF$47","v":0},{"$f":"$AJ$47","v":"10 Right"}]
[{"$nulls":37},{"$f":"$E$50","v":0},{"$f":"$I$50","v":"11 Right"},{"$f":"$N$50","v":0},{"$f":"$R$50","v":"11 Right"},{"$f":"$W$50","v":0},{"$f":"$AA$50","v":"11 Right"},{"$f":"$AF$50","v":0},{"$f":"$AJ$50","v":"11 Right"}]
[{"$nulls":37},{"$f":"$E$53","v":0},{"$f":"$I$53","v":"12 Right"},{"$f":"$N$53","v":0},{"$f":"$R$53","v":"12 Right"},{"$f":"$W$53","v":0},{"$f":"$AA$53","v":"12 Right"},{"$f":"$AF$53","v":0},{"$f":"$AJ$53","v":"12 Right"}]
[{"$nulls":37},{"$f":"$E$56","v":0},{"$f":"$I$56","v":"13 Right"},{"$f":"$N$56","v":0},{"$f":"$R$56","v":"13 Right"},{"$f":"$W$56","v":0},{"$f":"$AA$56","v":"13 Right"},{"$f":"$AF$56","v":0},{"$f":"$AJ$56","v":"13 Right"}]
[{"$nulls":37},{"$f":"$E$57","v":0},{"$f":"$I$57","v":"0 Right"},{"$f":"$N$57","v":0},{"$f":"$R$57","v":"0 Right"},{"$f":"$W$57","v":0},{"$f":"$AA$57","v":"0 Right"},{"$f":"$AF$57","v":0},{"$f":"$AJ$57","v":"0 Right"}]
[{"$nulls":37},{"$f":"$E$58","v":0},{"$f":"$I$58","v":"0 Right"},{"$f":"$N$58","v":0},{"$f":"$R$58","v":"0 Right"},{"$f":"$W$58","v":0},{"$f":"$AA$58","v":"0 Right"},{"$f":"$AF$58","v":0},{"$f":"$AJ$58","v":"0 Right"}]
[{"$nulls":37},{"$f":"$E$59","v":0},{"$f":"$I$59","v":"0 Right"},{"$f":"$N$59","v":0},{"$f":"$R$59","v":"0 Right"},{"$f":"$W$59","v":0},{"$f":"$AA$59","v":"0 Right"},{"$f":"$AF$59","v":0},{"$f":"$AJ$59","v":"0 Right"}]

{"sheet":"54","index":25,"n_rows":101,"n_cols":45,"rows_kept":101,"hidden":true,"merged":[[0,1,0,26],[1,1,1,2],[1,3,1,4],[1,5,1,6],[1,7,1,8],[1,9,1,10],[1,11,1,12],[1,13,1,14],[1,15,1,16],[1,17,1,18],[1,19,1,20],[1,21,1,22],[1,23,1,24],[1,25,1,26],[2,0,4,0],[5,0,7,0],[8,0,10,0],[11,0,13,0],[14,1,14,26],[15,1,15,6],[15,10,15,15],[15,19,15,24],[15,28,15,33],[16,37,16,38],[16,39,16,40],[16,41,16,42],[16,43,16,44]]}
[null,"YOU MAY CHANGE THESE RINK NUMBERS IF YOU WISH"]
["Round",1,null,2,2,3,3,4,4,5,5,6,6,7,7,8,null,9,null,10,null,11,null,12,null,13,6]
[1,1,2,3,4,5,6,7,8,9,10,11,12,13,14,29,30,31,32,33,34,35,36,37,38,39,40]
[null,15,16,17,18,19,20,21,22,23,24,25,26,27,28,42,43,44,45,46,47,48,49,50,51,52,53]
[{"$nulls":15},41,54]
[2,9,14,1,10,2,11,3,12,4,13,5,8,6,7,33,35,29,38,30,39,31,40,32,41,34,37]
[null,21,26,27,22,28,23,15,24,16,25,17,20,18,19,44,46,54,49,53,50,42,51,43,52,45,48]
[{"$nulls":15},36,47,{"$nulls":14}," "]
[3,7,10,6,14,1,12,2,13,3,8,4,9,5,11,31,34,33,41,29,38,30,39,35,40,32,36]
[null,17,20,16,24,25,22,26,23,27,18,28,19,15,21,45,48,47,53,43,52,44,54,49,42,46,50]
[{"$nulls":15},37,51]
[4,3,11,7,12,4,8,5,9,6,14,13,10,2,1,38,39,34,37,31,36,29,40,30,33,35,41]
[null,25,19,15,20,26,16,27,17,28,22,21,18,24,23,50,49,42,44,48,45,46,52,47,54,43,51]
[{"$nulls":15},32,53]
[null,"54 on 2 greens"]
[null,1,{"$nulls":8},2,{"$nulls":8},3,{"$nulls":8},4]
[null,"no","Left","rink","no","Right","rink","L","R",null,"no","Left","rink","no","Right","rink","L","R",null,"no","Left","rink","no","Right","rink","L","R",null,"no","Left","rink","no","Right","rink","L","R",null,1,null,2,null,3,null,4]
[null,1,"Left",{"$f":"$B$2","v":1},2,"Right",{"$f":"$B$2","v":1},{"$f":"(D18&\" \"&C18)","v":"1 Left"},{"$f":"(G18&\" \"&F18)","v":"1 Right"},null,9,"Left",{"$f":"$B$2","v":1},14,"Right",{"$f":"$B$2","v":1},{"$f":"(M18&\" \"&L18)","v":"1 Left"},{"$f":"(P18&\" \"&O18)","v":"1 Right"},null,7,"Left",{"$f":"$B$2","v":1},10,"Right",{"$f":"$B$2","v":1},{"$f":"(V18&\" \"&U18)","v":"1 Left"},{"$f":"(Y18&\" \"&X18)","v":"1 Right"},null,3,"Left",{"$f":"$B$2","v":1},11,"Right",{"$f":"$B$2","v":1},{"$f":"(AE18&\" \"&AD18)","v":"1 Left"},{"$f":"(AH18&\" \"&AG18)","v":"1 Right"}]
[null,15,"Left",{"$f":"$B$2","v":1},16,"Right",{"$f":"$B$2","v":1},{"$f":"(D19&\" \"&C19)","v":"1 Left"},{"$f":"(G19&\" \"&F19)","v":"1 Right"},null,21,"Left",{"$f":"$B$2","v":1},26,"Right",{"$f":"$B$2","v":1},{"$f":"(M19&\" \"&L19)","v":"1 Left"},{"$f":"(P19&\" \"&O19)","v":"1 Right"},null,17,"Left",{"$f":"$B$2","v":1},20,"Right",{"$f":"$B$2","v":1},{"$f":"(V19&\" \"&U19)","v":"1 Left"},{"$f":"(Y19&\" \"&X19)","v":"1 Right"},null,25,"Left",{"$f":"$B$2","v":1},19,"Right",{"$f":"$B$2","v":1},{"$f":"(AE19&\" \"&AD19)","v":"1 Left"},{"$f":"(AH19&\" \"&AG19)","v":"1 Right"}]
[null,null,"Left",{"$f":"$B$2","v":1},null,"Right",{"$f":"$B$2","v":1},"1 Left","1 Right",null,null,"Left",{"$f":"$B$2","v":1},null,"Right",{"$f":"$B$2","v":1},"1 Left","1 Right",null,null,"Left",{"$f":"$B$2","v":1},null,"Right",{"$f":"$B$2","v":1},"1 Left","1 Right",null,null,"Left",{"$f":"$B$2","v":1},null,"Right",{"$f":"$B$2","v":1},"1 Left","1 Right"]
[null,3,"Left",{"$f":"$D$2","v":2},4,"Right",{"$f":"$D$2","v":2},"2 Left","2 Right",null,1,"Left",{"$f":"$D$2","v":2},10,"Right",{"$f":"$D$2","v":2},"2 Left","2 Right",null,6,"Left",{"$f":"$D$2","v":2},14,"Right",{"$f":"$D$2","v":2},"2 Left","2 Right",null,7,"Left",{"$f":"$D$2","v":2},12,"Right",{"$f":"$D$2","v":2},"2 Left","2 Right"]
[null,17,"Left",{"$f":"$D$2","v":2},18,"Right",{"$f":"$D$2","v":2},"2 Left","2 Right",null,27,"Left",{"$f":"$D$2","v":2},22,"Right",{"$f":"$D$2","v":2},"2 Left","2 Right",null,16,"Left",{"$f":"$D$2","v":2},24,"Right",{"$f":"$D$2","v":2},"2 Left","2 Right",null,15,"Left",{"$f":"$D$2","v":2},20,"Right",{"$f":"$D$2","v":2},"2 Left","2 Right"]
[null,null,"Left",{"$f":"$D$2","v":2},null,"Right",{"$f":"$D$2","v":2},"2 Left","2 Right",null,null,"Left",{"$f":"$D$2","v":2},null,"Right",{"$f":"$D$2","v":2},"2 Left","2 Right",null,null,"Left",{"$f":"$D$2","v":2},null,"Right",{"$f":"$D$2","v":2},"2 Left","2 Right",null,null,"Left",{"$f":"$D$2","v":2},null,"Right",{"$f":"$D$2","v":2},"2 Left","2 Right"]
[null,5,"Left",{"$f":"$F$2","v":3},6,"Right",{"$f":"$F$2","v":3},"3 Left","3 Right",null,2,"Left",{"$f":"$F$2","v":3},11,"Right",{"$f":"$F$2","v":3},"3 Left","3 Right",null,1,"Left",{"$f":"$F$2","v":3},12,"Right",{"$f":"$F$2","v":3},"3 Left","3 Right",null,4,"Left",{"$f":"$F$2","v":3},8,"Right",{"$f":"$F$2","v":3},"3 Left","3 Right"]
[null,19,"Left",{"$f":"$F$2","v":3},20,"Right",{"$f":"$F$2","v":3},"3 Left","3 Right",null,28,"Left",{"$f":"$F$2","v":3},23,"Right",{"$f":"$F$2","v":3},"3 Left","3 Right",null,25,"Left",{"$f":"$F$2","v":3},22,"Right",{"$f":"$F$2","v":3},"3 Left","3 Right",null,26,"Left",{"$f":"$F$2","v":3},16,"Right",{"$f":"$F$2","v":3},"3 Left","3 Right"]
[null,null,"Left",{"$f":"$F$2","v":3},null,"Right",{"$f":"$F$2","v":3},"3 Left","3 Right",null,null,"Left",{"$f":"$F$2","v":3},null,"Right",{"$f":"$F$2","v":3},"3 Left","3 Right",null,null,"Left",{"$f":"$F$2","v":3},null,"Right",{"$f":"$F$2","v":3},"3 Left","3 Right",null,null,"Left",{"$f":"$F$2","v":3},null,"Right",{"$f":"$F$2","v":3},"3 Left","3 Right"]
[null,7,"Left",{"$f":"$H$2","v":4},8,"Right",{"$f":"$H$2","v":4},"4 Left","4 Right",null,3,"Left",{"$f":"$H$2","v":4},12,"Right",{"$f":"$H$2","v":4},"4 Left","4 Right",null,2,"Left",{"$f":"$H$2","v":4},13,"Right",{"$f":"$H$2","v":4},"4 Left","4 Right",null,5,"Left",{"$f":"$H$2","v":4},9,"Right",{"$f":"$H$2","v":4},"4 Left","4 Right"]
[null,21,"Left",{"$f":"$H$2","v":4},22,"Right",{"$f":"$H$2","v":4},"4 Left","4 Right",null,15,"Left",{"$f":"$H$2","v":4},24,"Right",{"$f":"$H$2","v":4},"4 Left","4 Right",null,26,"Left",{"$f":"$H$2","v":4},23,"Right",{"$f":"$H$2","v":4},"4 Left","4 Right",null,27,"Left",{"$f":"$H$2","v":4},17,"Right",{"$f":"$H$2","v":4},"4 Left","4 Right"]
[null,null,"Left",4,null,"Right",4,"4 Left","4 Right",null,null,"Left",4,null,"Right",4,"4 Left","4 Right",null,null,"Left",4,null,"Right",4,"4 Left","4 Right",null,null,"Left",4,null,"Right",4,"4 Left","4 Right"]
[null,9,"Left",{"$f":"$J$2","v":5},10,"Right",{"$f":"$J$2","v":5},"5 Left","5 Right",null,4,"Left",{"$f":"$J$2","v":5},13,"Right",{"$f":"$J$2","v":5},"5 Left","5 Right",null,3,"Left",{"$f":"$J$2","v":5},8,"Right",{"$f":"$J$2","v":5},"5 Left","5 Right",null,6,"Left",{"$f":"$J$2","v":5},14,"Right",{"$f":"$J$2","v":5},"5 Left","5 Right"]
[null,23,"Left",{"$f":"$J$2","v":5},24,"Right",{"$f":"$J$2","v":5},"5 Left","5 Right",null,16,"Left",{"$f":"$J$2","v":5},25,"Right",{"$f":"$J$2","v":5},"5 Left","5 Right",null,27,"Left",{"$f":"$J$2","v":5},18,"Right",{"$f":"$J$2","v":5},"5 Left","5 Right",null,28,"Left",{"$f":"$J$2","v":5},22,"Right",{"$f":"$J$2","v":5},"5 Left","5 Right"]
[null,null,"Left",5,null,"Right",5,"5 Left","5 Right",null,null,"Left",5,null,"Right",5,"5 Left","5 Right",null,null,"Left",5,null,"Right",5,"5 Left","5 Right",null,null,"Left",5,null,"Right",5,"5 Left","5 Right"]
[null,11,"Left",{"$f":"$L$2","v":6},12,"Right",{"$f":"$L$2","v":6},"6 Left","6 Right",null,5,"Left",{"$f":"$L$2","v":6},8,"Right",{"$f":"$L$2","v":6},"6 Left","6 Right",null,4,"Left",{"$f":"$L$2","v":6},9,"Right",{"$f":"$L$2","v":6},"6 Left","6 Right",null,13,"Left",{"$f":"$L$2","v":6},10,"Right",{"$f":"$L$2","v":6},"6 Left","6 Right"]
[null,25,"Left",{"$f":"$L$2","v":6},26,"Right",{"$f":"$L$2","v":6},"6 Left","6 Right",null,17,"Left",{"$f":"$L$2","v":6},20,"Right",{"$f":"$L$2","v":6},"6 Left","6 Right",null,28,"Left",{"$f":"$L$2","v":6},19,"Right",{"$f":"$L$2","v":6},"6 Left","6 Right",null,21,"Left",{"$f":"$L$2","v":6},18,"Right",{"$f":"$L$2","v":6},"6 Left","6 Right"]
[null,null,"Left",6,null,"Right",6,"6 Left","6 Right",null,null,"Left",6,null,"Right",6,"6 Left","6 Right",null,null,"Left",6,null,"Right",6,"6 Left","6 Right",null,null,"Left",6,null,"Right",6,"6 Left","6 Right"]
[null,13,"Left",{"$f":"$N$2","v":7},14,"Right",{"$f":"$N$2","v":7},"7 Left","7 Right",null,6,"Left",{"$f":"$N$2","v":7},7,"Right",{"$f":"$N$2","v":7},"7 Left","7 Right",null,5,"Left",{"$f":"$N$2","v":7},11,"Right",{"$f":"$N$2","v":7},"7 Left","7 Right",null,2,"Left",{"$f":"$N$2","v":7},1,"Right",{"$f":"$N$2","v":7},"7 Left","7 Right"]
[null,27,"Left",{"$f":"$N$2","v":7},28,"Right",{"$f":"$N$2","v":7},"7 Left","7 Right",null,18,"Left",{"$f":"$N$2","v":7},19,"Right",{"$f":"$N$2","v":7},"7 Left","7 Right",null,15,"Left",{"$f":"$N$2","v":7},21,"Right",{"$f":"$N$2","v":7},"7 Left","7 Right",null,24,"Left",{"$f":"$N$2","v":7},23,"Right",{"$f":"$N$2","v":7},"7 Left","7 Right"]
[null,null,"Left",7,null,"Right",7,"7 Left","7 Right",null,null,"Left",7,null,"Right",7,"7 Left","7 Right",null,null,"Left",7,null,"Right",7,"7 Left","7 Right",null,null,"Left",7,null,"Right",7,"7 Left","7 Right"]
[null,29,"Left",{"$f":"$P$2","v":8},30,"Right",{"$f":"$P$2","v":8},"8 Left","8 Right",null,33,"Left",{"$f":"$P$2","v":8},35,"Right",{"$f":"$P$2","v":8},"8 Left","8 Right",null,31,"Left",{"$f":"$P$2","v":8},34,"Right",{"$f":"$P$2","v":8},"8 Left","8 Right",null,38,"Left",{"$f":"$P$2","v":8},39,"Right",{"$f":"$P$2","v":8},"8 Left","8 Right"]
[null,42,"Left",{"$f":"$P$2","v":8},43,"Right",{"$f":"$P$2","v":8},"8 Left","8 Right",null,44,"Left",{"$f":"$P$2","v":8},46,"Right",{"$f":"$P$2","v":8},"8 Left","8 Right",null,45,"Left",{"$f":"$P$2","v":8},48,"Right",{"$f":"$P$2","v":8},"8 Left","8 Right",null,50,"Left",{"$f":"$P$2","v":8},49,"Right",{"$f":"$P$2","v":8},"8 Left","8 Right"]
[null,41,"Left",8,54,"Right",8,"8 Left","8 Right",null,36,"Left",8,47,"Right",8,"8 Left","8 Right",null,37,"Left",8,51,"Right",8,"8 Left","8 Right",null,32,"Left",8,53,"Right",8,"8 Left","8 Right"]
[null,31,"Left",{"$f":"$R$2","v":9},32,"Right",{"$f":"$R$2","v":9},"9 Left","9 Right",null,29,"Left",{"$f":"$R$2","v":9},38,"Right",{"$f":"$R$2","v":9},"9 Left","9 Right",null,33,"Left",{"$f":"$R$2","v":9},41,"Right",{"$f":"$R$2","v":9},"9 Left","9 Right",null,34,"Left",{"$f":"$R$2","v":9},37,"Right",{"$f":"$R$2","v":9},"9 Left","9 Right"]
[null,44,"Left",{"$f":"$R$2","v":9},45,"Right",{"$f":"$R$2","v":9},"9 Left","9 Right",null,54,"Left",{"$f":"$R$2","v":9},49,"Right",{"$f":"$R$2","v":9},"9 Left","9 Right",null,47,"Left",{"$f":"$R$2","v":9},53,"Right",{"$f":"$R$2","v":9},"9 Left","9 Right",null,42,"Left",{"$f":"$R$2","v":9},44,"Right",{"$f":"$R$2","v":9},"9 Left","9 Right"]
[null,null,"Left",9,null,"Right",9,"9 Left","9 Right",null,null,"Left",9,null,"Right",9,"9 Left","9 Right",null,null,"Left",9,null,"Right",9,"9 Left","9 Right",null,null,"Left",9,null,"Right",9,"9 Left","9 Right"]
[null,33,"Left",{"$f":"$T$2","v":10},34,"Right",{"$f":"$T$2","v":10},"10 Left","10 Right",null,30,"Left",{"$f":"$T$2","v":10},39,"Right",{"$f":"$T$2","v":10},"10 Left","10 Right",null,29,"Left",{"$f":"$T$2","v":10},38,"Right",{"$f":"$T$2","v":10},"10 Left","10 Right",null,31,"Left",{"$f":"$T$2","v":10},36,"Right",{"$f":"$T$2","v":10},"10 Left","10 Right"]
[null,46,"Left",{"$f":"$T$2","v":10},47,"Right",{"$f":"$T$2","v":10},"10 Left","10 Right",null,53,"Left",{"$f":"$T$2","v":10},50,"Right",{"$f":"$T$2","v":10},"10 Left","10 Right",null,43,"Left",{"$f":"$T$2","v":10},52,"Right",{"$f":"$T$2","v":10},"10 Left","10 Right",null,48,"Left",{"$f":"$T$2","v":10},45,"Right",{"$f":"$T$2","v":10},"10 Left","10 Right"]
[null,null,"Left",10,null,"Right",10,"10 Left","10 Right",null,null,"Left",10,null,"Right",10,"10 Left","10 Right",null,null,"Left",10,null,"Right",10,"10 Left","10 Right",null,null,"Left",10,null,"Right",10,"10 Left","10 Right"]
[null,35,"Left",{"$f":"$V$2","v":11},36,"Right",{"$f":"$V$2","v":11},"11 Left","11 Right",null,31,"Left",{"$f":"$V$2","v":11},40,"Right",{"$f":"$V$2","v":11},"11 Left","11 Right",null,30,"Left",{"$f":"$V$2","v":11},39,"Right",{"$f":"$V$2","v":11},"11 Left","11 Right",null,29,"Left",{"$f":"$V$2","v":11},40,"Right",{"$f":"$V$2","v":11},"11 Left","11 Right"]
[null,48,"Left",{"$f":"$V$2","v":11},49,"Right",{"$f":"$V$2","v":11},"11 Left","11 Right",null,42,"Left",{"$f":"$V$2","v":11},51,"Right",{"$f":"$V$2","v":11},"11 Left","11 Right",null,44,"Left",{"$f":"$V$2","v":11},54,"Right",{"$f":"$V$2","v":11},"11 Left","11 Right",null,46,"Left",{"$f":"$V$2","v":11},52,"Right",{"$f":"$V$2","v":11},"11 Left","11 Right"]
[null,null,"Left",11,null,"Right",11,"11 Left","11 Right",null,null,"Left",11,null,"Right",11,"11 Left","11 Right",null,null,"Left",11,null,"Right",11,"11 Left","11 Right",null,null,"Left",11,null,"Right",11,"11 Left","11 Right"]
[null,37,"Left",{"$f":"$X$2","v":12},38,"Right",{"$f":"$X$2","v":12},"12 Left","12 Right",null,32,"Left",{"$f":"$X$2","v":12},41,"Right",{"$f":"$X$2","v":12},"12 Left","12 Right",null,35,"Left",{"$f":"$X$2","v":12},40,"Right",{"$f":"$X$2","v":12},"12 Left","12 Right",null,30,"Left",{"$f":"$X$2","v":12},33,"Right",{"$f":"$X$2","v":12},"12 Left","12 Right"]
[null,50,"Left",{"$f":"$X$2","v":12},51,"Right",{"$f":"$X$2","v":12},"12 Left","12 Right",null,43,"Left",{"$f":"$X$2","v":12},52,"Right",{"$f":"$X$2","v":12},"12 Left","12 Right",null,49,"Left",{"$f":"$X$2","v":12},42,"Right",{"$f":"$X$2","v":12},"12 Left","12 Right",null,47,"Left",{"$f":"$X$2","v":12},54,"Right",{"$f":"$X$2","v":12},"12 Left","12 Right"]
[null,null,"Left",12,null,"Right",12,"12 Left","12 Right",null,null,"Left",12,null,"Right",12,"12 Left","12 Right",null,null,"Left",12,null,"Right",12,"12 Left","12 Right",null,null,"Left",12,null,"Right",12,"12 Left","12 Right"]
[null,39,"Left",{"$f":"$Z$2","v":13},40,"Right",{"$f":"$Z$2","v":13},"13 Left","13 Right",null,34,"Left",{"$f":"$Z$2","v":13},37,"Right",{"$f":"$Z$2","v":13},"13 Left","13 Right",null,32,"Left",{"$f":"$Z$2","v":13},36,"Right",{"$f":"$Z$2","v":13},"13 Left","13 Right",null,35,"Left",{"$f":"$Z$2","v":13},41,"Right",{"$f":"$Z$2","v":13},"13 Left","13 Right"]
[null,52,"Left",{"$f":"$Z$2","v":13},53,"Right",{"$f":"$Z$2","v":13},"13 Left","13 Right",null,45,"Left",{"$f":"$Z$2","v":13},48,"Right",{"$f":"$Z$2","v":13},"13 Left","13 Right",null,46,"Left",{"$f":"$Z$2","v":13},50,"Right",{"$f":"$Z$2","v":13},"13 Left","13 Right",null,43,"Left",{"$f":"$Z$2","v":13},51,"Right",{"$f":"$Z$2","v":13},"13 Left","13 Right"]
[null,null,"Left",13,null,"Right",13,"13 Left","13 Right",null,null,"Left",13,null,"Right",13,"13 Left","13 Right",null,null,"Left",13,null,"Right",13,"13 Left","13 Right",null,null,"Left",13,null,"Right",13,"13 Left","13 Right"]
[null,null,"Left",{"$f":"$AB$2","v":0},null,"Right",{"$f":"$AB$2","v":0},"0 Left","0 Right",null,null,"Left",{"$f":"$AB$2","v":0},null,"Right",{"$f":"$AB$2","v":0},"0 Left","0 Right",null,null,"Left",{"$f":"$AB$2","v":0},null,"Right",{"$f":"$AB$2","v":0},"0 Left","0 Right",null,null,"Left",{"$f":"$AB$2","v":0},null,"Right",{"$f":"$AB$2","v":0},"0 Left","0 Right"]
[null,null,"Left",{"$f":"$AB$2","v":0},null,"Right",{"$f":"$AB$2","v":0},"0 Left","0 Right",null,null,"Left",{"$f":"$AB$2","v":0},null,"Right",{"$f":"$AB$2","v":0},"0 Left","0 Right",null,null,"Left",{"$f":"$AB$2","v":0},null,"Right",{"$f":"$AB$2","v":0},"0 Left","0 Right",null,null,"Left",{"$f":"$AB$2","v":0},null,"Right",{"$f":"$AB$2","v":0},"0 Left","0 Right"]
[null,null,"Left",0,null,"Right",0,"0 Left","0 Right",null,null,"Left",0,null,"Right",0,"0 Left","0 Right",null,null,"Left",0,null,"Right",0,"0 Left","0 Right",null,null,"Left",0,null,"Right",0,"0 Left","0 Right"]
{"$rows_empty":12}
[{"$nulls":37},{"$f":"$B$20","v":0},{"$f":"$H$20","v":"1 Left"},{"$f":"$K$20","v":0},{"$f":"$Q$20","v":"1 Left"},{"$f":"$T$20","v":0},{"$f":"$Z$20","v":"1 Left"},{"$f":"$AC$20","v":0},{"$f":"$AI$20","v":"1 Left"}]
[{"$nulls":37},{"$f":"$E$20","v":0},{"$f":"$I$20","v":"1 Right"},{"$f":"$K$23","v":0},{"$f":"$Q$23","v":"2 Left"},{"$f":"$T$23","v":0},{"$f":"$Z$23","v":"2 Left"},{"$f":"$AC$23","v":0},{"$f":"$AI$23","v":"2 Left"}]
[{"$nulls":37},{"$f":"$B$23","v":0},{"$f":"$H$23","v":"2 Left"},{"$f":"$K$26","v":0},{"$f":"$Q$26","v":"3 Left"},{"$f":"$T$26","v":0},{"$f":"$Z$26","v":"3 Left"},{"$f":"$AC$26","v":0},{"$f":"$AI$26","v":"3 Left"}]
[{"$nulls":37},{"$f":"$B$26","v":0},{"$f":"$H$26","v":"3 Left"},{"$f":"$K$29","v":0},{"$f":"$Q$29","v":"4 Left"},{"$f":"$T$29","v":0},{"$f":"$Z$29","v":"4 Left"},{"$f":"$AC$29","v":0},{"$f":"$AI$29","v":"4 Left"}]
[{"$nulls":37},{"$f":"$B$29","v":0},{"$f":"$H$29","v":"4 Left"},{"$f":"$K$32","v":0},{"$f":"$Q$32","v":"5 Left"},{"$f":"$T$32","v":0},{"$f":"$Z$32","v":"5 Left"},{"$f":"$AC$32","v":0},{"$f":"$AI$32","v":"5 Left"}]
[{"$nulls":37},{"$f":"$B$32","v":0},{"$f":"$H$32","v":"5 Left"},{"$f":"$K$35","v":0},{"$f":"$Q$35","v":"6 Left"},{"$f":"$T$35","v":0},{"$f":"$Z$35","v":"6 Left"},{"$f":"$AC$35","v":0},{"$f":"$AI$35","v":"6 Left"}]
[{"$nulls":37},{"$f":"$B$35","v":0},{"$f":"$H$35","v":"6 Left"},{"$f":"$K$38","v":0},{"$f":"$Q$38","v":"7 Left"},{"$f":"$T$38","v":0},{"$f":"$Z$38","v":"7 Left"},{"$f":"$AC$38","v":0},{"$f":"$AI$38","v":"7 Left"}]
[{"$nulls":37},{"$f":"$B$38","v":0},{"$f":"$H$38","v":"7 Left"},{"$f":"$K$44","v":0},{"$f":"$Q$44","v":"9 Left"},{"$f":"$T$44","v":0},{"$f":"$Z$44","v":"9 Left"},{"$f":"$AC$44","v":0},{"$f":"$AI$44","v":"9 Left"}]
[{"$nulls":37},{"$f":"$B$44","v":0},{"$f":"$H$44","v":"9 Left"},{"$f":"$K$47","v":0},{"$f":"$Q$47","v":"10 Left"},{"$f":"$T$47","v":0},{"$f":"$Z$47","v":"10 Left"},{"$f":"$AC$47","v":0},{"$f":"$AI$47","v":"10 Left"}]
[{"$nulls":37},{"$f":"$B$47","v":0},{"$f":"$H$47","v":"10 Left"},{"$f":"$K$50","v":0},{"$f":"$Q$50","v":"11 Left"},{"$f":"$T$50","v":0},{"$f":"$Z$50","v":"11 Left"},{"$f":"$AC$50","v":0},{"$f":"$AI$50","v":"11 Left"}]
[{"$nulls":37},{"$f":"$B$50","v":0},{"$f":"$H$50","v":"11 Left"},{"$f":"$K$53","v":0},{"$f":"$Q$53","v":"12 Left"},{"$f":"$T$53","v":0},{"$f":"$Z$53","v":"12 Left"},{"$f":"$AC$53","v":0},{"$f":"$AI$53","v":"12 Left"}]
[{"$nulls":37},{"$f":"$B$53","v":0},{"$f":"$H$53","v":"12 Left"},{"$f":"$K$56","v":0},{"$f":"$Q$56","v":"13 Left"},{"$f":"$T$56","v":0},{"$f":"$Z$56","v":"13 Left"},{"$f":"$AC$56","v":0},{"$f":"$AI$56","v":"13 Left"}]
[{"$nulls":37},{"$f":"$B$56","v":0},{"$f":"$H$56","v":"13 Left"},{"$f":"$K$57","v":0},{"$f":"$Q$57","v":"0 Left"},{"$f":"$T$57","v":0},{"$f":"$Z$57","v":"0 Left"},{"$f":"$AC$57","v":0},{"$f":"$AI$57","v":"0 Left"}]
[{"$nulls":37},{"$f":"$B$57","v":0},{"$f":"$H$57","v":"0 Left"},{"$f":"$K$58","v":0},{"$f":"$Q$58","v":"0 Left"},{"$f":"$T$58","v":0},{"$f":"$Z$58","v":"0 Left"},{"$f":"$AC$58","v":0},{"$f":"$AI$58","v":"0 Left"}]
[{"$nulls":37},{"$f":"$B$58","v":0},{"$f":"$H$58","v":"0 Left"},{"$f":"$K$59","v":0},{"$f":"$Q$59","v":"0 Left"},{"$f":"$T$59","v":0},{"$f":"$Z$59","v":"0 Left"},{"$f":"$AC$59","v":0},{"$f":"$AI$59","v":"0 Left"}]
[{"$nulls":37},{"$f":"$B$59","v":0},{"$f":"$H$59","v":"0 Left"},{"$f":"$N$20","v":0},{"$f":"$R$20","v":"1 Right"},{"$f":"$W$20","v":0},{"$f":"$AA$20","v":"1 Right"},{"$f":"$AF$20","v":0},{"$f":"$AJ$20","v":"1 Right"}]
[{"$nulls":37},{"$f":"$E$23","v":0},{"$f":"$I$23","v":"2 Right"},{"$f":"$N$23","v":0},{"$f":"$R$23","v":"2 Right"},{"$f":"$W$23","v":0},{"$f":"$AA$23","v":"2 Right"},{"$f":"$AF$23","v":0},{"$f":"$AJ$23","v":"2 Right"}]
[{"$nulls":37},{"$f":"$E$26","v":0},{"$f":"$I$26","v":"3 Right"},{"$f":"$N$26","v":0},{"$f":"$R$26","v":"3 Right"},{"$f":"$W$26","v":0},{"$f":"$AA$26","v":"3 Right"},{"$f":"$AF$26","v":0},{"$f":"$AJ$26","v":"3 Right"}]
[{"$nulls":37},{"$f":"$E$29","v":0},{"$f":"$I$29","v":"4 Right"},{"$f":"$N$29","v":0},{"$f":"$R$29","v":"4 Right"},{"$f":"$W$29","v":0},{"$f":"$AA$29","v":"4 Right"},{"$f":"$AF$29","v":0},{"$f":"$AJ$29","v":"4 Right"}]
[{"$nulls":37},{"$f":"$E$32","v":0},{"$f":"$I$32","v":"5 Right"},{"$f":"$N$32","v":0},{"$f":"$R$32","v":"5 Right"},{"$f":"$W$32","v":0},{"$f":"$AA$32","v":"5 Right"},{"$f":"$AF$32","v":0},{"$f":"$AJ$32","v":"5 Right"}]
[{"$nulls":37},{"$f":"$E$35","v":0},{"$f":"$I$35","v":"6 Right"},{"$f":"$N$35","v":0},{"$f":"$R$35","v":"6 Right"},{"$f":"$W$35","v":0},{"$f":"$AA$35","v":"6 Right"},{"$f":"$AF$35","v":0},{"$f":"$AJ$35","v":"6 Right"}]
[{"$nulls":37},{"$f":"$E$38","v":0},{"$f":"$I$38","v":"7 Right"},{"$f":"$N$38","v":0},{"$f":"$R$38","v":"7 Right"},{"$f":"$W$38","v":0},{"$f":"$AA$38","v":"7 Right"},{"$f":"$AF$38","v":0},{"$f":"$AJ$38","v":"7 Right"}]
[{"$nulls":37},{"$f":"$E$44","v":0},{"$f":"$I$44","v":"9 Right"},{"$f":"$N$44","v":0},{"$f":"$R$44","v":"9 Right"},{"$f":"$W$44","v":0},{"$f":"$AA$44","v":"9 Right"},{"$f":"$AF$44","v":0},{"$f":"$AJ$44","v":"9 Right"}]
[{"$nulls":37},{"$f":"$E$47","v":0},{"$f":"$I$47","v":"10 Right"},{"$f":"$N$47","v":0},{"$f":"$R$47","v":"10 Right"},{"$f":"$W$47","v":0},{"$f":"$AA$47","v":"10 Right"},{"$f":"$AF$47","v":0},{"$f":"$AJ$47","v":"10 Right"}]
[{"$nulls":37},{"$f":"$E$50","v":0},{"$f":"$I$50","v":"11 Right"},{"$f":"$N$50","v":0},{"$f":"$R$50","v":"11 Right"},{"$f":"$W$50","v":0},{"$f":"$AA$50","v":"11 Right"},{"$f":"$AF$50","v":0},{"$f":"$AJ$50","v":"11 Right"}]
[{"$nulls":37},{"$f":"$E$53","v":0},{"$f":"$I$53","v":"12 Right"},{"$f":"$N$53","v":0},{"$f":"$R$53","v":"12 Right"},{"$f":"$W$53","v":0},{"$f":"$AA$53","v":"12 Right"},{"$f":"$AF$53","v":0},{"$f":"$AJ$53","v":"12 Right"}]
[{"$nulls":37},{"$f":"$E$56","v":0},{"$f":"$I$56","v":"13 Right"},{"$f":"$N$56","v":0},{"$f":"$R$56","v":"13 Right"},{"$f":"$W$56","v":0},{"$f":"$AA$56","v":"13 Right"},{"$f":"$AF$56","v":0},{"$f":"$AJ$56","v":"13 Right"}]
[{"$nulls":37},{"$f":"$E$57","v":0},{"$f":"$I$57","v":"0 Right"},{"$f":"$N$57","v":0},{"$f":"$R$57","v":"0 Right"},{"$f":"$W$57","v":0},{"$f":"$AA$57","v":"0 Right"},{"$f":"$AF$57","v":0},{"$f":"$AJ$57","v":"0 Right"}]
[{"$nulls":37},{"$f":"$E$58","v":0},{"$f":"$I$58","v":"0 Right"},{"$f":"$N$58","v":0},{"$f":"$R$58","v":"0 Right"},{"$f":"$W$58","v":0},{"$f":"$AA$58","v":"0 Right"},{"$f":"$AF$58","v":0},{"$f":"$AJ$58","v":"0 Right"}]
[{"$nulls":37},{"$f":"$E$59","v":0},{"$f":"$I$59","v":"0 Right"},{"$f":"$N$59","v":0},{"$f":"$R$59","v":"0 Right"},{"$f":"$W$59","v":0},{"$f":"$AA$59","v":"0 Right"},{"$f":"$AF$59","v":0},{"$f":"$AJ$59","v":"0 Right"}]

{"sheet":"56","index":26,"n_rows":101,"n_cols":45,"rows_kept":101,"hidden":true,"merged":[[0,1,0,28],[1,1,1,2],[1,3,1,4],[1,5,1,6],[1,7,1,8],[1,9,1,10],[1,11,1,12],[1,13,1,14],[1,15,1,16],[1,17,1,18],[1,19,1,20],[1,21,1,22],[1,23,1,24],[1,25,1,26],[1,27,1,28],[2,0,4,0],[5,0,7,0],[8,0,10,0],[11,0,13,0],[13,1,13,28],[15,1,15,6],[15,10,15,15],[15,19,15,24],[15,28,15,33],[16,37,16,38],[16,39,16,40],[16,41,16,42],[16,43,16,44]]}
[null,"YOU MAY CHANGE THESE RINK NUMBERS IF YOU WISH"]
["Round",1,null,2,2,3,3,4,4,5,5,6,6,7,7,8,null,9,2,10,3,11,4,12,5,13,6,14,7]
[1,1,2,3,4,5,6,7,8,9,10,11,12,13,14,29,30,31,32,33,34,35,36,37,38,39,40,41,42]
[null,15,16,17,18,19,20,21,22,23,24,25,26,27,28,43,44,45,46,47,48,49,50,51,52,53,54,55,56]
[]
[2,9,14,1,10,2,11,3,12,4,13,5,8,6,7,37,42,29,38,30,39,31,40,32,41,33,36,34,35]
[null,21,26,27,22,28,23,15,24,16,25,17,20,18,19,49,54,55,50,56,51,43,52,44,53,45,48,46,47]
[]
[3,7,10,6,14,1,12,2,13,3,8,4,9,5,11,35,38,34,42,29,40,30,41,31,36,32,37,33,39]
[null,17,20,16,24,25,22,26,23,27,18,28,19,15,21,45,48,44,52,53,50,54,51,55,46,56,47,43,49]
[]
[4,3,11,7,12,4,8,5,9,6,14,13,10,2,1,31,39,35,40,32,36,33,37,34,42,41,38,30,29]
[null,25,19,15,20,26,16,27,17,28,22,21,18,24,23,53,47,43,48,54,44,55,45,56,50,49,46,52,51]
[null,"56 on 2 greens"]
[]
[null,1,{"$nulls":8},2,{"$nulls":8},3,{"$nulls":8},4]
[null,"no","Left","rink","no","Right","rink","L","R",null,"no","Left","rink","no","Right","rink","L","R",null,"no","Left","rink","no","Right","rink","L","R",null,"no","Left","rink","no","Right","rink","L","R",null,1,null,2,null,3,null,4]
[null,1,"Left",{"$f":"$B$2","v":1},2,"Right",{"$f":"$B$2","v":1},{"$f":"(D18&\" \"&C18)","v":"1 Left"},{"$f":"(G18&\" \"&F18)","v":"1 Right"},null,9,"Left",{"$f":"$B$2","v":1},14,"Right",{"$f":"$B$2","v":1},{"$f":"(M18&\" \"&L18)","v":"1 Left"},{"$f":"(P18&\" \"&O18)","v":"1 Right"},null,7,"Left",{"$f":"$B$2","v":1},10,"Right",{"$f":"$B$2","v":1},{"$f":"(V18&\" \"&U18)","v":"1 Left"},{"$f":"(Y18&\" \"&X18)","v":"1 Right"},null,3,"Left",{"$f":"$B$2","v":1},11,"Right",{"$f":"$B$2","v":1},{"$f":"(AE18&\" \"&AD18)","v":"1 Left"},{"$f":"(AH18&\" \"&AG18)","v":"1 Right"}]
[null,15,"Left",{"$f":"$B$2","v":1},16,"Right",{"$f":"$B$2","v":1},{"$f":"(D19&\" \"&C19)","v":"1 Left"},{"$f":"(G19&\" \"&F19)","v":"1 Right"},null,21,"Left",{"$f":"$B$2","v":1},26,"Right",{"$f":"$B$2","v":1},{"$f":"(M19&\" \"&L19)","v":"1 Left"},{"$f":"(P19&\" \"&O19)","v":"1 Right"},null,17,"Left",{"$f":"$B$2","v":1},20,"Right",{"$f":"$B$2","v":1},{"$f":"(V19&\" \"&U19)","v":"1 Left"},{"$f":"(Y19&\" \"&X19)","v":"1 Right"},null,25,"Left",{"$f":"$B$2","v":1},19,"Right",{"$f":"$B$2","v":1},{"$f":"(AE19&\" \"&AD19)","v":"1 Left"},{"$f":"(AH19&\" \"&AG19)","v":"1 Right"}]
[null,null,"Left",{"$f":"$B$2","v":1},null,"Right",{"$f":"$B$2","v":1},"1 Left","1 Right",null,null,"Left",{"$f":"$B$2","v":1},null,"Right",{"$f":"$B$2","v":1},"1 Left","1 Right",null,null,"Left",{"$f":"$B$2","v":1},null,"Right",{"$f":"$B$2","v":1},"1 Left","1 Right",null,null,"Left",{"$f":"$B$2","v":1},null,"Right",{"$f":"$B$2","v":1},"1 Left","1 Right"]
[null,3,"Left",{"$f":"$D$2","v":2},4,"Right",{"$f":"$D$2","v":2},"2 Left","2 Right",null,1,"Left",{"$f":"$D$2","v":2},10,"Right",{"$f":"$D$2","v":2},"2 Left","2 Right",null,6,"Left",{"$f":"$D$2","v":2},14,"Right",{"$f":"$D$2","v":2},"2 Left","2 Right",null,7,"Left",{"$f":"$D$2","v":2},12,"Right",{"$f":"$D$2","v":2},"2 Left","2 Right"]
[null,17,"Left",{"$f":"$D$2","v":2},18,"Right",{"$f":"$D$2","v":2},"2 Left","2 Right",null,27,"Left",{"$f":"$D$2","v":2},22,"Right",{"$f":"$D$2","v":2},"2 Left","2 Right",null,16,"Left",{"$f":"$D$2","v":2},24,"Right",{"$f":"$D$2","v":2},"2 Left","2 Right",null,15,"Left",{"$f":"$D$2","v":2},20,"Right",{"$f":"$D$2","v":2},"2 Left","2 Right"]
[null,null,"Left",{"$f":"$D$2","v":2},null,"Right",{"$f":"$D$2","v":2},"2 Left","2 Right",null,null,"Left",{"$f":"$D$2","v":2},null,"Right",{"$f":"$D$2","v":2},"2 Left","2 Right",null,null,"Left",{"$f":"$D$2","v":2},null,"Right",{"$f":"$D$2","v":2},"2 Left","2 Right",null,null,"Left",{"$f":"$D$2","v":2},null,"Right",{"$f":"$D$2","v":2},"2 Left","2 Right"]
[null,5,"Left",{"$f":"$F$2","v":3},6,"Right",{"$f":"$F$2","v":3},"3 Left","3 Right",null,2,"Left",{"$f":"$F$2","v":3},11,"Right",{"$f":"$F$2","v":3},"3 Left","3 Right",null,1,"Left",{"$f":"$F$2","v":3},12,"Right",{"$f":"$F$2","v":3},"3 Left","3 Right",null,4,"Left",{"$f":"$F$2","v":3},8,"Right",{"$f":"$F$2","v":3},"3 Left","3 Right"]
[null,19,"Left",{"$f":"$F$2","v":3},20,"Right",{"$f":"$F$2","v":3},"3 Left","3 Right",null,28,"Left",{"$f":"$F$2","v":3},23,"Right",{"$f":"$F$2","v":3},"3 Left","3 Right",null,25,"Left",{"$f":"$F$2","v":3},22,"Right",{"$f":"$F$2","v":3},"3 Left","3 Right",null,26,"Left",{"$f":"$F$2","v":3},16,"Right",{"$f":"$F$2","v":3},"3 Left","3 Right"]
[null,null,"Left",{"$f":"$F$2","v":3},null,"Right",{"$f":"$F$2","v":3},"3 Left","3 Right",null,null,"Left",{"$f":"$F$2","v":3},null,"Right",{"$f":"$F$2","v":3},"3 Left","3 Right",null,null,"Left",{"$f":"$F$2","v":3},null,"Right",{"$f":"$F$2","v":3},"3 Left","3 Right",null,null,"Left",{"$f":"$F$2","v":3},null,"Right",{"$f":"$F$2","v":3},"3 Left","3 Right"]
[null,7,"Left",{"$f":"$H$2","v":4},8,"Right",{"$f":"$H$2","v":4},"4 Left","4 Right",null,3,"Left",{"$f":"$H$2","v":4},12,"Right",{"$f":"$H$2","v":4},"4 Left","4 Right",null,2,"Left",{"$f":"$H$2","v":4},13,"Right",{"$f":"$H$2","v":4},"4 Left","4 Right",null,5,"Left",{"$f":"$H$2","v":4},9,"Right",{"$f":"$H$2","v":4},"4 Left","4 Right"]
[null,21,"Left",{"$f":"$H$2","v":4},22,"Right",{"$f":"$H$2","v":4},"4 Left","4 Right",null,15,"Left",{"$f":"$H$2","v":4},24,"Right",{"$f":"$H$2","v":4},"4 Left","4 Right",null,26,"Left",{"$f":"$H$2","v":4},23,"Right",{"$f":"$H$2","v":4},"4 Left","4 Right",null,27,"Left",{"$f":"$H$2","v":4},17,"Right",{"$f":"$H$2","v":4},"4 Left","4 Right"]
[null,null,"Left",4,null,"Right",4,"4 Left","4 Right",null,null,"Left",4,null,"Right",4,"4 Left","4 Right",null,null,"Left",4,null,"Right",4,"4 Left","4 Right",null,null,"Left",4,null,"Right",4,"4 Left","4 Right"]
[null,9,"Left",{"$f":"$J$2","v":5},10,"Right",{"$f":"$J$2","v":5},"5 Left","5 Right",null,4,"Left",{"$f":"$J$2","v":5},13,"Right",{"$f":"$J$2","v":5},"5 Left","5 Right",null,3,"Left",{"$f":"$J$2","v":5},8,"Right",{"$f":"$J$2","v":5},"5 Left","5 Right",null,6,"Left",{"$f":"$J$2","v":5},14,"Right",{"$f":"$J$2","v":5},"5 Left","5 Right"]
[null,23,"Left",{"$f":"$J$2","v":5},24,"Right",{"$f":"$J$2","v":5},"5 Left","5 Right",null,16,"Left",{"$f":"$J$2","v":5},25,"Right",{"$f":"$J$2","v":5},"5 Left","5 Right",null,27,"Left",{"$f":"$J$2","v":5},18,"Right",{"$f":"$J$2","v":5},"5 Left","5 Right",null,28,"Left",{"$f":"$J$2","v":5},22,"Right",{"$f":"$J$2","v":5},"5 Left","5 Right"]
[null,null,"Left",5,null,"Right",5,"5 Left","5 Right",null,null,"Left",5,null,"Right",5,"5 Left","5 Right",null,null,"Left",5,null,"Right",5,"5 Left","5 Right",null,null,"Left",5,null,"Right",5,"5 Left","5 Right"]
[null,11,"Left",{"$f":"$L$2","v":6},12,"Right",{"$f":"$L$2","v":6},"6 Left","6 Right",null,5,"Left",{"$f":"$L$2","v":6},8,"Right",{"$f":"$L$2","v":6},"6 Left","6 Right",null,4,"Left",{"$f":"$L$2","v":6},9,"Right",{"$f":"$L$2","v":6},"6 Left","6 Right",null,13,"Left",{"$f":"$L$2","v":6},10,"Right",{"$f":"$L$2","v":6},"6 Left","6 Right"]
[null,25,"Left",{"$f":"$L$2","v":6},26,"Right",{"$f":"$L$2","v":6},"6 Left","6 Right",null,17,"Left",{"$f":"$L$2","v":6},20,"Right",{"$f":"$L$2","v":6},"6 Left","6 Right",null,28,"Left",{"$f":"$L$2","v":6},19,"Right",{"$f":"$L$2","v":6},"6 Left","6 Right",null,21,"Left",{"$f":"$L$2","v":6},18,"Right",{"$f":"$L$2","v":6},"6 Left","6 Right"]
[null,null,"Left",6,null,"Right",6,"6 Left","6 Right",null,null,"Left",6,null,"Right",6,"6 Left","6 Right",null,null,"Left",6,null,"Right",6,"6 Left","6 Right",null,null,"Left",6,null,"Right",6,"6 Left","6 Right"]
[null,13,"Left",{"$f":"$N$2","v":7},14,"Right",{"$f":"$N$2","v":7},"7 Left","7 Right",null,6,"Left",{"$f":"$N$2","v":7},7,"Right",{"$f":"$N$2","v":7},"7 Left","7 Right",null,5,"Left",{"$f":"$N$2","v":7},11,"Right",{"$f":"$N$2","v":7},"7 Left","7 Right",null,2,"Left",{"$f":"$N$2","v":7},1,"Right",{"$f":"$N$2","v":7},"7 Left","7 Right"]
[null,27,"Left",{"$f":"$N$2","v":7},28,"Right",{"$f":"$N$2","v":7},"7 Left","7 Right",null,18,"Left",{"$f":"$N$2","v":7},19,"Right",{"$f":"$N$2","v":7},"7 Left","7 Right",null,15,"Left",{"$f":"$N$2","v":7},21,"Right",{"$f":"$N$2","v":7},"7 Left","7 Right",null,24,"Left",{"$f":"$N$2","v":7},23,"Right",{"$f":"$N$2","v":7},"7 Left","7 Right"]
[null,null,"Left",7,null,"Right",7,"7 Left","7 Right",null,null,"Left",7,null,"Right",7,"7 Left","7 Right",null,null,"Left",7,null,"Right",7,"7 Left","7 Right",null,null,"Left",7,null,"Right",7,"7 Left","7 Right"]
[null,29,"Left",{"$f":"$P$2","v":8},30,"Right",{"$f":"$P$2","v":8},"8 Left","8 Right",null,37,"Left",{"$f":"$P$2","v":8},42,"Right",{"$f":"$P$2","v":8},"8 Left","8 Right",null,35,"Left",{"$f":"$P$2","v":8},38,"Right",{"$f":"$P$2","v":8},"8 Left","8 Right",null,31,"Left",{"$f":"$P$2","v":8},39,"Right",{"$f":"$P$2","v":8},"8 Left","8 Right"]
[null,43,"Left",{"$f":"$P$2","v":8},44,"Right",{"$f":"$P$2","v":8},"8 Left","8 Right",null,49,"Left",{"$f":"$P$2","v":8},54,"Right",{"$f":"$P$2","v":8},"8 Left","8 Right",null,45,"Left",{"$f":"$P$2","v":8},48,"Right",{"$f":"$P$2","v":8},"8 Left","8 Right",null,53,"Left",{"$f":"$P$2","v":8},47,"Right",{"$f":"$P$2","v":8},"8 Left","8 Right"]
[null,null,"Left",8,null,"Right",8,"8 Left","8 Right",null,null,"Left",8,null,"Right",8,"8 Left","8 Right",null,null,"Left",8,null,"Right",8,"8 Left","8 Right",null,null,"Left",8,null,"Right",8,"8 Left","8 Right"]
[null,31,"Left",{"$f":"$R$2","v":9},32,"Right",{"$f":"$R$2","v":9},"9 Left","9 Right",null,29,"Left",{"$f":"$R$2","v":9},38,"Right",{"$f":"$R$2","v":9},"9 Left","9 Right",null,34,"Left",{"$f":"$R$2","v":9},42,"Right",{"$f":"$R$2","v":9},"9 Left","9 Right",null,35,"Left",{"$f":"$R$2","v":9},40,"Right",{"$f":"$R$2","v":9},"9 Left","9 Right"]
[null,45,"Left",{"$f":"$R$2","v":9},46,"Right",{"$f":"$R$2","v":9},"9 Left","9 Right",null,55,"Left",{"$f":"$R$2","v":9},50,"Right",{"$f":"$R$2","v":9},"9 Left","9 Right",null,44,"Left",{"$f":"$R$2","v":9},52,"Right",{"$f":"$R$2","v":9},"9 Left","9 Right",null,43,"Left",{"$f":"$R$2","v":9},48,"Right",{"$f":"$R$2","v":9},"9 Left","9 Right"]
[null,null,"Left",9,null,"Right",9,"9 Left","9 Right",null,null,"Left",9,null,"Right",9,"9 Left","9 Right",null,null,"Left",9,null,"Right",9,"9 Left","9 Right",null,null,"Left",9,null,"Right",9,"9 Left","9 Right"]
[null,33,"Left",{"$f":"$T$2","v":10},34,"Right",{"$f":"$T$2","v":10},"10 Left","10 Right",null,30,"Left",{"$f":"$T$2","v":10},39,"Right",{"$f":"$T$2","v":10},"10 Left","10 Right",null,29,"Left",{"$f":"$T$2","v":10},40,"Right",{"$f":"$T$2","v":10},"10 Left","10 Right",null,32,"Left",{"$f":"$T$2","v":10},36,"Right",{"$f":"$T$2","v":10},"10 Left","10 Right"]
[null,47,"Left",{"$f":"$T$2","v":10},48,"Right",{"$f":"$T$2","v":10},"10 Left","10 Right",null,56,"Left",{"$f":"$T$2","v":10},51,"Right",{"$f":"$T$2","v":10},"10 Left","10 Right",null,53,"Left",{"$f":"$T$2","v":10},50,"Right",{"$f":"$T$2","v":10},"10 Left","10 Right",null,54,"Left",{"$f":"$T$2","v":10},44,"Right",{"$f":"$T$2","v":10},"10 Left","10 Right"]
[null,null,"Left",10,null,"Right",10,"10 Left","10 Right",null,null,"Left",10,null,"Right",10,"10 Left","10 Right",null,null,"Left",10,null,"Right",10,"10 Left","10 Right",null,null,"Left",10,null,"Right",10,"10 Left","10 Right"]
[null,35,"Left",{"$f":"$V$2","v":11},36,"Right",{"$f":"$V$2","v":11},"11 Left","11 Right",null,31,"Left",{"$f":"$V$2","v":11},40,"Right",{"$f":"$V$2","v":11},"11 Left","11 Right",null,30,"Left",{"$f":"$V$2","v":11},41,"Right",{"$f":"$V$2","v":11},"11 Left","11 Right",null,33,"Left",{"$f":"$V$2","v":11},37,"Right",{"$f":"$V$2","v":11},"11 Left","11 Right"]
[null,49,"Left",{"$f":"$V$2","v":11},50,"Right",{"$f":"$V$2","v":11},"11 Left","11 Right",null,43,"Left",{"$f":"$V$2","v":11},52,"Right",{"$f":"$V$2","v":11},"11 Left","11 Right",null,54,"Left",{"$f":"$V$2","v":11},51,"Right",{"$f":"$V$2","v":11},"11 Left","11 Right",null,55,"Left",{"$f":"$V$2","v":11},45,"Right",{"$f":"$V$2","v":11},"11 Left","11 Right"]
[null,null,"Left",11,null,"Right",11,"11 Left","11 Right",null,null,"Left",11,null,"Right",11,"11 Left","11 Right",null,null,"Left",11,null,"Right",11,"11 Left","11 Right",null,null,"Left",11,null,"Right",11,"11 Left","11 Right"]
[null,37,"Left",{"$f":"$X$2","v":12},38,"Right",{"$f":"$X$2","v":12},"12 Left","12 Right",null,32,"Left",{"$f":"$X$2","v":12},41,"Right",{"$f":"$X$2","v":12},"12 Left","12 Right",null,31,"Left",{"$f":"$X$2","v":12},36,"Right",{"$f":"$X$2","v":12},"12 Left","12 Right",null,34,"Left",{"$f":"$X$2","v":12},42,"Right",{"$f":"$X$2","v":12},"12 Left","12 Right"]
[null,51,"Left",{"$f":"$X$2","v":12},52,"Right",{"$f":"$X$2","v":12},"12 Left","12 Right",null,44,"Left",{"$f":"$X$2","v":12},53,"Right",{"$f":"$X$2","v":12},"12 Left","12 Right",null,55,"Left",{"$f":"$X$2","v":12},46,"Right",{"$f":"$X$2","v":12},"12 Left","12 Right",null,56,"Left",{"$f":"$X$2","v":12},50,"Right",{"$f":"$X$2","v":12},"12 Left","12 Right"]
[null,null,"Left",12,null,"Right",12,"12 Left","12 Right",null,null,"Left",12,null,"Right",12,"12 Left","12 Right",null,null,"Left",12,null,"Right",12,"12 Left","12 Right",null,null,"Left",12,null,"Right",12,"12 Left","12 Right"]
[null,39,"Left",{"$f":"$Z$2","v":13},40,"Right",{"$f":"$Z$2","v":13},"13 Left","13 Right",null,33,"Left",{"$f":"$Z$2","v":13},36,"Right",{"$f":"$Z$2","v":13},"13 Left","13 Right",null,32,"Left",{"$f":"$Z$2","v":13},37,"Right",{"$f":"$Z$2","v":13},"13 Left","13 Right",null,41,"Left",{"$f":"$Z$2","v":13},38,"Right",{"$f":"$Z$2","v":13},"13 Left","13 Right"]
[null,53,"Left",{"$f":"$Z$2","v":13},54,"Right",{"$f":"$Z$2","v":13},"13 Left","13 Right",null,45,"Left",{"$f":"$Z$2","v":13},48,"Right",{"$f":"$Z$2","v":13},"13 Left","13 Right",null,56,"Left",{"$f":"$Z$2","v":13},47,"Right",{"$f":"$Z$2","v":13},"13 Left","13 Right",null,49,"Left",{"$f":"$Z$2","v":13},46,"Right",{"$f":"$Z$2","v":13},"13 Left","13 Right"]
[null,null,"Left",13,null,"Right",13,"13 Left","13 Right",null,null,"Left",13,null,"Right",13,"13 Left","13 Right",null,null,"Left",13,null,"Right",13,"13 Left","13 Right",null,null,"Left",13,null,"Right",13,"13 Left","13 Right"]
[null,41,"Left",{"$f":"$AB$2","v":14},42,"Right",{"$f":"$AB$2","v":14},"14 Left","14 Right",null,34,"Left",{"$f":"$AB$2","v":14},35,"Right",{"$f":"$AB$2","v":14},"14 Left","14 Right",null,33,"Left",{"$f":"$AB$2","v":14},39,"Right",{"$f":"$AB$2","v":14},"14 Left","14 Right",null,30,"Left",{"$f":"$AB$2","v":14},29,"Right",{"$f":"$AB$2","v":14},"14 Left","14 Right"]
[null,55,"Left",{"$f":"$AB$2","v":14},56,"Right",{"$f":"$AB$2","v":14},"14 Left","14 Right",null,46,"Left",{"$f":"$AB$2","v":14},47,"Right",{"$f":"$AB$2","v":14},"14 Left","14 Right",null,43,"Left",{"$f":"$AB$2","v":14},49,"Right",{"$f":"$AB$2","v":14},"14 Left","14 Right",null,52,"Left",{"$f":"$AB$2","v":14},51,"Right",{"$f":"$AB$2","v":14},"14 Left","14 Right"]
[null,null,"Left",14,null,"Right",14,"14 Left","14 Right",null,null,"Left",14,null,"Right",14,"14 Left","14 Right",null,null,"Left",14,null,"Right",14,"14 Left","14 Right",null,null,"Left",14,null,"Right",14,"14 Left","14 Right"]
{"$rows_empty":14}
[{"$nulls":37},{"$f":"$B$20","v":0},{"$f":"$H$20","v":"1 Left"},{"$f":"$K$20","v":0},{"$f":"$Q$20","v":"1 Left"},{"$f":"$T$20","v":0},{"$f":"$Z$20","v":"1 Left"},{"$f":"$AC$20","v":0},{"$f":"$AI$20","v":"1 Left"}]
[{"$nulls":37},{"$f":"$E$20","v":0},{"$f":"$I$20","v":"1 Right"},{"$f":"$K$23","v":0},{"$f":"$Q$23","v":"2 Left"},{"$f":"$T$23","v":0},{"$f":"$Z$23","v":"2 Left"},{"$f":"$AC$23","v":0},{"$f":"$AI$23","v":"2 Left"}]
[{"$nulls":37},{"$f":"$B$23","v":0},{"$f":"$H$23","v":"2 Left"},{"$f":"$K$26","v":0},{"$f":"$Q$26","v":"3 Left"},{"$f":"$T$26","v":0},{"$f":"$Z$26","v":"3 Left"},{"$f":"$AC$26","v":0},{"$f":"$AI$26","v":"3 Left"}]
[{"$nulls":37},{"$f":"$B$26","v":0},{"$f":"$H$26","v":"3 Left"},{"$f":"$K$29","v":0},{"$f":"$Q$29","v":"4 Left"},{"$f":"$T$29","v":0},{"$f":"$Z$29","v":"4 Left"},{"$f":"$AC$29","v":0},{"$f":"$AI$29","v":"4 Left"}]
[{"$nulls":37},{"$f":"$B$29","v":0},{"$f":"$H$29","v":"4 Left"},{"$f":"$K$32","v":0},{"$f":"$Q$32","v":"5 Left"},{"$f":"$T$32","v":0},{"$f":"$Z$32","v":"5 Left"},{"$f":"$AC$32","v":0},{"$f":"$AI$32","v":"5 Left"}]
[{"$nulls":37},{"$f":"$B$32","v":0},{"$f":"$H$32","v":"5 Left"},{"$f":"$K$35","v":0},{"$f":"$Q$35","v":"6 Left"},{"$f":"$T$35","v":0},{"$f":"$Z$35","v":"6 Left"},{"$f":"$AC$35","v":0},{"$f":"$AI$35","v":"6 Left"}]
[{"$nulls":37},{"$f":"$B$35","v":0},{"$f":"$H$35","v":"6 Left"},{"$f":"$K$38","v":0},{"$f":"$Q$38","v":"7 Left"},{"$f":"$T$38","v":0},{"$f":"$Z$38","v":"7 Left"},{"$f":"$AC$38","v":0},{"$f":"$AI$38","v":"7 Left"}]
[{"$nulls":37},{"$f":"$B$38","v":0},{"$f":"$H$38","v":"7 Left"},{"$f":"$K$41","v":0},{"$f":"$Q$41","v":"8 Left"},{"$f":"$T$41","v":0},{"$f":"$Z$41","v":"8 Left"},{"$f":"$AC$41","v":0},{"$f":"$AI$41","v":"8 Left"}]
[{"$nulls":37},{"$f":"$B$41","v":0},{"$f":"$H$41","v":"8 Left"},{"$f":"$K$44","v":0},{"$f":"$Q$44","v":"9 Left"},{"$f":"$T$44","v":0},{"$f":"$Z$44","v":"9 Left"},{"$f":"$AC$44","v":0},{"$f":"$AI$44","v":"9 Left"}]
[{"$nulls":37},{"$f":"$B$44","v":0},{"$f":"$H$44","v":"9 Left"},{"$f":"$K$47","v":0},{"$f":"$Q$47","v":"10 Left"},{"$f":"$T$47","v":0},{"$f":"$Z$47","v":"10 Left"},{"$f":"$AC$47","v":0},{"$f":"$AI$47","v":"10 Left"}]
[{"$nulls":37},{"$f":"$B$47","v":0},{"$f":"$H$47","v":"10 Left"},{"$f":"$K$50","v":0},{"$f":"$Q$50","v":"11 Left"},{"$f":"$T$50","v":0},{"$f":"$Z$50","v":"11 Left"},{"$f":"$AC$50","v":0},{"$f":"$AI$50","v":"11 Left"}]
[{"$nulls":37},{"$f":"$B$50","v":0},{"$f":"$H$50","v":"11 Left"},{"$f":"$K$53","v":0},{"$f":"$Q$53","v":"12 Left"},{"$f":"$T$53","v":0},{"$f":"$Z$53","v":"12 Left"},{"$f":"$AC$53","v":0},{"$f":"$AI$53","v":"12 Left"}]
[{"$nulls":37},{"$f":"$B$53","v":0},{"$f":"$H$53","v":"12 Left"},{"$f":"$K$56","v":0},{"$f":"$Q$56","v":"13 Left"},{"$f":"$T$56","v":0},{"$f":"$Z$56","v":"13 Left"},{"$f":"$AC$56","v":0},{"$f":"$AI$56","v":"13 Left"}]
[{"$nulls":37},{"$f":"$B$56","v":0},{"$f":"$H$56","v":"13 Left"},{"$f":"$K$59","v":0},{"$f":"$Q$59","v":"14 Left"},{"$f":"$T$59","v":0},{"$f":"$Z$59","v":"14 Left"},{"$f":"$AC$59","v":0},{"$f":"$AI$59","v":"14 Left"}]
[{"$nulls":37},{"$f":"$B$59","v":0},{"$f":"$H$59","v":"14 Left"},{"$f":"$N$20","v":0},{"$f":"$R$20","v":"1 Right"},{"$f":"$W$20","v":0},{"$f":"$AA$20","v":"1 Right"},{"$f":"$AF$20","v":0},{"$f":"$AJ$20","v":"1 Right"}]
[{"$nulls":37},{"$f":"$E$23","v":0},{"$f":"$I$23","v":"2 Right"},{"$f":"$N$23","v":0},{"$f":"$R$23","v":"2 Right"},{"$f":"$W$23","v":0},{"$f":"$AA$23","v":"2 Right"},{"$f":"$AF$23","v":0},{"$f":"$AJ$23","v":"2 Right"}]
[{"$nulls":37},{"$f":"$E$26","v":0},{"$f":"$I$26","v":"3 Right"},{"$f":"$N$26","v":0},{"$f":"$R$26","v":"3 Right"},{"$f":"$W$26","v":0},{"$f":"$AA$26","v":"3 Right"},{"$f":"$AF$26","v":0},{"$f":"$AJ$26","v":"3 Right"}]
[{"$nulls":37},{"$f":"$E$29","v":0},{"$f":"$I$29","v":"4 Right"},{"$f":"$N$29","v":0},{"$f":"$R$29","v":"4 Right"},{"$f":"$W$29","v":0},{"$f":"$AA$29","v":"4 Right"},{"$f":"$AF$29","v":0},{"$f":"$AJ$29","v":"4 Right"}]
[{"$nulls":37},{"$f":"$E$32","v":0},{"$f":"$I$32","v":"5 Right"},{"$f":"$N$32","v":0},{"$f":"$R$32","v":"5 Right"},{"$f":"$W$32","v":0},{"$f":"$AA$32","v":"5 Right"},{"$f":"$AF$32","v":0},{"$f":"$AJ$32","v":"5 Right"}]
[{"$nulls":37},{"$f":"$E$35","v":0},{"$f":"$I$35","v":"6 Right"},{"$f":"$N$35","v":0},{"$f":"$R$35","v":"6 Right"},{"$f":"$W$35","v":0},{"$f":"$AA$35","v":"6 Right"},{"$f":"$AF$35","v":0},{"$f":"$AJ$35","v":"6 Right"}]
[{"$nulls":37},{"$f":"$E$38","v":0},{"$f":"$I$38","v":"7 Right"},{"$f":"$N$38","v":0},{"$f":"$R$38","v":"7 Right"},{"$f":"$W$38","v":0},{"$f":"$AA$38","v":"7 Right"},{"$f":"$AF$38","v":0},{"$f":"$AJ$38","v":"7 Right"}]
[{"$nulls":37},{"$f":"$E$41","v":0},{"$f":"$I$41","v":"8 Right"},{"$f":"$N$41","v":0},{"$f":"$R$41","v":"8 Right"},{"$f":"$W$41","v":0},{"$f":"$AA$41","v":"8 Right"},{"$f":"$AF$41","v":0},{"$f":"$AJ$41","v":"8 Right"}]
[{"$nulls":37},{"$f":"$E$44","v":0},{"$f":"$I$44","v":"9 Right"},{"$f":"$N$44","v":0},{"$f":"$R$44","v":"9 Right"},{"$f":"$W$44","v":0},{"$f":"$AA$44","v":"9 Right"},{"$f":"$AF$44","v":0},{"$f":"$AJ$44","v":"9 Right"}]
[{"$nulls":37},{"$f":"$E$47","v":0},{"$f":"$I$47","v":"10 Right"},{"$f":"$N$47","v":0},{"$f":"$R$47","v":"10 Right"},{"$f":"$W$47","v":0},{"$f":"$AA$47","v":"10 Right"},{"$f":"$AF$47","v":0},{"$f":"$AJ$47","v":"10 Right"}]
[{"$nulls":37},{"$f":"$E$50","v":0},{"$f":"$I$50","v":"11 Right"},{"$f":"$N$50","v":0},{"$f":"$R$50","v":"11 Right"},{"$f":"$W$50","v":0},{"$f":"$AA$50","v":"11 Right"},{"$f":"$AF$50","v":0},{"$f":"$AJ$50","v":"11 Right"}]
[{"$nulls":37},{"$f":"$E$53","v":0},{"$f":"$I$53","v":"12 Right"},{"$f":"$N$53","v":0},{"$f":"$R$53","v":"12 Right"},{"$f":"$W$53","v":0},{"$f":"$AA$53","v":"12 Right"},{"$f":"$AF$53","v":0},{"$f":"$AJ$53","v":"12 Right"}]
[{"$nulls":37},{"$f":"$E$56","v":0},{"$f":"$I$56","v":"13 Right"},{"$f":"$N$56","v":0},{"$f":"$R$56","v":"13 Right"},{"$f":"$W$56","v":0},{"$f":"$AA$56","v":"13 Right"},{"$f":"$AF$56","v":0},{"$f":"$AJ$56","v":"13 Right"}]
[{"$nulls":37},{"$f":"$E$59","v":0},{"$f":"$I$59","v":"14 Right"},{"$f":"$N$59","v":0},{"$f":"$R$59","v":"14 Right"},{"$f":"$W$59","v":0},{"$f":"$AA$59","v":"14 Right"},{"$f":"$AF$59","v":0},{"$f":"$AJ$59","v":"14 Right"}]

{"sheet":"58","index":27,"n_rows":101,"n_cols":45,"rows_kept":101,"hidden":true,"merged":[[0,1,0,28],[1,1,1,2],[1,3,1,4],[1,5,1,6],[1,7,1,8],[1,9,1,10],[1,11,1,12],[1,13,1,14],[1,15,1,16],[1,17,1,18],[1,19,1,20],[1,21,1,22],[1,23,1,24],[1,25,1,26],[1,27,1,28],[2,0,4,0],[5,0,7,0],[8,0,10,0],[11,0,13,0],[14,1,14,28],[15,1,15,6],[15,10,15,15],[15,19,15,24],[15,28,15,33],[16,37,16,38],[16,39,16,40],[16,41,16,42],[16,43,16,44]]}
[null,"YOU MAY CHANGE THESE RINK NUMBERS IF YOU WISH"]
["Round",1,null,2,2,3,3,4,4,5,5,6,6,7,7,8,null,9,2,10,3,11,4,12,5,13,6,14,7]
[1,1,2,3,4,5,6,7,8,9,10,11,12,13,14,31,32,33,34,35,36,37,38,39,40,41,42,43,44]
[null,16,17,18,19,20,21,22,23,24,25,26,27,28,29,45,46,47,48,49,50,51,52,53,54,55,56,57,58]
[null,15,30]
[2,5,7,1,13,2,14,3,12,4,15,6,10,9,11,39,44,31,40,32,41,33,42,34,43,35,38,36,37]
[null,18,20,30,26,29,27,16,25,17,28,19,23,22,24,51,56,57,52,58,53,45,54,46,55,47,50,48,49]
[null,8,21]
[3,3,11,2,14,7,15,1,10,5,8,13,9,4,6,37,40,36,44,31,42,32,43,33,38,34,39,35,41]
[null,29,22,28,25,18,26,27,21,16,19,24,20,30,17,47,50,46,54,55,52,56,53,57,48,58,49,45,51]
[null,12,23]
[4,4,10,15,11,8,3,14,13,12,6,1,5,7,2,33,41,37,42,34,38,35,39,36,44,43,40,32,31]
[null,28,26,24,27,16,19,30,29,20,22,17,21,23,18,55,49,45,50,56,46,57,47,58,52,51,48,54,53]
[null,25,9]
[null,"58 on 2 greens"]
[null,1,{"$nulls":8},2,{"$nulls":8},3,{"$nulls":8},4]
[" ","no","Left","rink","no","Right","rink","L","R",null,"no","Left","rink","no","Right","rink","L","R",null,"no","Left","rink","no","Right","rink","L","R",null,"no","Left","rink","no","Right","rink","L","R",null,1,null,2,null,3,null,4]
[null,1,"Left",{"$f":"$B$2","v":1},2,"Right",{"$f":"$B$2","v":1},{"$f":"(D18&\" \"&C18)","v":"1 Left"},{"$f":"(G18&\" \"&F18)","v":"1 Right"},null,5,"Left",{"$f":"$B$2","v":1},7,"Right",{"$f":"$B$2","v":1},{"$f":"(M18&\" \"&L18)","v":"1 Left"},{"$f":"(P18&\" \"&O18)","v":"1 Right"},null,3,"Left",{"$f":"$B$2","v":1},11,"Right",{"$f":"$B$2","v":1},{"$f":"(V18&\" \"&U18)","v":"1 Left"},{"$f":"(Y18&\" \"&X18)","v":"1 Right"},null,4,"Left",{"$f":"$B$2","v":1},10,"Right",{"$f":"$B$2","v":1},{"$f":"(AE18&\" \"&AD18)","v":"1 Left"},{"$f":"(AH18&\" \"&AG18)","v":"1 Right"}]
[null,16,"Left",{"$f":"$B$2","v":1},17,"Right",{"$f":"$B$2","v":1},{"$f":"(D19&\" \"&C19)","v":"1 Left"},{"$f":"(G19&\" \"&F19)","v":"1 Right"},null,18,"Left",{"$f":"$B$2","v":1},20,"Right",{"$f":"$B$2","v":1},{"$f":"(M19&\" \"&L19)","v":"1 Left"},{"$f":"(P19&\" \"&O19)","v":"1 Right"},null,29,"Left",{"$f":"$B$2","v":1},22,"Right",{"$f":"$B$2","v":1},{"$f":"(V19&\" \"&U19)","v":"1 Left"},{"$f":"(Y19&\" \"&X19)","v":"1 Right"},null,28,"Left",{"$f":"$B$2","v":1},26,"Right",{"$f":"$B$2","v":1},{"$f":"(AE19&\" \"&AD19)","v":"1 Left"},{"$f":"(AH19&\" \"&AG19)","v":"1 Right"}]
[null,15,"Left",{"$f":"$B$2","v":1},30,"Right",{"$f":"$B$2","v":1},"1 Left","1 Right",null,8,"Left",{"$f":"$B$2","v":1},21,"Right",{"$f":"$B$2","v":1},"1 Left","1 Right",null,12,"Left",{"$f":"$B$2","v":1},23,"Right",{"$f":"$B$2","v":1},"1 Left","1 Right",null,25,"Left",{"$f":"$B$2","v":1},9,"Right",{"$f":"$B$2","v":1},"1 Left","1 Right"]
[null,3,"Left",{"$f":"$D$2","v":2},4,"Right",{"$f":"$D$2","v":2},"2 Left","2 Right",null,1,"Left",{"$f":"$D$2","v":2},13,"Right",{"$f":"$D$2","v":2},"2 Left","2 Right",null,2,"Left",{"$f":"$D$2","v":2},14,"Right",{"$f":"$D$2","v":2},"2 Left","2 Right",null,15,"Left",{"$f":"$D$2","v":2},11,"Right",{"$f":"$D$2","v":2},"2 Left","2 Right"]
[null,18,"Left",{"$f":"$D$2","v":2},19,"Right",{"$f":"$D$2","v":2},"2 Left","2 Right",null,30,"Left",{"$f":"$D$2","v":2},26,"Right",{"$f":"$D$2","v":2},"2 Left","2 Right",null,28,"Left",{"$f":"$D$2","v":2},25,"Right",{"$f":"$D$2","v":2},"2 Left","2 Right",null,24,"Left",{"$f":"$D$2","v":2},27,"Right",{"$f":"$D$2","v":2},"2 Left","2 Right"]
[null,null,"Left",{"$f":"$D$2","v":2},null,"Right",{"$f":"$D$2","v":2},"2 Left","2 Right",null,null,"Left",{"$f":"$D$2","v":2},null,"Right",{"$f":"$D$2","v":2},"2 Left","2 Right",null,null,"Left",{"$f":"$D$2","v":2},null,"Right",{"$f":"$D$2","v":2},"2 Left","2 Right",null,null,"Left",{"$f":"$D$2","v":2},null,"Right",{"$f":"$D$2","v":2},"2 Left","2 Right"]
[null,5,"Left",{"$f":"$F$2","v":3},6,"Right",{"$f":"$F$2","v":3},"3 Left","3 Right",null,2,"Left",{"$f":"$F$2","v":3},14,"Right",{"$f":"$F$2","v":3},"3 Left","3 Right",null,7,"Left",{"$f":"$F$2","v":3},15,"Right",{"$f":"$F$2","v":3},"3 Left","3 Right",null,8,"Left",{"$f":"$F$2","v":3},3,"Right",{"$f":"$F$2","v":3},"3 Left","3 Right"]
[null,20,"Left",{"$f":"$F$2","v":3},21,"Right",{"$f":"$F$2","v":3},"3 Left","3 Right",null,29,"Left",{"$f":"$F$2","v":3},27,"Right",{"$f":"$F$2","v":3},"3 Left","3 Right",null,18,"Left",{"$f":"$F$2","v":3},26,"Right",{"$f":"$F$2","v":3},"3 Left","3 Right",null,16,"Left",{"$f":"$F$2","v":3},19,"Right",{"$f":"$F$2","v":3},"3 Left","3 Right"]
[null,null,"Left",{"$f":"$F$2","v":3},null,"Right",{"$f":"$F$2","v":3},"3 Left","3 Right",null,null,"Left",{"$f":"$F$2","v":3},null,"Right",{"$f":"$F$2","v":3},"3 Left","3 Right",null,null,"Left",{"$f":"$F$2","v":3},null,"Right",{"$f":"$F$2","v":3},"3 Left","3 Right",null,null,"Left",{"$f":"$F$2","v":3},null,"Right",{"$f":"$F$2","v":3},"3 Left","3 Right"]
[null,7,"Left",{"$f":"$H$2","v":4},8,"Right",{"$f":"$H$2","v":4},"4 Left","4 Right",null,3,"Left",{"$f":"$H$2","v":4},12,"Right",{"$f":"$H$2","v":4},"4 Left","4 Right",null,1,"Left",{"$f":"$H$2","v":4},10,"Right",{"$f":"$H$2","v":4},"4 Left","4 Right",null,14,"Left",{"$f":"$H$2","v":4},13,"Right",{"$f":"$H$2","v":4},"4 Left","4 Right"]
[null,22,"Left",{"$f":"$H$2","v":4},23,"Right",{"$f":"$H$2","v":4},"4 Left","4 Right",null,16,"Left",{"$f":"$H$2","v":4},25,"Right",{"$f":"$H$2","v":4},"4 Left","4 Right",null,27,"Left",{"$f":"$H$2","v":4},21,"Right",{"$f":"$H$2","v":4},"4 Left","4 Right",null,30,"Left",{"$f":"$H$2","v":4},29,"Right",{"$f":"$H$2","v":4},"4 Left","4 Right"]
[null,null,"Left",4,null,"Right",4,"4 Left","4 Right",null,null,"Left",4,null,"Right",4,"4 Left","4 Right",null,null,"Left",4,null,"Right",4,"4 Left","4 Right",null,null,"Left",4,null,"Right",4,"4 Left","4 Right"]
[null,9,"Left",{"$f":"$J$2","v":5},10,"Right",{"$f":"$J$2","v":5},"5 Left","5 Right",null,4,"Left",{"$f":"$J$2","v":5},15,"Right",{"$f":"$J$2","v":5},"5 Left","5 Right",null,5,"Left",{"$f":"$J$2","v":5},8,"Right",{"$f":"$J$2","v":5},"5 Left","5 Right",null,12,"Left",{"$f":"$J$2","v":5},6,"Right",{"$f":"$J$2","v":5},"5 Left","5 Right"]
[null,24,"Left",{"$f":"$J$2","v":5},25,"Right",{"$f":"$J$2","v":5},"5 Left","5 Right",null,17,"Left",{"$f":"$J$2","v":5},28,"Right",{"$f":"$J$2","v":5},"5 Left","5 Right",null,16,"Left",{"$f":"$J$2","v":5},19,"Right",{"$f":"$J$2","v":5},"5 Left","5 Right",null,20,"Left",{"$f":"$J$2","v":5},22,"Right",{"$f":"$J$2","v":5},"5 Left","5 Right"]
[null,null,"Left",5,null,"Right",5,"5 Left","5 Right",null,null,"Left",5,null,"Right",5,"5 Left","5 Right",null,null,"Left",5,null,"Right",5,"5 Left","5 Right",null,null,"Left",5,null,"Right",5,"5 Left","5 Right"]
[null,11,"Left",{"$f":"$L$2","v":6},12,"Right",{"$f":"$L$2","v":6},"6 Left","6 Right",null,6,"Left",{"$f":"$L$2","v":6},10,"Right",{"$f":"$L$2","v":6},"6 Left","6 Right",null,13,"Left",{"$f":"$L$2","v":6},9,"Right",{"$f":"$L$2","v":6},"6 Left","6 Right",null,1,"Left",{"$f":"$L$2","v":6},5,"Right",{"$f":"$L$2","v":6},"6 Left","6 Right"]
[null,26,"Left",{"$f":"$L$2","v":6},27,"Right",{"$f":"$L$2","v":6},"6 Left","6 Right",null,19,"Left",{"$f":"$L$2","v":6},23,"Right",{"$f":"$L$2","v":6},"6 Left","6 Right",null,24,"Left",{"$f":"$L$2","v":6},20,"Right",{"$f":"$L$2","v":6},"6 Left","6 Right",null,17,"Left",{"$f":"$L$2","v":6},21,"Right",{"$f":"$L$2","v":6},"6 Left","6 Right"]
[null,null,"Left",6,null,"Right",6,"6 Left","6 Right",null,null,"Left",6,null,"Right",6,"6 Left","6 Right",null,null,"Left",6,null,"Right",6,"6 Left","6 Right",null,null,"Left",6,null,"Right",6,"6 Left","6 Right"]
[null,13,"Left",{"$f":"$N$2","v":7},14,"Right",{"$f":"$N$2","v":7},"7 Left","7 Right",null,9,"Left",{"$f":"$N$2","v":7},11,"Right",{"$f":"$N$2","v":7},"7 Left","7 Right",null,4,"Left",{"$f":"$N$2","v":7},6,"Right",{"$f":"$N$2","v":7},"7 Left","7 Right",null,7,"Left",{"$f":"$N$2","v":7},2,"Right",{"$f":"$N$2","v":7},"7 Left","7 Right"]
[null,28,"Left",{"$f":"$N$2","v":7},29,"Right",{"$f":"$N$2","v":7},"7 Left","7 Right",null,22,"Left",{"$f":"$N$2","v":7},24,"Right",{"$f":"$N$2","v":7},"7 Left","7 Right",null,30,"Left",{"$f":"$N$2","v":7},17,"Right",{"$f":"$N$2","v":7},"7 Left","7 Right",null,23,"Left",{"$f":"$N$2","v":7},18,"Right",{"$f":"$N$2","v":7},"7 Left","7 Right"]
[null,null,"Left",7,null,"Right",7,"7 Left","7 Right",null,null,"Left",7,null,"Right",7,"7 Left","7 Right",null,null,"Left",7,null,"Right",7,"7 Left","7 Right",null,null,"Left",7,null,"Right",7,"7 Left","7 Right"]
[null,31,"Left",{"$f":"$P$2","v":8},32,"Right",{"$f":"$P$2","v":8},"8 Left","8 Right",null,39,"Left",{"$f":"$P$2","v":8},44,"Right",{"$f":"$P$2","v":8},"8 Left","8 Right",null,37,"Left",{"$f":"$P$2","v":8},40,"Right",{"$f":"$P$2","v":8},"8 Left","8 Right",null,33,"Left",{"$f":"$P$2","v":8},41,"Right",{"$f":"$P$2","v":8},"8 Left","8 Right"]
[null,45,"Left",{"$f":"$P$2","v":8},46,"Right",{"$f":"$P$2","v":8},"8 Left","8 Right",null,51,"Left",{"$f":"$P$2","v":8},56,"Right",{"$f":"$P$2","v":8},"8 Left","8 Right",null,47,"Left",{"$f":"$P$2","v":8},50,"Right",{"$f":"$P$2","v":8},"8 Left","8 Right",null,55,"Left",{"$f":"$P$2","v":8},49,"Right",{"$f":"$P$2","v":8},"8 Left","8 Right"]
[null,null,"Left",8,null,"Right",8,"8 Left","8 Right",null,null,"Left",8,null,"Right",8,"8 Left","8 Right",null,null,"Left",8,null,"Right",8,"8 Left","8 Right",null,null,"Left",8,null,"Right",8,"8 Left","8 Right"]
[null,33,"Left",{"$f":"$R$2","v":9},34,"Right",{"$f":"$R$2","v":9},"9 Left","9 Right",null,31,"Left",{"$f":"$R$2","v":9},40,"Right",{"$f":"$R$2","v":9},"9 Left","9 Right",null,36,"Left",{"$f":"$R$2","v":9},44,"Right",{"$f":"$R$2","v":9},"9 Left","9 Right",null,37,"Left",{"$f":"$R$2","v":9},42,"Right",{"$f":"$R$2","v":9},"9 Left","9 Right"]
[null,47,"Left",{"$f":"$R$2","v":9},48,"Right",{"$f":"$R$2","v":9},"9 Left","9 Right",null,57,"Left",{"$f":"$R$2","v":9},52,"Right",{"$f":"$R$2","v":9},"9 Left","9 Right",null,46,"Left",{"$f":"$R$2","v":9},54,"Right",{"$f":"$R$2","v":9},"9 Left","9 Right",null,45,"Left",{"$f":"$R$2","v":9},50,"Right",{"$f":"$R$2","v":9},"9 Left","9 Right"]
[null,null,"Left",9,null,"Right",9,"9 Left","9 Right",null,null,"Left",9,null,"Right",9,"9 Left","9 Right",null,null,"Left",9,null,"Right",9,"9 Left","9 Right",null,null,"Left",9,null,"Right",9,"9 Left","9 Right"]
[null,35,"Left",{"$f":"$T$2","v":10},36,"Right",{"$f":"$T$2","v":10},"10 Left","10 Right",null,32,"Left",{"$f":"$T$2","v":10},41,"Right",{"$f":"$T$2","v":10},"10 Left","10 Right",null,31,"Left",{"$f":"$T$2","v":10},42,"Right",{"$f":"$T$2","v":10},"10 Left","10 Right",null,34,"Left",{"$f":"$T$2","v":10},38,"Right",{"$f":"$T$2","v":10},"10 Left","10 Right"]
[null,49,"Left",{"$f":"$T$2","v":10},50,"Right",{"$f":"$T$2","v":10},"10 Left","10 Right",null,58,"Left",{"$f":"$T$2","v":10},53,"Right",{"$f":"$T$2","v":10},"10 Left","10 Right",null,55,"Left",{"$f":"$T$2","v":10},52,"Right",{"$f":"$T$2","v":10},"10 Left","10 Right",null,56,"Left",{"$f":"$T$2","v":10},46,"Right",{"$f":"$T$2","v":10},"10 Left","10 Right"]
[null,null,"Left",10,null,"Right",10,"10 Left","10 Right",null,null,"Left",10,null,"Right",10,"10 Left","10 Right",null,null,"Left",10,null,"Right",10,"10 Left","10 Right",null,null,"Left",10,null,"Right",10,"10 Left","10 Right"]
[null,37,"Left",{"$f":"$V$2","v":11},38,"Right",{"$f":"$V$2","v":11},"11 Left","11 Right",null,33,"Left",{"$f":"$V$2","v":11},42,"Right",{"$f":"$V$2","v":11},"11 Left","11 Right",null,32,"Left",{"$f":"$V$2","v":11},43,"Right",{"$f":"$V$2","v":11},"11 Left","11 Right",null,35,"Left",{"$f":"$V$2","v":11},39,"Right",{"$f":"$V$2","v":11},"11 Left","11 Right"]
[null,51,"Left",{"$f":"$V$2","v":11},52,"Right",{"$f":"$V$2","v":11},"11 Left","11 Right",null,45,"Left",{"$f":"$V$2","v":11},54,"Right",{"$f":"$V$2","v":11},"11 Left","11 Right",null,56,"Left",{"$f":"$V$2","v":11},53,"Right",{"$f":"$V$2","v":11},"11 Left","11 Right",null,57,"Left",{"$f":"$V$2","v":11},47,"Right",{"$f":"$V$2","v":11},"11 Left","11 Right"]
[null,null,"Left",11,null,"Right",11,"11 Left","11 Right",null,null,"Left",11,null,"Right",11,"11 Left","11 Right",null,null,"Left",11,null,"Right",11,"11 Left","11 Right",null,null,"Left",11,null,"Right",11,"11 Left","11 Right"]
[null,39,"Left",{"$f":"$X$2","v":12},40,"Right",{"$f":"$X$2","v":12},"12 Left","12 Right",null,34,"Left",{"$f":"$X$2","v":12},43,"Right",{"$f":"$X$2","v":12},"12 Left","12 Right",null,33,"Left",{"$f":"$X$2","v":12},38,"Right",{"$f":"$X$2","v":12},"12 Left","12 Right",null,36,"Left",{"$f":"$X$2","v":12},44,"Right",{"$f":"$X$2","v":12},"12 Left","12 Right"]
[null,53,"Left",{"$f":"$X$2","v":12},54,"Right",{"$f":"$X$2","v":12},"12 Left","12 Right",null,46,"Left",{"$f":"$X$2","v":12},55,"Right",{"$f":"$X$2","v":12},"12 Left","12 Right",null,57,"Left",{"$f":"$X$2","v":12},48,"Right",{"$f":"$X$2","v":12},"12 Left","12 Right",null,58,"Left",{"$f":"$X$2","v":12},52,"Right",{"$f":"$X$2","v":12},"12 Left","12 Right"]
[null,null,"Left",12,null,"Right",12,"12 Left","12 Right",null,null,"Left",12,null,"Right",12,"12 Left","12 Right",null,null,"Left",12,null,"Right",12,"12 Left","12 Right",null,null,"Left",12,null,"Right",12,"12 Left","12 Right"]
[null,41,"Left",{"$f":"$Z$2","v":13},42,"Right",{"$f":"$Z$2","v":13},"13 Left","13 Right",null,35,"Left",{"$f":"$Z$2","v":13},38,"Right",{"$f":"$Z$2","v":13},"13 Left","13 Right",null,34,"Left",{"$f":"$Z$2","v":13},39,"Right",{"$f":"$Z$2","v":13},"13 Left","13 Right",null,43,"Left",{"$f":"$Z$2","v":13},40,"Right",{"$f":"$Z$2","v":13},"13 Left","13 Right"]
[null,55,"Left",{"$f":"$Z$2","v":13},56,"Right",{"$f":"$Z$2","v":13},"13 Left","13 Right",null,47,"Left",{"$f":"$Z$2","v":13},50,"Right",{"$f":"$Z$2","v":13},"13 Left","13 Right",null,58,"Left",{"$f":"$Z$2","v":13},49,"Right",{"$f":"$Z$2","v":13},"13 Left","13 Right",null,51,"Left",{"$f":"$Z$2","v":13},48,"Right",{"$f":"$Z$2","v":13},"13 Left","13 Right"]
[null,null,"Left",13,null,"Right",13,"13 Left","13 Right",null,null,"Left",13,null,"Right",13,"13 Left","13 Right",null,null,"Left",13,null,"Right",13,"13 Left","13 Right",null,null,"Left",13,null,"Right",13,"13 Left","13 Right"]
[null,43,"Left",{"$f":"$AB$2","v":14},44,"Right",{"$f":"$AB$2","v":14},"14 Left","14 Right",null,36,"Left",{"$f":"$AB$2","v":14},37,"Right",{"$f":"$AB$2","v":14},"14 Left","14 Right",null,35,"Left",{"$f":"$AB$2","v":14},41,"Right",{"$f":"$AB$2","v":14},"14 Left","14 Right",null,32,"Left",{"$f":"$AB$2","v":14},31,"Right",{"$f":"$AB$2","v":14},"14 Left","14 Right"]
[null,57,"Left",{"$f":"$AB$2","v":14},58,"Right",{"$f":"$AB$2","v":14},"14 Left","14 Right",null,48,"Left",{"$f":"$AB$2","v":14},49,"Right",{"$f":"$AB$2","v":14},"14 Left","14 Right",null,45,"Left",{"$f":"$AB$2","v":14},51,"Right",{"$f":"$AB$2","v":14},"14 Left","14 Right",null,54,"Left",{"$f":"$AB$2","v":14},53,"Right",{"$f":"$AB$2","v":14},"14 Left","14 Right"]
[null,null,"Left",14,null,"Right",14,"14 Left","14 Right",null,null,"Left",14,null,"Right",14,"14 Left","14 Right",null,null,"Left",14,null,"Right",14,"14 Left","14 Right",null,null,"Left",14,null,"Right",14,"14 Left","14 Right"]
{"$rows_empty":16}
[{"$nulls":37},{"$f":"$B$23","v":0},{"$f":"$H$23","v":"2 Left"},{"$f":"$K$23","v":0},{"$f":"$Q$23","v":"2 Left"},{"$f":"$T$23","v":0},{"$f":"$Z$23","v":"2 Left"},{"$f":"$AC$23","v":0},{"$f":"$AI$23","v":"2 Left"}]
[{"$nulls":37},{"$f":"$B$26","v":0},{"$f":"$H$26","v":"3 Left"},{"$f":"$K$26","v":0},{"$f":"$Q$26","v":"3 Left"},{"$f":"$T$26","v":0},{"$f":"$Z$26","v":"3 Left"},{"$f":"$AC$26","v":0},{"$f":"$AI$26","v":"3 Left"}]
[{"$nulls":37},{"$f":"$B$29","v":0},{"$f":"$H$29","v":"4 Left"},{"$f":"$K$29","v":0},{"$f":"$Q$29","v":"4 Left"},{"$f":"$T$29","v":0},{"$f":"$Z$29","v":"4 Left"},{"$f":"$AC$29","v":0},{"$f":"$AI$29","v":"4 Left"}]
[{"$nulls":37},{"$f":"$B$32","v":0},{"$f":"$H$32","v":"5 Left"},{"$f":"$K$32","v":0},{"$f":"$Q$32","v":"5 Left"},{"$f":"$T$32","v":0},{"$f":"$Z$32","v":"5 Left"},{"$f":"$AC$32","v":0},{"$f":"$AI$32","v":"5 Left"}]
[{"$nulls":37},{"$f":"$B$35","v":0},{"$f":"$H$35","v":"6 Left"},{"$f":"$K$35","v":0},{"$f":"$Q$35","v":"6 Left"},{"$f":"$T$35","v":0},{"$f":"$Z$35","v":"6 Left"},{"$f":"$AC$35","v":0},{"$f":"$AI$35","v":"6 Left"}]
[{"$nulls":37},{"$f":"$B$38","v":0},{"$f":"$H$38","v":"7 Left"},{"$f":"$K$38","v":0},{"$f":"$Q$38","v":"7 Left"},{"$f":"$T$38","v":0},{"$f":"$Z$38","v":"7 Left"},{"$f":"$AC$38","v":0},{"$f":"$AI$38","v":"7 Left"}]
[{"$nulls":37},{"$f":"$B$41","v":0},{"$f":"$H$41","v":"8 Left"},{"$f":"$K$41","v":0},{"$f":"$Q$41","v":"8 Left"},{"$f":"$T$41","v":0},{"$f":"$Z$41","v":"8 Left"},{"$f":"$AC$41","v":0},{"$f":"$AI$41","v":"8 Left"}]
[{"$nulls":37},{"$f":"$B$44","v":0},{"$f":"$H$44","v":"9 Left"},{"$f":"$K$44","v":0},{"$f":"$Q$44","v":"9 Left"},{"$f":"$T$44","v":0},{"$f":"$Z$44","v":"9 Left"},{"$f":"$AC$44","v":0},{"$f":"$AI$44","v":"9 Left"}]
[{"$nulls":37},{"$f":"$B$47","v":0},{"$f":"$H$47","v":"10 Left"},{"$f":"$K$47","v":0},{"$f":"$Q$47","v":"10 Left"},{"$f":"$T$47","v":0},{"$f":"$Z$47","v":"10 Left"},{"$f":"$AC$47","v":0},{"$f":"$AI$47","v":"10 Left"}]
[{"$nulls":37},{"$f":"$B$50","v":0},{"$f":"$H$50","v":"11 Left"},{"$f":"$K$50","v":0},{"$f":"$Q$50","v":"11 Left"},{"$f":"$T$50","v":0},{"$f":"$Z$50","v":"11 Left"},{"$f":"$AC$50","v":0},{"$f":"$AI$50","v":"11 Left"}]
[{"$nulls":37},{"$f":"$B$53","v":0},{"$f":"$H$53","v":"12 Left"},{"$f":"$K$53","v":0},{"$f":"$Q$53","v":"12 Left"},{"$f":"$T$53","v":0},{"$f":"$Z$53","v":"12 Left"},{"$f":"$AC$53","v":0},{"$f":"$AI$53","v":"12 Left"}]
[{"$nulls":37},{"$f":"$B$56","v":0},{"$f":"$H$56","v":"13 Left"},{"$f":"$K$56","v":0},{"$f":"$Q$56","v":"13 Left"},{"$f":"$T$56","v":0},{"$f":"$Z$56","v":"13 Left"},{"$f":"$AC$56","v":0},{"$f":"$AI$56","v":"13 Left"}]
[{"$nulls":37},{"$f":"$B$59","v":0},{"$f":"$H$59","v":"14 Left"},{"$f":"$K$59","v":0},{"$f":"$Q$59","v":"14 Left"},{"$f":"$T$59","v":0},{"$f":"$Z$59","v":"14 Left"},{"$f":"$AC$59","v":0},{"$f":"$AI$59","v":"14 Left"}]
[{"$nulls":37},{"$f":"$E$23","v":0},{"$f":"$I$23","v":"2 Right"},{"$f":"$N$23","v":0},{"$f":"$R$23","v":"2 Right"},{"$f":"$W$23","v":0},{"$f":"$AA$23","v":"2 Right"},{"$f":"$AF$23","v":0},{"$f":"$AJ$23","v":"2 Right"}]
[{"$nulls":37},{"$f":"$E$26","v":0},{"$f":"$I$26","v":"3 Right"},{"$f":"$N$26","v":0},{"$f":"$R$26","v":"3 Right"},{"$f":"$W$26","v":0},{"$f":"$AA$26","v":"3 Right"},{"$f":"$AF$26","v":0},{"$f":"$AJ$26","v":"3 Right"}]
[{"$nulls":37},{"$f":"$E$29","v":0},{"$f":"$I$29","v":"4 Right"},{"$f":"$N$29","v":0},{"$f":"$R$29","v":"4 Right"},{"$f":"$W$29","v":0},{"$f":"$AA$29","v":"4 Right"},{"$f":"$AF$29","v":0},{"$f":"$AJ$29","v":"4 Right"}]
[{"$nulls":37},{"$f":"$E$32","v":0},{"$f":"$I$32","v":"5 Right"},{"$f":"$N$32","v":0},{"$f":"$R$32","v":"5 Right"},{"$f":"$W$32","v":0},{"$f":"$AA$32","v":"5 Right"},{"$f":"$AF$32","v":0},{"$f":"$AJ$32","v":"5 Right"}]
[{"$nulls":37},{"$f":"$E$35","v":0},{"$f":"$I$35","v":"6 Right"},{"$f":"$N$35","v":0},{"$f":"$R$35","v":"6 Right"},{"$f":"$W$35","v":0},{"$f":"$AA$35","v":"6 Right"},{"$f":"$AF$35","v":0},{"$f":"$AJ$35","v":"6 Right"}]
[{"$nulls":37},{"$f":"$E$38","v":0},{"$f":"$I$38","v":"7 Right"},{"$f":"$N$38","v":0},{"$f":"$R$38","v":"7 Right"},{"$f":"$W$38","v":0},{"$f":"$AA$38","v":"7 Right"},{"$f":"$AF$38","v":0},{"$f":"$AJ$38","v":"7 Right"}]
[{"$nulls":37},{"$f":"$E$41","v":0},{"$f":"$I$41","v":"8 Right"},{"$f":"$N$41","v":0},{"$f":"$R$41","v":"8 Right"},{"$f":"$W$41","v":0},{"$f":"$AA$41","v":"8 Right"},{"$f":"$AF$41","v":0},{"$f":"$AJ$41","v":"8 Right"}]
[{"$nulls":37},{"$f":"$E$44","v":0},{"$f":"$I$44","v":"9 Right"},{"$f":"$N$44","v":0},{"$f":"$R$44","v":"9 Right"},{"$f":"$W$44","v":0},{"$f":"$AA$44","v":"9 Right"},{"$f":"$AF$44","v":0},{"$f":"$AJ$44","v":"9 Right"}]
[{"$nulls":37},{"$f":"$E$47","v":0},{"$f":"$I$47","v":"10 Right"},{"$f":"$N$47","v":0},{"$f":"$R$47","v":"10 Right"},{"$f":"$W$47","v":0},{"$f":"$AA$47","v":"10 Right"},{"$f":"$AF$47","v":0},{"$f":"$AJ$47","v":"10 Right"}]
[{"$nulls":37},{"$f":"$E$50","v":0},{"$f":"$I$50","v":"11 Right"},{"$f":"$N$50","v":0},{"$f":"$R$50","v":"11 Right"},{"$f":"$W$50","v":0},{"$f":"$AA$50","v":"11 Right"},{"$f":"$AF$50","v":0},{"$f":"$AJ$50","v":"11 Right"}]
[{"$nulls":37},{"$f":"$E$53","v":0},{"$f":"$I$53","v":"12 Right"},{"$f":"$N$53","v":0},{"$f":"$R$53","v":"12 Right"},{"$f":"$W$53","v":0},{"$f":"$AA$53","v":"12 Right"},{"$f":"$AF$53","v":0},{"$f":"$AJ$53","v":"12 Right"}]
[{"$nulls":37},{"$f":"$E$56","v":0},{"$f":"$I$56","v":"13 Right"},{"$f":"$N$56","v":0},{"$f":"$R$56","v":"13 Right"},{"$f":"$W$56","v":0},{"$f":"$AA$56","v":"13 Right"},{"$f":"$AF$56","v":0},{"$f":"$AJ$56","v":"13 Right"}]
[{"$nulls":37},{"$f":"$E$59","v":0},{"$f":"$I$59","v":"14 Right"},{"$f":"$N$59","v":0},{"$f":"$R$59","v":"14 Right"},{"$f":"$W$59","v":0},{"$f":"$AA$59","v":"14 Right"},{"$f":"$AF$59","v":0},{"$f":"$AJ$59","v":"14 Right"}]

{"sheet":"60","index":28,"n_rows":101,"n_cols":45,"rows_kept":101,"hidden":true,"merged":[[0,1,0,28],[1,1,1,2],[1,3,1,4],[1,5,1,6],[1,7,1,8],[1,9,1,10],[1,11,1,12],[1,13,1,14],[1,15,1,16],[1,17,1,18],[1,19,1,20],[1,21,1,22],[1,23,1,24],[1,25,1,26],[1,27,1,28],[2,0,4,0],[5,0,7,0],[8,0,10,0],[11,0,13,0],[14,1,14,28],[15,1,15,6],[15,10,15,15],[15,19,15,24],[15,28,15,33],[16,37,16,38],[16,39,16,40],[16,41,16,42],[16,43,16,44]]}
[null,"YOU MAY CHANGE THESE RINK NUMBERS IF YOU WISH"]
["Round",1,null,2,2,3,3,4,4,5,5,6,6,7,7,8,null,9,null,10,null,11,null,12,null,13,6,14,7]
[1,1,2,3,4,5,6,7,8,9,10,11,12,13,14,31,32,33,34,35,36,37,38,39,40,41,42,43,44]
[null,16,17,18,19,20,21,22,23,24,25,26,27,28,29,46,47,48,49,50,51,52,53,54,55,56,57,58,59]
[null,15,30,{"$nulls":12},45,60]
[2,5,7,1,13,2,14,3,12,4,15,6,10,9,11,35,37,31,43,32,44,33,42,34,45,36,40,39,41]
[null,18,20,30,26,29,27,16,25,17,28,19,23,22,24,48,50,60,56,59,57,46,55,47,58,49,53,52,54]
[null,8,21,{"$nulls":12},38,51]
[3,3,11,2,14,7,15,1,10,5,8,13,9,4,6,33,41,32,44,37,45,31,40,35,38,43,39,34,36]
[null,29,22,28,25,18,26,27,21,16,19,24,20,30,17,59,52,58,55,48,56,57,51,46,49,54,50,60,47]
[null,12,23,{"$nulls":12},42,53]
[4,4,10,15,11,8,3,14,13,12,6,1,5,7,2,34,40,45,41,38,33,44,43,42,36,31,35,37,32]
[null,28,26,24,27,16,19,30,29,20,22,17,21,23,18,58,56,54,57,46,49,60,59,50,52,47,51,53,48]
[null,25,9,{"$nulls":12},55,39]
[null,"60 on 2 greens"]
[null,1,{"$nulls":8},2,{"$nulls":8},3,{"$nulls":8},4]
[" ","no","Left","rink","no","Right","rink","L","R",null,"no","Left","rink","no","Right","rink","L","R",null,"no","Left","rink","no","Right","rink","L","R",null,"no","Left","rink","no","Right","rink","L","R",null,1,null,2,null,3,null,4]
[null,1,"Left",{"$f":"$B$2","v":1},2,"Right",{"$f":"$B$2","v":1},{"$f":"(D18&\" \"&C18)","v":"1 Left"},{"$f":"(G18&\" \"&F18)","v":"1 Right"},null,5,"Left",{"$f":"$B$2","v":1},7,"Right",{"$f":"$B$2","v":1},{"$f":"(M18&\" \"&L18)","v":"1 Left"},{"$f":"(P18&\" \"&O18)","v":"1 Right"},null,3,"Left",{"$f":"$B$2","v":1},11,"Right",{"$f":"$B$2","v":1},{"$f":"(V18&\" \"&U18)","v":"1 Left"},{"$f":"(Y18&\" \"&X18)","v":"1 Right"},null,4,"Left",{"$f":"$B$2","v":1},10,"Right",{"$f":"$B$2","v":1},{"$f":"(AE18&\" \"&AD18)","v":"1 Left"},{"$f":"(AH18&\" \"&AG18)","v":"1 Right"}]
[null,16,"Left",{"$f":"$B$2","v":1},17,"Right",{"$f":"$B$2","v":1},"1 Left","1 Right",null,18,"Left",{"$f":"$B$2","v":1},20,"Right",{"$f":"$B$2","v":1},"1 Left","1 Right",null,29,"Left",{"$f":"$B$2","v":1},22,"Right",{"$f":"$B$2","v":1},"1 Left","1 Right",null,28,"Left",{"$f":"$B$2","v":1},26,"Right",{"$f":"$B$2","v":1},"1 Left","1 Right"]
[null,15,"Left",{"$f":"$B$2","v":1},30,"Right",{"$f":"$B$2","v":1},"1 Left","1 Right",null,8,"Left",{"$f":"$B$2","v":1},21,"Right",{"$f":"$B$2","v":1},"1 Left","1 Right",null,12,"Left",{"$f":"$B$2","v":1},23,"Right",{"$f":"$B$2","v":1},"1 Left","1 Right",null,25,"Left",{"$f":"$B$2","v":1},9,"Right",{"$f":"$B$2","v":1},"1 Left","1 Right"]
[null,3,"Left",{"$f":"$D$2","v":2},4,"Right",{"$f":"$D$2","v":2},"2 Left","2 Right",null,1,"Left",{"$f":"$D$2","v":2},13,"Right",{"$f":"$D$2","v":2},"2 Left","2 Right",null,2,"Left",{"$f":"$D$2","v":2},14,"Right",{"$f":"$D$2","v":2},"2 Left","2 Right",null,15,"Left",{"$f":"$D$2","v":2},11,"Right",{"$f":"$D$2","v":2},"2 Left","2 Right"]
[null,18,"Left",{"$f":"$D$2","v":2},19,"Right",{"$f":"$D$2","v":2},"2 Left","2 Right",null,30,"Left",{"$f":"$D$2","v":2},26,"Right",{"$f":"$D$2","v":2},"2 Left","2 Right",null,28,"Left",{"$f":"$D$2","v":2},25,"Right",{"$f":"$D$2","v":2},"2 Left","2 Right",null,24,"Left",{"$f":"$D$2","v":2},27,"Right",{"$f":"$D$2","v":2},"2 Left","2 Right"]
[null,null,"Left",{"$f":"$D$2","v":2},null,"Right",{"$f":"$D$2","v":2},"2 Left","2 Right",null,null,"Left",{"$f":"$D$2","v":2},null,"Right",{"$f":"$D$2","v":2},"2 Left","2 Right",null,null,"Left",{"$f":"$D$2","v":2},null,"Right",{"$f":"$D$2","v":2},"2 Left","2 Right",null,null,"Left",{"$f":"$D$2","v":2},null,"Right",{"$f":"$D$2","v":2},"2 Left","2 Right"]
[null,5,"Left",{"$f":"$F$2","v":3},6,"Right",{"$f":"$F$2","v":3},"3 Left","3 Right",null,2,"Left",{"$f":"$F$2","v":3},14,"Right",{"$f":"$F$2","v":3},"3 Left","3 Right",null,7,"Left",{"$f":"$F$2","v":3},15,"Right",{"$f":"$F$2","v":3},"3 Left","3 Right",null,8,"Left",{"$f":"$F$2","v":3},3,"Right",{"$f":"$F$2","v":3},"3 Left","3 Right"]
[null,20,"Left",{"$f":"$F$2","v":3},21,"Right",{"$f":"$F$2","v":3},"3 Left","3 Right",null,29,"Left",{"$f":"$F$2","v":3},27,"Right",{"$f":"$F$2","v":3},"3 Left","3 Right",null,18,"Left",{"$f":"$F$2","v":3},26,"Right",{"$f":"$F$2","v":3},"3 Left","3 Right",null,16,"Left",{"$f":"$F$2","v":3},19,"Right",{"$f":"$F$2","v":3},"3 Left","3 Right"]
[null,null,"Left",{"$f":"$F$2","v":3},null,"Right",{"$f":"$F$2","v":3},"3 Left","3 Right",null,null,"Left",{"$f":"$F$2","v":3},null,"Right",{"$f":"$F$2","v":3},"3 Left","3 Right",null,null,"Left",{"$f":"$F$2","v":3},null,"Right",{"$f":"$F$2","v":3},"3 Left","3 Right",null,null,"Left",{"$f":"$F$2","v":3},null,"Right",{"$f":"$F$2","v":3},"3 Left","3 Right"]
[null,7,"Left",{"$f":"$H$2","v":4},8,"Right",{"$f":"$H$2","v":4},"4 Left","4 Right",null,3,"Left",{"$f":"$H$2","v":4},12,"Right",{"$f":"$H$2","v":4},"4 Left","4 Right",null,1,"Left",{"$f":"$H$2","v":4},10,"Right",{"$f":"$H$2","v":4},"4 Left","4 Right",null,14,"Left",{"$f":"$H$2","v":4},13,"Right",{"$f":"$H$2","v":4},"4 Left","4 Right"]
[null,22,"Left",{"$f":"$H$2","v":4},23,"Right",{"$f":"$H$2","v":4},"4 Left","4 Right",null,16,"Left",{"$f":"$H$2","v":4},25,"Right",{"$f":"$H$2","v":4},"4 Left","4 Right",null,27,"Left",{"$f":"$H$2","v":4},21,"Right",{"$f":"$H$2","v":4},"4 Left","4 Right",null,30,"Left",{"$f":"$H$2","v":4},29,"Right",{"$f":"$H$2","v":4},"4 Left","4 Right"]
[null,null,"Left",{"$f":"$H$2","v":4},null,"Right",{"$f":"$H$2","v":4},"4 Left","4 Right",null,null,"Left",{"$f":"$H$2","v":4},null,"Right",{"$f":"$H$2","v":4},"4 Left","4 Right",null,null,"Left",{"$f":"$H$2","v":4},null,"Right",{"$f":"$H$2","v":4},"4 Left","4 Right",null,null,"Left",{"$f":"$H$2","v":4},null,"Right",{"$f":"$H$2","v":4},"4 Left","4 Right"]
[null,9,"Left",{"$f":"$J$2","v":5},10,"Right",{"$f":"$J$2","v":5},"5 Left","5 Right",null,4,"Left",{"$f":"$J$2","v":5},15,"Right",{"$f":"$J$2","v":5},"5 Left","5 Right",null,5,"Left",{"$f":"$J$2","v":5},8,"Right",{"$f":"$J$2","v":5},"5 Left","5 Right",null,12,"Left",{"$f":"$J$2","v":5},6,"Right",{"$f":"$J$2","v":5},"5 Left","5 Right"]
[null,24,"Left",{"$f":"$J$2","v":5},25,"Right",{"$f":"$J$2","v":5},"5 Left","5 Right",null,17,"Left",{"$f":"$J$2","v":5},28,"Right",{"$f":"$J$2","v":5},"5 Left","5 Right",null,16,"Left",{"$f":"$J$2","v":5},19,"Right",{"$f":"$J$2","v":5},"5 Left","5 Right",null,20,"Left",{"$f":"$J$2","v":5},22,"Right",{"$f":"$J$2","v":5},"5 Left","5 Right"]
[null,null,"Left",{"$f":"$J$2","v":5},null,"Right",{"$f":"$J$2","v":5},"5 Left","5 Right",null,null,"Left",{"$f":"$J$2","v":5},null,"Right",{"$f":"$J$2","v":5},"5 Left","5 Right",null,null,"Left",{"$f":"$J$2","v":5},null,"Right",{"$f":"$J$2","v":5},"5 Left","5 Right",null,null,"Left",{"$f":"$J$2","v":5},null,"Right",{"$f":"$J$2","v":5},"5 Left","5 Right"]
[null,11,"Left",{"$f":"$L$2","v":6},12,"Right",{"$f":"$L$2","v":6},"6 Left","6 Right",null,6,"Left",{"$f":"$L$2","v":6},10,"Right",{"$f":"$L$2","v":6},"6 Left","6 Right",null,13,"Left",{"$f":"$L$2","v":6},9,"Right",{"$f":"$L$2","v":6},"6 Left","6 Right",null,1,"Left",{"$f":"$L$2","v":6},5,"Right",{"$f":"$L$2","v":6},"6 Left","6 Right"]
[null,26,"Left",{"$f":"$L$2","v":6},27,"Right",{"$f":"$L$2","v":6},"6 Left","6 Right",null,19,"Left",{"$f":"$L$2","v":6},23,"Right",{"$f":"$L$2","v":6},"6 Left","6 Right",null,24,"Left",{"$f":"$L$2","v":6},20,"Right",{"$f":"$L$2","v":6},"6 Left","6 Right",null,17,"Left",{"$f":"$L$2","v":6},21,"Right",{"$f":"$L$2","v":6},"6 Left","6 Right"]
[null,null,"Left",{"$f":"$L$2","v":6},null,"Right",{"$f":"$L$2","v":6},"6 Left","6 Right",null,null,"Left",{"$f":"$L$2","v":6},null,"Right",{"$f":"$L$2","v":6},"6 Left","6 Right",null,null,"Left",{"$f":"$L$2","v":6},null,"Right",{"$f":"$L$2","v":6},"6 Left","6 Right",null,null,"Left",{"$f":"$L$2","v":6},null,"Right",{"$f":"$L$2","v":6},"6 Left","6 Right"]
[null,13,"Left",{"$f":"$N$2","v":7},14,"Right",{"$f":"$N$2","v":7},"7 Left","7 Right",null,9,"Left",{"$f":"$N$2","v":7},11,"Right",{"$f":"$N$2","v":7},"7 Left","7 Right",null,4,"Left",{"$f":"$N$2","v":7},6,"Right",{"$f":"$N$2","v":7},"7 Left","7 Right",null,7,"Left",{"$f":"$N$2","v":7},2,"Right",{"$f":"$N$2","v":7},"7 Left","7 Right"]
[null,28,"Left",{"$f":"$N$2","v":7},29,"Right",{"$f":"$N$2","v":7},"7 Left","7 Right",null,22,"Left",{"$f":"$N$2","v":7},24,"Right",{"$f":"$N$2","v":7},"7 Left","7 Right",null,30,"Left",{"$f":"$N$2","v":7},17,"Right",{"$f":"$N$2","v":7},"7 Left","7 Right",null,23,"Left",{"$f":"$N$2","v":7},18,"Right",{"$f":"$N$2","v":7},"7 Left","7 Right"]
[null,null,"Left",{"$f":"$N$2","v":7},null,"Right",{"$f":"$N$2","v":7},"7 Left","7 Right",null,null,"Left",{"$f":"$N$2","v":7},null,"Right",{"$f":"$N$2","v":7},"7 Left","7 Right",null,null,"Left",{"$f":"$N$2","v":7},null,"Right",{"$f":"$N$2","v":7},"7 Left","7 Right",null,null,"Left",{"$f":"$N$2","v":7},null,"Right",{"$f":"$N$2","v":7},"7 Left","7 Right"]
[null,31,"Left",{"$f":"$P$2","v":8},32,"Right",{"$f":"$P$2","v":8},"8 Left","8 Right",null,35,"Left",{"$f":"$P$2","v":8},37,"Right",{"$f":"$P$2","v":8},"8 Left","8 Right",null,33,"Left",{"$f":"$P$2","v":8},41,"Right",{"$f":"$P$2","v":8},"8 Left","8 Right",null,34,"Left",{"$f":"$P$2","v":8},40,"Right",{"$f":"$P$2","v":8},"8 Left","8 Right"]
[null,46,"Left",{"$f":"$P$2","v":8},47,"Right",{"$f":"$P$2","v":8},"8 Left","8 Right",null,48,"Left",{"$f":"$P$2","v":8},50,"Right",{"$f":"$P$2","v":8},"8 Left","8 Right",null,59,"Left",{"$f":"$P$2","v":8},52,"Right",{"$f":"$P$2","v":8},"8 Left","8 Right",null,58,"Left",{"$f":"$P$2","v":8},56,"Right",{"$f":"$P$2","v":8},"8 Left","8 Right"]
[null,45,"Left",{"$f":"$P$2","v":8},60,"Right",{"$f":"$P$2","v":8},"8 Left","8 Right",null,38,"Left",{"$f":"$P$2","v":8},51,"Right",{"$f":"$P$2","v":8},"8 Left","8 Right",null,42,"Left",{"$f":"$P$2","v":8},53,"Right",{"$f":"$P$2","v":8},"8 Left","8 Right",null,55,"Left",{"$f":"$P$2","v":8},39,"Right",{"$f":"$P$2","v":8},"8 Left","8 Right"]
[null,33,"Left",{"$f":"$R$2","v":9},34,"Right",{"$f":"$R$2","v":9},"9 Left","9 Right",null,31,"Left",{"$f":"$R$2","v":9},43,"Right",{"$f":"$R$2","v":9},"9 Left","9 Right",null,32,"Left",{"$f":"$R$2","v":9},44,"Right",{"$f":"$R$2","v":9},"9 Left","9 Right",null,45,"Left",{"$f":"$R$2","v":9},41,"Right",{"$f":"$R$2","v":9},"9 Left","9 Right"]
[null,48,"Left",{"$f":"$R$2","v":9},49,"Right",{"$f":"$R$2","v":9},"9 Left","9 Right",null,60,"Left",{"$f":"$R$2","v":9},56,"Right",{"$f":"$R$2","v":9},"9 Left","9 Right",null,58,"Left",{"$f":"$R$2","v":9},55,"Right",{"$f":"$R$2","v":9},"9 Left","9 Right",null,54,"Left",{"$f":"$R$2","v":9},57,"Right",{"$f":"$R$2","v":9},"9 Left","9 Right"]
[null,null,"Left",{"$f":"$R$2","v":9},null,"Right",{"$f":"$R$2","v":9},"9 Left","9 Right",null,null,"Left",{"$f":"$R$2","v":9},null,"Right",{"$f":"$R$2","v":9},"9 Left","9 Right",null,null,"Left",{"$f":"$R$2","v":9},null,"Right",{"$f":"$R$2","v":9},"9 Left","9 Right",null,null,"Left",{"$f":"$R$2","v":9},null,"Right",{"$f":"$R$2","v":9},"9 Left","9 Right"]
[null,35,"Left",{"$f":"$T$2","v":10},36,"Right",{"$f":"$T$2","v":10},"10 Left","10 Right",null,32,"Left",{"$f":"$T$2","v":10},44,"Right",{"$f":"$T$2","v":10},"10 Left","10 Right",null,37,"Left",{"$f":"$T$2","v":10},45,"Right",{"$f":"$T$2","v":10},"10 Left","10 Right",null,38,"Left",{"$f":"$T$2","v":10},33,"Right",{"$f":"$T$2","v":10},"10 Left","10 Right"]
[null,50,"Left",{"$f":"$T$2","v":10},51,"Right",{"$f":"$T$2","v":10},"10 Left","10 Right",null,59,"Left",{"$f":"$T$2","v":10},57,"Right",{"$f":"$T$2","v":10},"10 Left","10 Right",null,48,"Left",{"$f":"$T$2","v":10},56,"Right",{"$f":"$T$2","v":10},"10 Left","10 Right",null,46,"Left",{"$f":"$T$2","v":10},49,"Right",{"$f":"$T$2","v":10},"10 Left","10 Right"]
[null,null,"Left",{"$f":"$T$2","v":10},null,"Right",{"$f":"$T$2","v":10},"10 Left","10 Right",null,null,"Left",{"$f":"$T$2","v":10},null,"Right",{"$f":"$T$2","v":10},"10 Left","10 Right",null,null,"Left",{"$f":"$T$2","v":10},null,"Right",{"$f":"$T$2","v":10},"10 Left","10 Right",null,null,"Left",{"$f":"$T$2","v":10},null,"Right",{"$f":"$T$2","v":10},"10 Left","10 Right"]
[null,37,"Left",{"$f":"$V$2","v":11},38,"Right",{"$f":"$V$2","v":11},"11 Left","11 Right",null,33,"Left",{"$f":"$V$2","v":11},42,"Right",{"$f":"$V$2","v":11},"11 Left","11 Right",null,31,"Left",{"$f":"$V$2","v":11},40,"Right",{"$f":"$V$2","v":11},"11 Left","11 Right",null,44,"Left",{"$f":"$V$2","v":11},43,"Right",{"$f":"$V$2","v":11},"11 Left","11 Right"]
[null,52,"Left",{"$f":"$V$2","v":11},53,"Right",{"$f":"$V$2","v":11},"11 Left","11 Right",null,46,"Left",{"$f":"$V$2","v":11},55,"Right",{"$f":"$V$2","v":11},"11 Left","11 Right",null,57,"Left",{"$f":"$V$2","v":11},51,"Right",{"$f":"$V$2","v":11},"11 Left","11 Right",null,60,"Left",{"$f":"$V$2","v":11},59,"Right",{"$f":"$V$2","v":11},"11 Left","11 Right"]
[null,null,"Left",{"$f":"$V$2","v":11},null,"Right",{"$f":"$V$2","v":11},"11 Left","11 Right",null,null,"Left",{"$f":"$V$2","v":11},null,"Right",{"$f":"$V$2","v":11},"11 Left","11 Right",null,null,"Left",{"$f":"$V$2","v":11},null,"Right",{"$f":"$V$2","v":11},"11 Left","11 Right",null,null,"Left",{"$f":"$V$2","v":11},null,"Right",{"$f":"$V$2","v":11},"11 Left","11 Right"]
[null,39,"Left",{"$f":"$X$2","v":12},40,"Right",{"$f":"$X$2","v":12},"12 Left","12 Right",null,34,"Left",{"$f":"$X$2","v":12},45,"Right",{"$f":"$X$2","v":12},"12 Left","12 Right",null,35,"Left",{"$f":"$X$2","v":12},38,"Right",{"$f":"$X$2","v":12},"12 Left","12 Right",null,42,"Left",{"$f":"$X$2","v":12},36,"Right",{"$f":"$X$2","v":12},"12 Left","12 Right"]
[null,54,"Left",{"$f":"$X$2","v":12},55,"Right",{"$f":"$X$2","v":12},"12 Left","12 Right",null,47,"Left",{"$f":"$X$2","v":12},58,"Right",{"$f":"$X$2","v":12},"12 Left","12 Right",null,46,"Left",{"$f":"$X$2","v":12},49,"Right",{"$f":"$X$2","v":12},"12 Left","12 Right",null,50,"Left",{"$f":"$X$2","v":12},52,"Right",{"$f":"$X$2","v":12},"12 Left","12 Right"]
[null,null,"Left",{"$f":"$X$2","v":12},null,"Right",{"$f":"$X$2","v":12},"12 Left","12 Right",null,null,"Left",{"$f":"$X$2","v":12},null,"Right",{"$f":"$X$2","v":12},"12 Left","12 Right",null,null,"Left",{"$f":"$X$2","v":12},null,"Right",{"$f":"$X$2","v":12},"12 Left","12 Right",null,null,"Left",{"$f":"$X$2","v":12},null,"Right",{"$f":"$X$2","v":12},"12 Left","12 Right"]
[null,41,"Left",{"$f":"$Z$2","v":13},42,"Right",{"$f":"$Z$2","v":13},"13 Left","13 Right",null,36,"Left",{"$f":"$Z$2","v":13},40,"Right",{"$f":"$Z$2","v":13},"13 Left","13 Right",null,43,"Left",{"$f":"$Z$2","v":13},39,"Right",{"$f":"$Z$2","v":13},"13 Left","13 Right",null,31,"Left",{"$f":"$Z$2","v":13},35,"Right",{"$f":"$Z$2","v":13},"13 Left","13 Right"]
[null,56,"Left",{"$f":"$Z$2","v":13},57,"Right",{"$f":"$Z$2","v":13},"13 Left","13 Right",null,49,"Left",{"$f":"$Z$2","v":13},53,"Right",{"$f":"$Z$2","v":13},"13 Left","13 Right",null,54,"Left",{"$f":"$Z$2","v":13},50,"Right",{"$f":"$Z$2","v":13},"13 Left","13 Right",null,47,"Left",{"$f":"$Z$2","v":13},51,"Right",{"$f":"$Z$2","v":13},"13 Left","13 Right"]
[null,null,"Left",{"$f":"$Z$2","v":13},null,"Right",{"$f":"$Z$2","v":13},"13 Left","13 Right",null,null,"Left",{"$f":"$Z$2","v":13},null,"Right",{"$f":"$Z$2","v":13},"13 Left","13 Right",null,null,"Left",{"$f":"$Z$2","v":13},null,"Right",{"$f":"$Z$2","v":13},"13 Left","13 Right",null,null,"Left",{"$f":"$Z$2","v":13},null,"Right",{"$f":"$Z$2","v":13},"13 Left","13 Right"]
[null,43,"Left",{"$f":"$AB$2","v":14},44,"Right",{"$f":"$AB$2","v":14},"14 Left","14 Right",null,39,"Left",{"$f":"$AB$2","v":14},41,"Right",{"$f":"$AB$2","v":14},"14 Left","14 Right",null,34,"Left",{"$f":"$AB$2","v":14},36,"Right",{"$f":"$AB$2","v":14},"14 Left","14 Right",null,37,"Left",{"$f":"$AB$2","v":14},32,"Right",{"$f":"$AB$2","v":14},"14 Left","14 Right"]
[null,58,"Left",{"$f":"$AB$2","v":14},59,"Right",{"$f":"$AB$2","v":14},"14 Left","14 Right",null,52,"Left",{"$f":"$AB$2","v":14},54,"Right",{"$f":"$AB$2","v":14},"14 Left","14 Right",null,60,"Left",{"$f":"$AB$2","v":14},47,"Right",{"$f":"$AB$2","v":14},"14 Left","14 Right",null,53,"Left",{"$f":"$AB$2","v":14},48,"Right",{"$f":"$AB$2","v":14},"14 Left","14 Right"]
[null,null,"Left",{"$f":"$AB$2","v":14},null,"Right",{"$f":"$AB$2","v":14},"14 Left","14 Right",null,null,"Left",{"$f":"$AB$2","v":14},null,"Right",{"$f":"$AB$2","v":14},"14 Left","14 Right",null,null,"Left",{"$f":"$AB$2","v":14},null,"Right",{"$f":"$AB$2","v":14},"14 Left","14 Right",null,null,"Left",{"$f":"$AB$2","v":14},null,"Right",{"$f":"$AB$2","v":14},"14 Left","14 Right"]
{"$rows_empty":18}
[{"$nulls":37},{"$f":"$B$23","v":0},{"$f":"$H$23","v":"2 Left"},{"$f":"$K$23","v":0},{"$f":"$Q$23","v":"2 Left"},{"$f":"$T$23","v":0},{"$f":"$Z$23","v":"2 Left"},{"$f":"$AC$23","v":0},{"$f":"$AI$23","v":"2 Left"}]
[{"$nulls":37},{"$f":"$B$26","v":0},{"$f":"$H$26","v":"3 Left"},{"$f":"$K$26","v":0},{"$f":"$Q$26","v":"3 Left"},{"$f":"$T$26","v":0},{"$f":"$Z$26","v":"3 Left"},{"$f":"$AC$26","v":0},{"$f":"$AI$26","v":"3 Left"}]
[{"$nulls":37},{"$f":"$B$29","v":0},{"$f":"$H$29","v":"4 Left"},{"$f":"$K$29","v":0},{"$f":"$Q$29","v":"4 Left"},{"$f":"$T$29","v":0},{"$f":"$Z$29","v":"4 Left"},{"$f":"$AC$29","v":0},{"$f":"$AI$29","v":"4 Left"}]
[{"$nulls":37},{"$f":"$B$32","v":0},{"$f":"$H$32","v":"5 Left"},{"$f":"$K$32","v":0},{"$f":"$Q$32","v":"5 Left"},{"$f":"$T$32","v":0},{"$f":"$Z$32","v":"5 Left"},{"$f":"$AC$32","v":0},{"$f":"$AI$32","v":"5 Left"}]
[{"$nulls":37},{"$f":"$B$35","v":0},{"$f":"$H$35","v":"6 Left"},{"$f":"$K$35","v":0},{"$f":"$Q$35","v":"6 Left"},{"$f":"$T$35","v":0},{"$f":"$Z$35","v":"6 Left"},{"$f":"$AC$35","v":0},{"$f":"$AI$35","v":"6 Left"}]
[{"$nulls":37},{"$f":"$B$38","v":0},{"$f":"$H$38","v":"7 Left"},{"$f":"$K$38","v":0},{"$f":"$Q$38","v":"7 Left"},{"$f":"$T$38","v":0},{"$f":"$Z$38","v":"7 Left"},{"$f":"$AC$38","v":0},{"$f":"$AI$38","v":"7 Left"}]
[{"$nulls":37},{"$f":"$B$44","v":0},{"$f":"$H$44","v":"9 Left"},{"$f":"$K$44","v":0},{"$f":"$Q$44","v":"9 Left"},{"$f":"$T$44","v":0},{"$f":"$Z$44","v":"9 Left"},{"$f":"$AC$44","v":0},{"$f":"$AI$44","v":"9 Left"}]
[{"$nulls":37},{"$f":"$B$47","v":0},{"$f":"$H$47","v":"10 Left"},{"$f":"$K$47","v":0},{"$f":"$Q$47","v":"10 Left"},{"$f":"$T$47","v":0},{"$f":"$Z$47","v":"10 Left"},{"$f":"$AC$47","v":0},{"$f":"$AI$47","v":"10 Left"}]
[{"$nulls":37},{"$f":"$B$50","v":0},{"$f":"$H$50","v":"11 Left"},{"$f":"$K$50","v":0},{"$f":"$Q$50","v":"11 Left"},{"$f":"$T$50","v":0},{"$f":"$Z$50","v":"11 Left"},{"$f":"$AC$50","v":0},{"$f":"$AI$50","v":"11 Left"}]
[{"$nulls":37},{"$f":"$B$53","v":0},{"$f":"$H$53","v":"12 Left"},{"$f":"$K$53","v":0},{"$f":"$Q$53","v":"12 Left"},{"$f":"$T$53","v":0},{"$f":"$Z$53","v":"12 Left"},{"$f":"$AC$53","v":0},{"$f":"$AI$53","v":"12 Left"}]
[{"$nulls":37},{"$f":"$B$56","v":0},{"$f":"$H$56","v":"13 Left"},{"$f":"$K$56","v":0},{"$f":"$Q$56","v":"13 Left"},{"$f":"$T$56","v":0},{"$f":"$Z$56","v":"13 Left"},{"$f":"$AC$56","v":0},{"$f":"$AI$56","v":"13 Left"}]
[{"$nulls":37},{"$f":"$B$59","v":0},{"$f":"$H$59","v":"14 Left"},{"$f":"$K$59","v":0},{"$f":"$Q$59","v":"14 Left"},{"$f":"$T$59","v":0},{"$f":"$Z$59","v":"14 Left"},{"$f":"$AC$59","v":0},{"$f":"$AI$59","v":"14 Left"}]
[{"$nulls":37},{"$f":"$E$23","v":0},{"$f":"$I$23","v":"2 Right"},{"$f":"$N$23","v":0},{"$f":"$R$23","v":"2 Right"},{"$f":"$W$23","v":0},{"$f":"$AA$23","v":"2 Right"},{"$f":"$AF$23","v":0},{"$f":"$AJ$23","v":"2 Right"}]
[{"$nulls":37},{"$f":"$E$26","v":0},{"$f":"$I$26","v":"3 Right"},{"$f":"$N$26","v":0},{"$f":"$R$26","v":"3 Right"},{"$f":"$W$26","v":0},{"$f":"$AA$26","v":"3 Right"},{"$f":"$AF$26","v":0},{"$f":"$AJ$26","v":"3 Right"}]
[{"$nulls":37},{"$f":"$E$29","v":0},{"$f":"$I$29","v":"4 Right"},{"$f":"$N$29","v":0},{"$f":"$R$29","v":"4 Right"},{"$f":"$W$29","v":0},{"$f":"$AA$29","v":"4 Right"},{"$f":"$AF$29","v":0},{"$f":"$AJ$29","v":"4 Right"}]
[{"$nulls":37},{"$f":"$E$32","v":0},{"$f":"$I$32","v":"5 Right"},{"$f":"$N$32","v":0},{"$f":"$R$32","v":"5 Right"},{"$f":"$W$32","v":0},{"$f":"$AA$32","v":"5 Right"},{"$f":"$AF$32","v":0},{"$f":"$AJ$32","v":"5 Right"}]
[{"$nulls":37},{"$f":"$E$35","v":0},{"$f":"$I$35","v":"6 Right"},{"$f":"$N$35","v":0},{"$f":"$R$35","v":"6 Right"},{"$f":"$W$35","v":0},{"$f":"$AA$35","v":"6 Right"},{"$f":"$AF$35","v":0},{"$f":"$AJ$35","v":"6 Right"}]
[{"$nulls":37},{"$f":"$E$38","v":0},{"$f":"$I$38","v":"7 Right"},{"$f":"$N$38","v":0},{"$f":"$R$38","v":"7 Right"},{"$f":"$W$38","v":0},{"$f":"$AA$38","v":"7 Right"},{"$f":"$AF$38","v":0},{"$f":"$AJ$38","v":"7 Right"}]
[{"$nulls":37},{"$f":"$E$44","v":0},{"$f":"$I$44","v":"9 Right"},{"$f":"$N$44","v":0},{"$f":"$R$44","v":"9 Right"},{"$f":"$W$44","v":0},{"$f":"$AA$44","v":"9 Right"},{"$f":"$AF$44","v":0},{"$f":"$AJ$44","v":"9 Right"}]
[{"$nulls":37},{"$f":"$E$47","v":0},{"$f":"$I$47","v":"10 Right"},{"$f":"$N$47","v":0},{"$f":"$R$47","v":"10 Right"},{"$f":"$W$47","v":0},{"$f":"$AA$47","v":"10 Right"},{"$f":"$AF$47","v":0},{"$f":"$AJ$47","v":"10 Right"}]
[{"$nulls":37},{"$f":"$E$50","v":0},{"$f":"$I$50","v":"11 Right"},{"$f":"$N$50","v":0},{"$f":"$R$50","v":"11 Right"},{"$f":"$W$50","v":0},{"$f":"$AA$50","v":"11 Right"},{"$f":"$AF$50","v":0},{"$f":"$AJ$50","v":"11 Right"}]
[{"$nulls":37},{"$f":"$E$53","v":0},{"$f":"$I$53","v":"12 Right"},{"$f":"$N$53","v":0},{"$f":"$R$53","v":"12 Right"},{"$f":"$W$53","v":0},{"$f":"$AA$53","v":"12 Right"},{"$f":"$AF$53","v":0},{"$f":"$AJ$53","v":"12 Right"}]
[{"$nulls":37},{"$f":"$E$56","v":0},{"$f":"$I$56","v":"13 Right"},{"$f":"$N$56","v":0},{"$f":"$R$56","v":"13 Right"},{"$f":"$W$56","v":0},{"$f":"$AA$56","v":"13 Right"},{"$f":"$AF$56","v":0},{"$f":"$AJ$56","v":"13 Right"}]
[{"$nulls":37},{"$f":"$E$59","v":0},{"$f":"$I$59","v":"14 Right"},{"$f":"$N$59","v":0},{"$f":"$R$59","v":"14 Right"},{"$f":"$W$59","v":0},{"$f":"$AA$59","v":"14 Right"},{"$f":"$AF$59","v":0},{"$f":"$AJ$59","v":"14 Right"}]

{"sheet":"62","index":29,"n_rows":101,"n_cols":45,"rows_kept":101,"hidden":true,"merged":[[0,1,0,28],[1,1,1,2],[1,3,1,4],[1,5,1,6],[1,7,1,8],[1,9,1,10],[1,11,1,12],[1,13,1,14],[1,15,1,16],[1,17,1,18],[1,19,1,20],[1,21,1,22],[1,23,1,24],[1,25,1,26],[1,27,1,28],[2,0,4,0],[5,0,7,0],[8,0,10,0],[11,0,13,0],[14,1,14,28],[15,1,15,6],[15,10,15,15],[15,19,15,24],[15,28,15,33],[16,37,16,38],[16,39,16,40],[16,41,16,42],[16,43,16,44]]}
[null,"YOU MAY CHANGE THESE RINK NUMBERS IF YOU WISH"]
["Round",1,null,2,2,3,3,4,4,5,5,6,6,7,7,8,null,9,null,10,null,11,null,12,null,13,6,14,7]
[1,1,2,3,4,13,14,15,17,16,18,19,20,21,22,33,34,35,36,37,38,39,40,41,42,43,44,45,46]
[null,5,6,7,8,23,24,25,27,26,28,29,30,31,32,48,49,50,51,52,53,54,55,56,57,58,59,60,61]
[null,9,10,11,12,{"$nulls":10},47,62]
[2,13,16,15,14,2,27,26,28,29,31,1,32,30,25,37,39,33,45,34,46,35,44,36,47,38,42,41,43]
[null,17,20,19,18,12,5,4,6,7,9,11,10,8,3,50,52,62,58,61,59,48,57,49,60,51,55,54,56]
[null,21,24,23,22,{"$nulls":10},40,53]
[3,26,27,25,28,9,11,10,12,5,6,7,8,13,14,35,43,34,46,39,47,33,42,37,40,45,41,36,38]
[null,30,31,29,32,19,21,23,24,15,16,17,18,22,20,61,54,60,57,50,58,59,53,48,51,56,52,62,49]
[null,2,3,1,4,{"$nulls":10},44,55]
[4,6,7,5,8,26,20,18,19,23,22,25,21,17,24,36,42,47,43,40,35,46,45,44,38,33,37,39,34]
[null,11,10,12,9,28,32,30,31,3,2,27,1,29,4,60,58,56,59,48,51,62,61,52,54,49,53,55,50]
[null,14,15,13,16,{"$nulls":10},57,41]
[null,"62 on 2 greens"]
[null,1,{"$nulls":8},2,{"$nulls":8},3,{"$nulls":8},4]
["  ","no","Left","rink","no","Right","rink","L","R",null,"no","Left","rink","no","Right","rink","L","R",null,"no","Left","rink","no","Right","rink","L","R",null,"no","Left","rink","no","Right","rink","L","R",null,1,null,2,null,3,null,4]
[null,1,"Left",{"$f":"$B$2","v":1},2,"Right",{"$f":"$B$2","v":1},{"$f":"(D18&\" \"&C18)","v":"1 Left"},{"$f":"(G18&\" \"&F18)","v":"1 Right"},null,13,"Left",{"$f":"$B$2","v":1},16,"Right",{"$f":"$B$2","v":1},{"$f":"(M18&\" \"&L18)","v":"1 Left"},{"$f":"(P18&\" \"&O18)","v":"1 Right"},null,26,"Left",{"$f":"$B$2","v":1},27,"Right",{"$f":"$B$2","v":1},{"$f":"(V18&\" \"&U18)","v":"1 Left"},{"$f":"(Y18&\" \"&X18)","v":"1 Right"},null,6,"Left",{"$f":"$B$2","v":1},7,"Right",{"$f":"$B$2","v":1},{"$f":"(AE18&\" \"&AD18)","v":"1 Left"},{"$f":"(AH18&\" \"&AG18)","v":"1 Right"}]
[null,5,"Left",{"$f":"$B$2","v":1},6,"Right",{"$f":"$B$2","v":1},{"$f":"(D19&\" \"&C19)","v":"1 Left"},{"$f":"(G19&\" \"&F19)","v":"1 Right"},null,17,"Left",{"$f":"$B$2","v":1},20,"Right",{"$f":"$B$2","v":1},{"$f":"(M19&\" \"&L19)","v":"1 Left"},{"$f":"(P19&\" \"&O19)","v":"1 Right"},null,30,"Left",{"$f":"$B$2","v":1},31,"Right",{"$f":"$B$2","v":1},{"$f":"(V19&\" \"&U19)","v":"1 Left"},{"$f":"(Y19&\" \"&X19)","v":"1 Right"},null,11,"Left",{"$f":"$B$2","v":1},10,"Right",{"$f":"$B$2","v":1},{"$f":"(AE19&\" \"&AD19)","v":"1 Left"},{"$f":"(AH19&\" \"&AG19)","v":"1 Right"}]
[null,9,"Left",{"$f":"$B$2","v":1},10,"Right",{"$f":"$B$2","v":1},"1 Left","1 Right",null,21,"Left",{"$f":"$B$2","v":1},24,"Right",{"$f":"$B$2","v":1},"1 Left","1 Right",null,2,"Left",{"$f":"$B$2","v":1},3,"Right",{"$f":"$B$2","v":1},"1 Left","1 Right",null,14,"Left",{"$f":"$B$2","v":1},15,"Right",{"$f":"$B$2","v":1},"1 Left","1 Right"]
[null,3,"Left",{"$f":"$D$2","v":2},4,"Right",{"$f":"$D$2","v":2},"2 Left","2 Right",null,15,"Left",{"$f":"$D$2","v":2},14,"Right",{"$f":"$D$2","v":2},"2 Left","2 Right",null,25,"Left",{"$f":"$D$2","v":2},28,"Right",{"$f":"$D$2","v":2},"2 Left","2 Right",null,5,"Left",{"$f":"$D$2","v":2},8,"Right",{"$f":"$D$2","v":2},"2 Left","2 Right"]
[null,7,"Left",{"$f":"$D$2","v":2},8,"Right",{"$f":"$D$2","v":2},"2 Left","2 Right",null,19,"Left",{"$f":"$D$2","v":2},18,"Right",{"$f":"$D$2","v":2},"2 Left","2 Right",null,29,"Left",{"$f":"$D$2","v":2},32,"Right",{"$f":"$D$2","v":2},"2 Left","2 Right",null,12,"Left",{"$f":"$D$2","v":2},9,"Right",{"$f":"$D$2","v":2},"2 Left","2 Right"]
[null,11,"Left",{"$f":"$D$2","v":2},12,"Right",{"$f":"$D$2","v":2},"2 Left","2 Right",null,23,"Left",{"$f":"$D$2","v":2},22,"Right",{"$f":"$D$2","v":2},"2 Left","2 Right",null,1,"Left",{"$f":"$D$2","v":2},4,"Right",{"$f":"$D$2","v":2},"2 Left","2 Right",null,13,"Left",{"$f":"$D$2","v":2},16,"Right",{"$f":"$D$2","v":2},"2 Left","2 Right"]
[null,13,"Left",{"$f":"$F$2","v":3},14,"Right",{"$f":"$F$2","v":3},"3 Left","3 Right",null,2,"Left",{"$f":"$F$2","v":3},27,"Right",{"$f":"$F$2","v":3},"3 Left","3 Right",null,9,"Left",{"$f":"$F$2","v":3},11,"Right",{"$f":"$F$2","v":3},"3 Left","3 Right",null,26,"Left",{"$f":"$F$2","v":3},20,"Right",{"$f":"$F$2","v":3},"3 Left","3 Right"]
[null,23,"Left",{"$f":"$F$2","v":3},24,"Right",{"$f":"$F$2","v":3},"3 Left","3 Right",null,12,"Left",{"$f":"$F$2","v":3},5,"Right",{"$f":"$F$2","v":3},"3 Left","3 Right",null,19,"Left",{"$f":"$F$2","v":3},21,"Right",{"$f":"$F$2","v":3},"3 Left","3 Right",null,28,"Left",{"$f":"$F$2","v":3},32,"Right",{"$f":"$F$2","v":3},"3 Left","3 Right"]
[null,null,"Left",{"$f":"$F$2","v":3},null,"Right",{"$f":"$F$2","v":3},"3 Left","3 Right",null,null,"Left",{"$f":"$F$2","v":3},null,"Right",{"$f":"$F$2","v":3},"3 Left","3 Right",null,null,"Left",{"$f":"$F$2","v":3},null,"Right",{"$f":"$F$2","v":3},"3 Left","3 Right",null,null,"Left",{"$f":"$F$2","v":3},null,"Right",{"$f":"$F$2","v":3},"3 Left","3 Right"]
[null,15,"Left",{"$f":"$H$2","v":4},17,"Right",{"$f":"$H$2","v":4},"4 Left","4 Right",null,26,"Left",{"$f":"$H$2","v":4},28,"Right",{"$f":"$H$2","v":4},"4 Left","4 Right",null,10,"Left",{"$f":"$H$2","v":4},12,"Right",{"$f":"$H$2","v":4},"4 Left","4 Right",null,18,"Left",{"$f":"$H$2","v":4},19,"Right",{"$f":"$H$2","v":4},"4 Left","4 Right"]
[null,25,"Left",{"$f":"$H$2","v":4},27,"Right",{"$f":"$H$2","v":4},"4 Left","4 Right",null,4,"Left",{"$f":"$H$2","v":4},6,"Right",{"$f":"$H$2","v":4},"4 Left","4 Right",null,23,"Left",{"$f":"$H$2","v":4},24,"Right",{"$f":"$H$2","v":4},"4 Left","4 Right",null,30,"Left",{"$f":"$H$2","v":4},31,"Right",{"$f":"$H$2","v":4},"4 Left","4 Right"]
[null,null,"Left",4,null,"Right",4,"4 Left","4 Right",null,null,"Left",4,null,"Right",4,"4 Left","4 Right",null,null,"Left",4,null,"Right",4,"4 Left","4 Right",null,null,"Left",4,null,"Right",4,"4 Left","4 Right"]
[null,16,"Left",{"$f":"$J$2","v":5},18,"Right",{"$f":"$J$2","v":5},"5 Left","5 Right",null,29,"Left",{"$f":"$J$2","v":5},31,"Right",{"$f":"$J$2","v":5},"5 Left","5 Right",null,5,"Left",{"$f":"$J$2","v":5},6,"Right",{"$f":"$J$2","v":5},"5 Left","5 Right",null,23,"Left",{"$f":"$J$2","v":5},22,"Right",{"$f":"$J$2","v":5},"5 Left","5 Right"]
[null,26,"Left",{"$f":"$J$2","v":5},28,"Right",{"$f":"$J$2","v":5},"5 Left","5 Right",null,7,"Left",{"$f":"$J$2","v":5},9,"Right",{"$f":"$J$2","v":5},"5 Left","5 Right",null,15,"Left",{"$f":"$J$2","v":5},16,"Right",{"$f":"$J$2","v":5},"5 Left","5 Right",null,3,"Left",{"$f":"$J$2","v":5},2,"Right",{"$f":"$J$2","v":5},"5 Left","5 Right"]
[null,null,"Left",5,null,"Right",5,"5 Left","5 Right",null,null,"Left",5,null,"Right",5,"5 Left","5 Right",null,null,"Left",5,null,"Right",5,"5 Left","5 Right",null,null,"Left",5,null,"Right",5,"5 Left","5 Right"]
[null,19,"Left",{"$f":"$L$2","v":6},20,"Right",{"$f":"$L$2","v":6},"6 Left","6 Right",null,1,"Left",{"$f":"$L$2","v":6},32,"Right",{"$f":"$L$2","v":6},"6 Left","6 Right",null,7,"Left",{"$f":"$L$2","v":6},8,"Right",{"$f":"$L$2","v":6},"6 Left","6 Right",null,25,"Left",{"$f":"$L$2","v":6},21,"Right",{"$f":"$L$2","v":6},"6 Left","6 Right"]
[null,29,"Left",{"$f":"$L$2","v":6},30,"Right",{"$f":"$L$2","v":6},"6 Left","6 Right",null,11,"Left",{"$f":"$L$2","v":6},10,"Right",{"$f":"$L$2","v":6},"6 Left","6 Right",null,17,"Left",{"$f":"$L$2","v":6},18,"Right",{"$f":"$L$2","v":6},"6 Left","6 Right",null,27,"Left",{"$f":"$L$2","v":6},1,"Right",{"$f":"$L$2","v":6},"6 Left","6 Right"]
[null,null,"Left",6,null,"Right",6,"6 Left","6 Right",null,null,"Left",6,null,"Right",6,"6 Left","6 Right",null,null,"Left",6,null,"Right",6,"6 Left","6 Right",null,null,"Left",6,null,"Right",6,"6 Left","6 Right"]
[null,21,"Left",{"$f":"$N$2","v":7},22,"Right",{"$f":"$N$2","v":7},"7 Left","7 Right",null,30,"Left",{"$f":"$N$2","v":7},25,"Right",{"$f":"$N$2","v":7},"7 Left","7 Right",null,13,"Left",{"$f":"$N$2","v":7},14,"Right",{"$f":"$N$2","v":7},"7 Left","7 Right",null,17,"Left",{"$f":"$N$2","v":7},24,"Right",{"$f":"$N$2","v":7},"7 Left","7 Right"]
[null,31,"Left",{"$f":"$N$2","v":7},32,"Right",{"$f":"$N$2","v":7},"7 Left","7 Right",null,8,"Left",{"$f":"$N$2","v":7},3,"Right",{"$f":"$N$2","v":7},"7 Left","7 Right",null,22,"Left",{"$f":"$N$2","v":7},20,"Right",{"$f":"$N$2","v":7},"7 Left","7 Right",null,29,"Left",{"$f":"$N$2","v":7},4,"Right",{"$f":"$N$2","v":7},"7 Left","7 Right"]
[null,null,"Left",7,null,"Right",7,"7 Left","7 Right",null,null,"Left",7,null,"Right",7,"7 Left","7 Right",null,null,"Left",7,null,"Right",7,"7 Left","7 Right",null,null,"Left",7,null,"Right",7,"7 Left","7 Right"]
[null,33,"Left",{"$f":"$P$2","v":8},34,"Right",{"$f":"$P$2","v":8},"8 Left","8 Right",null,37,"Left",{"$f":"$P$2","v":8},39,"Right",{"$f":"$P$2","v":8},"8 Left","8 Right",null,35,"Left",{"$f":"$P$2","v":8},43,"Right",{"$f":"$P$2","v":8},"8 Left","8 Right",null,36,"Left",{"$f":"$P$2","v":8},42,"Right",{"$f":"$P$2","v":8},"8 Left","8 Right"]
[null,48,"Left",{"$f":"$P$2","v":8},49,"Right",{"$f":"$P$2","v":8},"8 Left","8 Right",null,50,"Left",{"$f":"$P$2","v":8},52,"Right",{"$f":"$P$2","v":8},"8 Left","8 Right",null,61,"Left",{"$f":"$P$2","v":8},54,"Right",{"$f":"$P$2","v":8},"8 Left","8 Right",null,60,"Left",{"$f":"$P$2","v":8},58,"Right",{"$f":"$P$2","v":8},"8 Left","8 Right"]
[null,47,"Left",8,62,"Right",8,"8 Left","8 Right",null,40,"Left",8,53,"Right",8,"8 Left","8 Right",null,44,"Left",8,55,"Right",8,"8 Left","8 Right",null,57,"Left",8,41,"Right",8,"8 Left","8 Right"]
[null,35,"Left",{"$f":"$R$2","v":9},36,"Right",{"$f":"$R$2","v":9},"9 Left","9 Right",null,33,"Left",{"$f":"$R$2","v":9},45,"Right",{"$f":"$R$2","v":9},"9 Left","9 Right",null,34,"Left",{"$f":"$R$2","v":9},46,"Right",{"$f":"$R$2","v":9},"9 Left","9 Right",null,47,"Left",{"$f":"$R$2","v":9},43,"Right",{"$f":"$R$2","v":9},"9 Left","9 Right"]
[null,50,"Left",{"$f":"$R$2","v":9},51,"Right",{"$f":"$R$2","v":9},"9 Left","9 Right",null,62,"Left",{"$f":"$R$2","v":9},58,"Right",{"$f":"$R$2","v":9},"9 Left","9 Right",null,60,"Left",{"$f":"$R$2","v":9},57,"Right",{"$f":"$R$2","v":9},"9 Left","9 Right",null,56,"Left",{"$f":"$R$2","v":9},59,"Right",{"$f":"$R$2","v":9},"9 Left","9 Right"]
[null,null,"Left",9,null,"Right",9,"9 Left","9 Right",null,null,"Left",9,null,"Right",9,"9 Left","9 Right",null,null,"Left",9,null,"Right",9,"9 Left","9 Right",null,null,"Left",9,null,"Right",9,"9 Left","9 Right"]
[null,37,"Left",{"$f":"$T$2","v":10},38,"Right",{"$f":"$T$2","v":10},"10 Left","10 Right",null,34,"Left",{"$f":"$T$2","v":10},46,"Right",{"$f":"$T$2","v":10},"10 Left","10 Right",null,39,"Left",{"$f":"$T$2","v":10},47,"Right",{"$f":"$T$2","v":10},"10 Left","10 Right",null,40,"Left",{"$f":"$T$2","v":10},35,"Right",{"$f":"$T$2","v":10},"10 Left","10 Right"]
[null,52,"Left",{"$f":"$T$2","v":10},53,"Right",{"$f":"$T$2","v":10},"10 Left","10 Right",null,61,"Left",{"$f":"$T$2","v":10},59,"Right",{"$f":"$T$2","v":10},"10 Left","10 Right",null,50,"Left",{"$f":"$T$2","v":10},58,"Right",{"$f":"$T$2","v":10},"10 Left","10 Right",null,48,"Left",{"$f":"$T$2","v":10},51,"Right",{"$f":"$T$2","v":10},"10 Left","10 Right"]
[null,null,"Left",10,null,"Right",10,"10 Left","10 Right",null,null,"Left",10,null,"Right",10,"10 Left","10 Right",null,null,"Left",10,null,"Right",10,"10 Left","10 Right",null,null,"Left",10,null,"Right",10,"10 Left","10 Right"]
[null,39,"Left",{"$f":"$V$2","v":11},40,"Right",{"$f":"$V$2","v":11},"11 Left","11 Right",null,35,"Left",{"$f":"$V$2","v":11},44,"Right",{"$f":"$V$2","v":11},"11 Left","11 Right",null,33,"Left",{"$f":"$V$2","v":11},42,"Right",{"$f":"$V$2","v":11},"11 Left","11 Right",null,46,"Left",{"$f":"$V$2","v":11},45,"Right",{"$f":"$V$2","v":11},"11 Left","11 Right"]
[null,54,"Left",{"$f":"$V$2","v":11},55,"Right",{"$f":"$V$2","v":11},"11 Left","11 Right",null,48,"Left",{"$f":"$V$2","v":11},57,"Right",{"$f":"$V$2","v":11},"11 Left","11 Right",null,59,"Left",{"$f":"$V$2","v":11},53,"Right",{"$f":"$V$2","v":11},"11 Left","11 Right",null,62,"Left",{"$f":"$V$2","v":11},61,"Right",{"$f":"$V$2","v":11},"11 Left","11 Right"]
[null,null,"Left",11,null,"Right",11,"11 Left","11 Right",null,null,"Left",11,null,"Right",11,"11 Left","11 Right",null,null,"Left",11,null,"Right",11,"11 Left","11 Right",null,null,"Left",11,null,"Right",11,"11 Left","11 Right"]
[null,41,"Left",{"$f":"$X$2","v":12},42,"Right",{"$f":"$X$2","v":12},"12 Left","12 Right",null,36,"Left",{"$f":"$X$2","v":12},47,"Right",{"$f":"$X$2","v":12},"12 Left","12 Right",null,37,"Left",{"$f":"$X$2","v":12},40,"Right",{"$f":"$X$2","v":12},"12 Left","12 Right",null,44,"Left",{"$f":"$X$2","v":12},38,"Right",{"$f":"$X$2","v":12},"12 Left","12 Right"]
[null,56,"Left",{"$f":"$X$2","v":12},57,"Right",{"$f":"$X$2","v":12},"12 Left","12 Right",null,49,"Left",{"$f":"$X$2","v":12},60,"Right",{"$f":"$X$2","v":12},"12 Left","12 Right",null,48,"Left",{"$f":"$X$2","v":12},51,"Right",{"$f":"$X$2","v":12},"12 Left","12 Right",null,52,"Left",{"$f":"$X$2","v":12},54,"Right",{"$f":"$X$2","v":12},"12 Left","12 Right"]
[null,null,"Left",12,null,"Right",12,"12 Left","12 Right",null,null,"Left",12,null,"Right",12,"12 Left","12 Right",null,null,"Left",12,null,"Right",12,"12 Left","12 Right",null,null,"Left",12,null,"Right",12,"12 Left","12 Right"]
[null,43,"Left",{"$f":"$Z$2","v":13},44,"Right",{"$f":"$Z$2","v":13},"13 Left","13 Right",null,38,"Left",{"$f":"$Z$2","v":13},42,"Right",{"$f":"$Z$2","v":13},"13 Left","13 Right",null,45,"Left",{"$f":"$Z$2","v":13},41,"Right",{"$f":"$Z$2","v":13},"13 Left","13 Right",null,33,"Left",{"$f":"$Z$2","v":13},37,"Right",{"$f":"$Z$2","v":13},"13 Left","13 Right"]
[null,58,"Left",{"$f":"$Z$2","v":13},59,"Right",{"$f":"$Z$2","v":13},"13 Left","13 Right",null,51,"Left",{"$f":"$Z$2","v":13},55,"Right",{"$f":"$Z$2","v":13},"13 Left","13 Right",null,56,"Left",{"$f":"$Z$2","v":13},52,"Right",{"$f":"$Z$2","v":13},"13 Left","13 Right",null,49,"Left",{"$f":"$Z$2","v":13},53,"Right",{"$f":"$Z$2","v":13},"13 Left","13 Right"]
[null,null,"Left",13,null,"Right",13,"13 Left","13 Right",null,null,"Left",13,null,"Right",13,"13 Left","13 Right",null,null,"Left",13,null,"Right",13,"13 Left","13 Right",null,null,"Left",13,null,"Right",13,"13 Left","13 Right"]
[null,45,"Left",{"$f":"$AB$2","v":14},46,"Right",{"$f":"$AB$2","v":14},"14 Left","14 Right",null,41,"Left",{"$f":"$AB$2","v":14},43,"Right",{"$f":"$AB$2","v":14},"14 Left","14 Right",null,36,"Left",{"$f":"$AB$2","v":14},38,"Right",{"$f":"$AB$2","v":14},"14 Left","14 Right",null,39,"Left",{"$f":"$AB$2","v":14},34,"Right",{"$f":"$AB$2","v":14},"14 Left","14 Right"]
[null,60,"Left",{"$f":"$AB$2","v":14},61,"Right",{"$f":"$AB$2","v":14},"14 Left","14 Right",null,54,"Left",{"$f":"$AB$2","v":14},56,"Right",{"$f":"$AB$2","v":14},"14 Left","14 Right",null,62,"Left",{"$f":"$AB$2","v":14},49,"Right",{"$f":"$AB$2","v":14},"14 Left","14 Right",null,55,"Left",{"$f":"$AB$2","v":14},50,"Right",{"$f":"$AB$2","v":14},"14 Left","14 Right"]
[null,null,"Left",14,null,"Right",14,"14 Left","14 Right",null,null,"Left",14,null,"Right",14,"14 Left","14 Right",null,null,"Left",14,null,"Right",14,"14 Left","14 Right",null,null,"Left",14,null,"Right",14,"14 Left","14 Right"]
{"$rows_empty":20}
[{"$nulls":37},{"$f":"$B$26","v":0},{"$f":"$H$26","v":"3 Left"},{"$f":"$K$26","v":0},{"$f":"$Q$26","v":"3 Left"},{"$f":"$T$26","v":0},{"$f":"$Z$26","v":"3 Left"},{"$f":"$AC$26","v":0},{"$f":"$AI$26","v":"3 Left"}]
[{"$nulls":37},{"$f":"$B$29","v":0},{"$f":"$H$29","v":"4 Left"},{"$f":"$K$29","v":0},{"$f":"$Q$29","v":"4 Left"},{"$f":"$T$29","v":0},{"$f":"$Z$29","v":"4 Left"},{"$f":"$AC$29","v":0},{"$f":"$AI$29","v":"4 Left"}]
[{"$nulls":37},{"$f":"$B$32","v":0},{"$f":"$H$32","v":"5 Left"},{"$f":"$K$32","v":0},{"$f":"$Q$32","v":"5 Left"},{"$f":"$T$32","v":0},{"$f":"$Z$32","v":"5 Left"},{"$f":"$AC$32","v":0},{"$f":"$AI$32","v":"5 Left"}]
[{"$nulls":37},{"$f":"$B$35","v":0},{"$f":"$H$35","v":"6 Left"},{"$f":"$K$35","v":0},{"$f":"$Q$35","v":"6 Left"},{"$f":"$T$35","v":0},{"$f":"$Z$35","v":"6 Left"},{"$f":"$AC$35","v":0},{"$f":"$AI$35","v":"6 Left"}]
[{"$nulls":37},{"$f":"$B$38","v":0},{"$f":"$H$38","v":"7 Left"},{"$f":"$K$38","v":0},{"$f":"$Q$38","v":"7 Left"},{"$f":"$T$38","v":0},{"$f":"$Z$38","v":"7 Left"},{"$f":"$AC$38","v":0},{"$f":"$AI$38","v":"7 Left"}]
[{"$nulls":37},{"$f":"$B$44","v":0},{"$f":"$H$44","v":"9 Left"},{"$f":"$K$44","v":0},{"$f":"$Q$44","v":"9 Left"},{"$f":"$T$44","v":0},{"$f":"$Z$44","v":"9 Left"},{"$f":"$AC$44","v":0},{"$f":"$AI$44","v":"9 Left"}]
[{"$nulls":37},{"$f":"$B$47","v":0},{"$f":"$H$47","v":"10 Left"},{"$f":"$K$47","v":0},{"$f":"$Q$47","v":"10 Left"},{"$f":"$T$47","v":0},{"$f":"$Z$47","v":"10 Left"},{"$f":"$AC$47","v":0},{"$f":"$AI$47","v":"10 Left"}]
[{"$nulls":37},{"$f":"$B$50","v":0},{"$f":"$H$50","v":"11 Left"},{"$f":"$K$50","v":0},{"$f":"$Q$50","v":"11 Left"},{"$f":"$T$50","v":0},{"$f":"$Z$50","v":"11 Left"},{"$f":"$AC$50","v":0},{"$f":"$AI$50","v":"11 Left"}]
[{"$nulls":37},{"$f":"$B$53","v":0},{"$f":"$H$53","v":"12 Left"},{"$f":"$K$53","v":0},{"$f":"$Q$53","v":"12 Left"},{"$f":"$T$53","v":0},{"$f":"$Z$53","v":"12 Left"},{"$f":"$AC$53","v":0},{"$f":"$AI$53","v":"12 Left"}]
[{"$nulls":37},{"$f":"$B$56","v":0},{"$f":"$H$56","v":"13 Left"},{"$f":"$K$56","v":0},{"$f":"$Q$56","v":"13 Left"},{"$f":"$T$56","v":0},{"$f":"$Z$56","v":"13 Left"},{"$f":"$AC$56","v":0},{"$f":"$AI$56","v":"13 Left"}]
[{"$nulls":37},{"$f":"$B$59","v":0},{"$f":"$H$59","v":"14 Left"},{"$f":"$K$59","v":0},{"$f":"$Q$59","v":"14 Left"},{"$f":"$T$59","v":0},{"$f":"$Z$59","v":"14 Left"},{"$f":"$AC$59","v":0},{"$f":"$AI$59","v":"14 Left"}]
[{"$nulls":37},{"$f":"$E$26","v":0},{"$f":"$I$26","v":"3 Right"},{"$f":"$N$26","v":0},{"$f":"$R$26","v":"3 Right"},{"$f":"$W$26","v":0},{"$f":"$AA$26","v":"3 Right"},{"$f":"$AF$26","v":0},{"$f":"$AJ$26","v":"3 Right"}]
[{"$nulls":37},{"$f":"$E$29","v":0},{"$f":"$I$29","v":"4 Right"},{"$f":"$N$29","v":0},{"$f":"$R$29","v":"4 Right"},{"$f":"$W$29","v":0},{"$f":"$AA$29","v":"4 Right"},{"$f":"$AF$29","v":0},{"$f":"$AJ$29","v":"4 Right"}]
[{"$nulls":37},{"$f":"$E$32","v":0},{"$f":"$I$32","v":"5 Right"},{"$f":"$N$32","v":0},{"$f":"$R$32","v":"5 Right"},{"$f":"$W$32","v":0},{"$f":"$AA$32","v":"5 Right"},{"$f":"$AF$32","v":0},{"$f":"$AJ$32","v":"5 Right"}]
[{"$nulls":37},{"$f":"$E$35","v":0},{"$f":"$I$35","v":"6 Right"},{"$f":"$N$35","v":0},{"$f":"$R$35","v":"6 Right"},{"$f":"$W$35","v":0},{"$f":"$AA$35","v":"6 Right"},{"$f":"$AF$35","v":0},{"$f":"$AJ$35","v":"6 Right"}]
[{"$nulls":37},{"$f":"$E$38","v":0},{"$f":"$I$38","v":"7 Right"},{"$f":"$N$38","v":0},{"$f":"$R$38","v":"7 Right"},{"$f":"$W$38","v":0},{"$f":"$AA$38","v":"7 Right"},{"$f":"$AF$38","v":0},{"$f":"$AJ$38","v":"7 Right"}]
[{"$nulls":37},{"$f":"$E$44","v":0},{"$f":"$I$44","v":"9 Right"},{"$f":"$N$44","v":0},{"$f":"$R$44","v":"9 Right"},{"$f":"$W$44","v":0},{"$f":"$AA$44","v":"9 Right"},{"$f":"$AF$44","v":0},{"$f":"$AJ$44","v":"9 Right"}]
[{"$nulls":37},{"$f":"$E$47","v":0},{"$f":"$I$47","v":"10 Right"},{"$f":"$N$47","v":0},{"$f":"$R$47","v":"10 Right"},{"$f":"$W$47","v":0},{"$f":"$AA$47","v":"10 Right"},{"$f":"$AF$47","v":0},{"$f":"$AJ$47","v":"10 Right"}]
[{"$nulls":37},{"$f":"$E$50","v":0},{"$f":"$I$50","v":"11 Right"},{"$f":"$N$50","v":0},{"$f":"$R$50","v":"11 Right"},{"$f":"$W$50","v":0},{"$f":"$AA$50","v":"11 Right"},{"$f":"$AF$50","v":0},{"$f":"$AJ$50","v":"11 Right"}]
[{"$nulls":37},{"$f":"$E$53","v":0},{"$f":"$I$53","v":"12 Right"},{"$f":"$N$53","v":0},{"$f":"$R$53","v":"12 Right"},{"$f":"$W$53","v":0},{"$f":"$AA$53","v":"12 Right"},{"$f":"$AF$53","v":0},{"$f":"$AJ$53","v":"12 Right"}]
[{"$nulls":37},{"$f":"$E$56","v":0},{"$f":"$I$56","v":"13 Right"},{"$f":"$N$56","v":0},{"$f":"$R$56","v":"13 Right"},{"$f":"$W$56","v":0},{"$f":"$AA$56","v":"13 Right"},{"$f":"$AF$56","v":0},{"$f":"$AJ$56","v":"13 Right"}]
[{"$nulls":37},{"$f":"$E$59","v":0},{"$f":"$I$59","v":"14 Right"},{"$f":"$N$59","v":0},{"$f":"$R$59","v":"14 Right"},{"$f":"$W$59","v":0},{"$f":"$AA$59","v":"14 Right"},{"$f":"$AF$59","v":0},{"$f":"$AJ$59","v":"14 Right"}]

{"sheet":"64","index":30,"n_rows":101,"n_cols":45,"rows_kept":101,"hidden":true,"merged":[[0,1,0,28],[1,1,1,2],[1,3,1,4],[1,5,1,6],[1,7,1,8],[1,9,1,10],[1,11,1,12],[1,13,1,14],[1,15,1,16],[1,17,1,18],[1,19,1,20],[1,21,1,22],[1,23,1,24],[1,25,1,26],[1,27,1,28],[2,0,4,0],[5,0,7,0],[8,0,10,0],[11,0,13,0],[14,1,14,28],[15,1,15,6],[15,10,15,15],[15,19,15,24],[15,28,15,33],[16,37,16,38],[16,39,16,40],[16,41,16,42],[16,43,16,44]]}
[null,"YOU MAY CHANGE THESE RINK NUMBERS IF YOU WISH"]
["Round",1,null,2,2,3,3,4,4,5,5,6,6,7,7,8,null,9,null,10,null,11,null,12,null,13,6,14,7]
[1,1,2,3,4,13,14,15,17,16,18,19,20,21,22,33,34,35,36,45,46,47,49,48,50,51,52,53,54]
[null,5,6,7,8,23,24,25,27,26,28,29,30,31,32,37,38,39,40,55,56,57,59,58,60,61,62,63,64]
[null,9,10,11,12,{"$nulls":10},41,42,43,44]
[2,13,16,15,14,2,27,26,28,29,31,1,32,30,25,45,48,47,46,34,59,58,60,61,63,33,64,62,57]
[null,17,20,19,18,12,5,4,6,7,9,11,10,8,3,49,52,51,50,44,37,36,38,39,41,43,42,40,35]
[null,21,24,23,22,{"$nulls":10},53,56,55,54]
[3,26,27,25,28,9,11,10,12,5,6,7,8,13,14,58,59,57,60,41,43,42,44,37,38,39,40,45,46]
[null,30,31,29,32,19,21,23,24,15,16,17,18,22,20,62,63,61,64,51,53,55,56,47,48,49,50,54,52]
[null,2,3,1,4,{"$nulls":10},34,35,33,36]
[4,6,7,5,8,26,20,18,19,23,22,25,21,17,24,38,39,37,40,58,52,50,51,55,54,57,53,49,56]
[null,11,10,12,9,28,32,30,31,3,2,27,1,29,4,43,42,44,41,60,64,62,63,35,34,59,33,61,36]
[null,14,15,13,16,{"$nulls":10},46,47,45,48]
[null,"64 on 2 greens"]
[null,1,{"$nulls":8},2,{"$nulls":8},3,{"$nulls":8},4]
[null,"no","Left","rink","no","Right","rink","L","R",null,"no","Left","rink","no","Right","rink","L","R",null,"no","Left","rink","no","Right","rink","L","R",null,"no","Left","rink","no","Right","rink","L","R",null,1,null,2,null,3,null,4]
[null,1,"Left",{"$f":"$B$2","v":1},2,"Right",{"$f":"$B$2","v":1},{"$f":"(D18&\" \"&C18)","v":"1 Left"},{"$f":"(G18&\" \"&F18)","v":"1 Right"},null,13,"Left",{"$f":"$B$2","v":1},16,"Right",{"$f":"$B$2","v":1},{"$f":"(M18&\" \"&L18)","v":"1 Left"},{"$f":"(P18&\" \"&O18)","v":"1 Right"},null,26,"Left",{"$f":"$B$2","v":1},27,"Right",{"$f":"$B$2","v":1},{"$f":"(V18&\" \"&U18)","v":"1 Left"},{"$f":"(Y18&\" \"&X18)","v":"1 Right"},null,6,"Left",{"$f":"$B$2","v":1},7,"Right",{"$f":"$B$2","v":1},{"$f":"(AE18&\" \"&AD18)","v":"1 Left"},{"$f":"(AH18&\" \"&AG18)","v":"1 Right"}]
[null,5,"Left",{"$f":"$B$2","v":1},6,"Right",{"$f":"$B$2","v":1},{"$f":"(D19&\" \"&C19)","v":"1 Left"},{"$f":"(G19&\" \"&F19)","v":"1 Right"},null,17,"Left",{"$f":"$B$2","v":1},20,"Right",{"$f":"$B$2","v":1},{"$f":"(M19&\" \"&L19)","v":"1 Left"},{"$f":"(P19&\" \"&O19)","v":"1 Right"},null,30,"Left",{"$f":"$B$2","v":1},31,"Right",{"$f":"$B$2","v":1},{"$f":"(V19&\" \"&U19)","v":"1 Left"},{"$f":"(Y19&\" \"&X19)","v":"1 Right"},null,11,"Left",{"$f":"$B$2","v":1},10,"Right",{"$f":"$B$2","v":1},{"$f":"(AE19&\" \"&AD19)","v":"1 Left"},{"$f":"(AH19&\" \"&AG19)","v":"1 Right"}]
[null,9,"Left",{"$f":"$B$2","v":1},10,"Right",{"$f":"$B$2","v":1},"1 Left","1 Right",null,21,"Left",{"$f":"$B$2","v":1},24,"Right",{"$f":"$B$2","v":1},"1 Left","1 Right",null,2,"Left",{"$f":"$B$2","v":1},3,"Right",{"$f":"$B$2","v":1},"1 Left","1 Right",null,14,"Left",{"$f":"$B$2","v":1},15,"Right",{"$f":"$B$2","v":1},"1 Left","1 Right"]
[null,3,"Left",{"$f":"$D$2","v":2},4,"Right",{"$f":"$D$2","v":2},"2 Left","2 Right",null,15,"Left",{"$f":"$D$2","v":2},14,"Right",{"$f":"$D$2","v":2},"2 Left","2 Right",null,25,"Left",{"$f":"$D$2","v":2},28,"Right",{"$f":"$D$2","v":2},"2 Left","2 Right",null,5,"Left",{"$f":"$D$2","v":2},8,"Right",{"$f":"$D$2","v":2},"2 Left","2 Right"]
[null,7,"Left",{"$f":"$D$2","v":2},8,"Right",{"$f":"$D$2","v":2},"2 Left","2 Right",null,19,"Left",{"$f":"$D$2","v":2},18,"Right",{"$f":"$D$2","v":2},"2 Left","2 Right",null,29,"Left",{"$f":"$D$2","v":2},32,"Right",{"$f":"$D$2","v":2},"2 Left","2 Right",null,12,"Left",{"$f":"$D$2","v":2},9,"Right",{"$f":"$D$2","v":2},"2 Left","2 Right"]
[null,11,"Left",{"$f":"$D$2","v":2},12,"Right",{"$f":"$D$2","v":2},"2 Left","2 Right",null,23,"Left",{"$f":"$D$2","v":2},22,"Right",{"$f":"$D$2","v":2},"2 Left","2 Right",null,1,"Left",{"$f":"$D$2","v":2},4,"Right",{"$f":"$D$2","v":2},"2 Left","2 Right",null,13,"Left",{"$f":"$D$2","v":2},16,"Right",{"$f":"$D$2","v":2},"2 Left","2 Right"]
[null,13,"Left",{"$f":"$F$2","v":3},14,"Right",{"$f":"$F$2","v":3},"3 Left","3 Right",null,2,"Left",{"$f":"$F$2","v":3},27,"Right",{"$f":"$F$2","v":3},"3 Left","3 Right",null,9,"Left",{"$f":"$F$2","v":3},11,"Right",{"$f":"$F$2","v":3},"3 Left","3 Right",null,26,"Left",{"$f":"$F$2","v":3},20,"Right",{"$f":"$F$2","v":3},"3 Left","3 Right"]
[null,23,"Left",{"$f":"$F$2","v":3},24,"Right",{"$f":"$F$2","v":3},"3 Left","3 Right",null,12,"Left",{"$f":"$F$2","v":3},5,"Right",{"$f":"$F$2","v":3},"3 Left","3 Right",null,19,"Left",{"$f":"$F$2","v":3},21,"Right",{"$f":"$F$2","v":3},"3 Left","3 Right",null,28,"Left",{"$f":"$F$2","v":3},32,"Right",{"$f":"$F$2","v":3},"3 Left","3 Right"]
[null,null,"Left",{"$f":"$F$2","v":3},null,"Right",{"$f":"$F$2","v":3},"3 Left","3 Right",null,null,"Left",{"$f":"$F$2","v":3},null,"Right",{"$f":"$F$2","v":3},"3 Left","3 Right",null,null,"Left",{"$f":"$F$2","v":3},null,"Right",{"$f":"$F$2","v":3},"3 Left","3 Right",null,null,"Left",{"$f":"$F$2","v":3},null,"Right",{"$f":"$F$2","v":3},"3 Left","3 Right"]
[null,15,"Left",{"$f":"$H$2","v":4},17,"Right",{"$f":"$H$2","v":4},"4 Left","4 Right",null,26,"Left",{"$f":"$H$2","v":4},28,"Right",{"$f":"$H$2","v":4},"4 Left","4 Right",null,10,"Left",{"$f":"$H$2","v":4},12,"Right",{"$f":"$H$2","v":4},"4 Left","4 Right",null,18,"Left",{"$f":"$H$2","v":4},19,"Right",{"$f":"$H$2","v":4},"4 Left","4 Right"]
[null,25,"Left",{"$f":"$H$2","v":4},27,"Right",{"$f":"$H$2","v":4},"4 Left","4 Right",null,4,"Left",{"$f":"$H$2","v":4},6,"Right",{"$f":"$H$2","v":4},"4 Left","4 Right",null,23,"Left",{"$f":"$H$2","v":4},24,"Right",{"$f":"$H$2","v":4},"4 Left","4 Right",null,30,"Left",{"$f":"$H$2","v":4},31,"Right",{"$f":"$H$2","v":4},"4 Left","4 Right"]
[null,null,"Left",4,null,"Right",4,"4 Left","4 Right",null,null,"Left",4,null,"Right",4,"4 Left","4 Right",null,null,"Left",4,null,"Right",4,"4 Left","4 Right",null,null,"Left",4,null,"Right",4,"4 Left","4 Right"]
[null,16,"Left",{"$f":"$J$2","v":5},18,"Right",{"$f":"$J$2","v":5},"5 Left","5 Right",null,29,"Left",{"$f":"$J$2","v":5},31,"Right",{"$f":"$J$2","v":5},"5 Left","5 Right",null,5,"Left",{"$f":"$J$2","v":5},6,"Right",{"$f":"$J$2","v":5},"5 Left","5 Right",null,23,"Left",{"$f":"$J$2","v":5},22,"Right",{"$f":"$J$2","v":5},"5 Left","5 Right"]
[null,26,"Left",{"$f":"$J$2","v":5},28,"Right",{"$f":"$J$2","v":5},"5 Left","5 Right",null,7,"Left",{"$f":"$J$2","v":5},9,"Right",{"$f":"$J$2","v":5},"5 Left","5 Right",null,15,"Left",{"$f":"$J$2","v":5},16,"Right",{"$f":"$J$2","v":5},"5 Left","5 Right",null,3,"Left",{"$f":"$J$2","v":5},2,"Right",{"$f":"$J$2","v":5},"5 Left","5 Right"]
[null,null,"Left",5,null,"Right",5,"5 Left","5 Right",null,null,"Left",5,null,"Right",5,"5 Left","5 Right",null,null,"Left",5,null,"Right",5,"5 Left","5 Right",null,null,"Left",5,null,"Right",5,"5 Left","5 Right"]
[null,19,"Left",{"$f":"$L$2","v":6},20,"Right",{"$f":"$L$2","v":6},"6 Left","6 Right",null,1,"Left",{"$f":"$L$2","v":6},32,"Right",{"$f":"$L$2","v":6},"6 Left","6 Right",null,7,"Left",{"$f":"$L$2","v":6},8,"Right",{"$f":"$L$2","v":6},"6 Left","6 Right",null,25,"Left",{"$f":"$L$2","v":6},21,"Right",{"$f":"$L$2","v":6},"6 Left","6 Right"]
[null,29,"Left",{"$f":"$L$2","v":6},30,"Right",{"$f":"$L$2","v":6},"6 Left","6 Right",null,11,"Left",{"$f":"$L$2","v":6},10,"Right",{"$f":"$L$2","v":6},"6 Left","6 Right",null,17,"Left",{"$f":"$L$2","v":6},18,"Right",{"$f":"$L$2","v":6},"6 Left","6 Right",null,27,"Left",{"$f":"$L$2","v":6},1,"Right",{"$f":"$L$2","v":6},"6 Left","6 Right"]
[null,null,"Left",6,null,"Right",6,"6 Left","6 Right",null,null,"Left",6,null,"Right",6,"6 Left","6 Right",null,null,"Left",6,null,"Right",6,"6 Left","6 Right",null,null,"Left",6,null,"Right",6,"6 Left","6 Right"]
[null,21,"Left",{"$f":"$N$2","v":7},22,"Right",{"$f":"$N$2","v":7},"7 Left","7 Right",null,30,"Left",{"$f":"$N$2","v":7},25,"Right",{"$f":"$N$2","v":7},"7 Left","7 Right",null,13,"Left",{"$f":"$N$2","v":7},14,"Right",{"$f":"$N$2","v":7},"7 Left","7 Right",null,17,"Left",{"$f":"$N$2","v":7},24,"Right",{"$f":"$N$2","v":7},"7 Left","7 Right"]
[null,31,"Left",{"$f":"$N$2","v":7},32,"Right",{"$f":"$N$2","v":7},"7 Left","7 Right",null,8,"Left",{"$f":"$N$2","v":7},3,"Right",{"$f":"$N$2","v":7},"7 Left","7 Right",null,22,"Left",{"$f":"$N$2","v":7},20,"Right",{"$f":"$N$2","v":7},"7 Left","7 Right",null,29,"Left",{"$f":"$N$2","v":7},4,"Right",{"$f":"$N$2","v":7},"7 Left","7 Right"]
[null,null,"Left",7,null,"Right",7,"7 Left","7 Right",null,null,"Left",7,null,"Right",7,"7 Left","7 Right",null,null,"Left",7,null,"Right",7,"7 Left","7 Right",null,null,"Left",7,null,"Right",7,"7 Left","7 Right"]
[null,33,"Left",{"$f":"$P$2","v":8},34,"Right",{"$f":"$P$2","v":8},"8 Left","8 Right",null,45,"Left",{"$f":"$P$2","v":8},48,"Right",{"$f":"$P$2","v":8},"8 Left","8 Right",null,58,"Left",{"$f":"$P$2","v":8},59,"Right",{"$f":"$P$2","v":8},"8 Left","8 Right",null,38,"Left",{"$f":"$P$2","v":8},39,"Right",{"$f":"$P$2","v":8},"8 Left","8 Right"]
[null,37,"Left",{"$f":"$P$2","v":8},38,"Right",{"$f":"$P$2","v":8},"8 Left","8 Right",null,49,"Left",{"$f":"$P$2","v":8},52,"Right",{"$f":"$P$2","v":8},"8 Left","8 Right",null,62,"Left",{"$f":"$P$2","v":8},63,"Right",{"$f":"$P$2","v":8},"8 Left","8 Right",null,43,"Left",{"$f":"$P$2","v":8},42,"Right",{"$f":"$P$2","v":8},"8 Left","8 Right"]
[null,41,"Left",8,42,"Right",8,"8 Left","8 Right",null,53,"Left",8,56,"Right",8,"8 Left","8 Right",null,34,"Left",8,35,"Right",8,"8 Left","8 Right",null,46,"Left",8,47,"Right",8,"8 Left","8 Right"]
[null,35,"Left",{"$f":"$R$2","v":9},36,"Right",{"$f":"$R$2","v":9},"9 Left","9 Right",null,47,"Left",{"$f":"$R$2","v":9},46,"Right",{"$f":"$R$2","v":9},"9 Left","9 Right",null,57,"Left",{"$f":"$R$2","v":9},60,"Right",{"$f":"$R$2","v":9},"9 Left","9 Right",null,37,"Left",{"$f":"$R$2","v":9},40,"Right",{"$f":"$R$2","v":9},"9 Left","9 Right"]
[null,39,"Left",{"$f":"$R$2","v":9},40,"Right",{"$f":"$R$2","v":9},"9 Left","9 Right",null,51,"Left",{"$f":"$R$2","v":9},50,"Right",{"$f":"$R$2","v":9},"9 Left","9 Right",null,61,"Left",{"$f":"$R$2","v":9},64,"Right",{"$f":"$R$2","v":9},"9 Left","9 Right",null,44,"Left",{"$f":"$R$2","v":9},41,"Right",{"$f":"$R$2","v":9},"9 Left","9 Right"]
[null,43,"Left",9,44,"Right",9,"9 Left","9 Right",null,55,"Left",9,54,"Right",9,"9 Left","9 Right",null,33,"Left",9,36,"Right",9,"9 Left","9 Right",null,45,"Left",9,48,"Right",9,"9 Left","9 Right"]
[null,45,"Left",{"$f":"$T$2","v":10},46,"Right",{"$f":"$T$2","v":10},"10 Left","10 Right",null,34,"Left",{"$f":"$T$2","v":10},59,"Right",{"$f":"$T$2","v":10},"10 Left","10 Right",null,41,"Left",{"$f":"$T$2","v":10},43,"Right",{"$f":"$T$2","v":10},"10 Left","10 Right",null,58,"Left",{"$f":"$T$2","v":10},52,"Right",{"$f":"$T$2","v":10},"10 Left","10 Right"]
[null,55,"Left",{"$f":"$T$2","v":10},56,"Right",{"$f":"$T$2","v":10},"10 Left","10 Right",null,44,"Left",{"$f":"$T$2","v":10},37,"Right",{"$f":"$T$2","v":10},"10 Left","10 Right",null,51,"Left",{"$f":"$T$2","v":10},53,"Right",{"$f":"$T$2","v":10},"10 Left","10 Right",null,60,"Left",{"$f":"$T$2","v":10},64,"Right",{"$f":"$T$2","v":10},"10 Left","10 Right"]
[null,null,"Left",10,null,"Right",10,"10 Left","10 Right",null,null,"Left",10,null,"Right",10,"10 Left","10 Right",null,null,"Left",10,null,"Right",10,"10 Left","10 Right",null,null,"Left",10,null,"Right",10,"10 Left","10 Right"]
[null,47,"Left",{"$f":"$V$2","v":11},49,"Right",{"$f":"$V$2","v":11},"11 Left","11 Right",null,58,"Left",{"$f":"$V$2","v":11},60,"Right",{"$f":"$V$2","v":11},"11 Left","11 Right",null,42,"Left",{"$f":"$V$2","v":11},44,"Right",{"$f":"$V$2","v":11},"11 Left","11 Right",null,50,"Left",{"$f":"$V$2","v":11},51,"Right",{"$f":"$V$2","v":11},"11 Left","11 Right"]
[null,57,"Left",{"$f":"$V$2","v":11},59,"Right",{"$f":"$V$2","v":11},"11 Left","11 Right",null,36,"Left",{"$f":"$V$2","v":11},38,"Right",{"$f":"$V$2","v":11},"11 Left","11 Right",null,55,"Left",{"$f":"$V$2","v":11},56,"Right",{"$f":"$V$2","v":11},"11 Left","11 Right",null,62,"Left",{"$f":"$V$2","v":11},63,"Right",{"$f":"$V$2","v":11},"11 Left","11 Right"]
[null,null,"Left",11,null,"Right",11,"11 Left","11 Right",null,null,"Left",11,null,"Right",11,"11 Left","11 Right",null,null,"Left",11,null,"Right",11,"11 Left","11 Right",null,null,"Left",11,null,"Right",11,"11 Left","11 Right"]
[null,48,"Left",{"$f":"$X$2","v":12},50,"Right",{"$f":"$X$2","v":12},"12 Left","12 Right",null,61,"Left",{"$f":"$X$2","v":12},63,"Right",{"$f":"$X$2","v":12},"12 Left","12 Right",null,37,"Left",{"$f":"$X$2","v":12},38,"Right",{"$f":"$X$2","v":12},"12 Left","12 Right",null,55,"Left",{"$f":"$X$2","v":12},54,"Right",{"$f":"$X$2","v":12},"12 Left","12 Right"]
[null,58,"Left",{"$f":"$X$2","v":12},60,"Right",{"$f":"$X$2","v":12},"12 Left","12 Right",null,39,"Left",{"$f":"$X$2","v":12},41,"Right",{"$f":"$X$2","v":12},"12 Left","12 Right",null,47,"Left",{"$f":"$X$2","v":12},48,"Right",{"$f":"$X$2","v":12},"12 Left","12 Right",null,35,"Left",{"$f":"$X$2","v":12},34,"Right",{"$f":"$X$2","v":12},"12 Left","12 Right"]
[null,null,"Left",12,null,"Right",12,"12 Left","12 Right",null,null,"Left",12,null,"Right",12,"12 Left","12 Right",null,null,"Left",12,null,"Right",12,"12 Left","12 Right",null,null,"Left",12,null,"Right",12,"12 Left","12 Right"]
[null,51,"Left",{"$f":"$Z$2","v":13},52,"Right",{"$f":"$Z$2","v":13},"13 Left","13 Right",null,33,"Left",{"$f":"$Z$2","v":13},64,"Right",{"$f":"$Z$2","v":13},"13 Left","13 Right",null,39,"Left",{"$f":"$Z$2","v":13},40,"Right",{"$f":"$Z$2","v":13},"13 Left","13 Right",null,57,"Left",{"$f":"$Z$2","v":13},53,"Right",{"$f":"$Z$2","v":13},"13 Left","13 Right"]
[null,61,"Left",{"$f":"$Z$2","v":13},62,"Right",{"$f":"$Z$2","v":13},"13 Left","13 Right",null,43,"Left",{"$f":"$Z$2","v":13},42,"Right",{"$f":"$Z$2","v":13},"13 Left","13 Right",null,49,"Left",{"$f":"$Z$2","v":13},50,"Right",{"$f":"$Z$2","v":13},"13 Left","13 Right",null,59,"Left",{"$f":"$Z$2","v":13},33,"Right",{"$f":"$Z$2","v":13},"13 Left","13 Right"]
[null,null,"Left",13,null,"Right",13,"13 Left","13 Right",null,null,"Left",13,null,"Right",13,"13 Left","13 Right",null,null,"Left",13,null,"Right",13,"13 Left","13 Right",null,null,"Left",13,null,"Right",13,"13 Left","13 Right"]
[null,53,"Left",{"$f":"$AB$2","v":14},54,"Right",{"$f":"$AB$2","v":14},"14 Left","14 Right",null,62,"Left",{"$f":"$AB$2","v":14},57,"Right",{"$f":"$AB$2","v":14},"14 Left","14 Right",null,45,"Left",{"$f":"$AB$2","v":14},46,"Right",{"$f":"$AB$2","v":14},"14 Left","14 Right",null,49,"Left",{"$f":"$AB$2","v":14},56,"Right",{"$f":"$AB$2","v":14},"14 Left","14 Right"]
[null,63,"Left",{"$f":"$AB$2","v":14},64,"Right",{"$f":"$AB$2","v":14},"14 Left","14 Right",null,40,"Left",{"$f":"$AB$2","v":14},35,"Right",{"$f":"$AB$2","v":14},"14 Left","14 Right",null,54,"Left",{"$f":"$AB$2","v":14},52,"Right",{"$f":"$AB$2","v":14},"14 Left","14 Right",null,61,"Left",{"$f":"$AB$2","v":14},36,"Right",{"$f":"$AB$2","v":14},"14 Left","14 Right"]
[null,null,"Left",14,null,"Right",14,"14 Left","14 Right",null,null,"Left",14,null,"Right",14,"14 Left","14 Right",null,null,"Left",14,null,"Right",14,"14 Left","14 Right",null,null,"Left",14,null,"Right",14,"14 Left","14 Right"]
{"$rows_empty":22}
[{"$nulls":37},{"$f":"$B$26","v":0},{"$f":"$H$26","v":"3 Left"},{"$f":"$K$26","v":0},{"$f":"$Q$26","v":"3 Left"},{"$f":"$T$26","v":0},{"$f":"$Z$26","v":"3 Left"},{"$f":"$AC$26","v":0},{"$f":"$AI$26","v":"3 Left"}]
[{"$nulls":37},{"$f":"$B$29","v":0},{"$f":"$H$29","v":"4 Left"},{"$f":"$K$29","v":0},{"$f":"$Q$29","v":"4 Left"},{"$f":"$T$29","v":0},{"$f":"$Z$29","v":"4 Left"},{"$f":"$AC$29","v":0},{"$f":"$AI$29","v":"4 Left"}]
[{"$nulls":37},{"$f":"$B$32","v":0},{"$f":"$H$32","v":"5 Left"},{"$f":"$K$32","v":0},{"$f":"$Q$32","v":"5 Left"},{"$f":"$T$32","v":0},{"$f":"$Z$32","v":"5 Left"},{"$f":"$AC$32","v":0},{"$f":"$AI$32","v":"5 Left"}]
[{"$nulls":37},{"$f":"$B$35","v":0},{"$f":"$H$35","v":"6 Left"},{"$f":"$K$35","v":0},{"$f":"$Q$35","v":"6 Left"},{"$f":"$T$35","v":0},{"$f":"$Z$35","v":"6 Left"},{"$f":"$AC$35","v":0},{"$f":"$AI$35","v":"6 Left"}]
[{"$nulls":37},{"$f":"$B$38","v":0},{"$f":"$H$38","v":"7 Left"},{"$f":"$K$38","v":0},{"$f":"$Q$38","v":"7 Left"},{"$f":"$T$38","v":0},{"$f":"$Z$38","v":"7 Left"},{"$f":"$AC$38","v":0},{"$f":"$AI$38","v":"7 Left"}]
[{"$nulls":37},{"$f":"$B$47","v":0},{"$f":"$H$47","v":"10 Left"},{"$f":"$K$47","v":0},{"$f":"$Q$47","v":"10 Left"},{"$f":"$T$47","v":0},{"$f":"$Z$47","v":"10 Left"},{"$f":"$AC$47","v":0},{"$f":"$AI$47","v":"10 Left"}]
[{"$nulls":37},{"$f":"$B$50","v":0},{"$f":"$H$50","v":"11 Left"},{"$f":"$K$50","v":0},{"$f":"$Q$50","v":"11 Left"},{"$f":"$T$50","v":0},{"$f":"$Z$50","v":"11 Left"},{"$f":"$AC$50","v":0},{"$f":"$AI$50","v":"11 Left"}]
[{"$nulls":37},{"$f":"$B$53","v":0},{"$f":"$H$53","v":"12 Left"},{"$f":"$K$53","v":0},{"$f":"$Q$53","v":"12 Left"},{"$f":"$T$53","v":0},{"$f":"$Z$53","v":"12 Left"},{"$f":"$AC$53","v":0},{"$f":"$AI$53","v":"12 Left"}]
[{"$nulls":37},{"$f":"$B$56","v":0},{"$f":"$H$56","v":"13 Left"},{"$f":"$K$56","v":0},{"$f":"$Q$56","v":"13 Left"},{"$f":"$T$56","v":0},{"$f":"$Z$56","v":"13 Left"},{"$f":"$AC$56","v":0},{"$f":"$AI$56","v":"13 Left"}]
[{"$nulls":37},{"$f":"$B$59","v":0},{"$f":"$H$59","v":"14 Left"},{"$f":"$K$59","v":0},{"$f":"$Q$59","v":"14 Left"},{"$f":"$T$59","v":0},{"$f":"$Z$59","v":"14 Left"},{"$f":"$AC$59","v":0},{"$f":"$AI$59","v":"14 Left"}]
[{"$nulls":37},{"$f":"$E$26","v":0},{"$f":"$I$26","v":"3 Right"},{"$f":"$N$26","v":0},{"$f":"$R$26","v":"3 Right"},{"$f":"$W$26","v":0},{"$f":"$AA$26","v":"3 Right"},{"$f":"$AF$26","v":0},{"$f":"$AJ$26","v":"3 Right"}]
[{"$nulls":37},{"$f":"$E$29","v":0},{"$f":"$I$29","v":"4 Right"},{"$f":"$N$29","v":0},{"$f":"$R$29","v":"4 Right"},{"$f":"$W$29","v":0},{"$f":"$AA$29","v":"4 Right"},{"$f":"$AF$29","v":0},{"$f":"$AJ$29","v":"4 Right"}]
[{"$nulls":37},{"$f":"$E$32","v":0},{"$f":"$I$32","v":"5 Right"},{"$f":"$N$32","v":0},{"$f":"$R$32","v":"5 Right"},{"$f":"$W$32","v":0},{"$f":"$AA$32","v":"5 Right"},{"$f":"$AF$32","v":0},{"$f":"$AJ$32","v":"5 Right"}]
[{"$nulls":37},{"$f":"$E$35","v":0},{"$f":"$I$35","v":"6 Right"},{"$f":"$N$35","v":0},{"$f":"$R$35","v":"6 Right"},{"$f":"$W$35","v":0},{"$f":"$AA$35","v":"6 Right"},{"$f":"$AF$35","v":0},{"$f":"$AJ$35","v":"6 Right"}]
[{"$nulls":37},{"$f":"$E$38","v":0},{"$f":"$I$38","v":"7 Right"},{"$f":"$N$38","v":0},{"$f":"$R$38","v":"7 Right"},{"$f":"$W$38","v":0},{"$f":"$AA$38","v":"7 Right"},{"$f":"$AF$38","v":0},{"$f":"$AJ$38","v":"7 Right"}]
[{"$nulls":37},{"$f":"$E$47","v":0},{"$f":"$I$47","v":"10 Right"},{"$f":"$N$47","v":0},{"$f":"$R$47","v":"10 Right"},{"$f":"$W$47","v":0},{"$f":"$AA$47","v":"10 Right"},{"$f":"$AF$47","v":0},{"$f":"$AJ$47","v":"10 Right"}]
[{"$nulls":37},{"$f":"$E$50","v":0},{"$f":"$I$50","v":"11 Right"},{"$f":"$N$50","v":0},{"$f":"$R$50","v":"11 Right"},{"$f":"$W$50","v":0},{"$f":"$AA$50","v":"11 Right"},{"$f":"$AF$50","v":0},{"$f":"$AJ$50","v":"11 Right"}]
[{"$nulls":37},{"$f":"$E$53","v":0},{"$f":"$I$53","v":"12 Right"},{"$f":"$N$53","v":0},{"$f":"$R$53","v":"12 Right"},{"$f":"$W$53","v":0},{"$f":"$AA$53","v":"12 Right"},{"$f":"$AF$53","v":0},{"$f":"$AJ$53","v":"12 Right"}]
[{"$nulls":37},{"$f":"$E$56","v":0},{"$f":"$I$56","v":"13 Right"},{"$f":"$N$56","v":0},{"$f":"$R$56","v":"13 Right"},{"$f":"$W$56","v":0},{"$f":"$AA$56","v":"13 Right"},{"$f":"$AF$56","v":0},{"$f":"$AJ$56","v":"13 Right"}]
[{"$nulls":37},{"$f":"$E$59","v":0},{"$f":"$I$59","v":"14 Right"},{"$f":"$N$59","v":0},{"$f":"$R$59","v":"14 Right"},{"$f":"$W$59","v":0},{"$f":"$AA$59","v":"14 Right"},{"$f":"$AF$59","v":0},{"$f":"$AJ$59","v":"14 Right"}]

{"sheet":"66","index":31,"n_rows":101,"n_cols":45,"rows_kept":101,"hidden":true,"merged":[[0,1,0,28],[1,1,1,2],[1,3,1,4],[1,5,1,6],[1,7,1,8],[1,9,1,10],[1,11,1,12],[1,13,1,14],[1,15,1,16],[1,17,1,18],[1,19,1,20],[1,21,1,22],[1,23,1,24],[1,25,1,26],[1,27,1,28],[2,0,4,0],[5,0,7,0],[8,0,10,0],[11,0,13,0],[14,1,14,28],[15,1,15,6],[15,10,15,15],[15,19,15,24],[15,28,15,33],[16,37,16,38],[16,39,16,40],[16,41,16,42],[16,43,16,44]]}
[null,"YOU MAY CHANGE THESE RINK NUMBERS IF YOU WISH"]
["Round",1,null,2,2,3,3,4,4,5,5,6,6,7,7,8,null,9,null,10,null,11,null,12,null,13,6,14,7]
[1,1,2,4,5,7,8,10,11,12,13,14,15,16,17,35,36,37,38,47,48,49,51,50,52,53,54,55,56]
[null,18,19,21,22,24,25,27,28,29,30,31,32,33,34,39,40,41,42,57,58,59,61,60,62,63,64,65,66]
[null,3,20,6,23,9,26,{"$nulls":8},43,44,45,46]
[2,10,12,11,13,14,16,1,3,2,8,4,7,5,6,47,50,49,48,36,61,60,62,63,65,35,66,64,59]
[null,28,30,29,31,32,34,19,21,22,23,20,26,24,25,51,54,53,52,46,39,38,40,41,43,45,44,42,37]
[null,15,33,9,27,17,18,{"$nulls":8},55,58,57,56]
[3,1,3,2,5,4,8,12,14,7,16,11,17,9,13,60,61,59,62,43,45,44,46,39,40,41,42,47,48]
[null,20,22,21,25,23,24,31,33,27,19,30,18,28,32,64,65,63,66,53,55,57,58,49,50,51,52,56,54]
[null,6,26,15,34,10,29,{"$nulls":8},36,37,35,38]
[4,13,16,12,14,11,17,2,6,1,9,5,8,4,10,40,41,39,42,60,54,52,53,57,56,59,55,51,58]
[null,29,32,28,30,27,33,18,22,34,25,21,24,20,26,45,44,46,43,62,66,64,65,37,36,61,35,63,38]
[null,7,23,3,19,15,31,{"$nulls":8},48,49,47,50]
[null,"66 on 2 greens"]
[null,1,{"$nulls":8},2,{"$nulls":8},3,{"$nulls":8},4]
[null,"no","Left","rink","no","Right","rink","L","R",null,"no","Left","rink","no","Right","rink","L","R",null,"no","Left","rink","no","Right","rink","L","R",null,"no","Left","rink","no","Right","rink","L","R",null,1,null,2,null,3,null,4]
[null,1,"Left",{"$f":"$B$2","v":1},2,"Right",{"$f":"$B$2","v":1},{"$f":"(D18&\" \"&C18)","v":"1 Left"},{"$f":"(G18&\" \"&F18)","v":"1 Right"},null,10,"Left",{"$f":"$B$2","v":1},12,"Right",{"$f":"$B$2","v":1},{"$f":"(M18&\" \"&L18)","v":"1 Left"},{"$f":"(P18&\" \"&O18)","v":"1 Right"},null,1,"Left",{"$f":"$B$2","v":1},3,"Right",{"$f":"$B$2","v":1},{"$f":"(V18&\" \"&U18)","v":"1 Left"},{"$f":"(Y18&\" \"&X18)","v":"1 Right"},null,13,"Left",{"$f":"$B$2","v":1},16,"Right",{"$f":"$B$2","v":1},{"$f":"(AE18&\" \"&AD18)","v":"1 Left"},{"$f":"(AH18&\" \"&AG18)","v":"1 Right"}]
[null,18,"Left",{"$f":"$B$2","v":1},19,"Right",{"$f":"$B$2","v":1},{"$f":"(D19&\" \"&C19)","v":"1 Left"},{"$f":"(G19&\" \"&F19)","v":"1 Right"},null,28,"Left",{"$f":"$B$2","v":1},30,"Right",{"$f":"$B$2","v":1},{"$f":"(M19&\" \"&L19)","v":"1 Left"},{"$f":"(P19&\" \"&O19)","v":"1 Right"},null,20,"Left",{"$f":"$B$2","v":1},22,"Right",{"$f":"$B$2","v":1},{"$f":"(V19&\" \"&U19)","v":"1 Left"},{"$f":"(Y19&\" \"&X19)","v":"1 Right"},null,29,"Left",{"$f":"$B$2","v":1},32,"Right",{"$f":"$B$2","v":1},{"$f":"(AE19&\" \"&AD19)","v":"1 Left"},{"$f":"(AH19&\" \"&AG19)","v":"1 Right"}]
[null,3,"Left",{"$f":"$B$2","v":1},20,"Right",{"$f":"$B$2","v":1},"1 Left","1 Right",null,15,"Left",{"$f":"$B$2","v":1},33,"Right",{"$f":"$B$2","v":1},"1 Left","1 Right",null,6,"Left",{"$f":"$B$2","v":1},26,"Right",{"$f":"$B$2","v":1},"1 Left","1 Right",null,7,"Left",{"$f":"$B$2","v":1},23,"Right",{"$f":"$B$2","v":1},"1 Left","1 Right"]
[null,4,"Left",{"$f":"$D$2","v":2},5,"Right",{"$f":"$D$2","v":2},"2 Left","2 Right",null,11,"Left",{"$f":"$D$2","v":2},13,"Right",{"$f":"$D$2","v":2},"2 Left","2 Right",null,2,"Left",{"$f":"$D$2","v":2},5,"Right",{"$f":"$D$2","v":2},"2 Left","2 Right",null,12,"Left",{"$f":"$D$2","v":2},14,"Right",{"$f":"$D$2","v":2},"2 Left","2 Right"]
[null,21,"Left",{"$f":"$D$2","v":2},22,"Right",{"$f":"$D$2","v":2},"2 Left","2 Right",null,29,"Left",{"$f":"$D$2","v":2},31,"Right",{"$f":"$D$2","v":2},"2 Left","2 Right",null,21,"Left",{"$f":"$D$2","v":2},25,"Right",{"$f":"$D$2","v":2},"2 Left","2 Right",null,28,"Left",{"$f":"$D$2","v":2},30,"Right",{"$f":"$D$2","v":2},"2 Left","2 Right"]
[null,6,"Left",{"$f":"$D$2","v":2},23,"Right",{"$f":"$D$2","v":2},"2 Left","2 Right",null,9,"Left",{"$f":"$D$2","v":2},27,"Right",{"$f":"$D$2","v":2},"2 Left","2 Right",null,15,"Left",{"$f":"$D$2","v":2},34,"Right",{"$f":"$D$2","v":2},"2 Left","2 Right",null,3,"Left",{"$f":"$D$2","v":2},19,"Right",{"$f":"$D$2","v":2},"2 Left","2 Right"]
[null,7,"Left",{"$f":"$F$2","v":3},8,"Right",{"$f":"$F$2","v":3},"3 Left","3 Right",null,14,"Left",{"$f":"$F$2","v":3},16,"Right",{"$f":"$F$2","v":3},"3 Left","3 Right",null,4,"Left",{"$f":"$F$2","v":3},8,"Right",{"$f":"$F$2","v":3},"3 Left","3 Right",null,11,"Left",{"$f":"$F$2","v":3},17,"Right",{"$f":"$F$2","v":3},"3 Left","3 Right"]
[null,24,"Left",{"$f":"$F$2","v":3},25,"Right",{"$f":"$F$2","v":3},"3 Left","3 Right",null,32,"Left",{"$f":"$F$2","v":3},34,"Right",{"$f":"$F$2","v":3},"3 Left","3 Right",null,23,"Left",{"$f":"$F$2","v":3},24,"Right",{"$f":"$F$2","v":3},"3 Left","3 Right",null,27,"Left",{"$f":"$F$2","v":3},33,"Right",{"$f":"$F$2","v":3},"3 Left","3 Right"]
[null,9,"Left",{"$f":"$F$2","v":3},26,"Right",{"$f":"$F$2","v":3},"3 Left","3 Right",null,17,"Left",{"$f":"$F$2","v":3},18,"Right",{"$f":"$F$2","v":3},"3 Left","3 Right",null,10,"Left",{"$f":"$F$2","v":3},29,"Right",{"$f":"$F$2","v":3},"3 Left","3 Right",null,15,"Left",{"$f":"$F$2","v":3},31,"Right",{"$f":"$F$2","v":3},"3 Left","3 Right"]
[null,10,"Left",{"$f":"$H$2","v":4},11,"Right",{"$f":"$H$2","v":4},"4 Left","4 Right",null,1,"Left",{"$f":"$H$2","v":4},3,"Right",{"$f":"$H$2","v":4},"4 Left","4 Right",null,12,"Left",{"$f":"$H$2","v":4},14,"Right",{"$f":"$H$2","v":4},"4 Left","4 Right",null,2,"Left",{"$f":"$H$2","v":4},6,"Right",{"$f":"$H$2","v":4},"4 Left","4 Right"]
[null,27,"Left",{"$f":"$H$2","v":4},28,"Right",{"$f":"$H$2","v":4},"4 Left","4 Right",null,19,"Left",{"$f":"$H$2","v":4},21,"Right",{"$f":"$H$2","v":4},"4 Left","4 Right",null,31,"Left",{"$f":"$H$2","v":4},33,"Right",{"$f":"$H$2","v":4},"4 Left","4 Right",null,18,"Left",{"$f":"$H$2","v":4},22,"Right",{"$f":"$H$2","v":4},"4 Left","4 Right"]
[null,null,"Left",4,null,"Right",4,"4 Left","4 Right",null,null,"Left",4,null,"Right",4,"4 Left","4 Right",null,null,"Left",4,null,"Right",4,"4 Left","4 Right",null,null,"Left",4,null,"Right",4,"4 Left","4 Right"]
[null,12,"Left",{"$f":"$J$2","v":5},13,"Right",{"$f":"$J$2","v":5},"5 Left","5 Right",null,2,"Left",{"$f":"$J$2","v":5},8,"Right",{"$f":"$J$2","v":5},"5 Left","5 Right",null,7,"Left",{"$f":"$J$2","v":5},16,"Right",{"$f":"$J$2","v":5},"5 Left","5 Right",null,1,"Left",{"$f":"$J$2","v":5},9,"Right",{"$f":"$J$2","v":5},"5 Left","5 Right"]
[null,29,"Left",{"$f":"$J$2","v":5},30,"Right",{"$f":"$J$2","v":5},"5 Left","5 Right",null,22,"Left",{"$f":"$J$2","v":5},23,"Right",{"$f":"$J$2","v":5},"5 Left","5 Right",null,27,"Left",{"$f":"$J$2","v":5},19,"Right",{"$f":"$J$2","v":5},"5 Left","5 Right",null,34,"Left",{"$f":"$J$2","v":5},25,"Right",{"$f":"$J$2","v":5},"5 Left","5 Right"]
[null,null,"Left",5,null,"Right",5,"5 Left","5 Right",null,null,"Left",5,null,"Right",5,"5 Left","5 Right",null,null,"Left",5,null,"Right",5,"5 Left","5 Right",null,null,"Left",5,null,"Right",5,"5 Left","5 Right"]
[null,14,"Left",{"$f":"$L$2","v":6},15,"Right",{"$f":"$L$2","v":6},"6 Left","6 Right",null,4,"Left",{"$f":"$L$2","v":6},7,"Right",{"$f":"$L$2","v":6},"6 Left","6 Right",null,11,"Left",{"$f":"$L$2","v":6},17,"Right",{"$f":"$L$2","v":6},"6 Left","6 Right",null,5,"Left",{"$f":"$L$2","v":6},8,"Right",{"$f":"$L$2","v":6},"6 Left","6 Right"]
[null,31,"Left",{"$f":"$L$2","v":6},32,"Right",{"$f":"$L$2","v":6},"6 Left","6 Right",null,20,"Left",{"$f":"$L$2","v":6},26,"Right",{"$f":"$L$2","v":6},"6 Left","6 Right",null,30,"Left",{"$f":"$L$2","v":6},18,"Right",{"$f":"$L$2","v":6},"6 Left","6 Right",null,21,"Left",{"$f":"$L$2","v":6},24,"Right",{"$f":"$L$2","v":6},"6 Left","6 Right"]
[null,null,"Left",6,null,"Right",6,"6 Left","6 Right",null,null,"Left",6,null,"Right",6,"6 Left","6 Right",null,null,"Left",6,null,"Right",6,"6 Left","6 Right",null,null,"Left",6,null,"Right",6,"6 Left","6 Right"]
[null,16,"Left",{"$f":"$N$2","v":7},17,"Right",{"$f":"$N$2","v":7},"7 Left","7 Right",null,5,"Left",{"$f":"$N$2","v":7},6,"Right",{"$f":"$N$2","v":7},"7 Left","7 Right",null,9,"Left",{"$f":"$N$2","v":7},13,"Right",{"$f":"$N$2","v":7},"7 Left","7 Right",null,4,"Left",{"$f":"$N$2","v":7},10,"Right",{"$f":"$N$2","v":7},"7 Left","7 Right"]
[null,33,"Left",{"$f":"$N$2","v":7},34,"Right",{"$f":"$N$2","v":7},"7 Left","7 Right",null,24,"Left",{"$f":"$N$2","v":7},25,"Right",{"$f":"$N$2","v":7},"7 Left","7 Right",null,28,"Left",{"$f":"$N$2","v":7},32,"Right",{"$f":"$N$2","v":7},"7 Left","7 Right",null,20,"Left",{"$f":"$N$2","v":7},26,"Right",{"$f":"$N$2","v":7},"7 Left","7 Right"]
[null,null,"Left",7,null,"Right",7,"7 Left","7 Right",null,null,"Left",7,null,"Right",7,"7 Left","7 Right",null,null,"Left",7,null,"Right",7,"7 Left","7 Right",null,null,"Left",7,null,"Right",7,"7 Left","7 Right"]
[null,35,"Left",{"$f":"$P$2","v":8},36,"Right",{"$f":"$P$2","v":8},"8 Left","8 Right",null,47,"Left",{"$f":"$P$2","v":8},50,"Right",{"$f":"$P$2","v":8},"8 Left","8 Right",null,60,"Left",{"$f":"$P$2","v":8},61,"Right",{"$f":"$P$2","v":8},"8 Left","8 Right",null,40,"Left",{"$f":"$P$2","v":8},41,"Right",{"$f":"$P$2","v":8},"8 Left","8 Right"]
[null,39,"Left",{"$f":"$P$2","v":8},40,"Right",{"$f":"$P$2","v":8},"8 Left","8 Right",null,51,"Left",{"$f":"$P$2","v":8},54,"Right",{"$f":"$P$2","v":8},"8 Left","8 Right",null,64,"Left",{"$f":"$P$2","v":8},65,"Right",{"$f":"$P$2","v":8},"8 Left","8 Right",null,45,"Left",{"$f":"$P$2","v":8},44,"Right",{"$f":"$P$2","v":8},"8 Left","8 Right"]
[null,43,"Left",8,44,"Right",8,"8 Left","8 Right",null,55,"Left",8,58,"Right",8,"8 Left","8 Right",null,36,"Left",8,37,"Right",8,"8 Left","8 Right",null,48,"Left",8,49,"Right",8,"8 Left","8 Right"]
[null,37,"Left",{"$f":"$R$2","v":9},38,"Right",{"$f":"$R$2","v":9},"9 Left","9 Right",null,49,"Left",{"$f":"$R$2","v":9},48,"Right",{"$f":"$R$2","v":9},"9 Left","9 Right",null,59,"Left",{"$f":"$R$2","v":9},62,"Right",{"$f":"$R$2","v":9},"9 Left","9 Right",null,39,"Left",{"$f":"$R$2","v":9},42,"Right",{"$f":"$R$2","v":9},"9 Left","9 Right"]
[null,41,"Left",{"$f":"$R$2","v":9},42,"Right",{"$f":"$R$2","v":9},"9 Left","9 Right",null,53,"Left",{"$f":"$R$2","v":9},52,"Right",{"$f":"$R$2","v":9},"9 Left","9 Right",null,63,"Left",{"$f":"$R$2","v":9},66,"Right",{"$f":"$R$2","v":9},"9 Left","9 Right",null,46,"Left",{"$f":"$R$2","v":9},43,"Right",{"$f":"$R$2","v":9},"9 Left","9 Right"]
[null,45,"Left",9,46,"Right",9,"9 Left","9 Right",null,57,"Left",9,56,"Right",9,"9 Left","9 Right",null,35,"Left",9,38,"Right",9,"9 Left","9 Right",null,47,"Left",9,50,"Right",9,"9 Left","9 Right"]
[null,47,"Left",{"$f":"$T$2","v":10},48,"Right",{"$f":"$T$2","v":10},"10 Left","10 Right",null,36,"Left",{"$f":"$T$2","v":10},61,"Right",{"$f":"$T$2","v":10},"10 Left","10 Right",null,43,"Left",{"$f":"$T$2","v":10},45,"Right",{"$f":"$T$2","v":10},"10 Left","10 Right",null,60,"Left",{"$f":"$T$2","v":10},54,"Right",{"$f":"$T$2","v":10},"10 Left","10 Right"]
[null,57,"Left",{"$f":"$T$2","v":10},58,"Right",{"$f":"$T$2","v":10},"10 Left","10 Right",null,46,"Left",{"$f":"$T$2","v":10},39,"Right",{"$f":"$T$2","v":10},"10 Left","10 Right",null,53,"Left",{"$f":"$T$2","v":10},55,"Right",{"$f":"$T$2","v":10},"10 Left","10 Right",null,62,"Left",{"$f":"$T$2","v":10},66,"Right",{"$f":"$T$2","v":10},"10 Left","10 Right"]
[null,null,"Left",10,null,"Right",10,"10 Left","10 Right",null,null,"Left",10,null,"Right",10,"10 Left","10 Right",null,null,"Left",10,null,"Right",10,"10 Left","10 Right",null,null,"Left",10,null,"Right",10,"10 Left","10 Right"]
[null,49,"Left",{"$f":"$V$2","v":11},51,"Right",{"$f":"$V$2","v":11},"11 Left","11 Right",null,60,"Left",{"$f":"$V$2","v":11},62,"Right",{"$f":"$V$2","v":11},"11 Left","11 Right",null,44,"Left",{"$f":"$V$2","v":11},46,"Right",{"$f":"$V$2","v":11},"11 Left","11 Right",null,52,"Left",{"$f":"$V$2","v":11},53,"Right",{"$f":"$V$2","v":11},"11 Left","11 Right"]
[null,59,"Left",{"$f":"$V$2","v":11},61,"Right",{"$f":"$V$2","v":11},"11 Left","11 Right",null,38,"Left",{"$f":"$V$2","v":11},40,"Right",{"$f":"$V$2","v":11},"11 Left","11 Right",null,57,"Left",{"$f":"$V$2","v":11},58,"Right",{"$f":"$V$2","v":11},"11 Left","11 Right",null,64,"Left",{"$f":"$V$2","v":11},65,"Right",{"$f":"$V$2","v":11},"11 Left","11 Right"]
[null,null,"Left",11,null,"Right",11,"11 Left","11 Right",null,null,"Left",11,null,"Right",11,"11 Left","11 Right",null,null,"Left",11,null,"Right",11,"11 Left","11 Right",null,null,"Left",11,null,"Right",11,"11 Left","11 Right"]
[null,50,"Left",{"$f":"$X$2","v":12},52,"Right",{"$f":"$X$2","v":12},"12 Left","12 Right",null,63,"Left",{"$f":"$X$2","v":12},65,"Right",{"$f":"$X$2","v":12},"12 Left","12 Right",null,39,"Left",{"$f":"$X$2","v":12},40,"Right",{"$f":"$X$2","v":12},"12 Left","12 Right",null,57,"Left",{"$f":"$X$2","v":12},56,"Right",{"$f":"$X$2","v":12},"12 Left","12 Right"]
[null,60,"Left",{"$f":"$X$2","v":12},62,"Right",{"$f":"$X$2","v":12},"12 Left","12 Right",null,41,"Left",{"$f":"$X$2","v":12},43,"Right",{"$f":"$X$2","v":12},"12 Left","12 Right",null,49,"Left",{"$f":"$X$2","v":12},50,"Right",{"$f":"$X$2","v":12},"12 Left","12 Right",null,37,"Left",{"$f":"$X$2","v":12},36,"Right",{"$f":"$X$2","v":12},"12 Left","12 Right"]
[null,null,"Left",12,null,"Right",12,"12 Left","12 Right",null,null,"Left",12,null,"Right",12,"12 Left","12 Right",null,null,"Left",12,null,"Right",12,"12 Left","12 Right",null,null,"Left",12,null,"Right",12,"12 Left","12 Right"]
[null,53,"Left",{"$f":"$Z$2","v":13},54,"Right",{"$f":"$Z$2","v":13},"13 Left","13 Right",null,35,"Left",{"$f":"$Z$2","v":13},66,"Right",{"$f":"$Z$2","v":13},"13 Left","13 Right",null,41,"Left",{"$f":"$Z$2","v":13},42,"Right",{"$f":"$Z$2","v":13},"13 Left","13 Right",null,59,"Left",{"$f":"$Z$2","v":13},55,"Right",{"$f":"$Z$2","v":13},"13 Left","13 Right"]
[null,63,"Left",{"$f":"$Z$2","v":13},64,"Right",{"$f":"$Z$2","v":13},"13 Left","13 Right",null,45,"Left",{"$f":"$Z$2","v":13},44,"Right",{"$f":"$Z$2","v":13},"13 Left","13 Right",null,51,"Left",{"$f":"$Z$2","v":13},52,"Right",{"$f":"$Z$2","v":13},"13 Left","13 Right",null,61,"Left",{"$f":"$Z$2","v":13},35,"Right",{"$f":"$Z$2","v":13},"13 Left","13 Right"]
[null,null,"Left",13,null,"Right",13,"13 Left","13 Right",null,null,"Left",13,null,"Right",13,"13 Left","13 Right",null,null,"Left",13,null,"Right",13,"13 Left","13 Right",null,null,"Left",13,null,"Right",13,"13 Left","13 Right"]
[null,55,"Left",{"$f":"$AB$2","v":14},56,"Right",{"$f":"$AB$2","v":14},"14 Left","14 Right",null,64,"Left",{"$f":"$AB$2","v":14},59,"Right",{"$f":"$AB$2","v":14},"14 Left","14 Right",null,47,"Left",{"$f":"$AB$2","v":14},48,"Right",{"$f":"$AB$2","v":14},"14 Left","14 Right",null,51,"Left",{"$f":"$AB$2","v":14},58,"Right",{"$f":"$AB$2","v":14},"14 Left","14 Right"]
[null,65,"Left",{"$f":"$AB$2","v":14},66,"Right",{"$f":"$AB$2","v":14},"14 Left","14 Right",null,42,"Left",{"$f":"$AB$2","v":14},37,"Right",{"$f":"$AB$2","v":14},"14 Left","14 Right",null,56,"Left",{"$f":"$AB$2","v":14},54,"Right",{"$f":"$AB$2","v":14},"14 Left","14 Right",null,63,"Left",{"$f":"$AB$2","v":14},38,"Right",{"$f":"$AB$2","v":14},"14 Left","14 Right"]
[null,null,"Left",14,null,"Right",14,"14 Left","14 Right",null,null,"Left",14,null,"Right",14,"14 Left","14 Right",null,null,"Left",14,null,"Right",14,"14 Left","14 Right",null,null,"Left",14,null,"Right",14,"14 Left","14 Right"]
{"$rows_empty":24}
[{"$nulls":37},{"$f":"$B$29","v":0},{"$f":"$H$29","v":"4 Left"},{"$f":"$K$29","v":0},{"$f":"$Q$29","v":"4 Left"},{"$f":"$T$29","v":0},{"$f":"$Z$29","v":"4 Left"},{"$f":"$AC$29","v":0},{"$f":"$AI$29","v":"4 Left"}]
[{"$nulls":37},{"$f":"$B$32","v":0},{"$f":"$H$32","v":"5 Left"},{"$f":"$K$32","v":0},{"$f":"$Q$32","v":"5 Left"},{"$f":"$T$32","v":0},{"$f":"$Z$32","v":"5 Left"},{"$f":"$AC$32","v":0},{"$f":"$AI$32","v":"5 Left"}]
[{"$nulls":37},{"$f":"$B$35","v":0},{"$f":"$H$35","v":"6 Left"},{"$f":"$K$35","v":0},{"$f":"$Q$35","v":"6 Left"},{"$f":"$T$35","v":0},{"$f":"$Z$35","v":"6 Left"},{"$f":"$AC$35","v":0},{"$f":"$AI$35","v":"6 Left"}]
[{"$nulls":37},{"$f":"$B$38","v":0},{"$f":"$H$38","v":"7 Left"},{"$f":"$K$38","v":0},{"$f":"$Q$38","v":"7 Left"},{"$f":"$T$38","v":0},{"$f":"$Z$38","v":"7 Left"},{"$f":"$AC$38","v":0},{"$f":"$AI$38","v":"7 Left"}]
[{"$nulls":37},{"$f":"$B$47","v":0},{"$f":"$H$47","v":"10 Left"},{"$f":"$K$47","v":0},{"$f":"$Q$47","v":"10 Left"},{"$f":"$T$47","v":0},{"$f":"$Z$47","v":"10 Left"},{"$f":"$AC$47","v":0},{"$f":"$AI$47","v":"10 Left"}]
[{"$nulls":37},{"$f":"$B$50","v":0},{"$f":"$H$50","v":"11 Left"},{"$f":"$K$50","v":0},{"$f":"$Q$50","v":"11 Left"},{"$f":"$T$50","v":0},{"$f":"$Z$50","v":"11 Left"},{"$f":"$AC$50","v":0},{"$f":"$AI$50","v":"11 Left"}]
[{"$nulls":37},{"$f":"$B$53","v":0},{"$f":"$H$53","v":"12 Left"},{"$f":"$K$53","v":0},{"$f":"$Q$53","v":"12 Left"},{"$f":"$T$53","v":0},{"$f":"$Z$53","v":"12 Left"},{"$f":"$AC$53","v":0},{"$f":"$AI$53","v":"12 Left"}]
[{"$nulls":37},{"$f":"$B$56","v":0},{"$f":"$H$56","v":"13 Left"},{"$f":"$K$56","v":0},{"$f":"$Q$56","v":"13 Left"},{"$f":"$T$56","v":0},{"$f":"$Z$56","v":"13 Left"},{"$f":"$AC$56","v":0},{"$f":"$AI$56","v":"13 Left"}]
[{"$nulls":37},{"$f":"$B$59","v":0},{"$f":"$H$59","v":"14 Left"},{"$f":"$K$59","v":0},{"$f":"$Q$59","v":"14 Left"},{"$f":"$T$59","v":0},{"$f":"$Z$59","v":"14 Left"},{"$f":"$AC$59","v":0},{"$f":"$AI$59","v":"14 Left"}]
[{"$nulls":37},{"$f":"$E$29","v":0},{"$f":"$I$29","v":"4 Right"},{"$f":"$N$29","v":0},{"$f":"$R$29","v":"4 Right"},{"$f":"$W$29","v":0},{"$f":"$AA$29","v":"4 Right"},{"$f":"$AF$29","v":0},{"$f":"$AJ$29","v":"4 Right"}]
[{"$nulls":37},{"$f":"$E$32","v":0},{"$f":"$I$32","v":"5 Right"},{"$f":"$N$32","v":0},{"$f":"$R$32","v":"5 Right"},{"$f":"$W$32","v":0},{"$f":"$AA$32","v":"5 Right"},{"$f":"$AF$32","v":0},{"$f":"$AJ$32","v":"5 Right"}]
[{"$nulls":37},{"$f":"$E$35","v":0},{"$f":"$I$35","v":"6 Right"},{"$f":"$N$35","v":0},{"$f":"$R$35","v":"6 Right"},{"$f":"$W$35","v":0},{"$f":"$AA$35","v":"6 Right"},{"$f":"$AF$35","v":0},{"$f":"$AJ$35","v":"6 Right"}]
[{"$nulls":37},{"$f":"$E$38","v":0},{"$f":"$I$38","v":"7 Right"},{"$f":"$N$38","v":0},{"$f":"$R$38","v":"7 Right"},{"$f":"$W$38","v":0},{"$f":"$AA$38","v":"7 Right"},{"$f":"$AF$38","v":0},{"$f":"$AJ$38","v":"7 Right"}]
[{"$nulls":37},{"$f":"$E$47","v":0},{"$f":"$I$47","v":"10 Right"},{"$f":"$N$47","v":0},{"$f":"$R$47","v":"10 Right"},{"$f":"$W$47","v":0},{"$f":"$AA$47","v":"10 Right"},{"$f":"$AF$47","v":0},{"$f":"$AJ$47","v":"10 Right"}]
[{"$nulls":37},{"$f":"$E$50","v":0},{"$f":"$I$50","v":"11 Right"},{"$f":"$N$50","v":0},{"$f":"$R$50","v":"11 Right"},{"$f":"$W$50","v":0},{"$f":"$AA$50","v":"11 Right"},{"$f":"$AF$50","v":0},{"$f":"$AJ$50","v":"11 Right"}]
[{"$nulls":37},{"$f":"$E$53","v":0},{"$f":"$I$53","v":"12 Right"},{"$f":"$N$53","v":0},{"$f":"$R$53","v":"12 Right"},{"$f":"$W$53","v":0},{"$f":"$AA$53","v":"12 Right"},{"$f":"$AF$53","v":0},{"$f":"$AJ$53","v":"12 Right"}]
[{"$nulls":37},{"$f":"$E$56","v":0},{"$f":"$I$56","v":"13 Right"},{"$f":"$N$56","v":0},{"$f":"$R$56","v":"13 Right"},{"$f":"$W$56","v":0},{"$f":"$AA$56","v":"13 Right"},{"$f":"$AF$56","v":0},{"$f":"$AJ$56","v":"13 Right"}]
[{"$nulls":37},{"$f":"$E$59","v":0},{"$f":"$I$59","v":"14 Right"},{"$f":"$N$59","v":0},{"$f":"$R$59","v":"14 Right"},{"$f":"$W$59","v":0},{"$f":"$AA$59","v":"14 Right"},{"$f":"$AF$59","v":0},{"$f":"$AJ$59","v":"14 Right"}]

{"sheet":"68","index":32,"n_rows":101,"n_cols":45,"rows_kept":101,"hidden":true,"merged":[[0,1,0,28],[1,1,1,2],[1,3,1,4],[1,5,1,6],[1,7,1,8],[1,9,1,10],[1,11,1,12],[1,13,1,14],[1,15,1,16],[1,17,1,18],[1,19,1,20],[1,21,1,22],[1,23,1,24],[1,25,1,26],[1,27,1,28],[2,0,4,0],[5,0,7,0],[8,0,10,0],[11,0,13,0],[14,1,14,28],[15,1,15,6],[15,10,15,15],[15,19,15,24],[15,28,15,33],[16,37,16,38],[16,39,16,40],[16,41,16,42],[16,43,16,44]]}
[null,"YOU MAY CHANGE THESE RINK NUMBERS IF YOU WISH"]
["Round",1,null,2,2,3,3,4,4,5,5,6,6,7,7,8,null,9,null,10,null,11,null,12,null,13,6,14,7]
[1,1,2,4,5,7,8,10,11,12,13,14,15,16,17,35,36,38,39,41,42,44,45,46,47,48,49,50,51]
[null,18,19,21,22,24,25,27,28,29,30,31,32,33,34,52,53,55,56,58,59,61,62,63,64,65,66,67,68]
[null,3,20,6,23,9,26,{"$nulls":8},37,54,40,57,43,60]
[2,10,12,11,13,14,16,1,3,2,8,4,7,5,6,44,46,45,47,48,50,35,37,36,42,38,41,39,40]
[null,28,30,29,31,32,34,19,21,22,23,20,26,24,25,62,64,63,65,66,68,53,55,56,57,54,60,58,59]
[null,15,33,9,27,17,18,{"$nulls":8},49,67,43,61,51,52]
[3,1,3,2,5,4,8,12,14,7,16,11,17,9,13,35,37,36,39,38,42,46,48,41,50,45,51,43,47]
[null,20,22,21,25,23,24,31,33,27,19,30,18,28,32,54,56,55,59,57,58,65,67,61,53,64,52,62,66]
[null,6,26,15,34,10,29,{"$nulls":8},40,60,49,68,44,63]
[4,13,16,12,14,11,17,2,6,1,9,5,8,4,10,47,50,46,48,45,51,36,40,35,43,39,42,38,44]
[null,29,32,28,30,27,33,18,22,34,25,21,24,20,26,63,66,62,64,61,67,52,56,68,59,55,58,54,60]
[null,7,23,3,19,15,31,{"$nulls":8},41,57,37,53,49,65]
[null,"68 on 2 greens"]
[null,1,{"$nulls":8},2,{"$nulls":8},3,{"$nulls":8},4]
[null,"no","Left","rink","no","Right","rink","L","R",null,"no","Left","rink","no","Right","rink","L","R",null,"no","Left","rink","no","Right","rink","L","R",null,"no","Left","rink","no","Right","rink","L","R",null,1,null,2,null,3,null,4]
[null,1,"Left",{"$f":"$B$2","v":1},2,"Right",{"$f":"$B$2","v":1},{"$f":"(D18&\" \"&C18)","v":"1 Left"},{"$f":"(G18&\" \"&F18)","v":"1 Right"},null,10,"Left",{"$f":"$B$2","v":1},12,"Right",{"$f":"$B$2","v":1},{"$f":"(M18&\" \"&L18)","v":"1 Left"},{"$f":"(P18&\" \"&O18)","v":"1 Right"},null,1,"Left",{"$f":"$B$2","v":1},3,"Right",{"$f":"$B$2","v":1},{"$f":"(V18&\" \"&U18)","v":"1 Left"},{"$f":"(Y18&\" \"&X18)","v":"1 Right"},null,13,"Left",{"$f":"$B$2","v":1},16,"Right",{"$f":"$B$2","v":1},{"$f":"(AE18&\" \"&AD18)","v":"1 Left"},{"$f":"(AH18&\" \"&AG18)","v":"1 Right"}]
[null,18,"Left",{"$f":"$B$2","v":1},19,"Right",{"$f":"$B$2","v":1},{"$f":"(D19&\" \"&C19)","v":"1 Left"},{"$f":"(G19&\" \"&F19)","v":"1 Right"},null,28,"Left",{"$f":"$B$2","v":1},30,"Right",{"$f":"$B$2","v":1},{"$f":"(M19&\" \"&L19)","v":"1 Left"},{"$f":"(P19&\" \"&O19)","v":"1 Right"},null,20,"Left",{"$f":"$B$2","v":1},22,"Right",{"$f":"$B$2","v":1},{"$f":"(V19&\" \"&U19)","v":"1 Left"},{"$f":"(Y19&\" \"&X19)","v":"1 Right"},null,29,"Left",{"$f":"$B$2","v":1},32,"Right",{"$f":"$B$2","v":1},{"$f":"(AE19&\" \"&AD19)","v":"1 Left"},{"$f":"(AH19&\" \"&AG19)","v":"1 Right"}]
[null,3,"Left",{"$f":"$B$2","v":1},20,"Right",{"$f":"$B$2","v":1},"1 Left","1 Right",null,15,"Left",{"$f":"$B$2","v":1},33,"Right",{"$f":"$B$2","v":1},"1 Left","1 Right",null,6,"Left",{"$f":"$B$2","v":1},26,"Right",{"$f":"$B$2","v":1},"1 Left","1 Right",null,7,"Left",{"$f":"$B$2","v":1},23,"Right",{"$f":"$B$2","v":1},"1 Left","1 Right"]
[null,4,"Left",{"$f":"$D$2","v":2},5,"Right",{"$f":"$D$2","v":2},"2 Left","2 Right",null,11,"Left",{"$f":"$D$2","v":2},13,"Right",{"$f":"$D$2","v":2},"2 Left","2 Right",null,2,"Left",{"$f":"$D$2","v":2},5,"Right",{"$f":"$D$2","v":2},"2 Left","2 Right",null,12,"Left",{"$f":"$D$2","v":2},14,"Right",{"$f":"$D$2","v":2},"2 Left","2 Right"]
[null,21,"Left",{"$f":"$D$2","v":2},22,"Right",{"$f":"$D$2","v":2},"2 Left","2 Right",null,29,"Left",{"$f":"$D$2","v":2},31,"Right",{"$f":"$D$2","v":2},"2 Left","2 Right",null,21,"Left",{"$f":"$D$2","v":2},25,"Right",{"$f":"$D$2","v":2},"2 Left","2 Right",null,28,"Left",{"$f":"$D$2","v":2},30,"Right",{"$f":"$D$2","v":2},"2 Left","2 Right"]
[null,6,"Left",{"$f":"$D$2","v":2},23,"Right",{"$f":"$D$2","v":2},"2 Left","2 Right",null,9,"Left",{"$f":"$D$2","v":2},27,"Right",{"$f":"$D$2","v":2},"2 Left","2 Right",null,15,"Left",{"$f":"$D$2","v":2},34,"Right",{"$f":"$D$2","v":2},"2 Left","2 Right",null,3,"Left",{"$f":"$D$2","v":2},19,"Right",{"$f":"$D$2","v":2},"2 Left","2 Right"]
[null,7,"Left",{"$f":"$F$2","v":3},8,"Right",{"$f":"$F$2","v":3},"3 Left","3 Right",null,14,"Left",{"$f":"$F$2","v":3},16,"Right",{"$f":"$F$2","v":3},"3 Left","3 Right",null,4,"Left",{"$f":"$F$2","v":3},8,"Right",{"$f":"$F$2","v":3},"3 Left","3 Right",null,11,"Left",{"$f":"$F$2","v":3},17,"Right",{"$f":"$F$2","v":3},"3 Left","3 Right"]
[null,24,"Left",{"$f":"$F$2","v":3},25,"Right",{"$f":"$F$2","v":3},"3 Left","3 Right",null,32,"Left",{"$f":"$F$2","v":3},34,"Right",{"$f":"$F$2","v":3},"3 Left","3 Right",null,23,"Left",{"$f":"$F$2","v":3},24,"Right",{"$f":"$F$2","v":3},"3 Left","3 Right",null,27,"Left",{"$f":"$F$2","v":3},33,"Right",{"$f":"$F$2","v":3},"3 Left","3 Right"]
[null,9,"Left",{"$f":"$F$2","v":3},26,"Right",{"$f":"$F$2","v":3},"3 Left","3 Right",null,17,"Left",{"$f":"$F$2","v":3},18,"Right",{"$f":"$F$2","v":3},"3 Left","3 Right",null,10,"Left",{"$f":"$F$2","v":3},29,"Right",{"$f":"$F$2","v":3},"3 Left","3 Right",null,15,"Left",{"$f":"$F$2","v":3},31,"Right",{"$f":"$F$2","v":3},"3 Left","3 Right"]
[null,10,"Left",{"$f":"$H$2","v":4},11,"Right",{"$f":"$H$2","v":4},"4 Left","4 Right",null,1,"Left",{"$f":"$H$2","v":4},3,"Right",{"$f":"$H$2","v":4},"4 Left","4 Right",null,12,"Left",{"$f":"$H$2","v":4},14,"Right",{"$f":"$H$2","v":4},"4 Left","4 Right",null,2,"Left",{"$f":"$H$2","v":4},6,"Right",{"$f":"$H$2","v":4},"4 Left","4 Right"]
[null,27,"Left",{"$f":"$H$2","v":4},28,"Right",{"$f":"$H$2","v":4},"4 Left","4 Right",null,19,"Left",{"$f":"$H$2","v":4},21,"Right",{"$f":"$H$2","v":4},"4 Left","4 Right",null,31,"Left",{"$f":"$H$2","v":4},33,"Right",{"$f":"$H$2","v":4},"4 Left","4 Right",null,18,"Left",{"$f":"$H$2","v":4},22,"Right",{"$f":"$H$2","v":4},"4 Left","4 Right"]
[null,null,"Left",4,null,"Right",4,"4 Left","4 Right",null,null,"Left",4,null,"Right",4,"4 Left","4 Right",null,null,"Left",4,null,"Right",4,"4 Left","4 Right",null,null,"Left",4,null,"Right",4,"4 Left","4 Right"]
[null,12,"Left",{"$f":"$J$2","v":5},13,"Right",{"$f":"$J$2","v":5},"5 Left","5 Right",null,2,"Left",{"$f":"$J$2","v":5},8,"Right",{"$f":"$J$2","v":5},"5 Left","5 Right",null,7,"Left",{"$f":"$J$2","v":5},16,"Right",{"$f":"$J$2","v":5},"5 Left","5 Right",null,1,"Left",{"$f":"$J$2","v":5},9,"Right",{"$f":"$J$2","v":5},"5 Left","5 Right"]
[null,29,"Left",{"$f":"$J$2","v":5},30,"Right",{"$f":"$J$2","v":5},"5 Left","5 Right",null,22,"Left",{"$f":"$J$2","v":5},23,"Right",{"$f":"$J$2","v":5},"5 Left","5 Right",null,27,"Left",{"$f":"$J$2","v":5},19,"Right",{"$f":"$J$2","v":5},"5 Left","5 Right",null,34,"Left",{"$f":"$J$2","v":5},25,"Right",{"$f":"$J$2","v":5},"5 Left","5 Right"]
[null,null,"Left",5,null,"Right",5,"5 Left","5 Right",null,null,"Left",5,null,"Right",5,"5 Left","5 Right",null,null,"Left",5,null,"Right",5,"5 Left","5 Right",null,null,"Left",5,null,"Right",5,"5 Left","5 Right"]
[null,14,"Left",{"$f":"$L$2","v":6},15,"Right",{"$f":"$L$2","v":6},"6 Left","6 Right",null,4,"Left",{"$f":"$L$2","v":6},7,"Right",{"$f":"$L$2","v":6},"6 Left","6 Right",null,11,"Left",{"$f":"$L$2","v":6},17,"Right",{"$f":"$L$2","v":6},"6 Left","6 Right",null,5,"Left",{"$f":"$L$2","v":6},8,"Right",{"$f":"$L$2","v":6},"6 Left","6 Right"]
[null,31,"Left",{"$f":"$L$2","v":6},32,"Right",{"$f":"$L$2","v":6},"6 Left","6 Right",null,20,"Left",{"$f":"$L$2","v":6},26,"Right",{"$f":"$L$2","v":6},"6 Left","6 Right",null,30,"Left",{"$f":"$L$2","v":6},18,"Right",{"$f":"$L$2","v":6},"6 Left","6 Right",null,21,"Left",{"$f":"$L$2","v":6},24,"Right",{"$f":"$L$2","v":6},"6 Left","6 Right"]
[null,null,"Left",6,null,"Right",6,"6 Left","6 Right",null,null,"Left",6,null,"Right",6,"6 Left","6 Right",null,null,"Left",6,null,"Right",6,"6 Left","6 Right",null,null,"Left",6,null,"Right",6,"6 Left","6 Right"]
[null,16,"Left",{"$f":"$N$2","v":7},17,"Right",{"$f":"$N$2","v":7},"7 Left","7 Right",null,5,"Left",{"$f":"$N$2","v":7},6,"Right",{"$f":"$N$2","v":7},"7 Left","7 Right",null,9,"Left",{"$f":"$N$2","v":7},13,"Right",{"$f":"$N$2","v":7},"7 Left","7 Right",null,4,"Left",{"$f":"$N$2","v":7},10,"Right",{"$f":"$N$2","v":7},"7 Left","7 Right"]
[null,33,"Left",{"$f":"$N$2","v":7},34,"Right",{"$f":"$N$2","v":7},"7 Left","7 Right",null,24,"Left",{"$f":"$N$2","v":7},25,"Right",{"$f":"$N$2","v":7},"7 Left","7 Right",null,28,"Left",{"$f":"$N$2","v":7},32,"Right",{"$f":"$N$2","v":7},"7 Left","7 Right",null,20,"Left",{"$f":"$N$2","v":7},26,"Right",{"$f":"$N$2","v":7},"7 Left","7 Right"]
[null,null,"Left",7,null,"Right",7,"7 Left","7 Right",null,null,"Left",7,null,"Right",7,"7 Left","7 Right",null,null,"Left",7,null,"Right",7,"7 Left","7 Right",null,null,"Left",7,null,"Right",7,"7 Left","7 Right"]
[null,35,"Left",{"$f":"$P$2","v":8},36,"Right",{"$f":"$P$2","v":8},"8 Left","8 Right",null,44,"Left",{"$f":"$P$2","v":8},46,"Right",{"$f":"$P$2","v":8},"8 Left","8 Right",null,35,"Left",{"$f":"$P$2","v":8},37,"Right",{"$f":"$P$2","v":8},"8 Left","8 Right",null,47,"Left",{"$f":"$P$2","v":8},50,"Right",{"$f":"$P$2","v":8},"8 Left","8 Right"]
[null,52,"Left",{"$f":"$P$2","v":8},53,"Right",{"$f":"$P$2","v":8},"8 Left","8 Right",null,62,"Left",{"$f":"$P$2","v":8},64,"Right",{"$f":"$P$2","v":8},"8 Left","8 Right",null,54,"Left",{"$f":"$P$2","v":8},56,"Right",{"$f":"$P$2","v":8},"8 Left","8 Right",null,63,"Left",{"$f":"$P$2","v":8},66,"Right",{"$f":"$P$2","v":8},"8 Left","8 Right"]
[null,37,"Left",8,54,"Right",8,"8 Left","8 Right",null,49,"Left",8,67,"Right",8,"8 Left","8 Right",null,40,"Left",8,60,"Right",8,"8 Left","8 Right",null,41,"Left",8,57,"Right",8,"8 Left","8 Right"]
[null,38,"Left",{"$f":"$R$2","v":9},39,"Right",{"$f":"$R$2","v":9},"9 Left","9 Right",null,45,"Left",{"$f":"$R$2","v":9},47,"Right",{"$f":"$R$2","v":9},"9 Left","9 Right",null,36,"Left",{"$f":"$R$2","v":9},39,"Right",{"$f":"$R$2","v":9},"9 Left","9 Right",null,46,"Left",{"$f":"$R$2","v":9},48,"Right",{"$f":"$R$2","v":9},"9 Left","9 Right"]
[null,55,"Left",{"$f":"$R$2","v":9},56,"Right",{"$f":"$R$2","v":9},"9 Left","9 Right",null,63,"Left",{"$f":"$R$2","v":9},65,"Right",{"$f":"$R$2","v":9},"9 Left","9 Right",null,55,"Left",{"$f":"$R$2","v":9},59,"Right",{"$f":"$R$2","v":9},"9 Left","9 Right",null,62,"Left",{"$f":"$R$2","v":9},64,"Right",{"$f":"$R$2","v":9},"9 Left","9 Right"]
[null,40,"Left",9,57,"Right",9,"9 Left","9 Right",null,43,"Left",9,61,"Right",9,"9 Left","9 Right",null,49,"Left",9,68,"Right",9,"9 Left","9 Right",null,37,"Left",9,53,"Right",9,"9 Left","9 Right"]
[null,41,"Left",{"$f":"$T$2","v":10},42,"Right",{"$f":"$T$2","v":10},"10 Left","10 Right",null,48,"Left",{"$f":"$T$2","v":10},50,"Right",{"$f":"$T$2","v":10},"10 Left","10 Right",null,38,"Left",{"$f":"$T$2","v":10},42,"Right",{"$f":"$T$2","v":10},"10 Left","10 Right",null,45,"Left",{"$f":"$T$2","v":10},51,"Right",{"$f":"$T$2","v":10},"10 Left","10 Right"]
[null,58,"Left",{"$f":"$T$2","v":10},59,"Right",{"$f":"$T$2","v":10},"10 Left","10 Right",null,66,"Left",{"$f":"$T$2","v":10},68,"Right",{"$f":"$T$2","v":10},"10 Left","10 Right",null,57,"Left",{"$f":"$T$2","v":10},58,"Right",{"$f":"$T$2","v":10},"10 Left","10 Right",null,61,"Left",{"$f":"$T$2","v":10},67,"Right",{"$f":"$T$2","v":10},"10 Left","10 Right"]
[null,43,"Left",10,60,"Right",10,"10 Left","10 Right",null,51,"Left",10,52,"Right",10,"10 Left","10 Right",null,44,"Left",10,63,"Right",10,"10 Left","10 Right",null,49,"Left",10,65,"Right",10,"10 Left","10 Right"]
[null,44,"Left",{"$f":"$V$2","v":11},45,"Right",{"$f":"$V$2","v":11},"11 Left","11 Right",null,35,"Left",{"$f":"$V$2","v":11},37,"Right",{"$f":"$V$2","v":11},"11 Left","11 Right",null,46,"Left",{"$f":"$V$2","v":11},48,"Right",{"$f":"$V$2","v":11},"11 Left","11 Right",null,36,"Left",{"$f":"$V$2","v":11},40,"Right",{"$f":"$V$2","v":11},"11 Left","11 Right"]
[null,61,"Left",{"$f":"$V$2","v":11},62,"Right",{"$f":"$V$2","v":11},"11 Left","11 Right",null,53,"Left",{"$f":"$V$2","v":11},55,"Right",{"$f":"$V$2","v":11},"11 Left","11 Right",null,65,"Left",{"$f":"$V$2","v":11},67,"Right",{"$f":"$V$2","v":11},"11 Left","11 Right",null,52,"Left",{"$f":"$V$2","v":11},56,"Right",{"$f":"$V$2","v":11},"11 Left","11 Right"]
[null,null,"Left",11,null,"Right",11,"11 Left","11 Right",null,null,"Left",11,null,"Right",11,"11 Left","11 Right",null,null,"Left",11,null,"Right",11,"11 Left","11 Right",null,null,"Left",11,null,"Right",11,"11 Left","11 Right"]
[null,46,"Left",{"$f":"$X$2","v":12},47,"Right",{"$f":"$X$2","v":12},"12 Left","12 Right",null,36,"Left",{"$f":"$X$2","v":12},42,"Right",{"$f":"$X$2","v":12},"12 Left","12 Right",null,41,"Left",{"$f":"$X$2","v":12},50,"Right",{"$f":"$X$2","v":12},"12 Left","12 Right",null,35,"Left",{"$f":"$X$2","v":12},43,"Right",{"$f":"$X$2","v":12},"12 Left","12 Right"]
[null,63,"Left",{"$f":"$X$2","v":12},64,"Right",{"$f":"$X$2","v":12},"12 Left","12 Right",null,56,"Left",{"$f":"$X$2","v":12},57,"Right",{"$f":"$X$2","v":12},"12 Left","12 Right",null,61,"Left",{"$f":"$X$2","v":12},53,"Right",{"$f":"$X$2","v":12},"12 Left","12 Right",null,68,"Left",{"$f":"$X$2","v":12},59,"Right",{"$f":"$X$2","v":12},"12 Left","12 Right"]
[null,null,"Left",12,null,"Right",12,"12 Left","12 Right",null,null,"Left",12,null,"Right",12,"12 Left","12 Right",null,null,"Left",12,null,"Right",12,"12 Left","12 Right",null,null,"Left",12,null,"Right",12,"12 Left","12 Right"]
[null,48,"Left",{"$f":"$Z$2","v":13},49,"Right",{"$f":"$Z$2","v":13},"13 Left","13 Right",null,38,"Left",{"$f":"$Z$2","v":13},41,"Right",{"$f":"$Z$2","v":13},"13 Left","13 Right",null,45,"Left",{"$f":"$Z$2","v":13},51,"Right",{"$f":"$Z$2","v":13},"13 Left","13 Right",null,39,"Left",{"$f":"$Z$2","v":13},42,"Right",{"$f":"$Z$2","v":13},"13 Left","13 Right"]
[null,65,"Left",{"$f":"$Z$2","v":13},66,"Right",{"$f":"$Z$2","v":13},"13 Left","13 Right",null,54,"Left",{"$f":"$Z$2","v":13},60,"Right",{"$f":"$Z$2","v":13},"13 Left","13 Right",null,64,"Left",{"$f":"$Z$2","v":13},52,"Right",{"$f":"$Z$2","v":13},"13 Left","13 Right",null,55,"Left",{"$f":"$Z$2","v":13},58,"Right",{"$f":"$Z$2","v":13},"13 Left","13 Right"]
[null,null,"Left",13,null,"Right",13,"13 Left","13 Right",null,null,"Left",13,null,"Right",13,"13 Left","13 Right",null,null,"Left",13,null,"Right",13,"13 Left","13 Right",null,null,"Left",13,null,"Right",13,"13 Left","13 Right"]
[null,50,"Left",{"$f":"$AB$2","v":14},51,"Right",{"$f":"$AB$2","v":14},"14 Left","14 Right",null,39,"Left",{"$f":"$AB$2","v":14},40,"Right",{"$f":"$AB$2","v":14},"14 Left","14 Right",null,43,"Left",{"$f":"$AB$2","v":14},47,"Right",{"$f":"$AB$2","v":14},"14 Left","14 Right",null,38,"Left",{"$f":"$AB$2","v":14},44,"Right",{"$f":"$AB$2","v":14},"14 Left","14 Right"]
[null,67,"Left",{"$f":"$AB$2","v":14},68,"Right",{"$f":"$AB$2","v":14},"14 Left","14 Right",null,58,"Left",{"$f":"$AB$2","v":14},59,"Right",{"$f":"$AB$2","v":14},"14 Left","14 Right",null,62,"Left",{"$f":"$AB$2","v":14},66,"Right",{"$f":"$AB$2","v":14},"14 Left","14 Right",null,54,"Left",{"$f":"$AB$2","v":14},60,"Right",{"$f":"$AB$2","v":14},"14 Left","14 Right"]
[null,null,"Left",14,null,"Right",14,"14 Left","14 Right",null,null,"Left",14,null,"Right",14,"14 Left","14 Right",null,null,"Left",14,null,"Right",14,"14 Left","14 Right",null,null,"Left",14,null,"Right",14,"14 Left","14 Right"]
{"$rows_empty":26}
[{"$nulls":37},{"$f":"$B$29","v":0},{"$f":"$H$29","v":"4 Left"},{"$f":"$K$29","v":0},{"$f":"$Q$29","v":"4 Left"},{"$f":"$T$29","v":0},{"$f":"$Z$29","v":"4 Left"},{"$f":"$AC$29","v":0},{"$f":"$AI$29","v":"4 Left"}]
[{"$nulls":37},{"$f":"$B$32","v":0},{"$f":"$H$32","v":"5 Left"},{"$f":"$K$32","v":0},{"$f":"$Q$32","v":"5 Left"},{"$f":"$T$32","v":0},{"$f":"$Z$32","v":"5 Left"},{"$f":"$AC$32","v":0},{"$f":"$AI$32","v":"5 Left"}]
[{"$nulls":37},{"$f":"$B$35","v":0},{"$f":"$H$35","v":"6 Left"},{"$f":"$K$35","v":0},{"$f":"$Q$35","v":"6 Left"},{"$f":"$T$35","v":0},{"$f":"$Z$35","v":"6 Left"},{"$f":"$AC$35","v":0},{"$f":"$AI$35","v":"6 Left"}]
[{"$nulls":37},{"$f":"$B$38","v":0},{"$f":"$H$38","v":"7 Left"},{"$f":"$K$38","v":0},{"$f":"$Q$38","v":"7 Left"},{"$f":"$T$38","v":0},{"$f":"$Z$38","v":"7 Left"},{"$f":"$AC$38","v":0},{"$f":"$AI$38","v":"7 Left"}]
[{"$nulls":37},{"$f":"$B$50","v":0},{"$f":"$H$50","v":"11 Left"},{"$f":"$K$50","v":0},{"$f":"$Q$50","v":"11 Left"},{"$f":"$T$50","v":0},{"$f":"$Z$50","v":"11 Left"},{"$f":"$AC$50","v":0},{"$f":"$AI$50","v":"11 Left"}]
[{"$nulls":37},{"$f":"$B$53","v":0},{"$f":"$H$53","v":"12 Left"},{"$f":"$K$53","v":0},{"$f":"$Q$53","v":"12 Left"},{"$f":"$T$53","v":0},{"$f":"$Z$53","v":"12 Left"},{"$f":"$AC$53","v":0},{"$f":"$AI$53","v":"12 Left"}]
[{"$nulls":37},{"$f":"$B$56","v":0},{"$f":"$H$56","v":"13 Left"},{"$f":"$K$56","v":0},{"$f":"$Q$56","v":"13 Left"},{"$f":"$T$56","v":0},{"$f":"$Z$56","v":"13 Left"},{"$f":"$AC$56","v":0},{"$f":"$AI$56","v":"13 Left"}]
[{"$nulls":37},{"$f":"$B$59","v":0},{"$f":"$H$59","v":"14 Left"},{"$f":"$K$59","v":0},{"$f":"$Q$59","v":"14 Left"},{"$f":"$T$59","v":0},{"$f":"$Z$59","v":"14 Left"},{"$f":"$AC$59","v":0},{"$f":"$AI$59","v":"14 Left"}]
[{"$nulls":37},{"$f":"$E$29","v":0},{"$f":"$I$29","v":"4 Right"},{"$f":"$N$29","v":0},{"$f":"$R$29","v":"4 Right"},{"$f":"$W$29","v":0},{"$f":"$AA$29","v":"4 Right"},{"$f":"$AF$29","v":0},{"$f":"$AJ$29","v":"4 Right"}]
[{"$nulls":37},{"$f":"$E$32","v":0},{"$f":"$I$32","v":"5 Right"},{"$f":"$N$32","v":0},{"$f":"$R$32","v":"5 Right"},{"$f":"$W$32","v":0},{"$f":"$AA$32","v":"5 Right"},{"$f":"$AF$32","v":0},{"$f":"$AJ$32","v":"5 Right"}]
[{"$nulls":37},{"$f":"$E$35","v":0},{"$f":"$I$35","v":"6 Right"},{"$f":"$N$35","v":0},{"$f":"$R$35","v":"6 Right"},{"$f":"$W$35","v":0},{"$f":"$AA$35","v":"6 Right"},{"$f":"$AF$35","v":0},{"$f":"$AJ$35","v":"6 Right"}]
[{"$nulls":37},{"$f":"$E$38","v":0},{"$f":"$I$38","v":"7 Right"},{"$f":"$N$38","v":0},{"$f":"$R$38","v":"7 Right"},{"$f":"$W$38","v":0},{"$f":"$AA$38","v":"7 Right"},{"$f":"$AF$38","v":0},{"$f":"$AJ$38","v":"7 Right"}]
[{"$nulls":37},{"$f":"$E$50","v":0},{"$f":"$I$50","v":"11 Right"},{"$f":"$N$50","v":0},{"$f":"$R$50","v":"11 Right"},{"$f":"$W$50","v":0},{"$f":"$AA$50","v":"11 Right"},{"$f":"$AF$50","v":0},{"$f":"$AJ$50","v":"11 Right"}]
[{"$nulls":37},{"$f":"$E$53","v":0},{"$f":"$I$53","v":"12 Right"},{"$f":"$N$53","v":0},{"$f":"$R$53","v":"12 Right"},{"$f":"$W$53","v":0},{"$f":"$AA$53","v":"12 Right"},{"$f":"$AF$53","v":0},{"$f":"$AJ$53","v":"12 Right"}]
[{"$nulls":37},{"$f":"$E$56","v":0},{"$f":"$I$56","v":"13 Right"},{"$f":"$N$56","v":0},{"$f":"$R$56","v":"13 Right"},{"$f":"$W$56","v":0},{"$f":"$AA$56","v":"13 Right"},{"$f":"$AF$56","v":0},{"$f":"$AJ$56","v":"13 Right"}]
[{"$nulls":37},{"$f":"$E$59","v":0},{"$f":"$I$59","v":"14 Right"},{"$f":"$N$59","v":0},{"$f":"$R$59","v":"14 Right"},{"$f":"$W$59","v":0},{"$f":"$AA$59","v":"14 Right"},{"$f":"$AF$59","v":0},{"$f":"$AJ$59","v":"14 Right"}]

{"sheet":"70","index":33,"n_rows":101,"n_cols":45,"rows_kept":101,"hidden":true,"merged":[[0,1,0,28],[1,1,1,2],[1,3,1,4],[1,5,1,6],[1,7,1,8],[1,9,1,10],[1,11,1,12],[1,13,1,14],[1,15,1,16],[1,17,1,18],[1,19,1,20],[1,21,1,22],[1,23,1,24],[1,25,1,26],[1,27,1,28],[2,0,4,0],[5,0,7,0],[8,0,10,0],[11,0,13,0],[14,1,14,28],[15,1,15,6],[15,10,15,15],[15,19,15,24],[15,28,15,33],[16,37,16,38],[16,39,16,40],[16,41,16,42],[16,43,16,44]]}
[null,"YOU MAY CHANGE THESE RINK NUMBERS IF YOU WISH"]
["Round",1,null,2,2,3,3,4,4,5,5,6,6,7,7,8,null,9,2,10,3,11,4,12,5,13,6,14,7]
[1,3,2,6,4,5,1,7,8,25,26,27,28,29,30,37,38,40,41,43,44,46,47,48,49,50,51,52,53]
[null,11,10,14,12,13,9,15,16,31,32,33,34,35,36,54,55,57,58,60,61,63,64,65,66,67,68,69,70]
[null,19,18,22,20,21,17,23,24,{"$nulls":6},39,56,42,59,45,62]
[2,25,29,26,30,27,32,28,31,13,16,14,17,15,18,46,48,47,49,50,52,37,39,38,44,40,43,41,42]
[null,33,1,36,2,35,4,34,3,19,22,20,23,21,24,64,66,65,67,68,70,55,57,58,59,56,62,60,61]
[null,8,12,9,5,10,7,11,6,{"$nulls":6},51,69,45,63,53,54]
[3,14,20,17,15,19,16,18,13,1,5,2,4,3,6,37,39,38,41,40,44,48,50,43,52,47,53,45,49]
[null,26,24,21,27,23,28,22,25,7,11,8,10,9,12,56,58,57,61,59,60,67,69,63,55,66,54,64,68]
[null,35,32,29,34,31,33,30,36,{"$nulls":6},42,62,51,70,46,65]
[4,6,9,11,12,7,8,5,10,3,36,1,30,2,4,49,52,48,50,47,53,38,42,37,45,41,44,40,46]
[null,13,16,18,19,14,15,20,17,33,29,31,35,32,34,65,68,64,66,63,69,54,58,70,61,57,60,56,62]
[null,28,23,25,26,21,22,27,24,{"$nulls":6},43,59,39,55,51,67]
[null,"70 on 2 greens"]
[null,1,{"$nulls":8},2,{"$nulls":8},3,{"$nulls":8},4]
[null,"no","Left","rink","no","Right","rink","L","R",null,"no","Left","rink","no","Right","rink","L","R",null,"no","Left","rink","no","Right","rink","L","R",null,"no","Left","rink","no","Right","rink","L","R",null,1,null,2,null,3,null,4]
[null,3,"Left",{"$f":"$B$2","v":1},2,"Right",{"$f":"$B$2","v":1},{"$f":"(D18&\" \"&C18)","v":"1 Left"},{"$f":"(G18&\" \"&F18)","v":"1 Right"},null,25,"Left",{"$f":"$B$2","v":1},29,"Right",{"$f":"$B$2","v":1},{"$f":"(M18&\" \"&L18)","v":"1 Left"},{"$f":"(P18&\" \"&O18)","v":"1 Right"},null,14,"Left",{"$f":"$B$2","v":1},20,"Right",{"$f":"$B$2","v":1},{"$f":"(V18&\" \"&U18)","v":"1 Left"},{"$f":"(Y18&\" \"&X18)","v":"1 Right"},null,6,"Left",{"$f":"$B$2","v":1},9,"Right",{"$f":"$B$2","v":1},{"$f":"(AE18&\" \"&AD18)","v":"1 Left"},{"$f":"(AH18&\" \"&AG18)","v":"1 Right"}]
[null,11,"Left",{"$f":"$B$2","v":1},10,"Right",{"$f":"$B$2","v":1},{"$f":"(D19&\" \"&C19)","v":"1 Left"},{"$f":"(G19&\" \"&F19)","v":"1 Right"},null,33,"Left",{"$f":"$B$2","v":1},1,"Right",{"$f":"$B$2","v":1},{"$f":"(M19&\" \"&L19)","v":"1 Left"},{"$f":"(P19&\" \"&O19)","v":"1 Right"},null,26,"Left",{"$f":"$B$2","v":1},24,"Right",{"$f":"$B$2","v":1},{"$f":"(V19&\" \"&U19)","v":"1 Left"},{"$f":"(Y19&\" \"&X19)","v":"1 Right"},null,13,"Left",{"$f":"$B$2","v":1},16,"Right",{"$f":"$B$2","v":1},{"$f":"(AE19&\" \"&AD19)","v":"1 Left"},{"$f":"(AH19&\" \"&AG19)","v":"1 Right"}]
[null,19,"Left",{"$f":"$B$2","v":1},18,"Right",{"$f":"$B$2","v":1},"1 Left","1 Right",null,8,"Left",{"$f":"$B$2","v":1},12,"Right",{"$f":"$B$2","v":1},"1 Left","1 Right",null,35,"Left",{"$f":"$B$2","v":1},32,"Right",{"$f":"$B$2","v":1},"1 Left","1 Right",null,28,"Left",{"$f":"$B$2","v":1},23,"Right",{"$f":"$B$2","v":1},"1 Left","1 Right"]
[null,6,"Left",{"$f":"$D$2","v":2},4,"Right",{"$f":"$D$2","v":2},"2 Left","2 Right",null,26,"Left",{"$f":"$D$2","v":2},30,"Right",{"$f":"$D$2","v":2},"2 Left","2 Right",null,17,"Left",{"$f":"$D$2","v":2},15,"Right",{"$f":"$D$2","v":2},"2 Left","2 Right",null,11,"Left",{"$f":"$D$2","v":2},12,"Right",{"$f":"$D$2","v":2},"2 Left","2 Right"]
[null,14,"Left",{"$f":"$D$2","v":2},12,"Right",{"$f":"$D$2","v":2},"2 Left","2 Right",null,36,"Left",{"$f":"$D$2","v":2},2,"Right",{"$f":"$D$2","v":2},"2 Left","2 Right",null,21,"Left",{"$f":"$D$2","v":2},27,"Right",{"$f":"$D$2","v":2},"2 Left","2 Right",null,18,"Left",{"$f":"$D$2","v":2},19,"Right",{"$f":"$D$2","v":2},"2 Left","2 Right"]
[null,22,"Left",{"$f":"$D$2","v":2},20,"Right",{"$f":"$D$2","v":2},"2 Left","2 Right",null,9,"Left",{"$f":"$D$2","v":2},5,"Right",{"$f":"$D$2","v":2},"2 Left","2 Right",null,29,"Left",{"$f":"$D$2","v":2},34,"Right",{"$f":"$D$2","v":2},"2 Left","2 Right",null,25,"Left",{"$f":"$D$2","v":2},26,"Right",{"$f":"$D$2","v":2},"2 Left","2 Right"]
[null,5,"Left",{"$f":"$F$2","v":3},1,"Right",{"$f":"$F$2","v":3},"3 Left","3 Right",null,27,"Left",{"$f":"$F$2","v":3},32,"Right",{"$f":"$F$2","v":3},"3 Left","3 Right",null,19,"Left",{"$f":"$F$2","v":3},16,"Right",{"$f":"$F$2","v":3},"3 Left","3 Right",null,7,"Left",{"$f":"$F$2","v":3},8,"Right",{"$f":"$F$2","v":3},"3 Left","3 Right"]
[null,13,"Left",{"$f":"$F$2","v":3},9,"Right",{"$f":"$F$2","v":3},"3 Left","3 Right",null,35,"Left",{"$f":"$F$2","v":3},4,"Right",{"$f":"$F$2","v":3},"3 Left","3 Right",null,23,"Left",{"$f":"$F$2","v":3},28,"Right",{"$f":"$F$2","v":3},"3 Left","3 Right",null,14,"Left",{"$f":"$F$2","v":3},15,"Right",{"$f":"$F$2","v":3},"3 Left","3 Right"]
[null,21,"Left",{"$f":"$F$2","v":3},17,"Right",{"$f":"$F$2","v":3},"3 Left","3 Right",null,10,"Left",{"$f":"$F$2","v":3},7,"Right",{"$f":"$F$2","v":3},"3 Left","3 Right",null,31,"Left",{"$f":"$F$2","v":3},33,"Right",{"$f":"$F$2","v":3},"3 Left","3 Right",null,21,"Left",{"$f":"$F$2","v":3},22,"Right",{"$f":"$F$2","v":3},"3 Left","3 Right"]
[null,7,"Left",{"$f":"$H$2","v":4},8,"Right",{"$f":"$H$2","v":4},"4 Left","4 Right",null,28,"Left",{"$f":"$H$2","v":4},31,"Right",{"$f":"$H$2","v":4},"4 Left","4 Right",null,18,"Left",{"$f":"$H$2","v":4},13,"Right",{"$f":"$H$2","v":4},"4 Left","4 Right",null,5,"Left",{"$f":"$H$2","v":4},10,"Right",{"$f":"$H$2","v":4},"4 Left","4 Right"]
[null,15,"Left",{"$f":"$H$2","v":4},16,"Right",{"$f":"$H$2","v":4},"4 Left","4 Right",null,34,"Left",{"$f":"$H$2","v":4},3,"Right",{"$f":"$H$2","v":4},"4 Left","4 Right",null,22,"Left",{"$f":"$H$2","v":4},25,"Right",{"$f":"$H$2","v":4},"4 Left","4 Right",null,20,"Left",{"$f":"$H$2","v":4},17,"Right",{"$f":"$H$2","v":4},"4 Left","4 Right"]
[null,23,"Left",4,24,"Right",4,"4 Left","4 Right",null,11,"Left",4,6,"Right",4,"4 Left","4 Right",null,30,"Left",4,36,"Right",4,"4 Left","4 Right",null,27,"Left",4,24,"Right",4,"4 Left","4 Right"]
[null,25,"Left",{"$f":"$J$2","v":5},26,"Right",{"$f":"$J$2","v":5},"5 Left","5 Right",null,13,"Left",{"$f":"$J$2","v":5},16,"Right",{"$f":"$J$2","v":5},"5 Left","5 Right",null,1,"Left",{"$f":"$J$2","v":5},5,"Right",{"$f":"$J$2","v":5},"5 Left","5 Right",null,3,"Left",{"$f":"$J$2","v":5},36,"Right",{"$f":"$J$2","v":5},"5 Left","5 Right"]
[null,31,"Left",{"$f":"$J$2","v":5},32,"Right",{"$f":"$J$2","v":5},"5 Left","5 Right",null,19,"Left",{"$f":"$J$2","v":5},22,"Right",{"$f":"$J$2","v":5},"5 Left","5 Right",null,7,"Left",{"$f":"$J$2","v":5},11,"Right",{"$f":"$J$2","v":5},"5 Left","5 Right",null,33,"Left",{"$f":"$J$2","v":5},29,"Right",{"$f":"$J$2","v":5},"5 Left","5 Right"]
[null,null,"Left",5,null,"Right",5,"5 Left","5 Right",null,null,"Left",5,null,"Right",5,"5 Left","5 Right",null,null,"Left",5,null,"Right",5,"5 Left","5 Right",null,null,"Left",5,null,"Right",5,"5 Left","5 Right"]
[null,27,"Left",{"$f":"$L$2","v":6},28,"Right",{"$f":"$L$2","v":6},"6 Left","6 Right",null,14,"Left",{"$f":"$L$2","v":6},17,"Right",{"$f":"$L$2","v":6},"6 Left","6 Right",null,2,"Left",{"$f":"$L$2","v":6},4,"Right",{"$f":"$L$2","v":6},"6 Left","6 Right",null,1,"Left",{"$f":"$L$2","v":6},30,"Right",{"$f":"$L$2","v":6},"6 Left","6 Right"]
[null,33,"Left",{"$f":"$L$2","v":6},34,"Right",{"$f":"$L$2","v":6},"6 Left","6 Right",null,20,"Left",{"$f":"$L$2","v":6},23,"Right",{"$f":"$L$2","v":6},"6 Left","6 Right",null,8,"Left",{"$f":"$L$2","v":6},10,"Right",{"$f":"$L$2","v":6},"6 Left","6 Right",null,31,"Left",{"$f":"$L$2","v":6},35,"Right",{"$f":"$L$2","v":6},"6 Left","6 Right"]
[null,null,"Left",6,null,"Right",6,"6 Left","6 Right",null,null,"Left",6,null,"Right",6,"6 Left","6 Right",null,null,"Left",6,null,"Right",6,"6 Left","6 Right",null,null,"Left",6,null,"Right",6,"6 Left","6 Right"]
[null,29,"Left",{"$f":"$N$2","v":7},30,"Right",{"$f":"$N$2","v":7},"7 Left","7 Right",null,15,"Left",{"$f":"$N$2","v":7},18,"Right",{"$f":"$N$2","v":7},"7 Left","7 Right",null,3,"Left",{"$f":"$N$2","v":7},6,"Right",{"$f":"$N$2","v":7},"7 Left","7 Right",null,2,"Left",{"$f":"$N$2","v":7},4,"Right",{"$f":"$N$2","v":7},"7 Left","7 Right"]
[null,35,"Left",{"$f":"$N$2","v":7},36,"Right",{"$f":"$N$2","v":7},"7 Left","7 Right",null,21,"Left",{"$f":"$N$2","v":7},24,"Right",{"$f":"$N$2","v":7},"7 Left","7 Right",null,9,"Left",{"$f":"$N$2","v":7},12,"Right",{"$f":"$N$2","v":7},"7 Left","7 Right",null,32,"Left",{"$f":"$N$2","v":7},34,"Right",{"$f":"$N$2","v":7},"7 Left","7 Right"]
[null,null,"Left",7,null,"Right",7,"7 Left","7 Right",null,null,"Left",7,null,"Right",7,"7 Left","7 Right",null,null,"Left",7,null,"Right",7,"7 Left","7 Right",null,null,"Left",7,null,"Right",7,"7 Left","7 Right"]
[null,37,"Left",{"$f":"$P$2","v":8},38,"Right",{"$f":"$P$2","v":8},"8 Left","8 Right",null,46,"Left",{"$f":"$P$2","v":8},48,"Right",{"$f":"$P$2","v":8},"8 Left","8 Right",null,37,"Left",{"$f":"$P$2","v":8},39,"Right",{"$f":"$P$2","v":8},"8 Left","8 Right",null,49,"Left",{"$f":"$P$2","v":8},52,"Right",{"$f":"$P$2","v":8},"8 Left","8 Right"]
[null,54,"Left",{"$f":"$P$2","v":8},55,"Right",{"$f":"$P$2","v":8},"8 Left","8 Right",null,64,"Left",{"$f":"$P$2","v":8},66,"Right",{"$f":"$P$2","v":8},"8 Left","8 Right",null,56,"Left",{"$f":"$P$2","v":8},58,"Right",{"$f":"$P$2","v":8},"8 Left","8 Right",null,65,"Left",{"$f":"$P$2","v":8},68,"Right",{"$f":"$P$2","v":8},"8 Left","8 Right"]
[null,39,"Left",8,56,"Right",8,"8 Left","8 Right",null,51,"Left",8,69,"Right",8,"8 Left","8 Right",null,42,"Left",8,62,"Right",8,"8 Left","8 Right",null,43,"Left",8,59,"Right",8,"8 Left","8 Right"]
[null,40,"Left",{"$f":"$R$2","v":9},41,"Right",{"$f":"$R$2","v":9},"9 Left","9 Right",null,47,"Left",{"$f":"$R$2","v":9},49,"Right",{"$f":"$R$2","v":9},"9 Left","9 Right",null,38,"Left",{"$f":"$R$2","v":9},41,"Right",{"$f":"$R$2","v":9},"9 Left","9 Right",null,48,"Left",{"$f":"$R$2","v":9},50,"Right",{"$f":"$R$2","v":9},"9 Left","9 Right"]
[null,57,"Left",{"$f":"$R$2","v":9},58,"Right",{"$f":"$R$2","v":9},"9 Left","9 Right",null,65,"Left",{"$f":"$R$2","v":9},67,"Right",{"$f":"$R$2","v":9},"9 Left","9 Right",null,57,"Left",{"$f":"$R$2","v":9},61,"Right",{"$f":"$R$2","v":9},"9 Left","9 Right",null,64,"Left",{"$f":"$R$2","v":9},66,"Right",{"$f":"$R$2","v":9},"9 Left","9 Right"]
[null,42,"Left",9,59,"Right",9,"9 Left","9 Right",null,45,"Left",9,63,"Right",9,"9 Left","9 Right",null,51,"Left",9,70,"Right",9,"9 Left","9 Right",null,39,"Left",9,55,"Right",9,"9 Left","9 Right"]
[null,43,"Left",{"$f":"$T$2","v":10},44,"Right",{"$f":"$T$2","v":10},"10 Left","10 Right",null,50,"Left",{"$f":"$T$2","v":10},52,"Right",{"$f":"$T$2","v":10},"10 Left","10 Right",null,40,"Left",{"$f":"$T$2","v":10},44,"Right",{"$f":"$T$2","v":10},"10 Left","10 Right",null,47,"Left",{"$f":"$T$2","v":10},53,"Right",{"$f":"$T$2","v":10},"10 Left","10 Right"]
[null,60,"Left",{"$f":"$T$2","v":10},61,"Right",{"$f":"$T$2","v":10},"10 Left","10 Right",null,68,"Left",{"$f":"$T$2","v":10},70,"Right",{"$f":"$T$2","v":10},"10 Left","10 Right",null,59,"Left",{"$f":"$T$2","v":10},60,"Right",{"$f":"$T$2","v":10},"10 Left","10 Right",null,63,"Left",{"$f":"$T$2","v":10},69,"Right",{"$f":"$T$2","v":10},"10 Left","10 Right"]
[null,45,"Left",10,62,"Right",10,"10 Left","10 Right",null,53,"Left",10,54,"Right",10,"10 Left","10 Right",null,46,"Left",10,65,"Right",10,"10 Left","10 Right",null,51,"Left",10,67,"Right",10,"10 Left","10 Right"]
[null,46,"Left",{"$f":"$V$2","v":11},47,"Right",{"$f":"$V$2","v":11},"11 Left","11 Right",null,37,"Left",{"$f":"$V$2","v":11},39,"Right",{"$f":"$V$2","v":11},"11 Left","11 Right",null,48,"Left",{"$f":"$V$2","v":11},50,"Right",{"$f":"$V$2","v":11},"11 Left","11 Right",null,38,"Left",{"$f":"$V$2","v":11},42,"Right",{"$f":"$V$2","v":11},"11 Left","11 Right"]
[null,63,"Left",{"$f":"$V$2","v":11},64,"Right",{"$f":"$V$2","v":11},"11 Left","11 Right",null,55,"Left",{"$f":"$V$2","v":11},57,"Right",{"$f":"$V$2","v":11},"11 Left","11 Right",null,67,"Left",{"$f":"$V$2","v":11},69,"Right",{"$f":"$V$2","v":11},"11 Left","11 Right",null,54,"Left",{"$f":"$V$2","v":11},58,"Right",{"$f":"$V$2","v":11},"11 Left","11 Right"]
[null,null,"Left",11,null,"Right",11,"11 Left","11 Right",null,null,"Left",11,null,"Right",11,"11 Left","11 Right",null,null,"Left",11,null,"Right",11,"11 Left","11 Right",null,null,"Left",11,null,"Right",11,"11 Left","11 Right"]
[null,48,"Left",{"$f":"$X$2","v":12},49,"Right",{"$f":"$X$2","v":12},"12 Left","12 Right",null,38,"Left",{"$f":"$X$2","v":12},44,"Right",{"$f":"$X$2","v":12},"12 Left","12 Right",null,43,"Left",{"$f":"$X$2","v":12},52,"Right",{"$f":"$X$2","v":12},"12 Left","12 Right",null,37,"Left",{"$f":"$X$2","v":12},45,"Right",{"$f":"$X$2","v":12},"12 Left","12 Right"]
[null,65,"Left",{"$f":"$X$2","v":12},66,"Right",{"$f":"$X$2","v":12},"12 Left","12 Right",null,58,"Left",{"$f":"$X$2","v":12},59,"Right",{"$f":"$X$2","v":12},"12 Left","12 Right",null,63,"Left",{"$f":"$X$2","v":12},55,"Right",{"$f":"$X$2","v":12},"12 Left","12 Right",null,70,"Left",{"$f":"$X$2","v":12},61,"Right",{"$f":"$X$2","v":12},"12 Left","12 Right"]
[null,null,"Left",12,null,"Right",12,"12 Left","12 Right",null,null,"Left",12,null,"Right",12,"12 Left","12 Right",null,null,"Left",12,null,"Right",12,"12 Left","12 Right",null,null,"Left",12,null,"Right",12,"12 Left","12 Right"]
[null,50,"Left",{"$f":"$Z$2","v":13},51,"Right",{"$f":"$Z$2","v":13},"13 Left","13 Right",null,40,"Left",{"$f":"$Z$2","v":13},43,"Right",{"$f":"$Z$2","v":13},"13 Left","13 Right",null,47,"Left",{"$f":"$Z$2","v":13},53,"Right",{"$f":"$Z$2","v":13},"13 Left","13 Right",null,41,"Left",{"$f":"$Z$2","v":13},44,"Right",{"$f":"$Z$2","v":13},"13 Left","13 Right"]
[null,67,"Left",{"$f":"$Z$2","v":13},68,"Right",{"$f":"$Z$2","v":13},"13 Left","13 Right",null,56,"Left",{"$f":"$Z$2","v":13},62,"Right",{"$f":"$Z$2","v":13},"13 Left","13 Right",null,66,"Left",{"$f":"$Z$2","v":13},54,"Right",{"$f":"$Z$2","v":13},"13 Left","13 Right",null,57,"Left",{"$f":"$Z$2","v":13},60,"Right",{"$f":"$Z$2","v":13},"13 Left","13 Right"]
[null,null,"Left",13,null,"Right",13,"13 Left","13 Right",null,null,"Left",13,null,"Right",13,"13 Left","13 Right",null,null,"Left",13,null,"Right",13,"13 Left","13 Right",null,null,"Left",13,null,"Right",13,"13 Left","13 Right"]
[null,52,"Left",{"$f":"$AB$2","v":14},53,"Right",{"$f":"$AB$2","v":14},"14 Left","14 Right",null,41,"Left",{"$f":"$AB$2","v":14},42,"Right",{"$f":"$AB$2","v":14},"14 Left","14 Right",null,45,"Left",{"$f":"$AB$2","v":14},49,"Right",{"$f":"$AB$2","v":14},"14 Left","14 Right",null,40,"Left",{"$f":"$AB$2","v":14},46,"Right",{"$f":"$AB$2","v":14},"14 Left","14 Right"]
[null,69,"Left",{"$f":"$AB$2","v":14},70,"Right",{"$f":"$AB$2","v":14},"14 Left","14 Right",null,60,"Left",{"$f":"$AB$2","v":14},61,"Right",{"$f":"$AB$2","v":14},"14 Left","14 Right",null,64,"Left",{"$f":"$AB$2","v":14},68,"Right",{"$f":"$AB$2","v":14},"14 Left","14 Right",null,56,"Left",{"$f":"$AB$2","v":14},62,"Right",{"$f":"$AB$2","v":14},"14 Left","14 Right"]
[null,null,"Left",14,null,"Right",14,"14 Left","14 Right",null,null,"Left",14,null,"Right",14,"14 Left","14 Right",null,null,"Left",14,null,"Right",14,"14 Left","14 Right",null,null,"Left",14,null,"Right",14,"14 Left","14 Right"]
{"$rows_empty":28}
[{"$nulls":37},{"$f":"$B$32","v":0},{"$f":"$H$32","v":"5 Left"},{"$f":"$K$32","v":0},{"$f":"$Q$32","v":"5 Left"},{"$f":"$T$32","v":0},{"$f":"$Z$32","v":"5 Left"},{"$f":"$AC$32","v":0},{"$f":"$AI$32","v":"5 Left"}]
[{"$nulls":37},{"$f":"$B$35","v":0},{"$f":"$H$35","v":"6 Left"},{"$f":"$K$35","v":0},{"$f":"$Q$35","v":"6 Left"},{"$f":"$T$35","v":0},{"$f":"$Z$35","v":"6 Left"},{"$f":"$AC$35","v":0},{"$f":"$AI$35","v":"6 Left"}]
[{"$nulls":37},{"$f":"$B$38","v":0},{"$f":"$H$38","v":"7 Left"},{"$f":"$K$38","v":0},{"$f":"$Q$38","v":"7 Left"},{"$f":"$T$38","v":0},{"$f":"$Z$38","v":"7 Left"},{"$f":"$AC$38","v":0},{"$f":"$AI$38","v":"7 Left"}]
[{"$nulls":37},{"$f":"$B$50","v":0},{"$f":"$H$50","v":"11 Left"},{"$f":"$K$50","v":0},{"$f":"$Q$50","v":"11 Left"},{"$f":"$T$50","v":0},{"$f":"$Z$50","v":"11 Left"},{"$f":"$AC$50","v":0},{"$f":"$AI$50","v":"11 Left"}]
[{"$nulls":37},{"$f":"$B$53","v":0},{"$f":"$H$53","v":"12 Left"},{"$f":"$K$53","v":0},{"$f":"$Q$53","v":"12 Left"},{"$f":"$T$53","v":0},{"$f":"$Z$53","v":"12 Left"},{"$f":"$AC$53","v":0},{"$f":"$AI$53","v":"12 Left"}]
[{"$nulls":37},{"$f":"$B$56","v":0},{"$f":"$H$56","v":"13 Left"},{"$f":"$K$56","v":0},{"$f":"$Q$56","v":"13 Left"},{"$f":"$T$56","v":0},{"$f":"$Z$56","v":"13 Left"},{"$f":"$AC$56","v":0},{"$f":"$AI$56","v":"13 Left"}]
[{"$nulls":37},{"$f":"$B$59","v":0},{"$f":"$H$59","v":"14 Left"},{"$f":"$K$59","v":0},{"$f":"$Q$59","v":"14 Left"},{"$f":"$T$59","v":0},{"$f":"$Z$59","v":"14 Left"},{"$f":"$AC$59","v":0},{"$f":"$AI$59","v":"14 Left"}]
[{"$nulls":37},{"$f":"$E$32","v":0},{"$f":"$I$32","v":"5 Right"},{"$f":"$N$32","v":0},{"$f":"$R$32","v":"5 Right"},{"$f":"$W$32","v":0},{"$f":"$AA$32","v":"5 Right"},{"$f":"$AF$32","v":0},{"$f":"$AJ$32","v":"5 Right"}]
[{"$nulls":37},{"$f":"$E$35","v":0},{"$f":"$I$35","v":"6 Right"},{"$f":"$N$35","v":0},{"$f":"$R$35","v":"6 Right"},{"$f":"$W$35","v":0},{"$f":"$AA$35","v":"6 Right"},{"$f":"$AF$35","v":0},{"$f":"$AJ$35","v":"6 Right"}]
[{"$nulls":37},{"$f":"$E$38","v":0},{"$f":"$I$38","v":"7 Right"},{"$f":"$N$38","v":0},{"$f":"$R$38","v":"7 Right"},{"$f":"$W$38","v":0},{"$f":"$AA$38","v":"7 Right"},{"$f":"$AF$38","v":0},{"$f":"$AJ$38","v":"7 Right"}]
[{"$nulls":37},{"$f":"$E$50","v":0},{"$f":"$I$50","v":"11 Right"},{"$f":"$N$50","v":0},{"$f":"$R$50","v":"11 Right"},{"$f":"$W$50","v":0},{"$f":"$AA$50","v":"11 Right"},{"$f":"$AF$50","v":0},{"$f":"$AJ$50","v":"11 Right"}]
[{"$nulls":37},{"$f":"$E$53","v":0},{"$f":"$I$53","v":"12 Right"},{"$f":"$N$53","v":0},{"$f":"$R$53","v":"12 Right"},{"$f":"$W$53","v":0},{"$f":"$AA$53","v":"12 Right"},{"$f":"$AF$53","v":0},{"$f":"$AJ$53","v":"12 Right"}]
[{"$nulls":37},{"$f":"$E$56","v":0},{"$f":"$I$56","v":"13 Right"},{"$f":"$N$56","v":0},{"$f":"$R$56","v":"13 Right"},{"$f":"$W$56","v":0},{"$f":"$AA$56","v":"13 Right"},{"$f":"$AF$56","v":0},{"$f":"$AJ$56","v":"13 Right"}]
[{"$nulls":37},{"$f":"$E$59","v":0},{"$f":"$I$59","v":"14 Right"},{"$f":"$N$59","v":0},{"$f":"$R$59","v":"14 Right"},{"$f":"$W$59","v":0},{"$f":"$AA$59","v":"14 Right"},{"$f":"$AF$59","v":0},{"$f":"$AJ$59","v":"14 Right"}]

{"sheet":"72","index":34,"n_rows":101,"n_cols":45,"rows_kept":101,"hidden":true,"merged":[[0,1,0,28],[1,1,1,2],[1,3,1,4],[1,5,1,6],[1,7,1,8],[1,9,1,10],[1,11,1,12],[1,13,1,14],[1,15,1,16],[1,17,1,18],[1,19,1,20],[1,21,1,22],[1,23,1,24],[1,25,1,26],[1,27,1,28],[2,0,4,0],[5,0,7,0],[8,0,10,0],[11,0,13,0],[14,1,14,28],[15,1,15,6],[15,10,15,15],[15,19,15,24],[15,28,15,33],[16,37,16,38],[16,39,16,40],[16,41,16,42],[16,43,16,44]]}
[null,"YOU MAY CHANGE THESE RINK NUMBERS IF YOU WISH"]
["Round",1,null,2,2,3,3,4,4,5,5,6,6,7,7,8,null,9,null,10,null,11,null,12,null,13,6,14,7]
[1,3,2,6,4,5,1,7,8,25,26,27,28,29,30,39,38,42,40,41,37,43,44,61,62,63,64,65,66]
[null,11,10,14,12,13,9,15,16,31,32,33,34,35,36,47,46,50,48,49,45,51,52,67,68,69,70,71,72]
[null,19,18,22,20,21,17,23,24,{"$nulls":6},55,54,58,56,57,53,59,60]
[2,25,29,26,30,27,32,28,31,13,16,14,17,15,18,61,65,62,66,63,68,64,67,49,52,50,53,51,54]
[null,33,1,36,2,35,4,34,3,19,22,20,23,21,24,69,37,72,38,71,40,70,39,55,58,56,59,57,60]
[null,8,12,9,5,10,7,11,6,{"$nulls":6},44,48,45,41,46,43,47,42]
[3,14,20,17,15,19,16,18,13,1,5,2,4,3,6,50,56,53,51,55,52,54,49,37,41,38,40,39,42]
[null,26,24,21,27,23,28,22,25,7,11,8,10,9,12,62,60,57,63,59,64,58,61,43,47,44,46,45,48]
[null,35,32,29,34,31,33,30,36,{"$nulls":6},71,68,65,70,67,69,66,72]
[4,6,9,11,12,7,8,5,10,3,36,1,30,2,4,42,45,47,48,43,44,41,46,39,72,37,66,38,40]
[null,13,16,18,19,14,15,20,17,33,29,31,35,32,34,49,52,54,55,50,51,56,53,69,65,67,71,68,70]
[null,28,23,25,26,21,22,27,24,{"$nulls":6},64,59,61,62,57,58,63,60]
[null,"72 on 2 greens"]
[null,1,{"$nulls":8},2,{"$nulls":8},3,{"$nulls":8},4]
[null,"no","Left","rink","no","Right","rink","L","R",null,"no","Left","rink","no","Right","rink","L","R",null,"no","Left","rink","no","Right","rink","L","R",null,"no","Left","rink","no","Right","rink","L","R",null,1,null,2,null,3,null,4]
[null,3,"Left",{"$f":"$B$2","v":1},2,"Right",{"$f":"$B$2","v":1},{"$f":"(D18&\" \"&C18)","v":"1 Left"},{"$f":"(G18&\" \"&F18)","v":"1 Right"},null,25,"Left",{"$f":"$B$2","v":1},29,"Right",{"$f":"$B$2","v":1},{"$f":"(M18&\" \"&L18)","v":"1 Left"},{"$f":"(P18&\" \"&O18)","v":"1 Right"},null,14,"Left",{"$f":"$B$2","v":1},20,"Right",{"$f":"$B$2","v":1},{"$f":"(V18&\" \"&U18)","v":"1 Left"},{"$f":"(Y18&\" \"&X18)","v":"1 Right"},null,6,"Left",{"$f":"$B$2","v":1},9,"Right",{"$f":"$B$2","v":1},{"$f":"(AE18&\" \"&AD18)","v":"1 Left"},{"$f":"(AH18&\" \"&AG18)","v":"1 Right"}]
[null,11,"Left",{"$f":"$B$2","v":1},10,"Right",{"$f":"$B$2","v":1},{"$f":"(D19&\" \"&C19)","v":"1 Left"},{"$f":"(G19&\" \"&F19)","v":"1 Right"},null,33,"Left",{"$f":"$B$2","v":1},1,"Right",{"$f":"$B$2","v":1},{"$f":"(M19&\" \"&L19)","v":"1 Left"},{"$f":"(P19&\" \"&O19)","v":"1 Right"},null,26,"Left",{"$f":"$B$2","v":1},24,"Right",{"$f":"$B$2","v":1},{"$f":"(V19&\" \"&U19)","v":"1 Left"},{"$f":"(Y19&\" \"&X19)","v":"1 Right"},null,13,"Left",{"$f":"$B$2","v":1},16,"Right",{"$f":"$B$2","v":1},{"$f":"(AE19&\" \"&AD19)","v":"1 Left"},{"$f":"(AH19&\" \"&AG19)","v":"1 Right"}]
[null,19,"Left",{"$f":"$B$2","v":1},18,"Right",{"$f":"$B$2","v":1},"1 Left","1 Right",null,8,"Left",{"$f":"$B$2","v":1},12,"Right",{"$f":"$B$2","v":1},"1 Left","1 Right",null,35,"Left",{"$f":"$B$2","v":1},32,"Right",{"$f":"$B$2","v":1},"1 Left","1 Right",null,28,"Left",{"$f":"$B$2","v":1},23,"Right",{"$f":"$B$2","v":1},"1 Left","1 Right"]
[null,6,"Left",{"$f":"$D$2","v":2},4,"Right",{"$f":"$D$2","v":2},"2 Left","2 Right",null,26,"Left",{"$f":"$D$2","v":2},30,"Right",{"$f":"$D$2","v":2},"2 Left","2 Right",null,17,"Left",{"$f":"$D$2","v":2},15,"Right",{"$f":"$D$2","v":2},"2 Left","2 Right",null,11,"Left",{"$f":"$D$2","v":2},12,"Right",{"$f":"$D$2","v":2},"2 Left","2 Right"]
[null,14,"Left",{"$f":"$D$2","v":2},12,"Right",{"$f":"$D$2","v":2},"2 Left","2 Right",null,36,"Left",{"$f":"$D$2","v":2},2,"Right",{"$f":"$D$2","v":2},"2 Left","2 Right",null,21,"Left",{"$f":"$D$2","v":2},27,"Right",{"$f":"$D$2","v":2},"2 Left","2 Right",null,18,"Left",{"$f":"$D$2","v":2},19,"Right",{"$f":"$D$2","v":2},"2 Left","2 Right"]
[null,22,"Left",{"$f":"$D$2","v":2},20,"Right",{"$f":"$D$2","v":2},"2 Left","2 Right",null,9,"Left",{"$f":"$D$2","v":2},5,"Right",{"$f":"$D$2","v":2},"2 Left","2 Right",null,29,"Left",{"$f":"$D$2","v":2},34,"Right",{"$f":"$D$2","v":2},"2 Left","2 Right",null,25,"Left",{"$f":"$D$2","v":2},26,"Right",{"$f":"$D$2","v":2},"2 Left","2 Right"]
[null,5,"Left",{"$f":"$F$2","v":3},1,"Right",{"$f":"$F$2","v":3},"3 Left","3 Right",null,27,"Left",{"$f":"$F$2","v":3},32,"Right",{"$f":"$F$2","v":3},"3 Left","3 Right",null,19,"Left",{"$f":"$F$2","v":3},16,"Right",{"$f":"$F$2","v":3},"3 Left","3 Right",null,7,"Left",{"$f":"$F$2","v":3},8,"Right",{"$f":"$F$2","v":3},"3 Left","3 Right"]
[null,13,"Left",{"$f":"$F$2","v":3},9,"Right",{"$f":"$F$2","v":3},"3 Left","3 Right",null,35,"Left",{"$f":"$F$2","v":3},4,"Right",{"$f":"$F$2","v":3},"3 Left","3 Right",null,23,"Left",{"$f":"$F$2","v":3},28,"Right",{"$f":"$F$2","v":3},"3 Left","3 Right",null,14,"Left",{"$f":"$F$2","v":3},15,"Right",{"$f":"$F$2","v":3},"3 Left","3 Right"]
[null,21,"Left",{"$f":"$F$2","v":3},17,"Right",{"$f":"$F$2","v":3},"3 Left","3 Right",null,10,"Left",{"$f":"$F$2","v":3},7,"Right",{"$f":"$F$2","v":3},"3 Left","3 Right",null,31,"Left",{"$f":"$F$2","v":3},33,"Right",{"$f":"$F$2","v":3},"3 Left","3 Right",null,21,"Left",{"$f":"$F$2","v":3},22,"Right",{"$f":"$F$2","v":3},"3 Left","3 Right"]
[null,7,"Left",{"$f":"$H$2","v":4},8,"Right",{"$f":"$H$2","v":4},"4 Left","4 Right",null,28,"Left",{"$f":"$H$2","v":4},31,"Right",{"$f":"$H$2","v":4},"4 Left","4 Right",null,18,"Left",{"$f":"$H$2","v":4},13,"Right",{"$f":"$H$2","v":4},"4 Left","4 Right",null,5,"Left",{"$f":"$H$2","v":4},10,"Right",{"$f":"$H$2","v":4},"4 Left","4 Right"]
[null,15,"Left",{"$f":"$H$2","v":4},16,"Right",{"$f":"$H$2","v":4},"4 Left","4 Right",null,34,"Left",{"$f":"$H$2","v":4},3,"Right",{"$f":"$H$2","v":4},"4 Left","4 Right",null,22,"Left",{"$f":"$H$2","v":4},25,"Right",{"$f":"$H$2","v":4},"4 Left","4 Right",null,20,"Left",{"$f":"$H$2","v":4},17,"Right",{"$f":"$H$2","v":4},"4 Left","4 Right"]
[null,23,"Left",4,24,"Right",4,"4 Left","4 Right",null,11,"Left",4,6,"Right",4,"4 Left","4 Right",null,30,"Left",4,36,"Right",4,"4 Left","4 Right",null,27,"Left",4,24,"Right",4,"4 Left","4 Right"]
[null,25,"Left",{"$f":"$J$2","v":5},26,"Right",{"$f":"$J$2","v":5},"5 Left","5 Right",null,13,"Left",{"$f":"$J$2","v":5},16,"Right",{"$f":"$J$2","v":5},"5 Left","5 Right",null,1,"Left",{"$f":"$J$2","v":5},5,"Right",{"$f":"$J$2","v":5},"5 Left","5 Right",null,3,"Left",{"$f":"$J$2","v":5},36,"Right",{"$f":"$J$2","v":5},"5 Left","5 Right"]
[null,31,"Left",{"$f":"$J$2","v":5},32,"Right",{"$f":"$J$2","v":5},"5 Left","5 Right",null,19,"Left",{"$f":"$J$2","v":5},22,"Right",{"$f":"$J$2","v":5},"5 Left","5 Right",null,7,"Left",{"$f":"$J$2","v":5},11,"Right",{"$f":"$J$2","v":5},"5 Left","5 Right",null,33,"Left",{"$f":"$J$2","v":5},29,"Right",{"$f":"$J$2","v":5},"5 Left","5 Right"]
[null,null,"Left",5,null,"Right",5,"5 Left","5 Right",null,null,"Left",5,null,"Right",5,"5 Left","5 Right",null,null,"Left",5,null,"Right",5,"5 Left","5 Right",null,null,"Left",5,null,"Right",5,"5 Left","5 Right"]
[null,27,"Left",{"$f":"$L$2","v":6},28,"Right",{"$f":"$L$2","v":6},"6 Left","6 Right",null,14,"Left",{"$f":"$L$2","v":6},17,"Right",{"$f":"$L$2","v":6},"6 Left","6 Right",null,2,"Left",{"$f":"$L$2","v":6},4,"Right",{"$f":"$L$2","v":6},"6 Left","6 Right",null,1,"Left",{"$f":"$L$2","v":6},30,"Right",{"$f":"$L$2","v":6},"6 Left","6 Right"]
[null,33,"Left",{"$f":"$L$2","v":6},34,"Right",{"$f":"$L$2","v":6},"6 Left","6 Right",null,20,"Left",{"$f":"$L$2","v":6},23,"Right",{"$f":"$L$2","v":6},"6 Left","6 Right",null,8,"Left",{"$f":"$L$2","v":6},10,"Right",{"$f":"$L$2","v":6},"6 Left","6 Right",null,31,"Left",{"$f":"$L$2","v":6},35,"Right",{"$f":"$L$2","v":6},"6 Left","6 Right"]
[null,null,"Left",6,null,"Right",6,"6 Left","6 Right",null,null,"Left",6,null,"Right",6,"6 Left","6 Right",null,null,"Left",6,null,"Right",6,"6 Left","6 Right",null,null,"Left",6,null,"Right",6,"6 Left","6 Right"]
[null,29,"Left",{"$f":"$N$2","v":7},30,"Right",{"$f":"$N$2","v":7},"7 Left","7 Right",null,15,"Left",{"$f":"$N$2","v":7},18,"Right",{"$f":"$N$2","v":7},"7 Left","7 Right",null,3,"Left",{"$f":"$N$2","v":7},6,"Right",{"$f":"$N$2","v":7},"7 Left","7 Right",null,2,"Left",{"$f":"$N$2","v":7},4,"Right",{"$f":"$N$2","v":7},"7 Left","7 Right"]
[null,35,"Left",{"$f":"$N$2","v":7},36,"Right",{"$f":"$N$2","v":7},"7 Left","7 Right",null,21,"Left",{"$f":"$N$2","v":7},24,"Right",{"$f":"$N$2","v":7},"7 Left","7 Right",null,9,"Left",{"$f":"$N$2","v":7},12,"Right",{"$f":"$N$2","v":7},"7 Left","7 Right",null,32,"Left",{"$f":"$N$2","v":7},34,"Right",{"$f":"$N$2","v":7},"7 Left","7 Right"]
[null,null,"Left",7,null,"Right",7,"7 Left","7 Right",null,null,"Left",7,null,"Right",7,"7 Left","7 Right",null,null,"Left",7,null,"Right",7,"7 Left","7 Right",null,null,"Left",7,null,"Right",7,"7 Left","7 Right"]
[null,39,"Left",{"$f":"$P$2","v":8},38,"Right",{"$f":"$P$2","v":8},"8 Left","8 Right",null,61,"Left",{"$f":"$P$2","v":8},65,"Right",{"$f":"$P$2","v":8},"8 Left","8 Right",null,50,"Left",{"$f":"$P$2","v":8},56,"Right",{"$f":"$P$2","v":8},"8 Left","8 Right",null,42,"Left",{"$f":"$P$2","v":8},45,"Right",{"$f":"$P$2","v":8},"8 Left","8 Right"]
[null,47,"Left",{"$f":"$P$2","v":8},46,"Right",{"$f":"$P$2","v":8},"8 Left","8 Right",null,69,"Left",{"$f":"$P$2","v":8},37,"Right",{"$f":"$P$2","v":8},"8 Left","8 Right",null,62,"Left",{"$f":"$P$2","v":8},60,"Right",{"$f":"$P$2","v":8},"8 Left","8 Right",null,49,"Left",{"$f":"$P$2","v":8},52,"Right",{"$f":"$P$2","v":8},"8 Left","8 Right"]
[null,55,"Left",8,54,"Right",8,"8 Left","8 Right",null,44,"Left",8,48,"Right",8,"8 Left","8 Right",null,71,"Left",8,68,"Right",8,"8 Left","8 Right",null,64,"Left",8,59,"Right",8,"8 Left","8 Right"]
[null,42,"Left",{"$f":"$R$2","v":9},40,"Right",{"$f":"$R$2","v":9},"9 Left","9 Right",null,62,"Left",{"$f":"$R$2","v":9},66,"Right",{"$f":"$R$2","v":9},"9 Left","9 Right",null,53,"Left",{"$f":"$R$2","v":9},51,"Right",{"$f":"$R$2","v":9},"9 Left","9 Right",null,47,"Left",{"$f":"$R$2","v":9},48,"Right",{"$f":"$R$2","v":9},"9 Left","9 Right"]
[null,50,"Left",{"$f":"$R$2","v":9},48,"Right",{"$f":"$R$2","v":9},"9 Left","9 Right",null,72,"Left",{"$f":"$R$2","v":9},38,"Right",{"$f":"$R$2","v":9},"9 Left","9 Right",null,57,"Left",{"$f":"$R$2","v":9},63,"Right",{"$f":"$R$2","v":9},"9 Left","9 Right",null,54,"Left",{"$f":"$R$2","v":9},55,"Right",{"$f":"$R$2","v":9},"9 Left","9 Right"]
[null,58,"Left",9,56,"Right",9,"9 Left","9 Right",null,45,"Left",9,41,"Right",9,"9 Left","9 Right",null,65,"Left",9,70,"Right",9,"9 Left","9 Right",null,61,"Left",9,62,"Right",9,"9 Left","9 Right"]
[null,41,"Left",{"$f":"$T$2","v":10},37,"Right",{"$f":"$T$2","v":10},"10 Left","10 Right",null,63,"Left",{"$f":"$T$2","v":10},68,"Right",{"$f":"$T$2","v":10},"10 Left","10 Right",null,55,"Left",{"$f":"$T$2","v":10},52,"Right",{"$f":"$T$2","v":10},"10 Left","10 Right",null,43,"Left",{"$f":"$T$2","v":10},44,"Right",{"$f":"$T$2","v":10},"10 Left","10 Right"]
[null,49,"Left",{"$f":"$T$2","v":10},45,"Right",{"$f":"$T$2","v":10},"10 Left","10 Right",null,71,"Left",{"$f":"$T$2","v":10},40,"Right",{"$f":"$T$2","v":10},"10 Left","10 Right",null,59,"Left",{"$f":"$T$2","v":10},64,"Right",{"$f":"$T$2","v":10},"10 Left","10 Right",null,50,"Left",{"$f":"$T$2","v":10},51,"Right",{"$f":"$T$2","v":10},"10 Left","10 Right"]
[null,57,"Left",10,53,"Right",10,"10 Left","10 Right",null,46,"Left",10,43,"Right",10,"10 Left","10 Right",null,67,"Left",10,69,"Right",10,"10 Left","10 Right",null,57,"Left",10,58,"Right",10,"10 Left","10 Right"]
[null,43,"Left",{"$f":"$V$2","v":11},44,"Right",{"$f":"$V$2","v":11},"11 Left","11 Right",null,64,"Left",{"$f":"$V$2","v":11},67,"Right",{"$f":"$V$2","v":11},"11 Left","11 Right",null,54,"Left",{"$f":"$V$2","v":11},49,"Right",{"$f":"$V$2","v":11},"11 Left","11 Right",null,41,"Left",{"$f":"$V$2","v":11},46,"Right",{"$f":"$V$2","v":11},"11 Left","11 Right"]
[null,51,"Left",{"$f":"$V$2","v":11},52,"Right",{"$f":"$V$2","v":11},"11 Left","11 Right",null,70,"Left",{"$f":"$V$2","v":11},39,"Right",{"$f":"$V$2","v":11},"11 Left","11 Right",null,58,"Left",{"$f":"$V$2","v":11},61,"Right",{"$f":"$V$2","v":11},"11 Left","11 Right",null,56,"Left",{"$f":"$V$2","v":11},53,"Right",{"$f":"$V$2","v":11},"11 Left","11 Right"]
[null,59,"Left",11,60,"Right",11,"11 Left","11 Right",null,47,"Left",11,42,"Right",11,"11 Left","11 Right",null,66,"Left",11,72,"Right",11,"11 Left","11 Right",null,63,"Left",11,60,"Right",11,"11 Left","11 Right"]
[null,61,"Left",{"$f":"$X$2","v":12},62,"Right",{"$f":"$X$2","v":12},"12 Left","12 Right",null,49,"Left",{"$f":"$X$2","v":12},52,"Right",{"$f":"$X$2","v":12},"12 Left","12 Right",null,37,"Left",{"$f":"$X$2","v":12},41,"Right",{"$f":"$X$2","v":12},"12 Left","12 Right",null,39,"Left",{"$f":"$X$2","v":12},72,"Right",{"$f":"$X$2","v":12},"12 Left","12 Right"]
[null,67,"Left",{"$f":"$X$2","v":12},68,"Right",{"$f":"$X$2","v":12},"12 Left","12 Right",null,55,"Left",{"$f":"$X$2","v":12},58,"Right",{"$f":"$X$2","v":12},"12 Left","12 Right",null,43,"Left",{"$f":"$X$2","v":12},47,"Right",{"$f":"$X$2","v":12},"12 Left","12 Right",null,69,"Left",{"$f":"$X$2","v":12},65,"Right",{"$f":"$X$2","v":12},"12 Left","12 Right"]
[null,null,"Left",12,null,"Right",12,"12 Left","12 Right",null,null,"Left",12,null,"Right",12,"12 Left","12 Right",null,null,"Left",12,null,"Right",12,"12 Left","12 Right",null,null,"Left",12,null,"Right",12,"12 Left","12 Right"]
[null,63,"Left",{"$f":"$Z$2","v":13},64,"Right",{"$f":"$Z$2","v":13},"13 Left","13 Right",null,50,"Left",{"$f":"$Z$2","v":13},53,"Right",{"$f":"$Z$2","v":13},"13 Left","13 Right",null,38,"Left",{"$f":"$Z$2","v":13},40,"Right",{"$f":"$Z$2","v":13},"13 Left","13 Right",null,37,"Left",{"$f":"$Z$2","v":13},66,"Right",{"$f":"$Z$2","v":13},"13 Left","13 Right"]
[null,69,"Left",{"$f":"$Z$2","v":13},70,"Right",{"$f":"$Z$2","v":13},"13 Left","13 Right",null,56,"Left",{"$f":"$Z$2","v":13},59,"Right",{"$f":"$Z$2","v":13},"13 Left","13 Right",null,44,"Left",{"$f":"$Z$2","v":13},46,"Right",{"$f":"$Z$2","v":13},"13 Left","13 Right",null,67,"Left",{"$f":"$Z$2","v":13},71,"Right",{"$f":"$Z$2","v":13},"13 Left","13 Right"]
[null,null,"Left",13,null,"Right",13,"13 Left","13 Right",null,null,"Left",13,null,"Right",13,"13 Left","13 Right",null,null,"Left",13,null,"Right",13,"13 Left","13 Right",null,null,"Left",13,null,"Right",13,"13 Left","13 Right"]
[null,65,"Left",{"$f":"$AB$2","v":14},66,"Right",{"$f":"$AB$2","v":14},"14 Left","14 Right",null,51,"Left",{"$f":"$AB$2","v":14},54,"Right",{"$f":"$AB$2","v":14},"14 Left","14 Right",null,39,"Left",{"$f":"$AB$2","v":14},42,"Right",{"$f":"$AB$2","v":14},"14 Left","14 Right",null,38,"Left",{"$f":"$AB$2","v":14},40,"Right",{"$f":"$AB$2","v":14},"14 Left","14 Right"]
[null,71,"Left",{"$f":"$AB$2","v":14},72,"Right",{"$f":"$AB$2","v":14},"14 Left","14 Right",null,57,"Left",{"$f":"$AB$2","v":14},60,"Right",{"$f":"$AB$2","v":14},"14 Left","14 Right",null,45,"Left",{"$f":"$AB$2","v":14},48,"Right",{"$f":"$AB$2","v":14},"14 Left","14 Right",null,68,"Left",{"$f":"$AB$2","v":14},70,"Right",{"$f":"$AB$2","v":14},"14 Left","14 Right"]
[null,null,"Left",14,null,"Right",14,"14 Left","14 Right",null,null,"Left",14,null,"Right",14,"14 Left","14 Right",null,null,"Left",14,null,"Right",14,"14 Left","14 Right",null,null,"Left",14,null,"Right",14,"14 Left","14 Right"]
{"$rows_empty":30}
[{"$nulls":37},{"$f":"$B$32","v":0},{"$f":"$H$32","v":"5 Left"},{"$f":"$K$32","v":0},{"$f":"$Q$32","v":"5 Left"},{"$f":"$T$32","v":0},{"$f":"$Z$32","v":"5 Left"},{"$f":"$AC$32","v":0},{"$f":"$AI$32","v":"5 Left"}]
[{"$nulls":37},{"$f":"$B$35","v":0},{"$f":"$H$35","v":"6 Left"},{"$f":"$K$35","v":0},{"$f":"$Q$35","v":"6 Left"},{"$f":"$T$35","v":0},{"$f":"$Z$35","v":"6 Left"},{"$f":"$AC$35","v":0},{"$f":"$AI$35","v":"6 Left"}]
[{"$nulls":37},{"$f":"$B$38","v":0},{"$f":"$H$38","v":"7 Left"},{"$f":"$K$38","v":0},{"$f":"$Q$38","v":"7 Left"},{"$f":"$T$38","v":0},{"$f":"$Z$38","v":"7 Left"},{"$f":"$AC$38","v":0},{"$f":"$AI$38","v":"7 Left"}]
[{"$nulls":37},{"$f":"$B$53","v":0},{"$f":"$H$53","v":"12 Left"},{"$f":"$K$53","v":0},{"$f":"$Q$53","v":"12 Left"},{"$f":"$T$53","v":0},{"$f":"$Z$53","v":"12 Left"},{"$f":"$AC$53","v":0},{"$f":"$AI$53","v":"12 Left"}]
[{"$nulls":37},{"$f":"$B$56","v":0},{"$f":"$H$56","v":"13 Left"},{"$f":"$K$56","v":0},{"$f":"$Q$56","v":"13 Left"},{"$f":"$T$56","v":0},{"$f":"$Z$56","v":"13 Left"},{"$f":"$AC$56","v":0},{"$f":"$AI$56","v":"13 Left"}]
[{"$nulls":37},{"$f":"$B$59","v":0},{"$f":"$H$59","v":"14 Left"},{"$f":"$K$59","v":0},{"$f":"$Q$59","v":"14 Left"},{"$f":"$T$59","v":0},{"$f":"$Z$59","v":"14 Left"},{"$f":"$AC$59","v":0},{"$f":"$AI$59","v":"14 Left"}]
[{"$nulls":37},{"$f":"$E$32","v":0},{"$f":"$I$32","v":"5 Right"},{"$f":"$N$32","v":0},{"$f":"$R$32","v":"5 Right"},{"$f":"$W$32","v":0},{"$f":"$AA$32","v":"5 Right"},{"$f":"$AF$32","v":0},{"$f":"$AJ$32","v":"5 Right"}]
[{"$nulls":37},{"$f":"$E$35","v":0},{"$f":"$I$35","v":"6 Right"},{"$f":"$N$35","v":0},{"$f":"$R$35","v":"6 Right"},{"$f":"$W$35","v":0},{"$f":"$AA$35","v":"6 Right"},{"$f":"$AF$35","v":0},{"$f":"$AJ$35","v":"6 Right"}]
[{"$nulls":37},{"$f":"$E$38","v":0},{"$f":"$I$38","v":"7 Right"},{"$f":"$N$38","v":0},{"$f":"$R$38","v":"7 Right"},{"$f":"$W$38","v":0},{"$f":"$AA$38","v":"7 Right"},{"$f":"$AF$38","v":0},{"$f":"$AJ$38","v":"7 Right"}]
[{"$nulls":37},{"$f":"$E$53","v":0},{"$f":"$I$53","v":"12 Right"},{"$f":"$N$53","v":0},{"$f":"$R$53","v":"12 Right"},{"$f":"$W$53","v":0},{"$f":"$AA$53","v":"12 Right"},{"$f":"$AF$53","v":0},{"$f":"$AJ$53","v":"12 Right"}]
[{"$nulls":37},{"$f":"$E$56","v":0},{"$f":"$I$56","v":"13 Right"},{"$f":"$N$56","v":0},{"$f":"$R$56","v":"13 Right"},{"$f":"$W$56","v":0},{"$f":"$AA$56","v":"13 Right"},{"$f":"$AF$56","v":0},{"$f":"$AJ$56","v":"13 Right"}]
[{"$nulls":37},{"$f":"$E$59","v":0},{"$f":"$I$59","v":"14 Right"},{"$f":"$N$59","v":0},{"$f":"$R$59","v":"14 Right"},{"$f":"$W$59","v":0},{"$f":"$AA$59","v":"14 Right"},{"$f":"$AF$59","v":0},{"$f":"$AJ$59","v":"14 Right"}]

{"sheet":"74","index":35,"n_rows":101,"n_cols":45,"rows_kept":101,"hidden":true,"merged":[[0,1,0,28],[1,1,1,2],[1,3,1,4],[1,5,1,6],[1,7,1,8],[1,9,1,10],[1,11,1,12],[1,13,1,14],[1,15,1,16],[1,17,1,18],[1,19,1,20],[1,21,1,22],[1,23,1,24],[1,25,1,26],[1,27,1,28],[2,0,4,0],[5,0,7,0],[8,0,10,0],[11,0,13,0],[14,1,14,28],[15,1,15,6],[15,10,15,15],[15,19,15,24],[15,28,15,33],[16,37,16,38],[16,39,16,40],[16,41,16,42],[16,43,16,44]]}
[null,"YOU MAY CHANGE THESE RINK NUMBERS IF YOU WISH"]
["Round",1,null,2,2,3,3,4,4,5,5,6,6,7,7,8,null,9,null,10,null,11,null,12,null,13,6,14,7]
[1,1,2,3,4,5,7,6,8,9,10,31,32,33,34,41,40,44,42,43,39,45,46,63,64,65,66,67,68]
[null,11,12,13,14,15,17,16,18,19,20,35,36,37,38,49,48,52,50,51,47,53,54,69,70,71,72,73,74]
[null,21,22,23,24,25,27,26,28,29,30,{"$nulls":4},57,56,60,58,59,55,61,62]
[2,34,35,31,36,30,38,32,1,33,37,22,23,24,25,63,67,64,68,65,70,66,69,51,54,52,55,53,56]
[null,5,6,11,7,2,9,3,10,4,8,26,27,28,29,71,39,74,40,73,42,72,41,57,60,58,61,59,62]
[null,14,15,20,16,21,18,12,19,13,17,{"$nulls":4},46,50,47,43,48,45,49,44]
[3,1,3,15,29,4,6,5,7,28,14,20,21,18,19,52,58,55,53,57,54,56,51,39,43,40,42,41,44]
[null,8,9,27,2,10,12,11,13,38,26,24,25,22,23,64,62,59,65,61,66,60,63,45,49,46,48,47,50]
[null,30,31,37,17,32,34,33,35,16,36,{"$nulls":4},73,70,67,72,69,71,68,74]
[4,27,5,4,6,1,8,9,2,3,7,10,11,12,13,44,47,49,50,45,46,43,48,41,74,39,68,40,42]
[null,29,20,19,21,25,23,24,26,30,22,14,15,16,17,51,54,56,57,52,53,58,55,71,67,69,73,70,72]
[null,38,32,31,33,37,35,36,28,18,34,{"$nulls":4},66,61,63,64,59,60,65,62]
[null,"74 on 2 greens"]
[null,1,{"$nulls":8},2,{"$nulls":8},3,{"$nulls":8},4]
[null,"no","Left","rink","no","Right","rink","L","R",null,"no","Left","rink","no","Right","rink","L","R",null,"no","Left","rink","no","Right","rink","L","R",null,"no","Left","rink","no","Right","rink","L","R",null,1,null,2,null,3,null,4]
[null,1,"Left",{"$f":"$B$2","v":1},2,"Right",{"$f":"$B$2","v":1},{"$f":"(D18&\" \"&C18)","v":"1 Left"},{"$f":"(G18&\" \"&F18)","v":"1 Right"},null,34,"Left",{"$f":"$B$2","v":1},35,"Right",{"$f":"$B$2","v":1},{"$f":"(M18&\" \"&L18)","v":"1 Left"},{"$f":"(P18&\" \"&O18)","v":"1 Right"},null,1,"Left",{"$f":"$B$2","v":1},3,"Right",{"$f":"$B$2","v":1},{"$f":"(V18&\" \"&U18)","v":"1 Left"},{"$f":"(Y18&\" \"&X18)","v":"1 Right"},null,27,"Left",{"$f":"$B$2","v":1},5,"Right",{"$f":"$B$2","v":1},{"$f":"(AE18&\" \"&AD18)","v":"1 Left"},{"$f":"(AH18&\" \"&AG18)","v":"1 Right"}]
[null,11,"Left",{"$f":"$B$2","v":1},12,"Right",{"$f":"$B$2","v":1},{"$f":"(D19&\" \"&C19)","v":"1 Left"},{"$f":"(G19&\" \"&F19)","v":"1 Right"},null,5,"Left",{"$f":"$B$2","v":1},6,"Right",{"$f":"$B$2","v":1},{"$f":"(M19&\" \"&L19)","v":"1 Left"},{"$f":"(P19&\" \"&O19)","v":"1 Right"},null,8,"Left",{"$f":"$B$2","v":1},9,"Right",{"$f":"$B$2","v":1},{"$f":"(V19&\" \"&U19)","v":"1 Left"},{"$f":"(Y19&\" \"&X19)","v":"1 Right"},null,29,"Left",{"$f":"$B$2","v":1},20,"Right",{"$f":"$B$2","v":1},{"$f":"(AE19&\" \"&AD19)","v":"1 Left"},{"$f":"(AH19&\" \"&AG19)","v":"1 Right"}]
[null,21,"Left",{"$f":"$B$2","v":1},22,"Right",{"$f":"$B$2","v":1},"1 Left","1 Right",null,14,"Left",{"$f":"$B$2","v":1},15,"Right",{"$f":"$B$2","v":1},"1 Left","1 Right",null,30,"Left",{"$f":"$B$2","v":1},31,"Right",{"$f":"$B$2","v":1},"1 Left","1 Right",null,38,"Left",{"$f":"$B$2","v":1},32,"Right",{"$f":"$B$2","v":1},"1 Left","1 Right"]
[null,3,"Left",{"$f":"$D$2","v":2},4,"Right",{"$f":"$D$2","v":2},"2 Left","2 Right",null,31,"Left",{"$f":"$D$2","v":2},36,"Right",{"$f":"$D$2","v":2},"2 Left","2 Right",null,15,"Left",{"$f":"$D$2","v":2},29,"Right",{"$f":"$D$2","v":2},"2 Left","2 Right",null,4,"Left",{"$f":"$D$2","v":2},6,"Right",{"$f":"$D$2","v":2},"2 Left","2 Right"]
[null,13,"Left",{"$f":"$D$2","v":2},14,"Right",{"$f":"$D$2","v":2},"2 Left","2 Right",null,11,"Left",{"$f":"$D$2","v":2},7,"Right",{"$f":"$D$2","v":2},"2 Left","2 Right",null,27,"Left",{"$f":"$D$2","v":2},2,"Right",{"$f":"$D$2","v":2},"2 Left","2 Right",null,19,"Left",{"$f":"$D$2","v":2},21,"Right",{"$f":"$D$2","v":2},"2 Left","2 Right"]
[null,23,"Left",{"$f":"$D$2","v":2},24,"Right",{"$f":"$D$2","v":2},"2 Left","2 Right",null,20,"Left",{"$f":"$D$2","v":2},16,"Right",{"$f":"$D$2","v":2},"2 Left","2 Right",null,37,"Left",{"$f":"$D$2","v":2},17,"Right",{"$f":"$D$2","v":2},"2 Left","2 Right",null,31,"Left",{"$f":"$D$2","v":2},33,"Right",{"$f":"$D$2","v":2},"2 Left","2 Right"]
[null,5,"Left",{"$f":"$F$2","v":3},7,"Right",{"$f":"$F$2","v":3},"3 Left","3 Right",null,30,"Left",{"$f":"$F$2","v":3},38,"Right",{"$f":"$F$2","v":3},"3 Left","3 Right",null,4,"Left",{"$f":"$F$2","v":3},6,"Right",{"$f":"$F$2","v":3},"3 Left","3 Right",null,1,"Left",{"$f":"$F$2","v":3},8,"Right",{"$f":"$F$2","v":3},"3 Left","3 Right"]
[null,15,"Left",{"$f":"$F$2","v":3},17,"Right",{"$f":"$F$2","v":3},"3 Left","3 Right",null,2,"Left",{"$f":"$F$2","v":3},9,"Right",{"$f":"$F$2","v":3},"3 Left","3 Right",null,10,"Left",{"$f":"$F$2","v":3},12,"Right",{"$f":"$F$2","v":3},"3 Left","3 Right",null,25,"Left",{"$f":"$F$2","v":3},23,"Right",{"$f":"$F$2","v":3},"3 Left","3 Right"]
[null,25,"Left",{"$f":"$F$2","v":3},27,"Right",{"$f":"$F$2","v":3},"3 Left","3 Right",null,21,"Left",{"$f":"$F$2","v":3},18,"Right",{"$f":"$F$2","v":3},"3 Left","3 Right",null,32,"Left",{"$f":"$F$2","v":3},34,"Right",{"$f":"$F$2","v":3},"3 Left","3 Right",null,37,"Left",{"$f":"$F$2","v":3},35,"Right",{"$f":"$F$2","v":3},"3 Left","3 Right"]
[null,6,"Left",{"$f":"$H$2","v":4},8,"Right",{"$f":"$H$2","v":4},"4 Left","4 Right",null,32,"Left",{"$f":"$H$2","v":4},1,"Right",{"$f":"$H$2","v":4},"4 Left","4 Right",null,5,"Left",{"$f":"$H$2","v":4},7,"Right",{"$f":"$H$2","v":4},"4 Left","4 Right",null,9,"Left",{"$f":"$H$2","v":4},2,"Right",{"$f":"$H$2","v":4},"4 Left","4 Right"]
[null,16,"Left",{"$f":"$H$2","v":4},18,"Right",{"$f":"$H$2","v":4},"4 Left","4 Right",null,3,"Left",{"$f":"$H$2","v":4},10,"Right",{"$f":"$H$2","v":4},"4 Left","4 Right",null,11,"Left",{"$f":"$H$2","v":4},13,"Right",{"$f":"$H$2","v":4},"4 Left","4 Right",null,24,"Left",{"$f":"$H$2","v":4},26,"Right",{"$f":"$H$2","v":4},"4 Left","4 Right"]
[null,26,"Left",4,28,"Right",4,"4 Left","4 Right",null,12,"Left",4,19,"Right",4,"4 Left","4 Right",null,33,"Left",4,35,"Right",4,"4 Left","4 Right",null,36,"Left",4,28,"Right",4,"4 Left","4 Right"]
[null,9,"Left",{"$f":"$J$2","v":5},10,"Right",{"$f":"$J$2","v":5},"5 Left","5 Right",null,33,"Left",{"$f":"$J$2","v":5},37,"Right",{"$f":"$J$2","v":5},"5 Left","5 Right",null,28,"Left",{"$f":"$J$2","v":5},14,"Right",{"$f":"$J$2","v":5},"5 Left","5 Right",null,3,"Left",{"$f":"$J$2","v":5},7,"Right",{"$f":"$J$2","v":5},"5 Left","5 Right"]
[null,19,"Left",{"$f":"$J$2","v":5},20,"Right",{"$f":"$J$2","v":5},"5 Left","5 Right",null,4,"Left",{"$f":"$J$2","v":5},8,"Right",{"$f":"$J$2","v":5},"5 Left","5 Right",null,38,"Left",{"$f":"$J$2","v":5},26,"Right",{"$f":"$J$2","v":5},"5 Left","5 Right",null,30,"Left",{"$f":"$J$2","v":5},22,"Right",{"$f":"$J$2","v":5},"5 Left","5 Right"]
[null,29,"Left",5,30,"Right",5,"5 Left","5 Right",null,13,"Left",5,17,"Right",5,"5 Left","5 Right",null,16,"Left",5,36,"Right",5,"5 Left","5 Right",null,18,"Left",5,34,"Right",5,"5 Left","5 Right"]
[null,31,"Left",{"$f":"$L$2","v":6},32,"Right",{"$f":"$L$2","v":6},"6 Left","6 Right",null,22,"Left",{"$f":"$L$2","v":6},23,"Right",{"$f":"$L$2","v":6},"6 Left","6 Right",null,20,"Left",{"$f":"$L$2","v":6},21,"Right",{"$f":"$L$2","v":6},"6 Left","6 Right",null,10,"Left",{"$f":"$L$2","v":6},11,"Right",{"$f":"$L$2","v":6},"6 Left","6 Right"]
[null,35,"Left",{"$f":"$L$2","v":6},36,"Right",{"$f":"$L$2","v":6},"6 Left","6 Right",null,26,"Left",{"$f":"$L$2","v":6},27,"Right",{"$f":"$L$2","v":6},"6 Left","6 Right",null,24,"Left",{"$f":"$L$2","v":6},25,"Right",{"$f":"$L$2","v":6},"6 Left","6 Right",null,14,"Left",{"$f":"$L$2","v":6},15,"Right",{"$f":"$L$2","v":6},"6 Left","6 Right"]
[null,null,"Left",6,null,"Right",6,"6 Left","6 Right",null,null,"Left",6,null,"Right",6,"6 Left","6 Right",null,null,"Left",6,null,"Right",6,"6 Left","6 Right",null,null,"Left",6,null,"Right",6,"6 Left","6 Right"]
[null,33,"Left",{"$f":"$N$2","v":7},34,"Right",{"$f":"$N$2","v":7},"7 Left","7 Right",null,24,"Left",{"$f":"$N$2","v":7},25,"Right",{"$f":"$N$2","v":7},"7 Left","7 Right",null,18,"Left",{"$f":"$N$2","v":7},19,"Right",{"$f":"$N$2","v":7},"7 Left","7 Right",null,12,"Left",{"$f":"$N$2","v":7},13,"Right",{"$f":"$N$2","v":7},"7 Left","7 Right"]
[null,37,"Left",{"$f":"$N$2","v":7},38,"Right",{"$f":"$N$2","v":7},"7 Left","7 Right",null,28,"Left",{"$f":"$N$2","v":7},29,"Right",{"$f":"$N$2","v":7},"7 Left","7 Right",null,22,"Left",{"$f":"$N$2","v":7},23,"Right",{"$f":"$N$2","v":7},"7 Left","7 Right",null,16,"Left",{"$f":"$N$2","v":7},17,"Right",{"$f":"$N$2","v":7},"7 Left","7 Right"]
[null,null,"Left",7,null,"Right",7,"7 Left","7 Right",null,null,"Left",7,null,"Right",7,"7 Left","7 Right",null,null,"Left",7,null,"Right",7,"7 Left","7 Right",null,null,"Left",7,null,"Right",7,"7 Left","7 Right"]
[null,41,"Left",{"$f":"$P$2","v":8},40,"Right",{"$f":"$P$2","v":8},"8 Left","8 Right",null,63,"Left",{"$f":"$P$2","v":8},67,"Right",{"$f":"$P$2","v":8},"8 Left","8 Right",null,52,"Left",{"$f":"$P$2","v":8},58,"Right",{"$f":"$P$2","v":8},"8 Left","8 Right",null,44,"Left",{"$f":"$P$2","v":8},47,"Right",{"$f":"$P$2","v":8},"8 Left","8 Right"]
[null,49,"Left",{"$f":"$P$2","v":8},48,"Right",{"$f":"$P$2","v":8},"8 Left","8 Right",null,71,"Left",{"$f":"$P$2","v":8},39,"Right",{"$f":"$P$2","v":8},"8 Left","8 Right",null,64,"Left",{"$f":"$P$2","v":8},62,"Right",{"$f":"$P$2","v":8},"8 Left","8 Right",null,51,"Left",{"$f":"$P$2","v":8},54,"Right",{"$f":"$P$2","v":8},"8 Left","8 Right"]
[null,57,"Left",8,56,"Right",8,"8 Left","8 Right",null,46,"Left",8,50,"Right",8,"8 Left","8 Right",null,73,"Left",8,70,"Right",8,"8 Left","8 Right",null,66,"Left",8,61,"Right",8,"8 Left","8 Right"]
[null,44,"Left",{"$f":"$R$2","v":9},42,"Right",{"$f":"$R$2","v":9},"9 Left","9 Right",null,64,"Left",{"$f":"$R$2","v":9},68,"Right",{"$f":"$R$2","v":9},"9 Left","9 Right",null,55,"Left",{"$f":"$R$2","v":9},53,"Right",{"$f":"$R$2","v":9},"9 Left","9 Right",null,49,"Left",{"$f":"$R$2","v":9},50,"Right",{"$f":"$R$2","v":9},"9 Left","9 Right"]
[null,52,"Left",{"$f":"$R$2","v":9},50,"Right",{"$f":"$R$2","v":9},"9 Left","9 Right",null,74,"Left",{"$f":"$R$2","v":9},40,"Right",{"$f":"$R$2","v":9},"9 Left","9 Right",null,59,"Left",{"$f":"$R$2","v":9},65,"Right",{"$f":"$R$2","v":9},"9 Left","9 Right",null,56,"Left",{"$f":"$R$2","v":9},57,"Right",{"$f":"$R$2","v":9},"9 Left","9 Right"]
[null,60,"Left",9,58,"Right",9,"9 Left","9 Right",null,47,"Left",9,43,"Right",9,"9 Left","9 Right",null,67,"Left",9,72,"Right",9,"9 Left","9 Right",null,63,"Left",9,64,"Right",9,"9 Left","9 Right"]
[null,43,"Left",{"$f":"$T$2","v":10},39,"Right",{"$f":"$T$2","v":10},"10 Left","10 Right",null,65,"Left",{"$f":"$T$2","v":10},70,"Right",{"$f":"$T$2","v":10},"10 Left","10 Right",null,57,"Left",{"$f":"$T$2","v":10},54,"Right",{"$f":"$T$2","v":10},"10 Left","10 Right",null,45,"Left",{"$f":"$T$2","v":10},46,"Right",{"$f":"$T$2","v":10},"10 Left","10 Right"]
[null,51,"Left",{"$f":"$T$2","v":10},47,"Right",{"$f":"$T$2","v":10},"10 Left","10 Right",null,73,"Left",{"$f":"$T$2","v":10},42,"Right",{"$f":"$T$2","v":10},"10 Left","10 Right",null,61,"Left",{"$f":"$T$2","v":10},66,"Right",{"$f":"$T$2","v":10},"10 Left","10 Right",null,52,"Left",{"$f":"$T$2","v":10},53,"Right",{"$f":"$T$2","v":10},"10 Left","10 Right"]
[null,59,"Left",10,55,"Right",10,"10 Left","10 Right",null,48,"Left",10,45,"Right",10,"10 Left","10 Right",null,69,"Left",10,71,"Right",10,"10 Left","10 Right",null,59,"Left",10,60,"Right",10,"10 Left","10 Right"]
[null,45,"Left",{"$f":"$V$2","v":11},46,"Right",{"$f":"$V$2","v":11},"11 Left","11 Right",null,66,"Left",{"$f":"$V$2","v":11},69,"Right",{"$f":"$V$2","v":11},"11 Left","11 Right",null,56,"Left",{"$f":"$V$2","v":11},51,"Right",{"$f":"$V$2","v":11},"11 Left","11 Right",null,43,"Left",{"$f":"$V$2","v":11},48,"Right",{"$f":"$V$2","v":11},"11 Left","11 Right"]
[null,53,"Left",{"$f":"$V$2","v":11},54,"Right",{"$f":"$V$2","v":11},"11 Left","11 Right",null,72,"Left",{"$f":"$V$2","v":11},41,"Right",{"$f":"$V$2","v":11},"11 Left","11 Right",null,60,"Left",{"$f":"$V$2","v":11},63,"Right",{"$f":"$V$2","v":11},"11 Left","11 Right",null,58,"Left",{"$f":"$V$2","v":11},55,"Right",{"$f":"$V$2","v":11},"11 Left","11 Right"]
[null,61,"Left",11,62,"Right",11,"11 Left","11 Right",null,49,"Left",11,44,"Right",11,"11 Left","11 Right",null,68,"Left",11,74,"Right",11,"11 Left","11 Right",null,65,"Left",11,62,"Right",11,"11 Left","11 Right"]
[null,63,"Left",{"$f":"$X$2","v":12},64,"Right",{"$f":"$X$2","v":12},"12 Left","12 Right",null,51,"Left",{"$f":"$X$2","v":12},54,"Right",{"$f":"$X$2","v":12},"12 Left","12 Right",null,39,"Left",{"$f":"$X$2","v":12},43,"Right",{"$f":"$X$2","v":12},"12 Left","12 Right",null,41,"Left",{"$f":"$X$2","v":12},74,"Right",{"$f":"$X$2","v":12},"12 Left","12 Right"]
[null,69,"Left",{"$f":"$X$2","v":12},70,"Right",{"$f":"$X$2","v":12},"12 Left","12 Right",null,57,"Left",{"$f":"$X$2","v":12},60,"Right",{"$f":"$X$2","v":12},"12 Left","12 Right",null,45,"Left",{"$f":"$X$2","v":12},49,"Right",{"$f":"$X$2","v":12},"12 Left","12 Right",null,71,"Left",{"$f":"$X$2","v":12},67,"Right",{"$f":"$X$2","v":12},"12 Left","12 Right"]
[null,null,"Left",12,null,"Right",12,"12 Left","12 Right",null,null,"Left",12,null,"Right",12,"12 Left","12 Right",null,null,"Left",12,null,"Right",12,"12 Left","12 Right",null,null,"Left",12,null,"Right",12,"12 Left","12 Right"]
[null,65,"Left",{"$f":"$Z$2","v":13},66,"Right",{"$f":"$Z$2","v":13},"13 Left","13 Right",null,52,"Left",{"$f":"$Z$2","v":13},55,"Right",{"$f":"$Z$2","v":13},"13 Left","13 Right",null,40,"Left",{"$f":"$Z$2","v":13},42,"Right",{"$f":"$Z$2","v":13},"13 Left","13 Right",null,39,"Left",{"$f":"$Z$2","v":13},68,"Right",{"$f":"$Z$2","v":13},"13 Left","13 Right"]
[null,71,"Left",{"$f":"$Z$2","v":13},72,"Right",{"$f":"$Z$2","v":13},"13 Left","13 Right",null,58,"Left",{"$f":"$Z$2","v":13},61,"Right",{"$f":"$Z$2","v":13},"13 Left","13 Right",null,46,"Left",{"$f":"$Z$2","v":13},48,"Right",{"$f":"$Z$2","v":13},"13 Left","13 Right",null,69,"Left",{"$f":"$Z$2","v":13},73,"Right",{"$f":"$Z$2","v":13},"13 Left","13 Right"]
[null,null,"Left",13,null,"Right",13,"13 Left","13 Right",null,null,"Left",13,null,"Right",13,"13 Left","13 Right",null,null,"Left",13,null,"Right",13,"13 Left","13 Right",null,null,"Left",13,null,"Right",13,"13 Left","13 Right"]
[null,67,"Left",{"$f":"$AB$2","v":14},68,"Right",{"$f":"$AB$2","v":14},"14 Left","14 Right",null,53,"Left",{"$f":"$AB$2","v":14},56,"Right",{"$f":"$AB$2","v":14},"14 Left","14 Right",null,41,"Left",{"$f":"$AB$2","v":14},44,"Right",{"$f":"$AB$2","v":14},"14 Left","14 Right",null,40,"Left",{"$f":"$AB$2","v":14},42,"Right",{"$f":"$AB$2","v":14},"14 Left","14 Right"]
[null,73,"Left",{"$f":"$AB$2","v":14},74,"Right",{"$f":"$AB$2","v":14},"14 Left","14 Right",null,59,"Left",{"$f":"$AB$2","v":14},62,"Right",{"$f":"$AB$2","v":14},"14 Left","14 Right",null,47,"Left",{"$f":"$AB$2","v":14},50,"Right",{"$f":"$AB$2","v":14},"14 Left","14 Right",null,70,"Left",{"$f":"$AB$2","v":14},72,"Right",{"$f":"$AB$2","v":14},"14 Left","14 Right"]
[null,null,"Left",14,null,"Right",14,"14 Left","14 Right",null,null,"Left",14,null,"Right",14,"14 Left","14 Right",null,null,"Left",14,null,"Right",14,"14 Left","14 Right",null,null,"Left",14,null,"Right",14,"14 Left","14 Right"]
{"$rows_empty":32}
[{"$nulls":37},{"$f":"$B$35","v":0},{"$f":"$H$35","v":"6 Left"},{"$f":"$K$35","v":0},{"$f":"$Q$35","v":"6 Left"},{"$f":"$T$35","v":0},{"$f":"$Z$35","v":"6 Left"},{"$f":"$AC$35","v":0},{"$f":"$AI$35","v":"6 Left"}]
[{"$nulls":37},{"$f":"$B$38","v":0},{"$f":"$H$38","v":"7 Left"},{"$f":"$K$38","v":0},{"$f":"$Q$38","v":"7 Left"},{"$f":"$T$38","v":0},{"$f":"$Z$38","v":"7 Left"},{"$f":"$AC$38","v":0},{"$f":"$AI$38","v":"7 Left"}]
[{"$nulls":37},{"$f":"$B$53","v":0},{"$f":"$H$53","v":"12 Left"},{"$f":"$K$53","v":0},{"$f":"$Q$53","v":"12 Left"},{"$f":"$T$53","v":0},{"$f":"$Z$53","v":"12 Left"},{"$f":"$AC$53","v":0},{"$f":"$AI$53","v":"12 Left"}]
[{"$nulls":37},{"$f":"$B$56","v":0},{"$f":"$H$56","v":"13 Left"},{"$f":"$K$56","v":0},{"$f":"$Q$56","v":"13 Left"},{"$f":"$T$56","v":0},{"$f":"$Z$56","v":"13 Left"},{"$f":"$AC$56","v":0},{"$f":"$AI$56","v":"13 Left"}]
[{"$nulls":37},{"$f":"$B$59","v":0},{"$f":"$H$59","v":"14 Left"},{"$f":"$K$59","v":0},{"$f":"$Q$59","v":"14 Left"},{"$f":"$T$59","v":0},{"$f":"$Z$59","v":"14 Left"},{"$f":"$AC$59","v":0},{"$f":"$AI$59","v":"14 Left"}]
[{"$nulls":37},{"$f":"$E$35","v":0},{"$f":"$I$35","v":"6 Right"},{"$f":"$N$35","v":0},{"$f":"$R$35","v":"6 Right"},{"$f":"$W$35","v":0},{"$f":"$AA$35","v":"6 Right"},{"$f":"$AF$35","v":0},{"$f":"$AJ$35","v":"6 Right"}]
[{"$nulls":37},{"$f":"$E$38","v":0},{"$f":"$I$38","v":"7 Right"},{"$f":"$N$38","v":0},{"$f":"$R$38","v":"7 Right"},{"$f":"$W$38","v":0},{"$f":"$AA$38","v":"7 Right"},{"$f":"$AF$38","v":0},{"$f":"$AJ$38","v":"7 Right"}]
[{"$nulls":37},{"$f":"$E$53","v":0},{"$f":"$I$53","v":"12 Right"},{"$f":"$N$53","v":0},{"$f":"$R$53","v":"12 Right"},{"$f":"$W$53","v":0},{"$f":"$AA$53","v":"12 Right"},{"$f":"$AF$53","v":0},{"$f":"$AJ$53","v":"12 Right"}]
[{"$nulls":37},{"$f":"$E$56","v":0},{"$f":"$I$56","v":"13 Right"},{"$f":"$N$56","v":0},{"$f":"$R$56","v":"13 Right"},{"$f":"$W$56","v":0},{"$f":"$AA$56","v":"13 Right"},{"$f":"$AF$56","v":0},{"$f":"$AJ$56","v":"13 Right"}]
[{"$nulls":37},{"$f":"$E$59","v":0},{"$f":"$I$59","v":"14 Right"},{"$f":"$N$59","v":0},{"$f":"$R$59","v":"14 Right"},{"$f":"$W$59","v":0},{"$f":"$AA$59","v":"14 Right"},{"$f":"$AF$59","v":0},{"$f":"$AJ$59","v":"14 Right"}]

{"sheet":"76","index":36,"n_rows":101,"n_cols":45,"rows_kept":101,"hidden":true,"merged":[[0,1,0,28],[1,1,1,2],[1,3,1,4],[1,5,1,6],[1,7,1,8],[1,9,1,10],[1,11,1,12],[1,13,1,14],[1,15,1,16],[1,17,1,18],[1,19,1,20],[1,21,1,22],[1,23,1,24],[1,25,1,26],[1,27,1,28],[2,0,4,0],[5,0,7,0],[8,0,10,0],[11,0,13,0],[14,1,14,28],[15,1,15,6],[15,10,15,15],[15,19,15,24],[15,28,15,33],[16,37,16,38],[16,39,16,40],[16,41,16,42],[16,43,16,44]]}
[null,"YOU MAY CHANGE THESE RINK NUMBERS IF YOU WISH"]
["Round",1,null,2,2,3,3,4,4,5,5,6,6,7,7,8,null,9,null,10,null,11,null,12,null,13,6,14,7]
[1,1,2,3,4,5,7,6,8,9,10,31,32,33,34,39,40,41,42,43,45,44,46,47,48,69,70,71,72]
[null,11,12,13,14,15,17,16,18,19,20,35,36,37,38,49,50,51,52,53,55,54,56,57,58,73,74,75,76]
[null,21,22,23,24,25,27,26,28,29,30,{"$nulls":4},59,60,61,62,63,65,64,66,67,68]
[2,34,35,31,36,30,38,32,1,33,37,22,23,24,25,72,73,69,74,68,76,70,39,71,75,60,61,62,63]
[null,5,6,11,7,2,9,3,10,4,8,26,27,28,29,43,44,49,45,40,47,41,48,42,46,64,65,66,67]
[null,14,15,20,16,21,18,12,19,13,17,{"$nulls":4},52,53,58,54,59,56,50,57,51,55]
[3,1,3,15,29,4,6,5,7,28,14,20,21,18,19,39,41,53,67,42,44,43,45,66,52,58,59,56,57]
[null,8,9,27,2,10,12,11,13,38,26,24,25,22,23,46,47,65,40,48,50,49,51,76,64,62,63,60,61]
[null,30,31,37,17,32,34,33,35,16,36,{"$nulls":4},68,69,75,55,70,72,71,73,54,74]
[4,27,5,4,6,1,8,9,2,3,7,10,11,12,13,65,43,42,44,39,46,47,40,41,45,48,49,50,51]
[null,29,20,19,21,25,23,24,26,30,22,14,15,16,17,67,58,57,59,63,61,62,64,68,60,52,53,54,55]
[null,38,32,31,33,37,35,36,28,18,34,{"$nulls":4},76,70,69,71,75,73,74,66,56,72]
[null,"76 on 2 greens"]
[null,1,{"$nulls":8},2,{"$nulls":8},3,{"$nulls":8},4]
[null,"no","Left","rink","no","Right","rink","L","R",null,"no","Left","rink","no","Right","rink","L","R",null,"no","Left","rink","no","Right","rink","L","R",null,"no","Left","rink","no","Right","rink","L","R",null,1,null,2,null,3,null,4]
[null,1,"Left",{"$f":"$B$2","v":1},2,"Right",{"$f":"$B$2","v":1},{"$f":"(D18&\" \"&C18)","v":"1 Left"},{"$f":"(G18&\" \"&F18)","v":"1 Right"},null,34,"Left",{"$f":"$B$2","v":1},35,"Right",{"$f":"$B$2","v":1},{"$f":"(M18&\" \"&L18)","v":"1 Left"},{"$f":"(P18&\" \"&O18)","v":"1 Right"},null,1,"Left",{"$f":"$B$2","v":1},3,"Right",{"$f":"$B$2","v":1},{"$f":"(V18&\" \"&U18)","v":"1 Left"},{"$f":"(Y18&\" \"&X18)","v":"1 Right"},null,27,"Left",{"$f":"$B$2","v":1},5,"Right",{"$f":"$B$2","v":1},{"$f":"(AE18&\" \"&AD18)","v":"1 Left"},{"$f":"(AH18&\" \"&AG18)","v":"1 Right"}]
[null,11,"Left",{"$f":"$B$2","v":1},12,"Right",{"$f":"$B$2","v":1},{"$f":"(D19&\" \"&C19)","v":"1 Left"},{"$f":"(G19&\" \"&F19)","v":"1 Right"},null,5,"Left",{"$f":"$B$2","v":1},6,"Right",{"$f":"$B$2","v":1},{"$f":"(M19&\" \"&L19)","v":"1 Left"},{"$f":"(P19&\" \"&O19)","v":"1 Right"},null,8,"Left",{"$f":"$B$2","v":1},9,"Right",{"$f":"$B$2","v":1},{"$f":"(V19&\" \"&U19)","v":"1 Left"},{"$f":"(Y19&\" \"&X19)","v":"1 Right"},null,29,"Left",{"$f":"$B$2","v":1},20,"Right",{"$f":"$B$2","v":1},{"$f":"(AE19&\" \"&AD19)","v":"1 Left"},{"$f":"(AH19&\" \"&AG19)","v":"1 Right"}]
[null,21,"Left",{"$f":"$B$2","v":1},22,"Right",{"$f":"$B$2","v":1},"1 Left","1 Right",null,14,"Left",{"$f":"$B$2","v":1},15,"Right",{"$f":"$B$2","v":1},"1 Left","1 Right",null,30,"Left",{"$f":"$B$2","v":1},31,"Right",{"$f":"$B$2","v":1},"1 Left","1 Right",null,38,"Left",{"$f":"$B$2","v":1},32,"Right",{"$f":"$B$2","v":1},"1 Left","1 Right"]
[null,3,"Left",{"$f":"$D$2","v":2},4,"Right",{"$f":"$D$2","v":2},"2 Left","2 Right",null,31,"Left",{"$f":"$D$2","v":2},36,"Right",{"$f":"$D$2","v":2},"2 Left","2 Right",null,15,"Left",{"$f":"$D$2","v":2},29,"Right",{"$f":"$D$2","v":2},"2 Left","2 Right",null,4,"Left",{"$f":"$D$2","v":2},6,"Right",{"$f":"$D$2","v":2},"2 Left","2 Right"]
[null,13,"Left",{"$f":"$D$2","v":2},14,"Right",{"$f":"$D$2","v":2},"2 Left","2 Right",null,11,"Left",{"$f":"$D$2","v":2},7,"Right",{"$f":"$D$2","v":2},"2 Left","2 Right",null,27,"Left",{"$f":"$D$2","v":2},2,"Right",{"$f":"$D$2","v":2},"2 Left","2 Right",null,19,"Left",{"$f":"$D$2","v":2},21,"Right",{"$f":"$D$2","v":2},"2 Left","2 Right"]
[null,23,"Left",{"$f":"$D$2","v":2},24,"Right",{"$f":"$D$2","v":2},"2 Left","2 Right",null,20,"Left",{"$f":"$D$2","v":2},16,"Right",{"$f":"$D$2","v":2},"2 Left","2 Right",null,37,"Left",{"$f":"$D$2","v":2},17,"Right",{"$f":"$D$2","v":2},"2 Left","2 Right",null,31,"Left",{"$f":"$D$2","v":2},33,"Right",{"$f":"$D$2","v":2},"2 Left","2 Right"]
[null,5,"Left",{"$f":"$F$2","v":3},7,"Right",{"$f":"$F$2","v":3},"3 Left","3 Right",null,30,"Left",{"$f":"$F$2","v":3},38,"Right",{"$f":"$F$2","v":3},"3 Left","3 Right",null,4,"Left",{"$f":"$F$2","v":3},6,"Right",{"$f":"$F$2","v":3},"3 Left","3 Right",null,1,"Left",{"$f":"$F$2","v":3},8,"Right",{"$f":"$F$2","v":3},"3 Left","3 Right"]
[null,15,"Left",{"$f":"$F$2","v":3},17,"Right",{"$f":"$F$2","v":3},"3 Left","3 Right",null,2,"Left",{"$f":"$F$2","v":3},9,"Right",{"$f":"$F$2","v":3},"3 Left","3 Right",null,10,"Left",{"$f":"$F$2","v":3},12,"Right",{"$f":"$F$2","v":3},"3 Left","3 Right",null,25,"Left",{"$f":"$F$2","v":3},23,"Right",{"$f":"$F$2","v":3},"3 Left","3 Right"]
[null,25,"Left",{"$f":"$F$2","v":3},27,"Right",{"$f":"$F$2","v":3},"3 Left","3 Right",null,21,"Left",{"$f":"$F$2","v":3},18,"Right",{"$f":"$F$2","v":3},"3 Left","3 Right",null,32,"Left",{"$f":"$F$2","v":3},34,"Right",{"$f":"$F$2","v":3},"3 Left","3 Right",null,37,"Left",{"$f":"$F$2","v":3},35,"Right",{"$f":"$F$2","v":3},"3 Left","3 Right"]
[null,6,"Left",{"$f":"$H$2","v":4},8,"Right",{"$f":"$H$2","v":4},"4 Left","4 Right",null,32,"Left",{"$f":"$H$2","v":4},1,"Right",{"$f":"$H$2","v":4},"4 Left","4 Right",null,5,"Left",{"$f":"$H$2","v":4},7,"Right",{"$f":"$H$2","v":4},"4 Left","4 Right",null,9,"Left",{"$f":"$H$2","v":4},2,"Right",{"$f":"$H$2","v":4},"4 Left","4 Right"]
[null,16,"Left",{"$f":"$H$2","v":4},18,"Right",{"$f":"$H$2","v":4},"4 Left","4 Right",null,3,"Left",{"$f":"$H$2","v":4},10,"Right",{"$f":"$H$2","v":4},"4 Left","4 Right",null,11,"Left",{"$f":"$H$2","v":4},13,"Right",{"$f":"$H$2","v":4},"4 Left","4 Right",null,24,"Left",{"$f":"$H$2","v":4},26,"Right",{"$f":"$H$2","v":4},"4 Left","4 Right"]
[null,26,"Left",4,28,"Right",4,"4 Left","4 Right",null,12,"Left",4,19,"Right",4,"4 Left","4 Right",null,33,"Left",4,35,"Right",4,"4 Left","4 Right",null,36,"Left",4,28,"Right",4,"4 Left","4 Right"]
[null,9,"Left",{"$f":"$J$2","v":5},10,"Right",{"$f":"$J$2","v":5},"5 Left","5 Right",null,33,"Left",{"$f":"$J$2","v":5},37,"Right",{"$f":"$J$2","v":5},"5 Left","5 Right",null,28,"Left",{"$f":"$J$2","v":5},14,"Right",{"$f":"$J$2","v":5},"5 Left","5 Right",null,3,"Left",{"$f":"$J$2","v":5},7,"Right",{"$f":"$J$2","v":5},"5 Left","5 Right"]
[null,19,"Left",{"$f":"$J$2","v":5},20,"Right",{"$f":"$J$2","v":5},"5 Left","5 Right",null,4,"Left",{"$f":"$J$2","v":5},8,"Right",{"$f":"$J$2","v":5},"5 Left","5 Right",null,38,"Left",{"$f":"$J$2","v":5},26,"Right",{"$f":"$J$2","v":5},"5 Left","5 Right",null,30,"Left",{"$f":"$J$2","v":5},22,"Right",{"$f":"$J$2","v":5},"5 Left","5 Right"]
[null,29,"Left",5,30,"Right",5,"5 Left","5 Right",null,13,"Left",5,17,"Right",5,"5 Left","5 Right",null,16,"Left",5,36,"Right",5,"5 Left","5 Right",null,18,"Left",5,34,"Right",5,"5 Left","5 Right"]
[null,31,"Left",{"$f":"$L$2","v":6},32,"Right",{"$f":"$L$2","v":6},"6 Left","6 Right",null,22,"Left",{"$f":"$L$2","v":6},23,"Right",{"$f":"$L$2","v":6},"6 Left","6 Right",null,20,"Left",{"$f":"$L$2","v":6},21,"Right",{"$f":"$L$2","v":6},"6 Left","6 Right",null,10,"Left",{"$f":"$L$2","v":6},11,"Right",{"$f":"$L$2","v":6},"6 Left","6 Right"]
[null,35,"Left",{"$f":"$L$2","v":6},36,"Right",{"$f":"$L$2","v":6},"6 Left","6 Right",null,26,"Left",{"$f":"$L$2","v":6},27,"Right",{"$f":"$L$2","v":6},"6 Left","6 Right",null,24,"Left",{"$f":"$L$2","v":6},25,"Right",{"$f":"$L$2","v":6},"6 Left","6 Right",null,14,"Left",{"$f":"$L$2","v":6},15,"Right",{"$f":"$L$2","v":6},"6 Left","6 Right"]
[null,null,"Left",6,null,"Right",6,"6 Left","6 Right",null,null,"Left",6,null,"Right",6,"6 Left","6 Right",null,null,"Left",6,null,"Right",6,"6 Left","6 Right",null,null,"Left",6,null,"Right",6,"6 Left","6 Right"]
[null,33,"Left",{"$f":"$N$2","v":7},34,"Right",{"$f":"$N$2","v":7},"7 Left","7 Right",null,24,"Left",{"$f":"$N$2","v":7},25,"Right",{"$f":"$N$2","v":7},"7 Left","7 Right",null,18,"Left",{"$f":"$N$2","v":7},19,"Right",{"$f":"$N$2","v":7},"7 Left","7 Right",null,12,"Left",{"$f":"$N$2","v":7},13,"Right",{"$f":"$N$2","v":7},"7 Left","7 Right"]
[null,37,"Left",{"$f":"$N$2","v":7},38,"Right",{"$f":"$N$2","v":7},"7 Left","7 Right",null,28,"Left",{"$f":"$N$2","v":7},29,"Right",{"$f":"$N$2","v":7},"7 Left","7 Right",null,22,"Left",{"$f":"$N$2","v":7},23,"Right",{"$f":"$N$2","v":7},"7 Left","7 Right",null,16,"Left",{"$f":"$N$2","v":7},17,"Right",{"$f":"$N$2","v":7},"7 Left","7 Right"]
[null,null,"Left",7,null,"Right",7,"7 Left","7 Right",null,null,"Left",7,null,"Right",7,"7 Left","7 Right",null,null,"Left",7,null,"Right",7,"7 Left","7 Right",null,null,"Left",7,null,"Right",7,"7 Left","7 Right"]
[null,39,"Left",{"$f":"$P$2","v":8},40,"Right",{"$f":"$P$2","v":8},"8 Left","8 Right",null,72,"Left",{"$f":"$P$2","v":8},73,"Right",{"$f":"$P$2","v":8},"8 Left","8 Right",null,39,"Left",{"$f":"$P$2","v":8},41,"Right",{"$f":"$P$2","v":8},"8 Left","8 Right",null,65,"Left",{"$f":"$P$2","v":8},43,"Right",{"$f":"$P$2","v":8},"8 Left","8 Right"]
[null,49,"Left",{"$f":"$P$2","v":8},50,"Right",{"$f":"$P$2","v":8},"8 Left","8 Right",null,43,"Left",{"$f":"$P$2","v":8},44,"Right",{"$f":"$P$2","v":8},"8 Left","8 Right",null,46,"Left",{"$f":"$P$2","v":8},47,"Right",{"$f":"$P$2","v":8},"8 Left","8 Right",null,67,"Left",{"$f":"$P$2","v":8},58,"Right",{"$f":"$P$2","v":8},"8 Left","8 Right"]
[null,59,"Left",8,60,"Right",8,"8 Left","8 Right",null,52,"Left",8,53,"Right",8,"8 Left","8 Right",null,68,"Left",8,69,"Right",8,"8 Left","8 Right",null,76,"Left",8,70,"Right",8,"8 Left","8 Right"]
[null,41,"Left",{"$f":"$R$2","v":9},42,"Right",{"$f":"$R$2","v":9},"9 Left","9 Right",null,69,"Left",{"$f":"$R$2","v":9},74,"Right",{"$f":"$R$2","v":9},"9 Left","9 Right",null,53,"Left",{"$f":"$R$2","v":9},67,"Right",{"$f":"$R$2","v":9},"9 Left","9 Right",null,42,"Left",{"$f":"$R$2","v":9},44,"Right",{"$f":"$R$2","v":9},"9 Left","9 Right"]
[null,51,"Left",{"$f":"$R$2","v":9},52,"Right",{"$f":"$R$2","v":9},"9 Left","9 Right",null,49,"Left",{"$f":"$R$2","v":9},45,"Right",{"$f":"$R$2","v":9},"9 Left","9 Right",null,65,"Left",{"$f":"$R$2","v":9},40,"Right",{"$f":"$R$2","v":9},"9 Left","9 Right",null,57,"Left",{"$f":"$R$2","v":9},59,"Right",{"$f":"$R$2","v":9},"9 Left","9 Right"]
[null,61,"Left",9,62,"Right",9,"9 Left","9 Right",null,58,"Left",9,54,"Right",9,"9 Left","9 Right",null,75,"Left",9,55,"Right",9,"9 Left","9 Right",null,69,"Left",9,71,"Right",9,"9 Left","9 Right"]
[null,43,"Left",{"$f":"$T$2","v":10},45,"Right",{"$f":"$T$2","v":10},"10 Left","10 Right",null,68,"Left",{"$f":"$T$2","v":10},76,"Right",{"$f":"$T$2","v":10},"10 Left","10 Right",null,42,"Left",{"$f":"$T$2","v":10},44,"Right",{"$f":"$T$2","v":10},"10 Left","10 Right",null,39,"Left",{"$f":"$T$2","v":10},46,"Right",{"$f":"$T$2","v":10},"10 Left","10 Right"]
[null,53,"Left",{"$f":"$T$2","v":10},55,"Right",{"$f":"$T$2","v":10},"10 Left","10 Right",null,40,"Left",{"$f":"$T$2","v":10},47,"Right",{"$f":"$T$2","v":10},"10 Left","10 Right",null,48,"Left",{"$f":"$T$2","v":10},50,"Right",{"$f":"$T$2","v":10},"10 Left","10 Right",null,63,"Left",{"$f":"$T$2","v":10},61,"Right",{"$f":"$T$2","v":10},"10 Left","10 Right"]
[null,63,"Left",10,65,"Right",10,"10 Left","10 Right",null,59,"Left",10,56,"Right",10,"10 Left","10 Right",null,70,"Left",10,72,"Right",10,"10 Left","10 Right",null,75,"Left",10,73,"Right",10,"10 Left","10 Right"]
[null,44,"Left",{"$f":"$V$2","v":11},46,"Right",{"$f":"$V$2","v":11},"11 Left","11 Right",null,70,"Left",{"$f":"$V$2","v":11},39,"Right",{"$f":"$V$2","v":11},"11 Left","11 Right",null,43,"Left",{"$f":"$V$2","v":11},45,"Right",{"$f":"$V$2","v":11},"11 Left","11 Right",null,47,"Left",{"$f":"$V$2","v":11},40,"Right",{"$f":"$V$2","v":11},"11 Left","11 Right"]
[null,54,"Left",{"$f":"$V$2","v":11},56,"Right",{"$f":"$V$2","v":11},"11 Left","11 Right",null,41,"Left",{"$f":"$V$2","v":11},48,"Right",{"$f":"$V$2","v":11},"11 Left","11 Right",null,49,"Left",{"$f":"$V$2","v":11},51,"Right",{"$f":"$V$2","v":11},"11 Left","11 Right",null,62,"Left",{"$f":"$V$2","v":11},64,"Right",{"$f":"$V$2","v":11},"11 Left","11 Right"]
[null,64,"Left",11,66,"Right",11,"11 Left","11 Right",null,50,"Left",11,57,"Right",11,"11 Left","11 Right",null,71,"Left",11,73,"Right",11,"11 Left","11 Right",null,74,"Left",11,66,"Right",11,"11 Left","11 Right"]
[null,47,"Left",{"$f":"$X$2","v":12},48,"Right",{"$f":"$X$2","v":12},"12 Left","12 Right",null,71,"Left",{"$f":"$X$2","v":12},75,"Right",{"$f":"$X$2","v":12},"12 Left","12 Right",null,66,"Left",{"$f":"$X$2","v":12},52,"Right",{"$f":"$X$2","v":12},"12 Left","12 Right",null,41,"Left",{"$f":"$X$2","v":12},45,"Right",{"$f":"$X$2","v":12},"12 Left","12 Right"]
[null,57,"Left",{"$f":"$X$2","v":12},58,"Right",{"$f":"$X$2","v":12},"12 Left","12 Right",null,42,"Left",{"$f":"$X$2","v":12},46,"Right",{"$f":"$X$2","v":12},"12 Left","12 Right",null,76,"Left",{"$f":"$X$2","v":12},64,"Right",{"$f":"$X$2","v":12},"12 Left","12 Right",null,68,"Left",{"$f":"$X$2","v":12},60,"Right",{"$f":"$X$2","v":12},"12 Left","12 Right"]
[null,67,"Left",12,68,"Right",12,"12 Left","12 Right",null,51,"Left",12,55,"Right",12,"12 Left","12 Right",null,54,"Left",12,74,"Right",12,"12 Left","12 Right",null,56,"Left",12,72,"Right",12,"12 Left","12 Right"]
[null,69,"Left",{"$f":"$Z$2","v":13},70,"Right",{"$f":"$Z$2","v":13},"13 Left","13 Right",null,60,"Left",{"$f":"$Z$2","v":13},61,"Right",{"$f":"$Z$2","v":13},"13 Left","13 Right",null,58,"Left",{"$f":"$Z$2","v":13},59,"Right",{"$f":"$Z$2","v":13},"13 Left","13 Right",null,48,"Left",{"$f":"$Z$2","v":13},49,"Right",{"$f":"$Z$2","v":13},"13 Left","13 Right"]
[null,73,"Left",{"$f":"$Z$2","v":13},74,"Right",{"$f":"$Z$2","v":13},"13 Left","13 Right",null,64,"Left",{"$f":"$Z$2","v":13},65,"Right",{"$f":"$Z$2","v":13},"13 Left","13 Right",null,62,"Left",{"$f":"$Z$2","v":13},63,"Right",{"$f":"$Z$2","v":13},"13 Left","13 Right",null,52,"Left",{"$f":"$Z$2","v":13},53,"Right",{"$f":"$Z$2","v":13},"13 Left","13 Right"]
[null,null,"Left",13,null,"Right",13,"13 Left","13 Right",null,null,"Left",13,null,"Right",13,"13 Left","13 Right",null,null,"Left",13,null,"Right",13,"13 Left","13 Right",null,null,"Left",13,null,"Right",13,"13 Left","13 Right"]
[null,71,"Left",{"$f":"$AB$2","v":14},72,"Right",{"$f":"$AB$2","v":14},"14 Left","14 Right",null,62,"Left",{"$f":"$AB$2","v":14},63,"Right",{"$f":"$AB$2","v":14},"14 Left","14 Right",null,56,"Left",{"$f":"$AB$2","v":14},57,"Right",{"$f":"$AB$2","v":14},"14 Left","14 Right",null,50,"Left",{"$f":"$AB$2","v":14},51,"Right",{"$f":"$AB$2","v":14},"14 Left","14 Right"]
[null,75,"Left",{"$f":"$AB$2","v":14},76,"Right",{"$f":"$AB$2","v":14},"14 Left","14 Right",null,66,"Left",{"$f":"$AB$2","v":14},67,"Right",{"$f":"$AB$2","v":14},"14 Left","14 Right",null,60,"Left",{"$f":"$AB$2","v":14},61,"Right",{"$f":"$AB$2","v":14},"14 Left","14 Right",null,54,"Left",{"$f":"$AB$2","v":14},55,"Right",{"$f":"$AB$2","v":14},"14 Left","14 Right"]
[null,null,"Left",14,null,"Right",14,"14 Left","14 Right",null,null,"Left",14,null,"Right",14,"14 Left","14 Right",null,null,"Left",14,null,"Right",14,"14 Left","14 Right",null,null,"Left",14,null,"Right",14,"14 Left","14 Right"]
{"$rows_empty":34}
[{"$nulls":37},{"$f":"$B$35","v":0},{"$f":"$H$35","v":"6 Left"},{"$f":"$K$35","v":0},{"$f":"$Q$35","v":"6 Left"},{"$f":"$T$35","v":0},{"$f":"$Z$35","v":"6 Left"},{"$f":"$AC$35","v":0},{"$f":"$AI$35","v":"6 Left"}]
[{"$nulls":37},{"$f":"$B$38","v":0},{"$f":"$H$38","v":"7 Left"},{"$f":"$K$38","v":0},{"$f":"$Q$38","v":"7 Left"},{"$f":"$T$38","v":0},{"$f":"$Z$38","v":"7 Left"},{"$f":"$AC$38","v":0},{"$f":"$AI$38","v":"7 Left"}]
[{"$nulls":37},{"$f":"$B$56","v":0},{"$f":"$H$56","v":"13 Left"},{"$f":"$K$56","v":0},{"$f":"$Q$56","v":"13 Left"},{"$f":"$T$56","v":0},{"$f":"$Z$56","v":"13 Left"},{"$f":"$AC$56","v":0},{"$f":"$AI$56","v":"13 Left"}]
[{"$nulls":37},{"$f":"$B$59","v":0},{"$f":"$H$59","v":"14 Left"},{"$f":"$K$59","v":0},{"$f":"$Q$59","v":"14 Left"},{"$f":"$T$59","v":0},{"$f":"$Z$59","v":"14 Left"},{"$f":"$AC$59","v":0},{"$f":"$AI$59","v":"14 Left"}]
[{"$nulls":37},{"$f":"$E$35","v":0},{"$f":"$I$35","v":"6 Right"},{"$f":"$N$35","v":0},{"$f":"$R$35","v":"6 Right"},{"$f":"$W$35","v":0},{"$f":"$AA$35","v":"6 Right"},{"$f":"$AF$35","v":0},{"$f":"$AJ$35","v":"6 Right"}]
[{"$nulls":37},{"$f":"$E$38","v":0},{"$f":"$I$38","v":"7 Right"},{"$f":"$N$38","v":0},{"$f":"$R$38","v":"7 Right"},{"$f":"$W$38","v":0},{"$f":"$AA$38","v":"7 Right"},{"$f":"$AF$38","v":0},{"$f":"$AJ$38","v":"7 Right"}]
[{"$nulls":37},{"$f":"$E$56","v":0},{"$f":"$I$56","v":"13 Right"},{"$f":"$N$56","v":0},{"$f":"$R$56","v":"13 Right"},{"$f":"$W$56","v":0},{"$f":"$AA$56","v":"13 Right"},{"$f":"$AF$56","v":0},{"$f":"$AJ$56","v":"13 Right"}]
[{"$nulls":37},{"$f":"$E$59","v":0},{"$f":"$I$59","v":"14 Right"},{"$f":"$N$59","v":0},{"$f":"$R$59","v":"14 Right"},{"$f":"$W$59","v":0},{"$f":"$AA$59","v":"14 Right"},{"$f":"$AF$59","v":0},{"$f":"$AJ$59","v":"14 Right"}]

{"sheet":"78","index":37,"n_rows":101,"n_cols":45,"rows_kept":101,"hidden":true,"merged":[[0,1,0,28],[1,1,1,2],[1,3,1,4],[1,5,1,6],[1,7,1,8],[1,9,1,10],[1,11,1,12],[1,13,1,14],[1,15,1,16],[1,17,1,18],[1,19,1,20],[1,21,1,22],[1,23,1,24],[1,25,1,26],[1,27,1,28],[2,0,4,0],[5,0,7,0],[8,0,10,0],[11,0,13,0],[14,1,14,28],[15,1,15,6],[15,10,15,15],[15,19,15,24],[15,28,15,33],[16,37,16,38],[16,39,16,40],[16,41,16,42],[16,43,16,44]]}
[null,"YOU MAY CHANGE THESE RINK NUMBERS IF YOU WISH"]
["Round",1,null,2,2,3,3,4,4,5,5,6,6,7,7,8,null,9,null,10,null,11,null,12,null,13,6,14,7]
[1,1,7,3,8,2,9,4,10,5,11,6,12,37,38,41,42,43,44,45,47,46,48,49,50,71,72,73,74]
[null,13,19,15,20,14,21,16,22,17,23,18,24,39,40,51,52,53,54,55,57,56,58,59,60,75,76,77,78]
[null,25,31,27,32,26,33,28,34,29,35,30,36,null,null,61,62,63,64,65,67,66,68,69,70]
[2,10,11,5,12,6,16,7,13,8,14,9,15,1,2,74,75,71,76,70,78,72,41,73,77,62,63,64,65]
[null,23,24,18,25,19,17,20,26,21,27,22,28,3,4,45,46,51,47,42,49,43,50,44,48,66,67,68,69]
[null,36,37,31,38,32,30,33,39,34,40,35,29,null,null,54,55,60,56,61,58,52,59,53,57]
[3,28,21,26,24,27,20,25,18,19,22,23,17,13,14,41,43,55,69,44,46,45,47,68,54,60,61,58,59]
[null,39,32,37,35,38,31,36,29,30,33,34,40,15,16,48,49,67,42,50,52,51,53,78,66,64,65,62,63]
[null,12,5,10,8,11,4,9,2,3,6,7,1,null,null,70,71,77,57,72,74,73,75,56,76]
[4,10,7,34,14,8,37,12,1,31,32,33,2,27,28,67,45,44,46,41,48,49,42,43,47,50,51,52,53]
[null,20,17,6,23,18,9,22,11,13,4,5,3,29,30,69,60,59,61,65,63,64,66,70,62,54,55,56,57]
[null,38,35,16,39,36,19,40,21,24,26,15,25,null,null,78,72,71,73,77,75,76,68,58,74]
[null,"78 on 2 greens"]
[null,1,{"$nulls":8},2,{"$nulls":8},3,{"$nulls":8},4]
[null,"no","Left","rink","no","Right","rink","L","R",null,"no","Left","rink","no","Right","rink","L","R",null,"no","Left","rink","no","Right","rink","L","R",null,"no","Left","rink","no","Right","rink","L","R",null,1,null,2,null,3,null,4]
[null,1,"Left",{"$f":"$B$2","v":1},7,"Right",{"$f":"$B$2","v":1},{"$f":"(D18&\" \"&C18)","v":"1 Left"},{"$f":"(G18&\" \"&F18)","v":"1 Right"},null,10,"Left",{"$f":"$B$2","v":1},11,"Right",{"$f":"$B$2","v":1},{"$f":"(M18&\" \"&L18)","v":"1 Left"},{"$f":"(P18&\" \"&O18)","v":"1 Right"},null,28,"Left",{"$f":"$B$2","v":1},21,"Right",{"$f":"$B$2","v":1},{"$f":"(V18&\" \"&U18)","v":"1 Left"},{"$f":"(Y18&\" \"&X18)","v":"1 Right"},null,10,"Left",{"$f":"$B$2","v":1},7,"Right",{"$f":"$B$2","v":1},{"$f":"(AE18&\" \"&AD18)","v":"1 Left"},{"$f":"(AH18&\" \"&AG18)","v":"1 Right"}]
[null,13,"Left",{"$f":"$B$2","v":1},19,"Right",{"$f":"$B$2","v":1},{"$f":"(D19&\" \"&C19)","v":"1 Left"},{"$f":"(G19&\" \"&F19)","v":"1 Right"},null,23,"Left",{"$f":"$B$2","v":1},24,"Right",{"$f":"$B$2","v":1},{"$f":"(M19&\" \"&L19)","v":"1 Left"},{"$f":"(P19&\" \"&O19)","v":"1 Right"},null,39,"Left",{"$f":"$B$2","v":1},32,"Right",{"$f":"$B$2","v":1},{"$f":"(V19&\" \"&U19)","v":"1 Left"},{"$f":"(Y19&\" \"&X19)","v":"1 Right"},null,20,"Left",{"$f":"$B$2","v":1},17,"Right",{"$f":"$B$2","v":1},{"$f":"(AE19&\" \"&AD19)","v":"1 Left"},{"$f":"(AH19&\" \"&AG19)","v":"1 Right"}]
[null,25,"Left",{"$f":"$B$2","v":1},31,"Right",{"$f":"$B$2","v":1},"1 Left","1 Right",null,36,"Left",{"$f":"$B$2","v":1},37,"Right",{"$f":"$B$2","v":1},"1 Left","1 Right",null,12,"Left",{"$f":"$B$2","v":1},5,"Right",{"$f":"$B$2","v":1},"1 Left","1 Right",null,38,"Left",{"$f":"$B$2","v":1},35,"Right",{"$f":"$B$2","v":1},"1 Left","1 Right"]
[null,3,"Left",{"$f":"$D$2","v":2},8,"Right",{"$f":"$D$2","v":2},"2 Left","2 Right",null,5,"Left",{"$f":"$D$2","v":2},12,"Right",{"$f":"$D$2","v":2},"2 Left","2 Right",null,26,"Left",{"$f":"$D$2","v":2},24,"Right",{"$f":"$D$2","v":2},"2 Left","2 Right",null,34,"Left",{"$f":"$D$2","v":2},14,"Right",{"$f":"$D$2","v":2},"2 Left","2 Right"]
[null,15,"Left",{"$f":"$D$2","v":2},20,"Right",{"$f":"$D$2","v":2},"2 Left","2 Right",null,18,"Left",{"$f":"$D$2","v":2},25,"Right",{"$f":"$D$2","v":2},"2 Left","2 Right",null,37,"Left",{"$f":"$D$2","v":2},35,"Right",{"$f":"$D$2","v":2},"2 Left","2 Right",null,6,"Left",{"$f":"$D$2","v":2},23,"Right",{"$f":"$D$2","v":2},"2 Left","2 Right"]
[null,27,"Left",{"$f":"$D$2","v":2},32,"Right",{"$f":"$D$2","v":2},"2 Left","2 Right",null,31,"Left",{"$f":"$D$2","v":2},38,"Right",{"$f":"$D$2","v":2},"2 Left","2 Right",null,10,"Left",{"$f":"$D$2","v":2},8,"Right",{"$f":"$D$2","v":2},"2 Left","2 Right",null,16,"Left",{"$f":"$D$2","v":2},39,"Right",{"$f":"$D$2","v":2},"2 Left","2 Right"]
[null,2,"Left",{"$f":"$F$2","v":3},9,"Right",{"$f":"$F$2","v":3},"3 Left","3 Right",null,6,"Left",{"$f":"$F$2","v":3},16,"Right",{"$f":"$F$2","v":3},"3 Left","3 Right",null,27,"Left",{"$f":"$F$2","v":3},20,"Right",{"$f":"$F$2","v":3},"3 Left","3 Right",null,8,"Left",{"$f":"$F$2","v":3},37,"Right",{"$f":"$F$2","v":3},"3 Left","3 Right"]
[null,14,"Left",{"$f":"$F$2","v":3},21,"Right",{"$f":"$F$2","v":3},"3 Left","3 Right",null,19,"Left",{"$f":"$F$2","v":3},17,"Right",{"$f":"$F$2","v":3},"3 Left","3 Right",null,38,"Left",{"$f":"$F$2","v":3},31,"Right",{"$f":"$F$2","v":3},"3 Left","3 Right",null,18,"Left",{"$f":"$F$2","v":3},9,"Right",{"$f":"$F$2","v":3},"3 Left","3 Right"]
[null,26,"Left",{"$f":"$F$2","v":3},33,"Right",{"$f":"$F$2","v":3},"3 Left","3 Right",null,32,"Left",{"$f":"$F$2","v":3},30,"Right",{"$f":"$F$2","v":3},"3 Left","3 Right",null,11,"Left",{"$f":"$F$2","v":3},4,"Right",{"$f":"$F$2","v":3},"3 Left","3 Right",null,36,"Left",{"$f":"$F$2","v":3},19,"Right",{"$f":"$F$2","v":3},"3 Left","3 Right"]
[null,4,"Left",{"$f":"$H$2","v":4},10,"Right",{"$f":"$H$2","v":4},"4 Left","4 Right",null,7,"Left",{"$f":"$H$2","v":4},13,"Right",{"$f":"$H$2","v":4},"4 Left","4 Right",null,25,"Left",{"$f":"$H$2","v":4},18,"Right",{"$f":"$H$2","v":4},"4 Left","4 Right",null,12,"Left",{"$f":"$H$2","v":4},1,"Right",{"$f":"$H$2","v":4},"4 Left","4 Right"]
[null,16,"Left",{"$f":"$H$2","v":4},22,"Right",{"$f":"$H$2","v":4},"4 Left","4 Right",null,20,"Left",{"$f":"$H$2","v":4},26,"Right",{"$f":"$H$2","v":4},"4 Left","4 Right",null,36,"Left",{"$f":"$H$2","v":4},29,"Right",{"$f":"$H$2","v":4},"4 Left","4 Right",null,22,"Left",{"$f":"$H$2","v":4},11,"Right",{"$f":"$H$2","v":4},"4 Left","4 Right"]
[null,28,"Left",4,34,"Right",4,"4 Left","4 Right",null,33,"Left",4,39,"Right",4,"4 Left","4 Right",null,9,"Left",4,2,"Right",4,"4 Left","4 Right",null,40,"Left",4,21,"Right",4,"4 Left","4 Right"]
[null,5,"Left",{"$f":"$J$2","v":5},11,"Right",{"$f":"$J$2","v":5},"5 Left","5 Right",null,8,"Left",{"$f":"$J$2","v":5},14,"Right",{"$f":"$J$2","v":5},"5 Left","5 Right",null,19,"Left",{"$f":"$J$2","v":5},22,"Right",{"$f":"$J$2","v":5},"5 Left","5 Right",null,31,"Left",{"$f":"$J$2","v":5},32,"Right",{"$f":"$J$2","v":5},"5 Left","5 Right"]
[null,17,"Left",{"$f":"$J$2","v":5},23,"Right",{"$f":"$J$2","v":5},"5 Left","5 Right",null,21,"Left",{"$f":"$J$2","v":5},27,"Right",{"$f":"$J$2","v":5},"5 Left","5 Right",null,30,"Left",{"$f":"$J$2","v":5},33,"Right",{"$f":"$J$2","v":5},"5 Left","5 Right",null,13,"Left",{"$f":"$J$2","v":5},4,"Right",{"$f":"$J$2","v":5},"5 Left","5 Right"]
[null,29,"Left",5,35,"Right",5,"5 Left","5 Right",null,34,"Left",5,40,"Right",5,"5 Left","5 Right",null,3,"Left",5,6,"Right",5,"5 Left","5 Right",null,24,"Left",5,26,"Right",5,"5 Left","5 Right"]
[null,6,"Left",{"$f":"$L$2","v":6},12,"Right",{"$f":"$L$2","v":6},"6 Left","6 Right",null,9,"Left",{"$f":"$L$2","v":6},15,"Right",{"$f":"$L$2","v":6},"6 Left","6 Right",null,23,"Left",{"$f":"$L$2","v":6},17,"Right",{"$f":"$L$2","v":6},"6 Left","6 Right",null,33,"Left",{"$f":"$L$2","v":6},2,"Right",{"$f":"$L$2","v":6},"6 Left","6 Right"]
[null,18,"Left",{"$f":"$L$2","v":6},24,"Right",{"$f":"$L$2","v":6},"6 Left","6 Right",null,22,"Left",{"$f":"$L$2","v":6},28,"Right",{"$f":"$L$2","v":6},"6 Left","6 Right",null,34,"Left",{"$f":"$L$2","v":6},40,"Right",{"$f":"$L$2","v":6},"6 Left","6 Right",null,5,"Left",{"$f":"$L$2","v":6},3,"Right",{"$f":"$L$2","v":6},"6 Left","6 Right"]
[null,30,"Left",6,36,"Right",6,"6 Left","6 Right",null,35,"Left",6,29,"Right",6,"6 Left","6 Right",null,7,"Left",6,1,"Right",6,"6 Left","6 Right",null,15,"Left",6,25,"Right",6,"6 Left","6 Right"]
[null,37,"Left",{"$f":"$N$2","v":7},38,"Right",{"$f":"$N$2","v":7},"7 Left","7 Right",null,1,"Left",{"$f":"$N$2","v":7},2,"Right",{"$f":"$N$2","v":7},"7 Left","7 Right",null,13,"Left",{"$f":"$N$2","v":7},14,"Right",{"$f":"$N$2","v":7},"7 Left","7 Right",null,27,"Left",{"$f":"$N$2","v":7},28,"Right",{"$f":"$N$2","v":7},"7 Left","7 Right"]
[null,39,"Left",{"$f":"$N$2","v":7},40,"Right",{"$f":"$N$2","v":7},"7 Left","7 Right",null,3,"Left",{"$f":"$N$2","v":7},4,"Right",{"$f":"$N$2","v":7},"7 Left","7 Right",null,15,"Left",{"$f":"$N$2","v":7},16,"Right",{"$f":"$N$2","v":7},"7 Left","7 Right",null,29,"Left",{"$f":"$N$2","v":7},30,"Right",{"$f":"$N$2","v":7},"7 Left","7 Right"]
[null,null,"Left",7,null,"Right",7,"7 Left","7 Right",null,null,"Left",7,null,"Right",7,"7 Left","7 Right",null,null,"Left",7,null,"Right",7,"7 Left","7 Right",null,null,"Left",7,null,"Right",7,"7 Left","7 Right"]
[null,41,"Left",{"$f":"$P$2","v":8},42,"Right",{"$f":"$P$2","v":8},"8 Left","8 Right",null,74,"Left",{"$f":"$P$2","v":8},75,"Right",{"$f":"$P$2","v":8},"8 Left","8 Right",null,41,"Left",{"$f":"$P$2","v":8},43,"Right",{"$f":"$P$2","v":8},"8 Left","8 Right",null,67,"Left",{"$f":"$P$2","v":8},45,"Right",{"$f":"$P$2","v":8},"8 Left","8 Right"]
[null,51,"Left",{"$f":"$P$2","v":8},52,"Right",{"$f":"$P$2","v":8},"8 Left","8 Right",null,45,"Left",{"$f":"$P$2","v":8},46,"Right",{"$f":"$P$2","v":8},"8 Left","8 Right",null,48,"Left",{"$f":"$P$2","v":8},49,"Right",{"$f":"$P$2","v":8},"8 Left","8 Right",null,69,"Left",{"$f":"$P$2","v":8},60,"Right",{"$f":"$P$2","v":8},"8 Left","8 Right"]
[null,61,"Left",8,62,"Right",8,"8 Left","8 Right",null,54,"Left",8,55,"Right",8,"8 Left","8 Right",null,70,"Left",8,71,"Right",8,"8 Left","8 Right",null,78,"Left",8,72,"Right",8,"8 Left","8 Right"]
[null,43,"Left",{"$f":"$R$2","v":9},44,"Right",{"$f":"$R$2","v":9},"9 Left","9 Right",null,71,"Left",{"$f":"$R$2","v":9},76,"Right",{"$f":"$R$2","v":9},"9 Left","9 Right",null,55,"Left",{"$f":"$R$2","v":9},69,"Right",{"$f":"$R$2","v":9},"9 Left","9 Right",null,44,"Left",{"$f":"$R$2","v":9},46,"Right",{"$f":"$R$2","v":9},"9 Left","9 Right"]
[null,53,"Left",{"$f":"$R$2","v":9},54,"Right",{"$f":"$R$2","v":9},"9 Left","9 Right",null,51,"Left",{"$f":"$R$2","v":9},47,"Right",{"$f":"$R$2","v":9},"9 Left","9 Right",null,67,"Left",{"$f":"$R$2","v":9},42,"Right",{"$f":"$R$2","v":9},"9 Left","9 Right",null,59,"Left",{"$f":"$R$2","v":9},61,"Right",{"$f":"$R$2","v":9},"9 Left","9 Right"]
[null,63,"Left",9,64,"Right",9,"9 Left","9 Right",null,60,"Left",9,56,"Right",9,"9 Left","9 Right",null,77,"Left",9,57,"Right",9,"9 Left","9 Right",null,71,"Left",9,73,"Right",9,"9 Left","9 Right"]
[null,45,"Left",{"$f":"$T$2","v":10},47,"Right",{"$f":"$T$2","v":10},"10 Left","10 Right",null,70,"Left",{"$f":"$T$2","v":10},78,"Right",{"$f":"$T$2","v":10},"10 Left","10 Right",null,44,"Left",{"$f":"$T$2","v":10},46,"Right",{"$f":"$T$2","v":10},"10 Left","10 Right",null,41,"Left",{"$f":"$T$2","v":10},48,"Right",{"$f":"$T$2","v":10},"10 Left","10 Right"]
[null,55,"Left",{"$f":"$T$2","v":10},57,"Right",{"$f":"$T$2","v":10},"10 Left","10 Right",null,42,"Left",{"$f":"$T$2","v":10},49,"Right",{"$f":"$T$2","v":10},"10 Left","10 Right",null,50,"Left",{"$f":"$T$2","v":10},52,"Right",{"$f":"$T$2","v":10},"10 Left","10 Right",null,65,"Left",{"$f":"$T$2","v":10},63,"Right",{"$f":"$T$2","v":10},"10 Left","10 Right"]
[null,65,"Left",10,67,"Right",10,"10 Left","10 Right",null,61,"Left",10,58,"Right",10,"10 Left","10 Right",null,72,"Left",10,74,"Right",10,"10 Left","10 Right",null,77,"Left",10,75,"Right",10,"10 Left","10 Right"]
[null,46,"Left",{"$f":"$V$2","v":11},48,"Right",{"$f":"$V$2","v":11},"11 Left","11 Right",null,72,"Left",{"$f":"$V$2","v":11},41,"Right",{"$f":"$V$2","v":11},"11 Left","11 Right",null,45,"Left",{"$f":"$V$2","v":11},47,"Right",{"$f":"$V$2","v":11},"11 Left","11 Right",null,49,"Left",{"$f":"$V$2","v":11},42,"Right",{"$f":"$V$2","v":11},"11 Left","11 Right"]
[null,56,"Left",{"$f":"$V$2","v":11},58,"Right",{"$f":"$V$2","v":11},"11 Left","11 Right",null,43,"Left",{"$f":"$V$2","v":11},50,"Right",{"$f":"$V$2","v":11},"11 Left","11 Right",null,51,"Left",{"$f":"$V$2","v":11},53,"Right",{"$f":"$V$2","v":11},"11 Left","11 Right",null,64,"Left",{"$f":"$V$2","v":11},66,"Right",{"$f":"$V$2","v":11},"11 Left","11 Right"]
[null,66,"Left",11,68,"Right",11,"11 Left","11 Right",null,52,"Left",11,59,"Right",11,"11 Left","11 Right",null,73,"Left",11,75,"Right",11,"11 Left","11 Right",null,76,"Left",11,68,"Right",11,"11 Left","11 Right"]
[null,49,"Left",{"$f":"$X$2","v":12},50,"Right",{"$f":"$X$2","v":12},"12 Left","12 Right",null,73,"Left",{"$f":"$X$2","v":12},77,"Right",{"$f":"$X$2","v":12},"12 Left","12 Right",null,68,"Left",{"$f":"$X$2","v":12},54,"Right",{"$f":"$X$2","v":12},"12 Left","12 Right",null,43,"Left",{"$f":"$X$2","v":12},47,"Right",{"$f":"$X$2","v":12},"12 Left","12 Right"]
[null,59,"Left",{"$f":"$X$2","v":12},60,"Right",{"$f":"$X$2","v":12},"12 Left","12 Right",null,44,"Left",{"$f":"$X$2","v":12},48,"Right",{"$f":"$X$2","v":12},"12 Left","12 Right",null,78,"Left",{"$f":"$X$2","v":12},66,"Right",{"$f":"$X$2","v":12},"12 Left","12 Right",null,70,"Left",{"$f":"$X$2","v":12},62,"Right",{"$f":"$X$2","v":12},"12 Left","12 Right"]
[null,69,"Left",12,70,"Right",12,"12 Left","12 Right",null,53,"Left",12,57,"Right",12,"12 Left","12 Right",null,56,"Left",12,76,"Right",12,"12 Left","12 Right",null,58,"Left",12,74,"Right",12,"12 Left","12 Right"]
[null,71,"Left",{"$f":"$Z$2","v":13},72,"Right",{"$f":"$Z$2","v":13},"13 Left","13 Right",null,62,"Left",{"$f":"$Z$2","v":13},63,"Right",{"$f":"$Z$2","v":13},"13 Left","13 Right",null,60,"Left",{"$f":"$Z$2","v":13},61,"Right",{"$f":"$Z$2","v":13},"13 Left","13 Right",null,50,"Left",{"$f":"$Z$2","v":13},51,"Right",{"$f":"$Z$2","v":13},"13 Left","13 Right"]
[null,75,"Left",{"$f":"$Z$2","v":13},76,"Right",{"$f":"$Z$2","v":13},"13 Left","13 Right",null,66,"Left",{"$f":"$Z$2","v":13},67,"Right",{"$f":"$Z$2","v":13},"13 Left","13 Right",null,64,"Left",{"$f":"$Z$2","v":13},65,"Right",{"$f":"$Z$2","v":13},"13 Left","13 Right",null,54,"Left",{"$f":"$Z$2","v":13},55,"Right",{"$f":"$Z$2","v":13},"13 Left","13 Right"]
[null,null,"Left",13,null,"Right",13,"13 Left","13 Right",null,null,"Left",13,null,"Right",13,"13 Left","13 Right",null,null,"Left",13,null,"Right",13,"13 Left","13 Right",null,null,"Left",13,null,"Right",13,"13 Left","13 Right"]
[null,73,"Left",{"$f":"$AB$2","v":14},74,"Right",{"$f":"$AB$2","v":14},"14 Left","14 Right",null,64,"Left",{"$f":"$AB$2","v":14},65,"Right",{"$f":"$AB$2","v":14},"14 Left","14 Right",null,58,"Left",{"$f":"$AB$2","v":14},59,"Right",{"$f":"$AB$2","v":14},"14 Left","14 Right",null,52,"Left",{"$f":"$AB$2","v":14},53,"Right",{"$f":"$AB$2","v":14},"14 Left","14 Right"]
[null,77,"Left",{"$f":"$AB$2","v":14},78,"Right",{"$f":"$AB$2","v":14},"14 Left","14 Right",null,68,"Left",{"$f":"$AB$2","v":14},69,"Right",{"$f":"$AB$2","v":14},"14 Left","14 Right",null,62,"Left",{"$f":"$AB$2","v":14},63,"Right",{"$f":"$AB$2","v":14},"14 Left","14 Right",null,56,"Left",{"$f":"$AB$2","v":14},57,"Right",{"$f":"$AB$2","v":14},"14 Left","14 Right"]
[null,null,"Left",14,null,"Right",14,"14 Left","14 Right",null,null,"Left",14,null,"Right",14,"14 Left","14 Right",null,null,"Left",14,null,"Right",14,"14 Left","14 Right",null,null,"Left",14,null,"Right",14,"14 Left","14 Right"]
{"$rows_empty":36}
[{"$nulls":37},{"$f":"$B$38","v":0},{"$f":"$H$38","v":"7 Left"},{"$f":"$K$38","v":0},{"$f":"$Q$38","v":"7 Left"},{"$f":"$T$38","v":0},{"$f":"$Z$38","v":"7 Left"},{"$f":"$AC$38","v":0},{"$f":"$AI$38","v":"7 Left"}]
[{"$nulls":37},{"$f":"$B$56","v":0},{"$f":"$H$56","v":"13 Left"},{"$f":"$K$56","v":0},{"$f":"$Q$56","v":"13 Left"},{"$f":"$T$56","v":0},{"$f":"$Z$56","v":"13 Left"},{"$f":"$AC$56","v":0},{"$f":"$AI$56","v":"13 Left"}]
[{"$nulls":37},{"$f":"$B$59","v":0},{"$f":"$H$59","v":"14 Left"},{"$f":"$K$59","v":0},{"$f":"$Q$59","v":"14 Left"},{"$f":"$T$59","v":0},{"$f":"$Z$59","v":"14 Left"},{"$f":"$AC$59","v":0},{"$f":"$AI$59","v":"14 Left"}]
[{"$nulls":37},{"$f":"$E$38","v":0},{"$f":"$I$38","v":"7 Right"},{"$f":"$N$38","v":0},{"$f":"$R$38","v":"7 Right"},{"$f":"$W$38","v":0},{"$f":"$AA$38","v":"7 Right"},{"$f":"$AF$38","v":0},{"$f":"$AJ$38","v":"7 Right"}]
[{"$nulls":37},{"$f":"$E$56","v":0},{"$f":"$I$56","v":"13 Right"},{"$f":"$N$56","v":0},{"$f":"$R$56","v":"13 Right"},{"$f":"$W$56","v":0},{"$f":"$AA$56","v":"13 Right"},{"$f":"$AF$56","v":0},{"$f":"$AJ$56","v":"13 Right"}]
[{"$nulls":37},{"$f":"$E$59","v":0},{"$f":"$I$59","v":"14 Right"},{"$f":"$N$59","v":0},{"$f":"$R$59","v":"14 Right"},{"$f":"$W$59","v":0},{"$f":"$AA$59","v":"14 Right"},{"$f":"$AF$59","v":0},{"$f":"$AJ$59","v":"14 Right"}]

{"sheet":"80","index":38,"n_rows":59,"n_cols":44,"rows_kept":59,"hidden":true,"merged":[[0,1,0,28],[1,1,1,2],[1,3,1,4],[1,5,1,6],[1,7,1,8],[1,9,1,10],[1,11,1,12],[1,13,1,14],[1,15,1,16],[1,17,1,18],[1,19,1,20],[1,21,1,22],[1,23,1,24],[1,25,1,26],[1,27,1,28],[2,0,4,0],[5,0,7,0],[8,0,10,0],[11,0,13,0],[14,1,14,26],[15,1,15,6],[15,10,15,15],[15,19,15,24],[15,28,15,33],[16,37,16,38],[16,39,16,40],[16,41,16,42],[16,43,16,44]]}
[null,"YOU MAY CHANGE THESE RINK NUMBERS IF YOU WISH"]
["Round",1,null,2,2,3,3,4,4,5,5,6,6,7,7,8,null,9,null,10,null,11,null,12,null,13,6,14,7]
[1,1,7,3,8,2,9,4,10,5,11,6,12,37,38,41,47,43,48,42,49,44,50,45,51,46,52,77,78]
[null,13,19,15,20,14,21,16,22,17,23,18,24,39,40,53,59,55,60,54,61,56,62,57,63,58,64,79,80]
[null,25,31,27,32,26,33,28,34,29,35,30,36,null,null,65,71,67,72,66,73,68,74,69,75,70,76]
[2,10,11,5,12,6,16,7,13,8,14,9,15,1,2,50,51,45,52,46,56,47,53,48,54,49,55,41,42]
[null,23,24,18,25,19,17,20,26,21,27,22,28,3,4,63,64,58,65,59,57,60,66,61,67,62,68,43,44]
[null,36,37,31,38,32,30,33,39,34,40,35,29,null,null,76,77,71,78,72,70,73,79,74,80,75,69]
[3,28,21,26,24,27,20,25,18,19,22,23,17,13,14,68,61,66,64,67,60,65,58,59,62,63,57,53,54]
[null,39,32,37,35,38,31,36,29,30,33,34,40,15,16,79,72,77,75,78,71,76,69,70,73,74,80,55,56]
[null,12,5,10,8,11,4,9,2,3,6,7,1,null,null,52,45,50,48,51,44,49,42,43,46,47,41]
[4,10,7,34,14,8,37,12,1,31,32,33,2,27,28,50,47,74,54,48,77,52,41,71,72,73,42,67,68]
[null,20,17,6,23,18,9,22,11,13,4,5,3,29,30,60,57,46,63,58,49,62,51,53,44,45,43,69,70]
[null,38,35,16,39,36,19,40,21,24,26,15,25,null,null,78,75,56,79,76,59,80,61,64,66,55,65]
[null,"80 on 2 greens"]
[null,1,{"$nulls":8},2,{"$nulls":8},3,{"$nulls":8},4]
[null,"no","Left","rink","no","Right","rink","L","R",null,"no","Left","rink","no","Right","rink","L","R",null,"no","Left","rink","no","Right","rink","L","R",null,"no","Left","rink","no","Right","rink","L","R",null,1,null,2,null,3,null,4]
[null,1,"Left",{"$f":"$B$2","v":1},7,"Right",{"$f":"$B$2","v":1},{"$f":"(D18&\" \"&C18)","v":"1 Left"},{"$f":"(G18&\" \"&F18)","v":"1 Right"},null,10,"Left",{"$f":"$B$2","v":1},11,"Right",{"$f":"$B$2","v":1},{"$f":"(M18&\" \"&L18)","v":"1 Left"},{"$f":"(P18&\" \"&O18)","v":"1 Right"},null,28,"Left",{"$f":"$B$2","v":1},21,"Right",{"$f":"$B$2","v":1},{"$f":"(V18&\" \"&U18)","v":"1 Left"},{"$f":"(Y18&\" \"&X18)","v":"1 Right"},null,10,"Left",{"$f":"$B$2","v":1},7,"Right",{"$f":"$B$2","v":1},{"$f":"(AE18&\" \"&AD18)","v":"1 Left"},{"$f":"(AH18&\" \"&AG18)","v":"1 Right"}]
[null,13,"Left",{"$f":"$B$2","v":1},19,"Right",{"$f":"$B$2","v":1},"1 Left","1 Right",null,23,"Left",{"$f":"$B$2","v":1},24,"Right",{"$f":"$B$2","v":1},"1 Left","1 Right",null,39,"Left",{"$f":"$B$2","v":1},32,"Right",{"$f":"$B$2","v":1},"1 Left","1 Right",null,20,"Left",{"$f":"$B$2","v":1},17,"Right",{"$f":"$B$2","v":1},"1 Left","1 Right"]
[null,25,"Left",{"$f":"$B$2","v":1},31,"Right",{"$f":"$B$2","v":1},"1 Left","1 Right",null,36,"Left",{"$f":"$B$2","v":1},37,"Right",{"$f":"$B$2","v":1},"1 Left","1 Right",null,12,"Left",{"$f":"$B$2","v":1},5,"Right",{"$f":"$B$2","v":1},"1 Left","1 Right",null,38,"Left",{"$f":"$B$2","v":1},35,"Right",{"$f":"$B$2","v":1},"1 Left","1 Right"]
[null,3,"Left",{"$f":"$D$2","v":2},8,"Right",{"$f":"$D$2","v":2},"2 Left","2 Right",null,5,"Left",{"$f":"$D$2","v":2},12,"Right",{"$f":"$D$2","v":2},"2 Left","2 Right",null,26,"Left",{"$f":"$D$2","v":2},24,"Right",{"$f":"$D$2","v":2},"2 Left","2 Right",null,34,"Left",{"$f":"$D$2","v":2},14,"Right",{"$f":"$D$2","v":2},"2 Left","2 Right"]
[null,15,"Left",{"$f":"$D$2","v":2},20,"Right",{"$f":"$D$2","v":2},"2 Left","2 Right",null,18,"Left",{"$f":"$D$2","v":2},25,"Right",{"$f":"$D$2","v":2},"2 Left","2 Right",null,37,"Left",{"$f":"$D$2","v":2},35,"Right",{"$f":"$D$2","v":2},"2 Left","2 Right",null,6,"Left",{"$f":"$D$2","v":2},23,"Right",{"$f":"$D$2","v":2},"2 Left","2 Right"]
[null,27,"Left",{"$f":"$D$2","v":2},32,"Right",{"$f":"$D$2","v":2},"2 Left","2 Right",null,31,"Left",{"$f":"$D$2","v":2},38,"Right",{"$f":"$D$2","v":2},"2 Left","2 Right",null,10,"Left",{"$f":"$D$2","v":2},8,"Right",{"$f":"$D$2","v":2},"2 Left","2 Right",null,16,"Left",{"$f":"$D$2","v":2},39,"Right",{"$f":"$D$2","v":2},"2 Left","2 Right"]
[null,2,"Left",{"$f":"$F$2","v":3},9,"Right",{"$f":"$F$2","v":3},"3 Left","3 Right",null,6,"Left",{"$f":"$F$2","v":3},16,"Right",{"$f":"$F$2","v":3},"3 Left","3 Right",null,27,"Left",{"$f":"$F$2","v":3},20,"Right",{"$f":"$F$2","v":3},"3 Left","3 Right",null,8,"Left",{"$f":"$F$2","v":3},37,"Right",{"$f":"$F$2","v":3},"3 Left","3 Right"]
[null,14,"Left",{"$f":"$F$2","v":3},21,"Right",{"$f":"$F$2","v":3},"3 Left","3 Right",null,19,"Left",{"$f":"$F$2","v":3},17,"Right",{"$f":"$F$2","v":3},"3 Left","3 Right",null,38,"Left",{"$f":"$F$2","v":3},31,"Right",{"$f":"$F$2","v":3},"3 Left","3 Right",null,18,"Left",{"$f":"$F$2","v":3},9,"Right",{"$f":"$F$2","v":3},"3 Left","3 Right"]
[null,26,"Left",{"$f":"$F$2","v":3},33,"Right",{"$f":"$F$2","v":3},"3 Left","3 Right",null,32,"Left",{"$f":"$F$2","v":3},30,"Right",{"$f":"$F$2","v":3},"3 Left","3 Right",null,11,"Left",{"$f":"$F$2","v":3},4,"Right",{"$f":"$F$2","v":3},"3 Left","3 Right",null,36,"Left",{"$f":"$F$2","v":3},19,"Right",{"$f":"$F$2","v":3},"3 Left","3 Right"]
[null,4,"Left",{"$f":"$H$2","v":4},10,"Right",{"$f":"$H$2","v":4},"4 Left","4 Right",null,7,"Left",{"$f":"$H$2","v":4},13,"Right",{"$f":"$H$2","v":4},"4 Left","4 Right",null,25,"Left",{"$f":"$H$2","v":4},18,"Right",{"$f":"$H$2","v":4},"4 Left","4 Right",null,12,"Left",{"$f":"$H$2","v":4},1,"Right",{"$f":"$H$2","v":4},"4 Left","4 Right"]
[null,16,"Left",{"$f":"$H$2","v":4},22,"Right",{"$f":"$H$2","v":4},"4 Left","4 Right",null,20,"Left",{"$f":"$H$2","v":4},26,"Right",{"$f":"$H$2","v":4},"4 Left","4 Right",null,36,"Left",{"$f":"$H$2","v":4},29,"Right",{"$f":"$H$2","v":4},"4 Left","4 Right",null,22,"Left",{"$f":"$H$2","v":4},11,"Right",{"$f":"$H$2","v":4},"4 Left","4 Right"]
[null,28,"Left",{"$f":"$H$2","v":4},34,"Right",{"$f":"$H$2","v":4},"4 Left","4 Right",null,33,"Left",{"$f":"$H$2","v":4},39,"Right",{"$f":"$H$2","v":4},"4 Left","4 Right",null,9,"Left",{"$f":"$H$2","v":4},2,"Right",{"$f":"$H$2","v":4},"4 Left","4 Right",null,40,"Left",{"$f":"$H$2","v":4},21,"Right",{"$f":"$H$2","v":4},"4 Left","4 Right"]
[null,5,"Left",{"$f":"$J$2","v":5},11,"Right",{"$f":"$J$2","v":5},"5 Left","5 Right",null,8,"Left",{"$f":"$J$2","v":5},14,"Right",{"$f":"$J$2","v":5},"5 Left","5 Right",null,19,"Left",{"$f":"$J$2","v":5},22,"Right",{"$f":"$J$2","v":5},"5 Left","5 Right",null,31,"Left",{"$f":"$J$2","v":5},32,"Right",{"$f":"$J$2","v":5},"5 Left","5 Right"]
[null,17,"Left",{"$f":"$J$2","v":5},23,"Right",{"$f":"$J$2","v":5},"5 Left","5 Right",null,21,"Left",{"$f":"$J$2","v":5},27,"Right",{"$f":"$J$2","v":5},"5 Left","5 Right",null,30,"Left",{"$f":"$J$2","v":5},33,"Right",{"$f":"$J$2","v":5},"5 Left","5 Right",null,13,"Left",{"$f":"$J$2","v":5},4,"Right",{"$f":"$J$2","v":5},"5 Left","5 Right"]
[null,29,"Left",{"$f":"$J$2","v":5},35,"Right",{"$f":"$J$2","v":5},"5 Left","5 Right",null,34,"Left",{"$f":"$J$2","v":5},40,"Right",{"$f":"$J$2","v":5},"5 Left","5 Right",null,3,"Left",{"$f":"$J$2","v":5},6,"Right",{"$f":"$J$2","v":5},"5 Left","5 Right",null,24,"Left",{"$f":"$J$2","v":5},26,"Right",{"$f":"$J$2","v":5},"5 Left","5 Right"]
[null,6,"Left",{"$f":"$L$2","v":6},12,"Right",{"$f":"$L$2","v":6},"6 Left","6 Right",null,9,"Left",{"$f":"$L$2","v":6},15,"Right",{"$f":"$L$2","v":6},"6 Left","6 Right",null,23,"Left",{"$f":"$L$2","v":6},17,"Right",{"$f":"$L$2","v":6},"6 Left","6 Right",null,33,"Left",{"$f":"$L$2","v":6},2,"Right",{"$f":"$L$2","v":6},"6 Left","6 Right"]
[null,18,"Left",{"$f":"$L$2","v":6},24,"Right",{"$f":"$L$2","v":6},"6 Left","6 Right",null,22,"Left",{"$f":"$L$2","v":6},28,"Right",{"$f":"$L$2","v":6},"6 Left","6 Right",null,34,"Left",{"$f":"$L$2","v":6},40,"Right",{"$f":"$L$2","v":6},"6 Left","6 Right",null,5,"Left",{"$f":"$L$2","v":6},3,"Right",{"$f":"$L$2","v":6},"6 Left","6 Right"]
[null,30,"Left",{"$f":"$L$2","v":6},36,"Right",{"$f":"$L$2","v":6},"6 Left","6 Right",null,35,"Left",{"$f":"$L$2","v":6},29,"Right",{"$f":"$L$2","v":6},"6 Left","6 Right",null,7,"Left",{"$f":"$L$2","v":6},1,"Right",{"$f":"$L$2","v":6},"6 Left","6 Right",null,15,"Left",{"$f":"$L$2","v":6},25,"Right",{"$f":"$L$2","v":6},"6 Left","6 Right"]
[null,37,"Left",{"$f":"$N$2","v":7},38,"Right",{"$f":"$N$2","v":7},"7 Left","7 Right",null,1,"Left",{"$f":"$N$2","v":7},2,"Right",{"$f":"$N$2","v":7},"7 Left","7 Right",null,13,"Left",{"$f":"$N$2","v":7},14,"Right",{"$f":"$N$2","v":7},"7 Left","7 Right",null,27,"Left",{"$f":"$N$2","v":7},28,"Right",{"$f":"$N$2","v":7},"7 Left","7 Right"]
[null,39,"Left",{"$f":"$N$2","v":7},40,"Right",{"$f":"$N$2","v":7},"7 Left","7 Right",null,3,"Left",{"$f":"$N$2","v":7},4,"Right",{"$f":"$N$2","v":7},"7 Left","7 Right",null,15,"Left",{"$f":"$N$2","v":7},16,"Right",{"$f":"$N$2","v":7},"7 Left","7 Right",null,29,"Left",{"$f":"$N$2","v":7},30,"Right",{"$f":"$N$2","v":7},"7 Left","7 Right"]
[null,null,"Left",{"$f":"$N$2","v":7},null,"Right",{"$f":"$N$2","v":7},"7 Left","7 Right",null,null,"Left",{"$f":"$N$2","v":7},null,"Right",{"$f":"$N$2","v":7},"7 Left","7 Right",null,null,"Left",{"$f":"$N$2","v":7},null,"Right",{"$f":"$N$2","v":7},"7 Left","7 Right",null,null,"Left",{"$f":"$N$2","v":7},null,"Right",{"$f":"$N$2","v":7},"7 Left","7 Right"]
[null,41,"Left",{"$f":"$P$2","v":8},47,"Right",{"$f":"$P$2","v":8},"8 Left","8 Right",null,50,"Left",{"$f":"$P$2","v":8},51,"Right",{"$f":"$P$2","v":8},"8 Left","8 Right",null,68,"Left",{"$f":"$P$2","v":8},61,"Right",{"$f":"$P$2","v":8},"8 Left","8 Right",null,50,"Left",{"$f":"$P$2","v":8},47,"Right",{"$f":"$P$2","v":8},"8 Left","8 Right"]
[null,53,"Left",{"$f":"$P$2","v":8},59,"Right",{"$f":"$P$2","v":8},"8 Left","8 Right",null,63,"Left",{"$f":"$P$2","v":8},64,"Right",{"$f":"$P$2","v":8},"8 Left","8 Right",null,79,"Left",{"$f":"$P$2","v":8},72,"Right",{"$f":"$P$2","v":8},"8 Left","8 Right",null,60,"Left",{"$f":"$P$2","v":8},57,"Right",{"$f":"$P$2","v":8},"8 Left","8 Right"]
[null,65,"Left",{"$f":"$P$2","v":8},71,"Right",{"$f":"$P$2","v":8},"8 Left","8 Right",null,76,"Left",{"$f":"$P$2","v":8},77,"Right",{"$f":"$P$2","v":8},"8 Left","8 Right",null,52,"Left",{"$f":"$P$2","v":8},45,"Right",{"$f":"$P$2","v":8},"8 Left","8 Right",null,78,"Left",{"$f":"$P$2","v":8},75,"Right",{"$f":"$P$2","v":8},"8 Left","8 Right"]
[null,43,"Left",{"$f":"$R$2","v":9},48,"Right",{"$f":"$R$2","v":9},"9 Left","9 Right",null,45,"Left",{"$f":"$R$2","v":9},52,"Right",{"$f":"$R$2","v":9},"9 Left","9 Right",null,66,"Left",{"$f":"$R$2","v":9},64,"Right",{"$f":"$R$2","v":9},"9 Left","9 Right",null,74,"Left",{"$f":"$R$2","v":9},54,"Right",{"$f":"$R$2","v":9},"9 Left","9 Right"]
[null,55,"Left",{"$f":"$R$2","v":9},60,"Right",{"$f":"$R$2","v":9},"9 Left","9 Right",null,58,"Left",{"$f":"$R$2","v":9},65,"Right",{"$f":"$R$2","v":9},"9 Left","9 Right",null,77,"Left",{"$f":"$R$2","v":9},75,"Right",{"$f":"$R$2","v":9},"9 Left","9 Right",null,46,"Left",{"$f":"$R$2","v":9},63,"Right",{"$f":"$R$2","v":9},"9 Left","9 Right"]
[null,67,"Left",{"$f":"$R$2","v":9},72,"Right",{"$f":"$R$2","v":9},"9 Left","9 Right",null,71,"Left",{"$f":"$R$2","v":9},78,"Right",{"$f":"$R$2","v":9},"9 Left","9 Right",null,50,"Left",{"$f":"$R$2","v":9},48,"Right",{"$f":"$R$2","v":9},"9 Left","9 Right",null,56,"Left",{"$f":"$R$2","v":9},79,"Right",{"$f":"$R$2","v":9},"9 Left","9 Right"]
[null,42,"Left",{"$f":"$T$2","v":10},49,"Right",{"$f":"$T$2","v":10},"10 Left","10 Right",null,46,"Left",{"$f":"$T$2","v":10},56,"Right",{"$f":"$T$2","v":10},"10 Left","10 Right",null,67,"Left",{"$f":"$T$2","v":10},60,"Right",{"$f":"$T$2","v":10},"10 Left","10 Right",null,48,"Left",{"$f":"$T$2","v":10},77,"Right",{"$f":"$T$2","v":10},"10 Left","10 Right"]
[null,54,"Left",{"$f":"$T$2","v":10},61,"Right",{"$f":"$T$2","v":10},"10 Left","10 Right",null,59,"Left",{"$f":"$T$2","v":10},57,"Right",{"$f":"$T$2","v":10},"10 Left","10 Right",null,78,"Left",{"$f":"$T$2","v":10},71,"Right",{"$f":"$T$2","v":10},"10 Left","10 Right",null,58,"Left",{"$f":"$T$2","v":10},49,"Right",{"$f":"$T$2","v":10},"10 Left","10 Right"]
[null,66,"Left",{"$f":"$T$2","v":10},73,"Right",{"$f":"$T$2","v":10},"10 Left","10 Right",null,72,"Left",{"$f":"$T$2","v":10},70,"Right",{"$f":"$T$2","v":10},"10 Left","10 Right",null,51,"Left",{"$f":"$T$2","v":10},44,"Right",{"$f":"$T$2","v":10},"10 Left","10 Right",null,76,"Left",{"$f":"$T$2","v":10},59,"Right",{"$f":"$T$2","v":10},"10 Left","10 Right"]
[null,44,"Left",{"$f":"$V$2","v":11},50,"Right",{"$f":"$V$2","v":11},"11 Left","11 Right",null,47,"Left",{"$f":"$V$2","v":11},53,"Right",{"$f":"$V$2","v":11},"11 Left","11 Right",null,65,"Left",{"$f":"$V$2","v":11},58,"Right",{"$f":"$V$2","v":11},"11 Left","11 Right",null,52,"Left",{"$f":"$V$2","v":11},41,"Right",{"$f":"$V$2","v":11},"11 Left","11 Right"]
[null,56,"Left",{"$f":"$V$2","v":11},62,"Right",{"$f":"$V$2","v":11},"11 Left","11 Right",null,60,"Left",{"$f":"$V$2","v":11},66,"Right",{"$f":"$V$2","v":11},"11 Left","11 Right",null,76,"Left",{"$f":"$V$2","v":11},69,"Right",{"$f":"$V$2","v":11},"11 Left","11 Right",null,62,"Left",{"$f":"$V$2","v":11},51,"Right",{"$f":"$V$2","v":11},"11 Left","11 Right"]
[null,68,"Left",{"$f":"$V$2","v":11},74,"Right",{"$f":"$V$2","v":11},"11 Left","11 Right",null,73,"Left",{"$f":"$V$2","v":11},79,"Right",{"$f":"$V$2","v":11},"11 Left","11 Right",null,49,"Left",{"$f":"$V$2","v":11},42,"Right",{"$f":"$V$2","v":11},"11 Left","11 Right",null,80,"Left",{"$f":"$V$2","v":11},61,"Right",{"$f":"$V$2","v":11},"11 Left","11 Right"]
[null,45,"Left",{"$f":"$X$2","v":12},51,"Right",{"$f":"$X$2","v":12},"12 Left","12 Right",null,48,"Left",{"$f":"$X$2","v":12},54,"Right",{"$f":"$X$2","v":12},"12 Left","12 Right",null,59,"Left",{"$f":"$X$2","v":12},62,"Right",{"$f":"$X$2","v":12},"12 Left","12 Right",null,71,"Left",{"$f":"$X$2","v":12},72,"Right",{"$f":"$X$2","v":12},"12 Left","12 Right"]
[null,57,"Left",{"$f":"$X$2","v":12},63,"Right",{"$f":"$X$2","v":12},"12 Left","12 Right",null,61,"Left",{"$f":"$X$2","v":12},67,"Right",{"$f":"$X$2","v":12},"12 Left","12 Right",null,70,"Left",{"$f":"$X$2","v":12},73,"Right",{"$f":"$X$2","v":12},"12 Left","12 Right",null,53,"Left",{"$f":"$X$2","v":12},44,"Right",{"$f":"$X$2","v":12},"12 Left","12 Right"]
[null,69,"Left",{"$f":"$X$2","v":12},75,"Right",{"$f":"$X$2","v":12},"12 Left","12 Right",null,74,"Left",{"$f":"$X$2","v":12},80,"Right",{"$f":"$X$2","v":12},"12 Left","12 Right",null,43,"Left",{"$f":"$X$2","v":12},46,"Right",{"$f":"$X$2","v":12},"12 Left","12 Right",null,64,"Left",{"$f":"$X$2","v":12},66,"Right",{"$f":"$X$2","v":12},"12 Left","12 Right"]
[null,46,"Left",{"$f":"$Z$2","v":13},52,"Right",{"$f":"$Z$2","v":13},"13 Left","13 Right",null,49,"Left",{"$f":"$Z$2","v":13},55,"Right",{"$f":"$Z$2","v":13},"13 Left","13 Right",null,63,"Left",{"$f":"$Z$2","v":13},57,"Right",{"$f":"$Z$2","v":13},"13 Left","13 Right",null,73,"Left",{"$f":"$Z$2","v":13},42,"Right",{"$f":"$Z$2","v":13},"13 Left","13 Right"]
[null,58,"Left",{"$f":"$Z$2","v":13},64,"Right",{"$f":"$Z$2","v":13},"13 Left","13 Right",null,62,"Left",{"$f":"$Z$2","v":13},68,"Right",{"$f":"$Z$2","v":13},"13 Left","13 Right",null,74,"Left",{"$f":"$Z$2","v":13},80,"Right",{"$f":"$Z$2","v":13},"13 Left","13 Right",null,45,"Left",{"$f":"$Z$2","v":13},43,"Right",{"$f":"$Z$2","v":13},"13 Left","13 Right"]
[null,70,"Left",{"$f":"$Z$2","v":13},76,"Right",{"$f":"$Z$2","v":13},"13 Left","13 Right",null,75,"Left",{"$f":"$Z$2","v":13},69,"Right",{"$f":"$Z$2","v":13},"13 Left","13 Right",null,47,"Left",{"$f":"$Z$2","v":13},41,"Right",{"$f":"$Z$2","v":13},"13 Left","13 Right",null,55,"Left",{"$f":"$Z$2","v":13},65,"Right",{"$f":"$Z$2","v":13},"13 Left","13 Right"]
[null,77,"Left",{"$f":"$AB$2","v":14},78,"Right",{"$f":"$AB$2","v":14},"14 Left","14 Right",null,41,"Left",{"$f":"$AB$2","v":14},42,"Right",{"$f":"$AB$2","v":14},"14 Left","14 Right",null,53,"Left",{"$f":"$AB$2","v":14},54,"Right",{"$f":"$AB$2","v":14},"14 Left","14 Right",null,67,"Left",{"$f":"$AB$2","v":14},68,"Right",{"$f":"$AB$2","v":14},"14 Left","14 Right"]
[null,79,"Left",{"$f":"$AB$2","v":14},80,"Right",{"$f":"$AB$2","v":14},"14 Left","14 Right",null,43,"Left",{"$f":"$AB$2","v":14},44,"Right",{"$f":"$AB$2","v":14},"14 Left","14 Right",null,55,"Left",{"$f":"$AB$2","v":14},56,"Right",{"$f":"$AB$2","v":14},"14 Left","14 Right",null,69,"Left",{"$f":"$AB$2","v":14},70,"Right",{"$f":"$AB$2","v":14},"14 Left","14 Right"]
[null,null,"Left",{"$f":"$AB$2","v":14},null,"Right",{"$f":"$AB$2","v":14},"14 Left","14 Right",null,null,"Left",{"$f":"$AB$2","v":14},null,"Right",{"$f":"$AB$2","v":14},"14 Left","14 Right",null,null,"Left",{"$f":"$AB$2","v":14},null,"Right",{"$f":"$AB$2","v":14},"14 Left","14 Right",null,null,"Left",{"$f":"$AB$2","v":14},null,"Right",{"$f":"$AB$2","v":14},"14 Left","14 Right"]

{"sheet":"82","index":39,"n_rows":101,"n_cols":45,"rows_kept":101,"hidden":true,"merged":[[0,1,0,28],[1,1,1,2],[1,3,1,4],[1,5,1,6],[1,7,1,8],[1,9,1,10],[1,11,1,12],[1,13,1,14],[1,15,1,16],[1,17,1,18],[1,19,1,20],[1,21,1,22],[1,23,1,24],[1,25,1,26],[1,27,1,28],[2,0,4,0],[5,0,7,0],[8,0,10,0],[11,0,13,0],[14,1,14,26],[15,1,15,6],[15,10,15,15],[15,19,15,24],[15,28,15,33],[16,37,16,38],[16,39,16,40],[16,41,16,42],[16,43,16,44]]}
[null,"YOU MAY CHANGE THESE RINK NUMBERS IF YOU WISH"]
["Round",1,null,2,2,3,3,4,4,5,5,6,6,7,7,8,null,9,null,10,null,11,null,12,null,13,null,14]
[1,1,2,3,4,5,6,7,8,9,10,11,12,13,14,43,49,45,50,44,51,46,52,47,53,48,54,79,80]
[null,15,16,17,18,19,20,21,22,23,24,25,26,27,28,55,61,57,62,56,63,58,64,59,65,60,66,81,82]
[null,29,30,31,32,33,34,35,36,37,38,39,40,41,42,67,73,69,74,68,75,70,76,71,77,72,78]
[2,7,14,1,13,2,11,3,10,29,12,5,9,6,8,52,53,47,54,48,58,49,55,50,56,51,57,43,44]
[null,20,27,28,26,15,24,16,23,17,25,18,22,19,21,65,66,60,67,61,59,62,68,63,69,64,70,45,46]
[null,36,4,30,42,31,40,32,39,33,41,34,38,35,37,78,79,73,80,74,72,75,81,76,82,77,71]
[3,5,11,8,10,9,13,14,1,4,6,7,2,12,3,70,63,68,66,69,62,67,60,61,64,65,59,55,56]
[null,17,23,20,22,21,25,26,27,16,18,19,28,24,15,81,74,79,77,80,73,78,71,72,75,76,82,57,58]
[null,35,41,38,40,39,29,30,31,34,36,37,32,42,33,54,47,52,50,53,46,51,44,45,48,49,43]
[4,3,8,2,12,1,7,6,9,11,13,4,10,5,14,52,49,76,56,50,79,54,43,73,74,75,44,69,70]
[null,28,19,27,23,26,18,17,20,22,24,15,21,16,25,62,59,48,65,60,51,64,53,55,46,47,45,71,72]
[null,34,39,33,29,32,38,37,40,42,30,35,41,36,31,80,77,58,81,78,61,82,63,66,68,57,67]
[null,"82 on 2 greens"]
[null,1,{"$nulls":8},2,{"$nulls":8},3,{"$nulls":8},4]
[null,"no","Left","rink","no","Right","rink","L","R",null,"no","Left","rink","no","Right","rink","L","R",null,"no","Left","rink","no","Right","rink","L","R",null,"no","Left","rink","no","Right","rink","L","R",null,1,null,2,null,3,null,4]
[null,1,"Left",{"$f":"$B$2","v":1},2,"Right",{"$f":"$B$2","v":1},{"$f":"(D18&\" \"&C18)","v":"1 Left"},{"$f":"(G18&\" \"&F18)","v":"1 Right"},null,7,"Left",{"$f":"$B$2","v":1},14,"Right",{"$f":"$B$2","v":1},{"$f":"(M18&\" \"&L18)","v":"1 Left"},{"$f":"(P18&\" \"&O18)","v":"1 Right"},null,5,"Left",{"$f":"$B$2","v":1},11,"Right",{"$f":"$B$2","v":1},{"$f":"(V18&\" \"&U18)","v":"1 Left"},{"$f":"(Y18&\" \"&X18)","v":"1 Right"},null,3,"Left",{"$f":"$B$2","v":1},8,"Right",{"$f":"$B$2","v":1},{"$f":"(AE18&\" \"&AD18)","v":"1 Left"},{"$f":"(AH18&\" \"&AG18)","v":"1 Right"}]
[null,15,"Left",{"$f":"$B$2","v":1},16,"Right",{"$f":"$B$2","v":1},"1 Left","1 Right",null,20,"Left",{"$f":"$B$2","v":1},27,"Right",{"$f":"$B$2","v":1},"1 Left","1 Right",null,17,"Left",{"$f":"$B$2","v":1},23,"Right",{"$f":"$B$2","v":1},"1 Left","1 Right",null,28,"Left",{"$f":"$B$2","v":1},19,"Right",{"$f":"$B$2","v":1},"1 Left","1 Right"]
[null,29,"Left",{"$f":"$B$2","v":1},30,"Right",{"$f":"$B$2","v":1},"1 Left","1 Right",null,36,"Left",{"$f":"$B$2","v":1},4,"Right",{"$f":"$B$2","v":1},"1 Left","1 Right",null,35,"Left",{"$f":"$B$2","v":1},41,"Right",{"$f":"$B$2","v":1},"1 Left","1 Right",null,34,"Left",{"$f":"$B$2","v":1},39,"Right",{"$f":"$B$2","v":1},"1 Left","1 Right"]
[null,3,"Left",{"$f":"$D$2","v":2},4,"Right",{"$f":"$D$2","v":2},"2 Left","2 Right",null,1,"Left",{"$f":"$D$2","v":2},13,"Right",{"$f":"$D$2","v":2},"2 Left","2 Right",null,8,"Left",{"$f":"$D$2","v":2},10,"Right",{"$f":"$D$2","v":2},"2 Left","2 Right",null,2,"Left",{"$f":"$D$2","v":2},12,"Right",{"$f":"$D$2","v":2},"2 Left","2 Right"]
[null,17,"Left",{"$f":"$D$2","v":2},18,"Right",{"$f":"$D$2","v":2},"2 Left","2 Right",null,28,"Left",{"$f":"$D$2","v":2},26,"Right",{"$f":"$D$2","v":2},"2 Left","2 Right",null,20,"Left",{"$f":"$D$2","v":2},22,"Right",{"$f":"$D$2","v":2},"2 Left","2 Right",null,27,"Left",{"$f":"$D$2","v":2},23,"Right",{"$f":"$D$2","v":2},"2 Left","2 Right"]
[null,31,"Left",{"$f":"$D$2","v":2},32,"Right",{"$f":"$D$2","v":2},"2 Left","2 Right",null,30,"Left",{"$f":"$D$2","v":2},42,"Right",{"$f":"$D$2","v":2},"2 Left","2 Right",null,38,"Left",{"$f":"$D$2","v":2},40,"Right",{"$f":"$D$2","v":2},"2 Left","2 Right",null,33,"Left",{"$f":"$D$2","v":2},29,"Right",{"$f":"$D$2","v":2},"2 Left","2 Right"]
[null,5,"Left",{"$f":"$F$2","v":3},6,"Right",{"$f":"$F$2","v":3},"3 Left","3 Right",null,2,"Left",{"$f":"$F$2","v":3},11,"Right",{"$f":"$F$2","v":3},"3 Left","3 Right",null,9,"Left",{"$f":"$F$2","v":3},13,"Right",{"$f":"$F$2","v":3},"3 Left","3 Right",null,1,"Left",{"$f":"$F$2","v":3},7,"Right",{"$f":"$F$2","v":3},"3 Left","3 Right"]
[null,19,"Left",{"$f":"$F$2","v":3},20,"Right",{"$f":"$F$2","v":3},"3 Left","3 Right",null,15,"Left",{"$f":"$F$2","v":3},24,"Right",{"$f":"$F$2","v":3},"3 Left","3 Right",null,21,"Left",{"$f":"$F$2","v":3},25,"Right",{"$f":"$F$2","v":3},"3 Left","3 Right",null,26,"Left",{"$f":"$F$2","v":3},18,"Right",{"$f":"$F$2","v":3},"3 Left","3 Right"]
[null,33,"Left",{"$f":"$F$2","v":3},34,"Right",{"$f":"$F$2","v":3},"3 Left","3 Right",null,31,"Left",{"$f":"$F$2","v":3},40,"Right",{"$f":"$F$2","v":3},"3 Left","3 Right",null,39,"Left",{"$f":"$F$2","v":3},29,"Right",{"$f":"$F$2","v":3},"3 Left","3 Right",null,32,"Left",{"$f":"$F$2","v":3},38,"Right",{"$f":"$F$2","v":3},"3 Left","3 Right"]
[null,7,"Left",{"$f":"$H$2","v":4},8,"Right",{"$f":"$H$2","v":4},"4 Left","4 Right",null,3,"Left",{"$f":"$H$2","v":4},10,"Right",{"$f":"$H$2","v":4},"4 Left","4 Right",null,14,"Left",{"$f":"$H$2","v":4},1,"Right",{"$f":"$H$2","v":4},"4 Left","4 Right",null,6,"Left",{"$f":"$H$2","v":4},9,"Right",{"$f":"$H$2","v":4},"4 Left","4 Right"]
[null,21,"Left",{"$f":"$H$2","v":4},22,"Right",{"$f":"$H$2","v":4},"4 Left","4 Right",null,16,"Left",{"$f":"$H$2","v":4},23,"Right",{"$f":"$H$2","v":4},"4 Left","4 Right",null,26,"Left",{"$f":"$H$2","v":4},27,"Right",{"$f":"$H$2","v":4},"4 Left","4 Right",null,17,"Left",{"$f":"$H$2","v":4},20,"Right",{"$f":"$H$2","v":4},"4 Left","4 Right"]
[null,35,"Left",{"$f":"$H$2","v":4},36,"Right",{"$f":"$H$2","v":4},"4 Left","4 Right",null,32,"Left",{"$f":"$H$2","v":4},39,"Right",{"$f":"$H$2","v":4},"4 Left","4 Right",null,30,"Left",{"$f":"$H$2","v":4},31,"Right",{"$f":"$H$2","v":4},"4 Left","4 Right",null,37,"Left",{"$f":"$H$2","v":4},40,"Right",{"$f":"$H$2","v":4},"4 Left","4 Right"]
[null,9,"Left",{"$f":"$J$2","v":5},10,"Right",{"$f":"$J$2","v":5},"5 Left","5 Right",null,29,"Left",{"$f":"$J$2","v":5},12,"Right",{"$f":"$J$2","v":5},"5 Left","5 Right",null,4,"Left",{"$f":"$J$2","v":5},6,"Right",{"$f":"$J$2","v":5},"5 Left","5 Right",null,11,"Left",{"$f":"$J$2","v":5},13,"Right",{"$f":"$J$2","v":5},"5 Left","5 Right"]
[null,23,"Left",{"$f":"$J$2","v":5},24,"Right",{"$f":"$J$2","v":5},"5 Left","5 Right",null,17,"Left",{"$f":"$J$2","v":5},25,"Right",{"$f":"$J$2","v":5},"5 Left","5 Right",null,16,"Left",{"$f":"$J$2","v":5},18,"Right",{"$f":"$J$2","v":5},"5 Left","5 Right",null,22,"Left",{"$f":"$J$2","v":5},24,"Right",{"$f":"$J$2","v":5},"5 Left","5 Right"]
[null,37,"Left",{"$f":"$J$2","v":5},38,"Right",{"$f":"$J$2","v":5},"5 Left","5 Right",null,33,"Left",{"$f":"$J$2","v":5},41,"Right",{"$f":"$J$2","v":5},"5 Left","5 Right",null,34,"Left",{"$f":"$J$2","v":5},36,"Right",{"$f":"$J$2","v":5},"5 Left","5 Right",null,42,"Left",{"$f":"$J$2","v":5},30,"Right",{"$f":"$J$2","v":5},"5 Left","5 Right"]
[null,11,"Left",{"$f":"$L$2","v":6},12,"Right",{"$f":"$L$2","v":6},"6 Left","6 Right",null,5,"Left",{"$f":"$L$2","v":6},9,"Right",{"$f":"$L$2","v":6},"6 Left","6 Right",null,7,"Left",{"$f":"$L$2","v":6},2,"Right",{"$f":"$L$2","v":6},"6 Left","6 Right",null,4,"Left",{"$f":"$L$2","v":6},10,"Right",{"$f":"$L$2","v":6},"6 Left","6 Right"]
[null,25,"Left",{"$f":"$L$2","v":6},26,"Right",{"$f":"$L$2","v":6},"6 Left","6 Right",null,18,"Left",{"$f":"$L$2","v":6},22,"Right",{"$f":"$L$2","v":6},"6 Left","6 Right",null,19,"Left",{"$f":"$L$2","v":6},28,"Right",{"$f":"$L$2","v":6},"6 Left","6 Right",null,15,"Left",{"$f":"$L$2","v":6},21,"Right",{"$f":"$L$2","v":6},"6 Left","6 Right"]
[null,39,"Left",{"$f":"$L$2","v":6},40,"Right",{"$f":"$L$2","v":6},"6 Left","6 Right",null,34,"Left",{"$f":"$L$2","v":6},38,"Right",{"$f":"$L$2","v":6},"6 Left","6 Right",null,37,"Left",{"$f":"$L$2","v":6},32,"Right",{"$f":"$L$2","v":6},"6 Left","6 Right",null,35,"Left",{"$f":"$L$2","v":6},41,"Right",{"$f":"$L$2","v":6},"6 Left","6 Right"]
[null,13,"Left",{"$f":"$N$2","v":7},14,"Right",{"$f":"$N$2","v":7},"7 Left","7 Right",null,6,"Left",{"$f":"$N$2","v":7},8,"Right",{"$f":"$N$2","v":7},"7 Left","7 Right",null,12,"Left",{"$f":"$N$2","v":7},3,"Right",{"$f":"$N$2","v":7},"7 Left","7 Right",null,5,"Left",{"$f":"$N$2","v":7},14,"Right",{"$f":"$N$2","v":7},"7 Left","7 Right"]
[null,27,"Left",{"$f":"$N$2","v":7},28,"Right",{"$f":"$N$2","v":7},"7 Left","7 Right",null,19,"Left",{"$f":"$N$2","v":7},21,"Right",{"$f":"$N$2","v":7},"7 Left","7 Right",null,24,"Left",{"$f":"$N$2","v":7},15,"Right",{"$f":"$N$2","v":7},"7 Left","7 Right",null,16,"Left",{"$f":"$N$2","v":7},25,"Right",{"$f":"$N$2","v":7},"7 Left","7 Right"]
[null,41,"Left",{"$f":"$N$2","v":7},42,"Right",{"$f":"$N$2","v":7},"7 Left","7 Right",null,35,"Left",{"$f":"$N$2","v":7},37,"Right",{"$f":"$N$2","v":7},"7 Left","7 Right",null,42,"Left",{"$f":"$N$2","v":7},33,"Right",{"$f":"$N$2","v":7},"7 Left","7 Right",null,36,"Left",{"$f":"$N$2","v":7},31,"Right",{"$f":"$N$2","v":7},"7 Left","7 Right"]
[null,43,"Left",{"$f":"$P$2","v":8},49,"Right",{"$f":"$P$2","v":8},"8 Left","8 Right",null,52,"Left",{"$f":"$P$2","v":8},53,"Right",{"$f":"$P$2","v":8},"8 Left","8 Right",null,70,"Left",{"$f":"$P$2","v":8},63,"Right",{"$f":"$P$2","v":8},"8 Left","8 Right",null,52,"Left",{"$f":"$P$2","v":8},49,"Right",{"$f":"$P$2","v":8},"8 Left","8 Right"]
[null,55,"Left",{"$f":"$P$2","v":8},61,"Right",{"$f":"$P$2","v":8},"8 Left","8 Right",null,65,"Left",{"$f":"$P$2","v":8},66,"Right",{"$f":"$P$2","v":8},"8 Left","8 Right",null,81,"Left",{"$f":"$P$2","v":8},74,"Right",{"$f":"$P$2","v":8},"8 Left","8 Right",null,62,"Left",{"$f":"$P$2","v":8},59,"Right",{"$f":"$P$2","v":8},"8 Left","8 Right"]
[null,67,"Left",{"$f":"$P$2","v":8},73,"Right",{"$f":"$P$2","v":8},"8 Left","8 Right",null,78,"Left",{"$f":"$P$2","v":8},79,"Right",{"$f":"$P$2","v":8},"8 Left","8 Right",null,54,"Left",{"$f":"$P$2","v":8},47,"Right",{"$f":"$P$2","v":8},"8 Left","8 Right",null,80,"Left",{"$f":"$P$2","v":8},77,"Right",{"$f":"$P$2","v":8},"8 Left","8 Right"]
[null,45,"Left",{"$f":"$R$2","v":9},50,"Right",{"$f":"$R$2","v":9},"9 Left","9 Right",null,47,"Left",{"$f":"$R$2","v":9},54,"Right",{"$f":"$R$2","v":9},"9 Left","9 Right",null,68,"Left",{"$f":"$R$2","v":9},66,"Right",{"$f":"$R$2","v":9},"9 Left","9 Right",null,76,"Left",{"$f":"$R$2","v":9},56,"Right",{"$f":"$R$2","v":9},"9 Left","9 Right"]
[null,57,"Left",{"$f":"$R$2","v":9},62,"Right",{"$f":"$R$2","v":9},"9 Left","9 Right",null,60,"Left",{"$f":"$R$2","v":9},67,"Right",{"$f":"$R$2","v":9},"9 Left","9 Right",null,79,"Left",{"$f":"$R$2","v":9},77,"Right",{"$f":"$R$2","v":9},"9 Left","9 Right",null,48,"Left",{"$f":"$R$2","v":9},65,"Right",{"$f":"$R$2","v":9},"9 Left","9 Right"]
[null,69,"Left",{"$f":"$R$2","v":9},74,"Right",{"$f":"$R$2","v":9},"9 Left","9 Right",null,73,"Left",{"$f":"$R$2","v":9},80,"Right",{"$f":"$R$2","v":9},"9 Left","9 Right",null,52,"Left",{"$f":"$R$2","v":9},50,"Right",{"$f":"$R$2","v":9},"9 Left","9 Right",null,58,"Left",{"$f":"$R$2","v":9},81,"Right",{"$f":"$R$2","v":9},"9 Left","9 Right"]
[null,44,"Left",{"$f":"$T$2","v":10},51,"Right",{"$f":"$T$2","v":10},"10 Left","10 Right",null,48,"Left",{"$f":"$T$2","v":10},58,"Right",{"$f":"$T$2","v":10},"10 Left","10 Right",null,69,"Left",{"$f":"$T$2","v":10},62,"Right",{"$f":"$T$2","v":10},"10 Left","10 Right",null,50,"Left",{"$f":"$T$2","v":10},79,"Right",{"$f":"$T$2","v":10},"10 Left","10 Right"]
[null,56,"Left",{"$f":"$T$2","v":10},63,"Right",{"$f":"$T$2","v":10},"10 Left","10 Right",null,61,"Left",{"$f":"$T$2","v":10},59,"Right",{"$f":"$T$2","v":10},"10 Left","10 Right",null,80,"Left",{"$f":"$T$2","v":10},73,"Right",{"$f":"$T$2","v":10},"10 Left","10 Right",null,60,"Left",{"$f":"$T$2","v":10},51,"Right",{"$f":"$T$2","v":10},"10 Left","10 Right"]
[null,68,"Left",{"$f":"$T$2","v":10},75,"Right",{"$f":"$T$2","v":10},"10 Left","10 Right",null,74,"Left",{"$f":"$T$2","v":10},72,"Right",{"$f":"$T$2","v":10},"10 Left","10 Right",null,53,"Left",{"$f":"$T$2","v":10},46,"Right",{"$f":"$T$2","v":10},"10 Left","10 Right",null,78,"Left",{"$f":"$T$2","v":10},61,"Right",{"$f":"$T$2","v":10},"10 Left","10 Right"]
[null,46,"Left",{"$f":"$V$2","v":11},52,"Right",{"$f":"$V$2","v":11},"11 Left","11 Right",null,49,"Left",{"$f":"$V$2","v":11},55,"Right",{"$f":"$V$2","v":11},"11 Left","11 Right",null,67,"Left",{"$f":"$V$2","v":11},60,"Right",{"$f":"$V$2","v":11},"11 Left","11 Right",null,54,"Left",{"$f":"$V$2","v":11},43,"Right",{"$f":"$V$2","v":11},"11 Left","11 Right"]
[null,58,"Left",{"$f":"$V$2","v":11},64,"Right",{"$f":"$V$2","v":11},"11 Left","11 Right",null,62,"Left",{"$f":"$V$2","v":11},68,"Right",{"$f":"$V$2","v":11},"11 Left","11 Right",null,78,"Left",{"$f":"$V$2","v":11},71,"Right",{"$f":"$V$2","v":11},"11 Left","11 Right",null,64,"Left",{"$f":"$V$2","v":11},53,"Right",{"$f":"$V$2","v":11},"11 Left","11 Right"]
[null,70,"Left",{"$f":"$V$2","v":11},76,"Right",{"$f":"$V$2","v":11},"11 Left","11 Right",null,75,"Left",{"$f":"$V$2","v":11},81,"Right",{"$f":"$V$2","v":11},"11 Left","11 Right",null,51,"Left",{"$f":"$V$2","v":11},44,"Right",{"$f":"$V$2","v":11},"11 Left","11 Right",null,82,"Left",{"$f":"$V$2","v":11},63,"Right",{"$f":"$V$2","v":11},"11 Left","11 Right"]
[null,47,"Left",{"$f":"$X$2","v":12},53,"Right",{"$f":"$X$2","v":12},"12 Left","12 Right",null,50,"Left",{"$f":"$X$2","v":12},56,"Right",{"$f":"$X$2","v":12},"12 Left","12 Right",null,61,"Left",{"$f":"$X$2","v":12},64,"Right",{"$f":"$X$2","v":12},"12 Left","12 Right",null,73,"Left",{"$f":"$X$2","v":12},74,"Right",{"$f":"$X$2","v":12},"12 Left","12 Right"]
[null,59,"Left",{"$f":"$X$2","v":12},65,"Right",{"$f":"$X$2","v":12},"12 Left","12 Right",null,63,"Left",{"$f":"$X$2","v":12},69,"Right",{"$f":"$X$2","v":12},"12 Left","12 Right",null,72,"Left",{"$f":"$X$2","v":12},75,"Right",{"$f":"$X$2","v":12},"12 Left","12 Right",null,55,"Left",{"$f":"$X$2","v":12},46,"Right",{"$f":"$X$2","v":12},"12 Left","12 Right"]
[null,71,"Left",{"$f":"$X$2","v":12},77,"Right",{"$f":"$X$2","v":12},"12 Left","12 Right",null,76,"Left",{"$f":"$X$2","v":12},82,"Right",{"$f":"$X$2","v":12},"12 Left","12 Right",null,45,"Left",{"$f":"$X$2","v":12},48,"Right",{"$f":"$X$2","v":12},"12 Left","12 Right",null,66,"Left",{"$f":"$X$2","v":12},68,"Right",{"$f":"$X$2","v":12},"12 Left","12 Right"]
[null,48,"Left",{"$f":"$Z$2","v":13},54,"Right",{"$f":"$Z$2","v":13},"13 Left","13 Right",null,51,"Left",{"$f":"$Z$2","v":13},57,"Right",{"$f":"$Z$2","v":13},"13 Left","13 Right",null,65,"Left",{"$f":"$Z$2","v":13},59,"Right",{"$f":"$Z$2","v":13},"13 Left","13 Right",null,75,"Left",{"$f":"$Z$2","v":13},44,"Right",{"$f":"$Z$2","v":13},"13 Left","13 Right"]
[null,60,"Left",{"$f":"$Z$2","v":13},66,"Right",{"$f":"$Z$2","v":13},"13 Left","13 Right",null,64,"Left",{"$f":"$Z$2","v":13},70,"Right",{"$f":"$Z$2","v":13},"13 Left","13 Right",null,76,"Left",{"$f":"$Z$2","v":13},82,"Right",{"$f":"$Z$2","v":13},"13 Left","13 Right",null,47,"Left",{"$f":"$Z$2","v":13},45,"Right",{"$f":"$Z$2","v":13},"13 Left","13 Right"]
[null,72,"Left",{"$f":"$Z$2","v":13},78,"Right",{"$f":"$Z$2","v":13},"13 Left","13 Right",null,77,"Left",{"$f":"$Z$2","v":13},71,"Right",{"$f":"$Z$2","v":13},"13 Left","13 Right",null,49,"Left",{"$f":"$Z$2","v":13},43,"Right",{"$f":"$Z$2","v":13},"13 Left","13 Right",null,57,"Left",{"$f":"$Z$2","v":13},67,"Right",{"$f":"$Z$2","v":13},"13 Left","13 Right"]
[null,79,"Left",{"$f":"$AB$2","v":14},80,"Right",{"$f":"$AB$2","v":14},"14 Left","14 Right",null,43,"Left",{"$f":"$AB$2","v":14},44,"Right",{"$f":"$AB$2","v":14},"14 Left","14 Right",null,55,"Left",{"$f":"$AB$2","v":14},56,"Right",{"$f":"$AB$2","v":14},"14 Left","14 Right",null,69,"Left",{"$f":"$AB$2","v":14},70,"Right",{"$f":"$AB$2","v":14},"14 Left","14 Right"]
[null,81,"Left",{"$f":"$AB$2","v":14},82,"Right",{"$f":"$AB$2","v":14},"14 Left","14 Right",null,45,"Left",{"$f":"$AB$2","v":14},46,"Right",{"$f":"$AB$2","v":14},"14 Left","14 Right",null,57,"Left",{"$f":"$AB$2","v":14},58,"Right",{"$f":"$AB$2","v":14},"14 Left","14 Right",null,71,"Left",{"$f":"$AB$2","v":14},72,"Right",{"$f":"$AB$2","v":14},"14 Left","14 Right"]
[null,null,"Left",{"$f":"$AB$2","v":14},null,"Right",{"$f":"$AB$2","v":14},"14 Left","14 Right",null,null,"Left",{"$f":"$AB$2","v":14},null,"Right",{"$f":"$AB$2","v":14},"14 Left","14 Right",null,null,"Left",{"$f":"$AB$2","v":14},null,"Right",{"$f":"$AB$2","v":14},"14 Left","14 Right",null,null,"Left",{"$f":"$AB$2","v":14},null,"Right",{"$f":"$AB$2","v":14},"14 Left","14 Right"]
{"$rows_empty":40}
[{"$nulls":37},{"$f":"$B$59","v":0},{"$f":"$H$59","v":"14 Left"},{"$f":"$K$59","v":0},{"$f":"$Q$59","v":"14 Left"},{"$f":"$T$59","v":0},{"$f":"$Z$59","v":"14 Left"},{"$f":"$AC$59","v":0},{"$f":"$AI$59","v":"14 Left"}]
[{"$nulls":37},{"$f":"$E$59","v":0},{"$f":"$I$59","v":"14 Right"},{"$f":"$N$59","v":0},{"$f":"$R$59","v":"14 Right"},{"$f":"$W$59","v":0},{"$f":"$AA$59","v":"14 Right"},{"$f":"$AF$59","v":0},{"$f":"$AJ$59","v":"14 Right"}]

{"sheet":"84","index":40,"n_rows":59,"n_cols":44,"rows_kept":59,"hidden":true,"merged":[[0,1,0,28],[1,1,1,2],[1,3,1,4],[1,5,1,6],[1,7,1,8],[1,9,1,10],[1,11,1,12],[1,13,1,14],[1,15,1,16],[1,17,1,18],[1,19,1,20],[1,21,1,22],[1,23,1,24],[1,25,1,26],[1,27,1,28],[2,0,4,0],[5,0,7,0],[8,0,10,0],[11,0,13,0],[14,1,14,28],[15,1,15,6],[15,10,15,15],[15,19,15,24],[15,28,15,33],[16,37,16,38],[16,39,16,40],[16,41,16,42],[16,43,16,44]]}
[null,"YOU MAY CHANGE THESE RINK NUMBERS IF YOU WISH"]
["Round",1,null,2,2,3,3,4,4,5,5,6,6,7,7,8,null,9,null,10,null,11,null,12,null,13,null,14]
[1,1,2,3,4,5,6,7,8,9,10,11,12,13,14,43,44,45,46,47,48,49,50,51,52,53,54,55,56]
[null,15,16,17,18,19,20,21,22,23,24,25,26,27,28,57,58,59,60,61,62,63,64,65,66,67,68,69,70]
[null,29,30,31,32,33,34,35,36,37,38,39,40,41,42,71,72,73,74,75,76,77,78,79,80,81,82,83,84]
[2,7,14,1,13,2,11,3,10,29,12,5,9,6,8,49,56,43,55,44,53,45,52,71,54,47,51,48,50]
[null,20,27,28,26,15,24,16,23,17,25,18,22,19,21,62,69,70,68,57,66,58,65,59,67,60,64,61,63]
[null,36,4,30,42,31,40,32,39,33,41,34,38,35,37,78,46,72,84,73,82,74,81,75,83,76,80,77,79]
[3,5,11,8,10,9,13,14,1,4,6,7,2,12,3,47,53,50,52,51,55,56,43,46,48,49,44,54,45]
[null,17,23,20,22,21,25,26,27,16,18,19,28,24,15,59,65,62,64,63,67,68,69,58,60,61,70,66,57]
[null,35,41,38,40,39,29,30,31,34,36,37,32,42,33,77,83,80,82,81,71,72,73,76,78,79,74,84,75]
[4,3,8,2,12,1,7,6,9,11,13,4,10,5,14,45,50,44,54,43,49,48,51,53,55,46,52,47,56,{"$nulls":6},"`"]
[null,28,19,27,23,26,18,17,20,22,24,15,21,16,25,70,61,69,65,68,60,59,62,64,66,57,63,58,67]
[null,34,39,33,29,32,38,37,40,42,30,35,41,36,31,76,81,75,71,74,80,79,82,84,72,77,83,78,73]
[null,"84 on 2 greens"]
[null,1,{"$nulls":8},2,{"$nulls":8},3,{"$nulls":8},4]
[null,"no","Left","rink","no","Right","rink","L","R",null,"no","Left","rink","no","Right","rink","L","R",null,"no","Left","rink","no","Right","rink","L","R",null,"no","Left","rink","no","Right","rink","L","R",null,1,null,2,null,3,null,4]
[null,1,"Left",{"$f":"$B$2","v":1},2,"Right",{"$f":"$B$2","v":1},{"$f":"(D18&\" \"&C18)","v":"1 Left"},{"$f":"(G18&\" \"&F18)","v":"1 Right"},null,7,"Left",{"$f":"$B$2","v":1},14,"Right",{"$f":"$B$2","v":1},{"$f":"(M18&\" \"&L18)","v":"1 Left"},{"$f":"(P18&\" \"&O18)","v":"1 Right"},null,5,"Left",{"$f":"$B$2","v":1},11,"Right",{"$f":"$B$2","v":1},{"$f":"(V18&\" \"&U18)","v":"1 Left"},{"$f":"(Y18&\" \"&X18)","v":"1 Right"},null,3,"Left",{"$f":"$B$2","v":1},8,"Right",{"$f":"$B$2","v":1},{"$f":"(AE18&\" \"&AD18)","v":"1 Left"},{"$f":"(AH18&\" \"&AG18)","v":"1 Right"}]
[null,15,"Left",{"$f":"$B$2","v":1},16,"Right",{"$f":"$B$2","v":1},{"$f":"(D19&\" \"&C19)","v":"1 Left"},{"$f":"(G19&\" \"&F19)","v":"1 Right"},null,20,"Left",{"$f":"$B$2","v":1},27,"Right",{"$f":"$B$2","v":1},{"$f":"(M19&\" \"&L19)","v":"1 Left"},{"$f":"(P19&\" \"&O19)","v":"1 Right"},null,17,"Left",{"$f":"$B$2","v":1},23,"Right",{"$f":"$B$2","v":1},{"$f":"(V19&\" \"&U19)","v":"1 Left"},{"$f":"(Y19&\" \"&X19)","v":"1 Right"},null,28,"Left",{"$f":"$B$2","v":1},19,"Right",{"$f":"$B$2","v":1},{"$f":"(AE19&\" \"&AD19)","v":"1 Left"},{"$f":"(AH19&\" \"&AG19)","v":"1 Right"}]
[null,29,"Left",{"$f":"$B$2","v":1},30,"Right",{"$f":"$B$2","v":1},"1 Left","1 Right",null,36,"Left",{"$f":"$B$2","v":1},4,"Right",{"$f":"$B$2","v":1},"1 Left","1 Right",null,35,"Left",{"$f":"$B$2","v":1},41,"Right",{"$f":"$B$2","v":1},"1 Left","1 Right",null,34,"Left",{"$f":"$B$2","v":1},39,"Right",{"$f":"$B$2","v":1},"1 Left","1 Right"]
[null,3,"Left",{"$f":"$D$2","v":2},4,"Right",{"$f":"$D$2","v":2},"2 Left","2 Right",null,1,"Left",{"$f":"$D$2","v":2},13,"Right",{"$f":"$D$2","v":2},"2 Left","2 Right",null,8,"Left",{"$f":"$D$2","v":2},10,"Right",{"$f":"$D$2","v":2},"2 Left","2 Right",null,2,"Left",{"$f":"$D$2","v":2},12,"Right",{"$f":"$D$2","v":2},"2 Left","2 Right"]
[null,17,"Left",{"$f":"$D$2","v":2},18,"Right",{"$f":"$D$2","v":2},"2 Left","2 Right",null,28,"Left",{"$f":"$D$2","v":2},26,"Right",{"$f":"$D$2","v":2},"2 Left","2 Right",null,20,"Left",{"$f":"$D$2","v":2},22,"Right",{"$f":"$D$2","v":2},"2 Left","2 Right",null,27,"Left",{"$f":"$D$2","v":2},23,"Right",{"$f":"$D$2","v":2},"2 Left","2 Right"]
[null,31,"Left",{"$f":"$D$2","v":2},32,"Right",{"$f":"$D$2","v":2},"2 Left","2 Right",null,30,"Left",{"$f":"$D$2","v":2},42,"Right",{"$f":"$D$2","v":2},"2 Left","2 Right",null,38,"Left",{"$f":"$D$2","v":2},40,"Right",{"$f":"$D$2","v":2},"2 Left","2 Right",null,33,"Left",{"$f":"$D$2","v":2},29,"Right",{"$f":"$D$2","v":2},"2 Left","2 Right"]
[null,5,"Left",{"$f":"$F$2","v":3},6,"Right",{"$f":"$F$2","v":3},"3 Left","3 Right",null,2,"Left",{"$f":"$F$2","v":3},11,"Right",{"$f":"$F$2","v":3},"3 Left","3 Right",null,9,"Left",{"$f":"$F$2","v":3},13,"Right",{"$f":"$F$2","v":3},"3 Left","3 Right",null,1,"Left",{"$f":"$F$2","v":3},7,"Right",{"$f":"$F$2","v":3},"3 Left","3 Right"]
[null,19,"Left",{"$f":"$F$2","v":3},20,"Right",{"$f":"$F$2","v":3},"3 Left","3 Right",null,15,"Left",{"$f":"$F$2","v":3},24,"Right",{"$f":"$F$2","v":3},"3 Left","3 Right",null,21,"Left",{"$f":"$F$2","v":3},25,"Right",{"$f":"$F$2","v":3},"3 Left","3 Right",null,26,"Left",{"$f":"$F$2","v":3},18,"Right",{"$f":"$F$2","v":3},"3 Left","3 Right"]
[null,33,"Left",{"$f":"$F$2","v":3},34,"Right",{"$f":"$F$2","v":3},"3 Left","3 Right",null,31,"Left",{"$f":"$F$2","v":3},40,"Right",{"$f":"$F$2","v":3},"3 Left","3 Right",null,39,"Left",{"$f":"$F$2","v":3},29,"Right",{"$f":"$F$2","v":3},"3 Left","3 Right",null,32,"Left",{"$f":"$F$2","v":3},38,"Right",{"$f":"$F$2","v":3},"3 Left","3 Right"]
[null,7,"Left",{"$f":"$H$2","v":4},8,"Right",{"$f":"$H$2","v":4},"4 Left","4 Right",null,3,"Left",{"$f":"$H$2","v":4},10,"Right",{"$f":"$H$2","v":4},"4 Left","4 Right",null,14,"Left",{"$f":"$H$2","v":4},1,"Right",{"$f":"$H$2","v":4},"4 Left","4 Right",null,6,"Left",{"$f":"$H$2","v":4},9,"Right",{"$f":"$H$2","v":4},"4 Left","4 Right"]
[null,21,"Left",{"$f":"$H$2","v":4},22,"Right",{"$f":"$H$2","v":4},"4 Left","4 Right",null,16,"Left",{"$f":"$H$2","v":4},23,"Right",{"$f":"$H$2","v":4},"4 Left","4 Right",null,26,"Left",{"$f":"$H$2","v":4},27,"Right",{"$f":"$H$2","v":4},"4 Left","4 Right",null,17,"Left",{"$f":"$H$2","v":4},20,"Right",{"$f":"$H$2","v":4},"4 Left","4 Right"]
[null,35,"Left",4,36,"Right",4,"4 Left","4 Right",null,32,"Left",4,39,"Right",4,"4 Left","4 Right",null,30,"Left",4,31,"Right",4,"4 Left","4 Right",null,37,"Left",4,40,"Right",4,"4 Left","4 Right"]
[null,9,"Left",{"$f":"$J$2","v":5},10,"Right",{"$f":"$J$2","v":5},"5 Left","5 Right",null,29,"Left",{"$f":"$J$2","v":5},12,"Right",{"$f":"$J$2","v":5},"5 Left","5 Right",null,4,"Left",{"$f":"$J$2","v":5},6,"Right",{"$f":"$J$2","v":5},"5 Left","5 Right",null,11,"Left",{"$f":"$J$2","v":5},13,"Right",{"$f":"$J$2","v":5},"5 Left","5 Right"]
[null,23,"Left",{"$f":"$J$2","v":5},24,"Right",{"$f":"$J$2","v":5},"5 Left","5 Right",null,17,"Left",{"$f":"$J$2","v":5},25,"Right",{"$f":"$J$2","v":5},"5 Left","5 Right",null,16,"Left",{"$f":"$J$2","v":5},18,"Right",{"$f":"$J$2","v":5},"5 Left","5 Right",null,22,"Left",{"$f":"$J$2","v":5},24,"Right",{"$f":"$J$2","v":5},"5 Left","5 Right"]
[null,37,"Left",5,38,"Right",5,"5 Left","5 Right",null,33,"Left",5,41,"Right",5,"5 Left","5 Right",null,34,"Left",5,36,"Right",5,"5 Left","5 Right",null,42,"Left",5,30,"Right",5,"5 Left","5 Right"]
[null,11,"Left",{"$f":"$L$2","v":6},12,"Right",{"$f":"$L$2","v":6},"6 Left","6 Right",null,5,"Left",{"$f":"$L$2","v":6},9,"Right",{"$f":"$L$2","v":6},"6 Left","6 Right",null,7,"Left",{"$f":"$L$2","v":6},2,"Right",{"$f":"$L$2","v":6},"6 Left","6 Right",null,4,"Left",{"$f":"$L$2","v":6},10,"Right",{"$f":"$L$2","v":6},"6 Left","6 Right"]
[null,25,"Left",{"$f":"$L$2","v":6},26,"Right",{"$f":"$L$2","v":6},"6 Left","6 Right",null,18,"Left",{"$f":"$L$2","v":6},22,"Right",{"$f":"$L$2","v":6},"6 Left","6 Right",null,19,"Left",{"$f":"$L$2","v":6},28,"Right",{"$f":"$L$2","v":6},"6 Left","6 Right",null,15,"Left",{"$f":"$L$2","v":6},21,"Right",{"$f":"$L$2","v":6},"6 Left","6 Right"]
[null,39,"Left",6,40,"Right",6,"6 Left","6 Right",null,34,"Left",6,38,"Right",6,"6 Left","6 Right",null,37,"Left",6,32,"Right",6,"6 Left","6 Right",null,35,"Left",6,41,"Right",6,"6 Left","6 Right"]
[null,13,"Left",{"$f":"$N$2","v":7},14,"Right",{"$f":"$N$2","v":7},"7 Left","7 Right",null,6,"Left",{"$f":"$N$2","v":7},8,"Right",{"$f":"$N$2","v":7},"7 Left","7 Right",null,12,"Left",{"$f":"$N$2","v":7},3,"Right",{"$f":"$N$2","v":7},"7 Left","7 Right",null,5,"Left",{"$f":"$N$2","v":7},14,"Right",{"$f":"$N$2","v":7},"7 Left","7 Right"]
[null,27,"Left",{"$f":"$N$2","v":7},28,"Right",{"$f":"$N$2","v":7},"7 Left","7 Right",null,19,"Left",{"$f":"$N$2","v":7},21,"Right",{"$f":"$N$2","v":7},"7 Left","7 Right",null,24,"Left",{"$f":"$N$2","v":7},15,"Right",{"$f":"$N$2","v":7},"7 Left","7 Right",null,16,"Left",{"$f":"$N$2","v":7},25,"Right",{"$f":"$N$2","v":7},"7 Left","7 Right"]
[null,41,"Left",7,42,"Right",7,"7 Left","7 Right",null,35,"Left",7,37,"Right",7,"7 Left","7 Right",null,42,"Left",7,33,"Right",7,"7 Left","7 Right",null,36,"Left",7,31,"Right",7,"7 Left","7 Right"]
[null,43,"Left",{"$f":"$P$2","v":8},44,"Right",{"$f":"$P$2","v":8},"8 Left","8 Right",null,49,"Left",{"$f":"$P$2","v":8},56,"Right",{"$f":"$P$2","v":8},"8 Left","8 Right",null,47,"Left",{"$f":"$P$2","v":8},53,"Right",{"$f":"$P$2","v":8},"8 Left","8 Right",null,45,"Left",{"$f":"$P$2","v":8},50,"Right",{"$f":"$P$2","v":8},"8 Left","8 Right"]
[null,57,"Left",{"$f":"$P$2","v":8},58,"Right",{"$f":"$P$2","v":8},"8 Left","8 Right",null,62,"Left",{"$f":"$P$2","v":8},69,"Right",{"$f":"$P$2","v":8},"8 Left","8 Right",null,59,"Left",{"$f":"$P$2","v":8},65,"Right",{"$f":"$P$2","v":8},"8 Left","8 Right",null,70,"Left",{"$f":"$P$2","v":8},61,"Right",{"$f":"$P$2","v":8},"8 Left","8 Right"]
[null,71,"Left",8,72,"Right",8,"8 Left","8 Right",null,78,"Left",8,46,"Right",8,"8 Left","8 Right",null,77,"Left",8,83,"Right",8,"8 Left","8 Right",null,76,"Left",8,81,"Right",8,"8 Left","8 Right"]
[null,45,"Left",{"$f":"$R$2","v":9},46,"Right",{"$f":"$R$2","v":9},"9 Left","9 Right",null,43,"Left",{"$f":"$R$2","v":9},55,"Right",{"$f":"$R$2","v":9},"9 Left","9 Right",null,50,"Left",{"$f":"$R$2","v":9},52,"Right",{"$f":"$R$2","v":9},"9 Left","9 Right",null,44,"Left",{"$f":"$R$2","v":9},54,"Right",{"$f":"$R$2","v":9},"9 Left","9 Right"]
[null,59,"Left",{"$f":"$R$2","v":9},60,"Right",{"$f":"$R$2","v":9},"9 Left","9 Right",null,70,"Left",{"$f":"$R$2","v":9},68,"Right",{"$f":"$R$2","v":9},"9 Left","9 Right",null,62,"Left",{"$f":"$R$2","v":9},64,"Right",{"$f":"$R$2","v":9},"9 Left","9 Right",null,69,"Left",{"$f":"$R$2","v":9},65,"Right",{"$f":"$R$2","v":9},"9 Left","9 Right"]
[null,73,"Left",9,74,"Right",9,"9 Left","9 Right",null,72,"Left",9,84,"Right",9,"9 Left","9 Right",null,80,"Left",9,82,"Right",9,"9 Left","9 Right",null,75,"Left",9,71,"Right",9,"9 Left","9 Right"]
[null,47,"Left",{"$f":"$T$2","v":10},48,"Right",{"$f":"$T$2","v":10},"10 Left","10 Right",null,44,"Left",{"$f":"$T$2","v":10},53,"Right",{"$f":"$T$2","v":10},"10 Left","10 Right",null,51,"Left",{"$f":"$T$2","v":10},55,"Right",{"$f":"$T$2","v":10},"10 Left","10 Right",null,43,"Left",{"$f":"$T$2","v":10},49,"Right",{"$f":"$T$2","v":10},"10 Left","10 Right"]
[null,61,"Left",{"$f":"$T$2","v":10},62,"Right",{"$f":"$T$2","v":10},"10 Left","10 Right",null,57,"Left",{"$f":"$T$2","v":10},66,"Right",{"$f":"$T$2","v":10},"10 Left","10 Right",null,63,"Left",{"$f":"$T$2","v":10},67,"Right",{"$f":"$T$2","v":10},"10 Left","10 Right",null,68,"Left",{"$f":"$T$2","v":10},60,"Right",{"$f":"$T$2","v":10},"10 Left","10 Right"]
[null,75,"Left",10,76,"Right",10,"10 Left","10 Right",null,73,"Left",10,82,"Right",10,"10 Left","10 Right",null,81,"Left",10,71,"Right",10,"10 Left","10 Right",null,74,"Left",10,80,"Right",10,"10 Left","10 Right"]
[null,49,"Left",{"$f":"$V$2","v":11},50,"Right",{"$f":"$V$2","v":11},"11 Left","11 Right",null,45,"Left",{"$f":"$V$2","v":11},52,"Right",{"$f":"$V$2","v":11},"11 Left","11 Right",null,56,"Left",{"$f":"$V$2","v":11},43,"Right",{"$f":"$V$2","v":11},"11 Left","11 Right",null,48,"Left",{"$f":"$V$2","v":11},51,"Right",{"$f":"$V$2","v":11},"11 Left","11 Right"]
[null,63,"Left",{"$f":"$V$2","v":11},64,"Right",{"$f":"$V$2","v":11},"11 Left","11 Right",null,58,"Left",{"$f":"$V$2","v":11},65,"Right",{"$f":"$V$2","v":11},"11 Left","11 Right",null,68,"Left",{"$f":"$V$2","v":11},69,"Right",{"$f":"$V$2","v":11},"11 Left","11 Right",null,59,"Left",{"$f":"$V$2","v":11},62,"Right",{"$f":"$V$2","v":11},"11 Left","11 Right"]
[null,77,"Left",11,78,"Right",11,"11 Left","11 Right",null,74,"Left",11,81,"Right",11,"11 Left","11 Right",null,72,"Left",11,73,"Right",11,"11 Left","11 Right",null,79,"Left",11,82,"Right",11,"11 Left","11 Right"]
[null,51,"Left",{"$f":"$X$2","v":12},52,"Right",{"$f":"$X$2","v":12},"12 Left","12 Right",null,71,"Left",{"$f":"$X$2","v":12},54,"Right",{"$f":"$X$2","v":12},"12 Left","12 Right",null,46,"Left",{"$f":"$X$2","v":12},48,"Right",{"$f":"$X$2","v":12},"12 Left","12 Right",null,53,"Left",{"$f":"$X$2","v":12},55,"Right",{"$f":"$X$2","v":12},"12 Left","12 Right"]
[null,65,"Left",{"$f":"$X$2","v":12},66,"Right",{"$f":"$X$2","v":12},"12 Left","12 Right",null,59,"Left",{"$f":"$X$2","v":12},67,"Right",{"$f":"$X$2","v":12},"12 Left","12 Right",null,58,"Left",{"$f":"$X$2","v":12},60,"Right",{"$f":"$X$2","v":12},"12 Left","12 Right",null,64,"Left",{"$f":"$X$2","v":12},66,"Right",{"$f":"$X$2","v":12},"12 Left","12 Right"]
[null,79,"Left",12,80,"Right",12,"12 Left","12 Right",null,75,"Left",12,83,"Right",12,"12 Left","12 Right",null,76,"Left",12,78,"Right",12,"12 Left","12 Right",null,84,"Left",12,72,"Right",12,"12 Left","12 Right"]
[null,53,"Left",{"$f":"$Z$2","v":13},54,"Right",{"$f":"$Z$2","v":13},"13 Left","13 Right",null,47,"Left",{"$f":"$Z$2","v":13},51,"Right",{"$f":"$Z$2","v":13},"13 Left","13 Right",null,49,"Left",{"$f":"$Z$2","v":13},44,"Right",{"$f":"$Z$2","v":13},"13 Left","13 Right",null,46,"Left",{"$f":"$Z$2","v":13},52,"Right",{"$f":"$Z$2","v":13},"13 Left","13 Right"]
[null,67,"Left",{"$f":"$Z$2","v":13},68,"Right",{"$f":"$Z$2","v":13},"13 Left","13 Right",null,60,"Left",{"$f":"$Z$2","v":13},64,"Right",{"$f":"$Z$2","v":13},"13 Left","13 Right",null,61,"Left",{"$f":"$Z$2","v":13},70,"Right",{"$f":"$Z$2","v":13},"13 Left","13 Right",null,57,"Left",{"$f":"$Z$2","v":13},63,"Right",{"$f":"$Z$2","v":13},"13 Left","13 Right"]
[null,81,"Left",13,82,"Right",13,"13 Left","13 Right",null,76,"Left",13,80,"Right",13,"13 Left","13 Right",null,79,"Left",13,74,"Right",13,"13 Left","13 Right",null,77,"Left",13,83,"Right",13,"13 Left","13 Right"]
[null,55,"Left",{"$f":"$AB$2","v":14},56,"Right",{"$f":"$AB$2","v":14},"14 Left","14 Right",null,48,"Left",{"$f":"$AB$2","v":14},50,"Right",{"$f":"$AB$2","v":14},"14 Left","14 Right",null,54,"Left",{"$f":"$AB$2","v":14},45,"Right",{"$f":"$AB$2","v":14},"14 Left","14 Right",null,47,"Left",{"$f":"$AB$2","v":14},56,"Right",{"$f":"$AB$2","v":14},"14 Left","14 Right"]
[null,69,"Left",{"$f":"$AB$2","v":14},70,"Right",{"$f":"$AB$2","v":14},"14 Left","14 Right",null,61,"Left",{"$f":"$AB$2","v":14},63,"Right",{"$f":"$AB$2","v":14},"14 Left","14 Right",null,66,"Left",{"$f":"$AB$2","v":14},57,"Right",{"$f":"$AB$2","v":14},"14 Left","14 Right",null,58,"Left",{"$f":"$AB$2","v":14},67,"Right",{"$f":"$AB$2","v":14},"14 Left","14 Right"]
[null,83,"Left",14,84,"Right",14,"14 Left","14 Right",null,77,"Left",14,79,"Right",14,"14 Left","14 Right",null,84,"Left",14,75,"Right",14,"14 Left","14 Right",null,78,"Left",14,73,"Right",14,"14 Left","14 Right"]

{"sheet":"DRAWS","index":41,"n_rows":2164,"n_cols":12,"rows_kept":2164,"hidden":true}
[{"$nulls":5},"Team #","Round 1","Round 2","Round 3","Round 4"]
[{"$f":"'84'!$B$18","v":1},{"$f":"'84'!$H$18","v":"1 Left"},{"$f":"'84'!$Q$21","v":"2 Left"},{"$f":"'84'!$AA$27","v":"4 Right"},{"$f":"'84'!$AI$24","v":"3 Left"},1,{"$f":"B1410","v":"2 Left"},{"$f":"C1410","v":"3 Left"},{"$f":"D1410","v":"6 Left"},{"$f":"E1410","v":"5 Right"}]
[{"$f":"'84'!$E$18","v":2},{"$f":"'84'!$I$18","v":"1 Right"},{"$f":"'84'!$Q$24","v":"3 Left"},{"$f":"'84'!$AA$33","v":"6 Right"},{"$f":"'84'!$AI$21","v":"2 Left"},2,"2 Right","4 Left","3 Left","6 Left"]
[{"$f":"'84'!$B$21","v":3},{"$f":"'84'!$H$21","v":"2 Left"},{"$f":"'84'!$Q$27","v":"4 Left"},{"$f":"'84'!$AA$36","v":"7 Right"},{"$f":"'84'!$AI$18","v":"1 Left"},3,"3 Left","5 Left","2 Left","5 Left"]
[{"$f":"'84'!$E$21","v":4},{"$f":"'84'!$I$21","v":"2 Right"},{"$f":"'84'!$R$20","v":"1 Right"},{"$f":"'84'!$Z$30","v":"5 Left"},{"$f":"'84'!$AI$33","v":"6 Left"},4,"3 Right","6 Left","5 Left","4 Left"]
[{"$f":"'84'!$B$24","v":5},{"$f":"'84'!$H$24","v":"3 Left"},{"$f":"'84'!$Q$33","v":"6 Left"},{"$f":"'84'!$Z$18","v":"1 Left"},{"$f":"'84'!$AI$36","v":"7 Left"},5,"4 Left","2 Left","6 Right","4 Right"]
[{"$f":"'84'!$E$24","v":6},{"$f":"'84'!$I$24","v":"3 Right"},{"$f":"'84'!$Q$36","v":"7 Left"},{"$f":"'84'!$AA$30","v":"5 Right"},{"$f":"'84'!$AI$27","v":"4 Left"},6,"4 Right","5 Right","3 Right","2 Left"]
[{"$f":"'84'!$B$27","v":7},{"$f":"'84'!$H$27","v":"4 Left"},{"$f":"'84'!$Q$18","v":"1 Left"},{"$f":"'84'!$Z$33","v":"6 Left"},{"$f":"'84'!$AJ$24","v":"3 Right"},7,"5 Left","6 Right","4 Left","3 Right"]
[{"$f":"'84'!$E$27","v":8},{"$f":"'84'!$I$27","v":"4 Right"},{"$f":"'84'!$R$36","v":"7 Right"},{"$f":"'84'!$Z$21","v":"2 Left"},{"$f":"'84'!$AJ$18","v":"1 Right"},8,"5 Right","3 Right","4 Right","2 Right"]
[{"$f":"'84'!$B$30","v":9},{"$f":"'84'!$H$30","v":"5 Left"},{"$f":"'84'!$R$33","v":"6 Right"},{"$f":"'84'!$Z$24","v":"3 Left"},{"$f":"'84'!$AJ$27","v":"4 Right"},9,"6 Left","4 Right","2 Right","6 Right"]
[{"$f":"'84'!$E$30","v":10},{"$f":"'84'!$I$30","v":"5 Right"},{"$f":"'84'!$R$27","v":"4 Right"},{"$f":"'84'!$AA$21","v":"2 Right"},{"$f":"'84'!$AJ$33","v":"6 Right"},10,"6 Right","2 Right","5 Right","3 Left"]
[{"$f":"'84'!$B$33","v":11},{"$f":"'84'!$H$33","v":"6 Left"},{"$f":"'84'!$R$24","v":"3 Right"},{"$f":"'84'!$AA$18","v":"1 Right"},{"$f":"'84'!$AI$30","v":"5 Left"},11,"2 Left","5 Left","6 Right","3 Right"]
[{"$f":"'84'!$E$33","v":12},{"$f":"'84'!$I$33","v":"6 Right"},{"$f":"'84'!$R$30","v":"5 Right"},{"$f":"'84'!$Z$36","v":"7 Left"},{"$f":"'84'!$AJ$21","v":"2 Right"},12,"2 Right","6 Left","3 Right","2 Right"]
[{"$f":"'84'!$B$36","v":13},{"$f":"'84'!$H$36","v":"7 Left"},{"$f":"'84'!$R$21","v":"2 Right"},{"$f":"'84'!$AA$24","v":"3 Right"},{"$f":"'84'!$AJ$30","v":"5 Right"},13,"3 Left","2 Left","4 Left","6 Right"]
[{"$f":"'84'!$E$36","v":14},{"$f":"'84'!$I$36","v":"7 Right"},{"$f":"'84'!$R$18","v":"1 Right"},{"$f":"'84'!$Z$27","v":"4 Left"},{"$f":"'84'!$AJ$36","v":"7 Right"},14,"3 Right","5 Right","4 Right","3 Left"]
[{"$f":"'84'!$B$19","v":15},{"$f":"'84'!$H$19","v":"1 Left"},{"$f":"'84'!$Q$25","v":"3 Left"},{"$f":"'84'!$AA$37","v":"7 Right"},{"$f":"'84'!$AI$34","v":"6 Left"},15,"4 Left","6 Right","2 Right","5 Right"]
[{"$f":"'84'!$E$19","v":16},{"$f":"'84'!$I$19","v":"1 Right"},{"$f":"'84'!$Q$28","v":"4 Left"},{"$f":"'84'!$Z$31","v":"5 Left"},{"$f":"'84'!$AI$37","v":"7 Left"},16,"4 Right","3 Right","5 Right","6 Left"]
[{"$f":"'84'!$B$22","v":17},{"$f":"'84'!$H$22","v":"2 Left"},{"$f":"'84'!$Q$31","v":"5 Left"},{"$f":"'84'!$Z$19","v":"1 Left"},{"$f":"'84'!$AI$28","v":"4 Left"},17,"5 Left","4 Right","6 Left","5 Left"]
[{"$f":"'84'!$E$22","v":18},{"$f":"'84'!$I$22","v":"2 Right"},{"$f":"'84'!$Q$34","v":"6 Left"},{"$f":"'84'!$AA$31","v":"5 Right"},{"$f":"'84'!$AJ$25","v":"3 Right"},18,"5 Right","2 Right","3 Left","4 Left"]
[{"$f":"'84'!$B$25","v":19},{"$f":"'84'!$H$25","v":"3 Left"},{"$f":"'84'!$Q$37","v":"7 Left"},{"$f":"'84'!$Z$34","v":"6 Left"},{"$f":"'84'!$AJ$19","v":"1 Right"},19,"6 Left","3 Left","2 Left","4 Right"]
[{"$f":"'84'!$E$25","v":20},{"$f":"'84'!$I$25","v":"3 Right"},{"$f":"'84'!$Q$19","v":"1 Left"},{"$f":"'84'!$Z$22","v":"2 Left"},{"$f":"'84'!$AJ$28","v":"4 Right"},20,"6 Right","4 Left","5 Left","2 Left"]
[{"$f":"'84'!$B$28","v":21},{"$f":"'84'!$H$28","v":"4 Left"},{"$f":"'84'!$R$37","v":"7 Right"},{"$f":"'84'!$Z$25","v":"3 Left"},{"$f":"'84'!$AJ$34","v":"6 Right"},21,"9 Left","10 Left","13 Left","12 Right"]
[{"$f":"'84'!$E$28","v":22},{"$f":"'84'!$I$28","v":"4 Right"},{"$f":"'84'!$R$34","v":"6 Right"},{"$f":"'84'!$AA$22","v":"2 Right"},{"$f":"'84'!$AI$31","v":"5 Left"},22,"9 Right","11 Left","10 Left","13 Left"]
[{"$f":"'84'!$B$31","v":23},{"$f":"'84'!$H$31","v":"5 Left"},{"$f":"'84'!$R$28","v":"4 Right"},{"$f":"'84'!$AA$19","v":"1 Right"},{"$f":"'84'!$AJ$22","v":"2 Right"},23,"10 Left","12 Left","9 Left","12 Left"]
[{"$f":"'84'!$E$31","v":24},{"$f":"'84'!$I$31","v":"5 Right"},{"$f":"'84'!$R$25","v":"3 Right"},{"$f":"'84'!$Z$37","v":"7 Left"},{"$f":"'84'!$AJ$31","v":"5 Right"},24,"10 Right","13 Left","12 Left","11 Left"]
[{"$f":"'84'!$B$34","v":25},{"$f":"'84'!$H$34","v":"6 Left"},{"$f":"'84'!$R$31","v":"5 Right"},{"$f":"'84'!$AA$25","v":"3 Right"},{"$f":"'84'!$AJ$37","v":"7 Right"},25,"11 Left","9 Left","13 Right","11 Right"]
[{"$f":"'84'!$E$34","v":26},{"$f":"'84'!$I$34","v":"6 Right"},{"$f":"'84'!$R$22","v":"2 Right"},{"$f":"'84'!$Z$28","v":"4 Left"},{"$f":"'84'!$AI$25","v":"3 Left"},26,"11 Right","12 Right","10 Right","9 Left"]
[{"$f":"'84'!$B$37","v":27},{"$f":"'84'!$H$37","v":"7 Left"},{"$f":"'84'!$R$19","v":"1 Right"},{"$f":"'84'!$AA$28","v":"4 Right"},{"$f":"'84'!$AI$22","v":"2 Left"},27,"12 Left","13 Right","11 Left","10 Right"]
[{"$f":"'84'!$E$37","v":28},{"$f":"'84'!$I$37","v":"7 Right"},{"$f":"'84'!$Q$22","v":"2 Left"},{"$f":"'84'!$AA$34","v":"6 Right"},{"$f":"'84'!$AI$19","v":"1 Left"},28,"12 Right","10 Right","11 Right","9 Right"]
[{"$f":"'84'!$B$20","v":29},{"$f":"'84'!$H$20","v":"1 Left"},{"$f":"'84'!$Q$30","v":"5 Left"},{"$f":"'84'!$AA$26","v":"3 Right"},{"$f":"'84'!$AJ$23","v":"2 Right"},29,"13 Left","11 Right","9 Right","13 Right"]
[{"$f":"'84'!$E$20","v":30},{"$f":"'84'!$I$20","v":"1 Right"},{"$f":"'84'!$Q$23","v":"2 Left"},{"$f":"'84'!$Z$29","v":"4 Left"},{"$f":"'84'!$AJ$32","v":"5 Right"},30,"13 Right","9 Right","12 Right","10 Left"]
[{"$f":"'84'!$B$23","v":31},{"$f":"'84'!$H$23","v":"2 Left"},{"$f":"'84'!$Q$26","v":"3 Left"},{"$f":"'84'!$AA$29","v":"4 Right"},{"$f":"'84'!$AJ$38","v":"7 Right"},31,"9 Left","12 Left","13 Right","10 Right"]
[{"$f":"'84'!$E$23","v":32},{"$f":"'84'!$I$23","v":"2 Right"},{"$f":"'84'!$Q$29","v":"4 Left"},{"$f":"'84'!$AA$35","v":"6 Right"},{"$f":"'84'!$AI$26","v":"3 Left"},32,"9 Right","13 Left","10 Right","9 Right"]
[{"$f":"'84'!$B$26","v":33},{"$f":"'84'!$H$26","v":"3 Left"},{"$f":"'84'!$Q$32","v":"5 Left"},{"$f":"'84'!$AA$38","v":"7 Right"},{"$f":"'84'!$AI$23","v":"2 Left"},33,"10 Left","9 Left","11 Left","13 Right"]
[{"$f":"'84'!$E$26","v":34},{"$f":"'84'!$I$26","v":"3 Right"},{"$f":"'84'!$Q$35","v":"6 Left"},{"$f":"'84'!$Z$32","v":"5 Left"},{"$f":"'84'!$AI$20","v":"1 Left"},34,"10 Right","12 Right","11 Right","10 Left"]
[{"$f":"'84'!$B$29","v":35},{"$f":"'84'!$H$29","v":"4 Left"},{"$f":"'84'!$Q$38","v":"7 Left"},{"$f":"'84'!$Z$20","v":"1 Left"},{"$f":"'84'!$AI$35","v":"6 Left"},35,"11 Left","13 Right","9 Right","12 Right"]
[{"$f":"'84'!$E$29","v":36},{"$f":"'84'!$I$29","v":"4 Right"},{"$f":"'84'!$Q$20","v":"1 Left"},{"$f":"'84'!$AA$32","v":"5 Right"},{"$f":"'84'!$AI$38","v":"7 Left"},36,"11 Right","10 Right","12 Right","13 Left"]
[{"$f":"'84'!$B$32","v":37},{"$f":"'84'!$H$32","v":"5 Left"},{"$f":"'84'!$R$38","v":"7 Right"},{"$f":"'84'!$Z$35","v":"6 Left"},{"$f":"'84'!$AI$29","v":"4 Left"},37,"12 Left","11 Right","13 Left","12 Left"]
[{"$f":"'84'!$E$32","v":38},{"$f":"'84'!$I$32","v":"5 Right"},{"$f":"'84'!$R$35","v":"6 Right"},{"$f":"'84'!$Z$23","v":"2 Left"},{"$f":"'84'!$AJ$26","v":"3 Right"},38,"12 Right","9 Right","10 Left","11 Left"]
[{"$f":"'84'!$B$35","v":39},{"$f":"'84'!$H$35","v":"6 Left"},{"$f":"'84'!$R$29","v":"4 Right"},{"$f":"'84'!$Z$26","v":"3 Left"},{"$f":"'84'!$AJ$20","v":"1 Right"},39,"13 Left","10 Left","9 Left","11 Right"]
[{"$f":"'84'!$E$35","v":40},{"$f":"'84'!$I$35","v":"6 Right"},{"$f":"'84'!$R$26","v":"3 Right"},{"$f":"'84'!$AA$23","v":"2 Right"},{"$f":"'84'!$AJ$29","v":"4 Right"},40,"13 Right","11 Left","12 Left","9 Left"]
[{"$f":"'84'!$B$38","v":41},{"$f":"'84'!$H$38","v":"7 Left"},{"$f":"'84'!$R$32","v":"5 Right"},{"$f":"'84'!$AA$20","v":"1 Right"},{"$f":"'84'!$AJ$35","v":"6 Right"},41,0,0,0,0]
[{"$f":"'84'!$E$38","v":42},{"$f":"'84'!$I$38","v":"7 Right"},{"$f":"'84'!$R$23","v":"2 Right"},{"$f":"'84'!$Z$38","v":"7 Left"},{"$f":"'84'!$AI$32","v":"5 Left"},42,"2 Left","3 Left","6 Left","5 Right"]
[{"$f":"'84'!$B$39","v":43},{"$f":"'84'!$H$39","v":"8 Left"},{"$f":"'84'!$Q$42","v":"9 Left"},{"$f":"'84'!$AA$48","v":"11 Right"},{"$f":"'84'!$AI$45","v":"10 Left"},43,"2 Right","4 Left","3 Left","6 Left"]
[{"$f":"'84'!$E$39","v":44},{"$f":"'84'!$I$39","v":"8 Right"},{"$f":"'84'!$Q$45","v":"10 Left"},{"$f":"'84'!$AA$54","v":"13 Right"},{"$f":"'84'!$AI$42","v":"9 Left"},44,"3 Left","5 Left","2 Left","5 Left"]
[{"$f":"'84'!$B$42","v":45},{"$f":"'84'!$H$42","v":"9 Left"},{"$f":"'84'!$Q$48","v":"11 Left"},{"$f":"'84'!$AA$57","v":"14 Right"},{"$f":"'84'!$AI$39","v":"8 Left"},45,"3 Right","6 Left","5 Left","4 Left"]
[{"$f":"'84'!$E$42","v":46},{"$f":"'84'!$I$42","v":"9 Right"},{"$f":"'84'!$R$41","v":"8 Right"},{"$f":"'84'!$Z$51","v":"12 Left"},{"$f":"'84'!$AI$54","v":"13 Left"},46,"4 Left","2 Left","6 Right","4 Right"]
[{"$f":"'84'!$B$45","v":47},{"$f":"'84'!$H$45","v":"10 Left"},{"$f":"'84'!$Q$54","v":"13 Left"},{"$f":"'84'!$Z$39","v":"8 Left"},{"$f":"'84'!$AI$57","v":"14 Left"},47,"4 Right","5 Right","3 Right","2 Left"]
[{"$f":"'84'!$E$45","v":48},{"$f":"'84'!$I$45","v":"10 Right"},{"$f":"'84'!$Q$57","v":"14 Left"},{"$f":"'84'!$AA$51","v":"12 Right"},{"$f":"'84'!$AI$48","v":"11 Left"},48,"5 Left","6 Right","4 Left","3 Right"]
[{"$f":"'84'!$B$48","v":49},{"$f":"'84'!$H$48","v":"11 Left"},{"$f":"'84'!$Q$39","v":"8 Left"},{"$f":"'84'!$Z$54","v":"13 Left"},{"$f":"'84'!$AJ$45","v":"10 Right"},49,"5 Right","3 Right","4 Right","2 Right"]
[{"$f":"'84'!$E$48","v":50},{"$f":"'84'!$I$48","v":"11 Right"},{"$f":"'84'!$R$57","v":"14 Right"},{"$f":"'84'!$Z$42","v":"9 Left"},{"$f":"'84'!$AJ$39","v":"8 Right"},50,"6 Left","4 Right","2 Right","6 Right"]
[{"$f":"'84'!$B$51","v":51},{"$f":"'84'!$H$51","v":"12 Left"},{"$f":"'84'!$R$54","v":"13 Right"},{"$f":"'84'!$Z$45","v":"10 Left"},{"$f":"'84'!$AJ$48","v":"11 Right"},51,"6 Right","2 Right","5 Right","3 Left"]
[{"$f":"'84'!$E$51","v":52},{"$f":"'84'!$I$51","v":"12 Right"},{"$f":"'84'!$R$48","v":"11 Right"},{"$f":"'84'!$AA$42","v":"9 Right"},{"$f":"'84'!$AJ$54","v":"13 Right"},52,"2 Left","5 Left","6 Right","3 Right"]
[{"$f":"'84'!$B$54","v":53},{"$f":"'84'!$H$54","v":"13 Left"},{"$f":"'84'!$R$45","v":"10 Right"},{"$f":"'84'!$AA$39","v":"8 Right"},{"$f":"'84'!$AI$51","v":"12 Left"},53,"2 Right","6 Left","3 Right","2 Right"]
[{"$f":"'84'!$E$54","v":54},{"$f":"'84'!$I$54","v":"13 Right"},{"$f":"'84'!$R$51","v":"12 Right"},{"$f":"'84'!$Z$57","v":"14 Left"},{"$f":"'84'!$AJ$42","v":"9 Right"},54,"3 Left","2 Left","4 Left","6 Right"]
[{"$f":"'84'!$B$57","v":55},{"$f":"'84'!$H$57","v":"14 Left"},{"$f":"'84'!$R$42","v":"9 Right"},{"$f":"'84'!$AA$45","v":"10 Right"},{"$f":"'84'!$AJ$51","v":"12 Right"},55,"3 Right","5 Right","4 Right","3 Left"]
[{"$f":"'84'!$E$57","v":56},{"$f":"'84'!$I$57","v":"14 Right"},{"$f":"'84'!$R$39","v":"8 Right"},{"$f":"'84'!$Z$48","v":"11 Left"},{"$f":"'84'!$AJ$57","v":"14 Right"},56,"4 Left","6 Right","2 Right","5 Right"]
[{"$f":"'84'!$B$40","v":57},{"$f":"'84'!$H$40","v":"8 Left"},{"$f":"'84'!$Q$46","v":"10 Left"},{"$f":"'84'!$AA$58","v":"14 Right"},{"$f":"'84'!$AI$55","v":"13 Left"},57,"4 Right","3 Right","5 Right","6 Left"]
[{"$f":"'84'!$E$40","v":58},{"$f":"'84'!$I$40","v":"8 Right"},{"$f":"'84'!$Q$49","v":"11 Left"},{"$f":"'84'!$Z$52","v":"12 Left"},{"$f":"'84'!$AI$58","v":"14 Left"},58,"5 Left","4 Right","6 Left","5 Left"]
[{"$f":"'84'!$B$43","v":59},{"$f":"'84'!$H$43","v":"9 Left"},{"$f":"'84'!$Q$52","v":"12 Left"},{"$f":"'84'!$Z$40","v":"8 Left"},{"$f":"'84'!$AI$49","v":"11 Left"},59,"5 Right","2 Right","3 Left","4 Left"]
[{"$f":"'84'!$E$43","v":60},{"$f":"'84'!$I$43","v":"9 Right"},{"$f":"'84'!$Q$55","v":"13 Left"},{"$f":"'84'!$AA$52","v":"12 Right"},{"$f":"'84'!$AJ$46","v":"10 Right"},60,"6 Left","3 Left","2 Left","4 Right"]
[{"$f":"'84'!$B$46","v":61},{"$f":"'84'!$H$46","v":"10 Left"},{"$f":"'84'!$Q$58","v":"14 Left"},{"$f":"'84'!$Z$55","v":"13 Left"},{"$f":"'84'!$AJ$40","v":"8 Right"},61,"6 Right","4 Left","5 Left","2 Left"]
[{"$f":"'84'!$E$46","v":62},{"$f":"'84'!$I$46","v":"10 Right"},{"$f":"'84'!$Q$40","v":"8 Left"},{"$f":"'84'!$Z$43","v":"9 Left"},{"$f":"'84'!$AJ$49","v":"11 Right"},62,"9 Left","11 Left","10 Left","9 Left"]
[{"$f":"'84'!$B$49","v":63},{"$f":"'84'!$H$49","v":"11 Left"},{"$f":"'84'!$R$58","v":"14 Right"},{"$f":"'84'!$Z$46","v":"10 Left"},{"$f":"'84'!$AJ$55","v":"13 Right"},63,"9 Right","10 Left","12 Left","11 Left"]
[{"$f":"'84'!$E$49","v":64},{"$f":"'84'!$I$49","v":"11 Right"},{"$f":"'84'!$R$55","v":"13 Right"},{"$f":"'84'!$AA$43","v":"9 Right"},{"$f":"'84'!$AI$52","v":"12 Left"},64,"11 Right","9 Left","10 Right","12 Right"]
[{"$f":"'84'!$B$52","v":65},{"$f":"'84'!$H$52","v":"12 Left"},{"$f":"'84'!$R$49","v":"11 Right"},{"$f":"'84'!$AA$40","v":"8 Right"},{"$f":"'84'!$AJ$43","v":"9 Right"},65,{"$f":"B1474","v":"12 Left"},{"$f":"C1474","v":"10 Right"},{"$f":"D1474","v":"9 Left"},{"$f":"E1474","v":"10 Right"}]
[{"$f":"'84'!$E$52","v":66},{"$f":"'84'!$I$52","v":"12 Right"},{"$f":"'84'!$R$46","v":"10 Right"},{"$f":"'84'!$Z$58","v":"14 Left"},{"$f":"'84'!$AJ$52","v":"12 Right"},66,"10 Right","12 Left","9 Right","11 Right"]
[{"$f":"'84'!$B$55","v":67},{"$f":"'84'!$H$55","v":"13 Left"},{"$f":"'84'!$R$52","v":"12 Right"},{"$f":"'84'!$AA$46","v":"10 Right"},{"$f":"'84'!$AJ$58","v":"14 Right"},67,"10 Left","11 Right","9 Left","10 Left"]
[{"$f":"'84'!$E$55","v":68},{"$f":"'84'!$I$55","v":"13 Right"},{"$f":"'84'!$R$43","v":"9 Right"},{"$f":"'84'!$Z$49","v":"11 Left"},{"$f":"'84'!$AI$46","v":"10 Left"},68,"11 Left","9 Right","12 Right","9 Right"]
[{"$f":"'84'!$B$58","v":69},{"$f":"'84'!$H$58","v":"14 Left"},{"$f":"'84'!$R$40","v":"8 Right"},{"$f":"'84'!$AA$49","v":"11 Right"},{"$f":"'84'!$AI$43","v":"9 Left"},69,"12 Right","9 Left","11 Left","9 Left"]
[{"$f":"'84'!$E$58","v":70},{"$f":"'84'!$I$58","v":"14 Right"},{"$f":"'84'!$Q$43","v":"9 Left"},{"$f":"'84'!$AA$55","v":"13 Right"},{"$f":"'84'!$AI$40","v":"8 Left"},70,"9 Left","12 Right","11 Right","12 Left"]
[{"$f":"'84'!$B$41","v":71},{"$f":"'84'!$H$41","v":"8 Left"},{"$f":"'84'!$Q$51","v":"12 Left"},{"$f":"'84'!$AA$47","v":"10 Right"},{"$f":"'84'!$AJ$44","v":"9 Right"},71,"9 Left","12 Left","11 Left","9 Right"]
[{"$f":"'84'!$E$41","v":72},{"$f":"'84'!$I$41","v":"8 Right"},{"$f":"'84'!$Q$44","v":"9 Left"},{"$f":"'84'!$Z$50","v":"11 Left"},{"$f":"'84'!$AJ$53","v":"12 Right"},72,"9 Right","11 Right","10 Left","12 Left"]
[{"$f":"'84'!$B$44","v":73},{"$f":"'84'!$H$44","v":"9 Left"},{"$f":"'84'!$Q$47","v":"10 Left"},{"$f":"'84'!$AA$50","v":"11 Right"},{"$f":"'84'!$AJ$59","v":"14 Right"},73,"11 Right","9 Right","12 Left","9 Left"]
[{"$f":"'84'!$E$44","v":74},{"$f":"'84'!$I$44","v":"9 Right"},{"$f":"'84'!$Q$50","v":"11 Left"},{"$f":"'84'!$AA$56","v":"13 Right"},{"$f":"'84'!$AI$47","v":"10 Left"},74,"12 Right","9 Right","10 Right","11 Right"]
[{"$f":"'84'!$B$47","v":75},{"$f":"'84'!$H$47","v":"10 Left"},{"$f":"'84'!$Q$53","v":"12 Left"},{"$f":"'84'!$AA$59","v":"14 Right"},{"$f":"'84'!$AI$44","v":"9 Left"},75,"10 Right","12 Right","9 Left","11 Left"]
[{"$f":"'84'!$E$47","v":76},{"$f":"'84'!$I$47","v":"10 Right"},{"$f":"'84'!$Q$56","v":"13 Left"},{"$f":"'84'!$Z$53","v":"12 Left"},{"$f":"'84'!$AI$41","v":"8 Left"},76,"10 Left","11 Left","9 Right","10 Right"]
[{"$f":"'84'!$B$50","v":77},{"$f":"'84'!$H$50","v":"11 Left"},{"$f":"'84'!$Q$59","v":"14 Left"},{"$f":"'84'!$Z$41","v":"8 Left"},{"$f":"'84'!$AI$56","v":"13 Left"},77,"11 Left","10 Left","9 Right","12 Right"]
[{"$f":"'84'!$E$50","v":78},{"$f":"'84'!$I$50","v":"11 Right"},{"$f":"'84'!$Q$41","v":"8 Left"},{"$f":"'84'!$AA$53","v":"12 Right"},{"$f":"'84'!$AI$59","v":"14 Left"},78,"12 Left","9 Left","12 Right","10 Left"]
[{"$f":"'84'!$B$53","v":79},{"$f":"'84'!$H$53","v":"12 Left"},{"$f":"'84'!$R$59","v":"14 Right"},{"$f":"'84'!$Z$56","v":"13 Left"},{"$f":"'84'!$AI$50","v":"11 Left"},79,"9 Right","10 Right","11 Right","9 Right"]
[{"$f":"'84'!$E$53","v":80},{"$f":"'84'!$I$53","v":"12 Right"},{"$f":"'84'!$R$56","v":"13 Right"},{"$f":"'84'!$Z$44","v":"9 Left"},{"$f":"'84'!$AJ$47","v":"10 Right"},80,0,0,0,0]
[{"$f":"'84'!$B$56","v":81},{"$f":"'84'!$H$56","v":"13 Left"},{"$f":"'84'!$R$50","v":"11 Right"},{"$f":"'84'!$Z$47","v":"10 Left"},{"$f":"'84'!$AJ$41","v":"8 Right"},81,"2 Left","3 Left","6 Left","5 Right"]
[{"$f":"'84'!$E$56","v":82},{"$f":"'84'!$I$56","v":"13 Right"},{"$f":"'84'!$R$47","v":"10 Right"},{"$f":"'84'!$AA$44","v":"9 Right"},{"$f":"'84'!$AJ$50","v":"11 Right"},82,"2 Right","4 Left","3 Left","6 Left"]
[{"$f":"'84'!$B$59","v":83},{"$f":"'84'!$H$59","v":"14 Left"},{"$f":"'84'!$R$53","v":"12 Right"},{"$f":"'84'!$AA$41","v":"8 Right"},{"$f":"'84'!$AJ$56","v":"13 Right"},83,"3 Left","5 Left","2 Left","5 Left"]
[{"$f":"'84'!$E$59","v":84},{"$f":"'84'!$I$59","v":"14 Right"},{"$f":"'84'!$R$44","v":"9 Right"},{"$f":"'84'!$Z$59","v":"14 Left"},{"$f":"'84'!$AI$53","v":"12 Left"},84,"3 Right","6 Left","5 Left","4 Left"]
[{"$nulls":6},"4 Left","2 Left","6 Right","4 Right"]
[{"$f":"'82'!$B$18","v":1},{"$f":"'82'!$H$18","v":"1 Left"},{"$f":"'82'!$Q$21","v":"2 Left"},{"$f":"'82'!$AA$27","v":"4 Right"},{"$f":"'82'!$AI$24","v":"3 Left"},null,"4 Right","5 Right","3 Right","2 Left",null,82]
[{"$f":"'82'!$E$18","v":2},{"$f":"'82'!$I$18","v":"1 Right"},{"$f":"'82'!$Q$24","v":"3 Left"},{"$f":"'82'!$AA$33","v":"6 Right"},{"$f":"'82'!$AI$21","v":"2 Left"},null,"5 Left","6 Right","4 Left","3 Right"]
[{"$f":"'82'!$B$21","v":3},{"$f":"'82'!$H$21","v":"2 Left"},{"$f":"'82'!$Q$27","v":"4 Left"},{"$f":"'82'!$AA$36","v":"7 Right"},{"$f":"'82'!$AI$18","v":"1 Left"},null,"5 Right","3 Right","4 Right","2 Right"]
[{"$f":"'82'!$E$21","v":4},{"$f":"'82'!$I$21","v":"2 Right"},{"$f":"'82'!$R$20","v":"1 Right"},{"$f":"'82'!$Z$30","v":"5 Left"},{"$f":"'82'!$AI$33","v":"6 Left"},null,"6 Left","4 Right","2 Right","6 Right"]
[{"$f":"'82'!$B$24","v":5},{"$f":"'82'!$H$24","v":"3 Left"},{"$f":"'82'!$Q$33","v":"6 Left"},{"$f":"'82'!$Z$18","v":"1 Left"},{"$f":"'82'!$AI$36","v":"7 Left"},null,"6 Right","2 Right","5 Right","3 Left"]
[{"$f":"'82'!$E$24","v":6},{"$f":"'82'!$I$24","v":"3 Right"},{"$f":"'82'!$Q$36","v":"7 Left"},{"$f":"'82'!$AA$30","v":"5 Right"},{"$f":"'82'!$AI$27","v":"4 Left"},null,"2 Left","5 Left","6 Right","3 Right"]
[{"$f":"'82'!$B$27","v":7},{"$f":"'82'!$H$27","v":"4 Left"},{"$f":"'82'!$Q$18","v":"1 Left"},{"$f":"'82'!$Z$33","v":"6 Left"},{"$f":"'82'!$AJ$24","v":"3 Right"},null,"2 Right","6 Left","3 Right","2 Right"]
[{"$f":"'82'!$E$27","v":8},{"$f":"'82'!$I$27","v":"4 Right"},{"$f":"'82'!$R$36","v":"7 Right"},{"$f":"'82'!$Z$21","v":"2 Left"},{"$f":"'82'!$AJ$18","v":"1 Right"},null,"3 Left","2 Left","4 Left","6 Right"]
[{"$f":"'82'!$B$30","v":9},{"$f":"'82'!$H$30","v":"5 Left"},{"$f":"'82'!$R$33","v":"6 Right"},{"$f":"'82'!$Z$24","v":"3 Left"},{"$f":"'82'!$AJ$27","v":"4 Right"},null,"3 Right","5 Right","4 Right","3 Left"]
[{"$f":"'82'!$E$30","v":10},{"$f":"'82'!$I$30","v":"5 Right"},{"$f":"'82'!$R$27","v":"4 Right"},{"$f":"'82'!$AA$21","v":"2 Right"},{"$f":"'82'!$AJ$33","v":"6 Right"},null,"4 Left","6 Right","2 Right","5 Right"]
[{"$f":"'82'!$B$33","v":11},{"$f":"'82'!$H$33","v":"6 Left"},{"$f":"'82'!$R$24","v":"3 Right"},{"$f":"'82'!$AA$18","v":"1 Right"},{"$f":"'82'!$AI$30","v":"5 Left"},null,"4 Right","3 Right","5 Right","6 Left"]
[{"$f":"'82'!$E$33","v":12},{"$f":"'82'!$I$33","v":"6 Right"},{"$f":"'82'!$R$30","v":"5 Right"},{"$f":"'82'!$Z$36","v":"7 Left"},{"$f":"'82'!$AJ$21","v":"2 Right"},null,"5 Left","4 Right","6 Left","5 Left"]
[{"$f":"'82'!$B$36","v":13},{"$f":"'82'!$H$36","v":"7 Left"},{"$f":"'82'!$R$21","v":"2 Right"},{"$f":"'82'!$AA$24","v":"3 Right"},{"$f":"'82'!$AJ$30","v":"5 Right"},null,"5 Right","2 Right","3 Left","4 Left"]
[{"$f":"'82'!$E$36","v":14},{"$f":"'82'!$I$36","v":"7 Right"},{"$f":"'82'!$R$18","v":"1 Right"},{"$f":"'82'!$Z$27","v":"4 Left"},{"$f":"'82'!$AJ$36","v":"7 Right"},null,"6 Left","3 Left","2 Left","4 Right"]
[{"$f":"'82'!$B$19","v":15},{"$f":"'82'!$H$19","v":"1 Left"},{"$f":"'82'!$Q$25","v":"3 Left"},{"$f":"'82'!$AA$37","v":"7 Right"},{"$f":"'82'!$AI$34","v":"6 Left"},null,"6 Right","4 Left","5 Left","2 Left"]
[{"$f":"'82'!$E$19","v":16},{"$f":"'82'!$I$19","v":"1 Right"},{"$f":"'82'!$Q$28","v":"4 Left"},{"$f":"'82'!$Z$31","v":"5 Left"},{"$f":"'82'!$AI$37","v":"7 Left"},null,"9 Left","10 Left","11 Left","12 Left"]
[{"$f":"'82'!$B$22","v":17},{"$f":"'82'!$H$22","v":"2 Left"},{"$f":"'82'!$Q$31","v":"5 Left"},{"$f":"'82'!$Z$19","v":"1 Left"},{"$f":"'82'!$AI$28","v":"4 Left"},null,"9 Right","11 Left","12 Left","11 Left"]
[{"$f":"'82'!$E$22","v":18},{"$f":"'82'!$I$22","v":"2 Right"},{"$f":"'82'!$Q$34","v":"6 Left"},{"$f":"'82'!$AA$31","v":"5 Right"},{"$f":"'82'!$AJ$25","v":"3 Right"},null,"10 Left","11 Right","9 Left","12 Right"]
[{"$f":"'82'!$B$25","v":19},{"$f":"'82'!$H$25","v":"3 Left"},{"$f":"'82'!$Q$37","v":"7 Left"},{"$f":"'82'!$Z$34","v":"6 Left"},{"$f":"'82'!$AJ$19","v":"1 Right"},null,"10 Right","12 Left","10 Left","11 Right"]
[{"$f":"'82'!$E$25","v":20},{"$f":"'82'!$I$25","v":"3 Right"},{"$f":"'82'!$Q$19","v":"1 Left"},{"$f":"'82'!$Z$22","v":"2 Left"},{"$f":"'82'!$AJ$28","v":"4 Right"},null,"11 Left","12 Right","9 Right","10 Left"]
[{"$f":"'82'!$B$28","v":21},{"$f":"'82'!$H$28","v":"4 Left"},{"$f":"'82'!$R$37","v":"7 Right"},{"$f":"'82'!$Z$25","v":"3 Left"},{"$f":"'82'!$AJ$34","v":"6 Right"},null,"11 Right","9 Left","10 Right","9 Right"]
[{"$f":"'82'!$E$28","v":22},{"$f":"'82'!$I$28","v":"4 Right"},{"$f":"'82'!$R$34","v":"6 Right"},{"$f":"'82'!$AA$22","v":"2 Right"},{"$f":"'82'!$AI$31","v":"5 Left"},null,"12 Left","10 Right","12 Right","9 Left"]
[{"$f":"'82'!$B$31","v":23},{"$f":"'82'!$H$31","v":"5 Left"},{"$f":"'82'!$R$28","v":"4 Right"},{"$f":"'82'!$AA$19","v":"1 Right"},{"$f":"'82'!$AJ$22","v":"2 Right"},null,"12 Right","9 Right","11 Right","10 Right"]
[{"$f":"'82'!$E$31","v":24},{"$f":"'82'!$I$31","v":"5 Right"},{"$f":"'82'!$R$25","v":"3 Right"},{"$f":"'82'!$Z$37","v":"7 Left"},{"$f":"'82'!$AJ$31","v":"5 Right"},null,"9 Left","11 Right","12 Right","11 Right"]
[{"$f":"'82'!$B$34","v":25},{"$f":"'82'!$H$34","v":"6 Left"},{"$f":"'82'!$R$31","v":"5 Right"},{"$f":"'82'!$AA$25","v":"3 Right"},{"$f":"'82'!$AJ$37","v":"7 Right"},null,"9 Right","12 Left","11 Right","10 Left"]
[{"$f":"'82'!$E$34","v":26},{"$f":"'82'!$I$34","v":"6 Right"},{"$f":"'82'!$R$22","v":"2 Right"},{"$f":"'82'!$Z$28","v":"4 Left"},{"$f":"'82'!$AI$25","v":"3 Left"},null,"10 Left","12 Right","11 Left","9 Right"]
[{"$f":"'82'!$B$37","v":27},{"$f":"'82'!$H$37","v":"7 Left"},{"$f":"'82'!$R$19","v":"1 Right"},{"$f":"'82'!$AA$28","v":"4 Right"},{"$f":"'82'!$AI$22","v":"2 Left"},null,"10 Right","9 Left","12 Left","9 Left"]
[{"$f":"'82'!$E$37","v":28},{"$f":"'82'!$I$37","v":"7 Right"},{"$f":"'82'!$Q$22","v":"2 Left"},{"$f":"'82'!$AA$34","v":"6 Right"},{"$f":"'82'!$AI$19","v":"1 Left"},null,"11 Left","10 Right","9 Left","10 Right"]
[{"$f":"'82'!$B$20","v":29},{"$f":"'82'!$H$20","v":"1 Left"},{"$f":"'82'!$Q$30","v":"5 Left"},{"$f":"'82'!$AA$26","v":"3 Right"},{"$f":"'82'!$AJ$23","v":"2 Right"},null,"11 Right","9 Right","10 Left","12 Left"]
[{"$f":"'82'!$E$20","v":30},{"$f":"'82'!$I$20","v":"1 Right"},{"$f":"'82'!$Q$23","v":"2 Left"},{"$f":"'82'!$Z$29","v":"4 Left"},{"$f":"'82'!$AJ$32","v":"5 Right"},null,"12 Left","10 Left","9 Right","11 Left"]
[{"$f":"'82'!$B$23","v":31},{"$f":"'82'!$H$23","v":"2 Left"},{"$f":"'82'!$Q$26","v":"3 Left"},{"$f":"'82'!$AA$29","v":"4 Right"},{"$f":"'82'!$AJ$38","v":"7 Right"},null,"12 Right","11 Left","10 Right","12 Right"]
[{"$f":"'82'!$E$23","v":32},{"$f":"'82'!$I$23","v":"2 Right"},{"$f":"'82'!$Q$29","v":"4 Left"},{"$f":"'82'!$AA$35","v":"6 Right"},{"$f":"'82'!$AI$26","v":"3 Left"},null,0,0,0,0]
[{"$f":"'82'!$B$26","v":33},{"$f":"'82'!$H$26","v":"3 Left"},{"$f":"'82'!$Q$32","v":"5 Left"},{"$f":"'82'!$AA$38","v":"7 Right"},{"$f":"'82'!$AI$23","v":"2 Left"},null,"1 Left","3 Left","2 Left","1 Left"]
[{"$f":"'82'!$E$26","v":34},{"$f":"'82'!$I$26","v":"3 Right"},{"$f":"'82'!$Q$35","v":"6 Left"},{"$f":"'82'!$Z$32","v":"5 Left"},{"$f":"'82'!$AI$20","v":"1 Left"},null,"1 Right","2 Left","4 Left","3 Left"]
[{"$f":"'82'!$B$29","v":35},{"$f":"'82'!$H$29","v":"4 Left"},{"$f":"'82'!$Q$38","v":"7 Left"},{"$f":"'82'!$Z$20","v":"1 Left"},{"$f":"'82'!$AI$35","v":"6 Left"},null,"3 Right","1 Left","2 Right","4 Right"]
[{"$f":"'82'!$E$29","v":36},{"$f":"'82'!$I$29","v":"4 Right"},{"$f":"'82'!$Q$20","v":"1 Left"},{"$f":"'82'!$AA$32","v":"5 Right"},{"$f":"'82'!$AI$38","v":"7 Left"},null,"4 Left","2 Right","1 Left","2 Right"]
[{"$f":"'82'!$B$32","v":37},{"$f":"'82'!$H$32","v":"5 Left"},{"$f":"'82'!$R$38","v":"7 Right"},{"$f":"'82'!$Z$35","v":"6 Left"},{"$f":"'82'!$AI$29","v":"4 Left"},null,"2 Right","4 Left","1 Right","3 Right"]
[{"$f":"'82'!$E$32","v":38},{"$f":"'82'!$I$32","v":"5 Right"},{"$f":"'82'!$R$35","v":"6 Right"},{"$f":"'82'!$Z$23","v":"2 Left"},{"$f":"'82'!$AJ$26","v":"3 Right"},null,"2 Left","3 Right","1 Left","2 Left"]
[{"$f":"'82'!$B$35","v":39},{"$f":"'82'!$H$35","v":"6 Left"},{"$f":"'82'!$R$29","v":"4 Right"},{"$f":"'82'!$Z$26","v":"3 Left"},{"$f":"'82'!$AJ$20","v":"1 Right"},null,"3 Left","1 Right","4 Right","1 Right"]
[{"$f":"'82'!$E$35","v":40},{"$f":"'82'!$I$35","v":"6 Right"},{"$f":"'82'!$R$26","v":"3 Right"},{"$f":"'82'!$AA$23","v":"2 Right"},{"$f":"'82'!$AJ$29","v":"4 Right"},null,"4 Right","1 Left","3 Left","1 Left"]
[{"$f":"'82'!$B$38","v":41},{"$f":"'82'!$H$38","v":"7 Left"},{"$f":"'82'!$R$32","v":"5 Right"},{"$f":"'82'!$AA$20","v":"1 Right"},{"$f":"'82'!$AJ$35","v":"6 Right"},null,"1 Left","4 Right","3 Right","4 Left"]
[{"$f":"'82'!$E$38","v":42},{"$f":"'82'!$I$38","v":"7 Right"},{"$f":"'82'!$R$23","v":"2 Right"},{"$f":"'82'!$Z$38","v":"7 Left"},{"$f":"'82'!$AI$32","v":"5 Left"},null,"1 Left","4 Left","3 Left","1 Right"]
[{"$f":"'82'!$B$39","v":43},{"$f":"'82'!$H$39","v":"8 Left"},{"$f":"'82'!$Q$57","v":"14 Left"},{"$f":"'82'!$AA$56","v":"13 Right"},{"$f":"'82'!$AJ$48","v":"11 Right"},null,"1 Right","3 Right","2 Left","4 Left"]
[{"$f":"'82'!$B$45","v":44},{"$f":"'82'!$H$45","v":"10 Left"},{"$f":"'82'!$R$57","v":"14 Right"},{"$f":"'82'!$AA$50","v":"11 Right"},{"$f":"'82'!$AJ$54","v":"13 Right"},null,{"$f":"B1538","v":"3 Right"},{"$f":"C1538","v":"1 Right"},{"$f":"D1538","v":"4 Left"},{"$f":"E1538","v":"1 Left"}]
[{"$f":"'82'!$B$42","v":45},{"$f":"'82'!$H$42","v":"9 Left"},{"$f":"'82'!$Q$58","v":"14 Left"},{"$f":"'82'!$Z$53","v":"12 Left"},{"$f":"'82'!$AJ$55","v":"13 Right"},null,"4 Right","1 Right","2 Right","3 Right"]
[{"$f":"'82'!$B$48","v":46},{"$f":"'82'!$H$48","v":"11 Left"},{"$f":"'82'!$R$58","v":"14 Right"},{"$f":"'82'!$AA$47","v":"10 Right"},{"$f":"'82'!$AJ$52","v":"12 Right"},null,"2 Right","4 Right","1 Left","3 Left"]
[{"$f":"'82'!$B$51","v":47},{"$f":"'82'!$H$51","v":"12 Left"},{"$f":"'82'!$Q$42","v":"9 Left"},{"$f":"'82'!$AA$41","v":"8 Right"},{"$f":"'82'!$AI$55","v":"13 Left"},null,"2 Left","3 Left","1 Right","2 Right"]
[{"$f":"'82'!$B$54","v":48},{"$f":"'82'!$H$54","v":"13 Left"},{"$f":"'82'!$Q$45","v":"10 Left"},{"$f":"'82'!$AA$53","v":"12 Right"},{"$f":"'82'!$AI$43","v":"9 Left"},null,"3 Left","2 Left","1 Right","4 Right"]
[{"$f":"'82'!$E$39","v":49},{"$f":"'82'!$I$39","v":"8 Right"},{"$f":"'82'!$Q$48","v":"11 Left"},{"$f":"'82'!$Z$56","v":"13 Left"},{"$f":"'82'!$AJ$39","v":"8 Right"},null,"4 Left","1 Left","4 Right","2 Left"]
[{"$f":"'82'!$E$42","v":50},{"$f":"'82'!$I$42","v":"9 Right"},{"$f":"'82'!$Q$51","v":"12 Left"},{"$f":"'82'!$AA$44","v":"9 Right"},{"$f":"'82'!$AI$45","v":"10 Left"},null,"1 Right","2 Right","3 Right","1 Right"]
[{"$f":"'82'!$E$45","v":51},{"$f":"'82'!$I$45","v":"10 Right"},{"$f":"'82'!$Q$54","v":"13 Left"},{"$f":"'82'!$Z$50","v":"11 Left"},{"$f":"'82'!$AJ$46","v":"10 Right"},null,"9 Left","10 Left","11 Left","12 Left"]
[{"$f":"'82'!$E$48","v":52},{"$f":"'82'!$I$48","v":"11 Right"},{"$f":"'82'!$Q$39","v":"8 Left"},{"$f":"'82'!$Z$44","v":"9 Left"},{"$f":"'82'!$AI$39","v":"8 Left"},null,"9 Right","11 Left","12 Left","11 Left"]
[{"$f":"'82'!$E$51","v":53},{"$f":"'82'!$I$51","v":"12 Right"},{"$f":"'82'!$R$39","v":"8 Right"},{"$f":"'82'!$Z$47","v":"10 Left"},{"$f":"'82'!$AJ$49","v":"11 Right"},null,"10 Left","11 Right","9 Left","12 Right"]
[{"$f":"'82'!$E$54","v":54},{"$f":"'82'!$I$54","v":"13 Right"},{"$f":"'82'!$R$42","v":"9 Right"},{"$f":"'82'!$Z$41","v":"8 Left"},{"$f":"'82'!$AI$48","v":"11 Left"},null,"10 Right","12 Left","10 Left","11 Right"]
[{"$f":"'82'!$B$40","v":55},{"$f":"'82'!$H$40","v":"8 Left"},{"$f":"'82'!$R$48","v":"11 Right"},{"$f":"'82'!$Z$57","v":"14 Left"},{"$f":"'82'!$AI$52","v":"12 Left"},null,"11 Left","12 Right","9 Right","10 Left"]
[{"$f":"'82'!$B$46","v":56},{"$f":"'82'!$H$46","v":"10 Left"},{"$f":"'82'!$R$51","v":"12 Right"},{"$f":"'82'!$AA$57","v":"14 Right"},{"$f":"'82'!$AJ$42","v":"9 Right"},null,"11 Right","9 Left","10 Right","9 Right"]
[{"$f":"'82'!$B$43","v":57},{"$f":"'82'!$H$43","v":"9 Left"},{"$f":"'82'!$R$54","v":"13 Right"},{"$f":"'82'!$Z$58","v":"14 Left"},{"$f":"'82'!$AI$56","v":"13 Left"},null,"12 Left","10 Right","12 Right","9 Left"]
[{"$f":"'82'!$B$49","v":58},{"$f":"'82'!$H$49","v":"11 Left"},{"$f":"'82'!$R$45","v":"10 Right"},{"$f":"'82'!$AA$58","v":"14 Right"},{"$f":"'82'!$AI$44","v":"9 Left"},null,"12 Right","9 Right","11 Right","10 Right"]
[{"$f":"'82'!$B$52","v":59},{"$f":"'82'!$H$52","v":"12 Left"},{"$f":"'82'!$R$46","v":"10 Right"},{"$f":"'82'!$AA$54","v":"13 Right"},{"$f":"'82'!$AJ$40","v":"8 Right"},null,"9 Left","11 Right","12 Right","11 Right"]
[{"$f":"'82'!$B$55","v":60},{"$f":"'82'!$H$55","v":"13 Left"},{"$f":"'82'!$Q$43","v":"9 Left"},{"$f":"'82'!$AA$48","v":"11 Right"},{"$f":"'82'!$AI$46","v":"10 Left"},null,"9 Right","12 Left","11 Right","10 Left"]
[{"$f":"'82'!$E$40","v":61},{"$f":"'82'!$I$40","v":"8 Right"},{"$f":"'82'!$Q$46","v":"10 Left"},{"$f":"'82'!$Z$51","v":"12 Left"},{"$f":"'82'!$AJ$47","v":"10 Right"},null,"10 Left","12 Right","11 Left","9 Right"]
[{"$f":"'82'!$E$43","v":62},{"$f":"'82'!$I$43","v":"9 Right"},{"$f":"'82'!$Q$49","v":"11 Left"},{"$f":"'82'!$AA$45","v":"10 Right"},{"$f":"'82'!$AI$40","v":"8 Left"},null,"10 Right","9 Left","12 Left","9 Left"]
[{"$f":"'82'!$E$46","v":63},{"$f":"'82'!$I$46","v":"10 Right"},{"$f":"'82'!$Q$52","v":"12 Left"},{"$f":"'82'!$AA$39","v":"8 Right"},{"$f":"'82'!$AJ$50","v":"11 Right"},null,"11 Left","10 Right","9 Left","10 Right"]
[{"$f":"'82'!$E$49","v":64},{"$f":"'82'!$I$49","v":"11 Right"},{"$f":"'82'!$Q$55","v":"13 Left"},{"$f":"'82'!$AA$51","v":"12 Right"},{"$f":"'82'!$AI$49","v":"11 Left"},null,"11 Right","9 Right","10 Left","12 Left"]
[{"$f":"'82'!$E$52","v":65},{"$f":"'82'!$I$52","v":"12 Right"},{"$f":"'82'!$Q$40","v":"8 Left"},{"$f":"'82'!$Z$54","v":"13 Left"},{"$f":"'82'!$AJ$43","v":"9 Right"},null,"12 Left","10 Left","9 Right","11 Left"]
[{"$f":"'82'!$E$55","v":66},{"$f":"'82'!$I$55","v":"13 Right"},{"$f":"'82'!$R$40","v":"8 Right"},{"$f":"'82'!$AA$42","v":"9 Right"},{"$f":"'82'!$AI$53","v":"12 Left"},null,"12 Right","11 Left","10 Right","12 Right"]
[{"$f":"'82'!$B$41","v":67},{"$f":"'82'!$H$41","v":"8 Left"},{"$f":"'82'!$R$43","v":"9 Right"},{"$f":"'82'!$Z$48","v":"11 Left"},{"$f":"'82'!$AJ$56","v":"13 Right"},null,0,0,0,0]
[{"$f":"'82'!$B$47","v":68},{"$f":"'82'!$H$47","v":"10 Left"},{"$f":"'82'!$R$49","v":"11 Right"},{"$f":"'82'!$Z$42","v":"9 Left"},{"$f":"'82'!$AJ$53","v":"12 Right"},null,"2 Left","3 Left","4 Left","5 Left"]
[{"$f":"'82'!$B$44","v":69},{"$f":"'82'!$H$44","v":"9 Left"},{"$f":"'82'!$R$52","v":"12 Right"},{"$f":"'82'!$Z$45","v":"10 Left"},{"$f":"'82'!$AI$57","v":"14 Left"},null,"2 Right","4 Left","5 Left","4 Left"]
[{"$f":"'82'!$B$50","v":70},{"$f":"'82'!$H$50","v":"11 Left"},{"$f":"'82'!$R$55","v":"13 Right"},{"$f":"'82'!$Z$39","v":"8 Left"},{"$f":"'82'!$AJ$57","v":"14 Right"},null,"3 Left","4 Right","2 Left","5 Right"]
[{"$f":"'82'!$B$53","v":71},{"$f":"'82'!$H$53","v":"12 Left"},{"$f":"'82'!$R$56","v":"13 Right"},{"$f":"'82'!$AA$49","v":"11 Right"},{"$f":"'82'!$AI$58","v":"14 Left"},null,"3 Right","5 Left","3 Left","4 Right"]
[{"$f":"'82'!$B$56","v":72},{"$f":"'82'!$H$56","v":"13 Left"},{"$f":"'82'!$R$47","v":"10 Right"},{"$f":"'82'!$Z$52","v":"12 Left"},{"$f":"'82'!$AJ$58","v":"14 Right"},null,"4 Left","5 Right","2 Right","3 Left"]
[{"$f":"'82'!$E$41","v":73},{"$f":"'82'!$I$41","v":"8 Right"},{"$f":"'82'!$Q$44","v":"9 Left"},{"$f":"'82'!$AA$46","v":"10 Right"},{"$f":"'82'!$AI$51","v":"12 Left"},null,"4 Right","2 Left","3 Right","2 Right"]
[{"$f":"'82'!$E$44","v":74},{"$f":"'82'!$I$44","v":"9 Right"},{"$f":"'82'!$Q$47","v":"10 Left"},{"$f":"'82'!$AA$40","v":"8 Right"},{"$f":"'82'!$AJ$51","v":"12 Right"},null,"5 Left","3 Right","5 Right","2 Left"]
[{"$f":"'82'!$E$47","v":75},{"$f":"'82'!$I$47","v":"10 Right"},{"$f":"'82'!$Q$50","v":"11 Left"},{"$f":"'82'!$AA$52","v":"12 Right"},{"$f":"'82'!$AI$54","v":"13 Left"},null,"5 Right","2 Right","4 Right","3 Right"]
[{"$f":"'82'!$E$50","v":76},{"$f":"'82'!$I$50","v":"11 Right"},{"$f":"'82'!$Q$53","v":"12 Left"},{"$f":"'82'!$Z$55","v":"13 Left"},{"$f":"'82'!$AI$42","v":"9 Left"},null,"2 Left","4 Right","5 Right","4 Right"]
[{"$f":"'82'!$E$53","v":77},{"$f":"'82'!$I$53","v":"12 Right"},{"$f":"'82'!$Q$56","v":"13 Left"},{"$f":"'82'!$AA$43","v":"9 Right"},{"$f":"'82'!$AJ$41","v":"8 Right"},null,"2 Right","5 Left","4 Right","3 Left"]
[{"$f":"'82'!$E$56","v":78},{"$f":"'82'!$I$56","v":"13 Right"},{"$f":"'82'!$Q$41","v":"8 Left"},{"$f":"'82'!$Z$49","v":"11 Left"},{"$f":"'82'!$AI$47","v":"10 Left"},null,"3 Left","5 Right","4 Left","2 Right"]
[{"$f":"'82'!$B$57","v":79},{"$f":"'82'!$H$57","v":"14 Left"},{"$f":"'82'!$R$41","v":"8 Right"},{"$f":"'82'!$Z$43","v":"9 Left"},{"$f":"'82'!$AJ$45","v":"10 Right"},null,"3 Right","2 Left","5 Left","2 Left"]
[{"$f":"'82'!$E$57","v":80},{"$f":"'82'!$I$57","v":"14 Right"},{"$f":"'82'!$R$44","v":"9 Right"},{"$f":"'82'!$Z$46","v":"10 Left"},{"$f":"'82'!$AI$41","v":"8 Left"},null,"4 Left","3 Right","2 Left","3 Right"]
[{"$f":"'82'!$B$58","v":81},{"$f":"'82'!$H$58","v":"14 Left"},{"$f":"'82'!$R$50","v":"11 Right"},{"$f":"'82'!$Z$40","v":"8 Left"},{"$f":"'82'!$AJ$44","v":"9 Right"},null,"4 Right","2 Right","3 Left","5 Left"]
[{"$f":"'82'!$E$58","v":82},{"$f":"'82'!$I$58","v":"14 Right"},{"$f":"'82'!$R$53","v":"12 Right"},{"$f":"'82'!$AA$55","v":"13 Right"},{"$f":"'82'!$AI$50","v":"11 Left"},null,"5 Left","3 Left","2 Right","4 Left"]
[{"$nulls":6},"5 Right","4 Left","3 Right","5 Right"]
[{"$f":"'80'!$B$18","v":1},{"$f":"'80'!$H$18","v":"1 Left"},{"$f":"'80'!$Q$36","v":"7 Left"},{"$f":"'80'!$AA$35","v":"6 Right"},{"$f":"'80'!$AJ$27","v":"4 Right"},null,"9 Left","10 Left","11 Left","12 Left",null,80]
[{"$f":"'80'!$B$24","v":2},{"$f":"'80'!$H$24","v":"3 Left"},{"$f":"'80'!$R$36","v":"7 Right"},{"$f":"'80'!$AA$29","v":"4 Right"},{"$f":"'80'!$AJ$33","v":"6 Right"},null,"9 Right","11 Left","12 Left","11 Left"]
[{"$f":"'80'!$B$21","v":3},{"$f":"'80'!$H$21","v":"2 Left"},{"$f":"'80'!$Q$37","v":"7 Left"},{"$f":"'80'!$Z$32","v":"5 Left"},{"$f":"'80'!$AJ$34","v":"6 Right"},null,"10 Left","11 Right","9 Left","12 Right"]
[{"$f":"'80'!$B$27","v":4},{"$f":"'80'!$H$27","v":"4 Left"},{"$f":"'80'!$R$37","v":"7 Right"},{"$f":"'80'!$AA$26","v":"3 Right"},{"$f":"'80'!$AJ$31","v":"5 Right"},null,"10 Right","12 Left","10 Left","11 Right"]
[{"$f":"'80'!$B$30","v":5},{"$f":"'80'!$H$30","v":"5 Left"},{"$f":"'80'!$Q$21","v":"2 Left"},{"$f":"'80'!$AA$20","v":"1 Right"},{"$f":"'80'!$AI$34","v":"6 Left"},null,"11 Left","12 Right","9 Right","10 Left"]
[{"$f":"'80'!$B$33","v":6},{"$f":"'80'!$H$33","v":"6 Left"},{"$f":"'80'!$Q$24","v":"3 Left"},{"$f":"'80'!$AA$32","v":"5 Right"},{"$f":"'80'!$AI$22","v":"2 Left"},null,"11 Right","9 Left","10 Right","9 Right"]
[{"$f":"'80'!$E$18","v":7},{"$f":"'80'!$I$18","v":"1 Right"},{"$f":"'80'!$Q$27","v":"4 Left"},{"$f":"'80'!$Z$35","v":"6 Left"},{"$f":"'80'!$AJ$18","v":"1 Right"},null,"12 Left","10 Right","12 Right","9 Left"]
[{"$f":"'80'!$E$21","v":8},{"$f":"'80'!$I$21","v":"2 Right"},{"$f":"'80'!$Q$30","v":"5 Left"},{"$f":"'80'!$AA$23","v":"2 Right"},{"$f":"'80'!$AI$24","v":"3 Left"},null,"12 Right","9 Right","11 Right","10 Right"]
[{"$f":"'80'!$E$24","v":9},{"$f":"'80'!$I$24","v":"3 Right"},{"$f":"'80'!$Q$33","v":"6 Left"},{"$f":"'80'!$Z$29","v":"4 Left"},{"$f":"'80'!$AJ$25","v":"3 Right"},null,"9 Left","11 Right","12 Right","11 Right"]
[{"$f":"'80'!$E$27","v":10},{"$f":"'80'!$I$27","v":"4 Right"},{"$f":"'80'!$Q$18","v":"1 Left"},{"$f":"'80'!$Z$23","v":"2 Left"},{"$f":"'80'!$AI$18","v":"1 Left"},null,"9 Right","12 Left","11 Right","10 Left"]
[{"$f":"'80'!$E$30","v":11},{"$f":"'80'!$I$30","v":"5 Right"},{"$f":"'80'!$R$18","v":"1 Right"},{"$f":"'80'!$Z$26","v":"3 Left"},{"$f":"'80'!$AJ$28","v":"4 Right"},null,"10 Left","12 Right","11 Left","9 Right"]
[{"$f":"'80'!$E$33","v":12},{"$f":"'80'!$I$33","v":"6 Right"},{"$f":"'80'!$R$21","v":"2 Right"},{"$f":"'80'!$Z$20","v":"1 Left"},{"$f":"'80'!$AI$27","v":"4 Left"},null,"10 Right","9 Left","12 Left","9 Left"]
[{"$f":"'80'!$B$19","v":13},{"$f":"'80'!$H$19","v":"1 Left"},{"$f":"'80'!$R$27","v":"4 Right"},{"$f":"'80'!$Z$36","v":"7 Left"},{"$f":"'80'!$AI$31","v":"5 Left"},null,"11 Left","10 Right","9 Left","10 Right"]
[{"$f":"'80'!$B$25","v":14},{"$f":"'80'!$H$25","v":"3 Left"},{"$f":"'80'!$R$30","v":"5 Right"},{"$f":"'80'!$AA$36","v":"7 Right"},{"$f":"'80'!$AJ$21","v":"2 Right"},null,"11 Right","9 Right","10 Left","12 Left"]
[{"$f":"'80'!$B$22","v":15},{"$f":"'80'!$H$22","v":"2 Left"},{"$f":"'80'!$R$33","v":"6 Right"},{"$f":"'80'!$Z$37","v":"7 Left"},{"$f":"'80'!$AI$35","v":"6 Left"},null,"12 Left","10 Left","9 Right","11 Left"]
[{"$f":"'80'!$B$28","v":16},{"$f":"'80'!$H$28","v":"4 Left"},{"$f":"'80'!$R$24","v":"3 Right"},{"$f":"'80'!$AA$37","v":"7 Right"},{"$f":"'80'!$AI$23","v":"2 Left"},null,"12 Right","11 Left","10 Right","12 Right"]
[{"$f":"'80'!$B$31","v":17},{"$f":"'80'!$H$31","v":"5 Left"},{"$f":"'80'!$R$25","v":"3 Right"},{"$f":"'80'!$AA$33","v":"6 Right"},{"$f":"'80'!$AJ$19","v":"1 Right"},null,0,0,0,0]
[{"$f":"'80'!$B$34","v":18},{"$f":"'80'!$H$34","v":"6 Left"},{"$f":"'80'!$Q$22","v":"2 Left"},{"$f":"'80'!$AA$27","v":"4 Right"},{"$f":"'80'!$AI$25","v":"3 Left"},null,"1 Left","2 Left","4 Left","6 Left"]
[{"$f":"'80'!$E$19","v":19},{"$f":"'80'!$I$19","v":"1 Right"},{"$f":"'80'!$Q$25","v":"3 Left"},{"$f":"'80'!$Z$30","v":"5 Left"},{"$f":"'80'!$AJ$26","v":"3 Right"},null,"1 Right","3 Left","2 Left","7 Right"]
[{"$f":"'80'!$E$22","v":20},{"$f":"'80'!$I$22","v":"2 Right"},{"$f":"'80'!$Q$28","v":"4 Left"},{"$f":"'80'!$AA$24","v":"3 Right"},{"$f":"'80'!$AI$19","v":"1 Left"},null,"2 Left","4 Left","1 Left","3 Right"]
[{"$f":"'80'!$E$25","v":21},{"$f":"'80'!$I$25","v":"3 Right"},{"$f":"'80'!$Q$31","v":"5 Left"},{"$f":"'80'!$AA$18","v":"1 Right"},{"$f":"'80'!$AJ$29","v":"4 Right"},null,"2 Right","5 Left","7 Left","1 Left"]
[{"$f":"'80'!$E$28","v":22},{"$f":"'80'!$I$28","v":"4 Right"},{"$f":"'80'!$Q$34","v":"6 Left"},{"$f":"'80'!$AA$30","v":"5 Right"},{"$f":"'80'!$AI$28","v":"4 Left"},null,"3 Left","1 Left","5 Left","6 Right"]
[{"$f":"'80'!$E$31","v":23},{"$f":"'80'!$I$31","v":"5 Right"},{"$f":"'80'!$Q$19","v":"1 Left"},{"$f":"'80'!$Z$33","v":"6 Left"},{"$f":"'80'!$AJ$22","v":"2 Right"},null,"3 Right","6 Left","7 Right","5 Right"]
[{"$f":"'80'!$E$34","v":24},{"$f":"'80'!$I$34","v":"6 Right"},{"$f":"'80'!$R$19","v":"1 Right"},{"$f":"'80'!$AA$21","v":"2 Right"},{"$f":"'80'!$AI$32","v":"5 Left"},null,"4 Left","1 Right","3 Left","7 Left"]
[{"$f":"'80'!$B$20","v":25},{"$f":"'80'!$H$20","v":"1 Left"},{"$f":"'80'!$R$22","v":"2 Right"},{"$f":"'80'!$Z$27","v":"4 Left"},{"$f":"'80'!$AJ$35","v":"6 Right"},null,{"$f":"B1602","v":"4 Right"},{"$f":"C1602","v":"1 Left"},{"$f":"D1602","v":"5 Right"},{"$f":"E1602","v":"3 Left"}]
[{"$f":"'80'!$B$26","v":26},{"$f":"'80'!$H$26","v":"3 Left"},{"$f":"'80'!$R$28","v":"4 Right"},{"$f":"'80'!$Z$21","v":"2 Left"},{"$f":"'80'!$AJ$32","v":"5 Right"},null,"5 Left","7 Left","6 Right","1 Right"]
[{"$f":"'80'!$B$23","v":27},{"$f":"'80'!$H$23","v":"2 Left"},{"$f":"'80'!$R$31","v":"5 Right"},{"$f":"'80'!$Z$24","v":"3 Left"},{"$f":"'80'!$AI$36","v":"7 Left"},null,"5 Right","6 Right","4 Right","1 Right"]
[{"$f":"'80'!$B$29","v":28},{"$f":"'80'!$H$29","v":"4 Left"},{"$f":"'80'!$R$34","v":"6 Right"},{"$f":"'80'!$Z$18","v":"1 Left"},{"$f":"'80'!$AJ$36","v":"7 Right"},null,"6 Left","7 Right","1 Right","2 Right"]
[{"$f":"'80'!$B$32","v":29},{"$f":"'80'!$H$32","v":"5 Left"},{"$f":"'80'!$R$35","v":"6 Right"},{"$f":"'80'!$AA$28","v":"4 Right"},{"$f":"'80'!$AI$37","v":"7 Left"},null,"6 Right","4 Right","1 Left","5 Left"]
[{"$f":"'80'!$B$35","v":30},{"$f":"'80'!$H$35","v":"6 Left"},{"$f":"'80'!$R$26","v":"3 Right"},{"$f":"'80'!$Z$31","v":"5 Left"},{"$f":"'80'!$AJ$37","v":"7 Right"},null,"7 Left","2 Right","6 Left","4 Right"]
[{"$f":"'80'!$E$20","v":31},{"$f":"'80'!$I$20","v":"1 Right"},{"$f":"'80'!$Q$23","v":"2 Left"},{"$f":"'80'!$AA$25","v":"3 Right"},{"$f":"'80'!$AI$30","v":"5 Left"},null,"7 Right","3 Right","2 Right","4 Left"]
[{"$f":"'80'!$E$23","v":32},{"$f":"'80'!$I$23","v":"2 Right"},{"$f":"'80'!$Q$26","v":"3 Left"},{"$f":"'80'!$AA$19","v":"1 Right"},{"$f":"'80'!$AJ$30","v":"5 Right"},null,"1 Left","5 Right","3 Right","2 Left"]
[{"$f":"'80'!$E$26","v":33},{"$f":"'80'!$I$26","v":"3 Right"},{"$f":"'80'!$Q$29","v":"4 Left"},{"$f":"'80'!$AA$31","v":"5 Right"},{"$f":"'80'!$AI$33","v":"6 Left"},null,"1 Left","4 Left","5 Left","3 Left"]
[{"$f":"'80'!$E$29","v":34},{"$f":"'80'!$I$29","v":"4 Right"},{"$f":"'80'!$Q$32","v":"5 Left"},{"$f":"'80'!$Z$34","v":"6 Left"},{"$f":"'80'!$AI$21","v":"2 Left"},null,"1 Right","5 Left","7 Right","6 Left"]
[{"$f":"'80'!$E$32","v":35},{"$f":"'80'!$I$32","v":"5 Right"},{"$f":"'80'!$Q$35","v":"6 Left"},{"$f":"'80'!$AA$22","v":"2 Right"},{"$f":"'80'!$AJ$20","v":"1 Right"},null,"2 Left","1 Left","3 Left","7 Right"]
[{"$f":"'80'!$E$35","v":36},{"$f":"'80'!$I$35","v":"6 Right"},{"$f":"'80'!$Q$20","v":"1 Left"},{"$f":"'80'!$Z$28","v":"4 Left"},{"$f":"'80'!$AI$26","v":"3 Left"},null,"2 Right","6 Left","5 Right","3 Right"]
[{"$f":"'80'!$B$36","v":37},{"$f":"'80'!$H$36","v":"7 Left"},{"$f":"'80'!$R$20","v":"1 Right"},{"$f":"'80'!$Z$22","v":"2 Left"},{"$f":"'80'!$AJ$24","v":"3 Right"},null,"3 Left","1 Right","6 Right","5 Left"]
[{"$f":"'80'!$E$36","v":38},{"$f":"'80'!$I$36","v":"7 Right"},{"$f":"'80'!$R$23","v":"2 Right"},{"$f":"'80'!$Z$25","v":"3 Left"},{"$f":"'80'!$AI$20","v":"1 Left"},null,"3 Right","1 Right","4 Right","6 Right"]
[{"$f":"'80'!$B$37","v":39},{"$f":"'80'!$H$37","v":"7 Left"},{"$f":"'80'!$R$29","v":"4 Right"},{"$f":"'80'!$Z$19","v":"1 Left"},{"$f":"'80'!$AJ$23","v":"2 Right"},null,"4 Left","7 Left","1 Right","5 Right"]
[{"$f":"'80'!$E$37","v":40},{"$f":"'80'!$I$37","v":"7 Right"},{"$f":"'80'!$R$32","v":"5 Right"},{"$f":"'80'!$AA$34","v":"6 Right"},{"$f":"'80'!$AI$29","v":"4 Left"},null,"4 Right","6 Right","1 Right","7 Left"]
[{"$f":"'80'!$B$39","v":41},{"$f":"'80'!$H$39","v":"8 Left"},{"$f":"'80'!$Q$57","v":"14 Left"},{"$f":"'80'!$AA$56","v":"13 Right"},{"$f":"'80'!$AJ$48","v":"11 Right"},null,"5 Left","7 Right","6 Left","2 Left"]
[{"$f":"'80'!$B$45","v":42},{"$f":"'80'!$H$45","v":"10 Left"},{"$f":"'80'!$R$57","v":"14 Right"},{"$f":"'80'!$AA$50","v":"11 Right"},{"$f":"'80'!$AJ$54","v":"13 Right"},null,"5 Right","4 Right","2 Right","1 Left"]
[{"$f":"'80'!$B$42","v":43},{"$f":"'80'!$H$42","v":"9 Left"},{"$f":"'80'!$Q$58","v":"14 Left"},{"$f":"'80'!$Z$53","v":"12 Left"},{"$f":"'80'!$AJ$55","v":"13 Right"},null,"6 Left","2 Right","3 Right","1 Right"]
[{"$f":"'80'!$B$48","v":44},{"$f":"'80'!$H$48","v":"11 Left"},{"$f":"'80'!$R$58","v":"14 Right"},{"$f":"'80'!$AA$47","v":"10 Right"},{"$f":"'80'!$AJ$52","v":"12 Right"},null,"6 Right","3 Right","4 Left","2 Right"]
[{"$f":"'80'!$B$51","v":45},{"$f":"'80'!$H$51","v":"12 Left"},{"$f":"'80'!$Q$42","v":"9 Left"},{"$f":"'80'!$AA$41","v":"8 Right"},{"$f":"'80'!$AI$55","v":"13 Left"},null,"7 Left","5 Right","2 Left","1 Left"]
[{"$f":"'80'!$B$54","v":46},{"$f":"'80'!$H$54","v":"13 Left"},{"$f":"'80'!$Q$45","v":"10 Left"},{"$f":"'80'!$AA$53","v":"12 Right"},{"$f":"'80'!$AI$43","v":"9 Left"},null,"7 Right","3 Left","1 Left","4 Right"]
[{"$f":"'80'!$E$39","v":47},{"$f":"'80'!$I$39","v":"8 Right"},{"$f":"'80'!$Q$48","v":"11 Left"},{"$f":"'80'!$Z$56","v":"13 Left"},{"$f":"'80'!$AJ$39","v":"8 Right"},null,"1 Right","2 Left","7 Left","4 Left"]
[{"$f":"'80'!$E$42","v":48},{"$f":"'80'!$I$42","v":"9 Right"},{"$f":"'80'!$Q$51","v":"12 Left"},{"$f":"'80'!$AA$44","v":"9 Right"},{"$f":"'80'!$AI$45","v":"10 Left"},null,0,0,0,0]
[{"$f":"'80'!$E$45","v":49},{"$f":"'80'!$I$45","v":"10 Right"},{"$f":"'80'!$Q$54","v":"13 Left"},{"$f":"'80'!$Z$50","v":"11 Left"},{"$f":"'80'!$AJ$46","v":"10 Right"},null,"1 Left","2 Left","3 Left","7 Right"]
[{"$f":"'80'!$E$48","v":50},{"$f":"'80'!$I$48","v":"11 Right"},{"$f":"'80'!$Q$39","v":"8 Left"},{"$f":"'80'!$Z$44","v":"9 Left"},{"$f":"'80'!$AI$39","v":"8 Left"},null,"1 Right","3 Left","4 Left","7 Left"]
[{"$f":"'80'!$E$51","v":51},{"$f":"'80'!$I$51","v":"12 Right"},{"$f":"'80'!$R$39","v":"8 Right"},{"$f":"'80'!$Z$47","v":"10 Left"},{"$f":"'80'!$AJ$49","v":"11 Right"},null,"2 Left","4 Left","5 Left","1 Left"]
[{"$f":"'80'!$E$54","v":52},{"$f":"'80'!$I$54","v":"13 Right"},{"$f":"'80'!$R$42","v":"9 Right"},{"$f":"'80'!$Z$41","v":"8 Left"},{"$f":"'80'!$AI$48","v":"11 Left"},null,"2 Right","5 Left","6 Left","3 Left"]
[{"$f":"'80'!$B$40","v":53},{"$f":"'80'!$H$40","v":"8 Left"},{"$f":"'80'!$R$48","v":"11 Right"},{"$f":"'80'!$Z$57","v":"14 Left"},{"$f":"'80'!$AI$52","v":"12 Left"},null,"3 Left","6 Left","7 Left","4 Left"]
[{"$f":"'80'!$B$46","v":54},{"$f":"'80'!$H$46","v":"10 Left"},{"$f":"'80'!$R$51","v":"12 Right"},{"$f":"'80'!$AA$57","v":"14 Right"},{"$f":"'80'!$AJ$42","v":"9 Right"},null,"3 Right","7 Left","2 Left","5 Left"]
[{"$f":"'80'!$B$43","v":55},{"$f":"'80'!$H$43","v":"9 Left"},{"$f":"'80'!$R$54","v":"13 Right"},{"$f":"'80'!$Z$58","v":"14 Left"},{"$f":"'80'!$AI$56","v":"13 Left"},null,"4 Left","7 Right","1 Left","2 Left"]
[{"$f":"'80'!$B$49","v":56},{"$f":"'80'!$H$49","v":"11 Left"},{"$f":"'80'!$R$45","v":"10 Right"},{"$f":"'80'!$AA$58","v":"14 Right"},{"$f":"'80'!$AI$44","v":"9 Left"},null,"4 Right","6 Right","5 Right","3 Right"]
[{"$f":"'80'!$B$52","v":57},{"$f":"'80'!$H$52","v":"12 Left"},{"$f":"'80'!$R$46","v":"10 Right"},{"$f":"'80'!$AA$54","v":"13 Right"},{"$f":"'80'!$AJ$40","v":"8 Right"},null,"5 Left","1 Left","6 Right","4 Right"]
[{"$f":"'80'!$B$55","v":58},{"$f":"'80'!$H$55","v":"13 Left"},{"$f":"'80'!$Q$43","v":"9 Left"},{"$f":"'80'!$AA$48","v":"11 Right"},{"$f":"'80'!$AI$46","v":"10 Left"},null,"5 Right","2 Right","1 Right","6 Right"]
[{"$f":"'80'!$E$40","v":59},{"$f":"'80'!$I$40","v":"8 Right"},{"$f":"'80'!$Q$46","v":"10 Left"},{"$f":"'80'!$Z$51","v":"12 Left"},{"$f":"'80'!$AJ$47","v":"10 Right"},null,"6 Left","3 Right","7 Right","1 Right"]
[{"$f":"'80'!$E$43","v":60},{"$f":"'80'!$I$43","v":"9 Right"},{"$f":"'80'!$Q$49","v":"11 Left"},{"$f":"'80'!$AA$45","v":"10 Right"},{"$f":"'80'!$AI$40","v":"8 Left"},null,"6 Right","4 Right","3 Right","2 Right"]
[{"$f":"'80'!$E$46","v":61},{"$f":"'80'!$I$46","v":"10 Right"},{"$f":"'80'!$Q$52","v":"12 Left"},{"$f":"'80'!$AA$39","v":"8 Right"},{"$f":"'80'!$AJ$50","v":"11 Right"},null,"7 Left","5 Right","4 Right","6 Left"]
[{"$f":"'80'!$E$49","v":62},{"$f":"'80'!$I$49","v":"11 Right"},{"$f":"'80'!$Q$55","v":"13 Left"},{"$f":"'80'!$AA$51","v":"12 Right"},{"$f":"'80'!$AI$49","v":"11 Left"},null,"7 Right","1 Right","2 Right","5 Right"]
[{"$f":"'80'!$E$52","v":63},{"$f":"'80'!$I$52","v":"12 Right"},{"$f":"'80'!$Q$40","v":"8 Left"},{"$f":"'80'!$Z$54","v":"13 Left"},{"$f":"'80'!$AJ$43","v":"9 Right"},null,"1 Left","4 Left","7 Left","2 Left"]
[{"$f":"'80'!$E$55","v":64},{"$f":"'80'!$I$55","v":"13 Right"},{"$f":"'80'!$R$40","v":"8 Right"},{"$f":"'80'!$AA$42","v":"9 Right"},{"$f":"'80'!$AI$53","v":"12 Left"},null,"1 Right","5 Left","2 Left","3 Right"]
[{"$f":"'80'!$B$41","v":65},{"$f":"'80'!$H$41","v":"8 Left"},{"$f":"'80'!$R$43","v":"9 Right"},{"$f":"'80'!$Z$48","v":"11 Left"},{"$f":"'80'!$AJ$56","v":"13 Right"},null,"2 Left","6 Left","1 Left","4 Right"]
[{"$f":"'80'!$B$47","v":66},{"$f":"'80'!$H$47","v":"10 Left"},{"$f":"'80'!$R$49","v":"11 Right"},{"$f":"'80'!$Z$42","v":"9 Left"},{"$f":"'80'!$AJ$53","v":"12 Right"},null,"2 Right","7 Left","5 Right","6 Right"]
[{"$f":"'80'!$B$44","v":67},{"$f":"'80'!$H$44","v":"9 Left"},{"$f":"'80'!$R$52","v":"12 Right"},{"$f":"'80'!$Z$45","v":"10 Left"},{"$f":"'80'!$AI$57","v":"14 Left"},null,"3 Left","7 Right","6 Right","1 Right"]
[{"$f":"'80'!$B$50","v":68},{"$f":"'80'!$H$50","v":"11 Left"},{"$f":"'80'!$R$55","v":"13 Right"},{"$f":"'80'!$Z$39","v":"8 Left"},{"$f":"'80'!$AJ$57","v":"14 Right"},null,"3 Right","6 Right","1 Right","2 Right"]
[{"$f":"'80'!$B$53","v":69},{"$f":"'80'!$H$53","v":"12 Left"},{"$f":"'80'!$R$56","v":"13 Right"},{"$f":"'80'!$AA$49","v":"11 Right"},{"$f":"'80'!$AI$58","v":"14 Left"},null,"4 Left","1 Left","7 Right","6 Left"]
[{"$f":"'80'!$B$56","v":70},{"$f":"'80'!$H$56","v":"13 Left"},{"$f":"'80'!$R$47","v":"10 Right"},{"$f":"'80'!$Z$52","v":"12 Left"},{"$f":"'80'!$AJ$58","v":"14 Right"},null,"4 Right","2 Right","3 Right","5 Right"]
[{"$f":"'80'!$E$41","v":71},{"$f":"'80'!$I$41","v":"8 Right"},{"$f":"'80'!$Q$44","v":"9 Left"},{"$f":"'80'!$AA$46","v":"10 Right"},{"$f":"'80'!$AI$51","v":"12 Left"},null,"5 Left","3 Right","4 Right","7 Right"]
[{"$f":"'80'!$E$44","v":72},{"$f":"'80'!$I$44","v":"9 Right"},{"$f":"'80'!$Q$47","v":"10 Left"},{"$f":"'80'!$AA$40","v":"8 Right"},{"$f":"'80'!$AJ$51","v":"12 Right"},null,"5 Right","4 Right","2 Right","7 Left"]
[{"$f":"'80'!$E$47","v":73},{"$f":"'80'!$I$47","v":"10 Right"},{"$f":"'80'!$Q$50","v":"11 Left"},{"$f":"'80'!$AA$52","v":"12 Right"},{"$f":"'80'!$AI$54","v":"13 Left"},null,"6 Left","5 Right","3 Left","1 Left"]
[{"$f":"'80'!$E$50","v":74},{"$f":"'80'!$I$50","v":"11 Right"},{"$f":"'80'!$Q$53","v":"12 Left"},{"$f":"'80'!$Z$55","v":"13 Left"},{"$f":"'80'!$AI$42","v":"9 Left"},null,"6 Right","1 Right","4 Left","3 Left"]
[{"$f":"'80'!$E$53","v":75},{"$f":"'80'!$I$53","v":"12 Right"},{"$f":"'80'!$Q$56","v":"13 Left"},{"$f":"'80'!$AA$43","v":"9 Right"},{"$f":"'80'!$AJ$41","v":"8 Right"},null,"7 Left","2 Left","5 Left","4 Left"]
[{"$f":"'80'!$E$56","v":76},{"$f":"'80'!$I$56","v":"13 Right"},{"$f":"'80'!$Q$41","v":"8 Left"},{"$f":"'80'!$Z$49","v":"11 Left"},{"$f":"'80'!$AI$47","v":"10 Left"},null,"7 Right","3 Left","6 Left","5 Left"]
[{"$f":"'80'!$B$57","v":77},{"$f":"'80'!$H$57","v":"14 Left"},{"$f":"'80'!$R$41","v":"8 Right"},{"$f":"'80'!$Z$43","v":"9 Left"},{"$f":"'80'!$AJ$45","v":"10 Right"},null,0,0,0,0]
[{"$f":"'80'!$E$57","v":78},{"$f":"'80'!$I$57","v":"14 Right"},{"$f":"'80'!$R$44","v":"9 Right"},{"$f":"'80'!$Z$46","v":"10 Left"},{"$f":"'80'!$AI$41","v":"8 Left"},null,"1 Left","2 Left","3 Left","4 Left"]
[{"$f":"'80'!$B$58","v":79},{"$f":"'80'!$H$58","v":"14 Left"},{"$f":"'80'!$R$50","v":"11 Right"},{"$f":"'80'!$Z$40","v":"8 Left"},{"$f":"'80'!$AJ$44","v":"9 Right"},null,"1 Right","3 Left","4 Left","5 Left"]
[{"$f":"'80'!$E$58","v":80},{"$f":"'80'!$I$58","v":"14 Right"},{"$f":"'80'!$R$53","v":"12 Right"},{"$f":"'80'!$AA$55","v":"13 Right"},{"$f":"'80'!$AI$50","v":"11 Left"},null,"2 Left","4 Left","1 Left","3 Left"]
[{"$nulls":6},"2 Right","5 Left","6 Left","1 Left"]
[{"$f":"'78'!$B$18","v":1},{"$f":"'78'!$H$18","v":"1 Left"},{"$f":"'78'!$Q$36","v":"7 Left"},{"$f":"'78'!$AA$35","v":"6 Right"},{"$f":"'78'!$AJ$27","v":"4 Right"},null,"3 Left","1 Left","2 Left","5 Right",null,78]
[{"$f":"'78'!$B$24","v":2},{"$f":"'78'!$H$24","v":"3 Left"},{"$f":"'78'!$R$36","v":"7 Right"},{"$f":"'78'!$AA$29","v":"4 Right"},{"$f":"'78'!$AJ$33","v":"6 Right"},null,"3 Right","6 Left","1 Right","2 Left"]
[{"$f":"'78'!$B$21","v":3},{"$f":"'78'!$H$21","v":"2 Left"},{"$f":"'78'!$Q$37","v":"7 Left"},{"$f":"'78'!$Z$32","v":"5 Left"},{"$f":"'78'!$AJ$34","v":"6 Right"},null,"4 Left","1 Right","5 Left","6 Left"]
[{"$f":"'78'!$B$27","v":4},{"$f":"'78'!$H$27","v":"4 Left"},{"$f":"'78'!$R$37","v":"7 Right"},{"$f":"'78'!$AA$26","v":"3 Right"},{"$f":"'78'!$AJ$31","v":"5 Right"},null,"4 Right","1 Left","6 Right","3 Right"]
[{"$f":"'78'!$B$30","v":5},{"$f":"'78'!$H$30","v":"5 Left"},{"$f":"'78'!$Q$21","v":"2 Left"},{"$f":"'78'!$AA$20","v":"1 Right"},{"$f":"'78'!$AI$34","v":"6 Left"},null,"5 Left","6 Right","1 Left","2 Right"]
[{"$f":"'78'!$B$33","v":6},{"$f":"'78'!$H$33","v":"6 Left"},{"$f":"'78'!$Q$24","v":"3 Left"},{"$f":"'78'!$AA$32","v":"5 Right"},{"$f":"'78'!$AI$22","v":"2 Left"},null,"5 Right","2 Right","3 Right","1 Left"]
[{"$f":"'78'!$E$18","v":7},{"$f":"'78'!$I$18","v":"1 Right"},{"$f":"'78'!$Q$27","v":"4 Left"},{"$f":"'78'!$Z$35","v":"6 Left"},{"$f":"'78'!$AJ$18","v":"1 Right"},null,"6 Left","3 Right","4 Right","1 Right"]
[{"$f":"'78'!$E$21","v":8},{"$f":"'78'!$I$21","v":"2 Right"},{"$f":"'78'!$Q$30","v":"5 Left"},{"$f":"'78'!$AA$23","v":"2 Right"},{"$f":"'78'!$AI$24","v":"3 Left"},null,{"$f":"B1666","v":"6 Right"},{"$f":"C1666","v":"4 Right"},{"$f":"D1666","v":"5 Right"},{"$f":"E1666","v":"4 Right"}]
[{"$f":"'78'!$E$24","v":9},{"$f":"'78'!$I$24","v":"3 Right"},{"$f":"'78'!$Q$33","v":"6 Left"},{"$f":"'78'!$Z$29","v":"4 Left"},{"$f":"'78'!$AJ$25","v":"3 Right"},null,"1 Left","5 Right","2 Right","6 Right"]
[{"$f":"'78'!$E$27","v":10},{"$f":"'78'!$I$27","v":"4 Right"},{"$f":"'78'!$Q$18","v":"1 Left"},{"$f":"'78'!$Z$23","v":"2 Left"},{"$f":"'78'!$AI$18","v":"1 Left"},null,"1 Left","4 Left","5 Right","2 Left"]
[{"$f":"'78'!$E$30","v":11},{"$f":"'78'!$I$30","v":"5 Right"},{"$f":"'78'!$R$18","v":"1 Right"},{"$f":"'78'!$Z$26","v":"3 Left"},{"$f":"'78'!$AJ$28","v":"4 Right"},null,"1 Right","5 Left","3 Left","6 Left"]
[{"$f":"'78'!$E$33","v":12},{"$f":"'78'!$I$33","v":"6 Right"},{"$f":"'78'!$R$21","v":"2 Right"},{"$f":"'78'!$Z$20","v":"1 Left"},{"$f":"'78'!$AI$27","v":"4 Left"},null,"2 Left","1 Left","4 Left","2 Right"]
[{"$f":"'78'!$B$19","v":13},{"$f":"'78'!$H$19","v":"1 Left"},{"$f":"'78'!$R$27","v":"4 Right"},{"$f":"'78'!$Z$36","v":"7 Left"},{"$f":"'78'!$AI$31","v":"5 Left"},null,"2 Right","6 Left","1 Left","3 Right"]
[{"$f":"'78'!$B$25","v":14},{"$f":"'78'!$H$25","v":"3 Left"},{"$f":"'78'!$R$30","v":"5 Right"},{"$f":"'78'!$AA$36","v":"7 Right"},{"$f":"'78'!$AJ$21","v":"2 Right"},null,"3 Left","1 Right","6 Left","4 Left"]
[{"$f":"'78'!$B$22","v":15},{"$f":"'78'!$H$22","v":"2 Left"},{"$f":"'78'!$R$33","v":"6 Right"},{"$f":"'78'!$Z$37","v":"7 Left"},{"$f":"'78'!$AI$35","v":"6 Left"},null,"3 Right","1 Right","2 Left","5 Left"]
[{"$f":"'78'!$B$28","v":16},{"$f":"'78'!$H$28","v":"4 Left"},{"$f":"'78'!$R$24","v":"3 Right"},{"$f":"'78'!$AA$37","v":"7 Right"},{"$f":"'78'!$AI$23","v":"2 Left"},null,"4 Left","6 Right","1 Right","3 Left"]
[{"$f":"'78'!$B$31","v":17},{"$f":"'78'!$H$31","v":"5 Left"},{"$f":"'78'!$R$25","v":"3 Right"},{"$f":"'78'!$AA$33","v":"6 Right"},{"$f":"'78'!$AJ$19","v":"1 Right"},null,"4 Right","2 Right","5 Left","1 Right"]
[{"$f":"'78'!$B$34","v":18},{"$f":"'78'!$H$34","v":"6 Left"},{"$f":"'78'!$Q$22","v":"2 Left"},{"$f":"'78'!$AA$27","v":"4 Right"},{"$f":"'78'!$AI$25","v":"3 Left"},null,"5 Left","3 Right","6 Right","1 Left"]
[{"$f":"'78'!$E$19","v":19},{"$f":"'78'!$I$19","v":"1 Right"},{"$f":"'78'!$Q$25","v":"3 Left"},{"$f":"'78'!$Z$30","v":"5 Left"},{"$f":"'78'!$AJ$26","v":"3 Right"},null,"5 Right","4 Right","1 Right","6 Right"]
[{"$f":"'78'!$E$22","v":20},{"$f":"'78'!$I$22","v":"2 Right"},{"$f":"'78'!$Q$28","v":"4 Left"},{"$f":"'78'!$AA$24","v":"3 Right"},{"$f":"'78'!$AI$19","v":"1 Left"},null,"6 Left","5 Right","3 Right","4 Right"]
[{"$f":"'78'!$E$25","v":21},{"$f":"'78'!$I$25","v":"3 Right"},{"$f":"'78'!$Q$31","v":"5 Left"},{"$f":"'78'!$AA$18","v":"1 Right"},{"$f":"'78'!$AJ$29","v":"4 Right"},null,"6 Right","3 Left","2 Right","1 Right"]
[{"$f":"'78'!$E$28","v":22},{"$f":"'78'!$I$28","v":"4 Right"},{"$f":"'78'!$Q$34","v":"6 Left"},{"$f":"'78'!$AA$30","v":"5 Right"},{"$f":"'78'!$AI$28","v":"4 Left"},null,"1 Right","2 Left","4 Right","5 Right"]
[{"$f":"'78'!$E$31","v":23},{"$f":"'78'!$I$31","v":"5 Right"},{"$f":"'78'!$Q$19","v":"1 Left"},{"$f":"'78'!$Z$33","v":"6 Left"},{"$f":"'78'!$AJ$22","v":"2 Right"},null,0,0,0,0]
[{"$f":"'78'!$E$34","v":24},{"$f":"'78'!$I$34","v":"6 Right"},{"$f":"'78'!$R$19","v":"1 Right"},{"$f":"'78'!$AA$21","v":"2 Right"},{"$f":"'78'!$AI$32","v":"5 Left"},null,"1 Left","2 Left","4 Left","3 Left"]
[{"$f":"'78'!$B$20","v":25},{"$f":"'78'!$H$20","v":"1 Left"},{"$f":"'78'!$R$22","v":"2 Right"},{"$f":"'78'!$Z$27","v":"4 Left"},{"$f":"'78'!$AJ$35","v":"6 Right"},null,"1 Right","3 Left","2 Left","5 Left"]
[{"$f":"'78'!$B$26","v":26},{"$f":"'78'!$H$26","v":"3 Left"},{"$f":"'78'!$R$28","v":"4 Right"},{"$f":"'78'!$Z$21","v":"2 Left"},{"$f":"'78'!$AJ$32","v":"5 Right"},null,"2 Left","4 Left","1 Left","6 Left"]
[{"$f":"'78'!$B$23","v":27},{"$f":"'78'!$H$23","v":"2 Left"},{"$f":"'78'!$R$31","v":"5 Right"},{"$f":"'78'!$Z$24","v":"3 Left"},{"$f":"'78'!$AI$36","v":"7 Left"},null,"2 Right","5 Left","1 Right","6 Right"]
[{"$f":"'78'!$B$29","v":28},{"$f":"'78'!$H$29","v":"4 Left"},{"$f":"'78'!$R$34","v":"6 Right"},{"$f":"'78'!$Z$18","v":"1 Left"},{"$f":"'78'!$AJ$36","v":"7 Right"},null,"3 Left","6 Left","2 Right","5 Right"]
[{"$f":"'78'!$B$32","v":29},{"$f":"'78'!$H$32","v":"5 Left"},{"$f":"'78'!$R$35","v":"6 Right"},{"$f":"'78'!$AA$28","v":"4 Right"},{"$f":"'78'!$AI$37","v":"7 Left"},null,"3 Right","1 Left","6 Left","4 Left"]
[{"$f":"'78'!$B$35","v":30},{"$f":"'78'!$H$35","v":"6 Left"},{"$f":"'78'!$R$26","v":"3 Right"},{"$f":"'78'!$Z$31","v":"5 Left"},{"$f":"'78'!$AJ$37","v":"7 Right"},null,"4 Left","6 Right","5 Left","1 Right"]
[{"$f":"'78'!$E$20","v":31},{"$f":"'78'!$I$20","v":"1 Right"},{"$f":"'78'!$Q$23","v":"2 Left"},{"$f":"'78'!$AA$25","v":"3 Right"},{"$f":"'78'!$AI$30","v":"5 Left"},null,"4 Right","5 Right","3 Right","2 Left"]
[{"$f":"'78'!$E$23","v":32},{"$f":"'78'!$I$23","v":"2 Right"},{"$f":"'78'!$Q$26","v":"3 Left"},{"$f":"'78'!$AA$19","v":"1 Right"},{"$f":"'78'!$AJ$30","v":"5 Right"},null,"5 Left","1 Right","4 Right","3 Right"]
[{"$f":"'78'!$E$26","v":33},{"$f":"'78'!$I$26","v":"3 Right"},{"$f":"'78'!$Q$29","v":"4 Left"},{"$f":"'78'!$AA$31","v":"5 Right"},{"$f":"'78'!$AI$33","v":"6 Left"},null,"5 Right","2 Right","6 Right","4 Right"]
[{"$f":"'78'!$E$29","v":34},{"$f":"'78'!$I$29","v":"4 Right"},{"$f":"'78'!$Q$32","v":"5 Left"},{"$f":"'78'!$Z$34","v":"6 Left"},{"$f":"'78'!$AI$21","v":"2 Left"},null,"6 Left","3 Right","5 Right","2 Right"]
[{"$f":"'78'!$E$32","v":35},{"$f":"'78'!$I$32","v":"5 Right"},{"$f":"'78'!$Q$35","v":"6 Left"},{"$f":"'78'!$AA$22","v":"2 Right"},{"$f":"'78'!$AJ$20","v":"1 Right"},null,"6 Right","4 Right","3 Left","1 Left"]
[{"$f":"'78'!$E$35","v":36},{"$f":"'78'!$I$35","v":"6 Right"},{"$f":"'78'!$Q$20","v":"1 Left"},{"$f":"'78'!$Z$28","v":"4 Left"},{"$f":"'78'!$AI$26","v":"3 Left"},null,"1 Left","4 Left","2 Right","1 Right"]
[{"$f":"'78'!$B$36","v":37},{"$f":"'78'!$H$36","v":"7 Left"},{"$f":"'78'!$R$20","v":"1 Right"},{"$f":"'78'!$Z$22","v":"2 Left"},{"$f":"'78'!$AJ$24","v":"3 Right"},null,"1 Right","5 Left","6 Left","2 Left"]
[{"$f":"'78'!$E$36","v":38},{"$f":"'78'!$I$36","v":"7 Right"},{"$f":"'78'!$R$23","v":"2 Right"},{"$f":"'78'!$Z$25","v":"3 Left"},{"$f":"'78'!$AI$20","v":"1 Left"},null,"2 Left","6 Left","5 Left","3 Right"]
[{"$f":"'78'!$B$37","v":39},{"$f":"'78'!$H$37","v":"7 Left"},{"$f":"'78'!$R$29","v":"4 Right"},{"$f":"'78'!$Z$19","v":"1 Left"},{"$f":"'78'!$AJ$23","v":"2 Right"},null,"2 Right","1 Left","3 Right","4 Right"]
[{"$f":"'78'!$E$37","v":40},{"$f":"'78'!$I$37","v":"7 Right"},{"$f":"'78'!$R$32","v":"5 Right"},{"$f":"'78'!$AA$34","v":"6 Right"},{"$f":"'78'!$AI$29","v":"4 Left"},null,"3 Left","6 Right","4 Right","2 Right"]
[{"$f":"'78'!$B$39","v":41},{"$f":"'78'!$H$39","v":"8 Left"},{"$f":"'78'!$R$48","v":"11 Right"},{"$f":"'78'!$Z$39","v":"8 Left"},{"$f":"'78'!$AI$45","v":"10 Left"},null,"3 Right","5 Right","6 Right","1 Left"]
[{"$f":"'78'!$E$39","v":42},{"$f":"'78'!$I$39","v":"8 Right"},{"$f":"'78'!$Q$46","v":"10 Left"},{"$f":"'78'!$AA$43","v":"9 Right"},{"$f":"'78'!$AJ$48","v":"11 Right"},null,"4 Left","1 Right","5 Right","3 Left"]
[{"$f":"'78'!$B$42","v":43},{"$f":"'78'!$H$42","v":"9 Left"},{"$f":"'78'!$Q$49","v":"11 Left"},{"$f":"'78'!$AA$39","v":"8 Right"},{"$f":"'78'!$AI$51","v":"12 Left"},null,"4 Right","2 Right","3 Left","5 Left"]
[{"$f":"'78'!$E$42","v":44},{"$f":"'78'!$I$42","v":"9 Right"},{"$f":"'78'!$Q$52","v":"12 Left"},{"$f":"'78'!$Z$45","v":"10 Left"},{"$f":"'78'!$AI$42","v":"9 Left"},null,"5 Left","3 Right","4 Left","6 Left"]
[{"$f":"'78'!$B$45","v":45},{"$f":"'78'!$H$45","v":"10 Left"},{"$f":"'78'!$Q$40","v":"8 Left"},{"$f":"'78'!$Z$48","v":"11 Left"},{"$f":"'78'!$AJ$39","v":"8 Right"},null,"5 Right","4 Right","2 Left","6 Right"]
[{"$f":"'78'!$B$48","v":46},{"$f":"'78'!$H$48","v":"11 Left"},{"$f":"'78'!$R$40","v":"8 Right"},{"$f":"'78'!$AA$45","v":"10 Right"},{"$f":"'78'!$AJ$42","v":"9 Right"},null,"6 Left","2 Left","1 Left","5 Right"]
[{"$f":"'78'!$E$45","v":47},{"$f":"'78'!$I$45","v":"10 Right"},{"$f":"'78'!$R$43","v":"9 Right"},{"$f":"'78'!$AA$48","v":"11 Right"},{"$f":"'78'!$AJ$51","v":"12 Right"},null,"6 Right","3 Left","1 Right","4 Left"]
[{"$f":"'78'!$E$48","v":48},{"$f":"'78'!$I$48","v":"11 Right"},{"$f":"'78'!$R$52","v":"12 Right"},{"$f":"'78'!$Z$40","v":"8 Left"},{"$f":"'78'!$AJ$45","v":"10 Right"},null,0,0,0,0]
[{"$f":"'78'!$B$51","v":49},{"$f":"'78'!$H$51","v":"12 Left"},{"$f":"'78'!$R$46","v":"10 Right"},{"$f":"'78'!$AA$40","v":"8 Right"},{"$f":"'78'!$AI$48","v":"11 Left"},null,"2 Left","3 Left","5 Left","2 Right"]
[{"$f":"'78'!$E$51","v":50},{"$f":"'78'!$I$51","v":"12 Right"},{"$f":"'78'!$R$49","v":"11 Right"},{"$f":"'78'!$Z$46","v":"10 Left"},{"$f":"'78'!$AI$54","v":"13 Left"},null,"2 Right","4 Left","3 Left","5 Left"]
[{"$f":"'78'!$B$40","v":51},{"$f":"'78'!$H$40","v":"8 Left"},{"$f":"'78'!$Q$43","v":"9 Left"},{"$f":"'78'!$Z$49","v":"11 Left"},{"$f":"'78'!$AJ$54","v":"13 Right"},null,"3 Left","2 Left","4 Right","6 Left"]
[{"$f":"'78'!$E$40","v":52},{"$f":"'78'!$I$40","v":"8 Right"},{"$f":"'78'!$Q$50","v":"11 Left"},{"$f":"'78'!$AA$46","v":"10 Right"},{"$f":"'78'!$AI$57","v":"14 Left"},null,"3 Right","5 Left","4 Left","2 Left"]
[{"$f":"'78'!$B$43","v":53},{"$f":"'78'!$H$43","v":"9 Left"},{"$f":"'78'!$Q$53","v":"12 Left"},{"$f":"'78'!$AA$49","v":"11 Right"},{"$f":"'78'!$AJ$57","v":"14 Right"},null,"4 Left","2 Right","6 Right","2 Left"]
[{"$f":"'78'!$E$43","v":54},{"$f":"'78'!$I$43","v":"9 Right"},{"$f":"'78'!$Q$41","v":"8 Left"},{"$f":"'78'!$AA$51","v":"12 Right"},{"$f":"'78'!$AI$55","v":"13 Left"},null,"4 Right","6 Left","2 Left","6 Right"]
[{"$f":"'78'!$B$46","v":55},{"$f":"'78'!$H$46","v":"10 Left"},{"$f":"'78'!$R$41","v":"8 Right"},{"$f":"'78'!$Z$42","v":"9 Left"},{"$f":"'78'!$AJ$55","v":"13 Right"},null,"5 Left","2 Left","6 Left","3 Left"]
[{"$f":"'78'!$B$49","v":56},{"$f":"'78'!$H$49","v":"11 Left"},{"$f":"'78'!$R$44","v":"9 Right"},{"$f":"'78'!$Z$53","v":"12 Left"},{"$f":"'78'!$AI$58","v":"14 Left"},null,"5 Right","3 Right","2 Right","4 Left"]
[{"$f":"'78'!$E$46","v":57},{"$f":"'78'!$I$46","v":"10 Right"},{"$f":"'78'!$R$53","v":"12 Right"},{"$f":"'78'!$AA$44","v":"9 Right"},{"$f":"'78'!$AJ$58","v":"14 Right"},null,"6 Left","4 Right","5 Right","3 Right"]
[{"$f":"'78'!$E$49","v":58},{"$f":"'78'!$I$49","v":"11 Right"},{"$f":"'78'!$R$47","v":"10 Right"},{"$f":"'78'!$Z$57","v":"14 Left"},{"$f":"'78'!$AI$53","v":"12 Left"},null,"6 Right","5 Right","2 Left","4 Right"]
[{"$f":"'78'!$B$52","v":59},{"$f":"'78'!$H$52","v":"12 Left"},{"$f":"'78'!$R$50","v":"11 Right"},{"$f":"'78'!$AA$57","v":"14 Right"},{"$f":"'78'!$AI$43","v":"9 Left"},null,"2 Left","6 Right","3 Right","5 Right"]
[{"$f":"'78'!$E$52","v":60},{"$f":"'78'!$I$52","v":"12 Right"},{"$f":"'78'!$Q$44","v":"9 Left"},{"$f":"'78'!$Z$54","v":"13 Left"},{"$f":"'78'!$AJ$40","v":"8 Right"},null,"2 Right","3 Left","6 Right","4 Left"]
[{"$f":"'78'!$B$41","v":61},{"$f":"'78'!$H$41","v":"8 Left"},{"$f":"'78'!$Q$47","v":"10 Left"},{"$f":"'78'!$AA$54","v":"13 Right"},{"$f":"'78'!$AJ$43","v":"9 Right"},null,"3 Left","4 Left","2 Left","3 Right"]
[{"$f":"'78'!$E$41","v":62},{"$f":"'78'!$I$41","v":"8 Right"},{"$f":"'78'!$Q$54","v":"13 Left"},{"$f":"'78'!$Z$58","v":"14 Left"},{"$f":"'78'!$AJ$52","v":"12 Right"},null,"3 Right","2 Left","5 Right","4 Right"]
[{"$f":"'78'!$B$44","v":63},{"$f":"'78'!$H$44","v":"9 Left"},{"$f":"'78'!$R$54","v":"13 Right"},{"$f":"'78'!$AA$58","v":"14 Right"},{"$f":"'78'!$AJ$46","v":"10 Right"},null,"4 Left","5 Left","2 Right","5 Right"]
[{"$f":"'78'!$E$44","v":64},{"$f":"'78'!$I$44","v":"9 Right"},{"$f":"'78'!$Q$57","v":"14 Left"},{"$f":"'78'!$Z$55","v":"13 Left"},{"$f":"'78'!$AI$49","v":"11 Left"},null,"4 Right","2 Right","6 Left","2 Right"]
[{"$f":"'78'!$B$47","v":65},{"$f":"'78'!$H$47","v":"10 Left"},{"$f":"'78'!$R$57","v":"14 Right"},{"$f":"'78'!$AA$55","v":"13 Right"},{"$f":"'78'!$AI$46","v":"10 Left"},null,"5 Left","6 Left","2 Right","5 Left"]
[{"$f":"'78'!$B$50","v":66},{"$f":"'78'!$H$50","v":"11 Left"},{"$f":"'78'!$Q$55","v":"13 Left"},{"$f":"'78'!$AA$52","v":"12 Right"},{"$f":"'78'!$AJ$49","v":"11 Right"},null,"5 Right","2 Right","3 Right","6 Left"]
[{"$f":"'78'!$E$47","v":67},{"$f":"'78'!$I$47","v":"10 Right"},{"$f":"'78'!$R$55","v":"13 Right"},{"$f":"'78'!$Z$43","v":"9 Left"},{"$f":"'78'!$AI$39","v":"8 Left"},null,"6 Left","3 Right","5 Left","2 Left"]
[{"$f":"'78'!$E$50","v":68},{"$f":"'78'!$I$50","v":"11 Right"},{"$f":"'78'!$Q$58","v":"14 Left"},{"$f":"'78'!$Z$51","v":"12 Left"},{"$f":"'78'!$AJ$50","v":"11 Right"},null,"6 Right","4 Right","3 Left","2 Right"]
[{"$f":"'78'!$B$53","v":69},{"$f":"'78'!$H$53","v":"12 Left"},{"$f":"'78'!$R$58","v":"14 Right"},{"$f":"'78'!$AA$42","v":"9 Right"},{"$f":"'78'!$AI$40","v":"8 Left"},null,"2 Left","5 Right","4 Right","6 Right"]
[{"$f":"'78'!$E$53","v":70},{"$f":"'78'!$I$53","v":"12 Right"},{"$f":"'78'!$Q$45","v":"10 Left"},{"$f":"'78'!$Z$41","v":"8 Left"},{"$f":"'78'!$AI$52","v":"12 Left"},null,"2 Right","6 Right","4 Left","3 Left"]
[{"$f":"'78'!$B$54","v":71},{"$f":"'78'!$H$54","v":"13 Left"},{"$f":"'78'!$Q$42","v":"9 Left"},{"$f":"'78'!$AA$41","v":"8 Right"},{"$f":"'78'!$AI$44","v":"9 Left"},null,0,0,0,0]
[{"$f":"'78'!$E$54","v":72},{"$f":"'78'!$I$54","v":"13 Right"},{"$f":"'78'!$Q$48","v":"11 Left"},{"$f":"'78'!$Z$47","v":"10 Left"},{"$f":"'78'!$AJ$41","v":"8 Right"},null,{"$f":"B1730","v":"2 Left"},{"$f":"C1730","v":"3 Left"},{"$f":"D1730","v":"6 Left"},{"$f":"E1730","v":"5 Right"}]
[{"$f":"'78'!$B$57","v":73},{"$f":"'78'!$H$57","v":"14 Left"},{"$f":"'78'!$Q$51","v":"12 Left"},{"$f":"'78'!$Z$50","v":"11 Left"},{"$f":"'78'!$AJ$44","v":"9 Right"},null,"2 Right","4 Left","3 Left","6 Left"]
[{"$f":"'78'!$E$57","v":74},{"$f":"'78'!$I$57","v":"14 Right"},{"$f":"'78'!$Q$39","v":"8 Left"},{"$f":"'78'!$AA$47","v":"10 Right"},{"$f":"'78'!$AJ$53","v":"12 Right"},null,"3 Left","5 Left","2 Left","5 Left"]
[{"$f":"'78'!$B$55","v":75},{"$f":"'78'!$H$55","v":"13 Left"},{"$f":"'78'!$R$39","v":"8 Right"},{"$f":"'78'!$AA$50","v":"11 Right"},{"$f":"'78'!$AJ$47","v":"10 Right"},null,"3 Right","6 Left","5 Left","4 Left"]
[{"$f":"'78'!$E$55","v":76},{"$f":"'78'!$I$55","v":"13 Right"},{"$f":"'78'!$R$42","v":"9 Right"},{"$f":"'78'!$AA$53","v":"12 Right"},{"$f":"'78'!$AI$50","v":"11 Left"},null,"4 Left","2 Left","6 Right","4 Right"]
[{"$f":"'78'!$B$58","v":77},{"$f":"'78'!$H$58","v":"14 Left"},{"$f":"'78'!$R$51","v":"12 Right"},{"$f":"'78'!$Z$44","v":"9 Left"},{"$f":"'78'!$AI$47","v":"10 Left"},null,"4 Right","5 Right","3 Right","2 Left"]
[{"$f":"'78'!$E$58","v":78},{"$f":"'78'!$I$58","v":"14 Right"},{"$f":"'78'!$R$45","v":"10 Right"},{"$f":"'78'!$Z$52","v":"12 Left"},{"$f":"'78'!$AI$41","v":"8 Left"},null,"5 Left","6 Right","4 Left","3 Right"]
[{"$nulls":6},"5 Right","3 Right","4 Right","2 Right"]
[{"$f":"'76'!$B$18","v":1},{"$f":"'76'!$H$18","v":"1 Left"},{"$f":"'76'!$R$27","v":"4 Right"},{"$f":"'76'!$Z$18","v":"1 Left"},{"$f":"'76'!$AI$24","v":"3 Left"},null,"6 Left","4 Right","2 Right","6 Right",null,76]
[{"$f":"'76'!$E$18","v":2},{"$f":"'76'!$I$18","v":"1 Right"},{"$f":"'76'!$Q$25","v":"3 Left"},{"$f":"'76'!$AA$22","v":"2 Right"},{"$f":"'76'!$AJ$27","v":"4 Right"},null,"6 Right","2 Right","5 Right","3 Left"]
[{"$f":"'76'!$B$21","v":3},{"$f":"'76'!$H$21","v":"2 Left"},{"$f":"'76'!$Q$28","v":"4 Left"},{"$f":"'76'!$AA$18","v":"1 Right"},{"$f":"'76'!$AI$30","v":"5 Left"},null,"2 Left","5 Left","6 Right","3 Right"]
[{"$f":"'76'!$E$21","v":4},{"$f":"'76'!$I$21","v":"2 Right"},{"$f":"'76'!$Q$31","v":"5 Left"},{"$f":"'76'!$Z$24","v":"3 Left"},{"$f":"'76'!$AI$21","v":"2 Left"},null,"2 Right","6 Left","3 Right","2 Right"]
[{"$f":"'76'!$B$24","v":5},{"$f":"'76'!$H$24","v":"3 Left"},{"$f":"'76'!$Q$19","v":"1 Left"},{"$f":"'76'!$Z$27","v":"4 Left"},{"$f":"'76'!$AJ$18","v":"1 Right"},null,"3 Left","2 Left","4 Left","6 Right"]
[{"$f":"'76'!$B$27","v":6},{"$f":"'76'!$H$27","v":"4 Left"},{"$f":"'76'!$R$19","v":"1 Right"},{"$f":"'76'!$AA$24","v":"3 Right"},{"$f":"'76'!$AJ$21","v":"2 Right"},null,"3 Right","5 Right","4 Right","3 Left"]
[{"$f":"'76'!$E$24","v":7},{"$f":"'76'!$I$24","v":"3 Right"},{"$f":"'76'!$R$22","v":"2 Right"},{"$f":"'76'!$AA$27","v":"4 Right"},{"$f":"'76'!$AJ$30","v":"5 Right"},null,"4 Left","6 Right","2 Right","5 Right"]
[{"$f":"'76'!$E$27","v":8},{"$f":"'76'!$I$27","v":"4 Right"},{"$f":"'76'!$R$31","v":"5 Right"},{"$f":"'76'!$Z$19","v":"1 Left"},{"$f":"'76'!$AJ$24","v":"3 Right"},null,"4 Right","3 Right","5 Right","6 Left"]
[{"$f":"'76'!$B$30","v":9},{"$f":"'76'!$H$30","v":"5 Left"},{"$f":"'76'!$R$25","v":"3 Right"},{"$f":"'76'!$AA$19","v":"1 Right"},{"$f":"'76'!$AI$27","v":"4 Left"},null,"5 Left","4 Right","6 Left","5 Left"]
[{"$f":"'76'!$E$30","v":10},{"$f":"'76'!$I$30","v":"5 Right"},{"$f":"'76'!$R$28","v":"4 Right"},{"$f":"'76'!$Z$25","v":"3 Left"},{"$f":"'76'!$AI$33","v":"6 Left"},null,"5 Right","2 Right","3 Left","4 Left"]
[{"$f":"'76'!$B$19","v":11},{"$f":"'76'!$H$19","v":"1 Left"},{"$f":"'76'!$Q$22","v":"2 Left"},{"$f":"'76'!$Z$28","v":"4 Left"},{"$f":"'76'!$AJ$33","v":"6 Right"},null,"6 Left","3 Left","2 Left","4 Right"]
[{"$f":"'76'!$E$19","v":12},{"$f":"'76'!$I$19","v":"1 Right"},{"$f":"'76'!$Q$29","v":"4 Left"},{"$f":"'76'!$AA$25","v":"3 Right"},{"$f":"'76'!$AI$36","v":"7 Left"},null,"6 Right","4 Left","5 Left","2 Left"]
[{"$f":"'76'!$B$22","v":13},{"$f":"'76'!$H$22","v":"2 Left"},{"$f":"'76'!$Q$32","v":"5 Left"},{"$f":"'76'!$AA$28","v":"4 Right"},{"$f":"'76'!$AJ$36","v":"7 Right"},null,0,0,0,0]
[{"$f":"'76'!$E$22","v":14},{"$f":"'76'!$I$22","v":"2 Right"},{"$f":"'76'!$Q$20","v":"1 Left"},{"$f":"'76'!$AA$30","v":"5 Right"},{"$f":"'76'!$AI$34","v":"6 Left"},null,"1 Left","3 Left","2 Left","1 Left"]
[{"$f":"'76'!$B$25","v":15},{"$f":"'76'!$H$25","v":"3 Left"},{"$f":"'76'!$R$20","v":"1 Right"},{"$f":"'76'!$Z$21","v":"2 Left"},{"$f":"'76'!$AJ$34","v":"6 Right"},null,"1 Right","2 Left","4 Left","3 Left"]
[{"$f":"'76'!$B$28","v":16},{"$f":"'76'!$H$28","v":"4 Left"},{"$f":"'76'!$R$23","v":"2 Right"},{"$f":"'76'!$Z$32","v":"5 Left"},{"$f":"'76'!$AI$37","v":"7 Left"},null,"3 Right","1 Left","2 Right","4 Right"]
[{"$f":"'76'!$E$25","v":17},{"$f":"'76'!$I$25","v":"3 Right"},{"$f":"'76'!$R$32","v":"5 Right"},{"$f":"'76'!$AA$23","v":"2 Right"},{"$f":"'76'!$AJ$37","v":"7 Right"},null,"4 Left","2 Right","1 Left","2 Right"]
[{"$f":"'76'!$E$28","v":18},{"$f":"'76'!$I$28","v":"4 Right"},{"$f":"'76'!$R$26","v":"3 Right"},{"$f":"'76'!$Z$36","v":"7 Left"},{"$f":"'76'!$AI$32","v":"5 Left"},null,"2 Right","4 Left","1 Right","3 Right"]
[{"$f":"'76'!$B$31","v":19},{"$f":"'76'!$H$31","v":"5 Left"},{"$f":"'76'!$R$29","v":"4 Right"},{"$f":"'76'!$AA$36","v":"7 Right"},{"$f":"'76'!$AI$22","v":"2 Left"},null,"2 Left","3 Right","1 Left","2 Left"]
[{"$f":"'76'!$E$31","v":20},{"$f":"'76'!$I$31","v":"5 Right"},{"$f":"'76'!$Q$23","v":"2 Left"},{"$f":"'76'!$Z$33","v":"6 Left"},{"$f":"'76'!$AJ$19","v":"1 Right"},null,"3 Left","1 Right","4 Right","1 Right"]
[{"$f":"'76'!$B$20","v":21},{"$f":"'76'!$H$20","v":"1 Left"},{"$f":"'76'!$Q$26","v":"3 Left"},{"$f":"'76'!$AA$33","v":"6 Right"},{"$f":"'76'!$AJ$22","v":"2 Right"},null,"4 Right","1 Left","3 Left","1 Left"]
[{"$f":"'76'!$E$20","v":22},{"$f":"'76'!$I$20","v":"1 Right"},{"$f":"'76'!$Q$33","v":"6 Left"},{"$f":"'76'!$Z$37","v":"7 Left"},{"$f":"'76'!$AJ$31","v":"5 Right"},null,"1 Left","4 Right","3 Right","4 Left"]
[{"$f":"'76'!$B$23","v":23},{"$f":"'76'!$H$23","v":"2 Left"},{"$f":"'76'!$R$33","v":"6 Right"},{"$f":"'76'!$AA$37","v":"7 Right"},{"$f":"'76'!$AJ$25","v":"3 Right"},null,"1 Left","4 Left","3 Left","1 Right"]
[{"$f":"'76'!$E$23","v":24},{"$f":"'76'!$I$23","v":"2 Right"},{"$f":"'76'!$Q$36","v":"7 Left"},{"$f":"'76'!$Z$34","v":"6 Left"},{"$f":"'76'!$AI$28","v":"4 Left"},null,"1 Right","3 Right","2 Left","4 Left"]
[{"$f":"'76'!$B$26","v":25},{"$f":"'76'!$H$26","v":"3 Left"},{"$f":"'76'!$R$36","v":"7 Right"},{"$f":"'76'!$AA$34","v":"6 Right"},{"$f":"'76'!$AI$25","v":"3 Left"},null,"3 Right","1 Right","4 Left","1 Left"]
[{"$f":"'76'!$B$29","v":26},{"$f":"'76'!$H$29","v":"4 Left"},{"$f":"'76'!$Q$34","v":"6 Left"},{"$f":"'76'!$AA$31","v":"5 Right"},{"$f":"'76'!$AJ$28","v":"4 Right"},null,"4 Right","1 Right","2 Right","3 Right"]
[{"$f":"'76'!$E$26","v":27},{"$f":"'76'!$I$26","v":"3 Right"},{"$f":"'76'!$R$34","v":"6 Right"},{"$f":"'76'!$Z$22","v":"2 Left"},{"$f":"'76'!$AI$18","v":"1 Left"},null,"2 Right","4 Right","1 Left","3 Left"]
[{"$f":"'76'!$E$29","v":28},{"$f":"'76'!$I$29","v":"4 Right"},{"$f":"'76'!$Q$37","v":"7 Left"},{"$f":"'76'!$Z$30","v":"5 Left"},{"$f":"'76'!$AJ$29","v":"4 Right"},null,"2 Left","3 Left","1 Right","2 Right"]
[{"$f":"'76'!$B$32","v":29},{"$f":"'76'!$H$32","v":"5 Left"},{"$f":"'76'!$R$37","v":"7 Right"},{"$f":"'76'!$AA$21","v":"2 Right"},{"$f":"'76'!$AI$19","v":"1 Left"},null,"3 Left","2 Left","1 Right","4 Right"]
[{"$f":"'76'!$E$32","v":30},{"$f":"'76'!$I$32","v":"5 Right"},{"$f":"'76'!$Q$24","v":"3 Left"},{"$f":"'76'!$Z$20","v":"1 Left"},{"$f":"'76'!$AI$31","v":"5 Left"},null,"4 Left","1 Left","4 Right","2 Left"]
[{"$f":"'76'!$B$33","v":31},{"$f":"'76'!$H$33","v":"6 Left"},{"$f":"'76'!$Q$21","v":"2 Left"},{"$f":"'76'!$AA$20","v":"1 Right"},{"$f":"'76'!$AI$23","v":"2 Left"},null,"1 Right","2 Right","3 Right","1 Right"]
[{"$f":"'76'!$E$33","v":32},{"$f":"'76'!$I$33","v":"6 Right"},{"$f":"'76'!$Q$27","v":"4 Left"},{"$f":"'76'!$Z$26","v":"3 Left"},{"$f":"'76'!$AJ$20","v":"1 Right"},null,0,0,0,0]
[{"$f":"'76'!$B$36","v":33},{"$f":"'76'!$H$36","v":"7 Left"},{"$f":"'76'!$Q$30","v":"5 Left"},{"$f":"'76'!$Z$29","v":"4 Left"},{"$f":"'76'!$AJ$23","v":"2 Right"},null,"2 Left","3 Left","4 Left","5 Left"]
[{"$f":"'76'!$E$36","v":34},{"$f":"'76'!$I$36","v":"7 Right"},{"$f":"'76'!$Q$18","v":"1 Left"},{"$f":"'76'!$AA$26","v":"3 Right"},{"$f":"'76'!$AJ$32","v":"5 Right"},null,"2 Right","4 Left","5 Left","4 Left"]
[{"$f":"'76'!$B$34","v":35},{"$f":"'76'!$H$34","v":"6 Left"},{"$f":"'76'!$R$18","v":"1 Right"},{"$f":"'76'!$AA$29","v":"4 Right"},{"$f":"'76'!$AJ$26","v":"3 Right"},null,"3 Left","4 Right","2 Left","5 Right"]
[{"$f":"'76'!$E$34","v":36},{"$f":"'76'!$I$34","v":"6 Right"},{"$f":"'76'!$R$21","v":"2 Right"},{"$f":"'76'!$AA$32","v":"5 Right"},{"$f":"'76'!$AI$29","v":"4 Left"},null,"3 Right","5 Left","3 Left","4 Right"]
[{"$f":"'76'!$B$37","v":37},{"$f":"'76'!$H$37","v":"7 Left"},{"$f":"'76'!$R$30","v":"5 Right"},{"$f":"'76'!$Z$23","v":"2 Left"},{"$f":"'76'!$AI$26","v":"3 Left"},null,"4 Left","5 Right","2 Right","3 Left"]
[{"$f":"'76'!$E$37","v":38},{"$f":"'76'!$I$37","v":"7 Right"},{"$f":"'76'!$R$24","v":"3 Right"},{"$f":"'76'!$Z$31","v":"5 Left"},{"$f":"'76'!$AI$20","v":"1 Left"},null,"4 Right","2 Left","3 Right","2 Right"]
[{"$f":"'76'!$B$39","v":39},{"$f":"'76'!$H$39","v":"8 Left"},{"$f":"'76'!$R$48","v":"11 Right"},{"$f":"'76'!$Z$39","v":"8 Left"},{"$f":"'76'!$AI$45","v":"10 Left"},null,"5 Left","3 Right","5 Right","2 Left"]
[{"$f":"'76'!$E$39","v":40},{"$f":"'76'!$I$39","v":"8 Right"},{"$f":"'76'!$Q$46","v":"10 Left"},{"$f":"'76'!$AA$43","v":"9 Right"},{"$f":"'76'!$AJ$48","v":"11 Right"},null,"5 Right","2 Right","4 Right","3 Right"]
[{"$f":"'76'!$B$42","v":41},{"$f":"'76'!$H$42","v":"9 Left"},{"$f":"'76'!$Q$49","v":"11 Left"},{"$f":"'76'!$AA$39","v":"8 Right"},{"$f":"'76'!$AI$51","v":"12 Left"},null,"2 Left","4 Right","5 Right","4 Right"]
[{"$f":"'76'!$E$42","v":42},{"$f":"'76'!$I$42","v":"9 Right"},{"$f":"'76'!$Q$52","v":"12 Left"},{"$f":"'76'!$Z$45","v":"10 Left"},{"$f":"'76'!$AI$42","v":"9 Left"},null,"2 Right","5 Left","4 Right","3 Left"]
[{"$f":"'76'!$B$45","v":43},{"$f":"'76'!$H$45","v":"10 Left"},{"$f":"'76'!$Q$40","v":"8 Left"},{"$f":"'76'!$Z$48","v":"11 Left"},{"$f":"'76'!$AJ$39","v":"8 Right"},null,"3 Left","5 Right","4 Left","2 Right"]
[{"$f":"'76'!$B$48","v":44},{"$f":"'76'!$H$48","v":"11 Left"},{"$f":"'76'!$R$40","v":"8 Right"},{"$f":"'76'!$AA$45","v":"10 Right"},{"$f":"'76'!$AJ$42","v":"9 Right"},null,"3 Right","2 Left","5 Left","2 Left"]
[{"$f":"'76'!$E$45","v":45},{"$f":"'76'!$I$45","v":"10 Right"},{"$f":"'76'!$R$43","v":"9 Right"},{"$f":"'76'!$AA$48","v":"11 Right"},{"$f":"'76'!$AJ$51","v":"12 Right"},null,"4 Left","3 Right","2 Left","3 Right"]
[{"$f":"'76'!$E$48","v":46},{"$f":"'76'!$I$48","v":"11 Right"},{"$f":"'76'!$R$52","v":"12 Right"},{"$f":"'76'!$Z$40","v":"8 Left"},{"$f":"'76'!$AJ$45","v":"10 Right"},null,"4 Right","2 Right","3 Left","5 Left"]
[{"$f":"'76'!$B$51","v":47},{"$f":"'76'!$H$51","v":"12 Left"},{"$f":"'76'!$R$46","v":"10 Right"},{"$f":"'76'!$AA$40","v":"8 Right"},{"$f":"'76'!$AI$48","v":"11 Left"},null,"5 Left","3 Left","2 Right","4 Left"]
[{"$f":"'76'!$E$51","v":48},{"$f":"'76'!$I$51","v":"12 Right"},{"$f":"'76'!$R$49","v":"11 Right"},{"$f":"'76'!$Z$46","v":"10 Left"},{"$f":"'76'!$AI$54","v":"13 Left"},null,"5 Right","4 Left","3 Right","5 Right"]
[{"$f":"'76'!$B$40","v":49},{"$f":"'76'!$H$40","v":"8 Left"},{"$f":"'76'!$Q$43","v":"9 Left"},{"$f":"'76'!$Z$49","v":"11 Left"},{"$f":"'76'!$AJ$54","v":"13 Right"},null,0,0,0,0]
[{"$f":"'76'!$E$40","v":50},{"$f":"'76'!$I$40","v":"8 Right"},{"$f":"'76'!$Q$50","v":"11 Left"},{"$f":"'76'!$AA$46","v":"10 Right"},{"$f":"'76'!$AI$57","v":"14 Left"},null,"1 Left","3 Left","1 Left","3 Right"]
[{"$f":"'76'!$B$43","v":51},{"$f":"'76'!$H$43","v":"9 Left"},{"$f":"'76'!$Q$53","v":"12 Left"},{"$f":"'76'!$AA$49","v":"11 Right"},{"$f":"'76'!$AJ$57","v":"14 Right"},null,"1 Right","2 Left","1 Left","2 Left"]
[{"$f":"'76'!$E$43","v":52},{"$f":"'76'!$I$43","v":"9 Right"},{"$f":"'76'!$Q$41","v":"8 Left"},{"$f":"'76'!$AA$51","v":"12 Right"},{"$f":"'76'!$AI$55","v":"13 Left"},null,"2 Left","1 Right","3 Right","1 Left"]
[{"$f":"'76'!$B$46","v":53},{"$f":"'76'!$H$46","v":"10 Left"},{"$f":"'76'!$R$41","v":"8 Right"},{"$f":"'76'!$Z$42","v":"9 Left"},{"$f":"'76'!$AJ$55","v":"13 Right"},null,"2 Right","1 Left","3 Left","1 Left"]
[{"$f":"'76'!$B$49","v":54},{"$f":"'76'!$H$49","v":"11 Left"},{"$f":"'76'!$R$44","v":"9 Right"},{"$f":"'76'!$Z$53","v":"12 Left"},{"$f":"'76'!$AI$58","v":"14 Left"},null,"3 Left","2 Right","1 Left","2 Right"]
[{"$f":"'76'!$E$46","v":55},{"$f":"'76'!$I$46","v":"10 Right"},{"$f":"'76'!$R$53","v":"12 Right"},{"$f":"'76'!$AA$44","v":"9 Right"},{"$f":"'76'!$AJ$58","v":"14 Right"},null,"1 Left","3 Right","2 Left","1 Left"]
[{"$f":"'76'!$E$49","v":56},{"$f":"'76'!$I$49","v":"11 Right"},{"$f":"'76'!$R$47","v":"10 Right"},{"$f":"'76'!$Z$57","v":"14 Left"},{"$f":"'76'!$AI$53","v":"12 Left"},null,"1 Right","3 Left","2 Right","1 Right"]
[{"$f":"'76'!$B$52","v":57},{"$f":"'76'!$H$52","v":"12 Left"},{"$f":"'76'!$R$50","v":"11 Right"},{"$f":"'76'!$AA$57","v":"14 Right"},{"$f":"'76'!$AI$43","v":"9 Left"},null,{"$f":"B1794","v":"2 Left"},{"$f":"C1794","v":"1 Left"},{"$f":"D1794","v":"2 Left"},{"$f":"E1794","v":"3 Left"}]
[{"$f":"'76'!$E$52","v":58},{"$f":"'76'!$I$52","v":"12 Right"},{"$f":"'76'!$Q$44","v":"9 Left"},{"$f":"'76'!$Z$54","v":"13 Left"},{"$f":"'76'!$AJ$40","v":"8 Right"},null,"2 Right","1 Right","2 Right","3 Right"]
[{"$f":"'76'!$B$41","v":59},{"$f":"'76'!$H$41","v":"8 Left"},{"$f":"'76'!$Q$47","v":"10 Left"},{"$f":"'76'!$AA$54","v":"13 Right"},{"$f":"'76'!$AJ$43","v":"9 Right"},null,"3 Right","2 Left","1 Right","2 Right"]
[{"$f":"'76'!$E$41","v":60},{"$f":"'76'!$I$41","v":"8 Right"},{"$f":"'76'!$Q$54","v":"13 Left"},{"$f":"'76'!$Z$58","v":"14 Left"},{"$f":"'76'!$AJ$52","v":"12 Right"},null,"1 Left","2 Right","1 Right","2 Left"]
[{"$f":"'76'!$B$44","v":61},{"$f":"'76'!$H$44","v":"9 Left"},{"$f":"'76'!$R$54","v":"13 Right"},{"$f":"'76'!$AA$58","v":"14 Right"},{"$f":"'76'!$AJ$46","v":"10 Right"},null,"1 Right","3 Right","1 Right","3 Left"]
[{"$f":"'76'!$E$44","v":62},{"$f":"'76'!$I$44","v":"9 Right"},{"$f":"'76'!$Q$57","v":"14 Left"},{"$f":"'76'!$Z$55","v":"13 Left"},{"$f":"'76'!$AI$49","v":"11 Left"},null,"3 Right","1 Left","3 Right","1 Right"]
[{"$f":"'76'!$B$47","v":63},{"$f":"'76'!$H$47","v":"10 Left"},{"$f":"'76'!$R$57","v":"14 Right"},{"$f":"'76'!$AA$55","v":"13 Right"},{"$f":"'76'!$AI$46","v":"10 Left"},null,"3 Left","1 Right","3 Left","1 Right"]
[{"$f":"'76'!$B$50","v":64},{"$f":"'76'!$H$50","v":"11 Left"},{"$f":"'76'!$Q$55","v":"13 Left"},{"$f":"'76'!$AA$52","v":"12 Right"},{"$f":"'76'!$AJ$49","v":"11 Right"},null,0,0,0,0]
[{"$f":"'76'!$E$47","v":65},{"$f":"'76'!$I$47","v":"10 Right"},{"$f":"'76'!$R$55","v":"13 Right"},{"$f":"'76'!$Z$43","v":"9 Left"},{"$f":"'76'!$AI$39","v":"8 Left"},null,"2 Left","3 Left","2 Right","4 Left"]
[{"$f":"'76'!$E$50","v":66},{"$f":"'76'!$I$50","v":"11 Right"},{"$f":"'76'!$Q$58","v":"14 Left"},{"$f":"'76'!$Z$51","v":"12 Left"},{"$f":"'76'!$AJ$50","v":"11 Right"},null,"2 Left","4 Left","2 Left","3 Left"]
[{"$f":"'76'!$B$53","v":67},{"$f":"'76'!$H$53","v":"12 Left"},{"$f":"'76'!$R$58","v":"14 Right"},{"$f":"'76'!$AA$42","v":"9 Right"},{"$f":"'76'!$AI$40","v":"8 Left"},null,"2 Right","3 Left","2 Left","4 Right"]
[{"$f":"'76'!$E$53","v":68},{"$f":"'76'!$I$53","v":"12 Right"},{"$f":"'76'!$Q$45","v":"10 Left"},{"$f":"'76'!$Z$41","v":"8 Left"},{"$f":"'76'!$AI$52","v":"12 Left"},null,"2 Right","4 Left","3 Right","2 Right"]
[{"$f":"'76'!$B$54","v":69},{"$f":"'76'!$H$54","v":"13 Left"},{"$f":"'76'!$Q$42","v":"9 Left"},{"$f":"'76'!$AA$41","v":"8 Right"},{"$f":"'76'!$AI$44","v":"9 Left"},null,"3 Left","2 Left","4 Right","2 Right"]
[{"$f":"'76'!$E$54","v":70},{"$f":"'76'!$I$54","v":"13 Right"},{"$f":"'76'!$Q$48","v":"11 Left"},{"$f":"'76'!$Z$47","v":"10 Left"},{"$f":"'76'!$AJ$41","v":"8 Right"},null,"3 Left","4 Right","3 Left","2 Left"]
[{"$f":"'76'!$B$57","v":71},{"$f":"'76'!$H$57","v":"14 Left"},{"$f":"'76'!$Q$51","v":"12 Left"},{"$f":"'76'!$Z$50","v":"11 Left"},{"$f":"'76'!$AJ$44","v":"9 Right"},null,"3 Right","2 Left","3 Left","4 Left"]
[{"$f":"'76'!$E$57","v":72},{"$f":"'76'!$I$57","v":"14 Right"},{"$f":"'76'!$Q$39","v":"8 Left"},{"$f":"'76'!$AA$47","v":"10 Right"},{"$f":"'76'!$AJ$53","v":"12 Right"},null,"3 Right","4 Right","2 Right","3 Right"]
[{"$f":"'76'!$B$55","v":73},{"$f":"'76'!$H$55","v":"13 Left"},{"$f":"'76'!$R$39","v":"8 Right"},{"$f":"'76'!$AA$50","v":"11 Right"},{"$f":"'76'!$AJ$47","v":"10 Right"},null,"4 Left","2 Right","3 Right","4 Right"]
[{"$f":"'76'!$E$55","v":74},{"$f":"'76'!$I$55","v":"13 Right"},{"$f":"'76'!$R$42","v":"9 Right"},{"$f":"'76'!$AA$53","v":"12 Right"},{"$f":"'76'!$AI$50","v":"11 Left"},null,"4 Left","3 Right","4 Left","2 Left"]
[{"$f":"'76'!$B$58","v":75},{"$f":"'76'!$H$58","v":"14 Left"},{"$f":"'76'!$R$51","v":"12 Right"},{"$f":"'76'!$Z$44","v":"9 Left"},{"$f":"'76'!$AI$47","v":"10 Left"},null,"4 Right","2 Right","4 Left","3 Left"]
[{"$f":"'76'!$E$58","v":76},{"$f":"'76'!$I$58","v":"14 Right"},{"$f":"'76'!$R$45","v":"10 Right"},{"$f":"'76'!$Z$52","v":"12 Left"},{"$f":"'76'!$AI$41","v":"8 Left"},null,"4 Right","3 Right","4 Right","3 Right"]
[{"$nulls":6},0,0,0,0]
[{"$f":"'74'!$B$18","v":1},{"$f":"'74'!$H$18","v":"1 Left"},{"$f":"'74'!$R$27","v":"4 Right"},{"$f":"'74'!$Z$18","v":"1 Left"},{"$f":"'74'!$AI$24","v":"3 Left"},null,0,0,0,0,null,74]
[{"$f":"'74'!$E$18","v":2},{"$f":"'74'!$I$18","v":"1 Right"},{"$f":"'74'!$Q$25","v":"3 Left"},{"$f":"'74'!$AA$22","v":"2 Right"},{"$f":"'74'!$AJ$27","v":"4 Right"},null,0,0,0,0]
[{"$f":"'74'!$B$21","v":3},{"$f":"'74'!$H$21","v":"2 Left"},{"$f":"'74'!$Q$28","v":"4 Left"},{"$f":"'74'!$AA$18","v":"1 Right"},{"$f":"'74'!$AI$30","v":"5 Left"},null,0,0,0,0]
[{"$f":"'74'!$E$21","v":4},{"$f":"'74'!$I$21","v":"2 Right"},{"$f":"'74'!$Q$31","v":"5 Left"},{"$f":"'74'!$Z$24","v":"3 Left"},{"$f":"'74'!$AI$21","v":"2 Left"},null,0,0,0,0]
[{"$f":"'74'!$B$24","v":5},{"$f":"'74'!$H$24","v":"3 Left"},{"$f":"'74'!$Q$19","v":"1 Left"},{"$f":"'74'!$Z$27","v":"4 Left"},{"$f":"'74'!$AJ$18","v":"1 Right"},null,0,0,0,0]
[{"$f":"'74'!$B$27","v":6},{"$f":"'74'!$H$27","v":"4 Left"},{"$f":"'74'!$R$19","v":"1 Right"},{"$f":"'74'!$AA$24","v":"3 Right"},{"$f":"'74'!$AJ$21","v":"2 Right"},null,0,0,0,0]
[{"$f":"'74'!$E$24","v":7},{"$f":"'74'!$I$24","v":"3 Right"},{"$f":"'74'!$R$22","v":"2 Right"},{"$f":"'74'!$AA$27","v":"4 Right"},{"$f":"'74'!$AJ$30","v":"5 Right"},null,0,0,0,0]
[{"$f":"'74'!$E$27","v":8},{"$f":"'74'!$I$27","v":"4 Right"},{"$f":"'74'!$R$31","v":"5 Right"},{"$f":"'74'!$Z$19","v":"1 Left"},{"$f":"'74'!$AJ$24","v":"3 Right"},null,0,0,0,0]
[{"$f":"'74'!$B$30","v":9},{"$f":"'74'!$H$30","v":"5 Left"},{"$f":"'74'!$R$25","v":"3 Right"},{"$f":"'74'!$AA$19","v":"1 Right"},{"$f":"'74'!$AI$27","v":"4 Left"},null,0,0,0,0]
[{"$f":"'74'!$E$30","v":10},{"$f":"'74'!$I$30","v":"5 Right"},{"$f":"'74'!$R$28","v":"4 Right"},{"$f":"'74'!$Z$25","v":"3 Left"},{"$f":"'74'!$AI$33","v":"6 Left"},null,0,0,0,0]
[{"$f":"'74'!$B$19","v":11},{"$f":"'74'!$H$19","v":"1 Left"},{"$f":"'74'!$Q$22","v":"2 Left"},{"$f":"'74'!$Z$28","v":"4 Left"},{"$f":"'74'!$AJ$33","v":"6 Right"},null,0,0,0,0]
[{"$f":"'74'!$E$19","v":12},{"$f":"'74'!$I$19","v":"1 Right"},{"$f":"'74'!$Q$29","v":"4 Left"},{"$f":"'74'!$AA$25","v":"3 Right"},{"$f":"'74'!$AI$36","v":"7 Left"},null,0,0,0,0]
[{"$f":"'74'!$B$22","v":13},{"$f":"'74'!$H$22","v":"2 Left"},{"$f":"'74'!$Q$32","v":"5 Left"},{"$f":"'74'!$AA$28","v":"4 Right"},{"$f":"'74'!$AJ$36","v":"7 Right"},null,0,0,0,0]
[{"$f":"'74'!$E$22","v":14},{"$f":"'74'!$I$22","v":"2 Right"},{"$f":"'74'!$Q$20","v":"1 Left"},{"$f":"'74'!$AA$30","v":"5 Right"},{"$f":"'74'!$AI$34","v":"6 Left"},null,0,0,0,0]
[{"$f":"'74'!$B$25","v":15},{"$f":"'74'!$H$25","v":"3 Left"},{"$f":"'74'!$R$20","v":"1 Right"},{"$f":"'74'!$Z$21","v":"2 Left"},{"$f":"'74'!$AJ$34","v":"6 Right"},null,0,0,0,0]
[{"$f":"'74'!$B$28","v":16},{"$f":"'74'!$H$28","v":"4 Left"},{"$f":"'74'!$R$23","v":"2 Right"},{"$f":"'74'!$Z$32","v":"5 Left"},{"$f":"'74'!$AI$37","v":"7 Left"},null,0,0,0,0]
[{"$f":"'74'!$E$25","v":17},{"$f":"'74'!$I$25","v":"3 Right"},{"$f":"'74'!$R$32","v":"5 Right"},{"$f":"'74'!$AA$23","v":"2 Right"},{"$f":"'74'!$AJ$37","v":"7 Right"},null,0,0,0,0]
[{"$f":"'74'!$E$28","v":18},{"$f":"'74'!$I$28","v":"4 Right"},{"$f":"'74'!$R$26","v":"3 Right"},{"$f":"'74'!$Z$36","v":"7 Left"},{"$f":"'74'!$AI$32","v":"5 Left"},null,0,0,0,0]
[{"$f":"'74'!$B$31","v":19},{"$f":"'74'!$H$31","v":"5 Left"},{"$f":"'74'!$R$29","v":"4 Right"},{"$f":"'74'!$AA$36","v":"7 Right"},{"$f":"'74'!$AI$22","v":"2 Left"},null,0,0,0,0]
[{"$f":"'74'!$E$31","v":20},{"$f":"'74'!$I$31","v":"5 Right"},{"$f":"'74'!$Q$23","v":"2 Left"},{"$f":"'74'!$Z$33","v":"6 Left"},{"$f":"'74'!$AJ$19","v":"1 Right"},null,0,0,0,0]
[{"$f":"'74'!$B$20","v":21},{"$f":"'74'!$H$20","v":"1 Left"},{"$f":"'74'!$Q$26","v":"3 Left"},{"$f":"'74'!$AA$33","v":"6 Right"},{"$f":"'74'!$AJ$22","v":"2 Right"},null,0,0,0,0]
[{"$f":"'74'!$E$20","v":22},{"$f":"'74'!$I$20","v":"1 Right"},{"$f":"'74'!$Q$33","v":"6 Left"},{"$f":"'74'!$Z$37","v":"7 Left"},{"$f":"'74'!$AJ$31","v":"5 Right"},null,0,0,0,0]
[{"$f":"'74'!$B$23","v":23},{"$f":"'74'!$H$23","v":"2 Left"},{"$f":"'74'!$R$33","v":"6 Right"},{"$f":"'74'!$AA$37","v":"7 Right"},{"$f":"'74'!$AJ$25","v":"3 Right"},null,0,0,0,0]
[{"$f":"'74'!$E$23","v":24},{"$f":"'74'!$I$23","v":"2 Right"},{"$f":"'74'!$Q$36","v":"7 Left"},{"$f":"'74'!$Z$34","v":"6 Left"},{"$f":"'74'!$AI$28","v":"4 Left"},null,0,0,0,0]
[{"$f":"'74'!$B$26","v":25},{"$f":"'74'!$H$26","v":"3 Left"},{"$f":"'74'!$R$36","v":"7 Right"},{"$f":"'74'!$AA$34","v":"6 Right"},{"$f":"'74'!$AI$25","v":"3 Left"},null,0,0,0,0]
[{"$f":"'74'!$B$29","v":26},{"$f":"'74'!$H$29","v":"4 Left"},{"$f":"'74'!$Q$34","v":"6 Left"},{"$f":"'74'!$AA$31","v":"5 Right"},{"$f":"'74'!$AJ$28","v":"4 Right"},null,0,0,0,0]
[{"$f":"'74'!$E$26","v":27},{"$f":"'74'!$I$26","v":"3 Right"},{"$f":"'74'!$R$34","v":"6 Right"},{"$f":"'74'!$Z$22","v":"2 Left"},{"$f":"'74'!$AI$18","v":"1 Left"},null,0,0,0,0]
[{"$f":"'74'!$E$29","v":28},{"$f":"'74'!$I$29","v":"4 Right"},{"$f":"'74'!$Q$37","v":"7 Left"},{"$f":"'74'!$Z$30","v":"5 Left"},{"$f":"'74'!$AJ$29","v":"4 Right"},null,0,0,0,0]
[{"$f":"'74'!$B$32","v":29},{"$f":"'74'!$H$32","v":"5 Left"},{"$f":"'74'!$R$37","v":"7 Right"},{"$f":"'74'!$AA$21","v":"2 Right"},{"$f":"'74'!$AI$19","v":"1 Left"},null,0,0,0,0]
[{"$f":"'74'!$E$32","v":30},{"$f":"'74'!$I$32","v":"5 Right"},{"$f":"'74'!$Q$24","v":"3 Left"},{"$f":"'74'!$Z$20","v":"1 Left"},{"$f":"'74'!$AI$31","v":"5 Left"},null,0,0,0,0]
[{"$f":"'74'!$B$33","v":31},{"$f":"'74'!$H$33","v":"6 Left"},{"$f":"'74'!$Q$21","v":"2 Left"},{"$f":"'74'!$AA$20","v":"1 Right"},{"$f":"'74'!$AI$23","v":"2 Left"},null,0,0,0,0]
[{"$f":"'74'!$E$33","v":32},{"$f":"'74'!$I$33","v":"6 Right"},{"$f":"'74'!$Q$27","v":"4 Left"},{"$f":"'74'!$Z$26","v":"3 Left"},{"$f":"'74'!$AJ$20","v":"1 Right"},null,0,0,0,0]
[{"$f":"'74'!$B$36","v":33},{"$f":"'74'!$H$36","v":"7 Left"},{"$f":"'74'!$Q$30","v":"5 Left"},{"$f":"'74'!$Z$29","v":"4 Left"},{"$f":"'74'!$AJ$23","v":"2 Right"},null,0,0,0,0]
[{"$f":"'74'!$E$36","v":34},{"$f":"'74'!$I$36","v":"7 Right"},{"$f":"'74'!$Q$18","v":"1 Left"},{"$f":"'74'!$AA$26","v":"3 Right"},{"$f":"'74'!$AJ$32","v":"5 Right"},null,0,0,0,0]
[{"$f":"'74'!$B$34","v":35},{"$f":"'74'!$H$34","v":"6 Left"},{"$f":"'74'!$R$18","v":"1 Right"},{"$f":"'74'!$AA$29","v":"4 Right"},{"$f":"'74'!$AJ$26","v":"3 Right"},null,0,0,0,0]
[{"$f":"'74'!$E$34","v":36},{"$f":"'74'!$I$34","v":"6 Right"},{"$f":"'74'!$R$21","v":"2 Right"},{"$f":"'74'!$AA$32","v":"5 Right"},{"$f":"'74'!$AI$29","v":"4 Left"},null,0,0,0,0]
[{"$f":"'74'!$B$37","v":37},{"$f":"'74'!$H$37","v":"7 Left"},{"$f":"'74'!$R$30","v":"5 Right"},{"$f":"'74'!$Z$23","v":"2 Left"},{"$f":"'74'!$AI$26","v":"3 Left"},null,0,0,0,0]
[{"$f":"'74'!$E$37","v":38},{"$f":"'74'!$I$37","v":"7 Right"},{"$f":"'74'!$R$24","v":"3 Right"},{"$f":"'74'!$Z$31","v":"5 Left"},{"$f":"'74'!$AI$20","v":"1 Left"},null,0,0,0,0]
[{"$f":"'74'!$E$45","v":39},{"$f":"'74'!$I$45","v":"10 Right"},{"$f":"'74'!$R$40","v":"8 Right"},{"$f":"'74'!$Z$51","v":"12 Left"},{"$f":"'74'!$AI$54","v":"13 Left"},null,0,0,0,0]
[{"$f":"'74'!$E$39","v":40},{"$f":"'74'!$I$39","v":"8 Right"},{"$f":"'74'!$R$43","v":"9 Right"},{"$f":"'74'!$Z$54","v":"13 Left"},{"$f":"'74'!$AI$57","v":"14 Left"},null,0,0,0,0]
[{"$f":"'74'!$B$39","v":41},{"$f":"'74'!$H$39","v":"8 Left"},{"$f":"'74'!$R$49","v":"11 Right"},{"$f":"'74'!$Z$57","v":"14 Left"},{"$f":"'74'!$AI$51","v":"12 Left"},null,0,0,0,0]
[{"$f":"'74'!$E$42","v":42},{"$f":"'74'!$I$42","v":"9 Right"},{"$f":"'74'!$R$46","v":"10 Right"},{"$f":"'74'!$AA$54","v":"13 Right"},{"$f":"'74'!$AJ$57","v":"14 Right"},null,0,0,0,0]
[{"$f":"'74'!$B$45","v":43},{"$f":"'74'!$H$45","v":"10 Left"},{"$f":"'74'!$R$44","v":"9 Right"},{"$f":"'74'!$AA$51","v":"12 Right"},{"$f":"'74'!$AI$48","v":"11 Left"},null,0,0,0,0]
[{"$f":"'74'!$B$42","v":44},{"$f":"'74'!$H$42","v":"9 Left"},{"$f":"'74'!$R$50","v":"11 Right"},{"$f":"'74'!$AA$57","v":"14 Right"},{"$f":"'74'!$AI$39","v":"8 Left"},null,{"$f":"B1858","v":0},{"$f":"C1858","v":0},{"$f":"D1858","v":0},{"$f":"E1858","v":0}]
[{"$f":"'74'!$B$48","v":45},{"$f":"'74'!$H$48","v":"11 Left"},{"$f":"'74'!$R$47","v":"10 Right"},{"$f":"'74'!$Z$52","v":"12 Left"},{"$f":"'74'!$AI$45","v":"10 Left"},null,0,0,0,0]
[{"$f":"'74'!$E$48","v":46},{"$f":"'74'!$I$48","v":"11 Right"},{"$f":"'74'!$Q$41","v":"8 Left"},{"$f":"'74'!$Z$55","v":"13 Left"},{"$f":"'74'!$AJ$45","v":"10 Right"},null,0,0,0,0]
[{"$f":"'74'!$E$46","v":47},{"$f":"'74'!$I$46","v":"10 Right"},{"$f":"'74'!$Q$44","v":"9 Left"},{"$f":"'74'!$Z$58","v":"14 Left"},{"$f":"'74'!$AJ$39","v":"8 Right"},null,0,0,0,0]
[{"$f":"'74'!$E$40","v":48},{"$f":"'74'!$I$40","v":"8 Right"},{"$f":"'74'!$Q$47","v":"10 Left"},{"$f":"'74'!$AA$55","v":"13 Right"},{"$f":"'74'!$AJ$48","v":"11 Right"},null,0,0,0,0]
[{"$f":"'74'!$B$40","v":49},{"$f":"'74'!$H$40","v":"8 Left"},{"$f":"'74'!$Q$50","v":"11 Left"},{"$f":"'74'!$AA$52","v":"12 Right"},{"$f":"'74'!$AI$42","v":"9 Left"},null,0,0,0,0]
[{"$f":"'74'!$E$43","v":50},{"$f":"'74'!$I$43","v":"9 Right"},{"$f":"'74'!$R$41","v":"8 Right"},{"$f":"'74'!$AA$58","v":"14 Right"},{"$f":"'74'!$AJ$42","v":"9 Right"},null,0,0,0,0]
[{"$f":"'74'!$B$46","v":51},{"$f":"'74'!$H$46","v":"10 Left"},{"$f":"'74'!$Q$51","v":"12 Left"},{"$f":"'74'!$AA$48","v":"11 Right"},{"$f":"'74'!$AI$40","v":"8 Left"},null,0,0,0,0]
[{"$f":"'74'!$B$43","v":52},{"$f":"'74'!$H$43","v":"9 Left"},{"$f":"'74'!$Q$54","v":"13 Left"},{"$f":"'74'!$Z$39","v":"8 Left"},{"$f":"'74'!$AI$46","v":"10 Left"},null,0,0,0,0]
[{"$f":"'74'!$B$49","v":53},{"$f":"'74'!$H$49","v":"11 Left"},{"$f":"'74'!$Q$57","v":"14 Left"},{"$f":"'74'!$AA$42","v":"9 Right"},{"$f":"'74'!$AJ$46","v":"10 Right"},null,0,0,0,0]
[{"$f":"'74'!$E$49","v":54},{"$f":"'74'!$I$49","v":"11 Right"},{"$f":"'74'!$R$51","v":"12 Right"},{"$f":"'74'!$AA$45","v":"10 Right"},{"$f":"'74'!$AJ$40","v":"8 Right"},null,0,0,0,0]
[{"$f":"'74'!$E$47","v":55},{"$f":"'74'!$I$47","v":"10 Right"},{"$f":"'74'!$R$54","v":"13 Right"},{"$f":"'74'!$Z$42","v":"9 Left"},{"$f":"'74'!$AJ$49","v":"11 Right"},null,0,0,0,0]
[{"$f":"'74'!$E$41","v":56},{"$f":"'74'!$I$41","v":"8 Right"},{"$f":"'74'!$R$57","v":"14 Right"},{"$f":"'74'!$Z$48","v":"11 Left"},{"$f":"'74'!$AI$43","v":"9 Left"},null,0,0,0,0]
[{"$f":"'74'!$B$41","v":57},{"$f":"'74'!$H$41","v":"8 Left"},{"$f":"'74'!$Q$52","v":"12 Left"},{"$f":"'74'!$Z$45","v":"10 Left"},{"$f":"'74'!$AJ$43","v":"9 Right"},null,0,0,0,0]
[{"$f":"'74'!$E$44","v":58},{"$f":"'74'!$I$44","v":"9 Right"},{"$f":"'74'!$Q$55","v":"13 Left"},{"$f":"'74'!$AA$39","v":"8 Right"},{"$f":"'74'!$AI$49","v":"11 Left"},null,0,0,0,0]
[{"$f":"'74'!$B$47","v":59},{"$f":"'74'!$H$47","v":"10 Left"},{"$f":"'74'!$Q$58","v":"14 Left"},{"$f":"'74'!$Z$43","v":"9 Left"},{"$f":"'74'!$AI$47","v":"10 Left"},null,0,0,0,0]
[{"$f":"'74'!$B$44","v":60},{"$f":"'74'!$H$44","v":"9 Left"},{"$f":"'74'!$R$52","v":"12 Right"},{"$f":"'74'!$Z$49","v":"11 Left"},{"$f":"'74'!$AJ$47","v":"10 Right"},null,0,0,0,0]
[{"$f":"'74'!$B$50","v":61},{"$f":"'74'!$H$50","v":"11 Left"},{"$f":"'74'!$R$55","v":"13 Right"},{"$f":"'74'!$Z$46","v":"10 Left"},{"$f":"'74'!$AJ$41","v":"8 Right"},null,0,0,0,0]
[{"$f":"'74'!$E$50","v":62},{"$f":"'74'!$I$50","v":"11 Right"},{"$f":"'74'!$R$58","v":"14 Right"},{"$f":"'74'!$AA$40","v":"8 Right"},{"$f":"'74'!$AJ$50","v":"11 Right"},null,0,0,0,0]
[{"$f":"'74'!$B$51","v":63},{"$f":"'74'!$H$51","v":"12 Left"},{"$f":"'74'!$Q$39","v":"8 Left"},{"$f":"'74'!$AA$49","v":"11 Right"},{"$f":"'74'!$AI$44","v":"9 Left"},null,0,0,0,0]
[{"$f":"'74'!$E$51","v":64},{"$f":"'74'!$I$51","v":"12 Right"},{"$f":"'74'!$Q$42","v":"9 Left"},{"$f":"'74'!$Z$40","v":"8 Left"},{"$f":"'74'!$AJ$44","v":"9 Right"},null,0,0,0,0]
[{"$f":"'74'!$B$54","v":65},{"$f":"'74'!$H$54","v":"13 Left"},{"$f":"'74'!$Q$45","v":"10 Left"},{"$f":"'74'!$AA$43","v":"9 Right"},{"$f":"'74'!$AI$50","v":"11 Left"},null,0,0,0,0]
[{"$f":"'74'!$E$54","v":66},{"$f":"'74'!$I$54","v":"13 Right"},{"$f":"'74'!$Q$48","v":"11 Left"},{"$f":"'74'!$AA$46","v":"10 Right"},{"$f":"'74'!$AI$41","v":"8 Left"},null,0,0,0,0]
[{"$f":"'74'!$B$57","v":67},{"$f":"'74'!$H$57","v":"14 Left"},{"$f":"'74'!$R$39","v":"8 Right"},{"$f":"'74'!$Z$44","v":"9 Left"},{"$f":"'74'!$AJ$52","v":"12 Right"},null,0,0,0,0]
[{"$f":"'74'!$E$57","v":68},{"$f":"'74'!$I$57","v":"14 Right"},{"$f":"'74'!$R$42","v":"9 Right"},{"$f":"'74'!$Z$50","v":"11 Left"},{"$f":"'74'!$AJ$54","v":"13 Right"},null,0,0,0,0]
[{"$f":"'74'!$B$52","v":69},{"$f":"'74'!$H$52","v":"12 Left"},{"$f":"'74'!$R$48","v":"11 Right"},{"$f":"'74'!$Z$47","v":"10 Left"},{"$f":"'74'!$AI$55","v":"13 Left"},null,0,0,0,0]
[{"$f":"'74'!$E$52","v":70},{"$f":"'74'!$I$52","v":"12 Right"},{"$f":"'74'!$R$45","v":"10 Right"},{"$f":"'74'!$AA$41","v":"8 Right"},{"$f":"'74'!$AI$58","v":"14 Left"},null,0,0,0,0]
[{"$f":"'74'!$B$55","v":71},{"$f":"'74'!$H$55","v":"13 Left"},{"$f":"'74'!$Q$40","v":"8 Left"},{"$f":"'74'!$AA$47","v":"10 Right"},{"$f":"'74'!$AI$52","v":"12 Left"},null,0,0,0,0]
[{"$f":"'74'!$E$55","v":72},{"$f":"'74'!$I$55","v":"13 Right"},{"$f":"'74'!$Q$49","v":"11 Left"},{"$f":"'74'!$AA$44","v":"9 Right"},{"$f":"'74'!$AJ$58","v":"14 Right"},null,0,0,0,0]
[{"$f":"'74'!$B$58","v":73},{"$f":"'74'!$H$58","v":"14 Left"},{"$f":"'74'!$Q$46","v":"10 Left"},{"$f":"'74'!$Z$41","v":"8 Left"},{"$f":"'74'!$AJ$55","v":"13 Right"},null,0,0,0,0]
[{"$f":"'74'!$E$58","v":74},{"$f":"'74'!$I$58","v":"14 Right"},{"$f":"'74'!$Q$43","v":"9 Left"},{"$f":"'74'!$AA$50","v":"11 Right"},{"$f":"'74'!$AJ$51","v":"12 Right"},null,0,0,0,0]
[{"$nulls":6},0,0,0,0]
[{"$f":"'72'!$E$24","v":1},{"$f":"'72'!$I$24","v":"3 Right"},{"$f":"'72'!$R$19","v":"1 Right"},{"$f":"'72'!$Z$30","v":"5 Left"},{"$f":"'72'!$AI$33","v":"6 Left"},null,0,0,0,0,null,72]
[{"$f":"'72'!$E$18","v":2},{"$f":"'72'!$I$18","v":"1 Right"},{"$f":"'72'!$R$22","v":"2 Right"},{"$f":"'72'!$Z$33","v":"6 Left"},{"$f":"'72'!$AI$36","v":"7 Left"},null,0,0,0,0]
[{"$f":"'72'!$B$18","v":3},{"$f":"'72'!$H$18","v":"1 Left"},{"$f":"'72'!$R$28","v":"4 Right"},{"$f":"'72'!$Z$36","v":"7 Left"},{"$f":"'72'!$AI$30","v":"5 Left"},null,0,0,0,0]
[{"$f":"'72'!$E$21","v":4},{"$f":"'72'!$I$21","v":"2 Right"},{"$f":"'72'!$R$25","v":"3 Right"},{"$f":"'72'!$AA$33","v":"6 Right"},{"$f":"'72'!$AJ$36","v":"7 Right"},null,0,0,0,0]
[{"$f":"'72'!$B$24","v":5},{"$f":"'72'!$H$24","v":"3 Left"},{"$f":"'72'!$R$23","v":"2 Right"},{"$f":"'72'!$AA$30","v":"5 Right"},{"$f":"'72'!$AI$27","v":"4 Left"},null,0,0,0,0]
[{"$f":"'72'!$B$21","v":6},{"$f":"'72'!$H$21","v":"2 Left"},{"$f":"'72'!$R$29","v":"4 Right"},{"$f":"'72'!$AA$36","v":"7 Right"},{"$f":"'72'!$AI$18","v":"1 Left"},null,0,0,0,0]
[{"$f":"'72'!$B$27","v":7},{"$f":"'72'!$H$27","v":"4 Left"},{"$f":"'72'!$R$26","v":"3 Right"},{"$f":"'72'!$Z$31","v":"5 Left"},{"$f":"'72'!$AI$24","v":"3 Left"},null,0,0,0,0]
[{"$f":"'72'!$E$27","v":8},{"$f":"'72'!$I$27","v":"4 Right"},{"$f":"'72'!$Q$20","v":"1 Left"},{"$f":"'72'!$Z$34","v":"6 Left"},{"$f":"'72'!$AJ$24","v":"3 Right"},null,0,0,0,0]
[{"$f":"'72'!$E$25","v":9},{"$f":"'72'!$I$25","v":"3 Right"},{"$f":"'72'!$Q$23","v":"2 Left"},{"$f":"'72'!$Z$37","v":"7 Left"},{"$f":"'72'!$AJ$18","v":"1 Right"},null,0,0,0,0]
[{"$f":"'72'!$E$19","v":10},{"$f":"'72'!$I$19","v":"1 Right"},{"$f":"'72'!$Q$26","v":"3 Left"},{"$f":"'72'!$AA$34","v":"6 Right"},{"$f":"'72'!$AJ$27","v":"4 Right"},null,0,0,0,0]
[{"$f":"'72'!$B$19","v":11},{"$f":"'72'!$H$19","v":"1 Left"},{"$f":"'72'!$Q$29","v":"4 Left"},{"$f":"'72'!$AA$31","v":"5 Right"},{"$f":"'72'!$AI$21","v":"2 Left"},null,0,0,0,0]
[{"$f":"'72'!$E$22","v":12},{"$f":"'72'!$I$22","v":"2 Right"},{"$f":"'72'!$R$20","v":"1 Right"},{"$f":"'72'!$AA$37","v":"7 Right"},{"$f":"'72'!$AJ$21","v":"2 Right"},null,0,0,0,0]
[{"$f":"'72'!$B$25","v":13},{"$f":"'72'!$H$25","v":"3 Left"},{"$f":"'72'!$Q$30","v":"5 Left"},{"$f":"'72'!$AA$27","v":"4 Right"},{"$f":"'72'!$AI$19","v":"1 Left"},null,0,0,0,0]
[{"$f":"'72'!$B$22","v":14},{"$f":"'72'!$H$22","v":"2 Left"},{"$f":"'72'!$Q$33","v":"6 Left"},{"$f":"'72'!$Z$18","v":"1 Left"},{"$f":"'72'!$AI$25","v":"3 Left"},null,0,0,0,0]
[{"$f":"'72'!$B$28","v":15},{"$f":"'72'!$H$28","v":"4 Left"},{"$f":"'72'!$Q$36","v":"7 Left"},{"$f":"'72'!$AA$21","v":"2 Right"},{"$f":"'72'!$AJ$25","v":"3 Right"},null,0,0,0,0]
[{"$f":"'72'!$E$28","v":16},{"$f":"'72'!$I$28","v":"4 Right"},{"$f":"'72'!$R$30","v":"5 Right"},{"$f":"'72'!$AA$24","v":"3 Right"},{"$f":"'72'!$AJ$19","v":"1 Right"},null,0,0,0,0]
[{"$f":"'72'!$E$26","v":17},{"$f":"'72'!$I$26","v":"3 Right"},{"$f":"'72'!$R$33","v":"6 Right"},{"$f":"'72'!$Z$21","v":"2 Left"},{"$f":"'72'!$AJ$28","v":"4 Right"},null,0,0,0,0]
[{"$f":"'72'!$E$20","v":18},{"$f":"'72'!$I$20","v":"1 Right"},{"$f":"'72'!$R$36","v":"7 Right"},{"$f":"'72'!$Z$27","v":"4 Left"},{"$f":"'72'!$AI$22","v":"2 Left"},null,0,0,0,0]
[{"$f":"'72'!$B$20","v":19},{"$f":"'72'!$H$20","v":"1 Left"},{"$f":"'72'!$Q$31","v":"5 Left"},{"$f":"'72'!$Z$24","v":"3 Left"},{"$f":"'72'!$AJ$22","v":"2 Right"},null,0,0,0,0]
[{"$f":"'72'!$E$23","v":20},{"$f":"'72'!$I$23","v":"2 Right"},{"$f":"'72'!$Q$34","v":"6 Left"},{"$f":"'72'!$AA$18","v":"1 Right"},{"$f":"'72'!$AI$28","v":"4 Left"},null,0,0,0,0]
[{"$f":"'72'!$B$26","v":21},{"$f":"'72'!$H$26","v":"3 Left"},{"$f":"'72'!$Q$37","v":"7 Left"},{"$f":"'72'!$Z$22","v":"2 Left"},{"$f":"'72'!$AI$26","v":"3 Left"},null,0,0,0,0]
[{"$f":"'72'!$B$23","v":22},{"$f":"'72'!$H$23","v":"2 Left"},{"$f":"'72'!$R$31","v":"5 Right"},{"$f":"'72'!$Z$28","v":"4 Left"},{"$f":"'72'!$AJ$26","v":"3 Right"},null,0,0,0,0]
[{"$f":"'72'!$B$29","v":23},{"$f":"'72'!$H$29","v":"4 Left"},{"$f":"'72'!$R$34","v":"6 Right"},{"$f":"'72'!$Z$25","v":"3 Left"},{"$f":"'72'!$AJ$20","v":"1 Right"},null,0,0,0,0]
[{"$f":"'72'!$E$29","v":24},{"$f":"'72'!$I$29","v":"4 Right"},{"$f":"'72'!$R$37","v":"7 Right"},{"$f":"'72'!$AA$19","v":"1 Right"},{"$f":"'72'!$AJ$29","v":"4 Right"},null,0,0,0,0]
[{"$f":"'72'!$B$30","v":25},{"$f":"'72'!$H$30","v":"5 Left"},{"$f":"'72'!$Q$18","v":"1 Left"},{"$f":"'72'!$AA$28","v":"4 Right"},{"$f":"'72'!$AI$23","v":"2 Left"},null,0,0,0,0]
[{"$f":"'72'!$E$30","v":26},{"$f":"'72'!$I$30","v":"5 Right"},{"$f":"'72'!$Q$21","v":"2 Left"},{"$f":"'72'!$Z$19","v":"1 Left"},{"$f":"'72'!$AJ$23","v":"2 Right"},null,0,0,0,0]
[{"$f":"'72'!$B$33","v":27},{"$f":"'72'!$H$33","v":"6 Left"},{"$f":"'72'!$Q$24","v":"3 Left"},{"$f":"'72'!$AA$22","v":"2 Right"},{"$f":"'72'!$AI$29","v":"4 Left"},null,0,0,0,0]
[{"$f":"'72'!$E$33","v":28},{"$f":"'72'!$I$33","v":"6 Right"},{"$f":"'72'!$Q$27","v":"4 Left"},{"$f":"'72'!$AA$25","v":"3 Right"},{"$f":"'72'!$AI$20","v":"1 Left"},null,0,0,0,0]
[{"$f":"'72'!$B$36","v":29},{"$f":"'72'!$H$36","v":"7 Left"},{"$f":"'72'!$R$18","v":"1 Right"},{"$f":"'72'!$Z$23","v":"2 Left"},{"$f":"'72'!$AJ$31","v":"5 Right"},null,0,0,0,0]
[{"$f":"'72'!$E$36","v":30},{"$f":"'72'!$I$36","v":"7 Right"},{"$f":"'72'!$R$21","v":"2 Right"},{"$f":"'72'!$Z$29","v":"4 Left"},{"$f":"'72'!$AJ$33","v":"6 Right"},null,0,0,0,0]
[{"$f":"'72'!$B$31","v":31},{"$f":"'72'!$H$31","v":"5 Left"},{"$f":"'72'!$R$27","v":"4 Right"},{"$f":"'72'!$Z$26","v":"3 Left"},{"$f":"'72'!$AI$34","v":"6 Left"},null,0,0,0,0]
[{"$f":"'72'!$E$31","v":32},{"$f":"'72'!$I$31","v":"5 Right"},{"$f":"'72'!$R$24","v":"3 Right"},{"$f":"'72'!$AA$20","v":"1 Right"},{"$f":"'72'!$AI$37","v":"7 Left"},null,0,0,0,0]
[{"$f":"'72'!$B$34","v":33},{"$f":"'72'!$H$34","v":"6 Left"},{"$f":"'72'!$Q$19","v":"1 Left"},{"$f":"'72'!$AA$26","v":"3 Right"},{"$f":"'72'!$AI$31","v":"5 Left"},null,{"$f":"B1922","v":0},{"$f":"C1922","v":0},{"$f":"D1922","v":0},{"$f":"E1922","v":0}]
[{"$f":"'72'!$E$34","v":34},{"$f":"'72'!$I$34","v":"6 Right"},{"$f":"'72'!$Q$28","v":"4 Left"},{"$f":"'72'!$AA$23","v":"2 Right"},{"$f":"'72'!$AJ$37","v":"7 Right"},null,0,0,0,0]
[{"$f":"'72'!$B$37","v":35},{"$f":"'72'!$H$37","v":"7 Left"},{"$f":"'72'!$Q$25","v":"3 Left"},{"$f":"'72'!$Z$20","v":"1 Left"},{"$f":"'72'!$AJ$34","v":"6 Right"},null,0,0,0,0]
[{"$f":"'72'!$E$37","v":36},{"$f":"'72'!$I$37","v":"7 Right"},{"$f":"'72'!$Q$22","v":"2 Left"},{"$f":"'72'!$AA$29","v":"4 Right"},{"$f":"'72'!$AJ$30","v":"5 Right"},null,0,0,0,0]
[{"$f":"'72'!$E$45","v":37},{"$f":"'72'!$I$45","v":"10 Right"},{"$f":"'72'!$R$40","v":"8 Right"},{"$f":"'72'!$Z$51","v":"12 Left"},{"$f":"'72'!$AI$54","v":"13 Left"},null,0,0,0,0]
[{"$f":"'72'!$E$39","v":38},{"$f":"'72'!$I$39","v":"8 Right"},{"$f":"'72'!$R$43","v":"9 Right"},{"$f":"'72'!$Z$54","v":"13 Left"},{"$f":"'72'!$AI$57","v":"14 Left"},null,0,0,0,0]
[{"$f":"'72'!$B$39","v":39},{"$f":"'72'!$H$39","v":"8 Left"},{"$f":"'72'!$R$49","v":"11 Right"},{"$f":"'72'!$Z$57","v":"14 Left"},{"$f":"'72'!$AI$51","v":"12 Left"},null,0,0,0,0]
[{"$f":"'72'!$E$42","v":40},{"$f":"'72'!$I$42","v":"9 Right"},{"$f":"'72'!$R$46","v":"10 Right"},{"$f":"'72'!$AA$54","v":"13 Right"},{"$f":"'72'!$AJ$57","v":"14 Right"},null,0,0,0,0]
[{"$f":"'72'!$B$45","v":41},{"$f":"'72'!$H$45","v":"10 Left"},{"$f":"'72'!$R$44","v":"9 Right"},{"$f":"'72'!$AA$51","v":"12 Right"},{"$f":"'72'!$AI$48","v":"11 Left"},null,0,0,0,0]
[{"$f":"'72'!$B$42","v":42},{"$f":"'72'!$H$42","v":"9 Left"},{"$f":"'72'!$R$50","v":"11 Right"},{"$f":"'72'!$AA$57","v":"14 Right"},{"$f":"'72'!$AI$39","v":"8 Left"},null,0,0,0,0]
[{"$f":"'72'!$B$48","v":43},{"$f":"'72'!$H$48","v":"11 Left"},{"$f":"'72'!$R$47","v":"10 Right"},{"$f":"'72'!$Z$52","v":"12 Left"},{"$f":"'72'!$AI$45","v":"10 Left"},null,0,0,0,0]
[{"$f":"'72'!$E$48","v":44},{"$f":"'72'!$I$48","v":"11 Right"},{"$f":"'72'!$Q$41","v":"8 Left"},{"$f":"'72'!$Z$55","v":"13 Left"},{"$f":"'72'!$AJ$45","v":"10 Right"},null,0,0,0,0]
[{"$f":"'72'!$E$46","v":45},{"$f":"'72'!$I$46","v":"10 Right"},{"$f":"'72'!$Q$44","v":"9 Left"},{"$f":"'72'!$Z$58","v":"14 Left"},{"$f":"'72'!$AJ$39","v":"8 Right"},null,0,0,0,0]
[{"$f":"'72'!$E$40","v":46},{"$f":"'72'!$I$40","v":"8 Right"},{"$f":"'72'!$Q$47","v":"10 Left"},{"$f":"'72'!$AA$55","v":"13 Right"},{"$f":"'72'!$AJ$48","v":"11 Right"},null,0,0,0,0]
[{"$f":"'72'!$B$40","v":47},{"$f":"'72'!$H$40","v":"8 Left"},{"$f":"'72'!$Q$50","v":"11 Left"},{"$f":"'72'!$AA$52","v":"12 Right"},{"$f":"'72'!$AI$42","v":"9 Left"},null,0,0,0,0]
[{"$f":"'72'!$E$43","v":48},{"$f":"'72'!$I$43","v":"9 Right"},{"$f":"'72'!$R$41","v":"8 Right"},{"$f":"'72'!$AA$58","v":"14 Right"},{"$f":"'72'!$AJ$42","v":"9 Right"},null,0,0,0,0]
[{"$f":"'72'!$B$46","v":49},{"$f":"'72'!$H$46","v":"10 Left"},{"$f":"'72'!$Q$51","v":"12 Left"},{"$f":"'72'!$AA$48","v":"11 Right"},{"$f":"'72'!$AI$40","v":"8 Left"},null,0,0,0,0]
[{"$f":"'72'!$B$43","v":50},{"$f":"'72'!$H$43","v":"9 Left"},{"$f":"'72'!$Q$54","v":"13 Left"},{"$f":"'72'!$Z$39","v":"8 Left"},{"$f":"'72'!$AI$46","v":"10 Left"},null,0,0,0,0]
[{"$f":"'72'!$B$49","v":51},{"$f":"'72'!$H$49","v":"11 Left"},{"$f":"'72'!$Q$57","v":"14 Left"},{"$f":"'72'!$AA$42","v":"9 Right"},{"$f":"'72'!$AJ$46","v":"10 Right"},null,0,0,0,0]
[{"$f":"'72'!$E$49","v":52},{"$f":"'72'!$I$49","v":"11 Right"},{"$f":"'72'!$R$51","v":"12 Right"},{"$f":"'72'!$AA$45","v":"10 Right"},{"$f":"'72'!$AJ$40","v":"8 Right"},null,0,0,0,0]
[{"$f":"'72'!$E$47","v":53},{"$f":"'72'!$I$47","v":"10 Right"},{"$f":"'72'!$R$54","v":"13 Right"},{"$f":"'72'!$Z$42","v":"9 Left"},{"$f":"'72'!$AJ$49","v":"11 Right"},null,0,0,0,0]
[{"$f":"'72'!$E$41","v":54},{"$f":"'72'!$I$41","v":"8 Right"},{"$f":"'72'!$R$57","v":"14 Right"},{"$f":"'72'!$Z$48","v":"11 Left"},{"$f":"'72'!$AI$43","v":"9 Left"},null,0,0,0,0]
[{"$f":"'72'!$B$41","v":55},{"$f":"'72'!$H$41","v":"8 Left"},{"$f":"'72'!$Q$52","v":"12 Left"},{"$f":"'72'!$Z$45","v":"10 Left"},{"$f":"'72'!$AJ$43","v":"9 Right"},null,0,0,0,0]
[{"$f":"'72'!$E$44","v":56},{"$f":"'72'!$I$44","v":"9 Right"},{"$f":"'72'!$Q$55","v":"13 Left"},{"$f":"'72'!$AA$39","v":"8 Right"},{"$f":"'72'!$AI$49","v":"11 Left"},null,0,0,0,0]
[{"$f":"'72'!$B$47","v":57},{"$f":"'72'!$H$47","v":"10 Left"},{"$f":"'72'!$Q$58","v":"14 Left"},{"$f":"'72'!$Z$43","v":"9 Left"},{"$f":"'72'!$AI$47","v":"10 Left"},null,0,0,0,0]
[{"$f":"'72'!$B$44","v":58},{"$f":"'72'!$H$44","v":"9 Left"},{"$f":"'72'!$R$52","v":"12 Right"},{"$f":"'72'!$Z$49","v":"11 Left"},{"$f":"'72'!$AJ$47","v":"10 Right"},null,0,0,0,0]
[{"$f":"'72'!$B$50","v":59},{"$f":"'72'!$H$50","v":"11 Left"},{"$f":"'72'!$R$55","v":"13 Right"},{"$f":"'72'!$Z$46","v":"10 Left"},{"$f":"'72'!$AJ$41","v":"8 Right"},null,0,0,0,0]
[{"$f":"'72'!$E$50","v":60},{"$f":"'72'!$I$50","v":"11 Right"},{"$f":"'72'!$R$58","v":"14 Right"},{"$f":"'72'!$AA$40","v":"8 Right"},{"$f":"'72'!$AJ$50","v":"11 Right"},null,0,0,0,0]
[{"$f":"'72'!$B$51","v":61},{"$f":"'72'!$H$51","v":"12 Left"},{"$f":"'72'!$Q$39","v":"8 Left"},{"$f":"'72'!$AA$49","v":"11 Right"},{"$f":"'72'!$AI$44","v":"9 Left"},null,0,0,0,0]
[{"$f":"'72'!$E$51","v":62},{"$f":"'72'!$I$51","v":"12 Right"},{"$f":"'72'!$Q$42","v":"9 Left"},{"$f":"'72'!$Z$40","v":"8 Left"},{"$f":"'72'!$AJ$44","v":"9 Right"},null,0,0,0,0]
[{"$f":"'72'!$B$54","v":63},{"$f":"'72'!$H$54","v":"13 Left"},{"$f":"'72'!$Q$45","v":"10 Left"},{"$f":"'72'!$AA$43","v":"9 Right"},{"$f":"'72'!$AI$50","v":"11 Left"},null,0,0,0,0]
[{"$f":"'72'!$E$54","v":64},{"$f":"'72'!$I$54","v":"13 Right"},{"$f":"'72'!$Q$48","v":"11 Left"},{"$f":"'72'!$AA$46","v":"10 Right"},{"$f":"'72'!$AI$41","v":"8 Left"},null,0,0,0,0]
[{"$f":"'72'!$B$57","v":65},{"$f":"'72'!$H$57","v":"14 Left"},{"$f":"'72'!$R$39","v":"8 Right"},{"$f":"'72'!$Z$44","v":"9 Left"},{"$f":"'72'!$AJ$52","v":"12 Right"},null,0,0,0,0]
[{"$f":"'72'!$E$57","v":66},{"$f":"'72'!$I$57","v":"14 Right"},{"$f":"'72'!$R$42","v":"9 Right"},{"$f":"'72'!$Z$50","v":"11 Left"},{"$f":"'72'!$AJ$54","v":"13 Right"},null,0,0,0,0]
[{"$f":"'72'!$B$52","v":67},{"$f":"'72'!$H$52","v":"12 Left"},{"$f":"'72'!$R$48","v":"11 Right"},{"$f":"'72'!$Z$47","v":"10 Left"},{"$f":"'72'!$AI$55","v":"13 Left"},null,0,0,0,0]
[{"$f":"'72'!$E$52","v":68},{"$f":"'72'!$I$52","v":"12 Right"},{"$f":"'72'!$R$45","v":"10 Right"},{"$f":"'72'!$AA$41","v":"8 Right"},{"$f":"'72'!$AI$58","v":"14 Left"},null,0,0,0,0]
[{"$f":"'72'!$B$55","v":69},{"$f":"'72'!$H$55","v":"13 Left"},{"$f":"'72'!$Q$40","v":"8 Left"},{"$f":"'72'!$AA$47","v":"10 Right"},{"$f":"'72'!$AI$52","v":"12 Left"},null,0,0,0,0]
[{"$f":"'72'!$E$55","v":70},{"$f":"'72'!$I$55","v":"13 Right"},{"$f":"'72'!$Q$49","v":"11 Left"},{"$f":"'72'!$AA$44","v":"9 Right"},{"$f":"'72'!$AJ$58","v":"14 Right"},null,0,0,0,0]
[{"$f":"'72'!$B$58","v":71},{"$f":"'72'!$H$58","v":"14 Left"},{"$f":"'72'!$Q$46","v":"10 Left"},{"$f":"'72'!$Z$41","v":"8 Left"},{"$f":"'72'!$AJ$55","v":"13 Right"},null,0,0,0,0]
[{"$f":"'72'!$E$58","v":72},{"$f":"'72'!$I$58","v":"14 Right"},{"$f":"'72'!$Q$43","v":"9 Left"},{"$f":"'72'!$AA$50","v":"11 Right"},{"$f":"'72'!$AJ$51","v":"12 Right"},null,0,0,0,0]
[{"$nulls":6},0,0,0,0]
[{"$f":"'70'!$E$24","v":1},{"$f":"'70'!$I$24","v":"3 Right"},{"$f":"'70'!$R$19","v":"1 Right"},{"$f":"'70'!$Z$30","v":"5 Left"},{"$f":"'70'!$AI$33","v":"6 Left"},null,0,0,0,0,null,70]
[{"$f":"'70'!$E$18","v":2},{"$f":"'70'!$I$18","v":"1 Right"},{"$f":"'70'!$R$22","v":"2 Right"},{"$f":"'70'!$Z$33","v":"6 Left"},{"$f":"'70'!$AI$36","v":"7 Left"},null,0,0,0,0]
[{"$f":"'70'!$B$18","v":3},{"$f":"'70'!$H$18","v":"1 Left"},{"$f":"'70'!$R$28","v":"4 Right"},{"$f":"'70'!$Z$36","v":"7 Left"},{"$f":"'70'!$AI$30","v":"5 Left"},null,0,0,0,0]
[{"$f":"'70'!$E$21","v":4},{"$f":"'70'!$I$21","v":"2 Right"},{"$f":"'70'!$R$25","v":"3 Right"},{"$f":"'70'!$AA$33","v":"6 Right"},{"$f":"'70'!$AJ$36","v":"7 Right"},null,0,0,0,0]
[{"$f":"'70'!$B$24","v":5},{"$f":"'70'!$H$24","v":"3 Left"},{"$f":"'70'!$R$23","v":"2 Right"},{"$f":"'70'!$AA$30","v":"5 Right"},{"$f":"'70'!$AI$27","v":"4 Left"},null,0,0,0,0]
[{"$f":"'70'!$B$21","v":6},{"$f":"'70'!$H$21","v":"2 Left"},{"$f":"'70'!$R$29","v":"4 Right"},{"$f":"'70'!$AA$36","v":"7 Right"},{"$f":"'70'!$AI$18","v":"1 Left"},null,0,0,0,0]
[{"$f":"'70'!$B$27","v":7},{"$f":"'70'!$H$27","v":"4 Left"},{"$f":"'70'!$R$26","v":"3 Right"},{"$f":"'70'!$Z$31","v":"5 Left"},{"$f":"'70'!$AI$24","v":"3 Left"},null,0,0,0,0]
[{"$f":"'70'!$E$27","v":8},{"$f":"'70'!$I$27","v":"4 Right"},{"$f":"'70'!$Q$20","v":"1 Left"},{"$f":"'70'!$Z$34","v":"6 Left"},{"$f":"'70'!$AJ$24","v":"3 Right"},null,0,0,0,0]
[{"$f":"'70'!$E$25","v":9},{"$f":"'70'!$I$25","v":"3 Right"},{"$f":"'70'!$Q$23","v":"2 Left"},{"$f":"'70'!$Z$37","v":"7 Left"},{"$f":"'70'!$AJ$18","v":"1 Right"},null,0,0,0,0]
[{"$f":"'70'!$E$19","v":10},{"$f":"'70'!$I$19","v":"1 Right"},{"$f":"'70'!$Q$26","v":"3 Left"},{"$f":"'70'!$AA$34","v":"6 Right"},{"$f":"'70'!$AJ$27","v":"4 Right"},null,0,0,0,0]
[{"$f":"'70'!$B$19","v":11},{"$f":"'70'!$H$19","v":"1 Left"},{"$f":"'70'!$Q$29","v":"4 Left"},{"$f":"'70'!$AA$31","v":"5 Right"},{"$f":"'70'!$AI$21","v":"2 Left"},null,0,0,0,0]
[{"$f":"'70'!$E$22","v":12},{"$f":"'70'!$I$22","v":"2 Right"},{"$f":"'70'!$R$20","v":"1 Right"},{"$f":"'70'!$AA$37","v":"7 Right"},{"$f":"'70'!$AJ$21","v":"2 Right"},null,0,0,0,0]
[{"$f":"'70'!$B$25","v":13},{"$f":"'70'!$H$25","v":"3 Left"},{"$f":"'70'!$Q$30","v":"5 Left"},{"$f":"'70'!$AA$27","v":"4 Right"},{"$f":"'70'!$AI$19","v":"1 Left"},null,0,0,0,0]
[{"$f":"'70'!$B$22","v":14},{"$f":"'70'!$H$22","v":"2 Left"},{"$f":"'70'!$Q$33","v":"6 Left"},{"$f":"'70'!$Z$18","v":"1 Left"},{"$f":"'70'!$AI$25","v":"3 Left"},null,0,0,0,0]
[{"$f":"'70'!$B$28","v":15},{"$f":"'70'!$H$28","v":"4 Left"},{"$f":"'70'!$Q$36","v":"7 Left"},{"$f":"'70'!$AA$21","v":"2 Right"},{"$f":"'70'!$AJ$25","v":"3 Right"},null,0,0,0,0]
[{"$f":"'70'!$E$28","v":16},{"$f":"'70'!$I$28","v":"4 Right"},{"$f":"'70'!$R$30","v":"5 Right"},{"$f":"'70'!$AA$24","v":"3 Right"},{"$f":"'70'!$AJ$19","v":"1 Right"},null,0,0,0,0]
[{"$f":"'70'!$E$26","v":17},{"$f":"'70'!$I$26","v":"3 Right"},{"$f":"'70'!$R$33","v":"6 Right"},{"$f":"'70'!$Z$21","v":"2 Left"},{"$f":"'70'!$AJ$28","v":"4 Right"},null,0,0,0,0]
[{"$f":"'70'!$E$20","v":18},{"$f":"'70'!$I$20","v":"1 Right"},{"$f":"'70'!$R$36","v":"7 Right"},{"$f":"'70'!$Z$27","v":"4 Left"},{"$f":"'70'!$AI$22","v":"2 Left"},null,0,0,0,0]
[{"$f":"'70'!$B$20","v":19},{"$f":"'70'!$H$20","v":"1 Left"},{"$f":"'70'!$Q$31","v":"5 Left"},{"$f":"'70'!$Z$24","v":"3 Left"},{"$f":"'70'!$AJ$22","v":"2 Right"},null,0,0,0,0]
[{"$f":"'70'!$E$23","v":20},{"$f":"'70'!$I$23","v":"2 Right"},{"$f":"'70'!$Q$34","v":"6 Left"},{"$f":"'70'!$AA$18","v":"1 Right"},{"$f":"'70'!$AI$28","v":"4 Left"},null,0,0,0,0]
[{"$f":"'70'!$B$26","v":21},{"$f":"'70'!$H$26","v":"3 Left"},{"$f":"'70'!$Q$37","v":"7 Left"},{"$f":"'70'!$Z$22","v":"2 Left"},{"$f":"'70'!$AI$26","v":"3 Left"},null,0,0,0,0]
[{"$f":"'70'!$B$23","v":22},{"$f":"'70'!$H$23","v":"2 Left"},{"$f":"'70'!$R$31","v":"5 Right"},{"$f":"'70'!$Z$28","v":"4 Left"},{"$f":"'70'!$AJ$26","v":"3 Right"},null,0,0,0,0]
[{"$f":"'70'!$B$29","v":23},{"$f":"'70'!$H$29","v":"4 Left"},{"$f":"'70'!$R$34","v":"6 Right"},{"$f":"'70'!$Z$25","v":"3 Left"},{"$f":"'70'!$AJ$20","v":"1 Right"},null,0,0,0,0]
[{"$f":"'70'!$E$29","v":24},{"$f":"'70'!$I$29","v":"4 Right"},{"$f":"'70'!$R$37","v":"7 Right"},{"$f":"'70'!$AA$19","v":"1 Right"},{"$f":"'70'!$AJ$29","v":"4 Right"},null,{"$f":"B1986","v":0},{"$f":"C1986","v":0},{"$f":"D1986","v":0},{"$f":"E1986","v":0}]
[{"$f":"'70'!$B$30","v":25},{"$f":"'70'!$H$30","v":"5 Left"},{"$f":"'70'!$Q$18","v":"1 Left"},{"$f":"'70'!$AA$28","v":"4 Right"},{"$f":"'70'!$AI$23","v":"2 Left"},null,0,0,0,0]
[{"$f":"'70'!$E$30","v":26},{"$f":"'70'!$I$30","v":"5 Right"},{"$f":"'70'!$Q$21","v":"2 Left"},{"$f":"'70'!$Z$19","v":"1 Left"},{"$f":"'70'!$AJ$23","v":"2 Right"},null,0,0,0,0]
[{"$f":"'70'!$B$33","v":27},{"$f":"'70'!$H$33","v":"6 Left"},{"$f":"'70'!$Q$24","v":"3 Left"},{"$f":"'70'!$AA$22","v":"2 Right"},{"$f":"'70'!$AI$29","v":"4 Left"},null,0,0,0,0]
[{"$f":"'70'!$E$33","v":28},{"$f":"'70'!$I$33","v":"6 Right"},{"$f":"'70'!$Q$27","v":"4 Left"},{"$f":"'70'!$AA$25","v":"3 Right"},{"$f":"'70'!$AI$20","v":"1 Left"},null,0,0,0,0]
[{"$f":"'70'!$B$36","v":29},{"$f":"'70'!$H$36","v":"7 Left"},{"$f":"'70'!$R$18","v":"1 Right"},{"$f":"'70'!$Z$23","v":"2 Left"},{"$f":"'70'!$AJ$31","v":"5 Right"},null,0,0,0,0]
[{"$f":"'70'!$E$36","v":30},{"$f":"'70'!$I$36","v":"7 Right"},{"$f":"'70'!$R$21","v":"2 Right"},{"$f":"'70'!$Z$29","v":"4 Left"},{"$f":"'70'!$AJ$33","v":"6 Right"},null,0,0,0,0]
[{"$f":"'70'!$B$31","v":31},{"$f":"'70'!$H$31","v":"5 Left"},{"$f":"'70'!$R$27","v":"4 Right"},{"$f":"'70'!$Z$26","v":"3 Left"},{"$f":"'70'!$AI$34","v":"6 Left"},null,0,0,0,0]
[{"$f":"'70'!$E$31","v":32},{"$f":"'70'!$I$31","v":"5 Right"},{"$f":"'70'!$R$24","v":"3 Right"},{"$f":"'70'!$AA$20","v":"1 Right"},{"$f":"'70'!$AI$37","v":"7 Left"},null,0,0,0,0]
[{"$f":"'70'!$B$34","v":33},{"$f":"'70'!$H$34","v":"6 Left"},{"$f":"'70'!$Q$19","v":"1 Left"},{"$f":"'70'!$AA$26","v":"3 Right"},{"$f":"'70'!$AI$31","v":"5 Left"},null,0,0,0,0]
[{"$f":"'70'!$E$34","v":34},{"$f":"'70'!$I$34","v":"6 Right"},{"$f":"'70'!$Q$28","v":"4 Left"},{"$f":"'70'!$AA$23","v":"2 Right"},{"$f":"'70'!$AJ$37","v":"7 Right"},null,0,0,0,0]
[{"$f":"'70'!$B$37","v":35},{"$f":"'70'!$H$37","v":"7 Left"},{"$f":"'70'!$Q$25","v":"3 Left"},{"$f":"'70'!$Z$20","v":"1 Left"},{"$f":"'70'!$AJ$34","v":"6 Right"},null,0,0,0,0]
[{"$f":"'70'!$E$37","v":36},{"$f":"'70'!$I$37","v":"7 Right"},{"$f":"'70'!$Q$22","v":"2 Left"},{"$f":"'70'!$AA$29","v":"4 Right"},{"$f":"'70'!$AJ$30","v":"5 Right"},null,0,0,0,0]
[{"$f":"'70'!$B$39","v":37},{"$f":"'70'!$H$39","v":"8 Left"},{"$f":"'70'!$Q$48","v":"11 Left"},{"$f":"'70'!$Z$39","v":"8 Left"},{"$f":"'70'!$AI$51","v":"12 Left"},null,0,0,0,0]
[{"$f":"'70'!$E$39","v":38},{"$f":"'70'!$I$39","v":"8 Right"},{"$f":"'70'!$Q$51","v":"12 Left"},{"$f":"'70'!$Z$42","v":"9 Left"},{"$f":"'70'!$AI$48","v":"11 Left"},null,0,0,0,0]
[{"$f":"'70'!$B$41","v":39},{"$f":"'70'!$H$41","v":"8 Left"},{"$f":"'70'!$R$48","v":"11 Right"},{"$f":"'70'!$AA$39","v":"8 Right"},{"$f":"'70'!$AI$44","v":"9 Left"},null,0,0,0,0]
[{"$f":"'70'!$B$42","v":40},{"$f":"'70'!$H$42","v":"9 Left"},{"$f":"'70'!$Q$54","v":"13 Left"},{"$f":"'70'!$Z$45","v":"10 Left"},{"$f":"'70'!$AI$57","v":"14 Left"},null,0,0,0,0]
[{"$f":"'70'!$E$42","v":41},{"$f":"'70'!$I$42","v":"9 Right"},{"$f":"'70'!$Q$57","v":"14 Left"},{"$f":"'70'!$AA$42","v":"9 Right"},{"$f":"'70'!$AI$54","v":"13 Left"},null,0,0,0,0]
[{"$f":"'70'!$B$44","v":42},{"$f":"'70'!$H$44","v":"9 Left"},{"$f":"'70'!$R$57","v":"14 Right"},{"$f":"'70'!$Z$41","v":"8 Left"},{"$f":"'70'!$AJ$48","v":"11 Right"},null,0,0,0,0]
[{"$f":"'70'!$B$45","v":43},{"$f":"'70'!$H$45","v":"10 Left"},{"$f":"'70'!$R$54","v":"13 Right"},{"$f":"'70'!$Z$51","v":"12 Left"},{"$f":"'70'!$AI$41","v":"8 Left"},null,0,0,0,0]
[{"$f":"'70'!$E$45","v":44},{"$f":"'70'!$I$45","v":"10 Right"},{"$f":"'70'!$R$51","v":"12 Right"},{"$f":"'70'!$AA$45","v":"10 Right"},{"$f":"'70'!$AJ$54","v":"13 Right"},null,0,0,0,0]
[{"$f":"'70'!$B$47","v":45},{"$f":"'70'!$H$47","v":"10 Left"},{"$f":"'70'!$Q$44","v":"9 Left"},{"$f":"'70'!$Z$57","v":"14 Left"},{"$f":"'70'!$AJ$51","v":"12 Right"},null,0,0,0,0]
[{"$f":"'70'!$B$48","v":46},{"$f":"'70'!$H$48","v":"11 Left"},{"$f":"'70'!$Q$39","v":"8 Left"},{"$f":"'70'!$Z$47","v":"10 Left"},{"$f":"'70'!$AJ$57","v":"14 Right"},null,0,0,0,0]
[{"$f":"'70'!$E$48","v":47},{"$f":"'70'!$I$48","v":"11 Right"},{"$f":"'70'!$Q$42","v":"9 Left"},{"$f":"'70'!$Z$54","v":"13 Left"},{"$f":"'70'!$AI$45","v":"10 Left"},null,0,0,0,0]
[{"$f":"'70'!$B$51","v":48},{"$f":"'70'!$H$51","v":"12 Left"},{"$f":"'70'!$R$39","v":"8 Right"},{"$f":"'70'!$Z$48","v":"11 Left"},{"$f":"'70'!$AI$42","v":"9 Left"},null,0,0,0,0]
[{"$f":"'70'!$E$51","v":49},{"$f":"'70'!$I$51","v":"12 Right"},{"$f":"'70'!$R$42","v":"9 Right"},{"$f":"'70'!$AA$57","v":"14 Right"},{"$f":"'70'!$AI$39","v":"8 Left"},null,0,0,0,0]
[{"$f":"'70'!$B$54","v":50},{"$f":"'70'!$H$54","v":"13 Left"},{"$f":"'70'!$Q$45","v":"10 Left"},{"$f":"'70'!$AA$48","v":"11 Right"},{"$f":"'70'!$AJ$42","v":"9 Right"},null,0,0,0,0]
[{"$f":"'70'!$E$54","v":51},{"$f":"'70'!$I$54","v":"13 Right"},{"$f":"'70'!$Q$41","v":"8 Left"},{"$f":"'70'!$Z$44","v":"9 Left"},{"$f":"'70'!$AI$47","v":"10 Left"},null,0,0,0,0]
[{"$f":"'70'!$B$57","v":52},{"$f":"'70'!$H$57","v":"14 Left"},{"$f":"'70'!$R$45","v":"10 Right"},{"$f":"'70'!$AA$51","v":"12 Right"},{"$f":"'70'!$AJ$39","v":"8 Right"},null,0,0,0,0]
[{"$f":"'70'!$E$57","v":53},{"$f":"'70'!$I$57","v":"14 Right"},{"$f":"'70'!$Q$47","v":"10 Left"},{"$f":"'70'!$AA$54","v":"13 Right"},{"$f":"'70'!$AJ$45","v":"10 Right"},null,0,0,0,0]
[{"$f":"'70'!$B$40","v":54},{"$f":"'70'!$H$40","v":"8 Left"},{"$f":"'70'!$R$47","v":"10 Right"},{"$f":"'70'!$AA$55","v":"13 Right"},{"$f":"'70'!$AI$49","v":"11 Left"},null,0,0,0,0]
[{"$f":"'70'!$E$40","v":55},{"$f":"'70'!$I$40","v":"8 Right"},{"$f":"'70'!$Q$49","v":"11 Left"},{"$f":"'70'!$AA$52","v":"12 Right"},{"$f":"'70'!$AJ$44","v":"9 Right"},null,0,0,0,0]
[{"$f":"'70'!$E$41","v":56},{"$f":"'70'!$I$41","v":"8 Right"},{"$f":"'70'!$Q$55","v":"13 Left"},{"$f":"'70'!$Z$40","v":"8 Left"},{"$f":"'70'!$AI$58","v":"14 Left"},null,0,0,0,0]
[{"$f":"'70'!$B$43","v":57},{"$f":"'70'!$H$43","v":"9 Left"},{"$f":"'70'!$R$49","v":"11 Right"},{"$f":"'70'!$Z$43","v":"9 Left"},{"$f":"'70'!$AI$55","v":"13 Left"},null,0,0,0,0]
[{"$f":"'70'!$E$43","v":58},{"$f":"'70'!$I$43","v":"9 Right"},{"$f":"'70'!$Q$52","v":"12 Left"},{"$f":"'70'!$AA$40","v":"8 Right"},{"$f":"'70'!$AJ$49","v":"11 Right"},null,0,0,0,0]
[{"$f":"'70'!$E$44","v":59},{"$f":"'70'!$I$44","v":"9 Right"},{"$f":"'70'!$R$52","v":"12 Right"},{"$f":"'70'!$Z$46","v":"10 Left"},{"$f":"'70'!$AJ$41","v":"8 Right"},null,0,0,0,0]
[{"$f":"'70'!$B$46","v":60},{"$f":"'70'!$H$46","v":"10 Left"},{"$f":"'70'!$Q$58","v":"14 Left"},{"$f":"'70'!$AA$46","v":"10 Right"},{"$f":"'70'!$AJ$55","v":"13 Right"},null,0,0,0,0]
[{"$f":"'70'!$E$46","v":61},{"$f":"'70'!$I$46","v":"10 Right"},{"$f":"'70'!$R$58","v":"14 Right"},{"$f":"'70'!$AA$43","v":"9 Right"},{"$f":"'70'!$AJ$52","v":"12 Right"},null,0,0,0,0]
[{"$f":"'70'!$E$47","v":62},{"$f":"'70'!$I$47","v":"10 Right"},{"$f":"'70'!$R$55","v":"13 Right"},{"$f":"'70'!$AA$41","v":"8 Right"},{"$f":"'70'!$AJ$58","v":"14 Right"},null,0,0,0,0]
[{"$f":"'70'!$B$49","v":63},{"$f":"'70'!$H$49","v":"11 Left"},{"$f":"'70'!$R$44","v":"9 Right"},{"$f":"'70'!$Z$52","v":"12 Left"},{"$f":"'70'!$AI$46","v":"10 Left"},null,0,0,0,0]
[{"$f":"'70'!$E$49","v":64},{"$f":"'70'!$I$49","v":"11 Right"},{"$f":"'70'!$Q$40","v":"8 Left"},{"$f":"'70'!$Z$58","v":"14 Left"},{"$f":"'70'!$AI$43","v":"9 Left"},null,0,0,0,0]
[{"$f":"'70'!$B$52","v":65},{"$f":"'70'!$H$52","v":"12 Left"},{"$f":"'70'!$Q$43","v":"9 Left"},{"$f":"'70'!$AA$47","v":"10 Right"},{"$f":"'70'!$AI$40","v":"8 Left"},null,0,0,0,0]
[{"$f":"'70'!$E$52","v":66},{"$f":"'70'!$I$52","v":"12 Right"},{"$f":"'70'!$R$40","v":"8 Right"},{"$f":"'70'!$Z$55","v":"13 Left"},{"$f":"'70'!$AJ$43","v":"9 Right"},null,0,0,0,0]
[{"$f":"'70'!$B$55","v":67},{"$f":"'70'!$H$55","v":"13 Left"},{"$f":"'70'!$R$43","v":"9 Right"},{"$f":"'70'!$Z$49","v":"11 Left"},{"$f":"'70'!$AJ$47","v":"10 Right"},null,0,0,0,0]
[{"$f":"'70'!$E$55","v":68},{"$f":"'70'!$I$55","v":"13 Right"},{"$f":"'70'!$Q$46","v":"10 Left"},{"$f":"'70'!$AA$58","v":"14 Right"},{"$f":"'70'!$AJ$40","v":"8 Right"},null,0,0,0,0]
[{"$f":"'70'!$B$58","v":69},{"$f":"'70'!$H$58","v":"14 Left"},{"$f":"'70'!$R$41","v":"8 Right"},{"$f":"'70'!$AA$49","v":"11 Right"},{"$f":"'70'!$AJ$46","v":"10 Right"},null,0,0,0,0]
[{"$f":"'70'!$E$58","v":70},{"$f":"'70'!$I$58","v":"14 Right"},{"$f":"'70'!$R$46","v":"10 Right"},{"$f":"'70'!$AA$44","v":"9 Right"},{"$f":"'70'!$AI$52","v":"12 Left"},null,0,0,0,0]
[{"$nulls":6},0,0,0,0]
[{"$f":"'68'!$B$18","v":1},{"$f":"'68'!$H$18","v":"1 Left"},{"$f":"'68'!$Q$27","v":"4 Left"},{"$f":"'68'!$Z$18","v":"1 Left"},{"$f":"'68'!$AI$30","v":"5 Left"},null,0,0,0,0,null,68]
[{"$f":"'68'!$E$18","v":2},{"$f":"'68'!$I$18","v":"1 Right"},{"$f":"'68'!$Q$30","v":"5 Left"},{"$f":"'68'!$Z$21","v":"2 Left"},{"$f":"'68'!$AI$27","v":"4 Left"},null,0,0,0,0]
[{"$f":"'68'!$B$20","v":3},{"$f":"'68'!$H$20","v":"1 Left"},{"$f":"'68'!$R$27","v":"4 Right"},{"$f":"'68'!$AA$18","v":"1 Right"},{"$f":"'68'!$AI$23","v":"2 Left"},null,0,0,0,0]
[{"$f":"'68'!$B$21","v":4},{"$f":"'68'!$H$21","v":"2 Left"},{"$f":"'68'!$Q$33","v":"6 Left"},{"$f":"'68'!$Z$24","v":"3 Left"},{"$f":"'68'!$AI$36","v":"7 Left"},null,0,0,0,0]
[{"$f":"'68'!$E$21","v":5},{"$f":"'68'!$I$21","v":"2 Right"},{"$f":"'68'!$Q$36","v":"7 Left"},{"$f":"'68'!$AA$21","v":"2 Right"},{"$f":"'68'!$AI$33","v":"6 Left"},null,0,0,0,0]
[{"$f":"'68'!$B$23","v":6},{"$f":"'68'!$H$23","v":"2 Left"},{"$f":"'68'!$R$36","v":"7 Right"},{"$f":"'68'!$Z$20","v":"1 Left"},{"$f":"'68'!$AJ$27","v":"4 Right"},null,0,0,0,0]
[{"$f":"'68'!$B$24","v":7},{"$f":"'68'!$H$24","v":"3 Left"},{"$f":"'68'!$R$33","v":"6 Right"},{"$f":"'68'!$Z$30","v":"5 Left"},{"$f":"'68'!$AI$20","v":"1 Left"},null,0,0,0,0]
[{"$f":"'68'!$E$24","v":8},{"$f":"'68'!$I$24","v":"3 Right"},{"$f":"'68'!$R$30","v":"5 Right"},{"$f":"'68'!$AA$24","v":"3 Right"},{"$f":"'68'!$AJ$33","v":"6 Right"},null,0,0,0,0]
[{"$f":"'68'!$B$26","v":9},{"$f":"'68'!$H$26","v":"3 Left"},{"$f":"'68'!$Q$23","v":"2 Left"},{"$f":"'68'!$Z$36","v":"7 Left"},{"$f":"'68'!$AJ$30","v":"5 Right"},null,0,0,0,0]
[{"$f":"'68'!$B$27","v":10},{"$f":"'68'!$H$27","v":"4 Left"},{"$f":"'68'!$Q$18","v":"1 Left"},{"$f":"'68'!$Z$26","v":"3 Left"},{"$f":"'68'!$AJ$36","v":"7 Right"},null,0,0,0,0]
[{"$f":"'68'!$E$27","v":11},{"$f":"'68'!$I$27","v":"4 Right"},{"$f":"'68'!$Q$21","v":"2 Left"},{"$f":"'68'!$Z$33","v":"6 Left"},{"$f":"'68'!$AI$24","v":"3 Left"},null,0,0,0,0]
[{"$f":"'68'!$B$30","v":12},{"$f":"'68'!$H$30","v":"5 Left"},{"$f":"'68'!$R$18","v":"1 Right"},{"$f":"'68'!$Z$27","v":"4 Left"},{"$f":"'68'!$AI$21","v":"2 Left"},null,0,0,0,0]
[{"$f":"'68'!$E$30","v":13},{"$f":"'68'!$I$30","v":"5 Right"},{"$f":"'68'!$R$21","v":"2 Right"},{"$f":"'68'!$AA$36","v":"7 Right"},{"$f":"'68'!$AI$18","v":"1 Left"},null,0,0,0,0]
[{"$f":"'68'!$B$33","v":14},{"$f":"'68'!$H$33","v":"6 Left"},{"$f":"'68'!$Q$24","v":"3 Left"},{"$f":"'68'!$AA$27","v":"4 Right"},{"$f":"'68'!$AJ$21","v":"2 Right"},null,0,0,0,0]
[{"$f":"'68'!$E$33","v":15},{"$f":"'68'!$I$33","v":"6 Right"},{"$f":"'68'!$Q$20","v":"1 Left"},{"$f":"'68'!$Z$23","v":"2 Left"},{"$f":"'68'!$AI$26","v":"3 Left"},null,0,0,0,0]
[{"$f":"'68'!$B$36","v":16},{"$f":"'68'!$H$36","v":"7 Left"},{"$f":"'68'!$R$24","v":"3 Right"},{"$f":"'68'!$AA$30","v":"5 Right"},{"$f":"'68'!$AJ$18","v":"1 Right"},null,0,0,0,0]
[{"$f":"'68'!$E$36","v":17},{"$f":"'68'!$I$36","v":"7 Right"},{"$f":"'68'!$Q$26","v":"3 Left"},{"$f":"'68'!$AA$33","v":"6 Right"},{"$f":"'68'!$AJ$24","v":"3 Right"},null,{"$f":"B2050","v":0},{"$f":"C2050","v":0},{"$f":"D2050","v":0},{"$f":"E2050","v":0}]
[{"$f":"'68'!$B$19","v":18},{"$f":"'68'!$H$19","v":"1 Left"},{"$f":"'68'!$R$26","v":"3 Right"},{"$f":"'68'!$AA$34","v":"6 Right"},{"$f":"'68'!$AI$28","v":"4 Left"},null,0,0,0,0]
[{"$f":"'68'!$E$19","v":19},{"$f":"'68'!$I$19","v":"1 Right"},{"$f":"'68'!$Q$28","v":"4 Left"},{"$f":"'68'!$AA$31","v":"5 Right"},{"$f":"'68'!$AJ$23","v":"2 Right"},null,0,0,0,0]
[{"$f":"'68'!$E$20","v":20},{"$f":"'68'!$I$20","v":"1 Right"},{"$f":"'68'!$Q$34","v":"6 Left"},{"$f":"'68'!$Z$19","v":"1 Left"},{"$f":"'68'!$AI$37","v":"7 Left"},null,0,0,0,0]
[{"$f":"'68'!$B$22","v":21},{"$f":"'68'!$H$22","v":"2 Left"},{"$f":"'68'!$R$28","v":"4 Right"},{"$f":"'68'!$Z$22","v":"2 Left"},{"$f":"'68'!$AI$34","v":"6 Left"},null,0,0,0,0]
[{"$f":"'68'!$E$22","v":22},{"$f":"'68'!$I$22","v":"2 Right"},{"$f":"'68'!$Q$31","v":"5 Left"},{"$f":"'68'!$AA$19","v":"1 Right"},{"$f":"'68'!$AJ$28","v":"4 Right"},null,0,0,0,0]
[{"$f":"'68'!$E$23","v":23},{"$f":"'68'!$I$23","v":"2 Right"},{"$f":"'68'!$R$31","v":"5 Right"},{"$f":"'68'!$Z$25","v":"3 Left"},{"$f":"'68'!$AJ$20","v":"1 Right"},null,0,0,0,0]
[{"$f":"'68'!$B$25","v":24},{"$f":"'68'!$H$25","v":"3 Left"},{"$f":"'68'!$Q$37","v":"7 Left"},{"$f":"'68'!$AA$25","v":"3 Right"},{"$f":"'68'!$AJ$34","v":"6 Right"},null,0,0,0,0]
[{"$f":"'68'!$E$25","v":25},{"$f":"'68'!$I$25","v":"3 Right"},{"$f":"'68'!$R$37","v":"7 Right"},{"$f":"'68'!$AA$22","v":"2 Right"},{"$f":"'68'!$AJ$31","v":"5 Right"},null,0,0,0,0]
[{"$f":"'68'!$E$26","v":26},{"$f":"'68'!$I$26","v":"3 Right"},{"$f":"'68'!$R$34","v":"6 Right"},{"$f":"'68'!$AA$20","v":"1 Right"},{"$f":"'68'!$AJ$37","v":"7 Right"},null,0,0,0,0]
[{"$f":"'68'!$B$28","v":27},{"$f":"'68'!$H$28","v":"4 Left"},{"$f":"'68'!$R$23","v":"2 Right"},{"$f":"'68'!$Z$31","v":"5 Left"},{"$f":"'68'!$AI$25","v":"3 Left"},null,0,0,0,0]
[{"$f":"'68'!$E$28","v":28},{"$f":"'68'!$I$28","v":"4 Right"},{"$f":"'68'!$Q$19","v":"1 Left"},{"$f":"'68'!$Z$37","v":"7 Left"},{"$f":"'68'!$AI$22","v":"2 Left"},null,0,0,0,0]
[{"$f":"'68'!$B$31","v":29},{"$f":"'68'!$H$31","v":"5 Left"},{"$f":"'68'!$Q$22","v":"2 Left"},{"$f":"'68'!$AA$26","v":"3 Right"},{"$f":"'68'!$AI$19","v":"1 Left"},null,0,0,0,0]
[{"$f":"'68'!$E$31","v":30},{"$f":"'68'!$I$31","v":"5 Right"},{"$f":"'68'!$R$19","v":"1 Right"},{"$f":"'68'!$Z$34","v":"6 Left"},{"$f":"'68'!$AJ$22","v":"2 Right"},null,0,0,0,0]
[{"$f":"'68'!$B$34","v":31},{"$f":"'68'!$H$34","v":"6 Left"},{"$f":"'68'!$R$22","v":"2 Right"},{"$f":"'68'!$Z$28","v":"4 Left"},{"$f":"'68'!$AJ$26","v":"3 Right"},null,0,0,0,0]
[{"$f":"'68'!$E$34","v":32},{"$f":"'68'!$I$34","v":"6 Right"},{"$f":"'68'!$Q$25","v":"3 Left"},{"$f":"'68'!$AA$37","v":"7 Right"},{"$f":"'68'!$AJ$19","v":"1 Right"},null,0,0,0,0]
[{"$f":"'68'!$B$37","v":33},{"$f":"'68'!$H$37","v":"7 Left"},{"$f":"'68'!$R$20","v":"1 Right"},{"$f":"'68'!$AA$28","v":"4 Right"},{"$f":"'68'!$AJ$25","v":"3 Right"},null,0,0,0,0]
[{"$f":"'68'!$E$37","v":34},{"$f":"'68'!$I$37","v":"7 Right"},{"$f":"'68'!$R$25","v":"3 Right"},{"$f":"'68'!$AA$23","v":"2 Right"},{"$f":"'68'!$AI$31","v":"5 Left"},null,0,0,0,0]
[{"$f":"'68'!$B$39","v":35},{"$f":"'68'!$H$39","v":"8 Left"},{"$f":"'68'!$Q$48","v":"11 Left"},{"$f":"'68'!$Z$39","v":"8 Left"},{"$f":"'68'!$AI$51","v":"12 Left"},null,0,0,0,0]
[{"$f":"'68'!$E$39","v":36},{"$f":"'68'!$I$39","v":"8 Right"},{"$f":"'68'!$Q$51","v":"12 Left"},{"$f":"'68'!$Z$42","v":"9 Left"},{"$f":"'68'!$AI$48","v":"11 Left"},null,0,0,0,0]
[{"$f":"'68'!$B$41","v":37},{"$f":"'68'!$H$41","v":"8 Left"},{"$f":"'68'!$R$48","v":"11 Right"},{"$f":"'68'!$AA$39","v":"8 Right"},{"$f":"'68'!$AI$44","v":"9 Left"},null,0,0,0,0]
[{"$f":"'68'!$B$42","v":38},{"$f":"'68'!$H$42","v":"9 Left"},{"$f":"'68'!$Q$54","v":"13 Left"},{"$f":"'68'!$Z$45","v":"10 Left"},{"$f":"'68'!$AI$57","v":"14 Left"},null,0,0,0,0]
[{"$f":"'68'!$E$42","v":39},{"$f":"'68'!$I$42","v":"9 Right"},{"$f":"'68'!$Q$57","v":"14 Left"},{"$f":"'68'!$AA$42","v":"9 Right"},{"$f":"'68'!$AI$54","v":"13 Left"},null,0,0,0,0]
[{"$f":"'68'!$B$44","v":40},{"$f":"'68'!$H$44","v":"9 Left"},{"$f":"'68'!$R$57","v":"14 Right"},{"$f":"'68'!$Z$41","v":"8 Left"},{"$f":"'68'!$AJ$48","v":"11 Right"},null,0,0,0,0]
[{"$f":"'68'!$B$45","v":41},{"$f":"'68'!$H$45","v":"10 Left"},{"$f":"'68'!$R$54","v":"13 Right"},{"$f":"'68'!$Z$51","v":"12 Left"},{"$f":"'68'!$AI$41","v":"8 Left"},null,0,0,0,0]
[{"$f":"'68'!$E$45","v":42},{"$f":"'68'!$I$45","v":"10 Right"},{"$f":"'68'!$R$51","v":"12 Right"},{"$f":"'68'!$AA$45","v":"10 Right"},{"$f":"'68'!$AJ$54","v":"13 Right"},null,0,0,0,0]
[{"$f":"'68'!$B$47","v":43},{"$f":"'68'!$H$47","v":"10 Left"},{"$f":"'68'!$Q$44","v":"9 Left"},{"$f":"'68'!$Z$57","v":"14 Left"},{"$f":"'68'!$AJ$51","v":"12 Right"},null,0,0,0,0]
[{"$f":"'68'!$B$48","v":44},{"$f":"'68'!$H$48","v":"11 Left"},{"$f":"'68'!$Q$39","v":"8 Left"},{"$f":"'68'!$Z$47","v":"10 Left"},{"$f":"'68'!$AJ$57","v":"14 Right"},null,0,0,0,0]
[{"$f":"'68'!$E$48","v":45},{"$f":"'68'!$I$48","v":"11 Right"},{"$f":"'68'!$Q$42","v":"9 Left"},{"$f":"'68'!$Z$54","v":"13 Left"},{"$f":"'68'!$AI$45","v":"10 Left"},null,0,0,0,0]
[{"$f":"'68'!$B$51","v":46},{"$f":"'68'!$H$51","v":"12 Left"},{"$f":"'68'!$R$39","v":"8 Right"},{"$f":"'68'!$Z$48","v":"11 Left"},{"$f":"'68'!$AI$42","v":"9 Left"},null,0,0,0,0]
[{"$f":"'68'!$E$51","v":47},{"$f":"'68'!$I$51","v":"12 Right"},{"$f":"'68'!$R$42","v":"9 Right"},{"$f":"'68'!$AA$57","v":"14 Right"},{"$f":"'68'!$AI$39","v":"8 Left"},null,0,0,0,0]
[{"$f":"'68'!$B$54","v":48},{"$f":"'68'!$H$54","v":"13 Left"},{"$f":"'68'!$Q$45","v":"10 Left"},{"$f":"'68'!$AA$48","v":"11 Right"},{"$f":"'68'!$AJ$42","v":"9 Right"},null,0,0,0,0]
[{"$f":"'68'!$E$54","v":49},{"$f":"'68'!$I$54","v":"13 Right"},{"$f":"'68'!$Q$41","v":"8 Left"},{"$f":"'68'!$Z$44","v":"9 Left"},{"$f":"'68'!$AI$47","v":"10 Left"},null,0,0,0,0]
[{"$f":"'68'!$B$57","v":50},{"$f":"'68'!$H$57","v":"14 Left"},{"$f":"'68'!$R$45","v":"10 Right"},{"$f":"'68'!$AA$51","v":"12 Right"},{"$f":"'68'!$AJ$39","v":"8 Right"},null,0,0,0,0]
[{"$f":"'68'!$E$57","v":51},{"$f":"'68'!$I$57","v":"14 Right"},{"$f":"'68'!$Q$47","v":"10 Left"},{"$f":"'68'!$AA$54","v":"13 Right"},{"$f":"'68'!$AJ$45","v":"10 Right"},null,0,0,0,0]
[{"$f":"'68'!$B$40","v":52},{"$f":"'68'!$H$40","v":"8 Left"},{"$f":"'68'!$R$47","v":"10 Right"},{"$f":"'68'!$AA$55","v":"13 Right"},{"$f":"'68'!$AI$49","v":"11 Left"},null,0,0,0,0]
[{"$f":"'68'!$E$40","v":53},{"$f":"'68'!$I$40","v":"8 Right"},{"$f":"'68'!$Q$49","v":"11 Left"},{"$f":"'68'!$AA$52","v":"12 Right"},{"$f":"'68'!$AJ$44","v":"9 Right"},null,0,0,0,0]
[{"$f":"'68'!$E$41","v":54},{"$f":"'68'!$I$41","v":"8 Right"},{"$f":"'68'!$Q$55","v":"13 Left"},{"$f":"'68'!$Z$40","v":"8 Left"},{"$f":"'68'!$AI$58","v":"14 Left"},null,0,0,0,0]
[{"$f":"'68'!$B$43","v":55},{"$f":"'68'!$H$43","v":"9 Left"},{"$f":"'68'!$R$49","v":"11 Right"},{"$f":"'68'!$Z$43","v":"9 Left"},{"$f":"'68'!$AI$55","v":"13 Left"},null,0,0,0,0]
[{"$f":"'68'!$E$43","v":56},{"$f":"'68'!$I$43","v":"9 Right"},{"$f":"'68'!$Q$52","v":"12 Left"},{"$f":"'68'!$AA$40","v":"8 Right"},{"$f":"'68'!$AJ$49","v":"11 Right"},null,0,0,0,0]
[{"$f":"'68'!$E$44","v":57},{"$f":"'68'!$I$44","v":"9 Right"},{"$f":"'68'!$R$52","v":"12 Right"},{"$f":"'68'!$Z$46","v":"10 Left"},{"$f":"'68'!$AJ$41","v":"8 Right"},null,0,0,0,0]
[{"$f":"'68'!$B$46","v":58},{"$f":"'68'!$H$46","v":"10 Left"},{"$f":"'68'!$Q$58","v":"14 Left"},{"$f":"'68'!$AA$46","v":"10 Right"},{"$f":"'68'!$AJ$55","v":"13 Right"},null,0,0,0,0]
[{"$f":"'68'!$E$46","v":59},{"$f":"'68'!$I$46","v":"10 Right"},{"$f":"'68'!$R$58","v":"14 Right"},{"$f":"'68'!$AA$43","v":"9 Right"},{"$f":"'68'!$AJ$52","v":"12 Right"},null,0,0,0,0]
[{"$f":"'68'!$E$47","v":60},{"$f":"'68'!$I$47","v":"10 Right"},{"$f":"'68'!$R$55","v":"13 Right"},{"$f":"'68'!$AA$41","v":"8 Right"},{"$f":"'68'!$AJ$58","v":"14 Right"},null,0,0,0,0]
[{"$f":"'68'!$B$49","v":61},{"$f":"'68'!$H$49","v":"11 Left"},{"$f":"'68'!$R$44","v":"9 Right"},{"$f":"'68'!$Z$52","v":"12 Left"},{"$f":"'68'!$AI$46","v":"10 Left"},null,0,0,0,0]
[{"$f":"'68'!$E$49","v":62},{"$f":"'68'!$I$49","v":"11 Right"},{"$f":"'68'!$Q$40","v":"8 Left"},{"$f":"'68'!$Z$58","v":"14 Left"},{"$f":"'68'!$AI$43","v":"9 Left"},null,0,0,0,0]
[{"$f":"'68'!$B$52","v":63},{"$f":"'68'!$H$52","v":"12 Left"},{"$f":"'68'!$Q$43","v":"9 Left"},{"$f":"'68'!$AA$47","v":"10 Right"},{"$f":"'68'!$AI$40","v":"8 Left"},null,0,0,0,0]
[{"$f":"'68'!$E$52","v":64},{"$f":"'68'!$I$52","v":"12 Right"},{"$f":"'68'!$R$40","v":"8 Right"},{"$f":"'68'!$Z$55","v":"13 Left"},{"$f":"'68'!$AJ$43","v":"9 Right"},null,0,0,0,0]
[{"$f":"'68'!$B$55","v":65},{"$f":"'68'!$H$55","v":"13 Left"},{"$f":"'68'!$R$43","v":"9 Right"},{"$f":"'68'!$Z$49","v":"11 Left"},{"$f":"'68'!$AJ$47","v":"10 Right"},null,0,0,0,0]
[{"$f":"'68'!$E$55","v":66},{"$f":"'68'!$I$55","v":"13 Right"},{"$f":"'68'!$Q$46","v":"10 Left"},{"$f":"'68'!$AA$58","v":"14 Right"},{"$f":"'68'!$AJ$40","v":"8 Right"},null,0,0,0,0]
[{"$f":"'68'!$B$58","v":67},{"$f":"'68'!$H$58","v":"14 Left"},{"$f":"'68'!$R$41","v":"8 Right"},{"$f":"'68'!$AA$49","v":"11 Right"},{"$f":"'68'!$AJ$46","v":"10 Right"},null,0,0,0,0]
[{"$f":"'68'!$E$58","v":68},{"$f":"'68'!$I$58","v":"14 Right"},{"$f":"'68'!$R$46","v":"10 Right"},{"$f":"'68'!$AA$44","v":"9 Right"},{"$f":"'68'!$AI$52","v":"12 Left"},null,0,0,0,0]
[{"$nulls":6},"1 Left","3 Left","2 Left","1 Left"]
[{"$f":"'66'!$B$18","v":1},{"$f":"'66'!$H$18","v":"1 Left"},{"$f":"'66'!$Q$27","v":"4 Left"},{"$f":"'66'!$Z$18","v":"1 Left"},{"$f":"'66'!$AI$30","v":"5 Left"},null,"1 Right","2 Left","4 Left","3 Left",null,66]
[{"$f":"'66'!$E$18","v":2},{"$f":"'66'!$I$18","v":"1 Right"},{"$f":"'66'!$Q$30","v":"5 Left"},{"$f":"'66'!$Z$21","v":"2 Left"},{"$f":"'66'!$AI$27","v":"4 Left"},null,"3 Right","1 Left","2 Right","4 Right"]
[{"$f":"'66'!$B$20","v":3},{"$f":"'66'!$H$20","v":"1 Left"},{"$f":"'66'!$R$27","v":"4 Right"},{"$f":"'66'!$AA$18","v":"1 Right"},{"$f":"'66'!$AI$23","v":"2 Left"},null,"4 Left","2 Right","1 Left","2 Right"]
[{"$f":"'66'!$B$21","v":4},{"$f":"'66'!$H$21","v":"2 Left"},{"$f":"'66'!$Q$33","v":"6 Left"},{"$f":"'66'!$Z$24","v":"3 Left"},{"$f":"'66'!$AI$36","v":"7 Left"},null,"2 Right","4 Left","1 Right","3 Right"]
[{"$f":"'66'!$E$21","v":5},{"$f":"'66'!$I$21","v":"2 Right"},{"$f":"'66'!$Q$36","v":"7 Left"},{"$f":"'66'!$AA$21","v":"2 Right"},{"$f":"'66'!$AI$33","v":"6 Left"},null,"2 Left","3 Right","1 Left","2 Left"]
[{"$f":"'66'!$B$23","v":6},{"$f":"'66'!$H$23","v":"2 Left"},{"$f":"'66'!$R$36","v":"7 Right"},{"$f":"'66'!$Z$20","v":"1 Left"},{"$f":"'66'!$AJ$27","v":"4 Right"},null,"3 Left","1 Right","4 Right","1 Right"]
[{"$f":"'66'!$B$24","v":7},{"$f":"'66'!$H$24","v":"3 Left"},{"$f":"'66'!$R$33","v":"6 Right"},{"$f":"'66'!$Z$30","v":"5 Left"},{"$f":"'66'!$AI$20","v":"1 Left"},null,"4 Right","1 Left","3 Left","1 Left"]
[{"$f":"'66'!$E$24","v":8},{"$f":"'66'!$I$24","v":"3 Right"},{"$f":"'66'!$R$30","v":"5 Right"},{"$f":"'66'!$AA$24","v":"3 Right"},{"$f":"'66'!$AJ$33","v":"6 Right"},null,"1 Left","4 Right","3 Right","4 Left"]
[{"$f":"'66'!$B$26","v":9},{"$f":"'66'!$H$26","v":"3 Left"},{"$f":"'66'!$Q$23","v":"2 Left"},{"$f":"'66'!$Z$36","v":"7 Left"},{"$f":"'66'!$AJ$30","v":"5 Right"},null,"1 Left","4 Left","3 Left","1 Right"]
[{"$f":"'66'!$B$27","v":10},{"$f":"'66'!$H$27","v":"4 Left"},{"$f":"'66'!$Q$18","v":"1 Left"},{"$f":"'66'!$Z$26","v":"3 Left"},{"$f":"'66'!$AJ$36","v":"7 Right"},null,"1 Right","3 Right","2 Left","4 Left"]
[{"$f":"'66'!$E$27","v":11},{"$f":"'66'!$I$27","v":"4 Right"},{"$f":"'66'!$Q$21","v":"2 Left"},{"$f":"'66'!$Z$33","v":"6 Left"},{"$f":"'66'!$AI$24","v":"3 Left"},null,"3 Right","1 Right","4 Left","1 Left"]
[{"$f":"'66'!$B$30","v":12},{"$f":"'66'!$H$30","v":"5 Left"},{"$f":"'66'!$R$18","v":"1 Right"},{"$f":"'66'!$Z$27","v":"4 Left"},{"$f":"'66'!$AI$21","v":"2 Left"},null,{"$f":"B2114","v":"4 Right"},{"$f":"C2114","v":"1 Right"},{"$f":"D2114","v":"2 Right"},{"$f":"E2114","v":"3 Right"}]
[{"$f":"'66'!$E$30","v":13},{"$f":"'66'!$I$30","v":"5 Right"},{"$f":"'66'!$R$21","v":"2 Right"},{"$f":"'66'!$AA$36","v":"7 Right"},{"$f":"'66'!$AI$18","v":"1 Left"},null,"2 Right","4 Right","1 Left","3 Left"]
[{"$f":"'66'!$B$33","v":14},{"$f":"'66'!$H$33","v":"6 Left"},{"$f":"'66'!$Q$24","v":"3 Left"},{"$f":"'66'!$AA$27","v":"4 Right"},{"$f":"'66'!$AJ$21","v":"2 Right"},null,"2 Left","3 Left","1 Right","2 Right"]
[{"$f":"'66'!$E$33","v":15},{"$f":"'66'!$I$33","v":"6 Right"},{"$f":"'66'!$Q$20","v":"1 Left"},{"$f":"'66'!$Z$23","v":"2 Left"},{"$f":"'66'!$AI$26","v":"3 Left"},null,"3 Left","2 Left","1 Right","4 Right"]
[{"$f":"'66'!$B$36","v":16},{"$f":"'66'!$H$36","v":"7 Left"},{"$f":"'66'!$R$24","v":"3 Right"},{"$f":"'66'!$AA$30","v":"5 Right"},{"$f":"'66'!$AJ$18","v":"1 Right"},null,"4 Left","1 Left","4 Right","2 Left"]
[{"$f":"'66'!$E$36","v":17},{"$f":"'66'!$I$36","v":"7 Right"},{"$f":"'66'!$Q$26","v":"3 Left"},{"$f":"'66'!$AA$33","v":"6 Right"},{"$f":"'66'!$AJ$24","v":"3 Right"},null,"1 Right","2 Right","3 Right","1 Right"]
[{"$f":"'66'!$B$19","v":18},{"$f":"'66'!$H$19","v":"1 Left"},{"$f":"'66'!$R$26","v":"3 Right"},{"$f":"'66'!$AA$34","v":"6 Right"},{"$f":"'66'!$AI$28","v":"4 Left"},null,{"$f":"B1661","v":"4 Left"},{"$f":"C1661","v":"1 Right"},{"$f":"D1661","v":"5 Left"},{"$f":"E1661","v":"6 Left"}]
[{"$f":"'66'!$E$19","v":19},{"$f":"'66'!$I$19","v":"1 Right"},{"$f":"'66'!$Q$28","v":"4 Left"},{"$f":"'66'!$AA$31","v":"5 Right"},{"$f":"'66'!$AJ$23","v":"2 Right"},null,"4 Right","1 Left","6 Right","3 Right"]
[{"$f":"'66'!$E$20","v":20},{"$f":"'66'!$I$20","v":"1 Right"},{"$f":"'66'!$Q$34","v":"6 Left"},{"$f":"'66'!$Z$19","v":"1 Left"},{"$f":"'66'!$AI$37","v":"7 Left"},null,"5 Left","6 Right","1 Left","2 Right"]
[{"$f":"'66'!$B$22","v":21},{"$f":"'66'!$H$22","v":"2 Left"},{"$f":"'66'!$R$28","v":"4 Right"},{"$f":"'66'!$Z$22","v":"2 Left"},{"$f":"'66'!$AI$34","v":"6 Left"},null,"5 Right","2 Right","3 Right","1 Left"]
[{"$f":"'66'!$E$22","v":22},{"$f":"'66'!$I$22","v":"2 Right"},{"$f":"'66'!$Q$31","v":"5 Left"},{"$f":"'66'!$AA$19","v":"1 Right"},{"$f":"'66'!$AJ$28","v":"4 Right"},null,"6 Left","3 Right","4 Right","1 Right"]
[{"$f":"'66'!$E$23","v":23},{"$f":"'66'!$I$23","v":"2 Right"},{"$f":"'66'!$R$31","v":"5 Right"},{"$f":"'66'!$Z$25","v":"3 Left"},{"$f":"'66'!$AJ$20","v":"1 Right"},null,"6 Right","4 Right","5 Right","4 Right"]
[{"$f":"'66'!$B$25","v":24},{"$f":"'66'!$H$25","v":"3 Left"},{"$f":"'66'!$Q$37","v":"7 Left"},{"$f":"'66'!$AA$25","v":"3 Right"},{"$f":"'66'!$AJ$34","v":"6 Right"},null,"1 Left","5 Right","2 Right","6 Right"]
[{"$f":"'66'!$E$25","v":25},{"$f":"'66'!$I$25","v":"3 Right"},{"$f":"'66'!$R$37","v":"7 Right"},{"$f":"'66'!$AA$22","v":"2 Right"},{"$f":"'66'!$AJ$31","v":"5 Right"},null,"1 Left","4 Left","5 Right","2 Left"]
[{"$f":"'66'!$E$26","v":26},{"$f":"'66'!$I$26","v":"3 Right"},{"$f":"'66'!$R$34","v":"6 Right"},{"$f":"'66'!$AA$20","v":"1 Right"},{"$f":"'66'!$AJ$37","v":"7 Right"},null,"1 Right","5 Left","3 Left","6 Left"]
[{"$f":"'66'!$B$28","v":27},{"$f":"'66'!$H$28","v":"4 Left"},{"$f":"'66'!$R$23","v":"2 Right"},{"$f":"'66'!$Z$31","v":"5 Left"},{"$f":"'66'!$AI$25","v":"3 Left"},null,"2 Left","1 Left","4 Left","2 Right"]
[{"$f":"'66'!$E$28","v":28},{"$f":"'66'!$I$28","v":"4 Right"},{"$f":"'66'!$Q$19","v":"1 Left"},{"$f":"'66'!$Z$37","v":"7 Left"},{"$f":"'66'!$AI$22","v":"2 Left"},null,"2 Right","6 Left","1 Left","3 Right"]
[{"$f":"'66'!$B$31","v":29},{"$f":"'66'!$H$31","v":"5 Left"},{"$f":"'66'!$Q$22","v":"2 Left"},{"$f":"'66'!$AA$26","v":"3 Right"},{"$f":"'66'!$AI$19","v":"1 Left"},null,"3 Left","1 Right","6 Left","4 Left"]
[{"$f":"'66'!$E$31","v":30},{"$f":"'66'!$I$31","v":"5 Right"},{"$f":"'66'!$R$19","v":"1 Right"},{"$f":"'66'!$Z$34","v":"6 Left"},{"$f":"'66'!$AJ$22","v":"2 Right"},null,"3 Right","1 Right","2 Left","5 Left"]
[{"$f":"'66'!$B$34","v":31},{"$f":"'66'!$H$34","v":"6 Left"},{"$f":"'66'!$R$22","v":"2 Right"},{"$f":"'66'!$Z$28","v":"4 Left"},{"$f":"'66'!$AJ$26","v":"3 Right"},null,"4 Left","6 Right","1 Right","3 Left"]
[{"$f":"'66'!$E$34","v":32},{"$f":"'66'!$I$34","v":"6 Right"},{"$f":"'66'!$Q$25","v":"3 Left"},{"$f":"'66'!$AA$37","v":"7 Right"},{"$f":"'66'!$AJ$19","v":"1 Right"},null,"4 Right","2 Right","5 Left","1 Right"]
[{"$f":"'66'!$B$37","v":33},{"$f":"'66'!$H$37","v":"7 Left"},{"$f":"'66'!$R$20","v":"1 Right"},{"$f":"'66'!$AA$28","v":"4 Right"},{"$f":"'66'!$AJ$25","v":"3 Right"},null,"5 Left","3 Right","6 Right","1 Left"]
[{"$f":"'66'!$E$37","v":34},{"$f":"'66'!$I$37","v":"7 Right"},{"$f":"'66'!$R$25","v":"3 Right"},{"$f":"'66'!$AA$23","v":"2 Right"},{"$f":"'66'!$AI$31","v":"5 Left"},null,"5 Right","4 Right","1 Right","6 Right"]
[{"$f":"'66'!$B$39","v":35},{"$f":"'66'!$H$39","v":"8 Left"},{"$f":"'66'!$Q$54","v":"13 Left"},{"$f":"'66'!$Z$44","v":"9 Left"},{"$f":"'66'!$AJ$55","v":"13 Right"},null,"6 Left","5 Right","3 Right","4 Right"]
[{"$f":"'66'!$E$39","v":36},{"$f":"'66'!$I$39","v":"8 Right"},{"$f":"'66'!$Q$45","v":"10 Left"},{"$f":"'66'!$Z$41","v":"8 Left"},{"$f":"'66'!$AJ$52","v":"12 Right"},null,"6 Right","3 Left","2 Right","1 Right"]
[{"$f":"'66'!$B$42","v":37},{"$f":"'66'!$H$42","v":"9 Left"},{"$f":"'66'!$R$58","v":"14 Right"},{"$f":"'66'!$AA$41","v":"8 Right"},{"$f":"'66'!$AI$52","v":"12 Left"},null,"1 Right","2 Left","4 Right","5 Right"]
[{"$f":"'66'!$E$42","v":38},{"$f":"'66'!$I$42","v":"9 Right"},{"$f":"'66'!$Q$49","v":"11 Left"},{"$f":"'66'!$AA$44","v":"9 Right"},{"$f":"'66'!$AJ$58","v":"14 Right"},null,0,0,0,0]
[{"$f":"'66'!$B$40","v":39},{"$f":"'66'!$H$40","v":"8 Left"},{"$f":"'66'!$R$46","v":"10 Right"},{"$f":"'66'!$Z$51","v":"12 Left"},{"$f":"'66'!$AI$42","v":"9 Left"},null,"1 Left","2 Left","4 Left","3 Left"]
[{"$f":"'66'!$E$40","v":40},{"$f":"'66'!$I$40","v":"8 Right"},{"$f":"'66'!$R$49","v":"11 Right"},{"$f":"'66'!$AA$51","v":"12 Right"},{"$f":"'66'!$AI$39","v":"8 Left"},null,"1 Right","3 Left","2 Left","5 Left"]
[{"$f":"'66'!$B$43","v":41},{"$f":"'66'!$H$43","v":"9 Left"},{"$f":"'66'!$Q$52","v":"12 Left"},{"$f":"'66'!$Z$54","v":"13 Left"},{"$f":"'66'!$AJ$39","v":"8 Right"},null,"2 Left","4 Left","1 Left","6 Left"]
[{"$f":"'66'!$E$43","v":42},{"$f":"'66'!$I$43","v":"9 Right"},{"$f":"'66'!$Q$58","v":"14 Left"},{"$f":"'66'!$AA$54","v":"13 Right"},{"$f":"'66'!$AJ$42","v":"9 Right"},null,"2 Right","5 Left","1 Right","6 Right"]
[{"$f":"'66'!$B$41","v":43},{"$f":"'66'!$H$41","v":"8 Left"},{"$f":"'66'!$R$52","v":"12 Right"},{"$f":"'66'!$Z$45","v":"10 Left"},{"$f":"'66'!$AJ$43","v":"9 Right"},null,"3 Left","6 Left","2 Right","5 Right"]
[{"$f":"'66'!$E$41","v":44},{"$f":"'66'!$I$41","v":"8 Right"},{"$f":"'66'!$R$55","v":"13 Right"},{"$f":"'66'!$Z$48","v":"11 Left"},{"$f":"'66'!$AJ$40","v":"8 Right"},null,"3 Right","1 Left","6 Left","4 Left"]
[{"$f":"'66'!$B$44","v":45},{"$f":"'66'!$H$44","v":"9 Left"},{"$f":"'66'!$Q$55","v":"13 Left"},{"$f":"'66'!$AA$45","v":"10 Right"},{"$f":"'66'!$AI$40","v":"8 Left"},null,"4 Left","6 Right","5 Left","1 Right"]
[{"$f":"'66'!$E$44","v":46},{"$f":"'66'!$I$44","v":"9 Right"},{"$f":"'66'!$Q$46","v":"10 Left"},{"$f":"'66'!$AA$48","v":"11 Right"},{"$f":"'66'!$AI$43","v":"9 Left"},null,"4 Right","5 Right","3 Right","2 Left"]
[{"$f":"'66'!$B$45","v":47},{"$f":"'66'!$H$45","v":"10 Left"},{"$f":"'66'!$Q$39","v":"8 Left"},{"$f":"'66'!$Z$57","v":"14 Left"},{"$f":"'66'!$AI$44","v":"9 Left"},null,"5 Left","1 Right","4 Right","3 Right"]
[{"$f":"'66'!$E$45","v":48},{"$f":"'66'!$I$45","v":"10 Right"},{"$f":"'66'!$R$42","v":"9 Right"},{"$f":"'66'!$AA$57","v":"14 Right"},{"$f":"'66'!$AI$41","v":"8 Left"},null,"5 Right","2 Right","6 Right","4 Right"]
[{"$f":"'66'!$B$48","v":49},{"$f":"'66'!$H$48","v":"11 Left"},{"$f":"'66'!$Q$42","v":"9 Left"},{"$f":"'66'!$Z$52","v":"12 Left"},{"$f":"'66'!$AJ$41","v":"8 Right"},null,"6 Left","3 Right","5 Right","2 Right"]
[{"$f":"'66'!$B$51","v":50},{"$f":"'66'!$H$51","v":"12 Left"},{"$f":"'66'!$R$39","v":"8 Right"},{"$f":"'66'!$AA$52","v":"12 Right"},{"$f":"'66'!$AJ$44","v":"9 Right"},null,"6 Right","4 Right","3 Left","1 Left"]
[{"$f":"'66'!$E$48","v":51},{"$f":"'66'!$I$48","v":"11 Right"},{"$f":"'66'!$Q$40","v":"8 Left"},{"$f":"'66'!$Z$55","v":"13 Left"},{"$f":"'66'!$AI$57","v":"14 Left"},null,"1 Left","4 Left","2 Right","1 Right"]
[{"$f":"'66'!$E$51","v":52},{"$f":"'66'!$I$51","v":"12 Right"},{"$f":"'66'!$R$43","v":"9 Right"},{"$f":"'66'!$AA$55","v":"13 Right"},{"$f":"'66'!$AI$48","v":"11 Left"},null,"1 Right","5 Left","6 Left","2 Left"]
[{"$f":"'66'!$B$54","v":53},{"$f":"'66'!$H$54","v":"13 Left"},{"$f":"'66'!$Q$43","v":"9 Left"},{"$f":"'66'!$Z$46","v":"10 Left"},{"$f":"'66'!$AJ$48","v":"11 Right"},null,"2 Left","6 Left","5 Left","3 Right"]
[{"$f":"'66'!$E$54","v":54},{"$f":"'66'!$I$54","v":"13 Right"},{"$f":"'66'!$R$40","v":"8 Right"},{"$f":"'66'!$AA$58","v":"14 Right"},{"$f":"'66'!$AJ$45","v":"10 Right"},null,"2 Right","1 Left","3 Right","4 Right"]
[{"$f":"'66'!$B$57","v":55},{"$f":"'66'!$H$57","v":"14 Left"},{"$f":"'66'!$Q$41","v":"8 Left"},{"$f":"'66'!$AA$46","v":"10 Right"},{"$f":"'66'!$AJ$54","v":"13 Right"},null,"3 Left","6 Right","4 Right","2 Right"]
[{"$f":"'66'!$E$57","v":56},{"$f":"'66'!$I$57","v":"14 Right"},{"$f":"'66'!$R$44","v":"9 Right"},{"$f":"'66'!$Z$58","v":"14 Left"},{"$f":"'66'!$AJ$51","v":"12 Right"},null,"3 Right","5 Right","6 Right","1 Left"]
[{"$f":"'66'!$B$46","v":57},{"$f":"'66'!$H$46","v":"10 Left"},{"$f":"'66'!$Q$44","v":"9 Left"},{"$f":"'66'!$Z$49","v":"11 Left"},{"$f":"'66'!$AI$51","v":"12 Left"},null,"4 Left","1 Right","5 Right","3 Left"]
[{"$f":"'66'!$E$46","v":58},{"$f":"'66'!$I$46","v":"10 Right"},{"$f":"'66'!$R$41","v":"8 Right"},{"$f":"'66'!$AA$49","v":"11 Right"},{"$f":"'66'!$AJ$57","v":"14 Right"},null,"4 Right","2 Right","3 Left","5 Left"]
[{"$f":"'66'!$B$49","v":59},{"$f":"'66'!$H$49","v":"11 Left"},{"$f":"'66'!$R$57","v":"14 Right"},{"$f":"'66'!$Z$42","v":"9 Left"},{"$f":"'66'!$AI$54","v":"13 Left"},null,"5 Left","3 Right","4 Left","6 Left"]
[{"$f":"'66'!$B$52","v":60},{"$f":"'66'!$H$52","v":"12 Left"},{"$f":"'66'!$Q$48","v":"11 Left"},{"$f":"'66'!$Z$39","v":"8 Left"},{"$f":"'66'!$AI$45","v":"10 Left"},null,"5 Right","4 Right","2 Left","6 Right"]
[{"$f":"'66'!$E$49","v":61},{"$f":"'66'!$I$49","v":"11 Right"},{"$f":"'66'!$R$45","v":"10 Right"},{"$f":"'66'!$AA$39","v":"8 Right"},{"$f":"'66'!$AI$55","v":"13 Left"},null,"6 Left","2 Left","1 Left","5 Right"]
[{"$f":"'66'!$E$52","v":62},{"$f":"'66'!$I$52","v":"12 Right"},{"$f":"'66'!$R$48","v":"11 Right"},{"$f":"'66'!$AA$42","v":"9 Right"},{"$f":"'66'!$AI$46","v":"10 Left"},null,"6 Right","3 Left","1 Right","4 Left"]
[{"$f":"'66'!$B$55","v":63},{"$f":"'66'!$H$55","v":"13 Left"},{"$f":"'66'!$Q$51","v":"12 Left"},{"$f":"'66'!$Z$43","v":"9 Left"},{"$f":"'66'!$AI$58","v":"14 Left"},null,0,0,0,0]
[{"$f":"'66'!$E$55","v":64},{"$f":"'66'!$I$55","v":"13 Right"},{"$f":"'66'!$Q$57","v":"14 Left"},{"$f":"'66'!$Z$40","v":"8 Left"},{"$f":"'66'!$AI$49","v":"11 Left"},null,"2 Left","3 Left","5 Left","2 Right"]
[{"$f":"'66'!$B$58","v":65},{"$f":"'66'!$H$58","v":"14 Left"},{"$f":"'66'!$R$51","v":"12 Right"},{"$f":"'66'!$AA$40","v":"8 Right"},{"$f":"'66'!$AJ$49","v":"11 Right"},null,"2 Right","4 Left","3 Left","5 Left"]
[{"$f":"'66'!$E$58","v":66},{"$f":"'66'!$I$58","v":"14 Right"},{"$f":"'66'!$R$54","v":"13 Right"},{"$f":"'66'!$AA$43","v":"9 Right"},{"$f":"'66'!$AJ$46","v":"10 Right"},null,"3 Left","2 Left","4 Right","6 Left"]
[{"$nulls":6},"3 Right","5 Left","4 Left","2 Left"]
[{"$f":"'64'!$B$18","v":1},{"$f":"'64'!$H$18","v":"1 Left"},{"$f":"'64'!$Q$33","v":"6 Left"},{"$f":"'64'!$Z$23","v":"2 Left"},{"$f":"'64'!$AJ$34","v":"6 Right"},null,"4 Left","2 Right","6 Right","2 Left",null,64]
[{"$f":"'64'!$E$18","v":2},{"$f":"'64'!$I$18","v":"1 Right"},{"$f":"'64'!$Q$24","v":"3 Left"},{"$f":"'64'!$Z$20","v":"1 Left"},{"$f":"'64'!$AJ$31","v":"5 Right"},null,"4 Right","6 Left","2 Left","6 Right"]
[{"$f":"'64'!$B$21","v":3},{"$f":"'64'!$H$21","v":"2 Left"},{"$f":"'64'!$R$37","v":"7 Right"},{"$f":"'64'!$AA$20","v":"1 Right"},{"$f":"'64'!$AI$31","v":"5 Left"},null,"5 Left","2 Left","6 Left","3 Left"]
[{"$f":"'64'!$E$21","v":4},{"$f":"'64'!$I$21","v":"2 Right"},{"$f":"'64'!$Q$28","v":"4 Left"},{"$f":"'64'!$AA$23","v":"2 Right"},{"$f":"'64'!$AJ$37","v":"7 Right"},null,"5 Right","3 Right","2 Right","4 Left"]
[{"$f":"'64'!$B$19","v":5},{"$f":"'64'!$H$19","v":"1 Left"},{"$f":"'64'!$R$25","v":"3 Right"},{"$f":"'64'!$Z$30","v":"5 Left"},{"$f":"'64'!$AI$21","v":"2 Left"},null,"6 Left","4 Right","5 Right","3 Right"]
[{"$f":"'64'!$E$19","v":6},{"$f":"'64'!$I$19","v":"1 Right"},{"$f":"'64'!$R$28","v":"4 Right"},{"$f":"'64'!$AA$30","v":"5 Right"},{"$f":"'64'!$AI$18","v":"1 Left"},null,"6 Right","5 Right","2 Left","4 Right"]
[{"$f":"'64'!$B$22","v":7},{"$f":"'64'!$H$22","v":"2 Left"},{"$f":"'64'!$Q$31","v":"5 Left"},{"$f":"'64'!$Z$33","v":"6 Left"},{"$f":"'64'!$AJ$18","v":"1 Right"},null,"2 Left","6 Right","3 Right","5 Right"]
[{"$f":"'64'!$E$22","v":8},{"$f":"'64'!$I$22","v":"2 Right"},{"$f":"'64'!$Q$37","v":"7 Left"},{"$f":"'64'!$AA$33","v":"6 Right"},{"$f":"'64'!$AJ$21","v":"2 Right"},null,"2 Right","3 Left","6 Right","4 Left"]
[{"$f":"'64'!$B$20","v":9},{"$f":"'64'!$H$20","v":"1 Left"},{"$f":"'64'!$R$31","v":"5 Right"},{"$f":"'64'!$Z$24","v":"3 Left"},{"$f":"'64'!$AJ$22","v":"2 Right"},null,{"$f":"B1719","v":"3 Left"},{"$f":"C1719","v":"4 Left"},{"$f":"D1719","v":"2 Left"},{"$f":"E1719","v":"3 Right"}]
[{"$f":"'64'!$E$20","v":10},{"$f":"'64'!$I$20","v":"1 Right"},{"$f":"'64'!$R$34","v":"6 Right"},{"$f":"'64'!$Z$27","v":"4 Left"},{"$f":"'64'!$AJ$19","v":"1 Right"},null,"3 Right","2 Left","5 Right","4 Right"]
[{"$f":"'64'!$B$23","v":11},{"$f":"'64'!$H$23","v":"2 Left"},{"$f":"'64'!$Q$34","v":"6 Left"},{"$f":"'64'!$AA$24","v":"3 Right"},{"$f":"'64'!$AI$19","v":"1 Left"},null,"4 Left","5 Left","2 Right","5 Right"]
[{"$f":"'64'!$E$23","v":12},{"$f":"'64'!$I$23","v":"2 Right"},{"$f":"'64'!$Q$25","v":"3 Left"},{"$f":"'64'!$AA$27","v":"4 Right"},{"$f":"'64'!$AI$22","v":"2 Left"},null,"4 Right","2 Right","6 Left","2 Right"]
[{"$f":"'64'!$B$24","v":13},{"$f":"'64'!$H$24","v":"3 Left"},{"$f":"'64'!$Q$18","v":"1 Left"},{"$f":"'64'!$Z$36","v":"7 Left"},{"$f":"'64'!$AI$23","v":"2 Left"},null,"5 Left","6 Left","2 Right","5 Left"]
[{"$f":"'64'!$E$24","v":14},{"$f":"'64'!$I$24","v":"3 Right"},{"$f":"'64'!$R$21","v":"2 Right"},{"$f":"'64'!$AA$36","v":"7 Right"},{"$f":"'64'!$AI$20","v":"1 Left"},null,"5 Right","2 Right","3 Right","6 Left"]
[{"$f":"'64'!$B$27","v":15},{"$f":"'64'!$H$27","v":"4 Left"},{"$f":"'64'!$Q$21","v":"2 Left"},{"$f":"'64'!$Z$31","v":"5 Left"},{"$f":"'64'!$AJ$20","v":"1 Right"},null,"6 Left","3 Right","5 Left","2 Left"]
[{"$f":"'64'!$B$30","v":16},{"$f":"'64'!$H$30","v":"5 Left"},{"$f":"'64'!$R$18","v":"1 Right"},{"$f":"'64'!$AA$31","v":"5 Right"},{"$f":"'64'!$AJ$23","v":"2 Right"},null,"6 Right","4 Right","3 Left","2 Right"]
[{"$f":"'64'!$E$27","v":17},{"$f":"'64'!$I$27","v":"4 Right"},{"$f":"'64'!$Q$19","v":"1 Left"},{"$f":"'64'!$Z$34","v":"6 Left"},{"$f":"'64'!$AI$36","v":"7 Left"},null,"2 Left","5 Right","4 Right","6 Right"]
[{"$f":"'64'!$E$30","v":18},{"$f":"'64'!$I$30","v":"5 Right"},{"$f":"'64'!$R$22","v":"2 Right"},{"$f":"'64'!$AA$34","v":"6 Right"},{"$f":"'64'!$AI$27","v":"4 Left"},null,"2 Right","6 Right","4 Left","3 Left"]
[{"$f":"'64'!$B$33","v":19},{"$f":"'64'!$H$33","v":"6 Left"},{"$f":"'64'!$Q$22","v":"2 Left"},{"$f":"'64'!$Z$25","v":"3 Left"},{"$f":"'64'!$AJ$27","v":"4 Right"},null,0,0,0,0]
[{"$f":"'64'!$E$33","v":20},{"$f":"'64'!$I$33","v":"6 Right"},{"$f":"'64'!$R$19","v":"1 Right"},{"$f":"'64'!$AA$37","v":"7 Right"},{"$f":"'64'!$AJ$24","v":"3 Right"},null,"2 Left","3 Left","6 Left","5 Right"]
[{"$f":"'64'!$B$36","v":21},{"$f":"'64'!$H$36","v":"7 Left"},{"$f":"'64'!$Q$20","v":"1 Left"},{"$f":"'64'!$AA$25","v":"3 Right"},{"$f":"'64'!$AJ$33","v":"6 Right"},null,"2 Right","4 Left","3 Left","6 Left"]
[{"$f":"'64'!$E$36","v":22},{"$f":"'64'!$I$36","v":"7 Right"},{"$f":"'64'!$R$23","v":"2 Right"},{"$f":"'64'!$Z$37","v":"7 Left"},{"$f":"'64'!$AJ$30","v":"5 Right"},null,"3 Left","5 Left","2 Left","5 Left"]
[{"$f":"'64'!$B$25","v":23},{"$f":"'64'!$H$25","v":"3 Left"},{"$f":"'64'!$Q$23","v":"2 Left"},{"$f":"'64'!$Z$28","v":"4 Left"},{"$f":"'64'!$AI$30","v":"5 Left"},null,"3 Right","6 Left","5 Left","4 Left"]
[{"$f":"'64'!$E$25","v":24},{"$f":"'64'!$I$25","v":"3 Right"},{"$f":"'64'!$R$20","v":"1 Right"},{"$f":"'64'!$AA$28","v":"4 Right"},{"$f":"'64'!$AJ$36","v":"7 Right"},null,"4 Left","2 Left","6 Right","4 Right"]
[{"$f":"'64'!$B$28","v":25},{"$f":"'64'!$H$28","v":"4 Left"},{"$f":"'64'!$R$36","v":"7 Right"},{"$f":"'64'!$Z$21","v":"2 Left"},{"$f":"'64'!$AI$33","v":"6 Left"},null,"4 Right","5 Right","3 Right","2 Left"]
[{"$f":"'64'!$B$31","v":26},{"$f":"'64'!$H$31","v":"5 Left"},{"$f":"'64'!$Q$27","v":"4 Left"},{"$f":"'64'!$Z$18","v":"1 Left"},{"$f":"'64'!$AI$24","v":"3 Left"},null,"5 Left","6 Right","4 Left","3 Right"]
[{"$f":"'64'!$E$28","v":27},{"$f":"'64'!$I$28","v":"4 Right"},{"$f":"'64'!$R$24","v":"3 Right"},{"$f":"'64'!$AA$18","v":"1 Right"},{"$f":"'64'!$AI$34","v":"6 Left"},null,"5 Right","3 Right","4 Right","2 Right"]
[{"$f":"'64'!$E$31","v":28},{"$f":"'64'!$I$31","v":"5 Right"},{"$f":"'64'!$R$27","v":"4 Right"},{"$f":"'64'!$AA$21","v":"2 Right"},{"$f":"'64'!$AI$25","v":"3 Left"},null,"6 Left","4 Right","2 Right","6 Right"]
[{"$f":"'64'!$B$34","v":29},{"$f":"'64'!$H$34","v":"6 Left"},{"$f":"'64'!$Q$30","v":"5 Left"},{"$f":"'64'!$Z$22","v":"2 Left"},{"$f":"'64'!$AI$37","v":"7 Left"},null,"6 Right","2 Right","5 Right","3 Left"]
[{"$f":"'64'!$E$34","v":30},{"$f":"'64'!$I$34","v":"6 Right"},{"$f":"'64'!$Q$36","v":"7 Left"},{"$f":"'64'!$Z$19","v":"1 Left"},{"$f":"'64'!$AI$28","v":"4 Left"},null,"2 Left","5 Left","6 Right","3 Right"]
[{"$f":"'64'!$B$37","v":31},{"$f":"'64'!$H$37","v":"7 Left"},{"$f":"'64'!$R$30","v":"5 Right"},{"$f":"'64'!$AA$19","v":"1 Right"},{"$f":"'64'!$AJ$28","v":"4 Right"},null,"2 Right","6 Left","3 Right","2 Right"]
[{"$f":"'64'!$E$37","v":32},{"$f":"'64'!$I$37","v":"7 Right"},{"$f":"'64'!$R$33","v":"6 Right"},{"$f":"'64'!$AA$22","v":"2 Right"},{"$f":"'64'!$AJ$25","v":"3 Right"},null,"3 Left","2 Left","4 Left","6 Right"]
[{"$f":"'64'!$B$39","v":33},{"$f":"'64'!$H$39","v":"8 Left"},{"$f":"'64'!$Q$54","v":"13 Left"},{"$f":"'64'!$Z$44","v":"9 Left"},{"$f":"'64'!$AJ$55","v":"13 Right"},null,"3 Right","5 Right","4 Right","3 Left"]
[{"$f":"'64'!$E$39","v":34},{"$f":"'64'!$I$39","v":"8 Right"},{"$f":"'64'!$Q$45","v":"10 Left"},{"$f":"'64'!$Z$41","v":"8 Left"},{"$f":"'64'!$AJ$52","v":"12 Right"},null,"4 Left","6 Right","2 Right","5 Right"]
[{"$f":"'64'!$B$42","v":35},{"$f":"'64'!$H$42","v":"9 Left"},{"$f":"'64'!$R$58","v":"14 Right"},{"$f":"'64'!$AA$41","v":"8 Right"},{"$f":"'64'!$AI$52","v":"12 Left"},null,"4 Right","3 Right","5 Right","6 Left"]
[{"$f":"'64'!$E$42","v":36},{"$f":"'64'!$I$42","v":"9 Right"},{"$f":"'64'!$Q$49","v":"11 Left"},{"$f":"'64'!$AA$44","v":"9 Right"},{"$f":"'64'!$AJ$58","v":"14 Right"},null,"5 Left","4 Right","6 Left","5 Left"]
[{"$f":"'64'!$B$40","v":37},{"$f":"'64'!$H$40","v":"8 Left"},{"$f":"'64'!$R$46","v":"10 Right"},{"$f":"'64'!$Z$51","v":"12 Left"},{"$f":"'64'!$AI$42","v":"9 Left"},null,"5 Right","2 Right","3 Left","4 Left"]
[{"$f":"'64'!$E$40","v":38},{"$f":"'64'!$I$40","v":"8 Right"},{"$f":"'64'!$R$49","v":"11 Right"},{"$f":"'64'!$AA$51","v":"12 Right"},{"$f":"'64'!$AI$39","v":"8 Left"},null,"6 Left","3 Left","2 Left","4 Right"]
[{"$f":"'64'!$B$43","v":39},{"$f":"'64'!$H$43","v":"9 Left"},{"$f":"'64'!$Q$52","v":"12 Left"},{"$f":"'64'!$Z$54","v":"13 Left"},{"$f":"'64'!$AJ$39","v":"8 Right"},null,"6 Right","4 Left","5 Left","2 Left"]
[{"$f":"'64'!$E$43","v":40},{"$f":"'64'!$I$43","v":"9 Right"},{"$f":"'64'!$Q$58","v":"14 Left"},{"$f":"'64'!$AA$54","v":"13 Right"},{"$f":"'64'!$AJ$42","v":"9 Right"},null,0,0,0,0]
[{"$f":"'64'!$B$41","v":41},{"$f":"'64'!$H$41","v":"8 Left"},{"$f":"'64'!$R$52","v":"12 Right"},{"$f":"'64'!$Z$45","v":"10 Left"},{"$f":"'64'!$AJ$43","v":"9 Right"},null,"1 Left","3 Left","2 Left","1 Left"]
[{"$f":"'64'!$E$41","v":42},{"$f":"'64'!$I$41","v":"8 Right"},{"$f":"'64'!$R$55","v":"13 Right"},{"$f":"'64'!$Z$48","v":"11 Left"},{"$f":"'64'!$AJ$40","v":"8 Right"},null,"1 Right","2 Left","4 Left","3 Left"]
[{"$f":"'64'!$B$44","v":43},{"$f":"'64'!$H$44","v":"9 Left"},{"$f":"'64'!$Q$55","v":"13 Left"},{"$f":"'64'!$AA$45","v":"10 Right"},{"$f":"'64'!$AI$40","v":"8 Left"},null,"3 Right","1 Left","2 Right","4 Right"]
[{"$f":"'64'!$E$44","v":44},{"$f":"'64'!$I$44","v":"9 Right"},{"$f":"'64'!$Q$46","v":"10 Left"},{"$f":"'64'!$AA$48","v":"11 Right"},{"$f":"'64'!$AI$43","v":"9 Left"},null,"4 Left","2 Right","1 Left","2 Right"]
[{"$f":"'64'!$B$45","v":45},{"$f":"'64'!$H$45","v":"10 Left"},{"$f":"'64'!$Q$39","v":"8 Left"},{"$f":"'64'!$Z$57","v":"14 Left"},{"$f":"'64'!$AI$44","v":"9 Left"},null,"2 Right","4 Left","1 Right","3 Right"]
[{"$f":"'64'!$E$45","v":46},{"$f":"'64'!$I$45","v":"10 Right"},{"$f":"'64'!$R$42","v":"9 Right"},{"$f":"'64'!$AA$57","v":"14 Right"},{"$f":"'64'!$AI$41","v":"8 Left"},null,"2 Left","3 Right","1 Left","2 Left"]
[{"$f":"'64'!$B$48","v":47},{"$f":"'64'!$H$48","v":"11 Left"},{"$f":"'64'!$Q$42","v":"9 Left"},{"$f":"'64'!$Z$52","v":"12 Left"},{"$f":"'64'!$AJ$41","v":"8 Right"},null,"3 Left","1 Right","4 Right","1 Right"]
[{"$f":"'64'!$B$51","v":48},{"$f":"'64'!$H$51","v":"12 Left"},{"$f":"'64'!$R$39","v":"8 Right"},{"$f":"'64'!$AA$52","v":"12 Right"},{"$f":"'64'!$AJ$44","v":"9 Right"},null,"4 Right","1 Left","3 Left","1 Left"]
[{"$f":"'64'!$E$48","v":49},{"$f":"'64'!$I$48","v":"11 Right"},{"$f":"'64'!$Q$40","v":"8 Left"},{"$f":"'64'!$Z$55","v":"13 Left"},{"$f":"'64'!$AI$57","v":"14 Left"},null,"1 Left","4 Right","3 Right","4 Left"]
[{"$f":"'64'!$E$51","v":50},{"$f":"'64'!$I$51","v":"12 Right"},{"$f":"'64'!$R$43","v":"9 Right"},{"$f":"'64'!$AA$55","v":"13 Right"},{"$f":"'64'!$AI$48","v":"11 Left"},null,"1 Left","4 Left","3 Left","1 Right"]
[{"$f":"'64'!$B$54","v":51},{"$f":"'64'!$H$54","v":"13 Left"},{"$f":"'64'!$Q$43","v":"9 Left"},{"$f":"'64'!$Z$46","v":"10 Left"},{"$f":"'64'!$AJ$48","v":"11 Right"},null,"1 Right","3 Right","2 Left","4 Left"]
[{"$f":"'64'!$E$54","v":52},{"$f":"'64'!$I$54","v":"13 Right"},{"$f":"'64'!$R$40","v":"8 Right"},{"$f":"'64'!$AA$58","v":"14 Right"},{"$f":"'64'!$AJ$45","v":"10 Right"},null,"3 Right","1 Right","4 Left","1 Left"]
[{"$f":"'64'!$B$57","v":53},{"$f":"'64'!$H$57","v":"14 Left"},{"$f":"'64'!$Q$41","v":"8 Left"},{"$f":"'64'!$AA$46","v":"10 Right"},{"$f":"'64'!$AJ$54","v":"13 Right"},null,"4 Right","1 Right","2 Right","3 Right"]
[{"$f":"'64'!$E$57","v":54},{"$f":"'64'!$I$57","v":"14 Right"},{"$f":"'64'!$R$44","v":"9 Right"},{"$f":"'64'!$Z$58","v":"14 Left"},{"$f":"'64'!$AJ$51","v":"12 Right"},null,"2 Right","4 Right","1 Left","3 Left"]
[{"$f":"'64'!$B$46","v":55},{"$f":"'64'!$H$46","v":"10 Left"},{"$f":"'64'!$Q$44","v":"9 Left"},{"$f":"'64'!$Z$49","v":"11 Left"},{"$f":"'64'!$AI$51","v":"12 Left"},null,"2 Left","3 Left","1 Right","2 Right"]
[{"$f":"'64'!$E$46","v":56},{"$f":"'64'!$I$46","v":"10 Right"},{"$f":"'64'!$R$41","v":"8 Right"},{"$f":"'64'!$AA$49","v":"11 Right"},{"$f":"'64'!$AJ$57","v":"14 Right"},null,"3 Left","2 Left","1 Right","4 Right"]
[{"$f":"'64'!$B$49","v":57},{"$f":"'64'!$H$49","v":"11 Left"},{"$f":"'64'!$R$57","v":"14 Right"},{"$f":"'64'!$Z$42","v":"9 Left"},{"$f":"'64'!$AI$54","v":"13 Left"},null,"4 Left","1 Left","4 Right","2 Left"]
[{"$f":"'64'!$B$52","v":58},{"$f":"'64'!$H$52","v":"12 Left"},{"$f":"'64'!$Q$48","v":"11 Left"},{"$f":"'64'!$Z$39","v":"8 Left"},{"$f":"'64'!$AI$45","v":"10 Left"},null,"1 Right","2 Right","3 Right","1 Right"]
[{"$f":"'64'!$E$49","v":59},{"$f":"'64'!$I$49","v":"11 Right"},{"$f":"'64'!$R$45","v":"10 Right"},{"$f":"'64'!$AA$39","v":"8 Right"},{"$f":"'64'!$AI$55","v":"13 Left"},null,0,0,0,0]
[{"$f":"'64'!$E$52","v":60},{"$f":"'64'!$I$52","v":"12 Right"},{"$f":"'64'!$R$48","v":"11 Right"},{"$f":"'64'!$AA$42","v":"9 Right"},{"$f":"'64'!$AI$46","v":"10 Left"},null,"2 Left","3 Left","4 Left","5 Left"]
[{"$f":"'64'!$B$55","v":61},{"$f":"'64'!$H$55","v":"13 Left"},{"$f":"'64'!$Q$51","v":"12 Left"},{"$f":"'64'!$Z$43","v":"9 Left"},{"$f":"'64'!$AI$58","v":"14 Left"},null,"2 Right","4 Left","5 Left","4 Left"]
[{"$f":"'64'!$E$55","v":62},{"$f":"'64'!$I$55","v":"13 Right"},{"$f":"'64'!$Q$57","v":"14 Left"},{"$f":"'64'!$Z$40","v":"8 Left"},{"$f":"'64'!$AI$49","v":"11 Left"},null,"3 Left","4 Right","2 Left","5 Right"]
[{"$f":"'64'!$B$58","v":63},{"$f":"'64'!$H$58","v":"14 Left"},{"$f":"'64'!$R$51","v":"12 Right"},{"$f":"'64'!$AA$40","v":"8 Right"},{"$f":"'64'!$AJ$49","v":"11 Right"},null,"3 Right","5 Left","3 Left","4 Right"]
[{"$f":"'64'!$E$58","v":64},{"$f":"'64'!$I$58","v":"14 Right"},{"$f":"'64'!$R$54","v":"13 Right"},{"$f":"'64'!$AA$43","v":"9 Right"},{"$f":"'64'!$AJ$46","v":"10 Right"},null,"4 Left","5 Right","2 Right","3 Left"]
[{"$nulls":6},"4 Right","2 Left","3 Right","2 Right"]
[{"$f":"'62'!$B$18","v":1},{"$f":"'62'!$H$18","v":"1 Left"},{"$f":"'62'!$Q$33","v":"6 Left"},{"$f":"'62'!$Z$23","v":"2 Left"},{"$f":"'62'!$AJ$34","v":"6 Right"},null,"5 Left","3 Right","5 Right","2 Left",null,62]
[{"$f":"'62'!$E$18","v":2},{"$f":"'62'!$I$18","v":"1 Right"},{"$f":"'62'!$Q$24","v":"3 Left"},{"$f":"'62'!$Z$20","v":"1 Left"},{"$f":"'62'!$AJ$31","v":"5 Right"},null,"5 Right","2 Right","4 Right","3 Right"]
[{"$f":"'62'!$B$21","v":3},{"$f":"'62'!$H$21","v":"2 Left"},{"$f":"'62'!$R$37","v":"7 Right"},{"$f":"'62'!$AA$20","v":"1 Right"},{"$f":"'62'!$AI$31","v":"5 Left"},null,"2 Left","4 Right","5 Right","4 Right"]
[{"$f":"'62'!$E$21","v":4},{"$f":"'62'!$I$21","v":"2 Right"},{"$f":"'62'!$Q$28","v":"4 Left"},{"$f":"'62'!$AA$23","v":"2 Right"},{"$f":"'62'!$AJ$37","v":"7 Right"},null,"2 Right","5 Left","4 Right","3 Left"]
[{"$f":"'62'!$B$19","v":5},{"$f":"'62'!$H$19","v":"1 Left"},{"$f":"'62'!$R$25","v":"3 Right"},{"$f":"'62'!$Z$30","v":"5 Left"},{"$f":"'62'!$AI$21","v":"2 Left"},null,"3 Left","5 Right","4 Left","2 Right"]
[{"$f":"'62'!$E$19","v":6},{"$f":"'62'!$I$19","v":"1 Right"},{"$f":"'62'!$R$28","v":"4 Right"},{"$f":"'62'!$AA$30","v":"5 Right"},{"$f":"'62'!$AI$18","v":"1 Left"},null,"3 Right","2 Left","5 Left","2 Left"]
[{"$f":"'62'!$B$22","v":7},{"$f":"'62'!$H$22","v":"2 Left"},{"$f":"'62'!$Q$31","v":"5 Left"},{"$f":"'62'!$Z$33","v":"6 Left"},{"$f":"'62'!$AJ$18","v":"1 Right"},null,"4 Left","3 Right","2 Left","3 Right"]
[{"$f":"'62'!$E$22","v":8},{"$f":"'62'!$I$22","v":"2 Right"},{"$f":"'62'!$Q$37","v":"7 Left"},{"$f":"'62'!$AA$33","v":"6 Right"},{"$f":"'62'!$AJ$21","v":"2 Right"},null,{"$f":"B1783","v":"4 Right"},{"$f":"C1783","v":"2 Right"},{"$f":"D1783","v":"3 Left"},{"$f":"E1783","v":"5 Left"}]
[{"$f":"'62'!$B$20","v":9},{"$f":"'62'!$H$20","v":"1 Left"},{"$f":"'62'!$R$31","v":"5 Right"},{"$f":"'62'!$Z$24","v":"3 Left"},{"$f":"'62'!$AJ$22","v":"2 Right"},null,"5 Left","3 Left","2 Right","4 Left"]
[{"$f":"'62'!$E$20","v":10},{"$f":"'62'!$I$20","v":"1 Right"},{"$f":"'62'!$R$34","v":"6 Right"},{"$f":"'62'!$Z$27","v":"4 Left"},{"$f":"'62'!$AJ$19","v":"1 Right"},null,"5 Right","4 Left","3 Right","5 Right"]
[{"$f":"'62'!$B$23","v":11},{"$f":"'62'!$H$23","v":"2 Left"},{"$f":"'62'!$Q$34","v":"6 Left"},{"$f":"'62'!$AA$24","v":"3 Right"},{"$f":"'62'!$AI$19","v":"1 Left"},null,0,0,0,0]
[{"$f":"'62'!$E$23","v":12},{"$f":"'62'!$I$23","v":"2 Right"},{"$f":"'62'!$Q$25","v":"3 Left"},{"$f":"'62'!$AA$27","v":"4 Right"},{"$f":"'62'!$AI$22","v":"2 Left"},null,"1 Left","3 Left","1 Left","3 Right"]
[{"$f":"'62'!$B$24","v":13},{"$f":"'62'!$H$24","v":"3 Left"},{"$f":"'62'!$Q$18","v":"1 Left"},{"$f":"'62'!$Z$36","v":"7 Left"},{"$f":"'62'!$AI$23","v":"2 Left"},null,"1 Right","2 Left","1 Left","2 Left"]
[{"$f":"'62'!$E$24","v":14},{"$f":"'62'!$I$24","v":"3 Right"},{"$f":"'62'!$R$21","v":"2 Right"},{"$f":"'62'!$AA$36","v":"7 Right"},{"$f":"'62'!$AI$20","v":"1 Left"},null,"2 Left","1 Right","3 Right","1 Left"]
[{"$f":"'62'!$B$27","v":15},{"$f":"'62'!$H$27","v":"4 Left"},{"$f":"'62'!$Q$21","v":"2 Left"},{"$f":"'62'!$Z$31","v":"5 Left"},{"$f":"'62'!$AJ$20","v":"1 Right"},null,"2 Right","1 Left","3 Left","1 Left"]
[{"$f":"'62'!$B$30","v":16},{"$f":"'62'!$H$30","v":"5 Left"},{"$f":"'62'!$R$18","v":"1 Right"},{"$f":"'62'!$AA$31","v":"5 Right"},{"$f":"'62'!$AJ$23","v":"2 Right"},null,"3 Left","2 Right","1 Left","2 Right"]
[{"$f":"'62'!$E$27","v":17},{"$f":"'62'!$I$27","v":"4 Right"},{"$f":"'62'!$Q$19","v":"1 Left"},{"$f":"'62'!$Z$34","v":"6 Left"},{"$f":"'62'!$AI$36","v":"7 Left"},null,"1 Left","3 Right","2 Left","1 Left"]
[{"$f":"'62'!$E$30","v":18},{"$f":"'62'!$I$30","v":"5 Right"},{"$f":"'62'!$R$22","v":"2 Right"},{"$f":"'62'!$AA$34","v":"6 Right"},{"$f":"'62'!$AI$27","v":"4 Left"},null,"1 Right","3 Left","2 Right","1 Right"]
[{"$f":"'62'!$B$33","v":19},{"$f":"'62'!$H$33","v":"6 Left"},{"$f":"'62'!$Q$22","v":"2 Left"},{"$f":"'62'!$Z$25","v":"3 Left"},{"$f":"'62'!$AJ$27","v":"4 Right"},null,"2 Left","1 Left","2 Left","3 Left"]
[{"$f":"'62'!$E$33","v":20},{"$f":"'62'!$I$33","v":"6 Right"},{"$f":"'62'!$R$19","v":"1 Right"},{"$f":"'62'!$AA$37","v":"7 Right"},{"$f":"'62'!$AJ$24","v":"3 Right"},null,"2 Right","1 Right","2 Right","3 Right"]
[{"$f":"'62'!$B$36","v":21},{"$f":"'62'!$H$36","v":"7 Left"},{"$f":"'62'!$Q$20","v":"1 Left"},{"$f":"'62'!$AA$25","v":"3 Right"},{"$f":"'62'!$AJ$33","v":"6 Right"},null,"3 Right","2 Left","1 Right","2 Right"]
[{"$f":"'62'!$E$36","v":22},{"$f":"'62'!$I$36","v":"7 Right"},{"$f":"'62'!$R$23","v":"2 Right"},{"$f":"'62'!$Z$37","v":"7 Left"},{"$f":"'62'!$AJ$30","v":"5 Right"},null,"1 Left","2 Right","1 Right","2 Left"]
[{"$f":"'62'!$B$25","v":23},{"$f":"'62'!$H$25","v":"3 Left"},{"$f":"'62'!$Q$23","v":"2 Left"},{"$f":"'62'!$Z$28","v":"4 Left"},{"$f":"'62'!$AI$30","v":"5 Left"},null,"1 Right","3 Right","1 Right","3 Left"]
[{"$f":"'62'!$E$25","v":24},{"$f":"'62'!$I$25","v":"3 Right"},{"$f":"'62'!$R$20","v":"1 Right"},{"$f":"'62'!$AA$28","v":"4 Right"},{"$f":"'62'!$AJ$36","v":"7 Right"},null,"3 Right","1 Left","3 Right","1 Right"]
[{"$f":"'62'!$B$28","v":25},{"$f":"'62'!$H$28","v":"4 Left"},{"$f":"'62'!$R$36","v":"7 Right"},{"$f":"'62'!$Z$21","v":"2 Left"},{"$f":"'62'!$AI$33","v":"6 Left"},null,"3 Left","1 Right","3 Left","1 Right"]
[{"$f":"'62'!$B$31","v":26},{"$f":"'62'!$H$31","v":"5 Left"},{"$f":"'62'!$Q$27","v":"4 Left"},{"$f":"'62'!$Z$18","v":"1 Left"},{"$f":"'62'!$AI$24","v":"3 Left"},null,0,0,0,0]
[{"$f":"'62'!$E$28","v":27},{"$f":"'62'!$I$28","v":"4 Right"},{"$f":"'62'!$R$24","v":"3 Right"},{"$f":"'62'!$AA$18","v":"1 Right"},{"$f":"'62'!$AI$34","v":"6 Left"},null,"2 Left","3 Left","2 Right","4 Left"]
[{"$f":"'62'!$E$31","v":28},{"$f":"'62'!$I$31","v":"5 Right"},{"$f":"'62'!$R$27","v":"4 Right"},{"$f":"'62'!$AA$21","v":"2 Right"},{"$f":"'62'!$AI$25","v":"3 Left"},null,"2 Left","4 Left","2 Left","3 Left"]
[{"$f":"'62'!$B$34","v":29},{"$f":"'62'!$H$34","v":"6 Left"},{"$f":"'62'!$Q$30","v":"5 Left"},{"$f":"'62'!$Z$22","v":"2 Left"},{"$f":"'62'!$AI$37","v":"7 Left"},null,"2 Right","3 Left","2 Left","4 Right"]
[{"$f":"'62'!$E$34","v":30},{"$f":"'62'!$I$34","v":"6 Right"},{"$f":"'62'!$Q$36","v":"7 Left"},{"$f":"'62'!$Z$19","v":"1 Left"},{"$f":"'62'!$AI$28","v":"4 Left"},null,"2 Right","4 Left","3 Right","2 Right"]
[{"$f":"'62'!$B$37","v":31},{"$f":"'62'!$H$37","v":"7 Left"},{"$f":"'62'!$R$30","v":"5 Right"},{"$f":"'62'!$AA$19","v":"1 Right"},{"$f":"'62'!$AJ$28","v":"4 Right"},null,"3 Left","2 Left","4 Right","2 Right"]
[{"$f":"'62'!$E$37","v":32},{"$f":"'62'!$I$37","v":"7 Right"},{"$f":"'62'!$R$33","v":"6 Right"},{"$f":"'62'!$AA$22","v":"2 Right"},{"$f":"'62'!$AJ$25","v":"3 Right"},null,"3 Left","4 Right","3 Left","2 Left"]
[{"$f":"'62'!$B$39","v":33},{"$f":"'62'!$H$39","v":"8 Left"},{"$f":"'62'!$Q$42","v":"9 Left"},{"$f":"'62'!$Z$48","v":"11 Left"},{"$f":"'62'!$AI$54","v":"13 Left"},null,"3 Right","2 Left","3 Left","4 Left"]
[{"$f":"'62'!$E$39","v":34},{"$f":"'62'!$I$39","v":"8 Right"},{"$f":"'62'!$Q$45","v":"10 Left"},{"$f":"'62'!$Z$42","v":"9 Left"},{"$f":"'62'!$AJ$57","v":"14 Right"},null,"3 Right","4 Right","2 Right","3 Right"]
[{"$f":"'62'!$B$42","v":35},{"$f":"'62'!$H$42","v":"9 Left"},{"$f":"'62'!$Q$48","v":"11 Left"},{"$f":"'62'!$Z$39","v":"8 Left"},{"$f":"'62'!$AJ$45","v":"10 Right"},null,"4 Left","2 Right","3 Right","4 Right"]
[{"$f":"'62'!$E$42","v":36},{"$f":"'62'!$I$42","v":"9 Right"},{"$f":"'62'!$Q$51","v":"12 Left"},{"$f":"'62'!$Z$57","v":"14 Left"},{"$f":"'62'!$AI$39","v":"8 Left"},null,"4 Left","3 Right","4 Left","2 Left"]
[{"$f":"'62'!$B$45","v":37},{"$f":"'62'!$H$45","v":"10 Left"},{"$f":"'62'!$Q$39","v":"8 Left"},{"$f":"'62'!$Z$51","v":"12 Left"},{"$f":"'62'!$AJ$54","v":"13 Right"},null,"4 Right","2 Right","4 Left","3 Left"]
[{"$f":"'62'!$E$45","v":38},{"$f":"'62'!$I$45","v":"10 Right"},{"$f":"'62'!$Q$54","v":"13 Left"},{"$f":"'62'!$AA$57","v":"14 Right"},{"$f":"'62'!$AJ$51","v":"12 Right"},null,"4 Right","3 Right","4 Right","3 Right"]
[{"$f":"'62'!$B$48","v":39},{"$f":"'62'!$H$48","v":"11 Left"},{"$f":"'62'!$R$39","v":"8 Right"},{"$f":"'62'!$Z$45","v":"10 Left"},{"$f":"'62'!$AI$57","v":"14 Left"},null,0,0,0,0]
[{"$f":"'62'!$E$48","v":40},{"$f":"'62'!$I$48","v":"11 Right"},{"$f":"'62'!$Q$41","v":"8 Left"},{"$f":"'62'!$AA$51","v":"12 Right"},{"$f":"'62'!$AI$45","v":"10 Left"},null,0,0,0,0]
[{"$f":"'62'!$B$51","v":41},{"$f":"'62'!$H$51","v":"12 Left"},{"$f":"'62'!$Q$57","v":"14 Left"},{"$f":"'62'!$AA$54","v":"13 Right"},{"$f":"'62'!$AJ$41","v":"8 Right"},null,0,0,0,0]
[{"$f":"'62'!$E$51","v":42},{"$f":"'62'!$I$51","v":"12 Right"},{"$f":"'62'!$R$54","v":"13 Right"},{"$f":"'62'!$AA$48","v":"11 Right"},{"$f":"'62'!$AJ$39","v":"8 Right"},null,0,0,0,0]
[{"$f":"'62'!$B$54","v":43},{"$f":"'62'!$H$54","v":"13 Left"},{"$f":"'62'!$R$57","v":"14 Right"},{"$f":"'62'!$AA$39","v":"8 Right"},{"$f":"'62'!$AJ$42","v":"9 Right"},null,0,0,0,0]
[{"$f":"'62'!$E$54","v":44},{"$f":"'62'!$I$54","v":"13 Right"},{"$f":"'62'!$R$48","v":"11 Right"},{"$f":"'62'!$Z$41","v":"8 Left"},{"$f":"'62'!$AI$51","v":"12 Left"},null,0,0,0,0]
[{"$f":"'62'!$B$57","v":45},{"$f":"'62'!$H$57","v":"14 Left"},{"$f":"'62'!$R$42","v":"9 Right"},{"$f":"'62'!$Z$54","v":"13 Left"},{"$f":"'62'!$AJ$48","v":"11 Right"},null,0,0,0,0]
[{"$f":"'62'!$E$57","v":46},{"$f":"'62'!$I$57","v":"14 Right"},{"$f":"'62'!$R$45","v":"10 Right"},{"$f":"'62'!$AA$42","v":"9 Right"},{"$f":"'62'!$AI$48","v":"11 Left"},null,0,0,0,0]
[{"$f":"'62'!$B$41","v":47},{"$f":"'62'!$H$41","v":"8 Left"},{"$f":"'62'!$R$51","v":"12 Right"},{"$f":"'62'!$AA$45","v":"10 Right"},{"$f":"'62'!$AI$42","v":"9 Left"},null,0,0,0,0]
[{"$f":"'62'!$B$40","v":48},{"$f":"'62'!$H$40","v":"8 Left"},{"$f":"'62'!$Q$49","v":"11 Left"},{"$f":"'62'!$Z$52","v":"12 Left"},{"$f":"'62'!$AI$46","v":"10 Left"},null,0,0,0,0]
[{"$f":"'62'!$E$40","v":49},{"$f":"'62'!$I$40","v":"8 Right"},{"$f":"'62'!$Q$52","v":"12 Left"},{"$f":"'62'!$AA$58","v":"14 Right"},{"$f":"'62'!$AI$55","v":"13 Left"},null,0,0,0,0]
[{"$f":"'62'!$B$43","v":50},{"$f":"'62'!$H$43","v":"9 Left"},{"$f":"'62'!$Q$40","v":"8 Left"},{"$f":"'62'!$Z$46","v":"10 Left"},{"$f":"'62'!$AJ$58","v":"14 Right"},null,0,0,0,0]
[{"$f":"'62'!$E$43","v":51},{"$f":"'62'!$I$43","v":"9 Right"},{"$f":"'62'!$Q$55","v":"13 Left"},{"$f":"'62'!$AA$52","v":"12 Right"},{"$f":"'62'!$AJ$46","v":"10 Right"},null,0,0,0,0]
[{"$f":"'62'!$B$46","v":52},{"$f":"'62'!$H$46","v":"10 Left"},{"$f":"'62'!$R$40","v":"8 Right"},{"$f":"'62'!$AA$55","v":"13 Right"},{"$f":"'62'!$AI$52","v":"12 Left"},null,0,0,0,0]
[{"$f":"'62'!$E$46","v":53},{"$f":"'62'!$I$46","v":"10 Right"},{"$f":"'62'!$R$41","v":"8 Right"},{"$f":"'62'!$AA$49","v":"11 Right"},{"$f":"'62'!$AJ$55","v":"13 Right"},null,0,0,0,0]
[{"$f":"'62'!$B$49","v":54},{"$f":"'62'!$H$49","v":"11 Left"},{"$f":"'62'!$Q$58","v":"14 Left"},{"$f":"'62'!$AA$40","v":"8 Right"},{"$f":"'62'!$AJ$52","v":"12 Right"},null,0,0,0,0]
[{"$f":"'62'!$E$49","v":55},{"$f":"'62'!$I$49","v":"11 Right"},{"$f":"'62'!$R$55","v":"13 Right"},{"$f":"'62'!$AA$41","v":"8 Right"},{"$f":"'62'!$AI$58","v":"14 Left"},null,0,0,0,0]
[{"$f":"'62'!$B$52","v":56},{"$f":"'62'!$H$52","v":"12 Left"},{"$f":"'62'!$R$58","v":"14 Right"},{"$f":"'62'!$Z$55","v":"13 Left"},{"$f":"'62'!$AI$43","v":"9 Left"},null,0,0,0,0]
[{"$f":"'62'!$E$52","v":57},{"$f":"'62'!$I$52","v":"12 Right"},{"$f":"'62'!$R$49","v":"11 Right"},{"$f":"'62'!$AA$43","v":"9 Right"},{"$f":"'62'!$AI$41","v":"8 Left"},null,0,0,0,0]
[{"$f":"'62'!$B$55","v":58},{"$f":"'62'!$H$55","v":"13 Left"},{"$f":"'62'!$R$43","v":"9 Right"},{"$f":"'62'!$AA$46","v":"10 Right"},{"$f":"'62'!$AJ$40","v":"8 Right"},null,0,0,0,0]
[{"$f":"'62'!$E$55","v":59},{"$f":"'62'!$I$55","v":"13 Right"},{"$f":"'62'!$R$46","v":"10 Right"},{"$f":"'62'!$Z$49","v":"11 Left"},{"$f":"'62'!$AJ$43","v":"9 Right"},null,0,0,0,0]
[{"$f":"'62'!$B$58","v":60},{"$f":"'62'!$H$58","v":"14 Left"},{"$f":"'62'!$R$52","v":"12 Right"},{"$f":"'62'!$Z$43","v":"9 Left"},{"$f":"'62'!$AI$40","v":"8 Left"},null,0,0,0,0]
[{"$f":"'62'!$E$58","v":61},{"$f":"'62'!$I$58","v":"14 Right"},{"$f":"'62'!$Q$46","v":"10 Left"},{"$f":"'62'!$Z$40","v":"8 Left"},{"$f":"'62'!$AJ$49","v":"11 Right"},null,0,0,0,0]
[{"$f":"'62'!$E$41","v":62},{"$f":"'62'!$I$41","v":"8 Right"},{"$f":"'62'!$Q$43","v":"9 Left"},{"$f":"'62'!$Z$58","v":"14 Left"},{"$f":"'62'!$AI$49","v":"11 Left"},null,0,0,0,0]
[{"$nulls":6},0,0,0,0]
[{"$f":"'60'!$B$18","v":1},{"$f":"'60'!$H$18","v":"1 Left"},{"$f":"'60'!$Q$21","v":"2 Left"},{"$f":"'60'!$Z$27","v":"4 Left"},{"$f":"'60'!$AI$33","v":"6 Left"},null,0,0,0,0,null,60]
[{"$f":"'60'!$E$18","v":2},{"$f":"'60'!$I$18","v":"1 Right"},{"$f":"'60'!$Q$24","v":"3 Left"},{"$f":"'60'!$Z$21","v":"2 Left"},{"$f":"'60'!$AJ$36","v":"7 Right"},null,0,0,0,0]
[{"$f":"'60'!$B$21","v":3},{"$f":"'60'!$H$21","v":"2 Left"},{"$f":"'60'!$Q$27","v":"4 Left"},{"$f":"'60'!$Z$18","v":"1 Left"},{"$f":"'60'!$AJ$24","v":"3 Right"},null,0,0,0,0]
[{"$f":"'60'!$E$21","v":4},{"$f":"'60'!$I$21","v":"2 Right"},{"$f":"'60'!$Q$30","v":"5 Left"},{"$f":"'60'!$Z$36","v":"7 Left"},{"$f":"'60'!$AI$18","v":"1 Left"},null,0,0,0,0]
[{"$f":"'60'!$B$24","v":5},{"$f":"'60'!$H$24","v":"3 Left"},{"$f":"'60'!$Q$18","v":"1 Left"},{"$f":"'60'!$Z$30","v":"5 Left"},{"$f":"'60'!$AJ$33","v":"6 Right"},null,0,0,0,0]
[{"$f":"'60'!$E$24","v":6},{"$f":"'60'!$I$24","v":"3 Right"},{"$f":"'60'!$Q$33","v":"6 Left"},{"$f":"'60'!$AA$36","v":"7 Right"},{"$f":"'60'!$AJ$30","v":"5 Right"},null,0,0,0,0]
[{"$f":"'60'!$B$27","v":7},{"$f":"'60'!$H$27","v":"4 Left"},{"$f":"'60'!$R$18","v":"1 Right"},{"$f":"'60'!$Z$24","v":"3 Left"},{"$f":"'60'!$AI$36","v":"7 Left"},null,0,0,0,0]
[{"$f":"'60'!$E$27","v":8},{"$f":"'60'!$I$27","v":"4 Right"},{"$f":"'60'!$Q$20","v":"1 Left"},{"$f":"'60'!$AA$30","v":"5 Right"},{"$f":"'60'!$AI$24","v":"3 Left"},null,0,0,0,0]
[{"$f":"'60'!$B$30","v":9},{"$f":"'60'!$H$30","v":"5 Left"},{"$f":"'60'!$Q$36","v":"7 Left"},{"$f":"'60'!$AA$33","v":"6 Right"},{"$f":"'60'!$AJ$20","v":"1 Right"},null,{"$f":"B1847","v":0},{"$f":"C1847","v":0},{"$f":"D1847","v":0},{"$f":"E1847","v":0}]
[{"$f":"'60'!$E$30","v":10},{"$f":"'60'!$I$30","v":"5 Right"},{"$f":"'60'!$R$33","v":"6 Right"},{"$f":"'60'!$AA$27","v":"4 Right"},{"$f":"'60'!$AJ$18","v":"1 Right"},null,0,0,0,0]
[{"$f":"'60'!$B$33","v":11},{"$f":"'60'!$H$33","v":"6 Left"},{"$f":"'60'!$R$36","v":"7 Right"},{"$f":"'60'!$AA$18","v":"1 Right"},{"$f":"'60'!$AJ$21","v":"2 Right"},null,0,0,0,0]
[{"$f":"'60'!$E$33","v":12},{"$f":"'60'!$I$33","v":"6 Right"},{"$f":"'60'!$R$27","v":"4 Right"},{"$f":"'60'!$Z$20","v":"1 Left"},{"$f":"'60'!$AI$30","v":"5 Left"},null,0,0,0,0]
[{"$f":"'60'!$B$36","v":13},{"$f":"'60'!$H$36","v":"7 Left"},{"$f":"'60'!$R$21","v":"2 Right"},{"$f":"'60'!$Z$33","v":"6 Left"},{"$f":"'60'!$AJ$27","v":"4 Right"},null,0,0,0,0]
[{"$f":"'60'!$E$36","v":14},{"$f":"'60'!$I$36","v":"7 Right"},{"$f":"'60'!$R$24","v":"3 Right"},{"$f":"'60'!$AA$21","v":"2 Right"},{"$f":"'60'!$AI$27","v":"4 Left"},null,0,0,0,0]
[{"$f":"'60'!$B$20","v":15},{"$f":"'60'!$H$20","v":"1 Left"},{"$f":"'60'!$R$30","v":"5 Right"},{"$f":"'60'!$AA$24","v":"3 Right"},{"$f":"'60'!$AI$21","v":"2 Left"},null,0,0,0,0]
[{"$f":"'60'!$B$19","v":16},{"$f":"'60'!$H$19","v":"1 Left"},{"$f":"'60'!$Q$28","v":"4 Left"},{"$f":"'60'!$Z$31","v":"5 Left"},{"$f":"'60'!$AI$25","v":"3 Left"},null,0,0,0,0]
[{"$f":"'60'!$E$19","v":17},{"$f":"'60'!$I$19","v":"1 Right"},{"$f":"'60'!$Q$31","v":"5 Left"},{"$f":"'60'!$AA$37","v":"7 Right"},{"$f":"'60'!$AI$34","v":"6 Left"},null,0,0,0,0]
[{"$f":"'60'!$B$22","v":18},{"$f":"'60'!$H$22","v":"2 Left"},{"$f":"'60'!$Q$19","v":"1 Left"},{"$f":"'60'!$Z$25","v":"3 Left"},{"$f":"'60'!$AJ$37","v":"7 Right"},null,0,0,0,0]
[{"$f":"'60'!$E$22","v":19},{"$f":"'60'!$I$22","v":"2 Right"},{"$f":"'60'!$Q$34","v":"6 Left"},{"$f":"'60'!$AA$31","v":"5 Right"},{"$f":"'60'!$AJ$25","v":"3 Right"},null,0,0,0,0]
[{"$f":"'60'!$B$25","v":20},{"$f":"'60'!$H$25","v":"3 Left"},{"$f":"'60'!$R$19","v":"1 Right"},{"$f":"'60'!$AA$34","v":"6 Right"},{"$f":"'60'!$AI$31","v":"5 Left"},null,0,0,0,0]
[{"$f":"'60'!$E$25","v":21},{"$f":"'60'!$I$25","v":"3 Right"},{"$f":"'60'!$R$20","v":"1 Right"},{"$f":"'60'!$AA$28","v":"4 Right"},{"$f":"'60'!$AJ$34","v":"6 Right"},null,0,0,0,0]
[{"$f":"'60'!$B$28","v":22},{"$f":"'60'!$H$28","v":"4 Left"},{"$f":"'60'!$Q$37","v":"7 Left"},{"$f":"'60'!$AA$19","v":"1 Right"},{"$f":"'60'!$AJ$31","v":"5 Right"},null,0,0,0,0]
[{"$f":"'60'!$E$28","v":23},{"$f":"'60'!$I$28","v":"4 Right"},{"$f":"'60'!$R$34","v":"6 Right"},{"$f":"'60'!$AA$20","v":"1 Right"},{"$f":"'60'!$AI$37","v":"7 Left"},null,0,0,0,0]
[{"$f":"'60'!$B$31","v":24},{"$f":"'60'!$H$31","v":"5 Left"},{"$f":"'60'!$R$37","v":"7 Right"},{"$f":"'60'!$Z$34","v":"6 Left"},{"$f":"'60'!$AI$22","v":"2 Left"},null,0,0,0,0]
[{"$f":"'60'!$E$31","v":25},{"$f":"'60'!$I$31","v":"5 Right"},{"$f":"'60'!$R$28","v":"4 Right"},{"$f":"'60'!$AA$22","v":"2 Right"},{"$f":"'60'!$AI$20","v":"1 Left"},null,0,0,0,0]
[{"$f":"'60'!$B$34","v":26},{"$f":"'60'!$H$34","v":"6 Left"},{"$f":"'60'!$R$22","v":"2 Right"},{"$f":"'60'!$AA$25","v":"3 Right"},{"$f":"'60'!$AJ$19","v":"1 Right"},null,0,0,0,0]
[{"$f":"'60'!$E$34","v":27},{"$f":"'60'!$I$34","v":"6 Right"},{"$f":"'60'!$R$25","v":"3 Right"},{"$f":"'60'!$Z$28","v":"4 Left"},{"$f":"'60'!$AJ$22","v":"2 Right"},null,0,0,0,0]
[{"$f":"'60'!$B$37","v":28},{"$f":"'60'!$H$37","v":"7 Left"},{"$f":"'60'!$R$31","v":"5 Right"},{"$f":"'60'!$Z$22","v":"2 Left"},{"$f":"'60'!$AI$19","v":"1 Left"},null,0,0,0,0]
[{"$f":"'60'!$E$37","v":29},{"$f":"'60'!$I$37","v":"7 Right"},{"$f":"'60'!$Q$25","v":"3 Left"},{"$f":"'60'!$Z$19","v":"1 Left"},{"$f":"'60'!$AJ$28","v":"4 Right"},null,0,0,0,0]
[{"$f":"'60'!$E$20","v":30},{"$f":"'60'!$I$20","v":"1 Right"},{"$f":"'60'!$Q$22","v":"2 Left"},{"$f":"'60'!$Z$37","v":"7 Left"},{"$f":"'60'!$AI$28","v":"4 Left"},null,0,0,0,0]
[{"$f":"'60'!$B$39","v":31},{"$f":"'60'!$H$39","v":"8 Left"},{"$f":"'60'!$Q$42","v":"9 Left"},{"$f":"'60'!$Z$48","v":"11 Left"},{"$f":"'60'!$AI$54","v":"13 Left"},null,0,0,0,0]
[{"$f":"'60'!$E$39","v":32},{"$f":"'60'!$I$39","v":"8 Right"},{"$f":"'60'!$Q$45","v":"10 Left"},{"$f":"'60'!$Z$42","v":"9 Left"},{"$f":"'60'!$AJ$57","v":"14 Right"},null,0,0,0,0]
[{"$f":"'60'!$B$42","v":33},{"$f":"'60'!$H$42","v":"9 Left"},{"$f":"'60'!$Q$48","v":"11 Left"},{"$f":"'60'!$Z$39","v":"8 Left"},{"$f":"'60'!$AJ$45","v":"10 Right"},null,0,0,0,0]
[{"$f":"'60'!$E$42","v":34},{"$f":"'60'!$I$42","v":"9 Right"},{"$f":"'60'!$Q$51","v":"12 Left"},{"$f":"'60'!$Z$57","v":"14 Left"},{"$f":"'60'!$AI$39","v":"8 Left"},null,0,0,0,0]
[{"$f":"'60'!$B$45","v":35},{"$f":"'60'!$H$45","v":"10 Left"},{"$f":"'60'!$Q$39","v":"8 Left"},{"$f":"'60'!$Z$51","v":"12 Left"},{"$f":"'60'!$AJ$54","v":"13 Right"},null,0,0,0,0]
[{"$f":"'60'!$E$45","v":36},{"$f":"'60'!$I$45","v":"10 Right"},{"$f":"'60'!$Q$54","v":"13 Left"},{"$f":"'60'!$AA$57","v":"14 Right"},{"$f":"'60'!$AJ$51","v":"12 Right"},null,0,0,0,0]
[{"$f":"'60'!$B$48","v":37},{"$f":"'60'!$H$48","v":"11 Left"},{"$f":"'60'!$R$39","v":"8 Right"},{"$f":"'60'!$Z$45","v":"10 Left"},{"$f":"'60'!$AI$57","v":"14 Left"},null,0,0,0,0]
[{"$f":"'60'!$E$48","v":38},{"$f":"'60'!$I$48","v":"11 Right"},{"$f":"'60'!$Q$41","v":"8 Left"},{"$f":"'60'!$AA$51","v":"12 Right"},{"$f":"'60'!$AI$45","v":"10 Left"},null,0,0,0,0]
[{"$f":"'60'!$B$51","v":39},{"$f":"'60'!$H$51","v":"12 Left"},{"$f":"'60'!$Q$57","v":"14 Left"},{"$f":"'60'!$AA$54","v":"13 Right"},{"$f":"'60'!$AJ$41","v":"8 Right"},null,0,0,0,0]
[{"$f":"'60'!$E$51","v":40},{"$f":"'60'!$I$51","v":"12 Right"},{"$f":"'60'!$R$54","v":"13 Right"},{"$f":"'60'!$AA$48","v":"11 Right"},{"$f":"'60'!$AJ$39","v":"8 Right"},null,0,0,0,0]
[{"$f":"'60'!$B$54","v":41},{"$f":"'60'!$H$54","v":"13 Left"},{"$f":"'60'!$R$57","v":"14 Right"},{"$f":"'60'!$AA$39","v":"8 Right"},{"$f":"'60'!$AJ$42","v":"9 Right"},null,0,0,0,0]
[{"$f":"'60'!$E$54","v":42},{"$f":"'60'!$I$54","v":"13 Right"},{"$f":"'60'!$R$48","v":"11 Right"},{"$f":"'60'!$Z$41","v":"8 Left"},{"$f":"'60'!$AI$51","v":"12 Left"},null,0,0,0,0]
[{"$f":"'60'!$B$57","v":43},{"$f":"'60'!$H$57","v":"14 Left"},{"$f":"'60'!$R$42","v":"9 Right"},{"$f":"'60'!$Z$54","v":"13 Left"},{"$f":"'60'!$AJ$48","v":"11 Right"},null,0,0,0,0]
[{"$f":"'60'!$E$57","v":44},{"$f":"'60'!$I$57","v":"14 Right"},{"$f":"'60'!$R$45","v":"10 Right"},{"$f":"'60'!$AA$42","v":"9 Right"},{"$f":"'60'!$AI$48","v":"11 Left"},null,0,0,0,0]
[{"$f":"'60'!$B$41","v":45},{"$f":"'60'!$H$41","v":"8 Left"},{"$f":"'60'!$R$51","v":"12 Right"},{"$f":"'60'!$AA$45","v":"10 Right"},{"$f":"'60'!$AI$42","v":"9 Left"},null,0,0,0,0]
[{"$f":"'60'!$B$40","v":46},{"$f":"'60'!$H$40","v":"8 Left"},{"$f":"'60'!$Q$49","v":"11 Left"},{"$f":"'60'!$Z$52","v":"12 Left"},{"$f":"'60'!$AI$46","v":"10 Left"},null,0,0,0,0]
[{"$f":"'60'!$E$40","v":47},{"$f":"'60'!$I$40","v":"8 Right"},{"$f":"'60'!$Q$52","v":"12 Left"},{"$f":"'60'!$AA$58","v":"14 Right"},{"$f":"'60'!$AI$55","v":"13 Left"},null,0,0,0,0]
[{"$f":"'60'!$B$43","v":48},{"$f":"'60'!$H$43","v":"9 Left"},{"$f":"'60'!$Q$40","v":"8 Left"},{"$f":"'60'!$Z$46","v":"10 Left"},{"$f":"'60'!$AJ$58","v":"14 Right"},null,0,0,0,0]
[{"$f":"'60'!$E$43","v":49},{"$f":"'60'!$I$43","v":"9 Right"},{"$f":"'60'!$Q$55","v":"13 Left"},{"$f":"'60'!$AA$52","v":"12 Right"},{"$f":"'60'!$AJ$46","v":"10 Right"},null,0,0,0,0]
[{"$f":"'60'!$B$46","v":50},{"$f":"'60'!$H$46","v":"10 Left"},{"$f":"'60'!$R$40","v":"8 Right"},{"$f":"'60'!$AA$55","v":"13 Right"},{"$f":"'60'!$AI$52","v":"12 Left"},null,0,0,0,0]
[{"$f":"'60'!$E$46","v":51},{"$f":"'60'!$I$46","v":"10 Right"},{"$f":"'60'!$R$41","v":"8 Right"},{"$f":"'60'!$AA$49","v":"11 Right"},{"$f":"'60'!$AJ$55","v":"13 Right"},null,0,0,0,0]
[{"$f":"'60'!$B$49","v":52},{"$f":"'60'!$H$49","v":"11 Left"},{"$f":"'60'!$Q$58","v":"14 Left"},{"$f":"'60'!$AA$40","v":"8 Right"},{"$f":"'60'!$AJ$52","v":"12 Right"},null,0,0,0,0]
[{"$f":"'60'!$E$49","v":53},{"$f":"'60'!$I$49","v":"11 Right"},{"$f":"'60'!$R$55","v":"13 Right"},{"$f":"'60'!$AA$41","v":"8 Right"},{"$f":"'60'!$AI$58","v":"14 Left"},null,0,0,0,0]
[{"$f":"'60'!$B$52","v":54},{"$f":"'60'!$H$52","v":"12 Left"},{"$f":"'60'!$R$58","v":"14 Right"},{"$f":"'60'!$Z$55","v":"13 Left"},{"$f":"'60'!$AI$43","v":"9 Left"},null,0,0,0,0]
[{"$f":"'60'!$E$52","v":55},{"$f":"'60'!$I$52","v":"12 Right"},{"$f":"'60'!$R$49","v":"11 Right"},{"$f":"'60'!$AA$43","v":"9 Right"},{"$f":"'60'!$AI$41","v":"8 Left"},null,0,0,0,0]
[{"$f":"'60'!$B$55","v":56},{"$f":"'60'!$H$55","v":"13 Left"},{"$f":"'60'!$R$43","v":"9 Right"},{"$f":"'60'!$AA$46","v":"10 Right"},{"$f":"'60'!$AJ$40","v":"8 Right"},null,0,0,0,0]
[{"$f":"'60'!$E$55","v":57},{"$f":"'60'!$I$55","v":"13 Right"},{"$f":"'60'!$R$46","v":"10 Right"},{"$f":"'60'!$Z$49","v":"11 Left"},{"$f":"'60'!$AJ$43","v":"9 Right"},null,0,0,0,0]
[{"$f":"'60'!$B$58","v":58},{"$f":"'60'!$H$58","v":"14 Left"},{"$f":"'60'!$R$52","v":"12 Right"},{"$f":"'60'!$Z$43","v":"9 Left"},{"$f":"'60'!$AI$40","v":"8 Left"},null,0,0,0,0]
[{"$f":"'60'!$E$58","v":59},{"$f":"'60'!$I$58","v":"14 Right"},{"$f":"'60'!$Q$46","v":"10 Left"},{"$f":"'60'!$Z$40","v":"8 Left"},{"$f":"'60'!$AJ$49","v":"11 Right"},null,0,0,0,0]
[{"$f":"'60'!$E$41","v":60},{"$f":"'60'!$I$41","v":"8 Right"},{"$f":"'60'!$Q$43","v":"9 Left"},{"$f":"'60'!$Z$58","v":"14 Left"},{"$f":"'60'!$AI$49","v":"11 Left"},null,0,0,0,0]
[{"$nulls":6},0,0,0,0]
[{"$f":"'58'!$B$18","v":1},{"$f":"'58'!$H$18","v":"1 Left"},{"$f":"'58'!$Q$21","v":"2 Left"},{"$f":"'58'!$Z$27","v":"4 Left"},{"$f":"'58'!$AI$33","v":"6 Left"},null,0,0,0,0,null,58]
[{"$f":"'58'!$E$18","v":2},{"$f":"'58'!$I$18","v":"1 Right"},{"$f":"'58'!$Q$24","v":"3 Left"},{"$f":"'58'!$Z$21","v":"2 Left"},{"$f":"'58'!$AJ$36","v":"7 Right"},null,0,0,0,0]
[{"$f":"'58'!$B$21","v":3},{"$f":"'58'!$H$21","v":"2 Left"},{"$f":"'58'!$Q$27","v":"4 Left"},{"$f":"'58'!$Z$18","v":"1 Left"},{"$f":"'58'!$AJ$24","v":"3 Right"},null,0,0,0,0]
[{"$f":"'58'!$E$21","v":4},{"$f":"'58'!$I$21","v":"2 Right"},{"$f":"'58'!$Q$30","v":"5 Left"},{"$f":"'58'!$Z$36","v":"7 Left"},{"$f":"'58'!$AI$18","v":"1 Left"},null,0,0,0,0]
[{"$f":"'58'!$B$24","v":5},{"$f":"'58'!$H$24","v":"3 Left"},{"$f":"'58'!$Q$18","v":"1 Left"},{"$f":"'58'!$Z$30","v":"5 Left"},{"$f":"'58'!$AJ$33","v":"6 Right"},null,0,0,0,0]
[{"$f":"'58'!$E$24","v":6},{"$f":"'58'!$I$24","v":"3 Right"},{"$f":"'58'!$Q$33","v":"6 Left"},{"$f":"'58'!$AA$36","v":"7 Right"},{"$f":"'58'!$AJ$30","v":"5 Right"},null,0,0,0,0]
[{"$f":"'58'!$B$27","v":7},{"$f":"'58'!$H$27","v":"4 Left"},{"$f":"'58'!$R$18","v":"1 Right"},{"$f":"'58'!$Z$24","v":"3 Left"},{"$f":"'58'!$AI$36","v":"7 Left"},null,0,0,0,0]
[{"$f":"'58'!$E$27","v":8},{"$f":"'58'!$I$27","v":"4 Right"},{"$f":"'58'!$Q$20","v":"1 Left"},{"$f":"'58'!$AA$30","v":"5 Right"},{"$f":"'58'!$AI$24","v":"3 Left"},null,0,0,0,0]
[{"$f":"'58'!$B$30","v":9},{"$f":"'58'!$H$30","v":"5 Left"},{"$f":"'58'!$Q$36","v":"7 Left"},{"$f":"'58'!$AA$33","v":"6 Right"},{"$f":"'58'!$AJ$20","v":"1 Right"},null,0,0,0,0]
[{"$f":"'58'!$E$30","v":10},{"$f":"'58'!$I$30","v":"5 Right"},{"$f":"'58'!$R$33","v":"6 Right"},{"$f":"'58'!$AA$27","v":"4 Right"},{"$f":"'58'!$AJ$18","v":"1 Right"},null,0,0,0,0]
[{"$f":"'58'!$B$33","v":11},{"$f":"'58'!$H$33","v":"6 Left"},{"$f":"'58'!$R$36","v":"7 Right"},{"$f":"'58'!$AA$18","v":"1 Right"},{"$f":"'58'!$AJ$21","v":"2 Right"},null,0,0,0,0]
[{"$f":"'58'!$E$33","v":12},{"$f":"'58'!$I$33","v":"6 Right"},{"$f":"'58'!$R$27","v":"4 Right"},{"$f":"'58'!$Z$20","v":"1 Left"},{"$f":"'58'!$AI$30","v":"5 Left"},null,{"$f":"B1911","v":0},{"$f":"C1911","v":0},{"$f":"D1911","v":0},{"$f":"E1911","v":0}]
[{"$f":"'58'!$B$36","v":13},{"$f":"'58'!$H$36","v":"7 Left"},{"$f":"'58'!$R$21","v":"2 Right"},{"$f":"'58'!$Z$33","v":"6 Left"},{"$f":"'58'!$AJ$27","v":"4 Right"},null,0,0,0,0]
[{"$f":"'58'!$E$36","v":14},{"$f":"'58'!$I$36","v":"7 Right"},{"$f":"'58'!$R$24","v":"3 Right"},{"$f":"'58'!$AA$21","v":"2 Right"},{"$f":"'58'!$AI$27","v":"4 Left"},null,0,0,0,0]
[{"$f":"'58'!$B$20","v":15},{"$f":"'58'!$H$20","v":"1 Left"},{"$f":"'58'!$R$30","v":"5 Right"},{"$f":"'58'!$AA$24","v":"3 Right"},{"$f":"'58'!$AI$21","v":"2 Left"},null,0,0,0,0]
[{"$f":"'58'!$B$19","v":16},{"$f":"'58'!$H$19","v":"1 Left"},{"$f":"'58'!$Q$28","v":"4 Left"},{"$f":"'58'!$Z$31","v":"5 Left"},{"$f":"'58'!$AI$25","v":"3 Left"},null,0,0,0,0]
[{"$f":"'58'!$E$19","v":17},{"$f":"'58'!$I$19","v":"1 Right"},{"$f":"'58'!$Q$31","v":"5 Left"},{"$f":"'58'!$AA$37","v":"7 Right"},{"$f":"'58'!$AI$34","v":"6 Left"},null,0,0,0,0]
[{"$f":"'58'!$B$22","v":18},{"$f":"'58'!$H$22","v":"2 Left"},{"$f":"'58'!$Q$19","v":"1 Left"},{"$f":"'58'!$Z$25","v":"3 Left"},{"$f":"'58'!$AJ$37","v":"7 Right"},null,0,0,0,0]
[{"$f":"'58'!$E$22","v":19},{"$f":"'58'!$I$22","v":"2 Right"},{"$f":"'58'!$Q$34","v":"6 Left"},{"$f":"'58'!$AA$31","v":"5 Right"},{"$f":"'58'!$AJ$25","v":"3 Right"},null,0,0,0,0]
[{"$f":"'58'!$B$25","v":20},{"$f":"'58'!$H$25","v":"3 Left"},{"$f":"'58'!$R$19","v":"1 Right"},{"$f":"'58'!$AA$34","v":"6 Right"},{"$f":"'58'!$AI$31","v":"5 Left"},null,0,0,0,0]
[{"$f":"'58'!$E$25","v":21},{"$f":"'58'!$I$25","v":"3 Right"},{"$f":"'58'!$R$20","v":"1 Right"},{"$f":"'58'!$AA$28","v":"4 Right"},{"$f":"'58'!$AJ$34","v":"6 Right"},null,0,0,0,0]
[{"$f":"'58'!$B$28","v":22},{"$f":"'58'!$H$28","v":"4 Left"},{"$f":"'58'!$Q$37","v":"7 Left"},{"$f":"'58'!$AA$19","v":"1 Right"},{"$f":"'58'!$AJ$31","v":"5 Right"},null,0,0,0,0]
[{"$f":"'58'!$E$28","v":23},{"$f":"'58'!$I$28","v":"4 Right"},{"$f":"'58'!$R$34","v":"6 Right"},{"$f":"'58'!$AA$20","v":"1 Right"},{"$f":"'58'!$AI$37","v":"7 Left"},null,0,0,0,0]
[{"$f":"'58'!$B$31","v":24},{"$f":"'58'!$H$31","v":"5 Left"},{"$f":"'58'!$R$37","v":"7 Right"},{"$f":"'58'!$Z$34","v":"6 Left"},{"$f":"'58'!$AI$22","v":"2 Left"},null,0,0,0,0]
[{"$f":"'58'!$E$31","v":25},{"$f":"'58'!$I$31","v":"5 Right"},{"$f":"'58'!$R$28","v":"4 Right"},{"$f":"'58'!$AA$22","v":"2 Right"},{"$f":"'58'!$AI$20","v":"1 Left"},null,0,0,0,0]
[{"$f":"'58'!$B$34","v":26},{"$f":"'58'!$H$34","v":"6 Left"},{"$f":"'58'!$R$22","v":"2 Right"},{"$f":"'58'!$AA$25","v":"3 Right"},{"$f":"'58'!$AJ$19","v":"1 Right"},null,0,0,0,0]
[{"$f":"'58'!$E$34","v":27},{"$f":"'58'!$I$34","v":"6 Right"},{"$f":"'58'!$R$25","v":"3 Right"},{"$f":"'58'!$Z$28","v":"4 Left"},{"$f":"'58'!$AJ$22","v":"2 Right"},null,0,0,0,0]
[{"$f":"'58'!$B$37","v":28},{"$f":"'58'!$H$37","v":"7 Left"},{"$f":"'58'!$R$31","v":"5 Right"},{"$f":"'58'!$Z$22","v":"2 Left"},{"$f":"'58'!$AI$19","v":"1 Left"},null,0,0,0,0]
[{"$f":"'58'!$E$37","v":29},{"$f":"'58'!$I$37","v":"7 Right"},{"$f":"'58'!$Q$25","v":"3 Left"},{"$f":"'58'!$Z$19","v":"1 Left"},{"$f":"'58'!$AJ$28","v":"4 Right"},null,0,0,0,0]
[{"$f":"'58'!$E$20","v":30},{"$f":"'58'!$I$20","v":"1 Right"},{"$f":"'58'!$Q$22","v":"2 Left"},{"$f":"'58'!$Z$37","v":"7 Left"},{"$f":"'58'!$AI$28","v":"4 Left"},null,0,0,0,0]
[{"$f":"'58'!$B$39","v":31},{"$f":"'58'!$H$39","v":"8 Left"},{"$f":"'58'!$Q$42","v":"9 Left"},{"$f":"'58'!$Z$45","v":"10 Left"},{"$f":"'58'!$AJ$57","v":"14 Right"},null,0,0,0,0]
[{"$f":"'58'!$E$39","v":32},{"$f":"'58'!$I$39","v":"8 Right"},{"$f":"'58'!$Q$45","v":"10 Left"},{"$f":"'58'!$Z$48","v":"11 Left"},{"$f":"'58'!$AI$57","v":"14 Left"},null,0,0,0,0]
[{"$f":"'58'!$B$42","v":33},{"$f":"'58'!$H$42","v":"9 Left"},{"$f":"'58'!$Q$48","v":"11 Left"},{"$f":"'58'!$Z$51","v":"12 Left"},{"$f":"'58'!$AI$39","v":"8 Left"},null,0,0,0,0]
[{"$f":"'58'!$E$42","v":34},{"$f":"'58'!$I$42","v":"9 Right"},{"$f":"'58'!$Q$51","v":"12 Left"},{"$f":"'58'!$Z$54","v":"13 Left"},{"$f":"'58'!$AI$45","v":"10 Left"},null,0,0,0,0]
[{"$f":"'58'!$B$45","v":35},{"$f":"'58'!$H$45","v":"10 Left"},{"$f":"'58'!$Q$54","v":"13 Left"},{"$f":"'58'!$Z$57","v":"14 Left"},{"$f":"'58'!$AI$48","v":"11 Left"},null,0,0,0,0]
[{"$f":"'58'!$E$45","v":36},{"$f":"'58'!$I$45","v":"10 Right"},{"$f":"'58'!$Q$57","v":"14 Left"},{"$f":"'58'!$Z$42","v":"9 Left"},{"$f":"'58'!$AI$51","v":"12 Left"},null,0,0,0,0]
[{"$f":"'58'!$B$48","v":37},{"$f":"'58'!$H$48","v":"11 Left"},{"$f":"'58'!$R$57","v":"14 Right"},{"$f":"'58'!$Z$39","v":"8 Left"},{"$f":"'58'!$AI$42","v":"9 Left"},null,0,0,0,0]
[{"$f":"'58'!$E$48","v":38},{"$f":"'58'!$I$48","v":"11 Right"},{"$f":"'58'!$R$54","v":"13 Right"},{"$f":"'58'!$AA$51","v":"12 Right"},{"$f":"'58'!$AJ$45","v":"10 Right"},null,0,0,0,0]
[{"$f":"'58'!$B$51","v":39},{"$f":"'58'!$H$51","v":"12 Left"},{"$f":"'58'!$Q$39","v":"8 Left"},{"$f":"'58'!$AA$54","v":"13 Right"},{"$f":"'58'!$AJ$48","v":"11 Right"},null,0,0,0,0]
[{"$f":"'58'!$E$51","v":40},{"$f":"'58'!$I$51","v":"12 Right"},{"$f":"'58'!$R$42","v":"9 Right"},{"$f":"'58'!$AA$39","v":"8 Right"},{"$f":"'58'!$AJ$54","v":"13 Right"},null,0,0,0,0]
[{"$f":"'58'!$B$54","v":41},{"$f":"'58'!$H$54","v":"13 Left"},{"$f":"'58'!$R$45","v":"10 Right"},{"$f":"'58'!$AA$57","v":"14 Right"},{"$f":"'58'!$AJ$39","v":"8 Right"},null,0,0,0,0]
[{"$f":"'58'!$E$54","v":42},{"$f":"'58'!$I$54","v":"13 Right"},{"$f":"'58'!$R$48","v":"11 Right"},{"$f":"'58'!$AA$45","v":"10 Right"},{"$f":"'58'!$AJ$42","v":"9 Right"},null,0,0,0,0]
[{"$f":"'58'!$B$57","v":43},{"$f":"'58'!$H$57","v":"14 Left"},{"$f":"'58'!$R$51","v":"12 Right"},{"$f":"'58'!$AA$48","v":"11 Right"},{"$f":"'58'!$AI$54","v":"13 Left"},null,0,0,0,0]
[{"$f":"'58'!$E$57","v":44},{"$f":"'58'!$I$57","v":"14 Right"},{"$f":"'58'!$R$39","v":"8 Right"},{"$f":"'58'!$AA$42","v":"9 Right"},{"$f":"'58'!$AJ$51","v":"12 Right"},null,0,0,0,0]
[{"$f":"'58'!$B$40","v":45},{"$f":"'58'!$H$40","v":"8 Left"},{"$f":"'58'!$Q$49","v":"11 Left"},{"$f":"'58'!$Z$58","v":"14 Left"},{"$f":"'58'!$AI$43","v":"9 Left"},null,0,0,0,0]
[{"$f":"'58'!$E$40","v":46},{"$f":"'58'!$I$40","v":"8 Right"},{"$f":"'58'!$Q$52","v":"12 Left"},{"$f":"'58'!$Z$43","v":"9 Left"},{"$f":"'58'!$AJ$46","v":"10 Right"},null,0,0,0,0]
[{"$f":"'58'!$B$43","v":47},{"$f":"'58'!$H$43","v":"9 Left"},{"$f":"'58'!$Q$55","v":"13 Left"},{"$f":"'58'!$Z$40","v":"8 Left"},{"$f":"'58'!$AJ$49","v":"11 Right"},null,0,0,0,0]
[{"$f":"'58'!$E$43","v":48},{"$f":"'58'!$I$43","v":"9 Right"},{"$f":"'58'!$Q$58","v":"14 Left"},{"$f":"'58'!$AA$52","v":"12 Right"},{"$f":"'58'!$AJ$55","v":"13 Right"},null,0,0,0,0]
[{"$f":"'58'!$B$46","v":49},{"$f":"'58'!$H$46","v":"10 Left"},{"$f":"'58'!$R$58","v":"14 Right"},{"$f":"'58'!$AA$55","v":"13 Right"},{"$f":"'58'!$AJ$40","v":"8 Right"},null,0,0,0,0]
[{"$f":"'58'!$E$46","v":50},{"$f":"'58'!$I$46","v":"10 Right"},{"$f":"'58'!$R$55","v":"13 Right"},{"$f":"'58'!$AA$40","v":"8 Right"},{"$f":"'58'!$AJ$43","v":"9 Right"},null,0,0,0,0]
[{"$f":"'58'!$B$49","v":51},{"$f":"'58'!$H$49","v":"11 Left"},{"$f":"'58'!$Q$40","v":"8 Left"},{"$f":"'58'!$AA$58","v":"14 Right"},{"$f":"'58'!$AI$55","v":"13 Left"},null,0,0,0,0]
[{"$f":"'58'!$E$49","v":52},{"$f":"'58'!$I$49","v":"11 Right"},{"$f":"'58'!$R$43","v":"9 Right"},{"$f":"'58'!$AA$46","v":"10 Right"},{"$f":"'58'!$AJ$52","v":"12 Right"},null,0,0,0,0]
[{"$f":"'58'!$B$52","v":53},{"$f":"'58'!$H$52","v":"12 Left"},{"$f":"'58'!$R$46","v":"10 Right"},{"$f":"'58'!$AA$49","v":"11 Right"},{"$f":"'58'!$AJ$58","v":"14 Right"},null,0,0,0,0]
[{"$f":"'58'!$E$52","v":54},{"$f":"'58'!$I$52","v":"12 Right"},{"$f":"'58'!$R$49","v":"11 Right"},{"$f":"'58'!$AA$43","v":"9 Right"},{"$f":"'58'!$AI$58","v":"14 Left"},null,0,0,0,0]
[{"$f":"'58'!$B$55","v":55},{"$f":"'58'!$H$55","v":"13 Left"},{"$f":"'58'!$R$52","v":"12 Right"},{"$f":"'58'!$Z$46","v":"10 Left"},{"$f":"'58'!$AI$40","v":"8 Left"},null,0,0,0,0]
[{"$f":"'58'!$E$55","v":56},{"$f":"'58'!$I$55","v":"13 Right"},{"$f":"'58'!$R$40","v":"8 Right"},{"$f":"'58'!$Z$49","v":"11 Left"},{"$f":"'58'!$AI$46","v":"10 Left"},null,0,0,0,0]
[{"$f":"'58'!$B$58","v":57},{"$f":"'58'!$H$58","v":"14 Left"},{"$f":"'58'!$Q$43","v":"9 Left"},{"$f":"'58'!$Z$52","v":"12 Left"},{"$f":"'58'!$AI$49","v":"11 Left"},null,0,0,0,0]
[{"$f":"'58'!$E$58","v":58},{"$f":"'58'!$I$58","v":"14 Right"},{"$f":"'58'!$Q$46","v":"10 Left"},{"$f":"'58'!$Z$55","v":"13 Left"},{"$f":"'58'!$AI$52","v":"12 Left"},null,0,0,0,0]
[{"$nulls":6},0,0,0,0]
[{"$f":"'56'!$B$18","v":1},{"$f":"'56'!$H$18","v":"1 Left"},{"$f":"'56'!$Q$21","v":"2 Left"},{"$f":"'56'!$Z$24","v":"3 Left"},{"$f":"'56'!$AJ$36","v":"7 Right"},null,0,0,0,0,null,56]
[{"$f":"'56'!$E$18","v":2},{"$f":"'56'!$I$18","v":"1 Right"},{"$f":"'56'!$Q$24","v":"3 Left"},{"$f":"'56'!$Z$27","v":"4 Left"},{"$f":"'56'!$AI$36","v":"7 Left"},null,0,0,0,0]
[{"$f":"'56'!$B$21","v":3},{"$f":"'56'!$H$21","v":"2 Left"},{"$f":"'56'!$Q$27","v":"4 Left"},{"$f":"'56'!$Z$30","v":"5 Left"},{"$f":"'56'!$AI$18","v":"1 Left"},null,0,0,0,0]
[{"$f":"'56'!$E$21","v":4},{"$f":"'56'!$I$21","v":"2 Right"},{"$f":"'56'!$Q$30","v":"5 Left"},{"$f":"'56'!$Z$33","v":"6 Left"},{"$f":"'56'!$AI$24","v":"3 Left"},null,0,0,0,0]
[{"$f":"'56'!$B$24","v":5},{"$f":"'56'!$H$24","v":"3 Left"},{"$f":"'56'!$Q$33","v":"6 Left"},{"$f":"'56'!$Z$36","v":"7 Left"},{"$f":"'56'!$AI$27","v":"4 Left"},null,0,0,0,0]
[{"$f":"'56'!$E$24","v":6},{"$f":"'56'!$I$24","v":"3 Right"},{"$f":"'56'!$Q$36","v":"7 Left"},{"$f":"'56'!$Z$21","v":"2 Left"},{"$f":"'56'!$AI$30","v":"5 Left"},null,0,0,0,0]
[{"$f":"'56'!$B$27","v":7},{"$f":"'56'!$H$27","v":"4 Left"},{"$f":"'56'!$R$36","v":"7 Right"},{"$f":"'56'!$Z$18","v":"1 Left"},{"$f":"'56'!$AI$21","v":"2 Left"},null,0,0,0,0]
[{"$f":"'56'!$E$27","v":8},{"$f":"'56'!$I$27","v":"4 Right"},{"$f":"'56'!$R$33","v":"6 Right"},{"$f":"'56'!$AA$30","v":"5 Right"},{"$f":"'56'!$AJ$24","v":"3 Right"},null,0,0,0,0]
[{"$f":"'56'!$B$30","v":9},{"$f":"'56'!$H$30","v":"5 Left"},{"$f":"'56'!$Q$18","v":"1 Left"},{"$f":"'56'!$AA$33","v":"6 Right"},{"$f":"'56'!$AJ$27","v":"4 Right"},null,0,0,0,0]
[{"$f":"'56'!$E$30","v":10},{"$f":"'56'!$I$30","v":"5 Right"},{"$f":"'56'!$R$21","v":"2 Right"},{"$f":"'56'!$AA$18","v":"1 Right"},{"$f":"'56'!$AJ$33","v":"6 Right"},null,0,0,0,0]
[{"$f":"'56'!$B$33","v":11},{"$f":"'56'!$H$33","v":"6 Left"},{"$f":"'56'!$R$24","v":"3 Right"},{"$f":"'56'!$AA$36","v":"7 Right"},{"$f":"'56'!$AJ$18","v":"1 Right"},null,0,0,0,0]
[{"$f":"'56'!$E$33","v":12},{"$f":"'56'!$I$33","v":"6 Right"},{"$f":"'56'!$R$27","v":"4 Right"},{"$f":"'56'!$AA$24","v":"3 Right"},{"$f":"'56'!$AJ$21","v":"2 Right"},null,0,0,0,0]
[{"$f":"'56'!$B$36","v":13},{"$f":"'56'!$H$36","v":"7 Left"},{"$f":"'56'!$R$30","v":"5 Right"},{"$f":"'56'!$AA$27","v":"4 Right"},{"$f":"'56'!$AI$33","v":"6 Left"},null,0,0,0,0]
[{"$f":"'56'!$E$36","v":14},{"$f":"'56'!$I$36","v":"7 Right"},{"$f":"'56'!$R$18","v":"1 Right"},{"$f":"'56'!$AA$21","v":"2 Right"},{"$f":"'56'!$AJ$30","v":"5 Right"},null,0,0,0,0]
[{"$f":"'56'!$B$19","v":15},{"$f":"'56'!$H$19","v":"1 Left"},{"$f":"'56'!$Q$28","v":"4 Left"},{"$f":"'56'!$Z$37","v":"7 Left"},{"$f":"'56'!$AI$22","v":"2 Left"},null,0,0,0,0]
[{"$f":"'56'!$E$19","v":16},{"$f":"'56'!$I$19","v":"1 Right"},{"$f":"'56'!$Q$31","v":"5 Left"},{"$f":"'56'!$Z$22","v":"2 Left"},{"$f":"'56'!$AJ$25","v":"3 Right"},null,0,0,0,0]
[{"$f":"'56'!$B$22","v":17},{"$f":"'56'!$H$22","v":"2 Left"},{"$f":"'56'!$Q$34","v":"6 Left"},{"$f":"'56'!$Z$19","v":"1 Left"},{"$f":"'56'!$AJ$28","v":"4 Right"},null,{"$f":"B1975","v":0},{"$f":"C1975","v":0},{"$f":"D1975","v":0},{"$f":"E1975","v":0}]
[{"$f":"'56'!$E$22","v":18},{"$f":"'56'!$I$22","v":"2 Right"},{"$f":"'56'!$Q$37","v":"7 Left"},{"$f":"'56'!$AA$31","v":"5 Right"},{"$f":"'56'!$AJ$34","v":"6 Right"},null,0,0,0,0]
[{"$f":"'56'!$B$25","v":19},{"$f":"'56'!$H$25","v":"3 Left"},{"$f":"'56'!$R$37","v":"7 Right"},{"$f":"'56'!$AA$34","v":"6 Right"},{"$f":"'56'!$AJ$19","v":"1 Right"},null,0,0,0,0]
[{"$f":"'56'!$E$25","v":20},{"$f":"'56'!$I$25","v":"3 Right"},{"$f":"'56'!$R$34","v":"6 Right"},{"$f":"'56'!$AA$19","v":"1 Right"},{"$f":"'56'!$AJ$22","v":"2 Right"},null,0,0,0,0]
[{"$f":"'56'!$B$28","v":21},{"$f":"'56'!$H$28","v":"4 Left"},{"$f":"'56'!$Q$19","v":"1 Left"},{"$f":"'56'!$AA$37","v":"7 Right"},{"$f":"'56'!$AI$34","v":"6 Left"},null,0,0,0,0]
[{"$f":"'56'!$E$28","v":22},{"$f":"'56'!$I$28","v":"4 Right"},{"$f":"'56'!$R$22","v":"2 Right"},{"$f":"'56'!$AA$25","v":"3 Right"},{"$f":"'56'!$AJ$31","v":"5 Right"},null,0,0,0,0]
[{"$f":"'56'!$B$31","v":23},{"$f":"'56'!$H$31","v":"5 Left"},{"$f":"'56'!$R$25","v":"3 Right"},{"$f":"'56'!$AA$28","v":"4 Right"},{"$f":"'56'!$AJ$37","v":"7 Right"},null,0,0,0,0]
[{"$f":"'56'!$E$31","v":24},{"$f":"'56'!$I$31","v":"5 Right"},{"$f":"'56'!$R$28","v":"4 Right"},{"$f":"'56'!$AA$22","v":"2 Right"},{"$f":"'56'!$AI$37","v":"7 Left"},null,0,0,0,0]
[{"$f":"'56'!$B$34","v":25},{"$f":"'56'!$H$34","v":"6 Left"},{"$f":"'56'!$R$31","v":"5 Right"},{"$f":"'56'!$Z$25","v":"3 Left"},{"$f":"'56'!$AI$19","v":"1 Left"},null,0,0,0,0]
[{"$f":"'56'!$E$34","v":26},{"$f":"'56'!$I$34","v":"6 Right"},{"$f":"'56'!$R$19","v":"1 Right"},{"$f":"'56'!$Z$28","v":"4 Left"},{"$f":"'56'!$AI$25","v":"3 Left"},null,0,0,0,0]
[{"$f":"'56'!$B$37","v":27},{"$f":"'56'!$H$37","v":"7 Left"},{"$f":"'56'!$Q$22","v":"2 Left"},{"$f":"'56'!$Z$31","v":"5 Left"},{"$f":"'56'!$AI$28","v":"4 Left"},null,0,0,0,0]
[{"$f":"'56'!$E$37","v":28},{"$f":"'56'!$I$37","v":"7 Right"},{"$f":"'56'!$Q$25","v":"3 Left"},{"$f":"'56'!$Z$34","v":"6 Left"},{"$f":"'56'!$AI$31","v":"5 Left"},null,0,0,0,0]
[{"$f":"'56'!$B$39","v":29},{"$f":"'56'!$H$39","v":"8 Left"},{"$f":"'56'!$Q$42","v":"9 Left"},{"$f":"'56'!$Z$45","v":"10 Left"},{"$f":"'56'!$AJ$57","v":"14 Right"},null,0,0,0,0]
[{"$f":"'56'!$E$39","v":30},{"$f":"'56'!$I$39","v":"8 Right"},{"$f":"'56'!$Q$45","v":"10 Left"},{"$f":"'56'!$Z$48","v":"11 Left"},{"$f":"'56'!$AI$57","v":"14 Left"},null,0,0,0,0]
[{"$f":"'56'!$B$42","v":31},{"$f":"'56'!$H$42","v":"9 Left"},{"$f":"'56'!$Q$48","v":"11 Left"},{"$f":"'56'!$Z$51","v":"12 Left"},{"$f":"'56'!$AI$39","v":"8 Left"},null,0,0,0,0]
[{"$f":"'56'!$E$42","v":32},{"$f":"'56'!$I$42","v":"9 Right"},{"$f":"'56'!$Q$51","v":"12 Left"},{"$f":"'56'!$Z$54","v":"13 Left"},{"$f":"'56'!$AI$45","v":"10 Left"},null,0,0,0,0]
[{"$f":"'56'!$B$45","v":33},{"$f":"'56'!$H$45","v":"10 Left"},{"$f":"'56'!$Q$54","v":"13 Left"},{"$f":"'56'!$Z$57","v":"14 Left"},{"$f":"'56'!$AI$48","v":"11 Left"},null,0,0,0,0]
[{"$f":"'56'!$E$45","v":34},{"$f":"'56'!$I$45","v":"10 Right"},{"$f":"'56'!$Q$57","v":"14 Left"},{"$f":"'56'!$Z$42","v":"9 Left"},{"$f":"'56'!$AI$51","v":"12 Left"},null,0,0,0,0]
[{"$f":"'56'!$B$48","v":35},{"$f":"'56'!$H$48","v":"11 Left"},{"$f":"'56'!$R$57","v":"14 Right"},{"$f":"'56'!$Z$39","v":"8 Left"},{"$f":"'56'!$AI$42","v":"9 Left"},null,0,0,0,0]
[{"$f":"'56'!$E$48","v":36},{"$f":"'56'!$I$48","v":"11 Right"},{"$f":"'56'!$R$54","v":"13 Right"},{"$f":"'56'!$AA$51","v":"12 Right"},{"$f":"'56'!$AJ$45","v":"10 Right"},null,0,0,0,0]
[{"$f":"'56'!$B$51","v":37},{"$f":"'56'!$H$51","v":"12 Left"},{"$f":"'56'!$Q$39","v":"8 Left"},{"$f":"'56'!$AA$54","v":"13 Right"},{"$f":"'56'!$AJ$48","v":"11 Right"},null,0,0,0,0]
[{"$f":"'56'!$E$51","v":38},{"$f":"'56'!$I$51","v":"12 Right"},{"$f":"'56'!$R$42","v":"9 Right"},{"$f":"'56'!$AA$39","v":"8 Right"},{"$f":"'56'!$AJ$54","v":"13 Right"},null,0,0,0,0]
[{"$f":"'56'!$B$54","v":39},{"$f":"'56'!$H$54","v":"13 Left"},{"$f":"'56'!$R$45","v":"10 Right"},{"$f":"'56'!$AA$57","v":"14 Right"},{"$f":"'56'!$AJ$39","v":"8 Right"},null,0,0,0,0]
[{"$f":"'56'!$E$54","v":40},{"$f":"'56'!$I$54","v":"13 Right"},{"$f":"'56'!$R$48","v":"11 Right"},{"$f":"'56'!$AA$45","v":"10 Right"},{"$f":"'56'!$AJ$42","v":"9 Right"},null,0,0,0,0]
[{"$f":"'56'!$B$57","v":41},{"$f":"'56'!$H$57","v":"14 Left"},{"$f":"'56'!$R$51","v":"12 Right"},{"$f":"'56'!$AA$48","v":"11 Right"},{"$f":"'56'!$AI$54","v":"13 Left"},null,0,0,0,0]
[{"$f":"'56'!$E$57","v":42},{"$f":"'56'!$I$57","v":"14 Right"},{"$f":"'56'!$R$39","v":"8 Right"},{"$f":"'56'!$AA$42","v":"9 Right"},{"$f":"'56'!$AJ$51","v":"12 Right"},null,0,0,0,0]
[{"$f":"'56'!$B$40","v":43},{"$f":"'56'!$H$40","v":"8 Left"},{"$f":"'56'!$Q$49","v":"11 Left"},{"$f":"'56'!$Z$58","v":"14 Left"},{"$f":"'56'!$AI$43","v":"9 Left"},null,0,0,0,0]
[{"$f":"'56'!$E$40","v":44},{"$f":"'56'!$I$40","v":"8 Right"},{"$f":"'56'!$Q$52","v":"12 Left"},{"$f":"'56'!$Z$43","v":"9 Left"},{"$f":"'56'!$AJ$46","v":"10 Right"},null,0,0,0,0]
[{"$f":"'56'!$B$43","v":45},{"$f":"'56'!$H$43","v":"9 Left"},{"$f":"'56'!$Q$55","v":"13 Left"},{"$f":"'56'!$Z$40","v":"8 Left"},{"$f":"'56'!$AJ$49","v":"11 Right"},null,0,0,0,0]
[{"$f":"'56'!$E$43","v":46},{"$f":"'56'!$I$43","v":"9 Right"},{"$f":"'56'!$Q$58","v":"14 Left"},{"$f":"'56'!$AA$52","v":"12 Right"},{"$f":"'56'!$AJ$55","v":"13 Right"},null,0,0,0,0]
[{"$f":"'56'!$B$46","v":47},{"$f":"'56'!$H$46","v":"10 Left"},{"$f":"'56'!$R$58","v":"14 Right"},{"$f":"'56'!$AA$55","v":"13 Right"},{"$f":"'56'!$AJ$40","v":"8 Right"},null,0,0,0,0]
[{"$f":"'56'!$E$46","v":48},{"$f":"'56'!$I$46","v":"10 Right"},{"$f":"'56'!$R$55","v":"13 Right"},{"$f":"'56'!$AA$40","v":"8 Right"},{"$f":"'56'!$AJ$43","v":"9 Right"},null,0,0,0,0]
[{"$f":"'56'!$B$49","v":49},{"$f":"'56'!$H$49","v":"11 Left"},{"$f":"'56'!$Q$40","v":"8 Left"},{"$f":"'56'!$AA$58","v":"14 Right"},{"$f":"'56'!$AI$55","v":"13 Left"},null,0,0,0,0]
[{"$f":"'56'!$E$49","v":50},{"$f":"'56'!$I$49","v":"11 Right"},{"$f":"'56'!$R$43","v":"9 Right"},{"$f":"'56'!$AA$46","v":"10 Right"},{"$f":"'56'!$AJ$52","v":"12 Right"},null,0,0,0,0]
[{"$f":"'56'!$B$52","v":51},{"$f":"'56'!$H$52","v":"12 Left"},{"$f":"'56'!$R$46","v":"10 Right"},{"$f":"'56'!$AA$49","v":"11 Right"},{"$f":"'56'!$AJ$58","v":"14 Right"},null,0,0,0,0]
[{"$f":"'56'!$E$52","v":52},{"$f":"'56'!$I$52","v":"12 Right"},{"$f":"'56'!$R$49","v":"11 Right"},{"$f":"'56'!$AA$43","v":"9 Right"},{"$f":"'56'!$AI$58","v":"14 Left"},null,0,0,0,0]
[{"$f":"'56'!$B$55","v":53},{"$f":"'56'!$H$55","v":"13 Left"},{"$f":"'56'!$R$52","v":"12 Right"},{"$f":"'56'!$Z$46","v":"10 Left"},{"$f":"'56'!$AI$40","v":"8 Left"},null,0,0,0,0]
[{"$f":"'56'!$E$55","v":54},{"$f":"'56'!$I$55","v":"13 Right"},{"$f":"'56'!$R$40","v":"8 Right"},{"$f":"'56'!$Z$49","v":"11 Left"},{"$f":"'56'!$AI$46","v":"10 Left"},null,0,0,0,0]
[{"$f":"'56'!$B$58","v":55},{"$f":"'56'!$H$58","v":"14 Left"},{"$f":"'56'!$Q$43","v":"9 Left"},{"$f":"'56'!$Z$52","v":"12 Left"},{"$f":"'56'!$AI$49","v":"11 Left"},null,0,0,0,0]
[{"$f":"'56'!$E$58","v":56},{"$f":"'56'!$I$58","v":"14 Right"},{"$f":"'56'!$Q$46","v":"10 Left"},{"$f":"'56'!$Z$55","v":"13 Left"},{"$f":"'56'!$AI$52","v":"12 Left"},null,0,0,0,0]
[{"$nulls":6},0,0,0,0]
[{"$f":"'54'!$B$18","v":1},{"$f":"'54'!$H$18","v":"1 Left"},{"$f":"'54'!$Q$21","v":"2 Left"},{"$f":"'54'!$Z$24","v":"3 Left"},{"$f":"'54'!$AJ$36","v":"7 Right"},null,0,0,0,0,null,54]
[{"$f":"'54'!$E$18","v":2},{"$f":"'54'!$I$18","v":"1 Right"},{"$f":"'54'!$Q$24","v":"3 Left"},{"$f":"'54'!$Z$27","v":"4 Left"},{"$f":"'54'!$AI$36","v":"7 Left"},null,0,0,0,0]
[{"$f":"'54'!$B$21","v":3},{"$f":"'54'!$H$21","v":"2 Left"},{"$f":"'54'!$Q$27","v":"4 Left"},{"$f":"'54'!$Z$30","v":"5 Left"},{"$f":"'54'!$AI$18","v":"1 Left"},null,0,0,0,0]
[{"$f":"'54'!$E$21","v":4},{"$f":"'54'!$I$21","v":"2 Right"},{"$f":"'54'!$Q$30","v":"5 Left"},{"$f":"'54'!$Z$33","v":"6 Left"},{"$f":"'54'!$AI$24","v":"3 Left"},null,0,0,0,0]
[{"$f":"'54'!$B$24","v":5},{"$f":"'54'!$H$24","v":"3 Left"},{"$f":"'54'!$Q$33","v":"6 Left"},{"$f":"'54'!$Z$36","v":"7 Left"},{"$f":"'54'!$AI$27","v":"4 Left"},null,0,0,0,0]
[{"$f":"'54'!$E$24","v":6},{"$f":"'54'!$I$24","v":"3 Right"},{"$f":"'54'!$Q$36","v":"7 Left"},{"$f":"'54'!$Z$21","v":"2 Left"},{"$f":"'54'!$AI$30","v":"5 Left"},null,0,0,0,0]
[{"$f":"'54'!$B$27","v":7},{"$f":"'54'!$H$27","v":"4 Left"},{"$f":"'54'!$R$36","v":"7 Right"},{"$f":"'54'!$Z$18","v":"1 Left"},{"$f":"'54'!$AI$21","v":"2 Left"},null,0,0,0,0]
[{"$f":"'54'!$E$27","v":8},{"$f":"'54'!$I$27","v":"4 Right"},{"$f":"'54'!$R$33","v":"6 Right"},{"$f":"'54'!$AA$30","v":"5 Right"},{"$f":"'54'!$AJ$24","v":"3 Right"},null,0,0,0,0]
[{"$f":"'54'!$B$30","v":9},{"$f":"'54'!$H$30","v":"5 Left"},{"$f":"'54'!$Q$18","v":"1 Left"},{"$f":"'54'!$AA$33","v":"6 Right"},{"$f":"'54'!$AJ$27","v":"4 Right"},null,0,0,0,0]
[{"$f":"'54'!$E$30","v":10},{"$f":"'54'!$I$30","v":"5 Right"},{"$f":"'54'!$R$21","v":"2 Right"},{"$f":"'54'!$AA$18","v":"1 Right"},{"$f":"'54'!$AJ$33","v":"6 Right"},null,0,0,0,0]
[{"$f":"'54'!$B$33","v":11},{"$f":"'54'!$H$33","v":"6 Left"},{"$f":"'54'!$R$24","v":"3 Right"},{"$f":"'54'!$AA$36","v":"7 Right"},{"$f":"'54'!$AJ$18","v":"1 Right"},null,0,0,0,0]
[{"$f":"'54'!$E$33","v":12},{"$f":"'54'!$I$33","v":"6 Right"},{"$f":"'54'!$R$27","v":"4 Right"},{"$f":"'54'!$AA$24","v":"3 Right"},{"$f":"'54'!$AJ$21","v":"2 Right"},null,0,0,0,0]
[{"$f":"'54'!$B$36","v":13},{"$f":"'54'!$H$36","v":"7 Left"},{"$f":"'54'!$R$30","v":"5 Right"},{"$f":"'54'!$AA$27","v":"4 Right"},{"$f":"'54'!$AI$33","v":"6 Left"},null,0,0,0,0]
[{"$f":"'54'!$E$36","v":14},{"$f":"'54'!$I$36","v":"7 Right"},{"$f":"'54'!$R$18","v":"1 Right"},{"$f":"'54'!$AA$21","v":"2 Right"},{"$f":"'54'!$AJ$30","v":"5 Right"},null,0,0,0,0]
[{"$f":"'54'!$B$19","v":15},{"$f":"'54'!$H$19","v":"1 Left"},{"$f":"'54'!$Q$28","v":"4 Left"},{"$f":"'54'!$Z$37","v":"7 Left"},{"$f":"'54'!$AI$22","v":"2 Left"},null,0,0,0,0]
[{"$f":"'54'!$E$19","v":16},{"$f":"'54'!$I$19","v":"1 Right"},{"$f":"'54'!$Q$31","v":"5 Left"},{"$f":"'54'!$Z$22","v":"2 Left"},{"$f":"'54'!$AJ$25","v":"3 Right"},null,0,0,0,0]
[{"$f":"'54'!$B$22","v":17},{"$f":"'54'!$H$22","v":"2 Left"},{"$f":"'54'!$Q$34","v":"6 Left"},{"$f":"'54'!$Z$19","v":"1 Left"},{"$f":"'54'!$AJ$28","v":"4 Right"},null,0,0,0,0]
[{"$f":"'54'!$E$22","v":18},{"$f":"'54'!$I$22","v":"2 Right"},{"$f":"'54'!$Q$37","v":"7 Left"},{"$f":"'54'!$AA$31","v":"5 Right"},{"$f":"'54'!$AJ$34","v":"6 Right"},null,0,0,0,0]
[{"$f":"'54'!$B$25","v":19},{"$f":"'54'!$H$25","v":"3 Left"},{"$f":"'54'!$R$37","v":"7 Right"},{"$f":"'54'!$AA$34","v":"6 Right"},{"$f":"'54'!$AJ$19","v":"1 Right"},null,0,0,0,0]
[{"$f":"'54'!$E$25","v":20},{"$f":"'54'!$I$25","v":"3 Right"},{"$f":"'54'!$R$34","v":"6 Right"},{"$f":"'54'!$AA$19","v":"1 Right"},{"$f":"'54'!$AJ$22","v":"2 Right"},null,0,0,0,0]
[{"$f":"'54'!$B$28","v":21},{"$f":"'54'!$H$28","v":"4 Left"},{"$f":"'54'!$Q$19","v":"1 Left"},{"$f":"'54'!$AA$37","v":"7 Right"},{"$f":"'54'!$AI$34","v":"6 Left"},null,0,0,0,0]
[{"$f":"'54'!$E$28","v":22},{"$f":"'54'!$I$28","v":"4 Right"},{"$f":"'54'!$R$22","v":"2 Right"},{"$f":"'54'!$AA$25","v":"3 Right"},{"$f":"'54'!$AJ$31","v":"5 Right"},null,0,0,0,0]
[{"$f":"'54'!$B$31","v":23},{"$f":"'54'!$H$31","v":"5 Left"},{"$f":"'54'!$R$25","v":"3 Right"},{"$f":"'54'!$AA$28","v":"4 Right"},{"$f":"'54'!$AJ$37","v":"7 Right"},null,0,0,0,0]
[{"$f":"'54'!$E$31","v":24},{"$f":"'54'!$I$31","v":"5 Right"},{"$f":"'54'!$R$28","v":"4 Right"},{"$f":"'54'!$AA$22","v":"2 Right"},{"$f":"'54'!$AI$37","v":"7 Left"},null,{"$f":"B2039","v":0},{"$f":"C2039","v":0},{"$f":"D2039","v":0},{"$f":"E2039","v":0}]
[{"$f":"'54'!$B$34","v":25},{"$f":"'54'!$H$34","v":"6 Left"},{"$f":"'54'!$R$31","v":"5 Right"},{"$f":"'54'!$Z$25","v":"3 Left"},{"$f":"'54'!$AI$19","v":"1 Left"},null,0,0,0,0]
[{"$f":"'54'!$E$34","v":26},{"$f":"'54'!$I$34","v":"6 Right"},{"$f":"'54'!$R$19","v":"1 Right"},{"$f":"'54'!$Z$28","v":"4 Left"},{"$f":"'54'!$AI$25","v":"3 Left"},null,0,0,0,0]
[{"$f":"'54'!$B$37","v":27},{"$f":"'54'!$H$37","v":"7 Left"},{"$f":"'54'!$Q$22","v":"2 Left"},{"$f":"'54'!$Z$31","v":"5 Left"},{"$f":"'54'!$AI$28","v":"4 Left"},null,0,0,0,0]
[{"$f":"'54'!$E$37","v":28},{"$f":"'54'!$I$37","v":"7 Right"},{"$f":"'54'!$Q$25","v":"3 Left"},{"$f":"'54'!$Z$34","v":"6 Left"},{"$f":"'54'!$AI$31","v":"5 Left"},null,0,0,0,0]
[{"$f":"'54'!$B$39","v":29},{"$f":"'54'!$H$39","v":"8 Left"},{"$f":"'54'!$Q$42","v":"9 Left"},{"$f":"'54'!$Z$45","v":"10 Left"},{"$f":"'54'!$AI$48","v":"11 Left"},null,0,0,0,0]
[{"$f":"'54'!$E$39","v":30},{"$f":"'54'!$I$39","v":"8 Right"},{"$f":"'54'!$Q$45","v":"10 Left"},{"$f":"'54'!$Z$48","v":"11 Left"},{"$f":"'54'!$AI$51","v":"12 Left"},null,0,0,0,0]
[{"$f":"'54'!$B$42","v":31},{"$f":"'54'!$H$42","v":"9 Left"},{"$f":"'54'!$Q$48","v":"11 Left"},{"$f":"'54'!$Z$39","v":"8 Left"},{"$f":"'54'!$AI$45","v":"10 Left"},null,0,0,0,0]
[{"$f":"'54'!$E$42","v":32},{"$f":"'54'!$I$42","v":"9 Right"},{"$f":"'54'!$Q$51","v":"12 Left"},{"$f":"'54'!$Z$54","v":"13 Left"},{"$f":"'54'!$AI$41","v":"8 Left"},null,0,0,0,0]
[{"$f":"'54'!$B$45","v":33},{"$f":"'54'!$H$45","v":"10 Left"},{"$f":"'54'!$Q$39","v":"8 Left"},{"$f":"'54'!$Z$42","v":"9 Left"},{"$f":"'54'!$AJ$51","v":"12 Right"},null,0,0,0,0]
[{"$f":"'54'!$E$45","v":34},{"$f":"'54'!$I$45","v":"10 Right"},{"$f":"'54'!$Q$54","v":"13 Left"},{"$f":"'54'!$AA$39","v":"8 Right"},{"$f":"'54'!$AI$42","v":"9 Left"},null,0,0,0,0]
[{"$f":"'54'!$B$48","v":35},{"$f":"'54'!$H$48","v":"11 Left"},{"$f":"'54'!$R$39","v":"8 Right"},{"$f":"'54'!$Z$51","v":"12 Left"},{"$f":"'54'!$AI$54","v":"13 Left"},null,0,0,0,0]
[{"$f":"'54'!$E$48","v":36},{"$f":"'54'!$I$48","v":"11 Right"},{"$f":"'54'!$Q$41","v":"8 Left"},{"$f":"'54'!$AA$54","v":"13 Right"},{"$f":"'54'!$AJ$45","v":"10 Right"},null,0,0,0,0]
[{"$f":"'54'!$B$51","v":37},{"$f":"'54'!$H$51","v":"12 Left"},{"$f":"'54'!$R$54","v":"13 Right"},{"$f":"'54'!$Z$41","v":"8 Left"},{"$f":"'54'!$AJ$42","v":"9 Right"},null,0,0,0,0]
[{"$f":"'54'!$E$51","v":38},{"$f":"'54'!$I$51","v":"12 Right"},{"$f":"'54'!$R$42","v":"9 Right"},{"$f":"'54'!$AA$45","v":"10 Right"},{"$f":"'54'!$AI$39","v":"8 Left"},null,0,0,0,0]
[{"$f":"'54'!$B$54","v":39},{"$f":"'54'!$H$54","v":"13 Left"},{"$f":"'54'!$R$45","v":"10 Right"},{"$f":"'54'!$AA$48","v":"11 Right"},{"$f":"'54'!$AJ$39","v":"8 Right"},null,0,0,0,0]
[{"$f":"'54'!$E$54","v":40},{"$f":"'54'!$I$54","v":"13 Right"},{"$f":"'54'!$R$48","v":"11 Right"},{"$f":"'54'!$AA$51","v":"12 Right"},{"$f":"'54'!$AJ$48","v":"11 Right"},null,0,0,0,0]
[{"$f":"'54'!$B$41","v":41},{"$f":"'54'!$H$41","v":"8 Left"},{"$f":"'54'!$R$51","v":"12 Right"},{"$f":"'54'!$AA$42","v":"9 Right"},{"$f":"'54'!$AJ$54","v":"13 Right"},null,0,0,0,0]
[{"$f":"'54'!$B$40","v":42},{"$f":"'54'!$H$40","v":"8 Left"},{"$f":"'54'!$Q$49","v":"11 Left"},{"$f":"'54'!$AA$52","v":"12 Right"},{"$f":"'54'!$AI$43","v":"9 Left"},null,0,0,0,0]
[{"$f":"'54'!$E$40","v":43},{"$f":"'54'!$I$40","v":"8 Right"},{"$f":"'54'!$Q$52","v":"12 Left"},{"$f":"'54'!$Z$46","v":"10 Left"},{"$f":"'54'!$AI$55","v":"13 Left"},null,0,0,0,0]
[{"$f":"'54'!$B$43","v":44},{"$f":"'54'!$H$43","v":"9 Left"},{"$f":"'54'!$Q$40","v":"8 Left"},{"$f":"'54'!$Z$49","v":"11 Left"},{"$f":"'54'!$AJ$43","v":"9 Right"},null,0,0,0,0]
[{"$f":"'54'!$E$43","v":45},{"$f":"'54'!$I$43","v":"9 Right"},{"$f":"'54'!$Q$55","v":"13 Left"},{"$f":"'54'!$Z$40","v":"8 Left"},{"$f":"'54'!$AJ$46","v":"10 Right"},null,0,0,0,0]
[{"$f":"'54'!$B$46","v":46},{"$f":"'54'!$H$46","v":"10 Left"},{"$f":"'54'!$R$40","v":"8 Right"},{"$f":"'54'!$Z$55","v":"13 Left"},{"$f":"'54'!$AI$49","v":"11 Left"},null,0,0,0,0]
[{"$f":"'54'!$E$46","v":47},{"$f":"'54'!$I$46","v":"10 Right"},{"$f":"'54'!$R$41","v":"8 Right"},{"$f":"'54'!$Z$43","v":"9 Left"},{"$f":"'54'!$AI$52","v":"12 Left"},null,0,0,0,0]
[{"$f":"'54'!$B$49","v":48},{"$f":"'54'!$H$49","v":"11 Left"},{"$f":"'54'!$R$55","v":"13 Right"},{"$f":"'54'!$AA$40","v":"8 Right"},{"$f":"'54'!$AI$46","v":"10 Left"},null,0,0,0,0]
[{"$f":"'54'!$E$49","v":49},{"$f":"'54'!$I$49","v":"11 Right"},{"$f":"'54'!$R$43","v":"9 Right"},{"$f":"'54'!$Z$52","v":"12 Left"},{"$f":"'54'!$AJ$40","v":"8 Right"},null,0,0,0,0]
[{"$f":"'54'!$B$52","v":50},{"$f":"'54'!$H$52","v":"12 Left"},{"$f":"'54'!$R$46","v":"10 Right"},{"$f":"'54'!$AA$55","v":"13 Right"},{"$f":"'54'!$AI$40","v":"8 Left"},null,0,0,0,0]
[{"$f":"'54'!$E$52","v":51},{"$f":"'54'!$I$52","v":"12 Right"},{"$f":"'54'!$R$49","v":"11 Right"},{"$f":"'54'!$AA$41","v":"8 Right"},{"$f":"'54'!$AJ$55","v":"13 Right"},null,0,0,0,0]
[{"$f":"'54'!$B$55","v":52},{"$f":"'54'!$H$55","v":"13 Left"},{"$f":"'54'!$R$52","v":"12 Right"},{"$f":"'54'!$AA$46","v":"10 Right"},{"$f":"'54'!$AJ$49","v":"11 Right"},null,0,0,0,0]
[{"$f":"'54'!$E$55","v":53},{"$f":"'54'!$I$55","v":"13 Right"},{"$f":"'54'!$Q$46","v":"10 Left"},{"$f":"'54'!$AA$43","v":"9 Right"},{"$f":"'54'!$AJ$41","v":"8 Right"},null,0,0,0,0]
[{"$f":"'54'!$E$41","v":54},{"$f":"'54'!$I$41","v":"8 Right"},{"$f":"'54'!$Q$43","v":"9 Left"},{"$f":"'54'!$AA$49","v":"11 Right"},{"$f":"'54'!$AJ$52","v":"12 Right"},null,0,0,0,0]
[{"$nulls":6},0,0,0,0]
[{"$f":"'52'!$B$18","v":1},{"$f":"'52'!$H$18","v":"1 Left"},{"$f":"'52'!$Q$21","v":"2 Left"},{"$f":"'52'!$Z$24","v":"3 Left"},{"$f":"'52'!$AJ$36","v":"7 Right"},null,0,0,0,0,null,52]
[{"$f":"'52'!$E$18","v":2},{"$f":"'52'!$I$18","v":"1 Right"},{"$f":"'52'!$Q$24","v":"3 Left"},{"$f":"'52'!$Z$27","v":"4 Left"},{"$f":"'52'!$AI$36","v":"7 Left"},null,0,0,0,0]
[{"$f":"'52'!$B$21","v":3},{"$f":"'52'!$H$21","v":"2 Left"},{"$f":"'52'!$Q$27","v":"4 Left"},{"$f":"'52'!$Z$30","v":"5 Left"},{"$f":"'52'!$AI$18","v":"1 Left"},null,0,0,0,0]
[{"$f":"'52'!$E$21","v":4},{"$f":"'52'!$I$21","v":"2 Right"},{"$f":"'52'!$Q$30","v":"5 Left"},{"$f":"'52'!$Z$33","v":"6 Left"},{"$f":"'52'!$AI$24","v":"3 Left"},null,0,0,0,0]
[{"$f":"'52'!$B$24","v":5},{"$f":"'52'!$H$24","v":"3 Left"},{"$f":"'52'!$Q$33","v":"6 Left"},{"$f":"'52'!$Z$36","v":"7 Left"},{"$f":"'52'!$AI$27","v":"4 Left"},null,0,0,0,0]
[{"$f":"'52'!$E$24","v":6},{"$f":"'52'!$I$24","v":"3 Right"},{"$f":"'52'!$Q$36","v":"7 Left"},{"$f":"'52'!$Z$21","v":"2 Left"},{"$f":"'52'!$AI$30","v":"5 Left"},null,0,0,0,0]
[{"$f":"'52'!$B$27","v":7},{"$f":"'52'!$H$27","v":"4 Left"},{"$f":"'52'!$R$36","v":"7 Right"},{"$f":"'52'!$Z$18","v":"1 Left"},{"$f":"'52'!$AI$21","v":"2 Left"},null,0,0,0,0]
[{"$f":"'52'!$E$27","v":8},{"$f":"'52'!$I$27","v":"4 Right"},{"$f":"'52'!$R$33","v":"6 Right"},{"$f":"'52'!$AA$30","v":"5 Right"},{"$f":"'52'!$AJ$24","v":"3 Right"},null,0,0,0,0]
[{"$f":"'52'!$B$30","v":9},{"$f":"'52'!$H$30","v":"5 Left"},{"$f":"'52'!$Q$18","v":"1 Left"},{"$f":"'52'!$AA$33","v":"6 Right"},{"$f":"'52'!$AJ$27","v":"4 Right"},null,0,0,0,0]
[{"$f":"'52'!$E$30","v":10},{"$f":"'52'!$I$30","v":"5 Right"},{"$f":"'52'!$R$21","v":"2 Right"},{"$f":"'52'!$AA$18","v":"1 Right"},{"$f":"'52'!$AJ$33","v":"6 Right"},null,0,0,0,0]
[{"$f":"'52'!$B$33","v":11},{"$f":"'52'!$H$33","v":"6 Left"},{"$f":"'52'!$R$24","v":"3 Right"},{"$f":"'52'!$AA$36","v":"7 Right"},{"$f":"'52'!$AJ$18","v":"1 Right"},null,0,0,0,0]
[{"$f":"'52'!$E$33","v":12},{"$f":"'52'!$I$33","v":"6 Right"},{"$f":"'52'!$R$27","v":"4 Right"},{"$f":"'52'!$AA$24","v":"3 Right"},{"$f":"'52'!$AJ$21","v":"2 Right"},null,0,0,0,0]
[{"$f":"'52'!$B$36","v":13},{"$f":"'52'!$H$36","v":"7 Left"},{"$f":"'52'!$R$30","v":"5 Right"},{"$f":"'52'!$AA$27","v":"4 Right"},{"$f":"'52'!$AI$33","v":"6 Left"},null,0,0,0,0]
[{"$f":"'52'!$E$36","v":14},{"$f":"'52'!$I$36","v":"7 Right"},{"$f":"'52'!$R$18","v":"1 Right"},{"$f":"'52'!$AA$21","v":"2 Right"},{"$f":"'52'!$AJ$30","v":"5 Right"},null,0,0,0,0]
[{"$f":"'52'!$B$19","v":15},{"$f":"'52'!$H$19","v":"1 Left"},{"$f":"'52'!$Q$28","v":"4 Left"},{"$f":"'52'!$Z$37","v":"7 Left"},{"$f":"'52'!$AI$22","v":"2 Left"},null,0,0,0,0]
[{"$f":"'52'!$E$19","v":16},{"$f":"'52'!$I$19","v":"1 Right"},{"$f":"'52'!$Q$31","v":"5 Left"},{"$f":"'52'!$Z$22","v":"2 Left"},{"$f":"'52'!$AJ$25","v":"3 Right"},null,0,0,0,0]
[{"$f":"'52'!$B$22","v":17},{"$f":"'52'!$H$22","v":"2 Left"},{"$f":"'52'!$Q$34","v":"6 Left"},{"$f":"'52'!$Z$19","v":"1 Left"},{"$f":"'52'!$AJ$28","v":"4 Right"},null,0,0,0,0]
[{"$f":"'52'!$E$22","v":18},{"$f":"'52'!$I$22","v":"2 Right"},{"$f":"'52'!$Q$37","v":"7 Left"},{"$f":"'52'!$AA$31","v":"5 Right"},{"$f":"'52'!$AJ$34","v":"6 Right"},null,0,0,0,0]
[{"$f":"'52'!$B$25","v":19},{"$f":"'52'!$H$25","v":"3 Left"},{"$f":"'52'!$R$37","v":"7 Right"},{"$f":"'52'!$AA$34","v":"6 Right"},{"$f":"'52'!$AJ$19","v":"1 Right"},null,0,0,0,0]
[{"$f":"'52'!$E$25","v":20},{"$f":"'52'!$I$25","v":"3 Right"},{"$f":"'52'!$R$34","v":"6 Right"},{"$f":"'52'!$AA$19","v":"1 Right"},{"$f":"'52'!$AJ$22","v":"2 Right"},null,0,0,0,0]
[{"$f":"'52'!$B$28","v":21},{"$f":"'52'!$H$28","v":"4 Left"},{"$f":"'52'!$Q$19","v":"1 Left"},{"$f":"'52'!$AA$37","v":"7 Right"},{"$f":"'52'!$AI$34","v":"6 Left"},null,0,0,0,0]
[{"$f":"'52'!$E$28","v":22},{"$f":"'52'!$I$28","v":"4 Right"},{"$f":"'52'!$R$22","v":"2 Right"},{"$f":"'52'!$AA$25","v":"3 Right"},{"$f":"'52'!$AJ$31","v":"5 Right"},null,0,0,0,0]
[{"$f":"'52'!$B$31","v":23},{"$f":"'52'!$H$31","v":"5 Left"},{"$f":"'52'!$R$25","v":"3 Right"},{"$f":"'52'!$AA$28","v":"4 Right"},{"$f":"'52'!$AJ$37","v":"7 Right"},null,0,0,0,0]
[{"$f":"'52'!$E$31","v":24},{"$f":"'52'!$I$31","v":"5 Right"},{"$f":"'52'!$R$28","v":"4 Right"},{"$f":"'52'!$AA$22","v":"2 Right"},{"$f":"'52'!$AI$37","v":"7 Left"},null,0,0,0,0]
[{"$f":"'52'!$B$34","v":25},{"$f":"'52'!$H$34","v":"6 Left"},{"$f":"'52'!$R$31","v":"5 Right"},{"$f":"'52'!$Z$25","v":"3 Left"},{"$f":"'52'!$AI$19","v":"1 Left"},null,0,0,0,0]
[{"$f":"'52'!$E$34","v":26},{"$f":"'52'!$I$34","v":"6 Right"},{"$f":"'52'!$R$19","v":"1 Right"},{"$f":"'52'!$Z$28","v":"4 Left"},{"$f":"'52'!$AI$25","v":"3 Left"},null,0,0,0,0]
[{"$f":"'52'!$B$37","v":27},{"$f":"'52'!$H$37","v":"7 Left"},{"$f":"'52'!$Q$22","v":"2 Left"},{"$f":"'52'!$Z$31","v":"5 Left"},{"$f":"'52'!$AI$28","v":"4 Left"},null,0,0,0,0]
[{"$f":"'52'!$E$37","v":28},{"$f":"'52'!$I$37","v":"7 Right"},{"$f":"'52'!$Q$25","v":"3 Left"},{"$f":"'52'!$Z$34","v":"6 Left"},{"$f":"'52'!$AI$31","v":"5 Left"},null,0,0,0,0]
[{"$f":"'52'!$B$39","v":29},{"$f":"'52'!$H$39","v":"8 Left"},{"$f":"'52'!$Q$42","v":"9 Left"},{"$f":"'52'!$Z$48","v":"11 Left"},{"$f":"'52'!$AI$45","v":"10 Left"},null,0,0,0,0]
[{"$f":"'52'!$E$39","v":30},{"$f":"'52'!$I$39","v":"8 Right"},{"$f":"'52'!$Q$45","v":"10 Left"},{"$f":"'52'!$Z$42","v":"9 Left"},{"$f":"'52'!$AI$51","v":"12 Left"},null,0,0,0,0]
[{"$f":"'52'!$B$42","v":31},{"$f":"'52'!$H$42","v":"9 Left"},{"$f":"'52'!$Q$48","v":"11 Left"},{"$f":"'52'!$Z$39","v":"8 Left"},{"$f":"'52'!$AI$54","v":"13 Left"},null,0,0,0,0]
[{"$f":"'52'!$E$42","v":32},{"$f":"'52'!$I$42","v":"9 Right"},{"$f":"'52'!$Q$51","v":"12 Left"},{"$f":"'52'!$AA$39","v":"8 Right"},{"$f":"'52'!$AJ$54","v":"13 Right"},null,"1 Left","3 Left","2 Left","1 Left"]
[{"$f":"'52'!$B$45","v":33},{"$f":"'52'!$H$45","v":"10 Left"},{"$f":"'52'!$Q$54","v":"13 Left"},{"$f":"'52'!$AA$42","v":"9 Right"},{"$f":"'52'!$AJ$51","v":"12 Right"},null,{"$f":"B2103","v":"1 Right"},{"$f":"C2103","v":"2 Left"},{"$f":"D2103","v":"4 Left"},{"$f":"E2103","v":"3 Left"}]
[{"$f":"'52'!$E$45","v":34},{"$f":"'52'!$I$45","v":"10 Right"},{"$f":"'52'!$Q$39","v":"8 Left"},{"$f":"'52'!$Z$54","v":"13 Left"},{"$f":"'52'!$AI$48","v":"11 Left"},null,"3 Right","1 Left","2 Right","4 Right"]
[{"$f":"'52'!$B$48","v":35},{"$f":"'52'!$H$48","v":"11 Left"},{"$f":"'52'!$R$54","v":"13 Right"},{"$f":"'52'!$Z$51","v":"12 Left"},{"$f":"'52'!$AJ$39","v":"8 Right"},null,"4 Left","2 Right","1 Left","2 Right"]
[{"$f":"'52'!$E$48","v":36},{"$f":"'52'!$I$48","v":"11 Right"},{"$f":"'52'!$R$51","v":"12 Right"},{"$f":"'52'!$AA$45","v":"10 Right"},{"$f":"'52'!$AI$42","v":"9 Left"},null,"2 Right","4 Left","1 Right","3 Right"]
[{"$f":"'52'!$B$51","v":37},{"$f":"'52'!$H$51","v":"12 Left"},{"$f":"'52'!$R$39","v":"8 Right"},{"$f":"'52'!$AA$48","v":"11 Right"},{"$f":"'52'!$AJ$45","v":"10 Right"},null,"2 Left","3 Right","1 Left","2 Left"]
[{"$f":"'52'!$E$51","v":38},{"$f":"'52'!$I$51","v":"12 Right"},{"$f":"'52'!$R$42","v":"9 Right"},{"$f":"'52'!$AA$54","v":"13 Right"},{"$f":"'52'!$AJ$48","v":"11 Right"},null,"3 Left","1 Right","4 Right","1 Right"]
[{"$f":"'52'!$B$54","v":39},{"$f":"'52'!$H$54","v":"13 Left"},{"$f":"'52'!$R$45","v":"10 Right"},{"$f":"'52'!$AA$51","v":"12 Right"},{"$f":"'52'!$AJ$42","v":"9 Right"},null,"4 Right","1 Left","3 Left","1 Left"]
[{"$f":"'52'!$E$54","v":40},{"$f":"'52'!$I$54","v":"13 Right"},{"$f":"'52'!$R$48","v":"11 Right"},{"$f":"'52'!$Z$45","v":"10 Left"},{"$f":"'52'!$AI$39","v":"8 Left"},null,"1 Left","4 Right","3 Right","4 Left"]
[{"$f":"'52'!$B$40","v":41},{"$f":"'52'!$H$40","v":"8 Left"},{"$f":"'52'!$Q$49","v":"11 Left"},{"$f":"'52'!$AA$43","v":"9 Right"},{"$f":"'52'!$AJ$40","v":"8 Right"},null,"1 Left","4 Left","3 Left","1 Right"]
[{"$f":"'52'!$E$40","v":42},{"$f":"'52'!$I$40","v":"8 Right"},{"$f":"'52'!$Q$52","v":"12 Left"},{"$f":"'52'!$Z$55","v":"13 Left"},{"$f":"'52'!$AI$43","v":"9 Left"},null,"1 Right","3 Right","2 Left","4 Left"]
[{"$f":"'52'!$B$43","v":43},{"$f":"'52'!$H$43","v":"9 Left"},{"$f":"'52'!$Q$55","v":"13 Left"},{"$f":"'52'!$Z$52","v":"12 Left"},{"$f":"'52'!$AJ$46","v":"10 Right"},null,"3 Right","1 Right","4 Left","1 Left"]
[{"$f":"'52'!$E$43","v":44},{"$f":"'52'!$I$43","v":"9 Right"},{"$f":"'52'!$Q$40","v":"8 Left"},{"$f":"'52'!$AA$46","v":"10 Right"},{"$f":"'52'!$AJ$49","v":"11 Right"},null,"4 Right","1 Right","2 Right","3 Right"]
[{"$f":"'52'!$B$46","v":45},{"$f":"'52'!$H$46","v":"10 Left"},{"$f":"'52'!$R$55","v":"13 Right"},{"$f":"'52'!$AA$49","v":"11 Right"},{"$f":"'52'!$AJ$43","v":"9 Right"},null,"2 Right","4 Right","1 Left","3 Left"]
[{"$f":"'52'!$E$46","v":46},{"$f":"'52'!$I$46","v":"10 Right"},{"$f":"'52'!$R$52","v":"12 Right"},{"$f":"'52'!$AA$55","v":"13 Right"},{"$f":"'52'!$AI$40","v":"8 Left"},null,"2 Left","3 Left","1 Right","2 Right"]
[{"$f":"'52'!$B$49","v":47},{"$f":"'52'!$H$49","v":"11 Left"},{"$f":"'52'!$R$40","v":"8 Right"},{"$f":"'52'!$AA$52","v":"12 Right"},{"$f":"'52'!$AI$46","v":"10 Left"},null,"3 Left","2 Left","1 Right","4 Right"]
[{"$f":"'52'!$E$49","v":48},{"$f":"'52'!$I$49","v":"11 Right"},{"$f":"'52'!$R$43","v":"9 Right"},{"$f":"'52'!$Z$46","v":"10 Left"},{"$f":"'52'!$AI$52","v":"12 Left"},null,"4 Left","1 Left","4 Right","2 Left"]
[{"$f":"'52'!$B$52","v":49},{"$f":"'52'!$H$52","v":"12 Left"},{"$f":"'52'!$R$46","v":"10 Right"},{"$f":"'52'!$Z$49","v":"11 Left"},{"$f":"'52'!$AI$55","v":"13 Left"},null,"1 Right","2 Right","3 Right","1 Right"]
[{"$f":"'52'!$E$52","v":50},{"$f":"'52'!$I$52","v":"12 Right"},{"$f":"'52'!$R$49","v":"11 Right"},{"$f":"'52'!$Z$43","v":"9 Left"},{"$f":"'52'!$AJ$55","v":"13 Right"},null,{"$f":"B2059","v":0},{"$f":"C2059","v":0},{"$f":"D2059","v":0},{"$f":"E2059","v":0}]
[{"$f":"'52'!$B$55","v":51},{"$f":"'52'!$H$55","v":"13 Left"},{"$f":"'52'!$Q$43","v":"9 Left"},{"$f":"'52'!$Z$40","v":"8 Left"},{"$f":"'52'!$AJ$52","v":"12 Right"},null,0,0,0,0]
[{"$f":"'52'!$E$55","v":52},{"$f":"'52'!$I$55","v":"13 Right"},{"$f":"'52'!$Q$46","v":"10 Left"},{"$f":"'52'!$AA$40","v":"8 Right"},{"$f":"'52'!$AI$49","v":"11 Left"},null,0,0,0,0]
[{"$nulls":6},0,0,0,0]
[{"$f":"'50'!$B$18","v":1},{"$f":"'50'!$H$18","v":"1 Left"},{"$f":"'50'!$Q$21","v":"2 Left"},{"$f":"'50'!$Z$24","v":"3 Left"},{"$f":"'50'!$AI$27","v":"4 Left"},null,0,0,0,0,null,50]
[{"$f":"'50'!$E$18","v":2},{"$f":"'50'!$I$18","v":"1 Right"},{"$f":"'50'!$Q$24","v":"3 Left"},{"$f":"'50'!$Z$27","v":"4 Left"},{"$f":"'50'!$AI$30","v":"5 Left"},null,0,0,0,0]
[{"$f":"'50'!$B$21","v":3},{"$f":"'50'!$H$21","v":"2 Left"},{"$f":"'50'!$Q$27","v":"4 Left"},{"$f":"'50'!$Z$18","v":"1 Left"},{"$f":"'50'!$AI$24","v":"3 Left"},null,0,0,0,0]
[{"$f":"'50'!$E$21","v":4},{"$f":"'50'!$I$21","v":"2 Right"},{"$f":"'50'!$Q$30","v":"5 Left"},{"$f":"'50'!$Z$33","v":"6 Left"},{"$f":"'50'!$AI$20","v":"1 Left"},null,0,0,0,0]
[{"$f":"'50'!$B$24","v":5},{"$f":"'50'!$H$24","v":"3 Left"},{"$f":"'50'!$Q$18","v":"1 Left"},{"$f":"'50'!$Z$21","v":"2 Left"},{"$f":"'50'!$AJ$30","v":"5 Right"},null,0,0,0,0]
[{"$f":"'50'!$E$24","v":6},{"$f":"'50'!$I$24","v":"3 Right"},{"$f":"'50'!$Q$33","v":"6 Left"},{"$f":"'50'!$AA$18","v":"1 Right"},{"$f":"'50'!$AI$21","v":"2 Left"},null,0,0,0,0]
[{"$f":"'50'!$B$27","v":7},{"$f":"'50'!$H$27","v":"4 Left"},{"$f":"'50'!$R$18","v":"1 Right"},{"$f":"'50'!$Z$30","v":"5 Left"},{"$f":"'50'!$AI$33","v":"6 Left"},null,0,0,0,0]
[{"$f":"'50'!$E$27","v":8},{"$f":"'50'!$I$27","v":"4 Right"},{"$f":"'50'!$Q$20","v":"1 Left"},{"$f":"'50'!$AA$33","v":"6 Right"},{"$f":"'50'!$AJ$24","v":"3 Right"},null,0,0,0,0]
[{"$f":"'50'!$B$30","v":9},{"$f":"'50'!$H$30","v":"5 Left"},{"$f":"'50'!$R$33","v":"6 Right"},{"$f":"'50'!$Z$20","v":"1 Left"},{"$f":"'50'!$AJ$21","v":"2 Right"},null,0,0,0,0]
[{"$f":"'50'!$E$30","v":10},{"$f":"'50'!$I$30","v":"5 Right"},{"$f":"'50'!$R$21","v":"2 Right"},{"$f":"'50'!$AA$24","v":"3 Right"},{"$f":"'50'!$AI$18","v":"1 Left"},null,0,0,0,0]
[{"$f":"'50'!$B$33","v":11},{"$f":"'50'!$H$33","v":"6 Left"},{"$f":"'50'!$R$24","v":"3 Right"},{"$f":"'50'!$AA$27","v":"4 Right"},{"$f":"'50'!$AJ$18","v":"1 Right"},null,0,0,0,0]
[{"$f":"'50'!$E$33","v":12},{"$f":"'50'!$I$33","v":"6 Right"},{"$f":"'50'!$R$27","v":"4 Right"},{"$f":"'50'!$AA$30","v":"5 Right"},{"$f":"'50'!$AJ$27","v":"4 Right"},null,0,0,0,0]
[{"$f":"'50'!$B$20","v":13},{"$f":"'50'!$H$20","v":"1 Left"},{"$f":"'50'!$R$30","v":"5 Right"},{"$f":"'50'!$AA$21","v":"2 Right"},{"$f":"'50'!$AJ$33","v":"6 Right"},null,0,0,0,0]
[{"$f":"'50'!$B$19","v":14},{"$f":"'50'!$H$19","v":"1 Left"},{"$f":"'50'!$Q$28","v":"4 Left"},{"$f":"'50'!$AA$31","v":"5 Right"},{"$f":"'50'!$AI$22","v":"2 Left"},null,0,0,0,0]
[{"$f":"'50'!$E$19","v":15},{"$f":"'50'!$I$19","v":"1 Right"},{"$f":"'50'!$Q$31","v":"5 Left"},{"$f":"'50'!$Z$25","v":"3 Left"},{"$f":"'50'!$AI$34","v":"6 Left"},null,0,0,0,0]
[{"$f":"'50'!$B$22","v":16},{"$f":"'50'!$H$22","v":"2 Left"},{"$f":"'50'!$Q$19","v":"1 Left"},{"$f":"'50'!$Z$28","v":"4 Left"},{"$f":"'50'!$AJ$22","v":"2 Right"},null,0,0,0,0]
[{"$f":"'50'!$E$22","v":17},{"$f":"'50'!$I$22","v":"2 Right"},{"$f":"'50'!$Q$34","v":"6 Left"},{"$f":"'50'!$Z$19","v":"1 Left"},{"$f":"'50'!$AJ$25","v":"3 Right"},null,0,0,0,0]
[{"$f":"'50'!$B$25","v":18},{"$f":"'50'!$H$25","v":"3 Left"},{"$f":"'50'!$R$19","v":"1 Right"},{"$f":"'50'!$Z$34","v":"6 Left"},{"$f":"'50'!$AI$28","v":"4 Left"},null,0,0,0,0]
[{"$f":"'50'!$E$25","v":19},{"$f":"'50'!$I$25","v":"3 Right"},{"$f":"'50'!$R$20","v":"1 Right"},{"$f":"'50'!$Z$22","v":"2 Left"},{"$f":"'50'!$AI$31","v":"5 Left"},null,0,0,0,0]
[{"$f":"'50'!$B$28","v":20},{"$f":"'50'!$H$28","v":"4 Left"},{"$f":"'50'!$R$34","v":"6 Right"},{"$f":"'50'!$AA$19","v":"1 Right"},{"$f":"'50'!$AI$25","v":"3 Left"},null,0,0,0,0]
[{"$f":"'50'!$E$28","v":21},{"$f":"'50'!$I$28","v":"4 Right"},{"$f":"'50'!$R$22","v":"2 Right"},{"$f":"'50'!$Z$31","v":"5 Left"},{"$f":"'50'!$AJ$19","v":"1 Right"},null,0,0,0,0]
[{"$f":"'50'!$B$31","v":22},{"$f":"'50'!$H$31","v":"5 Left"},{"$f":"'50'!$R$25","v":"3 Right"},{"$f":"'50'!$AA$34","v":"6 Right"},{"$f":"'50'!$AI$19","v":"1 Left"},null,0,0,0,0]
[{"$f":"'50'!$E$31","v":23},{"$f":"'50'!$I$31","v":"5 Right"},{"$f":"'50'!$R$28","v":"4 Right"},{"$f":"'50'!$AA$20","v":"1 Right"},{"$f":"'50'!$AJ$34","v":"6 Right"},null,0,0,0,0]
[{"$f":"'50'!$B$34","v":24},{"$f":"'50'!$H$34","v":"6 Left"},{"$f":"'50'!$R$31","v":"5 Right"},{"$f":"'50'!$AA$25","v":"3 Right"},{"$f":"'50'!$AJ$28","v":"4 Right"},null,0,0,0,0]
[{"$f":"'50'!$E$34","v":25},{"$f":"'50'!$I$34","v":"6 Right"},{"$f":"'50'!$Q$25","v":"3 Left"},{"$f":"'50'!$AA$22","v":"2 Right"},{"$f":"'50'!$AJ$20","v":"1 Right"},null,0,0,0,0]
[{"$f":"'50'!$E$20","v":26},{"$f":"'50'!$I$20","v":"1 Right"},{"$f":"'50'!$Q$22","v":"2 Left"},{"$f":"'50'!$AA$28","v":"4 Right"},{"$f":"'50'!$AJ$31","v":"5 Right"},null,0,0,0,0]
[{"$f":"'50'!$B$36","v":27},{"$f":"'50'!$H$36","v":"8 Left"},{"$f":"'50'!$Q$39","v":"9 Left"},{"$f":"'50'!$Z$45","v":"11 Left"},{"$f":"'50'!$AI$42","v":"10 Left"},null,0,0,0,0]
[{"$f":"'50'!$E$36","v":28},{"$f":"'50'!$I$36","v":"8 Right"},{"$f":"'50'!$Q$42","v":"10 Left"},{"$f":"'50'!$Z$39","v":"9 Left"},{"$f":"'50'!$AI$48","v":"12 Left"},null,0,0,0,0]
[{"$f":"'50'!$B$39","v":29},{"$f":"'50'!$H$39","v":"9 Left"},{"$f":"'50'!$Q$45","v":"11 Left"},{"$f":"'50'!$Z$36","v":"8 Left"},{"$f":"'50'!$AI$51","v":"13 Left"},null,0,0,0,0]
[{"$f":"'50'!$E$39","v":30},{"$f":"'50'!$I$39","v":"9 Right"},{"$f":"'50'!$Q$48","v":"12 Left"},{"$f":"'50'!$AA$36","v":"8 Right"},{"$f":"'50'!$AJ$51","v":"13 Right"},null,0,0,0,0]
[{"$f":"'50'!$B$42","v":31},{"$f":"'50'!$H$42","v":"10 Left"},{"$f":"'50'!$Q$51","v":"13 Left"},{"$f":"'50'!$AA$39","v":"9 Right"},{"$f":"'50'!$AJ$48","v":"12 Right"},null,0,0,0,0]
[{"$f":"'50'!$E$42","v":32},{"$f":"'50'!$I$42","v":"10 Right"},{"$f":"'50'!$Q$36","v":"8 Left"},{"$f":"'50'!$Z$51","v":"13 Left"},{"$f":"'50'!$AI$45","v":"11 Left"},null,0,0,0,0]
[{"$f":"'50'!$B$45","v":33},{"$f":"'50'!$H$45","v":"11 Left"},{"$f":"'50'!$R$51","v":"13 Right"},{"$f":"'50'!$Z$48","v":"12 Left"},{"$f":"'50'!$AJ$36","v":"8 Right"},null,0,0,0,0]
[{"$f":"'50'!$E$45","v":34},{"$f":"'50'!$I$45","v":"11 Right"},{"$f":"'50'!$R$48","v":"12 Right"},{"$f":"'50'!$AA$42","v":"10 Right"},{"$f":"'50'!$AI$39","v":"9 Left"},null,0,0,0,0]
[{"$f":"'50'!$B$48","v":35},{"$f":"'50'!$H$48","v":"12 Left"},{"$f":"'50'!$R$36","v":"8 Right"},{"$f":"'50'!$AA$45","v":"11 Right"},{"$f":"'50'!$AJ$42","v":"10 Right"},null,0,0,0,0]
[{"$f":"'50'!$E$48","v":36},{"$f":"'50'!$I$48","v":"12 Right"},{"$f":"'50'!$R$39","v":"9 Right"},{"$f":"'50'!$AA$51","v":"13 Right"},{"$f":"'50'!$AJ$45","v":"11 Right"},null,0,0,0,0]
[{"$f":"'50'!$B$51","v":37},{"$f":"'50'!$H$51","v":"13 Left"},{"$f":"'50'!$R$42","v":"10 Right"},{"$f":"'50'!$AA$48","v":"12 Right"},{"$f":"'50'!$AJ$39","v":"9 Right"},null,0,0,0,0]
[{"$f":"'50'!$E$51","v":38},{"$f":"'50'!$I$51","v":"13 Right"},{"$f":"'50'!$R$45","v":"11 Right"},{"$f":"'50'!$Z$42","v":"10 Left"},{"$f":"'50'!$AI$36","v":"8 Left"},null,0,0,0,0]
[{"$f":"'50'!$B$37","v":39},{"$f":"'50'!$H$37","v":"8 Left"},{"$f":"'50'!$Q$46","v":"11 Left"},{"$f":"'50'!$AA$40","v":"9 Right"},{"$f":"'50'!$AJ$37","v":"8 Right"},null,0,0,0,0]
[{"$f":"'50'!$E$37","v":40},{"$f":"'50'!$I$37","v":"8 Right"},{"$f":"'50'!$Q$49","v":"12 Left"},{"$f":"'50'!$Z$52","v":"13 Left"},{"$f":"'50'!$AI$40","v":"9 Left"},null,"1 Left","3 Left","2 Left","1 Left"]
[{"$f":"'50'!$B$40","v":41},{"$f":"'50'!$H$40","v":"9 Left"},{"$f":"'50'!$Q$52","v":"13 Left"},{"$f":"'50'!$Z$49","v":"12 Left"},{"$f":"'50'!$AJ$43","v":"10 Right"},null,"1 Right","2 Left","4 Left","3 Left"]
[{"$f":"'50'!$E$40","v":42},{"$f":"'50'!$I$40","v":"9 Right"},{"$f":"'50'!$Q$37","v":"8 Left"},{"$f":"'50'!$AA$43","v":"10 Right"},{"$f":"'50'!$AJ$46","v":"11 Right"},null,"3 Right","1 Left","2 Right","4 Right"]
[{"$f":"'50'!$B$43","v":43},{"$f":"'50'!$H$43","v":"10 Left"},{"$f":"'50'!$R$52","v":"13 Right"},{"$f":"'50'!$AA$46","v":"11 Right"},{"$f":"'50'!$AJ$40","v":"9 Right"},null,"4 Left","2 Right","1 Left","2 Right"]
[{"$f":"'50'!$E$43","v":44},{"$f":"'50'!$I$43","v":"10 Right"},{"$f":"'50'!$R$49","v":"12 Right"},{"$f":"'50'!$AA$52","v":"13 Right"},{"$f":"'50'!$AI$37","v":"8 Left"},null,{"$f":"B2106","v":"2 Right"},{"$f":"C2106","v":"4 Left"},{"$f":"D2106","v":"1 Right"},{"$f":"E2106","v":"3 Right"}]
[{"$f":"'50'!$B$46","v":45},{"$f":"'50'!$H$46","v":"11 Left"},{"$f":"'50'!$R$37","v":"8 Right"},{"$f":"'50'!$AA$49","v":"12 Right"},{"$f":"'50'!$AI$43","v":"10 Left"},null,"2 Left","3 Right","1 Left","2 Left"]
[{"$f":"'50'!$E$46","v":46},{"$f":"'50'!$I$46","v":"11 Right"},{"$f":"'50'!$R$40","v":"9 Right"},{"$f":"'50'!$Z$43","v":"10 Left"},{"$f":"'50'!$AI$49","v":"12 Left"},null,"3 Left","1 Right","4 Right","1 Right"]
[{"$f":"'50'!$B$49","v":47},{"$f":"'50'!$H$49","v":"12 Left"},{"$f":"'50'!$R$43","v":"10 Right"},{"$f":"'50'!$Z$46","v":"11 Left"},{"$f":"'50'!$AI$52","v":"13 Left"},null,"4 Right","1 Left","3 Left","1 Left"]
[{"$f":"'50'!$E$49","v":48},{"$f":"'50'!$I$49","v":"12 Right"},{"$f":"'50'!$R$46","v":"11 Right"},{"$f":"'50'!$Z$40","v":"9 Left"},{"$f":"'50'!$AJ$52","v":"13 Right"},null,"1 Left","4 Right","3 Right","4 Left"]
[{"$f":"'50'!$B$52","v":49},{"$f":"'50'!$H$52","v":"13 Left"},{"$f":"'50'!$Q$40","v":"9 Left"},{"$f":"'50'!$Z$37","v":"8 Left"},{"$f":"'50'!$AJ$49","v":"12 Right"},null,"1 Left","4 Left","3 Left","1 Right"]
[{"$f":"'50'!$E$52","v":50},{"$f":"'50'!$I$52","v":"13 Right"},{"$f":"'50'!$Q$43","v":"10 Left"},{"$f":"'50'!$AA$37","v":"8 Right"},{"$f":"'50'!$AI$46","v":"11 Left"},null,"1 Right","3 Right","2 Left","4 Left"]
[{"$nulls":6},"3 Right","1 Right","4 Left","1 Left"]
[{"$f":"'48'!$B$18","v":1},{"$f":"'48'!$H$18","v":"1 Left"},{"$f":"'48'!$Q$21","v":"2 Left"},{"$f":"'48'!$Z$27","v":"4 Left"},{"$f":"'48'!$AI$24","v":"3 Left"},null,"4 Right","1 Right","2 Right","3 Right",null,48]
[{"$f":"'48'!$E$18","v":2},{"$f":"'48'!$I$18","v":"1 Right"},{"$f":"'48'!$Q$24","v":"3 Left"},{"$f":"'48'!$Z$21","v":"2 Left"},{"$f":"'48'!$AI$30","v":"5 Left"},null,"2 Right","4 Right","1 Left","3 Left"]
[{"$f":"'48'!$B$21","v":3},{"$f":"'48'!$H$21","v":"2 Left"},{"$f":"'48'!$Q$27","v":"4 Left"},{"$f":"'48'!$Z$18","v":"1 Left"},{"$f":"'48'!$AI$33","v":"6 Left"},null,"2 Left","3 Left","1 Right","2 Right"]
[{"$f":"'48'!$E$21","v":4},{"$f":"'48'!$I$21","v":"2 Right"},{"$f":"'48'!$Q$30","v":"5 Left"},{"$f":"'48'!$AA$18","v":"1 Right"},{"$f":"'48'!$AJ$33","v":"6 Right"},null,"3 Left","2 Left","1 Right","4 Right"]
[{"$f":"'48'!$B$24","v":5},{"$f":"'48'!$H$24","v":"3 Left"},{"$f":"'48'!$Q$33","v":"6 Left"},{"$f":"'48'!$AA$21","v":"2 Right"},{"$f":"'48'!$AJ$30","v":"5 Right"},null,"4 Left","1 Left","4 Right","2 Left"]
[{"$f":"'48'!$E$24","v":6},{"$f":"'48'!$I$24","v":"3 Right"},{"$f":"'48'!$Q$18","v":"1 Left"},{"$f":"'48'!$Z$33","v":"6 Left"},{"$f":"'48'!$AI$27","v":"4 Left"},null,"1 Right","2 Right","3 Right","1 Right"]
[{"$f":"'48'!$B$27","v":7},{"$f":"'48'!$H$27","v":"4 Left"},{"$f":"'48'!$R$33","v":"6 Right"},{"$f":"'48'!$Z$30","v":"5 Left"},{"$f":"'48'!$AJ$18","v":"1 Right"}]
[{"$f":"'48'!$E$27","v":8},{"$f":"'48'!$I$27","v":"4 Right"},{"$f":"'48'!$R$30","v":"5 Right"},{"$f":"'48'!$AA$24","v":"3 Right"},{"$f":"'48'!$AI$21","v":"2 Left"}]
[{"$f":"'48'!$B$30","v":9},{"$f":"'48'!$H$30","v":"5 Left"},{"$f":"'48'!$R$18","v":"1 Right"},{"$f":"'48'!$AA$27","v":"4 Right"},{"$f":"'48'!$AJ$24","v":"3 Right"}]
[{"$f":"'48'!$E$30","v":10},{"$f":"'48'!$I$30","v":"5 Right"},{"$f":"'48'!$R$21","v":"2 Right"},{"$f":"'48'!$AA$33","v":"6 Right"},{"$f":"'48'!$AJ$27","v":"4 Right"}]
[{"$f":"'48'!$B$33","v":11},{"$f":"'48'!$H$33","v":"6 Left"},{"$f":"'48'!$R$24","v":"3 Right"},{"$f":"'48'!$AA$30","v":"5 Right"},{"$f":"'48'!$AJ$21","v":"2 Right"}]
[{"$f":"'48'!$E$33","v":12},{"$f":"'48'!$I$33","v":"6 Right"},{"$f":"'48'!$R$27","v":"4 Right"},{"$f":"'48'!$Z$24","v":"3 Left"},{"$f":"'48'!$AI$18","v":"1 Left"}]
[{"$f":"'48'!$B$19","v":13},{"$f":"'48'!$H$19","v":"1 Left"},{"$f":"'48'!$Q$28","v":"4 Left"},{"$f":"'48'!$AA$22","v":"2 Right"},{"$f":"'48'!$AJ$19","v":"1 Right"}]
[{"$f":"'48'!$E$19","v":14},{"$f":"'48'!$I$19","v":"1 Right"},{"$f":"'48'!$Q$31","v":"5 Left"},{"$f":"'48'!$Z$34","v":"6 Left"},{"$f":"'48'!$AI$22","v":"2 Left"}]
[{"$f":"'48'!$B$22","v":15},{"$f":"'48'!$H$22","v":"2 Left"},{"$f":"'48'!$Q$34","v":"6 Left"},{"$f":"'48'!$Z$31","v":"5 Left"},{"$f":"'48'!$AJ$25","v":"3 Right"}]
[{"$f":"'48'!$E$22","v":16},{"$f":"'48'!$I$22","v":"2 Right"},{"$f":"'48'!$Q$19","v":"1 Left"},{"$f":"'48'!$AA$25","v":"3 Right"},{"$f":"'48'!$AJ$28","v":"4 Right"}]
[{"$f":"'48'!$B$25","v":17},{"$f":"'48'!$H$25","v":"3 Left"},{"$f":"'48'!$R$34","v":"6 Right"},{"$f":"'48'!$AA$28","v":"4 Right"},{"$f":"'48'!$AJ$22","v":"2 Right"}]
[{"$f":"'48'!$E$25","v":18},{"$f":"'48'!$I$25","v":"3 Right"},{"$f":"'48'!$R$31","v":"5 Right"},{"$f":"'48'!$AA$34","v":"6 Right"},{"$f":"'48'!$AI$19","v":"1 Left"}]
[{"$f":"'48'!$B$28","v":19},{"$f":"'48'!$H$28","v":"4 Left"},{"$f":"'48'!$R$19","v":"1 Right"},{"$f":"'48'!$AA$31","v":"5 Right"},{"$f":"'48'!$AI$25","v":"3 Left"}]
[{"$f":"'48'!$E$28","v":20},{"$f":"'48'!$I$28","v":"4 Right"},{"$f":"'48'!$R$22","v":"2 Right"},{"$f":"'48'!$Z$25","v":"3 Left"},{"$f":"'48'!$AI$31","v":"5 Left"}]
[{"$f":"'48'!$B$31","v":21},{"$f":"'48'!$H$31","v":"5 Left"},{"$f":"'48'!$R$25","v":"3 Right"},{"$f":"'48'!$Z$28","v":"4 Left"},{"$f":"'48'!$AI$34","v":"6 Left"}]
[{"$f":"'48'!$E$31","v":22},{"$f":"'48'!$I$31","v":"5 Right"},{"$f":"'48'!$R$28","v":"4 Right"},{"$f":"'48'!$Z$22","v":"2 Left"},{"$f":"'48'!$AJ$34","v":"6 Right"}]
[{"$f":"'48'!$B$34","v":23},{"$f":"'48'!$H$34","v":"6 Left"},{"$f":"'48'!$Q$22","v":"2 Left"},{"$f":"'48'!$Z$19","v":"1 Left"},{"$f":"'48'!$AJ$31","v":"5 Right"}]
[{"$f":"'48'!$E$34","v":24},{"$f":"'48'!$I$34","v":"6 Right"},{"$f":"'48'!$Q$25","v":"3 Left"},{"$f":"'48'!$AA$19","v":"1 Right"},{"$f":"'48'!$AI$28","v":"4 Left"}]
[{"$f":"'48'!$B$36","v":25},{"$f":"'48'!$H$36","v":"8 Left"},{"$f":"'48'!$Q$39","v":"9 Left"},{"$f":"'48'!$Z$45","v":"11 Left"},{"$f":"'48'!$AI$42","v":"10 Left"}]
[{"$f":"'48'!$E$36","v":26},{"$f":"'48'!$I$36","v":"8 Right"},{"$f":"'48'!$Q$42","v":"10 Left"},{"$f":"'48'!$Z$39","v":"9 Left"},{"$f":"'48'!$AI$48","v":"12 Left"}]
[{"$f":"'48'!$B$39","v":27},{"$f":"'48'!$H$39","v":"9 Left"},{"$f":"'48'!$Q$45","v":"11 Left"},{"$f":"'48'!$Z$36","v":"8 Left"},{"$f":"'48'!$AI$51","v":"13 Left"}]
[{"$f":"'48'!$E$39","v":28},{"$f":"'48'!$I$39","v":"9 Right"},{"$f":"'48'!$Q$48","v":"12 Left"},{"$f":"'48'!$AA$36","v":"8 Right"},{"$f":"'48'!$AJ$51","v":"13 Right"}]
[{"$f":"'48'!$B$42","v":29},{"$f":"'48'!$H$42","v":"10 Left"},{"$f":"'48'!$Q$51","v":"13 Left"},{"$f":"'48'!$AA$39","v":"9 Right"},{"$f":"'48'!$AJ$48","v":"12 Right"}]
[{"$f":"'48'!$E$42","v":30},{"$f":"'48'!$I$42","v":"10 Right"},{"$f":"'48'!$Q$36","v":"8 Left"},{"$f":"'48'!$Z$51","v":"13 Left"},{"$f":"'48'!$AI$45","v":"11 Left"}]
[{"$f":"'48'!$B$45","v":31},{"$f":"'48'!$H$45","v":"11 Left"},{"$f":"'48'!$R$51","v":"13 Right"},{"$f":"'48'!$Z$48","v":"12 Left"},{"$f":"'48'!$AJ$36","v":"8 Right"}]
[{"$f":"'48'!$E$45","v":32},{"$f":"'48'!$I$45","v":"11 Right"},{"$f":"'48'!$R$48","v":"12 Right"},{"$f":"'48'!$AA$42","v":"10 Right"},{"$f":"'48'!$AI$39","v":"9 Left"}]
[{"$f":"'48'!$B$48","v":33},{"$f":"'48'!$H$48","v":"12 Left"},{"$f":"'48'!$R$36","v":"8 Right"},{"$f":"'48'!$AA$45","v":"11 Right"},{"$f":"'48'!$AJ$42","v":"10 Right"}]
[{"$f":"'48'!$E$48","v":34},{"$f":"'48'!$I$48","v":"12 Right"},{"$f":"'48'!$R$39","v":"9 Right"},{"$f":"'48'!$AA$51","v":"13 Right"},{"$f":"'48'!$AJ$45","v":"11 Right"}]
[{"$f":"'48'!$B$51","v":35},{"$f":"'48'!$H$51","v":"13 Left"},{"$f":"'48'!$R$42","v":"10 Right"},{"$f":"'48'!$AA$48","v":"12 Right"},{"$f":"'48'!$AJ$39","v":"9 Right"}]
[{"$f":"'48'!$E$51","v":36},{"$f":"'48'!$I$51","v":"13 Right"},{"$f":"'48'!$R$45","v":"11 Right"},{"$f":"'48'!$Z$42","v":"10 Left"},{"$f":"'48'!$AI$36","v":"8 Left"}]
[{"$f":"'48'!$B$37","v":37},{"$f":"'48'!$H$37","v":"8 Left"},{"$f":"'48'!$Q$46","v":"11 Left"},{"$f":"'48'!$AA$40","v":"9 Right"},{"$f":"'48'!$AJ$37","v":"8 Right"}]
[{"$f":"'48'!$E$37","v":38},{"$f":"'48'!$I$37","v":"8 Right"},{"$f":"'48'!$Q$49","v":"12 Left"},{"$f":"'48'!$Z$52","v":"13 Left"},{"$f":"'48'!$AI$40","v":"9 Left"}]
[{"$f":"'48'!$B$40","v":39},{"$f":"'48'!$H$40","v":"9 Left"},{"$f":"'48'!$Q$52","v":"13 Left"},{"$f":"'48'!$Z$49","v":"12 Left"},{"$f":"'48'!$AJ$43","v":"10 Right"}]
[{"$f":"'48'!$E$40","v":40},{"$f":"'48'!$I$40","v":"9 Right"},{"$f":"'48'!$Q$37","v":"8 Left"},{"$f":"'48'!$AA$43","v":"10 Right"},{"$f":"'48'!$AJ$46","v":"11 Right"}]
[{"$f":"'48'!$B$43","v":41},{"$f":"'48'!$H$43","v":"10 Left"},{"$f":"'48'!$R$52","v":"13 Right"},{"$f":"'48'!$AA$46","v":"11 Right"},{"$f":"'48'!$AJ$40","v":"9 Right"}]
[{"$f":"'48'!$E$43","v":42},{"$f":"'48'!$I$43","v":"10 Right"},{"$f":"'48'!$R$49","v":"12 Right"},{"$f":"'48'!$AA$52","v":"13 Right"},{"$f":"'48'!$AI$37","v":"8 Left"}]
[{"$f":"'48'!$B$46","v":43},{"$f":"'48'!$H$46","v":"11 Left"},{"$f":"'48'!$R$37","v":"8 Right"},{"$f":"'48'!$AA$49","v":"12 Right"},{"$f":"'48'!$AI$43","v":"10 Left"}]
[{"$f":"'48'!$E$46","v":44},{"$f":"'48'!$I$46","v":"11 Right"},{"$f":"'48'!$R$40","v":"9 Right"},{"$f":"'48'!$Z$43","v":"10 Left"},{"$f":"'48'!$AI$49","v":"12 Left"}]
[{"$f":"'48'!$B$49","v":45},{"$f":"'48'!$H$49","v":"12 Left"},{"$f":"'48'!$R$43","v":"10 Right"},{"$f":"'48'!$Z$46","v":"11 Left"},{"$f":"'48'!$AI$52","v":"13 Left"}]
[{"$f":"'48'!$E$49","v":46},{"$f":"'48'!$I$49","v":"12 Right"},{"$f":"'48'!$R$46","v":"11 Right"},{"$f":"'48'!$Z$40","v":"9 Left"},{"$f":"'48'!$AJ$52","v":"13 Right"}]
[{"$f":"'48'!$B$52","v":47},{"$f":"'48'!$H$52","v":"13 Left"},{"$f":"'48'!$Q$40","v":"9 Left"},{"$f":"'48'!$Z$37","v":"8 Left"},{"$f":"'48'!$AJ$49","v":"12 Right"}]
[{"$f":"'48'!$E$52","v":48},{"$f":"'48'!$I$52","v":"13 Right"},{"$f":"'48'!$Q$43","v":"10 Left"},{"$f":"'48'!$AA$37","v":"8 Right"},{"$f":"'48'!$AI$46","v":"11 Left"}]
[]
[{"$f":"'46'!$B$18","v":1},{"$f":"'46'!$H$18","v":"1 Left"},{"$f":"'46'!$Q$21","v":"2 Left"},{"$f":"'46'!$Z$27","v":"4 Left"},{"$f":"'46'!$AI$24","v":"3 Left"},{"$nulls":6},46]
[{"$f":"'46'!$E$18","v":2},{"$f":"'46'!$I$18","v":"1 Right"},{"$f":"'46'!$Q$24","v":"3 Left"},{"$f":"'46'!$Z$21","v":"2 Left"},{"$f":"'46'!$AI$30","v":"5 Left"}]
[{"$f":"'46'!$B$21","v":3},{"$f":"'46'!$H$21","v":"2 Left"},{"$f":"'46'!$Q$27","v":"4 Left"},{"$f":"'46'!$Z$18","v":"1 Left"},{"$f":"'46'!$AI$33","v":"6 Left"}]
[{"$f":"'46'!$E$21","v":4},{"$f":"'46'!$I$21","v":"2 Right"},{"$f":"'46'!$Q$30","v":"5 Left"},{"$f":"'46'!$AA$18","v":"1 Right"},{"$f":"'46'!$AJ$33","v":"6 Right"}]
[{"$f":"'46'!$B$24","v":5},{"$f":"'46'!$H$24","v":"3 Left"},{"$f":"'46'!$Q$33","v":"6 Left"},{"$f":"'46'!$AA$21","v":"2 Right"},{"$f":"'46'!$AJ$30","v":"5 Right"}]
[{"$f":"'46'!$E$24","v":6},{"$f":"'46'!$I$24","v":"3 Right"},{"$f":"'46'!$Q$18","v":"1 Left"},{"$f":"'46'!$Z$33","v":"6 Left"},{"$f":"'46'!$AI$27","v":"4 Left"}]
[{"$f":"'46'!$B$27","v":7},{"$f":"'46'!$H$27","v":"4 Left"},{"$f":"'46'!$R$33","v":"6 Right"},{"$f":"'46'!$Z$30","v":"5 Left"},{"$f":"'46'!$AJ$18","v":"1 Right"}]
[{"$f":"'46'!$E$27","v":8},{"$f":"'46'!$I$27","v":"4 Right"},{"$f":"'46'!$R$30","v":"5 Right"},{"$f":"'46'!$AA$24","v":"3 Right"},{"$f":"'46'!$AI$21","v":"2 Left"}]
[{"$f":"'46'!$B$30","v":9},{"$f":"'46'!$H$30","v":"5 Left"},{"$f":"'46'!$R$18","v":"1 Right"},{"$f":"'46'!$AA$27","v":"4 Right"},{"$f":"'46'!$AJ$24","v":"3 Right"}]
[{"$f":"'46'!$E$30","v":10},{"$f":"'46'!$I$30","v":"5 Right"},{"$f":"'46'!$R$21","v":"2 Right"},{"$f":"'46'!$AA$33","v":"6 Right"},{"$f":"'46'!$AJ$27","v":"4 Right"}]
[{"$f":"'46'!$B$33","v":11},{"$f":"'46'!$H$33","v":"6 Left"},{"$f":"'46'!$R$24","v":"3 Right"},{"$f":"'46'!$AA$30","v":"5 Right"},{"$f":"'46'!$AJ$21","v":"2 Right"}]
[{"$f":"'46'!$E$33","v":12},{"$f":"'46'!$I$33","v":"6 Right"},{"$f":"'46'!$R$27","v":"4 Right"},{"$f":"'46'!$Z$24","v":"3 Left"},{"$f":"'46'!$AI$18","v":"1 Left"}]
[{"$f":"'46'!$B$19","v":13},{"$f":"'46'!$H$19","v":"1 Left"},{"$f":"'46'!$Q$28","v":"4 Left"},{"$f":"'46'!$AA$22","v":"2 Right"},{"$f":"'46'!$AJ$19","v":"1 Right"}]
[{"$f":"'46'!$E$19","v":14},{"$f":"'46'!$I$19","v":"1 Right"},{"$f":"'46'!$Q$31","v":"5 Left"},{"$f":"'46'!$Z$34","v":"6 Left"},{"$f":"'46'!$AI$22","v":"2 Left"}]
[{"$f":"'46'!$B$22","v":15},{"$f":"'46'!$H$22","v":"2 Left"},{"$f":"'46'!$Q$34","v":"6 Left"},{"$f":"'46'!$Z$31","v":"5 Left"},{"$f":"'46'!$AJ$25","v":"3 Right"}]
[{"$f":"'46'!$E$22","v":16},{"$f":"'46'!$I$22","v":"2 Right"},{"$f":"'46'!$Q$19","v":"1 Left"},{"$f":"'46'!$AA$25","v":"3 Right"},{"$f":"'46'!$AJ$28","v":"4 Right"}]
[{"$f":"'46'!$B$25","v":17},{"$f":"'46'!$H$25","v":"3 Left"},{"$f":"'46'!$R$34","v":"6 Right"},{"$f":"'46'!$AA$28","v":"4 Right"},{"$f":"'46'!$AJ$22","v":"2 Right"}]
[{"$f":"'46'!$E$25","v":18},{"$f":"'46'!$I$25","v":"3 Right"},{"$f":"'46'!$R$31","v":"5 Right"},{"$f":"'46'!$AA$34","v":"6 Right"},{"$f":"'46'!$AI$19","v":"1 Left"}]
[{"$f":"'46'!$B$28","v":19},{"$f":"'46'!$H$28","v":"4 Left"},{"$f":"'46'!$R$19","v":"1 Right"},{"$f":"'46'!$AA$31","v":"5 Right"},{"$f":"'46'!$AI$25","v":"3 Left"}]
[{"$f":"'46'!$E$28","v":20},{"$f":"'46'!$I$28","v":"4 Right"},{"$f":"'46'!$R$22","v":"2 Right"},{"$f":"'46'!$Z$25","v":"3 Left"},{"$f":"'46'!$AI$31","v":"5 Left"}]
[{"$f":"'46'!$B$31","v":21},{"$f":"'46'!$H$31","v":"5 Left"},{"$f":"'46'!$R$25","v":"3 Right"},{"$f":"'46'!$Z$28","v":"4 Left"},{"$f":"'46'!$AI$34","v":"6 Left"}]
[{"$f":"'46'!$E$31","v":22},{"$f":"'46'!$I$31","v":"5 Right"},{"$f":"'46'!$R$28","v":"4 Right"},{"$f":"'46'!$Z$22","v":"2 Left"},{"$f":"'46'!$AJ$34","v":"6 Right"}]
[{"$f":"'46'!$B$34","v":23},{"$f":"'46'!$H$34","v":"6 Left"},{"$f":"'46'!$Q$22","v":"2 Left"},{"$f":"'46'!$Z$19","v":"1 Left"},{"$f":"'46'!$AJ$31","v":"5 Right"}]
[{"$f":"'46'!$E$34","v":24},{"$f":"'46'!$I$34","v":"6 Right"},{"$f":"'46'!$Q$25","v":"3 Left"},{"$f":"'46'!$AA$19","v":"1 Right"},{"$f":"'46'!$AI$28","v":"4 Left"}]
[{"$f":"'46'!$B$36","v":25},{"$f":"'46'!$H$36","v":"8 Left"},{"$f":"'46'!$Q$39","v":"9 Left"},{"$f":"'46'!$Z$45","v":"11 Left"},{"$f":"'46'!$AJ$36","v":"8 Right"}]
[{"$f":"'46'!$E$36","v":26},{"$f":"'46'!$I$36","v":"8 Right"},{"$f":"'46'!$Q$42","v":"10 Left"},{"$f":"'46'!$Z$39","v":"9 Left"},{"$f":"'46'!$AI$45","v":"11 Left"}]
[{"$f":"'46'!$B$39","v":27},{"$f":"'46'!$H$39","v":"9 Left"},{"$f":"'46'!$Q$36","v":"8 Left"},{"$f":"'46'!$AA$42","v":"10 Right"},{"$f":"'46'!$AI$48","v":"12 Left"}]
[{"$f":"'46'!$E$39","v":28},{"$f":"'46'!$I$39","v":"9 Right"},{"$f":"'46'!$Q$45","v":"11 Left"},{"$f":"'46'!$Z$42","v":"10 Left"},{"$f":"'46'!$AI$36","v":"8 Left"}]
[{"$f":"'46'!$B$42","v":29},{"$f":"'46'!$H$42","v":"10 Left"},{"$f":"'46'!$R$36","v":"8 Right"},{"$f":"'46'!$AA$48","v":"12 Right"},{"$f":"'46'!$AI$38","v":"8 Left"}]
[{"$f":"'46'!$E$42","v":30},{"$f":"'46'!$I$42","v":"10 Right"},{"$f":"'46'!$Q$48","v":"12 Left"},{"$f":"'46'!$Z$36","v":"8 Left"},{"$f":"'46'!$AJ$48","v":"12 Right"}]
[{"$f":"'46'!$B$45","v":31},{"$f":"'46'!$H$45","v":"11 Left"},{"$f":"'46'!$Q$38","v":"8 Left"},{"$f":"'46'!$Z$48","v":"12 Left"},{"$f":"'46'!$AI$39","v":"9 Left"}]
[{"$f":"'46'!$E$45","v":32},{"$f":"'46'!$I$45","v":"11 Right"},{"$f":"'46'!$R$39","v":"9 Right"},{"$f":"'46'!$AA$36","v":"8 Right"},{"$f":"'46'!$AI$42","v":"10 Left"}]
[{"$f":"'46'!$B$48","v":33},{"$f":"'46'!$H$48","v":"12 Left"},{"$f":"'46'!$R$42","v":"10 Right"},{"$f":"'46'!$AA$45","v":"11 Right"},{"$f":"'46'!$AJ$39","v":"9 Right"}]
[{"$f":"'46'!$E$48","v":34},{"$f":"'46'!$I$48","v":"12 Right"},{"$f":"'46'!$R$45","v":"11 Right"},{"$f":"'46'!$Z$38","v":"8 Left"},{"$f":"'46'!$AJ$42","v":"10 Right"}]
[{"$f":"'46'!$B$37","v":35},{"$f":"'46'!$H$37","v":"8 Left"},{"$f":"'46'!$R$48","v":"12 Right"},{"$f":"'46'!$AA$39","v":"9 Right"},{"$f":"'46'!$AJ$45","v":"11 Right"}]
[{"$f":"'46'!$E$37","v":36},{"$f":"'46'!$I$37","v":"8 Right"},{"$f":"'46'!$Q$40","v":"9 Left"},{"$f":"'46'!$AA$49","v":"12 Right"},{"$f":"'46'!$AI$43","v":"10 Left"}]
[{"$f":"'46'!$B$40","v":37},{"$f":"'46'!$H$40","v":"9 Left"},{"$f":"'46'!$Q$43","v":"10 Left"},{"$f":"'46'!$Z$37","v":"8 Left"},{"$f":"'46'!$AJ$40","v":"9 Right"}]
[{"$f":"'46'!$E$40","v":38},{"$f":"'46'!$I$40","v":"9 Right"},{"$f":"'46'!$Q$37","v":"8 Left"},{"$f":"'46'!$AA$46","v":"11 Right"},{"$f":"'46'!$AJ$43","v":"10 Right"}]
[{"$f":"'46'!$B$43","v":39},{"$f":"'46'!$H$43","v":"10 Left"},{"$f":"'46'!$Q$46","v":"11 Left"},{"$f":"'46'!$AA$37","v":"8 Right"},{"$f":"'46'!$AJ$46","v":"11 Right"}]
[{"$f":"'46'!$E$43","v":40},{"$f":"'46'!$I$43","v":"10 Right"},{"$f":"'46'!$R$37","v":"8 Right"},{"$f":"'46'!$Z$49","v":"12 Left"},{"$f":"'46'!$AJ$37","v":"8 Right"}]
[{"$f":"'46'!$B$46","v":41},{"$f":"'46'!$H$46","v":"11 Left"},{"$f":"'46'!$Q$49","v":"12 Left"},{"$f":"'46'!$AA$38","v":"8 Right"},{"$f":"'46'!$AI$46","v":"11 Left"}]
[{"$f":"'46'!$E$46","v":42},{"$f":"'46'!$I$46","v":"11 Right"},{"$f":"'46'!$R$38","v":"8 Right"},{"$f":"'46'!$AA$40","v":"9 Right"},{"$f":"'46'!$AI$49","v":"12 Left"}]
[{"$f":"'46'!$B$49","v":43},{"$f":"'46'!$H$49","v":"12 Left"},{"$f":"'46'!$R$40","v":"9 Right"},{"$f":"'46'!$Z$46","v":"11 Left"},{"$f":"'46'!$AI$37","v":"8 Left"}]
[{"$f":"'46'!$E$49","v":44},{"$f":"'46'!$I$49","v":"12 Right"},{"$f":"'46'!$R$43","v":"10 Right"},{"$f":"'46'!$Z$40","v":"9 Left"},{"$f":"'46'!$AJ$38","v":"8 Right"}]
[{"$f":"'46'!$B$38","v":45},{"$f":"'46'!$H$38","v":"8 Left"},{"$f":"'46'!$R$46","v":"11 Right"},{"$f":"'46'!$AA$43","v":"10 Right"},{"$f":"'46'!$AJ$49","v":"12 Right"}]
[{"$f":"'46'!$E$38","v":46},{"$f":"'46'!$I$38","v":"8 Right"},{"$f":"'46'!$R$49","v":"12 Right"},{"$f":"'46'!$Z$43","v":"10 Left"},{"$f":"'46'!$AI$40","v":"9 Left"}]
[]
[{"$f":"'44'!$B$18","v":1},{"$f":"'44'!$H$18","v":"1 Left"},{"$f":"'44'!$Q$21","v":"2 Left"},{"$f":"'44'!$Z$27","v":"4 Left"},{"$f":"'44'!$AI$24","v":"3 Left"},{"$nulls":6},44]
[{"$f":"'44'!$E$18","v":2},{"$f":"'44'!$I$18","v":"1 Right"},{"$f":"'44'!$Q$24","v":"3 Left"},{"$f":"'44'!$Z$21","v":"2 Left"},{"$f":"'44'!$AI$30","v":"5 Left"}]
[{"$f":"'44'!$B$21","v":3},{"$f":"'44'!$H$21","v":"2 Left"},{"$f":"'44'!$Q$27","v":"4 Left"},{"$f":"'44'!$Z$18","v":"1 Left"},{"$f":"'44'!$AI$33","v":"6 Left"}]
[{"$f":"'44'!$E$21","v":4},{"$f":"'44'!$I$21","v":"2 Right"},{"$f":"'44'!$Q$30","v":"5 Left"},{"$f":"'44'!$AA$18","v":"1 Right"},{"$f":"'44'!$AJ$33","v":"6 Right"}]
[{"$f":"'44'!$B$24","v":5},{"$f":"'44'!$H$24","v":"3 Left"},{"$f":"'44'!$Q$33","v":"6 Left"},{"$f":"'44'!$AA$21","v":"2 Right"},{"$f":"'44'!$AJ$30","v":"5 Right"}]
[{"$f":"'44'!$E$24","v":6},{"$f":"'44'!$I$24","v":"3 Right"},{"$f":"'44'!$Q$18","v":"1 Left"},{"$f":"'44'!$Z$33","v":"6 Left"},{"$f":"'44'!$AI$27","v":"4 Left"}]
[{"$f":"'44'!$B$27","v":7},{"$f":"'44'!$H$27","v":"4 Left"},{"$f":"'44'!$R$33","v":"6 Right"},{"$f":"'44'!$Z$30","v":"5 Left"},{"$f":"'44'!$AJ$18","v":"1 Right"}]
[{"$f":"'44'!$E$27","v":8},{"$f":"'44'!$I$27","v":"4 Right"},{"$f":"'44'!$R$30","v":"5 Right"},{"$f":"'44'!$AA$24","v":"3 Right"},{"$f":"'44'!$AI$21","v":"2 Left"}]
[{"$f":"'44'!$B$30","v":9},{"$f":"'44'!$H$30","v":"5 Left"},{"$f":"'44'!$R$18","v":"1 Right"},{"$f":"'44'!$AA$27","v":"4 Right"},{"$f":"'44'!$AJ$24","v":"3 Right"}]
[{"$f":"'44'!$E$30","v":10},{"$f":"'44'!$I$30","v":"5 Right"},{"$f":"'44'!$R$21","v":"2 Right"},{"$f":"'44'!$AA$33","v":"6 Right"},{"$f":"'44'!$AJ$27","v":"4 Right"}]
[{"$f":"'44'!$B$33","v":11},{"$f":"'44'!$H$33","v":"6 Left"},{"$f":"'44'!$R$24","v":"3 Right"},{"$f":"'44'!$AA$30","v":"5 Right"},{"$f":"'44'!$AJ$21","v":"2 Right"}]
[{"$f":"'44'!$E$33","v":12},{"$f":"'44'!$I$33","v":"6 Right"},{"$f":"'44'!$R$27","v":"4 Right"},{"$f":"'44'!$Z$24","v":"3 Left"},{"$f":"'44'!$AI$18","v":"1 Left"}]
[{"$f":"'44'!$B$19","v":13},{"$f":"'44'!$H$19","v":"1 Left"},{"$f":"'44'!$Q$28","v":"4 Left"},{"$f":"'44'!$AA$22","v":"2 Right"},{"$f":"'44'!$AJ$19","v":"1 Right"}]
[{"$f":"'44'!$E$19","v":14},{"$f":"'44'!$I$19","v":"1 Right"},{"$f":"'44'!$Q$31","v":"5 Left"},{"$f":"'44'!$Z$34","v":"6 Left"},{"$f":"'44'!$AI$22","v":"2 Left"}]
[{"$f":"'44'!$B$22","v":15},{"$f":"'44'!$H$22","v":"2 Left"},{"$f":"'44'!$Q$34","v":"6 Left"},{"$f":"'44'!$Z$31","v":"5 Left"},{"$f":"'44'!$AJ$25","v":"3 Right"}]
[{"$f":"'44'!$E$22","v":16},{"$f":"'44'!$I$22","v":"2 Right"},{"$f":"'44'!$Q$19","v":"1 Left"},{"$f":"'44'!$AA$25","v":"3 Right"},{"$f":"'44'!$AJ$28","v":"4 Right"}]
[{"$f":"'44'!$B$25","v":17},{"$f":"'44'!$H$25","v":"3 Left"},{"$f":"'44'!$R$34","v":"6 Right"},{"$f":"'44'!$AA$28","v":"4 Right"},{"$f":"'44'!$AJ$22","v":"2 Right"}]
[{"$f":"'44'!$E$25","v":18},{"$f":"'44'!$I$25","v":"3 Right"},{"$f":"'44'!$R$31","v":"5 Right"},{"$f":"'44'!$AA$34","v":"6 Right"},{"$f":"'44'!$AI$19","v":"1 Left"}]
[{"$f":"'44'!$B$28","v":19},{"$f":"'44'!$H$28","v":"4 Left"},{"$f":"'44'!$R$19","v":"1 Right"},{"$f":"'44'!$AA$31","v":"5 Right"},{"$f":"'44'!$AI$25","v":"3 Left"}]
[{"$f":"'44'!$E$28","v":20},{"$f":"'44'!$I$28","v":"4 Right"},{"$f":"'44'!$R$22","v":"2 Right"},{"$f":"'44'!$Z$25","v":"3 Left"},{"$f":"'44'!$AI$31","v":"5 Left"}]
[{"$f":"'44'!$B$31","v":21},{"$f":"'44'!$H$31","v":"5 Left"},{"$f":"'44'!$R$25","v":"3 Right"},{"$f":"'44'!$Z$28","v":"4 Left"},{"$f":"'44'!$AI$34","v":"6 Left"}]
[{"$f":"'44'!$E$31","v":22},{"$f":"'44'!$I$31","v":"5 Right"},{"$f":"'44'!$R$28","v":"4 Right"},{"$f":"'44'!$Z$22","v":"2 Left"},{"$f":"'44'!$AJ$34","v":"6 Right"}]
[{"$f":"'44'!$B$34","v":23},{"$f":"'44'!$H$34","v":"6 Left"},{"$f":"'44'!$Q$22","v":"2 Left"},{"$f":"'44'!$Z$19","v":"1 Left"},{"$f":"'44'!$AJ$31","v":"5 Right"}]
[{"$f":"'44'!$E$34","v":24},{"$f":"'44'!$I$34","v":"6 Right"},{"$f":"'44'!$Q$25","v":"3 Left"},{"$f":"'44'!$AA$19","v":"1 Right"},{"$f":"'44'!$AI$28","v":"4 Left"}]
[{"$f":"'44'!$B$36","v":25},{"$f":"'44'!$H$36","v":"9 Left"},{"$f":"'44'!$Q$39","v":"10 Left"},{"$f":"'44'!$Z$48","v":"13 Left"},{"$f":"'44'!$AJ$45","v":"12 Right"}]
[{"$f":"'44'!$E$36","v":26},{"$f":"'44'!$I$36","v":"9 Right"},{"$f":"'44'!$Q$42","v":"11 Left"},{"$f":"'44'!$Z$39","v":"10 Left"},{"$f":"'44'!$AI$48","v":"13 Left"}]
[{"$f":"'44'!$B$39","v":27},{"$f":"'44'!$H$39","v":"10 Left"},{"$f":"'44'!$Q$45","v":"12 Left"},{"$f":"'44'!$Z$36","v":"9 Left"},{"$f":"'44'!$AI$45","v":"12 Left"}]
[{"$f":"'44'!$E$39","v":28},{"$f":"'44'!$I$39","v":"10 Right"},{"$f":"'44'!$Q$48","v":"13 Left"},{"$f":"'44'!$Z$45","v":"12 Left"},{"$f":"'44'!$AI$42","v":"11 Left"}]
[{"$f":"'44'!$B$42","v":29},{"$f":"'44'!$H$42","v":"11 Left"},{"$f":"'44'!$Q$36","v":"9 Left"},{"$f":"'44'!$AA$48","v":"13 Right"},{"$f":"'44'!$AJ$42","v":"11 Right"}]
[{"$f":"'44'!$E$42","v":30},{"$f":"'44'!$I$42","v":"11 Right"},{"$f":"'44'!$R$45","v":"12 Right"},{"$f":"'44'!$AA$39","v":"10 Right"},{"$f":"'44'!$AI$36","v":"9 Left"}]
[{"$f":"'44'!$B$45","v":31},{"$f":"'44'!$H$45","v":"12 Left"},{"$f":"'44'!$R$48","v":"13 Right"},{"$f":"'44'!$Z$42","v":"11 Left"},{"$f":"'44'!$AJ$39","v":"10 Right"}]
[{"$f":"'44'!$E$45","v":32},{"$f":"'44'!$I$45","v":"12 Right"},{"$f":"'44'!$R$39","v":"10 Right"},{"$f":"'44'!$AA$42","v":"11 Right"},{"$f":"'44'!$AJ$36","v":"9 Right"}]
[{"$f":"'44'!$B$48","v":33},{"$f":"'44'!$H$48","v":"13 Left"},{"$f":"'44'!$R$42","v":"11 Right"},{"$f":"'44'!$AA$36","v":"9 Right"},{"$f":"'44'!$AJ$48","v":"13 Right"}]
[{"$f":"'44'!$E$48","v":34},{"$f":"'44'!$I$48","v":"13 Right"},{"$f":"'44'!$R$36","v":"9 Right"},{"$f":"'44'!$AA$45","v":"12 Right"},{"$f":"'44'!$AI$39","v":"10 Left"}]
[{"$f":"'44'!$B$37","v":35},{"$f":"'44'!$H$37","v":"9 Left"},{"$f":"'44'!$Q$46","v":"12 Left"},{"$f":"'44'!$AA$49","v":"13 Right"},{"$f":"'44'!$AJ$40","v":"10 Right"}]
[{"$f":"'44'!$E$37","v":36},{"$f":"'44'!$I$37","v":"9 Right"},{"$f":"'44'!$Q$49","v":"13 Left"},{"$f":"'44'!$AA$40","v":"10 Right"},{"$f":"'44'!$AJ$37","v":"9 Right"}]
[{"$f":"'44'!$B$40","v":37},{"$f":"'44'!$H$40","v":"10 Left"},{"$f":"'44'!$Q$37","v":"9 Left"},{"$f":"'44'!$Z$43","v":"11 Left"},{"$f":"'44'!$AJ$49","v":"13 Right"}]
[{"$f":"'44'!$E$40","v":38},{"$f":"'44'!$I$40","v":"10 Right"},{"$f":"'44'!$R$46","v":"12 Right"},{"$f":"'44'!$AA$43","v":"11 Right"},{"$f":"'44'!$AI$40","v":"10 Left"}]
[{"$f":"'44'!$B$43","v":39},{"$f":"'44'!$H$43","v":"11 Left"},{"$f":"'44'!$R$49","v":"13 Right"},{"$f":"'44'!$AA$37","v":"9 Right"},{"$f":"'44'!$AJ$46","v":"12 Right"}]
[{"$f":"'44'!$E$43","v":40},{"$f":"'44'!$I$43","v":"11 Right"},{"$f":"'44'!$R$40","v":"10 Right"},{"$f":"'44'!$AA$46","v":"12 Right"},{"$f":"'44'!$AI$49","v":"13 Left"}]
[{"$f":"'44'!$B$46","v":41},{"$f":"'44'!$H$46","v":"12 Left"},{"$f":"'44'!$R$43","v":"11 Right"},{"$f":"'44'!$Z$49","v":"13 Left"},{"$f":"'44'!$AI$46","v":"12 Left"}]
[{"$f":"'44'!$E$46","v":42},{"$f":"'44'!$I$46","v":"12 Right"},{"$f":"'44'!$R$37","v":"9 Right"},{"$f":"'44'!$Z$40","v":"10 Left"},{"$f":"'44'!$AI$43","v":"11 Left"}]
[{"$f":"'44'!$B$49","v":43},{"$f":"'44'!$H$49","v":"13 Left"},{"$f":"'44'!$Q$40","v":"10 Left"},{"$f":"'44'!$Z$37","v":"9 Left"},{"$f":"'44'!$AJ$43","v":"11 Right"}]
[{"$f":"'44'!$E$49","v":44},{"$f":"'44'!$I$49","v":"13 Right"},{"$f":"'44'!$Q$43","v":"11 Left"},{"$f":"'44'!$Z$46","v":"12 Left"},{"$f":"'44'!$AI$37","v":"9 Left"}]
[]
[{"$f":"'42'!$B$18","v":1},{"$f":"'42'!$H$18","v":"2 Left"},{"$f":"'42'!$Q$21","v":"3 Left"},{"$f":"'42'!$Z$27","v":"5 Left"},{"$f":"'42'!$AJ$18","v":"2 Right"},{"$nulls":6},42]
[{"$f":"'42'!$E$18","v":2},{"$f":"'42'!$I$18","v":"2 Right"},{"$f":"'42'!$Q$24","v":"4 Left"},{"$f":"'42'!$Z$21","v":"3 Left"},{"$f":"'42'!$AI$27","v":"5 Left"}]
[{"$f":"'42'!$B$21","v":3},{"$f":"'42'!$H$21","v":"3 Left"},{"$f":"'42'!$Q$18","v":"2 Left"},{"$f":"'42'!$AA$24","v":"4 Right"},{"$f":"'42'!$AI$30","v":"6 Left"}]
[{"$f":"'42'!$E$21","v":4},{"$f":"'42'!$I$21","v":"3 Right"},{"$f":"'42'!$Q$27","v":"5 Left"},{"$f":"'42'!$Z$24","v":"4 Left"},{"$f":"'42'!$AI$18","v":"2 Left"}]
[{"$f":"'42'!$B$24","v":5},{"$f":"'42'!$H$24","v":"4 Left"},{"$f":"'42'!$R$18","v":"2 Right"},{"$f":"'42'!$AA$30","v":"6 Right"},{"$f":"'42'!$AI$20","v":"2 Left"}]
[{"$f":"'42'!$E$24","v":6},{"$f":"'42'!$I$24","v":"4 Right"},{"$f":"'42'!$Q$30","v":"6 Left"},{"$f":"'42'!$Z$18","v":"2 Left"},{"$f":"'42'!$AJ$30","v":"6 Right"}]
[{"$f":"'42'!$B$27","v":7},{"$f":"'42'!$H$27","v":"5 Left"},{"$f":"'42'!$Q$20","v":"2 Left"},{"$f":"'42'!$Z$30","v":"6 Left"},{"$f":"'42'!$AI$21","v":"3 Left"}]
[{"$f":"'42'!$E$27","v":8},{"$f":"'42'!$I$27","v":"5 Right"},{"$f":"'42'!$R$21","v":"3 Right"},{"$f":"'42'!$AA$18","v":"2 Right"},{"$f":"'42'!$AI$24","v":"4 Left"}]
[{"$f":"'42'!$B$30","v":9},{"$f":"'42'!$H$30","v":"6 Left"},{"$f":"'42'!$R$24","v":"4 Right"},{"$f":"'42'!$AA$27","v":"5 Right"},{"$f":"'42'!$AJ$21","v":"3 Right"}]
[{"$f":"'42'!$E$30","v":10},{"$f":"'42'!$I$30","v":"6 Right"},{"$f":"'42'!$R$27","v":"5 Right"},{"$f":"'42'!$Z$20","v":"2 Left"},{"$f":"'42'!$AJ$24","v":"4 Right"}]
[{"$f":"'42'!$B$19","v":11},{"$f":"'42'!$H$19","v":"2 Left"},{"$f":"'42'!$R$30","v":"6 Right"},{"$f":"'42'!$AA$21","v":"3 Right"},{"$f":"'42'!$AJ$27","v":"5 Right"}]
[{"$f":"'42'!$E$19","v":12},{"$f":"'42'!$I$19","v":"2 Right"},{"$f":"'42'!$Q$22","v":"3 Left"},{"$f":"'42'!$AA$31","v":"6 Right"},{"$f":"'42'!$AI$25","v":"4 Left"}]
[{"$f":"'42'!$B$22","v":13},{"$f":"'42'!$H$22","v":"3 Left"},{"$f":"'42'!$Q$25","v":"4 Left"},{"$f":"'42'!$Z$19","v":"2 Left"},{"$f":"'42'!$AJ$22","v":"3 Right"}]
[{"$f":"'42'!$E$22","v":14},{"$f":"'42'!$I$22","v":"3 Right"},{"$f":"'42'!$Q$19","v":"2 Left"},{"$f":"'42'!$AA$28","v":"5 Right"},{"$f":"'42'!$AJ$25","v":"4 Right"}]
[{"$f":"'42'!$B$25","v":15},{"$f":"'42'!$H$25","v":"4 Left"},{"$f":"'42'!$Q$28","v":"5 Left"},{"$f":"'42'!$AA$19","v":"2 Right"},{"$f":"'42'!$AJ$28","v":"5 Right"}]
[{"$f":"'42'!$E$25","v":16},{"$f":"'42'!$I$25","v":"4 Right"},{"$f":"'42'!$R$19","v":"2 Right"},{"$f":"'42'!$Z$31","v":"6 Left"},{"$f":"'42'!$AJ$19","v":"2 Right"}]
[{"$f":"'42'!$B$28","v":17},{"$f":"'42'!$H$28","v":"5 Left"},{"$f":"'42'!$Q$31","v":"6 Left"},{"$f":"'42'!$AA$20","v":"2 Right"},{"$f":"'42'!$AI$28","v":"5 Left"}]
[{"$f":"'42'!$E$28","v":18},{"$f":"'42'!$I$28","v":"5 Right"},{"$f":"'42'!$R$20","v":"2 Right"},{"$f":"'42'!$AA$22","v":"3 Right"},{"$f":"'42'!$AI$31","v":"6 Left"}]
[{"$f":"'42'!$B$31","v":19},{"$f":"'42'!$H$31","v":"6 Left"},{"$f":"'42'!$R$22","v":"3 Right"},{"$f":"'42'!$Z$28","v":"5 Left"},{"$f":"'42'!$AI$19","v":"2 Left"}]
[{"$f":"'42'!$E$31","v":20},{"$f":"'42'!$I$31","v":"6 Right"},{"$f":"'42'!$R$25","v":"4 Right"},{"$f":"'42'!$Z$22","v":"3 Left"},{"$f":"'42'!$AJ$20","v":"2 Right"}]
[{"$f":"'42'!$B$20","v":21},{"$f":"'42'!$H$20","v":"2 Left"},{"$f":"'42'!$R$28","v":"5 Right"},{"$f":"'42'!$AA$25","v":"4 Right"},{"$f":"'42'!$AJ$31","v":"6 Right"}]
[{"$f":"'42'!$E$20","v":22},{"$f":"'42'!$I$20","v":"2 Right"},{"$f":"'42'!$R$31","v":"6 Right"},{"$f":"'42'!$Z$25","v":"4 Left"},{"$f":"'42'!$AI$22","v":"3 Left"}]
[{"$f":"'42'!$B$33","v":23},{"$f":"'42'!$H$33","v":"9 Left"},{"$f":"'42'!$Q$36","v":"10 Left"},{"$f":"'42'!$Z$45","v":"13 Left"},{"$f":"'42'!$AJ$42","v":"12 Right"}]
[{"$f":"'42'!$E$33","v":24},{"$f":"'42'!$I$33","v":"9 Right"},{"$f":"'42'!$Q$39","v":"11 Left"},{"$f":"'42'!$Z$36","v":"10 Left"},{"$f":"'42'!$AI$45","v":"13 Left"}]
[{"$f":"'42'!$B$36","v":25},{"$f":"'42'!$H$36","v":"10 Left"},{"$f":"'42'!$Q$42","v":"12 Left"},{"$f":"'42'!$Z$33","v":"9 Left"},{"$f":"'42'!$AI$42","v":"12 Left"}]
[{"$f":"'42'!$E$36","v":26},{"$f":"'42'!$I$36","v":"10 Right"},{"$f":"'42'!$Q$45","v":"13 Left"},{"$f":"'42'!$Z$42","v":"12 Left"},{"$f":"'42'!$AI$39","v":"11 Left"}]
[{"$f":"'42'!$B$39","v":27},{"$f":"'42'!$H$39","v":"11 Left"},{"$f":"'42'!$Q$33","v":"9 Left"},{"$f":"'42'!$AA$45","v":"13 Right"},{"$f":"'42'!$AJ$39","v":"11 Right"}]
[{"$f":"'42'!$E$39","v":28},{"$f":"'42'!$I$39","v":"11 Right"},{"$f":"'42'!$R$42","v":"12 Right"},{"$f":"'42'!$AA$36","v":"10 Right"},{"$f":"'42'!$AI$33","v":"9 Left"}]
[{"$f":"'42'!$B$42","v":29},{"$f":"'42'!$H$42","v":"12 Left"},{"$f":"'42'!$R$45","v":"13 Right"},{"$f":"'42'!$Z$39","v":"11 Left"},{"$f":"'42'!$AJ$36","v":"10 Right"}]
[{"$f":"'42'!$E$42","v":30},{"$f":"'42'!$I$42","v":"12 Right"},{"$f":"'42'!$R$36","v":"10 Right"},{"$f":"'42'!$AA$39","v":"11 Right"},{"$f":"'42'!$AJ$33","v":"9 Right"}]
[{"$f":"'42'!$B$45","v":31},{"$f":"'42'!$H$45","v":"13 Left"},{"$f":"'42'!$R$39","v":"11 Right"},{"$f":"'42'!$AA$33","v":"9 Right"},{"$f":"'42'!$AJ$45","v":"13 Right"}]
[{"$f":"'42'!$E$45","v":32},{"$f":"'42'!$I$45","v":"13 Right"},{"$f":"'42'!$R$33","v":"9 Right"},{"$f":"'42'!$AA$42","v":"12 Right"},{"$f":"'42'!$AI$36","v":"10 Left"}]
[{"$f":"'42'!$B$34","v":33},{"$f":"'42'!$H$34","v":"9 Left"},{"$f":"'42'!$Q$43","v":"12 Left"},{"$f":"'42'!$AA$46","v":"13 Right"},{"$f":"'42'!$AJ$37","v":"10 Right"}]
[{"$f":"'42'!$E$34","v":34},{"$f":"'42'!$I$34","v":"9 Right"},{"$f":"'42'!$Q$46","v":"13 Left"},{"$f":"'42'!$AA$37","v":"10 Right"},{"$f":"'42'!$AJ$34","v":"9 Right"}]
[{"$f":"'42'!$B$37","v":35},{"$f":"'42'!$H$37","v":"10 Left"},{"$f":"'42'!$Q$34","v":"9 Left"},{"$f":"'42'!$Z$40","v":"11 Left"},{"$f":"'42'!$AJ$46","v":"13 Right"}]
[{"$f":"'42'!$E$37","v":36},{"$f":"'42'!$I$37","v":"10 Right"},{"$f":"'42'!$R$43","v":"12 Right"},{"$f":"'42'!$AA$40","v":"11 Right"},{"$f":"'42'!$AI$37","v":"10 Left"}]
[{"$f":"'42'!$B$40","v":37},{"$f":"'42'!$H$40","v":"11 Left"},{"$f":"'42'!$R$46","v":"13 Right"},{"$f":"'42'!$AA$34","v":"9 Right"},{"$f":"'42'!$AJ$43","v":"12 Right"}]
[{"$f":"'42'!$E$40","v":38},{"$f":"'42'!$I$40","v":"11 Right"},{"$f":"'42'!$R$37","v":"10 Right"},{"$f":"'42'!$AA$43","v":"12 Right"},{"$f":"'42'!$AI$46","v":"13 Left"}]
[{"$f":"'42'!$B$43","v":39},{"$f":"'42'!$H$43","v":"12 Left"},{"$f":"'42'!$R$40","v":"11 Right"},{"$f":"'42'!$Z$46","v":"13 Left"},{"$f":"'42'!$AI$43","v":"12 Left"}]
[{"$f":"'42'!$E$43","v":40},{"$f":"'42'!$I$43","v":"12 Right"},{"$f":"'42'!$R$34","v":"9 Right"},{"$f":"'42'!$Z$37","v":"10 Left"},{"$f":"'42'!$AI$40","v":"11 Left"}]
[{"$f":"'42'!$B$46","v":41},{"$f":"'42'!$H$46","v":"13 Left"},{"$f":"'42'!$Q$37","v":"10 Left"},{"$f":"'42'!$Z$34","v":"9 Left"},{"$f":"'42'!$AJ$40","v":"11 Right"}]
[{"$f":"'42'!$E$46","v":42},{"$f":"'42'!$I$46","v":"13 Right"},{"$f":"'42'!$Q$40","v":"11 Left"},{"$f":"'42'!$Z$43","v":"12 Left"},{"$f":"'42'!$AI$34","v":"9 Left"}]
[]
[{"$f":"'40'!$B$18","v":1},{"$f":"'40'!$H$18","v":"2 Left"},{"$f":"'40'!$Q$21","v":"3 Left"},{"$f":"'40'!$Z$30","v":"6 Left"},{"$f":"'40'!$AJ$27","v":"5 Right"},{"$nulls":6},40]
[{"$f":"'40'!$E$18","v":2},{"$f":"'40'!$I$18","v":"2 Right"},{"$f":"'40'!$Q$24","v":"4 Left"},{"$f":"'40'!$Z$21","v":"3 Left"},{"$f":"'40'!$AI$30","v":"6 Left"}]
[{"$f":"'40'!$B$21","v":3},{"$f":"'40'!$H$21","v":"3 Left"},{"$f":"'40'!$Q$27","v":"5 Left"},{"$f":"'40'!$Z$18","v":"2 Left"},{"$f":"'40'!$AI$27","v":"5 Left"}]
[{"$f":"'40'!$E$21","v":4},{"$f":"'40'!$I$21","v":"3 Right"},{"$f":"'40'!$Q$30","v":"6 Left"},{"$f":"'40'!$Z$27","v":"5 Left"},{"$f":"'40'!$AI$24","v":"4 Left"}]
[{"$f":"'40'!$B$24","v":5},{"$f":"'40'!$H$24","v":"4 Left"},{"$f":"'40'!$Q$18","v":"2 Left"},{"$f":"'40'!$AA$30","v":"6 Right"},{"$f":"'40'!$AJ$24","v":"4 Right"}]
[{"$f":"'40'!$E$24","v":6},{"$f":"'40'!$I$24","v":"4 Right"},{"$f":"'40'!$R$27","v":"5 Right"},{"$f":"'40'!$AA$21","v":"3 Right"},{"$f":"'40'!$AI$18","v":"2 Left"}]
[{"$f":"'40'!$B$27","v":7},{"$f":"'40'!$H$27","v":"5 Left"},{"$f":"'40'!$R$30","v":"6 Right"},{"$f":"'40'!$Z$24","v":"4 Left"},{"$f":"'40'!$AJ$21","v":"3 Right"}]
[{"$f":"'40'!$E$27","v":8},{"$f":"'40'!$I$27","v":"5 Right"},{"$f":"'40'!$R$21","v":"3 Right"},{"$f":"'40'!$AA$24","v":"4 Right"},{"$f":"'40'!$AJ$18","v":"2 Right"}]
[{"$f":"'40'!$B$30","v":9},{"$f":"'40'!$H$30","v":"6 Left"},{"$f":"'40'!$R$24","v":"4 Right"},{"$f":"'40'!$AA$18","v":"2 Right"},{"$f":"'40'!$AJ$30","v":"6 Right"}]
[{"$f":"'40'!$E$30","v":10},{"$f":"'40'!$I$30","v":"6 Right"},{"$f":"'40'!$R$18","v":"2 Right"},{"$f":"'40'!$AA$27","v":"5 Right"},{"$f":"'40'!$AI$21","v":"3 Left"}]
[{"$f":"'40'!$B$19","v":11},{"$f":"'40'!$H$19","v":"2 Left"},{"$f":"'40'!$Q$28","v":"5 Left"},{"$f":"'40'!$AA$31","v":"6 Right"},{"$f":"'40'!$AJ$22","v":"3 Right"}]
[{"$f":"'40'!$E$19","v":12},{"$f":"'40'!$I$19","v":"2 Right"},{"$f":"'40'!$Q$31","v":"6 Left"},{"$f":"'40'!$AA$22","v":"3 Right"},{"$f":"'40'!$AJ$19","v":"2 Right"}]
[{"$f":"'40'!$B$22","v":13},{"$f":"'40'!$H$22","v":"3 Left"},{"$f":"'40'!$Q$19","v":"2 Left"},{"$f":"'40'!$Z$25","v":"4 Left"},{"$f":"'40'!$AJ$31","v":"6 Right"}]
[{"$f":"'40'!$E$22","v":14},{"$f":"'40'!$I$22","v":"3 Right"},{"$f":"'40'!$R$28","v":"5 Right"},{"$f":"'40'!$AA$25","v":"4 Right"},{"$f":"'40'!$AI$22","v":"3 Left"}]
[{"$f":"'40'!$B$25","v":15},{"$f":"'40'!$H$25","v":"4 Left"},{"$f":"'40'!$R$31","v":"6 Right"},{"$f":"'40'!$AA$19","v":"2 Right"},{"$f":"'40'!$AJ$28","v":"5 Right"}]
[{"$f":"'40'!$E$25","v":16},{"$f":"'40'!$I$25","v":"4 Right"},{"$f":"'40'!$R$22","v":"3 Right"},{"$f":"'40'!$AA$28","v":"5 Right"},{"$f":"'40'!$AI$31","v":"6 Left"}]
[{"$f":"'40'!$B$28","v":17},{"$f":"'40'!$H$28","v":"5 Left"},{"$f":"'40'!$R$25","v":"4 Right"},{"$f":"'40'!$Z$31","v":"6 Left"},{"$f":"'40'!$AI$28","v":"5 Left"}]
[{"$f":"'40'!$E$28","v":18},{"$f":"'40'!$I$28","v":"5 Right"},{"$f":"'40'!$R$19","v":"2 Right"},{"$f":"'40'!$Z$22","v":"3 Left"},{"$f":"'40'!$AI$25","v":"4 Left"}]
[{"$f":"'40'!$B$31","v":19},{"$f":"'40'!$H$31","v":"6 Left"},{"$f":"'40'!$Q$22","v":"3 Left"},{"$f":"'40'!$Z$19","v":"2 Left"},{"$f":"'40'!$AJ$25","v":"4 Right"}]
[{"$f":"'40'!$E$31","v":20},{"$f":"'40'!$I$31","v":"6 Right"},{"$f":"'40'!$Q$25","v":"4 Left"},{"$f":"'40'!$Z$28","v":"5 Left"},{"$f":"'40'!$AI$19","v":"2 Left"}]
[{"$f":"'40'!$B$33","v":21},{"$f":"'40'!$H$33","v":"9 Left"},{"$f":"'40'!$Q$36","v":"10 Left"},{"$f":"'40'!$Z$45","v":"13 Left"},{"$f":"'40'!$AJ$42","v":"12 Right"}]
[{"$f":"'40'!$E$33","v":22},{"$f":"'40'!$I$33","v":"9 Right"},{"$f":"'40'!$Q$39","v":"11 Left"},{"$f":"'40'!$Z$36","v":"10 Left"},{"$f":"'40'!$AI$45","v":"13 Left"}]
[{"$f":"'40'!$B$36","v":23},{"$f":"'40'!$H$36","v":"10 Left"},{"$f":"'40'!$Q$42","v":"12 Left"},{"$f":"'40'!$Z$33","v":"9 Left"},{"$f":"'40'!$AI$42","v":"12 Left"}]
[{"$f":"'40'!$E$36","v":24},{"$f":"'40'!$I$36","v":"10 Right"},{"$f":"'40'!$Q$45","v":"13 Left"},{"$f":"'40'!$Z$42","v":"12 Left"},{"$f":"'40'!$AI$39","v":"11 Left"}]
[{"$f":"'40'!$B$39","v":25},{"$f":"'40'!$H$39","v":"11 Left"},{"$f":"'40'!$Q$33","v":"9 Left"},{"$f":"'40'!$AA$45","v":"13 Right"},{"$f":"'40'!$AJ$39","v":"11 Right"}]
[{"$f":"'40'!$E$39","v":26},{"$f":"'40'!$I$39","v":"11 Right"},{"$f":"'40'!$R$42","v":"12 Right"},{"$f":"'40'!$AA$36","v":"10 Right"},{"$f":"'40'!$AI$33","v":"9 Left"}]
[{"$f":"'40'!$B$42","v":27},{"$f":"'40'!$H$42","v":"12 Left"},{"$f":"'40'!$R$45","v":"13 Right"},{"$f":"'40'!$Z$39","v":"11 Left"},{"$f":"'40'!$AJ$36","v":"10 Right"}]
[{"$f":"'40'!$E$42","v":28},{"$f":"'40'!$I$42","v":"12 Right"},{"$f":"'40'!$R$36","v":"10 Right"},{"$f":"'40'!$AA$39","v":"11 Right"},{"$f":"'40'!$AJ$33","v":"9 Right"}]
[{"$f":"'40'!$B$45","v":29},{"$f":"'40'!$H$45","v":"13 Left"},{"$f":"'40'!$R$39","v":"11 Right"},{"$f":"'40'!$AA$33","v":"9 Right"},{"$f":"'40'!$AJ$45","v":"13 Right"}]
[{"$f":"'40'!$E$45","v":30},{"$f":"'40'!$I$45","v":"13 Right"},{"$f":"'40'!$R$33","v":"9 Right"},{"$f":"'40'!$AA$42","v":"12 Right"},{"$f":"'40'!$AI$36","v":"10 Left"}]
[{"$f":"'40'!$B$34","v":31},{"$f":"'40'!$H$34","v":"9 Left"},{"$f":"'40'!$Q$43","v":"12 Left"},{"$f":"'40'!$AA$46","v":"13 Right"},{"$f":"'40'!$AJ$37","v":"10 Right"}]
[{"$f":"'40'!$E$34","v":32},{"$f":"'40'!$I$34","v":"9 Right"},{"$f":"'40'!$Q$46","v":"13 Left"},{"$f":"'40'!$AA$37","v":"10 Right"},{"$f":"'40'!$AJ$34","v":"9 Right"}]
[{"$f":"'40'!$B$37","v":33},{"$f":"'40'!$H$37","v":"10 Left"},{"$f":"'40'!$Q$34","v":"9 Left"},{"$f":"'40'!$Z$40","v":"11 Left"},{"$f":"'40'!$AJ$46","v":"13 Right"}]
[{"$f":"'40'!$E$37","v":34},{"$f":"'40'!$I$37","v":"10 Right"},{"$f":"'40'!$R$43","v":"12 Right"},{"$f":"'40'!$AA$40","v":"11 Right"},{"$f":"'40'!$AI$37","v":"10 Left"}]
[{"$f":"'40'!$B$40","v":35},{"$f":"'40'!$H$40","v":"11 Left"},{"$f":"'40'!$R$46","v":"13 Right"},{"$f":"'40'!$AA$34","v":"9 Right"},{"$f":"'40'!$AJ$43","v":"12 Right"}]
[{"$f":"'40'!$E$40","v":36},{"$f":"'40'!$I$40","v":"11 Right"},{"$f":"'40'!$R$37","v":"10 Right"},{"$f":"'40'!$AA$43","v":"12 Right"},{"$f":"'40'!$AI$46","v":"13 Left"}]
[{"$f":"'40'!$B$43","v":37},{"$f":"'40'!$H$43","v":"12 Left"},{"$f":"'40'!$R$40","v":"11 Right"},{"$f":"'40'!$Z$46","v":"13 Left"},{"$f":"'40'!$AI$43","v":"12 Left"}]
[{"$f":"'40'!$E$43","v":38},{"$f":"'40'!$I$43","v":"12 Right"},{"$f":"'40'!$R$34","v":"9 Right"},{"$f":"'40'!$Z$37","v":"10 Left"},{"$f":"'40'!$AI$40","v":"11 Left"}]
[{"$f":"'40'!$B$46","v":39},{"$f":"'40'!$H$46","v":"13 Left"},{"$f":"'40'!$Q$37","v":"10 Left"},{"$f":"'40'!$Z$34","v":"9 Left"},{"$f":"'40'!$AJ$40","v":"11 Right"}]
[{"$f":"'40'!$E$46","v":40},{"$f":"'40'!$I$46","v":"13 Right"},{"$f":"'40'!$Q$40","v":"11 Left"},{"$f":"'40'!$Z$43","v":"12 Left"},{"$f":"'40'!$AI$34","v":"9 Left"}]
[]
[{"$f":"'38'!$B$18","v":1},{"$f":"'38'!$H$18","v":"2 Left"},{"$f":"'38'!$Q$21","v":"3 Left"},{"$f":"'38'!$Z$30","v":"6 Left"},{"$f":"'38'!$AJ$27","v":"5 Right"},{"$nulls":6},38]
[{"$f":"'38'!$E$18","v":2},{"$f":"'38'!$I$18","v":"2 Right"},{"$f":"'38'!$Q$24","v":"4 Left"},{"$f":"'38'!$Z$21","v":"3 Left"},{"$f":"'38'!$AI$30","v":"6 Left"}]
[{"$f":"'38'!$B$21","v":3},{"$f":"'38'!$H$21","v":"3 Left"},{"$f":"'38'!$Q$27","v":"5 Left"},{"$f":"'38'!$Z$18","v":"2 Left"},{"$f":"'38'!$AI$27","v":"5 Left"}]
[{"$f":"'38'!$E$21","v":4},{"$f":"'38'!$I$21","v":"3 Right"},{"$f":"'38'!$Q$30","v":"6 Left"},{"$f":"'38'!$Z$27","v":"5 Left"},{"$f":"'38'!$AI$24","v":"4 Left"}]
[{"$f":"'38'!$B$24","v":5},{"$f":"'38'!$H$24","v":"4 Left"},{"$f":"'38'!$Q$18","v":"2 Left"},{"$f":"'38'!$AA$30","v":"6 Right"},{"$f":"'38'!$AJ$24","v":"4 Right"}]
[{"$f":"'38'!$E$24","v":6},{"$f":"'38'!$I$24","v":"4 Right"},{"$f":"'38'!$R$27","v":"5 Right"},{"$f":"'38'!$AA$21","v":"3 Right"},{"$f":"'38'!$AI$18","v":"2 Left"}]
[{"$f":"'38'!$B$27","v":7},{"$f":"'38'!$H$27","v":"5 Left"},{"$f":"'38'!$R$30","v":"6 Right"},{"$f":"'38'!$Z$24","v":"4 Left"},{"$f":"'38'!$AJ$21","v":"3 Right"}]
[{"$f":"'38'!$E$27","v":8},{"$f":"'38'!$I$27","v":"5 Right"},{"$f":"'38'!$R$21","v":"3 Right"},{"$f":"'38'!$AA$24","v":"4 Right"},{"$f":"'38'!$AJ$18","v":"2 Right"}]
[{"$f":"'38'!$B$30","v":9},{"$f":"'38'!$H$30","v":"6 Left"},{"$f":"'38'!$R$24","v":"4 Right"},{"$f":"'38'!$AA$18","v":"2 Right"},{"$f":"'38'!$AJ$30","v":"6 Right"}]
[{"$f":"'38'!$E$30","v":10},{"$f":"'38'!$I$30","v":"6 Right"},{"$f":"'38'!$R$18","v":"2 Right"},{"$f":"'38'!$AA$27","v":"5 Right"},{"$f":"'38'!$AI$21","v":"3 Left"}]
[{"$f":"'38'!$B$19","v":11},{"$f":"'38'!$H$19","v":"2 Left"},{"$f":"'38'!$Q$28","v":"5 Left"},{"$f":"'38'!$AA$31","v":"6 Right"},{"$f":"'38'!$AJ$22","v":"3 Right"}]
[{"$f":"'38'!$E$19","v":12},{"$f":"'38'!$I$19","v":"2 Right"},{"$f":"'38'!$Q$31","v":"6 Left"},{"$f":"'38'!$AA$22","v":"3 Right"},{"$f":"'38'!$AJ$19","v":"2 Right"}]
[{"$f":"'38'!$B$22","v":13},{"$f":"'38'!$H$22","v":"3 Left"},{"$f":"'38'!$Q$19","v":"2 Left"},{"$f":"'38'!$Z$25","v":"4 Left"},{"$f":"'38'!$AJ$31","v":"6 Right"}]
[{"$f":"'38'!$E$22","v":14},{"$f":"'38'!$I$22","v":"3 Right"},{"$f":"'38'!$R$28","v":"5 Right"},{"$f":"'38'!$AA$25","v":"4 Right"},{"$f":"'38'!$AI$22","v":"3 Left"}]
[{"$f":"'38'!$B$25","v":15},{"$f":"'38'!$H$25","v":"4 Left"},{"$f":"'38'!$R$31","v":"6 Right"},{"$f":"'38'!$AA$19","v":"2 Right"},{"$f":"'38'!$AJ$28","v":"5 Right"}]
[{"$f":"'38'!$E$25","v":16},{"$f":"'38'!$I$25","v":"4 Right"},{"$f":"'38'!$R$22","v":"3 Right"},{"$f":"'38'!$AA$28","v":"5 Right"},{"$f":"'38'!$AI$31","v":"6 Left"}]
[{"$f":"'38'!$B$28","v":17},{"$f":"'38'!$H$28","v":"5 Left"},{"$f":"'38'!$R$25","v":"4 Right"},{"$f":"'38'!$Z$31","v":"6 Left"},{"$f":"'38'!$AI$28","v":"5 Left"}]
[{"$f":"'38'!$E$28","v":18},{"$f":"'38'!$I$28","v":"5 Right"},{"$f":"'38'!$R$19","v":"2 Right"},{"$f":"'38'!$Z$22","v":"3 Left"},{"$f":"'38'!$AI$25","v":"4 Left"}]
[{"$f":"'38'!$B$31","v":19},{"$f":"'38'!$H$31","v":"6 Left"},{"$f":"'38'!$Q$22","v":"3 Left"},{"$f":"'38'!$Z$19","v":"2 Left"},{"$f":"'38'!$AJ$25","v":"4 Right"}]
[{"$f":"'38'!$E$31","v":20},{"$f":"'38'!$I$31","v":"6 Right"},{"$f":"'38'!$Q$25","v":"4 Left"},{"$f":"'38'!$Z$28","v":"5 Left"},{"$f":"'38'!$AI$19","v":"2 Left"}]
[{"$f":"'38'!$B$33","v":21},{"$f":"'38'!$H$33","v":"9 Left"},{"$f":"'38'!$Q$39","v":"11 Left"},{"$f":"'38'!$Z$36","v":"10 Left"},{"$f":"'38'!$AI$33","v":"9 Left"}]
[{"$f":"'38'!$E$33","v":22},{"$f":"'38'!$I$33","v":"9 Right"},{"$f":"'38'!$Q$36","v":"10 Left"},{"$f":"'38'!$Z$42","v":"12 Left"},{"$f":"'38'!$AI$39","v":"11 Left"}]
[{"$f":"'38'!$E$39","v":23},{"$f":"'38'!$I$39","v":"11 Right"},{"$f":"'38'!$Q$33","v":"9 Left"},{"$f":"'38'!$AA$36","v":"10 Right"},{"$f":"'38'!$AJ$42","v":"12 Right"}]
[{"$f":"'38'!$B$42","v":24},{"$f":"'38'!$H$42","v":"12 Left"},{"$f":"'38'!$R$36","v":"10 Right"},{"$f":"'38'!$Z$33","v":"9 Left"},{"$f":"'38'!$AJ$36","v":"10 Right"}]
[{"$f":"'38'!$E$36","v":25},{"$f":"'38'!$I$36","v":"10 Right"},{"$f":"'38'!$Q$42","v":"12 Left"},{"$f":"'38'!$AA$33","v":"9 Right"},{"$f":"'38'!$AJ$39","v":"11 Right"}]
[{"$f":"'38'!$B$36","v":26},{"$f":"'38'!$H$36","v":"10 Left"},{"$f":"'38'!$R$39","v":"11 Right"},{"$f":"'38'!$Z$35","v":"9 Left"},{"$f":"'38'!$AI$36","v":"10 Left"}]
[{"$f":"'38'!$B$39","v":27},{"$f":"'38'!$H$39","v":"11 Left"},{"$f":"'38'!$R$33","v":"9 Right"},{"$f":"'38'!$AA$42","v":"12 Right"},{"$f":"'38'!$AJ$33","v":"9 Right"}]
[{"$f":"'38'!$E$42","v":28},{"$f":"'38'!$I$42","v":"12 Right"},{"$f":"'38'!$Q$35","v":"9 Left"},{"$f":"'38'!$Z$39","v":"11 Left"},{"$f":"'38'!$AI$35","v":"9 Left"}]
[{"$f":"'38'!$B$35","v":29},{"$f":"'38'!$H$35","v":"9 Left"},{"$f":"'38'!$R$42","v":"12 Right"},{"$f":"'38'!$AA$39","v":"11 Right"},{"$f":"'38'!$AI$42","v":"12 Left"}]
[{"$f":"'38'!$B$34","v":30},{"$f":"'38'!$H$34","v":"9 Left"},{"$f":"'38'!$Q$43","v":"12 Left"},{"$f":"'38'!$Z$40","v":"11 Left"},{"$f":"'38'!$AJ$35","v":"9 Right"}]
[{"$f":"'38'!$E$34","v":31},{"$f":"'38'!$I$34","v":"9 Right"},{"$f":"'38'!$R$40","v":"11 Right"},{"$f":"'38'!$Z$37","v":"10 Left"},{"$f":"'38'!$AI$43","v":"12 Left"}]
[{"$f":"'38'!$E$40","v":32},{"$f":"'38'!$I$40","v":"11 Right"},{"$f":"'38'!$R$34","v":"9 Right"},{"$f":"'38'!$Z$43","v":"12 Left"},{"$f":"'38'!$AI$34","v":"9 Left"}]
[{"$f":"'38'!$E$43","v":33},{"$f":"'38'!$I$43","v":"12 Right"},{"$f":"'38'!$R$35","v":"9 Right"},{"$f":"'38'!$AA$37","v":"10 Right"},{"$f":"'38'!$AJ$40","v":"11 Right"}]
[{"$f":"'38'!$E$37","v":34},{"$f":"'38'!$I$37","v":"10 Right"},{"$f":"'38'!$R$43","v":"12 Right"},{"$f":"'38'!$Z$34","v":"9 Left"},{"$f":"'38'!$AI$40","v":"11 Left"}]
[{"$f":"'38'!$B$37","v":35},{"$f":"'38'!$H$37","v":"10 Left"},{"$f":"'38'!$Q$40","v":"11 Left"},{"$f":"'38'!$AA$34","v":"9 Right"},{"$f":"'38'!$AJ$37","v":"10 Right"}]
[{"$f":"'38'!$B$40","v":36},{"$f":"'38'!$H$40","v":"11 Left"},{"$f":"'38'!$Q$37","v":"10 Left"},{"$f":"'38'!$AA$35","v":"9 Right"},{"$f":"'38'!$AJ$43","v":"12 Right"}]
[{"$f":"'38'!$B$43","v":37},{"$f":"'38'!$H$43","v":"12 Left"},{"$f":"'38'!$Q$34","v":"9 Left"},{"$f":"'38'!$AA$43","v":"12 Right"},{"$f":"'38'!$AI$37","v":"10 Left"}]
[{"$f":"'38'!$E$35","v":38},{"$f":"'38'!$I$35","v":"9 Right"},{"$f":"'38'!$R$37","v":"10 Right"},{"$f":"'38'!$AA$40","v":"11 Right"},{"$f":"'38'!$AJ$34","v":"9 Right"}]
[]
[{"$f":"'36'!$B$18","v":1},{"$f":"'36'!$H$18","v":"2 Left"},{"$f":"'36'!$Q$21","v":"3 Left"},{"$f":"'36'!$Z$30","v":"6 Left"},{"$f":"'36'!$AJ$27","v":"5 Right"},{"$nulls":6},36]
[{"$f":"'36'!$E$18","v":2},{"$f":"'36'!$I$18","v":"2 Right"},{"$f":"'36'!$Q$24","v":"4 Left"},{"$f":"'36'!$Z$21","v":"3 Left"},{"$f":"'36'!$AI$30","v":"6 Left"}]
[{"$f":"'36'!$B$21","v":3},{"$f":"'36'!$H$21","v":"3 Left"},{"$f":"'36'!$Q$27","v":"5 Left"},{"$f":"'36'!$Z$18","v":"2 Left"},{"$f":"'36'!$AI$27","v":"5 Left"}]
[{"$f":"'36'!$E$21","v":4},{"$f":"'36'!$I$21","v":"3 Right"},{"$f":"'36'!$Q$30","v":"6 Left"},{"$f":"'36'!$Z$27","v":"5 Left"},{"$f":"'36'!$AI$24","v":"4 Left"}]
[{"$f":"'36'!$B$24","v":5},{"$f":"'36'!$H$24","v":"4 Left"},{"$f":"'36'!$Q$18","v":"2 Left"},{"$f":"'36'!$AA$30","v":"6 Right"},{"$f":"'36'!$AJ$24","v":"4 Right"}]
[{"$f":"'36'!$E$24","v":6},{"$f":"'36'!$I$24","v":"4 Right"},{"$f":"'36'!$R$27","v":"5 Right"},{"$f":"'36'!$AA$21","v":"3 Right"},{"$f":"'36'!$AI$18","v":"2 Left"}]
[{"$f":"'36'!$B$27","v":7},{"$f":"'36'!$H$27","v":"5 Left"},{"$f":"'36'!$R$30","v":"6 Right"},{"$f":"'36'!$Z$24","v":"4 Left"},{"$f":"'36'!$AJ$21","v":"3 Right"}]
[{"$f":"'36'!$E$27","v":8},{"$f":"'36'!$I$27","v":"5 Right"},{"$f":"'36'!$R$21","v":"3 Right"},{"$f":"'36'!$AA$24","v":"4 Right"},{"$f":"'36'!$AJ$18","v":"2 Right"}]
[{"$f":"'36'!$B$30","v":9},{"$f":"'36'!$H$30","v":"6 Left"},{"$f":"'36'!$R$24","v":"4 Right"},{"$f":"'36'!$AA$18","v":"2 Right"},{"$f":"'36'!$AJ$30","v":"6 Right"}]
[{"$f":"'36'!$E$30","v":10},{"$f":"'36'!$I$30","v":"6 Right"},{"$f":"'36'!$R$18","v":"2 Right"},{"$f":"'36'!$AA$27","v":"5 Right"},{"$f":"'36'!$AI$21","v":"3 Left"}]
[{"$f":"'36'!$B$19","v":11},{"$f":"'36'!$H$19","v":"2 Left"},{"$f":"'36'!$Q$28","v":"5 Left"},{"$f":"'36'!$AA$31","v":"6 Right"},{"$f":"'36'!$AJ$22","v":"3 Right"}]
[{"$f":"'36'!$E$19","v":12},{"$f":"'36'!$I$19","v":"2 Right"},{"$f":"'36'!$Q$31","v":"6 Left"},{"$f":"'36'!$AA$22","v":"3 Right"},{"$f":"'36'!$AJ$19","v":"2 Right"}]
[{"$f":"'36'!$B$22","v":13},{"$f":"'36'!$H$22","v":"3 Left"},{"$f":"'36'!$Q$19","v":"2 Left"},{"$f":"'36'!$Z$25","v":"4 Left"},{"$f":"'36'!$AJ$31","v":"6 Right"}]
[{"$f":"'36'!$E$22","v":14},{"$f":"'36'!$I$22","v":"3 Right"},{"$f":"'36'!$R$28","v":"5 Right"},{"$f":"'36'!$AA$25","v":"4 Right"},{"$f":"'36'!$AI$22","v":"3 Left"}]
[{"$f":"'36'!$B$25","v":15},{"$f":"'36'!$H$25","v":"4 Left"},{"$f":"'36'!$R$31","v":"6 Right"},{"$f":"'36'!$AA$19","v":"2 Right"},{"$f":"'36'!$AJ$28","v":"5 Right"}]
[{"$f":"'36'!$E$25","v":16},{"$f":"'36'!$I$25","v":"4 Right"},{"$f":"'36'!$R$22","v":"3 Right"},{"$f":"'36'!$AA$28","v":"5 Right"},{"$f":"'36'!$AI$31","v":"6 Left"}]
[{"$f":"'36'!$B$28","v":17},{"$f":"'36'!$H$28","v":"5 Left"},{"$f":"'36'!$R$25","v":"4 Right"},{"$f":"'36'!$Z$31","v":"6 Left"},{"$f":"'36'!$AI$28","v":"5 Left"}]
[{"$f":"'36'!$E$28","v":18},{"$f":"'36'!$I$28","v":"5 Right"},{"$f":"'36'!$R$19","v":"2 Right"},{"$f":"'36'!$Z$22","v":"3 Left"},{"$f":"'36'!$AI$25","v":"4 Left"}]
[{"$f":"'36'!$B$31","v":19},{"$f":"'36'!$H$31","v":"6 Left"},{"$f":"'36'!$Q$22","v":"3 Left"},{"$f":"'36'!$Z$19","v":"2 Left"},{"$f":"'36'!$AJ$25","v":"4 Right"}]
[{"$f":"'36'!$E$31","v":20},{"$f":"'36'!$I$31","v":"6 Right"},{"$f":"'36'!$Q$25","v":"4 Left"},{"$f":"'36'!$Z$28","v":"5 Left"},{"$f":"'36'!$AI$19","v":"2 Left"}]
[{"$f":"'36'!$B$33","v":21},{"$f":"'36'!$H$33","v":"9 Left"},{"$f":"'36'!$Q$36","v":"10 Left"},{"$f":"'36'!$Z$39","v":"11 Left"},{"$f":"'36'!$AI$42","v":"12 Left"}]
[{"$f":"'36'!$E$33","v":22},{"$f":"'36'!$I$33","v":"9 Right"},{"$f":"'36'!$Q$39","v":"11 Left"},{"$f":"'36'!$Z$42","v":"12 Left"},{"$f":"'36'!$AI$39","v":"11 Left"}]
[{"$f":"'36'!$B$36","v":23},{"$f":"'36'!$H$36","v":"10 Left"},{"$f":"'36'!$R$39","v":"11 Right"},{"$f":"'36'!$Z$33","v":"9 Left"},{"$f":"'36'!$AJ$42","v":"12 Right"}]
[{"$f":"'36'!$E$36","v":24},{"$f":"'36'!$I$36","v":"10 Right"},{"$f":"'36'!$Q$42","v":"12 Left"},{"$f":"'36'!$Z$36","v":"10 Left"},{"$f":"'36'!$AJ$39","v":"11 Right"}]
[{"$f":"'36'!$B$39","v":25},{"$f":"'36'!$H$39","v":"11 Left"},{"$f":"'36'!$R$42","v":"12 Right"},{"$f":"'36'!$AA$33","v":"9 Right"},{"$f":"'36'!$AI$36","v":"10 Left"}]
[{"$f":"'36'!$E$39","v":26},{"$f":"'36'!$I$39","v":"11 Right"},{"$f":"'36'!$Q$33","v":"9 Left"},{"$f":"'36'!$AA$36","v":"10 Right"},{"$f":"'36'!$AJ$33","v":"9 Right"}]
[{"$f":"'36'!$B$42","v":27},{"$f":"'36'!$H$42","v":"12 Left"},{"$f":"'36'!$R$36","v":"10 Right"},{"$f":"'36'!$AA$42","v":"12 Right"},{"$f":"'36'!$AI$33","v":"9 Left"}]
[{"$f":"'36'!$E$42","v":28},{"$f":"'36'!$I$42","v":"12 Right"},{"$f":"'36'!$R$33","v":"9 Right"},{"$f":"'36'!$AA$39","v":"11 Right"},{"$f":"'36'!$AJ$36","v":"10 Right"}]
[{"$f":"'36'!$B$34","v":29},{"$f":"'36'!$H$34","v":"9 Left"},{"$f":"'36'!$R$40","v":"11 Right"},{"$f":"'36'!$AA$43","v":"12 Right"},{"$f":"'36'!$AJ$40","v":"11 Right"}]
[{"$f":"'36'!$E$34","v":30},{"$f":"'36'!$I$34","v":"9 Right"},{"$f":"'36'!$Q$43","v":"12 Left"},{"$f":"'36'!$AA$40","v":"11 Right"},{"$f":"'36'!$AI$37","v":"10 Left"}]
[{"$f":"'36'!$B$37","v":31},{"$f":"'36'!$H$37","v":"10 Left"},{"$f":"'36'!$R$43","v":"12 Right"},{"$f":"'36'!$Z$40","v":"11 Left"},{"$f":"'36'!$AJ$34","v":"9 Right"}]
[{"$f":"'36'!$E$37","v":32},{"$f":"'36'!$I$37","v":"10 Right"},{"$f":"'36'!$Q$34","v":"9 Left"},{"$f":"'36'!$Z$43","v":"12 Left"},{"$f":"'36'!$AI$34","v":"9 Left"}]
[{"$f":"'36'!$B$40","v":33},{"$f":"'36'!$H$40","v":"11 Left"},{"$f":"'36'!$R$37","v":"10 Right"},{"$f":"'36'!$Z$34","v":"9 Left"},{"$f":"'36'!$AJ$37","v":"10 Right"}]
[{"$f":"'36'!$E$40","v":34},{"$f":"'36'!$I$40","v":"11 Right"},{"$f":"'36'!$R$34","v":"9 Right"},{"$f":"'36'!$Z$37","v":"10 Left"},{"$f":"'36'!$AI$43","v":"12 Left"}]
[{"$f":"'36'!$B$43","v":35},{"$f":"'36'!$H$43","v":"12 Left"},{"$f":"'36'!$Q$37","v":"10 Left"},{"$f":"'36'!$AA$34","v":"9 Right"},{"$f":"'36'!$AI$40","v":"11 Left"}]
[{"$f":"'36'!$E$43","v":36},{"$f":"'36'!$I$43","v":"12 Right"},{"$f":"'36'!$Q$40","v":"11 Left"},{"$f":"'36'!$AA$37","v":"10 Right"},{"$f":"'36'!$AJ$43","v":"12 Right"}]
[]
[{"$f":"'34'!$B$18","v":1},{"$f":"'34'!$H$18","v":"1 Left"},{"$f":"'34'!$Q$24","v":"3 Left"},{"$f":"'34'!$Z$21","v":"2 Left"},{"$f":"'34'!$AI$18","v":"1 Left"},{"$nulls":6},34]
[{"$f":"'34'!$E$18","v":2},{"$f":"'34'!$I$18","v":"1 Right"},{"$f":"'34'!$Q$21","v":"2 Left"},{"$f":"'34'!$Z$27","v":"4 Left"},{"$f":"'34'!$AI$24","v":"3 Left"}]
[{"$f":"'34'!$E$24","v":3},{"$f":"'34'!$I$24","v":"3 Right"},{"$f":"'34'!$Q$18","v":"1 Left"},{"$f":"'34'!$AA$21","v":"2 Right"},{"$f":"'34'!$AJ$27","v":"4 Right"}]
[{"$f":"'34'!$B$27","v":4},{"$f":"'34'!$H$27","v":"4 Left"},{"$f":"'34'!$R$21","v":"2 Right"},{"$f":"'34'!$Z$18","v":"1 Left"},{"$f":"'34'!$AJ$21","v":"2 Right"}]
[{"$f":"'34'!$E$21","v":5},{"$f":"'34'!$I$21","v":"2 Right"},{"$f":"'34'!$Q$27","v":"4 Left"},{"$f":"'34'!$AA$18","v":"1 Right"},{"$f":"'34'!$AJ$24","v":"3 Right"}]
[{"$f":"'34'!$B$21","v":6},{"$f":"'34'!$H$21","v":"2 Left"},{"$f":"'34'!$R$24","v":"3 Right"},{"$f":"'34'!$Z$20","v":"1 Left"},{"$f":"'34'!$AI$21","v":"2 Left"}]
[{"$f":"'34'!$B$24","v":7},{"$f":"'34'!$H$24","v":"3 Left"},{"$f":"'34'!$R$18","v":"1 Right"},{"$f":"'34'!$AA$27","v":"4 Right"},{"$f":"'34'!$AJ$18","v":"1 Right"}]
[{"$f":"'34'!$E$27","v":8},{"$f":"'34'!$I$27","v":"4 Right"},{"$f":"'34'!$Q$20","v":"1 Left"},{"$f":"'34'!$Z$24","v":"3 Left"},{"$f":"'34'!$AI$20","v":"1 Left"}]
[{"$f":"'34'!$B$20","v":9},{"$f":"'34'!$H$20","v":"1 Left"},{"$f":"'34'!$R$27","v":"4 Right"},{"$f":"'34'!$AA$24","v":"3 Right"},{"$f":"'34'!$AI$27","v":"4 Left"}]
[{"$f":"'34'!$B$19","v":10},{"$f":"'34'!$H$19","v":"1 Left"},{"$f":"'34'!$Q$28","v":"4 Left"},{"$f":"'34'!$Z$25","v":"3 Left"},{"$f":"'34'!$AJ$20","v":"1 Right"}]
[{"$f":"'34'!$E$19","v":11},{"$f":"'34'!$I$19","v":"1 Right"},{"$f":"'34'!$R$25","v":"3 Right"},{"$f":"'34'!$Z$22","v":"2 Left"},{"$f":"'34'!$AI$28","v":"4 Left"}]
[{"$f":"'34'!$E$25","v":12},{"$f":"'34'!$I$25","v":"3 Right"},{"$f":"'34'!$R$19","v":"1 Right"},{"$f":"'34'!$Z$28","v":"4 Left"},{"$f":"'34'!$AI$19","v":"1 Left"}]
[{"$f":"'34'!$E$28","v":13},{"$f":"'34'!$I$28","v":"4 Right"},{"$f":"'34'!$R$20","v":"1 Right"},{"$f":"'34'!$AA$22","v":"2 Right"},{"$f":"'34'!$AJ$25","v":"3 Right"}]
[{"$f":"'34'!$E$22","v":14},{"$f":"'34'!$I$22","v":"2 Right"},{"$f":"'34'!$R$28","v":"4 Right"},{"$f":"'34'!$Z$19","v":"1 Left"},{"$f":"'34'!$AI$25","v":"3 Left"}]
[{"$f":"'34'!$B$22","v":15},{"$f":"'34'!$H$22","v":"2 Left"},{"$f":"'34'!$Q$25","v":"3 Left"},{"$f":"'34'!$AA$19","v":"1 Right"},{"$f":"'34'!$AJ$22","v":"2 Right"}]
[{"$f":"'34'!$B$25","v":16},{"$f":"'34'!$H$25","v":"3 Left"},{"$f":"'34'!$Q$22","v":"2 Left"},{"$f":"'34'!$AA$20","v":"1 Right"},{"$f":"'34'!$AJ$28","v":"4 Right"}]
[{"$f":"'34'!$B$28","v":17},{"$f":"'34'!$H$28","v":"4 Left"},{"$f":"'34'!$Q$19","v":"1 Left"},{"$f":"'34'!$AA$28","v":"4 Right"},{"$f":"'34'!$AI$22","v":"2 Left"}]
[{"$f":"'34'!$E$20","v":18},{"$f":"'34'!$I$20","v":"1 Right"},{"$f":"'34'!$R$22","v":"2 Right"},{"$f":"'34'!$AA$25","v":"3 Right"},{"$f":"'34'!$AJ$19","v":"1 Right"}]
[{"$f":"'34'!$B$30","v":19},{"$f":"'34'!$H$30","v":"9 Left"},{"$f":"'34'!$Q$33","v":"10 Left"},{"$f":"'34'!$Z$36","v":"11 Left"},{"$f":"'34'!$AI$39","v":"12 Left"}]
[{"$f":"'34'!$E$30","v":20},{"$f":"'34'!$I$30","v":"9 Right"},{"$f":"'34'!$Q$36","v":"11 Left"},{"$f":"'34'!$Z$39","v":"12 Left"},{"$f":"'34'!$AI$36","v":"11 Left"}]
[{"$f":"'34'!$B$33","v":21},{"$f":"'34'!$H$33","v":"10 Left"},{"$f":"'34'!$R$36","v":"11 Right"},{"$f":"'34'!$Z$30","v":"9 Left"},{"$f":"'34'!$AJ$39","v":"12 Right"}]
[{"$f":"'34'!$E$33","v":22},{"$f":"'34'!$I$33","v":"10 Right"},{"$f":"'34'!$Q$39","v":"12 Left"},{"$f":"'34'!$Z$33","v":"10 Left"},{"$f":"'34'!$AJ$36","v":"11 Right"}]
[{"$f":"'34'!$B$36","v":23},{"$f":"'34'!$H$36","v":"11 Left"},{"$f":"'34'!$R$39","v":"12 Right"},{"$f":"'34'!$AA$30","v":"9 Right"},{"$f":"'34'!$AI$33","v":"10 Left"}]
[{"$f":"'34'!$E$36","v":24},{"$f":"'34'!$I$36","v":"11 Right"},{"$f":"'34'!$Q$30","v":"9 Left"},{"$f":"'34'!$AA$33","v":"10 Right"},{"$f":"'34'!$AJ$30","v":"9 Right"}]
[{"$f":"'34'!$B$39","v":25},{"$f":"'34'!$H$39","v":"12 Left"},{"$f":"'34'!$R$33","v":"10 Right"},{"$f":"'34'!$AA$39","v":"12 Right"},{"$f":"'34'!$AI$30","v":"9 Left"}]
[{"$f":"'34'!$E$39","v":26},{"$f":"'34'!$I$39","v":"12 Right"},{"$f":"'34'!$R$30","v":"9 Right"},{"$f":"'34'!$AA$36","v":"11 Right"},{"$f":"'34'!$AJ$33","v":"10 Right"}]
[{"$f":"'34'!$B$31","v":27},{"$f":"'34'!$H$31","v":"9 Left"},{"$f":"'34'!$R$37","v":"11 Right"},{"$f":"'34'!$AA$40","v":"12 Right"},{"$f":"'34'!$AJ$37","v":"11 Right"}]
[{"$f":"'34'!$E$31","v":28},{"$f":"'34'!$I$31","v":"9 Right"},{"$f":"'34'!$Q$40","v":"12 Left"},{"$f":"'34'!$AA$37","v":"11 Right"},{"$f":"'34'!$AI$34","v":"10 Left"}]
[{"$f":"'34'!$B$34","v":29},{"$f":"'34'!$H$34","v":"10 Left"},{"$f":"'34'!$R$40","v":"12 Right"},{"$f":"'34'!$Z$37","v":"11 Left"},{"$f":"'34'!$AJ$31","v":"9 Right"}]
[{"$f":"'34'!$E$34","v":30},{"$f":"'34'!$I$34","v":"10 Right"},{"$f":"'34'!$Q$31","v":"9 Left"},{"$f":"'34'!$Z$40","v":"12 Left"},{"$f":"'34'!$AI$31","v":"9 Left"}]
[{"$f":"'34'!$B$37","v":31},{"$f":"'34'!$H$37","v":"11 Left"},{"$f":"'34'!$R$34","v":"10 Right"},{"$f":"'34'!$Z$31","v":"9 Left"},{"$f":"'34'!$AJ$34","v":"10 Right"}]
[{"$f":"'34'!$E$37","v":32},{"$f":"'34'!$I$37","v":"11 Right"},{"$f":"'34'!$R$31","v":"9 Right"},{"$f":"'34'!$Z$34","v":"10 Left"},{"$f":"'34'!$AI$40","v":"12 Left"}]
[{"$f":"'34'!$B$40","v":33},{"$f":"'34'!$H$40","v":"12 Left"},{"$f":"'34'!$Q$34","v":"10 Left"},{"$f":"'34'!$AA$31","v":"9 Right"},{"$f":"'34'!$AI$37","v":"11 Left"}]
[{"$f":"'34'!$E$40","v":34},{"$f":"'34'!$I$40","v":"12 Right"},{"$f":"'34'!$Q$37","v":"11 Left"},{"$f":"'34'!$AA$34","v":"10 Right"},{"$f":"'34'!$AJ$40","v":"12 Right"}]
[]
[{"$f":"'32'!$B$18","v":1},{"$f":"'32'!$H$18","v":"2 Left"},{"$f":"'32'!$Q$21","v":"3 Left"},{"$f":"'32'!$Z$24","v":"4 Left"},{"$f":"'32'!$AI$27","v":"5 Left"},{"$nulls":6},32]
[{"$f":"'32'!$E$18","v":2},{"$f":"'32'!$I$18","v":"2 Right"},{"$f":"'32'!$Q$24","v":"4 Left"},{"$f":"'32'!$Z$27","v":"5 Left"},{"$f":"'32'!$AI$24","v":"4 Left"}]
[{"$f":"'32'!$B$21","v":3},{"$f":"'32'!$H$21","v":"3 Left"},{"$f":"'32'!$R$24","v":"4 Right"},{"$f":"'32'!$Z$18","v":"2 Left"},{"$f":"'32'!$AJ$27","v":"5 Right"}]
[{"$f":"'32'!$E$21","v":4},{"$f":"'32'!$I$21","v":"3 Right"},{"$f":"'32'!$Q$27","v":"5 Left"},{"$f":"'32'!$Z$21","v":"3 Left"},{"$f":"'32'!$AJ$24","v":"4 Right"}]
[{"$f":"'32'!$B$24","v":5},{"$f":"'32'!$H$24","v":"4 Left"},{"$f":"'32'!$R$27","v":"5 Right"},{"$f":"'32'!$AA$18","v":"2 Right"},{"$f":"'32'!$AI$21","v":"3 Left"}]
[{"$f":"'32'!$E$24","v":6},{"$f":"'32'!$I$24","v":"4 Right"},{"$f":"'32'!$Q$18","v":"2 Left"},{"$f":"'32'!$AA$21","v":"3 Right"},{"$f":"'32'!$AJ$18","v":"2 Right"}]
[{"$f":"'32'!$B$27","v":7},{"$f":"'32'!$H$27","v":"5 Left"},{"$f":"'32'!$R$21","v":"3 Right"},{"$f":"'32'!$AA$27","v":"5 Right"},{"$f":"'32'!$AI$18","v":"2 Left"}]
[{"$f":"'32'!$E$27","v":8},{"$f":"'32'!$I$27","v":"5 Right"},{"$f":"'32'!$R$18","v":"2 Right"},{"$f":"'32'!$AA$24","v":"4 Right"},{"$f":"'32'!$AJ$21","v":"3 Right"}]
[{"$f":"'32'!$B$19","v":9},{"$f":"'32'!$H$19","v":"2 Left"},{"$f":"'32'!$R$25","v":"4 Right"},{"$f":"'32'!$AA$28","v":"5 Right"},{"$f":"'32'!$AJ$25","v":"4 Right"}]
[{"$f":"'32'!$E$19","v":10},{"$f":"'32'!$I$19","v":"2 Right"},{"$f":"'32'!$Q$28","v":"5 Left"},{"$f":"'32'!$AA$25","v":"4 Right"},{"$f":"'32'!$AI$22","v":"3 Left"}]
[{"$f":"'32'!$B$22","v":11},{"$f":"'32'!$H$22","v":"3 Left"},{"$f":"'32'!$R$28","v":"5 Right"},{"$f":"'32'!$Z$25","v":"4 Left"},{"$f":"'32'!$AJ$19","v":"2 Right"}]
[{"$f":"'32'!$E$22","v":12},{"$f":"'32'!$I$22","v":"3 Right"},{"$f":"'32'!$Q$19","v":"2 Left"},{"$f":"'32'!$Z$28","v":"5 Left"},{"$f":"'32'!$AI$19","v":"2 Left"}]
[{"$f":"'32'!$B$25","v":13},{"$f":"'32'!$H$25","v":"4 Left"},{"$f":"'32'!$R$22","v":"3 Right"},{"$f":"'32'!$Z$19","v":"2 Left"},{"$f":"'32'!$AJ$22","v":"3 Right"}]
[{"$f":"'32'!$E$25","v":14},{"$f":"'32'!$I$25","v":"4 Right"},{"$f":"'32'!$R$19","v":"2 Right"},{"$f":"'32'!$Z$22","v":"3 Left"},{"$f":"'32'!$AI$28","v":"5 Left"}]
[{"$f":"'32'!$B$28","v":15},{"$f":"'32'!$H$28","v":"5 Left"},{"$f":"'32'!$Q$22","v":"3 Left"},{"$f":"'32'!$AA$19","v":"2 Right"},{"$f":"'32'!$AI$25","v":"4 Left"}]
[{"$f":"'32'!$E$28","v":16},{"$f":"'32'!$I$28","v":"5 Right"},{"$f":"'32'!$Q$25","v":"4 Left"},{"$f":"'32'!$AA$22","v":"3 Right"},{"$f":"'32'!$AJ$28","v":"5 Right"}]
[{"$f":"'32'!$B$30","v":17},{"$f":"'32'!$H$30","v":"9 Left"},{"$f":"'32'!$Q$33","v":"10 Left"},{"$f":"'32'!$Z$36","v":"11 Left"},{"$f":"'32'!$AI$39","v":"12 Left"}]
[{"$f":"'32'!$E$30","v":18},{"$f":"'32'!$I$30","v":"9 Right"},{"$f":"'32'!$Q$36","v":"11 Left"},{"$f":"'32'!$Z$39","v":"12 Left"},{"$f":"'32'!$AI$36","v":"11 Left"}]
[{"$f":"'32'!$B$33","v":19},{"$f":"'32'!$H$33","v":"10 Left"},{"$f":"'32'!$R$36","v":"11 Right"},{"$f":"'32'!$Z$30","v":"9 Left"},{"$f":"'32'!$AJ$39","v":"12 Right"}]
[{"$f":"'32'!$E$33","v":20},{"$f":"'32'!$I$33","v":"10 Right"},{"$f":"'32'!$Q$39","v":"12 Left"},{"$f":"'32'!$Z$33","v":"10 Left"},{"$f":"'32'!$AJ$36","v":"11 Right"}]
[{"$f":"'32'!$B$36","v":21},{"$f":"'32'!$H$36","v":"11 Left"},{"$f":"'32'!$R$39","v":"12 Right"},{"$f":"'32'!$AA$30","v":"9 Right"},{"$f":"'32'!$AI$33","v":"10 Left"}]
[{"$f":"'32'!$E$36","v":22},{"$f":"'32'!$I$36","v":"11 Right"},{"$f":"'32'!$Q$30","v":"9 Left"},{"$f":"'32'!$AA$33","v":"10 Right"},{"$f":"'32'!$AJ$30","v":"9 Right"}]
[{"$f":"'32'!$B$39","v":23},{"$f":"'32'!$H$39","v":"12 Left"},{"$f":"'32'!$R$33","v":"10 Right"},{"$f":"'32'!$AA$39","v":"12 Right"},{"$f":"'32'!$AI$30","v":"9 Left"}]
[{"$f":"'32'!$E$39","v":24},{"$f":"'32'!$I$39","v":"12 Right"},{"$f":"'32'!$R$30","v":"9 Right"},{"$f":"'32'!$AA$36","v":"11 Right"},{"$f":"'32'!$AJ$33","v":"10 Right"}]
[{"$f":"'32'!$B$31","v":25},{"$f":"'32'!$H$31","v":"9 Left"},{"$f":"'32'!$R$37","v":"11 Right"},{"$f":"'32'!$AA$40","v":"12 Right"},{"$f":"'32'!$AJ$37","v":"11 Right"}]
[{"$f":"'32'!$E$31","v":26},{"$f":"'32'!$I$31","v":"9 Right"},{"$f":"'32'!$Q$40","v":"12 Left"},{"$f":"'32'!$AA$37","v":"11 Right"},{"$f":"'32'!$AI$34","v":"10 Left"}]
[{"$f":"'32'!$B$34","v":27},{"$f":"'32'!$H$34","v":"10 Left"},{"$f":"'32'!$R$40","v":"12 Right"},{"$f":"'32'!$Z$37","v":"11 Left"},{"$f":"'32'!$AJ$31","v":"9 Right"}]
[{"$f":"'32'!$E$34","v":28},{"$f":"'32'!$I$34","v":"10 Right"},{"$f":"'32'!$Q$31","v":"9 Left"},{"$f":"'32'!$Z$40","v":"12 Left"},{"$f":"'32'!$AI$31","v":"9 Left"}]
[{"$f":"'32'!$B$37","v":29},{"$f":"'32'!$H$37","v":"11 Left"},{"$f":"'32'!$R$34","v":"10 Right"},{"$f":"'32'!$Z$31","v":"9 Left"},{"$f":"'32'!$AJ$34","v":"10 Right"}]
[{"$f":"'32'!$E$37","v":30},{"$f":"'32'!$I$37","v":"11 Right"},{"$f":"'32'!$R$31","v":"9 Right"},{"$f":"'32'!$Z$34","v":"10 Left"},{"$f":"'32'!$AI$40","v":"12 Left"}]
[{"$f":"'32'!$B$40","v":31},{"$f":"'32'!$H$40","v":"12 Left"},{"$f":"'32'!$Q$34","v":"10 Left"},{"$f":"'32'!$AA$31","v":"9 Right"},{"$f":"'32'!$AI$37","v":"11 Left"}]
[{"$f":"'32'!$E$40","v":32},{"$f":"'32'!$I$40","v":"12 Right"},{"$f":"'32'!$Q$37","v":"11 Left"},{"$f":"'32'!$AA$34","v":"10 Right"},{"$f":"'32'!$AJ$40","v":"12 Right"}]
[]
[{"$f":"'30'!$B$18","v":1},{"$f":"'30'!$H$18","v":"1 Left"},{"$f":"'30'!$Q$21","v":"2 Left"},{"$f":"'30'!$Z$27","v":"4 Left"},{"$f":"'30'!$AI$33","v":"6 Left"},{"$nulls":6},30]
[{"$f":"'30'!$E$18","v":2},{"$f":"'30'!$I$18","v":"1 Right"},{"$f":"'30'!$Q$24","v":"3 Left"},{"$f":"'30'!$Z$21","v":"2 Left"},{"$f":"'30'!$AJ$36","v":"7 Right"}]
[{"$f":"'30'!$B$21","v":3},{"$f":"'30'!$H$21","v":"2 Left"},{"$f":"'30'!$Q$27","v":"4 Left"},{"$f":"'30'!$Z$18","v":"1 Left"},{"$f":"'30'!$AJ$24","v":"3 Right"}]
[{"$f":"'30'!$E$21","v":4},{"$f":"'30'!$I$21","v":"2 Right"},{"$f":"'30'!$Q$30","v":"5 Left"},{"$f":"'30'!$Z$36","v":"7 Left"},{"$f":"'30'!$AI$18","v":"1 Left"}]
[{"$f":"'30'!$B$24","v":5},{"$f":"'30'!$H$24","v":"3 Left"},{"$f":"'30'!$Q$18","v":"1 Left"},{"$f":"'30'!$Z$30","v":"5 Left"},{"$f":"'30'!$AJ$33","v":"6 Right"}]
[{"$f":"'30'!$E$24","v":6},{"$f":"'30'!$I$24","v":"3 Right"},{"$f":"'30'!$Q$33","v":"6 Left"},{"$f":"'30'!$AA$36","v":"7 Right"},{"$f":"'30'!$AJ$30","v":"5 Right"}]
[{"$f":"'30'!$B$27","v":7},{"$f":"'30'!$H$27","v":"4 Left"},{"$f":"'30'!$R$18","v":"1 Right"},{"$f":"'30'!$Z$24","v":"3 Left"},{"$f":"'30'!$AI$36","v":"7 Left"}]
[{"$f":"'30'!$E$27","v":8},{"$f":"'30'!$I$27","v":"4 Right"},{"$f":"'30'!$Q$20","v":"1 Left"},{"$f":"'30'!$AA$30","v":"5 Right"},{"$f":"'30'!$AI$24","v":"3 Left"}]
[{"$f":"'30'!$B$30","v":9},{"$f":"'30'!$H$30","v":"5 Left"},{"$f":"'30'!$Q$36","v":"7 Left"},{"$f":"'30'!$AA$33","v":"6 Right"},{"$f":"'30'!$AJ$20","v":"1 Right"}]
[{"$f":"'30'!$E$30","v":10},{"$f":"'30'!$I$30","v":"5 Right"},{"$f":"'30'!$R$33","v":"6 Right"},{"$f":"'30'!$AA$27","v":"4 Right"},{"$f":"'30'!$AJ$18","v":"1 Right"}]
[{"$f":"'30'!$B$33","v":11},{"$f":"'30'!$H$33","v":"6 Left"},{"$f":"'30'!$R$36","v":"7 Right"},{"$f":"'30'!$AA$18","v":"1 Right"},{"$f":"'30'!$AJ$21","v":"2 Right"}]
[{"$f":"'30'!$E$33","v":12},{"$f":"'30'!$I$33","v":"6 Right"},{"$f":"'30'!$R$27","v":"4 Right"},{"$f":"'30'!$Z$20","v":"1 Left"},{"$f":"'30'!$AI$30","v":"5 Left"}]
[{"$f":"'30'!$B$36","v":13},{"$f":"'30'!$H$36","v":"7 Left"},{"$f":"'30'!$R$21","v":"2 Right"},{"$f":"'30'!$Z$33","v":"6 Left"},{"$f":"'30'!$AJ$27","v":"4 Right"}]
[{"$f":"'30'!$E$36","v":14},{"$f":"'30'!$I$36","v":"7 Right"},{"$f":"'30'!$R$24","v":"3 Right"},{"$f":"'30'!$AA$21","v":"2 Right"},{"$f":"'30'!$AI$27","v":"4 Left"}]
[{"$f":"'30'!$B$20","v":15},{"$f":"'30'!$H$20","v":"1 Left"},{"$f":"'30'!$R$30","v":"5 Right"},{"$f":"'30'!$AA$24","v":"3 Right"},{"$f":"'30'!$AI$21","v":"2 Left"}]
[{"$f":"'30'!$B$19","v":16},{"$f":"'30'!$H$19","v":"1 Left"},{"$f":"'30'!$Q$28","v":"4 Left"},{"$f":"'30'!$Z$31","v":"5 Left"},{"$f":"'30'!$AI$25","v":"3 Left"}]
[{"$f":"'30'!$E$19","v":17},{"$f":"'30'!$I$19","v":"1 Right"},{"$f":"'30'!$Q$31","v":"5 Left"},{"$f":"'30'!$AA$37","v":"7 Right"},{"$f":"'30'!$AI$34","v":"6 Left"}]
[{"$f":"'30'!$B$22","v":18},{"$f":"'30'!$H$22","v":"2 Left"},{"$f":"'30'!$Q$19","v":"1 Left"},{"$f":"'30'!$Z$25","v":"3 Left"},{"$f":"'30'!$AJ$37","v":"7 Right"}]
[{"$f":"'30'!$E$22","v":19},{"$f":"'30'!$I$22","v":"2 Right"},{"$f":"'30'!$Q$34","v":"6 Left"},{"$f":"'30'!$AA$31","v":"5 Right"},{"$f":"'30'!$AJ$25","v":"3 Right"}]
[{"$f":"'30'!$B$25","v":20},{"$f":"'30'!$H$25","v":"3 Left"},{"$f":"'30'!$R$19","v":"1 Right"},{"$f":"'30'!$AA$34","v":"6 Right"},{"$f":"'30'!$AI$31","v":"5 Left"}]
[{"$f":"'30'!$E$25","v":21},{"$f":"'30'!$I$25","v":"3 Right"},{"$f":"'30'!$R$20","v":"1 Right"},{"$f":"'30'!$AA$28","v":"4 Right"},{"$f":"'30'!$AJ$34","v":"6 Right"}]
[{"$f":"'30'!$B$28","v":22},{"$f":"'30'!$H$28","v":"4 Left"},{"$f":"'30'!$Q$37","v":"7 Left"},{"$f":"'30'!$AA$19","v":"1 Right"},{"$f":"'30'!$AJ$31","v":"5 Right"}]
[{"$f":"'30'!$E$28","v":23},{"$f":"'30'!$I$28","v":"4 Right"},{"$f":"'30'!$R$34","v":"6 Right"},{"$f":"'30'!$AA$20","v":"1 Right"},{"$f":"'30'!$AI$37","v":"7 Left"}]
[{"$f":"'30'!$B$31","v":24},{"$f":"'30'!$H$31","v":"5 Left"},{"$f":"'30'!$R$37","v":"7 Right"},{"$f":"'30'!$Z$34","v":"6 Left"},{"$f":"'30'!$AI$22","v":"2 Left"}]
[{"$f":"'30'!$E$31","v":25},{"$f":"'30'!$I$31","v":"5 Right"},{"$f":"'30'!$R$28","v":"4 Right"},{"$f":"'30'!$AA$22","v":"2 Right"},{"$f":"'30'!$AI$20","v":"1 Left"}]
[{"$f":"'30'!$B$34","v":26},{"$f":"'30'!$H$34","v":"6 Left"},{"$f":"'30'!$R$22","v":"2 Right"},{"$f":"'30'!$AA$25","v":"3 Right"},{"$f":"'30'!$AJ$19","v":"1 Right"}]
[{"$f":"'30'!$E$34","v":27},{"$f":"'30'!$I$34","v":"6 Right"},{"$f":"'30'!$R$25","v":"3 Right"},{"$f":"'30'!$Z$28","v":"4 Left"},{"$f":"'30'!$AJ$22","v":"2 Right"}]
[{"$f":"'30'!$B$37","v":28},{"$f":"'30'!$H$37","v":"7 Left"},{"$f":"'30'!$R$31","v":"5 Right"},{"$f":"'30'!$Z$22","v":"2 Left"},{"$f":"'30'!$AI$19","v":"1 Left"}]
[{"$f":"'30'!$E$37","v":29},{"$f":"'30'!$I$37","v":"7 Right"},{"$f":"'30'!$Q$25","v":"3 Left"},{"$f":"'30'!$Z$19","v":"1 Left"},{"$f":"'30'!$AJ$28","v":"4 Right"}]
[{"$f":"'30'!$E$20","v":30},{"$f":"'30'!$I$20","v":"1 Right"},{"$f":"'30'!$Q$22","v":"2 Left"},{"$f":"'30'!$Z$37","v":"7 Left"},{"$f":"'30'!$AI$28","v":"4 Left"}]
[]
[{"$f":"'28'!$B$18","v":1},{"$f":"'28'!$H$18","v":"1 Left"},{"$f":"'28'!$Q$21","v":"2 Left"},{"$f":"'28'!$Z$24","v":"3 Left"},{"$f":"'28'!$AJ$36","v":"7 Right"},{"$nulls":6},28]
[{"$f":"'28'!$E$18","v":2},{"$f":"'28'!$I$18","v":"1 Right"},{"$f":"'28'!$Q$24","v":"3 Left"},{"$f":"'28'!$Z$27","v":"4 Left"},{"$f":"'28'!$AI$36","v":"7 Left"}]
[{"$f":"'28'!$B$21","v":3},{"$f":"'28'!$H$21","v":"2 Left"},{"$f":"'28'!$Q$27","v":"4 Left"},{"$f":"'28'!$Z$30","v":"5 Left"},{"$f":"'28'!$AI$18","v":"1 Left"}]
[{"$f":"'28'!$E$21","v":4},{"$f":"'28'!$I$21","v":"2 Right"},{"$f":"'28'!$Q$30","v":"5 Left"},{"$f":"'28'!$Z$33","v":"6 Left"},{"$f":"'28'!$AI$24","v":"3 Left"}]
[{"$f":"'28'!$B$24","v":5},{"$f":"'28'!$H$24","v":"3 Left"},{"$f":"'28'!$Q$33","v":"6 Left"},{"$f":"'28'!$Z$36","v":"7 Left"},{"$f":"'28'!$AI$27","v":"4 Left"}]
[{"$f":"'28'!$E$24","v":6},{"$f":"'28'!$I$24","v":"3 Right"},{"$f":"'28'!$Q$36","v":"7 Left"},{"$f":"'28'!$Z$21","v":"2 Left"},{"$f":"'28'!$AI$30","v":"5 Left"}]
[{"$f":"'28'!$B$27","v":7},{"$f":"'28'!$H$27","v":"4 Left"},{"$f":"'28'!$R$36","v":"7 Right"},{"$f":"'28'!$Z$18","v":"1 Left"},{"$f":"'28'!$AI$21","v":"2 Left"}]
[{"$f":"'28'!$E$27","v":8},{"$f":"'28'!$I$27","v":"4 Right"},{"$f":"'28'!$R$33","v":"6 Right"},{"$f":"'28'!$AA$30","v":"5 Right"},{"$f":"'28'!$AJ$24","v":"3 Right"}]
[{"$f":"'28'!$B$30","v":9},{"$f":"'28'!$H$30","v":"5 Left"},{"$f":"'28'!$Q$18","v":"1 Left"},{"$f":"'28'!$AA$33","v":"6 Right"},{"$f":"'28'!$AJ$27","v":"4 Right"}]
[{"$f":"'28'!$E$30","v":10},{"$f":"'28'!$I$30","v":"5 Right"},{"$f":"'28'!$R$21","v":"2 Right"},{"$f":"'28'!$AA$18","v":"1 Right"},{"$f":"'28'!$AJ$33","v":"6 Right"}]
[{"$f":"'28'!$B$33","v":11},{"$f":"'28'!$H$33","v":"6 Left"},{"$f":"'28'!$R$24","v":"3 Right"},{"$f":"'28'!$AA$36","v":"7 Right"},{"$f":"'28'!$AJ$18","v":"1 Right"}]
[{"$f":"'28'!$E$33","v":12},{"$f":"'28'!$I$33","v":"6 Right"},{"$f":"'28'!$R$27","v":"4 Right"},{"$f":"'28'!$AA$24","v":"3 Right"},{"$f":"'28'!$AJ$21","v":"2 Right"}]
[{"$f":"'28'!$B$36","v":13},{"$f":"'28'!$H$36","v":"7 Left"},{"$f":"'28'!$R$30","v":"5 Right"},{"$f":"'28'!$AA$27","v":"4 Right"},{"$f":"'28'!$AI$33","v":"6 Left"}]
[{"$f":"'28'!$E$36","v":14},{"$f":"'28'!$I$36","v":"7 Right"},{"$f":"'28'!$R$18","v":"1 Right"},{"$f":"'28'!$AA$21","v":"2 Right"},{"$f":"'28'!$AJ$30","v":"5 Right"}]
[{"$f":"'28'!$B$19","v":15},{"$f":"'28'!$H$19","v":"1 Left"},{"$f":"'28'!$Q$28","v":"4 Left"},{"$f":"'28'!$Z$37","v":"7 Left"},{"$f":"'28'!$AI$22","v":"2 Left"}]
[{"$f":"'28'!$E$19","v":16},{"$f":"'28'!$I$19","v":"1 Right"},{"$f":"'28'!$Q$31","v":"5 Left"},{"$f":"'28'!$Z$22","v":"2 Left"},{"$f":"'28'!$AJ$25","v":"3 Right"}]
[{"$f":"'28'!$B$22","v":17},{"$f":"'28'!$H$22","v":"2 Left"},{"$f":"'28'!$Q$34","v":"6 Left"},{"$f":"'28'!$Z$19","v":"1 Left"},{"$f":"'28'!$AJ$28","v":"4 Right"}]
[{"$f":"'28'!$E$22","v":18},{"$f":"'28'!$I$22","v":"2 Right"},{"$f":"'28'!$Q$37","v":"7 Left"},{"$f":"'28'!$AA$31","v":"5 Right"},{"$f":"'28'!$AJ$34","v":"6 Right"}]
[{"$f":"'28'!$B$25","v":19},{"$f":"'28'!$H$25","v":"3 Left"},{"$f":"'28'!$R$37","v":"7 Right"},{"$f":"'28'!$AA$34","v":"6 Right"},{"$f":"'28'!$AJ$19","v":"1 Right"}]
[{"$f":"'28'!$E$25","v":20},{"$f":"'28'!$I$25","v":"3 Right"},{"$f":"'28'!$R$34","v":"6 Right"},{"$f":"'28'!$AA$19","v":"1 Right"},{"$f":"'28'!$AJ$22","v":"2 Right"}]
[{"$f":"'28'!$B$28","v":21},{"$f":"'28'!$H$28","v":"4 Left"},{"$f":"'28'!$Q$19","v":"1 Left"},{"$f":"'28'!$AA$37","v":"7 Right"},{"$f":"'28'!$AI$34","v":"6 Left"}]
[{"$f":"'28'!$E$28","v":22},{"$f":"'28'!$I$28","v":"4 Right"},{"$f":"'28'!$R$22","v":"2 Right"},{"$f":"'28'!$AA$25","v":"3 Right"},{"$f":"'28'!$AJ$31","v":"5 Right"}]
[{"$f":"'28'!$B$31","v":23},{"$f":"'28'!$H$31","v":"5 Left"},{"$f":"'28'!$R$25","v":"3 Right"},{"$f":"'28'!$AA$28","v":"4 Right"},{"$f":"'28'!$AJ$37","v":"7 Right"}]
[{"$f":"'28'!$E$31","v":24},{"$f":"'28'!$I$31","v":"5 Right"},{"$f":"'28'!$R$28","v":"4 Right"},{"$f":"'28'!$AA$22","v":"2 Right"},{"$f":"'28'!$AI$37","v":"7 Left"}]
[{"$f":"'28'!$B$34","v":25},{"$f":"'28'!$H$34","v":"6 Left"},{"$f":"'28'!$R$31","v":"5 Right"},{"$f":"'28'!$Z$25","v":"3 Left"},{"$f":"'28'!$AI$19","v":"1 Left"}]
[{"$f":"'28'!$E$34","v":26},{"$f":"'28'!$I$34","v":"6 Right"},{"$f":"'28'!$R$19","v":"1 Right"},{"$f":"'28'!$Z$28","v":"4 Left"},{"$f":"'28'!$AI$25","v":"3 Left"}]
[{"$f":"'28'!$B$37","v":27},{"$f":"'28'!$H$37","v":"7 Left"},{"$f":"'28'!$Q$22","v":"2 Left"},{"$f":"'28'!$Z$31","v":"5 Left"},{"$f":"'28'!$AI$28","v":"4 Left"}]
[{"$f":"'28'!$E$37","v":28},{"$f":"'28'!$I$37","v":"7 Right"},{"$f":"'28'!$Q$25","v":"3 Left"},{"$f":"'28'!$Z$34","v":"6 Left"},{"$f":"'28'!$AI$31","v":"5 Left"}]
[]
[{"$f":"'26'!$B$18","v":1},{"$f":"'26'!$H$18","v":"1 Left"},{"$f":"'26'!$Q$21","v":"2 Left"},{"$f":"'26'!$Z$24","v":"3 Left"},{"$f":"'26'!$AI$27","v":"4 Left"},{"$nulls":6},26]
[{"$f":"'26'!$E$18","v":2},{"$f":"'26'!$I$18","v":"1 Right"},{"$f":"'26'!$Q$24","v":"3 Left"},{"$f":"'26'!$Z$27","v":"4 Left"},{"$f":"'26'!$AI$30","v":"5 Left"}]
[{"$f":"'26'!$B$21","v":3},{"$f":"'26'!$H$21","v":"2 Left"},{"$f":"'26'!$Q$27","v":"4 Left"},{"$f":"'26'!$Z$18","v":"1 Left"},{"$f":"'26'!$AI$24","v":"3 Left"}]
[{"$f":"'26'!$E$21","v":4},{"$f":"'26'!$I$21","v":"2 Right"},{"$f":"'26'!$Q$30","v":"5 Left"},{"$f":"'26'!$Z$33","v":"6 Left"},{"$f":"'26'!$AI$20","v":"1 Left"}]
[{"$f":"'26'!$B$24","v":5},{"$f":"'26'!$H$24","v":"3 Left"},{"$f":"'26'!$Q$18","v":"1 Left"},{"$f":"'26'!$Z$21","v":"2 Left"},{"$f":"'26'!$AJ$30","v":"5 Right"}]
[{"$f":"'26'!$E$24","v":6},{"$f":"'26'!$I$24","v":"3 Right"},{"$f":"'26'!$Q$33","v":"6 Left"},{"$f":"'26'!$AA$18","v":"1 Right"},{"$f":"'26'!$AI$21","v":"2 Left"}]
[{"$f":"'26'!$B$27","v":7},{"$f":"'26'!$H$27","v":"4 Left"},{"$f":"'26'!$R$18","v":"1 Right"},{"$f":"'26'!$Z$30","v":"5 Left"},{"$f":"'26'!$AI$33","v":"6 Left"}]
[{"$f":"'26'!$E$27","v":8},{"$f":"'26'!$I$27","v":"4 Right"},{"$f":"'26'!$Q$20","v":"1 Left"},{"$f":"'26'!$AA$33","v":"6 Right"},{"$f":"'26'!$AJ$24","v":"3 Right"}]
[{"$f":"'26'!$B$30","v":9},{"$f":"'26'!$H$30","v":"5 Left"},{"$f":"'26'!$R$33","v":"6 Right"},{"$f":"'26'!$Z$20","v":"1 Left"},{"$f":"'26'!$AJ$21","v":"2 Right"}]
[{"$f":"'26'!$E$30","v":10},{"$f":"'26'!$I$30","v":"5 Right"},{"$f":"'26'!$R$21","v":"2 Right"},{"$f":"'26'!$AA$24","v":"3 Right"},{"$f":"'26'!$AI$18","v":"1 Left"}]
[{"$f":"'26'!$B$33","v":11},{"$f":"'26'!$H$33","v":"6 Left"},{"$f":"'26'!$R$24","v":"3 Right"},{"$f":"'26'!$AA$27","v":"4 Right"},{"$f":"'26'!$AJ$18","v":"1 Right"}]
[{"$f":"'26'!$E$33","v":12},{"$f":"'26'!$I$33","v":"6 Right"},{"$f":"'26'!$R$27","v":"4 Right"},{"$f":"'26'!$AA$30","v":"5 Right"},{"$f":"'26'!$AJ$27","v":"4 Right"}]
[{"$f":"'26'!$B$20","v":13},{"$f":"'26'!$H$20","v":"1 Left"},{"$f":"'26'!$R$30","v":"5 Right"},{"$f":"'26'!$AA$21","v":"2 Right"},{"$f":"'26'!$AJ$33","v":"6 Right"}]
[{"$f":"'26'!$B$19","v":14},{"$f":"'26'!$H$19","v":"1 Left"},{"$f":"'26'!$Q$28","v":"4 Left"},{"$f":"'26'!$AA$31","v":"5 Right"},{"$f":"'26'!$AI$22","v":"2 Left"}]
[{"$f":"'26'!$E$19","v":15},{"$f":"'26'!$I$19","v":"1 Right"},{"$f":"'26'!$Q$31","v":"5 Left"},{"$f":"'26'!$Z$25","v":"3 Left"},{"$f":"'26'!$AI$34","v":"6 Left"}]
[{"$f":"'26'!$B$22","v":16},{"$f":"'26'!$H$22","v":"2 Left"},{"$f":"'26'!$Q$19","v":"1 Left"},{"$f":"'26'!$Z$28","v":"4 Left"},{"$f":"'26'!$AJ$22","v":"2 Right"}]
[{"$f":"'26'!$E$22","v":17},{"$f":"'26'!$I$22","v":"2 Right"},{"$f":"'26'!$Q$34","v":"6 Left"},{"$f":"'26'!$Z$19","v":"1 Left"},{"$f":"'26'!$AJ$25","v":"3 Right"}]
[{"$f":"'26'!$B$25","v":18},{"$f":"'26'!$H$25","v":"3 Left"},{"$f":"'26'!$R$19","v":"1 Right"},{"$f":"'26'!$Z$34","v":"6 Left"},{"$f":"'26'!$AI$28","v":"4 Left"}]
[{"$f":"'26'!$E$25","v":19},{"$f":"'26'!$I$25","v":"3 Right"},{"$f":"'26'!$R$20","v":"1 Right"},{"$f":"'26'!$Z$22","v":"2 Left"},{"$f":"'26'!$AI$31","v":"5 Left"}]
[{"$f":"'26'!$B$28","v":20},{"$f":"'26'!$H$28","v":"4 Left"},{"$f":"'26'!$R$34","v":"6 Right"},{"$f":"'26'!$AA$19","v":"1 Right"},{"$f":"'26'!$AI$25","v":"3 Left"}]
[{"$f":"'26'!$E$28","v":21},{"$f":"'26'!$I$28","v":"4 Right"},{"$f":"'26'!$R$22","v":"2 Right"},{"$f":"'26'!$Z$31","v":"5 Left"},{"$f":"'26'!$AJ$19","v":"1 Right"}]
[{"$f":"'26'!$B$31","v":22},{"$f":"'26'!$H$31","v":"5 Left"},{"$f":"'26'!$R$25","v":"3 Right"},{"$f":"'26'!$AA$34","v":"6 Right"},{"$f":"'26'!$AI$19","v":"1 Left"}]
[{"$f":"'26'!$E$31","v":23},{"$f":"'26'!$I$31","v":"5 Right"},{"$f":"'26'!$R$28","v":"4 Right"},{"$f":"'26'!$AA$20","v":"1 Right"},{"$f":"'26'!$AJ$34","v":"6 Right"}]
[{"$f":"'26'!$B$34","v":24},{"$f":"'26'!$H$34","v":"6 Left"},{"$f":"'26'!$R$31","v":"5 Right"},{"$f":"'26'!$AA$25","v":"3 Right"},{"$f":"'26'!$AJ$28","v":"4 Right"}]
[{"$f":"'26'!$E$34","v":25},{"$f":"'26'!$I$34","v":"6 Right"},{"$f":"'26'!$Q$25","v":"3 Left"},{"$f":"'26'!$AA$22","v":"2 Right"},{"$f":"'26'!$AJ$20","v":"1 Right"}]
[{"$f":"'26'!$E$20","v":26},{"$f":"'26'!$I$20","v":"1 Right"},{"$f":"'26'!$Q$22","v":"2 Left"},{"$f":"'26'!$AA$28","v":"4 Right"},{"$f":"'26'!$AJ$31","v":"5 Right"}]
[]
[{"$f":"'24'!$B$18","v":1},{"$f":"'24'!$H$18","v":"1 Left"},{"$f":"'24'!$Q$21","v":"2 Left"},{"$f":"'24'!$Z$27","v":"4 Left"},{"$f":"'24'!$AI$24","v":"3 Left"},{"$nulls":6},24]
[{"$f":"'24'!$E$18","v":2},{"$f":"'24'!$I$18","v":"1 Right"},{"$f":"'24'!$Q$24","v":"3 Left"},{"$f":"'24'!$Z$21","v":"2 Left"},{"$f":"'24'!$AI$30","v":"5 Left"}]
[{"$f":"'24'!$B$21","v":3},{"$f":"'24'!$H$21","v":"2 Left"},{"$f":"'24'!$Q$27","v":"4 Left"},{"$f":"'24'!$Z$18","v":"1 Left"},{"$f":"'24'!$AI$33","v":"6 Left"}]
[{"$f":"'24'!$E$21","v":4},{"$f":"'24'!$I$21","v":"2 Right"},{"$f":"'24'!$Q$30","v":"5 Left"},{"$f":"'24'!$AA$18","v":"1 Right"},{"$f":"'24'!$AJ$33","v":"6 Right"}]
[{"$f":"'24'!$B$24","v":5},{"$f":"'24'!$H$24","v":"3 Left"},{"$f":"'24'!$Q$33","v":"6 Left"},{"$f":"'24'!$AA$21","v":"2 Right"},{"$f":"'24'!$AJ$30","v":"5 Right"}]
[{"$f":"'24'!$E$24","v":6},{"$f":"'24'!$I$24","v":"3 Right"},{"$f":"'24'!$Q$18","v":"1 Left"},{"$f":"'24'!$Z$33","v":"6 Left"},{"$f":"'24'!$AI$27","v":"4 Left"}]
[{"$f":"'24'!$B$27","v":7},{"$f":"'24'!$H$27","v":"4 Left"},{"$f":"'24'!$R$33","v":"6 Right"},{"$f":"'24'!$Z$30","v":"5 Left"},{"$f":"'24'!$AJ$18","v":"1 Right"}]
[{"$f":"'24'!$E$27","v":8},{"$f":"'24'!$I$27","v":"4 Right"},{"$f":"'24'!$R$30","v":"5 Right"},{"$f":"'24'!$AA$24","v":"3 Right"},{"$f":"'24'!$AI$21","v":"2 Left"}]
[{"$f":"'24'!$B$30","v":9},{"$f":"'24'!$H$30","v":"5 Left"},{"$f":"'24'!$R$18","v":"1 Right"},{"$f":"'24'!$AA$27","v":"4 Right"},{"$f":"'24'!$AJ$24","v":"3 Right"}]
[{"$f":"'24'!$E$30","v":10},{"$f":"'24'!$I$30","v":"5 Right"},{"$f":"'24'!$R$21","v":"2 Right"},{"$f":"'24'!$AA$33","v":"6 Right"},{"$f":"'24'!$AJ$27","v":"4 Right"}]
[{"$f":"'24'!$B$33","v":11},{"$f":"'24'!$H$33","v":"6 Left"},{"$f":"'24'!$R$24","v":"3 Right"},{"$f":"'24'!$AA$30","v":"5 Right"},{"$f":"'24'!$AJ$21","v":"2 Right"}]
[{"$f":"'24'!$E$33","v":12},{"$f":"'24'!$I$33","v":"6 Right"},{"$f":"'24'!$R$27","v":"4 Right"},{"$f":"'24'!$Z$24","v":"3 Left"},{"$f":"'24'!$AI$18","v":"1 Left"}]
[{"$f":"'24'!$B$19","v":13},{"$f":"'24'!$H$19","v":"1 Left"},{"$f":"'24'!$Q$28","v":"4 Left"},{"$f":"'24'!$AA$22","v":"2 Right"},{"$f":"'24'!$AJ$19","v":"1 Right"}]
[{"$f":"'24'!$E$19","v":14},{"$f":"'24'!$I$19","v":"1 Right"},{"$f":"'24'!$Q$31","v":"5 Left"},{"$f":"'24'!$Z$34","v":"6 Left"},{"$f":"'24'!$AI$22","v":"2 Left"}]
[{"$f":"'24'!$B$22","v":15},{"$f":"'24'!$H$22","v":"2 Left"},{"$f":"'24'!$Q$34","v":"6 Left"},{"$f":"'24'!$Z$31","v":"5 Left"},{"$f":"'24'!$AJ$25","v":"3 Right"}]
[{"$f":"'24'!$E$22","v":16},{"$f":"'24'!$I$22","v":"2 Right"},{"$f":"'24'!$Q$19","v":"1 Left"},{"$f":"'24'!$AA$25","v":"3 Right"},{"$f":"'24'!$AJ$28","v":"4 Right"}]
[{"$f":"'24'!$B$25","v":17},{"$f":"'24'!$H$25","v":"3 Left"},{"$f":"'24'!$R$34","v":"6 Right"},{"$f":"'24'!$AA$28","v":"4 Right"},{"$f":"'24'!$AJ$22","v":"2 Right"}]
[{"$f":"'24'!$E$25","v":18},{"$f":"'24'!$I$25","v":"3 Right"},{"$f":"'24'!$R$31","v":"5 Right"},{"$f":"'24'!$AA$34","v":"6 Right"},{"$f":"'24'!$AI$19","v":"1 Left"}]
[{"$f":"'24'!$B$28","v":19},{"$f":"'24'!$H$28","v":"4 Left"},{"$f":"'24'!$R$19","v":"1 Right"},{"$f":"'24'!$AA$31","v":"5 Right"},{"$f":"'24'!$AI$25","v":"3 Left"}]
[{"$f":"'24'!$E$28","v":20},{"$f":"'24'!$I$28","v":"4 Right"},{"$f":"'24'!$R$22","v":"2 Right"},{"$f":"'24'!$Z$25","v":"3 Left"},{"$f":"'24'!$AI$31","v":"5 Left"}]
[{"$f":"'24'!$B$31","v":21},{"$f":"'24'!$H$31","v":"5 Left"},{"$f":"'24'!$R$25","v":"3 Right"},{"$f":"'24'!$Z$28","v":"4 Left"},{"$f":"'24'!$AI$34","v":"6 Left"}]
[{"$f":"'24'!$E$31","v":22},{"$f":"'24'!$I$31","v":"5 Right"},{"$f":"'24'!$R$28","v":"4 Right"},{"$f":"'24'!$Z$22","v":"2 Left"},{"$f":"'24'!$AJ$34","v":"6 Right"}]
[{"$f":"'24'!$B$34","v":23},{"$f":"'24'!$H$34","v":"6 Left"},{"$f":"'24'!$Q$22","v":"2 Left"},{"$f":"'24'!$Z$19","v":"1 Left"},{"$f":"'24'!$AJ$31","v":"5 Right"}]
[{"$f":"'24'!$E$34","v":24},{"$f":"'24'!$I$34","v":"6 Right"},{"$f":"'24'!$Q$25","v":"3 Left"},{"$f":"'24'!$AA$19","v":"1 Right"},{"$f":"'24'!$AI$28","v":"4 Left"}]
[]
[{"$f":"'22'!$B$18","v":1},{"$f":"'22'!$H$18","v":"2 Left"},{"$f":"'22'!$Q$21","v":"3 Left"},{"$f":"'22'!$Z$27","v":"5 Left"},{"$f":"'22'!$AJ$18","v":"2 Right"},{"$nulls":6},22]
[{"$f":"'22'!$E$18","v":2},{"$f":"'22'!$I$18","v":"2 Right"},{"$f":"'22'!$Q$24","v":"4 Left"},{"$f":"'22'!$Z$21","v":"3 Left"},{"$f":"'22'!$AI$27","v":"5 Left"}]
[{"$f":"'22'!$B$21","v":3},{"$f":"'22'!$H$21","v":"3 Left"},{"$f":"'22'!$Q$18","v":"2 Left"},{"$f":"'22'!$AA$24","v":"4 Right"},{"$f":"'22'!$AI$30","v":"6 Left"}]
[{"$f":"'22'!$E$21","v":4},{"$f":"'22'!$I$21","v":"3 Right"},{"$f":"'22'!$Q$27","v":"5 Left"},{"$f":"'22'!$Z$24","v":"4 Left"},{"$f":"'22'!$AI$18","v":"2 Left"}]
[{"$f":"'22'!$B$24","v":5},{"$f":"'22'!$H$24","v":"4 Left"},{"$f":"'22'!$R$18","v":"2 Right"},{"$f":"'22'!$AA$30","v":"6 Right"},{"$f":"'22'!$AI$20","v":"2 Left"}]
[{"$f":"'22'!$E$24","v":6},{"$f":"'22'!$I$24","v":"4 Right"},{"$f":"'22'!$Q$30","v":"6 Left"},{"$f":"'22'!$Z$18","v":"2 Left"},{"$f":"'22'!$AJ$30","v":"6 Right"}]
[{"$f":"'22'!$B$27","v":7},{"$f":"'22'!$H$27","v":"5 Left"},{"$f":"'22'!$Q$20","v":"2 Left"},{"$f":"'22'!$Z$30","v":"6 Left"},{"$f":"'22'!$AI$21","v":"3 Left"}]
[{"$f":"'22'!$E$27","v":8},{"$f":"'22'!$I$27","v":"5 Right"},{"$f":"'22'!$R$21","v":"3 Right"},{"$f":"'22'!$AA$18","v":"2 Right"},{"$f":"'22'!$AI$24","v":"4 Left"}]
[{"$f":"'22'!$B$30","v":9},{"$f":"'22'!$H$30","v":"6 Left"},{"$f":"'22'!$R$24","v":"4 Right"},{"$f":"'22'!$AA$27","v":"5 Right"},{"$f":"'22'!$AJ$21","v":"3 Right"}]
[{"$f":"'22'!$E$30","v":10},{"$f":"'22'!$I$30","v":"6 Right"},{"$f":"'22'!$R$27","v":"5 Right"},{"$f":"'22'!$Z$20","v":"2 Left"},{"$f":"'22'!$AJ$24","v":"4 Right"}]
[{"$f":"'22'!$B$19","v":11},{"$f":"'22'!$H$19","v":"2 Left"},{"$f":"'22'!$R$30","v":"6 Right"},{"$f":"'22'!$AA$21","v":"3 Right"},{"$f":"'22'!$AJ$27","v":"5 Right"}]
[{"$f":"'22'!$E$19","v":12},{"$f":"'22'!$I$19","v":"2 Right"},{"$f":"'22'!$Q$22","v":"3 Left"},{"$f":"'22'!$AA$31","v":"6 Right"},{"$f":"'22'!$AI$25","v":"4 Left"}]
[{"$f":"'22'!$B$22","v":13},{"$f":"'22'!$H$22","v":"3 Left"},{"$f":"'22'!$Q$25","v":"4 Left"},{"$f":"'22'!$Z$19","v":"2 Left"},{"$f":"'22'!$AJ$22","v":"3 Right"}]
[{"$f":"'22'!$E$22","v":14},{"$f":"'22'!$I$22","v":"3 Right"},{"$f":"'22'!$Q$19","v":"2 Left"},{"$f":"'22'!$AA$28","v":"5 Right"},{"$f":"'22'!$AJ$25","v":"4 Right"}]
[{"$f":"'22'!$B$25","v":15},{"$f":"'22'!$H$25","v":"4 Left"},{"$f":"'22'!$Q$28","v":"5 Left"},{"$f":"'22'!$AA$19","v":"2 Right"},{"$f":"'22'!$AJ$28","v":"5 Right"}]
[{"$f":"'22'!$E$25","v":16},{"$f":"'22'!$I$25","v":"4 Right"},{"$f":"'22'!$R$19","v":"2 Right"},{"$f":"'22'!$Z$31","v":"6 Left"},{"$f":"'22'!$AJ$19","v":"2 Right"}]
[{"$f":"'22'!$B$28","v":17},{"$f":"'22'!$H$28","v":"5 Left"},{"$f":"'22'!$Q$31","v":"6 Left"},{"$f":"'22'!$AA$20","v":"2 Right"},{"$f":"'22'!$AI$28","v":"5 Left"}]
[{"$f":"'22'!$E$28","v":18},{"$f":"'22'!$I$28","v":"5 Right"},{"$f":"'22'!$R$20","v":"2 Right"},{"$f":"'22'!$AA$22","v":"3 Right"},{"$f":"'22'!$AI$31","v":"6 Left"}]
[{"$f":"'22'!$B$31","v":19},{"$f":"'22'!$H$31","v":"6 Left"},{"$f":"'22'!$R$22","v":"3 Right"},{"$f":"'22'!$Z$28","v":"5 Left"},{"$f":"'22'!$AI$19","v":"2 Left"}]
[{"$f":"'22'!$E$31","v":20},{"$f":"'22'!$I$31","v":"6 Right"},{"$f":"'22'!$R$25","v":"4 Right"},{"$f":"'22'!$Z$22","v":"3 Left"},{"$f":"'22'!$AJ$20","v":"2 Right"}]
[{"$f":"'22'!$B$20","v":21},{"$f":"'22'!$H$20","v":"2 Left"},{"$f":"'22'!$R$28","v":"5 Right"},{"$f":"'22'!$AA$25","v":"4 Right"},{"$f":"'22'!$AJ$31","v":"6 Right"}]
[{"$f":"'22'!$E$20","v":22},{"$f":"'22'!$I$20","v":"2 Right"},{"$f":"'22'!$R$31","v":"6 Right"},{"$f":"'22'!$Z$25","v":"4 Left"},{"$f":"'22'!$AI$22","v":"3 Left"}]
[]
[{"$f":"'20'!$B$18","v":1},{"$f":"'20'!$H$18","v":"2 Left"},{"$f":"'20'!$Q$21","v":"3 Left"},{"$f":"'20'!$Z$30","v":"6 Left"},{"$f":"'20'!$AJ$27","v":"5 Right"},{"$nulls":6},20]
[{"$f":"'20'!$E$18","v":2},{"$f":"'20'!$I$18","v":"2 Right"},{"$f":"'20'!$Q$24","v":"4 Left"},{"$f":"'20'!$Z$21","v":"3 Left"},{"$f":"'20'!$AI$30","v":"6 Left"}]
[{"$f":"'20'!$B$21","v":3},{"$f":"'20'!$H$21","v":"3 Left"},{"$f":"'20'!$Q$27","v":"5 Left"},{"$f":"'20'!$Z$18","v":"2 Left"},{"$f":"'20'!$AI$27","v":"5 Left"}]
[{"$f":"'20'!$E$21","v":4},{"$f":"'20'!$I$21","v":"3 Right"},{"$f":"'20'!$Q$30","v":"6 Left"},{"$f":"'20'!$Z$27","v":"5 Left"},{"$f":"'20'!$AI$24","v":"4 Left"}]
[{"$f":"'20'!$B$24","v":5},{"$f":"'20'!$H$24","v":"4 Left"},{"$f":"'20'!$Q$18","v":"2 Left"},{"$f":"'20'!$AA$30","v":"6 Right"},{"$f":"'20'!$AJ$24","v":"4 Right"}]
[{"$f":"'20'!$E$24","v":6},{"$f":"'20'!$I$24","v":"4 Right"},{"$f":"'20'!$R$27","v":"5 Right"},{"$f":"'20'!$AA$21","v":"3 Right"},{"$f":"'20'!$AI$18","v":"2 Left"}]
[{"$f":"'20'!$B$27","v":7},{"$f":"'20'!$H$27","v":"5 Left"},{"$f":"'20'!$R$30","v":"6 Right"},{"$f":"'20'!$Z$24","v":"4 Left"},{"$f":"'20'!$AJ$21","v":"3 Right"}]
[{"$f":"'20'!$E$27","v":8},{"$f":"'20'!$I$27","v":"5 Right"},{"$f":"'20'!$R$21","v":"3 Right"},{"$f":"'20'!$AA$24","v":"4 Right"},{"$f":"'20'!$AJ$18","v":"2 Right"}]
[{"$f":"'20'!$B$30","v":9},{"$f":"'20'!$H$30","v":"6 Left"},{"$f":"'20'!$R$24","v":"4 Right"},{"$f":"'20'!$AA$18","v":"2 Right"},{"$f":"'20'!$AJ$30","v":"6 Right"}]
[{"$f":"'20'!$E$30","v":10},{"$f":"'20'!$I$30","v":"6 Right"},{"$f":"'20'!$R$18","v":"2 Right"},{"$f":"'20'!$AA$27","v":"5 Right"},{"$f":"'20'!$AI$21","v":"3 Left"}]
[{"$f":"'20'!$B$19","v":11},{"$f":"'20'!$H$19","v":"2 Left"},{"$f":"'20'!$Q$28","v":"5 Left"},{"$f":"'20'!$AA$31","v":"6 Right"},{"$f":"'20'!$AJ$22","v":"3 Right"}]
[{"$f":"'20'!$E$19","v":12},{"$f":"'20'!$I$19","v":"2 Right"},{"$f":"'20'!$Q$31","v":"6 Left"},{"$f":"'20'!$AA$22","v":"3 Right"},{"$f":"'20'!$AJ$19","v":"2 Right"}]
[{"$f":"'20'!$B$22","v":13},{"$f":"'20'!$H$22","v":"3 Left"},{"$f":"'20'!$Q$19","v":"2 Left"},{"$f":"'20'!$Z$25","v":"4 Left"},{"$f":"'20'!$AJ$31","v":"6 Right"}]
[{"$f":"'20'!$E$22","v":14},{"$f":"'20'!$I$22","v":"3 Right"},{"$f":"'20'!$R$28","v":"5 Right"},{"$f":"'20'!$AA$25","v":"4 Right"},{"$f":"'20'!$AI$22","v":"3 Left"}]
[{"$f":"'20'!$B$25","v":15},{"$f":"'20'!$H$25","v":"4 Left"},{"$f":"'20'!$R$31","v":"6 Right"},{"$f":"'20'!$AA$19","v":"2 Right"},{"$f":"'20'!$AJ$28","v":"5 Right"}]
[{"$f":"'20'!$E$25","v":16},{"$f":"'20'!$I$25","v":"4 Right"},{"$f":"'20'!$R$22","v":"3 Right"},{"$f":"'20'!$AA$28","v":"5 Right"},{"$f":"'20'!$AI$31","v":"6 Left"}]
[{"$f":"'20'!$B$28","v":17},{"$f":"'20'!$H$28","v":"5 Left"},{"$f":"'20'!$R$25","v":"4 Right"},{"$f":"'20'!$Z$31","v":"6 Left"},{"$f":"'20'!$AI$28","v":"5 Left"}]
[{"$f":"'20'!$E$28","v":18},{"$f":"'20'!$I$28","v":"5 Right"},{"$f":"'20'!$R$19","v":"2 Right"},{"$f":"'20'!$Z$22","v":"3 Left"},{"$f":"'20'!$AI$25","v":"4 Left"}]
[{"$f":"'20'!$B$31","v":19},{"$f":"'20'!$H$31","v":"6 Left"},{"$f":"'20'!$Q$22","v":"3 Left"},{"$f":"'20'!$Z$19","v":"2 Left"},{"$f":"'20'!$AJ$25","v":"4 Right"}]
[{"$f":"'20'!$E$31","v":20},{"$f":"'20'!$I$31","v":"6 Right"},{"$f":"'20'!$Q$25","v":"4 Left"},{"$f":"'20'!$Z$28","v":"5 Left"},{"$f":"'20'!$AI$19","v":"2 Left"}]
[]
[{"$f":"'18'!$B$18","v":1},{"$f":"'18'!$H$18","v":"1 Left"},{"$f":"'18'!$Q$24","v":"3 Left"},{"$f":"'18'!$Z$21","v":"2 Left"},{"$f":"'18'!$AI$18","v":"1 Left"},{"$nulls":6},18]
[{"$f":"'18'!$E$18","v":2},{"$f":"'18'!$I$18","v":"1 Right"},{"$f":"'18'!$Q$21","v":"2 Left"},{"$f":"'18'!$Z$27","v":"4 Left"},{"$f":"'18'!$AI$24","v":"3 Left"}]
[{"$f":"'18'!$E$24","v":3},{"$f":"'18'!$I$24","v":"3 Right"},{"$f":"'18'!$Q$18","v":"1 Left"},{"$f":"'18'!$AA$21","v":"2 Right"},{"$f":"'18'!$AJ$27","v":"4 Right"}]
[{"$f":"'18'!$B$27","v":4},{"$f":"'18'!$H$27","v":"4 Left"},{"$f":"'18'!$R$21","v":"2 Right"},{"$f":"'18'!$Z$18","v":"1 Left"},{"$f":"'18'!$AJ$21","v":"2 Right"}]
[{"$f":"'18'!$E$21","v":5},{"$f":"'18'!$I$21","v":"2 Right"},{"$f":"'18'!$Q$27","v":"4 Left"},{"$f":"'18'!$AA$18","v":"1 Right"},{"$f":"'18'!$AJ$24","v":"3 Right"}]
[{"$f":"'18'!$B$21","v":6},{"$f":"'18'!$H$21","v":"2 Left"},{"$f":"'18'!$R$24","v":"3 Right"},{"$f":"'18'!$Z$20","v":"1 Left"},{"$f":"'18'!$AI$21","v":"2 Left"}]
[{"$f":"'18'!$B$24","v":7},{"$f":"'18'!$H$24","v":"3 Left"},{"$f":"'18'!$R$18","v":"1 Right"},{"$f":"'18'!$AA$27","v":"4 Right"},{"$f":"'18'!$AJ$18","v":"1 Right"}]
[{"$f":"'18'!$E$27","v":8},{"$f":"'18'!$I$27","v":"4 Right"},{"$f":"'18'!$Q$20","v":"1 Left"},{"$f":"'18'!$Z$24","v":"3 Left"},{"$f":"'18'!$AI$20","v":"1 Left"}]
[{"$f":"'18'!$B$20","v":9},{"$f":"'18'!$H$20","v":"1 Left"},{"$f":"'18'!$R$27","v":"4 Right"},{"$f":"'18'!$AA$24","v":"3 Right"},{"$f":"'18'!$AI$27","v":"4 Left"}]
[{"$f":"'18'!$B$19","v":10},{"$f":"'18'!$H$19","v":"1 Left"},{"$f":"'18'!$Q$28","v":"4 Left"},{"$f":"'18'!$Z$25","v":"3 Left"},{"$f":"'18'!$AJ$20","v":"1 Right"}]
[{"$f":"'18'!$E$19","v":11},{"$f":"'18'!$I$19","v":"1 Right"},{"$f":"'18'!$R$25","v":"3 Right"},{"$f":"'18'!$Z$22","v":"2 Left"},{"$f":"'18'!$AI$28","v":"4 Left"}]
[{"$f":"'18'!$E$25","v":12},{"$f":"'18'!$I$25","v":"3 Right"},{"$f":"'18'!$R$19","v":"1 Right"},{"$f":"'18'!$Z$28","v":"4 Left"},{"$f":"'18'!$AI$19","v":"1 Left"}]
[{"$f":"'18'!$E$28","v":13},{"$f":"'18'!$I$28","v":"4 Right"},{"$f":"'18'!$R$20","v":"1 Right"},{"$f":"'18'!$AA$22","v":"2 Right"},{"$f":"'18'!$AJ$25","v":"3 Right"}]
[{"$f":"'18'!$E$22","v":14},{"$f":"'18'!$I$22","v":"2 Right"},{"$f":"'18'!$R$28","v":"4 Right"},{"$f":"'18'!$Z$19","v":"1 Left"},{"$f":"'18'!$AI$25","v":"3 Left"}]
[{"$f":"'18'!$B$22","v":15},{"$f":"'18'!$H$22","v":"2 Left"},{"$f":"'18'!$Q$25","v":"3 Left"},{"$f":"'18'!$AA$19","v":"1 Right"},{"$f":"'18'!$AJ$22","v":"2 Right"}]
[{"$f":"'18'!$B$25","v":16},{"$f":"'18'!$H$25","v":"3 Left"},{"$f":"'18'!$Q$22","v":"2 Left"},{"$f":"'18'!$AA$20","v":"1 Right"},{"$f":"'18'!$AJ$28","v":"4 Right"}]
[{"$f":"'18'!$B$28","v":17},{"$f":"'18'!$H$28","v":"4 Left"},{"$f":"'18'!$Q$19","v":"1 Left"},{"$f":"'18'!$AA$28","v":"4 Right"},{"$f":"'18'!$AI$22","v":"2 Left"}]
[{"$f":"'18'!$E$20","v":18},{"$f":"'18'!$I$20","v":"1 Right"},{"$f":"'18'!$R$22","v":"2 Right"},{"$f":"'18'!$AA$25","v":"3 Right"},{"$f":"'18'!$AJ$19","v":"1 Right"}]
[]
[{"$f":"'16'!$B$18","v":1},{"$f":"'16'!$H$18","v":"2 Left"},{"$f":"'16'!$Q$21","v":"3 Left"},{"$f":"'16'!$Z$24","v":"4 Left"},{"$f":"'16'!$AI$27","v":"5 Left"},{"$nulls":6},16]
[{"$f":"'16'!$E$18","v":2},{"$f":"'16'!$I$18","v":"2 Right"},{"$f":"'16'!$Q$24","v":"4 Left"},{"$f":"'16'!$Z$27","v":"5 Left"},{"$f":"'16'!$AI$24","v":"4 Left"}]
[{"$f":"'16'!$B$21","v":3},{"$f":"'16'!$H$21","v":"3 Left"},{"$f":"'16'!$R$24","v":"4 Right"},{"$f":"'16'!$Z$18","v":"2 Left"},{"$f":"'16'!$AJ$27","v":"5 Right"}]
[{"$f":"'16'!$E$21","v":4},{"$f":"'16'!$I$21","v":"3 Right"},{"$f":"'16'!$Q$27","v":"5 Left"},{"$f":"'16'!$Z$21","v":"3 Left"},{"$f":"'16'!$AJ$24","v":"4 Right"}]
[{"$f":"'16'!$B$24","v":5},{"$f":"'16'!$H$24","v":"4 Left"},{"$f":"'16'!$R$27","v":"5 Right"},{"$f":"'16'!$AA$18","v":"2 Right"},{"$f":"'16'!$AI$21","v":"3 Left"}]
[{"$f":"'16'!$E$24","v":6},{"$f":"'16'!$I$24","v":"4 Right"},{"$f":"'16'!$Q$18","v":"2 Left"},{"$f":"'16'!$AA$21","v":"3 Right"},{"$f":"'16'!$AJ$18","v":"2 Right"}]
[{"$f":"'16'!$B$27","v":7},{"$f":"'16'!$H$27","v":"5 Left"},{"$f":"'16'!$R$21","v":"3 Right"},{"$f":"'16'!$AA$27","v":"5 Right"},{"$f":"'16'!$AI$18","v":"2 Left"}]
[{"$f":"'16'!$E$27","v":8},{"$f":"'16'!$I$27","v":"5 Right"},{"$f":"'16'!$R$18","v":"2 Right"},{"$f":"'16'!$AA$24","v":"4 Right"},{"$f":"'16'!$AJ$21","v":"3 Right"}]
[{"$f":"'16'!$B$19","v":9},{"$f":"'16'!$H$19","v":"2 Left"},{"$f":"'16'!$R$25","v":"4 Right"},{"$f":"'16'!$AA$28","v":"5 Right"},{"$f":"'16'!$AJ$25","v":"4 Right"}]
[{"$f":"'16'!$E$19","v":10},{"$f":"'16'!$I$19","v":"2 Right"},{"$f":"'16'!$Q$28","v":"5 Left"},{"$f":"'16'!$AA$25","v":"4 Right"},{"$f":"'16'!$AI$22","v":"3 Left"}]
[{"$f":"'16'!$B$22","v":11},{"$f":"'16'!$H$22","v":"3 Left"},{"$f":"'16'!$R$28","v":"5 Right"},{"$f":"'16'!$Z$25","v":"4 Left"},{"$f":"'16'!$AJ$19","v":"2 Right"}]
[{"$f":"'16'!$E$22","v":12},{"$f":"'16'!$I$22","v":"3 Right"},{"$f":"'16'!$Q$19","v":"2 Left"},{"$f":"'16'!$Z$28","v":"5 Left"},{"$f":"'16'!$AI$19","v":"2 Left"}]
[{"$f":"'16'!$B$25","v":13},{"$f":"'16'!$H$25","v":"4 Left"},{"$f":"'16'!$R$22","v":"3 Right"},{"$f":"'16'!$Z$19","v":"2 Left"},{"$f":"'16'!$AJ$22","v":"3 Right"}]
[{"$f":"'16'!$E$25","v":14},{"$f":"'16'!$I$25","v":"4 Right"},{"$f":"'16'!$R$19","v":"2 Right"},{"$f":"'16'!$Z$22","v":"3 Left"},{"$f":"'16'!$AI$28","v":"5 Left"}]
[{"$f":"'16'!$B$28","v":15},{"$f":"'16'!$H$28","v":"5 Left"},{"$f":"'16'!$Q$22","v":"3 Left"},{"$f":"'16'!$AA$19","v":"2 Right"},{"$f":"'16'!$AI$25","v":"4 Left"}]
[{"$f":"'16'!$E$28","v":16},{"$f":"'16'!$I$28","v":"5 Right"},{"$f":"'16'!$Q$25","v":"4 Left"},{"$f":"'16'!$AA$22","v":"3 Right"},{"$f":"'16'!$AJ$28","v":"5 Right"}]
[]
[{"$f":"'14'!$B$18","v":1},{"$f":"'14'!$H$18","v":"1 Left"},{"$f":"'14'!$Q$24","v":"3 Left"},{"$f":"'14'!$Z$19","v":"1 Left"},{"$f":"'14'!$AJ$24","v":"3 Right"},{"$nulls":6},14]
[{"$f":"'14'!$E$18","v":2},{"$f":"'14'!$I$18","v":"1 Right"},{"$f":"'14'!$Q$21","v":"2 Left"},{"$f":"'14'!$Z$20","v":"1 Left"},{"$f":"'14'!$AI$21","v":"2 Left"}]
[{"$f":"'14'!$B$21","v":3},{"$f":"'14'!$H$21","v":"2 Left"},{"$f":"'14'!$R$18","v":"1 Right"},{"$f":"'14'!$AA$24","v":"3 Right"},{"$f":"'14'!$AI$19","v":"1 Left"}]
[{"$f":"'14'!$E$21","v":4},{"$f":"'14'!$I$21","v":"2 Right"},{"$f":"'14'!$Q$18","v":"1 Left"},{"$f":"'14'!$Z$24","v":"3 Left"},{"$f":"'14'!$AI$20","v":"1 Left"}]
[{"$f":"'14'!$B$24","v":5},{"$f":"'14'!$H$24","v":"3 Left"},{"$f":"'14'!$R$21","v":"2 Right"},{"$f":"'14'!$Z$18","v":"1 Left"},{"$f":"'14'!$AJ$21","v":"2 Right"}]
[{"$f":"'14'!$B$19","v":6},{"$f":"'14'!$H$19","v":"1 Left"},{"$f":"'14'!$R$24","v":"3 Right"},{"$f":"'14'!$Z$21","v":"2 Left"},{"$f":"'14'!$AI$18","v":"1 Left"}]
[{"$f":"'14'!$E$19","v":7},{"$f":"'14'!$I$19","v":"1 Right"},{"$f":"'14'!$Q$25","v":"3 Left"},{"$f":"'14'!$AA$21","v":"2 Right"},{"$f":"'14'!$AJ$19","v":"1 Right"}]
[{"$f":"'14'!$B$22","v":8},{"$f":"'14'!$H$22","v":"2 Left"},{"$f":"'14'!$Q$19","v":"1 Left"},{"$f":"'14'!$Z$22","v":"2 Left"},{"$f":"'14'!$AI$24","v":"3 Left"}]
[{"$f":"'14'!$E$22","v":9},{"$f":"'14'!$I$22","v":"2 Right"},{"$f":"'14'!$R$19","v":"1 Right"},{"$f":"'14'!$AA$22","v":"2 Right"},{"$f":"'14'!$AJ$25","v":"3 Right"}]
[{"$f":"'14'!$E$25","v":10},{"$f":"'14'!$I$25","v":"3 Right"},{"$f":"'14'!$Q$22","v":"2 Left"},{"$f":"'14'!$AA$18","v":"1 Right"},{"$f":"'14'!$AJ$22","v":"2 Right"}]
[{"$f":"'14'!$B$20","v":11},{"$f":"'14'!$H$20","v":"1 Left"},{"$f":"'14'!$R$22","v":"2 Right"},{"$f":"'14'!$AA$19","v":"1 Right"},{"$f":"'14'!$AI$22","v":"2 Left"}]
[{"$f":"'14'!$E$20","v":12},{"$f":"'14'!$I$20","v":"1 Right"},{"$f":"'14'!$R$25","v":"3 Right"},{"$f":"'14'!$AA$20","v":"1 Right"},{"$f":"'14'!$AI$25","v":"3 Left"}]
[{"$f":"'14'!$E$24","v":13},{"$f":"'14'!$I$24","v":"3 Right"},{"$f":"'14'!$Q$20","v":"1 Left"},{"$f":"'14'!$AA$25","v":"3 Right"},{"$f":"'14'!$AJ$18","v":"1 Right"}]
[{"$f":"'14'!$B$25","v":14},{"$f":"'14'!$H$25","v":"3 Left"},{"$f":"'14'!$R$20","v":"1 Right"},{"$f":"'14'!$Z$25","v":"3 Left"},{"$f":"'14'!$AJ$20","v":"1 Right"}]
[]
[{"$f":"'12'!$B$18","v":1},{"$f":"'12'!$H$18","v":"2 Left"},{"$f":"'12'!$Q$21","v":"3 Left"},{"$f":"'12'!$AA$19","v":"2 Right"},{"$f":"'12'!$AI$24","v":"4 Left"},{"$nulls":6},12]
[{"$f":"'12'!$B$19","v":2},{"$f":"'12'!$H$19","v":"2 Left"},{"$f":"'12'!$Q$24","v":"4 Left"},{"$f":"'12'!$Z$18","v":"2 Left"},{"$f":"'12'!$AI$21","v":"3 Left"}]
[{"$f":"'12'!$E$18","v":3},{"$f":"'12'!$I$18","v":"2 Right"},{"$f":"'12'!$Q$22","v":"3 Left"},{"$f":"'12'!$Z$19","v":"2 Left"},{"$f":"'12'!$AJ$24","v":"4 Right"}]
[{"$f":"'12'!$E$19","v":4},{"$f":"'12'!$I$19","v":"2 Right"},{"$f":"'12'!$Q$25","v":"4 Left"},{"$f":"'12'!$AA$22","v":"3 Right"},{"$f":"'12'!$AJ$18","v":"2 Right"}]
[{"$f":"'12'!$B$21","v":5},{"$f":"'12'!$H$21","v":"3 Left"},{"$f":"'12'!$Q$18","v":"2 Left"},{"$f":"'12'!$AA$24","v":"4 Right"},{"$f":"'12'!$AJ$19","v":"2 Right"}]
[{"$f":"'12'!$B$22","v":6},{"$f":"'12'!$H$22","v":"3 Left"},{"$f":"'12'!$R$24","v":"4 Right"},{"$f":"'12'!$Z$21","v":"3 Left"},{"$f":"'12'!$AI$18","v":"2 Left"}]
[{"$f":"'12'!$E$21","v":7},{"$f":"'12'!$I$21","v":"3 Right"},{"$f":"'12'!$Q$19","v":"2 Left"},{"$f":"'12'!$Z$22","v":"3 Left"},{"$f":"'12'!$AI$25","v":"4 Left"}]
[{"$f":"'12'!$E$22","v":8},{"$f":"'12'!$I$22","v":"3 Right"},{"$f":"'12'!$R$25","v":"4 Right"},{"$f":"'12'!$AA$18","v":"2 Right"},{"$f":"'12'!$AJ$21","v":"3 Right"}]
[{"$f":"'12'!$B$24","v":9},{"$f":"'12'!$H$24","v":"4 Left"},{"$f":"'12'!$R$18","v":"2 Right"},{"$f":"'12'!$AA$21","v":"3 Right"},{"$f":"'12'!$AJ$25","v":"4 Right"}]
[{"$f":"'12'!$B$25","v":10},{"$f":"'12'!$H$25","v":"4 Left"},{"$f":"'12'!$R$21","v":"3 Right"},{"$f":"'12'!$Z$25","v":"4 Left"},{"$f":"'12'!$AI$19","v":"2 Left"}]
[{"$f":"'12'!$E$24","v":11},{"$f":"'12'!$I$24","v":"4 Right"},{"$f":"'12'!$R$19","v":"2 Right"},{"$f":"'12'!$Z$24","v":"4 Left"},{"$f":"'12'!$AI$22","v":"3 Left"}]
[{"$f":"'12'!$E$25","v":12},{"$f":"'12'!$I$25","v":"4 Right"},{"$f":"'12'!$R$22","v":"3 Right"},{"$f":"'12'!$AA$25","v":"4 Right"},{"$f":"'12'!$AJ$22","v":"3 Right"}]
{"$rows_empty":288}
[{"$f":"'18'!AL18","v":1},{"$f":"'18'!AM18","v":"1 Left"},{"$f":"'18'!AN18","v":"3 Left"},{"$f":"'18'!AO18","v":"2 Left"},{"$f":"'18'!AP18","v":"1 Left"},{"$nulls":6},18]
[{"$f":"'18'!AL19","v":2},{"$f":"'18'!AM19","v":"1 Right"},{"$f":"'18'!AN19","v":"2 Left"},{"$f":"'18'!AO19","v":"4 Left"},{"$f":"'18'!AP19","v":"3 Left"}]
[{"$f":"'18'!AL20","v":3},{"$f":"'18'!AM20","v":"3 Right"},{"$f":"'18'!AN20","v":"1 Left"},{"$f":"'18'!AO20","v":"2 Right"},{"$f":"'18'!AP20","v":"4 Right"}]
[{"$f":"'18'!AL21","v":4},{"$f":"'18'!AM21","v":"4 Left"},{"$f":"'18'!AN21","v":"2 Right"},{"$f":"'18'!AO21","v":"1 Left"},{"$f":"'18'!AP21","v":"2 Right"}]
[{"$f":"'18'!AL22","v":5},{"$f":"'18'!AM22","v":"2 Right"},{"$f":"'18'!AN22","v":"4 Left"},{"$f":"'18'!AO22","v":"1 Right"},{"$f":"'18'!AP22","v":"3 Right"}]
[{"$f":"'18'!AL23","v":6},{"$f":"'18'!AM23","v":"2 Left"},{"$f":"'18'!AN23","v":"3 Right"},{"$f":"'18'!AO23","v":"1 Left"},{"$f":"'18'!AP23","v":"2 Left"}]
[{"$f":"'18'!AL24","v":7},{"$f":"'18'!AM24","v":"3 Left"},{"$f":"'18'!AN24","v":"1 Right"},{"$f":"'18'!AO24","v":"4 Right"},{"$f":"'18'!AP24","v":"1 Right"}]
[{"$f":"'18'!AL25","v":8},{"$f":"'18'!AM25","v":"4 Right"},{"$f":"'18'!AN25","v":"1 Left"},{"$f":"'18'!AO25","v":"3 Left"},{"$f":"'18'!AP25","v":"1 Left"}]
[{"$f":"'18'!AL26","v":9},{"$f":"'18'!AM26","v":"1 Left"},{"$f":"'18'!AN26","v":"4 Right"},{"$f":"'18'!AO26","v":"3 Right"},{"$f":"'18'!AP26","v":"4 Left"}]
[{"$f":"'18'!AL27","v":10},{"$f":"'18'!AM27","v":"1 Left"},{"$f":"'18'!AN27","v":"4 Left"},{"$f":"'18'!AO27","v":"3 Left"},{"$f":"'18'!AP27","v":"1 Right"}]
[{"$f":"'18'!AL28","v":11},{"$f":"'18'!AM28","v":"1 Right"},{"$f":"'18'!AN28","v":"3 Right"},{"$f":"'18'!AO28","v":"2 Left"},{"$f":"'18'!AP28","v":"4 Left"}]
[{"$f":"'18'!AL29","v":12},{"$f":"'18'!AM29","v":"3 Right"},{"$f":"'18'!AN29","v":"1 Right"},{"$f":"'18'!AO29","v":"4 Left"},{"$f":"'18'!AP29","v":"1 Left"}]
[{"$f":"'18'!AL30","v":13},{"$f":"'18'!AM30","v":"4 Right"},{"$f":"'18'!AN30","v":"1 Right"},{"$f":"'18'!AO30","v":"2 Right"},{"$f":"'18'!AP30","v":"3 Right"}]
[{"$f":"'18'!AL31","v":14},{"$f":"'18'!AM31","v":"2 Right"},{"$f":"'18'!AN31","v":"4 Right"},{"$f":"'18'!AO31","v":"1 Left"},{"$f":"'18'!AP31","v":"3 Left"}]
[{"$f":"'18'!AL32","v":15},{"$f":"'18'!AM32","v":"2 Left"},{"$f":"'18'!AN32","v":"3 Left"},{"$f":"'18'!AO32","v":"1 Right"},{"$f":"'18'!AP32","v":"2 Right"}]
[{"$f":"'18'!AL33","v":16},{"$f":"'18'!AM33","v":"3 Left"},{"$f":"'18'!AN33","v":"2 Left"},{"$f":"'18'!AO33","v":"1 Right"},{"$f":"'18'!AP33","v":"4 Right"}]
[{"$f":"'18'!AL34","v":17},{"$f":"'18'!AM34","v":"4 Left"},{"$f":"'18'!AN34","v":"1 Left"},{"$f":"'18'!AO34","v":"4 Right"},{"$f":"'18'!AP34","v":"2 Left"}]
[{"$f":"'18'!AL35","v":18},{"$f":"'18'!AM35","v":"1 Right"},{"$f":"'18'!AN35","v":"2 Right"},{"$f":"'18'!AO35","v":"3 Right"},{"$f":"'18'!AP35","v":"1 Right"}]
[]
[{"$f":"'16'!AL18","v":1},{"$f":"'16'!AM18","v":"2 Left"},{"$f":"'16'!AN18","v":"3 Left"},{"$f":"'16'!AO18","v":"4 Left"},{"$f":"'16'!AP18","v":"5 Left"},{"$nulls":6},16]
[{"$f":"'16'!AL19","v":2},{"$f":"'16'!AM19","v":"2 Right"},{"$f":"'16'!AN19","v":"4 Left"},{"$f":"'16'!AO19","v":"5 Left"},{"$f":"'16'!AP19","v":"4 Left"}]
[{"$f":"'16'!AL20","v":3},{"$f":"'16'!AM20","v":"3 Left"},{"$f":"'16'!AN20","v":"4 Right"},{"$f":"'16'!AO20","v":"2 Left"},{"$f":"'16'!AP20","v":"5 Right"}]
[{"$f":"'16'!AL21","v":4},{"$f":"'16'!AM21","v":"3 Right"},{"$f":"'16'!AN21","v":"5 Left"},{"$f":"'16'!AO21","v":"3 Left"},{"$f":"'16'!AP21","v":"4 Right"}]
[{"$f":"'16'!AL22","v":5},{"$f":"'16'!AM22","v":"4 Left"},{"$f":"'16'!AN22","v":"5 Right"},{"$f":"'16'!AO22","v":"2 Right"},{"$f":"'16'!AP22","v":"3 Left"}]
[{"$f":"'16'!AL23","v":6},{"$f":"'16'!AM23","v":"4 Right"},{"$f":"'16'!AN23","v":"2 Left"},{"$f":"'16'!AO23","v":"3 Right"},{"$f":"'16'!AP23","v":"2 Right"}]
[{"$f":"'16'!AL24","v":7},{"$f":"'16'!AM24","v":"5 Left"},{"$f":"'16'!AN24","v":"3 Right"},{"$f":"'16'!AO24","v":"5 Right"},{"$f":"'16'!AP24","v":"2 Left"}]
[{"$f":"'16'!AL25","v":8},{"$f":"'16'!AM25","v":"5 Right"},{"$f":"'16'!AN25","v":"2 Right"},{"$f":"'16'!AO25","v":"4 Right"},{"$f":"'16'!AP25","v":"3 Right"}]
[{"$f":"'16'!AL26","v":9},{"$f":"'16'!AM26","v":"2 Left"},{"$f":"'16'!AN26","v":"4 Right"},{"$f":"'16'!AO26","v":"5 Right"},{"$f":"'16'!AP26","v":"4 Right"}]
[{"$f":"'16'!AL27","v":10},{"$f":"'16'!AM27","v":"2 Right"},{"$f":"'16'!AN27","v":"5 Left"},{"$f":"'16'!AO27","v":"4 Right"},{"$f":"'16'!AP27","v":"3 Left"}]
[{"$f":"'16'!AL28","v":11},{"$f":"'16'!AM28","v":"3 Left"},{"$f":"'16'!AN28","v":"5 Right"},{"$f":"'16'!AO28","v":"4 Left"},{"$f":"'16'!AP28","v":"2 Right"}]
[{"$f":"'16'!AL29","v":12},{"$f":"'16'!AM29","v":"3 Right"},{"$f":"'16'!AN29","v":"2 Left"},{"$f":"'16'!AO29","v":"5 Left"},{"$f":"'16'!AP29","v":"2 Left"}]
[{"$f":"'16'!AL30","v":13},{"$f":"'16'!AM30","v":"4 Left"},{"$f":"'16'!AN30","v":"3 Right"},{"$f":"'16'!AO30","v":"2 Left"},{"$f":"'16'!AP30","v":"3 Right"}]
[{"$f":"'16'!AL31","v":14},{"$f":"'16'!AM31","v":"4 Right"},{"$f":"'16'!AN31","v":"2 Right"},{"$f":"'16'!AO31","v":"3 Left"},{"$f":"'16'!AP31","v":"5 Left"}]
[{"$f":"'16'!AL32","v":15},{"$f":"'16'!AM32","v":"5 Left"},{"$f":"'16'!AN32","v":"3 Left"},{"$f":"'16'!AO32","v":"2 Right"},{"$f":"'16'!AP32","v":"4 Left"}]
[{"$f":"'16'!AL33","v":16},{"$f":"'16'!AM33","v":"5 Right"},{"$f":"'16'!AN33","v":"4 Left"},{"$f":"'16'!AO33","v":"3 Right"},{"$f":"'16'!AP33","v":"5 Right"}]
[]
[{"$f":"'14'!AL18","v":1},{"$f":"'14'!AM18","v":"1 Left"},{"$f":"'14'!AN18","v":"3 Left"},{"$f":"'14'!AO18","v":"1 Left"},{"$f":"'14'!AP18","v":"3 Right"},{"$nulls":6},14]
[{"$f":"'14'!AL19","v":2},{"$f":"'14'!AM19","v":"1 Right"},{"$f":"'14'!AN19","v":"2 Left"},{"$f":"'14'!AO19","v":"1 Left"},{"$f":"'14'!AP19","v":"2 Left"}]
[{"$f":"'14'!AL20","v":3},{"$f":"'14'!AM20","v":"2 Left"},{"$f":"'14'!AN20","v":"1 Right"},{"$f":"'14'!AO20","v":"3 Right"},{"$f":"'14'!AP20","v":"1 Left"}]
[{"$f":"'14'!AL21","v":4},{"$f":"'14'!AM21","v":"2 Right"},{"$f":"'14'!AN21","v":"1 Left"},{"$f":"'14'!AO21","v":"3 Left"},{"$f":"'14'!AP21","v":"1 Left"}]
[{"$f":"'14'!AL22","v":5},{"$f":"'14'!AM22","v":"3 Left"},{"$f":"'14'!AN22","v":"2 Right"},{"$f":"'14'!AO22","v":"1 Left"},{"$f":"'14'!AP22","v":"2 Right"}]
[{"$f":"'14'!AL23","v":6},{"$f":"'14'!AM23","v":"1 Left"},{"$f":"'14'!AN23","v":"3 Right"},{"$f":"'14'!AO23","v":"2 Left"},{"$f":"'14'!AP23","v":"1 Left"}]
[{"$f":"'14'!AL24","v":7},{"$f":"'14'!AM24","v":"1 Right"},{"$f":"'14'!AN24","v":"3 Left"},{"$f":"'14'!AO24","v":"2 Right"},{"$f":"'14'!AP24","v":"1 Right"}]
[{"$f":"'14'!AL25","v":8},{"$f":"'14'!AM25","v":"2 Left"},{"$f":"'14'!AN25","v":"1 Left"},{"$f":"'14'!AO25","v":"2 Left"},{"$f":"'14'!AP25","v":"3 Left"}]
[{"$f":"'14'!AL26","v":9},{"$f":"'14'!AM26","v":"2 Right"},{"$f":"'14'!AN26","v":"1 Right"},{"$f":"'14'!AO26","v":"2 Right"},{"$f":"'14'!AP26","v":"3 Right"}]
[{"$f":"'14'!AL27","v":10},{"$f":"'14'!AM27","v":"3 Right"},{"$f":"'14'!AN27","v":"2 Left"},{"$f":"'14'!AO27","v":"1 Right"},{"$f":"'14'!AP27","v":"2 Right"}]
[{"$f":"'14'!AL28","v":11},{"$f":"'14'!AM28","v":"1 Left"},{"$f":"'14'!AN28","v":"2 Right"},{"$f":"'14'!AO28","v":"1 Right"},{"$f":"'14'!AP28","v":"2 Left"}]
[{"$f":"'14'!AL29","v":12},{"$f":"'14'!AM29","v":"1 Right"},{"$f":"'14'!AN29","v":"3 Right"},{"$f":"'14'!AO29","v":"1 Right"},{"$f":"'14'!AP29","v":"3 Left"}]
[{"$f":"'14'!AL30","v":13},{"$f":"'14'!AM30","v":"3 Right"},{"$f":"'14'!AN30","v":"1 Left"},{"$f":"'14'!AO30","v":"3 Right"},{"$f":"'14'!AP30","v":"1 Right"}]
[{"$f":"'14'!AL31","v":14},{"$f":"'14'!AM31","v":"3 Left"},{"$f":"'14'!AN31","v":"1 Right"},{"$f":"'14'!AO31","v":"3 Left"},{"$f":"'14'!AP31","v":"1 Right"}]
[]
[1,"2 Left","3 Left","2 Right","4 Left",{"$nulls":6},12]
[2,"2 Left","4 Left","2 Left","3 Left"]
[3,"2 Right","3 Left","2 Left","4 Right"]
[4,"2 Right","4 Left","3 Right","2 Right"]
[5,"3 Left","2 Left","4 Right","2 Right"]
[6,"3 Left","4 Right","3 Left","2 Left"]
[7,"3 Right","2 Left","3 Left","4 Left"]
[8,"3 Right","4 Right","2 Right","3 Right"]
[9,"4 Left","2 Right","3 Right","4 Right"]
[10,"4 Left","3 Right","4 Left","2 Left"]
[11,"4 Right","2 Right","4 Left","3 Left"]
[12,"4 Right","3 Right","4 Right","3 Right"]

{"sheet":"Score Cards","index":42,"n_rows":2100,"n_cols":27,"rows_kept":2100,"hidden":true,"merged":[[1960,17,1960,19],[1960,20,1960,22],[1960,23,1960,25],[1960,26,1960,28],[1961,0,1961,1],[1961,2,1961,4],[1961,5,1961,7],[1961,8,1961,10],[1961,11,1961,13],[1961,15,1961,16],[1961,17,1961,19],[1961,20,1961,22],[1961,23,1961,25],[1961,26,1961,28],[1962,0,1962,1],[1962,2,1962,4],[1962,5,1962,7],[1962,8,1962,10],[1962,11,1962,13],[1962,15,1962,16],[1962,17,1962,19],[1962,20,1962,22],[1962,23,1962,25],[1962,26,1962,28],[1963,0,1963,1],[1963,2,1963,4],[1963,5,1963,7],[1963,8,1963,10],[1963,11,1963,13],[1963,15,1963,16],[1963,17,1963,19],[1963,20,1963,22],[1963,23,1963,25],[1963,26,1963,28],[1965,0,1965,13],[1965,15,1965,28],[1966,0,1966,7],[1966,8,1966,13],[1966,15,1966,22],[1966,23,1966,28],[1967,0,1967,1],[1967,2,1967,4],[1967,5,1967,7],[1967,8,1967,10],[1967,11,1967,13],[1967,15,1967,16],[1967,17,1967,19],[1967,20,1967,22],[1967,23,1967,25],[1967,26,1967,28],[1968,0,1968,1],[1968,2,1968,4],[1968,5,1968,7],[1968,8,1968,10],[1968,11,1968,13],[1968,15,1968,16],[1968,17,1968,19],[1968,20,1968,22],[1968,23,1968,25],[1968,26,1968,28],[1969,0,1969,1],[1969,2,1969,4],[1969,5,1969,7],[1969,8,1969,10],[1969,11,1969,13],[1969,15,1969,16],[1969,17,1969,19],[1969,20,1969,22],[1969,23,1969,25],[1969,26,1969,28],[1970,0,1970,1],[1970,2,1970,4],[1970,5,1970,7],[1970,8,1970,10],[1970,11,1970,13],[1970,15,1970,16],[1970,17,1970,19],[1970,20,1970,22],[1970,23,1970,25],[1970,26,1970,28],[1971,0,1971,1],[1971,2,1971,4],[1971,5,1971,7],[1971,8,1971,10],[1971,11,1971,13],[1971,15,1971,16],[1971,17,1971,19],[1971,20,1971,22],[1971,23,1971,25],[1971,26,1971,28],[1972,0,1972,1],[1972,2,1972,4],[1972,5,1972,7],[1972,8,1972,10],[1972,11,1972,13],[1972,15,1972,16],[1972,17,1972,19],[1972,20,1972,22],[1972,23,1972,25],[1972,26,1972,28],[1973,0,1973,1],[1973,2,1973,4],[1973,5,1973,7],[1973,8,1973,10],[1973,11,1973,13],[1973,15,1973,16],[1973,17,1973,19],[1973,20,1973,22],[1973,23,1973,25],[1973,26,1973,28],[1974,0,1974,1],[1974,2,1974,4],[1974,5,1974,7],[1974,8,1974,10],[1974,11,1974,13],[1974,15,1974,16],[1974,17,1974,19],[1974,20,1974,22],[1974,23,1974,25],[1974,26,1974,28],[1975,0,1976,6],[1975,7,1976,9],[1975,10,1976,13],[1975,16,1976,28],[1979,0,1979,13],[1979,15,1979,28],[1980,0,1980,7],[1980,8,1980,13],[1980,15,1980,22],[1980,23,1980,28],[1981,0,1981,1],[1981,2,1981,4],[1981,5,1981,7],[1981,8,1981,10],[1981,11,1981,13],[1981,15,1981,16],[1981,17,1981,19],[1981,20,1981,22],[1981,23,1981,25],[1981,26,1981,28],[1982,0,1982,1],[1982,2,1982,4],[1982,5,1982,7],[1982,8,1982,10],[1982,11,1982,13],[1982,15,1982,16],[1982,17,1982,19],[1982,20,1982,22],[1982,23,1982,25],[1982,26,1982,28],[1983,0,1983,1],[1983,2,1983,4],[1983,5,1983,7],[1983,8,1983,10],[1983,11,1983,13],[1983,15,1983,16],[1983,17,1983,19],[1983,20,1983,22],[1983,23,1983,25],[1983,26,1983,28],[1984,0,1984,1],[1984,2,1984,4],[1984,5,1984,7],[1984,8,1984,10],[1984,11,1984,13],[1984,15,1984,16],[1984,17,1984,19],[1984,20,1984,22],[1984,23,1984,25],[1984,26,1984,28],[1985,0,1985,1],[1985,2,1985,4],[1985,5,1985,7],[1985,8,1985,10],[1985,11,1985,13],[1985,15,1985,16],[1985,17,1985,19],[1985,20,1985,22],[1985,23,1985,25],[1985,26,1985,28],[1986,0,1986,1],[1986,2,1986,4],[1986,5,1986,7],[1986,8,1986,10],[1986,11,1986,13],[1986,15,1986,16],[1986,17,1986,19],[1986,20,1986,22],[1986,23,1986,25],[1986,26,1986,28],[1987,0,1987,1],[1987,2,1987,4],[1987,5,1987,7],[1987,8,1987,10],[1987,11,1987,13],[1987,15,1987,16],[1987,17,1987,19],[1987,20,1987,22],[1987,23,1987,25],[1987,26,1987,28],[1988,0,1988,1],[1988,2,1988,4],[1988,5,1988,7],[1988,8,1988,10],[1988,11,1988,13],[1988,15,1988,16],[1988,17,1988,19],[1988,20,1988,22],[1988,23,1988,25],[1988,26,1988,28],[1990,0,1990,13],[1990,15,1990,28],[1991,0,1991,7],[1991,8,1991,13],[1991,15,1991,22],[1991,23,1991,28],[1992,0,1992,1],[1992,2,1992,4],[1992,5,1992,7],[1992,8,1992,10],[1992,11,1992,13],[1992,15,1992,16],[1992,17,1992,19],[1992,20,1992,22],[1992,23,1992,25],[1992,26,1992,28],[1993,0,1993,1],[1993,2,1993,4],[1993,5,1993,7],[1993,8,1993,10],[1993,11,1993,13],[1993,15,1993,16],[1993,17,1993,19],[1993,20,1993,22],[1993,23,1993,25],[1993,26,1993,28],[1994,0,1994,1],[1994,2,1994,4],[1994,5,1994,7],[1994,8,1994,10],[1994,11,1994,13],[1994,15,1994,16],[1994,17,1994,19],[1994,20,1994,22],[1994,23,1994,25],[1994,26,1994,28],[1995,0,1995,1],[1995,2,1995,4],[1995,5,1995,7],[1995,8,1995,10],[1995,11,1995,13],[1995,15,1995,16],[1995,17,1995,19],[1995,20,1995,22],[1995,23,1995,25],[1995,26,1995,28],[1996,0,1996,1],[1996,2,1996,4],[1996,5,1996,7],[1996,8,1996,10],[1996,11,1996,13],[1996,15,1996,16],[1996,17,1996,19],[1996,20,1996,22],[1996,23,1996,25],[1996,26,1996,28],[1997,0,1997,1],[1997,2,1997,4],[1997,5,1997,7],[1997,8,1997,10],[1997,11,1997,13],[1997,15,1997,16],[1997,17,1997,19],[1997,20,1997,22],[1997,23,1997,25],[1997,26,1997,28],[1998,0,1998,1],[1998,2,1998,4],[1998,5,1998,7],[1998,8,1998,10],[1998,11,1998,13],[1998,15,1998,16],[1998,17,1998,19],[1998,20,1998,22],[1998,23,1998,25],[1998,26,1998,28],[1999,0,1999,1],[1999,2,1999,4],[1999,5,1999,7],[1999,8,1999,10],[1999,11,1999,13],[1999,15,1999,16],[1999,17,1999,19],[1999,20,1999,22],[1999,23,1999,25],[1999,26,1999,28],[2000,0,2001,6],[2000,7,2001,9],[2000,10,2001,13],[2000,16,2001,28],[2004,0,2004,13],[2004,15,2004,28],[2005,0,2005,7],[2005,8,2005,13],[2005,15,2005,22],[2005,23,2005,28],[2006,0,2006,1],[2006,2,2006,4],[2006,5,2006,7],[2006,8,2006,10],[2006,11,2006,13],[2006,15,2006,16],[2006,17,2006,19],[2006,20,2006,22],[2006,23,2006,25],[2006,26,2006,28],[2007,0,2007,1],[2007,2,2007,4],[2007,5,2007,7],[2007,8,2007,10],[2007,11,2007,13],[2007,15,2007,16],[2007,17,2007,19],[2007,20,2007,22],[2007,23,2007,25],[2007,26,2007,28],[2008,0,2008,1],[2008,2,2008,4],[2008,5,2008,7],[2008,8,2008,10],[2008,11,2008,13],[2008,15,2008,16],[2008,17,2008,19],[2008,20,2008,22],[2008,23,2008,25],[2008,26,2008,28],[2009,0,2009,1],[2009,2,2009,4],[2009,5,2009,7],[2009,8,2009,10],[2009,11,2009,13],[2009,15,2009,16],[2009,17,2009,19],[2009,20,2009,22],[2009,23,2009,25],[2009,26,2009,28],[2010,0,2010,1],[2010,2,2010,4],[2010,5,2010,7],[2010,8,2010,10],[2010,11,2010,13],[2010,15,2010,16],[2010,17,2010,19],[2010,20,2010,22],[2010,23,2010,25],[2010,26,2010,28],[2011,0,2011,1],[2011,2,2011,4],[2011,5,2011,7],[2011,8,2011,10],[2011,11,2011,13],[2011,15,2011,16],[2011,17,2011,19],[2011,20,2011,22],[2011,23,2011,25],[2011,26,2011,28],[2012,0,2012,1],[2012,2,2012,4],[2012,5,2012,7],[2012,8,2012,10],[2012,11,2012,13],[2012,15,2012,16],[2012,17,2012,19],[2012,20,2012,22],[2012,23,2012,25],[2012,26,2012,28],[2013,0,2013,1],[2013,2,2013,4],[2013,5,2013,7],[2013,8,2013,10],[2013,11,2013,13],[2013,15,2013,16],[2013,17,2013,19],[2013,20,2013,22],[2013,23,2013,25],[2013,26,2013,28],[2015,0,2015,13],[2015,15,2015,28],[2016,0,2016,7],[2016,8,2016,13],[2016,15,2016,22],[2016,23,2016,28],[2017,0,2017,1],[2017,2,2017,4],[2017,5,2017,7],[2017,8,2017,10],[2017,11,2017,13],[2017,15,2017,16],[2017,17,2017,19],[2017,20,2017,22],[2017,23,2017,25],[2017,26,2017,28],[2018,0,2018,1],[2018,2,2018,4],[2018,5,2018,7],[2018,8,2018,10],[2018,11,2018,13],[2018,15,2018,16],[2018,17,2018,19],[2018,20,2018,22],[2018,23,2018,25],[2018,26,2018,28],[2019,0,2019,1],[2019,2,2019,4],[2019,5,2019,7],[2019,8,2019,10],[2019,11,2019,13],[2019,15,2019,16],[2019,17,2019,19],[2019,20,2019,22],[2019,23,2019,25],[2019,26,2019,28],[2020,0,2020,1],[2020,2,2020,4],[2020,5,2020,7],[2020,8,2020,10],[2020,11,2020,13],[2020,15,2020,16],[2020,17,2020,19],[2020,20,2020,22],[2020,23,2020,25],[2020,26,2020,28],[2021,0,2021,1],[2021,2,2021,4],[2021,5,2021,7],[2021,8,2021,10],[2021,11,2021,13],[2021,15,2021,16],[2021,17,2021,19],[2021,20,2021,22],[2021,23,2021,25],[2021,26,2021,28],[2022,0,2022,1],[2022,2,2022,4],[2022,5,2022,7],[2022,8,2022,10],[2022,11,2022,13],[2022,15,2022,16],[2022,17,2022,19],[2022,20,2022,22],[2022,23,2022,25],[2022,26,2022,28],[2023,0,2023,1],[2023,2,2023,4],[2023,5,2023,7],[2023,8,2023,10],[2023,11,2023,13],[2023,15,2023,16],[2023,17,2023,19],[2023,20,2023,22],[2023,23,2023,25],[2023,26,2023,28],[2024,0,2024,1],[2024,2,2024,4],[2024,5,2024,7],[2024,8,2024,10],[2024,11,2024,13],[2024,15,2024,16],[2024,17,2024,19],[2024,20,2024,22],[2024,23,2024,25],[2024,26,2024,28],[2025,0,2026,6],[2025,7,2026,9],[2025,10,2026,13],[2025,16,2026,28],[2029,0,2029,13],[2029,15,2029,28],[2030,0,2030,7],[2030,8,2030,13],[2030,15,2030,22],[2030,23,2030,28],[2031,0,2031,1],[2031,2,2031,4],[2031,5,2031,7],[2031,8,2031,10],[2031,11,2031,13],[2031,15,2031,16],[2031,17,2031,19],[2031,20,2031,22],[2031,23,2031,25],[2031,26,2031,28],[2032,0,2032,1],[2032,2,2032,4],[2032,5,2032,7],[2032,8,2032,10],[2032,11,2032,13],[2032,15,2032,16],[2032,17,2032,19],[2032,20,2032,22],[2032,23,2032,25],[2032,26,2032,28],[2033,0,2033,1],[2033,2,2033,4],[2033,5,2033,7],[2033,8,2033,10],[2033,11,2033,13],[2033,15,2033,16],[2033,17,2033,19],[2033,20,2033,22],[2033,23,2033,25],[2033,26,2033,28],[2034,0,2034,1],[2034,2,2034,4],[2034,5,2034,7],[2034,8,2034,10],[2034,11,2034,13],[2034,15,2034,16],[2034,17,2034,19],[2034,20,2034,22],[2034,23,2034,25],[2034,26,2034,28],[2035,0,2035,1],[2035,2,2035,4],[2035,5,2035,7],[2035,8,2035,10],[2035,11,2035,13],[2035,15,2035,16],[2035,17,2035,19],[2035,20,2035,22],[2035,23,2035,25],[2035,26,2035,28],[2036,0,2036,1],[2036,2,2036,4],[2036,5,2036,7],[2036,8,2036,10],[2036,11,2036,13],[2036,15,2036,16],[2036,17,2036,19],[2036,20,2036,22],[2036,23,2036,25],[2036,26,2036,28],[2037,0,2037,1],[2037,2,2037,4],[2037,5,2037,7],[2037,8,2037,10],[2037,11,2037,13],[2037,15,2037,16],[2037,17,2037,19],[2037,20,2037,22],[2037,23,2037,25],[2037,26,2037,28],[2038,0,2038,1],[2038,2,2038,4],[2038,5,2038,7],[2038,8,2038,10],[2038,11,2038,13],[2038,15,2038,16],[2038,17,2038,19],[2038,20,2038,22],[2038,23,2038,25],[2038,26,2038,28],[2040,0,2040,13],[2040,15,2040,28],[2041,0,2041,7],[2041,8,2041,13],[2041,15,2041,22],[2041,23,2041,28],[2042,0,2042,1],[2042,2,2042,4],[2042,5,2042,7],[2042,8,2042,10],[2042,11,2042,13],[2042,15,2042,16],[2042,17,2042,19],[2042,20,2042,22],[2042,23,2042,25],[2042,26,2042,28],[2043,0,2043,1],[2043,2,2043,4],[2043,5,2043,7],[2043,8,2043,10],[2043,11,2043,13],[2043,15,2043,16],[2043,17,2043,19],[2043,20,2043,22],[2043,23,2043,25],[2043,26,2043,28],[2044,0,2044,1],[2044,2,2044,4],[2044,5,2044,7],[2044,8,2044,10],[2044,11,2044,13],[2044,15,2044,16],[2044,17,2044,19],[2044,20,2044,22],[2044,23,2044,25],[2044,26,2044,28],[2045,0,2045,1],[2045,2,2045,4],[2045,5,2045,7],[2045,8,2045,10],[2045,11,2045,13],[2045,15,2045,16],[2045,17,2045,19],[2045,20,2045,22],[2045,23,2045,25],[2045,26,2045,28],[2046,0,2046,1],[2046,2,2046,4],[2046,5,2046,7],[2046,8,2046,10],[2046,11,2046,13],[2046,15,2046,16],[2046,17,2046,19],[2046,20,2046,22],[2046,23,2046,25],[2046,26,2046,28],[2047,0,2047,1],[2047,2,2047,4],[2047,5,2047,7],[2047,8,2047,10],[2047,11,2047,13],[2047,15,2047,16],[2047,17,2047,19],[2047,20,2047,22],[2047,23,2047,25],[2047,26,2047,28],[2048,0,2048,1],[2048,2,2048,4],[2048,5,2048,7],[2048,8,2048,10],[2048,11,2048,13],[2048,15,2048,16],[2048,17,2048,19],[2048,20,2048,22],[2048,23,2048,25],[2048,26,2048,28],[2049,0,2049,1],[2049,2,2049,4],[2049,5,2049,7],[2049,8,2049,10],[2049,11,2049,13],[2049,15,2049,16],[2049,17,2049,19],[2049,20,2049,22],[2049,23,2049,25],[2049,26,2049,28],[2050,0,2051,6],[2050,7,2051,9],[2050,10,2051,13],[2050,16,2051,28],[2054,0,2054,13],[2054,15,2054,28],[2055,0,2055,7],[2055,8,2055,13],[2055,15,2055,22],[2055,23,2055,28],[2056,0,2056,1],[2056,2,2056,4],[2056,5,2056,7],[2056,8,2056,10],[2056,11,2056,13],[2056,15,2056,16],[2056,17,2056,19],[2056,20,2056,22],[2056,23,2056,25],[2056,26,2056,28],[2057,0,2057,1],[2057,2,2057,4],[2057,5,2057,7],[2057,8,2057,10],[2057,11,2057,13],[2057,15,2057,16],[2057,17,2057,19],[2057,20,2057,22],[2057,23,2057,25],[2057,26,2057,28],[2058,0,2058,1],[2058,2,2058,4],[2058,5,2058,7],[2058,8,2058,10],[2058,11,2058,13],[2058,15,2058,16],[2058,17,2058,19],[2058,20,2058,22],[2058,23,2058,25],[2058,26,2058,28],[2059,0,2059,1],[2059,2,2059,4],[2059,5,2059,7],[2059,8,2059,10],[2059,11,2059,13],[2059,15,2059,16],[2059,17,2059,19],[2059,20,2059,22],[2059,23,2059,25],[2059,26,2059,28],[2060,0,2060,1],[2060,2,2060,4],[2060,5,2060,7],[2060,8,2060,10],[2060,11,2060,13],[2060,15,2060,16],[2060,17,2060,19],[2060,20,2060,22],[2060,23,2060,25],[2060,26,2060,28],[2061,0,2061,1],[2061,2,2061,4],[2061,5,2061,7],[2061,8,2061,10],[2061,11,2061,13],[2061,15,2061,16],[2061,17,2061,19],[2061,20,2061,22],[2061,23,2061,25],[2061,26,2061,28],[2062,0,2062,1],[2062,2,2062,4],[2062,5,2062,7],[2062,8,2062,10],[2062,11,2062,13],[2062,15,2062,16],[2062,17,2062,19],[2062,20,2062,22],[2062,23,2062,25],[2062,26,2062,28],[2063,0,2063,1],[2063,2,2063,4],[2063,5,2063,7],[2063,8,2063,10],[2063,11,2063,13],[2063,15,2063,16],[2063,17,2063,19],[2063,20,2063,22],[2063,23,2063,25],[2063,26,2063,28],[2065,0,2065,13],[2065,15,2065,28],[2066,0,2066,7],[2066,8,2066,13],[2066,15,2066,22],[2066,23,2066,28],[2067,0,2067,1],[2067,2,2067,4],[2067,5,2067,7],[2067,8,2067,10],[2067,11,2067,13],[2067,15,2067,16],[2067,17,2067,19],[2067,20,2067,22],[2067,23,2067,25],[2067,26,2067,28],[2068,0,2068,1],[2068,2,2068,4],[2068,5,2068,7],[2068,8,2068,10],[2068,11,2068,13],[2068,15,2068,16],[2068,17,2068,19],[2068,20,2068,22],[2068,23,2068,25],[2068,26,2068,28],[2069,0,2069,1],[2069,2,2069,4],[2069,5,2069,7],[2069,8,2069,10],[2069,11,2069,13],[2069,15,2069,16],[2069,17,2069,19],[2069,20,2069,22],[2069,23,2069,25],[2069,26,2069,28],[2070,0,2070,1],[2070,2,2070,4],[2070,5,2070,7],[2070,8,2070,10],[2070,11,2070,13],[2070,15,2070,16],[2070,17,2070,19],[2070,20,2070,22],[2070,23,2070,25],[2070,26,2070,28],[2071,0,2071,1],[2071,2,2071,4],[2071,5,2071,7],[2071,8,2071,10],[2071,11,2071,13],[2071,15,2071,16],[2071,17,2071,19],[2071,20,2071,22],[2071,23,2071,25],[2071,26,2071,28],[2072,0,2072,1],[2072,2,2072,4],[2072,5,2072,7],[2072,8,2072,10],[2072,11,2072,13],[2072,15,2072,16],[2072,17,2072,19],[2072,20,2072,22],[2072,23,2072,25],[2072,26,2072,28],[2073,0,2073,1],[2073,2,2073,4],[2073,5,2073,7],[2073,8,2073,10],[2073,11,2073,13],[2073,15,2073,16],[2073,17,2073,19],[2073,20,2073,22],[2073,23,2073,25],[2073,26,2073,28],[2074,0,2074,1],[2074,2,2074,4],[2074,5,2074,7],[2074,8,2074,10],[2074,11,2074,13],[2074,15,2074,16],[2074,17,2074,19],[2074,20,2074,22],[2074,23,2074,25],[2074,26,2074,28],[2075,0,2076,6],[2075,7,2076,9],[2075,10,2076,13],[2075,16,2076,28],[2079,0,2079,13],[2079,15,2079,28],[2080,0,2080,7],[2080,8,2080,13],[2080,15,2080,22],[2080,23,2080,28],[2081,0,2081,1],[2081,2,2081,4],[2081,5,2081,7],[2081,8,2081,10],[2081,11,2081,13],[2081,15,2081,16],[2081,17,2081,19],[2081,20,2081,22],[2081,23,2081,25],[2081,26,2081,28],[2082,0,2082,1],[2082,2,2082,4],[2082,5,2082,7],[2082,8,2082,10],[2082,11,2082,13],[2082,15,2082,16],[2082,17,2082,19],[2082,20,2082,22],[2082,23,2082,25],[2082,26,2082,28],[2083,0,2083,1],[2083,2,2083,4],[2083,5,2083,7],[2083,8,2083,10],[2083,11,2083,13],[2083,15,2083,16],[2083,17,2083,19],[2083,20,2083,22],[2083,23,2083,25],[2083,26,2083,28],[2084,0,2084,1],[2084,2,2084,4],[2084,5,2084,7],[2084,8,2084,10],[2084,11,2084,13],[2084,15,2084,16],[2084,17,2084,19],[2084,20,2084,22],[2084,23,2084,25],[2084,26,2084,28],[2085,0,2085,1],[2085,2,2085,4],[2085,5,2085,7],[2085,8,2085,10],[2085,11,2085,13],[2085,15,2085,16],[2085,17,2085,19],[2085,20,2085,22],[2085,23,2085,25],[2085,26,2085,28],[2086,0,2086,1],[2086,2,2086,4],[2086,5,2086,7],[2086,8,2086,10],[2086,11,2086,13],[2086,15,2086,16],[2086,17,2086,19],[2086,20,2086,22],[2086,23,2086,25],[2086,26,2086,28],[2087,0,2087,1],[2087,2,2087,4],[2087,5,2087,7],[2087,8,2087,10],[2087,11,2087,13],[2087,15,2087,16],[2087,17,2087,19],[2087,20,2087,22],[2087,23,2087,25],[2087,26,2087,28],[2088,0,2088,1],[2088,2,2088,4],[2088,5,2088,7],[2088,8,2088,10],[2088,11,2088,13],[2088,15,2088,16],[2088,17,2088,19],[2088,20,2088,22],[2088,23,2088,25],[2088,26,2088,28],[2090,0,2090,13],[2090,15,2090,28],[2091,0,2091,7],[2091,8,2091,13],[2091,15,2091,22],[2091,23,2091,28],[2092,0,2092,1],[2092,2,2092,4],[2092,5,2092,7],[2092,8,2092,10],[2092,11,2092,13],[2092,15,2092,16],[2092,17,2092,19],[2092,20,2092,22],[2092,23,2092,25],[2092,26,2092,28],[2093,0,2093,1],[2093,2,2093,4],[2093,5,2093,7],[2093,8,2093,10],[2093,11,2093,13],[2093,15,2093,16],[2093,17,2093,19],[2093,20,2093,22],[2093,23,2093,25],[2093,26,2093,28],[2094,0,2094,1],[2094,2,2094,4],[2094,5,2094,7],[2094,8,2094,10],[2094,11,2094,13],[2094,15,2094,16],[2094,17,2094,19],[2094,20,2094,22],[2094,23,2094,25],[2094,26,2094,28],[2095,0,2095,1],[2095,2,2095,4],[2095,5,2095,7],[2095,8,2095,10],[2095,11,2095,13],[2095,15,2095,16],[2095,17,2095,19],[2095,20,2095,22],[2095,23,2095,25],[2095,26,2095,28],[2096,0,2096,1],[2096,2,2096,4],[2096,5,2096,7],[2096,8,2096,10],[2096,11,2096,13],[2096,15,2096,16],[2096,17,2096,19],[2096,20,2096,22],[2096,23,2096,25],[2096,26,2096,28],[2097,0,2097,1],[2097,2,2097,4],[2097,5,2097,7],[2097,8,2097,10],[2097,11,2097,13],[2097,15,2097,16],[2097,17,2097,19],[2097,20,2097,22],[2097,23,2097,25],[2097,26,2097,28],[2098,0,2098,1],[2098,2,2098,4],[2098,5,2098,7],[2098,8,2098,10],[2098,11,2098,13],[2098,15,2098,16],[2098,17,2098,19],[2098,20,2098,22],[2098,23,2098,25],[2098,26,2098,28],[2099,0,2099,1],[2099,2,2099,4],[2099,5,2099,7],[2099,8,2099,10],[2099,11,2099,13],[2099,15,2099,16],[2099,17,2099,19],[2099,20,2099,22],[2099,23,2099,25],[2099,26,2099,28]],"merged_total":14784,"flags":["merged_cut"]}
["Player no.",{"$nulls":6},{"$f":"DRAWS!$F$2","v":1},null,null,"Name",{"$nulls":3},"."]
[]
[]
[]
["Game  1  ",{"$nulls":14},"Game  2"]
["Go to rink ",{"$nulls":7},{"$f":"DRAWS!$G$2","v":"2 Left"},{"$nulls":6},"Go to rink ",{"$nulls":7},{"$f":"DRAWS!$H$2","v":"3 Left"}]
["End",null,"For",null,null,"Total",null,null,"Ag'nst",null,null,"Total",{"$nulls":3},"End",null,"For",null,null,"Total",null,null,"Ag'nst",null,null,"Total"]
[1,{"$nulls":14},1]
[2,{"$nulls":14},2]
[3,{"$nulls":14},3]
[4,{"$nulls":14},4]
[5,{"$nulls":14},5]
[6,{"$nulls":14},6]
["Tot",{"$nulls":14},"Tot"]
[]
["Game  3",{"$nulls":14},"Game  4"]
["Go to rink ",{"$nulls":7},{"$f":"DRAWS!$I$2","v":"6 Left"},{"$nulls":6},"Go to rink ",{"$nulls":7},{"$f":"DRAWS!$J$2","v":"5 Right"}]
["End",null,"For",null,null,"Total",null,null,"Ag'nst",null,null,"Total",{"$nulls":3},"End",null,"For",null,null,"Total",null,null,"Ag'nst",null,null,"Total"]
[1,{"$nulls":14},1]
[2,{"$nulls":14},2]
[3,{"$nulls":14},3]
[4,{"$nulls":14},4]
[5,{"$nulls":14},5]
[6,{"$nulls":14},6]
["Tot",{"$nulls":14},"Tot"]
["Player no.",{"$nulls":6},{"$f":"DRAWS!$F$3","v":2},null,null,"Name"]
[]
[]
[]
["Game  1  ",{"$nulls":14},"Game  2"]
["Go to rink ",{"$nulls":7},{"$f":"DRAWS!$G$3","v":"2 Right"},{"$nulls":6},"Go to rink ",{"$nulls":7},{"$f":"DRAWS!$H$3","v":"4 Left"}]
["End",null,"For",null,null,"Total",null,null,"Ag'nst",null,null,"Total",{"$nulls":3},"End",null,"For",null,null,"Total",null,null,"Ag'nst",null,null,"Total"]
[1,{"$nulls":14},1]
[2,{"$nulls":14},2]
[3,{"$nulls":14},3]
[4,{"$nulls":14},4]
[5,{"$nulls":14},5]
[6,{"$nulls":14},6]
["Tot",{"$nulls":14},"Tot"]
[]
["Game  3",{"$nulls":14},"Game  4"]
["Go to rink ",{"$nulls":7},{"$f":"DRAWS!$I$3","v":"3 Left"},{"$nulls":6},"Go to rink ",{"$nulls":7},{"$f":"DRAWS!$J$3","v":"6 Left"}]
["End",null,"For",null,null,"Total",null,null,"Ag'nst",null,null,"Total",{"$nulls":3},"End",null,"For",null,null,"Total",null,null,"Ag'nst",null,null,"Total"]
[1,{"$nulls":14},1]
[2,{"$nulls":14},2]
[3,{"$nulls":14},3]
[4,{"$nulls":14},4]
[5,{"$nulls":14},5]
[6,{"$nulls":14},6]
["Tot",{"$nulls":14},"Tot"]
["Player no.",{"$nulls":6},{"$f":"DRAWS!$F$4","v":3},null,null,"Name"]
[]
[]
[]
["Game  1  ",{"$nulls":14},"Game  2"]
["Go to rink ",{"$nulls":7},{"$f":"DRAWS!$G$4","v":"3 Left"},{"$nulls":6},"Go to rink ",{"$nulls":7},{"$f":"DRAWS!$H$4","v":"5 Left"}]
["End",null,"For",null,null,"Total",null,null,"Ag'nst",null,null,"Total",{"$nulls":3},"End",null,"For",null,null,"Total",null,null,"Ag'nst",null,null,"Total"]
[1,{"$nulls":14},1]
[2,{"$nulls":14},2]
[3,{"$nulls":14},3]
[4,{"$nulls":14},4]
[5,{"$nulls":14},5]
[6,{"$nulls":14},6]
["Tot",{"$nulls":14},"Tot"]
[]
["Game  3",{"$nulls":14},"Game  4"]
["Go to rink ",{"$nulls":7},{"$f":"DRAWS!$I$4","v":"2 Left"},{"$nulls":6},"Go to rink ",{"$nulls":7},{"$f":"DRAWS!$J$4","v":"5 Left"}]
["End",null,"For",null,null,"Total",null,null,"Ag'nst",null,null,"Total",{"$nulls":3},"End",null,"For",null,null,"Total",null,null,"Ag'nst",null,null,"Total"]
[1,{"$nulls":14},1]
[2,{"$nulls":14},2]
[3,{"$nulls":14},3]
[4,{"$nulls":14},4]
[5,{"$nulls":14},5]
[6,{"$nulls":14},6]
["Tot",{"$nulls":14},"Tot"]
["Player no.",{"$nulls":6},{"$f":"DRAWS!$F$5","v":4},null,null,"Name"]
[]
[]
[]
["Game  1  ",{"$nulls":14},"Game  2"]
["Go to rink ",{"$nulls":7},{"$f":"DRAWS!$G$5","v":"3 Right"},{"$nulls":6},"Go to rink ",{"$nulls":7},{"$f":"DRAWS!$H$5","v":"6 Left"}]
["End",null,"For",null,null,"Total",null,null,"Ag'nst",null,null,"Total",{"$nulls":3},"End",null,"For",null,null,"Total",null,null,"Ag'nst",null,null,"Total"]
[1,{"$nulls":14},1]
[2,{"$nulls":14},2]
[3,{"$nulls":14},3]
[4,{"$nulls":14},4]
[5,{"$nulls":14},5]
[6,{"$nulls":14},6]
["Tot",{"$nulls":14},"Tot"]
[]
["Game  3",{"$nulls":14},"Game  4"]
["Go to rink ",{"$nulls":7},{"$f":"DRAWS!$I$5","v":"5 Left"},{"$nulls":6},"Go to rink ",{"$nulls":7},{"$f":"DRAWS!$J$5","v":"4 Left"}]
["End",null,"For",null,null,"Total",null,null,"Ag'nst",null,null,"Total",{"$nulls":3},"End",null,"For",null,null,"Total",null,null,"Ag'nst",null,null,"Total"]
[1,{"$nulls":14},1]
[2,{"$nulls":14},2]
[3,{"$nulls":14},3]
[4,{"$nulls":14},4]
[5,{"$nulls":14},5]
[6,{"$nulls":14},6]
["Tot",{"$nulls":14},"Tot"]
["Player no.",{"$nulls":6},{"$f":"DRAWS!$F$6","v":5},null,null,"Name"]
[]
[]
[]
["Game  1  ",{"$nulls":14},"Game  2"]
["Go to rink ",{"$nulls":7},{"$f":"DRAWS!$G$6","v":"4 Left"},{"$nulls":6},"Go to rink ",{"$nulls":7},{"$f":"DRAWS!$H$6","v":"2 Left"}]
["End",null,"For",null,null,"Total",null,null,"Ag'nst",null,null,"Total",{"$nulls":3},"End",null,"For",null,null,"Total",null,null,"Ag'nst",null,null,"Total"]
[1,{"$nulls":14},1]
[2,{"$nulls":14},2]
[3,{"$nulls":14},3]
[4,{"$nulls":14},4]
[5,{"$nulls":14},5]
[6,{"$nulls":14},6]
["Tot",{"$nulls":14},"Tot"]
[]
["Game  3",{"$nulls":14},"Game  4"]
["Go to rink ",{"$nulls":7},{"$f":"DRAWS!$I$6","v":"6 Right"},{"$nulls":6},"Go to rink ",{"$nulls":7},{"$f":"DRAWS!$J$6","v":"4 Right"}]
["End",null,"For",null,null,"Total",null,null,"Ag'nst",null,null,"Total",{"$nulls":3},"End",null,"For",null,null,"Total",null,null,"Ag'nst",null,null,"Total"]
[1,{"$nulls":14},1]
[2,{"$nulls":14},2]
[3,{"$nulls":14},3]
[4,{"$nulls":14},4]
[5,{"$nulls":14},5]
[6,{"$nulls":14},6]
["Tot",{"$nulls":14},"Tot"]
["Player no.",{"$nulls":6},{"$f":"DRAWS!$F$7","v":6},null,null,"Name"]
[]
[]
[]
["Game  1  ",{"$nulls":14},"Game  2"]
["Go to rink ",{"$nulls":7},{"$f":"DRAWS!$G$7","v":"4 Right"},{"$nulls":6},"Go to rink ",{"$nulls":7},{"$f":"DRAWS!$H$7","v":"5 Right"}]
["End",null,"For",null,null,"Total",null,null,"Ag'nst",null,null,"Total",{"$nulls":3},"End",null,"For",null,null,"Total",null,null,"Ag'nst",null,null,"Total"]
[1,{"$nulls":14},1]
[2,{"$nulls":14},2]
[3,{"$nulls":14},3]
[4,{"$nulls":14},4]
[5,{"$nulls":14},5]
[6,{"$nulls":14},6]
["Tot",{"$nulls":14},"Tot"]
[]
["Game  3",{"$nulls":14},"Game  4"]
["Go to rink ",{"$nulls":7},{"$f":"DRAWS!$I$7","v":"3 Right"},{"$nulls":6},"Go to rink ",{"$nulls":7},{"$f":"DRAWS!$J$7","v":"2 Left"}]
["End",null,"For",null,null,"Total",null,null,"Ag'nst",null,null,"Total",{"$nulls":3},"End",null,"For",null,null,"Total",null,null,"Ag'nst",null,null,"Total"]
[1,{"$nulls":14},1]
[2,{"$nulls":14},2]
[3,{"$nulls":14},3]
[4,{"$nulls":14},4]
[5,{"$nulls":14},5]
[6,{"$nulls":14},6]
["Tot",{"$nulls":14},"Tot"]
["Player no.",{"$nulls":6},{"$f":"DRAWS!$F$8","v":7},null,null,"Name"]
[]
[]
[]
["Game  1  ",{"$nulls":14},"Game  2"]
["Go to rink ",{"$nulls":7},{"$f":"DRAWS!$G$8","v":"5 Left"},{"$nulls":6},"Go to rink ",{"$nulls":7},{"$f":"DRAWS!$H$8","v":"6 Right"}]
["End",null,"For",null,null,"Total",null,null,"Ag'nst",null,null,"Total",{"$nulls":3},"End",null,"For",null,null,"Total",null,null,"Ag'nst",null,null,"Total"]
[1,{"$nulls":14},1]
[2,{"$nulls":14},2]
[3,{"$nulls":14},3]
[4,{"$nulls":14},4]
[5,{"$nulls":14},5]
[6,{"$nulls":14},6]
["Tot",{"$nulls":14},"Tot"]
[]
["Game  3",{"$nulls":14},"Game  4"]
["Go to rink ",{"$nulls":7},{"$f":"DRAWS!$I$8","v":"4 Left"},{"$nulls":6},"Go to rink ",{"$nulls":7},{"$f":"DRAWS!$J$8","v":"3 Right"}]
["End",null,"For",null,null,"Total",null,null,"Ag'nst",null,null,"Total",{"$nulls":3},"End",null,"For",null,null,"Total",null,null,"Ag'nst",null,null,"Total"]
[1,{"$nulls":14},1]
[2,{"$nulls":14},2]
[3,{"$nulls":14},3]
[4,{"$nulls":14},4]
[5,{"$nulls":14},5]
[6,{"$nulls":14},6]
["Tot",{"$nulls":14},"Tot"]
["Player no.",{"$nulls":6},{"$f":"DRAWS!$F$9","v":8},null,null,"Name"]
[]
[]
[]
["Game  1  ",{"$nulls":14},"Game  2"]
["Go to rink ",{"$nulls":7},{"$f":"DRAWS!$G$9","v":"5 Right"},{"$nulls":6},"Go to rink ",{"$nulls":7},{"$f":"DRAWS!$H$9","v":"3 Right"}]
["End",null,"For",null,null,"Total",null,null,"Ag'nst",null,null,"Total",{"$nulls":3},"End",null,"For",null,null,"Total",null,null,"Ag'nst",null,null,"Total"]
[1,{"$nulls":14},1]
[2,{"$nulls":14},2]
[3,{"$nulls":14},3]
[4,{"$nulls":14},4]
[5,{"$nulls":14},5]
[6,{"$nulls":14},6]
["Tot",{"$nulls":14},"Tot"]
[]
["Game  3",{"$nulls":14},"Game  4"]
["Go to rink ",{"$nulls":7},{"$f":"DRAWS!$I$9","v":"4 Right"},{"$nulls":6},"Go to rink ",{"$nulls":7},{"$f":"DRAWS!$J$9","v":"2 Right"}]
["End",null,"For",null,null,"Total",null,null,"Ag'nst",null,null,"Total",{"$nulls":3},"End",null,"For",null,null,"Total",null,null,"Ag'nst",null,null,"Total"]
[1,{"$nulls":14},1]
[2,{"$nulls":14},2]
[3,{"$nulls":14},3]
[4,{"$nulls":14},4]
[5,{"$nulls":14},5]
[6,{"$nulls":14},6]
["Tot",{"$nulls":14},"Tot"]
["Player no.",{"$nulls":6},{"$f":"DRAWS!$F$10","v":9},null,null,"Name"]
[]
[]
[]
["Game  1  ",{"$nulls":14},"Game  2"]
["Go to rink ",{"$nulls":7},{"$f":"DRAWS!$G$10","v":"6 Left"},{"$nulls":6},"Go to rink ",{"$nulls":7},{"$f":"DRAWS!$H$10","v":"4 Right"}]
["End",null,"For",null,null,"Total",null,null,"Ag'nst",null,null,"Total",{"$nulls":3},"End",null,"For",null,null,"Total",null,null,"Ag'nst",null,null,"Total"]
[1,{"$nulls":14},1]
[2,{"$nulls":14},2]
[3,{"$nulls":14},3]
[4,{"$nulls":14},4]
[5,{"$nulls":14},5]
[6,{"$nulls":14},6]
["Tot",{"$nulls":14},"Tot"]
[]
["Game  3",{"$nulls":14},"Game  4"]
["Go to rink ",{"$nulls":7},{"$f":"DRAWS!$I$10","v":"2 Right"},{"$nulls":6},"Go to rink ",{"$nulls":7},{"$f":"DRAWS!$J$10","v":"6 Right"}]
["End",null,"For",null,null,"Total",null,null,"Ag'nst",null,null,"Total",{"$nulls":3},"End",null,"For",null,null,"Total",null,null,"Ag'nst",null,null,"Total"]
[1,{"$nulls":14},1]
[2,{"$nulls":14},2]
[3,{"$nulls":14},3]
[4,{"$nulls":14},4]
[5,{"$nulls":14},5]
[6,{"$nulls":14},6]
["Tot",{"$nulls":14},"Tot"]
["Player no.",{"$nulls":6},{"$f":"DRAWS!$F$11","v":10},null,null,"Name"]
[]
[]
[]
["Game  1  ",{"$nulls":14},"Game  2"]
["Go to rink ",{"$nulls":7},{"$f":"DRAWS!$G$11","v":"6 Right"},{"$nulls":6},"Go to rink ",{"$nulls":7},{"$f":"DRAWS!$H$11","v":"2 Right"}]
["End",null,"For",null,null,"Total",null,null,"Ag'nst",null,null,"Total",{"$nulls":3},"End",null,"For",null,null,"Total",null,null,"Ag'nst",null,null,"Total"]
[1,{"$nulls":14},1]
[2,{"$nulls":14},2]
[3,{"$nulls":14},3]
[4,{"$nulls":14},4]
[5,{"$nulls":14},5]
[6,{"$nulls":14},6]
["Tot",{"$nulls":14},"Tot"]
[]
["Game  3",{"$nulls":14},"Game  4"]
["Go to rink ",{"$nulls":7},{"$f":"DRAWS!$I$11","v":"5 Right"},{"$nulls":6},"Go to rink ",{"$nulls":7},{"$f":"DRAWS!$J$11","v":"3 Left"}]
["End",null,"For",null,null,"Total",null,null,"Ag'nst",null,null,"Total",{"$nulls":3},"End",null,"For",null,null,"Total",null,null,"Ag'nst",null,null,"Total"]
[1,{"$nulls":14},1]
[2,{"$nulls":14},2]
[3,{"$nulls":14},3]
[4,{"$nulls":14},4]
[5,{"$nulls":14},5]
[6,{"$nulls":14},6]
["Tot",{"$nulls":14},"Tot"]
["Player no.",{"$nulls":6},{"$f":"DRAWS!$F$12","v":11},null,null,"Name"]
[]
[]
[]
["Game  1  ",{"$nulls":14},"Game  2"]
["Go to rink ",{"$nulls":7},{"$f":"DRAWS!$G$12","v":"2 Left"},{"$nulls":6},"Go to rink ",{"$nulls":7},{"$f":"DRAWS!$H$12","v":"5 Left"}]
["End",null,"For",null,null,"Total",null,null,"Ag'nst",null,null,"Total",{"$nulls":3},"End",null,"For",null,null,"Total",null,null,"Ag'nst",null,null,"Total"]
[1,{"$nulls":14},1]
[2,{"$nulls":14},2]
[3,{"$nulls":14},3]
[4,{"$nulls":14},4]
[5,{"$nulls":14},5]
[6,{"$nulls":14},6]
["Tot",{"$nulls":14},"Tot"]
[]
["Game  3",{"$nulls":14},"Game  4"]
["Go to rink ",{"$nulls":7},{"$f":"DRAWS!$I$12","v":"6 Right"},{"$nulls":6},"Go to rink ",{"$nulls":7},{"$f":"DRAWS!$J$12","v":"3 Right"}]
["End",null,"For",null,null,"Total",null,null,"Ag'nst",null,null,"Total",{"$nulls":3},"End",null,"For",null,null,"Total",null,null,"Ag'nst",null,null,"Total"]
[1,{"$nulls":14},1]
[2,{"$nulls":14},2]
[3,{"$nulls":14},3]
[4,{"$nulls":14},4]
[5,{"$nulls":14},5]
[6,{"$nulls":14},6]
["Tot",{"$nulls":14},"Tot"]
["Player no.",{"$nulls":6},{"$f":"DRAWS!$F$13","v":12},null,null,"Name"]
[]
[]
[]
["Game  1  ",{"$nulls":14},"Game  2"]
["Go to rink ",{"$nulls":7},{"$f":"DRAWS!$G$13","v":"2 Right"},{"$nulls":6},"Go to rink ",{"$nulls":7},{"$f":"DRAWS!$H$13","v":"6 Left"}]
["End",null,"For",null,null,"Total",null,null,"Ag'nst",null,null,"Total",{"$nulls":3},"End",null,"For",null,null,"Total",null,null,"Ag'nst",null,null,"Total"]
[1,{"$nulls":14},1]
[2,{"$nulls":14},2]
[3,{"$nulls":14},3]
[4,{"$nulls":14},4]
[5,{"$nulls":14},5]
[6,{"$nulls":14},6]
["Tot",{"$nulls":14},"Tot"]
[]
["Game  3",{"$nulls":14},"Game  4"]
["Go to rink ",{"$nulls":7},{"$f":"DRAWS!$I$13","v":"3 Right"},{"$nulls":6},"Go to rink ",{"$nulls":7},{"$f":"DRAWS!$J$13","v":"2 Right"}]
["End",null,"For",null,null,"Total",null,null,"Ag'nst",null,null,"Total",{"$nulls":3},"End",null,"For",null,null,"Total",null,null,"Ag'nst",null,null,"Total"]
[1,{"$nulls":14},1]
[2,{"$nulls":14},2]
[3,{"$nulls":14},3]
[4,{"$nulls":14},4]
[5,{"$nulls":14},5]
[6,{"$nulls":14},6]
["Tot",{"$nulls":14},"Tot"]
["Player no.",{"$nulls":6},{"$f":"DRAWS!$F$14","v":13},null,null,"Name"]
[]
[]
[]
["Game  1  ",{"$nulls":14},"Game  2"]
["Go to rink ",{"$nulls":7},{"$f":"DRAWS!$G$14","v":"3 Left"},{"$nulls":6},"Go to rink ",{"$nulls":7},{"$f":"DRAWS!$H$14","v":"2 Left"}]
["End",null,"For",null,null,"Total",null,null,"Ag'nst",null,null,"Total",{"$nulls":3},"End",null,"For",null,null,"Total",null,null,"Ag'nst",null,null,"Total"]
[1,{"$nulls":14},1]
[2,{"$nulls":14},2]
[3,{"$nulls":14},3]
[4,{"$nulls":14},4]
[5,{"$nulls":14},5]
[6,{"$nulls":14},6]
["Tot",{"$nulls":14},"Tot"]
[]
["Game  3",{"$nulls":14},"Game  4"]
["Go to rink ",{"$nulls":7},{"$f":"DRAWS!$I$14","v":"4 Left"},{"$nulls":6},"Go to rink ",{"$nulls":7},{"$f":"DRAWS!$J$14","v":"6 Right"}]
["End",null,"For",null,null,"Total",null,null,"Ag'nst",null,null,"Total",{"$nulls":3},"End",null,"For",null,null,"Total",null,null,"Ag'nst",null,null,"Total"]
[1,{"$nulls":14},1]
[2,{"$nulls":14},2]
[3,{"$nulls":14},3]
[4,{"$nulls":14},4]
[5,{"$nulls":14},5]
[6,{"$nulls":14},6]
["Tot",{"$nulls":14},"Tot"]
["Player no.",{"$nulls":6},{"$f":"DRAWS!$F$15","v":14},null,null,"Name"]
[]
[]
[]
["Game  1  ",{"$nulls":14},"Game  2"]
["Go to rink ",{"$nulls":7},{"$f":"DRAWS!$G$15","v":"3 Right"},{"$nulls":6},"Go to rink ",{"$nulls":7},{"$f":"DRAWS!$H$15","v":"5 Right"}]
["End",null,"For",null,null,"Total",null,null,"Ag'nst",null,null,"Total",{"$nulls":3},"End",null,"For",null,null,"Total",null,null,"Ag'nst",null,null,"Total"]
[1,{"$nulls":14},1]
[2,{"$nulls":14},2]
[3,{"$nulls":14},3]
[4,{"$nulls":14},4]
[5,{"$nulls":14},5]
[6,{"$nulls":14},6]
["Tot",{"$nulls":14},"Tot"]
[]
["Game  3",{"$nulls":14},"Game  4"]
["Go to rink ",{"$nulls":7},{"$f":"DRAWS!$I$15","v":"4 Right"},{"$nulls":6},"Go to rink ",{"$nulls":7},{"$f":"DRAWS!$J$15","v":"3 Left"}]
["End",null,"For",null,null,"Total",null,null,"Ag'nst",null,null,"Total",{"$nulls":3},"End",null,"For",null,null,"Total",null,null,"Ag'nst",null,null,"Total"]
[1,{"$nulls":14},1]
[2,{"$nulls":14},2]
[3,{"$nulls":14},3]
[4,{"$nulls":14},4]
[5,{"$nulls":14},5]
[6,{"$nulls":14},6]
["Tot",{"$nulls":14},"Tot"]
["Player no.",{"$nulls":6},{"$f":"DRAWS!$F$16","v":15},null,null,"Name"]
[]
[]
[]
["Game  1  ",{"$nulls":14},"Game  2"]
["Go to rink ",{"$nulls":7},{"$f":"DRAWS!$G$16","v":"4 Left"},{"$nulls":6},"Go to rink ",{"$nulls":7},{"$f":"DRAWS!$H$16","v":"6 Right"}]
["End",null,"For",null,null,"Total",null,null,"Ag'nst",null,null,"Total",{"$nulls":3},"End",null,"For",null,null,"Total",null,null,"Ag'nst",null,null,"Total"]
[1,{"$nulls":14},1]
[2,{"$nulls":14},2]
[3,{"$nulls":14},3]
[4,{"$nulls":14},4]
[5,{"$nulls":14},5]
[6,{"$nulls":14},6]
["Tot",{"$nulls":14},"Tot"]
[]
["Game  3",{"$nulls":14},"Game  4"]
["Go to rink ",{"$nulls":7},{"$f":"DRAWS!$I$16","v":"2 Right"},{"$nulls":6},"Go to rink ",{"$nulls":7},{"$f":"DRAWS!$J$16","v":"5 Right"}]
["End",null,"For",null,null,"Total",null,null,"Ag'nst",null,null,"Total",{"$nulls":3},"End",null,"For",null,null,"Total",null,null,"Ag'nst",null,null,"Total"]
[1,{"$nulls":14},1]
[2,{"$nulls":14},2]
[3,{"$nulls":14},3]
[4,{"$nulls":14},4]
[5,{"$nulls":14},5]
[6,{"$nulls":14},6]
["Tot",{"$nulls":14},"Tot"]
["Player no.",{"$nulls":6},{"$f":"DRAWS!$F$17","v":16},null,null,"Name"]
[]
[]
[]
["Game  1  ",{"$nulls":14},"Game  2"]
["Go to rink ",{"$nulls":7},{"$f":"DRAWS!$G$17","v":"4 Right"},{"$nulls":6},"Go to rink ",{"$nulls":7},{"$f":"DRAWS!$H$17","v":"3 Right"}]
["End",null,"For",null,null,"Total",null,null,"Ag'nst",null,null,"Total",{"$nulls":3},"End",null,"For",null,null,"Total",null,null,"Ag'nst",null,null,"Total"]
[1,{"$nulls":14},1]
[2,{"$nulls":14},2]
[3,{"$nulls":14},3]
[4,{"$nulls":14},4]
[5,{"$nulls":14},5]
[6,{"$nulls":14},6]
["Tot",{"$nulls":14},"Tot"]
[]
["Game  3",{"$nulls":14},"Game  4"]
["Go to rink ",{"$nulls":7},{"$f":"DRAWS!$I$17","v":"5 Right"},{"$nulls":6},"Go to rink ",{"$nulls":7},{"$f":"DRAWS!$J$17","v":"6 Left"}]
["End",null,"For",null,null,"Total",null,null,"Ag'nst",null,null,"Total",{"$nulls":3},"End",null,"For",null,null,"Total",null,null,"Ag'nst",null,null,"Total"]
[1,{"$nulls":14},1]
[2,{"$nulls":14},2]
[3,{"$nulls":14},3]
[4,{"$nulls":14},4]
[5,{"$nulls":14},5]
[6,{"$nulls":14},6]
["Tot",{"$nulls":14},"Tot"]
["Player no.",{"$nulls":6},{"$f":"DRAWS!$F$18","v":17},null,null,"Name"]
[]
[]
[]
["Game  1  ",{"$nulls":14},"Game  2"]
["Go to rink ",{"$nulls":7},{"$f":"DRAWS!$G$18","v":"5 Left"},{"$nulls":6},"Go to rink ",{"$nulls":7},{"$f":"DRAWS!$H$18","v":"4 Right"}]
["End",null,"For",null,null,"Total",null,null,"Ag'nst",null,null,"Total",{"$nulls":3},"End",null,"For",null,null,"Total",null,null,"Ag'nst",null,null,"Total"]
[1,{"$nulls":14},1]
[2,{"$nulls":14},2]
[3,{"$nulls":14},3]
[4,{"$nulls":14},4]
[5,{"$nulls":14},5]
[6,{"$nulls":14},6]
["Tot",{"$nulls":14},"Tot"]
[]
["Game  3",{"$nulls":14},"Game  4"]
["Go to rink ",{"$nulls":7},{"$f":"DRAWS!$I$18","v":"6 Left"},{"$nulls":6},"Go to rink ",{"$nulls":7},{"$f":"DRAWS!$J$18","v":"5 Left"}]
["End",null,"For",null,null,"Total",null,null,"Ag'nst",null,null,"Total",{"$nulls":3},"End",null,"For",null,null,"Total",null,null,"Ag'nst",null,null,"Total"]
[1,{"$nulls":14},1]
[2,{"$nulls":14},2]
[3,{"$nulls":14},3]
[4,{"$nulls":14},4]
[5,{"$nulls":14},5]
[6,{"$nulls":14},6]
["Tot",{"$nulls":14},"Tot"]
["Player no.",{"$nulls":6},{"$f":"DRAWS!$F$19","v":18},null,null,"Name"]
[]
[]
[]
["Game  1  ",{"$nulls":14},"Game  2"]
["Go to rink ",{"$nulls":7},{"$f":"DRAWS!$G$19","v":"5 Right"},{"$nulls":6},"Go to rink ",{"$nulls":7},{"$f":"DRAWS!$H$19","v":"2 Right"}]
["End",null,"For",null,null,"Total",null,null,"Ag'nst",null,null,"Total",{"$nulls":3},"End",null,"For",null,null,"Total",null,null,"Ag'nst",null,null,"Total"]
[1,{"$nulls":14},1]
[2,{"$nulls":14},2]
[3,{"$nulls":14},3]
[4,{"$nulls":14},4]
[5,{"$nulls":14},5]
[6,{"$nulls":14},6]
["Tot",{"$nulls":14},"Tot"]
[]
["Game  3",{"$nulls":14},"Game  4"]
["Go to rink ",{"$nulls":7},{"$f":"DRAWS!$I$19","v":"3 Left"},{"$nulls":6},"Go to rink ",{"$nulls":7},{"$f":"DRAWS!$J$19","v":"4 Left"}]
["End",null,"For",null,null,"Total",null,null,"Ag'nst",null,null,"Total",{"$nulls":3},"End",null,"For",null,null,"Total",null,null,"Ag'nst",null,null,"Total"]
[1,{"$nulls":14},1]
[2,{"$nulls":14},2]
[3,{"$nulls":14},3]
[4,{"$nulls":14},4]
[5,{"$nulls":14},5]
[6,{"$nulls":14},6]
["Tot",{"$nulls":14},"Tot"]
["Player no.",{"$nulls":6},{"$f":"DRAWS!$F$20","v":19},null,null,"Name"]
[]
[]
[]
["Game  1  ",{"$nulls":14},"Game  2"]
["Go to rink ",{"$nulls":7},{"$f":"DRAWS!$G$20","v":"6 Left"},{"$nulls":6},"Go to rink ",{"$nulls":7},{"$f":"DRAWS!$H$20","v":"3 Left"}]
["End",null,"For",null,null,"Total",null,null,"Ag'nst",null,null,"Total",{"$nulls":3},"End",null,"For",null,null,"Total",null,null,"Ag'nst",null,null,"Total"]
[1,{"$nulls":14},1]
[2,{"$nulls":14},2]
[3,{"$nulls":14},3]
[4,{"$nulls":14},4]
[5,{"$nulls":14},5]
[6,{"$nulls":14},6]
["Tot",{"$nulls":14},"Tot"]
[]
["Game  3",{"$nulls":14},"Game  4"]
["Go to rink ",{"$nulls":7},{"$f":"DRAWS!$I$20","v":"2 Left"},{"$nulls":6},"Go to rink ",{"$nulls":7},{"$f":"DRAWS!$J$20","v":"4 Right"}]
["End",null,"For",null,null,"Total",null,null,"Ag'nst",null,null,"Total",{"$nulls":3},"End",null,"For",null,null,"Total",null,null,"Ag'nst",null,null,"Total"]
[1,{"$nulls":14},1]
[2,{"$nulls":14},2]
[3,{"$nulls":14},3]
[4,{"$nulls":14},4]
[5,{"$nulls":14},5]
[6,{"$nulls":14},6]
["Tot",{"$nulls":14},"Tot"]
["Player no.",{"$nulls":6},{"$f":"DRAWS!$F$21","v":20},null,null,"Name"]
[]
[]
[]
["Game  1  ",{"$nulls":14},"Game  2"]
["Go to rink ",{"$nulls":7},{"$f":"DRAWS!$G$21","v":"6 Right"},{"$nulls":6},"Go to rink ",{"$nulls":7},{"$f":"DRAWS!$H$21","v":"4 Left"}]
["End",null,"For",null,null,"Total",null,null,"Ag'nst",null,null,"Total",{"$nulls":3},"End",null,"For",null,null,"Total",null,null,"Ag'nst",null,null,"Total"]
[1,{"$nulls":14},1]
[2,{"$nulls":14},2]
[3,{"$nulls":14},3]
[4,{"$nulls":14},4]
[5,{"$nulls":14},5]
[6,{"$nulls":14},6]
["Tot",{"$nulls":14},"Tot"]
[]
["Game  3",{"$nulls":14},"Game  4"]
["Go to rink ",{"$nulls":7},{"$f":"DRAWS!$I$21","v":"5 Left"},{"$nulls":6},"Go to rink ",{"$nulls":7},{"$f":"DRAWS!$J$21","v":"2 Left"}]
["End",null,"For",null,null,"Total",null,null,"Ag'nst",null,null,"Total",{"$nulls":3},"End",null,"For",null,null,"Total",null,null,"Ag'nst",null,null,"Total"]
[1,{"$nulls":14},1]
[2,{"$nulls":14},2]
[3,{"$nulls":14},3]
[4,{"$nulls":14},4]
[5,{"$nulls":14},5]
[6,{"$nulls":14},6]
["Tot",{"$nulls":14},"Tot"]
["Player no.",{"$nulls":6},{"$f":"DRAWS!$F$22","v":21},null,null,"Name"]
[]
[]
[]
["Game  1  ",{"$nulls":14},"Game  2"]
["Go to rink ",{"$nulls":7},{"$f":"DRAWS!$G$22","v":"9 Left"},{"$nulls":6},"Go to rink ",{"$nulls":7},{"$f":"DRAWS!$H$22","v":"10 Left"}]
["End",null,"For",null,null,"Total",null,null,"Ag'nst",null,null,"Total",{"$nulls":3},"End",null,"For",null,null,"Total",null,null,"Ag'nst",null,null,"Total"]
[1,{"$nulls":14},1]
[2,{"$nulls":14},2]
[3,{"$nulls":14},3]
[4,{"$nulls":14},4]
[5,{"$nulls":14},5]
[6,{"$nulls":14},6]
["Tot",{"$nulls":14},"Tot"]
[]
["Game  3",{"$nulls":14},"Game  4"]
["Go to rink ",{"$nulls":7},{"$f":"DRAWS!$I$22","v":"13 Left"},{"$nulls":6},"Go to rink ",{"$nulls":7},{"$f":"DRAWS!$J$22","v":"12 Right"}]
["End",null,"For",null,null,"Total",null,null,"Ag'nst",null,null,"Total",{"$nulls":3},"End",null,"For",null,null,"Total",null,null,"Ag'nst",null,null,"Total"]
[1,{"$nulls":14},1]
[2,{"$nulls":14},2]
[3,{"$nulls":14},3]
[4,{"$nulls":14},4]
[5,{"$nulls":14},5]
[6,{"$nulls":14},6]
["Tot",{"$nulls":14},"Tot"]
["Player no.",{"$nulls":6},{"$f":"DRAWS!$F$23","v":22},null,null,"Name"]
[]
[]
[]
["Game  1  ",{"$nulls":14},"Game  2"]
["Go to rink ",{"$nulls":7},{"$f":"DRAWS!$G$23","v":"9 Right"},{"$nulls":6},"Go to rink ",{"$nulls":7},{"$f":"DRAWS!$H$23","v":"11 Left"}]
["End",null,"For",null,null,"Total",null,null,"Ag'nst",null,null,"Total",{"$nulls":3},"End",null,"For",null,null,"Total",null,null,"Ag'nst",null,null,"Total"]
[1,{"$nulls":14},1]
[2,{"$nulls":14},2]
[3,{"$nulls":14},3]
[4,{"$nulls":14},4]
[5,{"$nulls":14},5]
[6,{"$nulls":14},6]
["Tot",{"$nulls":14},"Tot"]
[]
["Game  3",{"$nulls":14},"Game  4"]
["Go to rink ",{"$nulls":7},{"$f":"DRAWS!$I$23","v":"10 Left"},{"$nulls":6},"Go to rink ",{"$nulls":7},{"$f":"DRAWS!$J$23","v":"13 Left"}]
["End",null,"For",null,null,"Total",null,null,"Ag'nst",null,null,"Total",{"$nulls":3},"End",null,"For",null,null,"Total",null,null,"Ag'nst",null,null,"Total"]
[1,{"$nulls":14},1]
[2,{"$nulls":14},2]
[3,{"$nulls":14},3]
[4,{"$nulls":14},4]
[5,{"$nulls":14},5]
[6,{"$nulls":14},6]
["Tot",{"$nulls":14},"Tot"]
["Player no.",{"$nulls":6},{"$f":"DRAWS!$F$24","v":23},null,null,"Name"]
[]
[]
[]
["Game  1  ",{"$nulls":14},"Game  2"]
["Go to rink ",{"$nulls":7},{"$f":"DRAWS!$G$24","v":"10 Left"},{"$nulls":6},"Go to rink ",{"$nulls":7},{"$f":"DRAWS!$H$24","v":"12 Left"}]
["End",null,"For",null,null,"Total",null,null,"Ag'nst",null,null,"Total",{"$nulls":3},"End",null,"For",null,null,"Total",null,null,"Ag'nst",null,null,"Total"]
[1,{"$nulls":14},1]
[2,{"$nulls":14},2]
[3,{"$nulls":14},3]
[4,{"$nulls":14},4]
[5,{"$nulls":14},5]
[6,{"$nulls":14},6]
["Tot",{"$nulls":14},"Tot"]
[]
["Game  3",{"$nulls":14},"Game  4"]
["Go to rink ",{"$nulls":7},{"$f":"DRAWS!$I$24","v":"9 Left"},{"$nulls":6},"Go to rink ",{"$nulls":7},{"$f":"DRAWS!$J$24","v":"12 Left"}]
["End",null,"For",null,null,"Total",null,null,"Ag'nst",null,null,"Total",{"$nulls":3},"End",null,"For",null,null,"Total",null,null,"Ag'nst",null,null,"Total"]
[1,{"$nulls":14},1]
[2,{"$nulls":14},2]
[3,{"$nulls":14},3]
[4,{"$nulls":14},4]
[5,{"$nulls":14},5]
[6,{"$nulls":14},6]
["Tot",{"$nulls":14},"Tot"]
["Player no.",{"$nulls":6},{"$f":"DRAWS!$F$25","v":24},null,null,"Name"]
[]
[]
[]
["Game  1  ",{"$nulls":14},"Game  2"]
["Go to rink ",{"$nulls":7},{"$f":"DRAWS!$G$25","v":"10 Right"},{"$nulls":6},"Go to rink ",{"$nulls":7},{"$f":"DRAWS!$H$25","v":"13 Left"}]
["End",null,"For",null,null,"Total",null,null,"Ag'nst",null,null,"Total",{"$nulls":3},"End",null,"For",null,null,"Total",null,null,"Ag'nst",null,null,"Total"]
[1,{"$nulls":14},1]
[2,{"$nulls":14},2]
[3,{"$nulls":14},3]
[4,{"$nulls":14},4]
[5,{"$nulls":14},5]
[6,{"$nulls":14},6]
["Tot",{"$nulls":14},"Tot"]
[]
["Game  3",{"$nulls":14},"Game  4"]
["Go to rink ",{"$nulls":7},{"$f":"DRAWS!$I$25","v":"12 Left"},{"$nulls":6},"Go to rink ",{"$nulls":7},{"$f":"DRAWS!$J$25","v":"11 Left"}]
["End",null,"For",null,null,"Total",null,null,"Ag'nst",null,null,"Total",{"$nulls":3},"End",null,"For",null,null,"Total",null,null,"Ag'nst",null,null,"Total"]
[1,{"$nulls":14},1]
[2,{"$nulls":14},2]
[3,{"$nulls":14},3]
[4,{"$nulls":14},4]
[5,{"$nulls":14},5]
[6,{"$nulls":14},6]
["Tot",{"$nulls":14},"Tot"]
["Player no.",{"$nulls":6},{"$f":"DRAWS!$F$26","v":25},null,null,"Name"]
[]
[]
[]
["Game  1  ",{"$nulls":14},"Game  2"]
["Go to rink ",{"$nulls":7},{"$f":"DRAWS!$G$26","v":"11 Left"},{"$nulls":6},"Go to rink ",{"$nulls":7},{"$f":"DRAWS!$H$26","v":"9 Left"}]
["End",null,"For",null,null,"Total",null,null,"Ag'nst",null,null,"Total",{"$nulls":3},"End",null,"For",null,null,"Total",null,null,"Ag'nst",null,null,"Total"]
[1,{"$nulls":14},1]
[2,{"$nulls":14},2]
[3,{"$nulls":14},3]
[4,{"$nulls":14},4]
[5,{"$nulls":14},5]
[6,{"$nulls":14},6]
["Tot",{"$nulls":14},"Tot"]
[]
["Game  3",{"$nulls":14},"Game  4"]
["Go to rink ",{"$nulls":7},{"$f":"DRAWS!$I$26","v":"13 Right"},{"$nulls":6},"Go to rink ",{"$nulls":7},{"$f":"DRAWS!$J$26","v":"11 Right"}]
["End",null,"For",null,null,"Total",null,null,"Ag'nst",null,null,"Total",{"$nulls":3},"End",null,"For",null,null,"Total",null,null,"Ag'nst",null,null,"Total"]
[1,{"$nulls":14},1]
[2,{"$nulls":14},2]
[3,{"$nulls":14},3]
[4,{"$nulls":14},4]
[5,{"$nulls":14},5]
[6,{"$nulls":14},6]
["Tot",{"$nulls":14},"Tot"]
["Player no.",{"$nulls":6},{"$f":"DRAWS!$F$27","v":26},null,null,"Name"]
[]
[]
[]
["Game  1  ",{"$nulls":14},"Game  2"]
["Go to rink ",{"$nulls":7},{"$f":"DRAWS!$G$27","v":"11 Right"},{"$nulls":6},"Go to rink ",{"$nulls":7},{"$f":"DRAWS!$H$27","v":"12 Right"}]
["End",null,"For",null,null,"Total",null,null,"Ag'nst",null,null,"Total",{"$nulls":3},"End",null,"For",null,null,"Total",null,null,"Ag'nst",null,null,"Total"]
[1,{"$nulls":14},1]
[2,{"$nulls":14},2]
[3,{"$nulls":14},3]
[4,{"$nulls":14},4]
[5,{"$nulls":14},5]
[6,{"$nulls":14},6]
["Tot",{"$nulls":14},"Tot"]
[]
["Game  3",{"$nulls":14},"Game  4"]
["Go to rink ",{"$nulls":7},{"$f":"DRAWS!$I$27","v":"10 Right"},{"$nulls":6},"Go to rink ",{"$nulls":7},{"$f":"DRAWS!$J$27","v":"9 Left"}]
["End",null,"For",null,null,"Total",null,null,"Ag'nst",null,null,"Total",{"$nulls":3},"End",null,"For",null,null,"Total",null,null,"Ag'nst",null,null,"Total"]
[1,{"$nulls":14},1]
[2,{"$nulls":14},2]
[3,{"$nulls":14},3]
[4,{"$nulls":14},4]
[5,{"$nulls":14},5]
[6,{"$nulls":14},6]
["Tot",{"$nulls":14},"Tot"]
["Player no.",{"$nulls":6},{"$f":"DRAWS!$F$28","v":27},null,null,"Name"]
[]
[]
[]
["Game  1  ",{"$nulls":14},"Game  2"]
["Go to rink ",{"$nulls":7},{"$f":"DRAWS!$G$28","v":"12 Left"},{"$nulls":6},"Go to rink ",{"$nulls":7},{"$f":"DRAWS!$H$28","v":"13 Right"}]
["End",null,"For",null,null,"Total",null,null,"Ag'nst",null,null,"Total",{"$nulls":3},"End",null,"For",null,null,"Total",null,null,"Ag'nst",null,null,"Total"]
[1,{"$nulls":14},1]
[2,{"$nulls":14},2]
[3,{"$nulls":14},3]
[4,{"$nulls":14},4]
[5,{"$nulls":14},5]
[6,{"$nulls":14},6]
["Tot",{"$nulls":14},"Tot"]
[]
["Game  3",{"$nulls":14},"Game  4"]
["Go to rink ",{"$nulls":7},{"$f":"DRAWS!$I$28","v":"11 Left"},{"$nulls":6},"Go to rink ",{"$nulls":7},{"$f":"DRAWS!$J$28","v":"10 Right"}]
["End",null,"For",null,null,"Total",null,null,"Ag'nst",null,null,"Total",{"$nulls":3},"End",null,"For",null,null,"Total",null,null,"Ag'nst",null,null,"Total"]
[1,{"$nulls":14},1]
[2,{"$nulls":14},2]
[3,{"$nulls":14},3]
[4,{"$nulls":14},4]
[5,{"$nulls":14},5]
[6,{"$nulls":14},6]
["Tot",{"$nulls":14},"Tot"]
["Player no.",{"$nulls":6},{"$f":"DRAWS!$F$29","v":28},null,null,"Name"]
[]
[]
[]
["Game  1  ",{"$nulls":14},"Game  2"]
["Go to rink ",{"$nulls":7},{"$f":"DRAWS!$G$29","v":"12 Right"},{"$nulls":6},"Go to rink ",{"$nulls":7},{"$f":"DRAWS!$H$29","v":"10 Right"}]
["End",null,"For",null,null,"Total",null,null,"Ag'nst",null,null,"Total",{"$nulls":3},"End",null,"For",null,null,"Total",null,null,"Ag'nst",null,null,"Total"]
[1,{"$nulls":14},1]
[2,{"$nulls":14},2]
[3,{"$nulls":14},3]
[4,{"$nulls":14},4]
[5,{"$nulls":14},5]
[6,{"$nulls":14},6]
["Tot",{"$nulls":14},"Tot"]
[]
["Game  3",{"$nulls":14},"Game  4"]
["Go to rink ",{"$nulls":7},{"$f":"DRAWS!$I$29","v":"11 Right"},{"$nulls":6},"Go to rink ",{"$nulls":7},{"$f":"DRAWS!$J$29","v":"9 Right"}]
["End",null,"For",null,null,"Total",null,null,"Ag'nst",null,null,"Total",{"$nulls":3},"End",null,"For",null,null,"Total",null,null,"Ag'nst",null,null,"Total"]
[1,{"$nulls":14},1]
[2,{"$nulls":14},2]
[3,{"$nulls":14},3]
[4,{"$nulls":14},4]
[5,{"$nulls":14},5]
[6,{"$nulls":14},6]
["Tot",{"$nulls":14},"Tot"]
["Player no.",{"$nulls":6},{"$f":"DRAWS!$F$30","v":29},null,null,"Name"]
[]
[]
[]
["Game  1  ",{"$nulls":14},"Game  2"]
["Go to rink ",{"$nulls":7},{"$f":"DRAWS!$G$30","v":"13 Left"},{"$nulls":6},"Go to rink ",{"$nulls":7},{"$f":"DRAWS!$H$30","v":"11 Right"}]
["End",null,"For",null,null,"Total",null,null,"Ag'nst",null,null,"Total",{"$nulls":3},"End",null,"For",null,null,"Total",null,null,"Ag'nst",null,null,"Total"]
[1,{"$nulls":14},1]
[2,{"$nulls":14},2]
[3,{"$nulls":14},3]
[4,{"$nulls":14},4]
[5,{"$nulls":14},5]
[6,{"$nulls":14},6]
["Tot",{"$nulls":14},"Tot"]
[]
["Game  3",{"$nulls":14},"Game  4"]
["Go to rink ",{"$nulls":7},{"$f":"DRAWS!$I$30","v":"9 Right"},{"$nulls":6},"Go to rink ",{"$nulls":7},{"$f":"DRAWS!$J$30","v":"13 Right"}]
["End",null,"For",null,null,"Total",null,null,"Ag'nst",null,null,"Total",{"$nulls":3},"End",null,"For",null,null,"Total",null,null,"Ag'nst",null,null,"Total"]
[1,{"$nulls":14},1]
[2,{"$nulls":14},2]
[3,{"$nulls":14},3]
[4,{"$nulls":14},4]
[5,{"$nulls":14},5]
[6,{"$nulls":14},6]
["Tot",{"$nulls":14},"Tot"]
["Player no.",{"$nulls":6},{"$f":"DRAWS!$F$31","v":30},null,null,"Name"]
[]
[]
[]
["Game  1  ",{"$nulls":14},"Game  2"]
["Go to rink ",{"$nulls":7},{"$f":"DRAWS!$G$31","v":"13 Right"},{"$nulls":6},"Go to rink ",{"$nulls":7},{"$f":"DRAWS!$H$31","v":"9 Right"}]
["End",null,"For",null,null,"Total",null,null,"Ag'nst",null,null,"Total",{"$nulls":3},"End",null,"For",null,null,"Total",null,null,"Ag'nst",null,null,"Total"]
[1,{"$nulls":14},1]
[2,{"$nulls":14},2]
[3,{"$nulls":14},3]
[4,{"$nulls":14},4]
[5,{"$nulls":14},5]
[6,{"$nulls":14},6]
["Tot",{"$nulls":14},"Tot"]
[]
["Game  3",{"$nulls":14},"Game  4"]
["Go to rink ",{"$nulls":7},{"$f":"DRAWS!$I$31","v":"12 Right"},{"$nulls":6},"Go to rink ",{"$nulls":7},{"$f":"DRAWS!$J$31","v":"10 Left"}]
["End",null,"For",null,null,"Total",null,null,"Ag'nst",null,null,"Total",{"$nulls":3},"End",null,"For",null,null,"Total",null,null,"Ag'nst",null,null,"Total"]
[1,{"$nulls":14},1]
[2,{"$nulls":14},2]
[3,{"$nulls":14},3]
[4,{"$nulls":14},4]
[5,{"$nulls":14},5]
[6,{"$nulls":14},6]
["Tot",{"$nulls":14},"Tot"]
["Player no.",{"$nulls":6},{"$f":"DRAWS!$F$32","v":31},null,null,"Name"]
[]
[]
[]
["Game  1  ",{"$nulls":14},"Game  2"]
["Go to rink ",{"$nulls":7},{"$f":"DRAWS!$G$32","v":"9 Left"},{"$nulls":6},"Go to rink ",{"$nulls":7},{"$f":"DRAWS!$H$32","v":"12 Left"}]
["End",null,"For",null,null,"Total",null,null,"Ag'nst",null,null,"Total",{"$nulls":3},"End",null,"For",null,null,"Total",null,null,"Ag'nst",null,null,"Total"]
[1,{"$nulls":14},1]
[2,{"$nulls":14},2]
[3,{"$nulls":14},3]
[4,{"$nulls":14},4]
[5,{"$nulls":14},5]
[6,{"$nulls":14},6]
["Tot",{"$nulls":14},"Tot"]
[]
["Game  3",{"$nulls":14},"Game  4"]
["Go to rink ",{"$nulls":7},{"$f":"DRAWS!$I$32","v":"13 Right"},{"$nulls":6},"Go to rink ",{"$nulls":7},{"$f":"DRAWS!$J$32","v":"10 Right"}]
["End",null,"For",null,null,"Total",null,null,"Ag'nst",null,null,"Total",{"$nulls":3},"End",null,"For",null,null,"Total",null,null,"Ag'nst",null,null,"Total"]
[1,{"$nulls":14},1]
[2,{"$nulls":14},2]
[3,{"$nulls":14},3]
[4,{"$nulls":14},4]
[5,{"$nulls":14},5]
[6,{"$nulls":14},6]
["Tot",{"$nulls":14},"Tot"]
["Player no.",{"$nulls":6},{"$f":"DRAWS!$F$33","v":32},null,null,"Name"]
[]
[]
[]
["Game  1  ",{"$nulls":14},"Game  2"]
["Go to rink ",{"$nulls":7},{"$f":"DRAWS!$G$33","v":"9 Right"},{"$nulls":6},"Go to rink ",{"$nulls":7},{"$f":"DRAWS!$H$33","v":"13 Left"}]
["End",null,"For",null,null,"Total",null,null,"Ag'nst",null,null,"Total",{"$nulls":3},"End",null,"For",null,null,"Total",null,null,"Ag'nst",null,null,"Total"]
[1,{"$nulls":14},1]
[2,{"$nulls":14},2]
[3,{"$nulls":14},3]
[4,{"$nulls":14},4]
[5,{"$nulls":14},5]
[6,{"$nulls":14},6]
["Tot",{"$nulls":14},"Tot"]
[]
["Game  3",{"$nulls":14},"Game  4"]
["Go to rink ",{"$nulls":7},{"$f":"DRAWS!$I$33","v":"10 Right"},{"$nulls":6},"Go to rink ",{"$nulls":7},{"$f":"DRAWS!$J$33","v":"9 Right"}]
["End",null,"For",null,null,"Total",null,null,"Ag'nst",null,null,"Total",{"$nulls":3},"End",null,"For",null,null,"Total",null,null,"Ag'nst",null,null,"Total"]
[1,{"$nulls":14},1]
[2,{"$nulls":14},2]
[3,{"$nulls":14},3]
[4,{"$nulls":14},4]
[5,{"$nulls":14},5]
[6,{"$nulls":14},6]
["Tot",{"$nulls":14},"Tot"]
["Player no.",{"$nulls":6},{"$f":"DRAWS!$F$34","v":33},null,null,"Name"]
[]
[]
[]
["Game  1  ",{"$nulls":14},"Game  2"]
["Go to rink ",{"$nulls":7},{"$f":"DRAWS!$G$34","v":"10 Left"},{"$nulls":6},"Go to rink ",{"$nulls":7},{"$f":"DRAWS!$H$34","v":"9 Left"}]
["End",null,"For",null,null,"Total",null,null,"Ag'nst",null,null,"Total",{"$nulls":3},"End",null,"For",null,null,"Total",null,null,"Ag'nst",null,null,"Total"]
[1,{"$nulls":14},1]
[2,{"$nulls":14},2]
[3,{"$nulls":14},3]
[4,{"$nulls":14},4]
[5,{"$nulls":14},5]
[6,{"$nulls":14},6]
["Tot",{"$nulls":14},"Tot"]
[]
["Game  3",{"$nulls":14},"Game  4"]
["Go to rink ",{"$nulls":7},{"$f":"DRAWS!$I$34","v":"11 Left"},{"$nulls":6},"Go to rink ",{"$nulls":7},{"$f":"DRAWS!$J$34","v":"13 Right"}]
["End",null,"For",null,null,"Total",null,null,"Ag'nst",null,null,"Total",{"$nulls":3},"End",null,"For",null,null,"Total",null,null,"Ag'nst",null,null,"Total"]
[1,{"$nulls":14},1]
[2,{"$nulls":14},2]
[3,{"$nulls":14},3]
[4,{"$nulls":14},4]
[5,{"$nulls":14},5]
[6,{"$nulls":14},6]
["Tot",{"$nulls":14},"Tot"]
["Player no.",{"$nulls":6},{"$f":"DRAWS!$F$35","v":34},null,null,"Name"]
[]
[]
[]
["Game  1  ",{"$nulls":14},"Game  2"]
["Go to rink ",{"$nulls":7},{"$f":"DRAWS!$G$35","v":"10 Right"},{"$nulls":6},"Go to rink ",{"$nulls":7},{"$f":"DRAWS!$H$35","v":"12 Right"}]
["End",null,"For",null,null,"Total",null,null,"Ag'nst",null,null,"Total",{"$nulls":3},"End",null,"For",null,null,"Total",null,null,"Ag'nst",null,null,"Total"]
[1,{"$nulls":14},1]
[2,{"$nulls":14},2]
[3,{"$nulls":14},3]
[4,{"$nulls":14},4]
[5,{"$nulls":14},5]
[6,{"$nulls":14},6]
["Tot",{"$nulls":14},"Tot"]
[]
["Game  3",{"$nulls":14},"Game  4"]
["Go to rink ",{"$nulls":7},{"$f":"DRAWS!$I$35","v":"11 Right"},{"$nulls":6},"Go to rink ",{"$nulls":7},{"$f":"DRAWS!$J$35","v":"10 Left"}]
["End",null,"For",null,null,"Total",null,null,"Ag'nst",null,null,"Total",{"$nulls":3},"End",null,"For",null,null,"Total",null,null,"Ag'nst",null,null,"Total"]
[1,{"$nulls":14},1]
[2,{"$nulls":14},2]
[3,{"$nulls":14},3]
[4,{"$nulls":14},4]
[5,{"$nulls":14},5]
[6,{"$nulls":14},6]
["Tot",{"$nulls":14},"Tot"]
["Player no.",{"$nulls":6},{"$f":"DRAWS!$F$36","v":35},null,null,"Name"]
[]
[]
[]
["Game  1  ",{"$nulls":14},"Game  2"]
["Go to rink ",{"$nulls":7},{"$f":"DRAWS!$G$36","v":"11 Left"},{"$nulls":6},"Go to rink ",{"$nulls":7},{"$f":"DRAWS!$H$36","v":"13 Right"}]
["End",null,"For",null,null,"Total",null,null,"Ag'nst",null,null,"Total",{"$nulls":3},"End",null,"For",null,null,"Total",null,null,"Ag'nst",null,null,"Total"]
[1,{"$nulls":14},1]
[2,{"$nulls":14},2]
[3,{"$nulls":14},3]
[4,{"$nulls":14},4]
[5,{"$nulls":14},5]
[6,{"$nulls":14},6]
["Tot",{"$nulls":14},"Tot"]
[]
["Game  3",{"$nulls":14},"Game  4"]
["Go to rink ",{"$nulls":7},{"$f":"DRAWS!$I$36","v":"9 Right"},{"$nulls":6},"Go to rink ",{"$nulls":7},{"$f":"DRAWS!$J$36","v":"12 Right"}]
["End",null,"For",null,null,"Total",null,null,"Ag'nst",null,null,"Total",{"$nulls":3},"End",null,"For",null,null,"Total",null,null,"Ag'nst",null,null,"Total"]
[1,{"$nulls":14},1]
[2,{"$nulls":14},2]
[3,{"$nulls":14},3]
[4,{"$nulls":14},4]
[5,{"$nulls":14},5]
[6,{"$nulls":14},6]
["Tot",{"$nulls":14},"Tot"]
["Player no.",{"$nulls":6},{"$f":"DRAWS!$F$37","v":36},null,null,"Name"]
[]
[]
[]
["Game  1  ",{"$nulls":14},"Game  2"]
["Go to rink ",{"$nulls":7},{"$f":"DRAWS!$G$37","v":"11 Right"},{"$nulls":6},"Go to rink ",{"$nulls":7},{"$f":"DRAWS!$H$37","v":"10 Right"}]
["End",null,"For",null,null,"Total",null,null,"Ag'nst",null,null,"Total",{"$nulls":3},"End",null,"For",null,null,"Total",null,null,"Ag'nst",null,null,"Total"]
[1,{"$nulls":14},1]
[2,{"$nulls":14},2]
[3,{"$nulls":14},3]
[4,{"$nulls":14},4]
[5,{"$nulls":14},5]
[6,{"$nulls":14},6]
["Tot",{"$nulls":14},"Tot"]
[]
["Game  3",{"$nulls":14},"Game  4"]
["Go to rink ",{"$nulls":7},{"$f":"DRAWS!$I$37","v":"12 Right"},{"$nulls":6},"Go to rink ",{"$nulls":7},{"$f":"DRAWS!$J$37","v":"13 Left"}]
["End",null,"For",null,null,"Total",null,null,"Ag'nst",null,null,"Total",{"$nulls":3},"End",null,"For",null,null,"Total",null,null,"Ag'nst",null,null,"Total"]
[1,{"$nulls":14},1]
[2,{"$nulls":14},2]
[3,{"$nulls":14},3]
[4,{"$nulls":14},4]
[5,{"$nulls":14},5]
[6,{"$nulls":14},6]
["Tot",{"$nulls":14},"Tot"]
["Player no.",{"$nulls":6},{"$f":"DRAWS!$F$38","v":37},null,null,"Name"]
[]
[]
[]
["Game  1  ",{"$nulls":14},"Game  2"]
["Go to rink ",{"$nulls":7},{"$f":"DRAWS!$G$38","v":"12 Left"},{"$nulls":6},"Go to rink ",{"$nulls":7},{"$f":"DRAWS!$H$38","v":"11 Right"}]
["End",null,"For",null,null,"Total",null,null,"Ag'nst",null,null,"Total",{"$nulls":3},"End",null,"For",null,null,"Total",null,null,"Ag'nst",null,null,"Total"]
[1,{"$nulls":14},1]
[2,{"$nulls":14},2]
[3,{"$nulls":14},3]
[4,{"$nulls":14},4]
[5,{"$nulls":14},5]
[6,{"$nulls":14},6]
["Tot",{"$nulls":14},"Tot"]
[]
["Game  3",{"$nulls":14},"Game  4"]
["Go to rink ",{"$nulls":7},{"$f":"DRAWS!$I$38","v":"13 Left"},{"$nulls":6},"Go to rink ",{"$nulls":7},{"$f":"DRAWS!$J$38","v":"12 Left"}]
["End",null,"For",null,null,"Total",null,null,"Ag'nst",null,null,"Total",{"$nulls":3},"End",null,"For",null,null,"Total",null,null,"Ag'nst",null,null,"Total"]
[1,{"$nulls":14},1]
[2,{"$nulls":14},2]
[3,{"$nulls":14},3]
[4,{"$nulls":14},4]
[5,{"$nulls":14},5]
[6,{"$nulls":14},6]
["Tot",{"$nulls":14},"Tot"]
["Player no.",{"$nulls":6},{"$f":"DRAWS!$F$39","v":38},null,null,"Name"]
[]
[]
[]
["Game  1  ",{"$nulls":14},"Game  2"]
["Go to rink ",{"$nulls":7},{"$f":"DRAWS!$G$39","v":"12 Right"},{"$nulls":6},"Go to rink ",{"$nulls":7},{"$f":"DRAWS!$H$39","v":"9 Right"}]
["End",null,"For",null,null,"Total",null,null,"Ag'nst",null,null,"Total",{"$nulls":3},"End",null,"For",null,null,"Total",null,null,"Ag'nst",null,null,"Total"]
[1,{"$nulls":14},1]
[2,{"$nulls":14},2]
[3,{"$nulls":14},3]
[4,{"$nulls":14},4]
[5,{"$nulls":14},5]
[6,{"$nulls":14},6]
["Tot",{"$nulls":14},"Tot"]
[]
["Game  3",{"$nulls":14},"Game  4"]
["Go to rink ",{"$nulls":7},{"$f":"DRAWS!$I$39","v":"10 Left"},{"$nulls":6},"Go to rink ",{"$nulls":7},{"$f":"DRAWS!$J$39","v":"11 Left"}]
["End",null,"For",null,null,"Total",null,null,"Ag'nst",null,null,"Total",{"$nulls":3},"End",null,"For",null,null,"Total",null,null,"Ag'nst",null,null,"Total"]
[1,{"$nulls":14},1]
[2,{"$nulls":14},2]
[3,{"$nulls":14},3]
[4,{"$nulls":14},4]
[5,{"$nulls":14},5]
[6,{"$nulls":14},6]
["Tot",{"$nulls":14},"Tot"]
["Player no.",{"$nulls":6},{"$f":"DRAWS!$F$40","v":39},null,null,"Name"]
[]
[]
[]
["Game  1  ",{"$nulls":14},"Game  2"]
["Go to rink ",{"$nulls":7},{"$f":"DRAWS!$G$40","v":"13 Left"},{"$nulls":6},"Go to rink ",{"$nulls":7},{"$f":"DRAWS!$H$40","v":"10 Left"}]
["End",null,"For",null,null,"Total",null,null,"Ag'nst",null,null,"Total",{"$nulls":3},"End",null,"For",null,null,"Total",null,null,"Ag'nst",null,null,"Total"]
[1,{"$nulls":14},1]
[2,{"$nulls":14},2]
[3,{"$nulls":14},3]
[4,{"$nulls":14},4]
[5,{"$nulls":14},5]
[6,{"$nulls":14},6]
["Tot",{"$nulls":14},"Tot"]
[]
["Game  3",{"$nulls":14},"Game  4"]
["Go to rink ",{"$nulls":7},{"$f":"DRAWS!$I$40","v":"9 Left"},{"$nulls":6},"Go to rink ",{"$nulls":7},{"$f":"DRAWS!$J$40","v":"11 Right"}]
["End",null,"For",null,null,"Total",null,null,"Ag'nst",null,null,"Total",{"$nulls":3},"End",null,"For",null,null,"Total",null,null,"Ag'nst",null,null,"Total"]
[1,{"$nulls":14},1]
[2,{"$nulls":14},2]
[3,{"$nulls":14},3]
[4,{"$nulls":14},4]
[5,{"$nulls":14},5]
[6,{"$nulls":14},6]
["Tot",{"$nulls":14},"Tot"]
["Player no.",{"$nulls":6},{"$f":"DRAWS!$F$41","v":40},null,null,"Name"]
[]
[]
[]
["Game  1  ",{"$nulls":14},"Game  2"]
["Go to rink ",{"$nulls":7},{"$f":"DRAWS!$G$41","v":"13 Right"},{"$nulls":6},"Go to rink ",{"$nulls":7},{"$f":"DRAWS!$H$41","v":"11 Left"}]
["End",null,"For",null,null,"Total",null,null,"Ag'nst",null,null,"Total",{"$nulls":3},"End",null,"For",null,null,"Total",null,null,"Ag'nst",null,null,"Total"]
[1,{"$nulls":14},1]
[2,{"$nulls":14},2]
[3,{"$nulls":14},3]
[4,{"$nulls":14},4]
[5,{"$nulls":14},5]
[6,{"$nulls":14},6]
["Tot",{"$nulls":14},"Tot"]
[]
["Game  3",{"$nulls":14},"Game  4"]
["Go to rink ",{"$nulls":7},{"$f":"DRAWS!$I$41","v":"12 Left"},{"$nulls":6},"Go to rink ",{"$nulls":7},{"$f":"DRAWS!$J$41","v":"9 Left"}]
["End",null,"For",null,null,"Total",null,null,"Ag'nst",null,null,"Total",{"$nulls":3},"End",null,"For",null,null,"Total",null,null,"Ag'nst",null,null,"Total"]
[1,{"$nulls":14},1]
[2,{"$nulls":14},2]
[3,{"$nulls":14},3]
[4,{"$nulls":14},4]
[5,{"$nulls":14},5]
[6,{"$nulls":14},6]
["Tot",{"$nulls":14},"Tot"]
["Player no.",{"$nulls":6},{"$f":"DRAWS!$F$42","v":41},null,null,"Name"]
[]
[]
[]
["Game  1  ",{"$nulls":14},"Game  2"]
["Go to rink ",{"$nulls":7},{"$f":"DRAWS!$G$42","v":0},{"$nulls":6},"Go to rink ",{"$nulls":7},{"$f":"DRAWS!$H$42","v":0}]
["End",null,"For",null,null,"Total",null,null,"Ag'nst",null,null,"Total",{"$nulls":3},"End",null,"For",null,null,"Total",null,null,"Ag'nst",null,null,"Total"]
[1,{"$nulls":14},1]
[2,{"$nulls":14},2]
[3,{"$nulls":14},3]
[4,{"$nulls":14},4]
[5,{"$nulls":14},5]
[6,{"$nulls":14},6]
["Tot",{"$nulls":14},"Tot"]
[]
["Game  3",{"$nulls":14},"Game  4"]
["Go to rink ",{"$nulls":7},{"$f":"DRAWS!$I$42","v":0},{"$nulls":6},"Go to rink ",{"$nulls":7},{"$f":"DRAWS!$J$42","v":0}]
["End",null,"For",null,null,"Total",null,null,"Ag'nst",null,null,"Total",{"$nulls":3},"End",null,"For",null,null,"Total",null,null,"Ag'nst",null,null,"Total"]
[1,{"$nulls":14},1]
[2,{"$nulls":14},2]
[3,{"$nulls":14},3]
[4,{"$nulls":14},4]
[5,{"$nulls":14},5]
[6,{"$nulls":14},6]
["Tot",{"$nulls":14},"Tot"]
["Player no.",{"$nulls":6},{"$f":"DRAWS!$F$43","v":42},null,null,"Name"]
[]
[]
[]
["Game  1  ",{"$nulls":14},"Game  2"]
["Go to rink ",{"$nulls":7},{"$f":"DRAWS!$G$43","v":"2 Left"},{"$nulls":6},"Go to rink ",{"$nulls":7},{"$f":"DRAWS!$H$43","v":"3 Left"}]
["End",null,"For",null,null,"Total",null,null,"Ag'nst",null,null,"Total",{"$nulls":3},"End",null,"For",null,null,"Total",null,null,"Ag'nst",null,null,"Total"]
[1,{"$nulls":14},1]
[2,{"$nulls":14},2]
[3,{"$nulls":14},3]
[4,{"$nulls":14},4]
[5,{"$nulls":14},5]
[6,{"$nulls":14},6]
["Tot",{"$nulls":14},"Tot"]
[]
["Game  3",{"$nulls":14},"Game  4"]
["Go to rink ",{"$nulls":7},{"$f":"DRAWS!$I$43","v":"6 Left"},{"$nulls":6},"Go to rink ",{"$nulls":7},{"$f":"DRAWS!$J$43","v":"5 Right"}]
["End",null,"For",null,null,"Total",null,null,"Ag'nst",null,null,"Total",{"$nulls":3},"End",null,"For",null,null,"Total",null,null,"Ag'nst",null,null,"Total"]
[1,{"$nulls":14},1]
[2,{"$nulls":14},2]
[3,{"$nulls":14},3]
[4,{"$nulls":14},4]
[5,{"$nulls":14},5]
[6,{"$nulls":14},6]
["Tot",{"$nulls":14},"Tot"]
["Player no.",{"$nulls":6},{"$f":"DRAWS!$F$44","v":43},null,null,"Name"]
[]
[]
[]
["Game  1  ",{"$nulls":14},"Game  2"]
["Go to rink ",{"$nulls":7},{"$f":"DRAWS!$G$44","v":"2 Right"},{"$nulls":6},"Go to rink ",{"$nulls":7},{"$f":"DRAWS!$H$44","v":"4 Left"}]
["End",null,"For",null,null,"Total",null,null,"Ag'nst",null,null,"Total",{"$nulls":3},"End",null,"For",null,null,"Total",null,null,"Ag'nst",null,null,"Total"]
[1,{"$nulls":14},1]
[2,{"$nulls":14},2]
[3,{"$nulls":14},3]
[4,{"$nulls":14},4]
[5,{"$nulls":14},5]
[6,{"$nulls":14},6]
["Tot",{"$nulls":14},"Tot"]
[]
["Game  3",{"$nulls":14},"Game  4"]
["Go to rink ",{"$nulls":7},{"$f":"DRAWS!$I$44","v":"3 Left"},{"$nulls":6},"Go to rink ",{"$nulls":7},{"$f":"DRAWS!$J$44","v":"6 Left"}]
["End",null,"For",null,null,"Total",null,null,"Ag'nst",null,null,"Total",{"$nulls":3},"End",null,"For",null,null,"Total",null,null,"Ag'nst",null,null,"Total"]
[1,{"$nulls":14},1]
[2,{"$nulls":14},2]
[3,{"$nulls":14},3]
[4,{"$nulls":14},4]
[5,{"$nulls":14},5]
[6,{"$nulls":14},6]
["Tot",{"$nulls":14},"Tot"]
["Player no.",{"$nulls":6},{"$f":"DRAWS!$F$45","v":44},null,null,"Name"]
[]
[]
[]
["Game  1  ",{"$nulls":14},"Game  2"]
["Go to rink ",{"$nulls":7},{"$f":"DRAWS!$G$45","v":"3 Left"},{"$nulls":6},"Go to rink ",{"$nulls":7},{"$f":"DRAWS!$H$45","v":"5 Left"}]
["End",null,"For",null,null,"Total",null,null,"Ag'nst",null,null,"Total",{"$nulls":3},"End",null,"For",null,null,"Total",null,null,"Ag'nst",null,null,"Total"]
[1,{"$nulls":14},1]
[2,{"$nulls":14},2]
[3,{"$nulls":14},3]
[4,{"$nulls":14},4]
[5,{"$nulls":14},5]
[6,{"$nulls":14},6]
["Tot",{"$nulls":14},"Tot"]
[]
["Game  3",{"$nulls":14},"Game  4"]
["Go to rink ",{"$nulls":7},{"$f":"DRAWS!$I$45","v":"2 Left"},{"$nulls":6},"Go to rink ",{"$nulls":7},{"$f":"DRAWS!$J$45","v":"5 Left"}]
["End",null,"For",null,null,"Total",null,null,"Ag'nst",null,null,"Total",{"$nulls":3},"End",null,"For",null,null,"Total",null,null,"Ag'nst",null,null,"Total"]
[1,{"$nulls":14},1]
[2,{"$nulls":14},2]
[3,{"$nulls":14},3]
[4,{"$nulls":14},4]
[5,{"$nulls":14},5]
[6,{"$nulls":14},6]
["Tot",{"$nulls":14},"Tot"]
["Player no.",{"$nulls":6},{"$f":"DRAWS!$F$46","v":45},null,null,"Name"]
[]
[]
[]
["Game  1  ",{"$nulls":14},"Game  2"]
["Go to rink ",{"$nulls":7},{"$f":"DRAWS!$G$46","v":"3 Right"},{"$nulls":6},"Go to rink ",{"$nulls":7},{"$f":"DRAWS!$H$46","v":"6 Left"}]
["End",null,"For",null,null,"Total",null,null,"Ag'nst",null,null,"Total",{"$nulls":3},"End",null,"For",null,null,"Total",null,null,"Ag'nst",null,null,"Total"]
[1,{"$nulls":14},1]
[2,{"$nulls":14},2]
[3,{"$nulls":14},3]
[4,{"$nulls":14},4]
[5,{"$nulls":14},5]
[6,{"$nulls":14},6]
["Tot",{"$nulls":14},"Tot"]
[]
["Game  3",{"$nulls":14},"Game  4"]
["Go to rink ",{"$nulls":7},{"$f":"DRAWS!$I$46","v":"5 Left"},{"$nulls":6},"Go to rink ",{"$nulls":7},{"$f":"DRAWS!$J$46","v":"4 Left"}]
["End",null,"For",null,null,"Total",null,null,"Ag'nst",null,null,"Total",{"$nulls":3},"End",null,"For",null,null,"Total",null,null,"Ag'nst",null,null,"Total"]
[1,{"$nulls":14},1]
[2,{"$nulls":14},2]
[3,{"$nulls":14},3]
[4,{"$nulls":14},4]
[5,{"$nulls":14},5]
[6,{"$nulls":14},6]
["Tot",{"$nulls":14},"Tot"]
["Player no.",{"$nulls":6},{"$f":"DRAWS!$F$47","v":46},null,null,"Name"]
[]
[]
[]
["Game  1  ",{"$nulls":14},"Game  2"]
["Go to rink ",{"$nulls":7},{"$f":"DRAWS!$G$47","v":"4 Left"},{"$nulls":6},"Go to rink ",{"$nulls":7},{"$f":"DRAWS!$H$47","v":"2 Left"}]
["End",null,"For",null,null,"Total",null,null,"Ag'nst",null,null,"Total",{"$nulls":3},"End",null,"For",null,null,"Total",null,null,"Ag'nst",null,null,"Total"]
[1,{"$nulls":14},1]
[2,{"$nulls":14},2]
[3,{"$nulls":14},3]
[4,{"$nulls":14},4]
[5,{"$nulls":14},5]
[6,{"$nulls":14},6]
["Tot",{"$nulls":14},"Tot"]
[]
["Game  3",{"$nulls":14},"Game  4"]
["Go to rink ",{"$nulls":7},{"$f":"DRAWS!$I$47","v":"6 Right"},{"$nulls":6},"Go to rink ",{"$nulls":7},{"$f":"DRAWS!$J$47","v":"4 Right"}]
["End",null,"For",null,null,"Total",null,null,"Ag'nst",null,null,"Total",{"$nulls":3},"End",null,"For",null,null,"Total",null,null,"Ag'nst",null,null,"Total"]
[1,{"$nulls":14},1]
[2,{"$nulls":14},2]
[3,{"$nulls":14},3]
[4,{"$nulls":14},4]
[5,{"$nulls":14},5]
[6,{"$nulls":14},6]
["Tot",{"$nulls":14},"Tot"]
["Player no.",{"$nulls":6},{"$f":"DRAWS!$F$48","v":47},null,null,"Name"]
[]
[]
[]
["Game  1  ",{"$nulls":14},"Game  2"]
["Go to rink ",{"$nulls":7},{"$f":"DRAWS!$G$48","v":"4 Right"},{"$nulls":6},"Go to rink ",{"$nulls":7},{"$f":"DRAWS!$H$48","v":"5 Right"}]
["End",null,"For",null,null,"Total",null,null,"Ag'nst",null,null,"Total",{"$nulls":3},"End",null,"For",null,null,"Total",null,null,"Ag'nst",null,null,"Total"]
[1,{"$nulls":14},1]
[2,{"$nulls":14},2]
[3,{"$nulls":14},3]
[4,{"$nulls":14},4]
[5,{"$nulls":14},5]
[6,{"$nulls":14},6]
["Tot",{"$nulls":14},"Tot"]
[]
["Game  3",{"$nulls":14},"Game  4"]
["Go to rink ",{"$nulls":7},{"$f":"DRAWS!$I$48","v":"3 Right"},{"$nulls":6},"Go to rink ",{"$nulls":7},{"$f":"DRAWS!$J$48","v":"2 Left"}]
["End",null,"For",null,null,"Total",null,null,"Ag'nst",null,null,"Total",{"$nulls":3},"End",null,"For",null,null,"Total",null,null,"Ag'nst",null,null,"Total"]
[1,{"$nulls":14},1]
[2,{"$nulls":14},2]
[3,{"$nulls":14},3]
[4,{"$nulls":14},4]
[5,{"$nulls":14},5]
[6,{"$nulls":14},6]
["Tot",{"$nulls":14},"Tot"]
["Player no.",{"$nulls":6},{"$f":"DRAWS!$F$49","v":48},null,null,"Name"]
[]
[]
[]
["Game  1  ",{"$nulls":14},"Game  2"]
["Go to rink ",{"$nulls":7},{"$f":"DRAWS!$G$49","v":"5 Left"},{"$nulls":6},"Go to rink ",{"$nulls":7},{"$f":"DRAWS!$H$49","v":"6 Right"}]
["End",null,"For",null,null,"Total",null,null,"Ag'nst",null,null,"Total",{"$nulls":3},"End",null,"For",null,null,"Total",null,null,"Ag'nst",null,null,"Total"]
[1,{"$nulls":14},1]
[2,{"$nulls":14},2]
[3,{"$nulls":14},3]
[4,{"$nulls":14},4]
[5,{"$nulls":14},5]
[6,{"$nulls":14},6]
["Tot",{"$nulls":14},"Tot"]
[]
["Game  3",{"$nulls":14},"Game  4"]
["Go to rink ",{"$nulls":7},{"$f":"DRAWS!$I$49","v":"4 Left"},{"$nulls":6},"Go to rink ",{"$nulls":7},{"$f":"DRAWS!$J$49","v":"3 Right"}]
["End",null,"For",null,null,"Total",null,null,"Ag'nst",null,null,"Total",{"$nulls":3},"End",null,"For",null,null,"Total",null,null,"Ag'nst",null,null,"Total"]
[1,{"$nulls":14},1]
[2,{"$nulls":14},2]
[3,{"$nulls":14},3]
[4,{"$nulls":14},4]
[5,{"$nulls":14},5]
[6,{"$nulls":14},6]
["Tot",{"$nulls":14},"Tot"]
["Player no.",{"$nulls":6},{"$f":"DRAWS!$F$50","v":49},null,null,"Name"]
[]
[]
[]
["Game  1  ",{"$nulls":14},"Game  2"]
["Go to rink ",{"$nulls":7},{"$f":"DRAWS!$G$50","v":"5 Right"},{"$nulls":6},"Go to rink ",{"$nulls":7},{"$f":"DRAWS!$H$50","v":"3 Right"}]
["End",null,"For",null,null,"Total",null,null,"Ag'nst",null,null,"Total",{"$nulls":3},"End",null,"For",null,null,"Total",null,null,"Ag'nst",null,null,"Total"]
[1,{"$nulls":14},1]
[2,{"$nulls":14},2]
[3,{"$nulls":14},3]
[4,{"$nulls":14},4]
[5,{"$nulls":14},5]
[6,{"$nulls":14},6]
["Tot",{"$nulls":14},"Tot"]
[]
["Game  3",{"$nulls":14},"Game  4"]
["Go to rink ",{"$nulls":7},{"$f":"DRAWS!$I$50","v":"4 Right"},{"$nulls":6},"Go to rink ",{"$nulls":7},{"$f":"DRAWS!$J$50","v":"2 Right"}]
["End",null,"For",null,null,"Total",null,null,"Ag'nst",null,null,"Total",{"$nulls":3},"End",null,"For",null,null,"Total",null,null,"Ag'nst",null,null,"Total"]
[1,{"$nulls":14},1]
[2,{"$nulls":14},2]
[3,{"$nulls":14},3]
[4,{"$nulls":14},4]
[5,{"$nulls":14},5]
[6,{"$nulls":14},6]
["Tot",{"$nulls":14},"Tot"]
["Player no.",{"$nulls":6},{"$f":"DRAWS!$F$51","v":50},null,null,"Name"]
[]
[]
[]
["Game  1  ",{"$nulls":14},"Game  2"]
["Go to rink ",{"$nulls":7},{"$f":"DRAWS!$G$51","v":"6 Left"},{"$nulls":6},"Go to rink ",{"$nulls":7},{"$f":"DRAWS!$H$51","v":"4 Right"}]
["End",null,"For",null,null,"Total",null,null,"Ag'nst",null,null,"Total",{"$nulls":3},"End",null,"For",null,null,"Total",null,null,"Ag'nst",null,null,"Total"]
[1,{"$nulls":14},1]
[2,{"$nulls":14},2]
[3,{"$nulls":14},3]
[4,{"$nulls":14},4]
[5,{"$nulls":14},5]
[6,{"$nulls":14},6]
["Tot",{"$nulls":14},"Tot"]
[]
["Game  3",{"$nulls":14},"Game  4"]
["Go to rink ",{"$nulls":7},{"$f":"DRAWS!$I$51","v":"2 Right"},{"$nulls":6},"Go to rink ",{"$nulls":7},{"$f":"DRAWS!$J$51","v":"6 Right"}]
["End",null,"For",null,null,"Total",null,null,"Ag'nst",null,null,"Total",{"$nulls":3},"End",null,"For",null,null,"Total",null,null,"Ag'nst",null,null,"Total"]
[1,{"$nulls":14},1]
[2,{"$nulls":14},2]
[3,{"$nulls":14},3]
[4,{"$nulls":14},4]
[5,{"$nulls":14},5]
[6,{"$nulls":14},6]
["Tot",{"$nulls":14},"Tot"]
["Player no.",{"$nulls":6},{"$f":"DRAWS!$F$52","v":51},null,null,"Name"]
[]
[]
[]
["Game  1  ",{"$nulls":14},"Game  2"]
["Go to rink ",{"$nulls":7},{"$f":"DRAWS!$G$52","v":"6 Right"},{"$nulls":6},"Go to rink ",{"$nulls":7},{"$f":"DRAWS!$H$52","v":"2 Right"}]
["End",null,"For",null,null,"Total",null,null,"Ag'nst",null,null,"Total",{"$nulls":3},"End",null,"For",null,null,"Total",null,null,"Ag'nst",null,null,"Total"]
[1,{"$nulls":14},1]
[2,{"$nulls":14},2]
[3,{"$nulls":14},3]
[4,{"$nulls":14},4]
[5,{"$nulls":14},5]
[6,{"$nulls":14},6]
["Tot",{"$nulls":14},"Tot"]
[]
["Game  3",{"$nulls":14},"Game  4"]
["Go to rink ",{"$nulls":7},{"$f":"DRAWS!$I$52","v":"5 Right"},{"$nulls":6},"Go to rink ",{"$nulls":7},{"$f":"DRAWS!$J$52","v":"3 Left"}]
["End",null,"For",null,null,"Total",null,null,"Ag'nst",null,null,"Total",{"$nulls":3},"End",null,"For",null,null,"Total",null,null,"Ag'nst",null,null,"Total"]
[1,{"$nulls":14},1]
[2,{"$nulls":14},2]
[3,{"$nulls":14},3]
[4,{"$nulls":14},4]
[5,{"$nulls":14},5]
[6,{"$nulls":14},6]
["Tot",{"$nulls":14},"Tot"]
["Player no.",{"$nulls":6},{"$f":"DRAWS!$F$53","v":52},null,null,"Name"]
[]
[]
[]
["Game  1  ",{"$nulls":14},"Game  2"]
["Go to rink ",{"$nulls":7},{"$f":"DRAWS!$G$53","v":"2 Left"},{"$nulls":6},"Go to rink ",{"$nulls":7},{"$f":"DRAWS!$H$53","v":"5 Left"}]
["End",null,"For",null,null,"Total",null,null,"Ag'nst",null,null,"Total",{"$nulls":3},"End",null,"For",null,null,"Total",null,null,"Ag'nst",null,null,"Total"]
[1,{"$nulls":14},1]
[2,{"$nulls":14},2]
[3,{"$nulls":14},3]
[4,{"$nulls":14},4]
[5,{"$nulls":14},5]
[6,{"$nulls":14},6]
["Tot",{"$nulls":14},"Tot"]
[]
["Game  3",{"$nulls":14},"Game  4"]
["Go to rink ",{"$nulls":7},{"$f":"DRAWS!$I$53","v":"6 Right"},{"$nulls":6},"Go to rink ",{"$nulls":7},{"$f":"DRAWS!$J$53","v":"3 Right"}]
["End",null,"For",null,null,"Total",null,null,"Ag'nst",null,null,"Total",{"$nulls":3},"End",null,"For",null,null,"Total",null,null,"Ag'nst",null,null,"Total"]
[1,{"$nulls":14},1]
[2,{"$nulls":14},2]
[3,{"$nulls":14},3]
[4,{"$nulls":14},4]
[5,{"$nulls":14},5]
[6,{"$nulls":14},6]
["Tot",{"$nulls":14},"Tot"]
["Player no.",{"$nulls":6},{"$f":"DRAWS!$F$54","v":53},null,null,"Name"]
[]
[]
[]
["Game  1  ",{"$nulls":14},"Game  2"]
["Go to rink ",{"$nulls":7},{"$f":"DRAWS!$G$54","v":"2 Right"},{"$nulls":6},"Go to rink ",{"$nulls":7},{"$f":"DRAWS!$H$54","v":"6 Left"}]
["End",null,"For",null,null,"Total",null,null,"Ag'nst",null,null,"Total",{"$nulls":3},"End",null,"For",null,null,"Total",null,null,"Ag'nst",null,null,"Total"]
[1,{"$nulls":14},1]
[2,{"$nulls":14},2]
[3,{"$nulls":14},3]
[4,{"$nulls":14},4]
[5,{"$nulls":14},5]
[6,{"$nulls":14},6]
["Tot",{"$nulls":14},"Tot"]
[]
["Game  3",{"$nulls":14},"Game  4"]
["Go to rink ",{"$nulls":7},{"$f":"DRAWS!$I$54","v":"3 Right"},{"$nulls":6},"Go to rink ",{"$nulls":7},{"$f":"DRAWS!$J$54","v":"2 Right"}]
["End",null,"For",null,null,"Total",null,null,"Ag'nst",null,null,"Total",{"$nulls":3},"End",null,"For",null,null,"Total",null,null,"Ag'nst",null,null,"Total"]
[1,{"$nulls":14},1]
[2,{"$nulls":14},2]
[3,{"$nulls":14},3]
[4,{"$nulls":14},4]
[5,{"$nulls":14},5]
[6,{"$nulls":14},6]
["Tot",{"$nulls":14},"Tot"]
["Player no.",{"$nulls":6},{"$f":"DRAWS!$F$55","v":54},null,null,"Name"]
[]
[]
[]
["Game  1  ",{"$nulls":14},"Game  2"]
["Go to rink ",{"$nulls":7},{"$f":"DRAWS!$G$55","v":"3 Left"},{"$nulls":6},"Go to rink ",{"$nulls":7},{"$f":"DRAWS!$H$55","v":"2 Left"}]
["End",null,"For",null,null,"Total",null,null,"Ag'nst",null,null,"Total",{"$nulls":3},"End",null,"For",null,null,"Total",null,null,"Ag'nst",null,null,"Total"]
[1,{"$nulls":14},1]
[2,{"$nulls":14},2]
[3,{"$nulls":14},3]
[4,{"$nulls":14},4]
[5,{"$nulls":14},5]
[6,{"$nulls":14},6]
["Tot",{"$nulls":14},"Tot"]
[]
["Game  3",{"$nulls":14},"Game  4"]
["Go to rink ",{"$nulls":7},{"$f":"DRAWS!$I$55","v":"4 Left"},{"$nulls":6},"Go to rink ",{"$nulls":7},{"$f":"DRAWS!$J$55","v":"6 Right"}]
["End",null,"For",null,null,"Total",null,null,"Ag'nst",null,null,"Total",{"$nulls":3},"End",null,"For",null,null,"Total",null,null,"Ag'nst",null,null,"Total"]
[1,{"$nulls":14},1]
[2,{"$nulls":14},2]
[3,{"$nulls":14},3]
[4,{"$nulls":14},4]
[5,{"$nulls":14},5]
[6,{"$nulls":14},6]
["Tot",{"$nulls":14},"Tot"]
["Player no.",{"$nulls":6},{"$f":"DRAWS!$F$56","v":55},null,null,"Name"]
[]
[]
[]
["Game  1  ",{"$nulls":14},"Game  2"]
["Go to rink ",{"$nulls":7},{"$f":"DRAWS!$G$56","v":"3 Right"},{"$nulls":6},"Go to rink ",{"$nulls":7},{"$f":"DRAWS!$H$56","v":"5 Right"}]
["End",null,"For",null,null,"Total",null,null,"Ag'nst",null,null,"Total",{"$nulls":3},"End",null,"For",null,null,"Total",null,null,"Ag'nst",null,null,"Total"]
[1,{"$nulls":14},1]
[2,{"$nulls":14},2]
[3,{"$nulls":14},3]
[4,{"$nulls":14},4]
[5,{"$nulls":14},5]
[6,{"$nulls":14},6]
["Tot",{"$nulls":14},"Tot"]
[]
["Game  3",{"$nulls":14},"Game  4"]
["Go to rink ",{"$nulls":7},{"$f":"DRAWS!$I$56","v":"4 Right"},{"$nulls":6},"Go to rink ",{"$nulls":7},{"$f":"DRAWS!$J$56","v":"3 Left"}]
["End",null,"For",null,null,"Total",null,null,"Ag'nst",null,null,"Total",{"$nulls":3},"End",null,"For",null,null,"Total",null,null,"Ag'nst",null,null,"Total"]
[1,{"$nulls":14},1]
[2,{"$nulls":14},2]
[3,{"$nulls":14},3]
[4,{"$nulls":14},4]
[5,{"$nulls":14},5]
[6,{"$nulls":14},6]
["Tot",{"$nulls":14},"Tot"]
["Player no.",{"$nulls":6},{"$f":"DRAWS!$F$57","v":56},null,null,"Name"]
[]
[]
[]
["Game  1  ",{"$nulls":14},"Game  2"]
["Go to rink ",{"$nulls":7},{"$f":"DRAWS!$G$57","v":"4 Left"},{"$nulls":6},"Go to rink ",{"$nulls":7},{"$f":"DRAWS!$H$57","v":"6 Right"}]
["End",null,"For",null,null,"Total",null,null,"Ag'nst",null,null,"Total",{"$nulls":3},"End",null,"For",null,null,"Total",null,null,"Ag'nst",null,null,"Total"]
[1,{"$nulls":14},1]
[2,{"$nulls":14},2]
[3,{"$nulls":14},3]
[4,{"$nulls":14},4]
[5,{"$nulls":14},5]
[6,{"$nulls":14},6]
["Tot",{"$nulls":14},"Tot"]
[]
["Game  3",{"$nulls":14},"Game  4"]
["Go to rink ",{"$nulls":7},{"$f":"DRAWS!$I$57","v":"2 Right"},{"$nulls":6},"Go to rink ",{"$nulls":7},{"$f":"DRAWS!$J$57","v":"5 Right"}]
["End",null,"For",null,null,"Total",null,null,"Ag'nst",null,null,"Total",{"$nulls":3},"End",null,"For",null,null,"Total",null,null,"Ag'nst",null,null,"Total"]
[1,{"$nulls":14},1]
[2,{"$nulls":14},2]
[3,{"$nulls":14},3]
[4,{"$nulls":14},4]
[5,{"$nulls":14},5]
[6,{"$nulls":14},6]
["Tot",{"$nulls":14},"Tot"]
["Player no.",{"$nulls":6},{"$f":"DRAWS!$F$58","v":57},null,null,"Name"]
[]
[]
[]
["Game  1  ",{"$nulls":14},"Game  2"]
["Go to rink ",{"$nulls":7},{"$f":"DRAWS!$G$58","v":"4 Right"},{"$nulls":6},"Go to rink ",{"$nulls":7},{"$f":"DRAWS!$H$58","v":"3 Right"}]
["End",null,"For",null,null,"Total",null,null,"Ag'nst",null,null,"Total",{"$nulls":3},"End",null,"For",null,null,"Total",null,null,"Ag'nst",null,null,"Total"]
[1,{"$nulls":14},1]
[2,{"$nulls":14},2]
[3,{"$nulls":14},3]
[4,{"$nulls":14},4]
[5,{"$nulls":14},5]
[6,{"$nulls":14},6]
["Tot",{"$nulls":14},"Tot"]
[]
["Game  3",{"$nulls":14},"Game  4"]
["Go to rink ",{"$nulls":7},{"$f":"DRAWS!$I$58","v":"5 Right"},{"$nulls":6},"Go to rink ",{"$nulls":7},{"$f":"DRAWS!$J$58","v":"6 Left"}]
["End",null,"For",null,null,"Total",null,null,"Ag'nst",null,null,"Total",{"$nulls":3},"End",null,"For",null,null,"Total",null,null,"Ag'nst",null,null,"Total"]
[1,{"$nulls":14},1]
[2,{"$nulls":14},2]
[3,{"$nulls":14},3]
[4,{"$nulls":14},4]
[5,{"$nulls":14},5]
[6,{"$nulls":14},6]
["Tot",{"$nulls":14},"Tot"]
["Player no.",{"$nulls":6},{"$f":"DRAWS!$F$59","v":58},null,null,"Name"]
[]
[]
[]
["Game  1  ",{"$nulls":14},"Game  2"]
["Go to rink ",{"$nulls":7},{"$f":"DRAWS!$G$59","v":"5 Left"},{"$nulls":6},"Go to rink ",{"$nulls":7},{"$f":"DRAWS!$H$59","v":"4 Right"}]
["End",null,"For",null,null,"Total",null,null,"Ag'nst",null,null,"Total",{"$nulls":3},"End",null,"For",null,null,"Total",null,null,"Ag'nst",null,null,"Total"]
[1,{"$nulls":14},1]
[2,{"$nulls":14},2]
[3,{"$nulls":14},3]
[4,{"$nulls":14},4]
[5,{"$nulls":14},5]
[6,{"$nulls":14},6]
["Tot",{"$nulls":14},"Tot"]
[]
["Game  3",{"$nulls":14},"Game  4"]
["Go to rink ",{"$nulls":7},{"$f":"DRAWS!$I$59","v":"6 Left"},{"$nulls":6},"Go to rink ",{"$nulls":7},{"$f":"DRAWS!$J$59","v":"5 Left"}]
["End",null,"For",null,null,"Total",null,null,"Ag'nst",null,null,"Total",{"$nulls":3},"End",null,"For",null,null,"Total",null,null,"Ag'nst",null,null,"Total"]
[1,{"$nulls":14},1]
[2,{"$nulls":14},2]
[3,{"$nulls":14},3]
[4,{"$nulls":14},4]
[5,{"$nulls":14},5]
[6,{"$nulls":14},6]
["Tot",{"$nulls":14},"Tot"]
["Player no.",{"$nulls":6},{"$f":"DRAWS!$F$60","v":59},null,null,"Name"]
[]
[]
[]
["Game  1  ",{"$nulls":14},"Game  2"]
["Go to rink ",{"$nulls":7},{"$f":"DRAWS!$G$60","v":"5 Right"},{"$nulls":6},"Go to rink ",{"$nulls":7},{"$f":"DRAWS!$H$60","v":"2 Right"}]
["End",null,"For",null,null,"Total",null,null,"Ag'nst",null,null,"Total",{"$nulls":3},"End",null,"For",null,null,"Total",null,null,"Ag'nst",null,null,"Total"]
[1,{"$nulls":14},1]
[2,{"$nulls":14},2]
[3,{"$nulls":14},3]
[4,{"$nulls":14},4]
[5,{"$nulls":14},5]
[6,{"$nulls":14},6]
["Tot",{"$nulls":14},"Tot"]
[]
["Game  3",{"$nulls":14},"Game  4"]
["Go to rink ",{"$nulls":7},{"$f":"DRAWS!$I$60","v":"3 Left"},{"$nulls":6},"Go to rink ",{"$nulls":7},{"$f":"DRAWS!$J$60","v":"4 Left"}]
["End",null,"For",null,null,"Total",null,null,"Ag'nst",null,null,"Total",{"$nulls":3},"End",null,"For",null,null,"Total",null,null,"Ag'nst",null,null,"Total"]
[1,{"$nulls":14},1]
[2,{"$nulls":14},2]
[3,{"$nulls":14},3]
[4,{"$nulls":14},4]
[5,{"$nulls":14},5]
[6,{"$nulls":14},6]
["Tot",{"$nulls":14},"Tot"]
["Player no.",{"$nulls":6},{"$f":"DRAWS!$F$61","v":60},null,null,"Name"]
[]
[]
[]
["Game  1  ",{"$nulls":14},"Game  2"]
["Go to rink ",{"$nulls":7},{"$f":"DRAWS!$G$61","v":"6 Left"},{"$nulls":6},"Go to rink ",{"$nulls":7},{"$f":"DRAWS!$H$61","v":"3 Left"}]
["End",null,"For",null,null,"Total",null,null,"Ag'nst",null,null,"Total",{"$nulls":3},"End",null,"For",null,null,"Total",null,null,"Ag'nst",null,null,"Total"]
[1,{"$nulls":14},1]
[2,{"$nulls":14},2]
[3,{"$nulls":14},3]
[4,{"$nulls":14},4]
[5,{"$nulls":14},5]
[6,{"$nulls":14},6]
["Tot",{"$nulls":14},"Tot"]
[]
["Game  3",{"$nulls":14},"Game  4"]
["Go to rink ",{"$nulls":7},{"$f":"DRAWS!$I$61","v":"2 Left"},{"$nulls":6},"Go to rink ",{"$nulls":7},{"$f":"DRAWS!$J$61","v":"4 Right"}]
["End",null,"For",null,null,"Total",null,null,"Ag'nst",null,null,"Total",{"$nulls":3},"End",null,"For",null,null,"Total",null,null,"Ag'nst",null,null,"Total"]
[1,{"$nulls":14},1]
[2,{"$nulls":14},2]
[3,{"$nulls":14},3]
[4,{"$nulls":14},4]
[5,{"$nulls":14},5]
[6,{"$nulls":14},6]
["Tot",{"$nulls":14},"Tot"]
["Player no.",{"$nulls":6},{"$f":"DRAWS!$F$62","v":61},null,null,"Name"]
[]
[]
[]
["Game  1  ",{"$nulls":14},"Game  2"]
["Go to rink ",{"$nulls":7},{"$f":"DRAWS!$G$62","v":"6 Right"},{"$nulls":6},"Go to rink ",{"$nulls":7},{"$f":"DRAWS!$H$62","v":"4 Left"}]
["End",null,"For",null,null,"Total",null,null,"Ag'nst",null,null,"Total",{"$nulls":3},"End",null,"For",null,null,"Total",null,null,"Ag'nst",null,null,"Total"]
[1,{"$nulls":14},1]
[2,{"$nulls":14},2]
[3,{"$nulls":14},3]
[4,{"$nulls":14},4]
[5,{"$nulls":14},5]
[6,{"$nulls":14},6]
["Tot",{"$nulls":14},"Tot"]
[]
["Game  3",{"$nulls":14},"Game  4"]
["Go to rink ",{"$nulls":7},{"$f":"DRAWS!$I$62","v":"5 Left"},{"$nulls":6},"Go to rink ",{"$nulls":7},{"$f":"DRAWS!$J$62","v":"2 Left"}]
["End",null,"For",null,null,"Total",null,null,"Ag'nst",null,null,"Total",{"$nulls":3},"End",null,"For",null,null,"Total",null,null,"Ag'nst",null,null,"Total"]
[1,{"$nulls":14},1]
[2,{"$nulls":14},2]
[3,{"$nulls":14},3]
[4,{"$nulls":14},4]
[5,{"$nulls":14},5]
[6,{"$nulls":14},6]
["Tot",{"$nulls":14},"Tot"]
["Player no.",{"$nulls":6},{"$f":"DRAWS!$F$63","v":62},null,null,"Name"]
[]
[]
[]
["Game  1  ",{"$nulls":14},"Game  2"]
["Go to rink ",{"$nulls":7},{"$f":"DRAWS!$G$63","v":"9 Left"},{"$nulls":6},"Go to rink ",{"$nulls":7},{"$f":"DRAWS!$H$63","v":"11 Left"}]
["End",null,"For",null,null,"Total",null,null,"Ag'nst",null,null,"Total",{"$nulls":3},"End",null,"For",null,null,"Total",null,null,"Ag'nst",null,null,"Total"]
[1,{"$nulls":14},1]
[2,{"$nulls":14},2]
[3,{"$nulls":14},3]
[4,{"$nulls":14},4]
[5,{"$nulls":14},5]
[6,{"$nulls":14},6]
["Tot",{"$nulls":14},"Tot"]
[]
["Game  3",{"$nulls":14},"Game  4"]
["Go to rink ",{"$nulls":7},{"$f":"DRAWS!$I$63","v":"10 Left"},{"$nulls":6},"Go to rink ",{"$nulls":7},{"$f":"DRAWS!$J$63","v":"9 Left"}]
["End",null,"For",null,null,"Total",null,null,"Ag'nst",null,null,"Total",{"$nulls":3},"End",null,"For",null,null,"Total",null,null,"Ag'nst",null,null,"Total"]
[1,{"$nulls":14},1]
[2,{"$nulls":14},2]
[3,{"$nulls":14},3]
[4,{"$nulls":14},4]
[5,{"$nulls":14},5]
[6,{"$nulls":14},6]
["Tot",{"$nulls":14},"Tot"]
["Player no.",{"$nulls":6},{"$f":"DRAWS!$F$64","v":63},null,null,"Name"]
[]
[]
[]
["Game  1  ",{"$nulls":14},"Game  2"]
["Go to rink ",{"$nulls":7},{"$f":"DRAWS!$G$64","v":"9 Right"},{"$nulls":6},"Go to rink ",{"$nulls":7},{"$f":"DRAWS!$H$64","v":"10 Left"}]
["End",null,"For",null,null,"Total",null,null,"Ag'nst",null,null,"Total",{"$nulls":3},"End",null,"For",null,null,"Total",null,null,"Ag'nst",null,null,"Total"]
[1,{"$nulls":14},1]
[2,{"$nulls":14},2]
[3,{"$nulls":14},3]
[4,{"$nulls":14},4]
[5,{"$nulls":14},5]
[6,{"$nulls":14},6]
["Tot",{"$nulls":14},"Tot"]
[]
["Game  3",{"$nulls":14},"Game  4"]
["Go to rink ",{"$nulls":7},{"$f":"DRAWS!$I$64","v":"12 Left"},{"$nulls":6},"Go to rink ",{"$nulls":7},{"$f":"DRAWS!$J$64","v":"11 Left"}]
["End",null,"For",null,null,"Total",null,null,"Ag'nst",null,null,"Total",{"$nulls":3},"End",null,"For",null,null,"Total",null,null,"Ag'nst",null,null,"Total"]
[1,{"$nulls":14},1]
[2,{"$nulls":14},2]
[3,{"$nulls":14},3]
[4,{"$nulls":14},4]
[5,{"$nulls":14},5]
[6,{"$nulls":14},6]
["Tot",{"$nulls":14},"Tot"]
["Player no.",{"$nulls":6},{"$f":"DRAWS!$F$65","v":64},null,null,"Name"]
[]
[]
[]
["Game  1  ",{"$nulls":14},"Game  2"]
["Go to rink ",{"$nulls":7},{"$f":"DRAWS!$G$65","v":"11 Right"},{"$nulls":6},"Go to rink ",{"$nulls":7},{"$f":"DRAWS!$H$65","v":"9 Left"}]
["End",null,"For",null,null,"Total",null,null,"Ag'nst",null,null,"Total",{"$nulls":3},"End",null,"For",null,null,"Total",null,null,"Ag'nst",null,null,"Total"]
[1,{"$nulls":14},1]
[2,{"$nulls":14},2]
[3,{"$nulls":14},3]
[4,{"$nulls":14},4]
[5,{"$nulls":14},5]
[6,{"$nulls":14},6]
["Tot",{"$nulls":14},"Tot"]
[]
["Game  3",{"$nulls":14},"Game  4"]
["Go to rink ",{"$nulls":7},{"$f":"DRAWS!$I$65","v":"10 Right"},{"$nulls":6},"Go to rink ",{"$nulls":7},{"$f":"DRAWS!$J$65","v":"12 Right"}]
["End",null,"For",null,null,"Total",null,null,"Ag'nst",null,null,"Total",{"$nulls":3},"End",null,"For",null,null,"Total",null,null,"Ag'nst",null,null,"Total"]
[1,{"$nulls":14},1]
[2,{"$nulls":14},2]
[3,{"$nulls":14},3]
[4,{"$nulls":14},4]
[5,{"$nulls":14},5]
[6,{"$nulls":14},6]
["Tot",{"$nulls":14},"Tot"]
["Player no.",{"$nulls":6},{"$f":"DRAWS!$F$66","v":65},null,null,"Name"]
[]
[]
[]
["Game  1  ",{"$nulls":14},"Game  2"]
["Go to rink ",{"$nulls":7},{"$f":"DRAWS!$G$66","v":"12 Left"},{"$nulls":6},"Go to rink ",{"$nulls":7},{"$f":"DRAWS!$H$66","v":"10 Right"}]
["End",null,"For",null,null,"Total",null,null,"Ag'nst",null,null,"Total",{"$nulls":3},"End",null,"For",null,null,"Total",null,null,"Ag'nst",null,null,"Total"]
[1,{"$nulls":14},1]
[2,{"$nulls":14},2]
[3,{"$nulls":14},3]
[4,{"$nulls":14},4]
[5,{"$nulls":14},5]
[6,{"$nulls":14},6]
["Tot",{"$nulls":14},"Tot"]
[]
["Game  3",{"$nulls":14},"Game  4"]
["Go to rink ",{"$nulls":7},{"$f":"DRAWS!$I$66","v":"9 Left"},{"$nulls":6},"Go to rink ",{"$nulls":7},{"$f":"DRAWS!$J$66","v":"10 Right"}]
["End",null,"For",null,null,"Total",null,null,"Ag'nst",null,null,"Total",{"$nulls":3},"End",null,"For",null,null,"Total",null,null,"Ag'nst",null,null,"Total"]
[1,{"$nulls":14},1]
[2,{"$nulls":14},2]
[3,{"$nulls":14},3]
[4,{"$nulls":14},4]
[5,{"$nulls":14},5]
[6,{"$nulls":14},6]
["Tot",{"$nulls":14},"Tot"]
["Player no.",{"$nulls":6},{"$f":"DRAWS!$F$67","v":66},null,null,"Name"]
[]
[]
[]
["Game  1  ",{"$nulls":14},"Game  2"]
["Go to rink ",{"$nulls":7},{"$f":"DRAWS!$G$67","v":"10 Right"},{"$nulls":6},"Go to rink ",{"$nulls":7},{"$f":"DRAWS!$H$67","v":"12 Left"}]
["End",null,"For",null,null,"Total",null,null,"Ag'nst",null,null,"Total",{"$nulls":3},"End",null,"For",null,null,"Total",null,null,"Ag'nst",null,null,"Total"]
[1,{"$nulls":14},1]
[2,{"$nulls":14},2]
[3,{"$nulls":14},3]
[4,{"$nulls":14},4]
[5,{"$nulls":14},5]
[6,{"$nulls":14},6]
["Tot",{"$nulls":14},"Tot"]
[]
["Game  3",{"$nulls":14},"Game  4"]
["Go to rink ",{"$nulls":7},{"$f":"DRAWS!$I$67","v":"9 Right"},{"$nulls":6},"Go to rink ",{"$nulls":7},{"$f":"DRAWS!$J$67","v":"11 Right"}]
["End",null,"For",null,null,"Total",null,null,"Ag'nst",null,null,"Total",{"$nulls":3},"End",null,"For",null,null,"Total",null,null,"Ag'nst",null,null,"Total"]
[1,{"$nulls":14},1]
[2,{"$nulls":14},2]
[3,{"$nulls":14},3]
[4,{"$nulls":14},4]
[5,{"$nulls":14},5]
[6,{"$nulls":14},6]
["Tot",{"$nulls":14},"Tot"]
["Player no.",{"$nulls":6},{"$f":"DRAWS!$F$68","v":67},null,null,"Name"]
[]
[]
[]
["Game  1  ",{"$nulls":14},"Game  2"]
["Go to rink ",{"$nulls":7},{"$f":"DRAWS!$G$68","v":"10 Left"},{"$nulls":6},"Go to rink ",{"$nulls":7},{"$f":"DRAWS!$H$68","v":"11 Right"}]
["End",null,"For",null,null,"Total",null,null,"Ag'nst",null,null,"Total",{"$nulls":3},"End",null,"For",null,null,"Total",null,null,"Ag'nst",null,null,"Total"]
[1,{"$nulls":14},1]
[2,{"$nulls":14},2]
[3,{"$nulls":14},3]
[4,{"$nulls":14},4]
[5,{"$nulls":14},5]
[6,{"$nulls":14},6]
["Tot",{"$nulls":14},"Tot"]
[]
["Game  3",{"$nulls":14},"Game  4"]
["Go to rink ",{"$nulls":7},{"$f":"DRAWS!$I$68","v":"9 Left"},{"$nulls":6},"Go to rink ",{"$nulls":7},{"$f":"DRAWS!$J$68","v":"10 Left"}]
["End",null,"For",null,null,"Total",null,null,"Ag'nst",null,null,"Total",{"$nulls":3},"End",null,"For",null,null,"Total",null,null,"Ag'nst",null,null,"Total"]
[1,{"$nulls":14},1]
[2,{"$nulls":14},2]
[3,{"$nulls":14},3]
[4,{"$nulls":14},4]
[5,{"$nulls":14},5]
[6,{"$nulls":14},6]
["Tot",{"$nulls":14},"Tot"]
["Player no.",{"$nulls":6},{"$f":"DRAWS!$F$69","v":68},null,null,"Name"]
[]
[]
[]
["Game  1  ",{"$nulls":14},"Game  2"]
["Go to rink ",{"$nulls":7},{"$f":"DRAWS!$G$69","v":"11 Left"},{"$nulls":6},"Go to rink ",{"$nulls":7},{"$f":"DRAWS!$H$69","v":"9 Right"}]
["End",null,"For",null,null,"Total",null,null,"Ag'nst",null,null,"Total",{"$nulls":3},"End",null,"For",null,null,"Total",null,null,"Ag'nst",null,null,"Total"]
[1,{"$nulls":14},1]
[2,{"$nulls":14},2]
[3,{"$nulls":14},3]
[4,{"$nulls":14},4]
[5,{"$nulls":14},5]
[6,{"$nulls":14},6]
["Tot",{"$nulls":14},"Tot"]
[]
["Game  3",{"$nulls":14},"Game  4"]
["Go to rink ",{"$nulls":7},{"$f":"DRAWS!$I$69","v":"12 Right"},{"$nulls":6},"Go to rink ",{"$nulls":7},{"$f":"DRAWS!$J$69","v":"9 Right"}]
["End",null,"For",null,null,"Total",null,null,"Ag'nst",null,null,"Total",{"$nulls":3},"End",null,"For",null,null,"Total",null,null,"Ag'nst",null,null,"Total"]
[1,{"$nulls":14},1]
[2,{"$nulls":14},2]
[3,{"$nulls":14},3]
[4,{"$nulls":14},4]
[5,{"$nulls":14},5]
[6,{"$nulls":14},6]
["Tot",{"$nulls":14},"Tot"]
["Player no.",{"$nulls":6},{"$f":"DRAWS!$F$70","v":69},null,null,"Name"]
[]
[]
[]
["Game  1  ",{"$nulls":14},"Game  2"]
["Go to rink ",{"$nulls":7},{"$f":"DRAWS!$G$70","v":"12 Right"},{"$nulls":6},"Go to rink ",{"$nulls":7},{"$f":"DRAWS!$H$70","v":"9 Left"}]
["End",null,"For",null,null,"Total",null,null,"Ag'nst",null,null,"Total",{"$nulls":3},"End",null,"For",null,null,"Total",null,null,"Ag'nst",null,null,"Total"]
[1,{"$nulls":14},1]
[2,{"$nulls":14},2]
[3,{"$nulls":14},3]
[4,{"$nulls":14},4]
[5,{"$nulls":14},5]
[6,{"$nulls":14},6]
["Tot",{"$nulls":14},"Tot"]
[]
["Game  3",{"$nulls":14},"Game  4"]
["Go to rink ",{"$nulls":7},{"$f":"DRAWS!$I$70","v":"11 Left"},{"$nulls":6},"Go to rink ",{"$nulls":7},{"$f":"DRAWS!$J$70","v":"9 Left"}]
["End",null,"For",null,null,"Total",null,null,"Ag'nst",null,null,"Total",{"$nulls":3},"End",null,"For",null,null,"Total",null,null,"Ag'nst",null,null,"Total"]
[1,{"$nulls":14},1]
[2,{"$nulls":14},2]
[3,{"$nulls":14},3]
[4,{"$nulls":14},4]
[5,{"$nulls":14},5]
[6,{"$nulls":14},6]
["Tot",{"$nulls":14},"Tot"]
["Player no.",{"$nulls":6},{"$f":"DRAWS!$F$71","v":70},null,null,"Name"]
[]
[]
[]
["Game  1  ",{"$nulls":14},"Game  2"]
["Go to rink ",{"$nulls":7},{"$f":"DRAWS!$G$71","v":"9 Left"},{"$nulls":6},"Go to rink ",{"$nulls":7},{"$f":"DRAWS!$H$71","v":"12 Right"}]
["End",null,"For",null,null,"Total",null,null,"Ag'nst",null,null,"Total",{"$nulls":3},"End",null,"For",null,null,"Total",null,null,"Ag'nst",null,null,"Total"]
[1,{"$nulls":14},1]
[2,{"$nulls":14},2]
[3,{"$nulls":14},3]
[4,{"$nulls":14},4]
[5,{"$nulls":14},5]
[6,{"$nulls":14},6]
["Tot",{"$nulls":14},"Tot"]
[]
["Game  3",{"$nulls":14},"Game  4"]
["Go to rink ",{"$nulls":7},{"$f":"DRAWS!$I$71","v":"11 Right"},{"$nulls":6},"Go to rink ",{"$nulls":7},{"$f":"DRAWS!$J$71","v":"12 Left"}]
["End",null,"For",null,null,"Total",null,null,"Ag'nst",null,null,"Total",{"$nulls":3},"End",null,"For",null,null,"Total",null,null,"Ag'nst",null,null,"Total"]
[1,{"$nulls":14},1]
[2,{"$nulls":14},2]
[3,{"$nulls":14},3]
[4,{"$nulls":14},4]
[5,{"$nulls":14},5]
[6,{"$nulls":14},6]
["Tot",{"$nulls":14},"Tot"]
["Player no.",{"$nulls":6},{"$f":"DRAWS!$F$72","v":71},null,null,"Name"]
[]
[]
[]
["Game  1  ",{"$nulls":14},"Game  2"]
["Go to rink ",{"$nulls":7},{"$f":"DRAWS!$G$72","v":"9 Left"},{"$nulls":6},"Go to rink ",{"$nulls":7},{"$f":"DRAWS!$H$72","v":"12 Left"}]
["End",null,"For",null,null,"Total",null,null,"Ag'nst",null,null,"Total",{"$nulls":3},"End",null,"For",null,null,"Total",null,null,"Ag'nst",null,null,"Total"]
[1,{"$nulls":14},1]
[2,{"$nulls":14},2]
[3,{"$nulls":14},3]
[4,{"$nulls":14},4]
[5,{"$nulls":14},5]
[6,{"$nulls":14},6]
["Tot",{"$nulls":14},"Tot"]
[]
["Game  3",{"$nulls":14},"Game  4"]
["Go to rink ",{"$nulls":7},{"$f":"DRAWS!$I$72","v":"11 Left"},{"$nulls":6},"Go to rink ",{"$nulls":7},{"$f":"DRAWS!$J$72","v":"9 Right"}]
["End",null,"For",null,null,"Total",null,null,"Ag'nst",null,null,"Total",{"$nulls":3},"End",null,"For",null,null,"Total",null,null,"Ag'nst",null,null,"Total"]
[1,{"$nulls":14},1]
[2,{"$nulls":14},2]
[3,{"$nulls":14},3]
[4,{"$nulls":14},4]
[5,{"$nulls":14},5]
[6,{"$nulls":14},6]
["Tot",{"$nulls":14},"Tot"]
["Player no.",{"$nulls":6},{"$f":"DRAWS!$F$73","v":72},null,null,"Name"]
[]
[]
[]
["Game  1  ",{"$nulls":14},"Game  2"]
["Go to rink ",{"$nulls":7},{"$f":"DRAWS!$G$73","v":"9 Right"},{"$nulls":6},"Go to rink ",{"$nulls":7},{"$f":"DRAWS!$H$73","v":"11 Right"}]
["End",null,"For",null,null,"Total",null,null,"Ag'nst",null,null,"Total",{"$nulls":3},"End",null,"For",null,null,"Total",null,null,"Ag'nst",null,null,"Total"]
[1,{"$nulls":14},1]
[2,{"$nulls":14},2]
[3,{"$nulls":14},3]
[4,{"$nulls":14},4]
[5,{"$nulls":14},5]
[6,{"$nulls":14},6]
["Tot",{"$nulls":14},"Tot"]
[]
["Game  3",{"$nulls":14},"Game  4"]
["Go to rink ",{"$nulls":7},{"$f":"DRAWS!$I$73","v":"10 Left"},{"$nulls":6},"Go to rink ",{"$nulls":7},{"$f":"DRAWS!$J$73","v":"12 Left"}]
["End",null,"For",null,null,"Total",null,null,"Ag'nst",null,null,"Total",{"$nulls":3},"End",null,"For",null,null,"Total",null,null,"Ag'nst",null,null,"Total"]
[1,{"$nulls":14},1]
[2,{"$nulls":14},2]
[3,{"$nulls":14},3]
[4,{"$nulls":14},4]
[5,{"$nulls":14},5]
[6,{"$nulls":14},6]
["Tot",{"$nulls":14},"Tot"]
["Player no.",{"$nulls":6},{"$f":"DRAWS!$F$74","v":73},null,null,"Name"]
[]
[]
[]
["Game  1  ",{"$nulls":14},"Game  2"]
["Go to rink ",{"$nulls":7},{"$f":"DRAWS!$G$74","v":"11 Right"},{"$nulls":6},"Go to rink ",{"$nulls":7},{"$f":"DRAWS!$H$74","v":"9 Right"}]
["End",null,"For",null,null,"Total",null,null,"Ag'nst",null,null,"Total",{"$nulls":3},"End",null,"For",null,null,"Total",null,null,"Ag'nst",null,null,"Total"]
[1,{"$nulls":14},1]
[2,{"$nulls":14},2]
[3,{"$nulls":14},3]
[4,{"$nulls":14},4]
[5,{"$nulls":14},5]
[6,{"$nulls":14},6]
["Tot",{"$nulls":14},"Tot"]
[]
["Game  3",{"$nulls":14},"Game  4"]
["Go to rink ",{"$nulls":7},{"$f":"DRAWS!$I$74","v":"12 Left"},{"$nulls":6},"Go to rink ",{"$nulls":7},{"$f":"DRAWS!$J$74","v":"9 Left"}]
["End",null,"For",null,null,"Total",null,null,"Ag'nst",null,null,"Total",{"$nulls":3},"End",null,"For",null,null,"Total",null,null,"Ag'nst",null,null,"Total"]
[1,{"$nulls":14},1]
[2,{"$nulls":14},2]
[3,{"$nulls":14},3]
[4,{"$nulls":14},4]
[5,{"$nulls":14},5]
[6,{"$nulls":14},6]
["Tot",{"$nulls":14},"Tot"]
["Player no.",{"$nulls":6},{"$f":"DRAWS!$F$75","v":74},null,null,"Name"]
[]
[]
[]
["Game  1  ",{"$nulls":14},"Game  2"]
["Go to rink ",{"$nulls":7},{"$f":"DRAWS!$G$75","v":"12 Right"},{"$nulls":6},"Go to rink ",{"$nulls":7},{"$f":"DRAWS!$H$75","v":"9 Right"}]
["End",null,"For",null,null,"Total",null,null,"Ag'nst",null,null,"Total",{"$nulls":3},"End",null,"For",null,null,"Total",null,null,"Ag'nst",null,null,"Total"]
[1,{"$nulls":14},1]
[2,{"$nulls":14},2]
[3,{"$nulls":14},3]
[4,{"$nulls":14},4]
[5,{"$nulls":14},5]
[6,{"$nulls":14},6]
["Tot",{"$nulls":14},"Tot"]
[]
["Game  3",{"$nulls":14},"Game  4"]
["Go to rink ",{"$nulls":7},{"$f":"DRAWS!$I$75","v":"10 Right"},{"$nulls":6},"Go to rink ",{"$nulls":7},{"$f":"DRAWS!$J$75","v":"11 Right"}]
["End",null,"For",null,null,"Total",null,null,"Ag'nst",null,null,"Total",{"$nulls":3},"End",null,"For",null,null,"Total",null,null,"Ag'nst",null,null,"Total"]
[1,{"$nulls":14},1]
[2,{"$nulls":14},2]
[3,{"$nulls":14},3]
[4,{"$nulls":14},4]
[5,{"$nulls":14},5]
[6,{"$nulls":14},6]
["Tot",{"$nulls":14},"Tot"]
["Player no.",{"$nulls":6},{"$f":"DRAWS!$F$76","v":75},null,null,"Name"]
[]
[]
[]
["Game  1  ",{"$nulls":14},"Game  2"]
["Go to rink ",{"$nulls":7},{"$f":"DRAWS!$G$76","v":"10 Right"},{"$nulls":6},"Go to rink ",{"$nulls":7},{"$f":"DRAWS!$H$76","v":"12 Right"}]
["End",null,"For",null,null,"Total",null,null,"Ag'nst",null,null,"Total",{"$nulls":3},"End",null,"For",null,null,"Total",null,null,"Ag'nst",null,null,"Total"]
[1,{"$nulls":14},1]
[2,{"$nulls":14},2]
[3,{"$nulls":14},3]
[4,{"$nulls":14},4]
[5,{"$nulls":14},5]
[6,{"$nulls":14},6]
["Tot",{"$nulls":14},"Tot"]
[]
["Game  3",{"$nulls":14},"Game  4"]
["Go to rink ",{"$nulls":7},{"$f":"DRAWS!$I$76","v":"9 Left"},{"$nulls":6},"Go to rink ",{"$nulls":7},{"$f":"DRAWS!$J$76","v":"11 Left"}]
["End",null,"For",null,null,"Total",null,null,"Ag'nst",null,null,"Total",{"$nulls":3},"End",null,"For",null,null,"Total",null,null,"Ag'nst",null,null,"Total"]
[1,{"$nulls":14},1]
[2,{"$nulls":14},2]
[3,{"$nulls":14},3]
[4,{"$nulls":14},4]
[5,{"$nulls":14},5]
[6,{"$nulls":14},6]
["Tot",{"$nulls":14},"Tot"]
["Player no.",{"$nulls":6},{"$f":"DRAWS!$F$77","v":76},null,null,"Name"]
[]
[]
[]
["Game  1  ",{"$nulls":14},"Game  2"]
["Go to rink ",{"$nulls":7},{"$f":"DRAWS!$G$77","v":"10 Left"},{"$nulls":6},"Go to rink ",{"$nulls":7},{"$f":"DRAWS!$H$77","v":"11 Left"}]
["End",null,"For",null,null,"Total",null,null,"Ag'nst",null,null,"Total",{"$nulls":3},"End",null,"For",null,null,"Total",null,null,"Ag'nst",null,null,"Total"]
[1,{"$nulls":14},1]
[2,{"$nulls":14},2]
[3,{"$nulls":14},3]
[4,{"$nulls":14},4]
[5,{"$nulls":14},5]
[6,{"$nulls":14},6]
["Tot",{"$nulls":14},"Tot"]
[]
["Game  3",{"$nulls":14},"Game  4"]
["Go to rink ",{"$nulls":7},{"$f":"DRAWS!$I$77","v":"9 Right"},{"$nulls":6},"Go to rink ",{"$nulls":7},{"$f":"DRAWS!$J$77","v":"10 Right"}]
["End",null,"For",null,null,"Total",null,null,"Ag'nst",null,null,"Total",{"$nulls":3},"End",null,"For",null,null,"Total",null,null,"Ag'nst",null,null,"Total"]
[1,{"$nulls":14},1]
[2,{"$nulls":14},2]
[3,{"$nulls":14},3]
[4,{"$nulls":14},4]
[5,{"$nulls":14},5]
[6,{"$nulls":14},6]
["Tot",{"$nulls":14},"Tot"]
["Player no.",{"$nulls":6},{"$f":"DRAWS!$F$78","v":77},null,null,"Name"]
[]
[]
[]
["Game  1  ",{"$nulls":14},"Game  2"]
["Go to rink ",{"$nulls":7},{"$f":"DRAWS!$G$78","v":"11 Left"},{"$nulls":6},"Go to rink ",{"$nulls":7},{"$f":"DRAWS!$H$78","v":"10 Left"}]
["End",null,"For",null,null,"Total",null,null,"Ag'nst",null,null,"Total",{"$nulls":3},"End",null,"For",null,null,"Total",null,null,"Ag'nst",null,null,"Total"]
[1,{"$nulls":14},1]
[2,{"$nulls":14},2]
[3,{"$nulls":14},3]
[4,{"$nulls":14},4]
[5,{"$nulls":14},5]
[6,{"$nulls":14},6]
["Tot",{"$nulls":14},"Tot"]
[]
["Game  3",{"$nulls":14},"Game  4"]
["Go to rink ",{"$nulls":7},{"$f":"DRAWS!$I$78","v":"9 Right"},{"$nulls":6},"Go to rink ",{"$nulls":7},{"$f":"DRAWS!$J$78","v":"12 Right"}]
["End",null,"For",null,null,"Total",null,null,"Ag'nst",null,null,"Total",{"$nulls":3},"End",null,"For",null,null,"Total",null,null,"Ag'nst",null,null,"Total"]
[1,{"$nulls":14},1]
[2,{"$nulls":14},2]
[3,{"$nulls":14},3]
[4,{"$nulls":14},4]
[5,{"$nulls":14},5]
[6,{"$nulls":14},6]
["Tot",{"$nulls":14},"Tot"]
["Player no.",{"$nulls":6},{"$f":"DRAWS!$F$79","v":78},null,null,"Name"]
[]
[]
[]
["Game  1  ",{"$nulls":14},"Game  2"]
["Go to rink ",{"$nulls":7},{"$f":"DRAWS!$G$79","v":"12 Left"},{"$nulls":6},"Go to rink ",{"$nulls":7},{"$f":"DRAWS!$H$79","v":"9 Left"}]
["End",null,"For",null,null,"Total",null,null,"Ag'nst",null,null,"Total",{"$nulls":3},"End",null,"For",null,null,"Total",null,null,"Ag'nst",null,null,"Total"]
[1,{"$nulls":14},1]
[2,{"$nulls":14},2]
[3,{"$nulls":14},3]
[4,{"$nulls":14},4]
[5,{"$nulls":14},5]
[6,{"$nulls":14},6]
["Tot",{"$nulls":14},"Tot"]
[]
["Game  3",{"$nulls":14},"Game  4"]
["Go to rink ",{"$nulls":7},{"$f":"DRAWS!$I$79","v":"12 Right"},{"$nulls":6},"Go to rink ",{"$nulls":7},{"$f":"DRAWS!$J$79","v":"10 Left"}]
["End",null,"For",null,null,"Total",null,null,"Ag'nst",null,null,"Total",{"$nulls":3},"End",null,"For",null,null,"Total",null,null,"Ag'nst",null,null,"Total"]
[1,{"$nulls":14},1]
[2,{"$nulls":14},2]
[3,{"$nulls":14},3]
[4,{"$nulls":14},4]
[5,{"$nulls":14},5]
[6,{"$nulls":14},6]
["Tot",{"$nulls":14},"Tot"]
["Player no.",{"$nulls":6},{"$f":"DRAWS!$F$80","v":79},null,null,"Name"]
[]
[]
[]
["Game  1  ",{"$nulls":14},"Game  2"]
["Go to rink ",{"$nulls":7},{"$f":"DRAWS!$G$80","v":"9 Right"},{"$nulls":6},"Go to rink ",{"$nulls":7},{"$f":"DRAWS!$H$80","v":"10 Right"}]
["End",null,"For",null,null,"Total",null,null,"Ag'nst",null,null,"Total",{"$nulls":3},"End",null,"For",null,null,"Total",null,null,"Ag'nst",null,null,"Total"]
[1,{"$nulls":14},1]
[2,{"$nulls":14},2]
[3,{"$nulls":14},3]
[4,{"$nulls":14},4]
[5,{"$nulls":14},5]
[6,{"$nulls":14},6]
["Tot",{"$nulls":14},"Tot"]
[]
["Game  3",{"$nulls":14},"Game  4"]
["Go to rink ",{"$nulls":7},{"$f":"DRAWS!$I$80","v":"11 Right"},{"$nulls":6},"Go to rink ",{"$nulls":7},{"$f":"DRAWS!$J$80","v":"9 Right"}]
["End",null,"For",null,null,"Total",null,null,"Ag'nst",null,null,"Total",{"$nulls":3},"End",null,"For",null,null,"Total",null,null,"Ag'nst",null,null,"Total"]
[1,{"$nulls":14},1]
[2,{"$nulls":14},2]
[3,{"$nulls":14},3]
[4,{"$nulls":14},4]
[5,{"$nulls":14},5]
[6,{"$nulls":14},6]
["Tot",{"$nulls":14},"Tot"]
["Player no.",{"$nulls":6},{"$f":"DRAWS!$F$81","v":80},null,null,"Name"]
[]
[]
[]
["Game  1  ",{"$nulls":14},"Game  2"]
["Go to rink ",{"$nulls":7},{"$f":"DRAWS!$G$81","v":0},{"$nulls":6},"Go to rink ",{"$nulls":7},{"$f":"DRAWS!$H$81","v":0}]
["End",null,"For",null,null,"Total",null,null,"Ag'nst",null,null,"Total",{"$nulls":3},"End",null,"For",null,null,"Total",null,null,"Ag'nst",null,null,"Total"]
[1,{"$nulls":14},1]
[2,{"$nulls":14},2]
[3,{"$nulls":14},3]
[4,{"$nulls":14},4]
[5,{"$nulls":14},5]
[6,{"$nulls":14},6]
["Tot",{"$nulls":14},"Tot"]
[]
["Game  3",{"$nulls":14},"Game  4"]
["Go to rink ",{"$nulls":7},{"$f":"DRAWS!$I$81","v":0},{"$nulls":6},"Go to rink ",{"$nulls":7},{"$f":"DRAWS!$J$81","v":0}]
["End",null,"For",null,null,"Total",null,null,"Ag'nst",null,null,"Total",{"$nulls":3},"End",null,"For",null,null,"Total",null,null,"Ag'nst",null,null,"Total"]
[1,{"$nulls":14},1]
[2,{"$nulls":14},2]
[3,{"$nulls":14},3]
[4,{"$nulls":14},4]
[5,{"$nulls":14},5]
[6,{"$nulls":14},6]
["Tot",{"$nulls":14},"Tot"]
["Player no.",{"$nulls":6},{"$f":"DRAWS!$F$82","v":81},null,null,"Name"]
[]
[]
[]
["Game  1  ",{"$nulls":14},"Game  2"]
["Go to rink ",{"$nulls":7},{"$f":"DRAWS!$G$82","v":"2 Left"},{"$nulls":6},"Go to rink ",{"$nulls":7},{"$f":"DRAWS!$H$82","v":"3 Left"}]
["End",null,"For",null,null,"Total",null,null,"Ag'nst",null,null,"Total",{"$nulls":3},"End",null,"For",null,null,"Total",null,null,"Ag'nst",null,null,"Total"]
[1,{"$nulls":14},1]
[2,{"$nulls":14},2]
[3,{"$nulls":14},3]
[4,{"$nulls":14},4]
[5,{"$nulls":14},5]
[6,{"$nulls":14},6]
["Tot",{"$nulls":14},"Tot"]
[]
["Game  3",{"$nulls":14},"Game  4"]
["Go to rink ",{"$nulls":7},{"$f":"DRAWS!$I$82","v":"6 Left"},{"$nulls":6},"Go to rink ",{"$nulls":7},{"$f":"DRAWS!$J$82","v":"5 Right"}]
["End",null,"For",null,null,"Total",null,null,"Ag'nst",null,null,"Total",{"$nulls":3},"End",null,"For",null,null,"Total",null,null,"Ag'nst",null,null,"Total"]
[1,{"$nulls":14},1]
[2,{"$nulls":14},2]
[3,{"$nulls":14},3]
[4,{"$nulls":14},4]
[5,{"$nulls":14},5]
[6,{"$nulls":14},6]
["Tot",{"$nulls":14},"Tot"]
["Player no.",{"$nulls":6},{"$f":"DRAWS!$F$83","v":82},null,null,"Name"]
[]
[]
[]
["Game  1  ",{"$nulls":14},"Game  2"]
["Go to rink ",{"$nulls":7},{"$f":"DRAWS!$G$83","v":"2 Right"},{"$nulls":6},"Go to rink ",{"$nulls":7},{"$f":"DRAWS!$H$83","v":"4 Left"}]
["End",null,"For",null,null,"Total",null,null,"Ag'nst",null,null,"Total",{"$nulls":3},"End",null,"For",null,null,"Total",null,null,"Ag'nst",null,null,"Total"]
[1,{"$nulls":14},1]
[2,{"$nulls":14},2]
[3,{"$nulls":14},3]
[4,{"$nulls":14},4]
[5,{"$nulls":14},5]
[6,{"$nulls":14},6]
["Tot",{"$nulls":14},"Tot"]
[]
["Game  3",{"$nulls":14},"Game  4"]
["Go to rink ",{"$nulls":7},{"$f":"DRAWS!$I$83","v":"3 Left"},{"$nulls":6},"Go to rink ",{"$nulls":7},{"$f":"DRAWS!$J$83","v":"6 Left"}]
["End",null,"For",null,null,"Total",null,null,"Ag'nst",null,null,"Total",{"$nulls":3},"End",null,"For",null,null,"Total",null,null,"Ag'nst",null,null,"Total"]
[1,{"$nulls":14},1]
[2,{"$nulls":14},2]
[3,{"$nulls":14},3]
[4,{"$nulls":14},4]
[5,{"$nulls":14},5]
[6,{"$nulls":14},6]
["Tot",{"$nulls":14},"Tot"]
["Player no.",{"$nulls":6},{"$f":"DRAWS!$F$84","v":83},null,null,"Name"]
[]
[]
[]
["Game  1  ",{"$nulls":14},"Game  2"]
["Go to rink ",{"$nulls":7},{"$f":"DRAWS!$G$84","v":"3 Left"},{"$nulls":6},"Go to rink ",{"$nulls":7},{"$f":"DRAWS!$H$84","v":"5 Left"}]
["End",null,"For",null,null,"Total",null,null,"Ag'nst",null,null,"Total",{"$nulls":3},"End",null,"For",null,null,"Total",null,null,"Ag'nst",null,null,"Total"]
[1,{"$nulls":14},1]
[2,{"$nulls":14},2]
[3,{"$nulls":14},3]
[4,{"$nulls":14},4]
[5,{"$nulls":14},5]
[6,{"$nulls":14},6]
["Tot",{"$nulls":14},"Tot"]
[]
["Game  3",{"$nulls":14},"Game  4"]
["Go to rink ",{"$nulls":7},{"$f":"DRAWS!$I$84","v":"2 Left"},{"$nulls":6},"Go to rink ",{"$nulls":7},{"$f":"DRAWS!$J$84","v":"5 Left"}]
["End",null,"For",null,null,"Total",null,null,"Ag'nst",null,null,"Total",{"$nulls":3},"End",null,"For",null,null,"Total",null,null,"Ag'nst",null,null,"Total"]
[1,{"$nulls":14},1]
[2,{"$nulls":14},2]
[3,{"$nulls":14},3]
[4,{"$nulls":14},4]
[5,{"$nulls":14},5]
[6,{"$nulls":14},6]
["Tot",{"$nulls":14},"Tot"]
["Player no.",{"$nulls":6},{"$f":"DRAWS!$F$85","v":84},null,null,"Name"]
[]
[]
[]
["Game  1  ",{"$nulls":14},"Game  2"]
["Go to rink ",{"$nulls":7},{"$f":"DRAWS!$G$85","v":"3 Right"},{"$nulls":6},"Go to rink ",{"$nulls":7},{"$f":"DRAWS!$H$85","v":"6 Left"}]
["End",null,"For",null,null,"Total",null,null,"Ag'nst",null,null,"Total",{"$nulls":3},"End",null,"For",null,null,"Total",null,null,"Ag'nst",null,null,"Total"]
[1,{"$nulls":14},1]
[2,{"$nulls":14},2]
[3,{"$nulls":14},3]
[4,{"$nulls":14},4]
[5,{"$nulls":14},5]
[6,{"$nulls":14},6]
["Tot",{"$nulls":14},"Tot"]
[]
["Game  3",{"$nulls":14},"Game  4"]
["Go to rink ",{"$nulls":7},{"$f":"DRAWS!$I$85","v":"5 Left"},{"$nulls":6},"Go to rink ",{"$nulls":7},{"$f":"DRAWS!$J$85","v":"4 Left"}]
["End",null,"For",null,null,"Total",null,null,"Ag'nst",null,null,"Total",{"$nulls":3},"End",null,"For",null,null,"Total",null,null,"Ag'nst",null,null,"Total"]
[1,{"$nulls":14},1]
[2,{"$nulls":14},2]
[3,{"$nulls":14},3]
[4,{"$nulls":14},4]
[5,{"$nulls":14},5]
[6,{"$nulls":14},6]
["Tot",{"$nulls":14},"Tot"]