{"text_format":"3","workbook":"xlsx","n_sheets":8,"sheets":["Notes","Players","Sheet1","Sheet3","DRAW","Score Cards","Half Sheet","Sheet2"],"not_rendered":{"images":1,"macros":1,"defined_names":5},"read":"whole","date_system":"1900"}

{"sheet":"Notes","index":0,"n_rows":0,"n_cols":0,"rows_kept":0,"hidden":true}

{"sheet":"Players","index":1,"n_rows":50,"n_cols":5,"rows_kept":50}
["Entries","Lead","Second","Third","Skip"]
[]
[1,{"$nulls":3},"SURNAME Christian"]
[2]
[3]
[4]
[5]
[6]
[7]
[8]
[9]
[10]
[11]
[12]
[13]
[14]
[15]
[16]
[17]
[18]
[19]
[20]
[21]
[22]
[23]
[24]
[25]
[26]
[27]
[28]
[29]
[30]
[31]
[32]
[33]
[34]
[35]
[36]
[37]
[38]
[39]
[40]
[41]
[42]
[43]
[44]
[45]
[46]
[47]
[48]

{"sheet":"Sheet1","index":2,"n_rows":185,"n_cols":184,"rows_kept":185,"merged":[[0,8,0,52],[0,56,0,180],[1,8,1,52],[1,56,1,180],[2,8,2,11],[2,16,2,19],[2,24,2,27],[2,32,2,35],[2,40,2,43],[2,48,2,51],[2,56,2,59],[2,64,2,67],[2,72,2,75],[2,80,2,83],[2,88,2,91],[2,96,2,99],[2,104,2,107],[2,112,2,115],[2,120,2,123],[2,128,2,131],[2,136,2,139],[2,144,2,147],[2,152,2,155],[2,160,2,163],[2,168,2,171],[2,176,2,179],[3,3,4,6],[3,7,4,7],[3,8,3,12],[3,16,3,20],[3,24,3,28],[3,32,3,36],[3,40,3,44],[3,48,3,52],[3,56,3,60],[3,64,3,68],[3,72,3,76],[3,80,3,84],[3,88,3,92],[3,96,3,100],[3,104,3,108],[3,112,3,116],[3,120,3,124],[3,128,3,132],[3,136,3,140],[3,144,3,148],[3,152,3,156],[3,160,3,164],[3,168,3,172],[3,176,3,180]]}
[{"$nulls":8},"Tournament Name etc. Here.",{"$nulls":47},"Tournament Name etc. Here."]
[{"$nulls":8},"Other heading info",{"$nulls":47},"Other heading info"]
[{"$nulls":8},"Points for a win =",{"$nulls":3},{"v":2,"d":"2.0"},{"$nulls":3},"Points for draw=",{"$nulls":3},{"v":1,"d":"1.0"}]
[{"$nulls":3},"TOTALS",{"$nulls":3},"CLICK to SORT RANKINGS","ROUND 1",{"$nulls":7},"ROUND 2",{"$nulls":7},"ROUND 3",{"$nulls":7},"ROUND 4",{"$nulls":7},"ROUND 5",{"$nulls":7},"ROUND 6",{"$nulls":7},"ROUND 7",{"$nulls":7},"ROUND 8",{"$nulls":7},"ROUND 9",{"$nulls":7},"ROUND 10",{"$nulls":7},"ROUND 11",{"$nulls":7},"ROUND 12",{"$nulls":7},"ROUND 13",{"$nulls":7},"ROUND 14",{"$nulls":7},"ROUND 15",{"$nulls":7},"ROUND 16",{"$nulls":7},"ROUND 17",{"$nulls":7},"ROUND 18",{"$nulls":7},"ROUND 19",{"$nulls":7},"ROUND 20",{"$nulls":7},"ROUND 21",{"$nulls":7},"ROUND 22"]
[null,"CLICK to SORT TEAM No.",{"$nulls":8},{"$f":"SUM(K7:K14)-SUM(L7:L14)","v":0},{"$f":"SUM(L7:L14)-SUM(K7:K14)","v":0},{"$nulls":6},{"$f":"SUM(S7:S14)-SUM(T7:T14)","v":0},{"$f":"SUM(T7:T14)-SUM(S7:S14)","v":0},{"$nulls":6},{"$f":"SUM(AA7:AA14)-SUM(AB7:AB14)","v":0},{"$f":"SUM(AB7:AB14)-SUM(AA7:AA14)","v":0},{"$nulls":6},{"$f":"SUM(AI7:AI14)-SUM(AJ7:AJ14)","v":0},{"$f":"SUM(AJ7:AJ14)-SUM(AI7:AI14)","v":0},{"$nulls":6},{"$f":"SUM(AQ7:AQ14)-SUM(AR7:AR14)","v":0},{"$f":"SUM(AR7:AR14)-SUM(AQ7:AQ14)","v":0},{"$nulls":6},{"$f":"SUM(AY7:AY14)-SUM(AZ7:AZ14)","v":0},{"$f":"SUM(AZ7:AZ14)-SUM(AY7:AY14)","v":0},{"$nulls":6},{"$f":"SUM(BG7:BG14)-SUM(BH7:BH14)","v":0},{"$f":"SUM(BH7:BH14)-SUM(BG7:BG14)","v":0},{"$nulls":6},{"$f":"SUM(BO7:BO14)-SUM(BP7:BP14)","v":0},{"$f":"SUM(BP7:BP14)-SUM(BO7:BO14)","v":0},{"$nulls":6},{"$f":"SUM(BW7:BW14)-SUM(BX7:BX14)","v":0},{"$f":"SUM(BX7:BX14)-SUM(BW7:BW14)","v":0},{"$nulls":6},{"$f":"SUM(CE7:CE14)-SUM(CF7:CF14)","v":0},{"$f":"SUM(CF7:CF14)-SUM(CE7:CE14)","v":0},{"$nulls":6},{"$f":"SUM(CM7:CM14)-SUM(CN7:CN14)","v":0},{"$f":"SUM(CN7:CN14)-SUM(CM7:CM14)","v":0},{"$nulls":6},{"$f":"SUM(CU7:CU14)-SUM(CV7:CV14)","v":0},{"$f":"SUM(CV7:CV14)-SUM(CU7:CU14)","v":0},{"$nulls":6},{"$f":"SUM(DC7:DC14)-SUM(DD7:DD14)","v":0},{"$f":"SUM(DD7:DD14)-SUM(DC7:DC14)","v":0},{"$nulls":6},{"$f":"SUM(DK7:DK14)-SUM(DL7:DL14)","v":0},{"$f":"SUM(DL7:DL14)-SUM(DK7:DK14)","v":0},{"$nulls":6},{"$f":"SUM(DS7:DS14)-SUM(DT7:DT14)","v":0},{"$f":"SUM(DT7:DT14)-SUM(DS7:DS14)","v":0},{"$nulls":6},{"$f":"SUM(EA7:EA14)-SUM(EB7:EB14)","v":0},{"$f":"SUM(EB7:EB14)-SUM(EA7:EA14)","v":0},{"$nulls":6},{"$f":"SUM(EI7:EI14)-SUM(EJ7:EJ14)","v":0},{"$f":"SUM(EJ7:EJ14)-SUM(EI7:EI14)","v":0},{"$nulls":6},{"$f":"SUM(EQ7:EQ14)-SUM(ER7:ER14)","v":0},{"$f":"SUM(ER7:ER14)-SUM(EQ7:EQ14)","v":0},{"$nulls":6},{"$f":"SUM(EY7:EY14)-SUM(EZ7:EZ14)","v":0},{"$f":"SUM(EZ7:EZ14)-SUM(EY7:EY14)","v":0},{"$nulls":6},{"$f":"SUM(FG7:FG14)-SUM(FH7:FH14)","v":0},{"$f":"SUM(FH7:FH14)-SUM(FG7:FG14)","v":0},{"$nulls":6},{"$f":"SUM(FO7:FO14)-SUM(FP7:FP14)","v":0},{"$f":"SUM(FP7:FP14)-SUM(FO7:FO14)","v":0},{"$nulls":6},{"$f":"SUM(FW7:FW14)-SUM(FX7:FX14)","v":0},{"$f":"SUM(FX7:FX14)-SUM(FW7:FW14)","v":0}]
[null,"Team Number","Skips","Points","Margin","Shots against",null,"Ranking","V's","Rink","F","A","M'gin",{"$nulls":3},"V's","Rink","F","A","M'gin",{"$nulls":3},"V's","Rink","F","A","M'gin",{"$nulls":3},"V's","Rink","F","A","M'gin",{"$nulls":3},"V's","Rink","F","A","M'gin",{"$nulls":3},"V's","Rink","F","A","M'gin",{"$nulls":3},"V's","Rink","F","A","M'gin",{"$nulls":3},"V's","Rink","F","A","M'gin",{"$nulls":3},"V's","Rink","F","A","M'gin",{"$nulls":3},"V's","Rink","F","A","M'gin",{"$nulls":3},"V's","Rink","F","A","M'gin",{"$nulls":3},"V's","Rink","F","A","M'gin",{"$nulls":3},"V's","Rink","F","A","M'gin",{"$nulls":3},"V's","Rink","F","A","M'gin",{"$nulls":3},"V's","Rink","F","A","M'gin",{"$nulls":3},"V's","Rink","F","A","M'gin",{"$nulls":3},"V's","Rink","F","A","M'gin",{"$nulls":3},"V's","Rink","F","A","M'gin",{"$nulls":3},"V's","Rink","F","A","M'gin",{"$nulls":3},"V's","Rink","F","A","M'gin",{"$nulls":3},"V's","Rink","F","A","M'gin",{"$nulls":3},"V's","Rink","F","A","M'gin"]
[null,1,null,{"$f":"O7+W7+AE7+AM7+AU7+BC7+BK7+BS7+CA7+CI7+CQ7+CY7+DG7+DO7+DW7+EE7+EM7+EU7+FC7+FK7+FS7+GA7","v":0},{"$f":"N7+V7+AD7+AL7+AT7+BB7+BJ7+BR7+BZ7+CH7+CP7+CX7+DF7+DN7+DV7+ED7+EL7+ET7+FB7+FJ7+FR7+FZ7","v":0},{"$f":"L7+T7+AB7+AJ7+AR7+AZ7+BH7+BP7+BX7+CF7+CN7+CV7","v":0},{"$f":"(D7*1000000)+E7","v":0},{"$f":"IF($G$7:$G$14=0,\"\",RANK(G7,$G$7:$G$14))","v":""},2,1,null,null,{"$f":"IF(P7=\"D\",\"D\",IF(P7=\"W\",N7,IF(P7=\"L\",N7,0)))","v":0},{"$f":"IF(K7+L7=0,0,IF(K7+L7>0.1,K7-L7,0))","v":0},{"$f":"IF(P7=\"W\",$M$3,IF(P7=\"D\",$U$3,0))","v":{"v":0,"d":"0.0"}},{"$f":"IF(K7>L7,\"W\",IF(K7<L7,\"L\",IF(K7+L7=0,\"\",IF(K7=L7,\"D\",0))))","v":""},3,3,null,null,{"$f":"IF(X7=\"D\",\"D\",IF(X7=\"W\",V7,IF(X7=\"L\",V7,0)))","v":0},{"$f":"IF(S7+T7=0,0,IF(S7+T7>0.1,S7-T7,0))","v":0},{"$f":"IF(X7=\"W\",$M$3,IF(X7=\"D\",$U$3,0))","v":{"v":0,"d":"0.0"}},{"$f":"IF(S7>T7,\"W\",IF(S7<T7,\"L\",IF(S7+T7=0,\"\",IF(S7=T7,\"D\",0))))","v":""},4,2,null,null,{"$f":"IF(AF7=\"D\",\"D\",IF(AF7=\"W\",AD7,IF(AF7=\"L\",AD7,0)))","v":0},{"$f":"IF(AA7+AB7=0,0,IF(AA7+AB7>0.1,AA7-AB7,0))","v":0},{"$f":"IF(AF7=\"W\",$M$3,IF(AF7=\"D\",$U$3,0))","v":{"v":0,"d":"0.0"}},{"$f":"IF(AA7>AB7,\"W\",IF(AA7<AB7,\"L\",IF(AA7+AB7=0,\"\",IF(AA7=AB7,\"D\",0))))","v":""},6,4,null,null,{"$f":"IF(AN7=\"D\",\"D\",IF(AN7=\"W\",AL7,IF(AN7=\"L\",AL7,0)))","v":0},{"$f":"IF(AI7+AJ7=0,0,IF(AI7+AJ7>0.1,AI7-AJ7,0))","v":0},{"$f":"IF(AN7=\"W\",$M$3,IF(AN7=\"D\",$U$3,0))","v":{"v":0,"d":"0.0"}},{"$f":"IF(AI7>AJ7,\"W\",IF(AI7<AJ7,\"L\",IF(AI7+AJ7=0,\"\",IF(AI7=AJ7,\"D\",0))))","v":""},5,6,null,null,{"$f":"IF(AV7=\"D\",\"D\",IF(AV7=\"W\",AT7,IF(AV7=\"L\",AT7,0)))","v":0},{"$f":"IF(AQ7+AR7=0,0,IF(AQ7+AR7>0.1,AQ7-AR7,0))","v":0},{"$f":"IF(AV7=\"W\",$M$3,IF(AV7=\"D\",$U$3,0))","v":{"v":0,"d":"0.0"}},{"$f":"IF(AQ7>AR7,\"W\",IF(AQ7<AR7,\"L\",IF(AQ7+AR7=0,\"\",IF(AQ7=AR7,\"D\",0))))","v":""},7,1,null,null,{"$f":"IF(BD7=\"D\",\"D\",IF(BD7=\"W\",BB7,IF(BD7=\"L\",BB7,0)))","v":0},{"$f":"IF(AY7+AZ7=0,0,IF(AY7+AZ7>0.1,AY7-AZ7,0))","v":0},{"$f":"IF(BD7=\"W\",$M$3,IF(BD7=\"D\",$U$3,0))","v":{"v":0,"d":"0.0"}},{"$f":"IF(AY7>AZ7,\"W\",IF(AY7<AZ7,\"L\",IF(AY7+AZ7=0,\"\",IF(AY7=AZ7,\"D\",0))))","v":""},8,5,null,null,{"$f":"IF(BL7=\"D\",\"D\",IF(BL7=\"W\",BJ7,IF(BL7=\"L\",BJ7,0)))","v":0},{"$f":"IF(BG7+BH7=0,0,IF(BG7+BH7>0.1,BG7-BH7,0))","v":0},{"$f":"IF(BL7=\"W\",$M$3,IF(BL7=\"D\",$U$3,0))","v":{"v":0,"d":"0.0"}},{"$f":"IF(BG7>BH7,\"W\",IF(BG7<BH7,\"L\",IF(BG7+BH7=0,\"\",IF(BG7=BH7,\"D\",0))))","v":""},2,1,null,null,{"$f":"IF(BT7=\"D\",\"D\",IF(BT7=\"W\",BR7,IF(BT7=\"L\",BR7,0)))","v":0},{"$f":"IF(BO7+BP7=0,0,IF(BO7+BP7>0.1,BO7-BP7,0))","v":0},{"$f":"IF(BT7=\"W\",$M$3,IF(BT7=\"D\",$U$3,0))","v":{"v":0,"d":"0.0"}},{"$f":"IF(BO7>BP7,\"W\",IF(BO7<BP7,\"L\",IF(BO7+BP7=0,\"\",IF(BO7=BP7,\"D\",0))))","v":""},3,3,null,null,{"$f":"IF(CB7=\"D\",\"D\",IF(CB7=\"W\",BZ7,IF(CB7=\"L\",BZ7,0)))","v":0},{"$f":"IF(BW7+BX7=0,0,IF(BW7+BX7>0.1,BW7-BX7,0))","v":0},{"$f":"IF(CB7=\"W\",$M$3,IF(CB7=\"D\",$U$3,0))","v":{"v":0,"d":"0.0"}},{"$f":"IF(BW7>BX7,\"W\",IF(BW7<BX7,\"L\",IF(BW7+BX7=0,\"\",IF(BW7=BX7,\"D\",0))))","v":""},4,2,null,null,{"$f":"IF(CJ7=\"D\",\"D\",IF(CJ7=\"W\",CH7,IF(CJ7=\"L\",CH7,0)))","v":0},{"$f":"IF(CE7+CF7=0,0,IF(CE7+CF7>0.1,CE7-CF7,0))","v":0},{"$f":"IF(CJ7=\"W\",$M$3,IF(CJ7=\"D\",$U$3,0))","v":{"v":0,"d":"0.0"}},{"$f":"IF(CE7>CF7,\"W\",IF(CE7<CF7,\"L\",IF(CE7+CF7=0,\"\",IF(CE7=CF7,\"D\",0))))","v":""},6,4,null,null,{"$f":"IF(CR7=\"D\",\"D\",IF(CR7=\"W\",CP7,IF(CR7=\"L\",CP7,0)))","v":0},{"$f":"IF(CM7+CN7=0,0,IF(CM7+CN7>0.1,CM7-CN7,0))","v":0},{"$f":"IF(CR7=\"W\",$M$3,IF(CR7=\"D\",$U$3,0))","v":{"v":0,"d":"0.0"}},{"$f":"IF(CM7>CN7,\"W\",IF(CM7<CN7,\"L\",IF(CM7+CN7=0,\"\",IF(CM7=CN7,\"D\",0))))","v":""},5,6,null,null,{"$f":"IF(CZ7=\"D\",\"D\",IF(CZ7=\"W\",CX7,IF(CZ7=\"L\",CX7,0)))","v":0},{"$f":"IF(CU7+CV7=0,0,IF(CU7+CV7>0.1,CU7-CV7,0))","v":0},{"$f":"IF(CZ7=\"W\",$M$3,IF(CZ7=\"D\",$U$3,0))","v":{"v":0,"d":"0.0"}},{"$f":"IF(CU7>CV7,\"W\",IF(CU7<CV7,\"L\",IF(CU7+CV7=0,\"\",IF(CU7=CV7,\"D\",0))))","v":""},7,1,null,null,{"$f":"IF(DH7=\"D\",\"D\",IF(DH7=\"W\",DF7,IF(DH7=\"L\",DF7,0)))","v":0},{"$f":"IF(DC7+DD7=0,0,IF(DC7+DD7>0.1,DC7-DD7,0))","v":0},{"$f":"IF(DH7=\"W\",$M$3,IF(DH7=\"D\",$U$3,0))","v":{"v":0,"d":"0.0"}},{"$f":"IF(DC7>DD7,\"W\",IF(DC7<DD7,\"L\",IF(DC7+DD7=0,\"\",IF(DC7=DD7,\"D\",0))))","v":""},8,5,null,null,{"$f":"IF(DP7=\"D\",\"D\",IF(DP7=\"W\",DN7,IF(DP7=\"L\",DN7,0)))","v":0},{"$f":"IF(DK7+DL7=0,0,IF(DK7+DL7>0.1,DK7-DL7,0))","v":0},{"$f":"IF(DP7=\"W\",$M$3,IF(DP7=\"D\",$U$3,0))","v":{"v":0,"d":"0.0"}},{"$f":"IF(DK7>DL7,\"W\",IF(DK7<DL7,\"L\",IF(DK7+DL7=0,\"\",IF(DK7=DL7,\"D\",0))))","v":""},5,6,null,null,{"$f":"IF(DX7=\"D\",\"D\",IF(DX7=\"W\",DV7,IF(DX7=\"L\",DV7,0)))","v":0},{"$f":"IF(DS7+DT7=0,0,IF(DS7+DT7>0.1,DS7-DT7,0))","v":0},{"$f":"IF(DX7=\"W\",$M$3,IF(DX7=\"D\",$U$3,0))","v":{"v":0,"d":"0.0"}},{"$f":"IF(DS7>DT7,\"W\",IF(DS7<DT7,\"L\",IF(DS7+DT7=0,\"\",IF(DS7=DT7,\"D\",0))))","v":""},8,3,null,null,{"$f":"IF(EF7=\"D\",\"D\",IF(EF7=\"W\",ED7,IF(EF7=\"L\",ED7,0)))","v":0},{"$f":"IF(EA7+EB7=0,0,IF(EA7+EB7>0.1,EA7-EB7,0))","v":0},{"$f":"IF(EF7=\"W\",$M$3,IF(EF7=\"D\",$U$3,0))","v":{"v":0,"d":"0.0"}},{"$f":"IF(EA7>EB7,\"W\",IF(EA7<EB7,\"L\",IF(EA7+EB7=0,\"\",IF(EA7=EB7,\"D\",0))))","v":""},11,4,null,null,{"$f":"IF(EN7=\"D\",\"D\",IF(EN7=\"W\",EL7,IF(EN7=\"L\",EL7,0)))","v":0},{"$f":"IF(EI7+EJ7=0,0,IF(EI7+EJ7>0.1,EI7-EJ7,0))","v":0},{"$f":"IF(EN7=\"W\",$M$3,IF(EN7=\"D\",$U$3,0))","v":{"v":0,"d":"0.0"}},{"$f":"IF(EI7>EJ7,\"W\",IF(EI7<EJ7,\"L\",IF(EI7+EJ7=0,\"\",IF(EI7=EJ7,\"D\",0))))","v":""},10,6,null,null,{"$f":"IF(EV7=\"D\",\"D\",IF(EV7=\"W\",ET7,IF(EV7=\"L\",ET7,0)))","v":0},{"$f":"IF(EQ7+ER7=0,0,IF(EQ7+ER7>0.1,EQ7-ER7,0))","v":0},{"$f":"IF(EV7=\"W\",$M$3,IF(EV7=\"D\",$U$3,0))","v":{"v":0,"d":"0.0"}},{"$f":"IF(EQ7>ER7,\"W\",IF(EQ7<ER7,\"L\",IF(EQ7+ER7=0,\"\",IF(EQ7=ER7,\"D\",0))))","v":""},9,3,null,null,{"$f":"IF(FD7=\"D\",\"D\",IF(FD7=\"W\",FB7,IF(FD7=\"L\",FB7,0)))","v":0},{"$f":"IF(EY7+EZ7=0,0,IF(EY7+EZ7>0.1,EY7-EZ7,0))","v":0},{"$f":"IF(FD7=\"W\",$M$3,IF(FD7=\"D\",$U$3,0))","v":{"v":0,"d":"0.0"}},{"$f":"IF(EY7>EZ7,\"W\",IF(EY7<EZ7,\"L\",IF(EY7+EZ7=0,\"\",IF(EY7=EZ7,\"D\",0))))","v":""},6,2,null,null,{"$f":"IF(FL7=\"D\",\"D\",IF(FL7=\"W\",FJ7,IF(FL7=\"L\",FJ7,0)))","v":0},{"$f":"IF(FG7+FH7=0,0,IF(FG7+FH7>0.1,FG7-FH7,0))","v":0},{"$f":"IF(FL7=\"W\",$M$3,IF(FL7=\"D\",$U$3,0))","v":{"v":0,"d":"0.0"}},{"$f":"IF(FG7>FH7,\"W\",IF(FG7<FH7,\"L\",IF(FG7+FH7=0,\"\",IF(FG7=FH7,\"D\",0))))","v":""},"BYE",{"$nulls":3},{"$f":"IF(FT7=\"D\",\"D\",IF(FT7=\"W\",FR7,IF(FT7=\"L\",FR7,0)))","v":0},{"$f":"IF(FO7+FP7=0,0,IF(FO7+FP7>0.1,FO7-FP7,0))","v":0},{"$f":"IF(FT7=\"W\",$M$3,IF(FT7=\"D\",$U$3,0))","v":{"v":0,"d":"0.0"}},{"$f":"IF(FO7>FP7,\"W\",IF(FO7<FP7,\"L\",IF(FO7+FP7=0,\"\",IF(FO7=FP7,\"D\",0))))","v":""},7,3,null,null,{"$f":"IF(GB7=\"D\",\"D\",IF(GB7=\"W\",FZ7,IF(GB7=\"L\",FZ7,0)))","v":0},{"$f":"IF(FW7+FX7=0,0,IF(FW7+FX7>0.1,FW7-FX7,0))","v":0},{"$f":"IF(GB7=\"W\",$M$3,IF(GB7=\"D\",$U$3,0))","v":{"v":0,"d":"0.0"}},{"$f":"IF(FW7>FX7,\"W\",IF(FW7<FX7,\"L\",IF(FW7+FX7=0,\"\",IF(FW7=FX7,\"D\",0))))","v":""}]
[null,2,null,0,0,0,0,"",1,1,null,null,0,0,{"v":0,"d":"0.0"},"",4,4,null,null,0,0,{"v":0,"d":"0.0"},"",6,3,null,null,0,0,{"v":0,"d":"0.0"},"",3,6,null,null,0,0,{"v":0,"d":"0.0"},"",8,2,null,null,0,0,{"v":0,"d":"0.0"},"",5,5,null,null,0,0,{"v":0,"d":"0.0"},"",7,4,null,null,0,0,{"v":0,"d":"0.0"},"",1,1,null,null,0,0,{"v":0,"d":"0.0"},"",4,4,null,null,0,0,{"v":0,"d":"0.0"},"",6,3,null,null,0,0,{"v":0,"d":"0.0"},"",3,6,null,null,0,0,{"v":0,"d":"0.0"},"",8,2,null,null,0,0,{"v":0,"d":"0.0"},"",5,5,null,null,0,0,{"v":0,"d":"0.0"},"",7,4,null,null,0,0,{"v":0,"d":"0.0"},"",8,2,null,null,0,0,{"v":0,"d":"0.0"},"",3,4,null,null,0,0,{"v":0,"d":"0.0"},"",9,1,null,null,0,0,{"v":0,"d":"0.0"},"",7,3,null,null,0,0,{"v":0,"d":"0.0"},"",5,5,null,null,0,0,{"v":0,"d":"0.0"},"",10,3,null,null,0,0,{"v":0,"d":"0.0"},"",11,6,null,null,0,0,{"v":0,"d":"0.0"},"","BYE",{"$nulls":3},0,0,{"v":0,"d":"0.0"},""]
[null,3,null,0,0,0,0,"",8,2,null,null,0,0,{"v":0,"d":"0.0"},"",1,3,null,null,0,0,{"v":0,"d":"0.0"},"",5,5,null,null,0,0,{"v":0,"d":"0.0"},"",2,6,null,null,0,0,{"v":0,"d":"0.0"},"",7,5,null,null,0,0,{"v":0,"d":"0.0"},"",4,6,null,null,0,0,{"v":0,"d":"0.0"},"",6,1,null,null,0,0,{"v":0,"d":"0.0"},"",8,2,null,null,0,0,{"v":0,"d":"0.0"},"",1,3,null,null,0,0,{"v":0,"d":"0.0"},"",5,5,null,null,0,0,{"v":0,"d":"0.0"},"",2,6,null,null,0,0,{"v":0,"d":"0.0"},"",7,5,null,null,0,0,{"v":0,"d":"0.0"},"",4,6,null,null,0,0,{"v":0,"d":"0.0"},"",6,1,null,null,0,0,{"v":0,"d":"0.0"},"",7,1,null,null,0,0,{"v":0,"d":"0.0"},"",2,4,null,null,0,0,{"v":0,"d":"0.0"},"",8,6,null,null,0,0,{"v":0,"d":"0.0"},"",6,5,null,null,0,0,{"v":0,"d":"0.0"},"",4,4,null,null,0,0,{"v":0,"d":"0.0"},"",9,1,null,null,0,0,{"v":0,"d":"0.0"},"",10,4,null,null,0,0,{"v":0,"d":"0.0"},"",11,2,null,null,0,0,{"v":0,"d":"0.0"},""]
[null,4,null,0,0,0,0,"",7,3,null,null,0,0,{"v":0,"d":"0.0"},"",2,4,null,null,0,0,{"v":0,"d":"0.0"},"",1,2,null,null,0,0,{"v":0,"d":"0.0"},"",8,5,null,null,0,0,{"v":0,"d":"0.0"},"",6,1,null,null,0,0,{"v":0,"d":"0.0"},"",3,6,null,null,0,0,{"v":0,"d":"0.0"},"",5,2,null,null,0,0,{"v":0,"d":"0.0"},"",7,3,null,null,0,0,{"v":0,"d":"0.0"},"",2,4,null,null,0,0,{"v":0,"d":"0.0"},"",1,2,null,null,0,0,{"v":0,"d":"0.0"},"",8,5,null,null,0,0,{"v":0,"d":"0.0"},"",6,1,null,null,0,0,{"v":0,"d":"0.0"},"",3,6,null,null,0,0,{"v":0,"d":"0.0"},"",5,2,null,null,0,0,{"v":0,"d":"0.0"},"",6,3,null,null,0,0,{"v":0,"d":"0.0"},"","BYE",{"$nulls":3},0,0,{"v":0,"d":"0.0"},"",7,5,null,null,0,0,{"v":0,"d":"0.0"},"",5,1,null,null,0,0,{"v":0,"d":"0.0"},"",3,4,null,null,0,0,{"v":0,"d":"0.0"},"",8,6,null,null,0,0,{"v":0,"d":"0.0"},"",9,2,null,null,0,0,{"v":0,"d":"0.0"},"",10,1,null,null,0,0,{"v":0,"d":"0.0"},""]
[null,5,null,0,0,0,0,"",6,4,null,null,0,0,{"v":0,"d":"0.0"},"",8,1,null,null,0,0,{"v":0,"d":"0.0"},"",3,5,null,null,0,0,{"v":0,"d":"0.0"},"",7,3,null,null,0,0,{"v":0,"d":"0.0"},"",1,6,null,null,0,0,{"v":0,"d":"0.0"},"",2,5,null,null,0,0,{"v":0,"d":"0.0"},"",4,2,null,null,0,0,{"v":0,"d":"0.0"},"",6,4,null,null,0,0,{"v":0,"d":"0.0"},"",8,1,null,null,0,0,{"v":0,"d":"0.0"},"",3,5,null,null,0,0,{"v":0,"d":"0.0"},"",7,3,null,null,0,0,{"v":0,"d":"0.0"},"",1,6,null,null,0,0,{"v":0,"d":"0.0"},"",2,5,null,null,0,0,{"v":0,"d":"0.0"},"",4,2,null,null,0,0,{"v":0,"d":"0.0"},"",1,6,null,null,0,0,{"v":0,"d":"0.0"},"",11,5,null,null,0,0,{"v":0,"d":"0.0"},"",6,2,null,null,0,0,{"v":0,"d":"0.0"},"",4,1,null,null,0,0,{"v":0,"d":"0.0"},"",2,5,null,null,0,0,{"v":0,"d":"0.0"},"",7,4,null,null,0,0,{"v":0,"d":"0.0"},"",8,3,null,null,0,0,{"v":0,"d":"0.0"},"",9,6,null,null,0,0,{"v":0,"d":"0.0"},""]
[null,6,null,0,0,0,0,"",5,4,null,null,0,0,{"v":0,"d":"0.0"},"",7,2,null,null,0,0,{"v":0,"d":"0.0"},"",2,3,null,null,0,0,{"v":0,"d":"0.0"},"",1,4,null,null,0,0,{"v":0,"d":"0.0"},"",4,1,null,null,0,0,{"v":0,"d":"0.0"},"",8,3,null,null,0,0,{"v":0,"d":"0.0"},"",3,1,null,null,0,0,{"v":0,"d":"0.0"},"",5,4,null,null,0,0,{"v":0,"d":"0.0"},"",7,2,null,null,0,0,{"v":0,"d":"0.0"},"",2,3,null,null,0,0,{"v":0,"d":"0.0"},"",1,4,null,null,0,0,{"v":0,"d":"0.0"},"",4,1,null,null,0,0,{"v":0,"d":"0.0"},"",8,3,null,null,0,0,{"v":0,"d":"0.0"},"",3,1,null,null,0,0,{"v":0,"d":"0.0"},"",4,3,null,null,0,0,{"v":0,"d":"0.0"},"",10,1,null,null,0,0,{"v":0,"d":"0.0"},"",5,2,null,null,0,0,{"v":0,"d":"0.0"},"",3,5,null,null,0,0,{"v":0,"d":"0.0"},"","BYE",{"$nulls":3},0,0,{"v":0,"d":"0.0"},"",1,2,null,null,0,0,{"v":0,"d":"0.0"},"",7,5,null,null,0,0,{"v":0,"d":"0.0"},"",8,4,null,null,0,0,{"v":0,"d":"0.0"},""]
[null,7,null,0,0,0,0,"",4,3,null,null,0,0,{"v":0,"d":"0.0"},"",6,2,null,null,0,0,{"v":0,"d":"0.0"},"",8,4,null,null,0,0,{"v":0,"d":"0.0"},"",5,3,null,null,0,0,{"v":0,"d":"0.0"},"",3,5,null,null,0,0,{"v":0,"d":"0.0"},"",1,1,null,null,0,0,{"v":0,"d":"0.0"},"",2,4,null,null,0,0,{"v":0,"d":"0.0"},"",4,3,null,null,0,0,{"v":0,"d":"0.0"},"",6,2,null,null,0,0,{"v":0,"d":"0.0"},"",8,4,null,null,0,0,{"v":0,"d":"0.0"},"",5,3,null,null,0,0,{"v":0,"d":"0.0"},"",3,5,null,null,0,0,{"v":0,"d":"0.0"},"",1,1,null,null,0,0,{"v":0,"d":"0.0"},"",2,4,null,null,0,0,{"v":0,"d":"0.0"},"",3,1,null,null,0,0,{"v":0,"d":"0.0"},"",9,2,null,null,0,0,{"v":0,"d":"0.0"},"",4,5,null,null,0,0,{"v":0,"d":"0.0"},"",2,3,null,null,0,0,{"v":0,"d":"0.0"},"",11,1,null,null,0,0,{"v":0,"d":"0.0"},"",5,4,null,null,0,0,{"v":0,"d":"0.0"},"",6,5,null,null,0,0,{"v":0,"d":"0.0"},"",1,3,null,null,0,0,{"v":0,"d":"0.0"},""]
[null,8,null,0,0,0,0,"",3,2,null,null,0,0,{"v":0,"d":"0.0"},"",5,1,null,null,0,0,{"v":0,"d":"0.0"},"",7,4,null,null,0,0,{"v":0,"d":"0.0"},"",4,5,null,null,0,0,{"v":0,"d":"0.0"},"",2,2,null,null,0,0,{"v":0,"d":"0.0"},"",6,3,null,null,0,0,{"v":0,"d":"0.0"},"",1,5,null,null,0,0,{"v":0,"d":"0.0"},"",3,2,null,null,0,0,{"v":0,"d":"0.0"},"",5,1,null,null,0,0,{"v":0,"d":"0.0"},"",7,4,null,null,0,0,{"v":0,"d":"0.0"},"",4,5,null,null,0,0,{"v":0,"d":"0.0"},"",2,2,null,null,0,0,{"v":0,"d":"0.0"},"",6,3,null,null,0,0,{"v":0,"d":"0.0"},"",1,5,null,null,0,0,{"v":0,"d":"0.0"},"",2,2,null,null,0,0,{"v":0,"d":"0.0"},"",1,3,null,null,0,0,{"v":0,"d":"0.0"},"",3,6,null,null,0,0,{"v":0,"d":"0.0"},"","BYE",{"$nulls":3},0,0,{"v":0,"d":"0.0"},"",10,2,null,null,0,0,{"v":0,"d":"0.0"},"",4,6,null,null,0,0,{"v":0,"d":"0.0"},"",5,3,null,null,0,0,{"v":0,"d":"0.0"},"",6,4,null,null,0,0,{"v":0,"d":"0.0"},""]
[{"$nulls":10},"C3",{"$nulls":7},"B3",{"$nulls":5},{"v":4,"d":"4.0"},null,"A3",{"$nulls":7},"C3",{"$nulls":5},{"v":4,"d":"4.0"},null,"B3",{"$nulls":7},"A3",{"$nulls":7},"C3",{"$nulls":7},"B3",{"$nulls":7},"A3",{"$nulls":7},"C3",{"$nulls":5},{"v":2,"d":"2.0"},{"v":5,"d":"5.0"},"B3",{"$nulls":5},{"v":3,"d":"3.0"},{"v":2,"d":"2.0"},{"$nulls":6},{"v":5,"d":"5.0"},{"v":1,"d":"1.0"},{"$nulls":6},{"v":7,"d":"7.0"},{"v":4,"d":"4.0"},{"$nulls":6},{"v":9,"d":"9.0"},{"v":5,"d":"5.0"},{"$nulls":6},{"v":4,"d":"4.0"},{"v":6,"d":"6.0"},{"$nulls":6},{"v":10,"d":"10.0"},{"v":3,"d":"3.0"},{"$nulls":6},{"v":8,"d":"8.0"},{"v":4,"d":"4.0"},{"$nulls":6},{"v":6,"d":"6.0"},{"v":6,"d":"6.0"},{"$nulls":6},{"v":11,"d":"11.0"},{"v":5,"d":"5.0"},{"$nulls":6},{"v":1,"d":"1.0"},{"v":1,"d":"1.0"},{"$nulls":6},{"v":2,"d":"2.0"},{"v":5,"d":"5.0"}]
[{"$nulls":10},"C6",{"$nulls":7},"B6",{"$nulls":5},{"v":6,"d":"6.0"},null,"A6",{"$nulls":7},"C6",{"$nulls":5},{"v":6,"d":"6.0"},null,"B6",{"$nulls":7},"A6",{"$nulls":7},"C6",{"$nulls":7},"B6",{"$nulls":7},"A6",{"$nulls":7},"C6",{"$nulls":7},"B6"]
[{"$nulls":10},"C6",{"$nulls":7},"B6",{"$nulls":5},{"v":8,"d":"8.0"},null,"A6",{"$nulls":7},"C6",{"$nulls":5},{"v":8,"d":"8.0"},null,"B6",{"$nulls":7},"A6",{"$nulls":7},"C6",{"$nulls":7},"B6",{"$nulls":7},"A6",{"$nulls":7},"C6",{"$nulls":7},"B6"]
[{"$nulls":10},"C2",{"$nulls":7},"B2",{"$nulls":5},{"v":10,"d":"10.0"},null,"A2",{"$nulls":7},"C2",{"$nulls":5},{"v":10,"d":"10.0"},null,"B2",{"$nulls":7},"A2",{"$nulls":7},"C2",{"$nulls":7},"B2",{"$nulls":7},"A2",{"$nulls":7},"C2",{"$nulls":7},"B2"]
[{"$nulls":10},"C2",{"$nulls":7},"B2",{"$nulls":5},{"v":11,"d":"11.0"},null,"A2",{"$nulls":7},"C2",{"$nulls":5},{"v":11,"d":"11.0"},null,"B2",{"$nulls":7},"A2",{"$nulls":7},"C2",{"$nulls":7},"B2",{"$nulls":7},"A2",{"$nulls":7},"C2",{"$nulls":7},"B2"]
[{"$nulls":10},"C7",{"$nulls":7},"B7",{"$nulls":7},"A7",{"$nulls":7},"C7",{"$nulls":7},"B7",{"$nulls":7},"A7",{"$nulls":7},"C7",{"$nulls":7},"B7",{"$nulls":7},"A7",{"$nulls":7},"C7",{"$nulls":7},"B7"]
[{"$nulls":10},"C7",{"$nulls":7},"B7",{"$nulls":7},"A7",{"$nulls":7},"C7",{"$nulls":7},"B7",{"$nulls":7},"A7",{"$nulls":7},"C7",{"$nulls":7},"B7",{"$nulls":7},"A7",{"$nulls":7},"C7",{"$nulls":7},"B7"]
[{"$nulls":10},"C1",{"$nulls":7},"B1",{"$nulls":7},"A1",{"$nulls":7},"C1",{"$nulls":7},"B1",{"$nulls":7},"A1",{"$nulls":7},"C1",{"$nulls":7},"B1",{"$nulls":7},"A1",{"$nulls":7},"C1",{"$nulls":7},"B1"]
[{"$nulls":10},"C1",{"$nulls":7},"B1",{"$nulls":7},"A1",{"$nulls":7},"C1",{"$nulls":7},"B1",{"$nulls":7},"A1",{"$nulls":7},"C1",{"$nulls":7},"B1",{"$nulls":7},"A1",{"$nulls":7},"C1",{"$nulls":7},"B1"]
[{"$nulls":10},"A4",{"$nulls":7},"C4",{"$nulls":7},"B4",{"$nulls":7},"A4",{"$nulls":7},"C4",{"$nulls":7},"B4",{"$nulls":7},"A4",{"$nulls":7},"C4",{"$nulls":7},"B4",{"$nulls":7},"A4",{"$nulls":7},"C4"]
[{"$nulls":10},"A4",{"$nulls":7},"C4",{"$nulls":7},"B4",{"$nulls":7},"A4",{"$nulls":7},"C4",{"$nulls":7},"B4",{"$nulls":7},"A4",{"$nulls":7},"C4",{"$nulls":7},"B4",{"$nulls":7},"A4",{"$nulls":7},"C4"]
[{"$nulls":10},"A5",{"$nulls":7},"C5",{"$nulls":7},"B5",{"$nulls":7},"A5",{"$nulls":7},"C5",{"$nulls":7},"B5",{"$nulls":7},"A5",{"$nulls":7},"C5",{"$nulls":7},"B5",{"$nulls":7},"A5",{"$nulls":7},"C5"]
[{"$nulls":10},"A5",{"$nulls":7},"C5",{"$nulls":7},"B5",{"$nulls":7},"A5",{"$nulls":7},"C5",{"$nulls":7},"B5",{"$nulls":7},"A5",{"$nulls":7},"C5",{"$nulls":7},"B5",{"$nulls":7},"A5",{"$nulls":7},"C5"]
[{"$nulls":10},"A3",{"$nulls":7},"C3",{"$nulls":7},"B3",{"$nulls":7},"A3",{"$nulls":7},"C3",{"$nulls":7},"B3",{"$nulls":7},"A3",{"$nulls":7},"C3",{"$nulls":7},"B3",{"$nulls":7},"A3",{"$nulls":7},"C3"]
[{"$nulls":10},"A3",{"$nulls":7},"C3",{"$nulls":7},"B3",{"$nulls":7},"A3",{"$nulls":7},"C3",{"$nulls":7},"B3",{"$nulls":7},"A3",{"$nulls":7},"C3",{"$nulls":7},"B3",{"$nulls":7},"A3",{"$nulls":7},"C3"]
[{"$nulls":10},"A6",{"$nulls":7},"C6",{"$nulls":7},"B6",{"$nulls":7},"A6",{"$nulls":7},"C6",{"$nulls":7},"B6",{"$nulls":7},"A6",{"$nulls":7},"C6",{"$nulls":7},"B6",{"$nulls":7},"A6",{"$nulls":7},"C6"]
[{"$nulls":10},"A6",{"$nulls":7},"C6",{"$nulls":7},"B6",{"$nulls":7},"A6",{"$nulls":7},"C6",{"$nulls":7},"B6",{"$nulls":7},"A6",{"$nulls":7},"C6",{"$nulls":7},"B6",{"$nulls":7},"A6",{"$nulls":7},"C6"]
[{"$nulls":10},"A2",{"$nulls":7},"C2",{"$nulls":7},"B2",{"$nulls":7},"A2",{"$nulls":7},"C2",{"$nulls":7},"B2",{"$nulls":7},"A2",{"$nulls":7},"C2",{"$nulls":7},"B2",{"$nulls":7},"A2",{"$nulls":7},"C2"]
[{"$nulls":10},"A2",{"$nulls":7},"C2",{"$nulls":7},"B2",{"$nulls":7},"A2",{"$nulls":7},"C2",{"$nulls":7},"B2",{"$nulls":7},"A2",{"$nulls":7},"C2",{"$nulls":7},"B2",{"$nulls":7},"A2",{"$nulls":7},"C2"]
[{"$nulls":10},"A7",{"$nulls":7},"C7",{"$nulls":7},"B7",{"$nulls":7},"A7",{"$nulls":7},"C7",{"$nulls":7},"B7",{"$nulls":7},"A7",{"$nulls":7},"C7",{"$nulls":7},"B7",{"$nulls":7},"A7",{"$nulls":7},"C7"]
[{"$nulls":10},"A7",{"$nulls":7},"C7",{"$nulls":7},"B7",{"$nulls":7},"A7",{"$nulls":7},"C7",{"$nulls":7},"B7",{"$nulls":7},"A7",{"$nulls":7},"C7",{"$nulls":7},"B7",{"$nulls":7},"A7",{"$nulls":7},"C7"]
[{"$nulls":10},"A1",{"$nulls":7},"C1",{"$nulls":7},"B1",{"$nulls":7},"A1",{"$nulls":7},"C1",{"$nulls":7},"B1",{"$nulls":7},"A1",{"$nulls":7},"C1",{"$nulls":7},"B1",{"$nulls":7},"A1",{"$nulls":7},"C1"]
[{"$nulls":10},"A1",{"$nulls":7},"C1",{"$nulls":7},"B1",{"$nulls":7},"A1",{"$nulls":7},"C1",{"$nulls":7},"B1",{"$nulls":7},"A1",{"$nulls":7},"C1",{"$nulls":7},"B1",{"$nulls":7},"A1",{"$nulls":7},"C1"]
[{"$nulls":10},"B4",{"$nulls":7},"A4",{"$nulls":7},"C4",{"$nulls":7},"B4",{"$nulls":7},"A4",{"$nulls":7},"C4",{"$nulls":7},"B4",{"$nulls":7},"A4",{"$nulls":7},"C4",{"$nulls":7},"B4",{"$nulls":7},"A4"]
[{"$nulls":10},"B4",{"$nulls":7},"A4",{"$nulls":7},"C4",{"$nulls":7},"B4",{"$nulls":7},"A4",{"$nulls":7},"C4",{"$nulls":7},"B4",{"$nulls":7},"A4",{"$nulls":7},"C4",{"$nulls":7},"B4",{"$nulls":7},"A4"]
[{"$nulls":10},"B5",{"$nulls":7},"A5",{"$nulls":7},"C5",{"$nulls":7},"B5",{"$nulls":7},"A5",{"$nulls":7},"C5",{"$nulls":7},"B5",{"$nulls":7},"A5",{"$nulls":7},"C5",{"$nulls":7},"B5",{"$nulls":7},"A5"]
[{"$nulls":10},"B5",{"$nulls":7},"A5",{"$nulls":7},"C5",{"$nulls":7},"B5",{"$nulls":7},"A5",{"$nulls":7},"C5",{"$nulls":7},"B5",{"$nulls":7},"A5",{"$nulls":7},"C5",{"$nulls":7},"B5",{"$nulls":7},"A5"]
[{"$nulls":10},"B3",{"$nulls":7},"A3",{"$nulls":7},"C3",{"$nulls":7},"B3",{"$nulls":7},"A3",{"$nulls":7},"C3",{"$nulls":7},"B3",{"$nulls":7},"A3",{"$nulls":7},"C3",{"$nulls":7},"B3",{"$nulls":7},"A3"]
[{"$nulls":10},"B3",{"$nulls":7},"A3",{"$nulls":7},"C3",{"$nulls":7},"B3",{"$nulls":7},"A3",{"$nulls":7},"C3",{"$nulls":7},"B3",{"$nulls":7},"A3",{"$nulls":7},"C3",{"$nulls":7},"B3",{"$nulls":7},"A3"]
[{"$nulls":10},"B6",{"$nulls":7},"A6",{"$nulls":7},"C6",{"$nulls":7},"B6",{"$nulls":7},"A6",{"$nulls":7},"C6",{"$nulls":7},"B6",{"$nulls":7},"A6",{"$nulls":7},"C6",{"$nulls":7},"B6",{"$nulls":7},"A6"]
[{"$nulls":10},"B6",{"$nulls":7},"A6",{"$nulls":7},"C6",{"$nulls":7},"B6",{"$nulls":7},"A6",{"$nulls":7},"C6",{"$nulls":7},"B6",{"$nulls":7},"A6",{"$nulls":7},"C6",{"$nulls":7},"B6",{"$nulls":7},"A6"]
[{"$nulls":10},"B2",{"$nulls":7},"A2",{"$nulls":7},"C2",{"$nulls":7},"B2",{"$nulls":7},"A2",{"$nulls":7},"C2",{"$nulls":7},"B2",{"$nulls":7},"A2",{"$nulls":7},"C2",{"$nulls":7},"B2",{"$nulls":7},"A2"]
[{"$nulls":10},"B2",{"$nulls":7},"A2",{"$nulls":7},"C2",{"$nulls":7},"B2",{"$nulls":7},"A2",{"$nulls":7},"C2",{"$nulls":7},"B2",{"$nulls":7},"A2",{"$nulls":7},"C2",{"$nulls":7},"B2",{"$nulls":7},"A2"]
[{"$nulls":10},"B7",{"$nulls":7},"A7",{"$nulls":7},"C7",{"$nulls":7},"B7",{"$nulls":7},"A7",{"$nulls":7},"C7",{"$nulls":7},"B7",{"$nulls":7},"A7",{"$nulls":7},"C7",{"$nulls":7},"B7",{"$nulls":7},"A7"]
[{"$nulls":10},"B7",{"$nulls":7},"A7",{"$nulls":7},"C7",{"$nulls":7},"B7",{"$nulls":7},"A7",{"$nulls":7},"C7",{"$nulls":7},"B7",{"$nulls":7},"A7",{"$nulls":7},"C7",{"$nulls":7},"B7",{"$nulls":7},"A7"]
[{"$nulls":10},"B1",{"$nulls":7},"A1",{"$nulls":7},"C1",{"$nulls":7},"B1",{"$nulls":7},"A1",{"$nulls":7},"C1",{"$nulls":7},"B1",{"$nulls":7},"A1",{"$nulls":7},"C1",{"$nulls":7},"B1",{"$nulls":7},"A1"]
[{"$nulls":10},"B1",{"$nulls":7},"A1",{"$nulls":7},"C1",{"$nulls":7},"B1",{"$nulls":7},"A1",{"$nulls":7},"C1",{"$nulls":7},"B1",{"$nulls":7},"A1",{"$nulls":7},"C1",{"$nulls":7},"B1",{"$nulls":7},"A1"]
[]
[]
[]
[{"$nulls":8},1,1,null,null,1,27,1,null,{"v":1,"d":"1.0"}]
[{"$nulls":8},2,2,null,null,2,2,2,null,{"v":2,"d":"2.0"}]
[{"$nulls":8},3,3,null,null,1,21,1,null,{"v":1,"d":"1.0"}]
[{"$nulls":8},4,4,null,null,2,9,2,null,{"v":2,"d":"2.0"}]
[{"$nulls":8},5,5,null,null,1,6,1,null,{"v":1,"d":"1.0"}]
[{"$nulls":8},6,6,null,null,2,19,2,null,{"v":2,"d":"2.0"}]
[{"$nulls":8},7,7,null,null,1,42,1,null,{"v":1,"d":"1.0"}]
[{"$nulls":8},8,8,null,null,2,12,2,null,{"v":2,"d":"2.0"}]
[{"$nulls":8},9,9,null,null,1,32,1,null,{"v":1,"d":"1.0"}]
[{"$nulls":8},10,10,null,null,2,10,2,null,{"v":2,"d":"2.0"}]
[{"$nulls":8},11,11,null,null,1,25,1,null,{"v":1,"d":"1.0"}]
[{"$nulls":8},12,12,null,null,2,36,2,null,{"v":2,"d":"2.0"}]
[{"$nulls":8},13,13,null,null,1,14,1,null,{"v":1,"d":"1.0"}]
[{"$nulls":8},14,14,null,null,2,24,2,null,{"v":2,"d":"2.0"}]
[{"$nulls":8},15,15,null,null,1,37,1,null,{"v":1,"d":"1.0"}]
[{"$nulls":8},16,16,null,null,2,40,2,null,{"v":2,"d":"2.0"}]
[{"$nulls":8},17,17,null,null,1,41,1,null,{"v":1,"d":"1.0"}]
[{"$nulls":8},18,18,null,null,2,4,2,null,{"v":2,"d":"2.0"}]
[{"$nulls":8},19,19,null,null,1,22,1,null,{"v":1,"d":"1.0"}]
[{"$nulls":8},20,20,null,null,2,5,2,null,{"v":2,"d":"2.0"}]
[{"$nulls":8},21,21,null,null,1,29,1,null,{"v":1,"d":"1.0"}]
[{"$nulls":8},1,1,null,null,2,31,2,null,{"v":2,"d":"2.0"}]
[{"$nulls":8},2,2,null,null,1,20,1,null,{"v":1,"d":"1.0"}]
[{"$nulls":8},3,3,null,null,2,16,2,null,{"v":2,"d":"2.0"}]
[{"$nulls":8},4,4,null,null,1,26,1,null,{"v":1,"d":"1.0"}]
[{"$nulls":8},5,5,null,null,2,3,2,null,{"v":2,"d":"2.0"}]
[{"$nulls":8},6,6,null,null,1,35,1,null,{"v":1,"d":"1.0"}]
[{"$nulls":8},7,7,null,null,2,8,2,null,{"v":2,"d":"2.0"}]
[{"$nulls":8},8,8,null,null,1,33,1,null,{"v":1,"d":"1.0"}]
[{"$nulls":8},9,9,null,null,2,13,2,null,{"v":2,"d":"2.0"}]
[{"$nulls":8},10,10,null,null,1,39,1,null,{"v":1,"d":"1.0"}]
[{"$nulls":8},11,11,null,null,2,17,2,null,{"v":2,"d":"2.0"}]
[{"$nulls":8},12,12,null,null,1,23,1,null,{"v":1,"d":"1.0"}]
[{"$nulls":8},13,13,null,null,2,11,2,null,{"v":2,"d":"2.0"}]
[{"$nulls":8},14,14,null,null,1,7,1,null,{"v":1,"d":"1.0"}]
[{"$nulls":8},15,15,null,null,2,28,2,null,{"v":2,"d":"2.0"}]
[{"$nulls":8},16,16,null,null,1,18,1,null,{"v":1,"d":"1.0"}]
[{"$nulls":8},17,17,null,null,2,15,2,null,{"v":2,"d":"2.0"}]
[{"$nulls":8},18,18,null,null,1,30,1,null,{"v":1,"d":"1.0"}]
[{"$nulls":8},19,19,null,null,2,1,2,null,{"v":2,"d":"2.0"}]
[{"$nulls":8},20,20,null,null,1,38,1,null,{"v":1,"d":"1.0"}]
[{"$nulls":8},21,21,null,null,2,34,2,null,{"v":2,"d":"2.0"}]
{"$rows_empty":33}
[{"$nulls":10},"B5",{"$nulls":7},"A5",{"$nulls":7},"C5",{"$nulls":7},"B5",{"$nulls":7},"A5",{"$nulls":7},"C5",{"$nulls":7},"B5",{"$nulls":7},"A5",{"$nulls":7},"C5",{"$nulls":7},"B5",{"$nulls":7},"A5"]
[{"$nulls":10},"B3",{"$nulls":7},"A3",{"$nulls":7},"C3",{"$nulls":7},"B3",{"$nulls":7},"A3",{"$nulls":7},"C3",{"$nulls":7},"B3",{"$nulls":7},"A3",{"$nulls":7},"C3",{"$nulls":7},"B3",{"$nulls":7},"A3"]
[{"$nulls":10},"B3",{"$nulls":7},"A3",{"$nulls":7},"C3",{"$nulls":7},"B3",{"$nulls":7},"A3",{"$nulls":7},"C3",{"$nulls":7},"B3",{"$nulls":7},"A3",{"$nulls":7},"C3",{"$nulls":7},"B3",{"$nulls":7},"A3"]
[{"$nulls":10},"B6",{"$nulls":7},"A6",{"$nulls":7},"C6",{"$nulls":7},"B6",{"$nulls":7},"A6",{"$nulls":7},"C6",{"$nulls":7},"B6",{"$nulls":7},"A6",{"$nulls":7},"C6",{"$nulls":7},"B6",{"$nulls":7},"A6"]
[{"$nulls":10},"B6",{"$nulls":7},"A6",{"$nulls":7},"C6",{"$nulls":7},"B6",{"$nulls":7},"A6",{"$nulls":7},"C6",{"$nulls":7},"B6",{"$nulls":7},"A6",{"$nulls":7},"C6",{"$nulls":7},"B6",{"$nulls":7},"A6"]
[{"$nulls":10},"B2",{"$nulls":7},"A2",{"$nulls":7},"C2",{"$nulls":7},"B2",{"$nulls":7},"A2",{"$nulls":7},"C2",{"$nulls":7},"B2",{"$nulls":7},"A2",{"$nulls":7},"C2",{"$nulls":7},"B2",{"$nulls":7},"A2"]
[{"$nulls":10},"B2",{"$nulls":7},"A2",{"$nulls":7},"C2",{"$nulls":7},"B2",{"$nulls":7},"A2",{"$nulls":7},"C2",{"$nulls":7},"B2",{"$nulls":7},"A2",{"$nulls":7},"C2",{"$nulls":7},"B2",{"$nulls":7},"A2"]
[{"$nulls":10},"B7",{"$nulls":7},"A7",{"$nulls":7},"C7",{"$nulls":7},"B7",{"$nulls":7},"A7",{"$nulls":7},"C7",{"$nulls":7},"B7",{"$nulls":7},"A7",{"$nulls":7},"C7",{"$nulls":7},"B7",{"$nulls":7},"A7"]
[{"$nulls":10},"B7",{"$nulls":7},"A7",{"$nulls":7},"C7",{"$nulls":7},"B7",{"$nulls":7},"A7",{"$nulls":7},"C7",{"$nulls":7},"B7",{"$nulls":7},"A7",{"$nulls":7},"C7",{"$nulls":7},"B7",{"$nulls":7},"A7"]
[{"$nulls":10},"B1",{"$nulls":7},"A1",{"$nulls":7},"C1",{"$nulls":7},"B1",{"$nulls":7},"A1",{"$nulls":7},"C1",{"$nulls":7},"B1",{"$nulls":7},"A1",{"$nulls":7},"C1",{"$nulls":7},"B1",{"$nulls":7},"A1"]
[{"$nulls":10},"B1",{"$nulls":7},"A1",{"$nulls":7},"C1",{"$nulls":7},"B1",{"$nulls":7},"A1",{"$nulls":7},"C1",{"$nulls":7},"B1",{"$nulls":7},"A1",{"$nulls":7},"C1",{"$nulls":7},"B1",{"$nulls":7},"A1"]
[]
[]
[]
[{"$nulls":8},1,1,null,null,1,27,1,null,{"v":1,"d":"1.0"}]
[{"$nulls":8},2,2,null,null,2,2,2,null,{"v":2,"d":"2.0"}]
[{"$nulls":8},3,3,null,null,1,21,1,null,{"v":1,"d":"1.0"}]
[{"$nulls":8},4,4,null,null,2,9,2,null,{"v":2,"d":"2.0"}]
[{"$nulls":8},5,5,null,null,1,6,1,null,{"v":1,"d":"1.0"}]
[{"$nulls":8},6,6,null,null,2,19,2,null,{"v":2,"d":"2.0"}]
[{"$nulls":8},7,7,null,null,1,42,1,null,{"v":1,"d":"1.0"}]
[{"$nulls":8},8,8,null,null,2,12,2,null,{"v":2,"d":"2.0"}]
[{"$nulls":8},9,9,null,null,1,32,1,null,{"v":1,"d":"1.0"}]
[{"$nulls":8},10,10,null,null,2,10,2,null,{"v":2,"d":"2.0"}]
[{"$nulls":8},11,11,null,null,1,25,1,null,{"v":1,"d":"1.0"}]
[{"$nulls":8},12,12,null,null,2,36,2,null,{"v":2,"d":"2.0"}]
[{"$nulls":8},13,13,null,null,1,14,1,null,{"v":1,"d":"1.0"}]
[{"$nulls":8},14,14,null,null,2,24,2,null,{"v":2,"d":"2.0"}]
[{"$nulls":8},15,15,null,null,1,37,1,null,{"v":1,"d":"1.0"}]
[{"$nulls":8},16,16,null,null,2,40,2,null,{"v":2,"d":"2.0"}]
[{"$nulls":8},17,17,null,null,1,41,1,null,{"v":1,"d":"1.0"}]
[{"$nulls":8},18,18,null,null,2,4,2,null,{"v":2,"d":"2.0"}]
[{"$nulls":8},19,19,null,null,1,22,1,null,{"v":1,"d":"1.0"}]
[{"$nulls":8},20,20,null,null,2,5,2,null,{"v":2,"d":"2.0"}]
[{"$nulls":8},21,21,null,null,1,29,1,null,{"v":1,"d":"1.0"}]
[{"$nulls":8},1,1,null,null,2,31,2,null,{"v":2,"d":"2.0"}]
[{"$nulls":8},2,2,null,null,1,20,1,null,{"v":1,"d":"1.0"}]
[{"$nulls":8},3,3,null,null,2,16,2,null,{"v":2,"d":"2.0"}]
[{"$nulls":8},4,4,null,null,1,26,1,null,{"v":1,"d":"1.0"}]
[{"$nulls":8},5,5,null,null,2,3,2,null,{"v":2,"d":"2.0"}]
[{"$nulls":8},6,6,null,null,1,35,1,null,{"v":1,"d":"1.0"}]
[{"$nulls":8},7,7,null,null,2,8,2,null,{"v":2,"d":"2.0"}]
[{"$nulls":8},8,8,null,null,1,33,1,null,{"v":1,"d":"1.0"}]
[{"$nulls":8},9,9,null,null,2,13,2,null,{"v":2,"d":"2.0"}]
[{"$nulls":8},10,10,null,null,1,39,1,null,{"v":1,"d":"1.0"}]
[{"$nulls":8},11,11,null,null,2,17,2,null,{"v":2,"d":"2.0"}]
[{"$nulls":8},12,12,null,null,1,23,1,null,{"v":1,"d":"1.0"}]
[{"$nulls":8},13,13,null,null,2,11,2,null,{"v":2,"d":"2.0"}]
[{"$nulls":8},14,14,null,null,1,7,1,null,{"v":1,"d":"1.0"}]
[{"$nulls":8},15,15,null,null,2,28,2,null,{"v":2,"d":"2.0"}]
[{"$nulls":8},16,16,null,null,1,18,1,null,{"v":1,"d":"1.0"}]
[{"$nulls":8},17,17,null,null,2,15,2,null,{"v":2,"d":"2.0"}]
[{"$nulls":8},18,18,null,null,1,30,1,null,{"v":1,"d":"1.0"}]
[{"$nulls":8},19,19,null,null,2,1,2,null,{"v":2,"d":"2.0"}]
[{"$nulls":8},20,20,null,null,1,38,1,null,{"v":1,"d":"1.0"}]
[{"$nulls":8},21,21,null,null,2,34,2,null,{"v":2,"d":"2.0"}]

{"sheet":"Sheet3","index":3,"n_rows":21,"n_cols":65,"rows_kept":21,"hidden":true,"merged":[[0,1,0,3],[0,4,0,6],[0,7,0,9],[0,10,0,12],[0,13,0,15],[0,16,0,18],[0,19,0,21],[0,22,0,24],[0,25,0,27],[0,28,0,30],[0,31,0,33],[0,34,0,36],[0,37,0,39],[0,40,0,42],[0,43,0,45],[0,46,0,48],[0,49,0,51],[0,52,0,54]]}
[null,1,null,null,2,null,null,3,null,null,4,null,null,5,null,null,6,null,null,7,null,null,8,null,null,9,null,null,10,null,null,11,null,null,12,null,null,13,null,null,14,null,null,15,null,null,16]
[null,1,2,1,1,3,6,1,4,2,1,5,7,1,6,4,1,7,5,1,8,3,1,9,6,1,10,1,1,11,2,1,12,3,1,2,7,1,3,5,1,4,2,1,5,1,1,6,3,{"$nulls":3},6,5,5,5,5,5,5,5,5,5,6,5]
[null,2,1,1,2,4,7,2,6,3,2,8,2,2,10,3,2,12,4,2,3,5,2,5,2,2,7,6,2,9,3,2,11,1,2,1,7,2,4,1,2,6,7,2,8,3,2,10,2]
[null,3,12,2,3,1,6,3,5,1,3,7,3,3,9,7,3,11,3,3,2,5,3,4,1,3,6,7,3,8,6,3,10,2,3,12,1,3,1,5,3,5,3,3,7,7,3,9,1]
[null,4,11,3,4,2,7,4,1,2,4,6,5,4,8,1,4,10,6,4,12,7,4,3,1,4,5,3,4,7,5,4,9,6,4,11,3,4,2,1,4,1,2,4,6,6,4,8,5,{"$nulls":3},1,2,3,4,5,6,7,8,9,10,11,12]
[null,5,10,5,5,12,3,5,3,1,5,1,7,5,7,6,5,9,2,5,11,6,5,2,2,5,4,3,5,6,1,5,8,5,5,10,6,5,12,2,5,3,3,5,1,1,5,7,6,{"$nulls":3},1,1,2,3,5,6,7,7,6,5,3,2,{"$f":"SUM(BA6:BL6)","v":48}]
[null,6,9,6,6,11,1,6,2,3,6,4,5,6,1,4,6,8,7,6,10,2,6,12,3,6,3,7,6,5,1,6,7,7,6,9,5,6,11,6,6,2,7,6,4,6,6,1,3,{"$nulls":3},6,7,6,7,3,1,2,5,5,2,1,3,{"$f":"SUM(BA7:BL7)","v":48}]
[null,7,8,7,7,10,2,7,12,5,7,3,3,7,5,6,7,1,5,7,9,1,7,11,7,7,2,6,7,4,5,7,6,7,7,8,2,7,10,3,7,12,5,7,3,7,7,5,6,{"$nulls":3},2,3,1,2,1,3,5,6,7,7,6,5,48]
[null,8,7,7,8,9,5,8,11,6,8,2,2,8,4,1,8,6,7,8,1,3,8,10,5,8,12,2,8,3,6,8,5,5,8,7,2,8,9,7,8,11,1,8,2,3,8,4,5,{"$nulls":3},7,2,3,5,7,5,3,2,1,4,4,1,44]
[null,9,6,6,9,8,5,9,10,7,9,12,1,9,3,7,9,5,2,9,7,1,9,1,6,9,11,5,9,2,3,9,4,6,9,6,5,9,8,7,9,10,6,9,12,2,9,3,1,{"$nulls":3},4,3,7,1,6,4,6,1,7,3,2,2,46]
[null,10,5,5,10,7,2,10,9,7,10,11,4,10,2,3,10,4,6,10,6,2,10,8,5,10,1,1,10,12,7,10,3,2,10,5,6,10,7,3,10,9,6,10,11,5,10,2,2,{"$nulls":3},5,4,3,6,2,7,5,7,2,6,3,4,54]
[null,11,4,3,11,6,1,11,8,6,11,10,4,11,12,2,11,3,3,11,5,6,11,7,7,11,9,5,11,1,2,11,2,1,11,4,3,11,6,6,11,8,1,11,10,5,11,12,7,{"$nulls":3},3,5,5,7,6,2,1,3,1,2,6,7,48]
[null,12,3,2,12,5,3,12,7,5,12,9,1,12,11,2,12,2,4,12,4,7,12,6,3,12,8,2,12,10,7,12,1,3,12,3,1,12,5,2,12,7,5,12,9,2,12,11,7,{"$nulls":3},6,2,1,1,2,3,7,5,6,5,7,3,48]
[{"$nulls":52},1,6,7,3,3,7,6,2,5,1,5,2,48]
[{"$nulls":52},2,3,6,5,1,1,5,6,3,7,2,7,48]
[{"$nulls":52},3,1,2,6,5,7,7,5,6,2,1,3,48]
[{"$nulls":52},7,7,1,3,6,5,2,2,5,6,3,1,48]
[{"$nulls":52},5,1,5,1,2,6,3,7,7,3,6,2,48]
[{"$nulls":52},2,7,3,2,3,7,5,1,6,6,1,5,48]
[{"$nulls":52},1,3,7,6,1,6,7,3,2,5,5,2,48]
[{"$nulls":52},3,2,1,5,6,3,6,5,1,2,7,7,48]

{"sheet":"DRAW","index":4,"n_rows":29,"n_cols":59,"rows_kept":29,"merged":[[0,1,0,26],[1,1,1,26],[4,1,4,2],[4,3,4,4],[4,5,4,6],[4,7,4,8],[4,9,4,10],[4,11,4,12],[4,13,4,14],[4,15,4,16],[4,17,4,18],[4,19,4,20],[4,21,4,22],[4,23,4,24],[4,25,4,26],[4,27,4,28],[4,29,4,30]]}
[null,"Tournament Name etc. Here."]
[null,"Other heading info"]
[]
[]
[null,"RINK DRAW",null,"Round 1",null,"Round 2",null,"Round 3",null,"Round 4",null,"Round 5",null,"Round 6",null,"Round 7",null,"Round 8",null,"Round 9",null,"Round 10",null,"Round 11",null,"Round 12",null,"Round 13",null,"Round 14"]
[null,"Team","Skips Name","vs","Rink","vs","Rink","vs","Rink","vs","Rink","vs","Rink","vs","Rink","vs","Rink","vs","Rink","vs","Rink","vs","Rink","vs","Rink","vs","Rink","vs","Rink","vs","Rink"]
[null,1,null,2,1,3,3,4,2,6,4,5,6,7,1,8,5,2,1,3,3,4,2,6,4,5,6,7,1,8,5,{"$nulls":3},1,2,1,3,3,4,2,6,4,5,6,7,1,8,5,null,null,1,2,3,4,5,6,7,8]
[null,2,null,1,1,4,4,6,3,3,6,8,2,5,5,7,4,1,1,4,4,6,3,3,6,8,2,5,5,7,4,{"$nulls":3},2,1,1,4,4,6,3,3,6,8,2,5,5,7,4,null,null,1,1,2,3,4,4,3,2]
[null,3,null,8,2,1,3,5,5,2,6,7,5,4,6,6,1,8,2,1,3,5,5,2,6,7,5,4,6,6,1,{"$nulls":3},3,8,2,1,3,5,5,2,6,7,5,4,6,6,1,null,null,3,4,3,4,1,2,2,1]
[null,4,null,7,3,2,4,1,2,8,5,6,1,3,6,5,2,7,3,2,4,1,2,8,5,6,1,3,6,5,2,{"$nulls":3},4,7,3,2,4,1,2,8,5,6,1,3,6,5,2]
[null,5,null,6,4,8,1,3,5,7,3,1,6,2,5,4,2,6,4,8,1,3,5,7,3,1,6,2,5,4,2,{"$nulls":3},5,6,4,8,1,3,5,7,3,1,6,2,5,4,2]
[null,6,null,5,4,7,2,2,3,1,4,4,1,8,3,3,1,5,4,7,2,2,3,1,4,4,1,8,3,3,1,{"$nulls":3},6,5,4,7,2,2,3,1,4,4,1,8,3,3,1]
[null,7,null,4,3,6,2,8,4,5,3,3,5,1,1,2,4,4,3,6,2,8,4,5,3,3,5,1,1,2,4,{"$nulls":3},7,4,3,6,2,8,4,5,3,3,5,1,1,2,4]
[null,8,null,3,2,5,1,7,4,4,5,2,2,6,3,1,5,3,2,5,1,7,4,4,5,2,2,6,3,1,5,{"$nulls":3},8,3,2,5,1,7,4,4,5,2,2,6,3,1,5]
[]
[]
[{"$nulls":45},7]
[{"$nulls":3},1,2,1,1,3,5,1,4,2,1,5,6,1,8,3,1,11,4,1,10,6,1,9,3,{"$nulls":18},8]
[{"$nulls":3},2,1,1,2,4,4,2,6,5,2,8,2,2,3,4,2,9,1,2,7,3,2,5,5]
[{"$nulls":3},3,12,2,3,1,5,3,5,3,3,7,1,3,2,4,3,8,6,3,6,5,3,4,4]
[{"$nulls":3},4,11,3,4,2,4,4,1,2,4,6,3,4,12,6,4,7,5,4,5,1,4,3,4]
[{"$nulls":3},5,10,4,5,12,1,5,3,3,5,1,6,5,11,5,5,6,2,5,4,1,5,2,5]
[{"$nulls":3},6,9,5,6,11,6,6,2,5,6,4,3,6,10,1,6,5,2,6,3,5,6,12,6]
[{"$nulls":3},7,8,6,7,10,2,7,12,4,7,3,1,7,9,2,7,4,5,7,2,3,7,11,1]
[{"$nulls":3},8,7,6,8,9,3,8,11,1,8,2,2,8,1,3,8,3,6,8,12,4,8,10,2,{"$nulls":24},2,3,5,2,5,3,4,4]
[{"$nulls":3},9,6,5,9,8,3,9,10,6,9,12,5,9,7,2,9,2,1,9,11,2,9,1,3,{"$nulls":24},4,6,6,5,3,4,3,5]
[{"$nulls":3},10,5,4,10,7,2,10,9,6,10,11,4,10,6,1,10,12,3,10,1,6,10,8,2,{"$nulls":24},6,2,5,1,6,1,5,2]
[{"$nulls":3},11,4,3,11,6,6,11,8,1,11,10,4,11,5,5,11,1,4,11,9,2,11,7,1,{"$nulls":24},1,5,6,6,5,3,1,3]
[{"$nulls":3},12,3,2,12,5,1,12,7,4,12,9,5,12,4,6,12,10,3,12,8,4,12,6,6,{"$nulls":24},5,4,1,2,2,1,4,5]

{"sheet":"Score Cards","index":5,"n_rows":1134,"n_cols":53,"rows_kept":1134,"hidden":true,"merged":[[3,57,3,59],[24,40,25,40],[24,47,25,47],[24,54,25,54],[28,47,28,52],[28,54,28,59],[29,40,30,42],[29,43,30,45],[29,47,30,49],[29,50,30,52],[29,54,30,56],[29,57,30,59],[31,40,31,42],[31,43,31,45],[31,47,31,49],[31,50,31,52],[31,54,31,56],[31,57,31,59],[54,40,54,45],[55,40,56,42],[55,43,56,45],[55,47,56,49],[55,50,56,52],[55,54,56,56],[55,57,56,59],[57,40,57,42],[57,43,57,45],[57,47,57,49],[57,50,57,52],[57,54,57,56],[57,57,57,59],[78,40,79,40],[78,47,79,47],[78,54,79,54],[82,40,82,45],[82,47,82,52],[82,54,82,59],[83,40,84,42],[83,43,84,45],[83,47,84,49],[83,50,84,52],[83,54,84,56],[83,57,84,59],[85,40,85,42],[85,43,85,45],[85,47,85,49],[85,50,85,52],[85,54,85,56],[85,57,85,59],[139,40,139,42],[139,43,139,45],[139,47,139,49],[139,50,139,52],[139,54,139,56],[165,40,165,42],[165,43,165,45],[165,47,165,49],[165,50,165,52],[165,54,165,56],[191,40,192,42],[191,43,192,45],[191,47,192,49],[191,50,192,52],[191,54,192,56],[191,57,192,59],[193,40,193,42],[193,43,193,45],[193,47,193,49],[193,50,193,52],[193,54,193,56],[193,57,193,59],[214,40,215,40],[214,47,215,47],[214,54,215,54],[219,50,219,52],[219,54,219,56],[245,40,246,42],[245,43,246,45],[245,47,246,49],[245,50,246,52],[245,54,246,56],[245,57,246,59],[247,40,247,42],[247,43,247,45],[247,47,247,49],[247,50,247,52],[247,54,247,56],[247,57,247,59],[268,40,269,40],[268,47,269,47],[268,54,269,54],[273,50,273,52],[273,54,273,56],[299,40,300,42],[299,43,300,45],[299,47,300,49],[299,50,300,52],[299,54,300,56],[299,57,300,59],[301,40,301,42],[301,43,301,45],[301,47,301,49],[301,50,301,52],[301,54,301,56],[301,57,301,59],[322,40,323,40],[322,47,323,47],[322,54,323,54],[327,43,327,45],[327,47,327,49],[327,50,327,52],[327,54,327,56],[353,40,354,42],[353,43,354,45],[353,47,354,49],[353,50,354,52],[353,54,354,56],[353,57,354,59],[355,40,355,42],[355,43,355,45],[355,47,355,49],[355,50,355,52],[355,54,355,56],[355,57,355,59],[376,40,377,40],[376,47,377,47],[376,54,377,54],[381,43,381,45],[381,47,381,49],[381,50,381,52],[381,54,381,56],[407,40,408,42],[407,43,408,45],[407,47,408,49],[407,50,408,52],[407,54,408,56],[407,57,408,59],[409,40,409,42],[409,43,409,45],[409,47,409,49],[409,50,409,52],[409,54,409,56],[409,57,409,59],[430,40,431,40],[430,47,431,47],[430,54,431,54],[435,43,435,45],[435,47,435,49],[435,50,435,52],[435,54,435,56],[461,40,462,42],[461,43,462,45],[461,47,462,49],[461,50,462,52],[461,54,462,56],[461,57,462,59],[463,40,463,42],[463,43,463,45],[463,47,463,49],[463,50,463,52],[463,54,463,56],[463,57,463,59],[484,40,485,40],[484,47,485,47],[484,54,485,54],[486,20,486,25],[486,27,486,32],[489,43,489,45],[489,47,489,49],[489,50,489,52],[489,54,489,56],[514,20,514,25],[514,27,514,32],[514,34,514,39],[514,40,514,45],[514,47,514,52],[514,54,514,59],[515,20,516,22],[515,23,516,25],[515,27,516,29],[515,30,516,32],[515,34,516,36],[515,37,516,39],[515,40,516,42],[515,43,516,45],[515,47,516,49],[515,50,516,52],[515,54,516,56],[515,57,516,59],[517,20,517,22],[517,23,517,25],[517,27,517,29],[517,30,517,32],[517,34,517,36],[517,37,517,39],[517,40,517,42],[517,43,517,45],[517,47,517,49],[517,50,517,52],[517,54,517,56],[517,57,517,59],[538,20,539,20],[538,27,539,27],[538,34,539,34],[538,40,539,40],[538,47,539,47],[538,54,539,54],[540,20,540,25],[540,27,540,32],[540,34,540,39],[540,40,540,45],[540,47,540,52],[540,54,540,59],[541,20,542,22],[541,23,542,25],[541,27,542,29],[541,30,542,32],[541,34,542,36],[541,37,542,39],[541,40,542,42],[541,43,542,45],[541,47,542,49],[541,50,542,52],[541,54,542,56],[541,57,542,59],[543,20,543,22],[543,23,543,25],[543,27,543,29],[543,30,543,32],[543,34,543,36],[543,37,543,39],[543,40,543,42],[543,43,543,45],[543,47,543,49],[543,50,543,52],[543,54,543,56],[543,57,543,59],[564,20,565,20],[564,27,565,27],[564,34,565,34],[564,40,565,40],[564,47,565,47],[564,54,565,54],[568,20,568,25],[568,27,568,32],[568,34,568,39],[568,40,568,45],[568,47,568,52],[568,54,568,59],[569,20,570,22],[569,23,570,25],[569,27,570,29],[569,30,570,32],[569,34,570,36],[569,37,570,39],[569,40,570,42],[569,43,570,45],[569,47,570,49],[569,50,570,52],[569,54,570,56],[569,57,570,59],[571,20,571,22],[571,23,571,25],[571,27,571,29],[571,30,571,32],[571,34,571,36],[571,37,571,39],[571,40,571,42],[571,43,571,45],[571,47,571,49],[571,50,571,52],[571,54,571,56],[571,57,571,59],[592,20,593,20],[592,27,593,27],[592,34,593,34],[592,40,593,40],[592,47,593,47],[592,54,593,54],[594,20,594,25],[594,27,594,32],[594,34,594,39],[594,40,594,45],[594,47,594,52],[594,54,594,59],[595,20,596,22],[595,23,596,25],[595,27,596,29],[595,30,596,32],[595,34,596,36],[595,37,596,39],[595,40,596,42],[595,43,596,45],[595,47,596,49],[595,50,596,52],[595,54,596,56],[595,57,596,59],[597,20,597,22],[597,23,597,25],[597,27,597,29],[597,30,597,32],[597,34,597,36],[597,37,597,39],[597,40,597,42],[597,43,597,45],[597,47,597,49],[597,50,597,52],[597,54,597,56],[597,57,597,59],[618,20,619,20],[618,27,619,27],[618,34,619,34],[618,40,619,40],[618,47,619,47],[618,54,619,54],[622,20,622,25],[622,27,622,32],[622,34,622,39],[622,40,622,45],[622,47,622,52],[622,54,622,59],[623,20,624,22],[623,23,624,25],[623,27,624,29],[623,30,624,32],[623,34,624,36],[623,37,624,39],[623,40,624,42],[623,43,624,45],[623,47,624,49],[623,50,624,52],[623,54,624,56],[623,57,624,59],[625,20,625,22],[625,23,625,25],[625,27,625,29],[625,30,625,32],[625,34,625,36],[625,37,625,39],[625,40,625,42],[625,43,625,45],[625,47,625,49],[625,50,625,52],[625,54,625,56],[625,57,625,59],[646,20,647,20],[646,27,647,27],[646,34,647,34],[646,40,647,40],[646,47,647,47],[646,54,647,54],[648,20,648,25],[648,27,648,32],[648,34,648,39],[648,40,648,45],[648,47,648,52],[648,54,648,59],[649,20,650,22],[649,23,650,25],[649,27,650,29],[649,30,650,32],[649,34,650,36],[649,37,650,39],[649,40,650,42],[649,43,650,45],[649,47,650,49],[649,50,650,52],[649,54,650,56],[649,57,650,59],[651,20,651,22],[651,23,651,25],[651,27,651,29],[651,30,651,32],[651,34,651,36],[651,37,651,39],[651,40,651,42],[651,43,651,45],[651,47,651,49],[651,50,651,52],[651,54,651,56],[651,57,651,59],[672,20,673,20],[672,27,673,27],[672,34,673,34],[672,40,673,40],[672,47,673,47],[672,54,673,54],[676,20,676,25],[676,27,676,32],[676,34,676,39],[676,40,676,45],[676,47,676,52],[676,54,676,59],[677,20,678,22],[677,23,678,25],[677,27,678,29],[677,30,678,32],[677,34,678,36],[677,37,678,39],[677,40,678,42],[677,43,678,45],[677,47,678,49],[677,50,678,52],[677,54,678,56],[677,57,678,59],[679,20,679,22],[679,23,679,25],[679,27,679,29],[679,30,679,32],[679,34,679,36],[679,37,679,39],[679,40,679,42],[679,43,679,45],[679,47,679,49],[679,50,679,52],[679,54,679,56],[679,57,679,59],[700,20,701,20],[700,27,701,27],[700,34,701,34],[700,40,701,40],[700,47,701,47],[700,54,701,54],[702,20,702,25],[702,27,702,32],[702,34,702,39],[702,40,702,45],[702,47,702,52],[702,54,702,59],[703,20,704,22],[703,23,704,25],[703,27,704,29],[703,30,704,32],[703,34,704,36],[703,37,704,39],[703,40,704,42],[703,43,704,45],[703,47,704,49],[703,50,704,52],[703,54,704,56],[703,57,704,59],[705,20,705,22],[705,23,705,25],[705,27,705,29],[705,30,705,32],[705,34,705,36],[705,37,705,39],[705,40,705,42],[705,43,705,45],[705,47,705,49],[705,50,705,52],[705,54,705,56],[705,57,705,59],[706,22,706,24],[726,20,727,20],[726,27,727,27],[726,34,727,34],[726,40,727,40],[726,47,727,47],[726,54,727,54],[730,20,730,25],[730,27,730,32],[730,34,730,39],[730,40,730,45],[730,47,730,52],[730,54,730,59],[731,20,732,22],[731,23,732,25],[731,27,732,29],[731,30,732,32],[731,34,732,36],[731,37,732,39],[731,40,732,42],[731,43,732,45],[731,47,732,49],[731,50,732,52],[731,54,732,56],[731,57,732,59],[733,20,733,22],[733,23,733,25],[733,27,733,29],[733,30,733,32],[733,34,733,36],[733,37,733,39],[733,40,733,42],[733,43,733,45],[733,47,733,49],[733,50,733,52],[733,54,733,56],[733,57,733,59],[754,20,755,20],[754,27,755,27],[754,34,755,34],[754,40,755,40],[754,47,755,47],[754,54,755,54],[756,20,756,25],[756,27,756,32],[756,34,756,39],[756,40,756,45],[756,47,756,52],[756,54,756,59],[757,20,758,22],[757,23,758,25],[757,27,758,29],[757,30,758,32],[757,34,758,36],[757,37,758,39],[757,40,758,42],[757,43,758,45],[757,47,758,49],[757,50,758,52],[757,54,758,56],[757,57,758,59],[759,20,759,22],[759,23,759,25],[759,27,759,29],[759,30,759,32],[759,34,759,36],[759,37,759,39],[759,40,759,42],[759,43,759,45],[759,47,759,49],[759,50,759,52],[759,54,759,56],[759,57,759,59],[780,20,781,20],[780,27,781,27],[780,34,781,34],[780,40,781,40],[780,47,781,47],[780,54,781,54],[784,20,784,25],[784,27,784,32],[784,34,784,39],[784,40,784,45],[784,47,784,52],[784,54,784,59],[785,20,786,22],[785,23,786,25],[785,27,786,29],[785,30,786,32],[785,34,786,36],[785,37,786,39],[785,40,786,42],[785,43,786,45],[785,47,786,49],[785,50,786,52],[785,54,786,56],[785,57,786,59],[787,20,787,22],[787,23,787,25],[787,27,787,29],[787,30,787,32],[787,34,787,36],[787,37,787,39],[787,40,787,42],[787,43,787,45],[787,47,787,49],[787,50,787,52],[787,54,787,56],[787,57,787,59],[808,20,809,20],[808,27,809,27],[808,34,809,34],[808,40,809,40],[808,47,809,47],[808,54,809,54],[810,20,810,25],[810,27,810,32],[810,34,810,39],[810,40,810,45],[810,47,810,52],[810,54,810,59],[811,20,812,22],[811,23,812,25],[811,27,812,29],[811,30,812,32],[811,34,812,36],[811,37,812,39],[811,40,812,42],[811,43,812,45],[811,47,812,49],[811,50,812,52],[811,54,812,56],[811,57,812,59],[813,20,813,22],[813,23,813,25],[813,27,813,29],[813,30,813,32],[813,34,813,36],[813,37,813,39],[813,40,813,42],[813,43,813,45],[813,47,813,49],[813,50,813,52],[813,54,813,56],[813,57,813,59],[834,20,835,20],[834,27,835,27],[834,34,835,34],[834,40,835,40],[834,47,835,47],[834,54,835,54],[838,20,838,25],[838,27,838,32],[838,34,838,39],[838,40,838,45],[838,47,838,52],[838,54,838,59],[839,20,840,22],[839,23,840,25],[839,27,840,29],[839,30,840,32],[839,34,840,36],[839,37,840,39],[839,40,840,42],[839,43,840,45],[839,47,840,49],[839,50,840,52],[839,54,840,56],[839,57,840,59],[841,20,841,22],[841,23,841,25],[841,27,841,29],[841,30,841,32],[841,34,841,36],[841,37,841,39],[841,40,841,42],[841,43,841,45],[841,47,841,49],[841,50,841,52],[841,54,841,56],[841,57,841,59],[862,20,863,20],[862,27,863,27],[862,34,863,34],[862,40,863,40],[862,47,863,47],[862,54,863,54],[864,20,864,25],[864,27,864,32],[864,34,864,39],[864,40,864,45],[864,47,864,52],[864,54,864,59],[865,20,866,22],[865,23,866,25],[865,27,866,29],[865,30,866,32],[865,34,866,36],[865,37,866,39],[865,40,866,42],[865,43,866,45],[865,47,866,49],[865,50,866,52],[865,54,866,56],[865,57,866,59],[867,20,867,22],[867,23,867,25],[867,27,867,29],[867,30,867,32],[867,34,867,36],[867,37,867,39],[867,40,867,42],[867,43,867,45],[867,47,867,49],[867,50,867,52],[867,54,867,56],[867,57,867,59],[888,20,889,20],[888,27,889,27],[888,34,889,34],[888,40,889,40],[888,47,889,47],[888,54,889,54],[892,20,892,25],[892,27,892,32],[892,34,892,39],[892,40,892,45],[892,47,892,52],[892,54,892,59],[893,20,894,22],[893,23,894,25],[893,27,894,29],[893,30,894,32],[893,34,894,36],[893,37,894,39],[893,40,894,42],[893,43,894,45],[893,47,894,49],[893,50,894,52],[893,54,894,56],[893,57,894,59],[895,20,895,22],[895,23,895,25],[895,27,895,29],[895,30,895,32],[895,34,895,36],[895,37,895,39],[895,40,895,42],[895,43,895,45],[895,47,895,49],[895,50,895,52],[895,54,895,56],[895,57,895,59],[916,20,917,20],[916,27,917,27],[916,34,917,34],[916,40,917,40],[916,47,917,47],[916,54,917,54],[918,20,918,25],[918,27,918,32],[918,34,918,39],[918,40,918,45],[918,47,918,52],[918,54,918,59],[919,20,920,22],[919,23,920,25],[919,27,920,29],[919,30,920,32],[919,34,920,36],[919,37,920,39],[919,40,920,42],[919,43,920,45],[919,47,920,49],[919,50,920,52],[919,54,920,56],[919,57,920,59],[921,20,921,22],[921,23,921,25],[921,27,921,29],[921,30,921,32],[921,34,921,36],[921,37,921,39],[921,40,921,42],[921,43,921,45],[921,47,921,49],[921,50,921,52],[921,54,921,56],[921,57,921,59],[942,20,943,20],[942,27,943,27],[942,34,943,34],[942,40,943,40],[942,47,943,47],[942,54,943,54],[946,20,946,25],[946,27,946,32],[946,34,946,39],[946,40,946,45],[946,47,946,52],[946,54,946,59],[947,20,948,22],[947,23,948,25],[947,27,948,29],[947,30,948,32],[947,34,948,36],[947,37,948,39],[947,40,948,42],[947,43,948,45],[947,47,948,49],[947,50,948,52],[947,54,948,56],[947,57,948,59],[949,20,949,22],[949,23,949,25],[949,27,949,29],[949,30,949,32],[949,34,949,36],[949,37,949,39],[949,40,949,42],[949,43,949,45],[949,47,949,49],[949,50,949,52],[949,54,949,56],[949,57,949,59],[970,20,971,20],[970,27,971,27],[970,34,971,34],[970,40,971,40],[970,47,971,47],[970,54,971,54],[972,20,972,25],[972,27,972,32],[972,34,972,39],[972,40,972,45],[972,47,972,52],[972,54,972,59],[973,20,974,22],[973,23,974,25],[973,27,974,29],[973,30,974,32],[973,34,974,36],[973,37,974,39],[973,40,974,42],[973,43,974,45],[973,47,974,49],[973,50,974,52],[973,54,974,56],[973,57,974,59],[975,20,975,22],[975,23,975,25],[975,27,975,29],[975,30,975,32],[975,34,975,36],[975,37,975,39],[975,40,975,42],[975,43,975,45],[975,47,975,49],[975,50,975,52],[975,54,975,56],[975,57,975,59],[996,20,997,20],[996,27,997,27],[996,34,997,34],[996,40,997,40],[996,47,997,47],[996,54,997,54],[1000,20,1000,25],[1000,27,1000,32],[1000,34,1000,39],[1000,40,1000,45],[1000,47,1000,52],[1000,54,1000,59],[1001,20,1002,22],[1001,23,1002,25],[1001,27,1002,29],[1001,30,1002,32],[1001,34,1002,36],[1001,37,1002,39],[1001,40,1002,42],[1001,43,1002,45],[1001,47,1002,49],[1001,50,1002,52],[1001,54,1002,56],[1001,57,1002,59],[1003,20,1003,22],[1003,23,1003,25],[1003,27,1003,29],[1003,30,1003,32],[1003,34,1003,36],[1003,37,1003,39],[1003,40,1003,42],[1003,43,1003,45],[1003,47,1003,49],[1003,50,1003,52],[1003,54,1003,56],[1003,57,1003,59],[1024,20,1025,20],[1024,27,1025,27],[1024,34,1025,34],[1024,40,1025,40],[1024,47,1025,47],[1024,54,1025,54],[1026,20,1026,25],[1026,27,1026,32],[1026,34,1026,39],[1026,40,1026,45],[1026,47,1026,52],[1026,54,1026,59],[1027,20,1028,22],[1027,23,1028,25],[1027,27,1028,29],[1027,30,1028,32],[1027,34,1028,36],[1027,37,1028,39],[1027,40,1028,42],[1027,43,1028,45],[1027,47,1028,49],[1027,50,1028,52],[1027,54,1028,56],[1027,57,1028,59],[1029,20,1029,22],[1029,23,1029,25],[1029,27,1029,29],[1029,30,1029,32],[1029,34,1029,36],[1029,37,1029,39],[1029,40,1029,42],[1029,43,1029,45],[1029,47,1029,49],[1029,50,1029,52],[1029,54,1029,56],[1029,57,1029,59],[1050,20,1051,20],[1050,27,1051,27],[1050,34,1051,34],[1050,40,1051,40],[1050,47,1051,47],[1050,54,1051,54],[1054,20,1054,25],[1054,27,1054,32],[1054,34,1054,39],[1054,40,1054,45],[1054,47,1054,52],[1054,54,1054,59],[1055,20,1056,22],[1055,23,1056,25],[1055,27,1056,29],[1055,30,1056,32],[1055,34,1056,36],[1055,37,1056,39],[1055,40,1056,42],[1055,43,1056,45],[1055,47,1056,49],[1055,50,1056,52],[1055,54,1056,56],[1055,57,1056,59],[1057,20,1057,22],[1057,23,1057,25],[1057,27,1057,29],[1057,30,1057,32],[1057,34,1057,36],[1057,37,1057,39],[1057,40,1057,42],[1057,43,1057,45],[1057,47,1057,49],[1057,50,1057,52],[1057,54,1057,56],[1057,57,1057,59],[1078,20,1079,20],[1078,27,1079,27],[1078,34,1079,34],[1078,40,1079,40],[1078,47,1079,47],[1078,54,1079,54],[1080,20,1080,25],[1080,27,1080,32],[1080,34,1080,39],[1080,40,1080,45],[1080,47,1080,52],[1080,54,1080,59],[1081,20,1082,22],[1081,23,1082,25],[1081,27,1082,29],[1081,30,1082,32],[1081,34,1082,36],[1081,37,1082,39],[1081,40,1082,42],[1081,43,1082,45],[1081,47,1082,49],[1081,50,1082,52],[1081,54,1082,56],[1081,57,1082,59],[1083,20,1083,22],[1083,23,1083,25],[1083,27,1083,29],[1083,30,1083,32],[1083,34,1083,36],[1083,37,1083,39],[1083,40,1083,42],[1083,43,1083,45],[1083,47,1083,49],[1083,50,1083,52],[1083,54,1083,56],[1083,57,1083,59],[1104,20,1105,20],[1104,27,1105,27],[1104,34,1105,34],[1104,40,1105,40],[1104,47,1105,47],[1104,54,1105,54],[1108,20,1108,25],[1108,27,1108,32],[1108,34,1108,39],[1108,40,1108,45],[1108,47,1108,52],[1108,54,1108,59],[1109,20,1110,22],[1109,23,1110,25],[1109,27,1110,29],[1109,30,1110,32],[1109,34,1110,36],[1109,37,1110,39],[1109,40,1110,42],[1109,43,1110,45],[1109,47,1110,49],[1109,50,1110,52],[1109,54,1110,56],[1109,57,1110,59],[1111,20,1111,22],[1111,23,1111,25],[1111,27,1111,29],[1111,30,1111,32],[1111,34,1111,36],[1111,37,1111,39],[1111,40,1111,42],[1111,43,1111,45],[1111,47,1111,49],[1111,50,1111,52],[1111,54,1111,56],[1111,57,1111,59],[1132,20,1133,20],[1132,27,1133,27],[1132,34,1133,34],[1132,40,1133,40],[1132,47,1133,47],[1132,54,1133,54]],"merged_total":2269,"flags":["merged_cut"]}
["1st Game ",{"$nulls":5},".","2nd Game ",{"$nulls":5},".","3rd Game ",{"$nulls":5},"4th Game",{"$nulls":5},".","5th Game",{"$nulls":5},".","6th Game",{"$nulls":5},"7th Game",{"$nulls":5},".","8th Game"]
["Team No",null,null,"Rink No",{"$nulls":3},"Team No",null,null,"Rink No",{"$nulls":3},"Team No",null,null,"Rink No",null,null,"Team No",null,null,"Rink No",{"$nulls":3},"Team No",null,null,"Rink No",{"$nulls":3},"Team No",null,null,"Rink No",null,null,"Team No",null,null,"Rink No",{"$nulls":3},"Team No",null,null,"Rink No"]
[]
[{"$f":"DRAW!#REF!","v":{"$error":"#REF!"}},null,null,{"$f":"DRAW!#REF!","v":{"$error":"#REF!"}},null,null,".",{"$f":"DRAW!#REF!","v":{"$error":"#REF!"}},null,null,{"$f":"DRAW!#REF!","v":{"$error":"#REF!"}},null,null,".",{"$f":"DRAW!#REF!","v":{"$error":"#REF!"}},null,null,{"$f":"DRAW!#REF!","v":{"$error":"#REF!"}},null,null,{"$f":"DRAW!#REF!","v":{"$error":"#REF!"}},null,null,{"$f":"DRAW!#REF!","v":{"$error":"#REF!"}},null,null,".",{"$f":"DRAW!#REF!","v":{"$error":"#REF!"}},null,null,{"$f":"DRAW!#REF!","v":{"$error":"#REF!"}},null,null,".",{"$f":"DRAW!#REF!","v":{"$error":"#REF!"}},null,null,{"$f":"DRAW!#REF!","v":{"$error":"#REF!"}},null,null,{"$f":"DRAW!#REF!","v":{"$error":"#REF!"}},null,null,{"$f":"DRAW!#REF!","v":{"$error":"#REF!"}},null,null,".",{"$f":"DRAW!#REF!","v":{"$error":"#REF!"}},null,null,{"$f":"DRAW!#REF!","v":{"$error":"#REF!"}}]
[null,"Team",{"$f":"DRAW!#REF!","v":{"$error":"#REF!"}},"V","Team",{"$f":"DRAW!#REF!","v":{"$error":"#REF!"}},null,null,"Team",{"$f":"DRAW!#REF!","v":{"$error":"#REF!"}},"V","Team",{"$f":"DRAW!#REF!","v":{"$error":"#REF!"}},null,null,"Team",{"$f":"DRAW!#REF!","v":{"$error":"#REF!"}},"V","Team",{"$f":"DRAW!#REF!","v":{"$error":"#REF!"}},null,"Team",{"$f":"DRAW!#REF!","v":{"$error":"#REF!"}},"V","Team",{"$f":"DRAW!#REF!","v":{"$error":"#REF!"}},null,null,"Team",{"$f":"DRAW!#REF!","v":{"$error":"#REF!"}},"V","Team",{"$f":"DRAW!#REF!","v":{"$error":"#REF!"}},null,null,"Team",{"$f":"DRAW!#REF!","v":{"$error":"#REF!"}},"V","Team",{"$f":"DRAW!#REF!","v":{"$error":"#REF!"}},null,"Team",{"$f":"DRAW!#REF!","v":{"$error":"#REF!"}},"V","Team",{"$f":"DRAW!#REF!","v":{"$error":"#REF!"}},null,null,"Team",{"$f":"DRAW!#REF!","v":{"$error":"#REF!"}},"V","Team",{"$f":"DRAW!#REF!","v":{"$error":"#REF!"}}]
["Ends","Shots","Total",null,"Shots","Total",null,"Ends","Shots","Total",null,"Shots","Total",null,"Ends","Shots","Total",null,"Shots","Total","Ends","Shots","Total",null,"Shots","Total",null,"Ends","Shots","Total",null,"Shots","Total",null,"Ends","Shots","Total",null,"Shots","Total","Ends","Shots","Total",null,"Shots","Total",null,"Ends","Shots","Total",null,"shots","Totar"]
[1,{"$nulls":5},".",1,{"$nulls":5},".",1,{"$nulls":5},1,{"$nulls":5},".",1,{"$nulls":5},".",1,{"$nulls":5},1,{"$nulls":5},".",1]
[2,{"$nulls":6},2,{"$nulls":6},2,{"$nulls":5},2,{"$nulls":6},2,{"$nulls":6},2,{"$nulls":5},2,{"$nulls":6},2]
[3,{"$nulls":6},3,{"$nulls":6},3,{"$nulls":5},3,{"$nulls":6},3,{"$nulls":6},3,{"$nulls":5},3,{"$nulls":6},3]
[4,{"$nulls":6},4,{"$nulls":6},4,{"$nulls":5},4,{"$nulls":6},4,{"$nulls":6},4,{"$nulls":5},4,{"$nulls":6},4]
[5,{"$nulls":5},".",5,{"$nulls":5},".",5,{"$nulls":5},5,{"$nulls":5},".",5,{"$nulls":5},".",5,{"$nulls":5},5,{"$nulls":5},".",5]
[6,{"$nulls":6},6,{"$nulls":6},6,{"$nulls":5},6,{"$nulls":6},6,{"$nulls":6},6,{"$nulls":5},6,{"$nulls":6},6]
[7,{"$nulls":6},7,{"$nulls":6},7,{"$nulls":5},7,{"$nulls":6},7,{"$nulls":6},7,{"$nulls":5},7,{"$nulls":6},7]
[8,{"$nulls":6},8,{"$nulls":6},8,{"$nulls":5},8,{"$nulls":6},8,{"$nulls":6},8,{"$nulls":5},8,{"$nulls":6},8]
[9,{"$nulls":5},".",9,{"$nulls":5},".",9,{"$nulls":5},9,{"$nulls":5},".",9,{"$nulls":5},".",9,{"$nulls":5},9,{"$nulls":5},".",9]
[10,{"$nulls":6},10,{"$nulls":6},10,{"$nulls":5},10,{"$nulls":6},10,{"$nulls":6},10,{"$nulls":5},10,{"$nulls":6},10]
[11,{"$nulls":6},11,{"$nulls":6},11,{"$nulls":5},11,{"$nulls":6},11,{"$nulls":6},11,{"$nulls":5},11,{"$nulls":6},11]
[12,{"$nulls":6},12,{"$nulls":6},12,{"$nulls":5},12,{"$nulls":6},12,{"$nulls":6},12,{"$nulls":5},12,{"$nulls":6},12]
[13,{"$nulls":5},".",13,{"$nulls":5},".",13,{"$nulls":5},13,{"$nulls":5},".",13,{"$nulls":5},".",13,{"$nulls":5},13,{"$nulls":5},".",13]
[14,{"$nulls":6},14,{"$nulls":6},14,{"$nulls":5},14,{"$nulls":6},14,{"$nulls":6},14,{"$nulls":5},14,{"$nulls":6},14]
[15,{"$nulls":6},15,{"$nulls":6},15,{"$nulls":5},15,{"$nulls":6},15,{"$nulls":6},15,{"$nulls":5},15,{"$nulls":6},15]
[16,{"$nulls":6},16,{"$nulls":6},16,{"$nulls":5},16,{"$nulls":6},16,{"$nulls":6},16,{"$nulls":5},16,{"$nulls":6},16]
[17,{"$nulls":5},".",17,{"$nulls":5},".",17,{"$nulls":5},17,{"$nulls":5},".",17,{"$nulls":5},".",17,{"$nulls":5},17,{"$nulls":5},".",17]
[18,{"$nulls":6},18,{"$nulls":6},18,{"$nulls":5},18,{"$nulls":6},18,{"$nulls":6},18,{"$nulls":5},18,{"$nulls":6},18]
["Total","Shots",null,null,"Shots",null,null,"Total","Shots",null,null,"Shots",null,null,"Total","Shots",null,null,"Shots",null,"Total","Shots",null,null,"Shots",null,null,"Total","Shots",null,null,"Shots",null,null,"Total","Shots",null,null,"Shots",null,"Total","Shots",null,null,"Shots",null,null,"Total","Shots",null,null,"shots"]
[null,"Ends",null,null,"Ends",null,".",null,"Ends",null,null,"Ends",null,".",null,"Ends",null,null,"Ends",null,null,"Ends",null,null,"Ends",null,".",null,"Ends",null,null,"Ends",null,".",null,"Ends",null,null,"Ends",null,null,"Ends",null,null,"Ends",null,".",null,"Ends",null,null,"Ends"]
[]
[]
["1st Game ",{"$nulls":5},".","2nd Game ",{"$nulls":5},".","3rd Game ",{"$nulls":5},"4th Game",{"$nulls":5},".","5th Game",{"$nulls":5},".","6th Game",{"$nulls":5},"7th Game",{"$nulls":5},".","8th Game"]
["Team No",null,null,"Rink No",{"$nulls":3},"Team No",null,null,"Rink No",{"$nulls":3},"Team No",null,null,"Rink No",null,null,"Team No",null,null,"Rink No",{"$nulls":3},"Team No",null,null,"Rink No",{"$nulls":3},"Team No",null,null,"Rink No",null,null,"Team No",null,null,"Rink No",{"$nulls":3},"Team No",null,null,"Rink No"]
[]
[{"$f":"DRAW!#REF!","v":{"$error":"#REF!"}},null,null,{"$f":"DRAW!#REF!","v":{"$error":"#REF!"}},null,null,".",{"$f":"DRAW!#REF!","v":{"$error":"#REF!"}},null,null,{"$f":"DRAW!#REF!","v":{"$error":"#REF!"}},null,null,".",{"$f":"DRAW!#REF!","v":{"$error":"#REF!"}},null,null,{"$f":"DRAW!#REF!","v":{"$error":"#REF!"}},null,null,{"$f":"DRAW!#REF!","v":{"$error":"#REF!"}},null,null,{"$f":"DRAW!#REF!","v":{"$error":"#REF!"}},null,null,".",{"$f":"DRAW!#REF!","v":{"$error":"#REF!"}},null,null,{"$f":"DRAW!#REF!","v":{"$error":"#REF!"}},null,null,".",{"$f":"DRAW!#REF!","v":{"$error":"#REF!"}},null,null,{"$f":"DRAW!#REF!","v":{"$error":"#REF!"}},null,null,{"$f":"DRAW!#REF!","v":{"$error":"#REF!"}},null,null,{"$f":"DRAW!#REF!","v":{"$error":"#REF!"}},null,null,".",{"$f":"DRAW!#REF!","v":{"$error":"#REF!"}},null,null,{"$f":"DRAW!#REF!","v":{"$error":"#REF!"}}]
[null,"Team",{"$f":"DRAW!#REF!","v":{"$error":"#REF!"}},"V","Team",{"$f":"DRAW!#REF!","v":{"$error":"#REF!"}},null,null,"Team",{"$f":"DRAW!#REF!","v":{"$error":"#REF!"}},"V","Team",{"$f":"DRAW!#REF!","v":{"$error":"#REF!"}},null,null,"Team",{"$f":"DRAW!#REF!","v":{"$error":"#REF!"}},"V","Team",{"$f":"DRAW!#REF!","v":{"$error":"#REF!"}},null,"Team",{"$f":"DRAW!#REF!","v":{"$error":"#REF!"}},"V","Team",{"$f":"DRAW!#REF!","v":{"$error":"#REF!"}},null,null,"Team",{"$f":"DRAW!#REF!","v":{"$error":"#REF!"}},"V","Team",{"$f":"DRAW!#REF!","v":{"$error":"#REF!"}},null,null,"Team",{"$f":"DRAW!#REF!","v":{"$error":"#REF!"}},"V","Team",{"$f":"DRAW!#REF!","v":{"$error":"#REF!"}},null,"Team",{"$f":"DRAW!#REF!","v":{"$error":"#REF!"}},"V","Team",{"$f":"DRAW!#REF!","v":{"$error":"#REF!"}},null,null,"Team",{"$f":"DRAW!#REF!","v":{"$error":"#REF!"}},"V","Team",{"$f":"DRAW!#REF!","v":{"$error":"#REF!"}}]
["Ends","Shots","Total",null,"Shots","Total",null,"Ends","Shots","Total",null,"Shots","Total",null,"Ends","Shots","Total",null,"Shots","Total","Ends","Shots","Total",null,"Shots","Total",null,"Ends","Shots","Total",null,"Shots","Total",null,"Ends","Shots","Total",null,"Shots","Total","Ends","Shots","Total",null,"Shots","Total",null,"Ends","Shots","Total",null,"shots","Totar"]
[1,{"$nulls":5},".",1,{"$nulls":5},".",1,{"$nulls":5},1,{"$nulls":5},".",1,{"$nulls":5},".",1,{"$nulls":5},1,{"$nulls":5},".",1]
[2,{"$nulls":6},2,{"$nulls":6},2,{"$nulls":5},2,{"$nulls":6},2,{"$nulls":6},2,{"$nulls":5},2,{"$nulls":6},2]
[3,{"$nulls":6},3,{"$nulls":6},3,{"$nulls":5},3,{"$nulls":6},3,{"$nulls":6},3,{"$nulls":5},3,{"$nulls":6},3]
[4,{"$nulls":6},4,{"$nulls":6},4,{"$nulls":5},4,{"$nulls":6},4,{"$nulls":6},4,{"$nulls":5},4,{"$nulls":6},4]
[5,{"$nulls":5},".",5,{"$nulls":5},".",5,{"$nulls":5},5,{"$nulls":5},".",5,{"$nulls":5},".",5,{"$nulls":5},5,{"$nulls":5},".",5]
[6,{"$nulls":6},6,{"$nulls":6},6,{"$nulls":5},6,{"$nulls":6},6,{"$nulls":6},6,{"$nulls":5},6,{"$nulls":6},6]
[7,{"$nulls":6},7,{"$nulls":6},7,{"$nulls":5},7,{"$nulls":6},7,{"$nulls":6},7,{"$nulls":5},7,{"$nulls":6},7]
[8,{"$nulls":6},8,{"$nulls":6},8,{"$nulls":5},8,{"$nulls":6},8,{"$nulls":6},8,{"$nulls":5},8,{"$nulls":6},8]
[9,{"$nulls":5},".",9,{"$nulls":5},".",9,{"$nulls":5},9,{"$nulls":5},".",9,{"$nulls":5},".",9,{"$nulls":5},9,{"$nulls":5},".",9]
[10,{"$nulls":6},10,{"$nulls":6},10,{"$nulls":5},10,{"$nulls":6},10,{"$nulls":6},10,{"$nulls":5},10,{"$nulls":6},10]
[11,{"$nulls":6},11,{"$nulls":6},11,{"$nulls":5},11,{"$nulls":6},11,{"$nulls":6},11,{"$nulls":5},11,{"$nulls":6},11]
[12,{"$nulls":6},12,{"$nulls":6},12,{"$nulls":5},12,{"$nulls":6},12,{"$nulls":6},12,{"$nulls":5},12,{"$nulls":6},12]
[13,{"$nulls":5},".",13,{"$nulls":5},".",13,{"$nulls":5},13,{"$nulls":5},".",13,{"$nulls":5},".",13,{"$nulls":5},13,{"$nulls":5},".",13]
[14,{"$nulls":6},14,{"$nulls":6},14,{"$nulls":5},14,{"$nulls":6},14,{"$nulls":6},14,{"$nulls":5},14,{"$nulls":6},14]
[15,{"$nulls":6},15,{"$nulls":6},15,{"$nulls":5},15,{"$nulls":6},15,{"$nulls":6},15,{"$nulls":5},15,{"$nulls":6},15]
[16,{"$nulls":6},16,{"$nulls":6},16,{"$nulls":5},16,{"$nulls":6},16,{"$nulls":6},16,{"$nulls":5},16,{"$nulls":6},16]
[17,{"$nulls":5},".",17,{"$nulls":5},".",17,{"$nulls":5},17,{"$nulls":5},".",17,{"$nulls":5},".",17,{"$nulls":5},17,{"$nulls":5},".",17]
[18,{"$nulls":6},18,{"$nulls":6},18,{"$nulls":5},18,{"$nulls":6},18,{"$nulls":6},18,{"$nulls":5},18,{"$nulls":6},18]
["Total","Shots",null,null,"Shots",null,null,"Total","Shots",null,null,"Shots",null,null,"Total","Shots",null,null,"Shots",null,"Total","Shots",null,null,"Shots",null,null,"Total","Shots",null,null,"Shots",null,null,"Total","Shots",null,null,"Shots",null,"Total","Shots",null,null,"Shots",null,null,"Total","Shots",null,null,"shots"]
[null,"Ends",null,null,"Ends",null,".",null,"Ends",null,null,"Ends",null,".",null,"Ends",null,null,"Ends",null,null,"Ends",null,null,"Ends",null,".",null,"Ends",null,null,"Ends",null,".",null,"Ends",null,null,"Ends",null,null,"Ends",null,null,"Ends",null,".",null,"Ends",null,null,"Ends"]
["1st Game ",{"$nulls":5},".","2nd Game ",{"$nulls":5},".","3rd Game ",{"$nulls":5},"4th Game",{"$nulls":5},".","5th Game",{"$nulls":5},".","6th Game",{"$nulls":5},"7th Game",{"$nulls":5},".","8th Game"]
["Team No",null,null,"Rink No",{"$nulls":3},"Team No",null,null,"Rink No",{"$nulls":3},"Team No",null,null,"Rink No",null,null,"Team No",null,null,"Rink No",{"$nulls":3},"Team No",null,null,"Rink No",{"$nulls":3},"Team No",null,null,"Rink No",null,null,"Team No",null,null,"Rink No",{"$nulls":3},"Team No",null,null,"Rink No"]
[]
[{"$f":"DRAW!#REF!","v":{"$error":"#REF!"}},null,null,{"$f":"DRAW!#REF!","v":{"$error":"#REF!"}},null,null,".",{"$f":"DRAW!#REF!","v":{"$error":"#REF!"}},null,null,{"$f":"DRAW!#REF!","v":{"$error":"#REF!"}},null,null,".",{"$f":"DRAW!#REF!","v":{"$error":"#REF!"}},null,null,{"$f":"DRAW!#REF!","v":{"$error":"#REF!"}},null,null,{"$f":"DRAW!#REF!","v":{"$error":"#REF!"}},null,null,{"$f":"DRAW!#REF!","v":{"$error":"#REF!"}},null,null,".",{"$f":"DRAW!#REF!","v":{"$error":"#REF!"}},null,null,{"$f":"DRAW!#REF!","v":{"$error":"#REF!"}},null,null,".",{"$f":"DRAW!#REF!","v":{"$error":"#REF!"}},null,null,{"$f":"DRAW!#REF!","v":{"$error":"#REF!"}},null,null,{"$f":"DRAW!#REF!","v":{"$error":"#REF!"}},null,null,{"$f":"DRAW!#REF!","v":{"$error":"#REF!"}},null,null,".",{"$f":"DRAW!#REF!","v":{"$error":"#REF!"}},null,null,{"$f":"DRAW!#REF!","v":{"$error":"#REF!"}}]
[null,"Team",{"$f":"DRAW!#REF!","v":{"$error":"#REF!"}},"V","Team",{"$f":"DRAW!#REF!","v":{"$error":"#REF!"}},null,null,"Team",{"$f":"DRAW!#REF!","v":{"$error":"#REF!"}},"V","Team",{"$f":"DRAW!#REF!","v":{"$error":"#REF!"}},null,null,"Team",{"$f":"DRAW!#REF!","v":{"$error":"#REF!"}},"V","Team",{"$f":"DRAW!#REF!","v":{"$error":"#REF!"}},null,"Team",{"$f":"DRAW!#REF!","v":{"$error":"#REF!"}},"V","Team",{"$f":"DRAW!#REF!","v":{"$error":"#REF!"}},null,null,"Team",{"$f":"DRAW!#REF!","v":{"$error":"#REF!"}},"V","Team",{"$f":"DRAW!#REF!","v":{"$error":"#REF!"}},null,null,"Team",{"$f":"DRAW!#REF!","v":{"$error":"#REF!"}},"V","Team",{"$f":"DRAW!#REF!","v":{"$error":"#REF!"}},null,"Team",{"$f":"DRAW!#REF!","v":{"$error":"#REF!"}},"V","Team",{"$f":"DRAW!#REF!","v":{"$error":"#REF!"}},null,null,"Team",{"$f":"DRAW!#REF!","v":{"$error":"#REF!"}},"V","Team",{"$f":"DRAW!#REF!","v":{"$error":"#REF!"}}]
["Ends","Shots","Total",null,"Shots","Total",null,"Ends","Shots","Total",null,"Shots","Total",null,"Ends","Shots","Total",null,"Shots","Total","Ends","Shots","Total",null,"Shots","Total",null,"Ends","Shots","Total",null,"Shots","Total",null,"Ends","Shots","Total",null,"Shots","Total","Ends","Shots","Total",null,"Shots","Total",null,"Ends","Shots","Total",null,"shots","Totar"]
[1,{"$nulls":5},".",1,{"$nulls":5},".",1,{"$nulls":5},1,{"$nulls":5},".",1,{"$nulls":5},".",1,{"$nulls":5},1,{"$nulls":5},".",1]
[2,{"$nulls":6},2,{"$nulls":6},2,{"$nulls":5},2,{"$nulls":6},2,{"$nulls":6},2,{"$nulls":5},2,{"$nulls":6},2]
[3,{"$nulls":6},3,{"$nulls":6},3,{"$nulls":5},3,{"$nulls":6},3,{"$nulls":6},3,{"$nulls":5},3,{"$nulls":6},3]
[4,{"$nulls":6},4,{"$nulls":6},4,{"$nulls":5},4,{"$nulls":6},4,{"$nulls":6},4,{"$nulls":5},4,{"$nulls":6},4]
[5,{"$nulls":5},".",5,{"$nulls":5},".",5,{"$nulls":5},5,{"$nulls":5},".",5,{"$nulls":5},".",5,{"$nulls":5},5,{"$nulls":5},".",5]
[6,{"$nulls":6},6,{"$nulls":6},6,{"$nulls":5},6,{"$nulls":6},6,{"$nulls":6},6,{"$nulls":5},6,{"$nulls":6},6]
[7,{"$nulls":6},7,{"$nulls":6},7,{"$nulls":5},7,{"$nulls":6},7,{"$nulls":6},7,{"$nulls":5},7,{"$nulls":6},7]
[8,{"$nulls":6},8,{"$nulls":6},8,{"$nulls":5},8,{"$nulls":6},8,{"$nulls":6},8,{"$nulls":5},8,{"$nulls":6},8]
[9,{"$nulls":5},".",9,{"$nulls":5},".",9,{"$nulls":5},9,{"$nulls":5},".",9,{"$nulls":5},".",9,{"$nulls":5},9,{"$nulls":5},".",9]
[10,{"$nulls":6},10,{"$nulls":6},10,{"$nulls":5},10,{"$nulls":6},10,{"$nulls":6},10,{"$nulls":5},10,{"$nulls":6},10]
[11,{"$nulls":6},11,{"$nulls":6},11,{"$nulls":5},11,{"$nulls":6},11,{"$nulls":6},11,{"$nulls":5},11,{"$nulls":6},11]
[12,{"$nulls":6},12,{"$nulls":6},12,{"$nulls":5},12,{"$nulls":6},12,{"$nulls":6},12,{"$nulls":5},12,{"$nulls":6},12]
[13,{"$nulls":5},".",13,{"$nulls":5},".",13,{"$nulls":5},13,{"$nulls":5},".",13,{"$nulls":5},".",13,{"$nulls":5},13,{"$nulls":5},".",13]
[14,{"$nulls":6},14,{"$nulls":6},14,{"$nulls":5},14,{"$nulls":6},14,{"$nulls":6},14,{"$nulls":5},14,{"$nulls":6},14]
[15,{"$nulls":6},15,{"$nulls":6},15,{"$nulls":5},15,{"$nulls":6},15,{"$nulls":6},15,{"$nulls":5},15,{"$nulls":6},15]
[16,{"$nulls":6},16,{"$nulls":6},16,{"$nulls":5},16,{"$nulls":6},16,{"$nulls":6},16,{"$nulls":5},16,{"$nulls":6},16]
[17,{"$nulls":5},".",17,{"$nulls":5},".",17,{"$nulls":5},17,{"$nulls":5},".",17,{"$nulls":5},".",17,{"$nulls":5},17,{"$nulls":5},".",17]
[18,{"$nulls":6},18,{"$nulls":6},18,{"$nulls":5},18,{"$nulls":6},18,{"$nulls":6},18,{"$nulls":5},18,{"$nulls":6},18]
["Total","Shots",null,null,"Shots",null,null,"Total","Shots",null,null,"Shots",null,null,"Total","Shots",null,null,"Shots",null,"Total","Shots",null,null,"Shots",null,null,"Total","Shots",null,null,"Shots",null,null,"Total","Shots",null,null,"Shots",null,"Total","Shots",null,null,"Shots",null,null,"Total","Shots",null,null,"shots"]
[null,"Ends",null,null,"Ends",null,".",null,"Ends",null,null,"Ends",null,".",null,"Ends",null,null,"Ends",null,null,"Ends",null,null,"Ends",null,".",null,"Ends",null,null,"Ends",null,".",null,"Ends",null,null,"Ends",null,null,"Ends",null,null,"Ends",null,".",null,"Ends",null,null,"Ends"]
[]
[]
["1st Game ",{"$nulls":5},".","2nd Game ",{"$nulls":5},".","3rd Game ",{"$nulls":5},"4th Game",{"$nulls":5},".","5th Game",{"$nulls":5},".","6th Game",{"$nulls":5},"7th Game",{"$nulls":5},".","8th Game"]
["Team No",null,null,"Rink No",{"$nulls":3},"Team No",null,null,"Rink No",{"$nulls":3},"Team No",null,null,"Rink No",null,null,"Team No",null,null,"Rink No",{"$nulls":3},"Team No",null,null,"Rink No",{"$nulls":3},"Team No",null,null,"Rink No",null,null,"Team No",null,null,"Rink No",{"$nulls":3},"Team No",null,null,"Rink No"]
[]
[{"$f":"DRAW!#REF!","v":{"$error":"#REF!"}},null,null,{"$f":"DRAW!#REF!","v":{"$error":"#REF!"}},null,null,".",{"$f":"DRAW!#REF!","v":{"$error":"#REF!"}},null,null,{"$f":"DRAW!#REF!","v":{"$error":"#REF!"}},null,null,".",{"$f":"DRAW!#REF!","v":{"$error":"#REF!"}},null,null,{"$f":"DRAW!#REF!","v":{"$error":"#REF!"}},null,null,{"$f":"DRAW!#REF!","v":{"$error":"#REF!"}},null,null,{"$f":"DRAW!#REF!","v":{"$error":"#REF!"}},null,null,".",{"$f":"DRAW!#REF!","v":{"$error":"#REF!"}},null,null,{"$f":"DRAW!#REF!","v":{"$error":"#REF!"}},null,null,".",{"$f":"DRAW!#REF!","v":{"$error":"#REF!"}},null,null,{"$f":"DRAW!#REF!","v":{"$error":"#REF!"}},null,null,{"$f":"DRAW!#REF!","v":{"$error":"#REF!"}},null,null,{"$f":"DRAW!#REF!","v":{"$error":"#REF!"}},null,null,".",{"$f":"DRAW!#REF!","v":{"$error":"#REF!"}},null,null,{"$f":"DRAW!#REF!","v":{"$error":"#REF!"}}]
[null,"Team",{"$f":"DRAW!#REF!","v":{"$error":"#REF!"}},"V","Team",{"$f":"DRAW!#REF!","v":{"$error":"#REF!"}},null,null,"Team",{"$f":"DRAW!#REF!","v":{"$error":"#REF!"}},"V","Team",{"$f":"DRAW!#REF!","v":{"$error":"#REF!"}},null,null,"Team",{"$f":"DRAW!#REF!","v":{"$error":"#REF!"}},"V","Team",{"$f":"DRAW!#REF!","v":{"$error":"#REF!"}},null,"Team",{"$f":"DRAW!#REF!","v":{"$error":"#REF!"}},"V","Team",{"$f":"DRAW!#REF!","v":{"$error":"#REF!"}},null,null,"Team",{"$f":"DRAW!#REF!","v":{"$error":"#REF!"}},"V","Team",{"$f":"DRAW!#REF!","v":{"$error":"#REF!"}},null,null,"Team",{"$f":"DRAW!#REF!","v":{"$error":"#REF!"}},"V","Team",{"$f":"DRAW!#REF!","v":{"$error":"#REF!"}},null,"Team",{"$f":"DRAW!#REF!","v":{"$error":"#REF!"}},"V","Team",{"$f":"DRAW!#REF!","v":{"$error":"#REF!"}},null,null,"Team",{"$f":"DRAW!#REF!","v":{"$error":"#REF!"}},"V","Team",{"$f":"DRAW!#REF!","v":{"$error":"#REF!"}}]
["Ends","Shots","Total",null,"Shots","Total",null,"Ends","Shots","Total",null,"Shots","Total",null,"Ends","Shots","Total",null,"Shots","Total","Ends","Shots","Total",null,"Shots","Total",null,"Ends","Shots","Total",null,"Shots","Total",null,"Ends","Shots","Total",null,"Shots","Total","Ends","Shots","Total",null,"Shots","Total",null,"Ends","Shots","Total",null,"shots","Totar"]
[1,{"$nulls":5},".",1,{"$nulls":5},".",1,{"$nulls":5},1,{"$nulls":5},".",1,{"$nulls":5},".",1,{"$nulls":5},1,{"$nulls":5},".",1]
[2,{"$nulls":6},2,{"$nulls":6},2,{"$nulls":5},2,{"$nulls":6},2,{"$nulls":6},2,{"$nulls":5},2,{"$nulls":6},2]
[3,{"$nulls":6},3,{"$nulls":6},3,{"$nulls":5},3,{"$nulls":6},3,{"$nulls":6},3,{"$nulls":5},3,{"$nulls":6},3]
[4,{"$nulls":6},4,{"$nulls":6},4,{"$nulls":5},4,{"$nulls":6},4,{"$nulls":6},4,{"$nulls":5},4,{"$nulls":6},4]
[5,{"$nulls":5},".",5,{"$nulls":5},".",5,{"$nulls":5},5,{"$nulls":5},".",5,{"$nulls":5},".",5,{"$nulls":5},5,{"$nulls":5},".",5]
[6,{"$nulls":6},6,{"$nulls":6},6,{"$nulls":5},6,{"$nulls":6},6,{"$nulls":6},6,{"$nulls":5},6,{"$nulls":6},6]
[7,{"$nulls":6},7,{"$nulls":6},7,{"$nulls":5},7,{"$nulls":6},7,{"$nulls":6},7,{"$nulls":5},7,{"$nulls":6},7]
[8,{"$nulls":6},8,{"$nulls":6},8,{"$nulls":5},8,{"$nulls":6},8,{"$nulls":6},8,{"$nulls":5},8,{"$nulls":6},8]
[9,{"$nulls":5},".",9,{"$nulls":5},".",9,{"$nulls":5},9,{"$nulls":5},".",9,{"$nulls":5},".",9,{"$nulls":5},9,{"$nulls":5},".",9]
[10,{"$nulls":6},10,{"$nulls":6},10,{"$nulls":5},10,{"$nulls":6},10,{"$nulls":6},10,{"$nulls":5},10,{"$nulls":6},10]
[11,{"$nulls":6},11,{"$nulls":6},11,{"$nulls":5},11,{"$nulls":6},11,{"$nulls":6},11,{"$nulls":5},11,{"$nulls":6},11]
[12,{"$nulls":6},12,{"$nulls":6},12,{"$nulls":5},12,{"$nulls":6},12,{"$nulls":6},12,{"$nulls":5},12,{"$nulls":6},12]
[13,{"$nulls":5},".",13,{"$nulls":5},".",13,{"$nulls":5},13,{"$nulls":5},".",13,{"$nulls":5},".",13,{"$nulls":5},13,{"$nulls":5},".",13]
[14,{"$nulls":6},14,{"$nulls":6},14,{"$nulls":5},14,{"$nulls":6},14,{"$nulls":6},14,{"$nulls":5},14,{"$nulls":6},14]
[15,{"$nulls":6},15,{"$nulls":6},15,{"$nulls":5},15,{"$nulls":6},15,{"$nulls":6},15,{"$nulls":5},15,{"$nulls":6},15]
[16,{"$nulls":6},16,{"$nulls":6},16,{"$nulls":5},16,{"$nulls":6},16,{"$nulls":6},16,{"$nulls":5},16,{"$nulls":6},16]
[17,{"$nulls":5},".",17,{"$nulls":5},".",17,{"$nulls":5},17,{"$nulls":5},".",17,{"$nulls":5},".",17,{"$nulls":5},17,{"$nulls":5},".",17]
[18,{"$nulls":6},18,{"$nulls":6},18,{"$nulls":5},18,{"$nulls":6},18,{"$nulls":6},18,{"$nulls":5},18,{"$nulls":6},18]
["Total","Shots",null,null,"Shots",null,null,"Total","Shots",null,null,"Shots",null,null,"Total","Shots",null,null,"Shots",null,"Total","Shots",null,null,"Shots",null,null,"Total","Shots",null,null,"Shots",null,null,"Total","Shots",null,null,"Shots",null,"Total","Shots",null,null,"Shots",null,null,"Total","Shots",null,null,"shots"]
[null,"Ends",null,null,"Ends",null,".",null,"Ends",null,null,"Ends",null,".",null,"Ends",null,null,"Ends",null,null,"Ends",null,null,"Ends",null,".",null,"Ends",null,null,"Ends",null,".",null,"Ends",null,null,"Ends",null,null,"Ends",null,null,"Ends",null,".",null,"Ends",null,null,"Ends"]
["1st Game ",{"$nulls":5},".","2nd Game ",{"$nulls":5},".","3rd Game ",{"$nulls":5},"4th Game",{"$nulls":5},".","5th Game",{"$nulls":5},".","6th Game",{"$nulls":5},"7th Game",{"$nulls":5},".","8th Game"]
["Team No",null,null,"Rink No",{"$nulls":3},"Team No",null,null,"Rink No",{"$nulls":3},"Team No",null,null,"Rink No",null,null,"Team No",null,null,"Rink No",{"$nulls":3},"Team No",null,null,"Rink No",{"$nulls":3},"Team No",null,null,"Rink No",null,null,"Team No",null,null,"Rink No",{"$nulls":3},"Team No",null,null,"Rink No"]
[]
[{"$f":"DRAW!#REF!","v":{"$error":"#REF!"}},null,null,{"$f":"DRAW!#REF!","v":{"$error":"#REF!"}},null,null,".",{"$f":"DRAW!#REF!","v":{"$error":"#REF!"}},null,null,{"$f":"DRAW!#REF!","v":{"$error":"#REF!"}},null,null,".",{"$f":"DRAW!#REF!","v":{"$error":"#REF!"}},null,null,{"$f":"DRAW!#REF!","v":{"$error":"#REF!"}},null,null,{"$f":"DRAW!#REF!","v":{"$error":"#REF!"}},null,null,{"$f":"DRAW!#REF!","v":{"$error":"#REF!"}},null,null,".",{"$f":"DRAW!#REF!","v":{"$error":"#REF!"}},null,null,{"$f":"DRAW!#REF!","v":{"$error":"#REF!"}},null,null,".",{"$f":"DRAW!#REF!","v":{"$error":"#REF!"}},null,null,{"$f":"DRAW!#REF!","v":{"$error":"#REF!"}},null,null,{"$f":"DRAW!#REF!","v":{"$error":"#REF!"}},null,null,{"$f":"DRAW!#REF!","v":{"$error":"#REF!"}},null,null,".",{"$f":"DRAW!#REF!","v":{"$error":"#REF!"}},null,null,{"$f":"DRAW!#REF!","v":{"$error":"#REF!"}}]
[null,"Team",{"$f":"DRAW!#REF!","v":{"$error":"#REF!"}},"V","Team",{"$f":"DRAW!#REF!","v":{"$error":"#REF!"}},null,null,"Team",{"$f":"DRAW!#REF!","v":{"$error":"#REF!"}},"V","Team",{"$f":"DRAW!#REF!","v":{"$error":"#REF!"}},null,null,"Team",{"$f":"DRAW!#REF!","v":{"$error":"#REF!"}},"V","Team",{"$f":"DRAW!#REF!","v":{"$error":"#REF!"}},null,"Team",{"$f":"DRAW!#REF!","v":{"$error":"#REF!"}},"V","Team",{"$f":"DRAW!#REF!","v":{"$error":"#REF!"}},null,null,"Team",{"$f":"DRAW!#REF!","v":{"$error":"#REF!"}},"V","Team",{"$f":"DRAW!#REF!","v":{"$error":"#REF!"}},null,null,"Team",{"$f":"DRAW!#REF!","v":{"$error":"#REF!"}},"V","Team",{"$f":"DRAW!#REF!","v":{"$error":"#REF!"}},null,"Team",{"$f":"DRAW!#REF!","v":{"$error":"#REF!"}},"V","Team",{"$f":"DRAW!#REF!","v":{"$error":"#REF!"}},null,null,"Team",{"$f":"DRAW!#REF!","v":{"$error":"#REF!"}},"V","Team",{"$f":"DRAW!#REF!","v":{"$error":"#REF!"}}]
["Ends","Shots","Total",null,"Shots","Total",null,"Ends","Shots","Total",null,"Shots","Total",null,"Ends","Shots","Total",null,"Shots","Total","Ends","Shots","Total",null,"Shots","Total",null,"Ends","Shots","Total",null,"Shots","Total",null,"Ends","Shots","Total",null,"Shots","Total","Ends","Shots","Total",null,"Shots","Total",null,"Ends","Shots","Total",null,"shots","Totar"]
[1,{"$nulls":5},".",1,{"$nulls":5},".",1,{"$nulls":5},1,{"$nulls":5},".",1,{"$nulls":5},".",1,{"$nulls":5},1,{"$nulls":5},".",1]
[2,{"$nulls":6},2,{"$nulls":6},2,{"$nulls":5},2,{"$nulls":6},2,{"$nulls":6},2,{"$nulls":5},2,{"$nulls":6},2]
[3,{"$nulls":6},3,{"$nulls":6},3,{"$nulls":5},3,{"$nulls":6},3,{"$nulls":6},3,{"$nulls":5},3,{"$nulls":6},3]
[4,{"$nulls":6},4,{"$nulls":6},4,{"$nulls":5},4,{"$nulls":6},4,{"$nulls":6},4,{"$nulls":5},4,{"$nulls":6},4]
[5,{"$nulls":5},".",5,{"$nulls":5},".",5,{"$nulls":5},5,{"$nulls":5},".",5,{"$nulls":5},".",5,{"$nulls":5},5,{"$nulls":5},".",5]
[6,{"$nulls":6},6,{"$nulls":6},6,{"$nulls":5},6,{"$nulls":6},6,{"$nulls":6},6,{"$nulls":5},6,{"$nulls":6},6]
[7,{"$nulls":6},7,{"$nulls":6},7,{"$nulls":5},7,{"$nulls":6},7,{"$nulls":6},7,{"$nulls":5},7,{"$nulls":6},7]
[8,{"$nulls":6},8,{"$nulls":6},8,{"$nulls":5},8,{"$nulls":6},8,{"$nulls":6},8,{"$nulls":5},8,{"$nulls":6},8]
[9,{"$nulls":5},".",9,{"$nulls":5},".",9,{"$nulls":5},9,{"$nulls":5},".",9,{"$nulls":5},".",9,{"$nulls":5},9,{"$nulls":5},".",9]
[10,{"$nulls":6},10,{"$nulls":6},10,{"$nulls":5},10,{"$nulls":6},10,{"$nulls":6},10,{"$nulls":5},10,{"$nulls":6},10]
[11,{"$nulls":6},11,{"$nulls":6},11,{"$nulls":5},11,{"$nulls":6},11,{"$nulls":6},11,{"$nulls":5},11,{"$nulls":6},11]
[12,{"$nulls":6},12,{"$nulls":6},12,{"$nulls":5},12,{"$nulls":6},12,{"$nulls":6},12,{"$nulls":5},12,{"$nulls":6},12]
[13,{"$nulls":5},".",13,{"$nulls":5},".",13,{"$nulls":5},13,{"$nulls":5},".",13,{"$nulls":5},".",13,{"$nulls":5},13,{"$nulls":5},".",13]
[14,{"$nulls":6},14,{"$nulls":6},14,{"$nulls":5},14,{"$nulls":6},14,{"$nulls":6},14,{"$nulls":5},14,{"$nulls":6},14]
[15,{"$nulls":6},15,{"$nulls":6},15,{"$nulls":5},15,{"$nulls":6},15,{"$nulls":6},15,{"$nulls":5},15,{"$nulls":6},15]
[16,{"$nulls":6},16,{"$nulls":6},16,{"$nulls":5},16,{"$nulls":6},16,{"$nulls":6},16,{"$nulls":5},16,{"$nulls":6},16]
[17,{"$nulls":5},".",17,{"$nulls":5},".",17,{"$nulls":5},17,{"$nulls":5},".",17,{"$nulls":5},".",17,{"$nulls":5},17,{"$nulls":5},".",17]
[18,{"$nulls":6},18,{"$nulls":6},18,{"$nulls":5},18,{"$nulls":6},18,{"$nulls":6},18,{"$nulls":5},18,{"$nulls":6},18]
["Total","Shots",null,null,"Shots",null,null,"Total","Shots",null,null,"Shots",null,null,"Total","Shots",null,null,"Shots",null,"Total","Shots",null,null,"Shots",null,null,"Total","Shots",null,null,"Shots",null,null,"Total","Shots",null,null,"Shots",null,"Total","Shots",null,null,"Shots",null,null,"Total","Shots",null,null,"shots"]
[null,"Ends",null,null,"Ends",null,".",null,"Ends",null,null,"Ends",null,".",null,"Ends",null,null,"Ends",null,null,"Ends",null,null,"Ends",null,".",null,"Ends",null,null,"Ends",null,".",null,"Ends",null,null,"Ends",null,null,"Ends",null,null,"Ends",null,".",null,"Ends",null,null,"Ends"]
[]
[]
["1st Game ",{"$nulls":5},".","2nd Game ",{"$nulls":5},".","3rd Game ",{"$nulls":5},"4th Game",{"$nulls":5},".","5th Game",{"$nulls":5},".","6th Game",{"$nulls":5},"7th Game",{"$nulls":5},".","8th Game"]
["Team No",null,null,"Rink No",{"$nulls":3},"Team No",null,null,"Rink No",{"$nulls":3},"Team No",null,null,"Rink No",null,null,"Team No",null,null,"Rink No",{"$nulls":3},"Team No",null,null,"Rink No",{"$nulls":3},"Team No",null,null,"Rink No",null,null,"Team No",null,null,"Rink No",{"$nulls":3},"Team No",null,null,"Rink No"]
[]
[{"$f":"DRAW!#REF!","v":{"$error":"#REF!"}},null,null,{"$f":"DRAW!#REF!","v":{"$error":"#REF!"}},null,null,".",{"$f":"DRAW!#REF!","v":{"$error":"#REF!"}},null,null,{"$f":"DRAW!#REF!","v":{"$error":"#REF!"}},null,null,".",{"$f":"DRAW!#REF!","v":{"$error":"#REF!"}},null,null,{"$f":"DRAW!#REF!","v":{"$error":"#REF!"}},null,null,{"$f":"DRAW!#REF!","v":{"$error":"#REF!"}},null,null,{"$f":"DRAW!#REF!","v":{"$error":"#REF!"}},null,null,".",{"$f":"DRAW!#REF!","v":{"$error":"#REF!"}},null,null,{"$f":"DRAW!#REF!","v":{"$error":"#REF!"}},null,null,".",{"$f":"DRAW!#REF!","v":{"$error":"#REF!"}},null,null,{"$f":"DRAW!#REF!","v":{"$error":"#REF!"}},null,null,{"$f":"DRAW!#REF!","v":{"$error":"#REF!"}},null,null,{"$f":"DRAW!#REF!","v":{"$error":"#REF!"}},null,null,".",{"$f":"DRAW!#REF!","v":{"$error":"#REF!"}},null,null,{"$f":"DRAW!#REF!","v":{"$error":"#REF!"}}]
[null,"Team",{"$f":"DRAW!#REF!","v":{"$error":"#REF!"}},"V","Team",{"$f":"DRAW!#REF!","v":{"$error":"#REF!"}},null,null,"Team",{"$f":"DRAW!#REF!","v":{"$error":"#REF!"}},"V","Team",{"$f":"DRAW!#REF!","v":{"$error":"#REF!"}},null,null,"Team",{"$f":"DRAW!#REF!","v":{"$error":"#REF!"}},"V","Team",{"$f":"DRAW!#REF!","v":{"$error":"#REF!"}},null,"Team",{"$f":"DRAW!#REF!","v":{"$error":"#REF!"}},"V","Team",{"$f":"DRAW!#REF!","v":{"$error":"#REF!"}},null,null,"Team",{"$f":"DRAW!#REF!","v":{"$error":"#REF!"}},"V","Team",{"$f":"DRAW!#REF!","v":{"$error":"#REF!"}},null,null,"Team",{"$f":"DRAW!#REF!","v":{"$error":"#REF!"}},"V","Team",{"$f":"DRAW!#REF!","v":{"$error":"#REF!"}},null,"Team",{"$f":"DRAW!#REF!","v":{"$error":"#REF!"}},"V","Team",{"$f":"DRAW!#REF!","v":{"$error":"#REF!"}},null,null,"Team",{"$f":"DRAW!#REF!","v":{"$error":"#REF!"}},"V","Team",{"$f":"DRAW!#REF!","v":{"$error":"#REF!"}}]
["Ends","Shots","Total",null,"Shots","Total",null,"Ends","Shots","Total",null,"Shots","Total",null,"Ends","Shots","Total",null,"Shots","Total","Ends","Shots","Total",null,"Shots","Total",null,"Ends","Shots","Total",null,"Shots","Total",null,"Ends","Shots","Total",null,"Shots","Total","Ends","Shots","Total",null,"Shots","Total",null,"Ends","Shots","Total",null,"shots","Totar"]
[1,{"$nulls":5},".",1,{"$nulls":5},".",1,{"$nulls":5},1,{"$nulls":5},".",1,{"$nulls":5},".",1,{"$nulls":5},1,{"$nulls":5},".",1]
[2,{"$nulls":6},2,{"$nulls":6},2,{"$nulls":5},2,{"$nulls":6},2,{"$nulls":6},2,{"$nulls":5},2,{"$nulls":6},2]
[3,{"$nulls":6},3,{"$nulls":6},3,{"$nulls":5},3,{"$nulls":6},3,{"$nulls":6},3,{"$nulls":5},3,{"$nulls":6},3]
[4,{"$nulls":6},4,{"$nulls":6},4,{"$nulls":5},4,{"$nulls":6},4,{"$nulls":6},4,{"$nulls":5},4,{"$nulls":6},4]
[5,{"$nulls":5},".",5,{"$nulls":5},".",5,{"$nulls":5},5,{"$nulls":5},".",5,{"$nulls":5},".",5,{"$nulls":5},5,{"$nulls":5},".",5]
[6,{"$nulls":6},6,{"$nulls":6},6,{"$nulls":5},6,{"$nulls":6},6,{"$nulls":6},6,{"$nulls":5},6,{"$nulls":6},6]
[7,{"$nulls":6},7,{"$nulls":6},7,{"$nulls":5},7,{"$nulls":6},7,{"$nulls":6},7,{"$nulls":5},7,{"$nulls":6},7]
[8,{"$nulls":6},8,{"$nulls":6},8,{"$nulls":5},8,{"$nulls":6},8,{"$nulls":6},8,{"$nulls":5},8,{"$nulls":6},8]
[9,{"$nulls":5},".",9,{"$nulls":5},".",9,{"$nulls":5},9,{"$nulls":5},".",9,{"$nulls":5},".",9,{"$nulls":5},9,{"$nulls":5},".",9]
[10,{"$nulls":6},10,{"$nulls":6},10,{"$nulls":5},10,{"$nulls":6},10,{"$nulls":6},10,{"$nulls":5},10,{"$nulls":6},10]
[11,{"$nulls":6},11,{"$nulls":6},11,{"$nulls":5},11,{"$nulls":6},11,{"$nulls":6},11,{"$nulls":5},11,{"$nulls":6},11]
[12,{"$nulls":6},12,{"$nulls":6},12,{"$nulls":5},12,{"$nulls":6},12,{"$nulls":6},12,{"$nulls":5},12,{"$nulls":6},12]
[13,{"$nulls":5},".",13,{"$nulls":5},".",13,{"$nulls":5},13,{"$nulls":5},".",13,{"$nulls":5},".",13,{"$nulls":5},13,{"$nulls":5},".",13]
[14,{"$nulls":6},14,{"$nulls":6},14,{"$nulls":5},14,{"$nulls":6},14,{"$nulls":6},14,{"$nulls":5},14,{"$nulls":6},14]
[15,{"$nulls":6},15,{"$nulls":6},15,{"$nulls":5},15,{"$nulls":6},15,{"$nulls":6},15,{"$nulls":5},15,{"$nulls":6},15]
[16,{"$nulls":6},16,{"$nulls":6},16,{"$nulls":5},16,{"$nulls":6},16,{"$nulls":6},16,{"$nulls":5},16,{"$nulls":6},16]
[17,{"$nulls":5},".",17,{"$nulls":5},".",17,{"$nulls":5},17,{"$nulls":5},".",17,{"$nulls":5},".",17,{"$nulls":5},17,{"$nulls":5},".",17]
[18,{"$nulls":6},18,{"$nulls":6},18,{"$nulls":5},18,{"$nulls":6},18,{"$nulls":6},18,{"$nulls":5},18,{"$nulls":6},18]
["Total","Shots",null,null,"Shots",null,null,"Total","Shots",null,null,"Shots",null,null,"Total","Shots",null,null,"Shots",null,"Total","Shots",null,null,"Shots",null,null,"Total","Shots",null,null,"Shots",null,null,"Total","Shots",null,null,"Shots",null,"Total","Shots",null,null,"Shots",null,null,"Total","Shots",null,null,"shots"]
[null,"Ends",null,null,"Ends",null,".",null,"Ends",null,null,"Ends",null,".",null,"Ends",null,null,"Ends",null,null,"Ends",null,null,"Ends",null,".",null,"Ends",null,null,"Ends",null,".",null,"Ends",null,null,"Ends",null,null,"Ends",null,null,"Ends",null,".",null,"Ends",null,null,"Ends"]
["1st Game ",{"$nulls":5},".","2nd Game ",{"$nulls":5},".","3rd Game ",{"$nulls":5},"4th Game",{"$nulls":5},".","5th Game",{"$nulls":5},".","6th Game",{"$nulls":5},"7th Game",{"$nulls":5},".","8th Game"]
["Team No",null,null,"Rink No",{"$nulls":3},"Team No",null,null,"Rink No",{"$nulls":3},"Team No",null,null,"Rink No",null,null,"Team No",null,null,"Rink No",{"$nulls":3},"Team No",null,null,"Rink No",{"$nulls":3},"Team No",null,null,"Rink No",null,null,"Team No",null,null,"Rink No",{"$nulls":3},"Team No",null,null,"Rink No"]
[]
[{"$f":"DRAW!#REF!","v":{"$error":"#REF!"}},null,null,{"$f":"DRAW!#REF!","v":{"$error":"#REF!"}},null,null,".",{"$f":"DRAW!#REF!","v":{"$error":"#REF!"}},null,null,{"$f":"DRAW!#REF!","v":{"$error":"#REF!"}},null,null,".",{"$f":"DRAW!#REF!","v":{"$error":"#REF!"}},null,null,{"$f":"DRAW!#REF!","v":{"$error":"#REF!"}},null,null,{"$f":"DRAW!#REF!","v":{"$error":"#REF!"}},null,null,{"$f":"DRAW!#REF!","v":{"$error":"#REF!"}},null,null,".",{"$f":"DRAW!#REF!","v":{"$error":"#REF!"}},null,null,{"$f":"DRAW!#REF!","v":{"$error":"#REF!"}},null,null,".",{"$f":"DRAW!#REF!","v":{"$error":"#REF!"}},null,null,{"$f":"DRAW!#REF!","v":{"$error":"#REF!"}},null,null,{"$f":"DRAW!#REF!","v":{"$error":"#REF!"}},null,null,{"$f":"DRAW!#REF!","v":{"$error":"#REF!"}},null,null,".",{"$f":"DRAW!#REF!","v":{"$error":"#REF!"}},null,null,{"$f":"DRAW!#REF!","v":{"$error":"#REF!"}}]
[null,"Team",{"$f":"DRAW!#REF!","v":{"$error":"#REF!"}},"V","Team",{"$f":"DRAW!#REF!","v":{"$error":"#REF!"}},null,null,"Team",{"$f":"DRAW!#REF!","v":{"$error":"#REF!"}},"V","Team",{"$f":"DRAW!#REF!","v":{"$error":"#REF!"}},null,null,"Team",{"$f":"DRAW!#REF!","v":{"$error":"#REF!"}},"V","Team",{"$f":"DRAW!#REF!","v":{"$error":"#REF!"}},null,"Team",{"$f":"DRAW!#REF!","v":{"$error":"#REF!"}},"V","Team",{"$f":"DRAW!#REF!","v":{"$error":"#REF!"}},null,null,"Team",{"$f":"DRAW!#REF!","v":{"$error":"#REF!"}},"V","Team",{"$f":"DRAW!#REF!","v":{"$error":"#REF!"}},null,null,"Team",{"$f":"DRAW!#REF!","v":{"$error":"#REF!"}},"V","Team",{"$f":"DRAW!#REF!","v":{"$error":"#REF!"}},null,"Team",{"$f":"DRAW!#REF!","v":{"$error":"#REF!"}},"V","Team",{"$f":"DRAW!#REF!","v":{"$error":"#REF!"}},null,null,"Team",{"$f":"DRAW!#REF!","v":{"$error":"#REF!"}},"V","Team",{"$f":"DRAW!#REF!","v":{"$error":"#REF!"}}]
["Ends","Shots","Total",null,"Shots","Total",null,"Ends","Shots","Total",null,"Shots","Total",null,"Ends","Shots","Total",null,"Shots","Total","Ends","Shots","Total",null,"Shots","Total",null,"Ends","Shots","Total",null,"Shots","Total",null,"Ends","Shots","Total",null,"Shots","Total","Ends","Shots","Total",null,"Shots","Total",null,"Ends","Shots","Total",null,"shots","Totar"]
[1,{"$nulls":5},".",1,{"$nulls":5},".",1,{"$nulls":5},1,{"$nulls":5},".",1,{"$nulls":5},".",1,{"$nulls":5},1,{"$nulls":5},".",1]
[2,{"$nulls":6},2,{"$nulls":6},2,{"$nulls":5},2,{"$nulls":6},2,{"$nulls":6},2,{"$nulls":5},2,{"$nulls":6},2]
[3,{"$nulls":6},3,{"$nulls":6},3,{"$nulls":5},3,{"$nulls":6},3,{"$nulls":6},3,{"$nulls":5},3,{"$nulls":6},3]
[4,{"$nulls":6},4,{"$nulls":6},4,{"$nulls":5},4,{"$nulls":6},4,{"$nulls":6},4,{"$nulls":5},4,{"$nulls":6},4]
[5,{"$nulls":5},".",5,{"$nulls":5},".",5,{"$nulls":5},5,{"$nulls":5},".",5,{"$nulls":5},".",5,{"$nulls":5},5,{"$nulls":5},".",5]
[6,{"$nulls":6},6,{"$nulls":6},6,{"$nulls":5},6,{"$nulls":6},6,{"$nulls":6},6,{"$nulls":5},6,{"$nulls":6},6]
[7,{"$nulls":6},7,{"$nulls":6},7,{"$nulls":5},7,{"$nulls":6},7,{"$nulls":6},7,{"$nulls":5},7,{"$nulls":6},7]
[8,{"$nulls":6},8,{"$nulls":6},8,{"$nulls":5},8,{"$nulls":6},8,{"$nulls":6},8,{"$nulls":5},8,{"$nulls":6},8]
[9,{"$nulls":5},".",9,{"$nulls":5},".",9,{"$nulls":5},9,{"$nulls":5},".",9,{"$nulls":5},".",9,{"$nulls":5},9,{"$nulls":5},".",9]
[10,{"$nulls":6},10,{"$nulls":6},10,{"$nulls":5},10,{"$nulls":6},10,{"$nulls":6},10,{"$nulls":5},10,{"$nulls":6},10]
[11,{"$nulls":6},11,{"$nulls":6},11,{"$nulls":5},11,{"$nulls":6},11,{"$nulls":6},11,{"$nulls":5},11,{"$nulls":6},11]
[12,{"$nulls":6},12,{"$nulls":6},12,{"$nulls":5},12,{"$nulls":6},12,{"$nulls":6},12,{"$nulls":5},12,{"$nulls":6},12]
[13,{"$nulls":5},".",13,{"$nulls":5},".",13,{"$nulls":5},13,{"$nulls":5},".",13,{"$nulls":5},".",13,{"$nulls":5},13,{"$nulls":5},".",13]
[14,{"$nulls":6},14,{"$nulls":6},14,{"$nulls":5},14,{"$nulls":6},14,{"$nulls":6},14,{"$nulls":5},14,{"$nulls":6},14]
[15,{"$nulls":6},15,{"$nulls":6},15,{"$nulls":5},15,{"$nulls":6},15,{"$nulls":6},15,{"$nulls":5},15,{"$nulls":6},15]
[16,{"$nulls":6},16,{"$nulls":6},16,{"$nulls":5},16,{"$nulls":6},16,{"$nulls":6},16,{"$nulls":5},16,{"$nulls":6},16]
[17,{"$nulls":5},".",17,{"$nulls":5},".",17,{"$nulls":5},17,{"$nulls":5},".",17,{"$nulls":5},".",17,{"$nulls":5},17,{"$nulls":5},".",17]
[18,{"$nulls":6},18,{"$nulls":6},18,{"$nulls":5},18,{"$nulls":6},18,{"$nulls":6},18,{"$nulls":5},18,{"$nulls":6},18]
["Total","Shots",null,null,"Shots",null,null,"Total","Shots",null,null,"Shots",null,null,"Total","Shots",null,null,"Shots",null,"Total","Shots",null,null,"Shots",null,null,"Total","Shots",null,null,"Shots",null,null,"Total","Shots",null,null,"Shots",null,"Total","Shots",null,null,"Shots",null,null,"Total","Shots",null,null,"shots"]
[null,"Ends",null,null,"Ends",null,".",null,"Ends",null,null,"Ends",null,".",null,"Ends",null,null,"Ends",null,null,"Ends",null,null,"Ends",null,".",null,"Ends",null,null,"Ends",null,".",null,"Ends",null,null,"Ends",null,null,"Ends",null,null,"Ends",null,".",null,"Ends",null,null,"Ends"]
[]
[]
["1st Game ",{"$nulls":5},".","2nd Game ",{"$nulls":5},".","3rd Game ",{"$nulls":5},"4th Game",{"$nulls":5},".","5th Game",{"$nulls":5},".","6th Game",{"$nulls":5},"7th Game",{"$nulls":5},".","8th Game"]
["Team No",null,null,"Rink No",{"$nulls":3},"Team No",null,null,"Rink No",{"$nulls":3},"Team No",null,null,"Rink No",null,null,"Team No",null,null,"Rink No",{"$nulls":3},"Team No",null,null,"Rink No",{"$nulls":3},"Team No",null,null,"Rink No",null,null,"Team No",null,null,"Rink No",{"$nulls":3},"Team No",null,null,"Rink No"]
[]
[{"$f":"DRAW!#REF!","v":{"$error":"#REF!"}},null,null,{"$f":"DRAW!#REF!","v":{"$error":"#REF!"}},null,null,".",{"$f":"DRAW!#REF!","v":{"$error":"#REF!"}},null,null,{"$f":"DRAW!#REF!","v":{"$error":"#REF!"}},null,null,".",{"$f":"DRAW!#REF!","v":{"$error":"#REF!"}},null,null,{"$f":"DRAW!#REF!","v":{"$error":"#REF!"}},null,null,{"$f":"DRAW!#REF!","v":{"$error":"#REF!"}},null,null,{"$f":"DRAW!#REF!","v":{"$error":"#REF!"}},null,null,".",{"$f":"DRAW!#REF!","v":{"$error":"#REF!"}},null,null,{"$f":"DRAW!#REF!","v":{"$error":"#REF!"}},null,null,".",{"$f":"DRAW!#REF!","v":{"$error":"#REF!"}},null,null,{"$f":"DRAW!#REF!","v":{"$error":"#REF!"}},null,null,{"$f":"DRAW!#REF!","v":{"$error":"#REF!"}},null,null,{"$f":"DRAW!#REF!","v":{"$error":"#REF!"}},null,null,".",{"$f":"DRAW!#REF!","v":{"$error":"#REF!"}},null,null,{"$f":"DRAW!#REF!","v":{"$error":"#REF!"}}]
[null,"Team",{"$f":"DRAW!#REF!","v":{"$error":"#REF!"}},"V","Team",{"$f":"DRAW!#REF!","v":{"$error":"#REF!"}},null,null,"Team",{"$f":"DRAW!#REF!","v":{"$error":"#REF!"}},"V","Team",{"$f":"DRAW!#REF!","v":{"$error":"#REF!"}},null,null,"Team",{"$f":"DRAW!#REF!","v":{"$error":"#REF!"}},"V","Team",{"$f":"DRAW!#REF!","v":{"$error":"#REF!"}},null,"Team",{"$f":"DRAW!#REF!","v":{"$error":"#REF!"}},"V","Team",{"$f":"DRAW!#REF!","v":{"$error":"#REF!"}},null,null,"Team",{"$f":"DRAW!#REF!","v":{"$error":"#REF!"}},"V","Team",{"$f":"DRAW!#REF!","v":{"$error":"#REF!"}},null,null,"Team",{"$f":"DRAW!#REF!","v":{"$error":"#REF!"}},"V","Team",{"$f":"DRAW!#REF!","v":{"$error":"#REF!"}},null,"Team",{"$f":"DRAW!#REF!","v":{"$error":"#REF!"}},"V","Team",{"$f":"DRAW!#REF!","v":{"$error":"#REF!"}},null,null,"Team",{"$f":"DRAW!#REF!","v":{"$error":"#REF!"}},"V","Team",{"$f":"DRAW!#REF!","v":{"$error":"#REF!"}}]
["Ends","Shots","Total",null,"Shots","Total",null,"Ends","Shots","Total",null,"Shots","Total",null,"Ends","Shots","Total",null,"Shots","Total","Ends","Shots","Total",null,"Shots","Total",null,"Ends","Shots","Total",null,"Shots","Total",null,"Ends","Shots","Total",null,"Shots","Total","Ends","Shots","Total",null,"Shots","Total",null,"Ends","Shots","Total",null,"shots","Totar"]
[1,{"$nulls":5},".",1,{"$nulls":5},".",1,{"$nulls":5},1,{"$nulls":5},".",1,{"$nulls":5},".",1,{"$nulls":5},1,{"$nulls":5},".",1]
[2,{"$nulls":6},2,{"$nulls":6},2,{"$nulls":5},2,{"$nulls":6},2,{"$nulls":6},2,{"$nulls":5},2,{"$nulls":6},2]
[3,{"$nulls":6},3,{"$nulls":6},3,{"$nulls":5},3,{"$nulls":6},3,{"$nulls":6},3,{"$nulls":5},3,{"$nulls":6},3]
[4,{"$nulls":6},4,{"$nulls":6},4,{"$nulls":5},4,{"$nulls":6},4,{"$nulls":6},4,{"$nulls":5},4,{"$nulls":6},4]
[5,{"$nulls":5},".",5,{"$nulls":5},".",5,{"$nulls":5},5,{"$nulls":5},".",5,{"$nulls":5},".",5,{"$nulls":5},5,{"$nulls":5},".",5]
[6,{"$nulls":6},6,{"$nulls":6},6,{"$nulls":5},6,{"$nulls":6},6,{"$nulls":6},6,{"$nulls":5},6,{"$nulls":6},6]
[7,{"$nulls":6},7,{"$nulls":6},7,{"$nulls":5},7,{"$nulls":6},7,{"$nulls":6},7,{"$nulls":5},7,{"$nulls":6},7]
[8,{"$nulls":6},8,{"$nulls":6},8,{"$nulls":5},8,{"$nulls":6},8,{"$nulls":6},8,{"$nulls":5},8,{"$nulls":6},8]
[9,{"$nulls":5},".",9,{"$nulls":5},".",9,{"$nulls":5},9,{"$nulls":5},".",9,{"$nulls":5},".",9,{"$nulls":5},9,{"$nulls":5},".",9]
[10,{"$nulls":6},10,{"$nulls":6},10,{"$nulls":5},10,{"$nulls":6},10,{"$nulls":6},10,{"$nulls":5},10,{"$nulls":6},10]
[11,{"$nulls":6},11,{"$nulls":6},11,{"$nulls":5},11,{"$nulls":6},11,{"$nulls":6},11,{"$nulls":5},11,{"$nulls":6},11]
[12,{"$nulls":6},12,{"$nulls":6},12,{"$nulls":5},12,{"$nulls":6},12,{"$nulls":6},12,{"$nulls":5},12,{"$nulls":6},12]
[13,{"$nulls":5},".",13,{"$nulls":5},".",13,{"$nulls":5},13,{"$nulls":5},".",13,{"$nulls":5},".",13,{"$nulls":5},13,{"$nulls":5},".",13]
[14,{"$nulls":6},14,{"$nulls":6},14,{"$nulls":5},14,{"$nulls":6},14,{"$nulls":6},14,{"$nulls":5},14,{"$nulls":6},14]
[15,{"$nulls":6},15,{"$nulls":6},15,{"$nulls":5},15,{"$nulls":6},15,{"$nulls":6},15,{"$nulls":5},15,{"$nulls":6},15]
[16,{"$nulls":6},16,{"$nulls":6},16,{"$nulls":5},16,{"$nulls":6},16,{"$nulls":6},16,{"$nulls":5},16,{"$nulls":6},16]
[17,{"$nulls":5},".",17,{"$nulls":5},".",17,{"$nulls":5},17,{"$nulls":5},".",17,{"$nulls":5},".",17,{"$nulls":5},17,{"$nulls":5},".",17]
[18,{"$nulls":6},18,{"$nulls":6},18,{"$nulls":5},18,{"$nulls":6},18,{"$nulls":6},18,{"$nulls":5},18,{"$nulls":6},18]
["Total","Shots",null,null,"Shots",null,null,"Total","Shots",null,null,"Shots",null,null,"Total","Shots",null,null,"Shots",null,"Total","Shots",null,null,"Shots",null,null,"Total","Shots",null,null,"Shots",null,null,"Total","Shots",null,null,"Shots",null,"Total","Shots",null,null,"Shots",null,null,"Total","Shots",null,null,"shots"]
[null,"Ends",null,null,"Ends",null,".",null,"Ends",null,null,"Ends",null,".",null,"Ends",null,null,"Ends",null,null,"Ends",null,null,"Ends",null,".",null,"Ends",null,null,"Ends",null,".",null,"Ends",null,null,"Ends",null,null,"Ends",null,null,"Ends",null,".",null,"Ends",null,null,"Ends"]
["1st Game ",{"$nulls":5},".","2nd Game ",{"$nulls":5},".","3rd Game ",{"$nulls":5},"4th Game",{"$nulls":5},".","5th Game",{"$nulls":5},".","6th Game",{"$nulls":5},"7th Game",{"$nulls":5},".","8th Game"]
["Team No",null,null,"Rink No",{"$nulls":3},"Team No",null,null,"Rink No",{"$nulls":3},"Team No",null,null,"Rink No",null,null,"Team No",null,null,"Rink No",{"$nulls":3},"Team No",null,null,"Rink No",{"$nulls":3},"Team No",null,null,"Rink No",null,null,"Team No",null,null,"Rink No",{"$nulls":3},"Team No",null,null,"Rink No"]
[]
[{"$f":"DRAW!#REF!","v":{"$error":"#REF!"}},null,null,{"$f":"DRAW!#REF!","v":{"$error":"#REF!"}},null,null,".",{"$f":"DRAW!#REF!","v":{"$error":"#REF!"}},null,null,{"$f":"DRAW!#REF!","v":{"$error":"#REF!"}},null,null,".",{"$f":"DRAW!#REF!","v":{"$error":"#REF!"}},null,null,{"$f":"DRAW!#REF!","v":{"$error":"#REF!"}},null,null,{"$f":"DRAW!#REF!","v":{"$error":"#REF!"}},null,null,{"$f":"DRAW!#REF!","v":{"$error":"#REF!"}},null,null,".",{"$f":"DRAW!#REF!","v":{"$error":"#REF!"}},null,null,{"$f":"DRAW!#REF!","v":{"$error":"#REF!"}},null,null,".",{"$f":"DRAW!#REF!","v":{"$error":"#REF!"}},null,null,{"$f":"DRAW!#REF!","v":{"$error":"#REF!"}},null,null,{"$f":"DRAW!#REF!","v":{"$error":"#REF!"}},null,null,{"$f":"DRAW!#REF!","v":{"$error":"#REF!"}},null,null,".",{"$f":"DRAW!#REF!","v":{"$error":"#REF!"}},null,null,{"$f":"DRAW!#REF!","v":{"$error":"#REF!"}}]
[null,"Team",{"$f":"DRAW!#REF!","v":{"$error":"#REF!"}},"V","Team",{"$f":"DRAW!#REF!","v":{"$error":"#REF!"}},null,null,"Team",{"$f":"DRAW!#REF!","v":{"$error":"#REF!"}},"V","Team",{"$f":"DRAW!#REF!","v":{"$error":"#REF!"}},null,null,"Team",{"$f":"DRAW!#REF!","v":{"$error":"#REF!"}},"V","Team",{"$f":"DRAW!#REF!","v":{"$error":"#REF!"}},null,"Team",{"$f":"DRAW!#REF!","v":{"$error":"#REF!"}},"V","Team",{"$f":"DRAW!#REF!","v":{"$error":"#REF!"}},null,null,"Team",{"$f":"DRAW!#REF!","v":{"$error":"#REF!"}},"V","Team",{"$f":"DRAW!#REF!","v":{"$error":"#REF!"}},null,null,"Team",{"$f":"DRAW!#REF!","v":{"$error":"#REF!"}},"V","Team",{"$f":"DRAW!#REF!","v":{"$error":"#REF!"}},null,"Team",{"$f":"DRAW!#REF!","v":{"$error":"#REF!"}},"V","Team",{"$f":"DRAW!#REF!","v":{"$error":"#REF!"}},null,null,"Team",{"$f":"DRAW!#REF!","v":{"$error":"#REF!"}},"V","Team",{"$f":"DRAW!#REF!","v":{"$error":"#REF!"}}]
["Ends","Shots","Total",null,"Shots","Total",null,"Ends","Shots","Total",null,"Shots","Total",null,"Ends","Shots","Total",null,"Shots","Total","Ends","Shots","Total",null,"Shots","Total",null,"Ends","Shots","Total",null,"Shots","Total",null,"Ends","Shots","Total",null,"Shots","Total","Ends","Shots","Total",null,"Shots","Total",null,"Ends","Shots","Total",null,"shots","Totar"]
[1,{"$nulls":5},".",1,{"$nulls":5},".",1,{"$nulls":5},1,{"$nulls":5},".",1,{"$nulls":5},".",1,{"$nulls":5},1,{"$nulls":5},".",1]
[2,{"$nulls":6},2,{"$nulls":6},2,{"$nulls":5},2,{"$nulls":6},2,{"$nulls":6},2,{"$nulls":5},2,{"$nulls":6},2]
[3,{"$nulls":6},3,{"$nulls":6},3,{"$nulls":5},3,{"$nulls":6},3,{"$nulls":6},3,{"$nulls":5},3,{"$nulls":6},3]
[4,{"$nulls":6},4,{"$nulls":6},4,{"$nulls":5},4,{"$nulls":6},4,{"$nulls":6},4,{"$nulls":5},4,{"$nulls":6},4]
[5,{"$nulls":5},".",5,{"$nulls":5},".",5,{"$nulls":5},5,{"$nulls":5},".",5,{"$nulls":5},".",5,{"$nulls":5},5,{"$nulls":5},".",5]
[6,{"$nulls":6},6,{"$nulls":6},6,{"$nulls":5},6,{"$nulls":6},6,{"$nulls":6},6,{"$nulls":5},6,{"$nulls":6},6]
[7,{"$nulls":6},7,{"$nulls":6},7,{"$nulls":5},7,{"$nulls":6},7,{"$nulls":6},7,{"$nulls":5},7,{"$nulls":6},7]
[8,{"$nulls":6},8,{"$nulls":6},8,{"$nulls":5},8,{"$nulls":6},8,{"$nulls":6},8,{"$nulls":5},8,{"$nulls":6},8]
[9,{"$nulls":5},".",9,{"$nulls":5},".",9,{"$nulls":5},9,{"$nulls":5},".",9,{"$nulls":5},".",9,{"$nulls":5},9,{"$nulls":5},".",9]
[10,{"$nulls":6},10,{"$nulls":6},10,{"$nulls":5},10,{"$nulls":6},10,{"$nulls":6},10,{"$nulls":5},10,{"$nulls":6},10]
[11,{"$nulls":6},11,{"$nulls":6},11,{"$nulls":5},11,{"$nulls":6},11,{"$nulls":6},11,{"$nulls":5},11,{"$nulls":6},11]
[12,{"$nulls":6},12,{"$nulls":6},12,{"$nulls":5},12,{"$nulls":6},12,{"$nulls":6},12,{"$nulls":5},12,{"$nulls":6},12]
[13,{"$nulls":5},".",13,{"$nulls":5},".",13,{"$nulls":5},13,{"$nulls":5},".",13,{"$nulls":5},".",13,{"$nulls":5},13,{"$nulls":5},".",13]
[14,{"$nulls":6},14,{"$nulls":6},14,{"$nulls":5},14,{"$nulls":6},14,{"$nulls":6},14,{"$nulls":5},14,{"$nulls":6},14]
[15,{"$nulls":6},15,{"$nulls":6},15,{"$nulls":5},15,{"$nulls":6},15,{"$nulls":6},15,{"$nulls":5},15,{"$nulls":6},15]
[16,{"$nulls":6},16,{"$nulls":6},16,{"$nulls":5},16,{"$nulls":6},16,{"$nulls":6},16,{"$nulls":5},16,{"$nulls":6},16]
[17,{"$nulls":5},".",17,{"$nulls":5},".",17,{"$nulls":5},17,{"$nulls":5},".",17,{"$nulls":5},".",17,{"$nulls":5},17,{"$nulls":5},".",17]
[18,{"$nulls":6},18,{"$nulls":6},18,{"$nulls":5},18,{"$nulls":6},18,{"$nulls":6},18,{"$nulls":5},18,{"$nulls":6},18]
["Total","Shots",null,null,"Shots",null,null,"Total","Shots",null,null,"Shots",null,null,"Total","Shots",null,null,"Shots",null,"Total","Shots",null,null,"Shots",null,null,"Total","Shots",null,null,"Shots",null,null,"Total","Shots",null,null,"Shots",null,"Total","Shots",null,null,"Shots",null,null,"Total","Shots",null,null,"shots"]
[null,"Ends",null,null,"Ends",null,".",null,"Ends",null,null,"Ends",null,".",null,"Ends",null,null,"Ends",null,null,"Ends",null,null,"Ends",null,".",null,"Ends",null,null,"Ends",null,".",null,"Ends",null,null,"Ends",null,null,"Ends",null,null,"Ends",null,".",null,"Ends",null,null,"Ends"]
[]
[]
["1st Game ",{"$nulls":5},".","2nd Game ",{"$nulls":5},".","3rd Game ",{"$nulls":5},"4th Game",{"$nulls":5},".","5th Game",{"$nulls":5},".","6th Game",{"$nulls":5},"7th Game",{"$nulls":5},".","8th Game"]
["Team No",null,null,"Rink No",{"$nulls":3},"Team No",null,null,"Rink No",{"$nulls":3},"Team No",null,null,"Rink No",null,null,"Team No",null,null,"Rink No",{"$nulls":3},"Team No",null,null,"Rink No",{"$nulls":3},"Team No",null,null,"Rink No",null,null,"Team No",null,null,"Rink No",{"$nulls":3},"Team No",null,null,"Rink No"]
[]
[{"$f":"DRAW!#REF!","v":{"$error":"#REF!"}},null,null,{"$f":"DRAW!#REF!","v":{"$error":"#REF!"}},null,null,".",{"$f":"DRAW!#REF!","v":{"$error":"#REF!"}},null,null,{"$f":"DRAW!#REF!","v":{"$error":"#REF!"}},null,null,".",{"$f":"DRAW!#REF!","v":{"$error":"#REF!"}},null,null,{"$f":"DRAW!#REF!","v":{"$error":"#REF!"}},null,null,{"$f":"DRAW!#REF!","v":{"$error":"#REF!"}},null,null,{"$f":"DRAW!#REF!","v":{"$error":"#REF!"}},null,null,".",{"$f":"DRAW!#REF!","v":{"$error":"#REF!"}},null,null,{"$f":"DRAW!#REF!","v":{"$error":"#REF!"}},null,null,".",{"$f":"DRAW!#REF!","v":{"$error":"#REF!"}},null,null,{"$f":"DRAW!#REF!","v":{"$error":"#REF!"}},null,null,{"$f":"DRAW!#REF!","v":{"$error":"#REF!"}},null,null,{"$f":"DRAW!#REF!","v":{"$error":"#REF!"}},null,null,".",{"$f":"DRAW!#REF!","v":{"$error":"#REF!"}},null,null,{"$f":"DRAW!#REF!","v":{"$error":"#REF!"}}]
[null,"Team",{"$f":"DRAW!#REF!","v":{"$error":"#REF!"}},"V","Team",{"$f":"DRAW!#REF!","v":{"$error":"#REF!"}},null,null,"Team",{"$f":"DRAW!#REF!","v":{"$error":"#REF!"}},"V","Team",{"$f":"DRAW!#REF!","v":{"$error":"#REF!"}},null,null,"Team",{"$f":"DRAW!#REF!","v":{"$error":"#REF!"}},"V","Team",{"$f":"DRAW!#REF!","v":{"$error":"#REF!"}},null,"Team",{"$f":"DRAW!#REF!","v":{"$error":"#REF!"}},"V","Team",{"$f":"DRAW!#REF!","v":{"$error":"#REF!"}},null,null,"Team",{"$f":"DRAW!#REF!","v":{"$error":"#REF!"}},"V","Team",{"$f":"DRAW!#REF!","v":{"$error":"#REF!"}},null,null,"Team",{"$f":"DRAW!#REF!","v":{"$error":"#REF!"}},"V","Team",{"$f":"DRAW!#REF!","v":{"$error":"#REF!"}},null,"Team",{"$f":"DRAW!#REF!","v":{"$error":"#REF!"}},"V","Team",{"$f":"DRAW!#REF!","v":{"$error":"#REF!"}},null,null,"Team",{"$f":"DRAW!#REF!","v":{"$error":"#REF!"}},"V","Team",{"$f":"DRAW!#REF!","v":{"$error":"#REF!"}}]
["Ends","Shots","Total",null,"Shots","Total",null,"Ends","Shots","Total",null,"Shots","Total",null,"Ends","Shots","Total",null,"Shots","Total","Ends","Shots","Total",null,"Shots","Total",null,"Ends","Shots","Total",null,"Shots","Total",null,"Ends","Shots","Total",null,"Shots","Total","Ends","Shots","Total",null,"Shots","Total",null,"Ends","Shots","Total",null,"shots","Totar"]
[1,{"$nulls":5},".",1,{"$nulls":5},".",1,{"$nulls":5},1,{"$nulls":5},".",1,{"$nulls":5},".",1,{"$nulls":5},1,{"$nulls":5},".",1]
[2,{"$nulls":6},2,{"$nulls":6},2,{"$nulls":5},2,{"$nulls":6},2,{"$nulls":6},2,{"$nulls":5},2,{"$nulls":6},2]
[3,{"$nulls":6},3,{"$nulls":6},3,{"$nulls":5},3,{"$nulls":6},3,{"$nulls":6},3,{"$nulls":5},3,{"$nulls":6},3]
[4,{"$nulls":6},4,{"$nulls":6},4,{"$nulls":5},4,{"$nulls":6},4,{"$nulls":6},4,{"$nulls":5},4,{"$nulls":6},4]
[5,{"$nulls":5},".",5,{"$nulls":5},".",5,{"$nulls":5},5,{"$nulls":5},".",5,{"$nulls":5},".",5,{"$nulls":5},5,{"$nulls":5},".",5]
[6,{"$nulls":6},6,{"$nulls":6},6,{"$nulls":5},6,{"$nulls":6},6,{"$nulls":6},6,{"$nulls":5},6,{"$nulls":6},6]
[7,{"$nulls":6},7,{"$nulls":6},7,{"$nulls":5},7,{"$nulls":6},7,{"$nulls":6},7,{"$nulls":5},7,{"$nulls":6},7]
[8,{"$nulls":6},8,{"$nulls":6},8,{"$nulls":5},8,{"$nulls":6},8,{"$nulls":6},8,{"$nulls":5},8,{"$nulls":6},8]
[9,{"$nulls":5},".",9,{"$nulls":5},".",9,{"$nulls":5},9,{"$nulls":5},".",9,{"$nulls":5},".",9,{"$nulls":5},9,{"$nulls":5},".",9]
[10,{"$nulls":6},10,{"$nulls":6},10,{"$nulls":5},10,{"$nulls":6},10,{"$nulls":6},10,{"$nulls":5},10,{"$nulls":6},10]
[11,{"$nulls":6},11,{"$nulls":6},11,{"$nulls":5},11,{"$nulls":6},11,{"$nulls":6},11,{"$nulls":5},11,{"$nulls":6},11]
[12,{"$nulls":6},12,{"$nulls":6},12,{"$nulls":5},12,{"$nulls":6},12,{"$nulls":6},12,{"$nulls":5},12,{"$nulls":6},12]
[13,{"$nulls":5},".",13,{"$nulls":5},".",13,{"$nulls":5},13,{"$nulls":5},".",13,{"$nulls":5},".",13,{"$nulls":5},13,{"$nulls":5},".",13]
[14,{"$nulls":6},14,{"$nulls":6},14,{"$nulls":5},14,{"$nulls":6},14,{"$nulls":6},14,{"$nulls":5},14,{"$nulls":6},14]
[15,{"$nulls":6},15,{"$nulls":6},15,{"$nulls":5},15,{"$nulls":6},15,{"$nulls":6},15,{"$nulls":5},15,{"$nulls":6},15]
[16,{"$nulls":6},16,{"$nulls":6},16,{"$nulls":5},16,{"$nulls":6},16,{"$nulls":6},16,{"$nulls":5},16,{"$nulls":6},16]
[17,{"$nulls":5},".",17,{"$nulls":5},".",17,{"$nulls":5},17,{"$nulls":5},".",17,{"$nulls":5},".",17,{"$nulls":5},17,{"$nulls":5},".",17]
[18,{"$nulls":6},18,{"$nulls":6},18,{"$nulls":5},18,{"$nulls":6},18,{"$nulls":6},18,{"$nulls":5},18,{"$nulls":6},18]
["Total","Shots",null,null,"Shots",null,null,"Total","Shots",null,null,"Shots",null,null,"Total","Shots",null,null,"Shots",null,"Total","Shots",null,null,"Shots",null,null,"Total","Shots",null,null,"Shots",null,null,"Total","Shots",null,null,"Shots",null,"Total","Shots",null,null,"Shots",null,null,"Total","Shots",null,null,"shots"]
[null,"Ends",null,null,"Ends",null,".",null,"Ends",null,null,"Ends",null,".",null,"Ends",null,null,"Ends",null,null,"Ends",null,null,"Ends",null,".",null,"Ends",null,null,"Ends",null,".",null,"Ends",null,null,"Ends",null,null,"Ends",null,null,"Ends",null,".",null,"Ends",null,null,"Ends"]
["1st Game ",{"$nulls":5},".","2nd Game ",{"$nulls":5},".","3rd Game ",{"$nulls":5},"4th Game",{"$nulls":5},".","5th Game",{"$nulls":5},".","6th Game",{"$nulls":5},"7th Game",{"$nulls":5},".","8th Game"]
["Team No",null,null,"Rink No",{"$nulls":3},"Team No",null,null,"Rink No",{"$nulls":3},"Team No",null,null,"Rink No",null,null,"Team No",null,null,"Rink No",{"$nulls":3},"Team No",null,null,"Rink No",{"$nulls":3},"Team No",null,null,"Rink No",null,null,"Team No",null,null,"Rink No",{"$nulls":3},"Team No",null,null,"Rink No"]
[]
[{"$f":"DRAW!#REF!","v":{"$error":"#REF!"}},null,null,{"$f":"DRAW!#REF!","v":{"$error":"#REF!"}},null,null,".",{"$f":"DRAW!#REF!","v":{"$error":"#REF!"}},null,null,{"$f":"DRAW!#REF!","v":{"$error":"#REF!"}},null,null,".",{"$f":"DRAW!#REF!","v":{"$error":"#REF!"}},null,null,{"$f":"DRAW!#REF!","v":{"$error":"#REF!"}},null,null,{"$f":"DRAW!#REF!","v":{"$error":"#REF!"}},null,null,{"$f":"DRAW!#REF!","v":{"$error":"#REF!"}},null,null,".",{"$f":"DRAW!#REF!","v":{"$error":"#REF!"}},null,null,{"$f":"DRAW!#REF!","v":{"$error":"#REF!"}},null,null,".",{"$f":"DRAW!#REF!","v":{"$error":"#REF!"}},null,null,{"$f":"DRAW!#REF!","v":{"$error":"#REF!"}},null,null,{"$f":"DRAW!#REF!","v":{"$error":"#REF!"}},null,null,{"$f":"DRAW!#REF!","v":{"$error":"#REF!"}},null,null,".",{"$f":"DRAW!#REF!","v":{"$error":"#REF!"}},null,null,{"$f":"DRAW!#REF!","v":{"$error":"#REF!"}}]
[null,"Team",{"$f":"DRAW!#REF!","v":{"$error":"#REF!"}},"V","Team",{"$f":"DRAW!#REF!","v":{"$error":"#REF!"}},null,null,"Team",{"$f":"DRAW!#REF!","v":{"$error":"#REF!"}},"V","Team",{"$f":"DRAW!#REF!","v":{"$error":"#REF!"}},null,null,"Team",{"$f":"DRAW!#REF!","v":{"$error":"#REF!"}},"V","Team",{"$f":"DRAW!#REF!","v":{"$error":"#REF!"}},null,"Team",{"$f":"DRAW!#REF!","v":{"$error":"#REF!"}},"V","Team",{"$f":"DRAW!#REF!","v":{"$error":"#REF!"}},null,null,"Team",{"$f":"DRAW!#REF!","v":{"$error":"#REF!"}},"V","Team",{"$f":"DRAW!#REF!","v":{"$error":"#REF!"}},null,null,"Team",{"$f":"DRAW!#REF!","v":{"$error":"#REF!"}},"V","Team",{"$f":"DRAW!#REF!","v":{"$error":"#REF!"}},null,"Team",{"$f":"DRAW!#REF!","v":{"$error":"#REF!"}},"V","Team",{"$f":"DRAW!#REF!","v":{"$error":"#REF!"}},null,null,"Team",{"$f":"DRAW!#REF!","v":{"$error":"#REF!"}},"V","Team",{"$f":"DRAW!#REF!","v":{"$error":"#REF!"}}]
["Ends","Shots","Total",null,"Shots","Total",null,"Ends","Shots","Total",null,"Shots","Total",null,"Ends","Shots","Total",null,"Shots","Total","Ends","Shots","Total",null,"Shots","Total",null,"Ends","Shots","Total",null,"Shots","Total",null,"Ends","Shots","Total",null,"Shots","Total","Ends","Shots","Total",null,"Shots","Total",null,"Ends","Shots","Total",null,"shots","Totar"]
[1,{"$nulls":5},".",1,{"$nulls":5},".",1,{"$nulls":5},1,{"$nulls":5},".",1,{"$nulls":5},".",1,{"$nulls":5},1,{"$nulls":5},".",1]
[2,{"$nulls":6},2,{"$nulls":6},2,{"$nulls":5},2,{"$nulls":6},2,{"$nulls":6},2,{"$nulls":5},2,{"$nulls":6},2]
[3,{"$nulls":6},3,{"$nulls":6},3,{"$nulls":5},3,{"$nulls":6},3,{"$nulls":6},3,{"$nulls":5},3,{"$nulls":6},3]
[4,{"$nulls":6},4,{"$nulls":6},4,{"$nulls":5},4,{"$nulls":6},4,{"$nulls":6},4,{"$nulls":5},4,{"$nulls":6},4]
[5,{"$nulls":5},".",5,{"$nulls":5},".",5,{"$nulls":5},5,{"$nulls":5},".",5,{"$nulls":5},".",5,{"$nulls":5},5,{"$nulls":5},".",5]
[6,{"$nulls":6},6,{"$nulls":6},6,{"$nulls":5},6,{"$nulls":6},6,{"$nulls":6},6,{"$nulls":5},6,{"$nulls":6},6]
[7,{"$nulls":6},7,{"$nulls":6},7,{"$nulls":5},7,{"$nulls":6},7,{"$nulls":6},7,{"$nulls":5},7,{"$nulls":6},7]
[8,{"$nulls":6},8,{"$nulls":6},8,{"$nulls":5},8,{"$nulls":6},8,{"$nulls":6},8,{"$nulls":5},8,{"$nulls":6},8]
[9,{"$nulls":5},".",9,{"$nulls":5},".",9,{"$nulls":5},9,{"$nulls":5},".",9,{"$nulls":5},".",9,{"$nulls":5},9,{"$nulls":5},".",9]
[10,{"$nulls":6},10,{"$nulls":6},10,{"$nulls":5},10,{"$nulls":6},10,{"$nulls":6},10,{"$nulls":5},10,{"$nulls":6},10]
[11,{"$nulls":6},11,{"$nulls":6},11,{"$nulls":5},11,{"$nulls":6},11,{"$nulls":6},11,{"$nulls":5},11,{"$nulls":6},11]
[12,{"$nulls":6},12,{"$nulls":6},12,{"$nulls":5},12,{"$nulls":6},12,{"$nulls":6},12,{"$nulls":5},12,{"$nulls":6},12]
[13,{"$nulls":5},".",13,{"$nulls":5},".",13,{"$nulls":5},13,{"$nulls":5},".",13,{"$nulls":5},".",13,{"$nulls":5},13,{"$nulls":5},".",13]
[14,{"$nulls":6},14,{"$nulls":6},14,{"$nulls":5},14,{"$nulls":6},14,{"$nulls":6},14,{"$nulls":5},14,{"$nulls":6},14]
[15,{"$nulls":6},15,{"$nulls":6},15,{"$nulls":5},15,{"$nulls":6},15,{"$nulls":6},15,{"$nulls":5},15,{"$nulls":6},15]
[16,{"$nulls":6},16,{"$nulls":6},16,{"$nulls":5},16,{"$nulls":6},16,{"$nulls":6},16,{"$nulls":5},16,{"$nulls":6},16]
[17,{"$nulls":5},".",17,{"$nulls":5},".",17,{"$nulls":5},17,{"$nulls":5},".",17,{"$nulls":5},".",17,{"$nulls":5},17,{"$nulls":5},".",17]
[18,{"$nulls":6},18,{"$nulls":6},18,{"$nulls":5},18,{"$nulls":6},18,{"$nulls":6},18,{"$nulls":5},18,{"$nulls":6},18]
["Total","Shots",null,null,"Shots",null,null,"Total","Shots",null,null,"Shots",null,null,"Total","Shots",null,null,"Shots",null,"Total","Shots",null,null,"Shots",null,null,"Total","Shots",null,null,"Shots",null,null,"Total","Shots",null,null,"Shots",null,"Total","Shots",null,null,"Shots",null,null,"Total","Shots",null,null,"shots"]
[null,"Ends",null,null,"Ends",null,".",null,"Ends",null,null,"Ends",null,".",null,"Ends",null,null,"Ends",null,null,"Ends",null,null,"Ends",null,".",null,"Ends",null,null,"Ends",null,".",null,"Ends",null,null,"Ends",null,null,"Ends",null,null,"Ends",null,".",null,"Ends",null,null,"Ends"]
[]
[]
["1st Game ",{"$nulls":5},".","2nd Game ",{"$nulls":5},".","3rd Game ",{"$nulls":5},"4th Game",{"$nulls":5},".","5th Game",{"$nulls":5},".","6th Game",{"$nulls":5},"7th Game",{"$nulls":5},".","8th Game"]
["Team No",null,null,"Rink No",{"$nulls":3},"Team No",null,null,"Rink No",{"$nulls":3},"Team No",null,null,"Rink No",null,null,"Team No",null,null,"Rink No",{"$nulls":3},"Team No",null,null,"Rink No",{"$nulls":3},"Team No",null,null,"Rink No",null,null,"Team No",null,null,"Rink No",{"$nulls":3},"Team No",null,null,"Rink No"]
[]
[{"$f":"DRAW!#REF!","v":{"$error":"#REF!"}},null,null,{"$f":"DRAW!#REF!","v":{"$error":"#REF!"}},null,null,".",{"$f":"DRAW!#REF!","v":{"$error":"#REF!"}},null,null,{"$f":"DRAW!#REF!","v":{"$error":"#REF!"}},null,null,".",{"$f":"DRAW!#REF!","v":{"$error":"#REF!"}},null,null,{"$f":"DRAW!#REF!","v":{"$error":"#REF!"}},null,null,{"$f":"DRAW!#REF!","v":{"$error":"#REF!"}},null,null,{"$f":"DRAW!#REF!","v":{"$error":"#REF!"}},null,null,".",{"$f":"DRAW!#REF!","v":{"$error":"#REF!"}},null,null,{"$f":"DRAW!#REF!","v":{"$error":"#REF!"}},null,null,".",{"$f":"DRAW!#REF!","v":{"$error":"#REF!"}},null,null,{"$f":"DRAW!#REF!","v":{"$error":"#REF!"}},null,null,{"$f":"DRAW!#REF!","v":{"$error":"#REF!"}},null,null,{"$f":"DRAW!#REF!","v":{"$error":"#REF!"}},null,null,".",{"$f":"DRAW!#REF!","v":{"$error":"#REF!"}},null,null,{"$f":"DRAW!#REF!","v":{"$error":"#REF!"}}]
[null,"Team",{"$f":"DRAW!#REF!","v":{"$error":"#REF!"}},"V","Team",{"$f":"DRAW!#REF!","v":{"$error":"#REF!"}},null,null,"Team",{"$f":"DRAW!#REF!","v":{"$error":"#REF!"}},"V","Team",{"$f":"DRAW!#REF!","v":{"$error":"#REF!"}},null,null,"Team",{"$f":"DRAW!#REF!","v":{"$error":"#REF!"}},"V","Team",{"$f":"DRAW!#REF!","v":{"$error":"#REF!"}},null,"Team",{"$f":"DRAW!#REF!","v":{"$error":"#REF!"}},"V","Team",{"$f":"DRAW!#REF!","v":{"$error":"#REF!"}},null,null,"Team",{"$f":"DRAW!#REF!","v":{"$error":"#REF!"}},"V","Team",{"$f":"DRAW!#REF!","v":{"$error":"#REF!"}},null,null,"Team",{"$f":"DRAW!#REF!","v":{"$error":"#REF!"}},"V","Team",{"$f":"DRAW!#REF!","v":{"$error":"#REF!"}},null,"Team",{"$f":"DRAW!#REF!","v":{"$error":"#REF!"}},"V","Team",{"$f":"DRAW!#REF!","v":{"$error":"#REF!"}},null,null,"Team",{"$f":"DRAW!#REF!","v":{"$error":"#REF!"}},"V","Team",{"$f":"DRAW!#REF!","v":{"$error":"#REF!"}}]
["Ends","Shots","Total",null,"Shots","Total",null,"Ends","Shots","Total",null,"Shots","Total",null,"Ends","Shots","Total",null,"Shots","Total","Ends","Shots","Total",null,"Shots","Total",null,"Ends","Shots","Total",null,"Shots","Total",null,"Ends","Shots","Total",null,"Shots","Total","Ends","Shots","Total",null,"Shots","Total",null,"Ends","Shots","Total",null,"shots","Totar"]
[1,{"$nulls":5},".",1,{"$nulls":5},".",1,{"$nulls":5},1,{"$nulls":5},".",1,{"$nulls":5},".",1,{"$nulls":5},1,{"$nulls":5},".",1]
[2,{"$nulls":6},2,{"$nulls":6},2,{"$nulls":5},2,{"$nulls":6},2,{"$nulls":6},2,{"$nulls":5},2,{"$nulls":6},2]
[3,{"$nulls":6},3,{"$nulls":6},3,{"$nulls":5},3,{"$nulls":6},3,{"$nulls":6},3,{"$nulls":5},3,{"$nulls":6},3]
[4,{"$nulls":6},4,{"$nulls":6},4,{"$nulls":5},4,{"$nulls":6},4,{"$nulls":6},4,{"$nulls":5},4,{"$nulls":6},4]
[5,{"$nulls":5},".",5,{"$nulls":5},".",5,{"$nulls":5},5,{"$nulls":5},".",5,{"$nulls":5},".",5,{"$nulls":5},5,{"$nulls":5},".",5]
[6,{"$nulls":6},6,{"$nulls":6},6,{"$nulls":5},6,{"$nulls":6},6,{"$nulls":6},6,{"$nulls":5},6,{"$nulls":6},6]
[7,{"$nulls":6},7,{"$nulls":6},7,{"$nulls":5},7,{"$nulls":6},7,{"$nulls":6},7,{"$nulls":5},7,{"$nulls":6},7]
[8,{"$nulls":6},8,{"$nulls":6},8,{"$nulls":5},8,{"$nulls":6},8,{"$nulls":6},8,{"$nulls":5},8,{"$nulls":6},8]
[9,{"$nulls":5},".",9,{"$nulls":5},".",9,{"$nulls":5},9,{"$nulls":5},".",9,{"$nulls":5},".",9,{"$nulls":5},9,{"$nulls":5},".",9]
[10,{"$nulls":6},10,{"$nulls":6},10,{"$nulls":5},10,{"$nulls":6},10,{"$nulls":6},10,{"$nulls":5},10,{"$nulls":6},10]
[11,{"$nulls":6},11,{"$nulls":6},11,{"$nulls":5},11,{"$nulls":6},11,{"$nulls":6},11,{"$nulls":5},11,{"$nulls":6},11]
[12,{"$nulls":6},12,{"$nulls":6},12,{"$nulls":5},12,{"$nulls":6},12,{"$nulls":6},12,{"$nulls":5},12,{"$nulls":6},12]
[13,{"$nulls":5},".",13,{"$nulls":5},".",13,{"$nulls":5},13,{"$nulls":5},".",13,{"$nulls":5},".",13,{"$nulls":5},13,{"$nulls":5},".",13]
[14,{"$nulls":6},14,{"$nulls":6},14,{"$nulls":5},14,{"$nulls":6},14,{"$nulls":6},14,{"$nulls":5},14,{"$nulls":6},14]
[15,{"$nulls":6},15,{"$nulls":6},15,{"$nulls":5},15,{"$nulls":6},15,{"$nulls":6},15,{"$nulls":5},15,{"$nulls":6},15]
[16,{"$nulls":6},16,{"$nulls":6},16,{"$nulls":5},16,{"$nulls":6},16,{"$nulls":6},16,{"$nulls":5},16,{"$nulls":6},16]
[17,{"$nulls":5},".",17,{"$nulls":5},".",17,{"$nulls":5},17,{"$nulls":5},".",17,{"$nulls":5},".",17,{"$nulls":5},17,{"$nulls":5},".",17]
[18,{"$nulls":6},18,{"$nulls":6},18,{"$nulls":5},18,{"$nulls":6},18,{"$nulls":6},18,{"$nulls":5},18,{"$nulls":6},18]
["Total","Shots",null,null,"Shots",null,null,"Total","Shots",null,null,"Shots",null,null,"Total","Shots",null,null,"Shots",null,"Total","Shots",null,null,"Shots",null,null,"Total","Shots",null,null,"Shots",null,null,"Total","Shots",null,null,"Shots",null,"Total","Shots",null,null,"Shots",null,null,"Total","Shots",null,null,"shots"]
[null,"Ends",null,null,"Ends",null,".",null,"Ends",null,null,"Ends",null,".",null,"Ends",null,null,"Ends",null,null,"Ends",null,null,"Ends",null,".",null,"Ends",null,null,"Ends",null,".",null,"Ends",null,null,"Ends",null,null,"Ends",null,null,"Ends",null,".",null,"Ends",null,null,"Ends"]
["1st Game ",{"$nulls":5},".","2nd Game ",{"$nulls":5},".","3rd Game ",{"$nulls":5},"4th Game",{"$nulls":5},".","5th Game",{"$nulls":5},".","6th Game",{"$nulls":5},"7th Game",{"$nulls":5},".","8th Game"]
["Team No",null,null,"Rink No",{"$nulls":3},"Team No",null,null,"Rink No",{"$nulls":3},"Team No",null,null,"Rink No",null,null,"Team No",null,null,"Rink No",{"$nulls":3},"Team No",null,null,"Rink No",{"$nulls":3},"Team No",null,null,"Rink No",null,null,"Team No",null,null,"Rink No",{"$nulls":3},"Team No",null,null,"Rink No"]
[]
[{"$f":"DRAW!#REF!","v":{"$error":"#REF!"}},null,null,{"$f":"DRAW!#REF!","v":{"$error":"#REF!"}},null,null,".",{"$f":"DRAW!#REF!","v":{"$error":"#REF!"}},null,null,{"$f":"DRAW!#REF!","v":{"$error":"#REF!"}},null,null,".",{"$f":"DRAW!#REF!","v":{"$error":"#REF!"}},null,null,{"$f":"DRAW!#REF!","v":{"$error":"#REF!"}},null,null,{"$f":"DRAW!#REF!","v":{"$error":"#REF!"}},null,null,{"$f":"DRAW!#REF!","v":{"$error":"#REF!"}},null,null,".",{"$f":"DRAW!#REF!","v":{"$error":"#REF!"}},null,null,{"$f":"DRAW!#REF!","v":{"$error":"#REF!"}},null,null,".",{"$f":"DRAW!#REF!","v":{"$error":"#REF!"}},null,null,{"$f":"DRAW!#REF!","v":{"$error":"#REF!"}},null,null,{"$f":"DRAW!#REF!","v":{"$error":"#REF!"}},null,null,{"$f":"DRAW!#REF!","v":{"$error":"#REF!"}},null,null,".",{"$f":"DRAW!#REF!","v":{"$error":"#REF!"}},null,null,{"$f":"DRAW!#REF!","v":{"$error":"#REF!"}}]
[null,"Team",{"$f":"DRAW!#REF!","v":{"$error":"#REF!"}},"V","Team",{"$f":"DRAW!#REF!","v":{"$error":"#REF!"}},null,null,"Team",{"$f":"DRAW!#REF!","v":{"$error":"#REF!"}},"V","Team",{"$f":"DRAW!#REF!","v":{"$error":"#REF!"}},null,null,"Team",{"$f":"DRAW!#REF!","v":{"$error":"#REF!"}},"V","Team",{"$f":"DRAW!#REF!","v":{"$error":"#REF!"}},null,"Team",{"$f":"DRAW!#REF!","v":{"$error":"#REF!"}},"V","Team",{"$f":"DRAW!#REF!","v":{"$error":"#REF!"}},null,null,"Team",{"$f":"DRAW!#REF!","v":{"$error":"#REF!"}},"V","Team",{"$f":"DRAW!#REF!","v":{"$error":"#REF!"}},null,null,"Team",{"$f":"DRAW!#REF!","v":{"$error":"#REF!"}},"V","Team",{"$f":"DRAW!#REF!","v":{"$error":"#REF!"}},null,"Team",{"$f":"DRAW!#REF!","v":{"$error":"#REF!"}},"V","Team",{"$f":"DRAW!#REF!","v":{"$error":"#REF!"}},null,null,"Team",{"$f":"DRAW!#REF!","v":{"$error":"#REF!"}},"V","Team",{"$f":"DRAW!#REF!","v":{"$error":"#REF!"}}]
["Ends","Shots","Total",null,"Shots","Total",null,"Ends","Shots","Total",null,"Shots","Total",null,"Ends","Shots","Total",null,"Shots","Total","Ends","Shots","Total",null,"Shots","Total",null,"Ends","Shots","Total",null,"Shots","Total",null,"Ends","Shots","Total",null,"Shots","Total","Ends","Shots","Total",null,"Shots","Total",null,"Ends","Shots","Total",null,"shots","Totar"]
[1,{"$nulls":5},".",1,{"$nulls":5},".",1,{"$nulls":5},1,{"$nulls":5},".",1,{"$nulls":5},".",1,{"$nulls":5},1,{"$nulls":5},".",1]
[2,{"$nulls":6},2,{"$nulls":6},2,{"$nulls":5},2,{"$nulls":6},2,{"$nulls":6},2,{"$nulls":5},2,{"$nulls":6},2]
[3,{"$nulls":6},3,{"$nulls":6},3,{"$nulls":5},3,{"$nulls":6},3,{"$nulls":6},3,{"$nulls":5},3,{"$nulls":6},3]
[4,{"$nulls":6},4,{"$nulls":6},4,{"$nulls":5},4,{"$nulls":6},4,{"$nulls":6},4,{"$nulls":5},4,{"$nulls":6},4]
[5,{"$nulls":5},".",5,{"$nulls":5},".",5,{"$nulls":5},5,{"$nulls":5},".",5,{"$nulls":5},".",5,{"$nulls":5},5,{"$nulls":5},".",5]
[6,{"$nulls":6},6,{"$nulls":6},6,{"$nulls":5},6,{"$nulls":6},6,{"$nulls":6},6,{"$nulls":5},6,{"$nulls":6},6]
[7,{"$nulls":6},7,{"$nulls":6},7,{"$nulls":5},7,{"$nulls":6},7,{"$nulls":6},7,{"$nulls":5},7,{"$nulls":6},7]
[8,{"$nulls":6},8,{"$nulls":6},8,{"$nulls":5},8,{"$nulls":6},8,{"$nulls":6},8,{"$nulls":5},8,{"$nulls":6},8]
[9,{"$nulls":5},".",9,{"$nulls":5},".",9,{"$nulls":5},9,{"$nulls":5},".",9,{"$nulls":5},".",9,{"$nulls":5},9,{"$nulls":5},".",9]
[10,{"$nulls":6},10,{"$nulls":6},10,{"$nulls":5},10,{"$nulls":6},10,{"$nulls":6},10,{"$nulls":5},10,{"$nulls":6},10]
[11,{"$nulls":6},11,{"$nulls":6},11,{"$nulls":5},11,{"$nulls":6},11,{"$nulls":6},11,{"$nulls":5},11,{"$nulls":6},11]
[12,{"$nulls":6},12,{"$nulls":6},12,{"$nulls":5},12,{"$nulls":6},12,{"$nulls":6},12,{"$nulls":5},12,{"$nulls":6},12]
[13,{"$nulls":5},".",13,{"$nulls":5},".",13,{"$nulls":5},13,{"$nulls":5},".",13,{"$nulls":5},".",13,{"$nulls":5},13,{"$nulls":5},".",13]
[14,{"$nulls":6},14,{"$nulls":6},14,{"$nulls":5},14,{"$nulls":6},14,{"$nulls":6},14,{"$nulls":5},14,{"$nulls":6},14]
[15,{"$nulls":6},15,{"$nulls":6},15,{"$nulls":5},15,{"$nulls":6},15,{"$nulls":6},15,{"$nulls":5},15,{"$nulls":6},15]
[16,{"$nulls":6},16,{"$nulls":6},16,{"$nulls":5},16,{"$nulls":6},16,{"$nulls":6},16,{"$nulls":5},16,{"$nulls":6},16]
[17,{"$nulls":5},".",17,{"$nulls":5},".",17,{"$nulls":5},17,{"$nulls":5},".",17,{"$nulls":5},".",17,{"$nulls":5},17,{"$nulls":5},".",17]
[18,{"$nulls":6},18,{"$nulls":6},18,{"$nulls":5},18,{"$nulls":6},18,{"$nulls":6},18,{"$nulls":5},18,{"$nulls":6},18]
["Total","Shots",null,null,"Shots",null,null,"Total","Shots",null,null,"Shots",null,null,"Total","Shots",null,null,"Shots",null,"Total","Shots",null,null,"Shots",null,null,"Total","Shots",null,null,"Shots",null,null,"Total","Shots",null,null,"Shots",null,"Total","Shots",null,null,"Shots",null,null,"Total","Shots",null,null,"shots"]
[null,"Ends",null,null,"Ends",null,".",null,"Ends",null,null,"Ends",null,".",null,"Ends",null,null,"Ends",null,null,"Ends",null,null,"Ends",null,".",null,"Ends",null,null,"Ends",null,".",null,"Ends",null,null,"Ends",null,null,"Ends",null,null,"Ends",null,".",null,"Ends",null,null,"Ends"]
[]
[]
["1st Game ",{"$nulls":5},".","2nd Game ",{"$nulls":5},".","3rd Game ",{"$nulls":5},"4th Game",{"$nulls":5},".","5th Game",{"$nulls":5},".","6th Game",{"$nulls":5},"7th Game",{"$nulls":5},".","8th Game"]
["Team No",null,null,"Rink No",{"$nulls":3},"Team No",null,null,"Rink No",{"$nulls":3},"Team No",null,null,"Rink No",null,null,"Team No",null,null,"Rink No",{"$nulls":3},"Team No",null,null,"Rink No",{"$nulls":3},"Team No",null,null,"Rink No",null,null,"Team No",null,null,"Rink No",{"$nulls":3},"Team No",null,null,"Rink No"]
[]
[{"$f":"DRAW!#REF!","v":{"$error":"#REF!"}},null,null,{"$f":"DRAW!#REF!","v":{"$error":"#REF!"}},null,null,".",{"$f":"DRAW!#REF!","v":{"$error":"#REF!"}},null,null,{"$f":"DRAW!#REF!","v":{"$error":"#REF!"}},null,null,".",{"$f":"DRAW!#REF!","v":{"$error":"#REF!"}},null,null,{"$f":"DRAW!#REF!","v":{"$error":"#REF!"}},null,null,{"$f":"DRAW!#REF!","v":{"$error":"#REF!"}},null,null,{"$f":"DRAW!#REF!","v":{"$error":"#REF!"}},null,null,".",{"$f":"DRAW!#REF!","v":{"$error":"#REF!"}},null,null,{"$f":"DRAW!#REF!","v":{"$error":"#REF!"}},null,null,".",{"$f":"DRAW!#REF!","v":{"$error":"#REF!"}},null,null,{"$f":"DRAW!#REF!","v":{"$error":"#REF!"}},null,null,{"$f":"DRAW!#REF!","v":{"$error":"#REF!"}},null,null,{"$f":"DRAW!#REF!","v":{"$error":"#REF!"}},null,null,".",{"$f":"DRAW!#REF!","v":{"$error":"#REF!"}},null,null,{"$f":"DRAW!#REF!","v":{"$error":"#REF!"}}]
[null,"Team",{"$f":"DRAW!#REF!","v":{"$error":"#REF!"}},"V","Team",{"$f":"DRAW!#REF!","v":{"$error":"#REF!"}},null,null,"Team",{"$f":"DRAW!#REF!","v":{"$error":"#REF!"}},"V","Team",{"$f":"DRAW!#REF!","v":{"$error":"#REF!"}},null,null,"Team",{"$f":"DRAW!#REF!","v":{"$error":"#REF!"}},"V","Team",{"$f":"DRAW!#REF!","v":{"$error":"#REF!"}},null,"Team",{"$f":"DRAW!#REF!","v":{"$error":"#REF!"}},"V","Team",{"$f":"DRAW!#REF!","v":{"$error":"#REF!"}},null,null,"Team",{"$f":"DRAW!#REF!","v":{"$error":"#REF!"}},"V","Team",{"$f":"DRAW!#REF!","v":{"$error":"#REF!"}},null,null,"Team",{"$f":"DRAW!#REF!","v":{"$error":"#REF!"}},"V","Team",{"$f":"DRAW!#REF!","v":{"$error":"#REF!"}},null,"Team",{"$f":"DRAW!#REF!","v":{"$error":"#REF!"}},"V","Team",{"$f":"DRAW!#REF!","v":{"$error":"#REF!"}},null,null,"Team",{"$f":"DRAW!#REF!","v":{"$error":"#REF!"}},"V","Team",{"$f":"DRAW!#REF!","v":{"$error":"#REF!"}}]
["Ends","Shots","Total",null,"Shots","Total",null,"Ends","Shots","Total",null,"Shots","Total",null,"Ends","Shots","Total",null,"Shots","Total","Ends","Shots","Total",null,"Shots","Total",null,"Ends","Shots","Total",null,"Shots","Total",null,"Ends","Shots","Total",null,"Shots","Total","Ends","Shots","Total",null,"Shots","Total",null,"Ends","Shots","Total",null,"shots","Totar"]
[1,{"$nulls":5},".",1,{"$nulls":5},".",1,{"$nulls":5},1,{"$nulls":5},".",1,{"$nulls":5},".",1,{"$nulls":5},1,{"$nulls":5},".",1]
[2,{"$nulls":6},2,{"$nulls":6},2,{"$nulls":5},2,{"$nulls":6},2,{"$nulls":6},2,{"$nulls":5},2,{"$nulls":6},2]
[3,{"$nulls":6},3,{"$nulls":6},3,{"$nulls":5},3,{"$nulls":6},3,{"$nulls":6},3,{"$nulls":5},3,{"$nulls":6},3]
[4,{"$nulls":6},4,{"$nulls":6},4,{"$nulls":5},4,{"$nulls":6},4,{"$nulls":6},4,{"$nulls":5},4,{"$nulls":6},4]
[5,{"$nulls":5},".",5,{"$nulls":5},".",5,{"$nulls":5},5,{"$nulls":5},".",5,{"$nulls":5},".",5,{"$nulls":5},5,{"$nulls":5},".",5]
[6,{"$nulls":6},6,{"$nulls":6},6,{"$nulls":5},6,{"$nulls":6},6,{"$nulls":6},6,{"$nulls":5},6,{"$nulls":6},6]
[7,{"$nulls":6},7,{"$nulls":6},7,{"$nulls":5},7,{"$nulls":6},7,{"$nulls":6},7,{"$nulls":5},7,{"$nulls":6},7]
[8,{"$nulls":6},8,{"$nulls":6},8,{"$nulls":5},8,{"$nulls":6},8,{"$nulls":6},8,{"$nulls":5},8,{"$nulls":6},8]
[9,{"$nulls":5},".",9,{"$nulls":5},".",9,{"$nulls":5},9,{"$nulls":5},".",9,{"$nulls":5},".",9,{"$nulls":5},9,{"$nulls":5},".",9]
[10,{"$nulls":6},10,{"$nulls":6},10,{"$nulls":5},10,{"$nulls":6},10,{"$nulls":6},10,{"$nulls":5},10,{"$nulls":6},10]
[11,{"$nulls":6},11,{"$nulls":6},11,{"$nulls":5},11,{"$nulls":6},11,{"$nulls":6},11,{"$nulls":5},11,{"$nulls":6},11]
[12,{"$nulls":6},12,{"$nulls":6},12,{"$nulls":5},12,{"$nulls":6},12,{"$nulls":6},12,{"$nulls":5},12,{"$nulls":6},12]
[13,{"$nulls":5},".",13,{"$nulls":5},".",13,{"$nulls":5},13,{"$nulls":5},".",13,{"$nulls":5},".",13,{"$nulls":5},13,{"$nulls":5},".",13]
[14,{"$nulls":6},14,{"$nulls":6},14,{"$nulls":5},14,{"$nulls":6},14,{"$nulls":6},14,{"$nulls":5},14,{"$nulls":6},14]
[15,{"$nulls":6},15,{"$nulls":6},15,{"$nulls":5},15,{"$nulls":6},15,{"$nulls":6},15,{"$nulls":5},15,{"$nulls":6},15]
[16,{"$nulls":6},16,{"$nulls":6},16,{"$nulls":5},16,{"$nulls":6},16,{"$nulls":6},16,{"$nulls":5},16,{"$nulls":6},16]
[17,{"$nulls":5},".",17,{"$nulls":5},".",17,{"$nulls":5},17,{"$nulls":5},".",17,{"$nulls":5},".",17,{"$nulls":5},17,{"$nulls":5},".",17]
[18,{"$nulls":6},18,{"$nulls":6},18,{"$nulls":5},18,{"$nulls":6},18,{"$nulls":6},18,{"$nulls":5},18,{"$nulls":6},18]
["Total","Shots",null,null,"Shots",null,null,"Total","Shots",null,null,"Shots",null,null,"Total","Shots",null,null,"Shots",null,"Total","Shots",null,null,"Shots",null,null,"Total","Shots",null,null,"Shots",null,null,"Total","Shots",null,null,"Shots",null,"Total","Shots",null,null,"Shots",null,null,"Total","Shots",null,null,"shots"]
[null,"Ends",null,null,"Ends",null,".",null,"Ends",null,null,"Ends",null,".",null,"Ends",null,null,"Ends",null,null,"Ends",null,null,"Ends",null,".",null,"Ends",null,null,"Ends",null,".",null,"Ends",null,null,"Ends",null,null,"Ends",null,null,"Ends",null,".",null,"Ends",null,null,"Ends"]
["1st Game ",{"$nulls":5},".","2nd Game ",{"$nulls":5},".","3rd Game ",{"$nulls":5},"4th Game",{"$nulls":5},".","5th Game",{"$nulls":5},".","6th Game",{"$nulls":5},"7th Game",{"$nulls":5},".","8th Game"]
["Team No",null,null,"Rink No",{"$nulls":3},"Team No",null,null,"Rink No",{"$nulls":3},"Team No",null,null,"Rink No",null,null,"Team No",null,null,"Rink No",{"$nulls":3},"Team No",null,null,"Rink No",{"$nulls":3},"Team No",null,null,"Rink No",null,null,"Team No",null,null,"Rink No",{"$nulls":3},"Team No",null,null,"Rink No"]
[]
[{"$f":"DRAW!#REF!","v":{"$error":"#REF!"}},null,null,{"$f":"DRAW!#REF!","v":{"$error":"#REF!"}},null,null,".",{"$f":"DRAW!#REF!","v":{"$error":"#REF!"}},null,null,{"$f":"DRAW!#REF!","v":{"$error":"#REF!"}},null,null,".",{"$f":"DRAW!#REF!","v":{"$error":"#REF!"}},null,null,{"$f":"DRAW!#REF!","v":{"$error":"#REF!"}},null,null,{"$f":"DRAW!#REF!","v":{"$error":"#REF!"}},null,null,{"$f":"DRAW!#REF!","v":{"$error":"#REF!"}},null,null,".",{"$f":"DRAW!#REF!","v":{"$error":"#REF!"}},null,null,{"$f":"DRAW!#REF!","v":{"$error":"#REF!"}},null,null,".",{"$f":"DRAW!#REF!","v":{"$error":"#REF!"}},null,null,{"$f":"DRAW!#REF!","v":{"$error":"#REF!"}},null,null,{"$f":"DRAW!#REF!","v":{"$error":"#REF!"}},null,null,{"$f":"DRAW!#REF!","v":{"$error":"#REF!"}},null,null,".",{"$f":"DRAW!#REF!","v":{"$error":"#REF!"}},null,null,{"$f":"DRAW!#REF!","v":{"$error":"#REF!"}}]
[null,"Team",{"$f":"DRAW!#REF!","v":{"$error":"#REF!"}},"V","Team",{"$f":"DRAW!#REF!","v":{"$error":"#REF!"}},null,null,"Team",{"$f":"DRAW!#REF!","v":{"$error":"#REF!"}},"V","Team",{"$f":"DRAW!#REF!","v":{"$error":"#REF!"}},null,null,"Team",{"$f":"DRAW!#REF!","v":{"$error":"#REF!"}},"V","Team",{"$f":"DRAW!#REF!","v":{"$error":"#REF!"}},null,"Team",{"$f":"DRAW!#REF!","v":{"$error":"#REF!"}},"V","Team",{"$f":"DRAW!#REF!","v":{"$error":"#REF!"}},null,null,"Team",{"$f":"DRAW!#REF!","v":{"$error":"#REF!"}},"V","Team",{"$f":"DRAW!#REF!","v":{"$error":"#REF!"}},null,null,"Team",{"$f":"DRAW!#REF!","v":{"$error":"#REF!"}},"V","Team",{"$f":"DRAW!#REF!","v":{"$error":"#REF!"}},null,"Team",{"$f":"DRAW!#REF!","v":{"$error":"#REF!"}},"V","Team",{"$f":"DRAW!#REF!","v":{"$error":"#REF!"}},null,null,"Team",{"$f":"DRAW!#REF!","v":{"$error":"#REF!"}},"V","Team",{"$f":"DRAW!#REF!","v":{"$error":"#REF!"}}]
["Ends","Shots","Total",null,"Shots","Total",null,"Ends","Shots","Total",null,"Shots","Total",null,"Ends","Shots","Total",null,"Shots","Total","Ends","Shots","Total",null,"Shots","Total",null,"Ends","Shots","Total",null,"Shots","Total",null,"Ends","Shots","Total",null,"Shots","Total","Ends","Shots","Total",null,"Shots","Total",null,"Ends","Shots","Total",null,"shots","Totar"]
[1,{"$nulls":5},".",1,{"$nulls":5},".",1,{"$nulls":5},1,{"$nulls":5},".",1,{"$nulls":5},".",1,{"$nulls":5},1,{"$nulls":5},".",1]
[2,{"$nulls":6},2,{"$nulls":6},2,{"$nulls":5},2,{"$nulls":6},2,{"$nulls":6},2,{"$nulls":5},2,{"$nulls":6},2]
[3,{"$nulls":6},3,{"$nulls":6},3,{"$nulls":5},3,{"$nulls":6},3,{"$nulls":6},3,{"$nulls":5},3,{"$nulls":6},3]
[4,{"$nulls":6},4,{"$nulls":6},4,{"$nulls":5},4,{"$nulls":6},4,{"$nulls":6},4,{"$nulls":5},4,{"$nulls":6},4]
[5,{"$nulls":5},".",5,{"$nulls":5},".",5,{"$nulls":5},5,{"$nulls":5},".",5,{"$nulls":5},".",5,{"$nulls":5},5,{"$nulls":5},".",5]
[6,{"$nulls":6},6,{"$nulls":6},6,{"$nulls":5},6,{"$nulls":6},6,{"$nulls":6},6,{"$nulls":5},6,{"$nulls":6},6]
[7,{"$nulls":6},7,{"$nulls":6},7,{"$nulls":5},7,{"$nulls":6},7,{"$nulls":6},7,{"$nulls":5},7,{"$nulls":6},7]
[8,{"$nulls":6},8,{"$nulls":6},8,{"$nulls":5},8,{"$nulls":6},8,{"$nulls":6},8,{"$nulls":5},8,{"$nulls":6},8]
[9,{"$nulls":5},".",9,{"$nulls":5},".",9,{"$nulls":5},9,{"$nulls":5},".",9,{"$nulls":5},".",9,{"$nulls":5},9,{"$nulls":5},".",9]
[10,{"$nulls":6},10,{"$nulls":6},10,{"$nulls":5},10,{"$nulls":6},10,{"$nulls":6},10,{"$nulls":5},10,{"$nulls":6},10]
[11,{"$nulls":6},11,{"$nulls":6},11,{"$nulls":5},11,{"$nulls":6},11,{"$nulls":6},11,{"$nulls":5},11,{"$nulls":6},11]
[12,{"$nulls":6},12,{"$nulls":6},12,{"$nulls":5},12,{"$nulls":6},12,{"$nulls":6},12,{"$nulls":5},12,{"$nulls":6},12]
[13,{"$nulls":5},".",13,{"$nulls":5},".",13,{"$nulls":5},13,{"$nulls":5},".",13,{"$nulls":5},".",13,{"$nulls":5},13,{"$nulls":5},".",13]
[14,{"$nulls":6},14,{"$nulls":6},14,{"$nulls":5},14,{"$nulls":6},14,{"$nulls":6},14,{"$nulls":5},14,{"$nulls":6},14]
[15,{"$nulls":6},15,{"$nulls":6},15,{"$nulls":5},15,{"$nulls":6},15,{"$nulls":6},15,{"$nulls":5},15,{"$nulls":6},15]
[16,{"$nulls":6},16,{"$nulls":6},16,{"$nulls":5},16,{"$nulls":6},16,{"$nulls":6},16,{"$nulls":5},16,{"$nulls":6},16]
[17,{"$nulls":5},".",17,{"$nulls":5},".",17,{"$nulls":5},17,{"$nulls":5},".",17,{"$nulls":5},".",17,{"$nulls":5},17,{"$nulls":5},".",17]
[18,{"$nulls":6},18,{"$nulls":6},18,{"$nulls":5},18,{"$nulls":6},18,{"$nulls":6},18,{"$nulls":5},18,{"$nulls":6},18]
["Total","Shots",null,null,"Shots",null,null,"Total","Shots",null,null,"Shots",null,null,"Total","Shots",null,null,"Shots",null,"Total","Shots",null,null,"Shots",null,null,"Total","Shots",null,null,"Shots",null,null,"Total","Shots",null,null,"Shots",null,"Total","Shots",null,null,"Shots",null,null,"Total","Shots",null,null,"shots"]
[null,"Ends",null,null,"Ends",null,".",null,"Ends",null,null,"Ends",null,".",null,"Ends",null,null,"Ends",null,null,"Ends",null,null,"Ends",null,".",null,"Ends",null,null,"Ends",null,".",null,"Ends",null,null,"Ends",null,null,"Ends",null,null,"Ends",null,".",null,"Ends",null,null,"Ends"]
[]
[]
["1st Game ",{"$nulls":5},".","2nd Game ",{"$nulls":5},".","3rd Game ",{"$nulls":5},"4th Game",{"$nulls":5},".","5th Game",{"$nulls":5},".","6th Game",{"$nulls":5},"7th Game",{"$nulls":5},".","8th Game"]
["Team No",null,null,"Rink No",{"$nulls":3},"Team No",null,null,"Rink No",{"$nulls":3},"Team No",null,null,"Rink No",null,null,"Team No",null,null,"Rink No",{"$nulls":3},"Team No",null,null,"Rink No",{"$nulls":3},"Team No",null,null,"Rink No",null,null,"Team No",null,null,"Rink No",{"$nulls":3},"Team No",null,null,"Rink No"]
[]
[{"$f":"DRAW!#REF!","v":{"$error":"#REF!"}},null,null,{"$f":"DRAW!#REF!","v":{"$error":"#REF!"}},null,null,".",{"$f":"DRAW!#REF!","v":{"$error":"#REF!"}},null,null,{"$f":"DRAW!#REF!","v":{"$error":"#REF!"}},null,null,".",{"$f":"DRAW!#REF!","v":{"$error":"#REF!"}},null,null,{"$f":"DRAW!#REF!","v":{"$error":"#REF!"}},null,null,{"$f":"DRAW!#REF!","v":{"$error":"#REF!"}},null,null,{"$f":"DRAW!#REF!","v":{"$error":"#REF!"}},null,null,".",{"$f":"DRAW!#REF!","v":{"$error":"#REF!"}},null,null,{"$f":"DRAW!#REF!","v":{"$error":"#REF!"}},null,null,".",{"$f":"DRAW!#REF!","v":{"$error":"#REF!"}},null,null,{"$f":"DRAW!#REF!","v":{"$error":"#REF!"}},null,null,{"$f":"DRAW!#REF!","v":{"$error":"#REF!"}},null,null,{"$f":"DRAW!#REF!","v":{"$error":"#REF!"}},null,null,".",{"$f":"DRAW!#REF!","v":{"$error":"#REF!"}},null,null,{"$f":"DRAW!#REF!","v":{"$error":"#REF!"}}]
[null,"Team",{"$f":"DRAW!#REF!","v":{"$error":"#REF!"}},"V","Team",{"$f":"DRAW!#REF!","v":{"$error":"#REF!"}},null,null,"Team",{"$f":"DRAW!#REF!","v":{"$error":"#REF!"}},"V","Team",{"$f":"DRAW!#REF!","v":{"$error":"#REF!"}},null,null,"Team",{"$f":"DRAW!#REF!","v":{"$error":"#REF!"}},"V","Team",{"$f":"DRAW!#REF!","v":{"$error":"#REF!"}},null,"Team",{"$f":"DRAW!#REF!","v":{"$error":"#REF!"}},"V","Team",{"$f":"DRAW!#REF!","v":{"$error":"#REF!"}},null,null,"Team",{"$f":"DRAW!#REF!","v":{"$error":"#REF!"}},"V","Team",{"$f":"DRAW!#REF!","v":{"$error":"#REF!"}},null,null,"Team",{"$f":"DRAW!#REF!","v":{"$error":"#REF!"}},"V","Team",{"$f":"DRAW!#REF!","v":{"$error":"#REF!"}},null,"Team",{"$f":"DRAW!#REF!","v":{"$error":"#REF!"}},"V","Team",{"$f":"DRAW!#REF!","v":{"$error":"#REF!"}},null,null,"Team",{"$f":"DRAW!#REF!","v":{"$error":"#REF!"}},"V","Team",{"$f":"DRAW!#REF!","v":{"$error":"#REF!"}}]
["Ends","Shots","Total",null,"Shots","Total",null,"Ends","Shots","Total",null,"Shots","Total",null,"Ends","Shots","Total",null,"Shots","Total","Ends","Shots","Total",null,"Shots","Total",null,"Ends","Shots","Total",null,"Shots","Total",null,"Ends","Shots","Total",null,"Shots","Total","Ends","Shots","Total",null,"Shots","Total",null,"Ends","Shots","Total",null,"shots","Totar"]
[1,{"$nulls":5},".",1,{"$nulls":5},".",1,{"$nulls":5},1,{"$nulls":5},".",1,{"$nulls":5},".",1,{"$nulls":5},1,{"$nulls":5},".",1]
[2,{"$nulls":6},2,{"$nulls":6},2,{"$nulls":5},2,{"$nulls":6},2,{"$nulls":6},2,{"$nulls":5},2,{"$nulls":6},2]
[3,{"$nulls":6},3,{"$nulls":6},3,{"$nulls":5},3,{"$nulls":6},3,{"$nulls":6},3,{"$nulls":5},3,{"$nulls":6},3]
[4,{"$nulls":6},4,{"$nulls":6},4,{"$nulls":5},4,{"$nulls":6},4,{"$nulls":6},4,{"$nulls":5},4,{"$nulls":6},4]
[5,{"$nulls":5},".",5,{"$nulls":5},".",5,{"$nulls":5},5,{"$nulls":5},".",5,{"$nulls":5},".",5,{"$nulls":5},5,{"$nulls":5},".",5]
[6,{"$nulls":6},6,{"$nulls":6},6,{"$nulls":5},6,{"$nulls":6},6,{"$nulls":6},6,{"$nulls":5},6,{"$nulls":6},6]
[7,{"$nulls":6},7,{"$nulls":6},7,{"$nulls":5},7,{"$nulls":6},7,{"$nulls":6},7,{"$nulls":5},7,{"$nulls":6},7]
[8,{"$nulls":6},8,{"$nulls":6},8,{"$nulls":5},8,{"$nulls":6},8,{"$nulls":6},8,{"$nulls":5},8,{"$nulls":6},8]
[9,{"$nulls":5},".",9,{"$nulls":5},".",9,{"$nulls":5},9,{"$nulls":5},".",9,{"$nulls":5},".",9,{"$nulls":5},9,{"$nulls":5},".",9]
[10,{"$nulls":6},10,{"$nulls":6},10,{"$nulls":5},10,{"$nulls":6},10,{"$nulls":6},10,{"$nulls":5},10,{"$nulls":6},10]
[11,{"$nulls":6},11,{"$nulls":6},11,{"$nulls":5},11,{"$nulls":6},11,{"$nulls":6},11,{"$nulls":5},11,{"$nulls":6},11]
[12,{"$nulls":6},12,{"$nulls":6},12,{"$nulls":5},12,{"$nulls":6},12,{"$nulls":6},12,{"$nulls":5},12,{"$nulls":6},12]
[13,{"$nulls":5},".",13,{"$nulls":5},".",13,{"$nulls":5},13,{"$nulls":5},".",13,{"$nulls":5},".",13,{"$nulls":5},13,{"$nulls":5},".",13]
[14,{"$nulls":6},14,{"$nulls":6},14,{"$nulls":5},14,{"$nulls":6},14,{"$nulls":6},14,{"$nulls":5},14,{"$nulls":6},14]
[15,{"$nulls":6},15,{"$nulls":6},15,{"$nulls":5},15,{"$nulls":6},15,{"$nulls":6},15,{"$nulls":5},15,{"$nulls":6},15]
[16,{"$nulls":6},16,{"$nulls":6},16,{"$nulls":5},16,{"$nulls":6},16,{"$nulls":6},16,{"$nulls":5},16,{"$nulls":6},16]
[17,{"$nulls":5},".",17,{"$nulls":5},".",17,{"$nulls":5},17,{"$nulls":5},".",17,{"$nulls":5},".",17,{"$nulls":5},17,{"$nulls":5},".",17]
[18,{"$nulls":6},18,{"$nulls":6},18,{"$nulls":5},18,{"$nulls":6},18,{"$nulls":6},18,{"$nulls":5},18,{"$nulls":6},18]
["Total","Shots",null,null,"Shots",null,null,"Total","Shots",null,null,"Shots",null,null,"Total","Shots",null,null,"Shots",null,"Total","Shots",null,null,"Shots",null,null,"Total","Shots",null,null,"Shots",null,null,"Total","Shots",null,null,"Shots",null,"Total","Shots",null,null,"Shots",null,null,"Total","Shots",null,null,"shots"]
[null,"Ends",null,null,"Ends",null,".",null,"Ends",null,null,"Ends",null,".",null,"Ends",null,null,"Ends",null,null,"Ends",null,null,"Ends",null,".",null,"Ends",null,null,"Ends",null,".",null,"Ends",null,null,"Ends",null,null,"Ends",null,null,"Ends",null,".",null,"Ends",null,null,"Ends"]
["1st Game ",{"$nulls":5},".","2nd Game ",{"$nulls":5},".","3rd Game ",{"$nulls":5},"4th Game",{"$nulls":5},".","5th Game",{"$nulls":5},".","6th Game",{"$nulls":5},"7th Game",{"$nulls":5},".","8th Game"]
["Team No",null,null,"Rink No",{"$nulls":3},"Team No",null,null,"Rink No",{"$nulls":3},"Team No",null,null,"Rink No",null,null,"Team No",null,null,"Rink No",{"$nulls":3},"Team No",null,null,"Rink No",{"$nulls":3},"Team No",null,null,"Rink No",null,null,"Team No",null,null,"Rink No",{"$nulls":3},"Team No",null,null,"Rink No"]
[]
[{"$f":"DRAW!#REF!","v":{"$error":"#REF!"}},null,null,{"$f":"DRAW!#REF!","v":{"$error":"#REF!"}},null,null,".",{"$f":"DRAW!#REF!","v":{"$error":"#REF!"}},null,null,{"$f":"DRAW!#REF!","v":{"$error":"#REF!"}},null,null,".",{"$f":"DRAW!#REF!","v":{"$error":"#REF!"}},null,null,{"$f":"DRAW!#REF!","v":{"$error":"#REF!"}},null,null,{"$f":"DRAW!#REF!","v":{"$error":"#REF!"}},null,null,{"$f":"DRAW!#REF!","v":{"$error":"#REF!"}},null,null,".",{"$f":"DRAW!#REF!","v":{"$error":"#REF!"}},null,null,{"$f":"DRAW!#REF!","v":{"$error":"#REF!"}},null,null,".",{"$f":"DRAW!#REF!","v":{"$error":"#REF!"}},null,null,{"$f":"DRAW!#REF!","v":{"$error":"#REF!"}},null,null,{"$f":"DRAW!#REF!","v":{"$error":"#REF!"}},null,null,{"$f":"DRAW!#REF!","v":{"$error":"#REF!"}},null,null,".",{"$f":"DRAW!#REF!","v":{"$error":"#REF!"}},null,null,{"$f":"DRAW!#REF!","v":{"$error":"#REF!"}}]
[null,"Team",{"$f":"DRAW!#REF!","v":{"$error":"#REF!"}},"V","Team",{"$f":"DRAW!#REF!","v":{"$error":"#REF!"}},null,null,"Team",{"$f":"DRAW!#REF!","v":{"$error":"#REF!"}},"V","Team",{"$f":"DRAW!#REF!","v":{"$error":"#REF!"}},null,null,"Team",{"$f":"DRAW!#REF!","v":{"$error":"#REF!"}},"V","Team",{"$f":"DRAW!#REF!","v":{"$error":"#REF!"}},null,"Team",{"$f":"DRAW!#REF!","v":{"$error":"#REF!"}},"V","Team",{"$f":"DRAW!#REF!","v":{"$error":"#REF!"}},null,null,"Team",{"$f":"DRAW!#REF!","v":{"$error":"#REF!"}},"V","Team",{"$f":"DRAW!#REF!","v":{"$error":"#REF!"}},null,null,"Team",{"$f":"DRAW!#REF!","v":{"$error":"#REF!"}},"V","Team",{"$f":"DRAW!#REF!","v":{"$error":"#REF!"}},null,"Team",{"$f":"DRAW!#REF!","v":{"$error":"#REF!"}},"V","Team",{"$f":"DRAW!#REF!","v":{"$error":"#REF!"}},null,null,"Team",{"$f":"DRAW!#REF!","v":{"$error":"#REF!"}},"V","Team",{"$f":"DRAW!#REF!","v":{"$error":"#REF!"}}]
["Ends","Shots","Total",null,"Shots","Total",null,"Ends","Shots","Total",null,"Shots","Total",null,"Ends","Shots","Total",null,"Shots","Total","Ends","Shots","Total",null,"Shots","Total",null,"Ends","Shots","Total",null,"Shots","Total",null,"Ends","Shots","Total",null,"Shots","Total","Ends","Shots","Total",null,"Shots","Total",null,"Ends","Shots","Total",null,"shots","Totar"]
[1,{"$nulls":5},".",1,{"$nulls":5},".",1,{"$nulls":5},1,{"$nulls":5},".",1,{"$nulls":5},".",1,{"$nulls":5},1,{"$nulls":5},".",1]
[2,{"$nulls":6},2,{"$nulls":6},2,{"$nulls":5},2,{"$nulls":6},2,{"$nulls":6},2,{"$nulls":5},2,{"$nulls":6},2]
[3,{"$nulls":6},3,{"$nulls":6},3,{"$nulls":5},3,{"$nulls":6},3,{"$nulls":6},3,{"$nulls":5},3,{"$nulls":6},3]
[4,{"$nulls":6},4,{"$nulls":6},4,{"$nulls":5},4,{"$nulls":6},4,{"$nulls":6},4,{"$nulls":5},4,{"$nulls":6},4]
[5,{"$nulls":5},".",5,{"$nulls":5},".",5,{"$nulls":5},5,{"$nulls":5},".",5,{"$nulls":5},".",5,{"$nulls":5},5,{"$nulls":5},".",5]
[6,{"$nulls":6},6,{"$nulls":6},6,{"$nulls":5},6,{"$nulls":6},6,{"$nulls":6},6,{"$nulls":5},6,{"$nulls":6},6]
[7,{"$nulls":6},7,{"$nulls":6},7,{"$nulls":5},7,{"$nulls":6},7,{"$nulls":6},7,{"$nulls":5},7,{"$nulls":6},7]
[8,{"$nulls":6},8,{"$nulls":6},8,{"$nulls":5},8,{"$nulls":6},8,{"$nulls":6},8,{"$nulls":5},8,{"$nulls":6},8]
[9,{"$nulls":5},".",9,{"$nulls":5},".",9,{"$nulls":5},9,{"$nulls":5},".",9,{"$nulls":5},".",9,{"$nulls":5},9,{"$nulls":5},".",9]
[10,{"$nulls":6},10,{"$nulls":6},10,{"$nulls":5},10,{"$nulls":6},10,{"$nulls":6},10,{"$nulls":5},10,{"$nulls":6},10]
[11,{"$nulls":6},11,{"$nulls":6},11,{"$nulls":5},11,{"$nulls":6},11,{"$nulls":6},11,{"$nulls":5},11,{"$nulls":6},11]
[12,{"$nulls":6},12,{"$nulls":6},12,{"$nulls":5},12,{"$nulls":6},12,{"$nulls":6},12,{"$nulls":5},12,{"$nulls":6},12]
[13,{"$nulls":5},".",13,{"$nulls":5},".",13,{"$nulls":5},13,{"$nulls":5},".",13,{"$nulls":5},".",13,{"$nulls":5},13,{"$nulls":5},".",13]
[14,{"$nulls":6},14,{"$nulls":6},14,{"$nulls":5},14,{"$nulls":6},14,{"$nulls":6},14,{"$nulls":5},14,{"$nulls":6},14]
[15,{"$nulls":6},15,{"$nulls":6},15,{"$nulls":5},15,{"$nulls":6},15,{"$nulls":6},15,{"$nulls":5},15,{"$nulls":6},15]
[16,{"$nulls":6},16,{"$nulls":6},16,{"$nulls":5},16,{"$nulls":6},16,{"$nulls":6},16,{"$nulls":5},16,{"$nulls":6},16]
[17,{"$nulls":5},".",17,{"$nulls":5},".",17,{"$nulls":5},17,{"$nulls":5},".",17,{"$nulls":5},".",17,{"$nulls":5},17,{"$nulls":5},".",17]
[18,{"$nulls":6},18,{"$nulls":6},18,{"$nulls":5},18,{"$nulls":6},18,{"$nulls":6},18,{"$nulls":5},18,{"$nulls":6},18]
["Total","Shots",null,null,"Shots",null,null,"Total","Shots",null,null,"Shots",null,null,"Total","Shots",null,null,"Shots",null,"Total","Shots",null,null,"Shots",null,null,"Total","Shots",null,null,"Shots",null,null,"Total","Shots",null,null,"Shots",null,"Total","Shots",null,null,"Shots",null,null,"Total","Shots",null,null,"shots"]
[null,"Ends",null,null,"Ends",null,".",null,"Ends",null,null,"Ends",null,".",null,"Ends",null,null,"Ends",null,null,"Ends",null,null,"Ends",null,".",null,"Ends",null,null,"Ends",null,".",null,"Ends",null,null,"Ends",null,null,"Ends",null,null,"Ends",null,".",null,"Ends",null,null,"Ends"]
[]
[]
["1st Game ",{"$nulls":5},".","2nd Game ",{"$nulls":5},".","3rd Game ",{"$nulls":5},"4th Game",{"$nulls":5},".","5th Game",{"$nulls":5},".","6th Game",{"$nulls":5},"7th Game",{"$nulls":5},".","8th Game"]
["Team No",null,null,"Rink No",{"$nulls":3},"Team No",null,null,"Rink No",{"$nulls":3},"Team No",null,null,"Rink No",null,null,"Team No",null,null,"Rink No",{"$nulls":3},"Team No",null,null,"Rink No",{"$nulls":3},"Team No",null,null,"Rink No",null,null,"Team No",null,null,"Rink No",{"$nulls":3},"Team No",null,null,"Rink No"]
[]
[{"$f":"DRAW!#REF!","v":{"$error":"#REF!"}},null,null,{"$f":"DRAW!#REF!","v":{"$error":"#REF!"}},null,null,".",{"$f":"DRAW!#REF!","v":{"$error":"#REF!"}},null,null,{"$f":"DRAW!#REF!","v":{"$error":"#REF!"}},null,null,".",{"$f":"DRAW!#REF!","v":{"$error":"#REF!"}},null,null,{"$f":"DRAW!#REF!","v":{"$error":"#REF!"}},null,null,{"$f":"DRAW!#REF!","v":{"$error":"#REF!"}},null,null,{"$f":"DRAW!#REF!","v":{"$error":"#REF!"}},null,null,".",{"$f":"DRAW!#REF!","v":{"$error":"#REF!"}},null,null,{"$f":"DRAW!#REF!","v":{"$error":"#REF!"}},null,null,".",{"$f":"DRAW!#REF!","v":{"$error":"#REF!"}},null,null,{"$f":"DRAW!#REF!","v":{"$error":"#REF!"}},null,null,{"$f":"DRAW!#REF!","v":{"$error":"#REF!"}},null,null,{"$f":"DRAW!#REF!","v":{"$error":"#REF!"}},null,null,".",{"$f":"DRAW!#REF!","v":{"$error":"#REF!"}},null,null,{"$f":"DRAW!#REF!","v":{"$error":"#REF!"}}]
[null,"Team",{"$f":"DRAW!#REF!","v":{"$error":"#REF!"}},"V","Team",{"$f":"DRAW!#REF!","v":{"$error":"#REF!"}},null,null,"Team",{"$f":"DRAW!#REF!","v":{"$error":"#REF!"}},"V","Team",{"$f":"DRAW!#REF!","v":{"$error":"#REF!"}},null,null,"Team",{"$f":"DRAW!#REF!","v":{"$error":"#REF!"}},"V","Team",{"$f":"DRAW!#REF!","v":{"$error":"#REF!"}},null,"Team",{"$f":"DRAW!#REF!","v":{"$error":"#REF!"}},"V","Team",{"$f":"DRAW!#REF!","v":{"$error":"#REF!"}},null,null,"Team",{"$f":"DRAW!#REF!","v":{"$error":"#REF!"}},"V","Team",{"$f":"DRAW!#REF!","v":{"$error":"#REF!"}},null,null,"Team",{"$f":"DRAW!#REF!","v":{"$error":"#REF!"}},"V","Team",{"$f":"DRAW!#REF!","v":{"$error":"#REF!"}},null,"Team",{"$f":"DRAW!#REF!","v":{"$error":"#REF!"}},"V","Team",{"$f":"DRAW!#REF!","v":{"$error":"#REF!"}},null,null,"Team",{"$f":"DRAW!#REF!","v":{"$error":"#REF!"}},"V","Team",{"$f":"DRAW!#REF!","v":{"$error":"#REF!"}}]
["Ends","Shots","Total",null,"Shots","Total",null,"Ends","Shots","Total",null,"Shots","Total",null,"Ends","Shots","Total",null,"Shots","Total","Ends","Shots","Total",null,"Shots","Total",null,"Ends","Shots","Total",null,"Shots","Total",null,"Ends","Shots","Total",null,"Shots","Total","Ends","Shots","Total",null,"Shots","Total",null,"Ends","Shots","Total",null,"shots","Totar"]
[1,{"$nulls":5},".",1,{"$nulls":5},".",1,{"$nulls":5},1,{"$nulls":5},".",1,{"$nulls":5},".",1,{"$nulls":5},1,{"$nulls":5},".",1]
[2,{"$nulls":6},2,{"$nulls":6},2,{"$nulls":5},2,{"$nulls":6},2,{"$nulls":6},2,{"$nulls":5},2,{"$nulls":6},2]
[3,{"$nulls":6},3,{"$nulls":6},3,{"$nulls":5},3,{"$nulls":6},3,{"$nulls":6},3,{"$nulls":5},3,{"$nulls":6},3]
[4,{"$nulls":6},4,{"$nulls":6},4,{"$nulls":5},4,{"$nulls":6},4,{"$nulls":6},4,{"$nulls":5},4,{"$nulls":6},4]
[5,{"$nulls":5},".",5,{"$nulls":5},".",5,{"$nulls":5},5,{"$nulls":5},".",5,{"$nulls":5},".",5,{"$nulls":5},5,{"$nulls":5},".",5]
[6,{"$nulls":6},6,{"$nulls":6},6,{"$nulls":5},6,{"$nulls":6},6,{"$nulls":6},6,{"$nulls":5},6,{"$nulls":6},6]
[7,{"$nulls":6},7,{"$nulls":6},7,{"$nulls":5},7,{"$nulls":6},7,{"$nulls":6},7,{"$nulls":5},7,{"$nulls":6},7]
[8,{"$nulls":6},8,{"$nulls":6},8,{"$nulls":5},8,{"$nulls":6},8,{"$nulls":6},8,{"$nulls":5},8,{"$nulls":6},8]
[9,{"$nulls":5},".",9,{"$nulls":5},".",9,{"$nulls":5},9,{"$nulls":5},".",9,{"$nulls":5},".",9,{"$nulls":5},9,{"$nulls":5},".",9]
[10,{"$nulls":6},10,{"$nulls":6},10,{"$nulls":5},10,{"$nulls":6},10,{"$nulls":6},10,{"$nulls":5},10,{"$nulls":6},10]
[11,{"$nulls":6},11,{"$nulls":6},11,{"$nulls":5},11,{"$nulls":6},11,{"$nulls":6},11,{"$nulls":5},11,{"$nulls":6},11]
[12,{"$nulls":6},12,{"$nulls":6},12,{"$nulls":5},12,{"$nulls":6},12,{"$nulls":6},12,{"$nulls":5},12,{"$nulls":6},12]
[13,{"$nulls":5},".",13,{"$nulls":5},".",13,{"$nulls":5},13,{"$nulls":5},".",13,{"$nulls":5},".",13,{"$nulls":5},13,{"$nulls":5},".",13]
[14,{"$nulls":6},14,{"$nulls":6},14,{"$nulls":5},14,{"$nulls":6},14,{"$nulls":6},14,{"$nulls":5},14,{"$nulls":6},14]
[15,{"$nulls":6},15,{"$nulls":6},15,{"$nulls":5},15,{"$nulls":6},15,{"$nulls":6},15,{"$nulls":5},15,{"$nulls":6},15]
[16,{"$nulls":6},16,{"$nulls":6},16,{"$nulls":5},16,{"$nulls":6},16,{"$nulls":6},16,{"$nulls":5},16,{"$nulls":6},16]
[17,{"$nulls":5},".",17,{"$nulls":5},".",17,{"$nulls":5},17,{"$nulls":5},".",17,{"$nulls":5},".",17,{"$nulls":5},17,{"$nulls":5},".",17]
[18,{"$nulls":6},18,{"$nulls":6},18,{"$nulls":5},18,{"$nulls":6},18,{"$nulls":6},18,{"$nulls":5},18,{"$nulls":6},18]
["Total","Shots",null,null,"Shots",null,null,"Total","Shots",null,null,"Shots",null,null,"Total","Shots",null,null,"Shots",null,"Total","Shots",null,null,"Shots",null,null,"Total","Shots",null,null,"Shots",null,null,"Total","Shots",null,null,"Shots",null,"Total","Shots",null,null,"Shots",null,null,"Total","Shots",null,null,"shots"]
[null,"Ends",null,null,"Ends",null,".",null,"Ends",null,null,"Ends",null,".",null,"Ends",null,null,"Ends",null,null,"Ends",null,null,"Ends",null,".",null,"Ends",null,null,"Ends",null,".",null,"Ends",null,null,"Ends",null,null,"Ends",null,null,"Ends",null,".",null,"Ends",null,null,"Ends"]
["1st Game ",{"$nulls":5},".","2nd Game ",{"$nulls":5},".","3rd Game ",{"$nulls":5},"4th Game",{"$nulls":5},".","5th Game",{"$nulls":5},".","6th Game",{"$nulls":5},"7th Game",{"$nulls":5},".","8th Game"]
["Team No",null,null,"Rink No",{"$nulls":3},"Team No",null,null,"Rink No",{"$nulls":3},"Team No",null,null,"Rink No",null,null,"Team No",null,null,"Rink No",{"$nulls":3},"Team No",null,null,"Rink No",{"$nulls":3},"Team No",null,null,"Rink No",null,null,"Team No",null,null,"Rink No",{"$nulls":3},"Team No",null,null,"Rink No"]
[]
[{"$f":"DRAW!#REF!","v":{"$error":"#REF!"}},null,null,{"$f":"DRAW!#REF!","v":{"$error":"#REF!"}},null,null,".",{"$f":"DRAW!#REF!","v":{"$error":"#REF!"}},null,null,{"$f":"DRAW!#REF!","v":{"$error":"#REF!"}},null,null,".",{"$f":"DRAW!#REF!","v":{"$error":"#REF!"}},null,null,{"$f":"DRAW!#REF!","v":{"$error":"#REF!"}},null,null,{"$f":"DRAW!#REF!","v":{"$error":"#REF!"}},null,null,{"$f":"DRAW!#REF!","v":{"$error":"#REF!"}},null,null,".",{"$f":"DRAW!#REF!","v":{"$error":"#REF!"}},null,null,{"$f":"DRAW!#REF!","v":{"$error":"#REF!"}},null,null,".",{"$f":"DRAW!#REF!","v":{"$error":"#REF!"}},null,null,{"$f":"DRAW!#REF!","v":{"$error":"#REF!"}},null,null,{"$f":"DRAW!#REF!","v":{"$error":"#REF!"}},null,null,{"$f":"DRAW!#REF!","v":{"$error":"#REF!"}},null,null,".",{"$f":"DRAW!#REF!","v":{"$error":"#REF!"}},null,null,{"$f":"DRAW!#REF!","v":{"$error":"#REF!"}}]
[null,"Team",{"$f":"DRAW!#REF!","v":{"$error":"#REF!"}},"V","Team",{"$f":"DRAW!#REF!","v":{"$error":"#REF!"}},null,null,"Team",{"$f":"DRAW!#REF!","v":{"$error":"#REF!"}},"V","Team",{"$f":"DRAW!#REF!","v":{"$error":"#REF!"}},null,null,"Team",{"$f":"DRAW!#REF!","v":{"$error":"#REF!"}},"V","Team",{"$f":"DRAW!#REF!","v":{"$error":"#REF!"}},null,"Team",{"$f":"DRAW!#REF!","v":{"$error":"#REF!"}},"V","Team",{"$f":"DRAW!#REF!","v":{"$error":"#REF!"}},null,null,"Team",{"$f":"DRAW!#REF!","v":{"$error":"#REF!"}},"V","Team",{"$f":"DRAW!#REF!","v":{"$error":"#REF!"}},null,null,"Team",{"$f":"DRAW!#REF!","v":{"$error":"#REF!"}},"V","Team",{"$f":"DRAW!#REF!","v":{"$error":"#REF!"}},null,"Team",{"$f":"DRAW!#REF!","v":{"$error":"#REF!"}},"V","Team",{"$f":"DRAW!#REF!","v":{"$error":"#REF!"}},null,null,"Team",{"$f":"DRAW!#REF!","v":{"$error":"#REF!"}},"V","Team",{"$f":"DRAW!#REF!","v":{"$error":"#REF!"}}]
["Ends","Shots","Total",null,"Shots","Total",null,"Ends","Shots","Total",null,"Shots","Total",null,"Ends","Shots","Total",null,"Shots","Total","Ends","Shots","Total",null,"Shots","Total",null,"Ends","Shots","Total",null,"Shots","Total",null,"Ends","Shots","Total",null,"Shots","Total","Ends","Shots","Total",null,"Shots","Total",null,"Ends","Shots","Total",null,"shots","Totar"]
[1,{"$nulls":5},".",1,{"$nulls":5},".",1,{"$nulls":5},1,{"$nulls":5},".",1,{"$nulls":5},".",1,{"$nulls":5},1,{"$nulls":5},".",1]
[2,{"$nulls":6},2,{"$nulls":6},2,{"$nulls":5},2,{"$nulls":6},2,{"$nulls":6},2,{"$nulls":5},2,{"$nulls":6},2]
[3,{"$nulls":6},3,{"$nulls":6},3,{"$nulls":5},3,{"$nulls":6},3,{"$nulls":6},3,{"$nulls":5},3,{"$nulls":6},3]
[4,{"$nulls":6},4,{"$nulls":6},4,{"$nulls":5},4,{"$nulls":6},4,{"$nulls":6},4,{"$nulls":5},4,{"$nulls":6},4]
[5,{"$nulls":5},".",5,{"$nulls":5},".",5,{"$nulls":5},5,{"$nulls":5},".",5,{"$nulls":5},".",5,{"$nulls":5},5,{"$nulls":5},".",5]
[6,{"$nulls":6},6,{"$nulls":6},6,{"$nulls":5},6,{"$nulls":6},6,{"$nulls":6},6,{"$nulls":5},6,{"$nulls":6},6]
[7,{"$nulls":6},7,{"$nulls":6},7,{"$nulls":5},7,{"$nulls":6},7,{"$nulls":6},7,{"$nulls":5},7,{"$nulls":6},7]
[8,{"$nulls":6},8,{"$nulls":6},8,{"$nulls":5},8,{"$nulls":6},8,{"$nulls":6},8,{"$nulls":5},8,{"$nulls":6},8]
[9,{"$nulls":5},".",9,{"$nulls":5},".",9,{"$nulls":5},9,{"$nulls":5},".",9,{"$nulls":5},".",9,{"$nulls":5},9,{"$nulls":5},".",9]
[10,{"$nulls":6},10,{"$nulls":6},10,{"$nulls":5},10,{"$nulls":6},10,{"$nulls":6},10,{"$nulls":5},10,{"$nulls":6},10]
[11,{"$nulls":6},11,{"$nulls":6},11,{"$nulls":5},11,{"$nulls":6},11,{"$nulls":6},11,{"$nulls":5},11,{"$nulls":6},11]
[12,{"$nulls":6},12,{"$nulls":6},12,{"$nulls":5},12,{"$nulls":6},12,{"$nulls":6},12,{"$nulls":5},12,{"$nulls":6},12]
[13,{"$nulls":5},".",13,{"$nulls":5},".",13,{"$nulls":5},13,{"$nulls":5},".",13,{"$nulls":5},".",13,{"$nulls":5},13,{"$nulls":5},".",13]
[14,{"$nulls":6},14,{"$nulls":6},14,{"$nulls":5},14,{"$nulls":6},14,{"$nulls":6},14,{"$nulls":5},14,{"$nulls":6},14]
[15,{"$nulls":6},15,{"$nulls":6},15,{"$nulls":5},15,{"$nulls":6},15,{"$nulls":6},15,{"$nulls":5},15,{"$nulls":6},15]
[16,{"$nulls":6},16,{"$nulls":6},16,{"$nulls":5},16,{"$nulls":6},16,{"$nulls":6},16,{"$nulls":5},16,{"$nulls":6},16]
[17,{"$nulls":5},".",17,{"$nulls":5},".",17,{"$nulls":5},17,{"$nulls":5},".",17,{"$nulls":5},".",17,{"$nulls":5},17,{"$nulls":5},".",17]
[18,{"$nulls":6},18,{"$nulls":6},18,{"$nulls":5},18,{"$nulls":6},18,{"$nulls":6},18,{"$nulls":5},18,{"$nulls":6},18]
["Total","Shots",null,null,"Shots",null,null,"Total","Shots",null,null,"Shots",null,null,"Total","Shots",null,null,"Shots",null,"Total","Shots",null,null,"Shots",null,null,"Total","Shots",null,null,"Shots",null,null,"Total","Shots",null,null,"Shots",null,"Total","Shots",null,null,"Shots",null,null,"Total","Shots",null,null,"shots"]
[null,"Ends",null,null,"Ends",null,".",null,"Ends",null,null,"Ends",null,".",null,"Ends",null,null,"Ends",null,null,"Ends",null,null,"Ends",null,".",null,"Ends",null,null,"Ends",null,".",null,"Ends",null,null,"Ends",null,null,"Ends",null,null,"Ends",null,".",null,"Ends",null,null,"Ends"]
[]
[]
["1st Game ",{"$nulls":5},".","2nd Game ",{"$nulls":5},".","3rd Game ",{"$nulls":5},"4th Game",{"$nulls":5},".","5th Game",{"$nulls":5},".","6th Game",{"$nulls":5},"7th Game",{"$nulls":5},".","8th Game"]
["Team No",null,null,"Rink No",{"$nulls":3},"Team No",null,null,"Rink No",{"$nulls":3},"Team No",null,null,"Rink No",null,null,"Team No",null,null,"Rink No",{"$nulls":3},"Team No",null,null,"Rink No",{"$nulls":3},"Team No",null,null,"Rink No",null,null,"Team No",null,null,"Rink No",{"$nulls":3},"Team No",null,null,"Rink No"]
[]
[{"$f":"DRAW!#REF!","v":{"$error":"#REF!"}},null,null,{"$f":"DRAW!#REF!","v":{"$error":"#REF!"}},null,null,".",{"$f":"DRAW!#REF!","v":{"$error":"#REF!"}},null,null,{"$f":"DRAW!#REF!","v":{"$error":"#REF!"}},null,null,".",{"$f":"DRAW!#REF!","v":{"$error":"#REF!"}},null,null,{"$f":"DRAW!#REF!","v":{"$error":"#REF!"}},null,null,{"$f":"DRAW!#REF!","v":{"$error":"#REF!"}},null,null,{"$f":"DRAW!#REF!","v":{"$error":"#REF!"}},null,null,".",{"$f":"DRAW!#REF!","v":{"$error":"#REF!"}},null,null,{"$f":"DRAW!#REF!","v":{"$error":"#REF!"}},null,null,".",{"$f":"DRAW!#REF!","v":{"$error":"#REF!"}},null,null,{"$f":"DRAW!#REF!","v":{"$error":"#REF!"}},null,null,{"$f":"DRAW!#REF!","v":{"$error":"#REF!"}},null,null,{"$f":"DRAW!#REF!","v":{"$error":"#REF!"}},null,null,".",{"$f":"DRAW!#REF!","v":{"$error":"#REF!"}},null,null,{"$f":"DRAW!#REF!","v":{"$error":"#REF!"}}]
[null,"Team",{"$f":"DRAW!#REF!","v":{"$error":"#REF!"}},"V","Team",{"$f":"DRAW!#REF!","v":{"$error":"#REF!"}},null,null,"Team",{"$f":"DRAW!#REF!","v":{"$error":"#REF!"}},"V","Team",{"$f":"DRAW!#REF!","v":{"$error":"#REF!"}},null,null,"Team",{"$f":"DRAW!#REF!","v":{"$error":"#REF!"}},"V","Team",{"$f":"DRAW!#REF!","v":{"$error":"#REF!"}},null,"Team",{"$f":"DRAW!#REF!","v":{"$error":"#REF!"}},"V","Team",{"$f":"DRAW!#REF!","v":{"$error":"#REF!"}},null,null,"Team",{"$f":"DRAW!#REF!","v":{"$error":"#REF!"}},"V","Team",{"$f":"DRAW!#REF!","v":{"$error":"#REF!"}},null,null,"Team",{"$f":"DRAW!#REF!","v":{"$error":"#REF!"}},"V","Team",{"$f":"DRAW!#REF!","v":{"$error":"#REF!"}},null,"Team",{"$f":"DRAW!#REF!","v":{"$error":"#REF!"}},"V","Team",{"$f":"DRAW!#REF!","v":{"$error":"#REF!"}},null,null,"Team",{"$f":"DRAW!#REF!","v":{"$error":"#REF!"}},"V","Team",{"$f":"DRAW!#REF!","v":{"$error":"#REF!"}}]
["Ends","Shots","Total",null,"Shots","Total",null,"Ends","Shots","Total",null,"Shots","Total",null,"Ends","Shots","Total",null,"Shots","Total","Ends","Shots","Total",null,"Shots","Total",null,"Ends","Shots","Total",null,"Shots","Total",null,"Ends","Shots","Total",null,"Shots","Total","Ends","Shots","Total",null,"Shots","Total",null,"Ends","Shots","Total",null,"shots","Totar"]
[1,{"$nulls":5},".",1,{"$nulls":5},".",1,{"$nulls":5},1,{"$nulls":5},".",1,{"$nulls":5},".",1,{"$nulls":5},1,{"$nulls":5},".",1]
[2,{"$nulls":6},2,{"$nulls":6},2,{"$nulls":5},2,{"$nulls":6},2,{"$nulls":6},2,{"$nulls":5},2,{"$nulls":6},2]
[3,{"$nulls":6},3,{"$nulls":6},3,{"$nulls":5},3,{"$nulls":6},3,{"$nulls":6},3,{"$nulls":5},3,{"$nulls":6},3]
[4,{"$nulls":6},4,{"$nulls":6},4,{"$nulls":5},4,{"$nulls":6},4,{"$nulls":6},4,{"$nulls":5},4,{"$nulls":6},4]
[5,{"$nulls":5},".",5,{"$nulls":5},".",5,{"$nulls":5},5,{"$nulls":5},".",5,{"$nulls":5},".",5,{"$nulls":5},5,{"$nulls":5},".",5]
[6,{"$nulls":6},6,{"$nulls":6},6,{"$nulls":5},6,{"$nulls":6},6,{"$nulls":6},6,{"$nulls":5},6,{"$nulls":6},6]
[7,{"$nulls":6},7,{"$nulls":6},7,{"$nulls":5},7,{"$nulls":6},7,{"$nulls":6},7,{"$nulls":5},7,{"$nulls":6},7]
[8,{"$nulls":6},8,{"$nulls":6},8,{"$nulls":5},8,{"$nulls":6},8,{"$nulls":6},8,{"$nulls":5},8,{"$nulls":6},8]
[9,{"$nulls":5},".",9,{"$nulls":5},".",9,{"$nulls":5},9,{"$nulls":5},".",9,{"$nulls":5},".",9,{"$nulls":5},9,{"$nulls":5},".",9]
[10,{"$nulls":6},10,{"$nulls":6},10,{"$nulls":5},10,{"$nulls":6},10,{"$nulls":6},10,{"$nulls":5},10,{"$nulls":6},10]
[11,{"$nulls":6},11,{"$nulls":6},11,{"$nulls":5},11,{"$nulls":6},11,{"$nulls":6},11,{"$nulls":5},11,{"$nulls":6},11]
[12,{"$nulls":6},12,{"$nulls":6},12,{"$nulls":5},12,{"$nulls":6},12,{"$nulls":6},12,{"$nulls":5},12,{"$nulls":6},12]
[13,{"$nulls":5},".",13,{"$nulls":5},".",13,{"$nulls":5},13,{"$nulls":5},".",13,{"$nulls":5},".",13,{"$nulls":5},13,{"$nulls":5},".",13]
[14,{"$nulls":6},14,{"$nulls":6},14,{"$nulls":5},14,{"$nulls":6},14,{"$nulls":6},14,{"$nulls":5},14,{"$nulls":6},14]
[15,{"$nulls":6},15,{"$nulls":6},15,{"$nulls":5},15,{"$nulls":6},15,{"$nulls":6},15,{"$nulls":5},15,{"$nulls":6},15]
[16,{"$nulls":6},16,{"$nulls":6},16,{"$nulls":5},16,{"$nulls":6},16,{"$nulls":6},16,{"$nulls":5},16,{"$nulls":6},16]
[17,{"$nulls":5},".",17,{"$nulls":5},".",17,{"$nulls":5},17,{"$nulls":5},".",17,{"$nulls":5},".",17,{"$nulls":5},17,{"$nulls":5},".",17]
[18,{"$nulls":6},18,{"$nulls":6},18,{"$nulls":5},18,{"$nulls":6},18,{"$nulls":6},18,{"$nulls":5},18,{"$nulls":6},18]
["Total","Shots",null,null,"Shots",null,null,"Total","Shots",null,null,"Shots",null,null,"Total","Shots",null,null,"Shots",null,"Total","Shots",null,null,"Shots",null,null,"Total","Shots",null,null,"Shots",null,null,"Total","Shots",null,null,"Shots",null,"Total","Shots",null,null,"Shots",null,null,"Total","Shots",null,null,"shots"]
[null,"Ends",null,null,"Ends",null,".",null,"Ends",null,null,"Ends",null,".",null,"Ends",null,null,"Ends",null,null,"Ends",null,null,"Ends",null,".",null,"Ends",null,null,"Ends",null,".",null,"Ends",null,null,"Ends",null,null,"Ends",null,null,"Ends",null,".",null,"Ends",null,null,"Ends"]
["1st Game ",{"$nulls":5},".","2nd Game ",{"$nulls":5},".","3rd Game ",{"$nulls":5},"4th Game",{"$nulls":5},".","5th Game",{"$nulls":5},".","6th Game",{"$nulls":5},"7th Game",{"$nulls":5},".","8th Game"]
["Team No",null,null,"Rink No",{"$nulls":3},"Team No",null,null,"Rink No",{"$nulls":3},"Team No",null,null,"Rink No",null,null,"Team No",null,null,"Rink No",{"$nulls":3},"Team No",null,null,"Rink No",{"$nulls":3},"Team No",null,null,"Rink No",null,null,"Team No",null,null,"Rink No",{"$nulls":3},"Team No",null,null,"Rink No"]
[]
[{"$f":"DRAW!#REF!","v":{"$error":"#REF!"}},null,null,{"$f":"DRAW!#REF!","v":{"$error":"#REF!"}},null,null,".",{"$f":"DRAW!#REF!","v":{"$error":"#REF!"}},null,null,{"$f":"DRAW!#REF!","v":{"$error":"#REF!"}},null,null,".",{"$f":"DRAW!#REF!","v":{"$error":"#REF!"}},null,null,{"$f":"DRAW!#REF!","v":{"$error":"#REF!"}},null,null,{"$f":"DRAW!#REF!","v":{"$error":"#REF!"}},null,null,{"$f":"DRAW!#REF!","v":{"$error":"#REF!"}},null,null,".",{"$f":"DRAW!#REF!","v":{"$error":"#REF!"}},null,null,{"$f":"DRAW!#REF!","v":{"$error":"#REF!"}},null,null,".",{"$f":"DRAW!#REF!","v":{"$error":"#REF!"}},null,null,{"$f":"DRAW!#REF!","v":{"$error":"#REF!"}},null,null,{"$f":"DRAW!#REF!","v":{"$error":"#REF!"}},null,null,{"$f":"DRAW!#REF!","v":{"$error":"#REF!"}},null,null,".",{"$f":"DRAW!#REF!","v":{"$error":"#REF!"}},null,null,{"$f":"DRAW!#REF!","v":{"$error":"#REF!"}}]
[null,"Team",{"$f":"DRAW!#REF!","v":{"$error":"#REF!"}},"V","Team",{"$f":"DRAW!#REF!","v":{"$error":"#REF!"}},null,null,"Team",{"$f":"DRAW!#REF!","v":{"$error":"#REF!"}},"V","Team",{"$f":"DRAW!#REF!","v":{"$error":"#REF!"}},null,null,"Team",{"$f":"DRAW!#REF!","v":{"$error":"#REF!"}},"V","Team",{"$f":"DRAW!#REF!","v":{"$error":"#REF!"}},null,"Team",{"$f":"DRAW!#REF!","v":{"$error":"#REF!"}},"V","Team",{"$f":"DRAW!#REF!","v":{"$error":"#REF!"}},null,null,"Team",{"$f":"DRAW!#REF!","v":{"$error":"#REF!"}},"V","Team",{"$f":"DRAW!#REF!","v":{"$error":"#REF!"}},null,null,"Team",{"$f":"DRAW!#REF!","v":{"$error":"#REF!"}},"V","Team",{"$f":"DRAW!#REF!","v":{"$error":"#REF!"}},null,"Team",{"$f":"DRAW!#REF!","v":{"$error":"#REF!"}},"V","Team",{"$f":"DRAW!#REF!","v":{"$error":"#REF!"}},null,null,"Team",{"$f":"DRAW!#REF!","v":{"$error":"#REF!"}},"V","Team",{"$f":"DRAW!#REF!","v":{"$error":"#REF!"}}]
["Ends","Shots","Total",null,"Shots","Total",null,"Ends","Shots","Total",null,"Shots","Total",null,"Ends","Shots","Total",null,"Shots","Total","Ends","Shots","Total",null,"Shots","Total",null,"Ends","Shots","Total",null,"Shots","Total",null,"Ends","Shots","Total",null,"Shots","Total","Ends","Shots","Total",null,"Shots","Total",null,"Ends","Shots","Total",null,"shots","Totar"]
[1,{"$nulls":5},".",1,{"$nulls":5},".",1,{"$nulls":5},1,{"$nulls":5},".",1,{"$nulls":5},".",1,{"$nulls":5},1,{"$nulls":5},".",1]
[2,{"$nulls":6},2,{"$nulls":6},2,{"$nulls":5},2,{"$nulls":6},2,{"$nulls":6},2,{"$nulls":5},2,{"$nulls":6},2]
[3,{"$nulls":6},3,{"$nulls":6},3,{"$nulls":5},3,{"$nulls":6},3,{"$nulls":6},3,{"$nulls":5},3,{"$nulls":6},3]
[4,{"$nulls":6},4,{"$nulls":6},4,{"$nulls":5},4,{"$nulls":6},4,{"$nulls":6},4,{"$nulls":5},4,{"$nulls":6},4]
[5,{"$nulls":5},".",5,{"$nulls":5},".",5,{"$nulls":5},5,{"$nulls":5},".",5,{"$nulls":5},".",5,{"$nulls":5},5,{"$nulls":5},".",5]
[6,{"$nulls":6},6,{"$nulls":6},6,{"$nulls":5},6,{"$nulls":6},6,{"$nulls":6},6,{"$nulls":5},6,{"$nulls":6},6]
[7,{"$nulls":6},7,{"$nulls":6},7,{"$nulls":5},7,{"$nulls":6},7,{"$nulls":6},7,{"$nulls":5},7,{"$nulls":6},7]
[8,{"$nulls":6},8,{"$nulls":6},8,{"$nulls":5},8,{"$nulls":6},8,{"$nulls":6},8,{"$nulls":5},8,{"$nulls":6},8]
[9,{"$nulls":5},".",9,{"$nulls":5},".",9,{"$nulls":5},9,{"$nulls":5},".",9,{"$nulls":5},".",9,{"$nulls":5},9,{"$nulls":5},".",9]
[10,{"$nulls":6},10,{"$nulls":6},10,{"$nulls":5},10,{"$nulls":6},10,{"$nulls":6},10,{"$nulls":5},10,{"$nulls":6},10]
[11,{"$nulls":6},11,{"$nulls":6},11,{"$nulls":5},11,{"$nulls":6},11,{"$nulls":6},11,{"$nulls":5},11,{"$nulls":6},11]
[12,{"$nulls":6},12,{"$nulls":6},12,{"$nulls":5},12,{"$nulls":6},12,{"$nulls":6},12,{"$nulls":5},12,{"$nulls":6},12]
[13,{"$nulls":5},".",13,{"$nulls":5},".",13,{"$nulls":5},13,{"$nulls":5},".",13,{"$nulls":5},".",13,{"$nulls":5},13,{"$nulls":5},".",13]
[14,{"$nulls":6},14,{"$nulls":6},14,{"$nulls":5},14,{"$nulls":6},14,{"$nulls":6},14,{"$nulls":5},14,{"$nulls":6},14]
[15,{"$nulls":6},15,{"$nulls":6},15,{"$nulls":5},15,{"$nulls":6},15,{"$nulls":6},15,{"$nulls":5},15,{"$nulls":6},15]
[16,{"$nulls":6},16,{"$nulls":6},16,{"$nulls":5},16,{"$nulls":6},16,{"$nulls":6},16,{"$nulls":5},16,{"$nulls":6},16]
[17,{"$nulls":5},".",17,{"$nulls":5},".",17,{"$nulls":5},17,{"$nulls":5},".",17,{"$nulls":5},".",17,{"$nulls":5},17,{"$nulls":5},".",17]
[18,{"$nulls":6},18,{"$nulls":6},18,{"$nulls":5},18,{"$nulls":6},18,{"$nulls":6},18,{"$nulls":5},18,{"$nulls":6},18]
["Total","Shots",null,null,"Shots",null,null,"Total","Shots",null,null,"Shots",null,null,"Total","Shots",null,null,"Shots",null,"Total","Shots",null,null,"Shots",null,null,"Total","Shots",null,null,"Shots",null,null,"Total","Shots",null,null,"Shots",null,"Total","Shots",null,null,"Shots",null,null,"Total","Shots",null,null,"shots"]
[null,"Ends",null,null,"Ends",null,".",null,"Ends",null,null,"Ends",null,".",null,"Ends",null,null,"Ends",null,null,"Ends",null,null,"Ends",null,".",null,"Ends",null,null,"Ends",null,".",null,"Ends",null,null,"Ends",null,null,"Ends",null,null,"Ends",null,".",null,"Ends",null,null,"Ends"]
[]
[]
["1st Game ",{"$nulls":5},".","2nd Game ",{"$nulls":5},".","3rd Game ",{"$nulls":5},"4th Game",{"$nulls":5},".","5th Game",{"$nulls":5},".","6th Game",{"$nulls":5},"7th Game",{"$nulls":5},".","8th Game"]
["Team No",null,null,"Rink No",{"$nulls":3},"Team No",null,null,"Rink No",{"$nulls":3},"Team No",null,null,"Rink No",null,null,"Team No",null,null,"Rink No",{"$nulls":3},"Team No",null,null,"Rink No",{"$nulls":3},"Team No",null,null,"Rink No",null,null,"Team No",null,null,"Rink No",{"$nulls":3},"Team No",null,null,"Rink No"]
[]
[{"$f":"DRAW!#REF!","v":{"$error":"#REF!"}},null,null,{"$f":"DRAW!#REF!","v":{"$error":"#REF!"}},null,null,".",{"$f":"DRAW!#REF!","v":{"$error":"#REF!"}},null,null,{"$f":"DRAW!#REF!","v":{"$error":"#REF!"}},null,null,".",{"$f":"DRAW!#REF!","v":{"$error":"#REF!"}},null,null,{"$f":"DRAW!#REF!","v":{"$error":"#REF!"}},null,null,{"$f":"DRAW!#REF!","v":{"$error":"#REF!"}},null,null,{"$f":"DRAW!#REF!","v":{"$error":"#REF!"}},null,null,".",{"$f":"DRAW!#REF!","v":{"$error":"#REF!"}},null,null,{"$f":"DRAW!#REF!","v":{"$error":"#REF!"}},null,null,".",{"$f":"DRAW!#REF!","v":{"$error":"#REF!"}},null,null,{"$f":"DRAW!#REF!","v":{"$error":"#REF!"}},null,null,{"$f":"DRAW!#REF!","v":{"$error":"#REF!"}},null,null,{"$f":"DRAW!#REF!","v":{"$error":"#REF!"}},null,null,".",{"$f":"DRAW!#REF!","v":{"$error":"#REF!"}},null,null,{"$f":"DRAW!#REF!","v":{"$error":"#REF!"}}]
[null,"Team",{"$f":"DRAW!#REF!","v":{"$error":"#REF!"}},"V","Team",{"$f":"DRAW!#REF!","v":{"$error":"#REF!"}},null,null,"Team",{"$f":"DRAW!#REF!","v":{"$error":"#REF!"}},"V","Team",{"$f":"DRAW!#REF!","v":{"$error":"#REF!"}},null,null,"Team",{"$f":"DRAW!#REF!","v":{"$error":"#REF!"}},"V","Team",{"$f":"DRAW!#REF!","v":{"$error":"#REF!"}},null,"Team",{"$f":"DRAW!#REF!","v":{"$error":"#REF!"}},"V","Team",{"$f":"DRAW!#REF!","v":{"$error":"#REF!"}},null,null,"Team",{"$f":"DRAW!#REF!","v":{"$error":"#REF!"}},"V","Team",{"$f":"DRAW!#REF!","v":{"$error":"#REF!"}},null,null,"Team",{"$f":"DRAW!#REF!","v":{"$error":"#REF!"}},"V","Team",{"$f":"DRAW!#REF!","v":{"$error":"#REF!"}},null,"Team",{"$f":"DRAW!#REF!","v":{"$error":"#REF!"}},"V","Team",{"$f":"DRAW!#REF!","v":{"$error":"#REF!"}},null,null,"Team",{"$f":"DRAW!#REF!","v":{"$error":"#REF!"}},"V","Team",{"$f":"DRAW!#REF!","v":{"$error":"#REF!"}}]
["Ends","Shots","Total",null,"Shots","Total",null,"Ends","Shots","Total",null,"Shots","Total",null,"Ends","Shots","Total",null,"Shots","Total","Ends","Shots","Total",null,"Shots","Total",null,"Ends","Shots","Total",null,"Shots","Total",null,"Ends","Shots","Total",null,"Shots","Total","Ends","Shots","Total",null,"Shots","Total",null,"Ends","Shots","Total",null,"shots","Totar"]
[1,{"$nulls":5},".",1,{"$nulls":5},".",1,{"$nulls":5},1,{"$nulls":5},".",1,{"$nulls":5},".",1,{"$nulls":5},1,{"$nulls":5},".",1]
[2,{"$nulls":6},2,{"$nulls":6},2,{"$nulls":5},2,{"$nulls":6},2,{"$nulls":6},2,{"$nulls":5},2,{"$nulls":6},2]
[3,{"$nulls":6},3,{"$nulls":6},3,{"$nulls":5},3,{"$nulls":6},3,{"$nulls":6},3,{"$nulls":5},3,{"$nulls":6},3]
[4,{"$nulls":6},4,{"$nulls":6},4,{"$nulls":5},4,{"$nulls":6},4,{"$nulls":6},4,{"$nulls":5},4,{"$nulls":6},4]
[5,{"$nulls":5},".",5,{"$nulls":5},".",5,{"$nulls":5},5,{"$nulls":5},".",5,{"$nulls":5},".",5,{"$nulls":5},5,{"$nulls":5},".",5]
[6,{"$nulls":6},6,{"$nulls":6},6,{"$nulls":5},6,{"$nulls":6},6,{"$nulls":6},6,{"$nulls":5},6,{"$nulls":6},6]
[7,{"$nulls":6},7,{"$nulls":6},7,{"$nulls":5},7,{"$nulls":6},7,{"$nulls":6},7,{"$nulls":5},7,{"$nulls":6},7]
[8,{"$nulls":6},8,{"$nulls":6},8,{"$nulls":5},8,{"$nulls":6},8,{"$nulls":6},8,{"$nulls":5},8,{"$nulls":6},8]
[9,{"$nulls":5},".",9,{"$nulls":5},".",9,{"$nulls":5},9,{"$nulls":5},".",9,{"$nulls":5},".",9,{"$nulls":5},9,{"$nulls":5},".",9]
[10,{"$nulls":6},10,{"$nulls":6},10,{"$nulls":5},10,{"$nulls":6},10,{"$nulls":6},10,{"$nulls":5},10,{"$nulls":6},10]
[11,{"$nulls":6},11,{"$nulls":6},11,{"$nulls":5},11,{"$nulls":6},11,{"$nulls":6},11,{"$nulls":5},11,{"$nulls":6},11]
[12,{"$nulls":6},12,{"$nulls":6},12,{"$nulls":5},12,{"$nulls":6},12,{"$nulls":6},12,{"$nulls":5},12,{"$nulls":6},12]
[13,{"$nulls":5},".",13,{"$nulls":5},".",13,{"$nulls":5},13,{"$nulls":5},".",13,{"$nulls":5},".",13,{"$nulls":5},13,{"$nulls":5},".",13]
[14,{"$nulls":6},14,{"$nulls":6},14,{"$nulls":5},14,{"$nulls":6},14,{"$nulls":6},14,{"$nulls":5},14,{"$nulls":6},14]
[15,{"$nulls":6},15,{"$nulls":6},15,{"$nulls":5},15,{"$nulls":6},15,{"$nulls":6},15,{"$nulls":5},15,{"$nulls":6},15]
[16,{"$nulls":6},16,{"$nulls":6},16,{"$nulls":5},16,{"$nulls":6},16,{"$nulls":6},16,{"$nulls":5},16,{"$nulls":6},16]
[17,{"$nulls":5},".",17,{"$nulls":5},".",17,{"$nulls":5},17,{"$nulls":5},".",17,{"$nulls":5},".",17,{"$nulls":5},17,{"$nulls":5},".",17]
[18,{"$nulls":6},18,{"$nulls":6},18,{"$nulls":5},18,{"$nulls":6},18,{"$nulls":6},18,{"$nulls":5},18,{"$nulls":6},18]
["Total","Shots",null,null,"Shots",null,null,"Total","Shots",null,null,"Shots",null,null,"Total","Shots",null,null,"Shots",null,"Total","Shots",null,null,"Shots",null,null,"Total","Shots",null,null,"Shots",null,null,"Total","Shots",null,null,"Shots",null,"Total","Shots",null,null,"Shots",null,null,"Total","Shots",null,null,"shots"]
[null,"Ends",null,null,"Ends",null,".",null,"Ends",null,null,"Ends",null,".",null,"Ends",null,null,"Ends",null,null,"Ends",null,null,"Ends",null,".",null,"Ends",null,null,"Ends",null,".",null,"Ends",null,null,"Ends",null,null,"Ends",null,null,"Ends",null,".",null,"Ends",null,null,"Ends"]
["1st Game ",{"$nulls":5},".","2nd Game ",{"$nulls":5},".","3rd Game ",{"$nulls":5},"4th Game",{"$nulls":5},".","5th Game",{"$nulls":5},".","6th Game",{"$nulls":5},"7th Game",{"$nulls":5},".","8th Game"]
["Team No",null,null,"Rink No",{"$nulls":3},"Team No",null,null,"Rink No",{"$nulls":3},"Team No",null,null,"Rink No",null,null,"Team No",null,null,"Rink No",{"$nulls":3},"Team No",null,null,"Rink No",{"$nulls":3},"Team No",null,null,"Rink No",null,null,"Team No",null,null,"Rink No",{"$nulls":3},"Team No",null,null,"Rink No"]
[]
[{"$f":"DRAW!#REF!","v":{"$error":"#REF!"}},null,null,{"$f":"DRAW!#REF!","v":{"$error":"#REF!"}},null,null,".",{"$f":"DRAW!#REF!","v":{"$error":"#REF!"}},null,null,{"$f":"DRAW!#REF!","v":{"$error":"#REF!"}},null,null,".",{"$f":"DRAW!#REF!","v":{"$error":"#REF!"}},null,null,{"$f":"DRAW!#REF!","v":{"$error":"#REF!"}},null,null,{"$f":"DRAW!#REF!","v":{"$error":"#REF!"}},null,null,{"$f":"DRAW!#REF!","v":{"$error":"#REF!"}},null,null,".",{"$f":"DRAW!#REF!","v":{"$error":"#REF!"}},null,null,{"$f":"DRAW!#REF!","v":{"$error":"#REF!"}},null,null,".",{"$f":"DRAW!#REF!","v":{"$error":"#REF!"}},null,null,{"$f":"DRAW!#REF!","v":{"$error":"#REF!"}},null,null,{"$f":"DRAW!#REF!","v":{"$error":"#REF!"}},null,null,{"$f":"DRAW!#REF!","v":{"$error":"#REF!"}},null,null,".",{"$f":"DRAW!#REF!","v":{"$error":"#REF!"}},null,null,{"$f":"DRAW!#REF!","v":{"$error":"#REF!"}}]
[null,"Team",{"$f":"DRAW!#REF!","v":{"$error":"#REF!"}},"V","Team",{"$f":"DRAW!#REF!","v":{"$error":"#REF!"}},null,null,"Team",{"$f":"DRAW!#REF!","v":{"$error":"#REF!"}},"V","Team",{"$f":"DRAW!#REF!","v":{"$error":"#REF!"}},null,null,"Team",{"$f":"DRAW!#REF!","v":{"$error":"#REF!"}},"V","Team",{"$f":"DRAW!#REF!","v":{"$error":"#REF!"}},null,"Team",{"$f":"DRAW!#REF!","v":{"$error":"#REF!"}},"V","Team",{"$f":"DRAW!#REF!","v":{"$error":"#REF!"}},null,null,"Team",{"$f":"DRAW!#REF!","v":{"$error":"#REF!"}},"V","Team",{"$f":"DRAW!#REF!","v":{"$error":"#REF!"}},null,null,"Team",{"$f":"DRAW!#REF!","v":{"$error":"#REF!"}},"V","Team",{"$f":"DRAW!#REF!","v":{"$error":"#REF!"}},null,"Team",{"$f":"DRAW!#REF!","v":{"$error":"#REF!"}},"V","Team",{"$f":"DRAW!#REF!","v":{"$error":"#REF!"}},null,null,"Team",{"$f":"DRAW!#REF!","v":{"$error":"#REF!"}},"V","Team",{"$f":"DRAW!#REF!","v":{"$error":"#REF!"}}]
["Ends","Shots","Total",null,"Shots","Total",null,"Ends","Shots","Total",null,"Shots","Total",null,"Ends","Shots","Total",null,"Shots","Total","Ends","Shots","Total",null,"Shots","Total",null,"Ends","Shots","Total",null,"Shots","Total",null,"Ends","Shots","Total",null,"Shots","Total","Ends","Shots","Total",null,"Shots","Total",null,"Ends","Shots","Total",null,"shots","Totar"]
[1,{"$nulls":5},".",1,{"$nulls":5},".",1,{"$nulls":5},1,{"$nulls":5},".",1,{"$nulls":5},".",1,{"$nulls":5},1,{"$nulls":5},".",1]
[2,{"$nulls":6},2,{"$nulls":6},2,{"$nulls":5},2,{"$nulls":6},2,{"$nulls":6},2,{"$nulls":5},2,{"$nulls":6},2]
[3,{"$nulls":6},3,{"$nulls":6},3,{"$nulls":5},3,{"$nulls":6},3,{"$nulls":6},3,{"$nulls":5},3,{"$nulls":6},3]
[4,{"$nulls":6},4,{"$nulls":6},4,{"$nulls":5},4,{"$nulls":6},4,{"$nulls":6},4,{"$nulls":5},4,{"$nulls":6},4]
[5,{"$nulls":5},".",5,{"$nulls":5},".",5,{"$nulls":5},5,{"$nulls":5},".",5,{"$nulls":5},".",5,{"$nulls":5},5,{"$nulls":5},".",5]
[6,{"$nulls":6},6,{"$nulls":6},6,{"$nulls":5},6,{"$nulls":6},6,{"$nulls":6},6,{"$nulls":5},6,{"$nulls":6},6]
[7,{"$nulls":6},7,{"$nulls":6},7,{"$nulls":5},7,{"$nulls":6},7,{"$nulls":6},7,{"$nulls":5},7,{"$nulls":6},7]
[8,{"$nulls":6},8,{"$nulls":6},8,{"$nulls":5},8,{"$nulls":6},8,{"$nulls":6},8,{"$nulls":5},8,{"$nulls":6},8]
[9,{"$nulls":5},".",9,{"$nulls":5},".",9,{"$nulls":5},9,{"$nulls":5},".",9,{"$nulls":5},".",9,{"$nulls":5},9,{"$nulls":5},".",9]
[10,{"$nulls":6},10,{"$nulls":6},10,{"$nulls":5},10,{"$nulls":6},10,{"$nulls":6},10,{"$nulls":5},10,{"$nulls":6},10]
[11,{"$nulls":6},11,{"$nulls":6},11,{"$nulls":5},11,{"$nulls":6},11,{"$nulls":6},11,{"$nulls":5},11,{"$nulls":6},11]
[12,{"$nulls":6},12,{"$nulls":6},12,{"$nulls":5},12,{"$nulls":6},12,{"$nulls":6},12,{"$nulls":5},12,{"$nulls":6},12]
[13,{"$nulls":5},".",13,{"$nulls":5},".",13,{"$nulls":5},13,{"$nulls":5},".",13,{"$nulls":5},".",13,{"$nulls":5},13,{"$nulls":5},".",13]
[14,{"$nulls":6},14,{"$nulls":6},14,{"$nulls":5},14,{"$nulls":6},14,{"$nulls":6},14,{"$nulls":5},14,{"$nulls":6},14]
[15,{"$nulls":6},15,{"$nulls":6},15,{"$nulls":5},15,{"$nulls":6},15,{"$nulls":6},15,{"$nulls":5},15,{"$nulls":6},15]
[16,{"$nulls":6},16,{"$nulls":6},16,{"$nulls":5},16,{"$nulls":6},16,{"$nulls":6},16,{"$nulls":5},16,{"$nulls":6},16]
[17,{"$nulls":5},".",17,{"$nulls":5},".",17,{"$nulls":5},17,{"$nulls":5},".",17,{"$nulls":5},".",17,{"$nulls":5},17,{"$nulls":5},".",17]
[18,{"$nulls":6},18,{"$nulls":6},18,{"$nulls":5},18,{"$nulls":6},18,{"$nulls":6},18,{"$nulls":5},18,{"$nulls":6},18]
["Total","Shots",null,null,"Shots",null,null,"Total","Shots",null,null,"Shots",null,null,"Total","Shots",null,null,"Shots",null,"Total","Shots",null,null,"Shots",null,null,"Total","Shots",null,null,"Shots",null,null,"Total","Shots",null,null,"Shots",null,"Total","Shots",null,null,"Shots",null,null,"Total","Shots",null,null,"shots"]
[null,"Ends",null,null,"Ends",null,".",null,"Ends",null,null,"Ends",null,".",null,"Ends",null,null,"Ends",null,null,"Ends",null,null,"Ends",null,".",null,"Ends",null,null,"Ends",null,".",null,"Ends",null,null,"Ends",null,null,"Ends",null,null,"Ends",null,".",null,"Ends",null,null,"Ends"]
[]
[]
["1st Game ",{"$nulls":5},".","2nd Game ",{"$nulls":5},".","3rd Game ",{"$nulls":5},"4th Game",{"$nulls":5},".","5th Game",{"$nulls":5},".","6th Game",{"$nulls":5},"7th Game",{"$nulls":5},".","8th Game"]
["Team No",null,null,"Rink No",{"$nulls":3},"Team No",null,null,"Rink No",{"$nulls":3},"Team No",null,null,"Rink No",null,null,"Team No",null,null,"Rink No",{"$nulls":3},"Team No",null,null,"Rink No",{"$nulls":3},"Team No",null,null,"Rink No",null,null,"Team No",null,null,"Rink No",{"$nulls":3},"Team No",null,null,"Rink No"]
[]
[{"$f":"DRAW!#REF!","v":{"$error":"#REF!"}},null,null,{"$f":"DRAW!#REF!","v":{"$error":"#REF!"}},null,null,".",{"$f":"DRAW!#REF!","v":{"$error":"#REF!"}},null,null,{"$f":"DRAW!#REF!","v":{"$error":"#REF!"}},null,null,".",{"$f":"DRAW!#REF!","v":{"$error":"#REF!"}},null,null,{"$f":"DRAW!#REF!","v":{"$error":"#REF!"}},null,null,{"$f":"DRAW!#REF!","v":{"$error":"#REF!"}},null,null,{"$f":"DRAW!#REF!","v":{"$error":"#REF!"}},null,null,".",{"$f":"DRAW!#REF!","v":{"$error":"#REF!"}},null,null,{"$f":"DRAW!#REF!","v":{"$error":"#REF!"}},null,null,".",{"$f":"DRAW!#REF!","v":{"$error":"#REF!"}},null,null,{"$f":"DRAW!#REF!","v":{"$error":"#REF!"}},null,null,{"$f":"DRAW!#REF!","v":{"$error":"#REF!"}},null,null,{"$f":"DRAW!#REF!","v":{"$error":"#REF!"}},null,null,".",{"$f":"DRAW!#REF!","v":{"$error":"#REF!"}},null,null,{"$f":"DRAW!#REF!","v":{"$error":"#REF!"}}]
[null,"Team",{"$f":"DRAW!#REF!","v":{"$error":"#REF!"}},"V","Team",{"$f":"DRAW!#REF!","v":{"$error":"#REF!"}},null,null,"Team",{"$f":"DRAW!#REF!","v":{"$error":"#REF!"}},"V","Team",{"$f":"DRAW!#REF!","v":{"$error":"#REF!"}},null,null,"Team",{"$f":"DRAW!#REF!","v":{"$error":"#REF!"}},"V","Team",{"$f":"DRAW!#REF!","v":{"$error":"#REF!"}},null,"Team",{"$f":"DRAW!#REF!","v":{"$error":"#REF!"}},"V","Team",{"$f":"DRAW!#REF!","v":{"$error":"#REF!"}},null,null,"Team",{"$f":"DRAW!#REF!","v":{"$error":"#REF!"}},"V","Team",{"$f":"DRAW!#REF!","v":{"$error":"#REF!"}},null,null,"Team",{"$f":"DRAW!#REF!","v":{"$error":"#REF!"}},"V","Team",{"$f":"DRAW!#REF!","v":{"$error":"#REF!"}},null,"Team",{"$f":"DRAW!#REF!","v":{"$error":"#REF!"}},"V","Team",{"$f":"DRAW!#REF!","v":{"$error":"#REF!"}},null,null,"Team",{"$f":"DRAW!#REF!","v":{"$error":"#REF!"}},"V","Team",{"$f":"DRAW!#REF!","v":{"$error":"#REF!"}}]
["Ends","Shots","Total",null,"Shots","Total",null,"Ends","Shots","Total",null,"Shots","Total",null,"Ends","Shots","Total",null,"Shots","Total","Ends","Shots","Total",null,"Shots","Total",null,"Ends","Shots","Total",null,"Shots","Total",null,"Ends","Shots","Total",null,"Shots","Total","Ends","Shots","Total",null,"Shots","Total",null,"Ends","Shots","Total",null,"shots","Totar"]
[1,{"$nulls":5},".",1,{"$nulls":5},".",1,{"$nulls":5},1,{"$nulls":5},".",1,{"$nulls":5},".",1,{"$nulls":5},1,{"$nulls":5},".",1]
[2,{"$nulls":6},2,{"$nulls":6},2,{"$nulls":5},2,{"$nulls":6},2,{"$nulls":6},2,{"$nulls":5},2,{"$nulls":6},2]
[3,{"$nulls":6},3,{"$nulls":6},3,{"$nulls":5},3,{"$nulls":6},3,{"$nulls":6},3,{"$nulls":5},3,{"$nulls":6},3]
[4,{"$nulls":6},4,{"$nulls":6},4,{"$nulls":5},4,{"$nulls":6},4,{"$nulls":6},4,{"$nulls":5},4,{"$nulls":6},4]
[5,{"$nulls":5},".",5,{"$nulls":5},".",5,{"$nulls":5},5,{"$nulls":5},".",5,{"$nulls":5},".",5,{"$nulls":5},5,{"$nulls":5},".",5]
[6,{"$nulls":6},6,{"$nulls":6},6,{"$nulls":5},6,{"$nulls":6},6,{"$nulls":6},6,{"$nulls":5},6,{"$nulls":6},6]
[7,{"$nulls":6},7,{"$nulls":6},7,{"$nulls":5},7,{"$nulls":6},7,{"$nulls":6},7,{"$nulls":5},7,{"$nulls":6},7]
[8,{"$nulls":6},8,{"$nulls":6},8,{"$nulls":5},8,{"$nulls":6},8,{"$nulls":6},8,{"$nulls":5},8,{"$nulls":6},8]
[9,{"$nulls":5},".",9,{"$nulls":5},".",9,{"$nulls":5},9,{"$nulls":5},".",9,{"$nulls":5},".",9,{"$nulls":5},9,{"$nulls":5},".",9]
[10,{"$nulls":6},10,{"$nulls":6},10,{"$nulls":5},10,{"$nulls":6},10,{"$nulls":6},10,{"$nulls":5},10,{"$nulls":6},10]
[11,{"$nulls":6},11,{"$nulls":6},11,{"$nulls":5},11,{"$nulls":6},11,{"$nulls":6},11,{"$nulls":5},11,{"$nulls":6},11]
[12,{"$nulls":6},12,{"$nulls":6},12,{"$nulls":5},12,{"$nulls":6},12,{"$nulls":6},12,{"$nulls":5},12,{"$nulls":6},12]
[13,{"$nulls":5},".",13,{"$nulls":5},".",13,{"$nulls":5},13,{"$nulls":5},".",13,{"$nulls":5},".",13,{"$nulls":5},13,{"$nulls":5},".",13]
[14,{"$nulls":6},14,{"$nulls":6},14,{"$nulls":5},14,{"$nulls":6},14,{"$nulls":6},14,{"$nulls":5},14,{"$nulls":6},14]
[15,{"$nulls":6},15,{"$nulls":6},15,{"$nulls":5},15,{"$nulls":6},15,{"$nulls":6},15,{"$nulls":5},15,{"$nulls":6},15]
[16,{"$nulls":6},16,{"$nulls":6},16,{"$nulls":5},16,{"$nulls":6},16,{"$nulls":6},16,{"$nulls":5},16,{"$nulls":6},16]
[17,{"$nulls":5},".",17,{"$nulls":5},".",17,{"$nulls":5},17,{"$nulls":5},".",17,{"$nulls":5},".",17,{"$nulls":5},17,{"$nulls":5},".",17]
[18,{"$nulls":6},18,{"$nulls":6},18,{"$nulls":5},18,{"$nulls":6},18,{"$nulls":6},18,{"$nulls":5},18,{"$nulls":6},18]
["Total","Shots",null,null,"Shots",null,null,"Total","Shots",null,null,"Shots",null,null,"Total","Shots",null,null,"Shots",null,"Total","Shots",null,null,"Shots",null,null,"Total","Shots",null,null,"Shots",null,null,"Total","Shots",null,null,"Shots",null,"Total","Shots",null,null,"Shots",null,null,"Total","Shots",null,null,"shots"]
[null,"Ends",null,null,"Ends",null,".",null,"Ends",null,null,"Ends",null,".",null,"Ends",null,null,"Ends",null,null,"Ends",null,null,"Ends",null,".",null,"Ends",null,null,"Ends",null,".",null,"Ends",null,null,"Ends",null,null,"Ends",null,null,"Ends",null,".",null,"Ends",null,null,"Ends"]
["1st Game ",{"$nulls":5},".","2nd Game ",{"$nulls":5},".","3rd Game ",{"$nulls":5},"4th Game",{"$nulls":5},".","5th Game",{"$nulls":5},".","6th Game",{"$nulls":5},"7th Game",{"$nulls":5},".","8th Game"]
["Team No",null,null,"Rink No",{"$nulls":3},"Team No",null,null,"Rink No",{"$nulls":3},"Team No",null,null,"Rink No",null,null,"Team No",null,null,"Rink No",{"$nulls":3},"Team No",null,null,"Rink No",{"$nulls":3},"Team No",null,null,"Rink No",null,null,"Team No",null,null,"Rink No",{"$nulls":3},"Team No",null,null,"Rink No"]
[]
[{"$f":"DRAW!#REF!","v":{"$error":"#REF!"}},null,null,{"$f":"DRAW!#REF!","v":{"$error":"#REF!"}},null,null,".",{"$f":"DRAW!#REF!","v":{"$error":"#REF!"}},null,null,{"$f":"DRAW!#REF!","v":{"$error":"#REF!"}},null,null,".",{"$f":"DRAW!#REF!","v":{"$error":"#REF!"}},null,null,{"$f":"DRAW!#REF!","v":{"$error":"#REF!"}},null,null,{"$f":"DRAW!#REF!","v":{"$error":"#REF!"}},null,null,{"$f":"DRAW!#REF!","v":{"$error":"#REF!"}},null,null,".",{"$f":"DRAW!#REF!","v":{"$error":"#REF!"}},null,null,{"$f":"DRAW!#REF!","v":{"$error":"#REF!"}},null,null,".",{"$f":"DRAW!#REF!","v":{"$error":"#REF!"}},null,null,{"$f":"DRAW!#REF!","v":{"$error":"#REF!"}},null,null,{"$f":"DRAW!#REF!","v":{"$error":"#REF!"}},null,null,{"$f":"DRAW!#REF!","v":{"$error":"#REF!"}},null,null,".",{"$f":"DRAW!#REF!","v":{"$error":"#REF!"}},null,null,{"$f":"DRAW!#REF!","v":{"$error":"#REF!"}}]
[null,"Team",{"$f":"DRAW!#REF!","v":{"$error":"#REF!"}},"V","Team",{"$f":"DRAW!#REF!","v":{"$error":"#REF!"}},null,null,"Team",{"$f":"DRAW!#REF!","v":{"$error":"#REF!"}},"V","Team",{"$f":"DRAW!#REF!","v":{"$error":"#REF!"}},null,null,"Team",{"$f":"DRAW!#REF!","v":{"$error":"#REF!"}},"V","Team",{"$f":"DRAW!#REF!","v":{"$error":"#REF!"}},null,"Team",{"$f":"DRAW!#REF!","v":{"$error":"#REF!"}},"V","Team",{"$f":"DRAW!#REF!","v":{"$error":"#REF!"}},null,null,"Team",{"$f":"DRAW!#REF!","v":{"$error":"#REF!"}},"V","Team",{"$f":"DRAW!#REF!","v":{"$error":"#REF!"}},null,null,"Team",{"$f":"DRAW!#REF!","v":{"$error":"#REF!"}},"V","Team",{"$f":"DRAW!#REF!","v":{"$error":"#REF!"}},null,"Team",{"$f":"DRAW!#REF!","v":{"$error":"#REF!"}},"V","Team",{"$f":"DRAW!#REF!","v":{"$error":"#REF!"}},null,null,"Team",{"$f":"DRAW!#REF!","v":{"$error":"#REF!"}},"V","Team",{"$f":"DRAW!#REF!","v":{"$error":"#REF!"}}]
["Ends","Shots","Total",null,"Shots","Total",null,"Ends","Shots","Total",null,"Shots","Total",null,"Ends","Shots","Total",null,"Shots","Total","Ends","Shots","Total",null,"Shots","Total",null,"Ends","Shots","Total",null,"Shots","Total",null,"Ends","Shots","Total",null,"Shots","Total","Ends","Shots","Total",null,"Shots","Total",null,"Ends","Shots","Total",null,"shots","Totar"]
[1,{"$nulls":5},".",1,{"$nulls":5},".",1,{"$nulls":5},1,{"$nulls":5},".",1,{"$nulls":5},".",1,{"$nulls":5},1,{"$nulls":5},".",1]
[2,{"$nulls":6},2,{"$nulls":6},2,{"$nulls":5},2,{"$nulls":6},2,{"$nulls":6},2,{"$nulls":5},2,{"$nulls":6},2]
[3,{"$nulls":6},3,{"$nulls":6},3,{"$nulls":5},3,{"$nulls":6},3,{"$nulls":6},3,{"$nulls":5},3,{"$nulls":6},3]
[4,{"$nulls":6},4,{"$nulls":6},4,{"$nulls":5},4,{"$nulls":6},4,{"$nulls":6},4,{"$nulls":5},4,{"$nulls":6},4]
[5,{"$nulls":5},".",5,{"$nulls":5},".",5,{"$nulls":5},5,{"$nulls":5},".",5,{"$nulls":5},".",5,{"$nulls":5},5,{"$nulls":5},".",5]
[6,{"$nulls":6},6,{"$nulls":6},6,{"$nulls":5},6,{"$nulls":6},6,{"$nulls":6},6,{"$nulls":5},6,{"$nulls":6},6]
[7,{"$nulls":6},7,{"$nulls":6},7,{"$nulls":5},7,{"$nulls":6},7,{"$nulls":6},7,{"$nulls":5},7,{"$nulls":6},7]
[8,{"$nulls":6},8,{"$nulls":6},8,{"$nulls":5},8,{"$nulls":6},8,{"$nulls":6},8,{"$nulls":5},8,{"$nulls":6},8]
[9,{"$nulls":5},".",9,{"$nulls":5},".",9,{"$nulls":5},9,{"$nulls":5},".",9,{"$nulls":5},".",9,{"$nulls":5},9,{"$nulls":5},".",9]
[10,{"$nulls":6},10,{"$nulls":6},10,{"$nulls":5},10,{"$nulls":6},10,{"$nulls":6},10,{"$nulls":5},10,{"$nulls":6},10]
[11,{"$nulls":6},11,{"$nulls":6},11,{"$nulls":5},11,{"$nulls":6},11,{"$nulls":6},11,{"$nulls":5},11,{"$nulls":6},11]
[12,{"$nulls":6},12,{"$nulls":6},12,{"$nulls":5},12,{"$nulls":6},12,{"$nulls":6},12,{"$nulls":5},12,{"$nulls":6},12]
[13,{"$nulls":5},".",13,{"$nulls":5},".",13,{"$nulls":5},13,{"$nulls":5},".",13,{"$nulls":5},".",13,{"$nulls":5},13,{"$nulls":5},".",13]
[14,{"$nulls":6},14,{"$nulls":6},14,{"$nulls":5},14,{"$nulls":6},14,{"$nulls":6},14,{"$nulls":5},14,{"$nulls":6},14]
[15,{"$nulls":6},15,{"$nulls":6},15,{"$nulls":5},15,{"$nulls":6},15,{"$nulls":6},15,{"$nulls":5},15,{"$nulls":6},15]
[16,{"$nulls":6},16,{"$nulls":6},16,{"$nulls":5},16,{"$nulls":6},16,{"$nulls":6},16,{"$nulls":5},16,{"$nulls":6},16]
[17,{"$nulls":5},".",17,{"$nulls":5},".",17,{"$nulls":5},17,{"$nulls":5},".",17,{"$nulls":5},".",17,{"$nulls":5},17,{"$nulls":5},".",17]
[18,{"$nulls":6},18,{"$nulls":6},18,{"$nulls":5},18,{"$nulls":6},18,{"$nulls":6},18,{"$nulls":5},18,{"$nulls":6},18]
["Total","Shots",null,null,"Shots",null,null,"Total","Shots",null,null,"Shots",null,null,"Total","Shots",null,null,"Shots",null,"Total","Shots",null,null,"Shots",null,null,"Total","Shots",null,null,"Shots",null,null,"Total","Shots",null,null,"Shots",null,"Total","Shots",null,null,"Shots",null,null,"Total","Shots",null,null,"shots"]
[null,"Ends",null,null,"Ends",null,".",null,"Ends",null,null,"Ends",null,".",null,"Ends",null,null,"Ends",null,null,"Ends",null,null,"Ends",null,".",null,"Ends",null,null,"Ends",null,".",null,"Ends",null,null,"Ends",null,null,"Ends",null,null,"Ends",null,".",null,"Ends",null,null,"Ends"]
[]
[]
["1st Game ",{"$nulls":5},".","2nd Game ",{"$nulls":5},".","3rd Game ",{"$nulls":5},"4th Game",{"$nulls":5},".","5th Game",{"$nulls":5},".","6th Game",{"$nulls":5},"7th Game",{"$nulls":5},".","8th Game"]
["Team No",null,null,"Rink No",{"$nulls":3},"Team No",null,null,"Rink No",{"$nulls":3},"Team No",null,null,"Rink No",null,null,"Team No",null,null,"Rink No",{"$nulls":3},"Team No",null,null,"Rink No",{"$nulls":3},"Team No",null,null,"Rink No",null,null,"Team No",null,null,"Rink No",{"$nulls":3},"Team No",null,null,"Rink No"]
[]
[{"$f":"DRAW!#REF!","v":{"$error":"#REF!"}},null,null,{"$f":"DRAW!#REF!","v":{"$error":"#REF!"}},null,null,".",{"$f":"DRAW!#REF!","v":{"$error":"#REF!"}},null,null,{"$f":"DRAW!#REF!","v":{"$error":"#REF!"}},null,null,".",{"$f":"DRAW!#REF!","v":{"$error":"#REF!"}},null,null,{"$f":"DRAW!#REF!","v":{"$error":"#REF!"}},null,null,{"$f":"DRAW!#REF!","v":{"$error":"#REF!"}},null,null,{"$f":"DRAW!#REF!","v":{"$error":"#REF!"}},null,null,".",{"$f":"DRAW!#REF!","v":{"$error":"#REF!"}},null,null,{"$f":"DRAW!#REF!","v":{"$error":"#REF!"}},null,null,".",{"$f":"DRAW!#REF!","v":{"$error":"#REF!"}},null,null,{"$f":"DRAW!#REF!","v":{"$error":"#REF!"}},null,null,{"$f":"DRAW!#REF!","v":{"$error":"#REF!"}},null,null,{"$f":"DRAW!#REF!","v":{"$error":"#REF!"}},null,null,".",{"$f":"DRAW!#REF!","v":{"$error":"#REF!"}},null,null,{"$f":"DRAW!#REF!","v":{"$error":"#REF!"}}]
[null,"Team",{"$f":"DRAW!#REF!","v":{"$error":"#REF!"}},"V","Team",{"$f":"DRAW!#REF!","v":{"$error":"#REF!"}},null,null,"Team",{"$f":"DRAW!#REF!","v":{"$error":"#REF!"}},"V","Team",{"$f":"DRAW!#REF!","v":{"$error":"#REF!"}},null,null,"Team",{"$f":"DRAW!#REF!","v":{"$error":"#REF!"}},"V","Team",{"$f":"DRAW!#REF!","v":{"$error":"#REF!"}},null,"Team",{"$f":"DRAW!#REF!","v":{"$error":"#REF!"}},"V","Team",{"$f":"DRAW!#REF!","v":{"$error":"#REF!"}},null,null,"Team",{"$f":"DRAW!#REF!","v":{"$error":"#REF!"}},"V","Team",{"$f":"DRAW!#REF!","v":{"$error":"#REF!"}},null,null,"Team",{"$f":"DRAW!#REF!","v":{"$error":"#REF!"}},"V","Team",{"$f":"DRAW!#REF!","v":{"$error":"#REF!"}},null,"Team",{"$f":"DRAW!#REF!","v":{"$error":"#REF!"}},"V","Team",{"$f":"DRAW!#REF!","v":{"$error":"#REF!"}},null,null,"Team",{"$f":"DRAW!#REF!","v":{"$error":"#REF!"}},"V","Team",{"$f":"DRAW!#REF!","v":{"$error":"#REF!"}}]
["Ends","Shots","Total",null,"Shots","Total",null,"Ends","Shots","Total",null,"Shots","Total",null,"Ends","Shots","Total",null,"Shots","Total","Ends","Shots","Total",null,"Shots","Total",null,"Ends","Shots","Total",null,"Shots","Total",null,"Ends","Shots","Total",null,"Shots","Total","Ends","Shots","Total",null,"Shots","Total",null,"Ends","Shots","Total",null,"shots","Totar"]
[1,{"$nulls":5},".",1,{"$nulls":5},".",1,{"$nulls":5},1,{"$nulls":5},".",1,{"$nulls":5},".",1,{"$nulls":5},1,{"$nulls":5},".",1]
[2,{"$nulls":6},2,{"$nulls":6},2,{"$nulls":5},2,{"$nulls":6},2,{"$nulls":6},2,{"$nulls":5},2,{"$nulls":6},2]
[3,{"$nulls":6},3,{"$nulls":6},3,{"$nulls":5},3,{"$nulls":6},3,{"$nulls":6},3,{"$nulls":5},3,{"$nulls":6},3]
[4,{"$nulls":6},4,{"$nulls":6},4,{"$nulls":5},4,{"$nulls":6},4,{"$nulls":6},4,{"$nulls":5},4,{"$nulls":6},4]
[5,{"$nulls":5},".",5,{"$nulls":5},".",5,{"$nulls":5},5,{"$nulls":5},".",5,{"$nulls":5},".",5,{"$nulls":5},5,{"$nulls":5},".",5]
[6,{"$nulls":6},6,{"$nulls":6},6,{"$nulls":5},6,{"$nulls":6},6,{"$nulls":6},6,{"$nulls":5},6,{"$nulls":6},6]
[7,{"$nulls":6},7,{"$nulls":6},7,{"$nulls":5},7,{"$nulls":6},7,{"$nulls":6},7,{"$nulls":5},7,{"$nulls":6},7]
[8,{"$nulls":6},8,{"$nulls":6},8,{"$nulls":5},8,{"$nulls":6},8,{"$nulls":6},8,{"$nulls":5},8,{"$nulls":6},8]
[9,{"$nulls":5},".",9,{"$nulls":5},".",9,{"$nulls":5},9,{"$nulls":5},".",9,{"$nulls":5},".",9,{"$nulls":5},9,{"$nulls":5},".",9]
[10,{"$nulls":6},10,{"$nulls":6},10,{"$nulls":5},10,{"$nulls":6},10,{"$nulls":6},10,{"$nulls":5},10,{"$nulls":6},10]
[11,{"$nulls":6},11,{"$nulls":6},11,{"$nulls":5},11,{"$nulls":6},11,{"$nulls":6},11,{"$nulls":5},11,{"$nulls":6},11]
[12,{"$nulls":6},12,{"$nulls":6},12,{"$nulls":5},12,{"$nulls":6},12,{"$nulls":6},12,{"$nulls":5},12,{"$nulls":6},12]
[13,{"$nulls":5},".",13,{"$nulls":5},".",13,{"$nulls":5},13,{"$nulls":5},".",13,{"$nulls":5},".",13,{"$nulls":5},13,{"$nulls":5},".",13]
[14,{"$nulls":6},14,{"$nulls":6},14,{"$nulls":5},14,{"$nulls":6},14,{"$nulls":6},14,{"$nulls":5},14,{"$nulls":6},14]
[15,{"$nulls":6},15,{"$nulls":6},15,{"$nulls":5},15,{"$nulls":6},15,{"$nulls":6},15,{"$nulls":5},15,{"$nulls":6},15]
[16,{"$nulls":6},16,{"$nulls":6},16,{"$nulls":5},16,{"$nulls":6},16,{"$nulls":6},16,{"$nulls":5},16,{"$nulls":6},16]
[17,{"$nulls":5},".",17,{"$nulls":5},".",17,{"$nulls":5},17,{"$nulls":5},".",17,{"$nulls":5},".",17,{"$nulls":5},17,{"$nulls":5},".",17]
[18,{"$nulls":6},18,{"$nulls":6},18,{"$nulls":5},18,{"$nulls":6},18,{"$nulls":6},18,{"$nulls":5},18,{"$nulls":6},18]
["Total","Shots",null,null,"Shots",null,null,"Total","Shots",null,null,"Shots",null,null,"Total","Shots",null,null,"Shots",null,"Total","Shots",null,null,"Shots",null,null,"Total","Shots",null,null,"Shots",null,null,"Total","Shots",null,null,"Shots",null,"Total","Shots",null,null,"Shots",null,null,"Total","Shots",null,null,"shots"]
[null,"Ends",null,null,"Ends",null,".",null,"Ends",null,null,"Ends",null,".",null,"Ends",null,null,"Ends",null,null,"Ends",null,null,"Ends",null,".",null,"Ends",null,null,"Ends",null,".",null,"Ends",null,null,"Ends",null,null,"Ends",null,null,"Ends",null,".",null,"Ends",null,null,"Ends"]
["1st Game ",{"$nulls":5},".","2nd Game ",{"$nulls":5},".","3rd Game ",{"$nulls":5},"4th Game",{"$nulls":5},".","5th Game",{"$nulls":5},".","6th Game",{"$nulls":5},"7th Game",{"$nulls":5},".","8th Game"]
["Team No",null,null,"Rink No",{"$nulls":3},"Team No",null,null,"Rink No",{"$nulls":3},"Team No",null,null,"Rink No",null,null,"Team No",null,null,"Rink No",{"$nulls":3},"Team No",null,null,"Rink No",{"$nulls":3},"Team No",null,null,"Rink No",null,null,"Team No",null,null,"Rink No",{"$nulls":3},"Team No",null,null,"Rink No"]
[]
[{"$f":"DRAW!#REF!","v":{"$error":"#REF!"}},null,null,{"$f":"DRAW!#REF!","v":{"$error":"#REF!"}},null,null,".",{"$f":"DRAW!#REF!","v":{"$error":"#REF!"}},null,null,{"$f":"DRAW!#REF!","v":{"$error":"#REF!"}},null,null,".",{"$f":"DRAW!#REF!","v":{"$error":"#REF!"}},null,null,{"$f":"DRAW!#REF!","v":{"$error":"#REF!"}},null,null,{"$f":"DRAW!#REF!","v":{"$error":"#REF!"}},null,null,{"$f":"DRAW!#REF!","v":{"$error":"#REF!"}},null,null,".",{"$f":"DRAW!#REF!","v":{"$error":"#REF!"}},null,null,{"$f":"DRAW!#REF!","v":{"$error":"#REF!"}},null,null,".",{"$f":"DRAW!#REF!","v":{"$error":"#REF!"}},null,null,{"$f":"DRAW!#REF!","v":{"$error":"#REF!"}},null,null,{"$f":"DRAW!#REF!","v":{"$error":"#REF!"}},null,null,{"$f":"DRAW!#REF!","v":{"$error":"#REF!"}},null,null,".",{"$f":"DRAW!#REF!","v":{"$error":"#REF!"}},null,null,{"$f":"DRAW!#REF!","v":{"$error":"#REF!"}}]
[null,"Team",{"$f":"DRAW!#REF!","v":{"$error":"#REF!"}},"V","Team",{"$f":"DRAW!#REF!","v":{"$error":"#REF!"}},null,null,"Team",{"$f":"DRAW!#REF!","v":{"$error":"#REF!"}},"V","Team",{"$f":"DRAW!#REF!","v":{"$error":"#REF!"}},null,null,"Team",{"$f":"DRAW!#REF!","v":{"$error":"#REF!"}},"V","Team",{"$f":"DRAW!#REF!","v":{"$error":"#REF!"}},null,"Team",{"$f":"DRAW!#REF!","v":{"$error":"#REF!"}},null,null,{"$f":"DRAW!#REF!","v":{"$error":"#REF!"}},null,null,"Team",{"$f":"DRAW!#REF!","v":{"$error":"#REF!"}},"V","Team",{"$f":"DRAW!#REF!","v":{"$error":"#REF!"}},null,null,"Team",{"$f":"DRAW!#REF!","v":{"$error":"#REF!"}},"V","Team",{"$f":"DRAW!#REF!","v":{"$error":"#REF!"}},null,"Team",{"$f":"DRAW!#REF!","v":{"$error":"#REF!"}},"V","Team",{"$f":"DRAW!#REF!","v":{"$error":"#REF!"}},null,null,"Team",{"$f":"DRAW!#REF!","v":{"$error":"#REF!"}},"V","Team",{"$f":"DRAW!#REF!","v":{"$error":"#REF!"}}]
["Ends","Shots","Total",null,"Shots","Total",null,"Ends","Shots","Total",null,"Shots","Total",null,"Ends","Shots","Total",null,"Shots","Total","Ends","Shots","Total",null,"Shots","Total",null,"Ends","Shots","Total",null,"Shots","Total",null,"Ends","Shots","Total",null,"Shots","Total","Ends","Shots","Total",null,"Shots","Total",null,"Ends","Shots","Total",null,"shots","Totar"]
[1,{"$nulls":5},".",1,{"$nulls":5},".",1,{"$nulls":5},1,{"$nulls":5},".",1,{"$nulls":5},".",1,{"$nulls":5},1,{"$nulls":5},".",1]
[2,{"$nulls":6},2,{"$nulls":6},2,{"$nulls":5},2,{"$nulls":6},2,{"$nulls":6},2,{"$nulls":5},2,{"$nulls":6},2]
[3,{"$nulls":6},3,{"$nulls":6},3,{"$nulls":5},3,{"$nulls":6},3,{"$nulls":6},3,{"$nulls":5},3,{"$nulls":6},3]
[4,{"$nulls":6},4,{"$nulls":6},4,{"$nulls":5},4,{"$nulls":6},4,{"$nulls":6},4,{"$nulls":5},4,{"$nulls":6},4]
[5,{"$nulls":5},".",5,{"$nulls":5},".",5,{"$nulls":5},5,{"$nulls":5},".",5,{"$nulls":5},".",5,{"$nulls":5},5,{"$nulls":5},".",5]
[6,{"$nulls":6},6,{"$nulls":6},6,{"$nulls":5},6,{"$nulls":6},6,{"$nulls":6},6,{"$nulls":5},6,{"$nulls":6},6]
[7,{"$nulls":6},7,{"$nulls":6},7,{"$nulls":5},7,{"$nulls":6},7,{"$nulls":6},7,{"$nulls":5},7,{"$nulls":6},7]
[8,{"$nulls":6},8,{"$nulls":6},8,{"$nulls":5},8,{"$nulls":6},8,{"$nulls":6},8,{"$nulls":5},8,{"$nulls":6},8]
[9,{"$nulls":5},".",9,{"$nulls":5},".",9,{"$nulls":5},9,{"$nulls":5},".",9,{"$nulls":5},".",9,{"$nulls":5},9,{"$nulls":5},".",9]
[10,{"$nulls":6},10,{"$nulls":6},10,{"$nulls":5},10,{"$nulls":6},10,{"$nulls":6},10,{"$nulls":5},10,{"$nulls":6},10]
[11,{"$nulls":6},11,{"$nulls":6},11,{"$nulls":5},11,{"$nulls":6},11,{"$nulls":6},11,{"$nulls":5},11,{"$nulls":6},11]
[12,{"$nulls":6},12,{"$nulls":6},12,{"$nulls":5},12,{"$nulls":6},12,{"$nulls":6},12,{"$nulls":5},12,{"$nulls":6},12]
[13,{"$nulls":5},".",13,{"$nulls":5},".",13,{"$nulls":5},13,{"$nulls":5},".",13,{"$nulls":5},".",13,{"$nulls":5},13,{"$nulls":5},".",13]
[14,{"$nulls":6},14,{"$nulls":6},14,{"$nulls":5},14,{"$nulls":6},14,{"$nulls":6},14,{"$nulls":5},14,{"$nulls":6},14]
[15,{"$nulls":6},15,{"$nulls":6},15,{"$nulls":5},15,{"$nulls":6},15,{"$nulls":6},15,{"$nulls":5},15,{"$nulls":6},15]
[16,{"$nulls":6},16,{"$nulls":6},16,{"$nulls":5},16,{"$nulls":6},16,{"$nulls":6},16,{"$nulls":5},16,{"$nulls":6},16]
[17,{"$nulls":5},".",17,{"$nulls":5},".",17,{"$nulls":5},17,{"$nulls":5},".",17,{"$nulls":5},".",17,{"$nulls":5},17,{"$nulls":5},".",17]
[18,{"$nulls":6},18,{"$nulls":6},18,{"$nulls":5},18,{"$nulls":6},18,{"$nulls":6},18,{"$nulls":5},18,{"$nulls":6},18]
["Total","Shots",null,null,"Shots",null,null,"Total","Shots",null,null,"Shots",null,null,"Total","Shots",null,null,"Shots",null,"Total","Shots",null,null,"Shots",null,null,"Total","Shots",null,null,"Shots",null,null,"Total","Shots",null,null,"Shots",null,"Total","Shots",null,null,"Shots",null,null,"Total","Shots",null,null,"shots"]
[null,"Ends",null,null,"Ends",null,".",null,"Ends",null,null,"Ends",null,".",null,"Ends",null,null,"Ends",null,null,"Ends",null,null,"Ends",null,".",null,"Ends",null,null,"Ends",null,".",null,"Ends",null,null,"Ends",null,null,"Ends",null,null,"Ends",null,".",null,"Ends",null,null,"Ends"]
[]
[]
["1st Game ",{"$nulls":5},".","2nd Game ",{"$nulls":5},".","3rd Game ",{"$nulls":5},"4th Game",{"$nulls":5},".","5th Game",{"$nulls":5},".","6th Game",{"$nulls":5},"7th Game",{"$nulls":5},".","8th Game"]
["Team No",null,null,"Rink No",{"$nulls":3},"Team No",null,null,"Rink No",{"$nulls":3},"Team No",null,null,"Rink No",null,null,"Team No",null,null,"Rink No",{"$nulls":3},"Team No",null,null,"Rink No",{"$nulls":3},"Team No",null,null,"Rink No",null,null,"Team No",null,null,"Rink No",{"$nulls":3},"Team No",null,null,"Rink No"]
[]
[{"$f":"DRAW!#REF!","v":{"$error":"#REF!"}},null,null,{"$f":"DRAW!#REF!","v":{"$error":"#REF!"}},null,null,".",{"$f":"DRAW!#REF!","v":{"$error":"#REF!"}},null,null,{"$f":"DRAW!#REF!","v":{"$error":"#REF!"}},null,null,".",{"$f":"DRAW!#REF!","v":{"$error":"#REF!"}},null,null,{"$f":"DRAW!#REF!","v":{"$error":"#REF!"}},null,null,{"$f":"DRAW!#REF!","v":{"$error":"#REF!"}},null,null,{"$f":"DRAW!#REF!","v":{"$error":"#REF!"}},null,null,".",{"$f":"DRAW!#REF!","v":{"$error":"#REF!"}},null,null,{"$f":"DRAW!#REF!","v":{"$error":"#REF!"}},null,null,".",{"$f":"DRAW!#REF!","v":{"$error":"#REF!"}},null,null,{"$f":"DRAW!#REF!","v":{"$error":"#REF!"}},null,null,{"$f":"DRAW!#REF!","v":{"$error":"#REF!"}},null,null,{"$f":"DRAW!#REF!","v":{"$error":"#REF!"}},null,null,".",{"$f":"DRAW!#REF!","v":{"$error":"#REF!"}},null,null,{"$f":"DRAW!#REF!","v":{"$error":"#REF!"}}]
[null,"Team",{"$f":"DRAW!#REF!","v":{"$error":"#REF!"}},"V","Team",{"$f":"DRAW!#REF!","v":{"$error":"#REF!"}},null,null,"Team",{"$f":"DRAW!#REF!","v":{"$error":"#REF!"}},"V","Team",{"$f":"DRAW!#REF!","v":{"$error":"#REF!"}},null,null,"Team",{"$f":"DRAW!#REF!","v":{"$error":"#REF!"}},"V","Team",{"$f":"DRAW!#REF!","v":{"$error":"#REF!"}},null,"Team",{"$f":"DRAW!#REF!","v":{"$error":"#REF!"}},"V","Team",{"$f":"DRAW!#REF!","v":{"$error":"#REF!"}},null,null,"Team",{"$f":"DRAW!#REF!","v":{"$error":"#REF!"}},"V","Team",{"$f":"DRAW!#REF!","v":{"$error":"#REF!"}},null,null,"Team",{"$f":"DRAW!#REF!","v":{"$error":"#REF!"}},"V","Team",{"$f":"DRAW!#REF!","v":{"$error":"#REF!"}},null,"Team",{"$f":"DRAW!#REF!","v":{"$error":"#REF!"}},"V","Team",{"$f":"DRAW!#REF!","v":{"$error":"#REF!"}},null,null,"Team",{"$f":"DRAW!#REF!","v":{"$error":"#REF!"}},"V","Team",{"$f":"DRAW!#REF!","v":{"$error":"#REF!"}}]
["Ends","Shots","Total",null,"Shots","Total",null,"Ends","Shots","Total",null,"Shots","Total",null,"Ends","Shots","Total",null,"Shots","Total","Ends","Shots","Total",null,"Shots","Total",null,"Ends","Shots","Total",null,"Shots","Total",null,"Ends","Shots","Total",null,"Shots","Total","Ends","Shots","Total",null,"Shots","Total",null,"Ends","Shots","Total",null,"shots","Totar"]
[1,{"$nulls":5},".",1,{"$nulls":5},".",1,{"$nulls":5},1,{"$nulls":5},".",1,{"$nulls":5},".",1,{"$nulls":5},1,{"$nulls":5},".",1]
[2,{"$nulls":6},2,{"$nulls":6},2,{"$nulls":5},2,{"$nulls":6},2,{"$nulls":6},2,{"$nulls":5},2,{"$nulls":6},2]
[3,{"$nulls":6},3,{"$nulls":6},3,{"$nulls":5},3,{"$nulls":6},3,{"$nulls":6},3,{"$nulls":5},3,{"$nulls":6},3]
[4,{"$nulls":6},4,{"$nulls":6},4,{"$nulls":5},4,{"$nulls":6},4,{"$nulls":6},4,{"$nulls":5},4,{"$nulls":6},4]
[5,{"$nulls":5},".",5,{"$nulls":5},".",5,{"$nulls":5},5,{"$nulls":5},".",5,{"$nulls":5},".",5,{"$nulls":5},5,{"$nulls":5},".",5]
[6,{"$nulls":6},6,{"$nulls":6},6,{"$nulls":5},6,{"$nulls":6},6,{"$nulls":6},6,{"$nulls":5},6,{"$nulls":6},6]
[7,{"$nulls":6},7,{"$nulls":6},7,{"$nulls":5},7,{"$nulls":6},7,{"$nulls":6},7,{"$nulls":5},7,{"$nulls":6},7]
[8,{"$nulls":6},8,{"$nulls":6},8,{"$nulls":5},8,{"$nulls":6},8,{"$nulls":6},8,{"$nulls":5},8,{"$nulls":6},8]
[9,{"$nulls":5},".",9,{"$nulls":5},".",9,{"$nulls":5},9,{"$nulls":5},".",9,{"$nulls":5},".",9,{"$nulls":5},9,{"$nulls":5},".",9]
[10,{"$nulls":6},10,{"$nulls":6},10,{"$nulls":5},10,{"$nulls":6},10,{"$nulls":6},10,{"$nulls":5},10,{"$nulls":6},10]
[11,{"$nulls":6},11,{"$nulls":6},11,{"$nulls":5},11,{"$nulls":6},11,{"$nulls":6},11,{"$nulls":5},11,{"$nulls":6},11]
[12,{"$nulls":6},12,{"$nulls":6},12,{"$nulls":5},12,{"$nulls":6},12,{"$nulls":6},12,{"$nulls":5},12,{"$nulls":6},12]
[13,{"$nulls":5},".",13,{"$nulls":5},".",13,{"$nulls":5},13,{"$nulls":5},".",13,{"$nulls":5},".",13,{"$nulls":5},13,{"$nulls":5},".",13]
[14,{"$nulls":6},14,{"$nulls":6},14,{"$nulls":5},14,{"$nulls":6},14,{"$nulls":6},14,{"$nulls":5},14,{"$nulls":6},14]
[15,{"$nulls":6},15,{"$nulls":6},15,{"$nulls":5},15,{"$nulls":6},15,{"$nulls":6},15,{"$nulls":5},15,{"$nulls":6},15]
[16,{"$nulls":6},16,{"$nulls":6},16,{"$nulls":5},16,{"$nulls":6},16,{"$nulls":6},16,{"$nulls":5},16,{"$nulls":6},16]
[17,{"$nulls":5},".",17,{"$nulls":5},".",17,{"$nulls":5},17,{"$nulls":5},".",17,{"$nulls":5},".",17,{"$nulls":5},17,{"$nulls":5},".",17]
[18,{"$nulls":6},18,{"$nulls":6},18,{"$nulls":5},18,{"$nulls":6},18,{"$nulls":6},18,{"$nulls":5},18,{"$nulls":6},18]
["Total","Shots",null,null,"Shots",null,null,"Total","Shots",null,null,"Shots",null,null,"Total","Shots",null,null,"Shots",null,"Total","Shots",null,null,"Shots",null,null,"Total","Shots",null,null,"Shots",null,null,"Total","Shots",null,null,"Shots",null,"Total","Shots",null,null,"Shots",null,null,"Total","Shots",null,null,"shots"]
[null,"Ends",null,null,"Ends",null,".",null,"Ends",null,null,"Ends",null,".",null,"Ends",null,null,"Ends",null,null,"Ends",null,null,"Ends",null,".",null,"Ends",null,null,"Ends",null,".",null,"Ends",null,null,"Ends",null,null,"Ends",null,null,"Ends",null,".",null,"Ends",null,null,"Ends"]
["1st Game ",{"$nulls":5},".","2nd Game ",{"$nulls":5},".","3rd Game ",{"$nulls":5},"4th Game",{"$nulls":5},".","5th Game",{"$nulls":5},".","6th Game",{"$nulls":5},"7th Game",{"$nulls":5},".","8th Game"]
["Team No",null,null,"Rink No",{"$nulls":3},"Team No",null,null,"Rink No",{"$nulls":3},"Team No",null,null,"Rink No",null,null,"Team No",null,null,"Rink No",{"$nulls":3},"Team No",null,null,"Rink No",{"$nulls":3},"Team No",null,null,"Rink No",null,null,"Team No",null,null,"Rink No",{"$nulls":3},"Team No",null,null,"Rink No"]
[]
[{"$f":"DRAW!#REF!","v":{"$error":"#REF!"}},null,null,{"$f":"DRAW!#REF!","v":{"$error":"#REF!"}},null,null,".",{"$f":"DRAW!#REF!","v":{"$error":"#REF!"}},null,null,{"$f":"DRAW!#REF!","v":{"$error":"#REF!"}},null,null,".",{"$f":"DRAW!#REF!","v":{"$error":"#REF!"}},null,null,{"$f":"DRAW!#REF!","v":{"$error":"#REF!"}},null,null,{"$f":"DRAW!#REF!","v":{"$error":"#REF!"}},null,null,{"$f":"DRAW!#REF!","v":{"$error":"#REF!"}},null,null,".",{"$f":"DRAW!#REF!","v":{"$error":"#REF!"}},null,null,{"$f":"DRAW!#REF!","v":{"$error":"#REF!"}},null,null,".",{"$f":"DRAW!#REF!","v":{"$error":"#REF!"}},null,null,{"$f":"DRAW!#REF!","v":{"$error":"#REF!"}},null,null,{"$f":"DRAW!#REF!","v":{"$error":"#REF!"}},null,null,{"$f":"DRAW!#REF!","v":{"$error":"#REF!"}},null,null,".",{"$f":"DRAW!#REF!","v":{"$error":"#REF!"}},null,null,{"$f":"DRAW!#REF!","v":{"$error":"#REF!"}}]
[null,"Team",{"$f":"DRAW!#REF!","v":{"$error":"#REF!"}},"V","Team",{"$f":"DRAW!#REF!","v":{"$error":"#REF!"}},null,null,"Team",{"$f":"DRAW!#REF!","v":{"$error":"#REF!"}},"V","Team",{"$f":"DRAW!#REF!","v":{"$error":"#REF!"}},null,null,"Team",{"$f":"DRAW!#REF!","v":{"$error":"#REF!"}},"V","Team",{"$f":"DRAW!#REF!","v":{"$error":"#REF!"}},null,"Team",{"$f":"DRAW!#REF!","v":{"$error":"#REF!"}},"V","Team",{"$f":"DRAW!#REF!","v":{"$error":"#REF!"}},null,null,"Team",{"$f":"DRAW!#REF!","v":{"$error":"#REF!"}},"V","Team",{"$f":"DRAW!#REF!","v":{"$error":"#REF!"}},null,null,"Team",{"$f":"DRAW!#REF!","v":{"$error":"#REF!"}},"V","Team",{"$f":"DRAW!#REF!","v":{"$error":"#REF!"}},null,"Team",{"$f":"DRAW!#REF!","v":{"$error":"#REF!"}},"V","Team",{"$f":"DRAW!#REF!","v":{"$error":"#REF!"}},null,null,"Team",{"$f":"DRAW!#REF!","v":{"$error":"#REF!"}},"V","Team",{"$f":"DRAW!#REF!","v":{"$error":"#REF!"}}]
["Ends","Shots","Total",null,"Shots","Total",null,"Ends","Shots","Total",null,"Shots","Total",null,"Ends","Shots","Total",null,"Shots","Total","Ends","Shots","Total",null,"Shots","Total",null,"Ends","Shots","Total",null,"Shots","Total",null,"Ends","Shots","Total",null,"Shots","Total","Ends","Shots","Total",null,"Shots","Total",null,"Ends","Shots","Total",null,"shots","Totar"]
[1,{"$nulls":5},".",1,{"$nulls":5},".",1,{"$nulls":5},1,{"$nulls":5},".",1,{"$nulls":5},".",1,{"$nulls":5},1,{"$nulls":5},".",1]
[2,{"$nulls":6},2,{"$nulls":6},2,{"$nulls":5},2,{"$nulls":6},2,{"$nulls":6},2,{"$nulls":5},2,{"$nulls":6},2]
[3,{"$nulls":6},3,{"$nulls":6},3,{"$nulls":5},3,{"$nulls":6},3,{"$nulls":6},3,{"$nulls":5},3,{"$nulls":6},3]
[4,{"$nulls":6},4,{"$nulls":6},4,{"$nulls":5},4,{"$nulls":6},4,{"$nulls":6},4,{"$nulls":5},4,{"$nulls":6},4]
[5,{"$nulls":5},".",5,{"$nulls":5},".",5,{"$nulls":5},5,{"$nulls":5},".",5,{"$nulls":5},".",5,{"$nulls":5},5,{"$nulls":5},".",5]
[6,{"$nulls":6},6,{"$nulls":6},6,{"$nulls":5},6,{"$nulls":6},6,{"$nulls":6},6,{"$nulls":5},6,{"$nulls":6},6]
[7,{"$nulls":6},7,{"$nulls":6},7,{"$nulls":5},7,{"$nulls":6},7,{"$nulls":6},7,{"$nulls":5},7,{"$nulls":6},7]
[8,{"$nulls":6},8,{"$nulls":6},8,{"$nulls":5},8,{"$nulls":6},8,{"$nulls":6},8,{"$nulls":5},8,{"$nulls":6},8]
[9,{"$nulls":5},".",9,{"$nulls":5},".",9,{"$nulls":5},9,{"$nulls":5},".",9,{"$nulls":5},".",9,{"$nulls":5},9,{"$nulls":5},".",9]
[10,{"$nulls":6},10,{"$nulls":6},10,{"$nulls":5},10,{"$nulls":6},10,{"$nulls":6},10,{"$nulls":5},10,{"$nulls":6},10]
[11,{"$nulls":6},11,{"$nulls":6},11,{"$nulls":5},11,{"$nulls":6},11,{"$nulls":6},11,{"$nulls":5},11,{"$nulls":6},11]
[12,{"$nulls":6},12,{"$nulls":6},12,{"$nulls":5},12,{"$nulls":6},12,{"$nulls":6},12,{"$nulls":5},12,{"$nulls":6},12]
[13,{"$nulls":5},".",13,{"$nulls":5},".",13,{"$nulls":5},13,{"$nulls":5},".",13,{"$nulls":5},".",13,{"$nulls":5},13,{"$nulls":5},".",13]
[14,{"$nulls":6},14,{"$nulls":6},14,{"$nulls":5},14,{"$nulls":6},14,{"$nulls":6},14,{"$nulls":5},14,{"$nulls":6},14]
[15,{"$nulls":6},15,{"$nulls":6},15,{"$nulls":5},15,{"$nulls":6},15,{"$nulls":6},15,{"$nulls":5},15,{"$nulls":6},15]
[16,{"$nulls":6},16,{"$nulls":6},16,{"$nulls":5},16,{"$nulls":6},16,{"$nulls":6},16,{"$nulls":5},16,{"$nulls":6},16]
[17,{"$nulls":5},".",17,{"$nulls":5},".",17,{"$nulls":5},17,{"$nulls":5},".",17,{"$nulls":5},".",17,{"$nulls":5},17,{"$nulls":5},".",17]
[18,{"$nulls":6},18,{"$nulls":6},18,{"$nulls":5},18,{"$nulls":6},18,{"$nulls":6},18,{"$nulls":5},18,{"$nulls":6},18]
["Total","Shots",null,null,"Shots",null,null,"Total","Shots",null,null,"Shots",null,null,"Total","Shots",null,null,"Shots",null,"Total","Shots",null,null,"Shots",null,null,"Total","Shots",null,null,"Shots",null,null,"Total","Shots",null,null,"Shots",null,"Total","Shots",null,null,"Shots",null,null,"Total","Shots",null,null,"shots"]
[null,"Ends",null,null,"Ends",null,".",null,"Ends",null,null,"Ends",null,".",null,"Ends",null,null,"Ends",null,null,"Ends",null,null,"Ends",null,".",null,"Ends",null,null,"Ends",null,".",null,"Ends",null,null,"Ends",null,null,"Ends",null,null,"Ends",null,".",null,"Ends",null,null,"Ends"]
[]
[]
["1st Game ",{"$nulls":5},".","2nd Game ",{"$nulls":5},".","3rd Game ",{"$nulls":5},"4th Game",{"$nulls":5},".","5th Game",{"$nulls":5},".","6th Game",{"$nulls":5},"7th Game",{"$nulls":5},".","8th Game"]
["Team No",null,null,"Rink No",{"$nulls":3},"Team No",null,null,"Rink No",{"$nulls":3},"Team No",null,null,"Rink No",null,null,"Team No",null,null,"Rink No",{"$nulls":3},"Team No",null,null,"Rink No",{"$nulls":3},"Team No",null,null,"Rink No",null,null,"Team No",null,null,"Rink No",{"$nulls":3},"Team No",null,null,"Rink No"]
[]
[{"$f":"DRAW!#REF!","v":{"$error":"#REF!"}},null,null,{"$f":"DRAW!#REF!","v":{"$error":"#REF!"}},null,null,".",{"$f":"DRAW!#REF!","v":{"$error":"#REF!"}},null,null,{"$f":"DRAW!#REF!","v":{"$error":"#REF!"}},null,null,".",{"$f":"DRAW!#REF!","v":{"$error":"#REF!"}},null,null,{"$f":"DRAW!#REF!","v":{"$error":"#REF!"}},null,null,{"$f":"DRAW!#REF!","v":{"$error":"#REF!"}},null,null,{"$f":"DRAW!#REF!","v":{"$error":"#REF!"}},null,null,".",{"$f":"DRAW!#REF!","v":{"$error":"#REF!"}},null,null,{"$f":"DRAW!#REF!","v":{"$error":"#REF!"}},null,null,".",{"$f":"DRAW!#REF!","v":{"$error":"#REF!"}},null,null,{"$f":"DRAW!#REF!","v":{"$error":"#REF!"}},null,null,{"$f":"DRAW!#REF!","v":{"$error":"#REF!"}},null,null,{"$f":"DRAW!#REF!","v":{"$error":"#REF!"}},null,null,".",{"$f":"DRAW!#REF!","v":{"$error":"#REF!"}},null,null,{"$f":"DRAW!#REF!","v":{"$error":"#REF!"}}]
[null,"Team",{"$f":"DRAW!#REF!","v":{"$error":"#REF!"}},"V","Team",{"$f":"DRAW!#REF!","v":{"$error":"#REF!"}},null,null,"Team",{"$f":"DRAW!#REF!","v":{"$error":"#REF!"}},"V","Team",{"$f":"DRAW!#REF!","v":{"$error":"#REF!"}},null,null,"Team",{"$f":"DRAW!#REF!","v":{"$error":"#REF!"}},"V","Team",{"$f":"DRAW!#REF!","v":{"$error":"#REF!"}},null,"Team",{"$f":"DRAW!#REF!","v":{"$error":"#REF!"}},"V","Team",{"$f":"DRAW!#REF!","v":{"$error":"#REF!"}},null,null,"Team",{"$f":"DRAW!#REF!","v":{"$error":"#REF!"}},"V","Team",{"$f":"DRAW!#REF!","v":{"$error":"#REF!"}},null,null,"Team",{"$f":"DRAW!#REF!","v":{"$error":"#REF!"}},"V","Team",{"$f":"DRAW!#REF!","v":{"$error":"#REF!"}},null,"Team",{"$f":"DRAW!#REF!","v":{"$error":"#REF!"}},"V","Team",{"$f":"DRAW!#REF!","v":{"$error":"#REF!"}},null,null,"Team",{"$f":"DRAW!#REF!","v":{"$error":"#REF!"}},"V","Team",{"$f":"DRAW!#REF!","v":{"$error":"#REF!"}}]
["Ends","Shots","Total",null,"Shots","Total",null,"Ends","Shots","Total",null,"Shots","Total",null,"Ends","Shots","Total",null,"Shots","Total","Ends","Shots","Total",null,"Shots","Total",null,"Ends","Shots","Total",null,"Shots","Total",null,"Ends","Shots","Total",null,"Shots","Total","Ends","Shots","Total",null,"Shots","Total",null,"Ends","Shots","Total",null,"shots","Totar"]
[1,{"$nulls":5},".",1,{"$nulls":5},".",1,{"$nulls":5},1,{"$nulls":5},".",1,{"$nulls":5},".",1,{"$nulls":5},1,{"$nulls":5},".",1]
[2,{"$nulls":6},2,{"$nulls":6},2,{"$nulls":5},2,{"$nulls":6},2,{"$nulls":6},2,{"$nulls":5},2,{"$nulls":6},2]
[3,{"$nulls":6},3,{"$nulls":6},3,{"$nulls":5},3,{"$nulls":6},3,{"$nulls":6},3,{"$nulls":5},3,{"$nulls":6},3]
[4,{"$nulls":6},4,{"$nulls":6},4,{"$nulls":5},4,{"$nulls":6},4,{"$nulls":6},4,{"$nulls":5},4,{"$nulls":6},4]
[5,{"$nulls":5},".",5,{"$nulls":5},".",5,{"$nulls":5},5,{"$nulls":5},".",5,{"$nulls":5},".",5,{"$nulls":5},5,{"$nulls":5},".",5]
[6,{"$nulls":6},6,{"$nulls":6},6,{"$nulls":5},6,{"$nulls":6},6,{"$nulls":6},6,{"$nulls":5},6,{"$nulls":6},6]
[7,{"$nulls":6},7,{"$nulls":6},7,{"$nulls":5},7,{"$nulls":6},7,{"$nulls":6},7,{"$nulls":5},7,{"$nulls":6},7]
[8,{"$nulls":6},8,{"$nulls":6},8,{"$nulls":5},8,{"$nulls":6},8,{"$nulls":6},8,{"$nulls":5},8,{"$nulls":6},8]
[9,{"$nulls":5},".",9,{"$nulls":5},".",9,{"$nulls":5},9,{"$nulls":5},".",9,{"$nulls":5},".",9,{"$nulls":5},9,{"$nulls":5},".",9]
[10,{"$nulls":6},10,{"$nulls":6},10,{"$nulls":5},10,{"$nulls":6},10,{"$nulls":6},10,{"$nulls":5},10,{"$nulls":6},10]
[11,{"$nulls":6},11,{"$nulls":6},11,{"$nulls":5},11,{"$nulls":6},11,{"$nulls":6},11,{"$nulls":5},11,{"$nulls":6},11]
[12,{"$nulls":6},12,{"$nulls":6},12,{"$nulls":5},12,{"$nulls":6},12,{"$nulls":6},12,{"$nulls":5},12,{"$nulls":6},12]
[13,{"$nulls":5},".",13,{"$nulls":5},".",13,{"$nulls":5},13,{"$nulls":5},".",13,{"$nulls":5},".",13,{"$nulls":5},13,{"$nulls":5},".",13]
[14,{"$nulls":6},14,{"$nulls":6},14,{"$nulls":5},14,{"$nulls":6},14,{"$nulls":6},14,{"$nulls":5},14,{"$nulls":6},14]
[15,{"$nulls":6},15,{"$nulls":6},15,{"$nulls":5},15,{"$nulls":6},15,{"$nulls":6},15,{"$nulls":5},15,{"$nulls":6},15]
[16,{"$nulls":6},16,{"$nulls":6},16,{"$nulls":5},16,{"$nulls":6},16,{"$nulls":6},16,{"$nulls":5},16,{"$nulls":6},16]
[17,{"$nulls":5},".",17,{"$nulls":5},".",17,{"$nulls":5},17,{"$nulls":5},".",17,{"$nulls":5},".",17,{"$nulls":5},17,{"$nulls":5},".",17]
[18,{"$nulls":6},18,{"$nulls":6},18,{"$nulls":5},18,{"$nulls":6},18,{"$nulls":6},18,{"$nulls":5},18,{"$nulls":6},18]
["Total","Shots",null,null,"Shots",null,null,"Total","Shots",null,null,"Shots",null,null,"Total","Shots",null,null,"Shots",null,"Total","Shots",null,null,"Shots",null,null,"Total","Shots",null,null,"Shots",null,null,"Total","Shots",null,null,"Shots",null,"Total","Shots",null,null,"Shots",null,null,"Total","Shots",null,null,"shots"]
[null,"Ends",null,null,"Ends",null,".",null,"Ends",null,null,"Ends",null,".",null,"Ends",null,null,"Ends",null,null,"Ends",null,null,"Ends",null,".",null,"Ends",null,null,"Ends",null,".",null,"Ends",null,null,"Ends",null,null,"Ends",null,null,"Ends",null,".",null,"Ends",null,null,"Ends"]
["1st Game ",{"$nulls":5},".","2nd Game ",{"$nulls":5},".","3rd Game ",{"$nulls":5},"4th Game",{"$nulls":5},".","5th Game",{"$nulls":5},".","6th Game",{"$nulls":5},"7th Game",{"$nulls":5},".","8th Game"]
["Team No",null,null,"Rink No",{"$nulls":3},"Team No",null,null,"Rink No",{"$nulls":3},"Team No",null,null,"Rink No",null,null,"Team No",null,null,"Rink No",{"$nulls":3},"Team No",null,null,"Rink No",{"$nulls":3},"Team No",null,null,"Rink No",null,null,"Team No",null,null,"Rink No",{"$nulls":3},"Team No",null,null,"Rink No"]
[]
[{"$f":"DRAW!#REF!","v":{"$error":"#REF!"}},null,null,{"$f":"DRAW!#REF!","v":{"$error":"#REF!"}},null,null,".",{"$f":"DRAW!#REF!","v":{"$error":"#REF!"}},null,null,{"$f":"DRAW!#REF!","v":{"$error":"#REF!"}},null,null,".",{"$f":"DRAW!#REF!","v":{"$error":"#REF!"}},null,null,{"$f":"DRAW!#REF!","v":{"$error":"#REF!"}},null,null,{"$f":"DRAW!#REF!","v":{"$error":"#REF!"}},null,null,{"$f":"DRAW!#REF!","v":{"$error":"#REF!"}},null,null,".",{"$f":"DRAW!#REF!","v":{"$error":"#REF!"}},null,null,{"$f":"DRAW!#REF!","v":{"$error":"#REF!"}},null,null,".",{"$f":"DRAW!#REF!","v":{"$error":"#REF!"}},null,null,{"$f":"DRAW!#REF!","v":{"$error":"#REF!"}},null,null,{"$f":"DRAW!#REF!","v":{"$error":"#REF!"}},null,null,{"$f":"DRAW!#REF!","v":{"$error":"#REF!"}},null,null,".",{"$f":"DRAW!#REF!","v":{"$error":"#REF!"}},null,null,{"$f":"DRAW!#REF!","v":{"$error":"#REF!"}}]
[null,"Team",{"$f":"DRAW!#REF!","v":{"$error":"#REF!"}},"V","Team",{"$f":"DRAW!#REF!","v":{"$error":"#REF!"}},null,null,"Team",{"$f":"DRAW!#REF!","v":{"$error":"#REF!"}},"V","Team",{"$f":"DRAW!#REF!","v":{"$error":"#REF!"}},null,null,"Team",{"$f":"DRAW!#REF!","v":{"$error":"#REF!"}},"V","Team",{"$f":"DRAW!#REF!","v":{"$error":"#REF!"}},null,"Team",{"$f":"DRAW!#REF!","v":{"$error":"#REF!"}},"V","Team",{"$f":"DRAW!#REF!","v":{"$error":"#REF!"}},null,null,"Team",{"$f":"DRAW!#REF!","v":{"$error":"#REF!"}},"V","Team",{"$f":"DRAW!#REF!","v":{"$error":"#REF!"}},null,null,"Team",{"$f":"DRAW!#REF!","v":{"$error":"#REF!"}},"V","Team",{"$f":"DRAW!#REF!","v":{"$error":"#REF!"}},null,"Team",{"$f":"DRAW!#REF!","v":{"$error":"#REF!"}},"V","Team",{"$f":"DRAW!#REF!","v":{"$error":"#REF!"}},null,null,"Team",{"$f":"DRAW!#REF!","v":{"$error":"#REF!"}},"V","Team",{"$f":"DRAW!#REF!","v":{"$error":"#REF!"}}]
["Ends","Shots","Total",null,"Shots","Total",null,"Ends","Shots","Total",null,"Shots","Total",null,"Ends","Shots","Total",null,"Shots","Total","Ends","Shots","Total",null,"Shots","Total",null,"Ends","Shots","Total",null,"Shots","Total",null,"Ends","Shots","Total",null,"Shots","Total","Ends","Shots","Total",null,"Shots","Total",null,"Ends","Shots","Total",null,"shots","Totar"]
[1,{"$nulls":5},".",1,{"$nulls":5},".",1,{"$nulls":5},1,{"$nulls":5},".",1,{"$nulls":5},".",1,{"$nulls":5},1,{"$nulls":5},".",1]
[2,{"$nulls":6},2,{"$nulls":6},2,{"$nulls":5},2,{"$nulls":6},2,{"$nulls":6},2,{"$nulls":5},2,{"$nulls":6},2]
[3,{"$nulls":6},3,{"$nulls":6},3,{"$nulls":5},3,{"$nulls":6},3,{"$nulls":6},3,{"$nulls":5},3,{"$nulls":6},3]
[4,{"$nulls":6},4,{"$nulls":6},4,{"$nulls":5},4,{"$nulls":6},4,{"$nulls":6},4,{"$nulls":5},4,{"$nulls":6},4]
[5,{"$nulls":5},".",5,{"$nulls":5},".",5,{"$nulls":5},5,{"$nulls":5},".",5,{"$nulls":5},".",5,{"$nulls":5},5,{"$nulls":5},".",5]
[6,{"$nulls":6},6,{"$nulls":6},6,{"$nulls":5},6,{"$nulls":6},6,{"$nulls":6},6,{"$nulls":5},6,{"$nulls":6},6]
[7,{"$nulls":6},7,{"$nulls":6},7,{"$nulls":5},7,{"$nulls":6},7,{"$nulls":6},7,{"$nulls":5},7,{"$nulls":6},7]
[8,{"$nulls":6},8,{"$nulls":6},8,{"$nulls":5},8,{"$nulls":6},8,{"$nulls":6},8,{"$nulls":5},8,{"$nulls":6},8]
[9,{"$nulls":5},".",9,{"$nulls":5},".",9,{"$nulls":5},9,{"$nulls":5},".",9,{"$nulls":5},".",9,{"$nulls":5},9,{"$nulls":5},".",9]
[10,{"$nulls":6},10,{"$nulls":6},10,{"$nulls":5},10,{"$nulls":6},10,{"$nulls":6},10,{"$nulls":5},10,{"$nulls":6},10]
[11,{"$nulls":6},11,{"$nulls":6},11,{"$nulls":5},11,{"$nulls":6},11,{"$nulls":6},11,{"$nulls":5},11,{"$nulls":6},11]
[12,{"$nulls":6},12,{"$nulls":6},12,{"$nulls":5},12,{"$nulls":6},12,{"$nulls":6},12,{"$nulls":5},12,{"$nulls":6},12]
[13,{"$nulls":5},".",13,{"$nulls":5},".",13,{"$nulls":5},13,{"$nulls":5},".",13,{"$nulls":5},".",13,{"$nulls":5},13,{"$nulls":5},".",13]
[14,{"$nulls":6},14,{"$nulls":6},14,{"$nulls":5},14,{"$nulls":6},14,{"$nulls":6},14,{"$nulls":5},14,{"$nulls":6},14]
[15,{"$nulls":6},15,{"$nulls":6},15,{"$nulls":5},15,{"$nulls":6},15,{"$nulls":6},15,{"$nulls":5},15,{"$nulls":6},15]
[16,{"$nulls":6},16,{"$nulls":6},16,{"$nulls":5},16,{"$nulls":6},16,{"$nulls":6},16,{"$nulls":5},16,{"$nulls":6},16]
[17,{"$nulls":5},".",17,{"$nulls":5},".",17,{"$nulls":5},17,{"$nulls":5},".",17,{"$nulls":5},".",17,{"$nulls":5},17,{"$nulls":5},".",17]
[18,{"$nulls":6},18,{"$nulls":6},18,{"$nulls":5},18,{"$nulls":6},18,{"$nulls":6},18,{"$nulls":5},18,{"$nulls":6},18]
["Total","Shots",null,null,"Shots",null,null,"Total","Shots",null,null,"Shots",null,null,"Total","Shots",null,null,"Shots",null,"Total","Shots",null,null,"Shots",null,null,"Total","Shots",null,null,"Shots",null,null,"Total","Shots",null,null,"Shots",null,"Total","Shots",null,null,"Shots",null,null,"Total","Shots",null,null,"shots"]
[null,"Ends",null,null,"Ends",null,".",null,"Ends",null,null,"Ends",null,".",null,"Ends",null,null,"Ends",null,null,"Ends",null,null,"Ends",null,".",null,"Ends",null,null,"Ends",null,".",null,"Ends",null,null,"Ends",null,null,"Ends",null,null,"Ends",null,".",null,"Ends",null,null,"Ends"]
[]
[]
["1st Game ",{"$nulls":5},".","2nd Game ",{"$nulls":5},".","3rd Game ",{"$nulls":5},"4th Game",{"$nulls":5},".","5th Game",{"$nulls":5},".","6th Game",{"$nulls":5},"7th Game",{"$nulls":5},".","8th Game"]
["Team No",null,null,"Rink No",{"$nulls":3},"Team No",null,null,"Rink No",{"$nulls":3},"Team No",null,null,"Rink No",null,null,"Team No",null,null,"Rink No",{"$nulls":3},"Team No",null,null,"Rink No",{"$nulls":3},"Team No",null,null,"Rink No",null,null,"Team No",null,null,"Rink No",{"$nulls":3},"Team No",null,null,"Rink No"]
[]
[{"$f":"DRAW!#REF!","v":{"$error":"#REF!"}},null,null,{"$f":"DRAW!#REF!","v":{"$error":"#REF!"}},null,null,".",{"$f":"DRAW!#REF!","v":{"$error":"#REF!"}},null,null,{"$f":"DRAW!#REF!","v":{"$error":"#REF!"}},null,null,".",{"$f":"DRAW!#REF!","v":{"$error":"#REF!"}},null,null,{"$f":"DRAW!#REF!","v":{"$error":"#REF!"}},null,null,{"$f":"DRAW!#REF!","v":{"$error":"#REF!"}},null,null,{"$f":"DRAW!#REF!","v":{"$error":"#REF!"}},null,null,".",{"$f":"DRAW!#REF!","v":{"$error":"#REF!"}},null,null,{"$f":"DRAW!#REF!","v":{"$error":"#REF!"}},null,null,".",{"$f":"DRAW!#REF!","v":{"$error":"#REF!"}},null,null,{"$f":"DRAW!#REF!","v":{"$error":"#REF!"}},null,null,{"$f":"DRAW!#REF!","v":{"$error":"#REF!"}},null,null,{"$f":"DRAW!#REF!","v":{"$error":"#REF!"}},null,null,".",{"$f":"DRAW!#REF!","v":{"$error":"#REF!"}},null,null,{"$f":"DRAW!#REF!","v":{"$error":"#REF!"}}]
[null,"Team",{"$f":"DRAW!#REF!","v":{"$error":"#REF!"}},"V","Team",{"$f":"DRAW!#REF!","v":{"$error":"#REF!"}},null,null,"Team",{"$f":"DRAW!#REF!","v":{"$error":"#REF!"}},"V","Team",{"$f":"DRAW!#REF!","v":{"$error":"#REF!"}},null,null,"Team",{"$f":"DRAW!#REF!","v":{"$error":"#REF!"}},"V","Team",{"$f":"DRAW!#REF!","v":{"$error":"#REF!"}},null,"Team",{"$f":"DRAW!#REF!","v":{"$error":"#REF!"}},"V","Team",{"$f":"DRAW!#REF!","v":{"$error":"#REF!"}},null,null,"Team",{"$f":"DRAW!#REF!","v":{"$error":"#REF!"}},"V","Team",{"$f":"DRAW!#REF!","v":{"$error":"#REF!"}},null,null,"Team",{"$f":"DRAW!#REF!","v":{"$error":"#REF!"}},"V","Team",{"$f":"DRAW!#REF!","v":{"$error":"#REF!"}},null,"Team",{"$f":"DRAW!#REF!","v":{"$error":"#REF!"}},"V","Team",{"$f":"DRAW!#REF!","v":{"$error":"#REF!"}},null,null,"Team",{"$f":"DRAW!#REF!","v":{"$error":"#REF!"}},"V","Team",{"$f":"DRAW!#REF!","v":{"$error":"#REF!"}}]
["Ends","Shots","Total",null,"Shots","Total",null,"Ends","Shots","Total",null,"Shots","Total",null,"Ends","Shots","Total",null,"Shots","Total","Ends","Shots","Total",null,"Shots","Total",null,"Ends","Shots","Total",null,"Shots","Total",null,"Ends","Shots","Total",null,"Shots","Total","Ends","Shots","Total",null,"Shots","Total",null,"Ends","Shots","Total",null,"shots","Totar"]
[1,{"$nulls":5},".",1,{"$nulls":5},".",1,{"$nulls":5},1,{"$nulls":5},".",1,{"$nulls":5},".",1,{"$nulls":5},1,{"$nulls":5},".",1]
[2,{"$nulls":6},2,{"$nulls":6},2,{"$nulls":5},2,{"$nulls":6},2,{"$nulls":6},2,{"$nulls":5},2,{"$nulls":6},2]
[3,{"$nulls":6},3,{"$nulls":6},3,{"$nulls":5},3,{"$nulls":6},3,{"$nulls":6},3,{"$nulls":5},3,{"$nulls":6},3]
[4,{"$nulls":6},4,{"$nulls":6},4,{"$nulls":5},4,{"$nulls":6},4,{"$nulls":6},4,{"$nulls":5},4,{"$nulls":6},4]
[5,{"$nulls":5},".",5,{"$nulls":5},".",5,{"$nulls":5},5,{"$nulls":5},".",5,{"$nulls":5},".",5,{"$nulls":5},5,{"$nulls":5},".",5]
[6,{"$nulls":6},6,{"$nulls":6},6,{"$nulls":5},6,{"$nulls":6},6,{"$nulls":6},6,{"$nulls":5},6,{"$nulls":6},6]
[7,{"$nulls":6},7,{"$nulls":6},7,{"$nulls":5},7,{"$nulls":6},7,{"$nulls":6},7,{"$nulls":5},7,{"$nulls":6},7]
[8,{"$nulls":6},8,{"$nulls":6},8,{"$nulls":5},8,{"$nulls":6},8,{"$nulls":6},8,{"$nulls":5},8,{"$nulls":6},8]
[9,{"$nulls":5},".",9,{"$nulls":5},".",9,{"$nulls":5},9,{"$nulls":5},".",9,{"$nulls":5},".",9,{"$nulls":5},9,{"$nulls":5},".",9]
[10,{"$nulls":6},10,{"$nulls":6},10,{"$nulls":5},10,{"$nulls":6},10,{"$nulls":6},10,{"$nulls":5},10,{"$nulls":6},10]
[11,{"$nulls":6},11,{"$nulls":6},11,{"$nulls":5},11,{"$nulls":6},11,{"$nulls":6},11,{"$nulls":5},11,{"$nulls":6},11]
[12,{"$nulls":6},12,{"$nulls":6},12,{"$nulls":5},12,{"$nulls":6},12,{"$nulls":6},12,{"$nulls":5},12,{"$nulls":6},12]
[13,{"$nulls":5},".",13,{"$nulls":5},".",13,{"$nulls":5},13,{"$nulls":5},".",13,{"$nulls":5},".",13,{"$nulls":5},13,{"$nulls":5},".",13]
[14,{"$nulls":6},14,{"$nulls":6},14,{"$nulls":5},14,{"$nulls":6},14,{"$nulls":6},14,{"$nulls":5},14,{"$nulls":6},14]
[15,{"$nulls":6},15,{"$nulls":6},15,{"$nulls":5},15,{"$nulls":6},15,{"$nulls":6},15,{"$nulls":5},15,{"$nulls":6},15]
[16,{"$nulls":6},16,{"$nulls":6},16,{"$nulls":5},16,{"$nulls":6},16,{"$nulls":6},16,{"$nulls":5},16,{"$nulls":6},16]
[17,{"$nulls":5},".",17,{"$nulls":5},".",17,{"$nulls":5},17,{"$nulls":5},".",17,{"$nulls":5},".",17,{"$nulls":5},17,{"$nulls":5},".",17]
[18,{"$nulls":6},18,{"$nulls":6},18,{"$nulls":5},18,{"$nulls":6},18,{"$nulls":6},18,{"$nulls":5},18,{"$nulls":6},18]
["Total","Shots",null,null,"Shots",null,null,"Total","Shots",null,null,"Shots",null,null,"Total","Shots",null,null,"Shots",null,"Total","Shots",null,null,"Shots",null,null,"Total","Shots",null,null,"Shots",null,null,"Total","Shots",null,null,"Shots",null,"Total","Shots",null,null,"Shots",null,null,"Total","Shots",null,null,"shots"]
[null,"Ends",null,null,"Ends",null,".",null,"Ends",null,null,"Ends",null,".",null,"Ends",null,null,"Ends",null,null,"Ends",null,null,"Ends",null,".",null,"Ends",null,null,"Ends",null,".",null,"Ends",null,null,"Ends",null,null,"Ends",null,null,"Ends",null,".",null,"Ends",null,null,"Ends"]
["1st Game ",{"$nulls":5},".","2nd Game ",{"$nulls":5},".","3rd Game ",{"$nulls":5},"4th Game",{"$nulls":5},".","5th Game",{"$nulls":5},".","6th Game",{"$nulls":5},"7th Game",{"$nulls":5},".","8th Game"]
["Team No",null,null,"Rink No",{"$nulls":3},"Team No",null,null,"Rink No",{"$nulls":3},"Team No",null,null,"Rink No",null,null,"Team No",null,null,"Rink No",{"$nulls":3},"Team No",null,null,"Rink No",{"$nulls":3},"Team No",null,null,"Rink No",null,null,"Team No",null,null,"Rink No",{"$nulls":3},"Team No",null,null,"Rink No"]
[]
[{"$f":"DRAW!#REF!","v":{"$error":"#REF!"}},null,null,{"$f":"DRAW!#REF!","v":{"$error":"#REF!"}},null,null,".",{"$f":"DRAW!#REF!","v":{"$error":"#REF!"}},null,null,{"$f":"DRAW!#REF!","v":{"$error":"#REF!"}},null,null,".",{"$f":"DRAW!#REF!","v":{"$error":"#REF!"}},null,null,{"$f":"DRAW!#REF!","v":{"$error":"#REF!"}},null,null,{"$f":"DRAW!#REF!","v":{"$error":"#REF!"}},null,null,{"$f":"DRAW!#REF!","v":{"$error":"#REF!"}},null,null,".",{"$f":"DRAW!#REF!","v":{"$error":"#REF!"}},null,null,{"$f":"DRAW!#REF!","v":{"$error":"#REF!"}},null,null,".",{"$f":"DRAW!#REF!","v":{"$error":"#REF!"}},null,null,{"$f":"DRAW!#REF!","v":{"$error":"#REF!"}},null,null,{"$f":"DRAW!#REF!","v":{"$error":"#REF!"}},null,null,{"$f":"DRAW!#REF!","v":{"$error":"#REF!"}},null,null,".",{"$f":"DRAW!#REF!","v":{"$error":"#REF!"}},null,null,{"$f":"DRAW!#REF!","v":{"$error":"#REF!"}}]
[null,"Team",{"$f":"DRAW!#REF!","v":{"$error":"#REF!"}},"V","Team",{"$f":"DRAW!#REF!","v":{"$error":"#REF!"}},null,null,"Team",{"$f":"DRAW!#REF!","v":{"$error":"#REF!"}},"V","Team",{"$f":"DRAW!#REF!","v":{"$error":"#REF!"}},null,null,"Team",{"$f":"DRAW!#REF!","v":{"$error":"#REF!"}},"V","Team",{"$f":"DRAW!#REF!","v":{"$error":"#REF!"}},null,"Team",{"$f":"DRAW!#REF!","v":{"$error":"#REF!"}},"V","Team",{"$f":"DRAW!#REF!","v":{"$error":"#REF!"}},null,null,"Team",{"$f":"DRAW!#REF!","v":{"$error":"#REF!"}},"V","Team",{"$f":"DRAW!#REF!","v":{"$error":"#REF!"}},null,null,"Team",{"$f":"DRAW!#REF!","v":{"$error":"#REF!"}},"V","Team",{"$f":"DRAW!#REF!","v":{"$error":"#REF!"}},null,"Team",{"$f":"DRAW!#REF!","v":{"$error":"#REF!"}},"V","Team",{"$f":"DRAW!#REF!","v":{"$error":"#REF!"}},null,null,"Team",{"$f":"DRAW!#REF!","v":{"$error":"#REF!"}},"V","Team",{"$f":"DRAW!#REF!","v":{"$error":"#REF!"}}]
["Ends","Shots","Total",null,"Shots","Total",null,"Ends","Shots","Total",null,"Shots","Total",null,"Ends","Shots","Total",null,"Shots","Total","Ends","Shots","Total",null,"Shots","Total",null,"Ends","Shots","Total",null,"Shots","Total",null,"Ends","Shots","Total",null,"Shots","Total","Ends","Shots","Total",null,"Shots","Total",null,"Ends","Shots","Total",null,"shots","Totar"]
[1,{"$nulls":5},".",1,{"$nulls":5},".",1,{"$nulls":5},1,{"$nulls":5},".",1,{"$nulls":5},".",1,{"$nulls":5},1,{"$nulls":5},".",1]
[2,{"$nulls":6},2,{"$nulls":6},2,{"$nulls":5},2,{"$nulls":6},2,{"$nulls":6},2,{"$nulls":5},2,{"$nulls":6},2]
[3,{"$nulls":6},3,{"$nulls":6},3,{"$nulls":5},3,{"$nulls":6},3,{"$nulls":6},3,{"$nulls":5},3,{"$nulls":6},3]
[4,{"$nulls":6},4,{"$nulls":6},4,{"$nulls":5},4,{"$nulls":6},4,{"$nulls":6},4,{"$nulls":5},4,{"$nulls":6},4]
[5,{"$nulls":5},".",5,{"$nulls":5},".",5,{"$nulls":5},5,{"$nulls":5},".",5,{"$nulls":5},".",5,{"$nulls":5},5,{"$nulls":5},".",5]
[6,{"$nulls":6},6,{"$nulls":6},6,{"$nulls":5},6,{"$nulls":6},6,{"$nulls":6},6,{"$nulls":5},6,{"$nulls":6},6]
[7,{"$nulls":6},7,{"$nulls":6},7,{"$nulls":5},7,{"$nulls":6},7,{"$nulls":6},7,{"$nulls":5},7,{"$nulls":6},7]
[8,{"$nulls":6},8,{"$nulls":6},8,{"$nulls":5},8,{"$nulls":6},8,{"$nulls":6},8,{"$nulls":5},8,{"$nulls":6},8]
[9,{"$nulls":5},".",9,{"$nulls":5},".",9,{"$nulls":5},9,{"$nulls":5},".",9,{"$nulls":5},".",9,{"$nulls":5},9,{"$nulls":5},".",9]
[10,{"$nulls":6},10,{"$nulls":6},10,{"$nulls":5},10,{"$nulls":6},10,{"$nulls":6},10,{"$nulls":5},10,{"$nulls":6},10]
[11,{"$nulls":6},11,{"$nulls":6},11,{"$nulls":5},11,{"$nulls":6},11,{"$nulls":6},11,{"$nulls":5},11,{"$nulls":6},11]
[12,{"$nulls":6},12,{"$nulls":6},12,{"$nulls":5},12,{"$nulls":6},12,{"$nulls":6},12,{"$nulls":5},12,{"$nulls":6},12]
[13,{"$nulls":5},".",13,{"$nulls":5},".",13,{"$nulls":5},13,{"$nulls":5},".",13,{"$nulls":5},".",13,{"$nulls":5},13,{"$nulls":5},".",13]
[14,{"$nulls":6},14,{"$nulls":6},14,{"$nulls":5},14,{"$nulls":6},14,{"$nulls":6},14,{"$nulls":5},14,{"$nulls":6},14]
[15,{"$nulls":6},15,{"$nulls":6},15,{"$nulls":5},15,{"$nulls":6},15,{"$nulls":6},15,{"$nulls":5},15,{"$nulls":6},15]
[16,{"$nulls":6},16,{"$nulls":6},16,{"$nulls":5},16,{"$nulls":6},16,{"$nulls":6},16,{"$nulls":5},16,{"$nulls":6},16]
[17,{"$nulls":5},".",17,{"$nulls":5},".",17,{"$nulls":5},17,{"$nulls":5},".",17,{"$nulls":5},".",17,{"$nulls":5},17,{"$nulls":5},".",17]
[18,{"$nulls":6},18,{"$nulls":6},18,{"$nulls":5},18,{"$nulls":6},18,{"$nulls":6},18,{"$nulls":5},18,{"$nulls":6},18]
["Total","Shots",null,null,"Shots",null,null,"Total","Shots",null,null,"Shots",null,null,"Total","Shots",null,null,"Shots",null,"Total","Shots",null,null,"Shots",null,null,"Total","Shots",null,null,"Shots",null,null,"Total","Shots",null,null,"Shots",null,"Total","Shots",null,null,"Shots",null,null,"Total","Shots",null,null,"shots"]
[null,"Ends",null,null,"Ends",null,".",null,"Ends",null,null,"Ends",null,".",null,"Ends",null,null,"Ends",null,null,"Ends",null,null,"Ends",null,".",null,"Ends",null,null,"Ends",null,".",null,"Ends",null,null,"Ends",null,null,"Ends",null,null,"Ends",null,".",null,"Ends",null,null,"Ends"]
[]
[]
["1st Game ",{"$nulls":5},".","2nd Game ",{"$nulls":5},".","3rd Game ",{"$nulls":5},"4th Game",{"$nulls":5},".","5th Game",{"$nulls":5},".","6th Game",{"$nulls":5},"7th Game",{"$nulls":5},".","8th Game"]
["Team No",null,null,"Rink No",{"$nulls":3},"Team No",null,null,"Rink No",{"$nulls":3},"Team No",null,null,"Rink No",null,null,"Team No",null,null,"Rink No",{"$nulls":3},"Team No",null,null,"Rink No",{"$nulls":3},"Team No",null,null,"Rink No",null,null,"Team No",null,null,"Rink No",{"$nulls":3},"Team No",null,null,"Rink No"]
[]
[{"$f":"DRAW!#REF!","v":{"$error":"#REF!"}},null,null,{"$f":"DRAW!#REF!","v":{"$error":"#REF!"}},null,null,".",{"$f":"DRAW!#REF!","v":{"$error":"#REF!"}},null,null,{"$f":"DRAW!#REF!","v":{"$error":"#REF!"}},null,null,".",{"$f":"DRAW!#REF!","v":{"$error":"#REF!"}},null,null,{"$f":"DRAW!#REF!","v":{"$error":"#REF!"}},null,null,{"$f":"DRAW!#REF!","v":{"$error":"#REF!"}},null,null,{"$f":"DRAW!#REF!","v":{"$error":"#REF!"}},null,null,".",{"$f":"DRAW!#REF!","v":{"$error":"#REF!"}},null,null,{"$f":"DRAW!#REF!","v":{"$error":"#REF!"}},null,null,".",{"$f":"DRAW!#REF!","v":{"$error":"#REF!"}},null,null,{"$f":"DRAW!#REF!","v":{"$error":"#REF!"}},null,null,{"$f":"DRAW!#REF!","v":{"$error":"#REF!"}},null,null,{"$f":"DRAW!#REF!","v":{"$error":"#REF!"}},null,null,".",{"$f":"DRAW!#REF!","v":{"$error":"#REF!"}},null,null,{"$f":"DRAW!#REF!","v":{"$error":"#REF!"}}]
[null,"Team",{"$f":"DRAW!#REF!","v":{"$error":"#REF!"}},"V","Team",{"$f":"DRAW!#REF!","v":{"$error":"#REF!"}},null,null,"Team",{"$f":"DRAW!#REF!","v":{"$error":"#REF!"}},"V","Team",{"$f":"DRAW!#REF!","v":{"$error":"#REF!"}},null,null,"Team",{"$f":"DRAW!#REF!","v":{"$error":"#REF!"}},"V","Team",{"$f":"DRAW!#REF!","v":{"$error":"#REF!"}},null,"Team",{"$f":"DRAW!#REF!","v":{"$error":"#REF!"}},"V","Team",{"$f":"DRAW!#REF!","v":{"$error":"#REF!"}},null,null,"Team",{"$f":"DRAW!#REF!","v":{"$error":"#REF!"}},"V","Team",{"$f":"DRAW!#REF!","v":{"$error":"#REF!"}},null,null,"Team",{"$f":"DRAW!#REF!","v":{"$error":"#REF!"}},"V","Team",{"$f":"DRAW!#REF!","v":{"$error":"#REF!"}},null,"Team",{"$f":"DRAW!#REF!","v":{"$error":"#REF!"}},"V","Team",{"$f":"DRAW!#REF!","v":{"$error":"#REF!"}},null,null,"Team",{"$f":"DRAW!#REF!","v":{"$error":"#REF!"}},"V","Team",{"$f":"DRAW!#REF!","v":{"$error":"#REF!"}}]
["Ends","Shots","Total",null,"Shots","Total",null,"Ends","Shots","Total",null,"Shots","Total",null,"Ends","Shots","Total",null,"Shots","Total","Ends","Shots","Total",null,"Shots","Total",null,"Ends","Shots","Total",null,"Shots","Total",null,"Ends","Shots","Total",null,"Shots","Total","Ends","Shots","Total",null,"Shots","Total",null,"Ends","Shots","Total",null,"shots","Totar"]
[1,{"$nulls":5},".",1,{"$nulls":5},".",1,{"$nulls":5},1,{"$nulls":5},".",1,{"$nulls":5},".",1,{"$nulls":5},1,{"$nulls":5},".",1]
[2,{"$nulls":6},2,{"$nulls":6},2,{"$nulls":5},2,{"$nulls":6},2,{"$nulls":6},2,{"$nulls":5},2,{"$nulls":6},2]
[3,{"$nulls":6},3,{"$nulls":6},3,{"$nulls":5},3,{"$nulls":6},3,{"$nulls":6},3,{"$nulls":5},3,{"$nulls":6},3]
[4,{"$nulls":6},4,{"$nulls":6},4,{"$nulls":5},4,{"$nulls":6},4,{"$nulls":6},4,{"$nulls":5},4,{"$nulls":6},4]
[5,{"$nulls":5},".",5,{"$nulls":5},".",5,{"$nulls":5},5,{"$nulls":5},".",5,{"$nulls":5},".",5,{"$nulls":5},5,{"$nulls":5},".",5]
[6,{"$nulls":6},6,{"$nulls":6},6,{"$nulls":5},6,{"$nulls":6},6,{"$nulls":6},6,{"$nulls":5},6,{"$nulls":6},6]
[7,{"$nulls":6},7,{"$nulls":6},7,{"$nulls":5},7,{"$nulls":6},7,{"$nulls":6},7,{"$nulls":5},7,{"$nulls":6},7]
[8,{"$nulls":6},8,{"$nulls":6},8,{"$nulls":5},8,{"$nulls":6},8,{"$nulls":6},8,{"$nulls":5},8,{"$nulls":6},8]
[9,{"$nulls":5},".",9,{"$nulls":5},".",9,{"$nulls":5},9,{"$nulls":5},".",9,{"$nulls":5},".",9,{"$nulls":5},9,{"$nulls":5},".",9]
[10,{"$nulls":6},10,{"$nulls":6},10,{"$nulls":5},10,{"$nulls":6},10,{"$nulls":6},10,{"$nulls":5},10,{"$nulls":6},10]
[11,{"$nulls":6},11,{"$nulls":6},11,{"$nulls":5},11,{"$nulls":6},11,{"$nulls":6},11,{"$nulls":5},11,{"$nulls":6},11]
[12,{"$nulls":6},12,{"$nulls":6},12,{"$nulls":5},12,{"$nulls":6},12,{"$nulls":6},12,{"$nulls":5},12,{"$nulls":6},12]
[13,{"$nulls":5},".",13,{"$nulls":5},".",13,{"$nulls":5},13,{"$nulls":5},".",13,{"$nulls":5},".",13,{"$nulls":5},13,{"$nulls":5},".",13]
[14,{"$nulls":6},14,{"$nulls":6},14,{"$nulls":5},14,{"$nulls":6},14,{"$nulls":6},14,{"$nulls":5},14,{"$nulls":6},14]
[15,{"$nulls":6},15,{"$nulls":6},15,{"$nulls":5},15,{"$nulls":6},15,{"$nulls":6},15,{"$nulls":5},15,{"$nulls":6},15]
[16,{"$nulls":6},16,{"$nulls":6},16,{"$nulls":5},16,{"$nulls":6},16,{"$nulls":6},16,{"$nulls":5},16,{"$nulls":6},16]
[17,{"$nulls":5},".",17,{"$nulls":5},".",17,{"$nulls":5},17,{"$nulls":5},".",17,{"$nulls":5},".",17,{"$nulls":5},17,{"$nulls":5},".",17]
[18,{"$nulls":6},18,{"$nulls":6},18,{"$nulls":5},18,{"$nulls":6},18,{"$nulls":6},18,{"$nulls":5},18,{"$nulls":6},18]
["Total","Shots",null,null,"Shots",null,null,"Total","Shots",null,null,"Shots",null,null,"Total","Shots",null,null,"Shots",null,"Total","Shots",null,null,"Shots",null,null,"Total","Shots",null,null,"Shots",null,null,"Total","Shots",null,null,"Shots",null,"Total","Shots",null,null,"Shots",null,null,"Total","Shots",null,null,"shots"]
[null,"Ends",null,null,"Ends",null,".",null,"Ends",null,null,"Ends",null,".",null,"Ends",null,null,"Ends",null,null,"Ends",null,null,"Ends",null,".",null,"Ends",null,null,"Ends",null,".",null,"Ends",null,null,"Ends",null,null,"Ends",null,null,"Ends",null,".",null,"Ends",null,null,"Ends"]
["1st Game ",{"$nulls":5},".","2nd Game ",{"$nulls":5},".","3rd Game ",{"$nulls":5},"4th Game",{"$nulls":5},".","5th Game",{"$nulls":5},".","6th Game",{"$nulls":5},"7th Game",{"$nulls":5},".","8th Game"]
["Team No",null,null,"Rink No",{"$nulls":3},"Team No",null,null,"Rink No",{"$nulls":3},"Team No",null,null,"Rink No",null,null,"Team No",null,null,"Rink No",{"$nulls":3},"Team No",null,null,"Rink No",{"$nulls":3},"Team No",null,null,"Rink No",null,null,"Team No",null,null,"Rink No",{"$nulls":3},"Team No",null,null,"Rink No"]
[]
[{"$f":"DRAW!#REF!","v":{"$error":"#REF!"}},null,null,{"$f":"DRAW!#REF!","v":{"$error":"#REF!"}},null,null,".",{"$f":"DRAW!#REF!","v":{"$error":"#REF!"}},null,null,{"$f":"DRAW!#REF!","v":{"$error":"#REF!"}},null,null,".",{"$f":"DRAW!#REF!","v":{"$error":"#REF!"}},null,null,{"$f":"DRAW!#REF!","v":{"$error":"#REF!"}},null,null,{"$f":"DRAW!#REF!","v":{"$error":"#REF!"}},null,null,{"$f":"DRAW!#REF!","v":{"$error":"#REF!"}},null,null,".",{"$f":"DRAW!#REF!","v":{"$error":"#REF!"}},null,null,{"$f":"DRAW!#REF!","v":{"$error":"#REF!"}},null,null,".",{"$f":"DRAW!#REF!","v":{"$error":"#REF!"}},null,null,{"$f":"DRAW!#REF!","v":{"$error":"#REF!"}},null,null,{"$f":"DRAW!#REF!","v":{"$error":"#REF!"}},null,null,{"$f":"DRAW!#REF!","v":{"$error":"#REF!"}},null,null,".",{"$f":"DRAW!#REF!","v":{"$error":"#REF!"}},null,null,{"$f":"DRAW!#REF!","v":{"$error":"#REF!"}}]
[null,"Team",{"$f":"DRAW!#REF!","v":{"$error":"#REF!"}},"V","Team",{"$f":"DRAW!#REF!","v":{"$error":"#REF!"}},null,null,"Team",{"$f":"DRAW!#REF!","v":{"$error":"#REF!"}},"V","Team",{"$f":"DRAW!#REF!","v":{"$error":"#REF!"}},null,null,"Team",{"$f":"DRAW!#REF!","v":{"$error":"#REF!"}},"V","Team",{"$f":"DRAW!#REF!","v":{"$error":"#REF!"}},null,"Team",{"$f":"DRAW!#REF!","v":{"$error":"#REF!"}},"V","Team",{"$f":"DRAW!#REF!","v":{"$error":"#REF!"}},null,null,"Team",{"$f":"DRAW!#REF!","v":{"$error":"#REF!"}},"V","Team",{"$f":"DRAW!#REF!","v":{"$error":"#REF!"}},null,null,"Team",{"$f":"DRAW!#REF!","v":{"$error":"#REF!"}},"V","Team",{"$f":"DRAW!#REF!","v":{"$error":"#REF!"}},null,"Team",{"$f":"DRAW!#REF!","v":{"$error":"#REF!"}},"V","Team",{"$f":"DRAW!#REF!","v":{"$error":"#REF!"}},null,null,"Team",{"$f":"DRAW!#REF!","v":{"$error":"#REF!"}},"V","Team",{"$f":"DRAW!#REF!","v":{"$error":"#REF!"}}]
["Ends","Shots","Total",null,"Shots","Total",null,"Ends","Shots","Total",null,"Shots","Total",null,"Ends","Shots","Total",null,"Shots","Total","Ends","Shots","Total",null,"Shots","Total",null,"Ends","Shots","Total",null,"Shots","Total",null,"Ends","Shots","Total",null,"Shots","Total","Ends","Shots","Total",null,"Shots","Total",null,"Ends","Shots","Total",null,"shots","Totar"]
[1,{"$nulls":5},".",1,{"$nulls":5},".",1,{"$nulls":5},1,{"$nulls":5},".",1,{"$nulls":5},".",1,{"$nulls":5},1,{"$nulls":5},".",1]
[2,{"$nulls":6},2,{"$nulls":6},2,{"$nulls":5},2,{"$nulls":6},2,{"$nulls":6},2,{"$nulls":5},2,{"$nulls":6},2]
[3,{"$nulls":6},3,{"$nulls":6},3,{"$nulls":5},3,{"$nulls":6},3,{"$nulls":6},3,{"$nulls":5},3,{"$nulls":6},3]
[4,{"$nulls":6},4,{"$nulls":6},4,{"$nulls":5},4,{"$nulls":6},4,{"$nulls":6},4,{"$nulls":5},4,{"$nulls":6},4]
[5,{"$nulls":5},".",5,{"$nulls":5},".",5,{"$nulls":5},5,{"$nulls":5},".",5,{"$nulls":5},".",5,{"$nulls":5},5,{"$nulls":5},".",5]
[6,{"$nulls":6},6,{"$nulls":6},6,{"$nulls":5},6,{"$nulls":6},6,{"$nulls":6},6,{"$nulls":5},6,{"$nulls":6},6]
[7,{"$nulls":6},7,{"$nulls":6},7,{"$nulls":5},7,{"$nulls":6},7,{"$nulls":6},7,{"$nulls":5},7,{"$nulls":6},7]
[8,{"$nulls":6},8,{"$nulls":6},8,{"$nulls":5},8,{"$nulls":6},8,{"$nulls":6},8,{"$nulls":5},8,{"$nulls":6},8]
[9,{"$nulls":5},".",9,{"$nulls":5},".",9,{"$nulls":5},9,{"$nulls":5},".",9,{"$nulls":5},".",9,{"$nulls":5},9,{"$nulls":5},".",9]
[10,{"$nulls":6},10,{"$nulls":6},10,{"$nulls":5},10,{"$nulls":6},10,{"$nulls":6},10,{"$nulls":5},10,{"$nulls":6},10]
[11,{"$nulls":6},11,{"$nulls":6},11,{"$nulls":5},11,{"$nulls":6},11,{"$nulls":6},11,{"$nulls":5},11,{"$nulls":6},11]
[12,{"$nulls":6},12,{"$nulls":6},12,{"$nulls":5},12,{"$nulls":6},12,{"$nulls":6},12,{"$nulls":5},12,{"$nulls":6},12]
[13,{"$nulls":5},".",13,{"$nulls":5},".",13,{"$nulls":5},13,{"$nulls":5},".",13,{"$nulls":5},".",13,{"$nulls":5},13,{"$nulls":5},".",13]
[14,{"$nulls":6},14,{"$nulls":6},14,{"$nulls":5},14,{"$nulls":6},14,{"$nulls":6},14,{"$nulls":5},14,{"$nulls":6},14]
[15,{"$nulls":6},15,{"$nulls":6},15,{"$nulls":5},15,{"$nulls":6},15,{"$nulls":6},15,{"$nulls":5},15,{"$nulls":6},15]
[16,{"$nulls":6},16,{"$nulls":6},16,{"$nulls":5},16,{"$nulls":6},16,{"$nulls":6},16,{"$nulls":5},16,{"$nulls":6},16]
[17,{"$nulls":5},".",17,{"$nulls":5},".",17,{"$nulls":5},17,{"$nulls":5},".",17,{"$nulls":5},".",17,{"$nulls":5},17,{"$nulls":5},".",17]
[18,{"$nulls":6},18,{"$nulls":6},18,{"$nulls":5},18,{"$nulls":6},18,{"$nulls":6},18,{"$nulls":5},18,{"$nulls":6},18]
["Total","Shots",null,null,"Shots",null,null,"Total","Shots",null,null,"Shots",null,null,"Total","Shots",null,null,"Shots",null,"Total","Shots",null,null,"Shots",null,null,"Total","Shots",null,null,"Shots",null,null,"Total","Shots",null,null,"Shots",null,"Total","Shots",null,null,"Shots",null,null,"Total","Shots",null,null,"shots"]
[null,"Ends",null,null,"Ends",null,".",null,"Ends",null,null,"Ends",null,".",null,"Ends",null,null,"Ends",null,null,"Ends",null,null,"Ends",null,".",null,"Ends",null,null,"Ends",null,".",null,"Ends",null,null,"Ends",null,null,"Ends",null,null,"Ends",null,".",null,"Ends",null,null,"Ends"]
[]
[]
["1st Game ",{"$nulls":5},".","2nd Game ",{"$nulls":5},".","3rd Game ",{"$nulls":5},"4th Game",{"$nulls":5},".","5th Game",{"$nulls":5},".","6th Game",{"$nulls":5},"7th Game",{"$nulls":5},".","8th Game"]
["Team No",null,null,"Rink No",{"$nulls":3},"Team No",null,null,"Rink No",{"$nulls":3},"Team No",null,null,"Rink No",null,null,"Team No",null,null,"Rink No",{"$nulls":3},"Team No",null,null,"Rink No",{"$nulls":3},"Team No",null,null,"Rink No",null,null,"Team No",null,null,"Rink No",{"$nulls":3},"Team No",null,null,"Rink No"]
[]
[{"$f":"DRAW!#REF!","v":{"$error":"#REF!"}},null,null,{"$f":"DRAW!#REF!","v":{"$error":"#REF!"}},null,null,".",{"$f":"DRAW!#REF!","v":{"$error":"#REF!"}},null,null,{"$f":"DRAW!#REF!","v":{"$error":"#REF!"}},null,null,".",{"$f":"DRAW!#REF!","v":{"$error":"#REF!"}},null,null,{"$f":"DRAW!#REF!","v":{"$error":"#REF!"}},null,null,{"$f":"DRAW!#REF!","v":{"$error":"#REF!"}},null,null,{"$f":"DRAW!#REF!","v":{"$error":"#REF!"}},null,null,".",{"$f":"DRAW!#REF!","v":{"$error":"#REF!"}},null,null,{"$f":"DRAW!#REF!","v":{"$error":"#REF!"}},null,null,".",{"$f":"DRAW!#REF!","v":{"$error":"#REF!"}},null,null,{"$f":"DRAW!#REF!","v":{"$error":"#REF!"}},null,null,{"$f":"DRAW!#REF!","v":{"$error":"#REF!"}},null,null,{"$f":"DRAW!#REF!","v":{"$error":"#REF!"}},null,null,".",{"$f":"DRAW!#REF!","v":{"$error":"#REF!"}},null,null,{"$f":"DRAW!#REF!","v":{"$error":"#REF!"}}]
[null,"Team",{"$f":"DRAW!#REF!","v":{"$error":"#REF!"}},"V","Team",{"$f":"DRAW!#REF!","v":{"$error":"#REF!"}},null,null,"Team",{"$f":"DRAW!#REF!","v":{"$error":"#REF!"}},"V","Team",{"$f":"DRAW!#REF!","v":{"$error":"#REF!"}},null,null,"Team",{"$f":"DRAW!#REF!","v":{"$error":"#REF!"}},"V","Team",{"$f":"DRAW!#REF!","v":{"$error":"#REF!"}},null,"Team",{"$f":"DRAW!#REF!","v":{"$error":"#REF!"}},"V","Team",{"$f":"DRAW!#REF!","v":{"$error":"#REF!"}},null,null,"Team",{"$f":"DRAW!#REF!","v":{"$error":"#REF!"}},"V","Team",{"$f":"DRAW!#REF!","v":{"$error":"#REF!"}},null,null,"Team",{"$f":"DRAW!#REF!","v":{"$error":"#REF!"}},"V","Team",{"$f":"DRAW!#REF!","v":{"$error":"#REF!"}},null,"Team",{"$f":"DRAW!#REF!","v":{"$error":"#REF!"}},"V","Team",{"$f":"DRAW!#REF!","v":{"$error":"#REF!"}},null,null,"Team",{"$f":"DRAW!#REF!","v":{"$error":"#REF!"}},"V","Team",{"$f":"DRAW!#REF!","v":{"$error":"#REF!"}}]
["Ends","Shots","Total",null,"Shots","Total",null,"Ends","Shots","Total",null,"Shots","Total",null,"Ends","Shots","Total",null,"Shots","Total","Ends","Shots","Total",null,"Shots","Total",null,"Ends","Shots","Total",null,"Shots","Total",null,"Ends","Shots","Total",null,"Shots","Total","Ends","Shots","Total",null,"Shots","Total",null,"Ends","Shots","Total",null,"shots","Totar"]
[1,{"$nulls":5},".",1,{"$nulls":5},".",1,{"$nulls":5},1,{"$nulls":5},".",1,{"$nulls":5},".",1,{"$nulls":5},1,{"$nulls":5},".",1]
[2,{"$nulls":6},2,{"$nulls":6},2,{"$nulls":5},2,{"$nulls":6},2,{"$nulls":6},2,{"$nulls":5},2,{"$nulls":6},2]
[3,{"$nulls":6},3,{"$nulls":6},3,{"$nulls":5},3,{"$nulls":6},3,{"$nulls":6},3,{"$nulls":5},3,{"$nulls":6},3]
[4,{"$nulls":6},4,{"$nulls":6},4,{"$nulls":5},4,{"$nulls":6},4,{"$nulls":6},4,{"$nulls":5},4,{"$nulls":6},4]
[5,{"$nulls":5},".",5,{"$nulls":5},".",5,{"$nulls":5},5,{"$nulls":5},".",5,{"$nulls":5},".",5,{"$nulls":5},5,{"$nulls":5},".",5]
[6,{"$nulls":6},6,{"$nulls":6},6,{"$nulls":5},6,{"$nulls":6},6,{"$nulls":6},6,{"$nulls":5},6,{"$nulls":6},6]
[7,{"$nulls":6},7,{"$nulls":6},7,{"$nulls":5},7,{"$nulls":6},7,{"$nulls":6},7,{"$nulls":5},7,{"$nulls":6},7]
[8,{"$nulls":6},8,{"$nulls":6},8,{"$nulls":5},8,{"$nulls":6},8,{"$nulls":6},8,{"$nulls":5},8,{"$nulls":6},8]
[9,{"$nulls":5},".",9,{"$nulls":5},".",9,{"$nulls":5},9,{"$nulls":5},".",9,{"$nulls":5},".",9,{"$nulls":5},9,{"$nulls":5},".",9]
[10,{"$nulls":6},10,{"$nulls":6},10,{"$nulls":5},10,{"$nulls":6},10,{"$nulls":6},10,{"$nulls":5},10,{"$nulls":6},10]
[11,{"$nulls":6},11,{"$nulls":6},11,{"$nulls":5},11,{"$nulls":6},11,{"$nulls":6},11,{"$nulls":5},11,{"$nulls":6},11]
[12,{"$nulls":6},12,{"$nulls":6},12,{"$nulls":5},12,{"$nulls":6},12,{"$nulls":6},12,{"$nulls":5},12,{"$nulls":6},12]
[13,{"$nulls":5},".",13,{"$nulls":5},".",13,{"$nulls":5},13,{"$nulls":5},".",13,{"$nulls":5},".",13,{"$nulls":5},13,{"$nulls":5},".",13]
[14,{"$nulls":6},14,{"$nulls":6},14,{"$nulls":5},14,{"$nulls":6},14,{"$nulls":6},14,{"$nulls":5},14,{"$nulls":6},14]
[15,{"$nulls":6},15,{"$nulls":6},15,{"$nulls":5},15,{"$nulls":6},15,{"$nulls":6},15,{"$nulls":5},15,{"$nulls":6},15]
[16,{"$nulls":6},16,{"$nulls":6},16,{"$nulls":5},16,{"$nulls":6},16,{"$nulls":6},16,{"$nulls":5},16,{"$nulls":6},16]
[17,{"$nulls":5},".",17,{"$nulls":5},".",17,{"$nulls":5},17,{"$nulls":5},".",17,{"$nulls":5},".",17,{"$nulls":5},17,{"$nulls":5},".",17]
[18,{"$nulls":6},18,{"$nulls":6},18,{"$nulls":5},18,{"$nulls":6},18,{"$nulls":6},18,{"$nulls":5},18,{"$nulls":6},18]
["Total","Shots",null,null,"Shots",null,null,"Total","Shots",null,null,"Shots",null,null,"Total","Shots",null,null,"Shots",null,"Total","Shots",null,null,"Shots",null,null,"Total","Shots",null,null,"Shots",null,null,"Total","Shots",null,null,"Shots",null,"Total","Shots",null,null,"Shots",null,null,"Total","Shots",null,null,"shots"]
[null,"Ends",null,null,"Ends",null,".",null,"Ends",null,null,"Ends",null,".",null,"Ends",null,null,"Ends",null,null,"Ends",null,null,"Ends",null,".",null,"Ends",null,null,"Ends",null,".",null,"Ends",null,null,"Ends",null,null,"Ends",null,null,"Ends",null,".",null,"Ends",null,null,"Ends"]
["1st Game ",{"$nulls":5},".","2nd Game ",{"$nulls":5},".","3rd Game ",{"$nulls":5},"4th Game",{"$nulls":5},".","5th Game",{"$nulls":5},".","6th Game",{"$nulls":5},"7th Game",{"$nulls":5},".","8th Game"]
["Team No",null,null,"Rink No",{"$nulls":3},"Team No",null,null,"Rink No",{"$nulls":3},"Team No",null,null,"Rink No",null,null,"Team No",null,null,"Rink No",{"$nulls":3},"Team No",null,null,"Rink No",{"$nulls":3},"Team No",null,null,"Rink No",null,null,"Team No",null,null,"Rink No",{"$nulls":3},"Team No",null,null,"Rink No"]
[]
[{"$f":"DRAW!#REF!","v":{"$error":"#REF!"}},null,null,{"$f":"DRAW!#REF!","v":{"$error":"#REF!"}},null,null,".",{"$f":"DRAW!#REF!","v":{"$error":"#REF!"}},null,null,{"$f":"DRAW!#REF!","v":{"$error":"#REF!"}},null,null,".",{"$f":"DRAW!#REF!","v":{"$error":"#REF!"}},null,null,{"$f":"DRAW!#REF!","v":{"$error":"#REF!"}},null,null,{"$f":"DRAW!#REF!","v":{"$error":"#REF!"}},null,null,{"$f":"DRAW!#REF!","v":{"$error":"#REF!"}},null,null,".",{"$f":"DRAW!#REF!","v":{"$error":"#REF!"}},null,null,{"$f":"DRAW!#REF!","v":{"$error":"#REF!"}},null,null,".",{"$f":"DRAW!#REF!","v":{"$error":"#REF!"}},null,null,{"$f":"DRAW!#REF!","v":{"$error":"#REF!"}},null,null,{"$f":"DRAW!#REF!","v":{"$error":"#REF!"}},null,null,{"$f":"DRAW!#REF!","v":{"$error":"#REF!"}},null,null,".",{"$f":"DRAW!#REF!","v":{"$error":"#REF!"}},null,null,{"$f":"DRAW!#REF!","v":{"$error":"#REF!"}}]
[null,"Team",{"$f":"DRAW!#REF!","v":{"$error":"#REF!"}},"V","Team",{"$f":"DRAW!#REF!","v":{"$error":"#REF!"}},null,null,"Team",{"$f":"DRAW!#REF!","v":{"$error":"#REF!"}},"V","Team",{"$f":"DRAW!#REF!","v":{"$error":"#REF!"}},null,null,"Team",{"$f":"DRAW!#REF!","v":{"$error":"#REF!"}},"V","Team",{"$f":"DRAW!#REF!","v":{"$error":"#REF!"}},null,"Team",{"$f":"DRAW!#REF!","v":{"$error":"#REF!"}},"V","Team",{"$f":"DRAW!#REF!","v":{"$error":"#REF!"}},null,null,"Team",{"$f":"DRAW!#REF!","v":{"$error":"#REF!"}},"V","Team",{"$f":"DRAW!#REF!","v":{"$error":"#REF!"}},null,null,"Team",{"$f":"DRAW!#REF!","v":{"$error":"#REF!"}},"V","Team",{"$f":"DRAW!#REF!","v":{"$error":"#REF!"}},null,"Team",{"$f":"DRAW!#REF!","v":{"$error":"#REF!"}},"V","Team",{"$f":"DRAW!#REF!","v":{"$error":"#REF!"}},null,null,"Team",{"$f":"DRAW!#REF!","v":{"$error":"#REF!"}},"V","Team",{"$f":"DRAW!#REF!","v":{"$error":"#REF!"}}]
["Ends","Shots","Total",null,"Shots","Total",null,"Ends","Shots","Total",null,"Shots","Total",null,"Ends","Shots","Total",null,"Shots","Total","Ends","Shots","Total",null,"Shots","Total",null,"Ends","Shots","Total",null,"Shots","Total",null,"Ends","Shots","Total",null,"Shots","Total","Ends","Shots","Total",null,"Shots","Total",null,"Ends","Shots","Total",null,"shots","Totar"]
[1,{"$nulls":5},".",1,{"$nulls":5},".",1,{"$nulls":5},1,{"$nulls":5},".",1,{"$nulls":5},".",1,{"$nulls":5},1,{"$nulls":5},".",1]
[2,{"$nulls":6},2,{"$nulls":6},2,{"$nulls":5},2,{"$nulls":6},2,{"$nulls":6},2,{"$nulls":5},2,{"$nulls":6},2]
[3,{"$nulls":6},3,{"$nulls":6},3,{"$nulls":5},3,{"$nulls":6},3,{"$nulls":6},3,{"$nulls":5},3,{"$nulls":6},3]
[4,{"$nulls":6},4,{"$nulls":6},4,{"$nulls":5},4,{"$nulls":6},4,{"$nulls":6},4,{"$nulls":5},4,{"$nulls":6},4]
[5,{"$nulls":5},".",5,{"$nulls":5},".",5,{"$nulls":5},5,{"$nulls":5},".",5,{"$nulls":5},".",5,{"$nulls":5},5,{"$nulls":5},".",5]
[6,{"$nulls":6},6,{"$nulls":6},6,{"$nulls":5},6,{"$nulls":6},6,{"$nulls":6},6,{"$nulls":5},6,{"$nulls":6},6]
[7,{"$nulls":6},7,{"$nulls":6},7,{"$nulls":5},7,{"$nulls":6},7,{"$nulls":6},7,{"$nulls":5},7,{"$nulls":6},7]
[8,{"$nulls":6},8,{"$nulls":6},8,{"$nulls":5},8,{"$nulls":6},8,{"$nulls":6},8,{"$nulls":5},8,{"$nulls":6},8]
[9,{"$nulls":5},".",9,{"$nulls":5},".",9,{"$nulls":5},9,{"$nulls":5},".",9,{"$nulls":5},".",9,{"$nulls":5},9,{"$nulls":5},".",9]
[10,{"$nulls":6},10,{"$nulls":6},10,{"$nulls":5},10,{"$nulls":6},10,{"$nulls":6},10,{"$nulls":5},10,{"$nulls":6},10]
[11,{"$nulls":6},11,{"$nulls":6},11,{"$nulls":5},11,{"$nulls":6},11,{"$nulls":6},11,{"$nulls":5},11,{"$nulls":6},11]
[12,{"$nulls":6},12,{"$nulls":6},12,{"$nulls":5},12,{"$nulls":6},12,{"$nulls":6},12,{"$nulls":5},12,{"$nulls":6},12]
[13,{"$nulls":5},".",13,{"$nulls":5},".",13,{"$nulls":5},13,{"$nulls":5},".",13,{"$nulls":5},".",13,{"$nulls":5},13,{"$nulls":5},".",13]
[14,{"$nulls":6},14,{"$nulls":6},14,{"$nulls":5},14,{"$nulls":6},14,{"$nulls":6},14,{"$nulls":5},14,{"$nulls":6},14]
[15,{"$nulls":6},15,{"$nulls":6},15,{"$nulls":5},15,{"$nulls":6},15,{"$nulls":6},15,{"$nulls":5},15,{"$nulls":6},15]
[16,{"$nulls":6},16,{"$nulls":6},16,{"$nulls":5},16,{"$nulls":6},16,{"$nulls":6},16,{"$nulls":5},16,{"$nulls":6},16]
[17,{"$nulls":5},".",17,{"$nulls":5},".",17,{"$nulls":5},17,{"$nulls":5},".",17,{"$nulls":5},".",17,{"$nulls":5},17,{"$nulls":5},".",17]
[18,{"$nulls":6},18,{"$nulls":6},18,{"$nulls":5},18,{"$nulls":6},18,{"$nulls":6},18,{"$nulls":5},18,{"$nulls":6},18]
["Total","Shots",null,null,"Shots",null,null,"Total","Shots",null,null,"Shots",null,null,"Total","Shots",null,null,"Shots",null,"Total","Shots",null,null,"Shots",null,null,"Total","Shots",null,null,"Shots",null,null,"Total","Shots",null,null,"Shots",null,"Total","Shots",null,null,"Shots",null,null,"Total","Shots",null,null,"shots"]
[null,"Ends",null,null,"Ends",null,".",null,"Ends",null,null,"Ends",null,".",null,"Ends",null,null,"Ends",null,null,"Ends",null,null,"Ends",null,".",null,"Ends",null,null,"Ends",null,".",null,"Ends",null,null,"Ends",null,null,"Ends",null,null,"Ends",null,".",null,"Ends",null,null,"Ends"]
[]
[]
["1st Game ",{"$nulls":5},".","2nd Game ",{"$nulls":5},".","3rd Game ",{"$nulls":5},"4th Game",{"$nulls":5},".","5th Game",{"$nulls":5},".","6th Game",{"$nulls":5},"7th Game",{"$nulls":5},".","8th Game"]
["Team No",null,null,"Rink No",{"$nulls":3},"Team No",null,null,"Rink No",{"$nulls":3},"Team No",null,null,"Rink No",null,null,"Team No",null,null,"Rink No",{"$nulls":3},"Team No",null,null,"Rink No",{"$nulls":3},"Team No",null,null,"Rink No",null,null,"Team No",null,null,"Rink No",{"$nulls":3},"Team No",null,null,"Rink No"]
[]
[{"$f":"DRAW!#REF!","v":{"$error":"#REF!"}},null,null,{"$f":"DRAW!#REF!","v":{"$error":"#REF!"}},null,null,".",{"$f":"DRAW!#REF!","v":{"$error":"#REF!"}},null,null,{"$f":"DRAW!#REF!","v":{"$error":"#REF!"}},null,null,".",{"$f":"DRAW!#REF!","v":{"$error":"#REF!"}},null,null,{"$f":"DRAW!#REF!","v":{"$error":"#REF!"}},null,null,{"$f":"DRAW!#REF!","v":{"$error":"#REF!"}},null,null,{"$f":"DRAW!#REF!","v":{"$error":"#REF!"}},null,null,".",{"$f":"DRAW!#REF!","v":{"$error":"#REF!"}},null,null,{"$f":"DRAW!#REF!","v":{"$error":"#REF!"}},null,null,".",{"$f":"DRAW!#REF!","v":{"$error":"#REF!"}},null,null,{"$f":"DRAW!#REF!","v":{"$error":"#REF!"}},null,null,{"$f":"DRAW!#REF!","v":{"$error":"#REF!"}},null,null,{"$f":"DRAW!#REF!","v":{"$error":"#REF!"}},null,null,".",{"$f":"DRAW!#REF!","v":{"$error":"#REF!"}},null,null,{"$f":"DRAW!#REF!","v":{"$error":"#REF!"}}]
[null,"Team",{"$f":"DRAW!#REF!","v":{"$error":"#REF!"}},"V","Team",{"$f":"DRAW!#REF!","v":{"$error":"#REF!"}},null,null,"Team",{"$f":"DRAW!#REF!","v":{"$error":"#REF!"}},"V","Team",{"$f":"DRAW!#REF!","v":{"$error":"#REF!"}},null,null,"Team",{"$f":"DRAW!#REF!","v":{"$error":"#REF!"}},"V","Team",{"$f":"DRAW!#REF!","v":{"$error":"#REF!"}},null,"Team",{"$f":"DRAW!#REF!","v":{"$error":"#REF!"}},"V","Team",{"$f":"DRAW!#REF!","v":{"$error":"#REF!"}},null,null,"Team",{"$f":"DRAW!#REF!","v":{"$error":"#REF!"}},"V","Team",{"$f":"DRAW!#REF!","v":{"$error":"#REF!"}},null,null,"Team",{"$f":"DRAW!#REF!","v":{"$error":"#REF!"}},"V","Team",{"$f":"DRAW!#REF!","v":{"$error":"#REF!"}},null,"Team",{"$f":"DRAW!#REF!","v":{"$error":"#REF!"}},"V","Team",{"$f":"DRAW!#REF!","v":{"$error":"#REF!"}},null,null,"Team",{"$f":"DRAW!#REF!","v":{"$error":"#REF!"}},"V","Team",{"$f":"DRAW!#REF!","v":{"$error":"#REF!"}}]
["Ends","Shots","Total",null,"Shots","Total",null,"Ends","Shots","Total",null,"Shots","Total",null,"Ends","Shots","Total",null,"Shots","Total","Ends","Shots","Total",null,"Shots","Total",null,"Ends","Shots","Total",null,"Shots","Total",null,"Ends","Shots","Total",null,"Shots","Total","Ends","Shots","Total",null,"Shots","Total",null,"Ends","Shots","Total",null,"shots","Totar"]
[1,{"$nulls":5},".",1,{"$nulls":5},".",1,{"$nulls":5},1,{"$nulls":5},".",1,{"$nulls":5},".",1,{"$nulls":5},1,{"$nulls":5},".",1]
[2,{"$nulls":6},2,{"$nulls":6},2,{"$nulls":5},2,{"$nulls":6},2,{"$nulls":6},2,{"$nulls":5},2,{"$nulls":6},2]
[3,{"$nulls":6},3,{"$nulls":6},3,{"$nulls":5},3,{"$nulls":6},3,{"$nulls":6},3,{"$nulls":5},3,{"$nulls":6},3]
[4,{"$nulls":6},4,{"$nulls":6},4,{"$nulls":5},4,{"$nulls":6},4,{"$nulls":6},4,{"$nulls":5},4,{"$nulls":6},4]
[5,{"$nulls":5},".",5,{"$nulls":5},".",5,{"$nulls":5},5,{"$nulls":5},".",5,{"$nulls":5},".",5,{"$nulls":5},5,{"$nulls":5},".",5]
[6,{"$nulls":6},6,{"$nulls":6},6,{"$nulls":5},6,{"$nulls":6},6,{"$nulls":6},6,{"$nulls":5},6,{"$nulls":6},6]
[7,{"$nulls":6},7,{"$nulls":6},7,{"$nulls":5},7,{"$nulls":6},7,{"$nulls":6},7,{"$nulls":5},7,{"$nulls":6},7]
[8,{"$nulls":6},8,{"$nulls":6},8,{"$nulls":5},8,{"$nulls":6},8,{"$nulls":6},8,{"$nulls":5},8,{"$nulls":6},8]
[9,{"$nulls":5},".",9,{"$nulls":5},".",9,{"$nulls":5},9,{"$nulls":5},".",9,{"$nulls":5},".",9,{"$nulls":5},9,{"$nulls":5},".",9]
[10,{"$nulls":6},10,{"$nulls":6},10,{"$nulls":5},10,{"$nulls":6},10,{"$nulls":6},10,{"$nulls":5},10,{"$nulls":6},10]
[11,{"$nulls":6},11,{"$nulls":6},11,{"$nulls":5},11,{"$nulls":6},11,{"$nulls":6},11,{"$nulls":5},11,{"$nulls":6},11]
[12,{"$nulls":6},12,{"$nulls":6},12,{"$nulls":5},12,{"$nulls":6},12,{"$nulls":6},12,{"$nulls":5},12,{"$nulls":6},12]
[13,{"$nulls":5},".",13,{"$nulls":5},".",13,{"$nulls":5},13,{"$nulls":5},".",13,{"$nulls":5},".",13,{"$nulls":5},13,{"$nulls":5},".",13]
[14,{"$nulls":6},14,{"$nulls":6},14,{"$nulls":5},14,{"$nulls":6},14,{"$nulls":6},14,{"$nulls":5},14,{"$nulls":6},14]
[15,{"$nulls":6},15,{"$nulls":6},15,{"$nulls":5},15,{"$nulls":6},15,{"$nulls":6},15,{"$nulls":5},15,{"$nulls":6},15]
[16,{"$nulls":6},16,{"$nulls":6},16,{"$nulls":5},16,{"$nulls":6},16,{"$nulls":6},16,{"$nulls":5},16,{"$nulls":6},16]
[17,{"$nulls":5},".",17,{"$nulls":5},".",17,{"$nulls":5},17,{"$nulls":5},".",17,{"$nulls":5},".",17,{"$nulls":5},17,{"$nulls":5},".",17]
[18,{"$nulls":6},18,{"$nulls":6},18,{"$nulls":5},18,{"$nulls":6},18,{"$nulls":6},18,{"$nulls":5},18,{"$nulls":6},18]
["Total","Shots",null,null,"Shots",null,null,"Total","Shots",null,null,"Shots",null,null,"Total","Shots",null,null,"Shots",null,"Total","Shots",null,null,"Shots",null,null,"Total","Shots",null,null,"Shots",null,null,"Total","Shots",null,null,"Shots",null,"Total","Shots",null,null,"Shots",null,null,"Total","Shots",null,null,"shots"]
[null,"Ends",null,null,"Ends",null,".",null,"Ends",null,null,"Ends",null,".",null,"Ends",null,null,"Ends",null,null,"Ends",null,null,"Ends",null,".",null,"Ends",null,null,"Ends",null,".",null,"Ends",null,null,"Ends",null,null,"Ends",null,null,"Ends",null,".",null,"Ends",null,null,"Ends"]
["1st Game ",{"$nulls":5},".","2nd Game ",{"$nulls":5},".","3rd Game ",{"$nulls":5},"4th Game",{"$nulls":5},".","5th Game",{"$nulls":5},".","6th Game",{"$nulls":5},"7th Game",{"$nulls":5},".","8th Game"]
["Team No",null,null,"Rink No",{"$nulls":3},"Team No",null,null,"Rink No",{"$nulls":3},"Team No",null,null,"Rink No",null,null,"Team No",null,null,"Rink No",{"$nulls":3},"Team No",null,null,"Rink No",{"$nulls":3},"Team No",null,null,"Rink No",null,null,"Team No",null,null,"Rink No",{"$nulls":3},"Team No",null,null,"Rink No"]
[]
[{"$f":"DRAW!#REF!","v":{"$error":"#REF!"}},null,null,{"$f":"DRAW!#REF!","v":{"$error":"#REF!"}},null,null,".",{"$f":"DRAW!#REF!","v":{"$error":"#REF!"}},null,null,{"$f":"DRAW!#REF!","v":{"$error":"#REF!"}},null,null,".",{"$f":"DRAW!#REF!","v":{"$error":"#REF!"}},null,null,{"$f":"DRAW!#REF!","v":{"$error":"#REF!"}},null,null,{"$f":"DRAW!#REF!","v":{"$error":"#REF!"}},null,null,{"$f":"DRAW!#REF!","v":{"$error":"#REF!"}},null,null,".",{"$f":"DRAW!#REF!","v":{"$error":"#REF!"}},null,null,{"$f":"DRAW!#REF!","v":{"$error":"#REF!"}},null,null,".",{"$f":"DRAW!#REF!","v":{"$error":"#REF!"}},null,null,{"$f":"DRAW!#REF!","v":{"$error":"#REF!"}},null,null,{"$f":"DRAW!#REF!","v":{"$error":"#REF!"}},null,null,{"$f":"DRAW!#REF!","v":{"$error":"#REF!"}},null,null,".",{"$f":"DRAW!#REF!","v":{"$error":"#REF!"}},null,null,{"$f":"DRAW!#REF!","v":{"$error":"#REF!"}}]
[null,"Team",{"$f":"DRAW!#REF!","v":{"$error":"#REF!"}},"V","Team",{"$f":"DRAW!#REF!","v":{"$error":"#REF!"}},null,null,"Team",{"$f":"DRAW!#REF!","v":{"$error":"#REF!"}},"V","Team",{"$f":"DRAW!#REF!","v":{"$error":"#REF!"}},null,null,"Team",{"$f":"DRAW!#REF!","v":{"$error":"#REF!"}},"V","Team",{"$f":"DRAW!#REF!","v":{"$error":"#REF!"}},null,"Team",{"$f":"DRAW!#REF!","v":{"$error":"#REF!"}},"V","Team",{"$f":"DRAW!#REF!","v":{"$error":"#REF!"}},null,null,"Team",{"$f":"DRAW!#REF!","v":{"$error":"#REF!"}},"V","Team",{"$f":"DRAW!#REF!","v":{"$error":"#REF!"}},null,null,"Team",{"$f":"DRAW!#REF!","v":{"$error":"#REF!"}},"V","Team",{"$f":"DRAW!#REF!","v":{"$error":"#REF!"}},null,"Team",{"$f":"DRAW!#REF!","v":{"$error":"#REF!"}},"V","Team",{"$f":"DRAW!#REF!","v":{"$error":"#REF!"}},null,null,"Team",{"$f":"DRAW!#REF!","v":{"$error":"#REF!"}},"V","Team",{"$f":"DRAW!#REF!","v":{"$error":"#REF!"}}]
["Ends","Shots","Total",null,"Shots","Total",null,"Ends","Shots","Total",null,"Shots","Total",null,"Ends","Shots","Total",null,"Shots","Total","Ends","Shots","Total",null,"Shots","Total",null,"Ends","Shots","Total",null,"Shots","Total",null,"Ends","Shots","Total",null,"Shots","Total","Ends","Shots","Total",null,"Shots","Total",null,"Ends","Shots","Total",null,"shots","Totar"]
[1,{"$nulls":5},".",1,{"$nulls":5},".",1,{"$nulls":5},1,{"$nulls":5},".",1,{"$nulls":5},".",1,{"$nulls":5},1,{"$nulls":5},".",1]
[2,{"$nulls":6},2,{"$nulls":6},2,{"$nulls":5},2,{"$nulls":6},2,{"$nulls":6},2,{"$nulls":5},2,{"$nulls":6},2]
[3,{"$nulls":6},3,{"$nulls":6},3,{"$nulls":5},3,{"$nulls":6},3,{"$nulls":6},3,{"$nulls":5},3,{"$nulls":6},3]
[4,{"$nulls":6},4,{"$nulls":6},4,{"$nulls":5},4,{"$nulls":6},4,{"$nulls":6},4,{"$nulls":5},4,{"$nulls":6},4]
[5,{"$nulls":5},".",5,{"$nulls":5},".",5,{"$nulls":5},5,{"$nulls":5},".",5,{"$nulls":5},".",5,{"$nulls":5},5,{"$nulls":5},".",5]
[6,{"$nulls":6},6,{"$nulls":6},6,{"$nulls":5},6,{"$nulls":6},6,{"$nulls":6},6,{"$nulls":5},6,{"$nulls":6},6]
[7,{"$nulls":6},7,{"$nulls":6},7,{"$nulls":5},7,{"$nulls":6},7,{"$nulls":6},7,{"$nulls":5},7,{"$nulls":6},7]
[8,{"$nulls":6},8,{"$nulls":6},8,{"$nulls":5},8,{"$nulls":6},8,{"$nulls":6},8,{"$nulls":5},8,{"$nulls":6},8]
[9,{"$nulls":5},".",9,{"$nulls":5},".",9,{"$nulls":5},9,{"$nulls":5},".",9,{"$nulls":5},".",9,{"$nulls":5},9,{"$nulls":5},".",9]
[10,{"$nulls":6},10,{"$nulls":6},10,{"$nulls":5},10,{"$nulls":6},10,{"$nulls":6},10,{"$nulls":5},10,{"$nulls":6},10]
[11,{"$nulls":6},11,{"$nulls":6},11,{"$nulls":5},11,{"$nulls":6},11,{"$nulls":6},11,{"$nulls":5},11,{"$nulls":6},11]
[12,{"$nulls":6},12,{"$nulls":6},12,{"$nulls":5},12,{"$nulls":6},12,{"$nulls":6},12,{"$nulls":5},12,{"$nulls":6},12]
[13,{"$nulls":5},".",13,{"$nulls":5},".",13,{"$nulls":5},13,{"$nulls":5},".",13,{"$nulls":5},".",13,{"$nulls":5},13,{"$nulls":5},".",13]
[14,{"$nulls":6},14,{"$nulls":6},14,{"$nulls":5},14,{"$nulls":6},14,{"$nulls":6},14,{"$nulls":5},14,{"$nulls":6},14]
[15,{"$nulls":6},15,{"$nulls":6},15,{"$nulls":5},15,{"$nulls":6},15,{"$nulls":6},15,{"$nulls":5},15,{"$nulls":6},15]
[16,{"$nulls":6},16,{"$nulls":6},16,{"$nulls":5},16,{"$nulls":6},16,{"$nulls":6},16,{"$nulls":5},16,{"$nulls":6},16]
[17,{"$nulls":5},".",17,{"$nulls":5},".",17,{"$nulls":5},17,{"$nulls":5},".",17,{"$nulls":5},".",17,{"$nulls":5},17,{"$nulls":5},".",17]
[18,{"$nulls":6},18,{"$nulls":6},18,{"$nulls":5},18,{"$nulls":6},18,{"$nulls":6},18,{"$nulls":5},18,{"$nulls":6},18]
["Total","Shots",null,null,"Shots",null,null,"Total","Shots",null,null,"Shots",null,null,"Total","Shots",null,null,"Shots",null,"Total","Shots",null,null,"Shots",null,null,"Total","Shots",null,null,"Shots",null,null,"Total","Shots",null,null,"Shots",null,"Total","Shots",null,null,"Shots",null,null,"Total","Shots",null,null,"shots"]
[null,"Ends",null,null,"Ends",null,".",null,"Ends",null,null,"Ends",null,".",null,"Ends",null,null,"Ends",null,null,"Ends",null,null,"Ends",null,".",null,"Ends",null,null,"Ends",null,".",null,"Ends",null,null,"Ends",null,null,"Ends",null,null,"Ends",null,".",null,"Ends",null,null,"Ends"]
[]
[]
["1st Game ",{"$nulls":5},".","2nd Game ",{"$nulls":5},".","3rd Game ",{"$nulls":5},"4th Game",{"$nulls":5},".","5th Game",{"$nulls":5},".","6th Game",{"$nulls":5},"7th Game",{"$nulls":5},".","8th Game"]
["Team No",null,null,"Rink No",{"$nulls":3},"Team No",null,null,"Rink No",{"$nulls":3},"Team No",null,null,"Rink No",null,null,"Team No",null,null,"Rink No",{"$nulls":3},"Team No",null,null,"Rink No",{"$nulls":3},"Team No",null,null,"Rink No",null,null,"Team No",null,null,"Rink No",{"$nulls":3},"Team No",null,null,"Rink No"]
[]
[{"$f":"DRAW!#REF!","v":{"$error":"#REF!"}},null,null,{"$f":"DRAW!#REF!","v":{"$error":"#REF!"}},null,null,".",{"$f":"DRAW!#REF!","v":{"$error":"#REF!"}},null,null,{"$f":"DRAW!#REF!","v":{"$error":"#REF!"}},null,null,".",{"$f":"DRAW!#REF!","v":{"$error":"#REF!"}},null,null,{"$f":"DRAW!#REF!","v":{"$error":"#REF!"}},null,null,{"$f":"DRAW!#REF!","v":{"$error":"#REF!"}},null,null,{"$f":"DRAW!#REF!","v":{"$error":"#REF!"}},null,null,".",{"$f":"DRAW!#REF!","v":{"$error":"#REF!"}},null,null,{"$f":"DRAW!#REF!","v":{"$error":"#REF!"}},null,null,".",{"$f":"DRAW!#REF!","v":{"$error":"#REF!"}},null,null,{"$f":"DRAW!#REF!","v":{"$error":"#REF!"}},null,null,{"$f":"DRAW!#REF!","v":{"$error":"#REF!"}},null,null,{"$f":"DRAW!#REF!","v":{"$error":"#REF!"}},null,null,".",{"$f":"DRAW!#REF!","v":{"$error":"#REF!"}},null,null,{"$f":"DRAW!#REF!","v":{"$error":"#REF!"}}]
[null,"Team",{"$f":"DRAW!#REF!","v":{"$error":"#REF!"}},"V","Team",{"$f":"DRAW!#REF!","v":{"$error":"#REF!"}},null,null,"Team",{"$f":"DRAW!#REF!","v":{"$error":"#REF!"}},"V","Team",{"$f":"DRAW!#REF!","v":{"$error":"#REF!"}},null,null,"Team",{"$f":"DRAW!#REF!","v":{"$error":"#REF!"}},"V","Team",{"$f":"DRAW!#REF!","v":{"$error":"#REF!"}},null,"Team",{"$f":"DRAW!#REF!","v":{"$error":"#REF!"}},"V","Team",{"$f":"DRAW!#REF!","v":{"$error":"#REF!"}},null,null,"Team",{"$f":"DRAW!#REF!","v":{"$error":"#REF!"}},"V","Team",{"$f":"DRAW!#REF!","v":{"$error":"#REF!"}},null,null,"Team",{"$f":"DRAW!#REF!","v":{"$error":"#REF!"}},"V","Team",{"$f":"DRAW!#REF!","v":{"$error":"#REF!"}},null,"Team",{"$f":"DRAW!#REF!","v":{"$error":"#REF!"}},"V","Team",{"$f":"DRAW!#REF!","v":{"$error":"#REF!"}},null,null,"Team",{"$f":"DRAW!#REF!","v":{"$error":"#REF!"}},"V","Team",{"$f":"DRAW!#REF!","v":{"$error":"#REF!"}}]
["Ends","Shots","Total",null,"Shots","Total",null,"Ends","Shots","Total",null,"Shots","Total",null,"Ends","Shots","Total",null,"Shots","Total","Ends","Shots","Total",null,"Shots","Total",null,"Ends","Shots","Total",null,"Shots","Total",null,"Ends","Shots","Total",null,"Shots","Total","Ends","Shots","Total",null,"Shots","Total",null,"Ends","Shots","Total",null,"shots","Totar"]
[1,{"$nulls":5},".",1,{"$nulls":5},".",1,{"$nulls":5},1,{"$nulls":5},".",1,{"$nulls":5},".",1,{"$nulls":5},1,{"$nulls":5},".",1]
[2,{"$nulls":6},2,{"$nulls":6},2,{"$nulls":5},2,{"$nulls":6},2,{"$nulls":6},2,{"$nulls":5},2,{"$nulls":6},2]
[3,{"$nulls":6},3,{"$nulls":6},3,{"$nulls":5},3,{"$nulls":6},3,{"$nulls":6},3,{"$nulls":5},3,{"$nulls":6},3]
[4,{"$nulls":6},4,{"$nulls":6},4,{"$nulls":5},4,{"$nulls":6},4,{"$nulls":6},4,{"$nulls":5},4,{"$nulls":6},4]
[5,{"$nulls":5},".",5,{"$nulls":5},".",5,{"$nulls":5},5,{"$nulls":5},".",5,{"$nulls":5},".",5,{"$nulls":5},5,{"$nulls":5},".",5]
[6,{"$nulls":6},6,{"$nulls":6},6,{"$nulls":5},6,{"$nulls":6},6,{"$nulls":6},6,{"$nulls":5},6,{"$nulls":6},6]
[7,{"$nulls":6},7,{"$nulls":6},7,{"$nulls":5},7,{"$nulls":6},7,{"$nulls":6},7,{"$nulls":5},7,{"$nulls":6},7]
[8,{"$nulls":6},8,{"$nulls":6},8,{"$nulls":5},8,{"$nulls":6},8,{"$nulls":6},8,{"$nulls":5},8,{"$nulls":6},8]
[9,{"$nulls":5},".",9,{"$nulls":5},".",9,{"$nulls":5},9,{"$nulls":5},".",9,{"$nulls":5},".",9,{"$nulls":5},9,{"$nulls":5},".",9]
[10,{"$nulls":6},10,{"$nulls":6},10,{"$nulls":5},10,{"$nulls":6},10,{"$nulls":6},10,{"$nulls":5},10,{"$nulls":6},10]
[11,{"$nulls":6},11,{"$nulls":6},11,{"$nulls":5},11,{"$nulls":6},11,{"$nulls":6},11,{"$nulls":5},11,{"$nulls":6},11]
[12,{"$nulls":6},12,{"$nulls":6},12,{"$nulls":5},12,{"$nulls":6},12,{"$nulls":6},12,{"$nulls":5},12,{"$nulls":6},12]
[13,{"$nulls":5},".",13,{"$nulls":5},".",13,{"$nulls":5},13,{"$nulls":5},".",13,{"$nulls":5},".",13,{"$nulls":5},13,{"$nulls":5},".",13]
[14,{"$nulls":6},14,{"$nulls":6},14,{"$nulls":5},14,{"$nulls":6},14,{"$nulls":6},14,{"$nulls":5},14,{"$nulls":6},14]
[15,{"$nulls":6},15,{"$nulls":6},15,{"$nulls":5},15,{"$nulls":6},15,{"$nulls":6},15,{"$nulls":5},15,{"$nulls":6},15]
[16,{"$nulls":6},16,{"$nulls":6},16,{"$nulls":5},16,{"$nulls":6},16,{"$nulls":6},16,{"$nulls":5},16,{"$nulls":6},16]
[17,{"$nulls":5},".",17,{"$nulls":5},".",17,{"$nulls":5},17,{"$nulls":5},".",17,{"$nulls":5},".",17,{"$nulls":5},17,{"$nulls":5},".",17]
[18,{"$nulls":6},18,{"$nulls":6},18,{"$nulls":5},18,{"$nulls":6},18,{"$nulls":6},18,{"$nulls":5},18,{"$nulls":6},18]
["Total","Shots",null,null,"Shots",null,null,"Total","Shots",null,null,"Shots",null,null,"Total","Shots",null,null,"Shots",null,"Total","Shots",null,null,"Shots",null,null,"Total","Shots",null,null,"Shots",null,null,"Total","Shots",null,null,"Shots",null,"Total","Shots",null,null,"Shots",null,null,"Total","Shots",null,null,"shots"]
[null,"Ends",null,null,"Ends",null,".",null,"Ends",null,null,"Ends",null,".",null,"Ends",null,null,"Ends",null,null,"Ends",null,null,"Ends",null,".",null,"Ends",null,null,"Ends",null,".",null,"Ends",null,null,"Ends",null,null,"Ends",null,null,"Ends",null,".",null,"Ends",null,null,"Ends"]
["1st Game ",{"$nulls":5},".","2nd Game ",{"$nulls":5},".","3rd Game ",{"$nulls":5},"4th Game",{"$nulls":5},".","5th Game",{"$nulls":5},".","6th Game",{"$nulls":5},"7th Game",{"$nulls":5},".","8th Game"]
["Team No",null,null,"Rink No",{"$nulls":3},"Team No",null,null,"Rink No",{"$nulls":3},"Team No",null,null,"Rink No",null,null,"Team No",null,null,"Rink No",{"$nulls":3},"Team No",null,null,"Rink No",{"$nulls":3},"Team No",null,null,"Rink No",null,null,"Team No",null,null,"Rink No",{"$nulls":3},"Team No",null,null,"Rink No"]
[]
[{"$f":"DRAW!#REF!","v":{"$error":"#REF!"}},null,null,{"$f":"DRAW!#REF!","v":{"$error":"#REF!"}},null,null,".",{"$f":"DRAW!#REF!","v":{"$error":"#REF!"}},null,null,{"$f":"DRAW!#REF!","v":{"$error":"#REF!"}},null,null,".",{"$f":"DRAW!#REF!","v":{"$error":"#REF!"}},null,null,{"$f":"DRAW!#REF!","v":{"$error":"#REF!"}},null,null,{"$f":"DRAW!#REF!","v":{"$error":"#REF!"}},null,null,{"$f":"DRAW!#REF!","v":{"$error":"#REF!"}},null,null,".",{"$f":"DRAW!#REF!","v":{"$error":"#REF!"}},null,null,{"$f":"DRAW!#REF!","v":{"$error":"#REF!"}},null,null,".",{"$f":"DRAW!#REF!","v":{"$error":"#REF!"}},null,null,{"$f":"DRAW!#REF!","v":{"$error":"#REF!"}},null,null,{"$f":"DRAW!#REF!","v":{"$error":"#REF!"}},null,null,{"$f":"DRAW!#REF!","v":{"$error":"#REF!"}},null,null,".",{"$f":"DRAW!#REF!","v":{"$error":"#REF!"}},null,null,{"$f":"DRAW!#REF!","v":{"$error":"#REF!"}}]
[null,"Team",{"$f":"DRAW!#REF!","v":{"$error":"#REF!"}},"V","Team",{"$f":"DRAW!#REF!","v":{"$error":"#REF!"}},null,null,"Team",{"$f":"DRAW!#REF!","v":{"$error":"#REF!"}},"V","Team",{"$f":"DRAW!#REF!","v":{"$error":"#REF!"}},null,null,"Team",{"$f":"DRAW!#REF!","v":{"$error":"#REF!"}},"V","Team",{"$f":"DRAW!#REF!","v":{"$error":"#REF!"}},null,"Team",{"$f":"DRAW!#REF!","v":{"$error":"#REF!"}},"V","Team",{"$f":"DRAW!#REF!","v":{"$error":"#REF!"}},null,null,"Team",{"$f":"DRAW!#REF!","v":{"$error":"#REF!"}},"V","Team",{"$f":"DRAW!#REF!","v":{"$error":"#REF!"}},null,null,"Team",{"$f":"DRAW!#REF!","v":{"$error":"#REF!"}},"V","Team",{"$f":"DRAW!#REF!","v":{"$error":"#REF!"}},null,"Team",{"$f":"DRAW!#REF!","v":{"$error":"#REF!"}},"V","Team",{"$f":"DRAW!#REF!","v":{"$error":"#REF!"}},null,null,"Team",{"$f":"DRAW!#REF!","v":{"$error":"#REF!"}},"V","Team",{"$f":"DRAW!#REF!","v":{"$error":"#REF!"}}]
["Ends","Shots","Total",null,"Shots","Total",null,"Ends","Shots","Total",null,"Shots","Total",null,"Ends","Shots","Total",null,"Shots","Total","Ends","Shots","Total",null,"Shots","Total",null,"Ends","Shots","Total",null,"Shots","Total",null,"Ends","Shots","Total",null,"Shots","Total","Ends","Shots","Total",null,"Shots","Total",null,"Ends","Shots","Total",null,"shots","Totar"]
[1,{"$nulls":5},".",1,{"$nulls":5},".",1,{"$nulls":5},1,{"$nulls":5},".",1,{"$nulls":5},".",1,{"$nulls":5},1,{"$nulls":5},".",1]
[2,{"$nulls":6},2,{"$nulls":6},2,{"$nulls":5},2,{"$nulls":6},2,{"$nulls":6},2,{"$nulls":5},2,{"$nulls":6},2]
[3,{"$nulls":6},3,{"$nulls":6},3,{"$nulls":5},3,{"$nulls":6},3,{"$nulls":6},3,{"$nulls":5},3,{"$nulls":6},3]
[4,{"$nulls":6},4,{"$nulls":6},4,{"$nulls":5},4,{"$nulls":6},4,{"$nulls":6},4,{"$nulls":5},4,{"$nulls":6},4]
[5,{"$nulls":5},".",5,{"$nulls":5},".",5,{"$nulls":5},5,{"$nulls":5},".",5,{"$nulls":5},".",5,{"$nulls":5},5,{"$nulls":5},".",5]
[6,{"$nulls":6},6,{"$nulls":6},6,{"$nulls":5},6,{"$nulls":6},6,{"$nulls":6},6,{"$nulls":5},6,{"$nulls":6},6]
[7,{"$nulls":6},7,{"$nulls":6},7,{"$nulls":5},7,{"$nulls":6},7,{"$nulls":6},7,{"$nulls":5},7,{"$nulls":6},7]
[8,{"$nulls":6},8,{"$nulls":6},8,{"$nulls":5},8,{"$nulls":6},8,{"$nulls":6},8,{"$nulls":5},8,{"$nulls":6},8]
[9,{"$nulls":5},".",9,{"$nulls":5},".",9,{"$nulls":5},9,{"$nulls":5},".",9,{"$nulls":5},".",9,{"$nulls":5},9,{"$nulls":5},".",9]
[10,{"$nulls":6},10,{"$nulls":6},10,{"$nulls":5},10,{"$nulls":6},10,{"$nulls":6},10,{"$nulls":5},10,{"$nulls":6},10]
[11,{"$nulls":6},11,{"$nulls":6},11,{"$nulls":5},11,{"$nulls":6},11,{"$nulls":6},11,{"$nulls":5},11,{"$nulls":6},11]
[12,{"$nulls":6},12,{"$nulls":6},12,{"$nulls":5},12,{"$nulls":6},12,{"$nulls":6},12,{"$nulls":5},12,{"$nulls":6},12]
[13,{"$nulls":5},".",13,{"$nulls":5},".",13,{"$nulls":5},13,{"$nulls":5},".",13,{"$nulls":5},".",13,{"$nulls":5},13,{"$nulls":5},".",13]
[14,{"$nulls":6},14,{"$nulls":6},14,{"$nulls":5},14,{"$nulls":6},14,{"$nulls":6},14,{"$nulls":5},14,{"$nulls":6},14]
[15,{"$nulls":6},15,{"$nulls":6},15,{"$nulls":5},15,{"$nulls":6},15,{"$nulls":6},15,{"$nulls":5},15,{"$nulls":6},15]
[16,{"$nulls":6},16,{"$nulls":6},16,{"$nulls":5},16,{"$nulls":6},16,{"$nulls":6},16,{"$nulls":5},16,{"$nulls":6},16]
[17,{"$nulls":5},".",17,{"$nulls":5},".",17,{"$nulls":5},17,{"$nulls":5},".",17,{"$nulls":5},".",17,{"$nulls":5},17,{"$nulls":5},".",17]
[18,{"$nulls":6},18,{"$nulls":6},18,{"$nulls":5},18,{"$nulls":6},18,{"$nulls":6},18,{"$nulls":5},18,{"$nulls":6},18]
["Total","Shots",null,null,"Shots",null,null,"Total","Shots",null,null,"Shots",null,null,"Total","Shots",null,null,"Shots",null,"Total","Shots",null,null,"Shots",null,null,"Total","Shots",null,null,"Shots",null,null,"Total","Shots",null,null,"Shots",null,"Total","Shots",null,null,"Shots",null,null,"Total","Shots",null,null,"shots"]
[null,"Ends",null,null,"Ends",null,".",null,"Ends",null,null,"Ends",null,".",null,"Ends",null,null,"Ends",null,null,"Ends",null,null,"Ends",null,".",null,"Ends",null,null,"Ends",null,".",null,"Ends",null,null,"Ends",null,null,"Ends",null,null,"Ends",null,".",null,"Ends",null,null,"Ends"]
[]
[]
["1st Game ",{"$nulls":5},".","2nd Game ",{"$nulls":5},".","3rd Game ",{"$nulls":5},"4th Game",{"$nulls":5},".","5th Game",{"$nulls":5},".","6th Game",{"$nulls":5},"7th Game",{"$nulls":5},".","8th Game"]
["Team No",null,null,"Rink No",{"$nulls":3},"Team No",null,null,"Rink No",{"$nulls":3},"Team No",null,null,"Rink No",null,null,"Team No",null,null,"Rink No",{"$nulls":3},"Team No",null,null,"Rink No",{"$nulls":3},"Team No",null,null,"Rink No",null,null,"Team No",null,null,"Rink No",{"$nulls":3},"Team No",null,null,"Rink No"]
[]
[{"$f":"DRAW!#REF!","v":{"$error":"#REF!"}},null,null,{"$f":"DRAW!#REF!","v":{"$error":"#REF!"}},null,null,".",{"$f":"DRAW!#REF!","v":{"$error":"#REF!"}},null,null,{"$f":"DRAW!#REF!","v":{"$error":"#REF!"}},null,null,".",{"$f":"DRAW!#REF!","v":{"$error":"#REF!"}},null,null,{"$f":"DRAW!#REF!","v":{"$error":"#REF!"}},null,null,{"$f":"DRAW!#REF!","v":{"$error":"#REF!"}},null,null,{"$f":"DRAW!#REF!","v":{"$error":"#REF!"}},null,null,".",{"$f":"DRAW!#REF!","v":{"$error":"#REF!"}},null,null,{"$f":"DRAW!#REF!","v":{"$error":"#REF!"}},null,null,".",{"$f":"DRAW!#REF!","v":{"$error":"#REF!"}},null,null,{"$f":"DRAW!#REF!","v":{"$error":"#REF!"}},null,null,{"$f":"DRAW!#REF!","v":{"$error":"#REF!"}},null,null,{"$f":"DRAW!#REF!","v":{"$error":"#REF!"}},null,null,".",{"$f":"DRAW!#REF!","v":{"$error":"#REF!"}},null,null,{"$f":"DRAW!#REF!","v":{"$error":"#REF!"}}]
[null,"Team",{"$f":"DRAW!#REF!","v":{"$error":"#REF!"}},"V","Team",{"$f":"DRAW!#REF!","v":{"$error":"#REF!"}},null,null,"Team",{"$f":"DRAW!#REF!","v":{"$error":"#REF!"}},"V","Team",{"$f":"DRAW!#REF!","v":{"$error":"#REF!"}},null,null,"Team",{"$f":"DRAW!#REF!","v":{"$error":"#REF!"}},"V","Team",{"$f":"DRAW!#REF!","v":{"$error":"#REF!"}},null,"Team",{"$f":"DRAW!#REF!","v":{"$error":"#REF!"}},"V","Team",{"$f":"DRAW!#REF!","v":{"$error":"#REF!"}},null,null,"Team",{"$f":"DRAW!#REF!","v":{"$error":"#REF!"}},"V","Team",{"$f":"DRAW!#REF!","v":{"$error":"#REF!"}},null,null,"Team",{"$f":"DRAW!#REF!","v":{"$error":"#REF!"}},"V","Team",{"$f":"DRAW!#REF!","v":{"$error":"#REF!"}},null,"Team",{"$f":"DRAW!#REF!","v":{"$error":"#REF!"}},"V","Team",{"$f":"DRAW!#REF!","v":{"$error":"#REF!"}},null,null,"Team",{"$f":"DRAW!#REF!","v":{"$error":"#REF!"}},"V","Team",{"$f":"DRAW!#REF!","v":{"$error":"#REF!"}}]
["Ends","Shots","Total",null,"Shots","Total",null,"Ends","Shots","Total",null,"Shots","Total",null,"Ends","Shots","Total",null,"Shots","Total","Ends","Shots","Total",null,"Shots","Total",null,"Ends","Shots","Total",null,"Shots","Total",null,"Ends","Shots","Total",null,"Shots","Total","Ends","Shots","Total",null,"Shots","Total",null,"Ends","Shots","Total",null,"shots","Totar"]
[1,{"$nulls":5},".",1,{"$nulls":5},".",1,{"$nulls":5},1,{"$nulls":5},".",1,{"$nulls":5},".",1,{"$nulls":5},1,{"$nulls":5},".",1]
[2,{"$nulls":6},2,{"$nulls":6},2,{"$nulls":5},2,{"$nulls":6},2,{"$nulls":6},2,{"$nulls":5},2,{"$nulls":6},2]
[3,{"$nulls":6},3,{"$nulls":6},3,{"$nulls":5},3,{"$nulls":6},3,{"$nulls":6},3,{"$nulls":5},3,{"$nulls":6},3]
[4,{"$nulls":6},4,{"$nulls":6},4,{"$nulls":5},4,{"$nulls":6},4,{"$nulls":6},4,{"$nulls":5},4,{"$nulls":6},4]
[5,{"$nulls":5},".",5,{"$nulls":5},".",5,{"$nulls":5},5,{"$nulls":5},".",5,{"$nulls":5},".",5,{"$nulls":5},5,{"$nulls":5},".",5]
[6,{"$nulls":6},6,{"$nulls":6},6,{"$nulls":5},6,{"$nulls":6},6,{"$nulls":6},6,{"$nulls":5},6,{"$nulls":6},6]
[7,{"$nulls":6},7,{"$nulls":6},7,{"$nulls":5},7,{"$nulls":6},7,{"$nulls":6},7,{"$nulls":5},7,{"$nulls":6},7]
[8,{"$nulls":6},8,{"$nulls":6},8,{"$nulls":5},8,{"$nulls":6},8,{"$nulls":6},8,{"$nulls":5},8,{"$nulls":6},8]
[9,{"$nulls":5},".",9,{"$nulls":5},".",9,{"$nulls":5},9,{"$nulls":5},".",9,{"$nulls":5},".",9,{"$nulls":5},9,{"$nulls":5},".",9]
[10,{"$nulls":6},10,{"$nulls":6},10,{"$nulls":5},10,{"$nulls":6},10,{"$nulls":6},10,{"$nulls":5},10,{"$nulls":6},10]
[11,{"$nulls":6},11,{"$nulls":6},11,{"$nulls":5},11,{"$nulls":6},11,{"$nulls":6},11,{"$nulls":5},11,{"$nulls":6},11]
[12,{"$nulls":6},12,{"$nulls":6},12,{"$nulls":5},12,{"$nulls":6},12,{"$nulls":6},12,{"$nulls":5},12,{"$nulls":6},12]
[13,{"$nulls":5},".",13,{"$nulls":5},".",13,{"$nulls":5},13,{"$nulls":5},".",13,{"$nulls":5},".",13,{"$nulls":5},13,{"$nulls":5},".",13]
[14,{"$nulls":6},14,{"$nulls":6},14,{"$nulls":5},14,{"$nulls":6},14,{"$nulls":6},14,{"$nulls":5},14,{"$nulls":6},14]
[15,{"$nulls":6},15,{"$nulls":6},15,{"$nulls":5},15,{"$nulls":6},15,{"$nulls":6},15,{"$nulls":5},15,{"$nulls":6},15]
[16,{"$nulls":6},16,{"$nulls":6},16,{"$nulls":5},16,{"$nulls":6},16,{"$nulls":6},16,{"$nulls":5},16,{"$nulls":6},16]
[17,{"$nulls":5},".",17,{"$nulls":5},".",17,{"$nulls":5},17,{"$nulls":5},".",17,{"$nulls":5},".",17,{"$nulls":5},17,{"$nulls":5},".",17]
[18,{"$nulls":6},18,{"$nulls":6},18,{"$nulls":5},18,{"$nulls":6},18,{"$nulls":6},18,{"$nulls":5},18,{"$nulls":6},18]
["Total","Shots",null,null,"Shots",null,null,"Total","Shots",null,null,"Shots",null,null,"Total","Shots",null,null,"Shots",null,"Total","Shots",null,null,"Shots",null,null,"Total","Shots",null,null,"Shots",null,null,"Total","Shots",null,null,"Shots",null,"Total","Shots",null,null,"Shots",null,null,"Total","Shots",null,null,"shots"]
[null,"Ends",null,null,"Ends",null,".",null,"Ends",null,null,"Ends",null,".",null,"Ends",null,null,"Ends",null,null,"Ends",null,null,"Ends",null,".",null,"Ends",null,null,"Ends",null,".",null,"Ends",null,null,"Ends",null,null,"Ends",null,null,"Ends",null,".",null,"Ends",null,null,"Ends"]

{"sheet":"Half Sheet","index":6,"n_rows":28,"n_cols":14,"rows_kept":28,"hidden":true,"merged":[[0,0,0,5],[0,7,0,12],[0,14,0,19],[1,0,2,2],[1,3,2,5],[1,7,2,9],[1,10,2,12],[1,14,2,16],[1,17,2,19],[3,0,3,2],[3,3,3,5],[3,7,3,9],[3,10,3,12],[3,14,3,16],[3,17,3,19],[24,0,25,0],[24,7,25,7],[24,14,25,14]]}
{"$rows_empty":26}
[{"$nulls":6},".",{"$nulls":6},"."]
[{"$nulls":6},".",{"$nulls":6},"."]

{"sheet":"Sheet2","index":7,"n_rows":579,"n_cols":18,"rows_kept":579,"hidden":true,"merged":[[1,2,1,3],[2,2,2,3],[2,4,2,5],[2,6,2,7],[2,8,2,9],[2,10,2,11],[2,12,2,13],[2,14,2,15],[2,16,2,17],[51,2,51,3],[52,2,52,3],[52,4,52,5],[52,6,52,7],[52,8,52,9],[52,10,52,11],[52,12,52,13],[52,14,52,15],[52,16,52,17],[99,2,99,3],[100,2,100,3],[100,4,100,5],[100,6,100,7],[100,8,100,9],[100,10,100,11],[100,12,100,13],[100,14,100,15],[100,16,100,17],[145,2,145,3],[146,2,146,3],[146,4,146,5],[146,6,146,7],[146,8,146,9],[146,10,146,11],[146,12,146,13],[146,14,146,15],[146,16,146,17],[189,2,189,3],[190,2,190,3],[190,4,190,5],[190,6,190,7],[190,8,190,9],[190,10,190,11],[190,12,190,13],[190,14,190,15],[190,16,190,17],[231,2,231,3],[232,2,232,3],[232,4,232,5],[232,6,232,7],[232,8,232,9],[232,10,232,11],[232,12,232,13],[232,14,232,15],[232,16,232,17],[271,2,271,3],[272,2,272,3],[272,4,272,5],[272,6,272,7],[272,8,272,9],[272,10,272,11],[272,12,272,13],[272,14,272,15],[272,16,272,17],[310,2,310,3],[311,2,311,3],[311,4,311,5],[311,6,311,7],[311,8,311,9],[311,10,311,11],[311,12,311,13],[311,14,311,15],[311,16,311,17],[346,2,346,3],[347,2,347,3],[347,4,347,5],[347,6,347,7],[347,8,347,9],[347,10,347,11],[347,12,347,13],[347,14,347,15],[347,16,347,17],[380,2,380,3],[381,2,381,3],[381,4,381,5],[381,6,381,7],[381,8,381,9],[381,10,381,11],[381,12,381,13],[381,14,381,15],[381,16,381,17],[412,2,412,3],[413,2,413,3],[413,4,413,5],[413,6,413,7],[413,8,413,9],[413,10,413,11],[413,12,413,13],[413,14,413,15],[413,16,413,17],[442,2,442,3],[443,2,443,3],[443,4,443,5],[443,6,443,7],[443,8,443,9],[443,10,443,11],[443,12,443,13],[443,14,443,15],[443,16,443,17],[470,2,470,3],[471,2,471,3],[471,4,471,5],[471,6,471,7],[471,8,471,9],[471,10,471,11],[471,12,471,13],[471,14,471,15],[471,16,471,17],[496,2,496,3],[497,2,497,3],[497,4,497,5],[497,6,497,7],[497,8,497,9],[497,10,497,11],[497,12,497,13],[497,14,497,15],[497,16,497,17],[520,2,520,3],[521,2,521,3],[521,4,521,5],[521,6,521,7],[521,8,521,9],[521,10,521,11],[521,12,521,13],[521,14,521,15],[521,16,521,17],[542,2,542,3],[543,2,543,3],[543,4,543,5],[543,6,543,7],[543,8,543,9],[543,10,543,11],[543,12,543,13],[543,14,543,15],[543,16,543,17],[562,2,562,3],[563,2,563,3],[563,4,563,5],[563,6,563,7],[563,8,563,9],[563,10,563,11],[563,12,563,13],[563,14,563,15],[563,16,563,17]]}
[]
[null,"n","46 STARTERS"]
[null,null,"Round 1",null,"round 2",null,"round 3",null,"round 4",null,"round 5",null,"round 6",null,"round 7",null,"round 8"]
[null,null,"Vs","Rink","Vs","Rink","Vs","Rink","Vs","Rink","Vs","Rink","Vs","Rink","Vs","Rink","Vs","Rink"]
[null,1,29,22,31,2,43,9,30,15,3,4,12,16,32,14,21,26]
[null,2,11,15,41,24,39,11,15,2,8,23,16,1,13,12,26,21]
[null,3,17,12,27,15,11,5,42,28,1,4,26,10,43,20,16,23]
[null,4,32,6,26,28,19,15,25,12,42,19,10,27,11,8,46,2]
[null,5,13,3,39,21,8,24,26,14,25,16,23,7,12,25,22,13]
[null,6,42,14,23,5,34,23,31,18,39,15,22,24,9,4,14,8]
[null,7,19,23,20,14,29,3,36,16,13,28,44,6,37,9,31,17]
[null,8,34,20,33,7,5,24,13,10,2,23,38,8,45,15,35,3]
[null,9,12,13,24,17,21,28,19,1,44,27,18,18,6,4,10,9]
[null,10,45,4,13,20,15,14,16,25,11,21,4,27,27,2,9,9]
[null,11,2,15,16,9,3,5,14,24,10,21,32,23,4,8,45,6]
[null,12,9,13,17,18,13,22,39,3,37,7,1,16,5,25,18,12]
[null,13,5,3,10,20,12,22,8,10,7,28,24,4,2,12,37,15]
[null,14,46,11,34,1,20,17,11,24,29,25,28,15,18,3,6,8]
[null,15,26,17,46,26,10,14,2,2,36,9,17,21,25,6,34,24]
[null,16,41,21,11,9,22,4,10,25,28,13,2,1,33,17,3,23]
[null,17,3,12,12,18,46,7,23,23,40,3,15,21,26,24,39,14]
[null,18,38,2,19,10,25,21,45,27,23,22,9,18,14,3,12,12]
[null,19,7,23,18,10,4,15,9,1,26,6,43,11,24,28,32,16]
[null,20,27,5,7,14,14,17,24,22,46,10,34,3,44,21,38,25]
[null,21,24,10,45,16,9,28,44,7,22,17,42,9,41,1,1,26]
[null,22,44,16,38,22,16,4,34,8,21,17,6,24,39,5,5,13]
[null,23,37,8,6,5,42,16,17,23,18,22,5,7,35,18,44,11]
[null,24,21,10,9,17,35,1,20,22,34,11,13,4,19,28,30,18]
[null,25,36,1,43,27,18,21,4,12,5,16,35,28,15,6,41,10]
[null,26,15,17,4,28,41,2,5,14,19,6,3,10,17,24,2,21]
[null,27,20,5,3,15,33,25,35,9,45,14,46,17,10,2,43,22]
[null,28,31,28,29,12,30,6,40,17,16,13,14,15,42,23,36,7]
[null,29,1,22,28,12,7,3,32,20,14,25,40,14,36,19,42,1]
[null,30,39,27,32,8,28,6,1,15,43,2,33,12,46,22,24,18]
[null,31,28,28,1,2,36,10,6,18,35,8,45,26,38,7,7,17]
[null,32,4,6,30,8,37,27,29,20,33,1,11,23,1,14,19,16]
[null,33,35,19,8,7,27,25,41,11,32,1,30,12,16,17,40,28]
[null,34,8,20,14,1,6,23,22,8,24,11,20,3,40,16,15,24]
[null,35,33,19,44,23,24,1,27,9,31,8,25,28,23,18,8,3]
[null,36,25,1,40,25,31,10,7,16,15,9,41,22,29,19,28,7]
[null,37,23,8,42,3,32,27,38,19,12,7,39,25,7,9,13,15]
[null,38,18,2,22,22,40,13,37,19,41,20,8,8,31,7,20,25]
[null,39,30,27,5,21,2,11,12,3,6,15,37,25,22,5,17,14]
[null,40,43,7,36,25,38,13,28,17,17,3,29,14,34,16,33,28]
[null,41,16,21,2,24,26,2,33,11,38,20,36,22,21,1,25,10]
[null,42,6,14,37,3,23,16,3,28,4,19,21,9,28,23,29,1]
[null,43,40,7,25,27,1,9,46,21,30,2,19,11,3,20,27,22]
[null,44,22,16,35,23,45,8,21,7,9,27,7,6,20,21,23,11]
[null,45,10,4,21,16,44,8,18,27,27,14,31,26,8,15,11,6]
[null,46,14,11,15,26,17,7,43,21,20,10,27,17,30,22,4,2]
[]
[null,null,"44 STARTERS"]
[null,null,"Round 1",null,"round 2",null,"round 3",null,"round 4",null,"round 5",null,"round 6",null,"round 7",null,"round 8"]
[null,null,"Vs","Rink","Vs","Rink","Vs","Rink","Vs","Rink","Vs","Rink","Vs","Rink","Vs","Rink","Vs","Rink"]
[null,1,10,16,9,14,16,23,32,3,33,15,23,24,11,10,6,7]
[null,2,31,22,34,9,4,1,8,20,19,3,29,8,37,19,36,25]
[null,3,18,10,6,15,26,26,7,4,13,8,10,7,19,23,24,16]
[null,4,11,14,8,24,2,1,44,18,9,11,19,15,20,2,29,26]
[null,5,36,2,42,8,18,16,12,28,8,25,14,3,28,14,20,18]
[null,6,14,27,3,15,10,5,13,9,31,10,44,21,9,26,1,7]
[null,7,23,9,19,16,15,22,3,4,16,20,31,1,32,24,22,8]
[null,8,16,8,4,24,27,7,2,20,5,25,12,11,25,15,13,3]
[null,9,30,25,1,14,31,2,35,15,4,11,32,17,6,26,38,1]
[null,10,1,16,44,22,6,5,36,14,17,9,3,7,29,17,27,24]
[null,11,4,14,16,17,42,24,19,7,38,27,22,18,1,10,32,2]
[null,12,26,3,15,12,33,21,5,28,28,23,8,11,16,6,34,15]
[null,13,33,26,30,1,38,19,6,9,3,8,43,23,17,16,8,3]
[null,14,6,27,26,21,28,12,16,5,20,22,5,3,38,9,15,17]
[null,15,44,6,12,12,7,22,43,16,25,4,16,28,34,13,14,17]
[null,16,8,8,11,17,1,23,14,5,7,20,15,28,12,6,19,9]
[null,17,25,19,41,6,35,14,37,22,10,9,18,26,13,16,28,5]
[null,18,3,10,24,7,5,16,20,23,34,1,17,26,21,21,25,12]
[null,19,22,13,7,16,25,28,11,7,2,3,4,15,3,23,16,9]
[null,20,39,1,21,20,29,13,18,23,14,22,37,14,4,2,5,18]
[null,21,38,7,20,20,37,11,41,24,44,2,25,22,18,21,42,10]
[null,22,19,13,35,4,32,15,29,25,41,28,11,18,40,3,7,8]
[null,23,7,9,36,28,34,3,31,17,40,21,1,24,30,11,41,4]
[null,24,43,24,18,7,44,10,39,21,35,5,34,27,36,8,3,16]
[null,25,17,19,43,3,19,28,27,11,15,4,21,22,8,15,18,12]
[null,26,12,3,14,21,3,26,38,8,36,18,33,13,39,7,31,23]
[null,27,37,21,28,25,8,7,25,11,42,19,40,12,43,1,10,24]
[null,28,29,15,27,25,14,12,42,1,12,23,38,20,5,14,17,5]
[null,29,28,15,37,2,20,13,22,25,30,7,2,8,10,17,4,26]
[null,30,9,25,13,1,39,9,34,19,29,7,35,16,23,11,40,22]
[null,31,2,22,40,13,9,2,23,17,6,10,7,1,41,18,26,23]
[null,32,35,23,33,10,22,15,1,3,43,14,9,17,7,24,11,2]
[null,33,13,26,32,10,12,21,40,2,1,15,26,13,44,28,37,6]
[null,34,40,28,2,9,23,3,30,19,18,1,24,27,15,13,12,15]
[null,35,32,23,22,4,17,14,9,15,24,5,30,16,42,22,44,11]
[null,36,5,2,23,28,40,17,10,14,26,18,42,4,24,8,2,25]
[null,37,27,21,29,2,21,11,17,22,39,26,20,14,2,19,33,6]
[null,38,21,7,39,23,13,19,26,8,11,27,28,20,14,9,9,1]
[null,39,20,1,38,23,30,9,24,21,37,26,41,10,26,7,43,20]
[null,40,34,28,31,13,36,17,33,2,23,21,27,12,22,3,30,22]
[null,41,42,17,17,6,43,8,21,24,22,28,39,10,31,18,23,4]
[null,42,41,17,5,8,11,24,28,1,27,19,36,4,35,22,21,10]
[null,43,24,24,25,3,41,8,15,16,32,14,13,23,27,1,39,20]
[null,44,15,6,10,22,24,10,4,18,21,2,6,21,33,28,35,11]
[]
[null,null,"42 STARTERS"]
[null,null,"Round 1",null,"round 2",null,"round 3",null,"round 4",null,"round 5",null,"round 6",null,"round 7",null,"round 8"]
[null,null,"Vs","Rink","Vs","Rink","Vs","Rink","Vs","Rink","Vs","Rink","Vs","Rink","Vs","Rink","Vs","Rink"]
[null,1,2,1,3,13,5,19,7,2,14,14,12,17,13,5,8,8]
[null,2,1,1,4,12,8,16,12,5,13,8,14,18,9,2,5,9]
[null,3,14,2,1,13,7,15,11,4,12,10,13,16,10,1,4,11]
[null,4,13,3,2,12,6,18,10,7,11,9,8,20,12,7,3,11]
[null,5,12,4,14,8,1,19,9,3,10,12,11,15,8,6,2,9]
[null,6,11,5,13,14,4,18,8,1,9,13,10,19,7,4,14,14]
[null,7,10,6,12,9,3,15,1,2,8,11,9,21,6,4,13,10]
[null,8,9,7,11,10,2,16,6,1,7,11,4,20,5,6,1,8]
[null,9,8,7,10,11,14,17,5,3,6,13,7,21,2,2,11,12]
[null,10,7,6,9,11,13,20,4,7,5,12,6,19,3,1,12,13]
[null,11,6,5,8,10,12,21,3,4,4,9,5,15,14,3,9,12]
[null,12,5,4,7,9,11,21,2,5,3,10,1,17,4,7,10,13]
[null,13,4,3,6,14,10,20,14,6,2,8,3,16,1,5,7,10]
[null,14,3,2,5,8,9,17,13,6,1,14,2,18,11,3,6,14]
[null,15,16,8,17,20,19,5,21,9,28,21,26,3,27,12,22,15]
[null,16,15,8,18,19,22,2,26,12,27,15,28,4,23,9,19,16]
[null,17,28,9,15,20,21,1,25,11,26,17,27,2,24,8,18,18]
[null,18,27,10,16,19,20,4,24,14,25,16,22,6,26,14,17,18]
[null,19,26,11,28,15,15,5,23,10,24,19,25,1,22,13,16,16]
[null,20,25,12,27,21,18,4,22,8,23,20,24,5,21,11,28,21]
[null,21,24,13,26,16,17,1,15,9,22,18,23,7,20,11,27,17]
[null,22,23,14,25,17,16,2,20,8,21,18,18,6,19,13,15,15]
[null,23,22,14,24,18,28,3,19,10,20,20,21,7,16,9,25,19]
[null,24,21,13,23,18,27,6,18,14,19,19,20,5,17,8,26,20]
[null,25,20,12,22,17,26,7,17,11,18,16,19,1,28,10,23,19]
[null,26,19,11,21,16,25,7,16,12,17,17,15,3,18,14,24,20]
[null,27,18,10,20,21,24,6,28,13,16,15,17,2,15,12,21,17]
[null,28,17,9,19,15,23,3,27,13,15,21,16,4,25,10,20,21]
[null,29,30,15,31,6,33,12,35,16,42,7,40,10,41,19,36,1]
[null,30,29,15,32,5,36,9,40,19,41,1,42,11,37,16,33,2]
[null,31,42,16,29,6,35,8,39,18,40,3,41,9,38,15,32,4]
[null,32,41,17,30,5,34,11,38,21,39,2,36,13,40,21,31,4]
[null,33,40,18,42,1,29,12,37,17,38,5,39,8,36,20,30,2]
[null,34,39,19,41,7,32,11,36,15,37,6,38,12,35,18,42,7]
[null,35,38,20,40,2,31,8,29,16,36,4,37,14,34,18,41,3]
[null,36,37,21,39,3,30,9,34,15,35,4,32,13,33,20,29,1]
[null,37,36,21,38,4,42,10,33,17,34,6,35,14,30,16,39,5]
[null,38,35,20,37,4,41,13,32,21,33,5,34,12,31,15,40,6]
[null,39,34,19,36,3,40,14,31,18,32,2,33,8,42,17,37,5]
[null,40,33,18,35,2,39,14,30,19,31,3,29,10,32,21,38,6]
[null,41,32,17,34,7,38,13,42,20,30,1,31,9,29,19,35,3]
[null,42,31,16,33,1,37,10,41,20,29,7,30,11,39,17,34,7]
[]
[null,null,"40 STARTERS"]
[null,null,"Round 1",null,"round 2",null,"round 3",null,"round 4",null,"round 5",null,"round 6",null,"round 7",null,"round 8"]
[null,null,"Vs","Rink","Vs","Rink","Vs","Rink","Vs","Rink","Vs","Rink","Vs","Rink","Vs","Rink","Vs","Rink"]
[null,1,2,1,3,13,5,19,7,2,14,14,12,17,13,5,8,8]
[null,2,1,1,4,12,8,16,12,5,13,8,14,18,9,2,5,9]
[null,3,14,2,1,13,7,15,11,4,12,10,13,16,10,1,4,11]
[null,4,13,3,2,12,6,18,10,7,11,9,8,20,12,7,3,11]
[null,5,12,4,14,8,1,19,9,3,10,12,11,15,8,6,2,9]
[null,6,11,5,13,14,4,18,8,1,9,13,10,19,7,4,14,14]
[null,7,10,6,12,9,3,15,1,2,8,11,9,21,6,4,13,10]
[null,8,9,7,11,10,2,16,6,1,7,11,4,20,5,6,1,8]
[null,9,8,7,10,11,14,17,5,3,6,13,7,21,2,2,11,12]
[null,10,7,6,9,11,13,20,4,7,5,12,6,19,3,1,12,13]
[null,11,6,5,8,10,12,21,3,4,4,9,5,15,14,3,9,12]
[null,12,5,4,7,9,11,21,2,5,3,10,1,17,4,7,10,13]
[null,13,4,3,6,14,10,20,14,6,2,8,3,16,1,5,7,10]
[null,14,3,2,5,8,9,17,13,6,1,14,2,18,11,3,6,14]
[null,15,16,8,17,20,19,5,21,9,28,21,26,3,27,12,22,15]
[null,16,15,8,18,19,22,2,26,12,27,15,28,4,23,9,19,16]
[null,17,28,9,15,20,21,1,25,11,26,17,27,2,24,8,18,18]
[null,18,27,10,16,19,20,4,24,14,25,16,22,6,26,14,17,18]
[null,19,26,11,28,15,15,5,23,10,24,19,25,1,22,13,16,16]
[null,20,25,12,27,21,18,4,22,8,23,20,24,5,21,11,28,21]
[null,21,24,13,26,16,17,1,15,9,22,18,23,7,20,11,27,17]
[null,22,23,14,25,17,16,2,20,8,21,18,18,6,19,13,15,15]
[null,23,22,14,24,18,28,3,19,10,20,20,21,7,16,9,25,19]
[null,24,21,13,23,18,27,6,18,14,19,19,20,5,17,8,26,20]
[null,25,20,12,22,17,26,7,17,11,18,16,19,1,28,10,23,19]
[null,26,19,11,21,16,25,7,16,12,17,17,15,3,18,14,24,20]
[null,27,18,10,20,21,24,6,28,13,16,15,17,2,15,12,21,17]
[null,28,17,9,19,15,23,3,27,13,15,21,16,4,25,10,20,21]
[null,29,30,15,31,6,32,11,33,16,35,5,34,8,39,18,36,3]
[null,30,29,15,32,5,34,9,36,17,40,3,38,10,37,21,31,4]
[null,31,40,16,29,6,33,10,35,15,39,2,37,9,36,19,30,4]
[null,32,39,17,30,5,29,11,34,18,38,1,36,12,35,16,40,2]
[null,33,38,18,40,1,31,10,29,16,37,4,35,13,34,20,39,7]
[null,34,37,19,39,4,30,9,32,18,36,6,29,8,33,20,38,5]
[null,35,36,20,38,3,40,12,31,15,29,5,33,13,32,16,37,6]
[null,36,35,20,37,2,39,8,30,17,34,6,32,12,31,19,29,3]
[null,37,34,19,36,2,38,13,40,20,33,4,31,9,30,21,35,6]
[null,38,33,18,35,3,37,13,39,19,32,1,30,10,40,17,34,5]
[null,39,32,17,34,4,36,8,38,19,31,2,40,11,29,18,33,7]
[null,40,31,16,33,1,35,12,37,20,30,3,39,11,38,17,32,2]
[]
[null,null,"38 STARTERS"]
[null,null,"Round 1",null,"round 2",null,"round 3",null,"round 4",null,"round 5",null,"round 6",null,"round 7",null,"round 8"]
[null,null,"Vs","Rink","Vs","Rink","Vs","Rink","Vs","Rink","Vs","Rink","Vs","Rink","Vs","Rink","Vs","Rink"]
[null,1,2,1,3,13,5,19,7,2,14,14,12,17,13,5,8,8]
[null,2,1,1,4,12,8,16,12,5,13,8,14,18,9,2,5,9]
[null,3,14,2,1,13,7,15,11,4,12,10,13,16,10,1,4,11]
[null,4,13,3,2,12,6,18,10,7,11,9,8,20,12,7,3,11]
[null,5,12,4,14,8,1,19,9,3,10,12,11,15,8,6,2,9]
[null,6,11,5,13,14,4,18,8,1,9,13,10,19,7,4,14,14]
[null,7,10,6,12,9,3,15,1,2,8,11,9,21,6,4,13,10]
[null,8,9,7,11,10,2,16,6,1,7,11,4,20,5,6,1,8]
[null,9,8,7,10,11,14,17,5,3,6,13,7,21,2,2,11,12]
[null,10,7,6,9,11,13,20,4,7,5,12,6,19,3,1,12,13]
[null,11,6,5,8,10,12,21,3,4,4,9,5,15,14,3,9,12]
[null,12,5,4,7,9,11,21,2,5,3,10,1,17,4,7,10,13]
[null,13,4,3,6,14,10,20,14,6,2,8,3,16,1,5,7,10]
[null,14,3,2,5,8,9,17,13,6,1,14,2,18,11,3,6,14]
[null,15,16,8,17,20,18,4,19,9,21,19,20,1,25,11,22,17]
[null,16,15,8,18,19,20,2,22,10,26,17,24,3,23,14,17,18]
[null,17,26,9,15,20,19,3,21,8,25,16,23,2,22,12,16,18]
[null,18,25,10,16,19,15,4,20,11,24,15,22,5,21,9,26,16]
[null,19,24,11,26,15,17,3,15,9,23,18,21,6,20,13,25,21]
[null,20,23,12,25,18,16,2,18,11,22,20,15,1,19,13,24,19]
[null,21,22,13,24,17,26,5,17,8,15,19,19,6,18,9,23,20]
[null,22,21,13,23,16,25,1,16,10,20,20,18,5,17,12,15,17]
[null,23,20,12,22,16,24,6,26,13,19,18,17,2,16,14,21,20]
[null,24,19,11,21,17,23,6,25,12,18,15,16,3,26,10,20,19]
[null,25,18,10,20,18,22,1,24,12,17,16,26,4,15,11,19,21]
[null,26,17,9,19,15,21,5,23,13,16,17,25,4,24,10,18,16]
[null,27,28,15,29,6,30,11,31,16,33,5,32,8,37,18,34,3]
[null,28,27,15,30,5,32,9,34,17,38,3,36,10,35,21,29,4]
[null,29,38,16,27,6,31,10,33,15,37,2,35,9,34,19,28,4]
[null,30,37,17,28,5,27,11,32,18,36,1,34,12,33,16,38,2]
[null,31,36,18,38,1,29,10,27,16,35,4,33,13,32,20,37,7]
[null,32,35,19,37,4,28,9,30,18,34,6,27,8,31,20,36,5]
[null,33,34,20,36,3,38,12,29,15,27,5,31,13,30,16,35,6]
[null,34,33,20,35,2,37,8,28,17,32,6,30,12,29,19,27,3]
[null,35,32,19,34,2,36,13,38,20,31,4,29,9,28,21,33,6]
[null,36,31,18,33,3,35,13,37,19,30,1,28,10,38,17,32,5]
[null,37,30,17,32,4,34,8,36,19,29,2,38,11,27,18,31,7]
[null,38,29,16,31,1,33,12,35,20,28,3,37,11,36,17,30,2]
[]
[null,null,"36 STARTERS"]
[null,null,"Round 1",null,"round 2",null,"round 3",null,"round 4",null,"round 5",null,"round 6",null,"round 7",null,"round 8"]
[null,null,"Vs","Rink","Vs","Rink","Vs","Rink","Vs","Rink","Vs","Rink","Vs","Rink","Vs","Rink","Vs","Rink"]
[null,1,2,1,3,13,4,18,5,2,7,12,6,15,11,4,8,10]
[null,2,1,1,4,12,6,16,8,3,12,10,10,17,9,7,3,11]
[null,3,12,2,1,13,5,17,7,1,11,9,9,16,8,5,2,11]
[null,4,11,3,2,12,1,18,6,4,10,8,8,19,7,2,12,9]
[null,5,10,4,12,8,3,17,1,2,9,11,7,20,6,6,11,14]
[null,6,9,5,11,11,2,16,4,4,8,13,1,15,5,6,10,12]
[null,7,8,6,10,10,12,19,3,1,1,12,5,20,4,2,9,13]
[null,8,7,6,9,9,11,15,2,3,6,13,4,19,3,5,1,10]
[null,9,6,5,8,9,10,20,12,6,5,11,3,16,2,7,7,13]
[null,10,5,4,7,10,9,20,11,5,4,8,2,17,12,3,6,12]
[null,11,4,3,6,11,8,15,10,5,3,9,12,18,1,4,5,14]
[null,12,3,2,5,8,7,19,9,6,2,10,11,18,10,3,4,9]
[null,13,14,8,15,20,16,4,17,9,19,19,18,1,23,11,20,17]
[null,14,13,8,16,19,18,2,20,10,24,17,22,3,21,14,15,18]
[null,15,24,9,13,20,17,3,19,8,23,16,21,2,20,12,14,18]
[null,16,23,10,14,19,13,4,18,11,22,15,20,5,19,9,24,16]
[null,17,22,11,24,15,15,3,13,9,21,18,19,6,18,13,23,21]
[null,18,21,12,23,18,14,2,16,11,20,20,13,1,17,13,22,19]
[null,19,20,13,22,17,24,5,15,8,13,19,17,6,16,9,21,20]
[null,20,19,13,21,16,23,1,14,10,18,20,16,5,15,12,13,17]
[null,21,18,12,20,16,22,6,24,13,17,18,15,2,14,14,19,20]
[null,22,17,11,19,17,21,6,23,12,16,15,14,3,24,10,18,19]
[null,23,16,10,18,18,20,1,22,12,15,16,24,4,13,11,17,21]
[null,24,15,9,17,15,19,5,21,13,14,17,23,4,22,10,16,16]
[null,25,26,15,27,6,28,11,29,16,31,5,30,8,35,18,32,3]
[null,26,25,15,28,5,30,9,32,17,36,3,34,10,33,21,27,4]
[null,27,36,16,25,6,29,10,31,15,35,2,33,9,32,19,26,4]
[null,28,35,17,26,5,25,11,30,18,34,1,32,12,31,16,36,2]
[null,29,34,18,36,1,27,10,25,16,33,4,31,13,30,20,35,7]
[null,30,33,19,35,4,26,9,28,18,32,6,25,8,29,20,34,5]
[null,31,32,20,34,3,36,12,27,15,25,5,29,13,28,16,33,6]
[null,32,31,20,33,2,35,8,26,17,30,6,28,12,27,19,25,3]
[null,33,30,19,32,2,34,13,36,20,29,4,27,9,26,21,31,6]
[null,34,29,18,31,3,33,13,35,19,28,1,26,10,36,17,30,5]
[null,35,28,17,30,4,32,8,34,19,27,2,36,11,25,18,29,7]
[null,36,27,16,29,1,31,12,33,20,26,3,35,11,34,17,28,2]
[]
[null,null,"34 STARTERS"]
[null,null,"Round 1",null,"round 2",null,"round 3",null,"round 4",null,"round 5",null,"round 6",null,"round 7",null,"round 8"]
[null,null,"Vs","Rink","Vs","Rink","Vs","Rink","Vs","Rink","Vs","Rink","Vs","Rink","Vs","Rink","Vs","Rink"]
[null,1,2,1,3,13,4,18,5,2,7,12,6,15,11,4,8,10]
[null,2,1,1,4,12,6,16,8,3,12,10,10,17,9,7,3,11]
[null,3,12,2,1,13,5,17,7,1,11,9,9,16,8,5,2,11]
[null,4,11,3,2,12,1,18,6,4,10,8,8,19,7,2,12,9]
[null,5,10,4,12,8,3,17,1,2,9,11,7,20,6,6,11,14]
[null,6,9,5,11,11,2,16,4,4,8,13,1,15,5,6,10,12]
[null,7,8,6,10,10,12,19,3,1,1,12,5,20,4,2,9,13]
[null,8,7,6,9,9,11,15,2,3,6,13,4,19,3,5,1,10]
[null,9,6,5,8,9,10,20,12,6,5,11,3,16,2,7,7,13]
[null,10,5,4,7,10,9,20,11,5,4,8,2,17,12,3,6,12]
[null,11,4,3,6,11,8,15,10,5,3,9,12,18,1,4,5,14]
[null,12,3,2,5,8,7,19,9,6,2,10,11,18,10,3,4,9]
[null,13,14,8,15,20,16,4,17,9,19,19,18,1,23,11,20,17]
[null,14,13,8,16,19,18,2,20,10,24,17,22,3,21,14,15,18]
[null,15,24,9,13,20,17,3,19,8,23,16,21,2,20,12,14,18]
[null,16,23,10,14,19,13,4,18,11,22,15,20,5,19,9,24,16]
[null,17,22,11,24,15,15,3,13,9,21,18,19,6,18,13,23,21]
[null,18,21,12,23,18,14,2,16,11,20,20,13,1,17,13,22,19]
[null,19,20,13,22,17,24,5,15,8,13,19,17,6,16,9,21,20]
[null,20,19,13,21,16,23,1,14,10,18,20,16,5,15,12,13,17]
[null,21,18,12,20,16,22,6,24,13,17,18,15,2,14,14,19,20]
[null,22,17,11,19,17,21,6,23,12,16,15,14,3,24,10,18,19]
[null,23,16,10,18,18,20,1,22,12,15,16,24,4,13,11,17,21]
[null,24,15,9,17,15,19,5,21,13,14,17,23,4,22,10,16,16]
[null,25,26,16,27,6,28,11,29,17,30,2,31,9,32,18,33,4]
[null,26,25,16,28,5,30,9,32,20,34,6,27,13,29,19,31,5]
[null,27,34,17,25,6,29,12,31,18,33,5,26,13,28,20,30,6]
[null,28,33,18,26,5,25,11,30,16,32,4,34,12,27,20,29,2]
[null,29,32,19,34,4,27,12,25,17,31,3,33,11,26,19,28,2]
[null,30,31,20,33,3,26,9,28,16,25,2,32,10,34,17,27,6]
[null,31,30,20,32,2,34,10,27,18,29,3,25,9,33,16,26,5]
[null,32,29,19,31,2,33,13,26,20,28,4,30,10,25,18,34,3]
[null,33,28,18,30,3,32,13,34,19,27,5,29,11,31,16,25,4]
[null,34,27,17,29,4,31,10,33,19,26,6,28,12,30,17,32,3]
[]
[]
[null,null,"32 STARTERS"]
[null,null,"Round 1",null,"round 2",null,"round 3",null,"round 4",null,"round 5",null,"round 6",null,"round 7",null,"round 8"]
[null,null,"Vs","Rink","Vs","Rink","Vs","Rink","Vs","Rink","Vs","Rink","Vs","Rink","Vs","Rink","Vs","Rink"]
[null,1,2,1,3,13,4,18,5,2,7,12,6,15,11,4,8,10]
[null,2,1,1,4,12,6,16,8,3,12,10,10,17,9,7,3,11]
[null,3,12,2,1,13,5,17,7,1,11,9,9,16,8,5,2,11]
[null,4,11,3,2,12,1,18,6,4,10,8,8,19,7,2,12,9]
[null,5,10,4,12,8,3,17,1,2,9,11,7,20,6,6,11,14]
[null,6,9,5,11,11,2,16,4,4,8,13,1,15,5,6,10,12]
[null,7,8,6,10,10,12,19,3,1,1,12,5,20,4,2,9,13]
[null,8,7,6,9,9,11,15,2,3,6,13,4,19,3,5,1,10]
[null,9,6,5,8,9,10,20,12,6,5,11,3,16,2,7,7,13]
[null,10,5,4,7,10,9,20,11,5,4,8,2,17,12,3,6,12]
[null,11,4,3,6,11,8,15,10,5,3,9,12,18,1,4,5,14]
[null,12,3,2,5,8,7,19,9,6,2,10,11,18,10,3,4,9]
[null,13,14,9,15,20,16,4,17,10,18,16,19,2,20,11,21,18]
[null,14,13,9,16,19,18,2,20,13,22,20,15,6,17,12,19,19]
[null,15,22,10,13,20,17,5,19,11,21,19,14,6,16,13,18,20]
[null,16,21,11,14,19,13,4,18,9,20,18,22,5,15,13,17,16]
[null,17,20,12,22,18,15,5,13,10,19,17,21,4,14,12,16,16]
[null,18,19,13,21,17,14,2,16,9,13,16,20,3,22,10,15,20]
[null,19,18,13,20,16,22,3,15,11,17,17,13,2,21,9,14,19]
[null,20,17,12,19,16,21,6,14,13,16,18,18,3,13,11,22,17]
[null,21,16,11,18,17,20,6,22,12,15,19,17,4,19,9,13,18]
[null,22,15,10,17,18,19,3,21,12,14,20,16,5,18,10,20,17]
[null,23,24,16,25,6,26,11,27,17,28,2,29,9,30,18,31,4]
[null,24,23,16,26,5,28,9,30,20,32,6,25,13,27,19,29,5]
[null,25,32,17,23,6,27,12,29,18,31,5,24,13,26,20,28,6]
[null,26,31,18,24,5,23,11,28,16,30,4,32,12,25,20,27,2]
[null,27,30,19,32,4,25,12,23,17,29,3,31,11,24,19,26,2]
[null,28,29,20,31,3,24,9,26,16,23,2,30,10,32,17,25,6]
[null,29,28,20,30,2,32,10,25,18,27,3,23,9,31,16,24,5]
[null,30,27,19,29,2,31,13,24,20,26,4,28,10,23,18,32,3]
[null,31,26,18,28,3,30,13,32,19,25,5,27,11,29,16,23,4]
[null,32,25,17,27,4,29,10,31,19,24,6,26,12,28,17,30,3]
[]
[null,null,"30 STARTERS"]
[null,null,"Round 1",null,"round 2",null,"round 3",null,"round 4",null,"round 5",null,"round 6",null,"round 7",null,"round 8"]
[null,null,"Vs","Rink","Vs","Rink","Vs","Rink","Vs","Rink","Vs","Rink","Vs","Rink","Vs","Rink","Vs","Rink"]
[null,1,2,2,3,13,4,18,5,3,6,9,7,16,8,4,9,11]
[null,2,1,2,4,12,6,16,8,6,10,13,3,20,5,5,7,12]
[null,3,10,3,1,13,5,19,7,4,9,12,2,20,4,6,6,13]
[null,4,9,4,2,12,1,18,6,2,8,11,10,19,3,6,5,9]
[null,5,8,5,10,11,3,19,1,3,7,10,9,18,2,5,4,9]
[null,6,7,6,9,10,2,16,4,2,1,9,8,17,10,3,3,13]
[null,7,6,6,8,9,10,17,3,4,5,10,1,16,9,2,2,12]
[null,8,5,5,7,9,9,20,2,6,4,11,6,17,1,4,10,10]
[null,9,4,4,6,10,8,20,10,5,3,12,5,18,7,2,1,11]
[null,10,3,3,5,11,7,17,9,5,2,13,4,19,6,3,8,10]
[null,11,12,9,13,20,14,4,15,10,16,16,17,2,18,11,19,18]
[null,12,11,9,14,19,16,2,18,13,20,20,13,6,15,12,17,19]
[null,13,20,10,11,20,15,5,17,11,19,19,12,6,14,13,16,20]
[null,14,19,11,12,19,11,4,16,9,18,18,20,5,13,13,15,16]
[null,15,18,12,20,18,13,5,11,10,17,17,19,4,12,12,14,16]
[null,16,17,13,19,17,12,2,14,9,11,16,18,3,20,10,13,20]
[null,17,16,13,18,16,20,3,13,11,15,17,11,2,19,9,12,19]
[null,18,15,12,17,16,19,6,12,13,14,18,16,3,11,11,20,17]
[null,19,14,11,16,17,18,6,20,12,13,19,15,4,17,9,11,18]
[null,20,13,10,15,18,17,3,19,12,12,20,14,5,16,10,18,17]
[null,21,22,16,23,6,24,11,25,17,26,2,27,9,28,18,29,4]
[null,22,21,16,24,5,26,9,28,20,30,6,23,13,25,19,27,5]
[null,23,30,17,21,6,25,12,27,18,29,5,22,13,24,20,26,6]
[null,24,29,18,22,5,21,11,26,16,28,4,30,12,23,20,25,2]
[null,25,28,19,30,4,23,12,21,17,27,3,29,11,22,19,24,2]
[null,26,27,20,29,3,22,9,24,16,21,2,28,10,30,17,23,6]
[null,27,26,20,28,2,30,10,23,18,25,3,21,9,29,16,22,5]
[null,28,25,19,27,2,29,13,22,20,24,4,26,10,21,18,30,3]
[null,29,24,18,26,3,28,13,30,19,23,5,25,11,27,16,21,4]
[null,30,23,17,25,4,27,10,29,19,22,6,24,12,26,17,28,3]
[]
[null,null,"28 STARTERS"]
[null,null,"Round 1",null,"round 2",null,"round 3",null,"round 4",null,"round 5",null,"round 6",null,"round 7",null,"round 8"]
[null,null,"Vs","Rink","Vs","Rink","Vs","Rink","Vs","Rink","Vs","Rink","Vs","Rink","Vs","Rink","Vs","Rink"]
[null,1,2,1,3,13,5,6,6,8,11,3,7,9,14,5,8,12]
[null,2,1,1,4,12,8,3,10,10,7,5,12,13,13,1,14,9]
[null,3,14,2,1,13,7,1,9,11,6,4,11,12,12,3,13,14]
[null,4,13,3,2,12,6,2,8,9,5,7,10,8,11,4,12,10]
[null,5,12,4,14,8,1,6,7,13,4,7,9,14,10,2,11,11]
[null,6,11,5,13,14,4,2,1,8,3,4,8,11,9,6,10,13]
[null,7,10,6,12,11,3,1,5,13,2,5,1,9,8,7,9,8]
[null,8,9,7,11,10,2,3,4,9,14,6,6,11,7,7,1,12]
[null,9,8,7,10,9,14,4,3,11,13,2,5,14,6,6,7,8]
[null,10,7,6,9,9,13,5,2,10,12,1,4,8,5,2,6,13]
[null,11,6,5,8,10,12,7,14,14,1,3,3,12,4,4,5,11]
[null,12,5,4,7,11,11,7,13,12,10,1,2,13,3,3,4,10]
[null,13,4,3,6,14,10,5,12,12,9,2,14,10,2,1,3,14]
[null,14,3,2,5,8,9,4,11,14,8,6,13,10,1,5,2,9]
[null,15,16,8,17,6,19,13,20,1,25,10,21,2,28,12,22,5]
[null,16,15,8,18,5,22,10,24,3,21,12,26,6,27,8,28,2]
[null,17,28,9,15,6,21,8,23,4,20,11,25,5,26,10,27,7]
[null,18,27,10,16,5,20,9,22,2,19,14,24,1,25,11,26,3]
[null,19,26,11,28,1,15,13,21,6,18,14,23,7,24,9,25,4]
[null,20,25,12,27,7,18,9,15,1,17,11,22,4,23,13,24,6]
[null,21,24,13,26,4,17,8,19,6,16,12,15,2,22,14,23,1]
[null,22,23,14,25,3,16,10,18,2,28,13,20,4,21,14,15,5]
[null,23,22,14,24,2,28,11,17,4,27,9,19,7,20,13,21,1]
[null,24,21,13,23,2,27,12,16,3,26,8,18,1,19,9,20,6]
[null,25,20,12,22,3,26,14,28,7,15,10,17,5,18,11,19,4]
[null,26,19,11,21,4,25,14,27,5,24,8,16,6,17,10,18,3]
[null,27,18,10,20,7,24,12,26,5,23,9,28,3,16,8,17,7]
[null,28,17,9,19,1,23,11,25,7,22,13,27,3,15,12,16,2]
[]
[null,null,"26  STARTERS"]
[null,null,"Round 1",null,"round 2",null,"round 3",null,"round 4",null,"round 5",null,"round 6",null,"round 7",null,"round 8"]
[null,null,"Vs","Rink","Vs","Rink","Vs","Rink","Vs","Rink","Vs","Rink","Vs","Rink","Vs","Rink","Vs","Rink"]
[null,1,2,1,3,13,5,6,6,8,11,3,7,9,14,5,8,12]
[null,2,1,1,4,12,8,3,10,10,7,5,12,13,13,1,14,9]
[null,3,14,2,1,13,7,1,9,11,6,4,11,12,12,3,13,14]
[null,4,13,3,2,12,6,2,8,9,5,7,10,8,11,4,12,10]
[null,5,12,4,14,8,1,6,7,13,4,7,9,14,10,2,11,11]
[null,6,11,5,13,14,4,2,1,8,3,4,8,11,9,6,10,13]
[null,7,10,6,12,11,3,1,5,13,2,5,1,9,8,7,9,8]
[null,8,9,7,11,10,2,3,4,9,14,6,6,11,7,7,1,12]
[null,9,8,7,10,9,14,4,3,11,13,2,5,14,6,6,7,8]
[null,10,7,6,9,9,13,5,2,10,12,1,4,8,5,2,6,13]
[null,11,6,5,8,10,12,7,14,14,1,3,3,12,4,4,5,11]
[null,12,5,4,7,11,11,7,13,12,10,1,2,13,3,3,4,10]
[null,13,4,3,6,14,10,5,12,12,9,2,14,10,2,1,3,14]
[null,14,3,2,5,8,9,4,11,14,8,6,13,10,1,5,2,9]
[null,15,16,9,17,6,18,8,21,5,24,10,23,3,20,8,19,2]
[null,16,15,9,18,5,20,10,26,2,21,8,19,6,24,12,22,5]
[null,17,26,8,15,6,19,9,25,3,20,13,18,4,23,10,21,6]
[null,18,25,10,16,5,15,8,24,6,19,12,17,4,22,11,20,3]
[null,19,24,11,26,4,17,9,23,1,18,12,16,6,21,14,15,2]
[null,20,23,12,25,1,16,10,22,4,17,13,26,5,15,8,18,3]
[null,21,22,13,24,3,26,11,15,5,16,8,25,2,19,14,17,6]
[null,22,21,13,23,2,25,12,20,4,26,9,24,1,18,11,16,5]
[null,23,20,12,22,2,24,13,19,1,25,11,15,3,17,10,26,7]
[null,24,19,11,21,3,23,13,18,6,15,10,22,1,16,12,25,4]
[null,25,18,10,20,1,22,12,17,3,23,11,21,2,26,13,24,4]
[null,26,17,8,19,4,21,11,16,2,22,9,20,5,25,13,23,7]
[]
[null,null,"24 STARTERS"]
[null,null,"Round 1",null,"round 2",null,"round 3",null,"round 4",null,"round 5",null,"round 6",null,"round 7",null,"round 8"]
[null,null,"Vs","Rink","Vs","Rink","Vs","Rink","Vs","Rink","Vs","Rink","Vs","Rink","Vs","Rink","Vs","Rink"]
[null,1,2,2,3,13,4,1,7,12,10,3,9,10,6,1,5,9]
[null,2,1,2,4,12,6,3,12,9,7,1,5,13,10,5,8,12]
[null,3,12,1,1,13,5,2,11,10,6,6,4,11,9,3,7,13]
[null,4,11,3,2,12,1,1,10,13,5,5,3,11,8,4,6,10]
[null,5,10,4,12,11,3,2,9,8,4,5,2,13,7,7,1,9]
[null,6,9,5,11,8,2,3,8,11,3,6,12,12,1,1,4,10]
[null,7,8,6,10,10,12,4,1,12,2,1,11,9,5,7,3,13]
[null,8,7,6,9,9,11,5,6,11,12,2,10,8,4,4,2,12]
[null,9,6,5,8,9,10,6,5,8,11,4,1,10,3,3,12,14]
[null,10,5,4,7,10,9,6,4,13,1,3,8,8,2,5,11,11]
[null,11,4,3,6,8,8,5,3,10,9,4,7,9,12,6,10,11]
[null,12,3,1,5,11,7,4,2,9,8,2,6,12,11,6,9,14]
[null,13,14,9,15,6,16,8,19,5,22,10,21,3,18,8,17,2]
[null,14,13,9,16,5,18,10,24,2,19,8,17,6,22,12,20,5]
[null,15,24,8,13,6,17,9,23,3,18,13,16,4,21,10,19,6]
[null,16,23,10,14,5,13,8,22,6,17,12,15,4,20,11,18,3]
[null,17,22,11,24,4,15,9,21,1,16,12,14,6,19,14,13,2]
[null,18,21,12,23,1,14,10,20,4,15,13,24,5,13,8,16,3]
[null,19,20,13,22,3,24,11,13,5,14,8,23,2,17,14,15,6]
[null,20,19,13,21,2,23,12,18,4,24,9,22,1,16,11,14,5]
[null,21,18,12,20,2,22,13,17,1,23,11,13,3,15,10,24,7]
[null,22,17,11,19,3,21,13,16,6,13,10,20,1,14,12,23,4]
[null,23,16,10,18,1,20,12,15,3,21,11,19,2,24,13,22,4]
[null,24,15,8,17,4,19,11,14,2,20,9,18,5,23,13,21,7]
[]
[null,null,"22 STARTERS"]
[null,null,"Round 1",null,"round 2",null,"round 3",null,"round 4",null,"round 5",null,"round 6",null,"round 7",null,"round 8"]
[null,null,"Vs","Rink","Vs","Rink","Vs","Rink","Vs","Rink","Vs","Rink","Vs","Rink","Vs","Rink","Vs","Rink"]
[null,1,2,2,3,13,4,1,7,12,10,3,9,10,6,1,5,9]
[null,2,1,2,4,12,6,3,12,9,7,1,5,13,10,5,8,12]
[null,3,12,1,1,13,5,2,11,10,6,6,4,11,9,3,7,13]
[null,4,11,3,2,12,1,1,10,13,5,5,3,11,8,4,6,10]
[null,5,10,4,12,11,3,2,9,8,4,5,2,13,7,7,1,9]
[null,6,9,5,11,8,2,3,8,11,3,6,12,12,1,1,4,10]
[null,7,8,6,10,10,12,4,1,12,2,1,11,9,5,7,3,13]
[null,8,7,6,9,9,11,5,6,11,12,2,10,8,4,4,2,12]
[null,9,6,5,8,9,10,6,5,8,11,4,1,10,3,3,12,14]
[null,10,5,4,7,10,9,6,4,13,1,3,8,8,2,5,11,11]
[null,11,4,3,6,8,8,5,3,10,9,4,7,9,12,6,10,11]
[null,12,3,1,5,11,7,4,2,9,8,2,6,12,11,6,9,14]
[null,13,14,9,15,6,16,10,17,2,18,11,22,3,20,12,21,4]
[null,14,13,9,16,5,18,12,20,6,22,13,21,2,17,10,19,5]
[null,15,22,10,13,6,17,11,19,3,21,12,20,4,16,13,18,2]
[null,16,21,11,14,5,13,10,18,4,20,9,19,6,15,13,17,3]
[null,17,20,12,22,4,15,11,13,2,19,10,18,5,14,10,16,3]
[null,18,19,13,21,3,14,12,16,4,13,11,17,5,22,9,15,2]
[null,19,18,13,20,2,22,9,15,3,17,10,16,6,21,11,14,5]
[null,20,17,12,19,2,21,13,14,6,16,9,15,4,13,12,22,6]
[null,21,16,11,18,3,20,13,22,5,15,12,14,2,19,11,13,4]
[null,22,15,10,17,4,19,9,21,5,14,13,13,3,18,9,20,6]
[]
[null,null,"20 STARTERS"]
[null,null,"Round 1",null,"round 2",null,"round 3",null,"round 4",null,"round 5",null,"round 6",null,"round 7",null,"round 8"]
[null,null,"Vs","Rink","Vs","Rink","Vs","Rink","Vs","Rink","Vs","Rink","Vs","Rink","Vs","Rink","Vs","Rink"]
[null,1,2,2,3,13,4,3,5,9,6,4,10,10,8,5,9,11]
[null,2,1,2,4,12,6,5,8,13,10,6,9,9,5,3,7,12]
[null,3,10,3,1,13,5,4,7,10,9,5,8,11,4,6,6,9]
[null,4,9,4,2,12,1,3,6,11,8,2,7,13,3,6,5,10]
[null,5,8,5,10,11,3,4,1,9,7,3,6,12,2,3,4,10]
[null,6,7,6,9,10,2,5,4,11,1,4,5,12,10,2,3,9]
[null,7,6,6,8,9,10,2,3,10,5,3,4,13,9,4,2,12]
[null,8,5,5,7,9,9,6,2,13,4,2,3,11,1,5,10,13]
[null,9,4,4,6,10,8,6,10,12,3,5,2,9,7,4,1,11]
[null,10,3,3,5,11,7,2,9,12,2,6,1,10,6,2,8,13]
[null,11,12,9,13,6,14,10,15,2,16,11,20,3,18,12,19,4]
[null,12,11,9,14,5,16,12,18,6,20,13,19,2,15,10,17,5]
[null,13,20,10,11,6,15,11,17,3,19,12,18,4,14,13,16,2]
[null,14,19,11,12,5,11,10,16,4,18,9,17,6,13,13,15,3]
[null,15,18,12,20,4,13,11,11,2,17,10,16,5,12,10,14,3]
[null,16,17,13,19,3,12,12,14,4,11,11,15,5,20,9,13,2]
[null,17,16,13,18,2,20,9,13,3,15,10,14,6,19,11,12,5]
[null,18,15,12,17,2,19,13,12,6,14,9,13,4,11,12,20,6]
[null,19,14,11,16,3,18,13,20,5,13,12,12,2,17,11,11,4]
[null,20,13,10,15,4,17,9,19,5,12,13,11,3,16,9,18,6]
[]
[null,null,"18 STARTERS"]
[null,null,"Round 1",null,"round 2",null,"round 3",null,"round 4",null,"round 5",null,"round 6",null,"round 7",null,"round 8"]
[null,null,"Vs","Rink","Vs","Rink","Vs","Rink","Vs","Rink","Vs","Rink","Vs","Rink","Vs","Rink","Vs","Rink"]
[null,1,2,2,3,13,4,3,5,9,6,4,10,10,8,5,11,2]
[null,2,1,2,4,12,6,5,8,13,10,6,9,9,5,3,7,12]
[null,3,10,3,1,13,5,4,7,10,9,5,8,11,4,6,12,4]
[null,4,9,4,2,12,1,3,6,11,8,2,7,13,3,6,13,10]
[null,5,8,5,10,11,3,4,1,9,7,3,6,12,2,3,14,6]
[null,6,7,6,9,10,2,5,4,11,1,4,5,12,10,2,15,9]
[null,7,6,6,8,9,10,2,3,10,5,3,4,13,9,4,2,12]
[null,8,5,5,7,9,9,6,2,13,4,2,3,11,1,5,16,3]
[null,9,4,4,6,10,8,6,10,12,3,5,2,9,7,4,17,11]
[null,10,3,3,5,11,7,2,9,12,2,6,1,10,6,2,18,13]
[null,11,12,9,13,5,14,10,15,2,16,13,17,3,18,11,1,2]
[null,12,11,9,14,4,16,11,18,5,13,12,15,6,17,12,3,4]
[null,13,18,10,11,5,15,9,17,4,12,12,14,2,16,9,4,10]
[null,14,17,11,12,4,11,10,16,3,18,9,13,2,15,13,5,6]
[null,15,16,12,18,3,13,9,11,2,17,10,12,6,14,13,6,9]
[null,16,15,12,17,2,12,11,14,3,11,13,18,4,13,9,8,3]
[null,17,14,11,16,2,18,12,13,4,15,10,11,3,12,12,9,11]
[null,18,13,10,15,3,17,12,12,5,14,9,16,4,11,11,10,13]
[]
[null,null,"16 STARTERS"]
[null,null,"Round 1",null,"round 2",null,"round 3",null,"round 4",null,"round 5",null,"round 6",null,"round 7",null,"round 8"]
[null,null,"Vs","Rink","Vs","Rink","Vs","Rink","Vs","Rink","Vs","Rink","Vs","Rink","Vs","Rink","Vs","Rink"]
[null,1,2,2,3,12,4,3,5,9,6,6,7,10,8,4,9,12]
[null,2,1,2,4,11,6,4,8,12,3,5,5,13,7,6,10,5]
[null,3,8,3,1,12,5,2,7,11,2,5,4,9,6,2,11,13]
[null,4,7,4,2,11,1,3,6,10,8,2,3,9,5,5,12,9]
[null,5,6,5,8,10,3,2,1,9,7,3,2,13,4,5,13,10]
[null,6,5,5,7,9,2,4,4,10,1,6,8,11,3,2,14,3]
[null,7,4,4,6,9,8,5,3,11,5,3,1,10,2,6,15,2]
[null,8,3,3,5,10,7,5,2,12,4,2,6,11,1,4,16,6]
[null,9,10,9,11,5,12,10,13,2,14,13,15,3,16,11,1,12]
[null,10,9,9,12,4,14,11,16,5,11,12,13,6,15,12,2,5]
[null,11,16,10,9,5,13,9,15,4,10,12,12,2,14,9,3,13]
[null,12,15,11,10,4,9,10,14,3,16,9,11,2,13,13,4,9]
[null,13,14,12,16,3,11,9,9,2,15,10,10,6,12,13,5,10]
[null,14,13,12,15,2,10,11,12,3,9,13,16,4,11,9,6,3]
[null,15,12,11,14,2,16,12,11,4,13,10,9,3,10,12,7,2]
[null,16,11,10,13,3,15,12,10,5,12,9,14,4,9,11,8,6]
[]
[null,null,"14 STARTERS"]
[null,null,"Round 1",null,"round 2",null,"round 3",null,"round 4",null,"round 5",null,"round 6",null,"round 7",null,"round 8"]
[null,null,"Vs","Rink","Vs","Rink","Vs","Rink","Vs","Rink","Vs","Rink","Vs","Rink","Vs","Rink","Vs","Rink"]
[null,1,2,2,8,1,3,6,4,5,13,6,14,3,6,7,5,2]
[null,2,1,2,14,6,4,7,6,4,11,3,13,1,10,2,8,5]
[null,3,14,1,13,4,1,6,5,3,10,1,12,2,9,5,7,6]
[null,4,13,3,12,5,2,7,1,5,9,4,11,7,8,6,6,3]
[null,5,12,4,11,7,14,2,3,3,8,7,10,5,7,1,1,2]
[null,6,11,5,10,3,13,1,2,4,7,2,9,6,1,7,4,3]
[null,7,10,7,9,2,12,3,14,7,6,2,8,4,5,1,3,6]
[null,8,9,6,1,1,11,4,13,2,5,7,7,4,4,6,2,5]
[null,9,8,6,7,2,10,5,12,1,4,4,6,6,3,5,14,7]
[null,10,7,7,6,3,9,5,11,6,3,1,5,5,2,2,13,4]
[null,11,6,5,5,7,8,4,10,6,2,3,4,7,14,4,12,1]
[null,12,5,4,4,5,7,3,9,1,14,5,3,2,13,3,11,1]
[null,13,4,3,3,4,6,1,8,2,1,6,2,1,12,3,10,4]
[null,14,3,1,2,6,5,2,7,7,12,5,1,3,11,4,9,7]