{"text_format":"3","workbook":"xlsx","n_sheets":7,"sheets":["Notes","Players","Sheet1","Score Cards","DRAW","Half Sheet","Sheet3"],"not_rendered":{"images":1,"macros":1,"defined_names":5},"read":"whole","date_system":"1900"}

{"sheet":"Notes","index":0,"n_rows":0,"n_cols":0,"rows_kept":0}

{"sheet":"Players","index":1,"n_rows":59,"n_cols":5,"rows_kept":59}
["Team No.","Lead","Second","Third","Skip"]
[]
[1]
[2]
[3]
[4]
[5]
[6]
[7]
[8]
[9]
[10]
[11]
[12]
[13]
[14]
[15]
[16]
[17]
[18]
[19]
[20]
[21]
[22]
[23]
[24]
[25]
[26]
[27]
[28]
[29]
[30]
[31]
[32]
[33]
[34]
[35]
[36]
[37]
[38]
[39]
[40]
[41]
[42]
[43]
[44]
[45]
[46]
[47]
[48]
[49]
[50]
[51]
[52]
[53]
[54]
[55]
[56]
[57]

{"sheet":"Sheet1","index":2,"n_rows":60,"n_cols":89,"rows_kept":60,"merged":[[0,1,0,88],[1,1,1,88],[2,5,2,7],[2,13,2,16],[2,20,2,25],[3,1,3,2],[3,3,3,8],[3,12,3,17],[3,21,3,26],[3,30,3,35],[3,39,3,44],[3,48,3,53],[3,57,3,62],[3,66,3,71],[3,82,4,87],[4,1,4,2],[4,75,4,81]]}
[null,"Tournament Name etc. Here."]
[null,"Other heading info"]
[{"$nulls":5},"No. of ends =",null,null,15,{"$nulls":4},"Points for a Win=",{"$nulls":3},1,null,null,"Points for Draw=",{"$nulls":5},0.5]
[{"$nulls":3},"ROUND 1",{"$nulls":8},"ROUND 2",{"$nulls":8},"ROUND 3",{"$nulls":8},"ROUND 4",{"$nulls":8},"ROUND 5",{"$nulls":8},"ROUND 6",{"$nulls":8},"ROUND 7",{"$nulls":8},"ROUND 8",{"$nulls":8},{"$f":"SUM(BX7:BX20)-SUM(BY7:BY20)","v":0},{"$f":"SUM(BY7:BY20)-SUM(BX7:BX20)","v":0},{"$f":"IF(MOD(SUM(BZ7:BZ20),$I$3)=0,0,MOD(SUM(BZ7:BZ20),$I$3))","v":0},{"$f":"SUM(CA7:CA20)","v":0},{"$nulls":3},"TOTALS"]
[{"$nulls":5},{"$f":"SUM(F7:F60)-SUM(G7:G60)","v":0},{"$f":"SUM(G7:G60)-SUM(F7:F60)","v":0},{"$f":"IF(MOD(SUM(H7:H60),$I$3)=0,0,MOD(SUM(H7:H60),$I$3))","v":0},{"$nulls":6},{"$f":"SUM(O7:O60)-SUM(P7:P60)","v":0},{"$f":"SUM(P7:P60)-SUM(O7:O60)","v":0},{"$f":"IF(MOD(SUM(Q7:Q60),$I$3)=0,0,MOD(SUM(Q7:Q60),$I$3))","v":0},{"$nulls":6},{"$f":"SUM(X7:X60)-SUM(Y7:Y60)","v":0},{"$f":"SUM(Y7:Y60)-SUM(X7:X60)","v":0},{"$f":"IF(MOD(SUM(Z7:Z60),$I$3)=0,0,MOD(SUM(Z7:Z60),$I$3))","v":0},{"$nulls":6},{"$f":"SUM(AG7:AG60)-SUM(AH7:AH60)","v":0},{"$f":"SUM(AH7:AH60)-SUM(AG7:AG60)","v":0},{"$f":"IF(MOD(SUM(AI7:AI60),$I$3)=0,0,MOD(SUM(AI7:AI60),$I$3))","v":0},{"$nulls":6},{"$f":"SUM(AP7:AP60)-SUM(AQ7:AQ60)","v":0},{"$f":"SUM(AQ7:AQ60)-SUM(AP7:AP60)","v":0},{"$f":"IF(MOD(SUM(AR7:AR60),$I$3)=0,0,MOD(SUM(AR7:AR60),$I$3))","v":0},{"$nulls":6},{"$f":"SUM(AY7:AY60)-SUM(AZ7:AZ60)","v":0},{"$f":"SUM(AZ7:AZ60)-SUM(AY7:AY60)","v":0},{"$f":"IF(MOD(SUM(BA7:BA60),$I$3)=0,0,MOD(SUM(BA7:BA60),$I$3))","v":0},{"$nulls":6},{"$f":"SUM(BH7:BH48)-SUM(BI7:BI48)","v":0},{"$f":"SUM(BI7:BI48)-SUM(BH7:BH48)","v":0},{"$f":"IF(MOD(SUM(BJ7:BJ48),$I$3)=0,0,MOD(SUM(BJ7:BJ48),$I$3))","v":0},{"$nulls":6},{"$f":"SUM(BQ7:BQ48)-SUM(BR7:BR48)","v":0},{"$f":"SUM(BR7:BR48)-SUM(BQ7:BQ48)","v":0},{"$f":"IF(MOD(SUM(BS7:BS48),$I$3)=0,0,MOD(SUM(BS7:BS48),$I$3))","v":0},{"$nulls":4},"ROUND 9"]
[null,"Team","Skips Name","V's","Rink","F","A","Ends","M'gin",null,null,"W/D/L","V's","Rink","F","A","Ends","M'gin",null,null,"W/D/L","V's","Rink","F","A","Ends","M'gin",null,null,"W/D/L","V's","Rink","F","A","Ends","M'gin",null,null,"W/D/L","V's","Rink","F","A","Ends","M'gin",null,null,"W/D/L","V's","Rink","F","A","Ends","M'gin",null,null,"W/D/L","V's","Rink","F","A","Ends","M'gin",null,null,"W/D/L","V's","Rink","F","A","Ends","M'gin",null,null,"W/D/L","F","A","Ends","M'gin",null,null,"W/D/L","Wins","M'gin",null,null,"Ends","Points","Rank"]
[null,1,null,2,1,{"$nulls":3},{"$f":"IF(L7=\"D\",\"D\",IF(L7=\"W\",J7,IF(L7=\"L\",J7,0)))","v":0},{"$f":"IF(F7+G7=0,0,IF(F7+G7>0.1,F7-G7,0))","v":0},{"$f":"IF(L7=\"W\",$R$3,IF(L7=\"D\",$AA$3,0))","v":{"v":0,"d":"0.0"}},{"$f":"IF(F7>G7,\"W\",IF(F7<G7,\"L\",IF(F7=0,\"\",IF(F7=G7,\"D\",0))))","v":""},3,10,{"$nulls":3},{"$f":"IF(U7=\"D\",\"D\",IF(U7=\"W\",S7,IF(U7=\"L\",S7,0)))","v":0},{"$f":"IF(O7+P7=0,0,IF(O7+P7>0.1,O7-P7,0))","v":0},{"$f":"IF(U7=\"W\",$R$3,IF(U7=\"D\",$AA$3,0))","v":{"v":0,"d":"0.0"}},{"$f":"IF(O7>P7,\"W\",IF(O7<P7,\"L\",IF(O7=0,\"\",IF(O7=P7,\"D\",0))))","v":""},5,20,{"$nulls":3},{"$f":"IF(AD7=\"D\",\"D\",IF(AD7=\"W\",AB7,IF(AD7=\"L\",AB7,0)))","v":0},{"$f":"IF(X7+Y7=0,0,IF(X7+Y7>0.1,X7-Y7,0))","v":0},{"$f":"IF(AD7=\"W\",$R$3,IF(AD7=\"D\",$AA$3,0))","v":{"v":0,"d":"0.0"}},{"$f":"IF(X7>Y7,\"W\",IF(X7<Y7,\"L\",IF(X7=0,\"\",IF(X7=Y7,\"D\",0))))","v":""},4,22,{"$nulls":3},{"$f":"IF(AM7=\"D\",\"D\",IF(AM7=\"W\",AK7,IF(AM7=\"L\",AK7,0)))","v":0},{"$f":"IF(AG7+AH7=0,0,IF(AG7+AH7>0.1,AG7-AH7,0))","v":0},{"$f":"IF(AM7=\"W\",$R$3,IF(AM7=\"D\",$AA$3,0))","v":{"v":0,"d":"0.0"}},{"$f":"IF(AG7>AH7,\"W\",IF(AG7<AH7,\"L\",IF(AG7=0,\"\",IF(AG7=AH7,\"D\",0))))","v":""},6,13,{"$nulls":3},{"$f":"IF(AV7=\"D\",\"D\",IF(AV7=\"W\",AT7,IF(AV7=\"L\",AT7,0)))","v":0},{"$f":"IF(AP7+AQ7=0,0,IF(AP7+AQ7>0.1,AP7-AQ7,0))","v":0},{"$f":"IF(AV7=\"W\",$R$3,IF(AV7=\"D\",$AA$3,0))","v":{"v":0,"d":"0.0"}},{"$f":"IF(AP7>AQ7,\"W\",IF(AP7<AQ7,\"L\",IF(AP7=0,\"\",IF(AP7=AQ7,\"D\",0))))","v":""},7,16,{"$nulls":3},{"$f":"IF(BE7=\"D\",\"D\",IF(BE7=\"W\",BC7,IF(BE7=\"L\",BC7,0)))","v":0},{"$f":"IF(AY7+AZ7=0,0,IF(AY7+AZ7>0.1,AY7-AZ7,0))","v":0},{"$f":"IF(BE7=\"W\",$R$3,IF(BE7=\"D\",$AA$3,0))","v":{"v":0,"d":"0.0"}},{"$f":"IF(AY7>AZ7,\"W\",IF(AY7<AZ7,\"L\",IF(AY7=0,\"\",IF(AY7=AZ7,\"D\",0))))","v":""},13,5,{"$nulls":3},{"$f":"IF(BN7=\"D\",\"D\",IF(BN7=\"W\",BL7,IF(BN7=\"L\",BL7,0)))","v":0},{"$f":"IF(BH7+BI7=0,0,IF(BH7+BI7>0.1,BH7-BI7,0))","v":0},{"$f":"IF(BN7=\"W\",$R$3,IF(BN7=\"D\",$AA$3,0))","v":{"v":0,"d":"0.0"}},{"$f":"IF(BH7>BI7,\"W\",IF(BH7<BI7,\"L\",IF(BH7=0,\"\",IF(BH7=BI7,\"D\",0))))","v":""},8,8,{"$nulls":3},{"$f":"IF(BW7=\"D\",\"D\",IF(BW7=\"W\",BU7,IF(BW7=\"L\",BU7,0)))","v":0},{"$f":"IF(BQ7+BR7=0,0,IF(BQ7+BR7>0.1,BQ7-BR7,0))","v":0},{"$f":"IF(BW7=\"W\",$R$3,IF(BW7=\"D\",$AA$3,0))","v":{"v":0,"d":"0.0"}},{"$f":"IF(BQ7>BR7,\"W\",IF(BQ7<BR7,\"L\",IF(BQ7=0,\"\",IF(BQ7=BR7,\"D\",0))))","v":""},{"$nulls":3},{"$f":"IF(CD7=\"D\",\"D\",IF(CD7=\"W\",CB7,IF(CD7=\"L\",CB7,0)))","v":0},{"$f":"IF(BX7+BY7=0,0,IF(BX7+BY7>0.1,BX7-BY7,0))","v":0},{"$f":"IF(CD7=\"W\",1,IF(CD7=\"D\",0.5,0))","v":{"v":0,"d":"0.0"}},{"$f":"IF(BX7>BY7,\"W\",IF(BX7<BY7,\"L\",IF(BX7=0,\"\",IF(BX7=BY7,\"D\",0))))","v":""},{"$f":"K7+T7+AC7+AL7+AU7+BD7+BM7+BV7+CC7","v":0},{"$f":"F7-G7+O7-P7+X7-Y7+AG7-AH7+AP7-AQ7+AY7-AZ7+BH7-BI7+BQ7-BR7","v":0},{"$f":"(CE7*1000000)+(CF7*100)","v":0},{"$f":"(CF7*10000)+(CF7*1000)+CI7","v":0},{"$f":"H7+Q7+Z7+AI7+AR7+BA7+BJ7+BS7+BZ7","v":0},{"$f":"(CE7*$R$3)+CI7","v":0},{"$f":"IF($CG$7:$CG$60=0,\"\",RANK(CG7,$CG$7:$CG$60))","v":""}]
[null,2,null,1,1,{"$nulls":3},{"$f":"IF(L8=\"D\",\"D\",IF(L8=\"W\",J8,IF(L8=\"L\",J8,0)))","v":0},{"$f":"IF(F8+G8=0,0,IF(F8+G8>0.1,F8-G8,0))","v":0},{"$f":"IF(L8=\"W\",$R$3,IF(L8=\"D\",$AA$3,0))","v":{"v":0,"d":"0.0"}},{"$f":"IF(F8>G8,\"W\",IF(F8<G8,\"L\",IF(F8=0,\"\",IF(F8=G8,\"D\",0))))","v":""},4,11,{"$nulls":3},{"$f":"IF(U8=\"D\",\"D\",IF(U8=\"W\",S8,IF(U8=\"L\",S8,0)))","v":0},{"$f":"IF(O8+P8=0,0,IF(O8+P8>0.1,O8-P8,0))","v":0},{"$f":"IF(U8=\"W\",$R$3,IF(U8=\"D\",$AA$3,0))","v":{"v":0,"d":"0.0"}},{"$f":"IF(O8>P8,\"W\",IF(O8<P8,\"L\",IF(O8=0,\"\",IF(O8=P8,\"D\",0))))","v":""},8,18,{"$nulls":3},{"$f":"IF(AD8=\"D\",\"D\",IF(AD8=\"W\",AB8,IF(AD8=\"L\",AB8,0)))","v":0},{"$f":"IF(X8+Y8=0,0,IF(X8+Y8>0.1,X8-Y8,0))","v":0},{"$f":"IF(AD8=\"W\",$R$3,IF(AD8=\"D\",$AA$3,0))","v":{"v":0,"d":"0.0"}},{"$f":"IF(X8>Y8,\"W\",IF(X8<Y8,\"L\",IF(X8=0,\"\",IF(X8=Y8,\"D\",0))))","v":""},6,24,{"$nulls":3},{"$f":"IF(AM8=\"D\",\"D\",IF(AM8=\"W\",AK8,IF(AM8=\"L\",AK8,0)))","v":0},{"$f":"IF(AG8+AH8=0,0,IF(AG8+AH8>0.1,AG8-AH8,0))","v":0},{"$f":"IF(AM8=\"W\",$R$3,IF(AM8=\"D\",$AA$3,0))","v":{"v":0,"d":"0.0"}},{"$f":"IF(AG8>AH8,\"W\",IF(AG8<AH8,\"L\",IF(AG8=0,\"\",IF(AG8=AH8,\"D\",0))))","v":""},10,10,{"$nulls":3},{"$f":"IF(AV8=\"D\",\"D\",IF(AV8=\"W\",AT8,IF(AV8=\"L\",AT8,0)))","v":0},{"$f":"IF(AP8+AQ8=0,0,IF(AP8+AQ8>0.1,AP8-AQ8,0))","v":0},{"$f":"IF(AV8=\"W\",$R$3,IF(AV8=\"D\",$AA$3,0))","v":{"v":0,"d":"0.0"}},{"$f":"IF(AP8>AQ8,\"W\",IF(AP8<AQ8,\"L\",IF(AP8=0,\"\",IF(AP8=AQ8,\"D\",0))))","v":""},12,19,{"$nulls":3},{"$f":"IF(BE8=\"D\",\"D\",IF(BE8=\"W\",BC8,IF(BE8=\"L\",BC8,0)))","v":0},{"$f":"IF(AY8+AZ8=0,0,IF(AY8+AZ8>0.1,AY8-AZ8,0))","v":0},{"$f":"IF(BE8=\"W\",$R$3,IF(BE8=\"D\",$AA$3,0))","v":{"v":0,"d":"0.0"}},{"$f":"IF(AY8>AZ8,\"W\",IF(AY8<AZ8,\"L\",IF(AY8=0,\"\",IF(AY8=AZ8,\"D\",0))))","v":""},9,2,{"$nulls":3},{"$f":"IF(BN8=\"D\",\"D\",IF(BN8=\"W\",BL8,IF(BN8=\"L\",BL8,0)))","v":0},{"$f":"IF(BH8+BI8=0,0,IF(BH8+BI8>0.1,BH8-BI8,0))","v":0},{"$f":"IF(BN8=\"W\",$R$3,IF(BN8=\"D\",$AA$3,0))","v":{"v":0,"d":"0.0"}},{"$f":"IF(BH8>BI8,\"W\",IF(BH8<BI8,\"L\",IF(BH8=0,\"\",IF(BH8=BI8,\"D\",0))))","v":""},5,9,{"$nulls":3},{"$f":"IF(BW8=\"D\",\"D\",IF(BW8=\"W\",BU8,IF(BW8=\"L\",BU8,0)))","v":0},{"$f":"IF(BQ8+BR8=0,0,IF(BQ8+BR8>0.1,BQ8-BR8,0))","v":0},{"$f":"IF(BW8=\"W\",$R$3,IF(BW8=\"D\",$AA$3,0))","v":{"v":0,"d":"0.0"}},{"$f":"IF(BQ8>BR8,\"W\",IF(BQ8<BR8,\"L\",IF(BQ8=0,\"\",IF(BQ8=BR8,\"D\",0))))","v":""},{"$nulls":3},{"$f":"IF(CD8=\"D\",\"D\",IF(CD8=\"W\",CB8,IF(CD8=\"L\",CB8,0)))","v":0},{"$f":"IF(BX8+BY8=0,0,IF(BX8+BY8>0.1,BX8-BY8,0))","v":0},{"$f":"IF(CD8=\"W\",1,IF(CD8=\"D\",0.5,0))","v":{"v":0,"d":"0.0"}},{"$f":"IF(BX8>BY8,\"W\",IF(BX8<BY8,\"L\",IF(BX8=0,\"\",IF(BX8=BY8,\"D\",0))))","v":""},{"$f":"K8+T8+AC8+AL8+AU8+BD8+BM8+BV8+CC8","v":0},{"$f":"F8-G8+O8-P8+X8-Y8+AG8-AH8+AP8-AQ8+AY8-AZ8+BH8-BI8+BQ8-BR8","v":0},{"$f":"(CE8*1000000)+(CF8*100)","v":0},{"$f":"(CF8*10000)+(CF8*1000)+CI8","v":0},{"$f":"H8+Q8+Z8+AI8+AR8+BA8+BJ8+BS8+BZ8","v":0},{"$f":"(CE8*$R$3)+CI8","v":0},{"$f":"IF($CG$7:$CG$60=0,\"\",RANK(CG8,$CG$7:$CG$60))","v":""}]
[null,3,null,54,2,{"$nulls":3},{"$f":"IF(L9=\"D\",\"D\",IF(L9=\"W\",J9,IF(L9=\"L\",J9,0)))","v":0},{"$f":"IF(F9+G9=0,0,IF(F9+G9>0.1,F9-G9,0))","v":0},{"$f":"IF(L9=\"W\",$R$3,IF(L9=\"D\",$AA$3,0))","v":{"v":0,"d":"0.0"}},{"$f":"IF(F9>G9,\"W\",IF(F9<G9,\"L\",IF(F9=0,\"\",IF(F9=G9,\"D\",0))))","v":""},1,10,{"$nulls":3},{"$f":"IF(U9=\"D\",\"D\",IF(U9=\"W\",S9,IF(U9=\"L\",S9,0)))","v":0},{"$f":"IF(O9+P9=0,0,IF(O9+P9>0.1,O9-P9,0))","v":0},{"$f":"IF(U9=\"W\",$R$3,IF(U9=\"D\",$AA$3,0))","v":{"v":0,"d":"0.0"}},{"$f":"IF(O9>P9,\"W\",IF(O9<P9,\"L\",IF(O9=0,\"\",IF(O9=P9,\"D\",0))))","v":""},7,15,{"$nulls":3},{"$f":"IF(AD9=\"D\",\"D\",IF(AD9=\"W\",AB9,IF(AD9=\"L\",AB9,0)))","v":0},{"$f":"IF(X9+Y9=0,0,IF(X9+Y9>0.1,X9-Y9,0))","v":0},{"$f":"IF(AD9=\"W\",$R$3,IF(AD9=\"D\",$AA$3,0))","v":{"v":0,"d":"0.0"}},{"$f":"IF(X9>Y9,\"W\",IF(X9<Y9,\"L\",IF(X9=0,\"\",IF(X9=Y9,\"D\",0))))","v":""},5,23,{"$nulls":3},{"$f":"IF(AM9=\"D\",\"D\",IF(AM9=\"W\",AK9,IF(AM9=\"L\",AK9,0)))","v":0},{"$f":"IF(AG9+AH9=0,0,IF(AG9+AH9>0.1,AG9-AH9,0))","v":0},{"$f":"IF(AM9=\"W\",$R$3,IF(AM9=\"D\",$AA$3,0))","v":{"v":0,"d":"0.0"}},{"$f":"IF(AG9>AH9,\"W\",IF(AG9<AH9,\"L\",IF(AG9=0,\"\",IF(AG9=AH9,\"D\",0))))","v":""},9,11,{"$nulls":3},{"$f":"IF(AV9=\"D\",\"D\",IF(AV9=\"W\",AT9,IF(AV9=\"L\",AT9,0)))","v":0},{"$f":"IF(AP9+AQ9=0,0,IF(AP9+AQ9>0.1,AP9-AQ9,0))","v":0},{"$f":"IF(AV9=\"W\",$R$3,IF(AV9=\"D\",$AA$3,0))","v":{"v":0,"d":"0.0"}},{"$f":"IF(AP9>AQ9,\"W\",IF(AP9<AQ9,\"L\",IF(AP9=0,\"\",IF(AP9=AQ9,\"D\",0))))","v":""},11,18,{"$nulls":3},{"$f":"IF(BE9=\"D\",\"D\",IF(BE9=\"W\",BC9,IF(BE9=\"L\",BC9,0)))","v":0},{"$f":"IF(AY9+AZ9=0,0,IF(AY9+AZ9>0.1,AY9-AZ9,0))","v":0},{"$f":"IF(BE9=\"W\",$R$3,IF(BE9=\"D\",$AA$3,0))","v":{"v":0,"d":"0.0"}},{"$f":"IF(AY9>AZ9,\"W\",IF(AY9<AZ9,\"L\",IF(AY9=0,\"\",IF(AY9=AZ9,\"D\",0))))","v":""},10,1,{"$nulls":3},{"$f":"IF(BN9=\"D\",\"D\",IF(BN9=\"W\",BL9,IF(BN9=\"L\",BL9,0)))","v":0},{"$f":"IF(BH9+BI9=0,0,IF(BH9+BI9>0.1,BH9-BI9,0))","v":0},{"$f":"IF(BN9=\"W\",$R$3,IF(BN9=\"D\",$AA$3,0))","v":{"v":0,"d":"0.0"}},{"$f":"IF(BH9>BI9,\"W\",IF(BH9<BI9,\"L\",IF(BH9=0,\"\",IF(BH9=BI9,\"D\",0))))","v":""},4,11,{"$nulls":3},{"$f":"IF(BW9=\"D\",\"D\",IF(BW9=\"W\",BU9,IF(BW9=\"L\",BU9,0)))","v":0},{"$f":"IF(BQ9+BR9=0,0,IF(BQ9+BR9>0.1,BQ9-BR9,0))","v":0},{"$f":"IF(BW9=\"W\",$R$3,IF(BW9=\"D\",$AA$3,0))","v":{"v":0,"d":"0.0"}},{"$f":"IF(BQ9>BR9,\"W\",IF(BQ9<BR9,\"L\",IF(BQ9=0,\"\",IF(BQ9=BR9,\"D\",0))))","v":""},{"$nulls":3},{"$f":"IF(CD9=\"D\",\"D\",IF(CD9=\"W\",CB9,IF(CD9=\"L\",CB9,0)))","v":0},{"$f":"IF(BX9+BY9=0,0,IF(BX9+BY9>0.1,BX9-BY9,0))","v":0},{"$f":"IF(CD9=\"W\",1,IF(CD9=\"D\",0.5,0))","v":{"v":0,"d":"0.0"}},{"$f":"IF(BX9>BY9,\"W\",IF(BX9<BY9,\"L\",IF(BX9=0,\"\",IF(BX9=BY9,\"D\",0))))","v":""},{"$f":"K9+T9+AC9+AL9+AU9+BD9+BM9+BV9+CC9","v":0},{"$f":"F9-G9+O9-P9+X9-Y9+AG9-AH9+AP9-AQ9+AY9-AZ9+BH9-BI9+BQ9-BR9","v":0},0,{"$f":"(CF9*10000)+(CF9*1000)+CI9","v":0},{"$f":"H9+Q9+Z9+AI9+AR9+BA9+BJ9+BS9+BZ9","v":0},{"$f":"(CE9*$R$3)+CI9","v":0},{"$f":"IF($CG$7:$CG$60=0,\"\",RANK(CG9,$CG$7:$CG$60))","v":""}]
[null,4,null,53,3,{"$nulls":3},{"$f":"IF(L10=\"D\",\"D\",IF(L10=\"W\",J10,IF(L10=\"L\",J10,0)))","v":0},{"$f":"IF(F10+G10=0,0,IF(F10+G10>0.1,F10-G10,0))","v":0},{"$f":"IF(L10=\"W\",$R$3,IF(L10=\"D\",$AA$3,0))","v":{"v":0,"d":"0.0"}},{"$f":"IF(F10>G10,\"W\",IF(F10<G10,\"L\",IF(F10=0,\"\",IF(F10=G10,\"D\",0))))","v":""},2,11,{"$nulls":3},{"$f":"IF(U10=\"D\",\"D\",IF(U10=\"W\",S10,IF(U10=\"L\",S10,0)))","v":0},{"$f":"IF(O10+P10=0,0,IF(O10+P10>0.1,O10-P10,0))","v":0},{"$f":"IF(U10=\"W\",$R$3,IF(U10=\"D\",$AA$3,0))","v":{"v":0,"d":"0.0"}},{"$f":"IF(O10>P10,\"W\",IF(O10<P10,\"L\",IF(O10=0,\"\",IF(O10=P10,\"D\",0))))","v":""},6,19,{"$nulls":3},{"$f":"IF(AD10=\"D\",\"D\",IF(AD10=\"W\",AB10,IF(AD10=\"L\",AB10,0)))","v":0},{"$f":"IF(X10+Y10=0,0,IF(X10+Y10>0.1,X10-Y10,0))","v":0},{"$f":"IF(AD10=\"W\",$R$3,IF(AD10=\"D\",$AA$3,0))","v":{"v":0,"d":"0.0"}},{"$f":"IF(X10>Y10,\"W\",IF(X10<Y10,\"L\",IF(X10=0,\"\",IF(X10=Y10,\"D\",0))))","v":""},1,22,{"$nulls":3},{"$f":"IF(AM10=\"D\",\"D\",IF(AM10=\"W\",AK10,IF(AM10=\"L\",AK10,0)))","v":0},{"$f":"IF(AG10+AH10=0,0,IF(AG10+AH10>0.1,AG10-AH10,0))","v":0},{"$f":"IF(AM10=\"W\",$R$3,IF(AM10=\"D\",$AA$3,0))","v":{"v":0,"d":"0.0"}},{"$f":"IF(AG10>AH10,\"W\",IF(AG10<AH10,\"L\",IF(AG10=0,\"\",IF(AG10=AH10,\"D\",0))))","v":""},8,12,{"$nulls":3},{"$f":"IF(AV10=\"D\",\"D\",IF(AV10=\"W\",AT10,IF(AV10=\"L\",AT10,0)))","v":0},{"$f":"IF(AP10+AQ10=0,0,IF(AP10+AQ10>0.1,AP10-AQ10,0))","v":0},{"$f":"IF(AV10=\"W\",$R$3,IF(AV10=\"D\",$AA$3,0))","v":{"v":0,"d":"0.0"}},{"$f":"IF(AP10>AQ10,\"W\",IF(AP10<AQ10,\"L\",IF(AP10=0,\"\",IF(AP10=AQ10,\"D\",0))))","v":""},10,21,{"$nulls":3},{"$f":"IF(BE10=\"D\",\"D\",IF(BE10=\"W\",BC10,IF(BE10=\"L\",BC10,0)))","v":0},{"$f":"IF(AY10+AZ10=0,0,IF(AY10+AZ10>0.1,AY10-AZ10,0))","v":0},{"$f":"IF(BE10=\"W\",$R$3,IF(BE10=\"D\",$AA$3,0))","v":{"v":0,"d":"0.0"}},{"$f":"IF(AY10>AZ10,\"W\",IF(AY10<AZ10,\"L\",IF(AY10=0,\"\",IF(AY10=AZ10,\"D\",0))))","v":""},12,7,{"$nulls":3},{"$f":"IF(BN10=\"D\",\"D\",IF(BN10=\"W\",BL10,IF(BN10=\"L\",BL10,0)))","v":0},{"$f":"IF(BH10+BI10=0,0,IF(BH10+BI10>0.1,BH10-BI10,0))","v":0},{"$f":"IF(BN10=\"W\",$R$3,IF(BN10=\"D\",$AA$3,0))","v":{"v":0,"d":"0.0"}},{"$f":"IF(BH10>BI10,\"W\",IF(BH10<BI10,\"L\",IF(BH10=0,\"\",IF(BH10=BI10,\"D\",0))))","v":""},3,11,{"$nulls":3},{"$f":"IF(BW10=\"D\",\"D\",IF(BW10=\"W\",BU10,IF(BW10=\"L\",BU10,0)))","v":0},{"$f":"IF(BQ10+BR10=0,0,IF(BQ10+BR10>0.1,BQ10-BR10,0))","v":0},{"$f":"IF(BW10=\"W\",$R$3,IF(BW10=\"D\",$AA$3,0))","v":{"v":0,"d":"0.0"}},{"$f":"IF(BQ10>BR10,\"W\",IF(BQ10<BR10,\"L\",IF(BQ10=0,\"\",IF(BQ10=BR10,\"D\",0))))","v":""},{"$nulls":3},{"$f":"IF(CD10=\"D\",\"D\",IF(CD10=\"W\",CB10,IF(CD10=\"L\",CB10,0)))","v":0},{"$f":"IF(BX10+BY10=0,0,IF(BX10+BY10>0.1,BX10-BY10,0))","v":0},{"$f":"IF(CD10=\"W\",1,IF(CD10=\"D\",0.5,0))","v":{"v":0,"d":"0.0"}},{"$f":"IF(BX10>BY10,\"W\",IF(BX10<BY10,\"L\",IF(BX10=0,\"\",IF(BX10=BY10,\"D\",0))))","v":""},{"$f":"K10+T10+AC10+AL10+AU10+BD10+BM10+BV10+CC10","v":0},{"$f":"F10-G10+O10-P10+X10-Y10+AG10-AH10+AP10-AQ10+AY10-AZ10+BH10-BI10+BQ10-BR10","v":0},0,{"$f":"(CF10*10000)+(CF10*1000)+CI10","v":0},{"$f":"H10+Q10+Z10+AI10+AR10+BA10+BJ10+BS10+BZ10","v":0},{"$f":"(CE10*$R$3)+CI10","v":0},{"$f":"IF($CG$7:$CG$60=0,\"\",RANK(CG10,$CG$7:$CG$60))","v":""}]
[null,5,null,52,4,{"$nulls":3},{"$f":"IF(L11=\"D\",\"D\",IF(L11=\"W\",J11,IF(L11=\"L\",J11,0)))","v":0},{"$f":"IF(F11+G11=0,0,IF(F11+G11>0.1,F11-G11,0))","v":0},{"$f":"IF(L11=\"W\",$R$3,IF(L11=\"D\",$AA$3,0))","v":{"v":0,"d":"0.0"}},{"$f":"IF(F11>G11,\"W\",IF(F11<G11,\"L\",IF(F11=0,\"\",IF(F11=G11,\"D\",0))))","v":""},54,8,{"$nulls":3},{"$f":"IF(U11=\"D\",\"D\",IF(U11=\"W\",S11,IF(U11=\"L\",S11,0)))","v":0},{"$f":"IF(O11+P11=0,0,IF(O11+P11>0.1,O11-P11,0))","v":0},{"$f":"IF(U11=\"W\",$R$3,IF(U11=\"D\",$AA$3,0))","v":{"v":0,"d":"0.0"}},{"$f":"IF(O11>P11,\"W\",IF(O11<P11,\"L\",IF(O11=0,\"\",IF(O11=P11,\"D\",0))))","v":""},1,20,{"$nulls":3},{"$f":"IF(AD11=\"D\",\"D\",IF(AD11=\"W\",AB11,IF(AD11=\"L\",AB11,0)))","v":0},{"$f":"IF(X11+Y11=0,0,IF(X11+Y11>0.1,X11-Y11,0))","v":0},{"$f":"IF(AD11=\"W\",$R$3,IF(AD11=\"D\",$AA$3,0))","v":{"v":0,"d":"0.0"}},{"$f":"IF(X11>Y11,\"W\",IF(X11<Y11,\"L\",IF(X11=0,\"\",IF(X11=Y11,\"D\",0))))","v":""},3,23,{"$nulls":3},{"$f":"IF(AM11=\"D\",\"D\",IF(AM11=\"W\",AK11,IF(AM11=\"L\",AK11,0)))","v":0},{"$f":"IF(AG11+AH11=0,0,IF(AG11+AH11>0.1,AG11-AH11,0))","v":0},{"$f":"IF(AM11=\"W\",$R$3,IF(AM11=\"D\",$AA$3,0))","v":{"v":0,"d":"0.0"}},{"$f":"IF(AG11>AH11,\"W\",IF(AG11<AH11,\"L\",IF(AG11=0,\"\",IF(AG11=AH11,\"D\",0))))","v":""},7,14,{"$nulls":3},{"$f":"IF(AV11=\"D\",\"D\",IF(AV11=\"W\",AT11,IF(AV11=\"L\",AT11,0)))","v":0},{"$f":"IF(AP11+AQ11=0,0,IF(AP11+AQ11>0.1,AP11-AQ11,0))","v":0},{"$f":"IF(AV11=\"W\",$R$3,IF(AV11=\"D\",$AA$3,0))","v":{"v":0,"d":"0.0"}},{"$f":"IF(AP11>AQ11,\"W\",IF(AP11<AQ11,\"L\",IF(AP11=0,\"\",IF(AP11=AQ11,\"D\",0))))","v":""},9,17,{"$nulls":3},{"$f":"IF(BE11=\"D\",\"D\",IF(BE11=\"W\",BC11,IF(BE11=\"L\",BC11,0)))","v":0},{"$f":"IF(AY11+AZ11=0,0,IF(AY11+AZ11>0.1,AY11-AZ11,0))","v":0},{"$f":"IF(BE11=\"W\",$R$3,IF(BE11=\"D\",$AA$3,0))","v":{"v":0,"d":"0.0"}},{"$f":"IF(AY11>AZ11,\"W\",IF(AY11<AZ11,\"L\",IF(AY11=0,\"\",IF(AY11=AZ11,\"D\",0))))","v":""},8,6,{"$nulls":3},{"$f":"IF(BN11=\"D\",\"D\",IF(BN11=\"W\",BL11,IF(BN11=\"L\",BL11,0)))","v":0},{"$f":"IF(BH11+BI11=0,0,IF(BH11+BI11>0.1,BH11-BI11,0))","v":0},{"$f":"IF(BN11=\"W\",$R$3,IF(BN11=\"D\",$AA$3,0))","v":{"v":0,"d":"0.0"}},{"$f":"IF(BH11>BI11,\"W\",IF(BH11<BI11,\"L\",IF(BH11=0,\"\",IF(BH11=BI11,\"D\",0))))","v":""},2,9,{"$nulls":3},{"$f":"IF(BW11=\"D\",\"D\",IF(BW11=\"W\",BU11,IF(BW11=\"L\",BU11,0)))","v":0},{"$f":"IF(BQ11+BR11=0,0,IF(BQ11+BR11>0.1,BQ11-BR11,0))","v":0},{"$f":"IF(BW11=\"W\",$R$3,IF(BW11=\"D\",$AA$3,0))","v":{"v":0,"d":"0.0"}},{"$f":"IF(BQ11>BR11,\"W\",IF(BQ11<BR11,\"L\",IF(BQ11=0,\"\",IF(BQ11=BR11,\"D\",0))))","v":""},{"$nulls":3},{"$f":"IF(CD11=\"D\",\"D\",IF(CD11=\"W\",CB11,IF(CD11=\"L\",CB11,0)))","v":0},{"$f":"IF(BX11+BY11=0,0,IF(BX11+BY11>0.1,BX11-BY11,0))","v":0},{"$f":"IF(CD11=\"W\",1,IF(CD11=\"D\",0.5,0))","v":{"v":0,"d":"0.0"}},{"$f":"IF(BX11>BY11,\"W\",IF(BX11<BY11,\"L\",IF(BX11=0,\"\",IF(BX11=BY11,\"D\",0))))","v":""},{"$f":"K11+T11+AC11+AL11+AU11+BD11+BM11+BV11+CC11","v":0},{"$f":"F11-G11+O11-P11+X11-Y11+AG11-AH11+AP11-AQ11+AY11-AZ11+BH11-BI11+BQ11-BR11","v":0},0,{"$f":"(CF11*10000)+(CF11*1000)+CI11","v":0},{"$f":"H11+Q11+Z11+AI11+AR11+BA11+BJ11+BS11+BZ11","v":0},{"$f":"(CE11*$R$3)+CI11","v":0},{"$f":"IF($CG$7:$CG$60=0,\"\",RANK(CG11,$CG$7:$CG$60))","v":""}]
[null,6,null,51,5,{"$nulls":3},{"$f":"IF(L12=\"D\",\"D\",IF(L12=\"W\",J12,IF(L12=\"L\",J12,0)))","v":0},{"$f":"IF(F12+G12=0,0,IF(F12+G12>0.1,F12-G12,0))","v":0},{"$f":"IF(L12=\"W\",$R$3,IF(L12=\"D\",$AA$3,0))","v":{"v":0,"d":"0.0"}},{"$f":"IF(F12>G12,\"W\",IF(F12<G12,\"L\",IF(F12=0,\"\",IF(F12=G12,\"D\",0))))","v":""},53,14,{"$nulls":3},{"$f":"IF(U12=\"D\",\"D\",IF(U12=\"W\",S12,IF(U12=\"L\",S12,0)))","v":0},{"$f":"IF(O12+P12=0,0,IF(O12+P12>0.1,O12-P12,0))","v":0},{"$f":"IF(U12=\"W\",$R$3,IF(U12=\"D\",$AA$3,0))","v":{"v":0,"d":"0.0"}},{"$f":"IF(O12>P12,\"W\",IF(O12<P12,\"L\",IF(O12=0,\"\",IF(O12=P12,\"D\",0))))","v":""},4,19,{"$nulls":3},{"$f":"IF(AD12=\"D\",\"D\",IF(AD12=\"W\",AB12,IF(AD12=\"L\",AB12,0)))","v":0},{"$f":"IF(X12+Y12=0,0,IF(X12+Y12>0.1,X12-Y12,0))","v":0},{"$f":"IF(AD12=\"W\",$R$3,IF(AD12=\"D\",$AA$3,0))","v":{"v":0,"d":"0.0"}},{"$f":"IF(X12>Y12,\"W\",IF(X12<Y12,\"L\",IF(X12=0,\"\",IF(X12=Y12,\"D\",0))))","v":""},2,24,{"$nulls":3},{"$f":"IF(AM12=\"D\",\"D\",IF(AM12=\"W\",AK12,IF(AM12=\"L\",AK12,0)))","v":0},{"$f":"IF(AG12+AH12=0,0,IF(AG12+AH12>0.1,AG12-AH12,0))","v":0},{"$f":"IF(AM12=\"W\",$R$3,IF(AM12=\"D\",$AA$3,0))","v":{"v":0,"d":"0.0"}},{"$f":"IF(AG12>AH12,\"W\",IF(AG12<AH12,\"L\",IF(AG12=0,\"\",IF(AG12=AH12,\"D\",0))))","v":""},1,13,{"$nulls":3},{"$f":"IF(AV12=\"D\",\"D\",IF(AV12=\"W\",AT12,IF(AV12=\"L\",AT12,0)))","v":0},{"$f":"IF(AP12+AQ12=0,0,IF(AP12+AQ12>0.1,AP12-AQ12,0))","v":0},{"$f":"IF(AV12=\"W\",$R$3,IF(AV12=\"D\",$AA$3,0))","v":{"v":0,"d":"0.0"}},{"$f":"IF(AP12>AQ12,\"W\",IF(AP12<AQ12,\"L\",IF(AP12=0,\"\",IF(AP12=AQ12,\"D\",0))))","v":""},8,15,{"$nulls":3},{"$f":"IF(BE12=\"D\",\"D\",IF(BE12=\"W\",BC12,IF(BE12=\"L\",BC12,0)))","v":0},{"$f":"IF(AY12+AZ12=0,0,IF(AY12+AZ12>0.1,AY12-AZ12,0))","v":0},{"$f":"IF(BE12=\"W\",$R$3,IF(BE12=\"D\",$AA$3,0))","v":{"v":0,"d":"0.0"}},{"$f":"IF(AY12>AZ12,\"W\",IF(AY12<AZ12,\"L\",IF(AY12=0,\"\",IF(AY12=AZ12,\"D\",0))))","v":""},7,4,{"$nulls":3},{"$f":"IF(BN12=\"D\",\"D\",IF(BN12=\"W\",BL12,IF(BN12=\"L\",BL12,0)))","v":0},{"$f":"IF(BH12+BI12=0,0,IF(BH12+BI12>0.1,BH12-BI12,0))","v":0},{"$f":"IF(BN12=\"W\",$R$3,IF(BN12=\"D\",$AA$3,0))","v":{"v":0,"d":"0.0"}},{"$f":"IF(BH12>BI12,\"W\",IF(BH12<BI12,\"L\",IF(BH12=0,\"\",IF(BH12=BI12,\"D\",0))))","v":""},14,14,{"$nulls":3},{"$f":"IF(BW12=\"D\",\"D\",IF(BW12=\"W\",BU12,IF(BW12=\"L\",BU12,0)))","v":0},{"$f":"IF(BQ12+BR12=0,0,IF(BQ12+BR12>0.1,BQ12-BR12,0))","v":0},{"$f":"IF(BW12=\"W\",$R$3,IF(BW12=\"D\",$AA$3,0))","v":{"v":0,"d":"0.0"}},{"$f":"IF(BQ12>BR12,\"W\",IF(BQ12<BR12,\"L\",IF(BQ12=0,\"\",IF(BQ12=BR12,\"D\",0))))","v":""},{"$nulls":3},{"$f":"IF(CD12=\"D\",\"D\",IF(CD12=\"W\",CB12,IF(CD12=\"L\",CB12,0)))","v":0},{"$f":"IF(BX12+BY12=0,0,IF(BX12+BY12>0.1,BX12-BY12,0))","v":0},{"$f":"IF(CD12=\"W\",1,IF(CD12=\"D\",0.5,0))","v":{"v":0,"d":"0.0"}},{"$f":"IF(BX12>BY12,\"W\",IF(BX12<BY12,\"L\",IF(BX12=0,\"\",IF(BX12=BY12,\"D\",0))))","v":""},{"$f":"K12+T12+AC12+AL12+AU12+BD12+BM12+BV12+CC12","v":0},{"$f":"F12-G12+O12-P12+X12-Y12+AG12-AH12+AP12-AQ12+AY12-AZ12+BH12-BI12+BQ12-BR12","v":0},0,{"$f":"(CF12*10000)+(CF12*1000)+CI12","v":0},{"$f":"H12+Q12+Z12+AI12+AR12+BA12+BJ12+BS12+BZ12","v":0},{"$f":"(CE12*$R$3)+CI12","v":0},{"$f":"IF($CG$7:$CG$60=0,\"\",RANK(CG12,$CG$7:$CG$60))","v":""}]
[null,7,null,50,6,{"$nulls":3},{"$f":"IF(L13=\"D\",\"D\",IF(L13=\"W\",J13,IF(L13=\"L\",J13,0)))","v":0},{"$f":"IF(F13+G13=0,0,IF(F13+G13>0.1,F13-G13,0))","v":0},{"$f":"IF(L13=\"W\",$R$3,IF(L13=\"D\",$AA$3,0))","v":{"v":0,"d":"0.0"}},{"$f":"IF(F13>G13,\"W\",IF(F13<G13,\"L\",IF(F13=0,\"\",IF(F13=G13,\"D\",0))))","v":""},52,13,{"$nulls":3},{"$f":"IF(U13=\"D\",\"D\",IF(U13=\"W\",S13,IF(U13=\"L\",S13,0)))","v":0},{"$f":"IF(O13+P13=0,0,IF(O13+P13>0.1,O13-P13,0))","v":0},{"$f":"IF(U13=\"W\",$R$3,IF(U13=\"D\",$AA$3,0))","v":{"v":0,"d":"0.0"}},{"$f":"IF(O13>P13,\"W\",IF(O13<P13,\"L\",IF(O13=0,\"\",IF(O13=P13,\"D\",0))))","v":""},3,15,{"$nulls":3},{"$f":"IF(AD13=\"D\",\"D\",IF(AD13=\"W\",AB13,IF(AD13=\"L\",AB13,0)))","v":0},{"$f":"IF(X13+Y13=0,0,IF(X13+Y13>0.1,X13-Y13,0))","v":0},{"$f":"IF(AD13=\"W\",$R$3,IF(AD13=\"D\",$AA$3,0))","v":{"v":0,"d":"0.0"}},{"$f":"IF(X13>Y13,\"W\",IF(X13<Y13,\"L\",IF(X13=0,\"\",IF(X13=Y13,\"D\",0))))","v":""},54,3,{"$nulls":3},{"$f":"IF(AM13=\"D\",\"D\",IF(AM13=\"W\",AK13,IF(AM13=\"L\",AK13,0)))","v":0},{"$f":"IF(AG13+AH13=0,0,IF(AG13+AH13>0.1,AG13-AH13,0))","v":0},{"$f":"IF(AM13=\"W\",$R$3,IF(AM13=\"D\",$AA$3,0))","v":{"v":0,"d":"0.0"}},{"$f":"IF(AG13>AH13,\"W\",IF(AG13<AH13,\"L\",IF(AG13=0,\"\",IF(AG13=AH13,\"D\",0))))","v":""},5,14,{"$nulls":3},{"$f":"IF(AV13=\"D\",\"D\",IF(AV13=\"W\",AT13,IF(AV13=\"L\",AT13,0)))","v":0},{"$f":"IF(AP13+AQ13=0,0,IF(AP13+AQ13>0.1,AP13-AQ13,0))","v":0},{"$f":"IF(AV13=\"W\",$R$3,IF(AV13=\"D\",$AA$3,0))","v":{"v":0,"d":"0.0"}},{"$f":"IF(AP13>AQ13,\"W\",IF(AP13<AQ13,\"L\",IF(AP13=0,\"\",IF(AP13=AQ13,\"D\",0))))","v":""},1,16,{"$nulls":3},{"$f":"IF(BE13=\"D\",\"D\",IF(BE13=\"W\",BC13,IF(BE13=\"L\",BC13,0)))","v":0},{"$f":"IF(AY13+AZ13=0,0,IF(AY13+AZ13>0.1,AY13-AZ13,0))","v":0},{"$f":"IF(BE13=\"W\",$R$3,IF(BE13=\"D\",$AA$3,0))","v":{"v":0,"d":"0.0"}},{"$f":"IF(AY13>AZ13,\"W\",IF(AY13<AZ13,\"L\",IF(AY13=0,\"\",IF(AY13=AZ13,\"D\",0))))","v":""},6,4,{"$nulls":3},{"$f":"IF(BN13=\"D\",\"D\",IF(BN13=\"W\",BL13,IF(BN13=\"L\",BL13,0)))","v":0},{"$f":"IF(BH13+BI13=0,0,IF(BH13+BI13>0.1,BH13-BI13,0))","v":0},{"$f":"IF(BN13=\"W\",$R$3,IF(BN13=\"D\",$AA$3,0))","v":{"v":0,"d":"0.0"}},{"$f":"IF(BH13>BI13,\"W\",IF(BH13<BI13,\"L\",IF(BH13=0,\"\",IF(BH13=BI13,\"D\",0))))","v":""},13,10,{"$nulls":3},{"$f":"IF(BW13=\"D\",\"D\",IF(BW13=\"W\",BU13,IF(BW13=\"L\",BU13,0)))","v":0},{"$f":"IF(BQ13+BR13=0,0,IF(BQ13+BR13>0.1,BQ13-BR13,0))","v":0},{"$f":"IF(BW13=\"W\",$R$3,IF(BW13=\"D\",$AA$3,0))","v":{"v":0,"d":"0.0"}},{"$f":"IF(BQ13>BR13,\"W\",IF(BQ13<BR13,\"L\",IF(BQ13=0,\"\",IF(BQ13=BR13,\"D\",0))))","v":""},{"$nulls":3},{"$f":"IF(CD13=\"D\",\"D\",IF(CD13=\"W\",CB13,IF(CD13=\"L\",CB13,0)))","v":0},{"$f":"IF(BX13+BY13=0,0,IF(BX13+BY13>0.1,BX13-BY13,0))","v":0},{"$f":"IF(CD13=\"W\",1,IF(CD13=\"D\",0.5,0))","v":{"v":0,"d":"0.0"}},{"$f":"IF(BX13>BY13,\"W\",IF(BX13<BY13,\"L\",IF(BX13=0,\"\",IF(BX13=BY13,\"D\",0))))","v":""},{"$f":"K13+T13+AC13+AL13+AU13+BD13+BM13+BV13+CC13","v":0},{"$f":"F13-G13+O13-P13+X13-Y13+AG13-AH13+AP13-AQ13+AY13-AZ13+BH13-BI13+BQ13-BR13","v":0},0,{"$f":"(CF13*10000)+(CF13*1000)+CI13","v":0},{"$f":"H13+Q13+Z13+AI13+AR13+BA13+BJ13+BS13+BZ13","v":0},{"$f":"(CE13*$R$3)+CI13","v":0},{"$f":"IF($CG$7:$CG$60=0,\"\",RANK(CG13,$CG$7:$CG$60))","v":""}]
[null,8,null,49,7,{"$nulls":3},{"$f":"IF(L14=\"D\",\"D\",IF(L14=\"W\",J14,IF(L14=\"L\",J14,0)))","v":0},{"$f":"IF(F14+G14=0,0,IF(F14+G14>0.1,F14-G14,0))","v":0},{"$f":"IF(L14=\"W\",$R$3,IF(L14=\"D\",$AA$3,0))","v":{"v":0,"d":"0.0"}},{"$f":"IF(F14>G14,\"W\",IF(F14<G14,\"L\",IF(F14=0,\"\",IF(F14=G14,\"D\",0))))","v":""},51,12,{"$nulls":3},{"$f":"IF(U14=\"D\",\"D\",IF(U14=\"W\",S14,IF(U14=\"L\",S14,0)))","v":0},{"$f":"IF(O14+P14=0,0,IF(O14+P14>0.1,O14-P14,0))","v":0},{"$f":"IF(U14=\"W\",$R$3,IF(U14=\"D\",$AA$3,0))","v":{"v":0,"d":"0.0"}},{"$f":"IF(O14>P14,\"W\",IF(O14<P14,\"L\",IF(O14=0,\"\",IF(O14=P14,\"D\",0))))","v":""},2,18,{"$nulls":3},{"$f":"IF(AD14=\"D\",\"D\",IF(AD14=\"W\",AB14,IF(AD14=\"L\",AB14,0)))","v":0},{"$f":"IF(X14+Y14=0,0,IF(X14+Y14>0.1,X14-Y14,0))","v":0},{"$f":"IF(AD14=\"W\",$R$3,IF(AD14=\"D\",$AA$3,0))","v":{"v":0,"d":"0.0"}},{"$f":"IF(X14>Y14,\"W\",IF(X14<Y14,\"L\",IF(X14=0,\"\",IF(X14=Y14,\"D\",0))))","v":""},53,2,{"$nulls":3},{"$f":"IF(AM14=\"D\",\"D\",IF(AM14=\"W\",AK14,IF(AM14=\"L\",AK14,0)))","v":0},{"$f":"IF(AG14+AH14=0,0,IF(AG14+AH14>0.1,AG14-AH14,0))","v":0},{"$f":"IF(AM14=\"W\",$R$3,IF(AM14=\"D\",$AA$3,0))","v":{"v":0,"d":"0.0"}},{"$f":"IF(AG14>AH14,\"W\",IF(AG14<AH14,\"L\",IF(AG14=0,\"\",IF(AG14=AH14,\"D\",0))))","v":""},4,12,{"$nulls":3},{"$f":"IF(AV14=\"D\",\"D\",IF(AV14=\"W\",AT14,IF(AV14=\"L\",AT14,0)))","v":0},{"$f":"IF(AP14+AQ14=0,0,IF(AP14+AQ14>0.1,AP14-AQ14,0))","v":0},{"$f":"IF(AV14=\"W\",$R$3,IF(AV14=\"D\",$AA$3,0))","v":{"v":0,"d":"0.0"}},{"$f":"IF(AP14>AQ14,\"W\",IF(AP14<AQ14,\"L\",IF(AP14=0,\"\",IF(AP14=AQ14,\"D\",0))))","v":""},6,15,{"$nulls":3},{"$f":"IF(BE14=\"D\",\"D\",IF(BE14=\"W\",BC14,IF(BE14=\"L\",BC14,0)))","v":0},{"$f":"IF(AY14+AZ14=0,0,IF(AY14+AZ14>0.1,AY14-AZ14,0))","v":0},{"$f":"IF(BE14=\"W\",$R$3,IF(BE14=\"D\",$AA$3,0))","v":{"v":0,"d":"0.0"}},{"$f":"IF(AY14>AZ14,\"W\",IF(AY14<AZ14,\"L\",IF(AY14=0,\"\",IF(AY14=AZ14,\"D\",0))))","v":""},5,6,{"$nulls":3},{"$f":"IF(BN14=\"D\",\"D\",IF(BN14=\"W\",BL14,IF(BN14=\"L\",BL14,0)))","v":0},{"$f":"IF(BH14+BI14=0,0,IF(BH14+BI14>0.1,BH14-BI14,0))","v":0},{"$f":"IF(BN14=\"W\",$R$3,IF(BN14=\"D\",$AA$3,0))","v":{"v":0,"d":"0.0"}},{"$f":"IF(BH14>BI14,\"W\",IF(BH14<BI14,\"L\",IF(BH14=0,\"\",IF(BH14=BI14,\"D\",0))))","v":""},1,8,{"$nulls":3},{"$f":"IF(BW14=\"D\",\"D\",IF(BW14=\"W\",BU14,IF(BW14=\"L\",BU14,0)))","v":0},{"$f":"IF(BQ14+BR14=0,0,IF(BQ14+BR14>0.1,BQ14-BR14,0))","v":0},{"$f":"IF(BW14=\"W\",$R$3,IF(BW14=\"D\",$AA$3,0))","v":{"v":0,"d":"0.0"}},{"$f":"IF(BQ14>BR14,\"W\",IF(BQ14<BR14,\"L\",IF(BQ14=0,\"\",IF(BQ14=BR14,\"D\",0))))","v":""},{"$nulls":3},{"$f":"IF(CD14=\"D\",\"D\",IF(CD14=\"W\",CB14,IF(CD14=\"L\",CB14,0)))","v":0},{"$f":"IF(BX14+BY14=0,0,IF(BX14+BY14>0.1,BX14-BY14,0))","v":0},{"$f":"IF(CD14=\"W\",1,IF(CD14=\"D\",0.5,0))","v":{"v":0,"d":"0.0"}},{"$f":"IF(BX14>BY14,\"W\",IF(BX14<BY14,\"L\",IF(BX14=0,\"\",IF(BX14=BY14,\"D\",0))))","v":""},{"$f":"K14+T14+AC14+AL14+AU14+BD14+BM14+BV14+CC14","v":0},{"$f":"F14-G14+O14-P14+X14-Y14+AG14-AH14+AP14-AQ14+AY14-AZ14+BH14-BI14+BQ14-BR14","v":0},0,{"$f":"(CF14*10000)+(CF14*1000)+CI14","v":0},{"$f":"H14+Q14+Z14+AI14+AR14+BA14+BJ14+BS14+BZ14","v":0},{"$f":"(CE14*$R$3)+CI14","v":0},{"$f":"IF($CG$7:$CG$60=0,\"\",RANK(CG14,$CG$7:$CG$60))","v":""}]
[null,9,null,48,8,{"$nulls":3},{"$f":"IF(L15=\"D\",\"D\",IF(L15=\"W\",J15,IF(L15=\"L\",J15,0)))","v":0},{"$f":"IF(F15+G15=0,0,IF(F15+G15>0.1,F15-G15,0))","v":0},{"$f":"IF(L15=\"W\",$R$3,IF(L15=\"D\",$AA$3,0))","v":{"v":0,"d":"0.0"}},{"$f":"IF(F15>G15,\"W\",IF(F15<G15,\"L\",IF(F15=0,\"\",IF(F15=G15,\"D\",0))))","v":""},50,20,{"$nulls":3},{"$f":"IF(U15=\"D\",\"D\",IF(U15=\"W\",S15,IF(U15=\"L\",S15,0)))","v":0},{"$f":"IF(O15+P15=0,0,IF(O15+P15>0.1,O15-P15,0))","v":0},{"$f":"IF(U15=\"W\",$R$3,IF(U15=\"D\",$AA$3,0))","v":{"v":0,"d":"0.0"}},{"$f":"IF(O15>P15,\"W\",IF(O15<P15,\"L\",IF(O15=0,\"\",IF(O15=P15,\"D\",0))))","v":""},54,26,{"$nulls":3},{"$f":"IF(AD15=\"D\",\"D\",IF(AD15=\"W\",AB15,IF(AD15=\"L\",AB15,0)))","v":0},{"$f":"IF(X15+Y15=0,0,IF(X15+Y15>0.1,X15-Y15,0))","v":0},{"$f":"IF(AD15=\"W\",$R$3,IF(AD15=\"D\",$AA$3,0))","v":{"v":0,"d":"0.0"}},{"$f":"IF(X15>Y15,\"W\",IF(X15<Y15,\"L\",IF(X15=0,\"\",IF(X15=Y15,\"D\",0))))","v":""},52,5,{"$nulls":3},{"$f":"IF(AM15=\"D\",\"D\",IF(AM15=\"W\",AK15,IF(AM15=\"L\",AK15,0)))","v":0},{"$f":"IF(AG15+AH15=0,0,IF(AG15+AH15>0.1,AG15-AH15,0))","v":0},{"$f":"IF(AM15=\"W\",$R$3,IF(AM15=\"D\",$AA$3,0))","v":{"v":0,"d":"0.0"}},{"$f":"IF(AG15>AH15,\"W\",IF(AG15<AH15,\"L\",IF(AG15=0,\"\",IF(AG15=AH15,\"D\",0))))","v":""},3,11,{"$nulls":3},{"$f":"IF(AV15=\"D\",\"D\",IF(AV15=\"W\",AT15,IF(AV15=\"L\",AT15,0)))","v":0},{"$f":"IF(AP15+AQ15=0,0,IF(AP15+AQ15>0.1,AP15-AQ15,0))","v":0},{"$f":"IF(AV15=\"W\",$R$3,IF(AV15=\"D\",$AA$3,0))","v":{"v":0,"d":"0.0"}},{"$f":"IF(AP15>AQ15,\"W\",IF(AP15<AQ15,\"L\",IF(AP15=0,\"\",IF(AP15=AQ15,\"D\",0))))","v":""},5,17,{"$nulls":3},{"$f":"IF(BE15=\"D\",\"D\",IF(BE15=\"W\",BC15,IF(BE15=\"L\",BC15,0)))","v":0},{"$f":"IF(AY15+AZ15=0,0,IF(AY15+AZ15>0.1,AY15-AZ15,0))","v":0},{"$f":"IF(BE15=\"W\",$R$3,IF(BE15=\"D\",$AA$3,0))","v":{"v":0,"d":"0.0"}},{"$f":"IF(AY15>AZ15,\"W\",IF(AY15<AZ15,\"L\",IF(AY15=0,\"\",IF(AY15=AZ15,\"D\",0))))","v":""},2,2,{"$nulls":3},{"$f":"IF(BN15=\"D\",\"D\",IF(BN15=\"W\",BL15,IF(BN15=\"L\",BL15,0)))","v":0},{"$f":"IF(BH15+BI15=0,0,IF(BH15+BI15>0.1,BH15-BI15,0))","v":0},{"$f":"IF(BN15=\"W\",$R$3,IF(BN15=\"D\",$AA$3,0))","v":{"v":0,"d":"0.0"}},{"$f":"IF(BH15>BI15,\"W\",IF(BH15<BI15,\"L\",IF(BH15=0,\"\",IF(BH15=BI15,\"D\",0))))","v":""},11,12,{"$nulls":3},{"$f":"IF(BW15=\"D\",\"D\",IF(BW15=\"W\",BU15,IF(BW15=\"L\",BU15,0)))","v":0},{"$f":"IF(BQ15+BR15=0,0,IF(BQ15+BR15>0.1,BQ15-BR15,0))","v":0},{"$f":"IF(BW15=\"W\",$R$3,IF(BW15=\"D\",$AA$3,0))","v":{"v":0,"d":"0.0"}},{"$f":"IF(BQ15>BR15,\"W\",IF(BQ15<BR15,\"L\",IF(BQ15=0,\"\",IF(BQ15=BR15,\"D\",0))))","v":""},{"$nulls":3},{"$f":"IF(CD15=\"D\",\"D\",IF(CD15=\"W\",CB15,IF(CD15=\"L\",CB15,0)))","v":0},{"$f":"IF(BX15+BY15=0,0,IF(BX15+BY15>0.1,BX15-BY15,0))","v":0},{"$f":"IF(CD15=\"W\",1,IF(CD15=\"D\",0.5,0))","v":{"v":0,"d":"0.0"}},{"$f":"IF(BX15>BY15,\"W\",IF(BX15<BY15,\"L\",IF(BX15=0,\"\",IF(BX15=BY15,\"D\",0))))","v":""},{"$f":"K15+T15+AC15+AL15+AU15+BD15+BM15+BV15+CC15","v":0},{"$f":"F15-G15+O15-P15+X15-Y15+AG15-AH15+AP15-AQ15+AY15-AZ15+BH15-BI15+BQ15-BR15","v":0},0,{"$f":"(CF15*10000)+(CF15*1000)+CI15","v":0},{"$f":"H15+Q15+Z15+AI15+AR15+BA15+BJ15+BS15+BZ15","v":0},{"$f":"(CE15*$R$3)+CI15","v":0},{"$f":"IF($CG$7:$CG$60=0,\"\",RANK(CG15,$CG$7:$CG$60))","v":""}]
[null,10,null,47,9,{"$nulls":3},{"$f":"IF(L16=\"D\",\"D\",IF(L16=\"W\",J16,IF(L16=\"L\",J16,0)))","v":0},{"$f":"IF(F16+G16=0,0,IF(F16+G16>0.1,F16-G16,0))","v":0},{"$f":"IF(L16=\"W\",$R$3,IF(L16=\"D\",$AA$3,0))","v":{"v":0,"d":"0.0"}},{"$f":"IF(F16>G16,\"W\",IF(F16<G16,\"L\",IF(F16=0,\"\",IF(F16=G16,\"D\",0))))","v":""},49,16,{"$nulls":3},{"$f":"IF(U16=\"D\",\"D\",IF(U16=\"W\",S16,IF(U16=\"L\",S16,0)))","v":0},{"$f":"IF(O16+P16=0,0,IF(O16+P16>0.1,O16-P16,0))","v":0},{"$f":"IF(U16=\"W\",$R$3,IF(U16=\"D\",$AA$3,0))","v":{"v":0,"d":"0.0"}},{"$f":"IF(O16>P16,\"W\",IF(O16<P16,\"L\",IF(O16=0,\"\",IF(O16=P16,\"D\",0))))","v":""},53,27,{"$nulls":3},{"$f":"IF(AD16=\"D\",\"D\",IF(AD16=\"W\",AB16,IF(AD16=\"L\",AB16,0)))","v":0},{"$f":"IF(X16+Y16=0,0,IF(X16+Y16>0.1,X16-Y16,0))","v":0},{"$f":"IF(AD16=\"W\",$R$3,IF(AD16=\"D\",$AA$3,0))","v":{"v":0,"d":"0.0"}},{"$f":"IF(X16>Y16,\"W\",IF(X16<Y16,\"L\",IF(X16=0,\"\",IF(X16=Y16,\"D\",0))))","v":""},51,1,{"$nulls":3},{"$f":"IF(AM16=\"D\",\"D\",IF(AM16=\"W\",AK16,IF(AM16=\"L\",AK16,0)))","v":0},{"$f":"IF(AG16+AH16=0,0,IF(AG16+AH16>0.1,AG16-AH16,0))","v":0},{"$f":"IF(AM16=\"W\",$R$3,IF(AM16=\"D\",$AA$3,0))","v":{"v":0,"d":"0.0"}},{"$f":"IF(AG16>AH16,\"W\",IF(AG16<AH16,\"L\",IF(AG16=0,\"\",IF(AG16=AH16,\"D\",0))))","v":""},2,10,{"$nulls":3},{"$f":"IF(AV16=\"D\",\"D\",IF(AV16=\"W\",AT16,IF(AV16=\"L\",AT16,0)))","v":0},{"$f":"IF(AP16+AQ16=0,0,IF(AP16+AQ16>0.1,AP16-AQ16,0))","v":0},{"$f":"IF(AV16=\"W\",$R$3,IF(AV16=\"D\",$AA$3,0))","v":{"v":0,"d":"0.0"}},{"$f":"IF(AP16>AQ16,\"W\",IF(AP16<AQ16,\"L\",IF(AP16=0,\"\",IF(AP16=AQ16,\"D\",0))))","v":""},4,21,{"$nulls":3},{"$f":"IF(BE16=\"D\",\"D\",IF(BE16=\"W\",BC16,IF(BE16=\"L\",BC16,0)))","v":0},{"$f":"IF(AY16+AZ16=0,0,IF(AY16+AZ16>0.1,AY16-AZ16,0))","v":0},{"$f":"IF(BE16=\"W\",$R$3,IF(BE16=\"D\",$AA$3,0))","v":{"v":0,"d":"0.0"}},{"$f":"IF(AY16>AZ16,\"W\",IF(AY16<AZ16,\"L\",IF(AY16=0,\"\",IF(AY16=AZ16,\"D\",0))))","v":""},3,1,{"$nulls":3},{"$f":"IF(BN16=\"D\",\"D\",IF(BN16=\"W\",BL16,IF(BN16=\"L\",BL16,0)))","v":0},{"$f":"IF(BH16+BI16=0,0,IF(BH16+BI16>0.1,BH16-BI16,0))","v":0},{"$f":"IF(BN16=\"W\",$R$3,IF(BN16=\"D\",$AA$3,0))","v":{"v":0,"d":"0.0"}},{"$f":"IF(BH16>BI16,\"W\",IF(BH16<BI16,\"L\",IF(BH16=0,\"\",IF(BH16=BI16,\"D\",0))))","v":""},12,13,{"$nulls":3},{"$f":"IF(BW16=\"D\",\"D\",IF(BW16=\"W\",BU16,IF(BW16=\"L\",BU16,0)))","v":0},{"$f":"IF(BQ16+BR16=0,0,IF(BQ16+BR16>0.1,BQ16-BR16,0))","v":0},{"$f":"IF(BW16=\"W\",$R$3,IF(BW16=\"D\",$AA$3,0))","v":{"v":0,"d":"0.0"}},{"$f":"IF(BQ16>BR16,\"W\",IF(BQ16<BR16,\"L\",IF(BQ16=0,\"\",IF(BQ16=BR16,\"D\",0))))","v":""},{"$nulls":3},{"$f":"IF(CD16=\"D\",\"D\",IF(CD16=\"W\",CB16,IF(CD16=\"L\",CB16,0)))","v":0},{"$f":"IF(BX16+BY16=0,0,IF(BX16+BY16>0.1,BX16-BY16,0))","v":0},{"$f":"IF(CD16=\"W\",1,IF(CD16=\"D\",0.5,0))","v":{"v":0,"d":"0.0"}},{"$f":"IF(BX16>BY16,\"W\",IF(BX16<BY16,\"L\",IF(BX16=0,\"\",IF(BX16=BY16,\"D\",0))))","v":""},{"$f":"K16+T16+AC16+AL16+AU16+BD16+BM16+BV16+CC16","v":0},{"$f":"F16-G16+O16-P16+X16-Y16+AG16-AH16+AP16-AQ16+AY16-AZ16+BH16-BI16+BQ16-BR16","v":0},0,{"$f":"(CF16*10000)+(CF16*1000)+CI16","v":0},{"$f":"H16+Q16+Z16+AI16+AR16+BA16+BJ16+BS16+BZ16","v":0},{"$f":"(CE16*$R$3)+CI16","v":0},{"$f":"IF($CG$7:$CG$60=0,\"\",RANK(CG16,$CG$7:$CG$60))","v":""}]
[null,11,null,46,10,{"$nulls":3},{"$f":"IF(L17=\"D\",\"D\",IF(L17=\"W\",J17,IF(L17=\"L\",J17,0)))","v":0},{"$f":"IF(F17+G17=0,0,IF(F17+G17>0.1,F17-G17,0))","v":0},{"$f":"IF(L17=\"W\",$R$3,IF(L17=\"D\",$AA$3,0))","v":{"v":0,"d":"0.0"}},{"$f":"IF(F17>G17,\"W\",IF(F17<G17,\"L\",IF(F17=0,\"\",IF(F17=G17,\"D\",0))))","v":""},48,17,{"$nulls":3},{"$f":"IF(U17=\"D\",\"D\",IF(U17=\"W\",S17,IF(U17=\"L\",S17,0)))","v":0},{"$f":"IF(O17+P17=0,0,IF(O17+P17>0.1,O17-P17,0))","v":0},{"$f":"IF(U17=\"W\",$R$3,IF(U17=\"D\",$AA$3,0))","v":{"v":0,"d":"0.0"}},{"$f":"IF(O17>P17,\"W\",IF(O17<P17,\"L\",IF(O17=0,\"\",IF(O17=P17,\"D\",0))))","v":""},52,21,{"$nulls":3},{"$f":"IF(AD17=\"D\",\"D\",IF(AD17=\"W\",AB17,IF(AD17=\"L\",AB17,0)))","v":0},{"$f":"IF(X17+Y17=0,0,IF(X17+Y17>0.1,X17-Y17,0))","v":0},{"$f":"IF(AD17=\"W\",$R$3,IF(AD17=\"D\",$AA$3,0))","v":{"v":0,"d":"0.0"}},{"$f":"IF(X17>Y17,\"W\",IF(X17<Y17,\"L\",IF(X17=0,\"\",IF(X17=Y17,\"D\",0))))","v":""},50,4,{"$nulls":3},{"$f":"IF(AM17=\"D\",\"D\",IF(AM17=\"W\",AK17,IF(AM17=\"L\",AK17,0)))","v":0},{"$f":"IF(AG17+AH17=0,0,IF(AG17+AH17>0.1,AG17-AH17,0))","v":0},{"$f":"IF(AM17=\"W\",$R$3,IF(AM17=\"D\",$AA$3,0))","v":{"v":0,"d":"0.0"}},{"$f":"IF(AG17>AH17,\"W\",IF(AG17<AH17,\"L\",IF(AG17=0,\"\",IF(AG17=AH17,\"D\",0))))","v":""},54,9,{"$nulls":3},{"$f":"IF(AV17=\"D\",\"D\",IF(AV17=\"W\",AT17,IF(AV17=\"L\",AT17,0)))","v":0},{"$f":"IF(AP17+AQ17=0,0,IF(AP17+AQ17>0.1,AP17-AQ17,0))","v":0},{"$f":"IF(AV17=\"W\",$R$3,IF(AV17=\"D\",$AA$3,0))","v":{"v":0,"d":"0.0"}},{"$f":"IF(AP17>AQ17,\"W\",IF(AP17<AQ17,\"L\",IF(AP17=0,\"\",IF(AP17=AQ17,\"D\",0))))","v":""},3,18,{"$nulls":3},{"$f":"IF(BE17=\"D\",\"D\",IF(BE17=\"W\",BC17,IF(BE17=\"L\",BC17,0)))","v":0},{"$f":"IF(AY17+AZ17=0,0,IF(AY17+AZ17>0.1,AY17-AZ17,0))","v":0},{"$f":"IF(BE17=\"W\",$R$3,IF(BE17=\"D\",$AA$3,0))","v":{"v":0,"d":"0.0"}},{"$f":"IF(AY17>AZ17,\"W\",IF(AY17<AZ17,\"L\",IF(AY17=0,\"\",IF(AY17=AZ17,\"D\",0))))","v":""},14,3,{"$nulls":3},{"$f":"IF(BN17=\"D\",\"D\",IF(BN17=\"W\",BL17,IF(BN17=\"L\",BL17,0)))","v":0},{"$f":"IF(BH17+BI17=0,0,IF(BH17+BI17>0.1,BH17-BI17,0))","v":0},{"$f":"IF(BN17=\"W\",$R$3,IF(BN17=\"D\",$AA$3,0))","v":{"v":0,"d":"0.0"}},{"$f":"IF(BH17>BI17,\"W\",IF(BH17<BI17,\"L\",IF(BH17=0,\"\",IF(BH17=BI17,\"D\",0))))","v":""},9,12,{"$nulls":3},{"$f":"IF(BW17=\"D\",\"D\",IF(BW17=\"W\",BU17,IF(BW17=\"L\",BU17,0)))","v":0},{"$f":"IF(BQ17+BR17=0,0,IF(BQ17+BR17>0.1,BQ17-BR17,0))","v":0},{"$f":"IF(BW17=\"W\",$R$3,IF(BW17=\"D\",$AA$3,0))","v":{"v":0,"d":"0.0"}},{"$f":"IF(BQ17>BR17,\"W\",IF(BQ17<BR17,\"L\",IF(BQ17=0,\"\",IF(BQ17=BR17,\"D\",0))))","v":""},{"$nulls":3},{"$f":"IF(CD17=\"D\",\"D\",IF(CD17=\"W\",CB17,IF(CD17=\"L\",CB17,0)))","v":0},{"$f":"IF(BX17+BY17=0,0,IF(BX17+BY17>0.1,BX17-BY17,0))","v":0},{"$f":"IF(CD17=\"W\",1,IF(CD17=\"D\",0.5,0))","v":{"v":0,"d":"0.0"}},{"$f":"IF(BX17>BY17,\"W\",IF(BX17<BY17,\"L\",IF(BX17=0,\"\",IF(BX17=BY17,\"D\",0))))","v":""},{"$f":"K17+T17+AC17+AL17+AU17+BD17+BM17+BV17+CC17","v":0},{"$f":"F17-G17+O17-P17+X17-Y17+AG17-AH17+AP17-AQ17+AY17-AZ17+BH17-BI17+BQ17-BR17","v":0},0,{"$f":"(CF17*10000)+(CF17*1000)+CI17","v":0},{"$f":"H17+Q17+Z17+AI17+AR17+BA17+BJ17+BS17+BZ17","v":0},{"$f":"(CE17*$R$3)+CI17","v":0},{"$f":"IF($CG$7:$CG$60=0,\"\",RANK(CG17,$CG$7:$CG$60))","v":""}]
[null,12,null,45,11,{"$nulls":3},{"$f":"IF(L18=\"D\",\"D\",IF(L18=\"W\",J18,IF(L18=\"L\",J18,0)))","v":0},{"$f":"IF(F18+G18=0,0,IF(F18+G18>0.1,F18-G18,0))","v":0},{"$f":"IF(L18=\"W\",$R$3,IF(L18=\"D\",$AA$3,0))","v":{"v":0,"d":"0.0"}},{"$f":"IF(F18>G18,\"W\",IF(F18<G18,\"L\",IF(F18=0,\"\",IF(F18=G18,\"D\",0))))","v":""},47,15,{"$nulls":3},{"$f":"IF(U18=\"D\",\"D\",IF(U18=\"W\",S18,IF(U18=\"L\",S18,0)))","v":0},{"$f":"IF(O18+P18=0,0,IF(O18+P18>0.1,O18-P18,0))","v":0},{"$f":"IF(U18=\"W\",$R$3,IF(U18=\"D\",$AA$3,0))","v":{"v":0,"d":"0.0"}},{"$f":"IF(O18>P18,\"W\",IF(O18<P18,\"L\",IF(O18=0,\"\",IF(O18=P18,\"D\",0))))","v":""},51,23,{"$nulls":3},{"$f":"IF(AD18=\"D\",\"D\",IF(AD18=\"W\",AB18,IF(AD18=\"L\",AB18,0)))","v":0},{"$f":"IF(X18+Y18=0,0,IF(X18+Y18>0.1,X18-Y18,0))","v":0},{"$f":"IF(AD18=\"W\",$R$3,IF(AD18=\"D\",$AA$3,0))","v":{"v":0,"d":"0.0"}},{"$f":"IF(X18>Y18,\"W\",IF(X18<Y18,\"L\",IF(X18=0,\"\",IF(X18=Y18,\"D\",0))))","v":""},49,6,{"$nulls":3},{"$f":"IF(AM18=\"D\",\"D\",IF(AM18=\"W\",AK18,IF(AM18=\"L\",AK18,0)))","v":0},{"$f":"IF(AG18+AH18=0,0,IF(AG18+AH18>0.1,AG18-AH18,0))","v":0},{"$f":"IF(AM18=\"W\",$R$3,IF(AM18=\"D\",$AA$3,0))","v":{"v":0,"d":"0.0"}},{"$f":"IF(AG18>AH18,\"W\",IF(AG18<AH18,\"L\",IF(AG18=0,\"\",IF(AG18=AH18,\"D\",0))))","v":""},53,8,{"$nulls":3},{"$f":"IF(AV18=\"D\",\"D\",IF(AV18=\"W\",AT18,IF(AV18=\"L\",AT18,0)))","v":0},{"$f":"IF(AP18+AQ18=0,0,IF(AP18+AQ18>0.1,AP18-AQ18,0))","v":0},{"$f":"IF(AV18=\"W\",$R$3,IF(AV18=\"D\",$AA$3,0))","v":{"v":0,"d":"0.0"}},{"$f":"IF(AP18>AQ18,\"W\",IF(AP18<AQ18,\"L\",IF(AP18=0,\"\",IF(AP18=AQ18,\"D\",0))))","v":""},2,19,{"$nulls":3},{"$f":"IF(BE18=\"D\",\"D\",IF(BE18=\"W\",BC18,IF(BE18=\"L\",BC18,0)))","v":0},{"$f":"IF(AY18+AZ18=0,0,IF(AY18+AZ18>0.1,AY18-AZ18,0))","v":0},{"$f":"IF(BE18=\"W\",$R$3,IF(BE18=\"D\",$AA$3,0))","v":{"v":0,"d":"0.0"}},{"$f":"IF(AY18>AZ18,\"W\",IF(AY18<AZ18,\"L\",IF(AY18=0,\"\",IF(AY18=AZ18,\"D\",0))))","v":""},4,7,{"$nulls":3},{"$f":"IF(BN18=\"D\",\"D\",IF(BN18=\"W\",BL18,IF(BN18=\"L\",BL18,0)))","v":0},{"$f":"IF(BH18+BI18=0,0,IF(BH18+BI18>0.1,BH18-BI18,0))","v":0},{"$f":"IF(BN18=\"W\",$R$3,IF(BN18=\"D\",$AA$3,0))","v":{"v":0,"d":"0.0"}},{"$f":"IF(BH18>BI18,\"W\",IF(BH18<BI18,\"L\",IF(BH18=0,\"\",IF(BH18=BI18,\"D\",0))))","v":""},10,13,{"$nulls":3},{"$f":"IF(BW18=\"D\",\"D\",IF(BW18=\"W\",BU18,IF(BW18=\"L\",BU18,0)))","v":0},{"$f":"IF(BQ18+BR18=0,0,IF(BQ18+BR18>0.1,BQ18-BR18,0))","v":0},{"$f":"IF(BW18=\"W\",$R$3,IF(BW18=\"D\",$AA$3,0))","v":{"v":0,"d":"0.0"}},{"$f":"IF(BQ18>BR18,\"W\",IF(BQ18<BR18,\"L\",IF(BQ18=0,\"\",IF(BQ18=BR18,\"D\",0))))","v":""},{"$nulls":3},{"$f":"IF(CD18=\"D\",\"D\",IF(CD18=\"W\",CB18,IF(CD18=\"L\",CB18,0)))","v":0},{"$f":"IF(BX18+BY18=0,0,IF(BX18+BY18>0.1,BX18-BY18,0))","v":0},{"$f":"IF(CD18=\"W\",1,IF(CD18=\"D\",0.5,0))","v":{"v":0,"d":"0.0"}},{"$f":"IF(BX18>BY18,\"W\",IF(BX18<BY18,\"L\",IF(BX18=0,\"\",IF(BX18=BY18,\"D\",0))))","v":""},{"$f":"K18+T18+AC18+AL18+AU18+BD18+BM18+BV18+CC18","v":0},{"$f":"F18-G18+O18-P18+X18-Y18+AG18-AH18+AP18-AQ18+AY18-AZ18+BH18-BI18+BQ18-BR18","v":0},0,{"$f":"(CF18*10000)+(CF18*1000)+CI18","v":0},{"$f":"H18+Q18+Z18+AI18+AR18+BA18+BJ18+BS18+BZ18","v":0},{"$f":"(CE18*$R$3)+CI18","v":0},{"$f":"IF($CG$7:$CG$60=0,\"\",RANK(CG18,$CG$7:$CG$60))","v":""}]
[null,13,null,44,12,{"$nulls":3},{"$f":"IF(L19=\"D\",\"D\",IF(L19=\"W\",J19,IF(L19=\"L\",J19,0)))","v":0},{"$f":"IF(F19+G19=0,0,IF(F19+G19>0.1,F19-G19,0))","v":0},{"$f":"IF(L19=\"W\",$R$3,IF(L19=\"D\",$AA$3,0))","v":{"v":0,"d":"0.0"}},{"$f":"IF(F19>G19,\"W\",IF(F19<G19,\"L\",IF(F19=0,\"\",IF(F19=G19,\"D\",0))))","v":""},46,21,{"$nulls":3},{"$f":"IF(U19=\"D\",\"D\",IF(U19=\"W\",S19,IF(U19=\"L\",S19,0)))","v":0},{"$f":"IF(O19+P19=0,0,IF(O19+P19>0.1,O19-P19,0))","v":0},{"$f":"IF(U19=\"W\",$R$3,IF(U19=\"D\",$AA$3,0))","v":{"v":0,"d":"0.0"}},{"$f":"IF(O19>P19,\"W\",IF(O19<P19,\"L\",IF(O19=0,\"\",IF(O19=P19,\"D\",0))))","v":""},50,24,{"$nulls":3},{"$f":"IF(AD19=\"D\",\"D\",IF(AD19=\"W\",AB19,IF(AD19=\"L\",AB19,0)))","v":0},{"$f":"IF(X19+Y19=0,0,IF(X19+Y19>0.1,X19-Y19,0))","v":0},{"$f":"IF(AD19=\"W\",$R$3,IF(AD19=\"D\",$AA$3,0))","v":{"v":0,"d":"0.0"}},{"$f":"IF(X19>Y19,\"W\",IF(X19<Y19,\"L\",IF(X19=0,\"\",IF(X19=Y19,\"D\",0))))","v":""},48,9,{"$nulls":3},{"$f":"IF(AM19=\"D\",\"D\",IF(AM19=\"W\",AK19,IF(AM19=\"L\",AK19,0)))","v":0},{"$f":"IF(AG19+AH19=0,0,IF(AG19+AH19>0.1,AG19-AH19,0))","v":0},{"$f":"IF(AM19=\"W\",$R$3,IF(AM19=\"D\",$AA$3,0))","v":{"v":0,"d":"0.0"}},{"$f":"IF(AG19>AH19,\"W\",IF(AG19<AH19,\"L\",IF(AG19=0,\"\",IF(AG19=AH19,\"D\",0))))","v":""},52,15,{"$nulls":3},{"$f":"IF(AV19=\"D\",\"D\",IF(AV19=\"W\",AT19,IF(AV19=\"L\",AT19,0)))","v":0},{"$f":"IF(AP19+AQ19=0,0,IF(AP19+AQ19>0.1,AP19-AQ19,0))","v":0},{"$f":"IF(AV19=\"W\",$R$3,IF(AV19=\"D\",$AA$3,0))","v":{"v":0,"d":"0.0"}},{"$f":"IF(AP19>AQ19,\"W\",IF(AP19<AQ19,\"L\",IF(AP19=0,\"\",IF(AP19=AQ19,\"D\",0))))","v":""},54,23,{"$nulls":3},{"$f":"IF(BE19=\"D\",\"D\",IF(BE19=\"W\",BC19,IF(BE19=\"L\",BC19,0)))","v":0},{"$f":"IF(AY19+AZ19=0,0,IF(AY19+AZ19>0.1,AY19-AZ19,0))","v":0},{"$f":"IF(BE19=\"W\",$R$3,IF(BE19=\"D\",$AA$3,0))","v":{"v":0,"d":"0.0"}},{"$f":"IF(AY19>AZ19,\"W\",IF(AY19<AZ19,\"L\",IF(AY19=0,\"\",IF(AY19=AZ19,\"D\",0))))","v":""},1,5,{"$nulls":3},{"$f":"IF(BN19=\"D\",\"D\",IF(BN19=\"W\",BL19,IF(BN19=\"L\",BL19,0)))","v":0},{"$f":"IF(BH19+BI19=0,0,IF(BH19+BI19>0.1,BH19-BI19,0))","v":0},{"$f":"IF(BN19=\"W\",$R$3,IF(BN19=\"D\",$AA$3,0))","v":{"v":0,"d":"0.0"}},{"$f":"IF(BH19>BI19,\"W\",IF(BH19<BI19,\"L\",IF(BH19=0,\"\",IF(BH19=BI19,\"D\",0))))","v":""},7,10,{"$nulls":3},{"$f":"IF(BW19=\"D\",\"D\",IF(BW19=\"W\",BU19,IF(BW19=\"L\",BU19,0)))","v":0},{"$f":"IF(BQ19+BR19=0,0,IF(BQ19+BR19>0.1,BQ19-BR19,0))","v":0},{"$f":"IF(BW19=\"W\",$R$3,IF(BW19=\"D\",$AA$3,0))","v":{"v":0,"d":"0.0"}},{"$f":"IF(BQ19>BR19,\"W\",IF(BQ19<BR19,\"L\",IF(BQ19=0,\"\",IF(BQ19=BR19,\"D\",0))))","v":""},{"$nulls":3},{"$f":"IF(CD19=\"D\",\"D\",IF(CD19=\"W\",CB19,IF(CD19=\"L\",CB19,0)))","v":0},{"$f":"IF(BX19+BY19=0,0,IF(BX19+BY19>0.1,BX19-BY19,0))","v":0},{"$f":"IF(CD19=\"W\",1,IF(CD19=\"D\",0.5,0))","v":{"v":0,"d":"0.0"}},{"$f":"IF(BX19>BY19,\"W\",IF(BX19<BY19,\"L\",IF(BX19=0,\"\",IF(BX19=BY19,\"D\",0))))","v":""},{"$f":"K19+T19+AC19+AL19+AU19+BD19+BM19+BV19+CC19","v":0},{"$f":"F19-G19+O19-P19+X19-Y19+AG19-AH19+AP19-AQ19+AY19-AZ19+BH19-BI19+BQ19-BR19","v":0},0,{"$f":"(CF19*10000)+(CF19*1000)+CI19","v":0},{"$f":"H19+Q19+Z19+AI19+AR19+BA19+BJ19+BS19+BZ19","v":0},{"$f":"(CE19*$R$3)+CI19","v":0},{"$f":"IF($CG$7:$CG$60=0,\"\",RANK(CG19,$CG$7:$CG$60))","v":""}]
[null,14,null,43,13,{"$nulls":3},{"$f":"IF(L20=\"D\",\"D\",IF(L20=\"W\",J20,IF(L20=\"L\",J20,0)))","v":0},{"$f":"IF(F20+G20=0,0,IF(F20+G20>0.1,F20-G20,0))","v":0},{"$f":"IF(L20=\"W\",$R$3,IF(L20=\"D\",$AA$3,0))","v":{"v":0,"d":"0.0"}},{"$f":"IF(F20>G20,\"W\",IF(F20<G20,\"L\",IF(F20=0,\"\",IF(F20=G20,\"D\",0))))","v":""},45,18,{"$nulls":3},{"$f":"IF(U20=\"D\",\"D\",IF(U20=\"W\",S20,IF(U20=\"L\",S20,0)))","v":0},{"$f":"IF(O20+P20=0,0,IF(O20+P20>0.1,O20-P20,0))","v":0},{"$f":"IF(U20=\"W\",$R$3,IF(U20=\"D\",$AA$3,0))","v":{"v":0,"d":"0.0"}},{"$f":"IF(O20>P20,\"W\",IF(O20<P20,\"L\",IF(O20=0,\"\",IF(O20=P20,\"D\",0))))","v":""},49,22,{"$nulls":3},{"$f":"IF(AD20=\"D\",\"D\",IF(AD20=\"W\",AB20,IF(AD20=\"L\",AB20,0)))","v":0},{"$f":"IF(X20+Y20=0,0,IF(X20+Y20>0.1,X20-Y20,0))","v":0},{"$f":"IF(AD20=\"W\",$R$3,IF(AD20=\"D\",$AA$3,0))","v":{"v":0,"d":"0.0"}},{"$f":"IF(X20>Y20,\"W\",IF(X20<Y20,\"L\",IF(X20=0,\"\",IF(X20=Y20,\"D\",0))))","v":""},47,8,{"$nulls":3},{"$f":"IF(AM20=\"D\",\"D\",IF(AM20=\"W\",AK20,IF(AM20=\"L\",AK20,0)))","v":0},{"$f":"IF(AG20+AH20=0,0,IF(AG20+AH20>0.1,AG20-AH20,0))","v":0},{"$f":"IF(AM20=\"W\",$R$3,IF(AM20=\"D\",$AA$3,0))","v":{"v":0,"d":"0.0"}},{"$f":"IF(AG20>AH20,\"W\",IF(AG20<AH20,\"L\",IF(AG20=0,\"\",IF(AG20=AH20,\"D\",0))))","v":""},51,20,{"$nulls":3},{"$f":"IF(AV20=\"D\",\"D\",IF(AV20=\"W\",AT20,IF(AV20=\"L\",AT20,0)))","v":0},{"$f":"IF(AP20+AQ20=0,0,IF(AP20+AQ20>0.1,AP20-AQ20,0))","v":0},{"$f":"IF(AV20=\"W\",$R$3,IF(AV20=\"D\",$AA$3,0))","v":{"v":0,"d":"0.0"}},{"$f":"IF(AP20>AQ20,\"W\",IF(AP20<AQ20,\"L\",IF(AP20=0,\"\",IF(AP20=AQ20,\"D\",0))))","v":""},53,24,{"$nulls":3},{"$f":"IF(BE20=\"D\",\"D\",IF(BE20=\"W\",BC20,IF(BE20=\"L\",BC20,0)))","v":0},{"$f":"IF(AY20+AZ20=0,0,IF(AY20+AZ20>0.1,AY20-AZ20,0))","v":0},{"$f":"IF(BE20=\"W\",$R$3,IF(BE20=\"D\",$AA$3,0))","v":{"v":0,"d":"0.0"}},{"$f":"IF(AY20>AZ20,\"W\",IF(AY20<AZ20,\"L\",IF(AY20=0,\"\",IF(AY20=AZ20,\"D\",0))))","v":""},11,3,{"$nulls":3},{"$f":"IF(BN20=\"D\",\"D\",IF(BN20=\"W\",BL20,IF(BN20=\"L\",BL20,0)))","v":0},{"$f":"IF(BH20+BI20=0,0,IF(BH20+BI20>0.1,BH20-BI20,0))","v":0},{"$f":"IF(BN20=\"W\",$R$3,IF(BN20=\"D\",$AA$3,0))","v":{"v":0,"d":"0.0"}},{"$f":"IF(BH20>BI20,\"W\",IF(BH20<BI20,\"L\",IF(BH20=0,\"\",IF(BH20=BI20,\"D\",0))))","v":""},6,14,{"$nulls":3},{"$f":"IF(BW20=\"D\",\"D\",IF(BW20=\"W\",BU20,IF(BW20=\"L\",BU20,0)))","v":0},{"$f":"IF(BQ20+BR20=0,0,IF(BQ20+BR20>0.1,BQ20-BR20,0))","v":0},{"$f":"IF(BW20=\"W\",$R$3,IF(BW20=\"D\",$AA$3,0))","v":{"v":0,"d":"0.0"}},{"$f":"IF(BQ20>BR20,\"W\",IF(BQ20<BR20,\"L\",IF(BQ20=0,\"\",IF(BQ20=BR20,\"D\",0))))","v":""},{"$nulls":3},{"$f":"IF(CD20=\"D\",\"D\",IF(CD20=\"W\",CB20,IF(CD20=\"L\",CB20,0)))","v":0},{"$f":"IF(BX20+BY20=0,0,IF(BX20+BY20>0.1,BX20-BY20,0))","v":0},{"$f":"IF(CD20=\"W\",1,IF(CD20=\"D\",0.5,0))","v":{"v":0,"d":"0.0"}},{"$f":"IF(BX20>BY20,\"W\",IF(BX20<BY20,\"L\",IF(BX20=0,\"\",IF(BX20=BY20,\"D\",0))))","v":""},{"$f":"K20+T20+AC20+AL20+AU20+BD20+BM20+BV20+CC20","v":0},{"$f":"F20-G20+O20-P20+X20-Y20+AG20-AH20+AP20-AQ20+AY20-AZ20+BH20-BI20+BQ20-BR20","v":0},0,{"$f":"(CF20*10000)+(CF20*1000)+CI20","v":0},{"$f":"H20+Q20+Z20+AI20+AR20+BA20+BJ20+BS20+BZ20","v":0},{"$f":"(CE20*$R$3)+CI20","v":0},{"$f":"IF($CG$7:$CG$60=0,\"\",RANK(CG20,$CG$7:$CG$60))","v":""}]
[null,15,null,42,14,{"$nulls":3},{"$f":"IF(L21=\"D\",\"D\",IF(L21=\"W\",J21,IF(L21=\"L\",J21,0)))","v":0},{"$f":"IF(F21+G21=0,0,IF(F21+G21>0.1,F21-G21,0))","v":0},{"$f":"IF(L21=\"W\",$R$3,IF(L21=\"D\",$AA$3,0))","v":{"v":0,"d":"0.0"}},{"$f":"IF(F21>G21,\"W\",IF(F21<G21,\"L\",IF(F21=0,\"\",IF(F21=G21,\"D\",0))))","v":""},44,19,{"$nulls":3},{"$f":"IF(U21=\"D\",\"D\",IF(U21=\"W\",S21,IF(U21=\"L\",S21,0)))","v":0},{"$f":"IF(O21+P21=0,0,IF(O21+P21>0.1,O21-P21,0))","v":0},{"$f":"IF(U21=\"W\",$R$3,IF(U21=\"D\",$AA$3,0))","v":{"v":0,"d":"0.0"}},{"$f":"IF(O21>P21,\"W\",IF(O21<P21,\"L\",IF(O21=0,\"\",IF(O21=P21,\"D\",0))))","v":""},48,25,{"$nulls":3},{"$f":"IF(AD21=\"D\",\"D\",IF(AD21=\"W\",AB21,IF(AD21=\"L\",AB21,0)))","v":0},{"$f":"IF(X21+Y21=0,0,IF(X21+Y21>0.1,X21-Y21,0))","v":0},{"$f":"IF(AD21=\"W\",$R$3,IF(AD21=\"D\",$AA$3,0))","v":{"v":0,"d":"0.0"}},{"$f":"IF(X21>Y21,\"W\",IF(X21<Y21,\"L\",IF(X21=0,\"\",IF(X21=Y21,\"D\",0))))","v":""},46,11,{"$nulls":3},{"$f":"IF(AM21=\"D\",\"D\",IF(AM21=\"W\",AK21,IF(AM21=\"L\",AK21,0)))","v":0},{"$f":"IF(AG21+AH21=0,0,IF(AG21+AH21>0.1,AG21-AH21,0))","v":0},{"$f":"IF(AM21=\"W\",$R$3,IF(AM21=\"D\",$AA$3,0))","v":{"v":0,"d":"0.0"}},{"$f":"IF(AG21>AH21,\"W\",IF(AG21<AH21,\"L\",IF(AG21=0,\"\",IF(AG21=AH21,\"D\",0))))","v":""},50,21,{"$nulls":3},{"$f":"IF(AV21=\"D\",\"D\",IF(AV21=\"W\",AT21,IF(AV21=\"L\",AT21,0)))","v":0},{"$f":"IF(AP21+AQ21=0,0,IF(AP21+AQ21>0.1,AP21-AQ21,0))","v":0},{"$f":"IF(AV21=\"W\",$R$3,IF(AV21=\"D\",$AA$3,0))","v":{"v":0,"d":"0.0"}},{"$f":"IF(AP21>AQ21,\"W\",IF(AP21<AQ21,\"L\",IF(AP21=0,\"\",IF(AP21=AQ21,\"D\",0))))","v":""},52,25,{"$nulls":3},{"$f":"IF(BE21=\"D\",\"D\",IF(BE21=\"W\",BC21,IF(BE21=\"L\",BC21,0)))","v":0},{"$f":"IF(AY21+AZ21=0,0,IF(AY21+AZ21>0.1,AY21-AZ21,0))","v":0},{"$f":"IF(BE21=\"W\",$R$3,IF(BE21=\"D\",$AA$3,0))","v":{"v":0,"d":"0.0"}},{"$f":"IF(AY21>AZ21,\"W\",IF(AY21<AZ21,\"L\",IF(AY21=0,\"\",IF(AY21=AZ21,\"D\",0))))","v":""},27,12,{"$nulls":3},{"$f":"IF(BN21=\"D\",\"D\",IF(BN21=\"W\",BL21,IF(BN21=\"L\",BL21,0)))","v":0},{"$f":"IF(BH21+BI21=0,0,IF(BH21+BI21>0.1,BH21-BI21,0))","v":0},{"$f":"IF(BN21=\"W\",$R$3,IF(BN21=\"D\",$AA$3,0))","v":{"v":0,"d":"0.0"}},{"$f":"IF(BH21>BI21,\"W\",IF(BH21<BI21,\"L\",IF(BH21=0,\"\",IF(BH21=BI21,\"D\",0))))","v":""},22,15,{"$nulls":3},{"$f":"IF(BW21=\"D\",\"D\",IF(BW21=\"W\",BU21,IF(BW21=\"L\",BU21,0)))","v":0},{"$f":"IF(BQ21+BR21=0,0,IF(BQ21+BR21>0.1,BQ21-BR21,0))","v":0},{"$f":"IF(BW21=\"W\",$R$3,IF(BW21=\"D\",$AA$3,0))","v":{"v":0,"d":"0.0"}},{"$f":"IF(BQ21>BR21,\"W\",IF(BQ21<BR21,\"L\",IF(BQ21=0,\"\",IF(BQ21=BR21,\"D\",0))))","v":""},{"$nulls":3},{"$f":"IF(CD21=\"D\",\"D\",IF(CD21=\"W\",CB21,IF(CD21=\"L\",CB21,0)))","v":0},{"$f":"IF(BX21+BY21=0,0,IF(BX21+BY21>0.1,BX21-BY21,0))","v":0},{"$f":"IF(CD21=\"W\",1,IF(CD21=\"D\",0.5,0))","v":{"v":0,"d":"0.0"}},{"$f":"IF(BX21>BY21,\"W\",IF(BX21<BY21,\"L\",IF(BX21=0,\"\",IF(BX21=BY21,\"D\",0))))","v":""},{"$f":"K21+T21+AC21+AL21+AU21+BD21+BM21+BV21+CC21","v":0},{"$f":"F21-G21+O21-P21+X21-Y21+AG21-AH21+AP21-AQ21+AY21-AZ21+BH21-BI21+BQ21-BR21","v":0},0,{"$f":"(CF21*10000)+(CF21*1000)+CI21","v":0},{"$f":"H21+Q21+Z21+AI21+AR21+BA21+BJ21+BS21+BZ21","v":0},{"$f":"(CE21*$R$3)+CI21","v":0},{"$f":"IF($CG$7:$CG$60=0,\"\",RANK(CG21,$CG$7:$CG$60))","v":""}]
[null,16,null,41,15,{"$nulls":3},{"$f":"IF(L22=\"D\",\"D\",IF(L22=\"W\",J22,IF(L22=\"L\",J22,0)))","v":0},{"$f":"IF(F22+G22=0,0,IF(F22+G22>0.1,F22-G22,0))","v":0},{"$f":"IF(L22=\"W\",$R$3,IF(L22=\"D\",$AA$3,0))","v":{"v":0,"d":"0.0"}},{"$f":"IF(F22>G22,\"W\",IF(F22<G22,\"L\",IF(F22=0,\"\",IF(F22=G22,\"D\",0))))","v":""},43,27,{"$nulls":3},{"$f":"IF(U22=\"D\",\"D\",IF(U22=\"W\",S22,IF(U22=\"L\",S22,0)))","v":0},{"$f":"IF(O22+P22=0,0,IF(O22+P22>0.1,O22-P22,0))","v":0},{"$f":"IF(U22=\"W\",$R$3,IF(U22=\"D\",$AA$3,0))","v":{"v":0,"d":"0.0"}},{"$f":"IF(O22>P22,\"W\",IF(O22<P22,\"L\",IF(O22=0,\"\",IF(O22=P22,\"D\",0))))","v":""},47,2,{"$nulls":3},{"$f":"IF(AD22=\"D\",\"D\",IF(AD22=\"W\",AB22,IF(AD22=\"L\",AB22,0)))","v":0},{"$f":"IF(X22+Y22=0,0,IF(X22+Y22>0.1,X22-Y22,0))","v":0},{"$f":"IF(AD22=\"W\",$R$3,IF(AD22=\"D\",$AA$3,0))","v":{"v":0,"d":"0.0"}},{"$f":"IF(X22>Y22,\"W\",IF(X22<Y22,\"L\",IF(X22=0,\"\",IF(X22=Y22,\"D\",0))))","v":""},45,10,{"$nulls":3},{"$f":"IF(AM22=\"D\",\"D\",IF(AM22=\"W\",AK22,IF(AM22=\"L\",AK22,0)))","v":0},{"$f":"IF(AG22+AH22=0,0,IF(AG22+AH22>0.1,AG22-AH22,0))","v":0},{"$f":"IF(AM22=\"W\",$R$3,IF(AM22=\"D\",$AA$3,0))","v":{"v":0,"d":"0.0"}},{"$f":"IF(AG22>AH22,\"W\",IF(AG22<AH22,\"L\",IF(AG22=0,\"\",IF(AG22=AH22,\"D\",0))))","v":""},49,19,{"$nulls":3},{"$f":"IF(AV22=\"D\",\"D\",IF(AV22=\"W\",AT22,IF(AV22=\"L\",AT22,0)))","v":0},{"$f":"IF(AP22+AQ22=0,0,IF(AP22+AQ22>0.1,AP22-AQ22,0))","v":0},{"$f":"IF(AV22=\"W\",$R$3,IF(AV22=\"D\",$AA$3,0))","v":{"v":0,"d":"0.0"}},{"$f":"IF(AP22>AQ22,\"W\",IF(AP22<AQ22,\"L\",IF(AP22=0,\"\",IF(AP22=AQ22,\"D\",0))))","v":""},51,22,{"$nulls":3},{"$f":"IF(BE22=\"D\",\"D\",IF(BE22=\"W\",BC22,IF(BE22=\"L\",BC22,0)))","v":0},{"$f":"IF(AY22+AZ22=0,0,IF(AY22+AZ22>0.1,AY22-AZ22,0))","v":0},{"$f":"IF(BE22=\"W\",$R$3,IF(BE22=\"D\",$AA$3,0))","v":{"v":0,"d":"0.0"}},{"$f":"IF(AY22>AZ22,\"W\",IF(AY22<AZ22,\"L\",IF(AY22=0,\"\",IF(AY22=AZ22,\"D\",0))))","v":""},23,9,{"$nulls":3},{"$f":"IF(BN22=\"D\",\"D\",IF(BN22=\"W\",BL22,IF(BN22=\"L\",BL22,0)))","v":0},{"$f":"IF(BH22+BI22=0,0,IF(BH22+BI22>0.1,BH22-BI22,0))","v":0},{"$f":"IF(BN22=\"W\",$R$3,IF(BN22=\"D\",$AA$3,0))","v":{"v":0,"d":"0.0"}},{"$f":"IF(BH22>BI22,\"W\",IF(BH22<BI22,\"L\",IF(BH22=0,\"\",IF(BH22=BI22,\"D\",0))))","v":""},19,16,{"$nulls":3},{"$f":"IF(BW22=\"D\",\"D\",IF(BW22=\"W\",BU22,IF(BW22=\"L\",BU22,0)))","v":0},{"$f":"IF(BQ22+BR22=0,0,IF(BQ22+BR22>0.1,BQ22-BR22,0))","v":0},{"$f":"IF(BW22=\"W\",$R$3,IF(BW22=\"D\",$AA$3,0))","v":{"v":0,"d":"0.0"}},{"$f":"IF(BQ22>BR22,\"W\",IF(BQ22<BR22,\"L\",IF(BQ22=0,\"\",IF(BQ22=BR22,\"D\",0))))","v":""},{"$nulls":3},{"$f":"IF(CD22=\"D\",\"D\",IF(CD22=\"W\",CB22,IF(CD22=\"L\",CB22,0)))","v":0},{"$f":"IF(BX22+BY22=0,0,IF(BX22+BY22>0.1,BX22-BY22,0))","v":0},{"$f":"IF(CD22=\"W\",1,IF(CD22=\"D\",0.5,0))","v":{"v":0,"d":"0.0"}},{"$f":"IF(BX22>BY22,\"W\",IF(BX22<BY22,\"L\",IF(BX22=0,\"\",IF(BX22=BY22,\"D\",0))))","v":""},{"$f":"K22+T22+AC22+AL22+AU22+BD22+BM22+BV22+CC22","v":0},{"$f":"F22-G22+O22-P22+X22-Y22+AG22-AH22+AP22-AQ22+AY22-AZ22+BH22-BI22+BQ22-BR22","v":0},0,{"$f":"(CF22*10000)+(CF22*1000)+CI22","v":0},{"$f":"H22+Q22+Z22+AI22+AR22+BA22+BJ22+BS22+BZ22","v":0},{"$f":"(CE22*$R$3)+CI22","v":0},{"$f":"IF($CG$7:$CG$60=0,\"\",RANK(CG22,$CG$7:$CG$60))","v":""}]
[null,17,null,40,16,{"$nulls":3},{"$f":"IF(L23=\"D\",\"D\",IF(L23=\"W\",J23,IF(L23=\"L\",J23,0)))","v":0},{"$f":"IF(F23+G23=0,0,IF(F23+G23>0.1,F23-G23,0))","v":0},{"$f":"IF(L23=\"W\",$R$3,IF(L23=\"D\",$AA$3,0))","v":{"v":0,"d":"0.0"}},{"$f":"IF(F23>G23,\"W\",IF(F23<G23,\"L\",IF(F23=0,\"\",IF(F23=G23,\"D\",0))))","v":""},42,23,{"$nulls":3},{"$f":"IF(U23=\"D\",\"D\",IF(U23=\"W\",S23,IF(U23=\"L\",S23,0)))","v":0},{"$f":"IF(O23+P23=0,0,IF(O23+P23>0.1,O23-P23,0))","v":0},{"$f":"IF(U23=\"W\",$R$3,IF(U23=\"D\",$AA$3,0))","v":{"v":0,"d":"0.0"}},{"$f":"IF(O23>P23,\"W\",IF(O23<P23,\"L\",IF(O23=0,\"\",IF(O23=P23,\"D\",0))))","v":""},46,3,{"$nulls":3},{"$f":"IF(AD23=\"D\",\"D\",IF(AD23=\"W\",AB23,IF(AD23=\"L\",AB23,0)))","v":0},{"$f":"IF(X23+Y23=0,0,IF(X23+Y23>0.1,X23-Y23,0))","v":0},{"$f":"IF(AD23=\"W\",$R$3,IF(AD23=\"D\",$AA$3,0))","v":{"v":0,"d":"0.0"}},{"$f":"IF(X23>Y23,\"W\",IF(X23<Y23,\"L\",IF(X23=0,\"\",IF(X23=Y23,\"D\",0))))","v":""},44,20,{"$nulls":3},{"$f":"IF(AM23=\"D\",\"D\",IF(AM23=\"W\",AK23,IF(AM23=\"L\",AK23,0)))","v":0},{"$f":"IF(AG23+AH23=0,0,IF(AG23+AH23>0.1,AG23-AH23,0))","v":0},{"$f":"IF(AM23=\"W\",$R$3,IF(AM23=\"D\",$AA$3,0))","v":{"v":0,"d":"0.0"}},{"$f":"IF(AG23>AH23,\"W\",IF(AG23<AH23,\"L\",IF(AG23=0,\"\",IF(AG23=AH23,\"D\",0))))","v":""},48,22,{"$nulls":3},{"$f":"IF(AV23=\"D\",\"D\",IF(AV23=\"W\",AT23,IF(AV23=\"L\",AT23,0)))","v":0},{"$f":"IF(AP23+AQ23=0,0,IF(AP23+AQ23>0.1,AP23-AQ23,0))","v":0},{"$f":"IF(AV23=\"W\",$R$3,IF(AV23=\"D\",$AA$3,0))","v":{"v":0,"d":"0.0"}},{"$f":"IF(AP23>AQ23,\"W\",IF(AP23<AQ23,\"L\",IF(AP23=0,\"\",IF(AP23=AQ23,\"D\",0))))","v":""},50,2,{"$nulls":3},{"$f":"IF(BE23=\"D\",\"D\",IF(BE23=\"W\",BC23,IF(BE23=\"L\",BC23,0)))","v":0},{"$f":"IF(AY23+AZ23=0,0,IF(AY23+AZ23>0.1,AY23-AZ23,0))","v":0},{"$f":"IF(BE23=\"W\",$R$3,IF(BE23=\"D\",$AA$3,0))","v":{"v":0,"d":"0.0"}},{"$f":"IF(AY23>AZ23,\"W\",IF(AY23<AZ23,\"L\",IF(AY23=0,\"\",IF(AY23=AZ23,\"D\",0))))","v":""},24,8,{"$nulls":3},{"$f":"IF(BN23=\"D\",\"D\",IF(BN23=\"W\",BL23,IF(BN23=\"L\",BL23,0)))","v":0},{"$f":"IF(BH23+BI23=0,0,IF(BH23+BI23>0.1,BH23-BI23,0))","v":0},{"$f":"IF(BN23=\"W\",$R$3,IF(BN23=\"D\",$AA$3,0))","v":{"v":0,"d":"0.0"}},{"$f":"IF(BH23>BI23,\"W\",IF(BH23<BI23,\"L\",IF(BH23=0,\"\",IF(BH23=BI23,\"D\",0))))","v":""},18,18,{"$nulls":3},{"$f":"IF(BW23=\"D\",\"D\",IF(BW23=\"W\",BU23,IF(BW23=\"L\",BU23,0)))","v":0},{"$f":"IF(BQ23+BR23=0,0,IF(BQ23+BR23>0.1,BQ23-BR23,0))","v":0},{"$f":"IF(BW23=\"W\",$R$3,IF(BW23=\"D\",$AA$3,0))","v":{"v":0,"d":"0.0"}},{"$f":"IF(BQ23>BR23,\"W\",IF(BQ23<BR23,\"L\",IF(BQ23=0,\"\",IF(BQ23=BR23,\"D\",0))))","v":""},{"$nulls":3},{"$f":"IF(CD23=\"D\",\"D\",IF(CD23=\"W\",CB23,IF(CD23=\"L\",CB23,0)))","v":0},{"$f":"IF(BX23+BY23=0,0,IF(BX23+BY23>0.1,BX23-BY23,0))","v":0},{"$f":"IF(CD23=\"W\",1,IF(CD23=\"D\",0.5,0))","v":{"v":0,"d":"0.0"}},{"$f":"IF(BX23>BY23,\"W\",IF(BX23<BY23,\"L\",IF(BX23=0,\"\",IF(BX23=BY23,\"D\",0))))","v":""},{"$f":"K23+T23+AC23+AL23+AU23+BD23+BM23+BV23+CC23","v":0},{"$f":"F23-G23+O23-P23+X23-Y23+AG23-AH23+AP23-AQ23+AY23-AZ23+BH23-BI23+BQ23-BR23","v":0},0,{"$f":"(CF23*10000)+(CF23*1000)+CI23","v":0},{"$f":"H23+Q23+Z23+AI23+AR23+BA23+BJ23+BS23+BZ23","v":0},{"$f":"(CE23*$R$3)+CI23","v":0},{"$f":"IF($CG$7:$CG$60=0,\"\",RANK(CG23,$CG$7:$CG$60))","v":""}]
[null,18,null,39,17,{"$nulls":3},{"$f":"IF(L24=\"D\",\"D\",IF(L24=\"W\",J24,IF(L24=\"L\",J24,0)))","v":0},{"$f":"IF(F24+G24=0,0,IF(F24+G24>0.1,F24-G24,0))","v":0},{"$f":"IF(L24=\"W\",$R$3,IF(L24=\"D\",$AA$3,0))","v":{"v":0,"d":"0.0"}},{"$f":"IF(F24>G24,\"W\",IF(F24<G24,\"L\",IF(F24=0,\"\",IF(F24=G24,\"D\",0))))","v":""},41,24,{"$nulls":3},{"$f":"IF(U24=\"D\",\"D\",IF(U24=\"W\",S24,IF(U24=\"L\",S24,0)))","v":0},{"$f":"IF(O24+P24=0,0,IF(O24+P24>0.1,O24-P24,0))","v":0},{"$f":"IF(U24=\"W\",$R$3,IF(U24=\"D\",$AA$3,0))","v":{"v":0,"d":"0.0"}},{"$f":"IF(O24>P24,\"W\",IF(O24<P24,\"L\",IF(O24=0,\"\",IF(O24=P24,\"D\",0))))","v":""},45,1,{"$nulls":3},{"$f":"IF(AD24=\"D\",\"D\",IF(AD24=\"W\",AB24,IF(AD24=\"L\",AB24,0)))","v":0},{"$f":"IF(X24+Y24=0,0,IF(X24+Y24>0.1,X24-Y24,0))","v":0},{"$f":"IF(AD24=\"W\",$R$3,IF(AD24=\"D\",$AA$3,0))","v":{"v":0,"d":"0.0"}},{"$f":"IF(X24>Y24,\"W\",IF(X24<Y24,\"L\",IF(X24=0,\"\",IF(X24=Y24,\"D\",0))))","v":""},43,12,{"$nulls":3},{"$f":"IF(AM24=\"D\",\"D\",IF(AM24=\"W\",AK24,IF(AM24=\"L\",AK24,0)))","v":0},{"$f":"IF(AG24+AH24=0,0,IF(AG24+AH24>0.1,AG24-AH24,0))","v":0},{"$f":"IF(AM24=\"W\",$R$3,IF(AM24=\"D\",$AA$3,0))","v":{"v":0,"d":"0.0"}},{"$f":"IF(AG24>AH24,\"W\",IF(AG24<AH24,\"L\",IF(AG24=0,\"\",IF(AG24=AH24,\"D\",0))))","v":""},47,18,{"$nulls":3},{"$f":"IF(AV24=\"D\",\"D\",IF(AV24=\"W\",AT24,IF(AV24=\"L\",AT24,0)))","v":0},{"$f":"IF(AP24+AQ24=0,0,IF(AP24+AQ24>0.1,AP24-AQ24,0))","v":0},{"$f":"IF(AV24=\"W\",$R$3,IF(AV24=\"D\",$AA$3,0))","v":{"v":0,"d":"0.0"}},{"$f":"IF(AP24>AQ24,\"W\",IF(AP24<AQ24,\"L\",IF(AP24=0,\"\",IF(AP24=AQ24,\"D\",0))))","v":""},49,6,{"$nulls":3},{"$f":"IF(BE24=\"D\",\"D\",IF(BE24=\"W\",BC24,IF(BE24=\"L\",BC24,0)))","v":0},{"$f":"IF(AY24+AZ24=0,0,IF(AY24+AZ24>0.1,AY24-AZ24,0))","v":0},{"$f":"IF(BE24=\"W\",$R$3,IF(BE24=\"D\",$AA$3,0))","v":{"v":0,"d":"0.0"}},{"$f":"IF(AY24>AZ24,\"W\",IF(AY24<AZ24,\"L\",IF(AY24=0,\"\",IF(AY24=AZ24,\"D\",0))))","v":""},26,14,{"$nulls":3},{"$f":"IF(BN24=\"D\",\"D\",IF(BN24=\"W\",BL24,IF(BN24=\"L\",BL24,0)))","v":0},{"$f":"IF(BH24+BI24=0,0,IF(BH24+BI24>0.1,BH24-BI24,0))","v":0},{"$f":"IF(BN24=\"W\",$R$3,IF(BN24=\"D\",$AA$3,0))","v":{"v":0,"d":"0.0"}},{"$f":"IF(BH24>BI24,\"W\",IF(BH24<BI24,\"L\",IF(BH24=0,\"\",IF(BH24=BI24,\"D\",0))))","v":""},17,18,{"$nulls":3},{"$f":"IF(BW24=\"D\",\"D\",IF(BW24=\"W\",BU24,IF(BW24=\"L\",BU24,0)))","v":0},{"$f":"IF(BQ24+BR24=0,0,IF(BQ24+BR24>0.1,BQ24-BR24,0))","v":0},{"$f":"IF(BW24=\"W\",$R$3,IF(BW24=\"D\",$AA$3,0))","v":{"v":0,"d":"0.0"}},{"$f":"IF(BQ24>BR24,\"W\",IF(BQ24<BR24,\"L\",IF(BQ24=0,\"\",IF(BQ24=BR24,\"D\",0))))","v":""},{"$nulls":3},{"$f":"IF(CD24=\"D\",\"D\",IF(CD24=\"W\",CB24,IF(CD24=\"L\",CB24,0)))","v":0},{"$f":"IF(BX24+BY24=0,0,IF(BX24+BY24>0.1,BX24-BY24,0))","v":0},{"$f":"IF(CD24=\"W\",1,IF(CD24=\"D\",0.5,0))","v":{"v":0,"d":"0.0"}},{"$f":"IF(BX24>BY24,\"W\",IF(BX24<BY24,\"L\",IF(BX24=0,\"\",IF(BX24=BY24,\"D\",0))))","v":""},{"$f":"K24+T24+AC24+AL24+AU24+BD24+BM24+BV24+CC24","v":0},{"$f":"F24-G24+O24-P24+X24-Y24+AG24-AH24+AP24-AQ24+AY24-AZ24+BH24-BI24+BQ24-BR24","v":0},0,{"$f":"(CF24*10000)+(CF24*1000)+CI24","v":0},{"$f":"H24+Q24+Z24+AI24+AR24+BA24+BJ24+BS24+BZ24","v":0},{"$f":"(CE24*$R$3)+CI24","v":0},{"$f":"IF($CG$7:$CG$60=0,\"\",RANK(CG24,$CG$7:$CG$60))","v":""}]
[null,19,null,38,18,{"$nulls":3},{"$f":"IF(L25=\"D\",\"D\",IF(L25=\"W\",J25,IF(L25=\"L\",J25,0)))","v":0},{"$f":"IF(F25+G25=0,0,IF(F25+G25>0.1,F25-G25,0))","v":0},{"$f":"IF(L25=\"W\",$R$3,IF(L25=\"D\",$AA$3,0))","v":{"v":0,"d":"0.0"}},{"$f":"IF(F25>G25,\"W\",IF(F25<G25,\"L\",IF(F25=0,\"\",IF(F25=G25,\"D\",0))))","v":""},40,22,{"$nulls":3},{"$f":"IF(U25=\"D\",\"D\",IF(U25=\"W\",S25,IF(U25=\"L\",S25,0)))","v":0},{"$f":"IF(O25+P25=0,0,IF(O25+P25>0.1,O25-P25,0))","v":0},{"$f":"IF(U25=\"W\",$R$3,IF(U25=\"D\",$AA$3,0))","v":{"v":0,"d":"0.0"}},{"$f":"IF(O25>P25,\"W\",IF(O25<P25,\"L\",IF(O25=0,\"\",IF(O25=P25,\"D\",0))))","v":""},44,4,{"$nulls":3},{"$f":"IF(AD25=\"D\",\"D\",IF(AD25=\"W\",AB25,IF(AD25=\"L\",AB25,0)))","v":0},{"$f":"IF(X25+Y25=0,0,IF(X25+Y25>0.1,X25-Y25,0))","v":0},{"$f":"IF(AD25=\"W\",$R$3,IF(AD25=\"D\",$AA$3,0))","v":{"v":0,"d":"0.0"}},{"$f":"IF(X25>Y25,\"W\",IF(X25<Y25,\"L\",IF(X25=0,\"\",IF(X25=Y25,\"D\",0))))","v":""},42,13,{"$nulls":3},{"$f":"IF(AM25=\"D\",\"D\",IF(AM25=\"W\",AK25,IF(AM25=\"L\",AK25,0)))","v":0},{"$f":"IF(AG25+AH25=0,0,IF(AG25+AH25>0.1,AG25-AH25,0))","v":0},{"$f":"IF(AM25=\"W\",$R$3,IF(AM25=\"D\",$AA$3,0))","v":{"v":0,"d":"0.0"}},{"$f":"IF(AG25>AH25,\"W\",IF(AG25<AH25,\"L\",IF(AG25=0,\"\",IF(AG25=AH25,\"D\",0))))","v":""},46,17,{"$nulls":3},{"$f":"IF(AV25=\"D\",\"D\",IF(AV25=\"W\",AT25,IF(AV25=\"L\",AT25,0)))","v":0},{"$f":"IF(AP25+AQ25=0,0,IF(AP25+AQ25>0.1,AP25-AQ25,0))","v":0},{"$f":"IF(AV25=\"W\",$R$3,IF(AV25=\"D\",$AA$3,0))","v":{"v":0,"d":"0.0"}},{"$f":"IF(AP25>AQ25,\"W\",IF(AP25<AQ25,\"L\",IF(AP25=0,\"\",IF(AP25=AQ25,\"D\",0))))","v":""},48,3,{"$nulls":3},{"$f":"IF(BE25=\"D\",\"D\",IF(BE25=\"W\",BC25,IF(BE25=\"L\",BC25,0)))","v":0},{"$f":"IF(AY25+AZ25=0,0,IF(AY25+AZ25>0.1,AY25-AZ25,0))","v":0},{"$f":"IF(BE25=\"W\",$R$3,IF(BE25=\"D\",$AA$3,0))","v":{"v":0,"d":"0.0"}},{"$f":"IF(AY25>AZ25,\"W\",IF(AY25<AZ25,\"L\",IF(AY25=0,\"\",IF(AY25=AZ25,\"D\",0))))","v":""},22,13,{"$nulls":3},{"$f":"IF(BN25=\"D\",\"D\",IF(BN25=\"W\",BL25,IF(BN25=\"L\",BL25,0)))","v":0},{"$f":"IF(BH25+BI25=0,0,IF(BH25+BI25>0.1,BH25-BI25,0))","v":0},{"$f":"IF(BN25=\"W\",$R$3,IF(BN25=\"D\",$AA$3,0))","v":{"v":0,"d":"0.0"}},{"$f":"IF(BH25>BI25,\"W\",IF(BH25<BI25,\"L\",IF(BH25=0,\"\",IF(BH25=BI25,\"D\",0))))","v":""},16,16,{"$nulls":3},{"$f":"IF(BW25=\"D\",\"D\",IF(BW25=\"W\",BU25,IF(BW25=\"L\",BU25,0)))","v":0},{"$f":"IF(BQ25+BR25=0,0,IF(BQ25+BR25>0.1,BQ25-BR25,0))","v":0},{"$f":"IF(BW25=\"W\",$R$3,IF(BW25=\"D\",$AA$3,0))","v":{"v":0,"d":"0.0"}},{"$f":"IF(BQ25>BR25,\"W\",IF(BQ25<BR25,\"L\",IF(BQ25=0,\"\",IF(BQ25=BR25,\"D\",0))))","v":""},{"$nulls":3},{"$f":"IF(CD25=\"D\",\"D\",IF(CD25=\"W\",CB25,IF(CD25=\"L\",CB25,0)))","v":0},{"$f":"IF(BX25+BY25=0,0,IF(BX25+BY25>0.1,BX25-BY25,0))","v":0},{"$f":"IF(CD25=\"W\",1,IF(CD25=\"D\",0.5,0))","v":{"v":0,"d":"0.0"}},{"$f":"IF(BX25>BY25,\"W\",IF(BX25<BY25,\"L\",IF(BX25=0,\"\",IF(BX25=BY25,\"D\",0))))","v":""},{"$f":"K25+T25+AC25+AL25+AU25+BD25+BM25+BV25+CC25","v":0},{"$f":"F25-G25+O25-P25+X25-Y25+AG25-AH25+AP25-AQ25+AY25-AZ25+BH25-BI25+BQ25-BR25","v":0},0,{"$f":"(CF25*10000)+(CF25*1000)+CI25","v":0},{"$f":"H25+Q25+Z25+AI25+AR25+BA25+BJ25+BS25+BZ25","v":0},{"$f":"(CE25*$R$3)+CI25","v":0},{"$f":"IF($CG$7:$CG$60=0,\"\",RANK(CG25,$CG$7:$CG$60))","v":""}]
[null,20,null,37,19,{"$nulls":3},{"$f":"IF(L26=\"D\",\"D\",IF(L26=\"W\",J26,IF(L26=\"L\",J26,0)))","v":0},{"$f":"IF(F26+G26=0,0,IF(F26+G26>0.1,F26-G26,0))","v":0},{"$f":"IF(L26=\"W\",$R$3,IF(L26=\"D\",$AA$3,0))","v":{"v":0,"d":"0.0"}},{"$f":"IF(F26>G26,\"W\",IF(F26<G26,\"L\",IF(F26=0,\"\",IF(F26=G26,\"D\",0))))","v":""},39,25,{"$nulls":3},{"$f":"IF(U26=\"D\",\"D\",IF(U26=\"W\",S26,IF(U26=\"L\",S26,0)))","v":0},{"$f":"IF(O26+P26=0,0,IF(O26+P26>0.1,O26-P26,0))","v":0},{"$f":"IF(U26=\"W\",$R$3,IF(U26=\"D\",$AA$3,0))","v":{"v":0,"d":"0.0"}},{"$f":"IF(O26>P26,\"W\",IF(O26<P26,\"L\",IF(O26=0,\"\",IF(O26=P26,\"D\",0))))","v":""},43,7,{"$nulls":3},{"$f":"IF(AD26=\"D\",\"D\",IF(AD26=\"W\",AB26,IF(AD26=\"L\",AB26,0)))","v":0},{"$f":"IF(X26+Y26=0,0,IF(X26+Y26>0.1,X26-Y26,0))","v":0},{"$f":"IF(AD26=\"W\",$R$3,IF(AD26=\"D\",$AA$3,0))","v":{"v":0,"d":"0.0"}},{"$f":"IF(X26>Y26,\"W\",IF(X26<Y26,\"L\",IF(X26=0,\"\",IF(X26=Y26,\"D\",0))))","v":""},41,16,{"$nulls":3},{"$f":"IF(AM26=\"D\",\"D\",IF(AM26=\"W\",AK26,IF(AM26=\"L\",AK26,0)))","v":0},{"$f":"IF(AG26+AH26=0,0,IF(AG26+AH26>0.1,AG26-AH26,0))","v":0},{"$f":"IF(AM26=\"W\",$R$3,IF(AM26=\"D\",$AA$3,0))","v":{"v":0,"d":"0.0"}},{"$f":"IF(AG26>AH26,\"W\",IF(AG26<AH26,\"L\",IF(AG26=0,\"\",IF(AG26=AH26,\"D\",0))))","v":""},45,23,{"$nulls":3},{"$f":"IF(AV26=\"D\",\"D\",IF(AV26=\"W\",AT26,IF(AV26=\"L\",AT26,0)))","v":0},{"$f":"IF(AP26+AQ26=0,0,IF(AP26+AQ26>0.1,AP26-AQ26,0))","v":0},{"$f":"IF(AV26=\"W\",$R$3,IF(AV26=\"D\",$AA$3,0))","v":{"v":0,"d":"0.0"}},{"$f":"IF(AP26>AQ26,\"W\",IF(AP26<AQ26,\"L\",IF(AP26=0,\"\",IF(AP26=AQ26,\"D\",0))))","v":""},47,4,{"$nulls":3},{"$f":"IF(BE26=\"D\",\"D\",IF(BE26=\"W\",BC26,IF(BE26=\"L\",BC26,0)))","v":0},{"$f":"IF(AY26+AZ26=0,0,IF(AY26+AZ26>0.1,AY26-AZ26,0))","v":0},{"$f":"IF(BE26=\"W\",$R$3,IF(BE26=\"D\",$AA$3,0))","v":{"v":0,"d":"0.0"}},{"$f":"IF(AY26>AZ26,\"W\",IF(AY26<AZ26,\"L\",IF(AY26=0,\"\",IF(AY26=AZ26,\"D\",0))))","v":""},21,11,{"$nulls":3},{"$f":"IF(BN26=\"D\",\"D\",IF(BN26=\"W\",BL26,IF(BN26=\"L\",BL26,0)))","v":0},{"$f":"IF(BH26+BI26=0,0,IF(BH26+BI26>0.1,BH26-BI26,0))","v":0},{"$f":"IF(BN26=\"W\",$R$3,IF(BN26=\"D\",$AA$3,0))","v":{"v":0,"d":"0.0"}},{"$f":"IF(BH26>BI26,\"W\",IF(BH26<BI26,\"L\",IF(BH26=0,\"\",IF(BH26=BI26,\"D\",0))))","v":""},28,21,{"$nulls":3},{"$f":"IF(BW26=\"D\",\"D\",IF(BW26=\"W\",BU26,IF(BW26=\"L\",BU26,0)))","v":0},{"$f":"IF(BQ26+BR26=0,0,IF(BQ26+BR26>0.1,BQ26-BR26,0))","v":0},{"$f":"IF(BW26=\"W\",$R$3,IF(BW26=\"D\",$AA$3,0))","v":{"v":0,"d":"0.0"}},{"$f":"IF(BQ26>BR26,\"W\",IF(BQ26<BR26,\"L\",IF(BQ26=0,\"\",IF(BQ26=BR26,\"D\",0))))","v":""},{"$nulls":3},{"$f":"IF(CD26=\"D\",\"D\",IF(CD26=\"W\",CB26,IF(CD26=\"L\",CB26,0)))","v":0},{"$f":"IF(BX26+BY26=0,0,IF(BX26+BY26>0.1,BX26-BY26,0))","v":0},{"$f":"IF(CD26=\"W\",1,IF(CD26=\"D\",0.5,0))","v":{"v":0,"d":"0.0"}},{"$f":"IF(BX26>BY26,\"W\",IF(BX26<BY26,\"L\",IF(BX26=0,\"\",IF(BX26=BY26,\"D\",0))))","v":""},{"$f":"K26+T26+AC26+AL26+AU26+BD26+BM26+BV26+CC26","v":0},{"$f":"F26-G26+O26-P26+X26-Y26+AG26-AH26+AP26-AQ26+AY26-AZ26+BH26-BI26+BQ26-BR26","v":0},0,{"$f":"(CF26*10000)+(CF26*1000)+CI26","v":0},{"$f":"H26+Q26+Z26+AI26+AR26+BA26+BJ26+BS26+BZ26","v":0},{"$f":"(CE26*$R$3)+CI26","v":0},{"$f":"IF($CG$7:$CG$60=0,\"\",RANK(CG26,$CG$7:$CG$60))","v":""}]
[null,21,null,36,20,{"$nulls":3},{"$f":"IF(L27=\"D\",\"D\",IF(L27=\"W\",J27,IF(L27=\"L\",J27,0)))","v":0},{"$f":"IF(F27+G27=0,0,IF(F27+G27>0.1,F27-G27,0))","v":0},{"$f":"IF(L27=\"W\",$R$3,IF(L27=\"D\",$AA$3,0))","v":{"v":0,"d":"0.0"}},{"$f":"IF(F27>G27,\"W\",IF(F27<G27,\"L\",IF(F27=0,\"\",IF(F27=G27,\"D\",0))))","v":""},38,26,{"$nulls":3},{"$f":"IF(U27=\"D\",\"D\",IF(U27=\"W\",S27,IF(U27=\"L\",S27,0)))","v":0},{"$f":"IF(O27+P27=0,0,IF(O27+P27>0.1,O27-P27,0))","v":0},{"$f":"IF(U27=\"W\",$R$3,IF(U27=\"D\",$AA$3,0))","v":{"v":0,"d":"0.0"}},{"$f":"IF(O27>P27,\"W\",IF(O27<P27,\"L\",IF(O27=0,\"\",IF(O27=P27,\"D\",0))))","v":""},42,6,{"$nulls":3},{"$f":"IF(AD27=\"D\",\"D\",IF(AD27=\"W\",AB27,IF(AD27=\"L\",AB27,0)))","v":0},{"$f":"IF(X27+Y27=0,0,IF(X27+Y27>0.1,X27-Y27,0))","v":0},{"$f":"IF(AD27=\"W\",$R$3,IF(AD27=\"D\",$AA$3,0))","v":{"v":0,"d":"0.0"}},{"$f":"IF(X27>Y27,\"W\",IF(X27<Y27,\"L\",IF(X27=0,\"\",IF(X27=Y27,\"D\",0))))","v":""},40,14,{"$nulls":3},{"$f":"IF(AM27=\"D\",\"D\",IF(AM27=\"W\",AK27,IF(AM27=\"L\",AK27,0)))","v":0},{"$f":"IF(AG27+AH27=0,0,IF(AG27+AH27>0.1,AG27-AH27,0))","v":0},{"$f":"IF(AM27=\"W\",$R$3,IF(AM27=\"D\",$AA$3,0))","v":{"v":0,"d":"0.0"}},{"$f":"IF(AG27>AH27,\"W\",IF(AG27<AH27,\"L\",IF(AG27=0,\"\",IF(AG27=AH27,\"D\",0))))","v":""},44,24,{"$nulls":3},{"$f":"IF(AV27=\"D\",\"D\",IF(AV27=\"W\",AT27,IF(AV27=\"L\",AT27,0)))","v":0},{"$f":"IF(AP27+AQ27=0,0,IF(AP27+AQ27>0.1,AP27-AQ27,0))","v":0},{"$f":"IF(AV27=\"W\",$R$3,IF(AV27=\"D\",$AA$3,0))","v":{"v":0,"d":"0.0"}},{"$f":"IF(AP27>AQ27,\"W\",IF(AP27<AQ27,\"L\",IF(AP27=0,\"\",IF(AP27=AQ27,\"D\",0))))","v":""},46,1,{"$nulls":3},{"$f":"IF(BE27=\"D\",\"D\",IF(BE27=\"W\",BC27,IF(BE27=\"L\",BC27,0)))","v":0},{"$f":"IF(AY27+AZ27=0,0,IF(AY27+AZ27>0.1,AY27-AZ27,0))","v":0},{"$f":"IF(BE27=\"W\",$R$3,IF(BE27=\"D\",$AA$3,0))","v":{"v":0,"d":"0.0"}},{"$f":"IF(AY27>AZ27,\"W\",IF(AY27<AZ27,\"L\",IF(AY27=0,\"\",IF(AY27=AZ27,\"D\",0))))","v":""},20,11,{"$nulls":3},{"$f":"IF(BN27=\"D\",\"D\",IF(BN27=\"W\",BL27,IF(BN27=\"L\",BL27,0)))","v":0},{"$f":"IF(BH27+BI27=0,0,IF(BH27+BI27>0.1,BH27-BI27,0))","v":0},{"$f":"IF(BN27=\"W\",$R$3,IF(BN27=\"D\",$AA$3,0))","v":{"v":0,"d":"0.0"}},{"$f":"IF(BH27>BI27,\"W\",IF(BH27<BI27,\"L\",IF(BH27=0,\"\",IF(BH27=BI27,\"D\",0))))","v":""},27,17,{"$nulls":3},{"$f":"IF(BW27=\"D\",\"D\",IF(BW27=\"W\",BU27,IF(BW27=\"L\",BU27,0)))","v":0},{"$f":"IF(BQ27+BR27=0,0,IF(BQ27+BR27>0.1,BQ27-BR27,0))","v":0},{"$f":"IF(BW27=\"W\",$R$3,IF(BW27=\"D\",$AA$3,0))","v":{"v":0,"d":"0.0"}},{"$f":"IF(BQ27>BR27,\"W\",IF(BQ27<BR27,\"L\",IF(BQ27=0,\"\",IF(BQ27=BR27,\"D\",0))))","v":""},{"$nulls":3},{"$f":"IF(CD27=\"D\",\"D\",IF(CD27=\"W\",CB27,IF(CD27=\"L\",CB27,0)))","v":0},{"$f":"IF(BX27+BY27=0,0,IF(BX27+BY27>0.1,BX27-BY27,0))","v":0},{"$f":"IF(CD27=\"W\",1,IF(CD27=\"D\",0.5,0))","v":{"v":0,"d":"0.0"}},{"$f":"IF(BX27>BY27,\"W\",IF(BX27<BY27,\"L\",IF(BX27=0,\"\",IF(BX27=BY27,\"D\",0))))","v":""},{"$f":"K27+T27+AC27+AL27+AU27+BD27+BM27+BV27+CC27","v":0},{"$f":"F27-G27+O27-P27+X27-Y27+AG27-AH27+AP27-AQ27+AY27-AZ27+BH27-BI27+BQ27-BR27","v":0},0,{"$f":"(CF27*10000)+(CF27*1000)+CI27","v":0},{"$f":"H27+Q27+Z27+AI27+AR27+BA27+BJ27+BS27+BZ27","v":0},{"$f":"(CE27*$R$3)+CI27","v":0},{"$f":"IF($CG$7:$CG$60=0,\"\",RANK(CG27,$CG$7:$CG$60))","v":""}]
[null,22,null,35,21,{"$nulls":3},{"$f":"IF(L28=\"D\",\"D\",IF(L28=\"W\",J28,IF(L28=\"L\",J28,0)))","v":0},{"$f":"IF(F28+G28=0,0,IF(F28+G28>0.1,F28-G28,0))","v":0},{"$f":"IF(L28=\"W\",$R$3,IF(L28=\"D\",$AA$3,0))","v":{"v":0,"d":"0.0"}},{"$f":"IF(F28>G28,\"W\",IF(F28<G28,\"L\",IF(F28=0,\"\",IF(F28=G28,\"D\",0))))","v":""},37,9,{"$nulls":3},{"$f":"IF(U28=\"D\",\"D\",IF(U28=\"W\",S28,IF(U28=\"L\",S28,0)))","v":0},{"$f":"IF(O28+P28=0,0,IF(O28+P28>0.1,O28-P28,0))","v":0},{"$f":"IF(U28=\"W\",$R$3,IF(U28=\"D\",$AA$3,0))","v":{"v":0,"d":"0.0"}},{"$f":"IF(O28>P28,\"W\",IF(O28<P28,\"L\",IF(O28=0,\"\",IF(O28=P28,\"D\",0))))","v":""},41,5,{"$nulls":3},{"$f":"IF(AD28=\"D\",\"D\",IF(AD28=\"W\",AB28,IF(AD28=\"L\",AB28,0)))","v":0},{"$f":"IF(X28+Y28=0,0,IF(X28+Y28>0.1,X28-Y28,0))","v":0},{"$f":"IF(AD28=\"W\",$R$3,IF(AD28=\"D\",$AA$3,0))","v":{"v":0,"d":"0.0"}},{"$f":"IF(X28>Y28,\"W\",IF(X28<Y28,\"L\",IF(X28=0,\"\",IF(X28=Y28,\"D\",0))))","v":""},39,18,{"$nulls":3},{"$f":"IF(AM28=\"D\",\"D\",IF(AM28=\"W\",AK28,IF(AM28=\"L\",AK28,0)))","v":0},{"$f":"IF(AG28+AH28=0,0,IF(AG28+AH28>0.1,AG28-AH28,0))","v":0},{"$f":"IF(AM28=\"W\",$R$3,IF(AM28=\"D\",$AA$3,0))","v":{"v":0,"d":"0.0"}},{"$f":"IF(AG28>AH28,\"W\",IF(AG28<AH28,\"L\",IF(AG28=0,\"\",IF(AG28=AH28,\"D\",0))))","v":""},43,25,{"$nulls":3},{"$f":"IF(AV28=\"D\",\"D\",IF(AV28=\"W\",AT28,IF(AV28=\"L\",AT28,0)))","v":0},{"$f":"IF(AP28+AQ28=0,0,IF(AP28+AQ28>0.1,AP28-AQ28,0))","v":0},{"$f":"IF(AV28=\"W\",$R$3,IF(AV28=\"D\",$AA$3,0))","v":{"v":0,"d":"0.0"}},{"$f":"IF(AP28>AQ28,\"W\",IF(AP28<AQ28,\"L\",IF(AP28=0,\"\",IF(AP28=AQ28,\"D\",0))))","v":""},45,7,{"$nulls":3},{"$f":"IF(BE28=\"D\",\"D\",IF(BE28=\"W\",BC28,IF(BE28=\"L\",BC28,0)))","v":0},{"$f":"IF(AY28+AZ28=0,0,IF(AY28+AZ28>0.1,AY28-AZ28,0))","v":0},{"$f":"IF(BE28=\"W\",$R$3,IF(BE28=\"D\",$AA$3,0))","v":{"v":0,"d":"0.0"}},{"$f":"IF(AY28>AZ28,\"W\",IF(AY28<AZ28,\"L\",IF(AY28=0,\"\",IF(AY28=AZ28,\"D\",0))))","v":""},19,13,{"$nulls":3},{"$f":"IF(BN28=\"D\",\"D\",IF(BN28=\"W\",BL28,IF(BN28=\"L\",BL28,0)))","v":0},{"$f":"IF(BH28+BI28=0,0,IF(BH28+BI28>0.1,BH28-BI28,0))","v":0},{"$f":"IF(BN28=\"W\",$R$3,IF(BN28=\"D\",$AA$3,0))","v":{"v":0,"d":"0.0"}},{"$f":"IF(BH28>BI28,\"W\",IF(BH28<BI28,\"L\",IF(BH28=0,\"\",IF(BH28=BI28,\"D\",0))))","v":""},15,15,{"$nulls":3},{"$f":"IF(BW28=\"D\",\"D\",IF(BW28=\"W\",BU28,IF(BW28=\"L\",BU28,0)))","v":0},{"$f":"IF(BQ28+BR28=0,0,IF(BQ28+BR28>0.1,BQ28-BR28,0))","v":0},{"$f":"IF(BW28=\"W\",$R$3,IF(BW28=\"D\",$AA$3,0))","v":{"v":0,"d":"0.0"}},{"$f":"IF(BQ28>BR28,\"W\",IF(BQ28<BR28,\"L\",IF(BQ28=0,\"\",IF(BQ28=BR28,\"D\",0))))","v":""},{"$nulls":3},{"$f":"IF(CD28=\"D\",\"D\",IF(CD28=\"W\",CB28,IF(CD28=\"L\",CB28,0)))","v":0},{"$f":"IF(BX28+BY28=0,0,IF(BX28+BY28>0.1,BX28-BY28,0))","v":0},{"$f":"IF(CD28=\"W\",1,IF(CD28=\"D\",0.5,0))","v":{"v":0,"d":"0.0"}},{"$f":"IF(BX28>BY28,\"W\",IF(BX28<BY28,\"L\",IF(BX28=0,\"\",IF(BX28=BY28,\"D\",0))))","v":""},{"$f":"K28+T28+AC28+AL28+AU28+BD28+BM28+BV28+CC28","v":0},{"$f":"F28-G28+O28-P28+X28-Y28+AG28-AH28+AP28-AQ28+AY28-AZ28+BH28-BI28+BQ28-BR28","v":0},0,{"$f":"(CF28*10000)+(CF28*1000)+CI28","v":0},{"$f":"H28+Q28+Z28+AI28+AR28+BA28+BJ28+BS28+BZ28","v":0},{"$f":"(CE28*$R$3)+CI28","v":0},{"$f":"IF($CG$7:$CG$60=0,\"\",RANK(CG28,$CG$7:$CG$60))","v":""}]
[null,23,null,34,22,{"$nulls":3},{"$f":"IF(L29=\"D\",\"D\",IF(L29=\"W\",J29,IF(L29=\"L\",J29,0)))","v":0},{"$f":"IF(F29+G29=0,0,IF(F29+G29>0.1,F29-G29,0))","v":0},{"$f":"IF(L29=\"W\",$R$3,IF(L29=\"D\",$AA$3,0))","v":{"v":0,"d":"0.0"}},{"$f":"IF(F29>G29,\"W\",IF(F29<G29,\"L\",IF(F29=0,\"\",IF(F29=G29,\"D\",0))))","v":""},36,2,{"$nulls":3},{"$f":"IF(U29=\"D\",\"D\",IF(U29=\"W\",S29,IF(U29=\"L\",S29,0)))","v":0},{"$f":"IF(O29+P29=0,0,IF(O29+P29>0.1,O29-P29,0))","v":0},{"$f":"IF(U29=\"W\",$R$3,IF(U29=\"D\",$AA$3,0))","v":{"v":0,"d":"0.0"}},{"$f":"IF(O29>P29,\"W\",IF(O29<P29,\"L\",IF(O29=0,\"\",IF(O29=P29,\"D\",0))))","v":""},40,17,{"$nulls":3},{"$f":"IF(AD29=\"D\",\"D\",IF(AD29=\"W\",AB29,IF(AD29=\"L\",AB29,0)))","v":0},{"$f":"IF(X29+Y29=0,0,IF(X29+Y29>0.1,X29-Y29,0))","v":0},{"$f":"IF(AD29=\"W\",$R$3,IF(AD29=\"D\",$AA$3,0))","v":{"v":0,"d":"0.0"}},{"$f":"IF(X29>Y29,\"W\",IF(X29<Y29,\"L\",IF(X29=0,\"\",IF(X29=Y29,\"D\",0))))","v":""},38,25,{"$nulls":3},{"$f":"IF(AM29=\"D\",\"D\",IF(AM29=\"W\",AK29,IF(AM29=\"L\",AK29,0)))","v":0},{"$f":"IF(AG29+AH29=0,0,IF(AG29+AH29>0.1,AG29-AH29,0))","v":0},{"$f":"IF(AM29=\"W\",$R$3,IF(AM29=\"D\",$AA$3,0))","v":{"v":0,"d":"0.0"}},{"$f":"IF(AG29>AH29,\"W\",IF(AG29<AH29,\"L\",IF(AG29=0,\"\",IF(AG29=AH29,\"D\",0))))","v":""},42,5,{"$nulls":3},{"$f":"IF(AV29=\"D\",\"D\",IF(AV29=\"W\",AT29,IF(AV29=\"L\",AT29,0)))","v":0},{"$f":"IF(AP29+AQ29=0,0,IF(AP29+AQ29>0.1,AP29-AQ29,0))","v":0},{"$f":"IF(AV29=\"W\",$R$3,IF(AV29=\"D\",$AA$3,0))","v":{"v":0,"d":"0.0"}},{"$f":"IF(AP29>AQ29,\"W\",IF(AP29<AQ29,\"L\",IF(AP29=0,\"\",IF(AP29=AQ29,\"D\",0))))","v":""},44,14,{"$nulls":3},{"$f":"IF(BE29=\"D\",\"D\",IF(BE29=\"W\",BC29,IF(BE29=\"L\",BC29,0)))","v":0},{"$f":"IF(AY29+AZ29=0,0,IF(AY29+AZ29>0.1,AY29-AZ29,0))","v":0},{"$f":"IF(BE29=\"W\",$R$3,IF(BE29=\"D\",$AA$3,0))","v":{"v":0,"d":"0.0"}},{"$f":"IF(AY29>AZ29,\"W\",IF(AY29<AZ29,\"L\",IF(AY29=0,\"\",IF(AY29=AZ29,\"D\",0))))","v":""},16,9,{"$nulls":3},{"$f":"IF(BN29=\"D\",\"D\",IF(BN29=\"W\",BL29,IF(BN29=\"L\",BL29,0)))","v":0},{"$f":"IF(BH29+BI29=0,0,IF(BH29+BI29>0.1,BH29-BI29,0))","v":0},{"$f":"IF(BN29=\"W\",$R$3,IF(BN29=\"D\",$AA$3,0))","v":{"v":0,"d":"0.0"}},{"$f":"IF(BH29>BI29,\"W\",IF(BH29<BI29,\"L\",IF(BH29=0,\"\",IF(BH29=BI29,\"D\",0))))","v":""},25,19,{"$nulls":3},{"$f":"IF(BW29=\"D\",\"D\",IF(BW29=\"W\",BU29,IF(BW29=\"L\",BU29,0)))","v":0},{"$f":"IF(BQ29+BR29=0,0,IF(BQ29+BR29>0.1,BQ29-BR29,0))","v":0},{"$f":"IF(BW29=\"W\",$R$3,IF(BW29=\"D\",$AA$3,0))","v":{"v":0,"d":"0.0"}},{"$f":"IF(BQ29>BR29,\"W\",IF(BQ29<BR29,\"L\",IF(BQ29=0,\"\",IF(BQ29=BR29,\"D\",0))))","v":""},{"$nulls":3},{"$f":"IF(CD29=\"D\",\"D\",IF(CD29=\"W\",CB29,IF(CD29=\"L\",CB29,0)))","v":0},{"$f":"IF(BX29+BY29=0,0,IF(BX29+BY29>0.1,BX29-BY29,0))","v":0},{"$f":"IF(CD29=\"W\",1,IF(CD29=\"D\",0.5,0))","v":{"v":0,"d":"0.0"}},{"$f":"IF(BX29>BY29,\"W\",IF(BX29<BY29,\"L\",IF(BX29=0,\"\",IF(BX29=BY29,\"D\",0))))","v":""},{"$f":"K29+T29+AC29+AL29+AU29+BD29+BM29+BV29+CC29","v":0},{"$f":"F29-G29+O29-P29+X29-Y29+AG29-AH29+AP29-AQ29+AY29-AZ29+BH29-BI29+BQ29-BR29","v":0},0,{"$f":"(CF29*10000)+(CF29*1000)+CI29","v":0},{"$f":"H29+Q29+Z29+AI29+AR29+BA29+BJ29+BS29+BZ29","v":0},{"$f":"(CE29*$R$3)+CI29","v":0},{"$f":"IF($CG$7:$CG$60=0,\"\",RANK(CG29,$CG$7:$CG$60))","v":""}]
[null,24,null,33,23,{"$nulls":3},{"$f":"IF(L30=\"D\",\"D\",IF(L30=\"W\",J30,IF(L30=\"L\",J30,0)))","v":0},{"$f":"IF(F30+G30=0,0,IF(F30+G30>0.1,F30-G30,0))","v":0},{"$f":"IF(L30=\"W\",$R$3,IF(L30=\"D\",$AA$3,0))","v":{"v":0,"d":"0.0"}},{"$f":"IF(F30>G30,\"W\",IF(F30<G30,\"L\",IF(F30=0,\"\",IF(F30=G30,\"D\",0))))","v":""},35,3,{"$nulls":3},{"$f":"IF(U30=\"D\",\"D\",IF(U30=\"W\",S30,IF(U30=\"L\",S30,0)))","v":0},{"$f":"IF(O30+P30=0,0,IF(O30+P30>0.1,O30-P30,0))","v":0},{"$f":"IF(U30=\"W\",$R$3,IF(U30=\"D\",$AA$3,0))","v":{"v":0,"d":"0.0"}},{"$f":"IF(O30>P30,\"W\",IF(O30<P30,\"L\",IF(O30=0,\"\",IF(O30=P30,\"D\",0))))","v":""},39,8,{"$nulls":3},{"$f":"IF(AD30=\"D\",\"D\",IF(AD30=\"W\",AB30,IF(AD30=\"L\",AB30,0)))","v":0},{"$f":"IF(X30+Y30=0,0,IF(X30+Y30>0.1,X30-Y30,0))","v":0},{"$f":"IF(AD30=\"W\",$R$3,IF(AD30=\"D\",$AA$3,0))","v":{"v":0,"d":"0.0"}},{"$f":"IF(X30>Y30,\"W\",IF(X30<Y30,\"L\",IF(X30=0,\"\",IF(X30=Y30,\"D\",0))))","v":""},37,15,{"$nulls":3},{"$f":"IF(AM30=\"D\",\"D\",IF(AM30=\"W\",AK30,IF(AM30=\"L\",AK30,0)))","v":0},{"$f":"IF(AG30+AH30=0,0,IF(AG30+AH30>0.1,AG30-AH30,0))","v":0},{"$f":"IF(AM30=\"W\",$R$3,IF(AM30=\"D\",$AA$3,0))","v":{"v":0,"d":"0.0"}},{"$f":"IF(AG30>AH30,\"W\",IF(AG30<AH30,\"L\",IF(AG30=0,\"\",IF(AG30=AH30,\"D\",0))))","v":""},41,26,{"$nulls":3},{"$f":"IF(AV30=\"D\",\"D\",IF(AV30=\"W\",AT30,IF(AV30=\"L\",AT30,0)))","v":0},{"$f":"IF(AP30+AQ30=0,0,IF(AP30+AQ30>0.1,AP30-AQ30,0))","v":0},{"$f":"IF(AV30=\"W\",$R$3,IF(AV30=\"D\",$AA$3,0))","v":{"v":0,"d":"0.0"}},{"$f":"IF(AP30>AQ30,\"W\",IF(AP30<AQ30,\"L\",IF(AP30=0,\"\",IF(AP30=AQ30,\"D\",0))))","v":""},43,5,{"$nulls":3},{"$f":"IF(BE30=\"D\",\"D\",IF(BE30=\"W\",BC30,IF(BE30=\"L\",BC30,0)))","v":0},{"$f":"IF(AY30+AZ30=0,0,IF(AY30+AZ30>0.1,AY30-AZ30,0))","v":0},{"$f":"IF(BE30=\"W\",$R$3,IF(BE30=\"D\",$AA$3,0))","v":{"v":0,"d":"0.0"}},{"$f":"IF(AY30>AZ30,\"W\",IF(AY30<AZ30,\"L\",IF(AY30=0,\"\",IF(AY30=AZ30,\"D\",0))))","v":""},17,8,{"$nulls":3},{"$f":"IF(BN30=\"D\",\"D\",IF(BN30=\"W\",BL30,IF(BN30=\"L\",BL30,0)))","v":0},{"$f":"IF(BH30+BI30=0,0,IF(BH30+BI30>0.1,BH30-BI30,0))","v":0},{"$f":"IF(BN30=\"W\",$R$3,IF(BN30=\"D\",$AA$3,0))","v":{"v":0,"d":"0.0"}},{"$f":"IF(BH30>BI30,\"W\",IF(BH30<BI30,\"L\",IF(BH30=0,\"\",IF(BH30=BI30,\"D\",0))))","v":""},26,20,{"$nulls":3},{"$f":"IF(BW30=\"D\",\"D\",IF(BW30=\"W\",BU30,IF(BW30=\"L\",BU30,0)))","v":0},{"$f":"IF(BQ30+BR30=0,0,IF(BQ30+BR30>0.1,BQ30-BR30,0))","v":0},{"$f":"IF(BW30=\"W\",$R$3,IF(BW30=\"D\",$AA$3,0))","v":{"v":0,"d":"0.0"}},{"$f":"IF(BQ30>BR30,\"W\",IF(BQ30<BR30,\"L\",IF(BQ30=0,\"\",IF(BQ30=BR30,\"D\",0))))","v":""},{"$nulls":3},{"$f":"IF(CD30=\"D\",\"D\",IF(CD30=\"W\",CB30,IF(CD30=\"L\",CB30,0)))","v":0},{"$f":"IF(BX30+BY30=0,0,IF(BX30+BY30>0.1,BX30-BY30,0))","v":0},{"$f":"IF(CD30=\"W\",1,IF(CD30=\"D\",0.5,0))","v":{"v":0,"d":"0.0"}},{"$f":"IF(BX30>BY30,\"W\",IF(BX30<BY30,\"L\",IF(BX30=0,\"\",IF(BX30=BY30,\"D\",0))))","v":""},{"$f":"K30+T30+AC30+AL30+AU30+BD30+BM30+BV30+CC30","v":0},{"$f":"F30-G30+O30-P30+X30-Y30+AG30-AH30+AP30-AQ30+AY30-AZ30+BH30-BI30+BQ30-BR30","v":0},0,{"$f":"(CF30*10000)+(CF30*1000)+CI30","v":0},{"$f":"H30+Q30+Z30+AI30+AR30+BA30+BJ30+BS30+BZ30","v":0},{"$f":"(CE30*$R$3)+CI30","v":0},{"$f":"IF($CG$7:$CG$60=0,\"\",RANK(CG30,$CG$7:$CG$60))","v":""}]
[null,25,null,32,24,{"$nulls":3},{"$f":"IF(L31=\"D\",\"D\",IF(L31=\"W\",J31,IF(L31=\"L\",J31,0)))","v":0},{"$f":"IF(F31+G31=0,0,IF(F31+G31>0.1,F31-G31,0))","v":0},{"$f":"IF(L31=\"W\",$R$3,IF(L31=\"D\",$AA$3,0))","v":{"v":0,"d":"0.0"}},{"$f":"IF(F31>G31,\"W\",IF(F31<G31,\"L\",IF(F31=0,\"\",IF(F31=G31,\"D\",0))))","v":""},34,4,{"$nulls":3},{"$f":"IF(U31=\"D\",\"D\",IF(U31=\"W\",S31,IF(U31=\"L\",S31,0)))","v":0},{"$f":"IF(O31+P31=0,0,IF(O31+P31>0.1,O31-P31,0))","v":0},{"$f":"IF(U31=\"W\",$R$3,IF(U31=\"D\",$AA$3,0))","v":{"v":0,"d":"0.0"}},{"$f":"IF(O31>P31,\"W\",IF(O31<P31,\"L\",IF(O31=0,\"\",IF(O31=P31,\"D\",0))))","v":""},38,14,{"$nulls":3},{"$f":"IF(AD31=\"D\",\"D\",IF(AD31=\"W\",AB31,IF(AD31=\"L\",AB31,0)))","v":0},{"$f":"IF(X31+Y31=0,0,IF(X31+Y31>0.1,X31-Y31,0))","v":0},{"$f":"IF(AD31=\"W\",$R$3,IF(AD31=\"D\",$AA$3,0))","v":{"v":0,"d":"0.0"}},{"$f":"IF(X31>Y31,\"W\",IF(X31<Y31,\"L\",IF(X31=0,\"\",IF(X31=Y31,\"D\",0))))","v":""},36,17,{"$nulls":3},{"$f":"IF(AM31=\"D\",\"D\",IF(AM31=\"W\",AK31,IF(AM31=\"L\",AK31,0)))","v":0},{"$f":"IF(AG31+AH31=0,0,IF(AG31+AH31>0.1,AG31-AH31,0))","v":0},{"$f":"IF(AM31=\"W\",$R$3,IF(AM31=\"D\",$AA$3,0))","v":{"v":0,"d":"0.0"}},{"$f":"IF(AG31>AH31,\"W\",IF(AG31<AH31,\"L\",IF(AG31=0,\"\",IF(AG31=AH31,\"D\",0))))","v":""},40,27,{"$nulls":3},{"$f":"IF(AV31=\"D\",\"D\",IF(AV31=\"W\",AT31,IF(AV31=\"L\",AT31,0)))","v":0},{"$f":"IF(AP31+AQ31=0,0,IF(AP31+AQ31>0.1,AP31-AQ31,0))","v":0},{"$f":"IF(AV31=\"W\",$R$3,IF(AV31=\"D\",$AA$3,0))","v":{"v":0,"d":"0.0"}},{"$f":"IF(AP31>AQ31,\"W\",IF(AP31<AQ31,\"L\",IF(AP31=0,\"\",IF(AP31=AQ31,\"D\",0))))","v":""},42,20,{"$nulls":3},{"$f":"IF(BE31=\"D\",\"D\",IF(BE31=\"W\",BC31,IF(BE31=\"L\",BC31,0)))","v":0},{"$f":"IF(AY31+AZ31=0,0,IF(AY31+AZ31>0.1,AY31-AZ31,0))","v":0},{"$f":"IF(BE31=\"W\",$R$3,IF(BE31=\"D\",$AA$3,0))","v":{"v":0,"d":"0.0"}},{"$f":"IF(AY31>AZ31,\"W\",IF(AY31<AZ31,\"L\",IF(AY31=0,\"\",IF(AY31=AZ31,\"D\",0))))","v":""},28,10,{"$nulls":3},{"$f":"IF(BN31=\"D\",\"D\",IF(BN31=\"W\",BL31,IF(BN31=\"L\",BL31,0)))","v":0},{"$f":"IF(BH31+BI31=0,0,IF(BH31+BI31>0.1,BH31-BI31,0))","v":0},{"$f":"IF(BN31=\"W\",$R$3,IF(BN31=\"D\",$AA$3,0))","v":{"v":0,"d":"0.0"}},{"$f":"IF(BH31>BI31,\"W\",IF(BH31<BI31,\"L\",IF(BH31=0,\"\",IF(BH31=BI31,\"D\",0))))","v":""},23,19,{"$nulls":3},{"$f":"IF(BW31=\"D\",\"D\",IF(BW31=\"W\",BU31,IF(BW31=\"L\",BU31,0)))","v":0},{"$f":"IF(BQ31+BR31=0,0,IF(BQ31+BR31>0.1,BQ31-BR31,0))","v":0},{"$f":"IF(BW31=\"W\",$R$3,IF(BW31=\"D\",$AA$3,0))","v":{"v":0,"d":"0.0"}},{"$f":"IF(BQ31>BR31,\"W\",IF(BQ31<BR31,\"L\",IF(BQ31=0,\"\",IF(BQ31=BR31,\"D\",0))))","v":""},{"$nulls":3},{"$f":"IF(CD31=\"D\",\"D\",IF(CD31=\"W\",CB31,IF(CD31=\"L\",CB31,0)))","v":0},{"$f":"IF(BX31+BY31=0,0,IF(BX31+BY31>0.1,BX31-BY31,0))","v":0},{"$f":"IF(CD31=\"W\",1,IF(CD31=\"D\",0.5,0))","v":{"v":0,"d":"0.0"}},{"$f":"IF(BX31>BY31,\"W\",IF(BX31<BY31,\"L\",IF(BX31=0,\"\",IF(BX31=BY31,\"D\",0))))","v":""},{"$f":"K31+T31+AC31+AL31+AU31+BD31+BM31+BV31+CC31","v":0},{"$f":"F31-G31+O31-P31+X31-Y31+AG31-AH31+AP31-AQ31+AY31-AZ31+BH31-BI31+BQ31-BR31","v":0},0,{"$f":"(CF31*10000)+(CF31*1000)+CI31","v":0},{"$f":"H31+Q31+Z31+AI31+AR31+BA31+BJ31+BS31+BZ31","v":0},{"$f":"(CE31*$R$3)+CI31","v":0},{"$f":"IF($CG$7:$CG$60=0,\"\",RANK(CG31,$CG$7:$CG$60))","v":""}]
[null,26,null,31,25,{"$nulls":3},{"$f":"IF(L32=\"D\",\"D\",IF(L32=\"W\",J32,IF(L32=\"L\",J32,0)))","v":0},{"$f":"IF(F32+G32=0,0,IF(F32+G32>0.1,F32-G32,0))","v":0},{"$f":"IF(L32=\"W\",$R$3,IF(L32=\"D\",$AA$3,0))","v":{"v":0,"d":"0.0"}},{"$f":"IF(F32>G32,\"W\",IF(F32<G32,\"L\",IF(F32=0,\"\",IF(F32=G32,\"D\",0))))","v":""},33,1,{"$nulls":3},{"$f":"IF(U32=\"D\",\"D\",IF(U32=\"W\",S32,IF(U32=\"L\",S32,0)))","v":0},{"$f":"IF(O32+P32=0,0,IF(O32+P32>0.1,O32-P32,0))","v":0},{"$f":"IF(U32=\"W\",$R$3,IF(U32=\"D\",$AA$3,0))","v":{"v":0,"d":"0.0"}},{"$f":"IF(O32>P32,\"W\",IF(O32<P32,\"L\",IF(O32=0,\"\",IF(O32=P32,\"D\",0))))","v":""},37,16,{"$nulls":3},{"$f":"IF(AD32=\"D\",\"D\",IF(AD32=\"W\",AB32,IF(AD32=\"L\",AB32,0)))","v":0},{"$f":"IF(X32+Y32=0,0,IF(X32+Y32>0.1,X32-Y32,0))","v":0},{"$f":"IF(AD32=\"W\",$R$3,IF(AD32=\"D\",$AA$3,0))","v":{"v":0,"d":"0.0"}},{"$f":"IF(X32>Y32,\"W\",IF(X32<Y32,\"L\",IF(X32=0,\"\",IF(X32=Y32,\"D\",0))))","v":""},35,26,{"$nulls":3},{"$f":"IF(AM32=\"D\",\"D\",IF(AM32=\"W\",AK32,IF(AM32=\"L\",AK32,0)))","v":0},{"$f":"IF(AG32+AH32=0,0,IF(AG32+AH32>0.1,AG32-AH32,0))","v":0},{"$f":"IF(AM32=\"W\",$R$3,IF(AM32=\"D\",$AA$3,0))","v":{"v":0,"d":"0.0"}},{"$f":"IF(AG32>AH32,\"W\",IF(AG32<AH32,\"L\",IF(AG32=0,\"\",IF(AG32=AH32,\"D\",0))))","v":""},39,7,{"$nulls":3},{"$f":"IF(AV32=\"D\",\"D\",IF(AV32=\"W\",AT32,IF(AV32=\"L\",AT32,0)))","v":0},{"$f":"IF(AP32+AQ32=0,0,IF(AP32+AQ32>0.1,AP32-AQ32,0))","v":0},{"$f":"IF(AV32=\"W\",$R$3,IF(AV32=\"D\",$AA$3,0))","v":{"v":0,"d":"0.0"}},{"$f":"IF(AP32>AQ32,\"W\",IF(AP32<AQ32,\"L\",IF(AP32=0,\"\",IF(AP32=AQ32,\"D\",0))))","v":""},41,9,{"$nulls":3},{"$f":"IF(BE32=\"D\",\"D\",IF(BE32=\"W\",BC32,IF(BE32=\"L\",BC32,0)))","v":0},{"$f":"IF(AY32+AZ32=0,0,IF(AY32+AZ32>0.1,AY32-AZ32,0))","v":0},{"$f":"IF(BE32=\"W\",$R$3,IF(BE32=\"D\",$AA$3,0))","v":{"v":0,"d":"0.0"}},{"$f":"IF(AY32>AZ32,\"W\",IF(AY32<AZ32,\"L\",IF(AY32=0,\"\",IF(AY32=AZ32,\"D\",0))))","v":""},18,14,{"$nulls":3},{"$f":"IF(BN32=\"D\",\"D\",IF(BN32=\"W\",BL32,IF(BN32=\"L\",BL32,0)))","v":0},{"$f":"IF(BH32+BI32=0,0,IF(BH32+BI32>0.1,BH32-BI32,0))","v":0},{"$f":"IF(BN32=\"W\",$R$3,IF(BN32=\"D\",$AA$3,0))","v":{"v":0,"d":"0.0"}},{"$f":"IF(BH32>BI32,\"W\",IF(BH32<BI32,\"L\",IF(BH32=0,\"\",IF(BH32=BI32,\"D\",0))))","v":""},24,20,{"$nulls":3},{"$f":"IF(BW32=\"D\",\"D\",IF(BW32=\"W\",BU32,IF(BW32=\"L\",BU32,0)))","v":0},{"$f":"IF(BQ32+BR32=0,0,IF(BQ32+BR32>0.1,BQ32-BR32,0))","v":0},{"$f":"IF(BW32=\"W\",$R$3,IF(BW32=\"D\",$AA$3,0))","v":{"v":0,"d":"0.0"}},{"$f":"IF(BQ32>BR32,\"W\",IF(BQ32<BR32,\"L\",IF(BQ32=0,\"\",IF(BQ32=BR32,\"D\",0))))","v":""},{"$nulls":3},{"$f":"IF(CD32=\"D\",\"D\",IF(CD32=\"W\",CB32,IF(CD32=\"L\",CB32,0)))","v":0},{"$f":"IF(BX32+BY32=0,0,IF(BX32+BY32>0.1,BX32-BY32,0))","v":0},{"$f":"IF(CD32=\"W\",1,IF(CD32=\"D\",0.5,0))","v":{"v":0,"d":"0.0"}},{"$f":"IF(BX32>BY32,\"W\",IF(BX32<BY32,\"L\",IF(BX32=0,\"\",IF(BX32=BY32,\"D\",0))))","v":""},{"$f":"K32+T32+AC32+AL32+AU32+BD32+BM32+BV32+CC32","v":0},{"$f":"F32-G32+O32-P32+X32-Y32+AG32-AH32+AP32-AQ32+AY32-AZ32+BH32-BI32+BQ32-BR32","v":0},0,{"$f":"(CF32*10000)+(CF32*1000)+CI32","v":0},{"$f":"H32+Q32+Z32+AI32+AR32+BA32+BJ32+BS32+BZ32","v":0},{"$f":"(CE32*$R$3)+CI32","v":0},{"$f":"IF($CG$7:$CG$60=0,\"\",RANK(CG32,$CG$7:$CG$60))","v":""}]
[null,27,null,30,26,{"$nulls":3},{"$f":"IF(L33=\"D\",\"D\",IF(L33=\"W\",J33,IF(L33=\"L\",J33,0)))","v":0},{"$f":"IF(F33+G33=0,0,IF(F33+G33>0.1,F33-G33,0))","v":0},{"$f":"IF(L33=\"W\",$R$3,IF(L33=\"D\",$AA$3,0))","v":{"v":0,"d":"0.0"}},{"$f":"IF(F33>G33,\"W\",IF(F33<G33,\"L\",IF(F33=0,\"\",IF(F33=G33,\"D\",0))))","v":""},32,7,{"$nulls":3},{"$f":"IF(U33=\"D\",\"D\",IF(U33=\"W\",S33,IF(U33=\"L\",S33,0)))","v":0},{"$f":"IF(O33+P33=0,0,IF(O33+P33>0.1,O33-P33,0))","v":0},{"$f":"IF(U33=\"W\",$R$3,IF(U33=\"D\",$AA$3,0))","v":{"v":0,"d":"0.0"}},{"$f":"IF(O33>P33,\"W\",IF(O33<P33,\"L\",IF(O33=0,\"\",IF(O33=P33,\"D\",0))))","v":""},36,9,{"$nulls":3},{"$f":"IF(AD33=\"D\",\"D\",IF(AD33=\"W\",AB33,IF(AD33=\"L\",AB33,0)))","v":0},{"$f":"IF(X33+Y33=0,0,IF(X33+Y33>0.1,X33-Y33,0))","v":0},{"$f":"IF(AD33=\"W\",$R$3,IF(AD33=\"D\",$AA$3,0))","v":{"v":0,"d":"0.0"}},{"$f":"IF(X33>Y33,\"W\",IF(X33<Y33,\"L\",IF(X33=0,\"\",IF(X33=Y33,\"D\",0))))","v":""},34,27,{"$nulls":3},{"$f":"IF(AM33=\"D\",\"D\",IF(AM33=\"W\",AK33,IF(AM33=\"L\",AK33,0)))","v":0},{"$f":"IF(AG33+AH33=0,0,IF(AG33+AH33>0.1,AG33-AH33,0))","v":0},{"$f":"IF(AM33=\"W\",$R$3,IF(AM33=\"D\",$AA$3,0))","v":{"v":0,"d":"0.0"}},{"$f":"IF(AG33>AH33,\"W\",IF(AG33<AH33,\"L\",IF(AG33=0,\"\",IF(AG33=AH33,\"D\",0))))","v":""},38,6,{"$nulls":3},{"$f":"IF(AV33=\"D\",\"D\",IF(AV33=\"W\",AT33,IF(AV33=\"L\",AT33,0)))","v":0},{"$f":"IF(AP33+AQ33=0,0,IF(AP33+AQ33>0.1,AP33-AQ33,0))","v":0},{"$f":"IF(AV33=\"W\",$R$3,IF(AV33=\"D\",$AA$3,0))","v":{"v":0,"d":"0.0"}},{"$f":"IF(AP33>AQ33,\"W\",IF(AP33<AQ33,\"L\",IF(AP33=0,\"\",IF(AP33=AQ33,\"D\",0))))","v":""},40,10,{"$nulls":3},{"$f":"IF(BE33=\"D\",\"D\",IF(BE33=\"W\",BC33,IF(BE33=\"L\",BC33,0)))","v":0},{"$f":"IF(AY33+AZ33=0,0,IF(AY33+AZ33>0.1,AY33-AZ33,0))","v":0},{"$f":"IF(BE33=\"W\",$R$3,IF(BE33=\"D\",$AA$3,0))","v":{"v":0,"d":"0.0"}},{"$f":"IF(AY33>AZ33,\"W\",IF(AY33<AZ33,\"L\",IF(AY33=0,\"\",IF(AY33=AZ33,\"D\",0))))","v":""},15,12,{"$nulls":3},{"$f":"IF(BN33=\"D\",\"D\",IF(BN33=\"W\",BL33,IF(BN33=\"L\",BL33,0)))","v":0},{"$f":"IF(BH33+BI33=0,0,IF(BH33+BI33>0.1,BH33-BI33,0))","v":0},{"$f":"IF(BN33=\"W\",$R$3,IF(BN33=\"D\",$AA$3,0))","v":{"v":0,"d":"0.0"}},{"$f":"IF(BH33>BI33,\"W\",IF(BH33<BI33,\"L\",IF(BH33=0,\"\",IF(BH33=BI33,\"D\",0))))","v":""},21,17,{"$nulls":3},{"$f":"IF(BW33=\"D\",\"D\",IF(BW33=\"W\",BU33,IF(BW33=\"L\",BU33,0)))","v":0},{"$f":"IF(BQ33+BR33=0,0,IF(BQ33+BR33>0.1,BQ33-BR33,0))","v":0},{"$f":"IF(BW33=\"W\",$R$3,IF(BW33=\"D\",$AA$3,0))","v":{"v":0,"d":"0.0"}},{"$f":"IF(BQ33>BR33,\"W\",IF(BQ33<BR33,\"L\",IF(BQ33=0,\"\",IF(BQ33=BR33,\"D\",0))))","v":""},{"$nulls":3},{"$f":"IF(CD33=\"D\",\"D\",IF(CD33=\"W\",CB33,IF(CD33=\"L\",CB33,0)))","v":0},{"$f":"IF(BX33+BY33=0,0,IF(BX33+BY33>0.1,BX33-BY33,0))","v":0},{"$f":"IF(CD33=\"W\",1,IF(CD33=\"D\",0.5,0))","v":{"v":0,"d":"0.0"}},{"$f":"IF(BX33>BY33,\"W\",IF(BX33<BY33,\"L\",IF(BX33=0,\"\",IF(BX33=BY33,\"D\",0))))","v":""},{"$f":"K33+T33+AC33+AL33+AU33+BD33+BM33+BV33+CC33","v":0},{"$f":"F33-G33+O33-P33+X33-Y33+AG33-AH33+AP33-AQ33+AY33-AZ33+BH33-BI33+BQ33-BR33","v":0},0,{"$f":"(CF33*10000)+(CF33*1000)+CI33","v":0},{"$f":"H33+Q33+Z33+AI33+AR33+BA33+BJ33+BS33+BZ33","v":0},{"$f":"(CE33*$R$3)+CI33","v":0},{"$f":"IF($CG$7:$CG$60=0,\"\",RANK(CG33,$CG$7:$CG$60))","v":""}]
[null,28,null,29,27,{"$nulls":3},{"$f":"IF(L34=\"D\",\"D\",IF(L34=\"W\",J34,IF(L34=\"L\",J34,0)))","v":0},{"$f":"IF(F34+G34=0,0,IF(F34+G34>0.1,F34-G34,0))","v":0},{"$f":"IF(L34=\"W\",$R$3,IF(L34=\"D\",$AA$3,0))","v":{"v":0,"d":"0.0"}},{"$f":"IF(F34>G34,\"W\",IF(F34<G34,\"L\",IF(F34=0,\"\",IF(F34=G34,\"D\",0))))","v":""},31,5,{"$nulls":3},{"$f":"IF(U34=\"D\",\"D\",IF(U34=\"W\",S34,IF(U34=\"L\",S34,0)))","v":0},{"$f":"IF(O34+P34=0,0,IF(O34+P34>0.1,O34-P34,0))","v":0},{"$f":"IF(U34=\"W\",$R$3,IF(U34=\"D\",$AA$3,0))","v":{"v":0,"d":"0.0"}},{"$f":"IF(O34>P34,\"W\",IF(O34<P34,\"L\",IF(O34=0,\"\",IF(O34=P34,\"D\",0))))","v":""},35,10,{"$nulls":3},{"$f":"IF(AD34=\"D\",\"D\",IF(AD34=\"W\",AB34,IF(AD34=\"L\",AB34,0)))","v":0},{"$f":"IF(X34+Y34=0,0,IF(X34+Y34>0.1,X34-Y34,0))","v":0},{"$f":"IF(AD34=\"W\",$R$3,IF(AD34=\"D\",$AA$3,0))","v":{"v":0,"d":"0.0"}},{"$f":"IF(X34>Y34,\"W\",IF(X34<Y34,\"L\",IF(X34=0,\"\",IF(X34=Y34,\"D\",0))))","v":""},33,21,{"$nulls":3},{"$f":"IF(AM34=\"D\",\"D\",IF(AM34=\"W\",AK34,IF(AM34=\"L\",AK34,0)))","v":0},{"$f":"IF(AG34+AH34=0,0,IF(AG34+AH34>0.1,AG34-AH34,0))","v":0},{"$f":"IF(AM34=\"W\",$R$3,IF(AM34=\"D\",$AA$3,0))","v":{"v":0,"d":"0.0"}},{"$f":"IF(AG34>AH34,\"W\",IF(AG34<AH34,\"L\",IF(AG34=0,\"\",IF(AG34=AH34,\"D\",0))))","v":""},37,4,{"$nulls":3},{"$f":"IF(AV34=\"D\",\"D\",IF(AV34=\"W\",AT34,IF(AV34=\"L\",AT34,0)))","v":0},{"$f":"IF(AP34+AQ34=0,0,IF(AP34+AQ34>0.1,AP34-AQ34,0))","v":0},{"$f":"IF(AV34=\"W\",$R$3,IF(AV34=\"D\",$AA$3,0))","v":{"v":0,"d":"0.0"}},{"$f":"IF(AP34>AQ34,\"W\",IF(AP34<AQ34,\"L\",IF(AP34=0,\"\",IF(AP34=AQ34,\"D\",0))))","v":""},39,27,{"$nulls":3},{"$f":"IF(BE34=\"D\",\"D\",IF(BE34=\"W\",BC34,IF(BE34=\"L\",BC34,0)))","v":0},{"$f":"IF(AY34+AZ34=0,0,IF(AY34+AZ34>0.1,AY34-AZ34,0))","v":0},{"$f":"IF(BE34=\"W\",$R$3,IF(BE34=\"D\",$AA$3,0))","v":{"v":0,"d":"0.0"}},{"$f":"IF(AY34>AZ34,\"W\",IF(AY34<AZ34,\"L\",IF(AY34=0,\"\",IF(AY34=AZ34,\"D\",0))))","v":""},25,10,{"$nulls":3},{"$f":"IF(BN34=\"D\",\"D\",IF(BN34=\"W\",BL34,IF(BN34=\"L\",BL34,0)))","v":0},{"$f":"IF(BH34+BI34=0,0,IF(BH34+BI34>0.1,BH34-BI34,0))","v":0},{"$f":"IF(BN34=\"W\",$R$3,IF(BN34=\"D\",$AA$3,0))","v":{"v":0,"d":"0.0"}},{"$f":"IF(BH34>BI34,\"W\",IF(BH34<BI34,\"L\",IF(BH34=0,\"\",IF(BH34=BI34,\"D\",0))))","v":""},20,21,{"$nulls":3},{"$f":"IF(BW34=\"D\",\"D\",IF(BW34=\"W\",BU34,IF(BW34=\"L\",BU34,0)))","v":0},{"$f":"IF(BQ34+BR34=0,0,IF(BQ34+BR34>0.1,BQ34-BR34,0))","v":0},{"$f":"IF(BW34=\"W\",$R$3,IF(BW34=\"D\",$AA$3,0))","v":{"v":0,"d":"0.0"}},{"$f":"IF(BQ34>BR34,\"W\",IF(BQ34<BR34,\"L\",IF(BQ34=0,\"\",IF(BQ34=BR34,\"D\",0))))","v":""},{"$nulls":3},{"$f":"IF(CD34=\"D\",\"D\",IF(CD34=\"W\",CB34,IF(CD34=\"L\",CB34,0)))","v":0},{"$f":"IF(BX34+BY34=0,0,IF(BX34+BY34>0.1,BX34-BY34,0))","v":0},{"$f":"IF(CD34=\"W\",1,IF(CD34=\"D\",0.5,0))","v":{"v":0,"d":"0.0"}},{"$f":"IF(BX34>BY34,\"W\",IF(BX34<BY34,\"L\",IF(BX34=0,\"\",IF(BX34=BY34,\"D\",0))))","v":""},{"$f":"K34+T34+AC34+AL34+AU34+BD34+BM34+BV34+CC34","v":0},{"$f":"F34-G34+O34-P34+X34-Y34+AG34-AH34+AP34-AQ34+AY34-AZ34+BH34-BI34+BQ34-BR34","v":0},0,{"$f":"(CF34*10000)+(CF34*1000)+CI34","v":0},{"$f":"H34+Q34+Z34+AI34+AR34+BA34+BJ34+BS34+BZ34","v":0},{"$f":"(CE34*$R$3)+CI34","v":0},{"$f":"IF($CG$7:$CG$60=0,\"\",RANK(CG34,$CG$7:$CG$60))","v":""}]
[null,29,null,28,27,{"$nulls":3},{"$f":"IF(L35=\"D\",\"D\",IF(L35=\"W\",J35,IF(L35=\"L\",J35,0)))","v":0},{"$f":"IF(F35+G35=0,0,IF(F35+G35>0.1,F35-G35,0))","v":0},{"$f":"IF(L35=\"W\",$R$3,IF(L35=\"D\",$AA$3,0))","v":{"v":0,"d":"0.0"}},{"$f":"IF(F35>G35,\"W\",IF(F35<G35,\"L\",IF(F35=0,\"\",IF(F35=G35,\"D\",0))))","v":""},30,6,{"$nulls":3},{"$f":"IF(U35=\"D\",\"D\",IF(U35=\"W\",S35,IF(U35=\"L\",S35,0)))","v":0},{"$f":"IF(O35+P35=0,0,IF(O35+P35>0.1,O35-P35,0))","v":0},{"$f":"IF(U35=\"W\",$R$3,IF(U35=\"D\",$AA$3,0))","v":{"v":0,"d":"0.0"}},{"$f":"IF(O35>P35,\"W\",IF(O35<P35,\"L\",IF(O35=0,\"\",IF(O35=P35,\"D\",0))))","v":""},34,11,{"$nulls":3},{"$f":"IF(AD35=\"D\",\"D\",IF(AD35=\"W\",AB35,IF(AD35=\"L\",AB35,0)))","v":0},{"$f":"IF(X35+Y35=0,0,IF(X35+Y35>0.1,X35-Y35,0))","v":0},{"$f":"IF(AD35=\"W\",$R$3,IF(AD35=\"D\",$AA$3,0))","v":{"v":0,"d":"0.0"}},{"$f":"IF(X35>Y35,\"W\",IF(X35<Y35,\"L\",IF(X35=0,\"\",IF(X35=Y35,\"D\",0))))","v":""},32,19,{"$nulls":3},{"$f":"IF(AM35=\"D\",\"D\",IF(AM35=\"W\",AK35,IF(AM35=\"L\",AK35,0)))","v":0},{"$f":"IF(AG35+AH35=0,0,IF(AG35+AH35>0.1,AG35-AH35,0))","v":0},{"$f":"IF(AM35=\"W\",$R$3,IF(AM35=\"D\",$AA$3,0))","v":{"v":0,"d":"0.0"}},{"$f":"IF(AG35>AH35,\"W\",IF(AG35<AH35,\"L\",IF(AG35=0,\"\",IF(AG35=AH35,\"D\",0))))","v":""},36,1,{"$nulls":3},{"$f":"IF(AV35=\"D\",\"D\",IF(AV35=\"W\",AT35,IF(AV35=\"L\",AT35,0)))","v":0},{"$f":"IF(AP35+AQ35=0,0,IF(AP35+AQ35>0.1,AP35-AQ35,0))","v":0},{"$f":"IF(AV35=\"W\",$R$3,IF(AV35=\"D\",$AA$3,0))","v":{"v":0,"d":"0.0"}},{"$f":"IF(AP35>AQ35,\"W\",IF(AP35<AQ35,\"L\",IF(AP35=0,\"\",IF(AP35=AQ35,\"D\",0))))","v":""},38,8,{"$nulls":3},{"$f":"IF(BE35=\"D\",\"D\",IF(BE35=\"W\",BC35,IF(BE35=\"L\",BC35,0)))","v":0},{"$f":"IF(AY35+AZ35=0,0,IF(AY35+AZ35>0.1,AY35-AZ35,0))","v":0},{"$f":"IF(BE35=\"W\",$R$3,IF(BE35=\"D\",$AA$3,0))","v":{"v":0,"d":"0.0"}},{"$f":"IF(AY35>AZ35,\"W\",IF(AY35<AZ35,\"L\",IF(AY35=0,\"\",IF(AY35=AZ35,\"D\",0))))","v":""},41,19,{"$nulls":3},{"$f":"IF(BN35=\"D\",\"D\",IF(BN35=\"W\",BL35,IF(BN35=\"L\",BL35,0)))","v":0},{"$f":"IF(BH35+BI35=0,0,IF(BH35+BI35>0.1,BH35-BI35,0))","v":0},{"$f":"IF(BN35=\"W\",$R$3,IF(BN35=\"D\",$AA$3,0))","v":{"v":0,"d":"0.0"}},{"$f":"IF(BH35>BI35,\"W\",IF(BH35<BI35,\"L\",IF(BH35=0,\"\",IF(BH35=BI35,\"D\",0))))","v":""},36,1,{"$nulls":3},{"$f":"IF(BW35=\"D\",\"D\",IF(BW35=\"W\",BU35,IF(BW35=\"L\",BU35,0)))","v":0},{"$f":"IF(BQ35+BR35=0,0,IF(BQ35+BR35>0.1,BQ35-BR35,0))","v":0},{"$f":"IF(BW35=\"W\",$R$3,IF(BW35=\"D\",$AA$3,0))","v":{"v":0,"d":"0.0"}},{"$f":"IF(BQ35>BR35,\"W\",IF(BQ35<BR35,\"L\",IF(BQ35=0,\"\",IF(BQ35=BR35,\"D\",0))))","v":""},{"$nulls":3},{"$f":"IF(CD35=\"D\",\"D\",IF(CD35=\"W\",CB35,IF(CD35=\"L\",CB35,0)))","v":0},{"$f":"IF(BX35+BY35=0,0,IF(BX35+BY35>0.1,BX35-BY35,0))","v":0},{"$f":"IF(CD35=\"W\",1,IF(CD35=\"D\",0.5,0))","v":{"v":0,"d":"0.0"}},{"$f":"IF(BX35>BY35,\"W\",IF(BX35<BY35,\"L\",IF(BX35=0,\"\",IF(BX35=BY35,\"D\",0))))","v":""},{"$f":"K35+T35+AC35+AL35+AU35+BD35+BM35+BV35+CC35","v":0},{"$f":"F35-G35+O35-P35+X35-Y35+AG35-AH35+AP35-AQ35+AY35-AZ35+BH35-BI35+BQ35-BR35","v":0},0,{"$f":"(CF35*10000)+(CF35*1000)+CI35","v":0},{"$f":"H35+Q35+Z35+AI35+AR35+BA35+BJ35+BS35+BZ35","v":0},{"$f":"(CE35*$R$3)+CI35","v":0},{"$f":"IF($CG$7:$CG$60=0,\"\",RANK(CG35,$CG$7:$CG$60))","v":""}]
[null,30,null,27,26,{"$nulls":3},{"$f":"IF(L36=\"D\",\"D\",IF(L36=\"W\",J36,IF(L36=\"L\",J36,0)))","v":0},{"$f":"IF(F36+G36=0,0,IF(F36+G36>0.1,F36-G36,0))","v":0},{"$f":"IF(L36=\"W\",$R$3,IF(L36=\"D\",$AA$3,0))","v":{"v":0,"d":"0.0"}},{"$f":"IF(F36>G36,\"W\",IF(F36<G36,\"L\",IF(F36=0,\"\",IF(F36=G36,\"D\",0))))","v":""},29,6,{"$nulls":3},{"$f":"IF(U36=\"D\",\"D\",IF(U36=\"W\",S36,IF(U36=\"L\",S36,0)))","v":0},{"$f":"IF(O36+P36=0,0,IF(O36+P36>0.1,O36-P36,0))","v":0},{"$f":"IF(U36=\"W\",$R$3,IF(U36=\"D\",$AA$3,0))","v":{"v":0,"d":"0.0"}},{"$f":"IF(O36>P36,\"W\",IF(O36<P36,\"L\",IF(O36=0,\"\",IF(O36=P36,\"D\",0))))","v":""},33,12,{"$nulls":3},{"$f":"IF(AD36=\"D\",\"D\",IF(AD36=\"W\",AB36,IF(AD36=\"L\",AB36,0)))","v":0},{"$f":"IF(X36+Y36=0,0,IF(X36+Y36>0.1,X36-Y36,0))","v":0},{"$f":"IF(AD36=\"W\",$R$3,IF(AD36=\"D\",$AA$3,0))","v":{"v":0,"d":"0.0"}},{"$f":"IF(X36>Y36,\"W\",IF(X36<Y36,\"L\",IF(X36=0,\"\",IF(X36=Y36,\"D\",0))))","v":""},31,7,{"$nulls":3},{"$f":"IF(AM36=\"D\",\"D\",IF(AM36=\"W\",AK36,IF(AM36=\"L\",AK36,0)))","v":0},{"$f":"IF(AG36+AH36=0,0,IF(AG36+AH36>0.1,AG36-AH36,0))","v":0},{"$f":"IF(AM36=\"W\",$R$3,IF(AM36=\"D\",$AA$3,0))","v":{"v":0,"d":"0.0"}},{"$f":"IF(AG36>AH36,\"W\",IF(AG36<AH36,\"L\",IF(AG36=0,\"\",IF(AG36=AH36,\"D\",0))))","v":""},35,16,{"$nulls":3},{"$f":"IF(AV36=\"D\",\"D\",IF(AV36=\"W\",AT36,IF(AV36=\"L\",AT36,0)))","v":0},{"$f":"IF(AP36+AQ36=0,0,IF(AP36+AQ36>0.1,AP36-AQ36,0))","v":0},{"$f":"IF(AV36=\"W\",$R$3,IF(AV36=\"D\",$AA$3,0))","v":{"v":0,"d":"0.0"}},{"$f":"IF(AP36>AQ36,\"W\",IF(AP36<AQ36,\"L\",IF(AP36=0,\"\",IF(AP36=AQ36,\"D\",0))))","v":""},37,11,{"$nulls":3},{"$f":"IF(BE36=\"D\",\"D\",IF(BE36=\"W\",BC36,IF(BE36=\"L\",BC36,0)))","v":0},{"$f":"IF(AY36+AZ36=0,0,IF(AY36+AZ36>0.1,AY36-AZ36,0))","v":0},{"$f":"IF(BE36=\"W\",$R$3,IF(BE36=\"D\",$AA$3,0))","v":{"v":0,"d":"0.0"}},{"$f":"IF(AY36>AZ36,\"W\",IF(AY36<AZ36,\"L\",IF(AY36=0,\"\",IF(AY36=AZ36,\"D\",0))))","v":""},37,16,{"$nulls":3},{"$f":"IF(BN36=\"D\",\"D\",IF(BN36=\"W\",BL36,IF(BN36=\"L\",BL36,0)))","v":0},{"$f":"IF(BH36+BI36=0,0,IF(BH36+BI36>0.1,BH36-BI36,0))","v":0},{"$f":"IF(BN36=\"W\",$R$3,IF(BN36=\"D\",$AA$3,0))","v":{"v":0,"d":"0.0"}},{"$f":"IF(BH36>BI36,\"W\",IF(BH36<BI36,\"L\",IF(BH36=0,\"\",IF(BH36=BI36,\"D\",0))))","v":""},33,2,{"$nulls":3},{"$f":"IF(BW36=\"D\",\"D\",IF(BW36=\"W\",BU36,IF(BW36=\"L\",BU36,0)))","v":0},{"$f":"IF(BQ36+BR36=0,0,IF(BQ36+BR36>0.1,BQ36-BR36,0))","v":0},{"$f":"IF(BW36=\"W\",$R$3,IF(BW36=\"D\",$AA$3,0))","v":{"v":0,"d":"0.0"}},{"$f":"IF(BQ36>BR36,\"W\",IF(BQ36<BR36,\"L\",IF(BQ36=0,\"\",IF(BQ36=BR36,\"D\",0))))","v":""},{"$nulls":3},{"$f":"IF(CD36=\"D\",\"D\",IF(CD36=\"W\",CB36,IF(CD36=\"L\",CB36,0)))","v":0},{"$f":"IF(BX36+BY36=0,0,IF(BX36+BY36>0.1,BX36-BY36,0))","v":0},{"$f":"IF(CD36=\"W\",1,IF(CD36=\"D\",0.5,0))","v":{"v":0,"d":"0.0"}},{"$f":"IF(BX36>BY36,\"W\",IF(BX36<BY36,\"L\",IF(BX36=0,\"\",IF(BX36=BY36,\"D\",0))))","v":""},{"$f":"K36+T36+AC36+AL36+AU36+BD36+BM36+BV36+CC36","v":0},{"$f":"F36-G36+O36-P36+X36-Y36+AG36-AH36+AP36-AQ36+AY36-AZ36+BH36-BI36+BQ36-BR36","v":0},0,{"$f":"(CF36*10000)+(CF36*1000)+CI36","v":0},{"$f":"H36+Q36+Z36+AI36+AR36+BA36+BJ36+BS36+BZ36","v":0},{"$f":"(CE36*$R$3)+CI36","v":0},{"$f":"IF($CG$7:$CG$60=0,\"\",RANK(CG36,$CG$7:$CG$60))","v":""}]
[null,31,null,26,25,{"$nulls":3},{"$f":"IF(L37=\"D\",\"D\",IF(L37=\"W\",J37,IF(L37=\"L\",J37,0)))","v":0},{"$f":"IF(F37+G37=0,0,IF(F37+G37>0.1,F37-G37,0))","v":0},{"$f":"IF(L37=\"W\",$R$3,IF(L37=\"D\",$AA$3,0))","v":{"v":0,"d":"0.0"}},{"$f":"IF(F37>G37,\"W\",IF(F37<G37,\"L\",IF(F37=0,\"\",IF(F37=G37,\"D\",0))))","v":""},28,5,{"$nulls":3},{"$f":"IF(U37=\"D\",\"D\",IF(U37=\"W\",S37,IF(U37=\"L\",S37,0)))","v":0},{"$f":"IF(O37+P37=0,0,IF(O37+P37>0.1,O37-P37,0))","v":0},{"$f":"IF(U37=\"W\",$R$3,IF(U37=\"D\",$AA$3,0))","v":{"v":0,"d":"0.0"}},{"$f":"IF(O37>P37,\"W\",IF(O37<P37,\"L\",IF(O37=0,\"\",IF(O37=P37,\"D\",0))))","v":""},32,13,{"$nulls":3},{"$f":"IF(AD37=\"D\",\"D\",IF(AD37=\"W\",AB37,IF(AD37=\"L\",AB37,0)))","v":0},{"$f":"IF(X37+Y37=0,0,IF(X37+Y37>0.1,X37-Y37,0))","v":0},{"$f":"IF(AD37=\"W\",$R$3,IF(AD37=\"D\",$AA$3,0))","v":{"v":0,"d":"0.0"}},{"$f":"IF(X37>Y37,\"W\",IF(X37<Y37,\"L\",IF(X37=0,\"\",IF(X37=Y37,\"D\",0))))","v":""},30,7,{"$nulls":3},{"$f":"IF(AM37=\"D\",\"D\",IF(AM37=\"W\",AK37,IF(AM37=\"L\",AK37,0)))","v":0},{"$f":"IF(AG37+AH37=0,0,IF(AG37+AH37>0.1,AG37-AH37,0))","v":0},{"$f":"IF(AM37=\"W\",$R$3,IF(AM37=\"D\",$AA$3,0))","v":{"v":0,"d":"0.0"}},{"$f":"IF(AG37>AH37,\"W\",IF(AG37<AH37,\"L\",IF(AG37=0,\"\",IF(AG37=AH37,\"D\",0))))","v":""},34,3,{"$nulls":3},{"$f":"IF(AV37=\"D\",\"D\",IF(AV37=\"W\",AT37,IF(AV37=\"L\",AT37,0)))","v":0},{"$f":"IF(AP37+AQ37=0,0,IF(AP37+AQ37>0.1,AP37-AQ37,0))","v":0},{"$f":"IF(AV37=\"W\",$R$3,IF(AV37=\"D\",$AA$3,0))","v":{"v":0,"d":"0.0"}},{"$f":"IF(AP37>AQ37,\"W\",IF(AP37<AQ37,\"L\",IF(AP37=0,\"\",IF(AP37=AQ37,\"D\",0))))","v":""},36,12,{"$nulls":3},{"$f":"IF(BE37=\"D\",\"D\",IF(BE37=\"W\",BC37,IF(BE37=\"L\",BC37,0)))","v":0},{"$f":"IF(AY37+AZ37=0,0,IF(AY37+AZ37>0.1,AY37-AZ37,0))","v":0},{"$f":"IF(BE37=\"W\",$R$3,IF(BE37=\"D\",$AA$3,0))","v":{"v":0,"d":"0.0"}},{"$f":"IF(AY37>AZ37,\"W\",IF(AY37<AZ37,\"L\",IF(AY37=0,\"\",IF(AY37=AZ37,\"D\",0))))","v":""},38,15,{"$nulls":3},{"$f":"IF(BN37=\"D\",\"D\",IF(BN37=\"W\",BL37,IF(BN37=\"L\",BL37,0)))","v":0},{"$f":"IF(BH37+BI37=0,0,IF(BH37+BI37>0.1,BH37-BI37,0))","v":0},{"$f":"IF(BN37=\"W\",$R$3,IF(BN37=\"D\",$AA$3,0))","v":{"v":0,"d":"0.0"}},{"$f":"IF(BH37>BI37,\"W\",IF(BH37<BI37,\"L\",IF(BH37=0,\"\",IF(BH37=BI37,\"D\",0))))","v":""},32,4,{"$nulls":3},{"$f":"IF(BW37=\"D\",\"D\",IF(BW37=\"W\",BU37,IF(BW37=\"L\",BU37,0)))","v":0},{"$f":"IF(BQ37+BR37=0,0,IF(BQ37+BR37>0.1,BQ37-BR37,0))","v":0},{"$f":"IF(BW37=\"W\",$R$3,IF(BW37=\"D\",$AA$3,0))","v":{"v":0,"d":"0.0"}},{"$f":"IF(BQ37>BR37,\"W\",IF(BQ37<BR37,\"L\",IF(BQ37=0,\"\",IF(BQ37=BR37,\"D\",0))))","v":""},{"$nulls":3},{"$f":"IF(CD37=\"D\",\"D\",IF(CD37=\"W\",CB37,IF(CD37=\"L\",CB37,0)))","v":0},{"$f":"IF(BX37+BY37=0,0,IF(BX37+BY37>0.1,BX37-BY37,0))","v":0},{"$f":"IF(CD37=\"W\",1,IF(CD37=\"D\",0.5,0))","v":{"v":0,"d":"0.0"}},{"$f":"IF(BX37>BY37,\"W\",IF(BX37<BY37,\"L\",IF(BX37=0,\"\",IF(BX37=BY37,\"D\",0))))","v":""},{"$f":"K37+T37+AC37+AL37+AU37+BD37+BM37+BV37+CC37","v":0},{"$f":"F37-G37+O37-P37+X37-Y37+AG37-AH37+AP37-AQ37+AY37-AZ37+BH37-BI37+BQ37-BR37","v":0},0,{"$f":"(CF37*10000)+(CF37*1000)+CI37","v":0},{"$f":"H37+Q37+Z37+AI37+AR37+BA37+BJ37+BS37+BZ37","v":0},{"$f":"(CE37*$R$3)+CI37","v":0},{"$f":"IF($CG$7:$CG$60=0,\"\",RANK(CG37,$CG$7:$CG$60))","v":""}]
[null,32,null,25,24,{"$nulls":3},{"$f":"IF(L38=\"D\",\"D\",IF(L38=\"W\",J38,IF(L38=\"L\",J38,0)))","v":0},{"$f":"IF(F38+G38=0,0,IF(F38+G38>0.1,F38-G38,0))","v":0},{"$f":"IF(L38=\"W\",$R$3,IF(L38=\"D\",$AA$3,0))","v":{"v":0,"d":"0.0"}},{"$f":"IF(F38>G38,\"W\",IF(F38<G38,\"L\",IF(F38=0,\"\",IF(F38=G38,\"D\",0))))","v":""},27,7,{"$nulls":3},{"$f":"IF(U38=\"D\",\"D\",IF(U38=\"W\",S38,IF(U38=\"L\",S38,0)))","v":0},{"$f":"IF(O38+P38=0,0,IF(O38+P38>0.1,O38-P38,0))","v":0},{"$f":"IF(U38=\"W\",$R$3,IF(U38=\"D\",$AA$3,0))","v":{"v":0,"d":"0.0"}},{"$f":"IF(O38>P38,\"W\",IF(O38<P38,\"L\",IF(O38=0,\"\",IF(O38=P38,\"D\",0))))","v":""},31,13,{"$nulls":3},{"$f":"IF(AD38=\"D\",\"D\",IF(AD38=\"W\",AB38,IF(AD38=\"L\",AB38,0)))","v":0},{"$f":"IF(X38+Y38=0,0,IF(X38+Y38>0.1,X38-Y38,0))","v":0},{"$f":"IF(AD38=\"W\",$R$3,IF(AD38=\"D\",$AA$3,0))","v":{"v":0,"d":"0.0"}},{"$f":"IF(X38>Y38,\"W\",IF(X38<Y38,\"L\",IF(X38=0,\"\",IF(X38=Y38,\"D\",0))))","v":""},29,19,{"$nulls":3},{"$f":"IF(AM38=\"D\",\"D\",IF(AM38=\"W\",AK38,IF(AM38=\"L\",AK38,0)))","v":0},{"$f":"IF(AG38+AH38=0,0,IF(AG38+AH38>0.1,AG38-AH38,0))","v":0},{"$f":"IF(AM38=\"W\",$R$3,IF(AM38=\"D\",$AA$3,0))","v":{"v":0,"d":"0.0"}},{"$f":"IF(AG38>AH38,\"W\",IF(AG38<AH38,\"L\",IF(AG38=0,\"\",IF(AG38=AH38,\"D\",0))))","v":""},33,2,{"$nulls":3},{"$f":"IF(AV38=\"D\",\"D\",IF(AV38=\"W\",AT38,IF(AV38=\"L\",AT38,0)))","v":0},{"$f":"IF(AP38+AQ38=0,0,IF(AP38+AQ38>0.1,AP38-AQ38,0))","v":0},{"$f":"IF(AV38=\"W\",$R$3,IF(AV38=\"D\",$AA$3,0))","v":{"v":0,"d":"0.0"}},{"$f":"IF(AP38>AQ38,\"W\",IF(AP38<AQ38,\"L\",IF(AP38=0,\"\",IF(AP38=AQ38,\"D\",0))))","v":""},35,13,{"$nulls":3},{"$f":"IF(BE38=\"D\",\"D\",IF(BE38=\"W\",BC38,IF(BE38=\"L\",BC38,0)))","v":0},{"$f":"IF(AY38+AZ38=0,0,IF(AY38+AZ38>0.1,AY38-AZ38,0))","v":0},{"$f":"IF(BE38=\"W\",$R$3,IF(BE38=\"D\",$AA$3,0))","v":{"v":0,"d":"0.0"}},{"$f":"IF(AY38>AZ38,\"W\",IF(AY38<AZ38,\"L\",IF(AY38=0,\"\",IF(AY38=AZ38,\"D\",0))))","v":""},40,21,{"$nulls":3},{"$f":"IF(BN38=\"D\",\"D\",IF(BN38=\"W\",BL38,IF(BN38=\"L\",BL38,0)))","v":0},{"$f":"IF(BH38+BI38=0,0,IF(BH38+BI38>0.1,BH38-BI38,0))","v":0},{"$f":"IF(BN38=\"W\",$R$3,IF(BN38=\"D\",$AA$3,0))","v":{"v":0,"d":"0.0"}},{"$f":"IF(BH38>BI38,\"W\",IF(BH38<BI38,\"L\",IF(BH38=0,\"\",IF(BH38=BI38,\"D\",0))))","v":""},31,4,{"$nulls":3},{"$f":"IF(BW38=\"D\",\"D\",IF(BW38=\"W\",BU38,IF(BW38=\"L\",BU38,0)))","v":0},{"$f":"IF(BQ38+BR38=0,0,IF(BQ38+BR38>0.1,BQ38-BR38,0))","v":0},{"$f":"IF(BW38=\"W\",$R$3,IF(BW38=\"D\",$AA$3,0))","v":{"v":0,"d":"0.0"}},{"$f":"IF(BQ38>BR38,\"W\",IF(BQ38<BR38,\"L\",IF(BQ38=0,\"\",IF(BQ38=BR38,\"D\",0))))","v":""},{"$nulls":3},{"$f":"IF(CD38=\"D\",\"D\",IF(CD38=\"W\",CB38,IF(CD38=\"L\",CB38,0)))","v":0},{"$f":"IF(BX38+BY38=0,0,IF(BX38+BY38>0.1,BX38-BY38,0))","v":0},{"$f":"IF(CD38=\"W\",1,IF(CD38=\"D\",0.5,0))","v":{"v":0,"d":"0.0"}},{"$f":"IF(BX38>BY38,\"W\",IF(BX38<BY38,\"L\",IF(BX38=0,\"\",IF(BX38=BY38,\"D\",0))))","v":""},{"$f":"K38+T38+AC38+AL38+AU38+BD38+BM38+BV38+CC38","v":0},{"$f":"F38-G38+O38-P38+X38-Y38+AG38-AH38+AP38-AQ38+AY38-AZ38+BH38-BI38+BQ38-BR38","v":0},0,{"$f":"(CF38*10000)+(CF38*1000)+CI38","v":0},{"$f":"H38+Q38+Z38+AI38+AR38+BA38+BJ38+BS38+BZ38","v":0},{"$f":"(CE38*$R$3)+CI38","v":0},{"$f":"IF($CG$7:$CG$60=0,\"\",RANK(CG38,$CG$7:$CG$60))","v":""}]
[null,33,null,24,23,{"$nulls":3},{"$f":"IF(L39=\"D\",\"D\",IF(L39=\"W\",J39,IF(L39=\"L\",J39,0)))","v":0},{"$f":"IF(F39+G39=0,0,IF(F39+G39>0.1,F39-G39,0))","v":0},{"$f":"IF(L39=\"W\",$R$3,IF(L39=\"D\",$AA$3,0))","v":{"v":0,"d":"0.0"}},{"$f":"IF(F39>G39,\"W\",IF(F39<G39,\"L\",IF(F39=0,\"\",IF(F39=G39,\"D\",0))))","v":""},26,1,{"$nulls":3},{"$f":"IF(U39=\"D\",\"D\",IF(U39=\"W\",S39,IF(U39=\"L\",S39,0)))","v":0},{"$f":"IF(O39+P39=0,0,IF(O39+P39>0.1,O39-P39,0))","v":0},{"$f":"IF(U39=\"W\",$R$3,IF(U39=\"D\",$AA$3,0))","v":{"v":0,"d":"0.0"}},{"$f":"IF(O39>P39,\"W\",IF(O39<P39,\"L\",IF(O39=0,\"\",IF(O39=P39,\"D\",0))))","v":""},30,12,{"$nulls":3},{"$f":"IF(AD39=\"D\",\"D\",IF(AD39=\"W\",AB39,IF(AD39=\"L\",AB39,0)))","v":0},{"$f":"IF(X39+Y39=0,0,IF(X39+Y39>0.1,X39-Y39,0))","v":0},{"$f":"IF(AD39=\"W\",$R$3,IF(AD39=\"D\",$AA$3,0))","v":{"v":0,"d":"0.0"}},{"$f":"IF(X39>Y39,\"W\",IF(X39<Y39,\"L\",IF(X39=0,\"\",IF(X39=Y39,\"D\",0))))","v":""},28,21,{"$nulls":3},{"$f":"IF(AM39=\"D\",\"D\",IF(AM39=\"W\",AK39,IF(AM39=\"L\",AK39,0)))","v":0},{"$f":"IF(AG39+AH39=0,0,IF(AG39+AH39>0.1,AG39-AH39,0))","v":0},{"$f":"IF(AM39=\"W\",$R$3,IF(AM39=\"D\",$AA$3,0))","v":{"v":0,"d":"0.0"}},{"$f":"IF(AG39>AH39,\"W\",IF(AG39<AH39,\"L\",IF(AG39=0,\"\",IF(AG39=AH39,\"D\",0))))","v":""},32,2,{"$nulls":3},{"$f":"IF(AV39=\"D\",\"D\",IF(AV39=\"W\",AT39,IF(AV39=\"L\",AT39,0)))","v":0},{"$f":"IF(AP39+AQ39=0,0,IF(AP39+AQ39>0.1,AP39-AQ39,0))","v":0},{"$f":"IF(AV39=\"W\",$R$3,IF(AV39=\"D\",$AA$3,0))","v":{"v":0,"d":"0.0"}},{"$f":"IF(AP39>AQ39,\"W\",IF(AP39<AQ39,\"L\",IF(AP39=0,\"\",IF(AP39=AQ39,\"D\",0))))","v":""},34,26,{"$nulls":3},{"$f":"IF(BE39=\"D\",\"D\",IF(BE39=\"W\",BC39,IF(BE39=\"L\",BC39,0)))","v":0},{"$f":"IF(AY39+AZ39=0,0,IF(AY39+AZ39>0.1,AY39-AZ39,0))","v":0},{"$f":"IF(BE39=\"W\",$R$3,IF(BE39=\"D\",$AA$3,0))","v":{"v":0,"d":"0.0"}},{"$f":"IF(AY39>AZ39,\"W\",IF(AY39<AZ39,\"L\",IF(AY39=0,\"\",IF(AY39=AZ39,\"D\",0))))","v":""},36,20,{"$nulls":3},{"$f":"IF(BN39=\"D\",\"D\",IF(BN39=\"W\",BL39,IF(BN39=\"L\",BL39,0)))","v":0},{"$f":"IF(BH39+BI39=0,0,IF(BH39+BI39>0.1,BH39-BI39,0))","v":0},{"$f":"IF(BN39=\"W\",$R$3,IF(BN39=\"D\",$AA$3,0))","v":{"v":0,"d":"0.0"}},{"$f":"IF(BH39>BI39,\"W\",IF(BH39<BI39,\"L\",IF(BH39=0,\"\",IF(BH39=BI39,\"D\",0))))","v":""},30,2,{"$nulls":3},{"$f":"IF(BW39=\"D\",\"D\",IF(BW39=\"W\",BU39,IF(BW39=\"L\",BU39,0)))","v":0},{"$f":"IF(BQ39+BR39=0,0,IF(BQ39+BR39>0.1,BQ39-BR39,0))","v":0},{"$f":"IF(BW39=\"W\",$R$3,IF(BW39=\"D\",$AA$3,0))","v":{"v":0,"d":"0.0"}},{"$f":"IF(BQ39>BR39,\"W\",IF(BQ39<BR39,\"L\",IF(BQ39=0,\"\",IF(BQ39=BR39,\"D\",0))))","v":""},{"$nulls":3},{"$f":"IF(CD39=\"D\",\"D\",IF(CD39=\"W\",CB39,IF(CD39=\"L\",CB39,0)))","v":0},{"$f":"IF(BX39+BY39=0,0,IF(BX39+BY39>0.1,BX39-BY39,0))","v":0},{"$f":"IF(CD39=\"W\",1,IF(CD39=\"D\",0.5,0))","v":{"v":0,"d":"0.0"}},{"$f":"IF(BX39>BY39,\"W\",IF(BX39<BY39,\"L\",IF(BX39=0,\"\",IF(BX39=BY39,\"D\",0))))","v":""},{"$f":"K39+T39+AC39+AL39+AU39+BD39+BM39+BV39+CC39","v":0},{"$f":"F39-G39+O39-P39+X39-Y39+AG39-AH39+AP39-AQ39+AY39-AZ39+BH39-BI39+BQ39-BR39","v":0},0,{"$f":"(CF39*10000)+(CF39*1000)+CI39","v":0},{"$f":"H39+Q39+Z39+AI39+AR39+BA39+BJ39+BS39+BZ39","v":0},{"$f":"(CE39*$R$3)+CI39","v":0},{"$f":"IF($CG$7:$CG$60=0,\"\",RANK(CG39,$CG$7:$CG$60))","v":""}]
[null,34,null,23,22,{"$nulls":3},{"$f":"IF(L40=\"D\",\"D\",IF(L40=\"W\",J40,IF(L40=\"L\",J40,0)))","v":0},{"$f":"IF(F40+G40=0,0,IF(F40+G40>0.1,F40-G40,0))","v":0},{"$f":"IF(L40=\"W\",$R$3,IF(L40=\"D\",$AA$3,0))","v":{"v":0,"d":"0.0"}},{"$f":"IF(F40>G40,\"W\",IF(F40<G40,\"L\",IF(F40=0,\"\",IF(F40=G40,\"D\",0))))","v":""},25,4,{"$nulls":3},{"$f":"IF(U40=\"D\",\"D\",IF(U40=\"W\",S40,IF(U40=\"L\",S40,0)))","v":0},{"$f":"IF(O40+P40=0,0,IF(O40+P40>0.1,O40-P40,0))","v":0},{"$f":"IF(U40=\"W\",$R$3,IF(U40=\"D\",$AA$3,0))","v":{"v":0,"d":"0.0"}},{"$f":"IF(O40>P40,\"W\",IF(O40<P40,\"L\",IF(O40=0,\"\",IF(O40=P40,\"D\",0))))","v":""},29,11,{"$nulls":3},{"$f":"IF(AD40=\"D\",\"D\",IF(AD40=\"W\",AB40,IF(AD40=\"L\",AB40,0)))","v":0},{"$f":"IF(X40+Y40=0,0,IF(X40+Y40>0.1,X40-Y40,0))","v":0},{"$f":"IF(AD40=\"W\",$R$3,IF(AD40=\"D\",$AA$3,0))","v":{"v":0,"d":"0.0"}},{"$f":"IF(X40>Y40,\"W\",IF(X40<Y40,\"L\",IF(X40=0,\"\",IF(X40=Y40,\"D\",0))))","v":""},27,27,{"$nulls":3},{"$f":"IF(AM40=\"D\",\"D\",IF(AM40=\"W\",AK40,IF(AM40=\"L\",AK40,0)))","v":0},{"$f":"IF(AG40+AH40=0,0,IF(AG40+AH40>0.1,AG40-AH40,0))","v":0},{"$f":"IF(AM40=\"W\",$R$3,IF(AM40=\"D\",$AA$3,0))","v":{"v":0,"d":"0.0"}},{"$f":"IF(AG40>AH40,\"W\",IF(AG40<AH40,\"L\",IF(AG40=0,\"\",IF(AG40=AH40,\"D\",0))))","v":""},31,3,{"$nulls":3},{"$f":"IF(AV40=\"D\",\"D\",IF(AV40=\"W\",AT40,IF(AV40=\"L\",AT40,0)))","v":0},{"$f":"IF(AP40+AQ40=0,0,IF(AP40+AQ40>0.1,AP40-AQ40,0))","v":0},{"$f":"IF(AV40=\"W\",$R$3,IF(AV40=\"D\",$AA$3,0))","v":{"v":0,"d":"0.0"}},{"$f":"IF(AP40>AQ40,\"W\",IF(AP40<AQ40,\"L\",IF(AP40=0,\"\",IF(AP40=AQ40,\"D\",0))))","v":""},33,26,{"$nulls":3},{"$f":"IF(BE40=\"D\",\"D\",IF(BE40=\"W\",BC40,IF(BE40=\"L\",BC40,0)))","v":0},{"$f":"IF(AY40+AZ40=0,0,IF(AY40+AZ40>0.1,AY40-AZ40,0))","v":0},{"$f":"IF(BE40=\"W\",$R$3,IF(BE40=\"D\",$AA$3,0))","v":{"v":0,"d":"0.0"}},{"$f":"IF(AY40>AZ40,\"W\",IF(AY40<AZ40,\"L\",IF(AY40=0,\"\",IF(AY40=AZ40,\"D\",0))))","v":""},35,18,{"$nulls":3},{"$f":"IF(BN40=\"D\",\"D\",IF(BN40=\"W\",BL40,IF(BN40=\"L\",BL40,0)))","v":0},{"$f":"IF(BH40+BI40=0,0,IF(BH40+BI40>0.1,BH40-BI40,0))","v":0},{"$f":"IF(BN40=\"W\",$R$3,IF(BN40=\"D\",$AA$3,0))","v":{"v":0,"d":"0.0"}},{"$f":"IF(BH40>BI40,\"W\",IF(BH40<BI40,\"L\",IF(BH40=0,\"\",IF(BH40=BI40,\"D\",0))))","v":""},42,7,{"$nulls":3},{"$f":"IF(BW40=\"D\",\"D\",IF(BW40=\"W\",BU40,IF(BW40=\"L\",BU40,0)))","v":0},{"$f":"IF(BQ40+BR40=0,0,IF(BQ40+BR40>0.1,BQ40-BR40,0))","v":0},{"$f":"IF(BW40=\"W\",$R$3,IF(BW40=\"D\",$AA$3,0))","v":{"v":0,"d":"0.0"}},{"$f":"IF(BQ40>BR40,\"W\",IF(BQ40<BR40,\"L\",IF(BQ40=0,\"\",IF(BQ40=BR40,\"D\",0))))","v":""},{"$nulls":3},{"$f":"IF(CD40=\"D\",\"D\",IF(CD40=\"W\",CB40,IF(CD40=\"L\",CB40,0)))","v":0},{"$f":"IF(BX40+BY40=0,0,IF(BX40+BY40>0.1,BX40-BY40,0))","v":0},{"$f":"IF(CD40=\"W\",1,IF(CD40=\"D\",0.5,0))","v":{"v":0,"d":"0.0"}},{"$f":"IF(BX40>BY40,\"W\",IF(BX40<BY40,\"L\",IF(BX40=0,\"\",IF(BX40=BY40,\"D\",0))))","v":""},{"$f":"K40+T40+AC40+AL40+AU40+BD40+BM40+BV40+CC40","v":0},{"$f":"F40-G40+O40-P40+X40-Y40+AG40-AH40+AP40-AQ40+AY40-AZ40+BH40-BI40+BQ40-BR40","v":0},0,{"$f":"(CF40*10000)+(CF40*1000)+CI40","v":0},{"$f":"H40+Q40+Z40+AI40+AR40+BA40+BJ40+BS40+BZ40","v":0},{"$f":"(CE40*$R$3)+CI40","v":0},{"$f":"IF($CG$7:$CG$60=0,\"\",RANK(CG40,$CG$7:$CG$60))","v":""}]
[null,35,null,22,21,{"$nulls":3},{"$f":"IF(L41=\"D\",\"D\",IF(L41=\"W\",J41,IF(L41=\"L\",J41,0)))","v":0},{"$f":"IF(F41+G41=0,0,IF(F41+G41>0.1,F41-G41,0))","v":0},{"$f":"IF(L41=\"W\",$R$3,IF(L41=\"D\",$AA$3,0))","v":{"v":0,"d":"0.0"}},{"$f":"IF(F41>G41,\"W\",IF(F41<G41,\"L\",IF(F41=0,\"\",IF(F41=G41,\"D\",0))))","v":""},24,3,{"$nulls":3},{"$f":"IF(U41=\"D\",\"D\",IF(U41=\"W\",S41,IF(U41=\"L\",S41,0)))","v":0},{"$f":"IF(O41+P41=0,0,IF(O41+P41>0.1,O41-P41,0))","v":0},{"$f":"IF(U41=\"W\",$R$3,IF(U41=\"D\",$AA$3,0))","v":{"v":0,"d":"0.0"}},{"$f":"IF(O41>P41,\"W\",IF(O41<P41,\"L\",IF(O41=0,\"\",IF(O41=P41,\"D\",0))))","v":""},28,10,{"$nulls":3},{"$f":"IF(AD41=\"D\",\"D\",IF(AD41=\"W\",AB41,IF(AD41=\"L\",AB41,0)))","v":0},{"$f":"IF(X41+Y41=0,0,IF(X41+Y41>0.1,X41-Y41,0))","v":0},{"$f":"IF(AD41=\"W\",$R$3,IF(AD41=\"D\",$AA$3,0))","v":{"v":0,"d":"0.0"}},{"$f":"IF(X41>Y41,\"W\",IF(X41<Y41,\"L\",IF(X41=0,\"\",IF(X41=Y41,\"D\",0))))","v":""},26,26,{"$nulls":3},{"$f":"IF(AM41=\"D\",\"D\",IF(AM41=\"W\",AK41,IF(AM41=\"L\",AK41,0)))","v":0},{"$f":"IF(AG41+AH41=0,0,IF(AG41+AH41>0.1,AG41-AH41,0))","v":0},{"$f":"IF(AM41=\"W\",$R$3,IF(AM41=\"D\",$AA$3,0))","v":{"v":0,"d":"0.0"}},{"$f":"IF(AG41>AH41,\"W\",IF(AG41<AH41,\"L\",IF(AG41=0,\"\",IF(AG41=AH41,\"D\",0))))","v":""},30,16,{"$nulls":3},{"$f":"IF(AV41=\"D\",\"D\",IF(AV41=\"W\",AT41,IF(AV41=\"L\",AT41,0)))","v":0},{"$f":"IF(AP41+AQ41=0,0,IF(AP41+AQ41>0.1,AP41-AQ41,0))","v":0},{"$f":"IF(AV41=\"W\",$R$3,IF(AV41=\"D\",$AA$3,0))","v":{"v":0,"d":"0.0"}},{"$f":"IF(AP41>AQ41,\"W\",IF(AP41<AQ41,\"L\",IF(AP41=0,\"\",IF(AP41=AQ41,\"D\",0))))","v":""},32,13,{"$nulls":3},{"$f":"IF(BE41=\"D\",\"D\",IF(BE41=\"W\",BC41,IF(BE41=\"L\",BC41,0)))","v":0},{"$f":"IF(AY41+AZ41=0,0,IF(AY41+AZ41>0.1,AY41-AZ41,0))","v":0},{"$f":"IF(BE41=\"W\",$R$3,IF(BE41=\"D\",$AA$3,0))","v":{"v":0,"d":"0.0"}},{"$f":"IF(AY41>AZ41,\"W\",IF(AY41<AZ41,\"L\",IF(AY41=0,\"\",IF(AY41=AZ41,\"D\",0))))","v":""},34,18,{"$nulls":3},{"$f":"IF(BN41=\"D\",\"D\",IF(BN41=\"W\",BL41,IF(BN41=\"L\",BL41,0)))","v":0},{"$f":"IF(BH41+BI41=0,0,IF(BH41+BI41>0.1,BH41-BI41,0))","v":0},{"$f":"IF(BN41=\"W\",$R$3,IF(BN41=\"D\",$AA$3,0))","v":{"v":0,"d":"0.0"}},{"$f":"IF(BH41>BI41,\"W\",IF(BH41<BI41,\"L\",IF(BH41=0,\"\",IF(BH41=BI41,\"D\",0))))","v":""},41,3,{"$nulls":3},{"$f":"IF(BW41=\"D\",\"D\",IF(BW41=\"W\",BU41,IF(BW41=\"L\",BU41,0)))","v":0},{"$f":"IF(BQ41+BR41=0,0,IF(BQ41+BR41>0.1,BQ41-BR41,0))","v":0},{"$f":"IF(BW41=\"W\",$R$3,IF(BW41=\"D\",$AA$3,0))","v":{"v":0,"d":"0.0"}},{"$f":"IF(BQ41>BR41,\"W\",IF(BQ41<BR41,\"L\",IF(BQ41=0,\"\",IF(BQ41=BR41,\"D\",0))))","v":""},{"$nulls":3},{"$f":"IF(CD41=\"D\",\"D\",IF(CD41=\"W\",CB41,IF(CD41=\"L\",CB41,0)))","v":0},{"$f":"IF(BX41+BY41=0,0,IF(BX41+BY41>0.1,BX41-BY41,0))","v":0},{"$f":"IF(CD41=\"W\",1,IF(CD41=\"D\",0.5,0))","v":{"v":0,"d":"0.0"}},{"$f":"IF(BX41>BY41,\"W\",IF(BX41<BY41,\"L\",IF(BX41=0,\"\",IF(BX41=BY41,\"D\",0))))","v":""},{"$f":"K41+T41+AC41+AL41+AU41+BD41+BM41+BV41+CC41","v":0},{"$f":"F41-G41+O41-P41+X41-Y41+AG41-AH41+AP41-AQ41+AY41-AZ41+BH41-BI41+BQ41-BR41","v":0},0,{"$f":"(CF41*10000)+(CF41*1000)+CI41","v":0},{"$f":"H41+Q41+Z41+AI41+AR41+BA41+BJ41+BS41+BZ41","v":0},{"$f":"(CE41*$R$3)+CI41","v":0},{"$f":"IF($CG$7:$CG$60=0,\"\",RANK(CG41,$CG$7:$CG$60))","v":""}]
[null,36,null,21,20,{"$nulls":3},{"$f":"IF(L42=\"D\",\"D\",IF(L42=\"W\",J42,IF(L42=\"L\",J42,0)))","v":0},{"$f":"IF(F42+G42=0,0,IF(F42+G42>0.1,F42-G42,0))","v":0},{"$f":"IF(L42=\"W\",$R$3,IF(L42=\"D\",$AA$3,0))","v":{"v":0,"d":"0.0"}},{"$f":"IF(F42>G42,\"W\",IF(F42<G42,\"L\",IF(F42=0,\"\",IF(F42=G42,\"D\",0))))","v":""},23,2,{"$nulls":3},{"$f":"IF(U42=\"D\",\"D\",IF(U42=\"W\",S42,IF(U42=\"L\",S42,0)))","v":0},{"$f":"IF(O42+P42=0,0,IF(O42+P42>0.1,O42-P42,0))","v":0},{"$f":"IF(U42=\"W\",$R$3,IF(U42=\"D\",$AA$3,0))","v":{"v":0,"d":"0.0"}},{"$f":"IF(O42>P42,\"W\",IF(O42<P42,\"L\",IF(O42=0,\"\",IF(O42=P42,\"D\",0))))","v":""},27,9,{"$nulls":3},{"$f":"IF(AD42=\"D\",\"D\",IF(AD42=\"W\",AB42,IF(AD42=\"L\",AB42,0)))","v":0},{"$f":"IF(X42+Y42=0,0,IF(X42+Y42>0.1,X42-Y42,0))","v":0},{"$f":"IF(AD42=\"W\",$R$3,IF(AD42=\"D\",$AA$3,0))","v":{"v":0,"d":"0.0"}},{"$f":"IF(X42>Y42,\"W\",IF(X42<Y42,\"L\",IF(X42=0,\"\",IF(X42=Y42,\"D\",0))))","v":""},25,17,{"$nulls":3},{"$f":"IF(AM42=\"D\",\"D\",IF(AM42=\"W\",AK42,IF(AM42=\"L\",AK42,0)))","v":0},{"$f":"IF(AG42+AH42=0,0,IF(AG42+AH42>0.1,AG42-AH42,0))","v":0},{"$f":"IF(AM42=\"W\",$R$3,IF(AM42=\"D\",$AA$3,0))","v":{"v":0,"d":"0.0"}},{"$f":"IF(AG42>AH42,\"W\",IF(AG42<AH42,\"L\",IF(AG42=0,\"\",IF(AG42=AH42,\"D\",0))))","v":""},29,1,{"$nulls":3},{"$f":"IF(AV42=\"D\",\"D\",IF(AV42=\"W\",AT42,IF(AV42=\"L\",AT42,0)))","v":0},{"$f":"IF(AP42+AQ42=0,0,IF(AP42+AQ42>0.1,AP42-AQ42,0))","v":0},{"$f":"IF(AV42=\"W\",$R$3,IF(AV42=\"D\",$AA$3,0))","v":{"v":0,"d":"0.0"}},{"$f":"IF(AP42>AQ42,\"W\",IF(AP42<AQ42,\"L\",IF(AP42=0,\"\",IF(AP42=AQ42,\"D\",0))))","v":""},31,12,{"$nulls":3},{"$f":"IF(BE42=\"D\",\"D\",IF(BE42=\"W\",BC42,IF(BE42=\"L\",BC42,0)))","v":0},{"$f":"IF(AY42+AZ42=0,0,IF(AY42+AZ42>0.1,AY42-AZ42,0))","v":0},{"$f":"IF(BE42=\"W\",$R$3,IF(BE42=\"D\",$AA$3,0))","v":{"v":0,"d":"0.0"}},{"$f":"IF(AY42>AZ42,\"W\",IF(AY42<AZ42,\"L\",IF(AY42=0,\"\",IF(AY42=AZ42,\"D\",0))))","v":""},33,20,{"$nulls":3},{"$f":"IF(BN42=\"D\",\"D\",IF(BN42=\"W\",BL42,IF(BN42=\"L\",BL42,0)))","v":0},{"$f":"IF(BH42+BI42=0,0,IF(BH42+BI42>0.1,BH42-BI42,0))","v":0},{"$f":"IF(BN42=\"W\",$R$3,IF(BN42=\"D\",$AA$3,0))","v":{"v":0,"d":"0.0"}},{"$f":"IF(BH42>BI42,\"W\",IF(BH42<BI42,\"L\",IF(BH42=0,\"\",IF(BH42=BI42,\"D\",0))))","v":""},29,1,{"$nulls":3},{"$f":"IF(BW42=\"D\",\"D\",IF(BW42=\"W\",BU42,IF(BW42=\"L\",BU42,0)))","v":0},{"$f":"IF(BQ42+BR42=0,0,IF(BQ42+BR42>0.1,BQ42-BR42,0))","v":0},{"$f":"IF(BW42=\"W\",$R$3,IF(BW42=\"D\",$AA$3,0))","v":{"v":0,"d":"0.0"}},{"$f":"IF(BQ42>BR42,\"W\",IF(BQ42<BR42,\"L\",IF(BQ42=0,\"\",IF(BQ42=BR42,\"D\",0))))","v":""},{"$nulls":3},{"$f":"IF(CD42=\"D\",\"D\",IF(CD42=\"W\",CB42,IF(CD42=\"L\",CB42,0)))","v":0},{"$f":"IF(BX42+BY42=0,0,IF(BX42+BY42>0.1,BX42-BY42,0))","v":0},{"$f":"IF(CD42=\"W\",1,IF(CD42=\"D\",0.5,0))","v":{"v":0,"d":"0.0"}},{"$f":"IF(BX42>BY42,\"W\",IF(BX42<BY42,\"L\",IF(BX42=0,\"\",IF(BX42=BY42,\"D\",0))))","v":""},{"$f":"K42+T42+AC42+AL42+AU42+BD42+BM42+BV42+CC42","v":0},{"$f":"F42-G42+O42-P42+X42-Y42+AG42-AH42+AP42-AQ42+AY42-AZ42+BH42-BI42+BQ42-BR42","v":0},0,{"$f":"(CF42*10000)+(CF42*1000)+CI42","v":0},{"$f":"H42+Q42+Z42+AI42+AR42+BA42+BJ42+BS42+BZ42","v":0},{"$f":"(CE42*$R$3)+CI42","v":0},{"$f":"IF($CG$7:$CG$60=0,\"\",RANK(CG42,$CG$7:$CG$60))","v":""}]
[null,37,null,20,19,{"$nulls":3},{"$f":"IF(L43=\"D\",\"D\",IF(L43=\"W\",J43,IF(L43=\"L\",J43,0)))","v":0},{"$f":"IF(F43+G43=0,0,IF(F43+G43>0.1,F43-G43,0))","v":0},{"$f":"IF(L43=\"W\",$R$3,IF(L43=\"D\",$AA$3,0))","v":{"v":0,"d":"0.0"}},{"$f":"IF(F43>G43,\"W\",IF(F43<G43,\"L\",IF(F43=0,\"\",IF(F43=G43,\"D\",0))))","v":""},22,9,{"$nulls":3},{"$f":"IF(U43=\"D\",\"D\",IF(U43=\"W\",S43,IF(U43=\"L\",S43,0)))","v":0},{"$f":"IF(O43+P43=0,0,IF(O43+P43>0.1,O43-P43,0))","v":0},{"$f":"IF(U43=\"W\",$R$3,IF(U43=\"D\",$AA$3,0))","v":{"v":0,"d":"0.0"}},{"$f":"IF(O43>P43,\"W\",IF(O43<P43,\"L\",IF(O43=0,\"\",IF(O43=P43,\"D\",0))))","v":""},26,16,{"$nulls":3},{"$f":"IF(AD43=\"D\",\"D\",IF(AD43=\"W\",AB43,IF(AD43=\"L\",AB43,0)))","v":0},{"$f":"IF(X43+Y43=0,0,IF(X43+Y43>0.1,X43-Y43,0))","v":0},{"$f":"IF(AD43=\"W\",$R$3,IF(AD43=\"D\",$AA$3,0))","v":{"v":0,"d":"0.0"}},{"$f":"IF(X43>Y43,\"W\",IF(X43<Y43,\"L\",IF(X43=0,\"\",IF(X43=Y43,\"D\",0))))","v":""},24,15,{"$nulls":3},{"$f":"IF(AM43=\"D\",\"D\",IF(AM43=\"W\",AK43,IF(AM43=\"L\",AK43,0)))","v":0},{"$f":"IF(AG43+AH43=0,0,IF(AG43+AH43>0.1,AG43-AH43,0))","v":0},{"$f":"IF(AM43=\"W\",$R$3,IF(AM43=\"D\",$AA$3,0))","v":{"v":0,"d":"0.0"}},{"$f":"IF(AG43>AH43,\"W\",IF(AG43<AH43,\"L\",IF(AG43=0,\"\",IF(AG43=AH43,\"D\",0))))","v":""},28,4,{"$nulls":3},{"$f":"IF(AV43=\"D\",\"D\",IF(AV43=\"W\",AT43,IF(AV43=\"L\",AT43,0)))","v":0},{"$f":"IF(AP43+AQ43=0,0,IF(AP43+AQ43>0.1,AP43-AQ43,0))","v":0},{"$f":"IF(AV43=\"W\",$R$3,IF(AV43=\"D\",$AA$3,0))","v":{"v":0,"d":"0.0"}},{"$f":"IF(AP43>AQ43,\"W\",IF(AP43<AQ43,\"L\",IF(AP43=0,\"\",IF(AP43=AQ43,\"D\",0))))","v":""},30,11,{"$nulls":3},{"$f":"IF(BE43=\"D\",\"D\",IF(BE43=\"W\",BC43,IF(BE43=\"L\",BC43,0)))","v":0},{"$f":"IF(AY43+AZ43=0,0,IF(AY43+AZ43>0.1,AY43-AZ43,0))","v":0},{"$f":"IF(BE43=\"W\",$R$3,IF(BE43=\"D\",$AA$3,0))","v":{"v":0,"d":"0.0"}},{"$f":"IF(AY43>AZ43,\"W\",IF(AY43<AZ43,\"L\",IF(AY43=0,\"\",IF(AY43=AZ43,\"D\",0))))","v":""},30,16,{"$nulls":3},{"$f":"IF(BN43=\"D\",\"D\",IF(BN43=\"W\",BL43,IF(BN43=\"L\",BL43,0)))","v":0},{"$f":"IF(BH43+BI43=0,0,IF(BH43+BI43>0.1,BH43-BI43,0))","v":0},{"$f":"IF(BN43=\"W\",$R$3,IF(BN43=\"D\",$AA$3,0))","v":{"v":0,"d":"0.0"}},{"$f":"IF(BH43>BI43,\"W\",IF(BH43<BI43,\"L\",IF(BH43=0,\"\",IF(BH43=BI43,\"D\",0))))","v":""},39,5,{"$nulls":3},{"$f":"IF(BW43=\"D\",\"D\",IF(BW43=\"W\",BU43,IF(BW43=\"L\",BU43,0)))","v":0},{"$f":"IF(BQ43+BR43=0,0,IF(BQ43+BR43>0.1,BQ43-BR43,0))","v":0},{"$f":"IF(BW43=\"W\",$R$3,IF(BW43=\"D\",$AA$3,0))","v":{"v":0,"d":"0.0"}},{"$f":"IF(BQ43>BR43,\"W\",IF(BQ43<BR43,\"L\",IF(BQ43=0,\"\",IF(BQ43=BR43,\"D\",0))))","v":""},{"$nulls":3},{"$f":"IF(CD43=\"D\",\"D\",IF(CD43=\"W\",CB43,IF(CD43=\"L\",CB43,0)))","v":0},{"$f":"IF(BX43+BY43=0,0,IF(BX43+BY43>0.1,BX43-BY43,0))","v":0},{"$f":"IF(CD43=\"W\",1,IF(CD43=\"D\",0.5,0))","v":{"v":0,"d":"0.0"}},{"$f":"IF(BX43>BY43,\"W\",IF(BX43<BY43,\"L\",IF(BX43=0,\"\",IF(BX43=BY43,\"D\",0))))","v":""},{"$f":"K43+T43+AC43+AL43+AU43+BD43+BM43+BV43+CC43","v":0},{"$f":"F43-G43+O43-P43+X43-Y43+AG43-AH43+AP43-AQ43+AY43-AZ43+BH43-BI43+BQ43-BR43","v":0},0,{"$f":"(CF43*10000)+(CF43*1000)+CI43","v":0},{"$f":"H43+Q43+Z43+AI43+AR43+BA43+BJ43+BS43+BZ43","v":0},{"$f":"(CE43*$R$3)+CI43","v":0},{"$f":"IF($CG$7:$CG$60=0,\"\",RANK(CG43,$CG$7:$CG$60))","v":""}]
[null,38,null,19,18,{"$nulls":3},{"$f":"IF(L44=\"D\",\"D\",IF(L44=\"W\",J44,IF(L44=\"L\",J44,0)))","v":0},{"$f":"IF(F44+G44=0,0,IF(F44+G44>0.1,F44-G44,0))","v":0},{"$f":"IF(L44=\"W\",$R$3,IF(L44=\"D\",$AA$3,0))","v":{"v":0,"d":"0.0"}},{"$f":"IF(F44>G44,\"W\",IF(F44<G44,\"L\",IF(F44=0,\"\",IF(F44=G44,\"D\",0))))","v":""},21,26,{"$nulls":3},{"$f":"IF(U44=\"D\",\"D\",IF(U44=\"W\",S44,IF(U44=\"L\",S44,0)))","v":0},{"$f":"IF(O44+P44=0,0,IF(O44+P44>0.1,O44-P44,0))","v":0},{"$f":"IF(U44=\"W\",$R$3,IF(U44=\"D\",$AA$3,0))","v":{"v":0,"d":"0.0"}},{"$f":"IF(O44>P44,\"W\",IF(O44<P44,\"L\",IF(O44=0,\"\",IF(O44=P44,\"D\",0))))","v":""},25,14,{"$nulls":3},{"$f":"IF(AD44=\"D\",\"D\",IF(AD44=\"W\",AB44,IF(AD44=\"L\",AB44,0)))","v":0},{"$f":"IF(X44+Y44=0,0,IF(X44+Y44>0.1,X44-Y44,0))","v":0},{"$f":"IF(AD44=\"W\",$R$3,IF(AD44=\"D\",$AA$3,0))","v":{"v":0,"d":"0.0"}},{"$f":"IF(X44>Y44,\"W\",IF(X44<Y44,\"L\",IF(X44=0,\"\",IF(X44=Y44,\"D\",0))))","v":""},23,25,{"$nulls":3},{"$f":"IF(AM44=\"D\",\"D\",IF(AM44=\"W\",AK44,IF(AM44=\"L\",AK44,0)))","v":0},{"$f":"IF(AG44+AH44=0,0,IF(AG44+AH44>0.1,AG44-AH44,0))","v":0},{"$f":"IF(AM44=\"W\",$R$3,IF(AM44=\"D\",$AA$3,0))","v":{"v":0,"d":"0.0"}},{"$f":"IF(AG44>AH44,\"W\",IF(AG44<AH44,\"L\",IF(AG44=0,\"\",IF(AG44=AH44,\"D\",0))))","v":""},27,6,{"$nulls":3},{"$f":"IF(AV44=\"D\",\"D\",IF(AV44=\"W\",AT44,IF(AV44=\"L\",AT44,0)))","v":0},{"$f":"IF(AP44+AQ44=0,0,IF(AP44+AQ44>0.1,AP44-AQ44,0))","v":0},{"$f":"IF(AV44=\"W\",$R$3,IF(AV44=\"D\",$AA$3,0))","v":{"v":0,"d":"0.0"}},{"$f":"IF(AP44>AQ44,\"W\",IF(AP44<AQ44,\"L\",IF(AP44=0,\"\",IF(AP44=AQ44,\"D\",0))))","v":""},29,8,{"$nulls":3},{"$f":"IF(BE44=\"D\",\"D\",IF(BE44=\"W\",BC44,IF(BE44=\"L\",BC44,0)))","v":0},{"$f":"IF(AY44+AZ44=0,0,IF(AY44+AZ44>0.1,AY44-AZ44,0))","v":0},{"$f":"IF(BE44=\"W\",$R$3,IF(BE44=\"D\",$AA$3,0))","v":{"v":0,"d":"0.0"}},{"$f":"IF(AY44>AZ44,\"W\",IF(AY44<AZ44,\"L\",IF(AY44=0,\"\",IF(AY44=AZ44,\"D\",0))))","v":""},31,15,{"$nulls":3},{"$f":"IF(BN44=\"D\",\"D\",IF(BN44=\"W\",BL44,IF(BN44=\"L\",BL44,0)))","v":0},{"$f":"IF(BH44+BI44=0,0,IF(BH44+BI44>0.1,BH44-BI44,0))","v":0},{"$f":"IF(BN44=\"W\",$R$3,IF(BN44=\"D\",$AA$3,0))","v":{"v":0,"d":"0.0"}},{"$f":"IF(BH44>BI44,\"W\",IF(BH44<BI44,\"L\",IF(BH44=0,\"\",IF(BH44=BI44,\"D\",0))))","v":""},40,6,{"$nulls":3},{"$f":"IF(BW44=\"D\",\"D\",IF(BW44=\"W\",BU44,IF(BW44=\"L\",BU44,0)))","v":0},{"$f":"IF(BQ44+BR44=0,0,IF(BQ44+BR44>0.1,BQ44-BR44,0))","v":0},{"$f":"IF(BW44=\"W\",$R$3,IF(BW44=\"D\",$AA$3,0))","v":{"v":0,"d":"0.0"}},{"$f":"IF(BQ44>BR44,\"W\",IF(BQ44<BR44,\"L\",IF(BQ44=0,\"\",IF(BQ44=BR44,\"D\",0))))","v":""},{"$nulls":3},{"$f":"IF(CD44=\"D\",\"D\",IF(CD44=\"W\",CB44,IF(CD44=\"L\",CB44,0)))","v":0},{"$f":"IF(BX44+BY44=0,0,IF(BX44+BY44>0.1,BX44-BY44,0))","v":0},{"$f":"IF(CD44=\"W\",1,IF(CD44=\"D\",0.5,0))","v":{"v":0,"d":"0.0"}},{"$f":"IF(BX44>BY44,\"W\",IF(BX44<BY44,\"L\",IF(BX44=0,\"\",IF(BX44=BY44,\"D\",0))))","v":""},{"$f":"K44+T44+AC44+AL44+AU44+BD44+BM44+BV44+CC44","v":0},{"$f":"F44-G44+O44-P44+X44-Y44+AG44-AH44+AP44-AQ44+AY44-AZ44+BH44-BI44+BQ44-BR44","v":0},0,{"$f":"(CF44*10000)+(CF44*1000)+CI44","v":0},{"$f":"H44+Q44+Z44+AI44+AR44+BA44+BJ44+BS44+BZ44","v":0},{"$f":"(CE44*$R$3)+CI44","v":0},{"$f":"IF($CG$7:$CG$60=0,\"\",RANK(CG44,$CG$7:$CG$60))","v":""}]
[null,39,null,18,17,{"$nulls":3},{"$f":"IF(L45=\"D\",\"D\",IF(L45=\"W\",J45,IF(L45=\"L\",J45,0)))","v":0},{"$f":"IF(F45+G45=0,0,IF(F45+G45>0.1,F45-G45,0))","v":0},{"$f":"IF(L45=\"W\",$R$3,IF(L45=\"D\",$AA$3,0))","v":{"v":0,"d":"0.0"}},{"$f":"IF(F45>G45,\"W\",IF(F45<G45,\"L\",IF(F45=0,\"\",IF(F45=G45,\"D\",0))))","v":""},20,25,{"$nulls":3},{"$f":"IF(U45=\"D\",\"D\",IF(U45=\"W\",S45,IF(U45=\"L\",S45,0)))","v":0},{"$f":"IF(O45+P45=0,0,IF(O45+P45>0.1,O45-P45,0))","v":0},{"$f":"IF(U45=\"W\",$R$3,IF(U45=\"D\",$AA$3,0))","v":{"v":0,"d":"0.0"}},{"$f":"IF(O45>P45,\"W\",IF(O45<P45,\"L\",IF(O45=0,\"\",IF(O45=P45,\"D\",0))))","v":""},24,8,{"$nulls":3},{"$f":"IF(AD45=\"D\",\"D\",IF(AD45=\"W\",AB45,IF(AD45=\"L\",AB45,0)))","v":0},{"$f":"IF(X45+Y45=0,0,IF(X45+Y45>0.1,X45-Y45,0))","v":0},{"$f":"IF(AD45=\"W\",$R$3,IF(AD45=\"D\",$AA$3,0))","v":{"v":0,"d":"0.0"}},{"$f":"IF(X45>Y45,\"W\",IF(X45<Y45,\"L\",IF(X45=0,\"\",IF(X45=Y45,\"D\",0))))","v":""},22,18,{"$nulls":3},{"$f":"IF(AM45=\"D\",\"D\",IF(AM45=\"W\",AK45,IF(AM45=\"L\",AK45,0)))","v":0},{"$f":"IF(AG45+AH45=0,0,IF(AG45+AH45>0.1,AG45-AH45,0))","v":0},{"$f":"IF(AM45=\"W\",$R$3,IF(AM45=\"D\",$AA$3,0))","v":{"v":0,"d":"0.0"}},{"$f":"IF(AG45>AH45,\"W\",IF(AG45<AH45,\"L\",IF(AG45=0,\"\",IF(AG45=AH45,\"D\",0))))","v":""},26,7,{"$nulls":3},{"$f":"IF(AV45=\"D\",\"D\",IF(AV45=\"W\",AT45,IF(AV45=\"L\",AT45,0)))","v":0},{"$f":"IF(AP45+AQ45=0,0,IF(AP45+AQ45>0.1,AP45-AQ45,0))","v":0},{"$f":"IF(AV45=\"W\",$R$3,IF(AV45=\"D\",$AA$3,0))","v":{"v":0,"d":"0.0"}},{"$f":"IF(AP45>AQ45,\"W\",IF(AP45<AQ45,\"L\",IF(AP45=0,\"\",IF(AP45=AQ45,\"D\",0))))","v":""},28,27,{"$nulls":3},{"$f":"IF(BE45=\"D\",\"D\",IF(BE45=\"W\",BC45,IF(BE45=\"L\",BC45,0)))","v":0},{"$f":"IF(AY45+AZ45=0,0,IF(AY45+AZ45>0.1,AY45-AZ45,0))","v":0},{"$f":"IF(BE45=\"W\",$R$3,IF(BE45=\"D\",$AA$3,0))","v":{"v":0,"d":"0.0"}},{"$f":"IF(AY45>AZ45,\"W\",IF(AY45<AZ45,\"L\",IF(AY45=0,\"\",IF(AY45=AZ45,\"D\",0))))","v":""},42,17,{"$nulls":3},{"$f":"IF(BN45=\"D\",\"D\",IF(BN45=\"W\",BL45,IF(BN45=\"L\",BL45,0)))","v":0},{"$f":"IF(BH45+BI45=0,0,IF(BH45+BI45>0.1,BH45-BI45,0))","v":0},{"$f":"IF(BN45=\"W\",$R$3,IF(BN45=\"D\",$AA$3,0))","v":{"v":0,"d":"0.0"}},{"$f":"IF(BH45>BI45,\"W\",IF(BH45<BI45,\"L\",IF(BH45=0,\"\",IF(BH45=BI45,\"D\",0))))","v":""},37,5,{"$nulls":3},{"$f":"IF(BW45=\"D\",\"D\",IF(BW45=\"W\",BU45,IF(BW45=\"L\",BU45,0)))","v":0},{"$f":"IF(BQ45+BR45=0,0,IF(BQ45+BR45>0.1,BQ45-BR45,0))","v":0},{"$f":"IF(BW45=\"W\",$R$3,IF(BW45=\"D\",$AA$3,0))","v":{"v":0,"d":"0.0"}},{"$f":"IF(BQ45>BR45,\"W\",IF(BQ45<BR45,\"L\",IF(BQ45=0,\"\",IF(BQ45=BR45,\"D\",0))))","v":""},{"$nulls":3},{"$f":"IF(CD45=\"D\",\"D\",IF(CD45=\"W\",CB45,IF(CD45=\"L\",CB45,0)))","v":0},{"$f":"IF(BX45+BY45=0,0,IF(BX45+BY45>0.1,BX45-BY45,0))","v":0},{"$f":"IF(CD45=\"W\",1,IF(CD45=\"D\",0.5,0))","v":{"v":0,"d":"0.0"}},{"$f":"IF(BX45>BY45,\"W\",IF(BX45<BY45,\"L\",IF(BX45=0,\"\",IF(BX45=BY45,\"D\",0))))","v":""},{"$f":"K45+T45+AC45+AL45+AU45+BD45+BM45+BV45+CC45","v":0},{"$f":"F45-G45+O45-P45+X45-Y45+AG45-AH45+AP45-AQ45+AY45-AZ45+BH45-BI45+BQ45-BR45","v":0},0,{"$f":"(CF45*10000)+(CF45*1000)+CI45","v":0},{"$f":"H45+Q45+Z45+AI45+AR45+BA45+BJ45+BS45+BZ45","v":0},{"$f":"(CE45*$R$3)+CI45","v":0},{"$f":"IF($CG$7:$CG$60=0,\"\",RANK(CG45,$CG$7:$CG$60))","v":""}]
[null,40,null,17,16,{"$nulls":3},{"$f":"IF(L46=\"D\",\"D\",IF(L46=\"W\",J46,IF(L46=\"L\",J46,0)))","v":0},{"$f":"IF(F46+G46=0,0,IF(F46+G46>0.1,F46-G46,0))","v":0},{"$f":"IF(L46=\"W\",$R$3,IF(L46=\"D\",$AA$3,0))","v":{"v":0,"d":"0.0"}},{"$f":"IF(F46>G46,\"W\",IF(F46<G46,\"L\",IF(F46=0,\"\",IF(F46=G46,\"D\",0))))","v":""},19,22,{"$nulls":3},{"$f":"IF(U46=\"D\",\"D\",IF(U46=\"W\",S46,IF(U46=\"L\",S46,0)))","v":0},{"$f":"IF(O46+P46=0,0,IF(O46+P46>0.1,O46-P46,0))","v":0},{"$f":"IF(U46=\"W\",$R$3,IF(U46=\"D\",$AA$3,0))","v":{"v":0,"d":"0.0"}},{"$f":"IF(O46>P46,\"W\",IF(O46<P46,\"L\",IF(O46=0,\"\",IF(O46=P46,\"D\",0))))","v":""},23,17,{"$nulls":3},{"$f":"IF(AD46=\"D\",\"D\",IF(AD46=\"W\",AB46,IF(AD46=\"L\",AB46,0)))","v":0},{"$f":"IF(X46+Y46=0,0,IF(X46+Y46>0.1,X46-Y46,0))","v":0},{"$f":"IF(AD46=\"W\",$R$3,IF(AD46=\"D\",$AA$3,0))","v":{"v":0,"d":"0.0"}},{"$f":"IF(X46>Y46,\"W\",IF(X46<Y46,\"L\",IF(X46=0,\"\",IF(X46=Y46,\"D\",0))))","v":""},21,14,{"$nulls":3},{"$f":"IF(AM46=\"D\",\"D\",IF(AM46=\"W\",AK46,IF(AM46=\"L\",AK46,0)))","v":0},{"$f":"IF(AG46+AH46=0,0,IF(AG46+AH46>0.1,AG46-AH46,0))","v":0},{"$f":"IF(AM46=\"W\",$R$3,IF(AM46=\"D\",$AA$3,0))","v":{"v":0,"d":"0.0"}},{"$f":"IF(AG46>AH46,\"W\",IF(AG46<AH46,\"L\",IF(AG46=0,\"\",IF(AG46=AH46,\"D\",0))))","v":""},25,27,{"$nulls":3},{"$f":"IF(AV46=\"D\",\"D\",IF(AV46=\"W\",AT46,IF(AV46=\"L\",AT46,0)))","v":0},{"$f":"IF(AP46+AQ46=0,0,IF(AP46+AQ46>0.1,AP46-AQ46,0))","v":0},{"$f":"IF(AV46=\"W\",$R$3,IF(AV46=\"D\",$AA$3,0))","v":{"v":0,"d":"0.0"}},{"$f":"IF(AP46>AQ46,\"W\",IF(AP46<AQ46,\"L\",IF(AP46=0,\"\",IF(AP46=AQ46,\"D\",0))))","v":""},27,10,{"$nulls":3},{"$f":"IF(BE46=\"D\",\"D\",IF(BE46=\"W\",BC46,IF(BE46=\"L\",BC46,0)))","v":0},{"$f":"IF(AY46+AZ46=0,0,IF(AY46+AZ46>0.1,AY46-AZ46,0))","v":0},{"$f":"IF(BE46=\"W\",$R$3,IF(BE46=\"D\",$AA$3,0))","v":{"v":0,"d":"0.0"}},{"$f":"IF(AY46>AZ46,\"W\",IF(AY46<AZ46,\"L\",IF(AY46=0,\"\",IF(AY46=AZ46,\"D\",0))))","v":""},32,21,{"$nulls":3},{"$f":"IF(BN46=\"D\",\"D\",IF(BN46=\"W\",BL46,IF(BN46=\"L\",BL46,0)))","v":0},{"$f":"IF(BH46+BI46=0,0,IF(BH46+BI46>0.1,BH46-BI46,0))","v":0},{"$f":"IF(BN46=\"W\",$R$3,IF(BN46=\"D\",$AA$3,0))","v":{"v":0,"d":"0.0"}},{"$f":"IF(BH46>BI46,\"W\",IF(BH46<BI46,\"L\",IF(BH46=0,\"\",IF(BH46=BI46,\"D\",0))))","v":""},38,6,{"$nulls":3},{"$f":"IF(BW46=\"D\",\"D\",IF(BW46=\"W\",BU46,IF(BW46=\"L\",BU46,0)))","v":0},{"$f":"IF(BQ46+BR46=0,0,IF(BQ46+BR46>0.1,BQ46-BR46,0))","v":0},{"$f":"IF(BW46=\"W\",$R$3,IF(BW46=\"D\",$AA$3,0))","v":{"v":0,"d":"0.0"}},{"$f":"IF(BQ46>BR46,\"W\",IF(BQ46<BR46,\"L\",IF(BQ46=0,\"\",IF(BQ46=BR46,\"D\",0))))","v":""},{"$nulls":3},{"$f":"IF(CD46=\"D\",\"D\",IF(CD46=\"W\",CB46,IF(CD46=\"L\",CB46,0)))","v":0},{"$f":"IF(BX46+BY46=0,0,IF(BX46+BY46>0.1,BX46-BY46,0))","v":0},{"$f":"IF(CD46=\"W\",1,IF(CD46=\"D\",0.5,0))","v":{"v":0,"d":"0.0"}},{"$f":"IF(BX46>BY46,\"W\",IF(BX46<BY46,\"L\",IF(BX46=0,\"\",IF(BX46=BY46,\"D\",0))))","v":""},{"$f":"K46+T46+AC46+AL46+AU46+BD46+BM46+BV46+CC46","v":0},{"$f":"F46-G46+O46-P46+X46-Y46+AG46-AH46+AP46-AQ46+AY46-AZ46+BH46-BI46+BQ46-BR46","v":0},0,{"$f":"(CF46*10000)+(CF46*1000)+CI46","v":0},{"$f":"H46+Q46+Z46+AI46+AR46+BA46+BJ46+BS46+BZ46","v":0},{"$f":"(CE46*$R$3)+CI46","v":0},{"$f":"IF($CG$7:$CG$60=0,\"\",RANK(CG46,$CG$7:$CG$60))","v":""}]
[null,41,null,16,15,{"$nulls":3},{"$f":"IF(L47=\"D\",\"D\",IF(L47=\"W\",J47,IF(L47=\"L\",J47,0)))","v":0},{"$f":"IF(F47+G47=0,0,IF(F47+G47>0.1,F47-G47,0))","v":0},{"$f":"IF(L47=\"W\",$R$3,IF(L47=\"D\",$AA$3,0))","v":{"v":0,"d":"0.0"}},{"$f":"IF(F47>G47,\"W\",IF(F47<G47,\"L\",IF(F47=0,\"\",IF(F47=G47,\"D\",0))))","v":""},18,24,{"$nulls":3},{"$f":"IF(U47=\"D\",\"D\",IF(U47=\"W\",S47,IF(U47=\"L\",S47,0)))","v":0},{"$f":"IF(O47+P47=0,0,IF(O47+P47>0.1,O47-P47,0))","v":0},{"$f":"IF(U47=\"W\",$R$3,IF(U47=\"D\",$AA$3,0))","v":{"v":0,"d":"0.0"}},{"$f":"IF(O47>P47,\"W\",IF(O47<P47,\"L\",IF(O47=0,\"\",IF(O47=P47,\"D\",0))))","v":""},22,5,{"$nulls":3},{"$f":"IF(AD47=\"D\",\"D\",IF(AD47=\"W\",AB47,IF(AD47=\"L\",AB47,0)))","v":0},{"$f":"IF(X47+Y47=0,0,IF(X47+Y47>0.1,X47-Y47,0))","v":0},{"$f":"IF(AD47=\"W\",$R$3,IF(AD47=\"D\",$AA$3,0))","v":{"v":0,"d":"0.0"}},{"$f":"IF(X47>Y47,\"W\",IF(X47<Y47,\"L\",IF(X47=0,\"\",IF(X47=Y47,\"D\",0))))","v":""},20,16,{"$nulls":3},{"$f":"IF(AM47=\"D\",\"D\",IF(AM47=\"W\",AK47,IF(AM47=\"L\",AK47,0)))","v":0},{"$f":"IF(AG47+AH47=0,0,IF(AG47+AH47>0.1,AG47-AH47,0))","v":0},{"$f":"IF(AM47=\"W\",$R$3,IF(AM47=\"D\",$AA$3,0))","v":{"v":0,"d":"0.0"}},{"$f":"IF(AG47>AH47,\"W\",IF(AG47<AH47,\"L\",IF(AG47=0,\"\",IF(AG47=AH47,\"D\",0))))","v":""},24,26,{"$nulls":3},{"$f":"IF(AV47=\"D\",\"D\",IF(AV47=\"W\",AT47,IF(AV47=\"L\",AT47,0)))","v":0},{"$f":"IF(AP47+AQ47=0,0,IF(AP47+AQ47>0.1,AP47-AQ47,0))","v":0},{"$f":"IF(AV47=\"W\",$R$3,IF(AV47=\"D\",$AA$3,0))","v":{"v":0,"d":"0.0"}},{"$f":"IF(AP47>AQ47,\"W\",IF(AP47<AQ47,\"L\",IF(AP47=0,\"\",IF(AP47=AQ47,\"D\",0))))","v":""},26,9,{"$nulls":3},{"$f":"IF(BE47=\"D\",\"D\",IF(BE47=\"W\",BC47,IF(BE47=\"L\",BC47,0)))","v":0},{"$f":"IF(AY47+AZ47=0,0,IF(AY47+AZ47>0.1,AY47-AZ47,0))","v":0},{"$f":"IF(BE47=\"W\",$R$3,IF(BE47=\"D\",$AA$3,0))","v":{"v":0,"d":"0.0"}},{"$f":"IF(AY47>AZ47,\"W\",IF(AY47<AZ47,\"L\",IF(AY47=0,\"\",IF(AY47=AZ47,\"D\",0))))","v":""},29,19,{"$nulls":3},{"$f":"IF(BN47=\"D\",\"D\",IF(BN47=\"W\",BL47,IF(BN47=\"L\",BL47,0)))","v":0},{"$f":"IF(BH47+BI47=0,0,IF(BH47+BI47>0.1,BH47-BI47,0))","v":0},{"$f":"IF(BN47=\"W\",$R$3,IF(BN47=\"D\",$AA$3,0))","v":{"v":0,"d":"0.0"}},{"$f":"IF(BH47>BI47,\"W\",IF(BH47<BI47,\"L\",IF(BH47=0,\"\",IF(BH47=BI47,\"D\",0))))","v":""},35,3,{"$nulls":3},{"$f":"IF(BW47=\"D\",\"D\",IF(BW47=\"W\",BU47,IF(BW47=\"L\",BU47,0)))","v":0},{"$f":"IF(BQ47+BR47=0,0,IF(BQ47+BR47>0.1,BQ47-BR47,0))","v":0},{"$f":"IF(BW47=\"W\",$R$3,IF(BW47=\"D\",$AA$3,0))","v":{"v":0,"d":"0.0"}},{"$f":"IF(BQ47>BR47,\"W\",IF(BQ47<BR47,\"L\",IF(BQ47=0,\"\",IF(BQ47=BR47,\"D\",0))))","v":""},{"$nulls":3},{"$f":"IF(CD47=\"D\",\"D\",IF(CD47=\"W\",CB47,IF(CD47=\"L\",CB47,0)))","v":0},{"$f":"IF(BX47+BY47=0,0,IF(BX47+BY47>0.1,BX47-BY47,0))","v":0},{"$f":"IF(CD47=\"W\",1,IF(CD47=\"D\",0.5,0))","v":{"v":0,"d":"0.0"}},{"$f":"IF(BX47>BY47,\"W\",IF(BX47<BY47,\"L\",IF(BX47=0,\"\",IF(BX47=BY47,\"D\",0))))","v":""},{"$f":"K47+T47+AC47+AL47+AU47+BD47+BM47+BV47+CC47","v":0},{"$f":"F47-G47+O47-P47+X47-Y47+AG47-AH47+AP47-AQ47+AY47-AZ47+BH47-BI47+BQ47-BR47","v":0},0,{"$f":"(CF47*10000)+(CF47*1000)+CI47","v":0},{"$f":"H47+Q47+Z47+AI47+AR47+BA47+BJ47+BS47+BZ47","v":0},{"$f":"(CE47*$R$3)+CI47","v":0},{"$f":"IF($CG$7:$CG$60=0,\"\",RANK(CG47,$CG$7:$CG$60))","v":""}]
[null,42,null,15,14,{"$nulls":3},{"$f":"IF(L48=\"D\",\"D\",IF(L48=\"W\",J48,IF(L48=\"L\",J48,0)))","v":0},{"$f":"IF(F48+G48=0,0,IF(F48+G48>0.1,F48-G48,0))","v":0},{"$f":"IF(L48=\"W\",$R$3,IF(L48=\"D\",$AA$3,0))","v":{"v":0,"d":"0.0"}},{"$f":"IF(F48>G48,\"W\",IF(F48<G48,\"L\",IF(F48=0,\"\",IF(F48=G48,\"D\",0))))","v":""},17,23,{"$nulls":3},{"$f":"IF(U48=\"D\",\"D\",IF(U48=\"W\",S48,IF(U48=\"L\",S48,0)))","v":0},{"$f":"IF(O48+P48=0,0,IF(O48+P48>0.1,O48-P48,0))","v":0},{"$f":"IF(U48=\"W\",$R$3,IF(U48=\"D\",$AA$3,0))","v":{"v":0,"d":"0.0"}},{"$f":"IF(O48>P48,\"W\",IF(O48<P48,\"L\",IF(O48=0,\"\",IF(O48=P48,\"D\",0))))","v":""},21,6,{"$nulls":3},{"$f":"IF(AD48=\"D\",\"D\",IF(AD48=\"W\",AB48,IF(AD48=\"L\",AB48,0)))","v":0},{"$f":"IF(X48+Y48=0,0,IF(X48+Y48>0.1,X48-Y48,0))","v":0},{"$f":"IF(AD48=\"W\",$R$3,IF(AD48=\"D\",$AA$3,0))","v":{"v":0,"d":"0.0"}},{"$f":"IF(X48>Y48,\"W\",IF(X48<Y48,\"L\",IF(X48=0,\"\",IF(X48=Y48,\"D\",0))))","v":""},19,13,{"$nulls":3},{"$f":"IF(AM48=\"D\",\"D\",IF(AM48=\"W\",AK48,IF(AM48=\"L\",AK48,0)))","v":0},{"$f":"IF(AG48+AH48=0,0,IF(AG48+AH48>0.1,AG48-AH48,0))","v":0},{"$f":"IF(AM48=\"W\",$R$3,IF(AM48=\"D\",$AA$3,0))","v":{"v":0,"d":"0.0"}},{"$f":"IF(AG48>AH48,\"W\",IF(AG48<AH48,\"L\",IF(AG48=0,\"\",IF(AG48=AH48,\"D\",0))))","v":""},23,5,{"$nulls":3},{"$f":"IF(AV48=\"D\",\"D\",IF(AV48=\"W\",AT48,IF(AV48=\"L\",AT48,0)))","v":0},{"$f":"IF(AP48+AQ48=0,0,IF(AP48+AQ48>0.1,AP48-AQ48,0))","v":0},{"$f":"IF(AV48=\"W\",$R$3,IF(AV48=\"D\",$AA$3,0))","v":{"v":0,"d":"0.0"}},{"$f":"IF(AP48>AQ48,\"W\",IF(AP48<AQ48,\"L\",IF(AP48=0,\"\",IF(AP48=AQ48,\"D\",0))))","v":""},25,20,{"$nulls":3},{"$f":"IF(BE48=\"D\",\"D\",IF(BE48=\"W\",BC48,IF(BE48=\"L\",BC48,0)))","v":0},{"$f":"IF(AY48+AZ48=0,0,IF(AY48+AZ48>0.1,AY48-AZ48,0))","v":0},{"$f":"IF(BE48=\"W\",$R$3,IF(BE48=\"D\",$AA$3,0))","v":{"v":0,"d":"0.0"}},{"$f":"IF(AY48>AZ48,\"W\",IF(AY48<AZ48,\"L\",IF(AY48=0,\"\",IF(AY48=AZ48,\"D\",0))))","v":""},39,17,{"$nulls":3},{"$f":"IF(BN48=\"D\",\"D\",IF(BN48=\"W\",BL48,IF(BN48=\"L\",BL48,0)))","v":0},{"$f":"IF(BH48+BI48=0,0,IF(BH48+BI48>0.1,BH48-BI48,0))","v":0},{"$f":"IF(BN48=\"W\",$R$3,IF(BN48=\"D\",$AA$3,0))","v":{"v":0,"d":"0.0"}},{"$f":"IF(BH48>BI48,\"W\",IF(BH48<BI48,\"L\",IF(BH48=0,\"\",IF(BH48=BI48,\"D\",0))))","v":""},34,7,{"$nulls":3},{"$f":"IF(BW48=\"D\",\"D\",IF(BW48=\"W\",BU48,IF(BW48=\"L\",BU48,0)))","v":0},{"$f":"IF(BQ48+BR48=0,0,IF(BQ48+BR48>0.1,BQ48-BR48,0))","v":0},{"$f":"IF(BW48=\"W\",$R$3,IF(BW48=\"D\",$AA$3,0))","v":{"v":0,"d":"0.0"}},{"$f":"IF(BQ48>BR48,\"W\",IF(BQ48<BR48,\"L\",IF(BQ48=0,\"\",IF(BQ48=BR48,\"D\",0))))","v":""},{"$nulls":3},{"$f":"IF(CD48=\"D\",\"D\",IF(CD48=\"W\",CB48,IF(CD48=\"L\",CB48,0)))","v":0},{"$f":"IF(BX48+BY48=0,0,IF(BX48+BY48>0.1,BX48-BY48,0))","v":0},{"$f":"IF(CD48=\"W\",1,IF(CD48=\"D\",0.5,0))","v":{"v":0,"d":"0.0"}},{"$f":"IF(BX48>BY48,\"W\",IF(BX48<BY48,\"L\",IF(BX48=0,\"\",IF(BX48=BY48,\"D\",0))))","v":""},{"$f":"K48+T48+AC48+AL48+AU48+BD48+BM48+BV48+CC48","v":0},{"$f":"F48-G48+O48-P48+X48-Y48+AG48-AH48+AP48-AQ48+AY48-AZ48+BH48-BI48+BQ48-BR48","v":0},0,{"$f":"(CF48*10000)+(CF48*1000)+CI48","v":0},{"$f":"H48+Q48+Z48+AI48+AR48+BA48+BJ48+BS48+BZ48","v":0},{"$f":"(CE48*$R$3)+CI48","v":0},{"$f":"IF($CG$7:$CG$60=0,\"\",RANK(CG48,$CG$7:$CG$60))","v":""}]
[null,43,null,14,13,{"$nulls":3},{"$f":"IF(L49=\"D\",\"D\",IF(L49=\"W\",J49,IF(L49=\"L\",J49,0)))","v":0},{"$f":"IF(F49+G49=0,0,IF(F49+G49>0.1,F49-G49,0))","v":0},{"$f":"IF(L49=\"W\",$R$3,IF(L49=\"D\",$AA$3,0))","v":{"v":0,"d":"0.0"}},{"$f":"IF(F49>G49,\"W\",IF(F49<G49,\"L\",IF(F49=0,\"\",IF(F49=G49,\"D\",0))))","v":""},16,27,{"$nulls":3},{"$f":"IF(U49=\"D\",\"D\",IF(U49=\"W\",S49,IF(U49=\"L\",S49,0)))","v":0},{"$f":"IF(O49+P49=0,0,IF(O49+P49>0.1,O49-P49,0))","v":0},{"$f":"IF(U49=\"W\",$R$3,IF(U49=\"D\",$AA$3,0))","v":{"v":0,"d":"0.0"}},{"$f":"IF(O49>P49,\"W\",IF(O49<P49,\"L\",IF(O49=0,\"\",IF(O49=P49,\"D\",0))))","v":""},20,7,{"$nulls":3},{"$f":"IF(AD49=\"D\",\"D\",IF(AD49=\"W\",AB49,IF(AD49=\"L\",AB49,0)))","v":0},{"$f":"IF(X49+Y49=0,0,IF(X49+Y49>0.1,X49-Y49,0))","v":0},{"$f":"IF(AD49=\"W\",$R$3,IF(AD49=\"D\",$AA$3,0))","v":{"v":0,"d":"0.0"}},{"$f":"IF(X49>Y49,\"W\",IF(X49<Y49,\"L\",IF(X49=0,\"\",IF(X49=Y49,\"D\",0))))","v":""},18,12,{"$nulls":3},{"$f":"IF(AM49=\"D\",\"D\",IF(AM49=\"W\",AK49,IF(AM49=\"L\",AK49,0)))","v":0},{"$f":"IF(AG49+AH49=0,0,IF(AG49+AH49>0.1,AG49-AH49,0))","v":0},{"$f":"IF(AM49=\"W\",$R$3,IF(AM49=\"D\",$AA$3,0))","v":{"v":0,"d":"0.0"}},{"$f":"IF(AG49>AH49,\"W\",IF(AG49<AH49,\"L\",IF(AG49=0,\"\",IF(AG49=AH49,\"D\",0))))","v":""},22,25,{"$nulls":3},{"$f":"IF(AV49=\"D\",\"D\",IF(AV49=\"W\",AT49,IF(AV49=\"L\",AT49,0)))","v":0},{"$f":"IF(AP49+AQ49=0,0,IF(AP49+AQ49>0.1,AP49-AQ49,0))","v":0},{"$f":"IF(AV49=\"W\",$R$3,IF(AV49=\"D\",$AA$3,0))","v":{"v":0,"d":"0.0"}},{"$f":"IF(AP49>AQ49,\"W\",IF(AP49<AQ49,\"L\",IF(AP49=0,\"\",IF(AP49=AQ49,\"D\",0))))","v":""},24,5,{"$nulls":3},{"$f":"IF(BE49=\"D\",\"D\",IF(BE49=\"W\",BC49,IF(BE49=\"L\",BC49,0)))","v":0},{"$f":"IF(AY49+AZ49=0,0,IF(AY49+AZ49>0.1,AY49-AZ49,0))","v":0},{"$f":"IF(BE49=\"W\",$R$3,IF(BE49=\"D\",$AA$3,0))","v":{"v":0,"d":"0.0"}},{"$f":"IF(AY49>AZ49,\"W\",IF(AY49<AZ49,\"L\",IF(AY49=0,\"\",IF(AY49=AZ49,\"D\",0))))","v":""},39,17,{"$nulls":3},{"$f":"IF(BN49=\"D\",\"D\",IF(BN49=\"W\",BL49,IF(BN49=\"L\",BL49,0)))","v":0},{"$f":"IF(BH49+BI49=0,0,IF(BH49+BI49>0.1,BH49-BI49,0))","v":0},{"$f":"IF(BN49=\"W\",$R$3,IF(BN49=\"D\",$AA$3,0))","v":{"v":0,"d":"0.0"}},{"$f":"IF(BH49>BI49,\"W\",IF(BH49<BI49,\"L\",IF(BH49=0,\"\",IF(BH49=BI49,\"D\",0))))","v":""},34,7,{"$nulls":3},{"$f":"IF(BW49=\"D\",\"D\",IF(BW49=\"W\",BU49,IF(BW49=\"L\",BU49,0)))","v":0},{"$f":"IF(BQ49+BR49=0,0,IF(BQ49+BR49>0.1,BQ49-BR49,0))","v":0},{"$f":"IF(BW49=\"W\",$R$3,IF(BW49=\"D\",$AA$3,0))","v":{"v":0,"d":"0.0"}},{"$f":"IF(BQ49>BR49,\"W\",IF(BQ49<BR49,\"L\",IF(BQ49=0,\"\",IF(BQ49=BR49,\"D\",0))))","v":""},{"$nulls":3},{"$f":"IF(CD49=\"D\",\"D\",IF(CD49=\"W\",CB49,IF(CD49=\"L\",CB49,0)))","v":0},{"$f":"IF(BX49+BY49=0,0,IF(BX49+BY49>0.1,BX49-BY49,0))","v":0},{"$f":"IF(CD49=\"W\",1,IF(CD49=\"D\",0.5,0))","v":{"v":0,"d":"0.0"}},{"$f":"IF(BX49>BY49,\"W\",IF(BX49<BY49,\"L\",IF(BX49=0,\"\",IF(BX49=BY49,\"D\",0))))","v":""},{"$f":"K49+T49+AC49+AL49+AU49+BD49+BM49+BV49+CC49","v":0},{"$f":"F49-G49+O49-P49+X49-Y49+AG49-AH49+AP49-AQ49+AY49-AZ49+BH49-BI49+BQ49-BR49","v":0},0,{"$f":"(CF49*10000)+(CF49*1000)+CI49","v":0},{"$f":"H49+Q49+Z49+AI49+AR49+BA49+BJ49+BS49+BZ49","v":0},{"$f":"(CE49*$R$3)+CI49","v":0},{"$f":"IF($CG$7:$CG$60=0,\"\",RANK(CG49,$CG$7:$CG$60))","v":""}]
[null,44,null,13,12,{"$nulls":3},{"$f":"IF(L50=\"D\",\"D\",IF(L50=\"W\",J50,IF(L50=\"L\",J50,0)))","v":0},{"$f":"IF(F50+G50=0,0,IF(F50+G50>0.1,F50-G50,0))","v":0},{"$f":"IF(L50=\"W\",$R$3,IF(L50=\"D\",$AA$3,0))","v":{"v":0,"d":"0.0"}},{"$f":"IF(F50>G50,\"W\",IF(F50<G50,\"L\",IF(F50=0,\"\",IF(F50=G50,\"D\",0))))","v":""},15,19,{"$nulls":3},{"$f":"IF(U50=\"D\",\"D\",IF(U50=\"W\",S50,IF(U50=\"L\",S50,0)))","v":0},{"$f":"IF(O50+P50=0,0,IF(O50+P50>0.1,O50-P50,0))","v":0},{"$f":"IF(U50=\"W\",$R$3,IF(U50=\"D\",$AA$3,0))","v":{"v":0,"d":"0.0"}},{"$f":"IF(O50>P50,\"W\",IF(O50<P50,\"L\",IF(O50=0,\"\",IF(O50=P50,\"D\",0))))","v":""},19,4,{"$nulls":3},{"$f":"IF(AD50=\"D\",\"D\",IF(AD50=\"W\",AB50,IF(AD50=\"L\",AB50,0)))","v":0},{"$f":"IF(X50+Y50=0,0,IF(X50+Y50>0.1,X50-Y50,0))","v":0},{"$f":"IF(AD50=\"W\",$R$3,IF(AD50=\"D\",$AA$3,0))","v":{"v":0,"d":"0.0"}},{"$f":"IF(X50>Y50,\"W\",IF(X50<Y50,\"L\",IF(X50=0,\"\",IF(X50=Y50,\"D\",0))))","v":""},17,20,{"$nulls":3},{"$f":"IF(AM50=\"D\",\"D\",IF(AM50=\"W\",AK50,IF(AM50=\"L\",AK50,0)))","v":0},{"$f":"IF(AG50+AH50=0,0,IF(AG50+AH50>0.1,AG50-AH50,0))","v":0},{"$f":"IF(AM50=\"W\",$R$3,IF(AM50=\"D\",$AA$3,0))","v":{"v":0,"d":"0.0"}},{"$f":"IF(AG50>AH50,\"W\",IF(AG50<AH50,\"L\",IF(AG50=0,\"\",IF(AG50=AH50,\"D\",0))))","v":""},21,24,{"$nulls":3},{"$f":"IF(AV50=\"D\",\"D\",IF(AV50=\"W\",AT50,IF(AV50=\"L\",AT50,0)))","v":0},{"$f":"IF(AP50+AQ50=0,0,IF(AP50+AQ50>0.1,AP50-AQ50,0))","v":0},{"$f":"IF(AV50=\"W\",$R$3,IF(AV50=\"D\",$AA$3,0))","v":{"v":0,"d":"0.0"}},{"$f":"IF(AP50>AQ50,\"W\",IF(AP50<AQ50,\"L\",IF(AP50=0,\"\",IF(AP50=AQ50,\"D\",0))))","v":""},23,14,{"$nulls":3},{"$f":"IF(BE50=\"D\",\"D\",IF(BE50=\"W\",BC50,IF(BE50=\"L\",BC50,0)))","v":0},{"$f":"IF(AY50+AZ50=0,0,IF(AY50+AZ50>0.1,AY50-AZ50,0))","v":0},{"$f":"IF(BE50=\"W\",$R$3,IF(BE50=\"D\",$AA$3,0))","v":{"v":0,"d":"0.0"}},{"$f":"IF(AY50>AZ50,\"W\",IF(AY50<AZ50,\"L\",IF(AY50=0,\"\",IF(AY50=AZ50,\"D\",0))))","v":""},39,17,{"$nulls":3},{"$f":"IF(BN50=\"D\",\"D\",IF(BN50=\"W\",BL50,IF(BN50=\"L\",BL50,0)))","v":0},{"$f":"IF(BH50+BI50=0,0,IF(BH50+BI50>0.1,BH50-BI50,0))","v":0},{"$f":"IF(BN50=\"W\",$R$3,IF(BN50=\"D\",$AA$3,0))","v":{"v":0,"d":"0.0"}},{"$f":"IF(BH50>BI50,\"W\",IF(BH50<BI50,\"L\",IF(BH50=0,\"\",IF(BH50=BI50,\"D\",0))))","v":""},34,7,{"$nulls":3},{"$f":"IF(BW50=\"D\",\"D\",IF(BW50=\"W\",BU50,IF(BW50=\"L\",BU50,0)))","v":0},{"$f":"IF(BQ50+BR50=0,0,IF(BQ50+BR50>0.1,BQ50-BR50,0))","v":0},{"$f":"IF(BW50=\"W\",$R$3,IF(BW50=\"D\",$AA$3,0))","v":{"v":0,"d":"0.0"}},{"$f":"IF(BQ50>BR50,\"W\",IF(BQ50<BR50,\"L\",IF(BQ50=0,\"\",IF(BQ50=BR50,\"D\",0))))","v":""},{"$nulls":3},{"$f":"IF(CD50=\"D\",\"D\",IF(CD50=\"W\",CB50,IF(CD50=\"L\",CB50,0)))","v":0},{"$f":"IF(BX50+BY50=0,0,IF(BX50+BY50>0.1,BX50-BY50,0))","v":0},{"$f":"IF(CD50=\"W\",1,IF(CD50=\"D\",0.5,0))","v":{"v":0,"d":"0.0"}},{"$f":"IF(BX50>BY50,\"W\",IF(BX50<BY50,\"L\",IF(BX50=0,\"\",IF(BX50=BY50,\"D\",0))))","v":""},{"$f":"K50+T50+AC50+AL50+AU50+BD50+BM50+BV50+CC50","v":0},{"$f":"F50-G50+O50-P50+X50-Y50+AG50-AH50+AP50-AQ50+AY50-AZ50+BH50-BI50+BQ50-BR50","v":0},0,{"$f":"(CF50*10000)+(CF50*1000)+CI50","v":0},{"$f":"H50+Q50+Z50+AI50+AR50+BA50+BJ50+BS50+BZ50","v":0},{"$f":"(CE50*$R$3)+CI50","v":0},{"$f":"IF($CG$7:$CG$60=0,\"\",RANK(CG50,$CG$7:$CG$60))","v":""}]
[null,45,null,12,11,{"$nulls":3},{"$f":"IF(L51=\"D\",\"D\",IF(L51=\"W\",J51,IF(L51=\"L\",J51,0)))","v":0},{"$f":"IF(F51+G51=0,0,IF(F51+G51>0.1,F51-G51,0))","v":0},{"$f":"IF(L51=\"W\",$R$3,IF(L51=\"D\",$AA$3,0))","v":{"v":0,"d":"0.0"}},{"$f":"IF(F51>G51,\"W\",IF(F51<G51,\"L\",IF(F51=0,\"\",IF(F51=G51,\"D\",0))))","v":""},14,18,{"$nulls":3},{"$f":"IF(U51=\"D\",\"D\",IF(U51=\"W\",S51,IF(U51=\"L\",S51,0)))","v":0},{"$f":"IF(O51+P51=0,0,IF(O51+P51>0.1,O51-P51,0))","v":0},{"$f":"IF(U51=\"W\",$R$3,IF(U51=\"D\",$AA$3,0))","v":{"v":0,"d":"0.0"}},{"$f":"IF(O51>P51,\"W\",IF(O51<P51,\"L\",IF(O51=0,\"\",IF(O51=P51,\"D\",0))))","v":""},18,1,{"$nulls":3},{"$f":"IF(AD51=\"D\",\"D\",IF(AD51=\"W\",AB51,IF(AD51=\"L\",AB51,0)))","v":0},{"$f":"IF(X51+Y51=0,0,IF(X51+Y51>0.1,X51-Y51,0))","v":0},{"$f":"IF(AD51=\"W\",$R$3,IF(AD51=\"D\",$AA$3,0))","v":{"v":0,"d":"0.0"}},{"$f":"IF(X51>Y51,\"W\",IF(X51<Y51,\"L\",IF(X51=0,\"\",IF(X51=Y51,\"D\",0))))","v":""},16,10,{"$nulls":3},{"$f":"IF(AM51=\"D\",\"D\",IF(AM51=\"W\",AK51,IF(AM51=\"L\",AK51,0)))","v":0},{"$f":"IF(AG51+AH51=0,0,IF(AG51+AH51>0.1,AG51-AH51,0))","v":0},{"$f":"IF(AM51=\"W\",$R$3,IF(AM51=\"D\",$AA$3,0))","v":{"v":0,"d":"0.0"}},{"$f":"IF(AG51>AH51,\"W\",IF(AG51<AH51,\"L\",IF(AG51=0,\"\",IF(AG51=AH51,\"D\",0))))","v":""},20,23,{"$nulls":3},{"$f":"IF(AV51=\"D\",\"D\",IF(AV51=\"W\",AT51,IF(AV51=\"L\",AT51,0)))","v":0},{"$f":"IF(AP51+AQ51=0,0,IF(AP51+AQ51>0.1,AP51-AQ51,0))","v":0},{"$f":"IF(AV51=\"W\",$R$3,IF(AV51=\"D\",$AA$3,0))","v":{"v":0,"d":"0.0"}},{"$f":"IF(AP51>AQ51,\"W\",IF(AP51<AQ51,\"L\",IF(AP51=0,\"\",IF(AP51=AQ51,\"D\",0))))","v":""},22,7,{"$nulls":3},{"$f":"IF(BE51=\"D\",\"D\",IF(BE51=\"W\",BC51,IF(BE51=\"L\",BC51,0)))","v":0},{"$f":"IF(AY51+AZ51=0,0,IF(AY51+AZ51>0.1,AY51-AZ51,0))","v":0},{"$f":"IF(BE51=\"W\",$R$3,IF(BE51=\"D\",$AA$3,0))","v":{"v":0,"d":"0.0"}},{"$f":"IF(AY51>AZ51,\"W\",IF(AY51<AZ51,\"L\",IF(AY51=0,\"\",IF(AY51=AZ51,\"D\",0))))","v":""},39,17,{"$nulls":3},{"$f":"IF(BN51=\"D\",\"D\",IF(BN51=\"W\",BL51,IF(BN51=\"L\",BL51,0)))","v":0},{"$f":"IF(BH51+BI51=0,0,IF(BH51+BI51>0.1,BH51-BI51,0))","v":0},{"$f":"IF(BN51=\"W\",$R$3,IF(BN51=\"D\",$AA$3,0))","v":{"v":0,"d":"0.0"}},{"$f":"IF(BH51>BI51,\"W\",IF(BH51<BI51,\"L\",IF(BH51=0,\"\",IF(BH51=BI51,\"D\",0))))","v":""},34,7,{"$nulls":3},{"$f":"IF(BW51=\"D\",\"D\",IF(BW51=\"W\",BU51,IF(BW51=\"L\",BU51,0)))","v":0},{"$f":"IF(BQ51+BR51=0,0,IF(BQ51+BR51>0.1,BQ51-BR51,0))","v":0},{"$f":"IF(BW51=\"W\",$R$3,IF(BW51=\"D\",$AA$3,0))","v":{"v":0,"d":"0.0"}},{"$f":"IF(BQ51>BR51,\"W\",IF(BQ51<BR51,\"L\",IF(BQ51=0,\"\",IF(BQ51=BR51,\"D\",0))))","v":""},{"$nulls":3},{"$f":"IF(CD51=\"D\",\"D\",IF(CD51=\"W\",CB51,IF(CD51=\"L\",CB51,0)))","v":0},{"$f":"IF(BX51+BY51=0,0,IF(BX51+BY51>0.1,BX51-BY51,0))","v":0},{"$f":"IF(CD51=\"W\",1,IF(CD51=\"D\",0.5,0))","v":{"v":0,"d":"0.0"}},{"$f":"IF(BX51>BY51,\"W\",IF(BX51<BY51,\"L\",IF(BX51=0,\"\",IF(BX51=BY51,\"D\",0))))","v":""},{"$f":"K51+T51+AC51+AL51+AU51+BD51+BM51+BV51+CC51","v":0},{"$f":"F51-G51+O51-P51+X51-Y51+AG51-AH51+AP51-AQ51+AY51-AZ51+BH51-BI51+BQ51-BR51","v":0},0,{"$f":"(CF51*10000)+(CF51*1000)+CI51","v":0},{"$f":"H51+Q51+Z51+AI51+AR51+BA51+BJ51+BS51+BZ51","v":0},{"$f":"(CE51*$R$3)+CI51","v":0},{"$f":"IF($CG$7:$CG$60=0,\"\",RANK(CG51,$CG$7:$CG$60))","v":""}]
[null,46,null,11,10,{"$nulls":3},{"$f":"IF(L52=\"D\",\"D\",IF(L52=\"W\",J52,IF(L52=\"L\",J52,0)))","v":0},{"$f":"IF(F52+G52=0,0,IF(F52+G52>0.1,F52-G52,0))","v":0},{"$f":"IF(L52=\"W\",$R$3,IF(L52=\"D\",$AA$3,0))","v":{"v":0,"d":"0.0"}},{"$f":"IF(F52>G52,\"W\",IF(F52<G52,\"L\",IF(F52=0,\"\",IF(F52=G52,\"D\",0))))","v":""},13,21,{"$nulls":3},{"$f":"IF(U52=\"D\",\"D\",IF(U52=\"W\",S52,IF(U52=\"L\",S52,0)))","v":0},{"$f":"IF(O52+P52=0,0,IF(O52+P52>0.1,O52-P52,0))","v":0},{"$f":"IF(U52=\"W\",$R$3,IF(U52=\"D\",$AA$3,0))","v":{"v":0,"d":"0.0"}},{"$f":"IF(O52>P52,\"W\",IF(O52<P52,\"L\",IF(O52=0,\"\",IF(O52=P52,\"D\",0))))","v":""},17,3,{"$nulls":3},{"$f":"IF(AD52=\"D\",\"D\",IF(AD52=\"W\",AB52,IF(AD52=\"L\",AB52,0)))","v":0},{"$f":"IF(X52+Y52=0,0,IF(X52+Y52>0.1,X52-Y52,0))","v":0},{"$f":"IF(AD52=\"W\",$R$3,IF(AD52=\"D\",$AA$3,0))","v":{"v":0,"d":"0.0"}},{"$f":"IF(X52>Y52,\"W\",IF(X52<Y52,\"L\",IF(X52=0,\"\",IF(X52=Y52,\"D\",0))))","v":""},15,11,{"$nulls":3},{"$f":"IF(AM52=\"D\",\"D\",IF(AM52=\"W\",AK52,IF(AM52=\"L\",AK52,0)))","v":0},{"$f":"IF(AG52+AH52=0,0,IF(AG52+AH52>0.1,AG52-AH52,0))","v":0},{"$f":"IF(AM52=\"W\",$R$3,IF(AM52=\"D\",$AA$3,0))","v":{"v":0,"d":"0.0"}},{"$f":"IF(AG52>AH52,\"W\",IF(AG52<AH52,\"L\",IF(AG52=0,\"\",IF(AG52=AH52,\"D\",0))))","v":""},19,17,{"$nulls":3},{"$f":"IF(AV52=\"D\",\"D\",IF(AV52=\"W\",AT52,IF(AV52=\"L\",AT52,0)))","v":0},{"$f":"IF(AP52+AQ52=0,0,IF(AP52+AQ52>0.1,AP52-AQ52,0))","v":0},{"$f":"IF(AV52=\"W\",$R$3,IF(AV52=\"D\",$AA$3,0))","v":{"v":0,"d":"0.0"}},{"$f":"IF(AP52>AQ52,\"W\",IF(AP52<AQ52,\"L\",IF(AP52=0,\"\",IF(AP52=AQ52,\"D\",0))))","v":""},21,1,{"$nulls":3},{"$f":"IF(BE52=\"D\",\"D\",IF(BE52=\"W\",BC52,IF(BE52=\"L\",BC52,0)))","v":0},{"$f":"IF(AY52+AZ52=0,0,IF(AY52+AZ52>0.1,AY52-AZ52,0))","v":0},{"$f":"IF(BE52=\"W\",$R$3,IF(BE52=\"D\",$AA$3,0))","v":{"v":0,"d":"0.0"}},{"$f":"IF(AY52>AZ52,\"W\",IF(AY52<AZ52,\"L\",IF(AY52=0,\"\",IF(AY52=AZ52,\"D\",0))))","v":""},39,17,{"$nulls":3},{"$f":"IF(BN52=\"D\",\"D\",IF(BN52=\"W\",BL52,IF(BN52=\"L\",BL52,0)))","v":0},{"$f":"IF(BH52+BI52=0,0,IF(BH52+BI52>0.1,BH52-BI52,0))","v":0},{"$f":"IF(BN52=\"W\",$R$3,IF(BN52=\"D\",$AA$3,0))","v":{"v":0,"d":"0.0"}},{"$f":"IF(BH52>BI52,\"W\",IF(BH52<BI52,\"L\",IF(BH52=0,\"\",IF(BH52=BI52,\"D\",0))))","v":""},34,7,{"$nulls":3},{"$f":"IF(BW52=\"D\",\"D\",IF(BW52=\"W\",BU52,IF(BW52=\"L\",BU52,0)))","v":0},{"$f":"IF(BQ52+BR52=0,0,IF(BQ52+BR52>0.1,BQ52-BR52,0))","v":0},{"$f":"IF(BW52=\"W\",$R$3,IF(BW52=\"D\",$AA$3,0))","v":{"v":0,"d":"0.0"}},{"$f":"IF(BQ52>BR52,\"W\",IF(BQ52<BR52,\"L\",IF(BQ52=0,\"\",IF(BQ52=BR52,\"D\",0))))","v":""},{"$nulls":3},{"$f":"IF(CD52=\"D\",\"D\",IF(CD52=\"W\",CB52,IF(CD52=\"L\",CB52,0)))","v":0},{"$f":"IF(BX52+BY52=0,0,IF(BX52+BY52>0.1,BX52-BY52,0))","v":0},{"$f":"IF(CD52=\"W\",1,IF(CD52=\"D\",0.5,0))","v":{"v":0,"d":"0.0"}},{"$f":"IF(BX52>BY52,\"W\",IF(BX52<BY52,\"L\",IF(BX52=0,\"\",IF(BX52=BY52,\"D\",0))))","v":""},{"$f":"K52+T52+AC52+AL52+AU52+BD52+BM52+BV52+CC52","v":0},{"$f":"F52-G52+O52-P52+X52-Y52+AG52-AH52+AP52-AQ52+AY52-AZ52+BH52-BI52+BQ52-BR52","v":0},0,{"$f":"(CF52*10000)+(CF52*1000)+CI52","v":0},{"$f":"H52+Q52+Z52+AI52+AR52+BA52+BJ52+BS52+BZ52","v":0},{"$f":"(CE52*$R$3)+CI52","v":0},{"$f":"IF($CG$7:$CG$60=0,\"\",RANK(CG52,$CG$7:$CG$60))","v":""}]
[null,47,null,10,9,{"$nulls":3},{"$f":"IF(L53=\"D\",\"D\",IF(L53=\"W\",J53,IF(L53=\"L\",J53,0)))","v":0},{"$f":"IF(F53+G53=0,0,IF(F53+G53>0.1,F53-G53,0))","v":0},{"$f":"IF(L53=\"W\",$R$3,IF(L53=\"D\",$AA$3,0))","v":{"v":0,"d":"0.0"}},{"$f":"IF(F53>G53,\"W\",IF(F53<G53,\"L\",IF(F53=0,\"\",IF(F53=G53,\"D\",0))))","v":""},12,15,{"$nulls":3},{"$f":"IF(U53=\"D\",\"D\",IF(U53=\"W\",S53,IF(U53=\"L\",S53,0)))","v":0},{"$f":"IF(O53+P53=0,0,IF(O53+P53>0.1,O53-P53,0))","v":0},{"$f":"IF(U53=\"W\",$R$3,IF(U53=\"D\",$AA$3,0))","v":{"v":0,"d":"0.0"}},{"$f":"IF(O53>P53,\"W\",IF(O53<P53,\"L\",IF(O53=0,\"\",IF(O53=P53,\"D\",0))))","v":""},16,2,{"$nulls":3},{"$f":"IF(AD53=\"D\",\"D\",IF(AD53=\"W\",AB53,IF(AD53=\"L\",AB53,0)))","v":0},{"$f":"IF(X53+Y53=0,0,IF(X53+Y53>0.1,X53-Y53,0))","v":0},{"$f":"IF(AD53=\"W\",$R$3,IF(AD53=\"D\",$AA$3,0))","v":{"v":0,"d":"0.0"}},{"$f":"IF(X53>Y53,\"W\",IF(X53<Y53,\"L\",IF(X53=0,\"\",IF(X53=Y53,\"D\",0))))","v":""},14,8,{"$nulls":3},{"$f":"IF(AM53=\"D\",\"D\",IF(AM53=\"W\",AK53,IF(AM53=\"L\",AK53,0)))","v":0},{"$f":"IF(AG53+AH53=0,0,IF(AG53+AH53>0.1,AG53-AH53,0))","v":0},{"$f":"IF(AM53=\"W\",$R$3,IF(AM53=\"D\",$AA$3,0))","v":{"v":0,"d":"0.0"}},{"$f":"IF(AG53>AH53,\"W\",IF(AG53<AH53,\"L\",IF(AG53=0,\"\",IF(AG53=AH53,\"D\",0))))","v":""},18,18,{"$nulls":3},{"$f":"IF(AV53=\"D\",\"D\",IF(AV53=\"W\",AT53,IF(AV53=\"L\",AT53,0)))","v":0},{"$f":"IF(AP53+AQ53=0,0,IF(AP53+AQ53>0.1,AP53-AQ53,0))","v":0},{"$f":"IF(AV53=\"W\",$R$3,IF(AV53=\"D\",$AA$3,0))","v":{"v":0,"d":"0.0"}},{"$f":"IF(AP53>AQ53,\"W\",IF(AP53<AQ53,\"L\",IF(AP53=0,\"\",IF(AP53=AQ53,\"D\",0))))","v":""},20,4,{"$nulls":3},{"$f":"IF(BE53=\"D\",\"D\",IF(BE53=\"W\",BC53,IF(BE53=\"L\",BC53,0)))","v":0},{"$f":"IF(AY53+AZ53=0,0,IF(AY53+AZ53>0.1,AY53-AZ53,0))","v":0},{"$f":"IF(BE53=\"W\",$R$3,IF(BE53=\"D\",$AA$3,0))","v":{"v":0,"d":"0.0"}},{"$f":"IF(AY53>AZ53,\"W\",IF(AY53<AZ53,\"L\",IF(AY53=0,\"\",IF(AY53=AZ53,\"D\",0))))","v":""},39,17,{"$nulls":3},{"$f":"IF(BN53=\"D\",\"D\",IF(BN53=\"W\",BL53,IF(BN53=\"L\",BL53,0)))","v":0},{"$f":"IF(BH53+BI53=0,0,IF(BH53+BI53>0.1,BH53-BI53,0))","v":0},{"$f":"IF(BN53=\"W\",$R$3,IF(BN53=\"D\",$AA$3,0))","v":{"v":0,"d":"0.0"}},{"$f":"IF(BH53>BI53,\"W\",IF(BH53<BI53,\"L\",IF(BH53=0,\"\",IF(BH53=BI53,\"D\",0))))","v":""},34,7,{"$nulls":3},{"$f":"IF(BW53=\"D\",\"D\",IF(BW53=\"W\",BU53,IF(BW53=\"L\",BU53,0)))","v":0},{"$f":"IF(BQ53+BR53=0,0,IF(BQ53+BR53>0.1,BQ53-BR53,0))","v":0},{"$f":"IF(BW53=\"W\",$R$3,IF(BW53=\"D\",$AA$3,0))","v":{"v":0,"d":"0.0"}},{"$f":"IF(BQ53>BR53,\"W\",IF(BQ53<BR53,\"L\",IF(BQ53=0,\"\",IF(BQ53=BR53,\"D\",0))))","v":""},{"$nulls":3},{"$f":"IF(CD53=\"D\",\"D\",IF(CD53=\"W\",CB53,IF(CD53=\"L\",CB53,0)))","v":0},{"$f":"IF(BX53+BY53=0,0,IF(BX53+BY53>0.1,BX53-BY53,0))","v":0},{"$f":"IF(CD53=\"W\",1,IF(CD53=\"D\",0.5,0))","v":{"v":0,"d":"0.0"}},{"$f":"IF(BX53>BY53,\"W\",IF(BX53<BY53,\"L\",IF(BX53=0,\"\",IF(BX53=BY53,\"D\",0))))","v":""},{"$f":"K53+T53+AC53+AL53+AU53+BD53+BM53+BV53+CC53","v":0},{"$f":"F53-G53+O53-P53+X53-Y53+AG53-AH53+AP53-AQ53+AY53-AZ53+BH53-BI53+BQ53-BR53","v":0},0,{"$f":"(CF53*10000)+(CF53*1000)+CI53","v":0},{"$f":"H53+Q53+Z53+AI53+AR53+BA53+BJ53+BS53+BZ53","v":0},{"$f":"(CE53*$R$3)+CI53","v":0},{"$f":"IF($CG$7:$CG$60=0,\"\",RANK(CG53,$CG$7:$CG$60))","v":""}]
[null,48,null,9,8,{"$nulls":3},{"$f":"IF(L54=\"D\",\"D\",IF(L54=\"W\",J54,IF(L54=\"L\",J54,0)))","v":0},{"$f":"IF(F54+G54=0,0,IF(F54+G54>0.1,F54-G54,0))","v":0},{"$f":"IF(L54=\"W\",$R$3,IF(L54=\"D\",$AA$3,0))","v":{"v":0,"d":"0.0"}},{"$f":"IF(F54>G54,\"W\",IF(F54<G54,\"L\",IF(F54=0,\"\",IF(F54=G54,\"D\",0))))","v":""},11,17,{"$nulls":3},{"$f":"IF(U54=\"D\",\"D\",IF(U54=\"W\",S54,IF(U54=\"L\",S54,0)))","v":0},{"$f":"IF(O54+P54=0,0,IF(O54+P54>0.1,O54-P54,0))","v":0},{"$f":"IF(U54=\"W\",$R$3,IF(U54=\"D\",$AA$3,0))","v":{"v":0,"d":"0.0"}},{"$f":"IF(O54>P54,\"W\",IF(O54<P54,\"L\",IF(O54=0,\"\",IF(O54=P54,\"D\",0))))","v":""},15,25,{"$nulls":3},{"$f":"IF(AD54=\"D\",\"D\",IF(AD54=\"W\",AB54,IF(AD54=\"L\",AB54,0)))","v":0},{"$f":"IF(X54+Y54=0,0,IF(X54+Y54>0.1,X54-Y54,0))","v":0},{"$f":"IF(AD54=\"W\",$R$3,IF(AD54=\"D\",$AA$3,0))","v":{"v":0,"d":"0.0"}},{"$f":"IF(X54>Y54,\"W\",IF(X54<Y54,\"L\",IF(X54=0,\"\",IF(X54=Y54,\"D\",0))))","v":""},13,9,{"$nulls":3},{"$f":"IF(AM54=\"D\",\"D\",IF(AM54=\"W\",AK54,IF(AM54=\"L\",AK54,0)))","v":0},{"$f":"IF(AG54+AH54=0,0,IF(AG54+AH54>0.1,AG54-AH54,0))","v":0},{"$f":"IF(AM54=\"W\",$R$3,IF(AM54=\"D\",$AA$3,0))","v":{"v":0,"d":"0.0"}},{"$f":"IF(AG54>AH54,\"W\",IF(AG54<AH54,\"L\",IF(AG54=0,\"\",IF(AG54=AH54,\"D\",0))))","v":""},17,22,{"$nulls":3},{"$f":"IF(AV54=\"D\",\"D\",IF(AV54=\"W\",AT54,IF(AV54=\"L\",AT54,0)))","v":0},{"$f":"IF(AP54+AQ54=0,0,IF(AP54+AQ54>0.1,AP54-AQ54,0))","v":0},{"$f":"IF(AV54=\"W\",$R$3,IF(AV54=\"D\",$AA$3,0))","v":{"v":0,"d":"0.0"}},{"$f":"IF(AP54>AQ54,\"W\",IF(AP54<AQ54,\"L\",IF(AP54=0,\"\",IF(AP54=AQ54,\"D\",0))))","v":""},19,3,{"$nulls":3},{"$f":"IF(BE54=\"D\",\"D\",IF(BE54=\"W\",BC54,IF(BE54=\"L\",BC54,0)))","v":0},{"$f":"IF(AY54+AZ54=0,0,IF(AY54+AZ54>0.1,AY54-AZ54,0))","v":0},{"$f":"IF(BE54=\"W\",$R$3,IF(BE54=\"D\",$AA$3,0))","v":{"v":0,"d":"0.0"}},{"$f":"IF(AY54>AZ54,\"W\",IF(AY54<AZ54,\"L\",IF(AY54=0,\"\",IF(AY54=AZ54,\"D\",0))))","v":""},39,17,{"$nulls":3},{"$f":"IF(BN54=\"D\",\"D\",IF(BN54=\"W\",BL54,IF(BN54=\"L\",BL54,0)))","v":0},{"$f":"IF(BH54+BI54=0,0,IF(BH54+BI54>0.1,BH54-BI54,0))","v":0},{"$f":"IF(BN54=\"W\",$R$3,IF(BN54=\"D\",$AA$3,0))","v":{"v":0,"d":"0.0"}},{"$f":"IF(BH54>BI54,\"W\",IF(BH54<BI54,\"L\",IF(BH54=0,\"\",IF(BH54=BI54,\"D\",0))))","v":""},34,7,{"$nulls":3},{"$f":"IF(BW54=\"D\",\"D\",IF(BW54=\"W\",BU54,IF(BW54=\"L\",BU54,0)))","v":0},{"$f":"IF(BQ54+BR54=0,0,IF(BQ54+BR54>0.1,BQ54-BR54,0))","v":0},{"$f":"IF(BW54=\"W\",$R$3,IF(BW54=\"D\",$AA$3,0))","v":{"v":0,"d":"0.0"}},{"$f":"IF(BQ54>BR54,\"W\",IF(BQ54<BR54,\"L\",IF(BQ54=0,\"\",IF(BQ54=BR54,\"D\",0))))","v":""},{"$nulls":3},{"$f":"IF(CD54=\"D\",\"D\",IF(CD54=\"W\",CB54,IF(CD54=\"L\",CB54,0)))","v":0},{"$f":"IF(BX54+BY54=0,0,IF(BX54+BY54>0.1,BX54-BY54,0))","v":0},{"$f":"IF(CD54=\"W\",1,IF(CD54=\"D\",0.5,0))","v":{"v":0,"d":"0.0"}},{"$f":"IF(BX54>BY54,\"W\",IF(BX54<BY54,\"L\",IF(BX54=0,\"\",IF(BX54=BY54,\"D\",0))))","v":""},{"$f":"K54+T54+AC54+AL54+AU54+BD54+BM54+BV54+CC54","v":0},{"$f":"F54-G54+O54-P54+X54-Y54+AG54-AH54+AP54-AQ54+AY54-AZ54+BH54-BI54+BQ54-BR54","v":0},0,{"$f":"(CF54*10000)+(CF54*1000)+CI54","v":0},{"$f":"H54+Q54+Z54+AI54+AR54+BA54+BJ54+BS54+BZ54","v":0},{"$f":"(CE54*$R$3)+CI54","v":0},{"$f":"IF($CG$7:$CG$60=0,\"\",RANK(CG54,$CG$7:$CG$60))","v":""}]
[null,49,null,8,7,{"$nulls":3},{"$f":"IF(L55=\"D\",\"D\",IF(L55=\"W\",J55,IF(L55=\"L\",J55,0)))","v":0},{"$f":"IF(F55+G55=0,0,IF(F55+G55>0.1,F55-G55,0))","v":0},{"$f":"IF(L55=\"W\",$R$3,IF(L55=\"D\",$AA$3,0))","v":{"v":0,"d":"0.0"}},{"$f":"IF(F55>G55,\"W\",IF(F55<G55,\"L\",IF(F55=0,\"\",IF(F55=G55,\"D\",0))))","v":""},10,16,{"$nulls":3},{"$f":"IF(U55=\"D\",\"D\",IF(U55=\"W\",S55,IF(U55=\"L\",S55,0)))","v":0},{"$f":"IF(O55+P55=0,0,IF(O55+P55>0.1,O55-P55,0))","v":0},{"$f":"IF(U55=\"W\",$R$3,IF(U55=\"D\",$AA$3,0))","v":{"v":0,"d":"0.0"}},{"$f":"IF(O55>P55,\"W\",IF(O55<P55,\"L\",IF(O55=0,\"\",IF(O55=P55,\"D\",0))))","v":""},14,22,{"$nulls":3},{"$f":"IF(AD55=\"D\",\"D\",IF(AD55=\"W\",AB55,IF(AD55=\"L\",AB55,0)))","v":0},{"$f":"IF(X55+Y55=0,0,IF(X55+Y55>0.1,X55-Y55,0))","v":0},{"$f":"IF(AD55=\"W\",$R$3,IF(AD55=\"D\",$AA$3,0))","v":{"v":0,"d":"0.0"}},{"$f":"IF(X55>Y55,\"W\",IF(X55<Y55,\"L\",IF(X55=0,\"\",IF(X55=Y55,\"D\",0))))","v":""},12,6,{"$nulls":3},{"$f":"IF(AM55=\"D\",\"D\",IF(AM55=\"W\",AK55,IF(AM55=\"L\",AK55,0)))","v":0},{"$f":"IF(AG55+AH55=0,0,IF(AG55+AH55>0.1,AG55-AH55,0))","v":0},{"$f":"IF(AM55=\"W\",$R$3,IF(AM55=\"D\",$AA$3,0))","v":{"v":0,"d":"0.0"}},{"$f":"IF(AG55>AH55,\"W\",IF(AG55<AH55,\"L\",IF(AG55=0,\"\",IF(AG55=AH55,\"D\",0))))","v":""},16,19,{"$nulls":3},{"$f":"IF(AV55=\"D\",\"D\",IF(AV55=\"W\",AT55,IF(AV55=\"L\",AT55,0)))","v":0},{"$f":"IF(AP55+AQ55=0,0,IF(AP55+AQ55>0.1,AP55-AQ55,0))","v":0},{"$f":"IF(AV55=\"W\",$R$3,IF(AV55=\"D\",$AA$3,0))","v":{"v":0,"d":"0.0"}},{"$f":"IF(AP55>AQ55,\"W\",IF(AP55<AQ55,\"L\",IF(AP55=0,\"\",IF(AP55=AQ55,\"D\",0))))","v":""},18,6,{"$nulls":3},{"$f":"IF(BE55=\"D\",\"D\",IF(BE55=\"W\",BC55,IF(BE55=\"L\",BC55,0)))","v":0},{"$f":"IF(AY55+AZ55=0,0,IF(AY55+AZ55>0.1,AY55-AZ55,0))","v":0},{"$f":"IF(BE55=\"W\",$R$3,IF(BE55=\"D\",$AA$3,0))","v":{"v":0,"d":"0.0"}},{"$f":"IF(AY55>AZ55,\"W\",IF(AY55<AZ55,\"L\",IF(AY55=0,\"\",IF(AY55=AZ55,\"D\",0))))","v":""},39,17,{"$nulls":3},{"$f":"IF(BN55=\"D\",\"D\",IF(BN55=\"W\",BL55,IF(BN55=\"L\",BL55,0)))","v":0},{"$f":"IF(BH55+BI55=0,0,IF(BH55+BI55>0.1,BH55-BI55,0))","v":0},{"$f":"IF(BN55=\"W\",$R$3,IF(BN55=\"D\",$AA$3,0))","v":{"v":0,"d":"0.0"}},{"$f":"IF(BH55>BI55,\"W\",IF(BH55<BI55,\"L\",IF(BH55=0,\"\",IF(BH55=BI55,\"D\",0))))","v":""},34,7,{"$nulls":3},{"$f":"IF(BW55=\"D\",\"D\",IF(BW55=\"W\",BU55,IF(BW55=\"L\",BU55,0)))","v":0},{"$f":"IF(BQ55+BR55=0,0,IF(BQ55+BR55>0.1,BQ55-BR55,0))","v":0},{"$f":"IF(BW55=\"W\",$R$3,IF(BW55=\"D\",$AA$3,0))","v":{"v":0,"d":"0.0"}},{"$f":"IF(BQ55>BR55,\"W\",IF(BQ55<BR55,\"L\",IF(BQ55=0,\"\",IF(BQ55=BR55,\"D\",0))))","v":""},{"$nulls":3},{"$f":"IF(CD55=\"D\",\"D\",IF(CD55=\"W\",CB55,IF(CD55=\"L\",CB55,0)))","v":0},{"$f":"IF(BX55+BY55=0,0,IF(BX55+BY55>0.1,BX55-BY55,0))","v":0},{"$f":"IF(CD55=\"W\",1,IF(CD55=\"D\",0.5,0))","v":{"v":0,"d":"0.0"}},{"$f":"IF(BX55>BY55,\"W\",IF(BX55<BY55,\"L\",IF(BX55=0,\"\",IF(BX55=BY55,\"D\",0))))","v":""},{"$f":"K55+T55+AC55+AL55+AU55+BD55+BM55+BV55+CC55","v":0},{"$f":"F55-G55+O55-P55+X55-Y55+AG55-AH55+AP55-AQ55+AY55-AZ55+BH55-BI55+BQ55-BR55","v":0},0,{"$f":"(CF55*10000)+(CF55*1000)+CI55","v":0},{"$f":"H55+Q55+Z55+AI55+AR55+BA55+BJ55+BS55+BZ55","v":0},{"$f":"(CE55*$R$3)+CI55","v":0},{"$f":"IF($CG$7:$CG$60=0,\"\",RANK(CG55,$CG$7:$CG$60))","v":""}]
[null,50,null,7,6,{"$nulls":3},{"$f":"IF(L56=\"D\",\"D\",IF(L56=\"W\",J56,IF(L56=\"L\",J56,0)))","v":0},{"$f":"IF(F56+G56=0,0,IF(F56+G56>0.1,F56-G56,0))","v":0},{"$f":"IF(L56=\"W\",$R$3,IF(L56=\"D\",$AA$3,0))","v":{"v":0,"d":"0.0"}},{"$f":"IF(F56>G56,\"W\",IF(F56<G56,\"L\",IF(F56=0,\"\",IF(F56=G56,\"D\",0))))","v":""},9,20,{"$nulls":3},{"$f":"IF(U56=\"D\",\"D\",IF(U56=\"W\",S56,IF(U56=\"L\",S56,0)))","v":0},{"$f":"IF(O56+P56=0,0,IF(O56+P56>0.1,O56-P56,0))","v":0},{"$f":"IF(U56=\"W\",$R$3,IF(U56=\"D\",$AA$3,0))","v":{"v":0,"d":"0.0"}},{"$f":"IF(O56>P56,\"W\",IF(O56<P56,\"L\",IF(O56=0,\"\",IF(O56=P56,\"D\",0))))","v":""},13,24,{"$nulls":3},{"$f":"IF(AD56=\"D\",\"D\",IF(AD56=\"W\",AB56,IF(AD56=\"L\",AB56,0)))","v":0},{"$f":"IF(X56+Y56=0,0,IF(X56+Y56>0.1,X56-Y56,0))","v":0},{"$f":"IF(AD56=\"W\",$R$3,IF(AD56=\"D\",$AA$3,0))","v":{"v":0,"d":"0.0"}},{"$f":"IF(X56>Y56,\"W\",IF(X56<Y56,\"L\",IF(X56=0,\"\",IF(X56=Y56,\"D\",0))))","v":""},11,4,{"$nulls":3},{"$f":"IF(AM56=\"D\",\"D\",IF(AM56=\"W\",AK56,IF(AM56=\"L\",AK56,0)))","v":0},{"$f":"IF(AG56+AH56=0,0,IF(AG56+AH56>0.1,AG56-AH56,0))","v":0},{"$f":"IF(AM56=\"W\",$R$3,IF(AM56=\"D\",$AA$3,0))","v":{"v":0,"d":"0.0"}},{"$f":"IF(AG56>AH56,\"W\",IF(AG56<AH56,\"L\",IF(AG56=0,\"\",IF(AG56=AH56,\"D\",0))))","v":""},15,21,{"$nulls":3},{"$f":"IF(AV56=\"D\",\"D\",IF(AV56=\"W\",AT56,IF(AV56=\"L\",AT56,0)))","v":0},{"$f":"IF(AP56+AQ56=0,0,IF(AP56+AQ56>0.1,AP56-AQ56,0))","v":0},{"$f":"IF(AV56=\"W\",$R$3,IF(AV56=\"D\",$AA$3,0))","v":{"v":0,"d":"0.0"}},{"$f":"IF(AP56>AQ56,\"W\",IF(AP56<AQ56,\"L\",IF(AP56=0,\"\",IF(AP56=AQ56,\"D\",0))))","v":""},17,2,{"$nulls":3},{"$f":"IF(BE56=\"D\",\"D\",IF(BE56=\"W\",BC56,IF(BE56=\"L\",BC56,0)))","v":0},{"$f":"IF(AY56+AZ56=0,0,IF(AY56+AZ56>0.1,AY56-AZ56,0))","v":0},{"$f":"IF(BE56=\"W\",$R$3,IF(BE56=\"D\",$AA$3,0))","v":{"v":0,"d":"0.0"}},{"$f":"IF(AY56>AZ56,\"W\",IF(AY56<AZ56,\"L\",IF(AY56=0,\"\",IF(AY56=AZ56,\"D\",0))))","v":""},39,17,{"$nulls":3},{"$f":"IF(BN56=\"D\",\"D\",IF(BN56=\"W\",BL56,IF(BN56=\"L\",BL56,0)))","v":0},{"$f":"IF(BH56+BI56=0,0,IF(BH56+BI56>0.1,BH56-BI56,0))","v":0},{"$f":"IF(BN56=\"W\",$R$3,IF(BN56=\"D\",$AA$3,0))","v":{"v":0,"d":"0.0"}},{"$f":"IF(BH56>BI56,\"W\",IF(BH56<BI56,\"L\",IF(BH56=0,\"\",IF(BH56=BI56,\"D\",0))))","v":""},34,7,{"$nulls":3},{"$f":"IF(BW56=\"D\",\"D\",IF(BW56=\"W\",BU56,IF(BW56=\"L\",BU56,0)))","v":0},{"$f":"IF(BQ56+BR56=0,0,IF(BQ56+BR56>0.1,BQ56-BR56,0))","v":0},{"$f":"IF(BW56=\"W\",$R$3,IF(BW56=\"D\",$AA$3,0))","v":{"v":0,"d":"0.0"}},{"$f":"IF(BQ56>BR56,\"W\",IF(BQ56<BR56,\"L\",IF(BQ56=0,\"\",IF(BQ56=BR56,\"D\",0))))","v":""},{"$nulls":3},{"$f":"IF(CD56=\"D\",\"D\",IF(CD56=\"W\",CB56,IF(CD56=\"L\",CB56,0)))","v":0},{"$f":"IF(BX56+BY56=0,0,IF(BX56+BY56>0.1,BX56-BY56,0))","v":0},{"$f":"IF(CD56=\"W\",1,IF(CD56=\"D\",0.5,0))","v":{"v":0,"d":"0.0"}},{"$f":"IF(BX56>BY56,\"W\",IF(BX56<BY56,\"L\",IF(BX56=0,\"\",IF(BX56=BY56,\"D\",0))))","v":""},{"$f":"K56+T56+AC56+AL56+AU56+BD56+BM56+BV56+CC56","v":0},{"$f":"F56-G56+O56-P56+X56-Y56+AG56-AH56+AP56-AQ56+AY56-AZ56+BH56-BI56+BQ56-BR56","v":0},0,{"$f":"(CF56*10000)+(CF56*1000)+CI56","v":0},{"$f":"H56+Q56+Z56+AI56+AR56+BA56+BJ56+BS56+BZ56","v":0},{"$f":"(CE56*$R$3)+CI56","v":0},{"$f":"IF($CG$7:$CG$60=0,\"\",RANK(CG56,$CG$7:$CG$60))","v":""}]
[null,51,null,6,5,{"$nulls":3},{"$f":"IF(L57=\"D\",\"D\",IF(L57=\"W\",J57,IF(L57=\"L\",J57,0)))","v":0},{"$f":"IF(F57+G57=0,0,IF(F57+G57>0.1,F57-G57,0))","v":0},{"$f":"IF(L57=\"W\",$R$3,IF(L57=\"D\",$AA$3,0))","v":{"v":0,"d":"0.0"}},{"$f":"IF(F57>G57,\"W\",IF(F57<G57,\"L\",IF(F57=0,\"\",IF(F57=G57,\"D\",0))))","v":""},8,12,{"$nulls":3},{"$f":"IF(U57=\"D\",\"D\",IF(U57=\"W\",S57,IF(U57=\"L\",S57,0)))","v":0},{"$f":"IF(O57+P57=0,0,IF(O57+P57>0.1,O57-P57,0))","v":0},{"$f":"IF(U57=\"W\",$R$3,IF(U57=\"D\",$AA$3,0))","v":{"v":0,"d":"0.0"}},{"$f":"IF(O57>P57,\"W\",IF(O57<P57,\"L\",IF(O57=0,\"\",IF(O57=P57,\"D\",0))))","v":""},12,23,{"$nulls":3},{"$f":"IF(AD57=\"D\",\"D\",IF(AD57=\"W\",AB57,IF(AD57=\"L\",AB57,0)))","v":0},{"$f":"IF(X57+Y57=0,0,IF(X57+Y57>0.1,X57-Y57,0))","v":0},{"$f":"IF(AD57=\"W\",$R$3,IF(AD57=\"D\",$AA$3,0))","v":{"v":0,"d":"0.0"}},{"$f":"IF(X57>Y57,\"W\",IF(X57<Y57,\"L\",IF(X57=0,\"\",IF(X57=Y57,\"D\",0))))","v":""},10,1,{"$nulls":3},{"$f":"IF(AM57=\"D\",\"D\",IF(AM57=\"W\",AK57,IF(AM57=\"L\",AK57,0)))","v":0},{"$f":"IF(AG57+AH57=0,0,IF(AG57+AH57>0.1,AG57-AH57,0))","v":0},{"$f":"IF(AM57=\"W\",$R$3,IF(AM57=\"D\",$AA$3,0))","v":{"v":0,"d":"0.0"}},{"$f":"IF(AG57>AH57,\"W\",IF(AG57<AH57,\"L\",IF(AG57=0,\"\",IF(AG57=AH57,\"D\",0))))","v":""},14,20,{"$nulls":3},{"$f":"IF(AV57=\"D\",\"D\",IF(AV57=\"W\",AT57,IF(AV57=\"L\",AT57,0)))","v":0},{"$f":"IF(AP57+AQ57=0,0,IF(AP57+AQ57>0.1,AP57-AQ57,0))","v":0},{"$f":"IF(AV57=\"W\",$R$3,IF(AV57=\"D\",$AA$3,0))","v":{"v":0,"d":"0.0"}},{"$f":"IF(AP57>AQ57,\"W\",IF(AP57<AQ57,\"L\",IF(AP57=0,\"\",IF(AP57=AQ57,\"D\",0))))","v":""},16,22,{"$nulls":3},{"$f":"IF(BE57=\"D\",\"D\",IF(BE57=\"W\",BC57,IF(BE57=\"L\",BC57,0)))","v":0},{"$f":"IF(AY57+AZ57=0,0,IF(AY57+AZ57>0.1,AY57-AZ57,0))","v":0},{"$f":"IF(BE57=\"W\",$R$3,IF(BE57=\"D\",$AA$3,0))","v":{"v":0,"d":"0.0"}},{"$f":"IF(AY57>AZ57,\"W\",IF(AY57<AZ57,\"L\",IF(AY57=0,\"\",IF(AY57=AZ57,\"D\",0))))","v":""},39,17,{"$nulls":3},{"$f":"IF(BN57=\"D\",\"D\",IF(BN57=\"W\",BL57,IF(BN57=\"L\",BL57,0)))","v":0},{"$f":"IF(BH57+BI57=0,0,IF(BH57+BI57>0.1,BH57-BI57,0))","v":0},{"$f":"IF(BN57=\"W\",$R$3,IF(BN57=\"D\",$AA$3,0))","v":{"v":0,"d":"0.0"}},{"$f":"IF(BH57>BI57,\"W\",IF(BH57<BI57,\"L\",IF(BH57=0,\"\",IF(BH57=BI57,\"D\",0))))","v":""},34,7,{"$nulls":3},{"$f":"IF(BW57=\"D\",\"D\",IF(BW57=\"W\",BU57,IF(BW57=\"L\",BU57,0)))","v":0},{"$f":"IF(BQ57+BR57=0,0,IF(BQ57+BR57>0.1,BQ57-BR57,0))","v":0},{"$f":"IF(BW57=\"W\",$R$3,IF(BW57=\"D\",$AA$3,0))","v":{"v":0,"d":"0.0"}},{"$f":"IF(BQ57>BR57,\"W\",IF(BQ57<BR57,\"L\",IF(BQ57=0,\"\",IF(BQ57=BR57,\"D\",0))))","v":""},{"$nulls":3},{"$f":"IF(CD57=\"D\",\"D\",IF(CD57=\"W\",CB57,IF(CD57=\"L\",CB57,0)))","v":0},{"$f":"IF(BX57+BY57=0,0,IF(BX57+BY57>0.1,BX57-BY57,0))","v":0},{"$f":"IF(CD57=\"W\",1,IF(CD57=\"D\",0.5,0))","v":{"v":0,"d":"0.0"}},{"$f":"IF(BX57>BY57,\"W\",IF(BX57<BY57,\"L\",IF(BX57=0,\"\",IF(BX57=BY57,\"D\",0))))","v":""},{"$f":"K57+T57+AC57+AL57+AU57+BD57+BM57+BV57+CC57","v":0},{"$f":"F57-G57+O57-P57+X57-Y57+AG57-AH57+AP57-AQ57+AY57-AZ57+BH57-BI57+BQ57-BR57","v":0},0,{"$f":"(CF57*10000)+(CF57*1000)+CI57","v":0},{"$f":"H57+Q57+Z57+AI57+AR57+BA57+BJ57+BS57+BZ57","v":0},{"$f":"(CE57*$R$3)+CI57","v":0},{"$f":"IF($CG$7:$CG$60=0,\"\",RANK(CG57,$CG$7:$CG$60))","v":""}]
[null,52,null,5,4,{"$nulls":3},{"$f":"IF(L58=\"D\",\"D\",IF(L58=\"W\",J58,IF(L58=\"L\",J58,0)))","v":0},{"$f":"IF(F58+G58=0,0,IF(F58+G58>0.1,F58-G58,0))","v":0},{"$f":"IF(L58=\"W\",$R$3,IF(L58=\"D\",$AA$3,0))","v":{"v":0,"d":"0.0"}},{"$f":"IF(F58>G58,\"W\",IF(F58<G58,\"L\",IF(F58=0,\"\",IF(F58=G58,\"D\",0))))","v":""},7,13,{"$nulls":3},{"$f":"IF(U58=\"D\",\"D\",IF(U58=\"W\",S58,IF(U58=\"L\",S58,0)))","v":0},{"$f":"IF(O58+P58=0,0,IF(O58+P58>0.1,O58-P58,0))","v":0},{"$f":"IF(U58=\"W\",$R$3,IF(U58=\"D\",$AA$3,0))","v":{"v":0,"d":"0.0"}},{"$f":"IF(O58>P58,\"W\",IF(O58<P58,\"L\",IF(O58=0,\"\",IF(O58=P58,\"D\",0))))","v":""},11,21,{"$nulls":3},{"$f":"IF(AD58=\"D\",\"D\",IF(AD58=\"W\",AB58,IF(AD58=\"L\",AB58,0)))","v":0},{"$f":"IF(X58+Y58=0,0,IF(X58+Y58>0.1,X58-Y58,0))","v":0},{"$f":"IF(AD58=\"W\",$R$3,IF(AD58=\"D\",$AA$3,0))","v":{"v":0,"d":"0.0"}},{"$f":"IF(X58>Y58,\"W\",IF(X58<Y58,\"L\",IF(X58=0,\"\",IF(X58=Y58,\"D\",0))))","v":""},9,5,{"$nulls":3},{"$f":"IF(AM58=\"D\",\"D\",IF(AM58=\"W\",AK58,IF(AM58=\"L\",AK58,0)))","v":0},{"$f":"IF(AG58+AH58=0,0,IF(AG58+AH58>0.1,AG58-AH58,0))","v":0},{"$f":"IF(AM58=\"W\",$R$3,IF(AM58=\"D\",$AA$3,0))","v":{"v":0,"d":"0.0"}},{"$f":"IF(AG58>AH58,\"W\",IF(AG58<AH58,\"L\",IF(AG58=0,\"\",IF(AG58=AH58,\"D\",0))))","v":""},13,15,{"$nulls":3},{"$f":"IF(AV58=\"D\",\"D\",IF(AV58=\"W\",AT58,IF(AV58=\"L\",AT58,0)))","v":0},{"$f":"IF(AP58+AQ58=0,0,IF(AP58+AQ58>0.1,AP58-AQ58,0))","v":0},{"$f":"IF(AV58=\"W\",$R$3,IF(AV58=\"D\",$AA$3,0))","v":{"v":0,"d":"0.0"}},{"$f":"IF(AP58>AQ58,\"W\",IF(AP58<AQ58,\"L\",IF(AP58=0,\"\",IF(AP58=AQ58,\"D\",0))))","v":""},15,25,{"$nulls":3},{"$f":"IF(BE58=\"D\",\"D\",IF(BE58=\"W\",BC58,IF(BE58=\"L\",BC58,0)))","v":0},{"$f":"IF(AY58+AZ58=0,0,IF(AY58+AZ58>0.1,AY58-AZ58,0))","v":0},{"$f":"IF(BE58=\"W\",$R$3,IF(BE58=\"D\",$AA$3,0))","v":{"v":0,"d":"0.0"}},{"$f":"IF(AY58>AZ58,\"W\",IF(AY58<AZ58,\"L\",IF(AY58=0,\"\",IF(AY58=AZ58,\"D\",0))))","v":""},39,17,{"$nulls":3},{"$f":"IF(BN58=\"D\",\"D\",IF(BN58=\"W\",BL58,IF(BN58=\"L\",BL58,0)))","v":0},{"$f":"IF(BH58+BI58=0,0,IF(BH58+BI58>0.1,BH58-BI58,0))","v":0},{"$f":"IF(BN58=\"W\",$R$3,IF(BN58=\"D\",$AA$3,0))","v":{"v":0,"d":"0.0"}},{"$f":"IF(BH58>BI58,\"W\",IF(BH58<BI58,\"L\",IF(BH58=0,\"\",IF(BH58=BI58,\"D\",0))))","v":""},34,7,{"$nulls":3},{"$f":"IF(BW58=\"D\",\"D\",IF(BW58=\"W\",BU58,IF(BW58=\"L\",BU58,0)))","v":0},{"$f":"IF(BQ58+BR58=0,0,IF(BQ58+BR58>0.1,BQ58-BR58,0))","v":0},{"$f":"IF(BW58=\"W\",$R$3,IF(BW58=\"D\",$AA$3,0))","v":{"v":0,"d":"0.0"}},{"$f":"IF(BQ58>BR58,\"W\",IF(BQ58<BR58,\"L\",IF(BQ58=0,\"\",IF(BQ58=BR58,\"D\",0))))","v":""},{"$nulls":3},{"$f":"IF(CD58=\"D\",\"D\",IF(CD58=\"W\",CB58,IF(CD58=\"L\",CB58,0)))","v":0},{"$f":"IF(BX58+BY58=0,0,IF(BX58+BY58>0.1,BX58-BY58,0))","v":0},{"$f":"IF(CD58=\"W\",1,IF(CD58=\"D\",0.5,0))","v":{"v":0,"d":"0.0"}},{"$f":"IF(BX58>BY58,\"W\",IF(BX58<BY58,\"L\",IF(BX58=0,\"\",IF(BX58=BY58,\"D\",0))))","v":""},{"$f":"K58+T58+AC58+AL58+AU58+BD58+BM58+BV58+CC58","v":0},{"$f":"F58-G58+O58-P58+X58-Y58+AG58-AH58+AP58-AQ58+AY58-AZ58+BH58-BI58+BQ58-BR58","v":0},0,{"$f":"(CF58*10000)+(CF58*1000)+CI58","v":0},{"$f":"H58+Q58+Z58+AI58+AR58+BA58+BJ58+BS58+BZ58","v":0},{"$f":"(CE58*$R$3)+CI58","v":0},{"$f":"IF($CG$7:$CG$60=0,\"\",RANK(CG58,$CG$7:$CG$60))","v":""}]
[null,53,null,4,3,{"$nulls":3},{"$f":"IF(L59=\"D\",\"D\",IF(L59=\"W\",J59,IF(L59=\"L\",J59,0)))","v":0},{"$f":"IF(F59+G59=0,0,IF(F59+G59>0.1,F59-G59,0))","v":0},{"$f":"IF(L59=\"W\",$R$3,IF(L59=\"D\",$AA$3,0))","v":{"v":0,"d":"0.0"}},{"$f":"IF(F59>G59,\"W\",IF(F59<G59,\"L\",IF(F59=0,\"\",IF(F59=G59,\"D\",0))))","v":""},6,14,{"$nulls":3},{"$f":"IF(U59=\"D\",\"D\",IF(U59=\"W\",S59,IF(U59=\"L\",S59,0)))","v":0},{"$f":"IF(O59+P59=0,0,IF(O59+P59>0.1,O59-P59,0))","v":0},{"$f":"IF(U59=\"W\",$R$3,IF(U59=\"D\",$AA$3,0))","v":{"v":0,"d":"0.0"}},{"$f":"IF(O59>P59,\"W\",IF(O59<P59,\"L\",IF(O59=0,\"\",IF(O59=P59,\"D\",0))))","v":""},10,27,{"$nulls":3},{"$f":"IF(AD59=\"D\",\"D\",IF(AD59=\"W\",AB59,IF(AD59=\"L\",AB59,0)))","v":0},{"$f":"IF(X59+Y59=0,0,IF(X59+Y59>0.1,X59-Y59,0))","v":0},{"$f":"IF(AD59=\"W\",$R$3,IF(AD59=\"D\",$AA$3,0))","v":{"v":0,"d":"0.0"}},{"$f":"IF(X59>Y59,\"W\",IF(X59<Y59,\"L\",IF(X59=0,\"\",IF(X59=Y59,\"D\",0))))","v":""},8,2,{"$nulls":3},{"$f":"IF(AM59=\"D\",\"D\",IF(AM59=\"W\",AK59,IF(AM59=\"L\",AK59,0)))","v":0},{"$f":"IF(AG59+AH59=0,0,IF(AG59+AH59>0.1,AG59-AH59,0))","v":0},{"$f":"IF(AM59=\"W\",$R$3,IF(AM59=\"D\",$AA$3,0))","v":{"v":0,"d":"0.0"}},{"$f":"IF(AG59>AH59,\"W\",IF(AG59<AH59,\"L\",IF(AG59=0,\"\",IF(AG59=AH59,\"D\",0))))","v":""},12,8,{"$nulls":3},{"$f":"IF(AV59=\"D\",\"D\",IF(AV59=\"W\",AT59,IF(AV59=\"L\",AT59,0)))","v":0},{"$f":"IF(AP59+AQ59=0,0,IF(AP59+AQ59>0.1,AP59-AQ59,0))","v":0},{"$f":"IF(AV59=\"W\",$R$3,IF(AV59=\"D\",$AA$3,0))","v":{"v":0,"d":"0.0"}},{"$f":"IF(AP59>AQ59,\"W\",IF(AP59<AQ59,\"L\",IF(AP59=0,\"\",IF(AP59=AQ59,\"D\",0))))","v":""},14,24,{"$nulls":3},{"$f":"IF(BE59=\"D\",\"D\",IF(BE59=\"W\",BC59,IF(BE59=\"L\",BC59,0)))","v":0},{"$f":"IF(AY59+AZ59=0,0,IF(AY59+AZ59>0.1,AY59-AZ59,0))","v":0},{"$f":"IF(BE59=\"W\",$R$3,IF(BE59=\"D\",$AA$3,0))","v":{"v":0,"d":"0.0"}},{"$f":"IF(AY59>AZ59,\"W\",IF(AY59<AZ59,\"L\",IF(AY59=0,\"\",IF(AY59=AZ59,\"D\",0))))","v":""},39,17,{"$nulls":3},{"$f":"IF(BN59=\"D\",\"D\",IF(BN59=\"W\",BL59,IF(BN59=\"L\",BL59,0)))","v":0},{"$f":"IF(BH59+BI59=0,0,IF(BH59+BI59>0.1,BH59-BI59,0))","v":0},{"$f":"IF(BN59=\"W\",$R$3,IF(BN59=\"D\",$AA$3,0))","v":{"v":0,"d":"0.0"}},{"$f":"IF(BH59>BI59,\"W\",IF(BH59<BI59,\"L\",IF(BH59=0,\"\",IF(BH59=BI59,\"D\",0))))","v":""},34,7,{"$nulls":3},{"$f":"IF(BW59=\"D\",\"D\",IF(BW59=\"W\",BU59,IF(BW59=\"L\",BU59,0)))","v":0},{"$f":"IF(BQ59+BR59=0,0,IF(BQ59+BR59>0.1,BQ59-BR59,0))","v":0},{"$f":"IF(BW59=\"W\",$R$3,IF(BW59=\"D\",$AA$3,0))","v":{"v":0,"d":"0.0"}},{"$f":"IF(BQ59>BR59,\"W\",IF(BQ59<BR59,\"L\",IF(BQ59=0,\"\",IF(BQ59=BR59,\"D\",0))))","v":""},{"$nulls":3},{"$f":"IF(CD59=\"D\",\"D\",IF(CD59=\"W\",CB59,IF(CD59=\"L\",CB59,0)))","v":0},{"$f":"IF(BX59+BY59=0,0,IF(BX59+BY59>0.1,BX59-BY59,0))","v":0},{"$f":"IF(CD59=\"W\",1,IF(CD59=\"D\",0.5,0))","v":{"v":0,"d":"0.0"}},{"$f":"IF(BX59>BY59,\"W\",IF(BX59<BY59,\"L\",IF(BX59=0,\"\",IF(BX59=BY59,\"D\",0))))","v":""},{"$f":"K59+T59+AC59+AL59+AU59+BD59+BM59+BV59+CC59","v":0},{"$f":"F59-G59+O59-P59+X59-Y59+AG59-AH59+AP59-AQ59+AY59-AZ59+BH59-BI59+BQ59-BR59","v":0},0,{"$f":"(CF59*10000)+(CF59*1000)+CI59","v":0},{"$f":"H59+Q59+Z59+AI59+AR59+BA59+BJ59+BS59+BZ59","v":0},{"$f":"(CE59*$R$3)+CI59","v":0},{"$f":"IF($CG$7:$CG$60=0,\"\",RANK(CG59,$CG$7:$CG$60))","v":""}]
[null,54,null,3,2,{"$nulls":3},{"$f":"IF(L60=\"D\",\"D\",IF(L60=\"W\",J60,IF(L60=\"L\",J60,0)))","v":0},{"$f":"IF(F60+G60=0,0,IF(F60+G60>0.1,F60-G60,0))","v":0},{"$f":"IF(L60=\"W\",$R$3,IF(L60=\"D\",$AA$3,0))","v":{"v":0,"d":"0.0"}},{"$f":"IF(F60>G60,\"W\",IF(F60<G60,\"L\",IF(F60=0,\"\",IF(F60=G60,\"D\",0))))","v":""},5,8,{"$nulls":3},{"$f":"IF(U60=\"D\",\"D\",IF(U60=\"W\",S60,IF(U60=\"L\",S60,0)))","v":0},{"$f":"IF(O60+P60=0,0,IF(O60+P60>0.1,O60-P60,0))","v":0},{"$f":"IF(U60=\"W\",$R$3,IF(U60=\"D\",$AA$3,0))","v":{"v":0,"d":"0.0"}},{"$f":"IF(O60>P60,\"W\",IF(O60<P60,\"L\",IF(O60=0,\"\",IF(O60=P60,\"D\",0))))","v":""},9,26,{"$nulls":3},{"$f":"IF(AD60=\"D\",\"D\",IF(AD60=\"W\",AB60,IF(AD60=\"L\",AB60,0)))","v":0},{"$f":"IF(X60+Y60=0,0,IF(X60+Y60>0.1,X60-Y60,0))","v":0},{"$f":"IF(AD60=\"W\",$R$3,IF(AD60=\"D\",$AA$3,0))","v":{"v":0,"d":"0.0"}},{"$f":"IF(X60>Y60,\"W\",IF(X60<Y60,\"L\",IF(X60=0,\"\",IF(X60=Y60,\"D\",0))))","v":""},7,3,{"$nulls":3},{"$f":"IF(AM60=\"D\",\"D\",IF(AM60=\"W\",AK60,IF(AM60=\"L\",AK60,0)))","v":0},{"$f":"IF(AG60+AH60=0,0,IF(AG60+AH60>0.1,AG60-AH60,0))","v":0},{"$f":"IF(AM60=\"W\",$R$3,IF(AM60=\"D\",$AA$3,0))","v":{"v":0,"d":"0.0"}},{"$f":"IF(AG60>AH60,\"W\",IF(AG60<AH60,\"L\",IF(AG60=0,\"\",IF(AG60=AH60,\"D\",0))))","v":""},11,9,{"$nulls":3},{"$f":"IF(AV60=\"D\",\"D\",IF(AV60=\"W\",AT60,IF(AV60=\"L\",AT60,0)))","v":0},{"$f":"IF(AP60+AQ60=0,0,IF(AP60+AQ60>0.1,AP60-AQ60,0))","v":0},{"$f":"IF(AV60=\"W\",$R$3,IF(AV60=\"D\",$AA$3,0))","v":{"v":0,"d":"0.0"}},{"$f":"IF(AP60>AQ60,\"W\",IF(AP60<AQ60,\"L\",IF(AP60=0,\"\",IF(AP60=AQ60,\"D\",0))))","v":""},13,23,{"$nulls":3},{"$f":"IF(BE60=\"D\",\"D\",IF(BE60=\"W\",BC60,IF(BE60=\"L\",BC60,0)))","v":0},{"$f":"IF(AY60+AZ60=0,0,IF(AY60+AZ60>0.1,AY60-AZ60,0))","v":0},{"$f":"IF(BE60=\"W\",$R$3,IF(BE60=\"D\",$AA$3,0))","v":{"v":0,"d":"0.0"}},{"$f":"IF(AY60>AZ60,\"W\",IF(AY60<AZ60,\"L\",IF(AY60=0,\"\",IF(AY60=AZ60,\"D\",0))))","v":""},39,17,{"$nulls":3},{"$f":"IF(BN60=\"D\",\"D\",IF(BN60=\"W\",BL60,IF(BN60=\"L\",BL60,0)))","v":0},{"$f":"IF(BH60+BI60=0,0,IF(BH60+BI60>0.1,BH60-BI60,0))","v":0},{"$f":"IF(BN60=\"W\",$R$3,IF(BN60=\"D\",$AA$3,0))","v":{"v":0,"d":"0.0"}},{"$f":"IF(BH60>BI60,\"W\",IF(BH60<BI60,\"L\",IF(BH60=0,\"\",IF(BH60=BI60,\"D\",0))))","v":""},34,7,{"$nulls":3},{"$f":"IF(BW60=\"D\",\"D\",IF(BW60=\"W\",BU60,IF(BW60=\"L\",BU60,0)))","v":0},{"$f":"IF(BQ60+BR60=0,0,IF(BQ60+BR60>0.1,BQ60-BR60,0))","v":0},{"$f":"IF(BW60=\"W\",$R$3,IF(BW60=\"D\",$AA$3,0))","v":{"v":0,"d":"0.0"}},{"$f":"IF(BQ60>BR60,\"W\",IF(BQ60<BR60,\"L\",IF(BQ60=0,\"\",IF(BQ60=BR60,\"D\",0))))","v":""},{"$nulls":3},{"$f":"IF(CD60=\"D\",\"D\",IF(CD60=\"W\",CB60,IF(CD60=\"L\",CB60,0)))","v":0},{"$f":"IF(BX60+BY60=0,0,IF(BX60+BY60>0.1,BX60-BY60,0))","v":0},{"$f":"IF(CD60=\"W\",1,IF(CD60=\"D\",0.5,0))","v":{"v":0,"d":"0.0"}},{"$f":"IF(BX60>BY60,\"W\",IF(BX60<BY60,\"L\",IF(BX60=0,\"\",IF(BX60=BY60,\"D\",0))))","v":""},{"$f":"K60+T60+AC60+AL60+AU60+BD60+BM60+BV60+CC60","v":0},{"$f":"F60-G60+O60-P60+X60-Y60+AG60-AH60+AP60-AQ60+AY60-AZ60+BH60-BI60+BQ60-BR60","v":0},0,{"$f":"(CF60*10000)+(CF60*1000)+CI60","v":0},{"$f":"H60+Q60+Z60+AI60+AR60+BA60+BJ60+BS60+BZ60","v":0},{"$f":"(CE60*$R$3)+CI60","v":0},{"$f":"IF($CG$7:$CG$60=0,\"\",RANK(CG60,$CG$7:$CG$60))","v":""}]

{"sheet":"Score Cards","index":3,"n_rows":1458,"n_cols":40,"rows_kept":1458,"merged":[[0,0,0,5],[0,7,0,12],[0,14,0,19],[0,20,0,25],[0,27,0,32],[0,34,0,39],[1,0,2,2],[1,3,2,5],[1,7,2,9],[1,10,2,12],[1,14,2,16],[1,17,2,19],[1,20,2,22],[1,23,2,25],[1,27,2,29],[1,30,2,32],[1,34,2,36],[1,37,2,39],[3,0,3,2],[3,3,3,5],[3,7,3,9],[3,10,3,12],[3,14,3,16],[3,17,3,19],[3,20,3,22],[3,23,3,25],[3,27,3,29],[3,30,3,32],[3,34,3,36],[3,37,3,39],[24,0,25,0],[24,7,25,7],[24,14,25,14],[24,20,25,20],[24,27,25,27],[24,34,25,34],[28,0,28,5],[28,7,28,12],[28,14,28,19],[28,20,28,25],[28,27,28,32],[28,34,28,39],[29,0,30,2],[29,3,30,5],[29,7,30,9],[29,10,30,12],[29,14,30,16],[29,17,30,19],[29,20,30,22],[29,23,30,25],[29,27,30,29],[29,30,30,32],[29,34,30,36],[29,37,30,39],[31,0,31,2],[31,3,31,5],[31,7,31,9],[31,10,31,12],[31,14,31,16],[31,17,31,19],[31,20,31,22],[31,23,31,25],[31,27,31,29],[31,30,31,32],[31,34,31,36],[31,37,31,39],[52,0,53,0],[52,7,53,7],[52,14,53,14],[52,20,53,20],[52,27,53,27],[52,34,53,34],[54,0,54,5],[54,7,54,12],[54,14,54,19],[54,20,54,25],[54,27,54,32],[54,34,54,39],[55,0,56,2],[55,3,56,5],[55,7,56,9],[55,10,56,12],[55,14,56,16],[55,17,56,19],[55,20,56,22],[55,23,56,25],[55,27,56,29],[55,30,56,32],[55,34,56,36],[55,37,56,39],[57,0,57,2],[57,3,57,5],[57,7,57,9],[57,10,57,12],[57,14,57,16],[57,17,57,19],[57,20,57,22],[57,23,57,25],[57,27,57,29],[57,30,57,32],[57,34,57,36],[57,37,57,39],[78,0,79,0],[78,7,79,7],[78,14,79,14],[78,20,79,20],[78,27,79,27],[78,34,79,34],[82,0,82,5],[82,7,82,12],[82,14,82,19],[82,20,82,25],[82,27,82,32],[82,34,82,39],[83,0,84,2],[83,3,84,5],[83,7,84,9],[83,10,84,12],[83,14,84,16],[83,17,84,19],[83,20,84,22],[83,23,84,25],[83,27,84,29],[83,30,84,32],[83,34,84,36],[83,37,84,39],[85,0,85,2],[85,3,85,5],[85,7,85,9],[85,10,85,12],[85,14,85,16],[85,17,85,19],[85,20,85,22],[85,23,85,25],[85,27,85,29],[85,30,85,32],[85,34,85,36],[85,37,85,39],[106,0,107,0],[106,7,107,7],[106,14,107,14],[106,20,107,20],[106,27,107,27],[106,34,107,34],[108,0,108,5],[108,7,108,12],[108,14,108,19],[108,20,108,25],[108,27,108,32],[108,34,108,39],[109,0,110,2],[109,3,110,5],[109,7,110,9],[109,10,110,12],[109,14,110,16],[109,17,110,19],[109,20,110,22],[109,23,110,25],[109,27,110,29],[109,30,110,32],[109,34,110,36],[109,37,110,39],[111,0,111,2],[111,3,111,5],[111,7,111,9],[111,10,111,12],[111,14,111,16],[111,17,111,19],[111,20,111,22],[111,23,111,25],[111,27,111,29],[111,30,111,32],[111,34,111,36],[111,37,111,39],[132,0,133,0],[132,7,133,7],[132,14,133,14],[132,20,133,20],[132,27,133,27],[132,34,133,34],[136,0,136,5],[136,7,136,12],[136,14,136,19],[136,20,136,25],[136,27,136,32],[136,34,136,39],[137,0,138,2],[137,3,138,5],[137,7,138,9],[137,10,138,12],[137,14,138,16],[137,17,138,19],[137,20,138,22],[137,23,138,25],[137,27,138,29],[137,30,138,32],[137,34,138,36],[137,37,138,39],[139,0,139,2],[139,3,139,5],[139,7,139,9],[139,10,139,12],[139,14,139,16],[139,17,139,19],[139,20,139,22],[139,23,139,25],[139,27,139,29],[139,30,139,32],[139,34,139,36],[139,37,139,39],[160,0,161,0],[160,7,161,7],[160,14,161,14],[160,20,161,20],[160,27,161,27],[160,34,161,34],[162,0,162,5],[162,7,162,12],[162,14,162,19],[162,20,162,25],[162,27,162,32],[162,34,162,39],[163,0,164,2],[163,3,164,5],[163,7,164,9],[163,10,164,12],[163,14,164,16],[163,17,164,19],[163,20,164,22],[163,23,164,25],[163,27,164,29],[163,30,164,32],[163,34,164,36],[163,37,164,39],[165,0,165,2],[165,3,165,5],[165,7,165,9],[165,10,165,12],[165,14,165,16],[165,17,165,19],[165,20,165,22],[165,23,165,25],[165,27,165,29],[165,30,165,32],[165,34,165,36],[165,37,165,39],[186,0,187,0],[186,7,187,7],[186,14,187,14],[186,20,187,20],[186,27,187,27],[186,34,187,34],[190,0,190,5],[190,7,190,12],[190,14,190,19],[190,20,190,25],[190,27,190,32],[190,34,190,39],[191,0,192,2],[191,3,192,5],[191,7,192,9],[191,10,192,12],[191,14,192,16],[191,17,192,19],[191,20,192,22],[191,23,192,25],[191,27,192,29],[191,30,192,32],[191,34,192,36],[191,37,192,39],[193,0,193,2],[193,3,193,5],[193,7,193,9],[193,10,193,12],[193,14,193,16],[193,17,193,19],[193,20,193,22],[193,23,193,25],[193,27,193,29],[193,30,193,32],[193,34,193,36],[193,37,193,39],[214,0,215,0],[214,7,215,7],[214,14,215,14],[214,20,215,20],[214,27,215,27],[214,34,215,34],[216,0,216,5],[216,7,216,12],[216,14,216,19],[216,20,216,25],[216,27,216,32],[216,34,216,39],[217,0,218,2],[217,3,218,5],[217,7,218,9],[217,10,218,12],[217,14,218,16],[217,17,218,19],[217,20,218,22],[217,23,218,25],[217,27,218,29],[217,30,218,32],[217,34,218,36],[217,37,218,39],[219,0,219,2],[219,3,219,5],[219,7,219,9],[219,10,219,12],[219,14,219,16],[219,17,219,19],[219,20,219,22],[219,23,219,25],[219,27,219,29],[219,30,219,32],[219,34,219,36],[219,37,219,39],[240,0,241,0],[240,7,241,7],[240,14,241,14],[240,20,241,20],[240,27,241,27],[240,34,241,34],[244,0,244,5],[244,7,244,12],[244,14,244,19],[244,20,244,25],[244,27,244,32],[244,34,244,39],[245,0,246,2],[245,3,246,5],[245,7,246,9],[245,10,246,12],[245,14,246,16],[245,17,246,19],[245,20,246,22],[245,23,246,25],[245,27,246,29],[245,30,246,32],[245,34,246,36],[245,37,246,39],[247,0,247,2],[247,3,247,5],[247,7,247,9],[247,10,247,12],[247,14,247,16],[247,17,247,19],[247,20,247,22],[247,23,247,25],[247,27,247,29],[247,30,247,32],[247,34,247,36],[247,37,247,39],[268,0,269,0],[268,7,269,7],[268,14,269,14],[268,20,269,20],[268,27,269,27],[268,34,269,34],[270,0,270,5],[270,7,270,12],[270,14,270,19],[270,20,270,25],[270,27,270,32],[270,34,270,39],[271,0,272,2],[271,3,272,5],[271,7,272,9],[271,10,272,12],[271,14,272,16],[271,17,272,19],[271,20,272,22],[271,23,272,25],[271,27,272,29],[271,30,272,32],[271,34,272,36],[271,37,272,39],[273,0,273,2],[273,3,273,5],[273,7,273,9],[273,10,273,12],[273,14,273,16],[273,17,273,19],[273,20,273,22],[273,23,273,25],[273,27,273,29],[273,30,273,32],[273,34,273,36],[273,37,273,39],[294,0,295,0],[294,7,295,7],[294,14,295,14],[294,20,295,20],[294,27,295,27],[294,34,295,34],[298,0,298,5],[298,7,298,12],[298,14,298,19],[298,20,298,25],[298,27,298,32],[298,34,298,39],[299,0,300,2],[299,3,300,5],[299,7,300,9],[299,10,300,12],[299,14,300,16],[299,17,300,19],[299,20,300,22],[299,23,300,25],[299,27,300,29],[299,30,300,32],[299,34,300,36],[299,37,300,39],[301,0,301,2],[301,3,301,5],[301,7,301,9],[301,10,301,12],[301,14,301,16],[301,17,301,19],[301,20,301,22],[301,23,301,25],[301,27,301,29],[301,30,301,32],[301,34,301,36],[301,37,301,39],[322,0,323,0],[322,7,323,7],[322,14,323,14],[322,20,323,20],[322,27,323,27],[322,34,323,34],[324,0,324,5],[324,7,324,12],[324,14,324,19],[324,20,324,25],[324,27,324,32],[324,34,324,39],[325,0,326,2],[325,3,326,5],[325,7,326,9],[325,10,326,12],[325,14,326,16],[325,17,326,19],[325,20,326,22],[325,23,326,25],[325,27,326,29],[325,30,326,32],[325,34,326,36],[325,37,326,39],[327,0,327,2],[327,3,327,5],[327,7,327,9],[327,10,327,12],[327,14,327,16],[327,17,327,19],[327,20,327,22],[327,23,327,25],[327,27,327,29],[327,30,327,32],[327,34,327,36],[327,37,327,39],[348,0,349,0],[348,7,349,7],[348,14,349,14],[348,20,349,20],[348,27,349,27],[348,34,349,34],[352,0,352,5],[352,7,352,12],[352,14,352,19],[352,20,352,25],[352,27,352,32],[352,34,352,39],[353,0,354,2],[353,3,354,5],[353,7,354,9],[353,10,354,12],[353,14,354,16],[353,17,354,19],[353,20,354,22],[353,23,354,25],[353,27,354,29],[353,30,354,32],[353,34,354,36],[353,37,354,39],[355,0,355,2],[355,3,355,5],[355,7,355,9],[355,10,355,12],[355,14,355,16],[355,17,355,19],[355,20,355,22],[355,23,355,25],[355,27,355,29],[355,30,355,32],[355,34,355,36],[355,37,355,39],[376,0,377,0],[376,7,377,7],[376,14,377,14],[376,20,377,20],[376,27,377,27],[376,34,377,34],[378,0,378,5],[378,7,378,12],[378,14,378,19],[378,20,378,25],[378,27,378,32],[378,34,378,39],[379,0,380,2],[379,3,380,5],[379,7,380,9],[379,10,380,12],[379,14,380,16],[379,17,380,19],[379,20,380,22],[379,23,380,25],[379,27,380,29],[379,30,380,32],[379,34,380,36],[379,37,380,39],[381,0,381,2],[381,3,381,5],[381,7,381,9],[381,10,381,12],[381,14,381,16],[381,17,381,19],[381,20,381,22],[381,23,381,25],[381,27,381,29],[381,30,381,32],[381,34,381,36],[381,37,381,39],[402,0,403,0],[402,7,403,7],[402,14,403,14],[402,20,403,20],[402,27,403,27],[402,34,403,34],[406,0,406,5],[406,7,406,12],[406,14,406,19],[406,20,406,25],[406,27,406,32],[406,34,406,39],[407,0,408,2],[407,3,408,5],[407,7,408,9],[407,10,408,12],[407,14,408,16],[407,17,408,19],[407,20,408,22],[407,23,408,25],[407,27,408,29],[407,30,408,32],[409,0,409,2],[409,3,409,5],[409,7,409,9],[409,10,409,12],[409,14,409,16],[409,17,409,19],[409,20,409,22],[409,23,409,25],[409,27,409,29],[409,30,409,32],[409,34,409,36],[409,37,409,39],[1134,0,1134,5],[1134,7,1134,12],[1134,14,1134,19],[1134,20,1134,25],[1134,27,1134,32],[1134,34,1134,39],[1135,0,1136,2],[1135,3,1136,5],[1135,7,1136,9],[1135,10,1136,12],[1135,14,1136,16],[1135,17,1136,19],[1135,20,1136,22],[1135,23,1136,25],[1135,27,1136,29],[1135,30,1136,32],[1135,34,1136,36],[1135,37,1136,39],[1137,0,1137,2],[1137,3,1137,5],[1137,7,1137,9],[1137,10,1137,12],[1137,14,1137,16],[1137,17,1137,19],[1137,20,1137,22],[1137,23,1137,25],[1137,27,1137,29],[1137,30,1137,32],[1137,34,1137,36],[1137,37,1137,39],[1158,0,1159,0],[1158,7,1159,7],[1158,14,1159,14],[1158,20,1159,20],[1158,27,1159,27],[1158,34,1159,34],[1162,0,1162,5],[1162,7,1162,12],[1162,14,1162,19],[1162,20,1162,25],[1162,27,1162,32],[1162,34,1162,39],[1163,0,1164,2],[1163,3,1164,5],[1163,7,1164,9],[1163,10,1164,12],[1163,14,1164,16],[1163,17,1164,19],[1163,20,1164,22],[1163,23,1164,25],[1163,27,1164,29],[1163,30,1164,32],[1163,34,1164,36],[1163,37,1164,39],[1165,0,1165,2],[1165,3,1165,5],[1165,7,1165,9],[1165,10,1165,12],[1165,14,1165,16],[1165,17,1165,19],[1165,20,1165,22],[1165,23,1165,25],[1165,27,1165,29],[1165,30,1165,32],[1165,34,1165,36],[1165,37,1165,39],[1186,0,1187,0],[1186,7,1187,7],[1186,14,1187,14],[1186,20,1187,20],[1186,27,1187,27],[1186,34,1187,34],[1188,0,1188,5],[1188,7,1188,12],[1188,14,1188,19],[1188,20,1188,25],[1188,27,1188,32],[1188,34,1188,39],[1189,0,1190,2],[1189,3,1190,5],[1189,7,1190,9],[1189,10,1190,12],[1189,14,1190,16],[1189,17,1190,19],[1189,20,1190,22],[1189,23,1190,25],[1189,27,1190,29],[1189,30,1190,32],[1189,34,1190,36],[1189,37,1190,39],[1191,0,1191,2],[1191,3,1191,5],[1191,7,1191,9],[1191,10,1191,12],[1191,14,1191,16],[1191,17,1191,19],[1191,20,1191,22],[1191,23,1191,25],[1191,27,1191,29],[1191,30,1191,32],[1191,34,1191,36],[1191,37,1191,39],[1212,0,1213,0],[1212,7,1213,7],[1212,14,1213,14],[1212,20,1213,20],[1212,27,1213,27],[1212,34,1213,34],[1216,0,1216,5],[1216,7,1216,12],[1216,14,1216,19],[1216,20,1216,25],[1216,27,1216,32],[1216,34,1216,39],[1217,0,1218,2],[1217,3,1218,5],[1217,7,1218,9],[1217,10,1218,12],[1217,14,1218,16],[1217,17,1218,19],[1217,20,1218,22],[1217,23,1218,25],[1217,27,1218,29],[1217,30,1218,32],[1217,34,1218,36],[1217,37,1218,39],[1219,0,1219,2],[1219,3,1219,5],[1219,7,1219,9],[1219,10,1219,12],[1219,14,1219,16],[1219,17,1219,19],[1219,20,1219,22],[1219,23,1219,25],[1219,27,1219,29],[1219,30,1219,32],[1219,34,1219,36],[1219,37,1219,39],[1240,0,1241,0],[1240,7,1241,7],[1240,14,1241,14],[1240,20,1241,20],[1240,27,1241,27],[1240,34,1241,34],[1242,0,1242,5],[1242,7,1242,12],[1242,14,1242,19],[1242,20,1242,25],[1242,27,1242,32],[1242,34,1242,39],[1243,0,1244,2],[1243,3,1244,5],[1243,7,1244,9],[1243,10,1244,12],[1243,14,1244,16],[1243,17,1244,19],[1243,20,1244,22],[1243,23,1244,25],[1243,27,1244,29],[1243,30,1244,32],[1243,34,1244,36],[1243,37,1244,39],[1245,0,1245,2],[1245,3,1245,5],[1245,7,1245,9],[1245,10,1245,12],[1245,14,1245,16],[1245,17,1245,19],[1245,20,1245,22],[1245,23,1245,25],[1245,27,1245,29],[1245,30,1245,32],[1245,34,1245,36],[1245,37,1245,39],[1266,0,1267,0],[1266,7,1267,7],[1266,14,1267,14],[1266,20,1267,20],[1266,27,1267,27],[1266,34,1267,34],[1270,0,1270,5],[1270,7,1270,12],[1270,14,1270,19],[1270,20,1270,25],[1270,27,1270,32],[1270,34,1270,39],[1271,0,1272,2],[1271,3,1272,5],[1271,7,1272,9],[1271,10,1272,12],[1271,14,1272,16],[1271,17,1272,19],[1271,20,1272,22],[1271,23,1272,25],[1271,27,1272,29],[1271,30,1272,32],[1271,34,1272,36],[1271,37,1272,39],[1273,0,1273,2],[1273,3,1273,5],[1273,7,1273,9],[1273,10,1273,12],[1273,14,1273,16],[1273,17,1273,19],[1273,20,1273,22],[1273,23,1273,25],[1273,27,1273,29],[1273,30,1273,32],[1273,34,1273,36],[1273,37,1273,39],[1294,0,1295,0],[1294,7,1295,7],[1294,14,1295,14],[1294,20,1295,20],[1294,27,1295,27],[1294,34,1295,34],[1296,0,1296,5],[1296,7,1296,12],[1296,14,1296,19],[1296,20,1296,25],[1296,27,1296,32],[1296,34,1296,39],[1297,0,1298,2],[1297,3,1298,5],[1297,7,1298,9],[1297,10,1298,12],[1297,14,1298,16],[1297,17,1298,19],[1297,20,1298,22],[1297,23,1298,25],[1297,27,1298,29],[1297,30,1298,32],[1297,34,1298,36],[1297,37,1298,39],[1299,0,1299,2],[1299,3,1299,5],[1299,7,1299,9],[1299,10,1299,12],[1299,14,1299,16],[1299,17,1299,19],[1299,20,1299,22],[1299,23,1299,25],[1299,27,1299,29],[1299,30,1299,32],[1299,34,1299,36],[1299,37,1299,39],[1320,0,1321,0],[1320,7,1321,7],[1320,14,1321,14],[1320,20,1321,20],[1320,27,1321,27],[1320,34,1321,34],[1324,0,1324,5],[1324,7,1324,12],[1324,14,1324,19],[1324,20,1324,25],[1324,27,1324,32],[1324,34,1324,39],[1325,0,1326,2],[1325,3,1326,5],[1325,7,1326,9],[1325,10,1326,12],[1325,14,1326,16],[1325,17,1326,19],[1325,20,1326,22],[1325,23,1326,25],[1325,27,1326,29],[1325,30,1326,32],[1325,34,1326,36],[1325,37,1326,39],[1327,0,1327,2],[1327,3,1327,5],[1327,7,1327,9],[1327,10,1327,12],[1327,14,1327,16],[1327,17,1327,19],[1327,20,1327,22],[1327,23,1327,25],[1327,27,1327,29],[1327,30,1327,32],[1327,34,1327,36],[1327,37,1327,39],[1348,0,1349,0],[1348,7,1349,7],[1348,14,1349,14],[1348,20,1349,20],[1348,27,1349,27],[1348,34,1349,34],[1350,0,1350,5],[1350,7,1350,12],[1350,14,1350,19],[1350,20,1350,25],[1350,27,1350,32],[1350,34,1350,39],[1351,0,1352,2],[1351,3,1352,5],[1351,7,1352,9],[1351,10,1352,12],[1351,14,1352,16],[1351,17,1352,19],[1351,20,1352,22],[1351,23,1352,25],[1351,27,1352,29],[1351,30,1352,32],[1351,34,1352,36],[1351,37,1352,39],[1353,0,1353,2],[1353,3,1353,5],[1353,7,1353,9],[1353,10,1353,12],[1353,14,1353,16],[1353,17,1353,19],[1353,20,1353,22],[1353,23,1353,25],[1353,27,1353,29],[1353,30,1353,32],[1353,34,1353,36],[1353,37,1353,39],[1374,0,1375,0],[1374,7,1375,7],[1374,14,1375,14],[1374,20,1375,20],[1374,27,1375,27],[1374,34,1375,34],[1378,0,1378,5],[1378,7,1378,12],[1378,14,1378,19],[1378,20,1378,25],[1378,27,1378,32],[1378,34,1378,39],[1379,0,1380,2],[1379,3,1380,5],[1379,7,1380,9],[1379,10,1380,12],[1379,14,1380,16],[1379,17,1380,19],[1379,20,1380,22],[1379,23,1380,25],[1379,27,1380,29],[1379,30,1380,32],[1379,34,1380,36],[1379,37,1380,39],[1381,0,1381,2],[1381,3,1381,5],[1381,7,1381,9],[1381,10,1381,12],[1381,14,1381,16],[1381,17,1381,19],[1381,20,1381,22],[1381,23,1381,25],[1381,27,1381,29],[1381,30,1381,32],[1381,34,1381,36],[1381,37,1381,39],[1402,0,1403,0],[1402,7,1403,7],[1402,14,1403,14],[1402,20,1403,20],[1402,27,1403,27],[1402,34,1403,34],[1404,0,1404,5],[1404,7,1404,12],[1404,14,1404,19],[1404,20,1404,25],[1404,27,1404,32],[1404,34,1404,39],[1405,0,1406,2],[1405,3,1406,5],[1405,7,1406,9],[1405,10,1406,12],[1405,14,1406,16],[1405,17,1406,19],[1405,20,1406,22],[1405,23,1406,25],[1405,27,1406,29],[1405,30,1406,32],[1405,34,1406,36],[1405,37,1406,39],[1407,0,1407,2],[1407,3,1407,5],[1407,7,1407,9],[1407,10,1407,12],[1407,14,1407,16],[1407,17,1407,19],[1407,20,1407,22],[1407,23,1407,25],[1407,27,1407,29],[1407,30,1407,32],[1407,34,1407,36],[1407,37,1407,39],[1428,0,1429,0],[1428,7,1429,7],[1428,14,1429,14],[1428,20,1429,20],[1428,27,1429,27],[1428,34,1429,34],[1432,0,1432,5],[1432,7,1432,12],[1432,14,1432,19],[1432,20,1432,25],[1432,27,1432,32],[1432,34,1432,39],[1433,0,1434,2],[1433,3,1434,5],[1433,7,1434,9],[1433,10,1434,12],[1433,14,1434,16],[1433,17,1434,19],[1433,20,1434,22],[1433,23,1434,25],[1433,27,1434,29],[1433,30,1434,32],[1433,34,1434,36],[1433,37,1434,39],[1435,0,1435,2],[1435,3,1435,5],[1435,7,1435,9],[1435,10,1435,12],[1435,14,1435,16],[1435,17,1435,19],[1435,20,1435,22],[1435,23,1435,25],[1435,27,1435,29],[1435,30,1435,32],[1435,34,1435,36],[1435,37,1435,39],[1456,0,1457,0],[1456,7,1457,7],[1456,14,1457,14],[1456,20,1457,20],[1456,27,1457,27],[1456,34,1457,34]],"merged_total":1945,"flags":["merged_cut"]}
["1st Game ",{"$nulls":6},"2nd Game ",{"$nulls":6},"3rd Game ",{"$nulls":5},"4th Game",{"$nulls":6},"5th Game",{"$nulls":6},"6th Game"]
["Team No",null,null,"Rink No",{"$nulls":3},"Team No",null,null,"Rink No",{"$nulls":3},"Team No",null,null,"Rink No",null,null,"Team No",null,null,"Rink No",{"$nulls":3},"Team No",null,null,"Rink No",{"$nulls":3},"Team No",null,null,"Rink No"]
[]
[{"$f":"DRAW!$B$7","v":1},null,null,{"$f":"DRAW!$E$7","v":1},{"$nulls":3},{"$f":"DRAW!$B$7","v":1},null,null,{"$f":"DRAW!$G$7","v":10},{"$nulls":3},{"$f":"DRAW!$B$7","v":1},null,null,{"$f":"DRAW!$I$7","v":20},null,null,{"$f":"DRAW!$B$7","v":1},null,null,{"$f":"DRAW!$K$7","v":22},{"$nulls":3},{"$f":"DRAW!$B$7","v":1},null,null,{"$f":"DRAW!$M$7","v":13},{"$nulls":3},{"$f":"DRAW!$B$7","v":1},null,null,{"$f":"DRAW!$O$7","v":16}]
[null,"Team",{"$f":"DRAW!$B$7","v":1},"V","Team",{"$f":"DRAW!$D$7","v":2},null,null,"Team",{"$f":"DRAW!$B$7","v":1},"V","Team",{"$f":"DRAW!$F$7","v":3},null,null,"Team",{"$f":"DRAW!$B$7","v":1},"V","Team",{"$f":"DRAW!$H$7","v":5},null,"Team",{"$f":"DRAW!$B$7","v":1},"V","Team",{"$f":"DRAW!$J$7","v":4},null,null,"Team",{"$f":"DRAW!$B$7","v":1},"V","Team",{"$f":"DRAW!$L$7","v":6},null,null,"Team",{"$f":"DRAW!$B$7","v":1},"V","Team",{"$f":"DRAW!$N$7","v":7}]
["Ends","Shots","Total",null,"Shots","Total",null,"Ends","Shots","Total",null,"Shots","Total",null,"Ends","Shots","Total",null,"Shots","Total","Ends","Shots","Total",null,"Shots","Total",null,"Ends","Shots","Total",null,"Shots","Total",null,"Ends","Shots","Total",null,"Shots","Total"]
[1,{"$nulls":6},1,{"$nulls":6},1,{"$nulls":5},1,{"$nulls":6},1,{"$nulls":6},1]
[2,{"$nulls":6},2,{"$nulls":6},2,{"$nulls":5},2,{"$nulls":6},2,{"$nulls":6},2]
[3,{"$nulls":6},3,{"$nulls":6},3,{"$nulls":5},3,{"$nulls":6},3,{"$nulls":6},3]
[4,{"$nulls":6},4,{"$nulls":6},4,{"$nulls":5},4,{"$nulls":6},4,{"$nulls":6},4]
[5,{"$nulls":6},5,{"$nulls":6},5,{"$nulls":5},5,{"$nulls":6},5,{"$nulls":6},5]
[6,{"$nulls":6},6,{"$nulls":6},6,{"$nulls":5},6,{"$nulls":6},6,{"$nulls":6},6]
[7,{"$nulls":6},7,{"$nulls":6},7,{"$nulls":5},7,{"$nulls":6},7,{"$nulls":6},7]
[8,{"$nulls":6},8,{"$nulls":6},8,{"$nulls":5},8,{"$nulls":6},8,{"$nulls":6},8]
[9,{"$nulls":6},9,{"$nulls":6},9,{"$nulls":5},9,{"$nulls":6},9,{"$nulls":6},9]
[10,{"$nulls":6},10,{"$nulls":6},10,{"$nulls":5},10,{"$nulls":6},10,{"$nulls":6},10]
[11,{"$nulls":6},11,{"$nulls":6},11,{"$nulls":5},11,{"$nulls":6},11,{"$nulls":6},11]
[12,{"$nulls":6},12,{"$nulls":6},12,{"$nulls":5},12,{"$nulls":6},12,{"$nulls":6},12]
[13,{"$nulls":6},13,{"$nulls":6},13,{"$nulls":5},13,{"$nulls":6},13,{"$nulls":6},13]
[14,{"$nulls":6},14,{"$nulls":6},14,{"$nulls":5},14,{"$nulls":6},14,{"$nulls":6},14]
[15,{"$nulls":6},15,{"$nulls":6},15,{"$nulls":5},15,{"$nulls":6},15,{"$nulls":6},15]
[16,{"$nulls":6},16,{"$nulls":6},16,{"$nulls":5},16,{"$nulls":6},16,{"$nulls":6},16]
[17,{"$nulls":6},17,{"$nulls":6},17,{"$nulls":5},17,{"$nulls":6},17,{"$nulls":6},17]
[18,{"$nulls":6},18,{"$nulls":6},18,{"$nulls":5},18,{"$nulls":6},18,{"$nulls":6},18]
["Total","Shots",null,null,"Shots",null,null,"Total","Shots",null,null,"Shots",null,null,"Total","Shots",null,null,"Shots",null,"Total","Shots",null,null,"Shots",null,null,"Total","Shots",null,null,"Shots",null,null,"Total","Shots",null,null,"Shots"]
[null,"Ends",null,null,"Ends",{"$nulls":3},"Ends",null,null,"Ends",{"$nulls":3},"Ends",null,null,"Ends",null,null,"Ends",null,null,"Ends",{"$nulls":3},"Ends",null,null,"Ends",{"$nulls":3},"Ends",null,null,"Ends"]
[]
[]
["1st Game ",{"$nulls":6},"2nd Game ",{"$nulls":6},"3rd Game ",{"$nulls":5},"4th Game",{"$nulls":6},"5th Game",{"$nulls":6},"6th Game"]
["Team No",null,null,"Rink No",{"$nulls":3},"Team No",null,null,"Rink No",{"$nulls":3},"Team No",null,null,"Rink No",null,null,"Team No",null,null,"Rink No",{"$nulls":3},"Team No",null,null,"Rink No",{"$nulls":3},"Team No",null,null,"Rink No"]
[]
[{"$f":"DRAW!$B$8","v":2},null,null,{"$f":"DRAW!$E$8","v":1},{"$nulls":3},{"$f":"DRAW!$B$8","v":2},null,null,{"$f":"DRAW!$G$8","v":11},{"$nulls":3},{"$f":"DRAW!$B$8","v":2},null,null,{"$f":"DRAW!$I$8","v":18},null,null,{"$f":"DRAW!$B$8","v":2},null,null,{"$f":"DRAW!$K$8","v":24},{"$nulls":3},{"$f":"DRAW!$B$8","v":2},null,null,{"$f":"DRAW!$M$8","v":10},{"$nulls":3},{"$f":"DRAW!$B$8","v":2},null,null,{"$f":"DRAW!$O$8","v":19}]
[null,"Team",{"$f":"DRAW!$B$8","v":2},"V","Team",{"$f":"DRAW!$D$8","v":1},null,null,"Team",{"$f":"DRAW!$B$8","v":2},"V","Team",{"$f":"DRAW!$F$8","v":4},null,null,"Team",{"$f":"DRAW!$B$8","v":2},"V","Team",{"$f":"DRAW!$H$8","v":8},null,"Team",{"$f":"DRAW!$B$8","v":2},"V","Team",{"$f":"DRAW!$J$8","v":6},null,null,"Team",{"$f":"DRAW!$B$8","v":2},"V","Team",{"$f":"DRAW!$L$8","v":10},null,null,"Team",{"$f":"DRAW!$B$8","v":2},"V","Team",{"$f":"DRAW!$N$8","v":12}]
["Ends","Shots","Total",null,"Shots","Total",null,"Ends","Shots","Total",null,"Shots","Total",null,"Ends","Shots","Total",null,"Shots","Total","Ends","Shots","Total",null,"Shots","Total",null,"Ends","Shots","Total",null,"Shots","Total",null,"Ends","Shots","Total",null,"Shots","Total"]
[1,{"$nulls":6},1,{"$nulls":6},1,{"$nulls":5},1,{"$nulls":6},1,{"$nulls":6},1]
[2,{"$nulls":6},2,{"$nulls":6},2,{"$nulls":5},2,{"$nulls":6},2,{"$nulls":6},2]
[3,{"$nulls":6},3,{"$nulls":6},3,{"$nulls":5},3,{"$nulls":6},3,{"$nulls":6},3]
[4,{"$nulls":6},4,{"$nulls":6},4,{"$nulls":5},4,{"$nulls":6},4,{"$nulls":6},4]
[5,{"$nulls":6},5,{"$nulls":6},5,{"$nulls":5},5,{"$nulls":6},5,{"$nulls":6},5]
[6,{"$nulls":6},6,{"$nulls":6},6,{"$nulls":5},6,{"$nulls":6},6,{"$nulls":6},6]
[7,{"$nulls":6},7,{"$nulls":6},7,{"$nulls":5},7,{"$nulls":6},7,{"$nulls":6},7]
[8,{"$nulls":6},8,{"$nulls":6},8,{"$nulls":5},8,{"$nulls":6},8,{"$nulls":6},8]
[9,{"$nulls":6},9,{"$nulls":6},9,{"$nulls":5},9,{"$nulls":6},9,{"$nulls":6},9]
[10,{"$nulls":6},10,{"$nulls":6},10,{"$nulls":5},10,{"$nulls":6},10,{"$nulls":6},10]
[11,{"$nulls":6},11,{"$nulls":6},11,{"$nulls":5},11,{"$nulls":6},11,{"$nulls":6},11]
[12,{"$nulls":6},12,{"$nulls":6},12,{"$nulls":5},12,{"$nulls":6},12,{"$nulls":6},12]
[13,{"$nulls":6},13,{"$nulls":6},13,{"$nulls":5},13,{"$nulls":6},13,{"$nulls":6},13]
[14,{"$nulls":6},14,{"$nulls":6},14,{"$nulls":5},14,{"$nulls":6},14,{"$nulls":6},14]
[15,{"$nulls":6},15,{"$nulls":6},15,{"$nulls":5},15,{"$nulls":6},15,{"$nulls":6},15]
[16,{"$nulls":6},16,{"$nulls":6},16,{"$nulls":5},16,{"$nulls":6},16,{"$nulls":6},16]
[17,{"$nulls":6},17,{"$nulls":6},17,{"$nulls":5},17,{"$nulls":6},17,{"$nulls":6},17]
[18,{"$nulls":6},18,{"$nulls":6},18,{"$nulls":5},18,{"$nulls":6},18,{"$nulls":6},18]
["Total","Shots",null,null,"Shots",null,null,"Total","Shots",null,null,"Shots",null,null,"Total","Shots",null,null,"Shots",null,"Total","Shots",null,null,"Shots",null,null,"Total","Shots",null,null,"Shots",null,null,"Total","Shots",null,null,"Shots"]
[null,"Ends",null,null,"Ends",{"$nulls":3},"Ends",null,null,"Ends",{"$nulls":3},"Ends",null,null,"Ends",null,null,"Ends",null,null,"Ends",{"$nulls":3},"Ends",null,null,"Ends",{"$nulls":3},"Ends",null,null,"Ends"]
["1st Game ",{"$nulls":6},"2nd Game ",{"$nulls":6},"3rd Game ",{"$nulls":5},"4th Game",{"$nulls":6},"5th Game",{"$nulls":6},"6th Game"]
["Team No",null,null,"Rink No",{"$nulls":3},"Team No",null,null,"Rink No",{"$nulls":3},"Team No",null,null,"Rink No",null,null,"Team No",null,null,"Rink No",{"$nulls":3},"Team No",null,null,"Rink No",{"$nulls":3},"Team No",null,null,"Rink No"]
[]
[{"$f":"DRAW!$B$9","v":3},null,null,{"$f":"DRAW!$E$9","v":2},{"$nulls":3},{"$f":"DRAW!$B$9","v":3},null,null,{"$f":"DRAW!$G$9","v":10},{"$nulls":3},{"$f":"DRAW!$B$9","v":3},null,null,{"$f":"DRAW!$I$9","v":15},null,null,{"$f":"DRAW!$B$9","v":3},null,null,{"$f":"DRAW!$K$9","v":23},{"$nulls":3},{"$f":"DRAW!$B$9","v":3},null,null,{"$f":"DRAW!$M$9","v":11},{"$nulls":3},{"$f":"DRAW!$B$9","v":3},null,null,{"$f":"DRAW!$O$9","v":18}]
[null,"Team",{"$f":"DRAW!$B$9","v":3},"V","Team",{"$f":"DRAW!$D$9","v":54},null,null,"Team",{"$f":"DRAW!$B$9","v":3},"V","Team",{"$f":"DRAW!$F$9","v":1},null,null,"Team",{"$f":"DRAW!$B$9","v":3},"V","Team",{"$f":"DRAW!$H$9","v":7},null,"Team",{"$f":"DRAW!$B$9","v":3},"V","Team",{"$f":"DRAW!$J$9","v":5},null,null,"Team",{"$f":"DRAW!$B$9","v":3},"V","Team",{"$f":"DRAW!$L$9","v":9},null,null,"Team",{"$f":"DRAW!$B$9","v":3},"V","Team",{"$f":"DRAW!$N$9","v":11}]
["Ends","Shots","Total",null,"Shots","Total",null,"Ends","Shots","Total",null,"Shots","Total",null,"Ends","Shots","Total",null,"Shots","Total","Ends","Shots","Total",null,"Shots","Total",null,"Ends","Shots","Total",null,"Shots","Total",null,"Ends","Shots","Total",null,"Shots","Total"]
[1,{"$nulls":6},1,{"$nulls":6},1,{"$nulls":5},1,{"$nulls":6},1,{"$nulls":6},1]
[2,{"$nulls":6},2,{"$nulls":6},2,{"$nulls":5},2,{"$nulls":6},2,{"$nulls":6},2]
[3,{"$nulls":6},3,{"$nulls":6},3,{"$nulls":5},3,{"$nulls":6},3,{"$nulls":6},3]
[4,{"$nulls":6},4,{"$nulls":6},4,{"$nulls":5},4,{"$nulls":6},4,{"$nulls":6},4]
[5,{"$nulls":6},5,{"$nulls":6},5,{"$nulls":5},5,{"$nulls":6},5,{"$nulls":6},5]
[6,{"$nulls":6},6,{"$nulls":6},6,{"$nulls":5},6,{"$nulls":6},6,{"$nulls":6},6]
[7,{"$nulls":6},7,{"$nulls":6},7,{"$nulls":5},7,{"$nulls":6},7,{"$nulls":6},7]
[8,{"$nulls":6},8,{"$nulls":6},8,{"$nulls":5},8,{"$nulls":6},8,{"$nulls":6},8]
[9,{"$nulls":6},9,{"$nulls":6},9,{"$nulls":5},9,{"$nulls":6},9,{"$nulls":6},9]
[10,{"$nulls":6},10,{"$nulls":6},10,{"$nulls":5},10,{"$nulls":6},10,{"$nulls":6},10]
[11,{"$nulls":6},11,{"$nulls":6},11,{"$nulls":5},11,{"$nulls":6},11,{"$nulls":6},11]
[12,{"$nulls":6},12,{"$nulls":6},12,{"$nulls":5},12,{"$nulls":6},12,{"$nulls":6},12]
[13,{"$nulls":6},13,{"$nulls":6},13,{"$nulls":5},13,{"$nulls":6},13,{"$nulls":6},13]
[14,{"$nulls":6},14,{"$nulls":6},14,{"$nulls":5},14,{"$nulls":6},14,{"$nulls":6},14]
[15,{"$nulls":6},15,{"$nulls":6},15,{"$nulls":5},15,{"$nulls":6},15,{"$nulls":6},15]
[16,{"$nulls":6},16,{"$nulls":6},16,{"$nulls":5},16,{"$nulls":6},16,{"$nulls":6},16]
[17,{"$nulls":6},17,{"$nulls":6},17,{"$nulls":5},17,{"$nulls":6},17,{"$nulls":6},17]
[18,{"$nulls":6},18,{"$nulls":6},18,{"$nulls":5},18,{"$nulls":6},18,{"$nulls":6},18]
["Total","Shots",null,null,"Shots",null,null,"Total","Shots",null,null,"Shots",null,null,"Total","Shots",null,null,"Shots",null,"Total","Shots",null,null,"Shots",null,null,"Total","Shots",null,null,"Shots",null,null,"Total","Shots",null,null,"Shots"]
[null,"Ends",null,null,"Ends",{"$nulls":3},"Ends",null,null,"Ends",{"$nulls":3},"Ends",null,null,"Ends",null,null,"Ends",null,null,"Ends",{"$nulls":3},"Ends",null,null,"Ends",{"$nulls":3},"Ends",null,null,"Ends"]
[]
[]
["1st Game ",{"$nulls":6},"2nd Game ",{"$nulls":6},"3rd Game ",{"$nulls":5},"4th Game",{"$nulls":6},"5th Game",{"$nulls":6},"6th Game"]
["Team No",null,null,"Rink No",{"$nulls":3},"Team No",null,null,"Rink No",{"$nulls":3},"Team No",null,null,"Rink No",null,null,"Team No",null,null,"Rink No",{"$nulls":3},"Team No",null,null,"Rink No",{"$nulls":3},"Team No",null,null,"Rink No"]
[]
[{"$f":"DRAW!$B$10","v":4},null,null,{"$f":"DRAW!$E$10","v":3},{"$nulls":3},{"$f":"DRAW!$B$10","v":4},null,null,{"$f":"DRAW!$G$10","v":11},{"$nulls":3},{"$f":"DRAW!$B$10","v":4},null,null,{"$f":"DRAW!$I$10","v":19},null,null,{"$f":"DRAW!$B$10","v":4},null,null,{"$f":"DRAW!$K$10","v":22},{"$nulls":3},{"$f":"DRAW!$B$10","v":4},null,null,{"$f":"DRAW!$M$10","v":12},{"$nulls":3},{"$f":"DRAW!$B$10","v":4},null,null,{"$f":"DRAW!$O$10","v":21}]
[null,"Team",{"$f":"DRAW!$B$10","v":4},"V","Team",{"$f":"DRAW!$D$10","v":53},null,null,"Team",{"$f":"DRAW!$B$10","v":4},"V","Team",{"$f":"DRAW!$F$10","v":2},null,null,"Team",{"$f":"DRAW!$B$10","v":4},"V","Team",{"$f":"DRAW!$H$10","v":6},null,"Team",{"$f":"DRAW!$B$10","v":4},"V","Team",{"$f":"DRAW!$J$10","v":1},null,null,"Team",{"$f":"DRAW!$B$10","v":4},"V","Team",{"$f":"DRAW!$L$10","v":8},null,null,"Team",{"$f":"DRAW!$B$10","v":4},"V","Team",{"$f":"DRAW!$N$10","v":10}]
["Ends","Shots","Total",null,"Shots","Total",null,"Ends","Shots","Total",null,"Shots","Total",null,"Ends","Shots","Total",null,"Shots","Total","Ends","Shots","Total",null,"Shots","Total",null,"Ends","Shots","Total",null,"Shots","Total",null,"Ends","Shots","Total",null,"Shots","Total"]
[1,{"$nulls":6},1,{"$nulls":6},1,{"$nulls":5},1,{"$nulls":6},1,{"$nulls":6},1]
[2,{"$nulls":6},2,{"$nulls":6},2,{"$nulls":5},2,{"$nulls":6},2,{"$nulls":6},2]
[3,{"$nulls":6},3,{"$nulls":6},3,{"$nulls":5},3,{"$nulls":6},3,{"$nulls":6},3]
[4,{"$nulls":6},4,{"$nulls":6},4,{"$nulls":5},4,{"$nulls":6},4,{"$nulls":6},4]
[5,{"$nulls":6},5,{"$nulls":6},5,{"$nulls":5},5,{"$nulls":6},5,{"$nulls":6},5]
[6,{"$nulls":6},6,{"$nulls":6},6,{"$nulls":5},6,{"$nulls":6},6,{"$nulls":6},6]
[7,{"$nulls":6},7,{"$nulls":6},7,{"$nulls":5},7,{"$nulls":6},7,{"$nulls":6},7]
[8,{"$nulls":6},8,{"$nulls":6},8,{"$nulls":5},8,{"$nulls":6},8,{"$nulls":6},8]
[9,{"$nulls":6},9,{"$nulls":6},9,{"$nulls":5},9,{"$nulls":6},9,{"$nulls":6},9]
[10,{"$nulls":6},10,{"$nulls":6},10,{"$nulls":5},10,{"$nulls":6},10,{"$nulls":6},10]
[11,{"$nulls":6},11,{"$nulls":6},11,{"$nulls":5},11,{"$nulls":6},11,{"$nulls":6},11]
[12,{"$nulls":6},12,{"$nulls":6},12,{"$nulls":5},12,{"$nulls":6},12,{"$nulls":6},12]
[13,{"$nulls":6},13,{"$nulls":6},13,{"$nulls":5},13,{"$nulls":6},13,{"$nulls":6},13]
[14,{"$nulls":6},14,{"$nulls":6},14,{"$nulls":5},14,{"$nulls":6},14,{"$nulls":6},14]
[15,{"$nulls":6},15,{"$nulls":6},15,{"$nulls":5},15,{"$nulls":6},15,{"$nulls":6},15]
[16,{"$nulls":6},16,{"$nulls":6},16,{"$nulls":5},16,{"$nulls":6},16,{"$nulls":6},16]
[17,{"$nulls":6},17,{"$nulls":6},17,{"$nulls":5},17,{"$nulls":6},17,{"$nulls":6},17]
[18,{"$nulls":6},18,{"$nulls":6},18,{"$nulls":5},18,{"$nulls":6},18,{"$nulls":6},18]
["Total","Shots",null,null,"Shots",null,null,"Total","Shots",null,null,"Shots",null,null,"Total","Shots",null,null,"Shots",null,"Total","Shots",null,null,"Shots",null,null,"Total","Shots",null,null,"Shots",null,null,"Total","Shots",null,null,"Shots"]
[null,"Ends",null,null,"Ends",{"$nulls":3},"Ends",null,null,"Ends",{"$nulls":3},"Ends",null,null,"Ends",null,null,"Ends",null,null,"Ends",{"$nulls":3},"Ends",null,null,"Ends",{"$nulls":3},"Ends",null,null,"Ends"]
["1st Game ",{"$nulls":6},"2nd Game ",{"$nulls":6},"3rd Game ",{"$nulls":5},"4th Game",{"$nulls":6},"5th Game",{"$nulls":6},"6th Game"]
["Team No",null,null,"Rink No",{"$nulls":3},"Team No",null,null,"Rink No",{"$nulls":3},"Team No",null,null,"Rink No",null,null,"Team No",null,null,"Rink No",{"$nulls":3},"Team No",null,null,"Rink No",{"$nulls":3},"Team No",null,null,"Rink No"]
[]
[{"$f":"DRAW!$B$11","v":5},null,null,{"$f":"DRAW!$E$11","v":4},{"$nulls":3},{"$f":"DRAW!$B$11","v":5},null,null,{"$f":"DRAW!$G$11","v":8},{"$nulls":3},{"$f":"DRAW!$B$11","v":5},null,null,{"$f":"DRAW!$I$11","v":20},null,null,{"$f":"DRAW!$B$11","v":5},null,null,{"$f":"DRAW!$K$11","v":23},{"$nulls":3},{"$f":"DRAW!$B$11","v":5},null,null,{"$f":"DRAW!$M$11","v":14},{"$nulls":3},{"$f":"DRAW!$B$11","v":5},null,null,{"$f":"DRAW!$O$11","v":17}]
[null,"Team",{"$f":"DRAW!$B$11","v":5},"V","Team",{"$f":"DRAW!$D$11","v":52},null,null,"Team",{"$f":"DRAW!$B$11","v":5},"V","Team",{"$f":"DRAW!$F$11","v":54},null,null,"Team",{"$f":"DRAW!$B$11","v":5},"V","Team",{"$f":"DRAW!$H$11","v":1},null,"Team",{"$f":"DRAW!$B$11","v":5},"V","Team",{"$f":"DRAW!$J$11","v":3},null,null,"Team",{"$f":"DRAW!$B$11","v":5},"V","Team",{"$f":"DRAW!$L$11","v":7},null,null,"Team",{"$f":"DRAW!$B$11","v":5},"V","Team",{"$f":"DRAW!$N$11","v":9}]
["Ends","Shots","Total",null,"Shots","Total",null,"Ends","Shots","Total",null,"Shots","Total",null,"Ends","Shots","Total",null,"Shots","Total","Ends","Shots","Total",null,"Shots","Total",null,"Ends","Shots","Total",null,"Shots","Total",null,"Ends","Shots","Total",null,"Shots","Total"]
[1,{"$nulls":6},1,{"$nulls":6},1,{"$nulls":5},1,{"$nulls":6},1,{"$nulls":6},1]
[2,{"$nulls":6},2,{"$nulls":6},2,{"$nulls":5},2,{"$nulls":6},2,{"$nulls":6},2]
[3,{"$nulls":6},3,{"$nulls":6},3,{"$nulls":5},3,{"$nulls":6},3,{"$nulls":6},3]
[4,{"$nulls":6},4,{"$nulls":6},4,{"$nulls":5},4,{"$nulls":6},4,{"$nulls":6},4]
[5,{"$nulls":6},5,{"$nulls":6},5,{"$nulls":5},5,{"$nulls":6},5,{"$nulls":6},5]
[6,{"$nulls":6},6,{"$nulls":6},6,{"$nulls":5},6,{"$nulls":6},6,{"$nulls":6},6]
[7,{"$nulls":6},7,{"$nulls":6},7,{"$nulls":5},7,{"$nulls":6},7,{"$nulls":6},7]
[8,{"$nulls":6},8,{"$nulls":6},8,{"$nulls":5},8,{"$nulls":6},8,{"$nulls":6},8]
[9,{"$nulls":6},9,{"$nulls":6},9,{"$nulls":5},9,{"$nulls":6},9,{"$nulls":6},9]
[10,{"$nulls":6},10,{"$nulls":6},10,{"$nulls":5},10,{"$nulls":6},10,{"$nulls":6},10]
[11,{"$nulls":6},11,{"$nulls":6},11,{"$nulls":5},11,{"$nulls":6},11,{"$nulls":6},11]
[12,{"$nulls":6},12,{"$nulls":6},12,{"$nulls":5},12,{"$nulls":6},12,{"$nulls":6},12]
[13,{"$nulls":6},13,{"$nulls":6},13,{"$nulls":5},13,{"$nulls":6},13,{"$nulls":6},13]
[14,{"$nulls":6},14,{"$nulls":6},14,{"$nulls":5},14,{"$nulls":6},14,{"$nulls":6},14]
[15,{"$nulls":6},15,{"$nulls":6},15,{"$nulls":5},15,{"$nulls":6},15,{"$nulls":6},15]
[16,{"$nulls":6},16,{"$nulls":6},16,{"$nulls":5},16,{"$nulls":6},16,{"$nulls":6},16]
[17,{"$nulls":6},17,{"$nulls":6},17,{"$nulls":5},17,{"$nulls":6},17,{"$nulls":6},17]
[18,{"$nulls":6},18,{"$nulls":6},18,{"$nulls":5},18,{"$nulls":6},18,{"$nulls":6},18]
["Total","Shots",null,null,"Shots",null,null,"Total","Shots",null,null,"Shots",null,null,"Total","Shots",null,null,"Shots",null,"Total","Shots",null,null,"Shots",null,null,"Total","Shots",null,null,"Shots",null,null,"Total","Shots",null,null,"Shots"]
[null,"Ends",null,null,"Ends",{"$nulls":3},"Ends",null,null,"Ends",{"$nulls":3},"Ends",null,null,"Ends",null,null,"Ends",null,null,"Ends",{"$nulls":3},"Ends",null,null,"Ends",{"$nulls":3},"Ends",null,null,"Ends"]
[]
[]
["1st Game ",{"$nulls":6},"2nd Game ",{"$nulls":6},"3rd Game ",{"$nulls":5},"4th Game",{"$nulls":6},"5th Game",{"$nulls":6},"6th Game"]
["Team No",null,null,"Rink No",{"$nulls":3},"Team No",null,null,"Rink No",{"$nulls":3},"Team No",null,null,"Rink No",null,null,"Team No",null,null,"Rink No",{"$nulls":3},"Team No",null,null,"Rink No",{"$nulls":3},"Team No",null,null,"Rink No"]
[]
[{"$f":"DRAW!$B$12","v":6},null,null,{"$f":"DRAW!$E$12","v":5},{"$nulls":3},{"$f":"DRAW!$B$12","v":6},null,null,{"$f":"DRAW!$G$12","v":14},{"$nulls":3},{"$f":"DRAW!$B$12","v":6},null,null,{"$f":"DRAW!$I$12","v":19},null,null,{"$f":"DRAW!$B$12","v":6},null,null,{"$f":"DRAW!$K$12","v":24},{"$nulls":3},{"$f":"DRAW!$B$12","v":6},null,null,{"$f":"DRAW!$M$12","v":13},{"$nulls":3},{"$f":"DRAW!$B$12","v":6},null,null,{"$f":"DRAW!$O$12","v":15}]
[null,"Team",{"$f":"DRAW!$B$12","v":6},"V","Team",{"$f":"DRAW!$D$12","v":51},null,null,"Team",{"$f":"DRAW!$B$12","v":6},"V","Team",{"$f":"DRAW!$F$12","v":53},null,null,"Team",{"$f":"DRAW!$B$12","v":6},"V","Team",{"$f":"DRAW!$H$12","v":4},null,"Team",{"$f":"DRAW!$B$12","v":6},"V","Team",{"$f":"DRAW!$J$12","v":2},null,null,"Team",{"$f":"DRAW!$B$12","v":6},"V","Team",{"$f":"DRAW!$L$12","v":1},null,null,"Team",{"$f":"DRAW!$B$12","v":6},"V","Team",{"$f":"DRAW!$N$12","v":8}]
["Ends","Shots","Total",null,"Shots","Total",null,"Ends","Shots","Total",null,"Shots","Total",null,"Ends","Shots","Total",null,"Shots","Total","Ends","Shots","Total",null,"Shots","Total",null,"Ends","Shots","Total",null,"Shots","Total",null,"Ends","Shots","Total",null,"Shots","Total"]
[1,{"$nulls":6},1,{"$nulls":6},1,{"$nulls":5},1,{"$nulls":6},1,{"$nulls":6},1]
[2,{"$nulls":6},2,{"$nulls":6},2,{"$nulls":5},2,{"$nulls":6},2,{"$nulls":6},2]
[3,{"$nulls":6},3,{"$nulls":6},3,{"$nulls":5},3,{"$nulls":6},3,{"$nulls":6},3]
[4,{"$nulls":6},4,{"$nulls":6},4,{"$nulls":5},4,{"$nulls":6},4,{"$nulls":6},4]
[5,{"$nulls":6},5,{"$nulls":6},5,{"$nulls":5},5,{"$nulls":6},5,{"$nulls":6},5]
[6,{"$nulls":6},6,{"$nulls":6},6,{"$nulls":5},6,{"$nulls":6},6,{"$nulls":6},6]
[7,{"$nulls":6},7,{"$nulls":6},7,{"$nulls":5},7,{"$nulls":6},7,{"$nulls":6},7]
[8,{"$nulls":6},8,{"$nulls":6},8,{"$nulls":5},8,{"$nulls":6},8,{"$nulls":6},8]
[9,{"$nulls":6},9,{"$nulls":6},9,{"$nulls":5},9,{"$nulls":6},9,{"$nulls":6},9]
[10,{"$nulls":6},10,{"$nulls":6},10,{"$nulls":5},10,{"$nulls":6},10,{"$nulls":6},10]
[11,{"$nulls":6},11,{"$nulls":6},11,{"$nulls":5},11,{"$nulls":6},11,{"$nulls":6},11]
[12,{"$nulls":6},12,{"$nulls":6},12,{"$nulls":5},12,{"$nulls":6},12,{"$nulls":6},12]
[13,{"$nulls":6},13,{"$nulls":6},13,{"$nulls":5},13,{"$nulls":6},13,{"$nulls":6},13]
[14,{"$nulls":6},14,{"$nulls":6},14,{"$nulls":5},14,{"$nulls":6},14,{"$nulls":6},14]
[15,{"$nulls":6},15,{"$nulls":6},15,{"$nulls":5},15,{"$nulls":6},15,{"$nulls":6},15]
[16,{"$nulls":6},16,{"$nulls":6},16,{"$nulls":5},16,{"$nulls":6},16,{"$nulls":6},16]
[17,{"$nulls":6},17,{"$nulls":6},17,{"$nulls":5},17,{"$nulls":6},17,{"$nulls":6},17]
[18,{"$nulls":6},18,{"$nulls":6},18,{"$nulls":5},18,{"$nulls":6},18,{"$nulls":6},18]
["Total","Shots",null,null,"Shots",null,null,"Total","Shots",null,null,"Shots",null,null,"Total","Shots",null,null,"Shots",null,"Total","Shots",null,null,"Shots",null,null,"Total","Shots",null,null,"Shots",null,null,"Total","Shots",null,null,"Shots"]
[null,"Ends",null,null,"Ends",{"$nulls":3},"Ends",null,null,"Ends",{"$nulls":3},"Ends",null,null,"Ends",null,null,"Ends",null,null,"Ends",{"$nulls":3},"Ends",null,null,"Ends",{"$nulls":3},"Ends",null,null,"Ends"]
["1st Game ",{"$nulls":6},"2nd Game ",{"$nulls":6},"3rd Game ",{"$nulls":5},"4th Game",{"$nulls":6},"5th Game",{"$nulls":6},"6th Game"]
["Team No",null,null,"Rink No",{"$nulls":3},"Team No",null,null,"Rink No",{"$nulls":3},"Team No",null,null,"Rink No",null,null,"Team No",null,null,"Rink No",{"$nulls":3},"Team No",null,null,"Rink No",{"$nulls":3},"Team No",null,null,"Rink No"]
[]
[{"$f":"DRAW!$B$13","v":7},null,null,{"$f":"DRAW!$E$13","v":6},{"$nulls":3},{"$f":"DRAW!$B$13","v":7},null,null,{"$f":"DRAW!$G$13","v":13},{"$nulls":3},{"$f":"DRAW!$B$13","v":7},null,null,{"$f":"DRAW!$I$13","v":15},null,null,{"$f":"DRAW!$B$13","v":7},null,null,{"$f":"DRAW!$K$13","v":3},{"$nulls":3},{"$f":"DRAW!$B$13","v":7},null,null,{"$f":"DRAW!$M$13","v":14},{"$nulls":3},{"$f":"DRAW!$B$13","v":7},null,null,{"$f":"DRAW!$O$13","v":16}]
[null,"Team",{"$f":"DRAW!$B$13","v":7},"V","Team",{"$f":"DRAW!$D$13","v":50},null,null,"Team",{"$f":"DRAW!$B$13","v":7},"V","Team",{"$f":"DRAW!$F$13","v":52},null,null,"Team",{"$f":"DRAW!$B$13","v":7},"V","Team",{"$f":"DRAW!$H$13","v":3},null,"Team",{"$f":"DRAW!$B$13","v":7},"V","Team",{"$f":"DRAW!$J$13","v":54},null,null,"Team",{"$f":"DRAW!$B$13","v":7},"V","Team",{"$f":"DRAW!$L$13","v":5},null,null,"Team",{"$f":"DRAW!$B$13","v":7},"V","Team",{"$f":"DRAW!$N$13","v":1}]
["Ends","Shots","Total",null,"Shots","Total",null,"Ends","Shots","Total",null,"Shots","Total",null,"Ends","Shots","Total",null,"Shots","Total","Ends","Shots","Total",null,"Shots","Total",null,"Ends","Shots","Total",null,"Shots","Total",null,"Ends","Shots","Total",null,"Shots","Total"]
[1,{"$nulls":6},1,{"$nulls":6},1,{"$nulls":5},1,{"$nulls":6},1,{"$nulls":6},1]
[2,{"$nulls":6},2,{"$nulls":6},2,{"$nulls":5},2,{"$nulls":6},2,{"$nulls":6},2]
[3,{"$nulls":6},3,{"$nulls":6},3,{"$nulls":5},3,{"$nulls":6},3,{"$nulls":6},3]
[4,{"$nulls":6},4,{"$nulls":6},4,{"$nulls":5},4,{"$nulls":6},4,{"$nulls":6},4]
[5,{"$nulls":6},5,{"$nulls":6},5,{"$nulls":5},5,{"$nulls":6},5,{"$nulls":6},5]
[6,{"$nulls":6},6,{"$nulls":6},6,{"$nulls":5},6,{"$nulls":6},6,{"$nulls":6},6]
[7,{"$nulls":6},7,{"$nulls":6},7,{"$nulls":5},7,{"$nulls":6},7,{"$nulls":6},7]
[8,{"$nulls":6},8,{"$nulls":6},8,{"$nulls":5},8,{"$nulls":6},8,{"$nulls":6},8]
[9,{"$nulls":6},9,{"$nulls":6},9,{"$nulls":5},9,{"$nulls":6},9,{"$nulls":6},9]
[10,{"$nulls":6},10,{"$nulls":6},10,{"$nulls":5},10,{"$nulls":6},10,{"$nulls":6},10]
[11,{"$nulls":6},11,{"$nulls":6},11,{"$nulls":5},11,{"$nulls":6},11,{"$nulls":6},11]
[12,{"$nulls":6},12,{"$nulls":6},12,{"$nulls":5},12,{"$nulls":6},12,{"$nulls":6},12]
[13,{"$nulls":6},13,{"$nulls":6},13,{"$nulls":5},13,{"$nulls":6},13,{"$nulls":6},13]
[14,{"$nulls":6},14,{"$nulls":6},14,{"$nulls":5},14,{"$nulls":6},14,{"$nulls":6},14]
[15,{"$nulls":6},15,{"$nulls":6},15,{"$nulls":5},15,{"$nulls":6},15,{"$nulls":6},15]
[16,{"$nulls":6},16,{"$nulls":6},16,{"$nulls":5},16,{"$nulls":6},16,{"$nulls":6},16]
[17,{"$nulls":6},17,{"$nulls":6},17,{"$nulls":5},17,{"$nulls":6},17,{"$nulls":6},17]
[18,{"$nulls":6},18,{"$nulls":6},18,{"$nulls":5},18,{"$nulls":6},18,{"$nulls":6},18]
["Total","Shots",null,null,"Shots",null,null,"Total","Shots",null,null,"Shots",null,null,"Total","Shots",null,null,"Shots",null,"Total","Shots",null,null,"Shots",null,null,"Total","Shots",null,null,"Shots",null,null,"Total","Shots",null,null,"Shots"]
[null,"Ends",null,null,"Ends",{"$nulls":3},"Ends",null,null,"Ends",{"$nulls":3},"Ends",null,null,"Ends",null,null,"Ends",null,null,"Ends",{"$nulls":3},"Ends",null,null,"Ends",{"$nulls":3},"Ends",null,null,"Ends"]
[]
[]
["1st Game ",{"$nulls":6},"2nd Game ",{"$nulls":6},"3rd Game ",{"$nulls":5},"4th Game",{"$nulls":6},"5th Game",{"$nulls":6},"6th Game"]
["Team No",null,null,"Rink No",{"$nulls":3},"Team No",null,null,"Rink No",{"$nulls":3},"Team No",null,null,"Rink No",null,null,"Team No",null,null,"Rink No",{"$nulls":3},"Team No",null,null,"Rink No",{"$nulls":3},"Team No",null,null,"Rink No"]
[]
[{"$f":"DRAW!$B$14","v":8},null,null,{"$f":"DRAW!$E$14","v":7},{"$nulls":3},{"$f":"DRAW!$B$14","v":8},null,null,{"$f":"DRAW!$G$14","v":12},{"$nulls":3},{"$f":"DRAW!$B$14","v":8},null,null,{"$f":"DRAW!$I$14","v":18},null,null,{"$f":"DRAW!$B$14","v":8},null,null,{"$f":"DRAW!$K$14","v":2},{"$nulls":3},{"$f":"DRAW!$B$14","v":8},null,null,{"$f":"DRAW!$M$14","v":12},{"$nulls":3},{"$f":"DRAW!$B$14","v":8},null,null,{"$f":"DRAW!$O$14","v":15}]
[null,"Team",{"$f":"DRAW!$B$14","v":8},"V","Team",{"$f":"DRAW!$D$14","v":49},null,null,"Team",{"$f":"DRAW!$B$14","v":8},"V","Team",{"$f":"DRAW!$F$14","v":51},null,null,"Team",{"$f":"DRAW!$B$14","v":8},"V","Team",{"$f":"DRAW!$H$14","v":2},null,"Team",{"$f":"DRAW!$B$14","v":8},"V","Team",{"$f":"DRAW!$J$14","v":53},null,null,"Team",{"$f":"DRAW!$B$14","v":8},"V","Team",{"$f":"DRAW!$L$14","v":4},null,null,"Team",{"$f":"DRAW!$B$14","v":8},"V","Team",{"$f":"DRAW!$N$14","v":6}]
["Ends","Shots","Total",null,"Shots","Total",null,"Ends","Shots","Total",null,"Shots","Total",null,"Ends","Shots","Total",null,"Shots","Total","Ends","Shots","Total",null,"Shots","Total",null,"Ends","Shots","Total",null,"Shots","Total",null,"Ends","Shots","Total",null,"Shots","Total"]
[1,{"$nulls":6},1,{"$nulls":6},1,{"$nulls":5},1,{"$nulls":6},1,{"$nulls":6},1]
[2,{"$nulls":6},2,{"$nulls":6},2,{"$nulls":5},2,{"$nulls":6},2,{"$nulls":6},2]
[3,{"$nulls":6},3,{"$nulls":6},3,{"$nulls":5},3,{"$nulls":6},3,{"$nulls":6},3]
[4,{"$nulls":6},4,{"$nulls":6},4,{"$nulls":5},4,{"$nulls":6},4,{"$nulls":6},4]
[5,{"$nulls":6},5,{"$nulls":6},5,{"$nulls":5},5,{"$nulls":6},5,{"$nulls":6},5]
[6,{"$nulls":6},6,{"$nulls":6},6,{"$nulls":5},6,{"$nulls":6},6,{"$nulls":6},6]
[7,{"$nulls":6},7,{"$nulls":6},7,{"$nulls":5},7,{"$nulls":6},7,{"$nulls":6},7]
[8,{"$nulls":6},8,{"$nulls":6},8,{"$nulls":5},8,{"$nulls":6},8,{"$nulls":6},8]
[9,{"$nulls":6},9,{"$nulls":6},9,{"$nulls":5},9,{"$nulls":6},9,{"$nulls":6},9]
[10,{"$nulls":6},10,{"$nulls":6},10,{"$nulls":5},10,{"$nulls":6},10,{"$nulls":6},10]
[11,{"$nulls":6},11,{"$nulls":6},11,{"$nulls":5},11,{"$nulls":6},11,{"$nulls":6},11]
[12,{"$nulls":6},12,{"$nulls":6},12,{"$nulls":5},12,{"$nulls":6},12,{"$nulls":6},12]
[13,{"$nulls":6},13,{"$nulls":6},13,{"$nulls":5},13,{"$nulls":6},13,{"$nulls":6},13]
[14,{"$nulls":6},14,{"$nulls":6},14,{"$nulls":5},14,{"$nulls":6},14,{"$nulls":6},14]
[15,{"$nulls":6},15,{"$nulls":6},15,{"$nulls":5},15,{"$nulls":6},15,{"$nulls":6},15]
[16,{"$nulls":6},16,{"$nulls":6},16,{"$nulls":5},16,{"$nulls":6},16,{"$nulls":6},16]
[17,{"$nulls":6},17,{"$nulls":6},17,{"$nulls":5},17,{"$nulls":6},17,{"$nulls":6},17]
[18,{"$nulls":6},18,{"$nulls":6},18,{"$nulls":5},18,{"$nulls":6},18,{"$nulls":6},18]
["Total","Shots",null,null,"Shots",null,null,"Total","Shots",null,null,"Shots",null,null,"Total","Shots",null,null,"Shots",null,"Total","Shots",null,null,"Shots",null,null,"Total","Shots",null,null,"Shots",null,null,"Total","Shots",null,null,"Shots"]
[null,"Ends",null,null,"Ends",{"$nulls":3},"Ends",null,null,"Ends",{"$nulls":3},"Ends",null,null,"Ends",null,null,"Ends",null,null,"Ends",{"$nulls":3},"Ends",null,null,"Ends",{"$nulls":3},"Ends",null,null,"Ends"]
["1st Game ",{"$nulls":6},"2nd Game ",{"$nulls":6},"3rd Game ",{"$nulls":5},"4th Game",{"$nulls":6},"5th Game",{"$nulls":6},"6th Game"]
["Team No",null,null,"Rink No",{"$nulls":3},"Team No",null,null,"Rink No",{"$nulls":3},"Team No",null,null,"Rink No",null,null,"Team No",null,null,"Rink No",{"$nulls":3},"Team No",null,null,"Rink No",{"$nulls":3},"Team No",null,null,"Rink No"]
[]
[{"$f":"DRAW!$B$15","v":9},null,null,{"$f":"DRAW!$E$15","v":8},{"$nulls":3},{"$f":"DRAW!$B$15","v":9},null,null,{"$f":"DRAW!$G$15","v":20},{"$nulls":3},{"$f":"DRAW!$B$15","v":9},null,null,{"$f":"DRAW!$I$15","v":26},null,null,{"$f":"DRAW!$B$15","v":9},null,null,{"$f":"DRAW!$K$15","v":5},{"$nulls":3},{"$f":"DRAW!$B$15","v":9},null,null,{"$f":"DRAW!$M$15","v":11},{"$nulls":3},{"$f":"DRAW!$B$15","v":9},null,null,{"$f":"DRAW!$O$15","v":17}]
[null,"Team",{"$f":"DRAW!$B$15","v":9},"V","Team",{"$f":"DRAW!$D$15","v":48},null,null,"Team",{"$f":"DRAW!$B$15","v":9},"V","Team",{"$f":"DRAW!$F$15","v":50},null,null,"Team",{"$f":"DRAW!$B$15","v":9},"V","Team",{"$f":"DRAW!$H$15","v":54},null,"Team",{"$f":"DRAW!$B$15","v":9},"V","Team",{"$f":"DRAW!$J$15","v":52},null,null,"Team",{"$f":"DRAW!$B$15","v":9},"V","Team",{"$f":"DRAW!$L$15","v":3},null,null,"Team",{"$f":"DRAW!$B$15","v":9},"V","Team",{"$f":"DRAW!$N$15","v":5}]
["Ends","Shots","Total",null,"Shots","Total",null,"Ends","Shots","Total",null,"Shots","Total",null,"Ends","Shots","Total",null,"Shots","Total","Ends","Shots","Total",null,"Shots","Total",null,"Ends","Shots","Total",null,"Shots","Total",null,"Ends","Shots","Total",null,"Shots","Total"]
[1,{"$nulls":6},1,{"$nulls":6},1,{"$nulls":5},1,{"$nulls":6},1,{"$nulls":6},1]
[2,{"$nulls":6},2,{"$nulls":6},2,{"$nulls":5},2,{"$nulls":6},2,{"$nulls":6},2]
[3,{"$nulls":6},3,{"$nulls":6},3,{"$nulls":5},3,{"$nulls":6},3,{"$nulls":6},3]
[4,{"$nulls":6},4,{"$nulls":6},4,{"$nulls":5},4,{"$nulls":6},4,{"$nulls":6},4]
[5,{"$nulls":6},5,{"$nulls":6},5,{"$nulls":5},5,{"$nulls":6},5,{"$nulls":6},5]
[6,{"$nulls":6},6,{"$nulls":6},6,{"$nulls":5},6,{"$nulls":6},6,{"$nulls":6},6]
[7,{"$nulls":6},7,{"$nulls":6},7,{"$nulls":5},7,{"$nulls":6},7,{"$nulls":6},7]
[8,{"$nulls":6},8,{"$nulls":6},8,{"$nulls":5},8,{"$nulls":6},8,{"$nulls":6},8]
[9,{"$nulls":6},9,{"$nulls":6},9,{"$nulls":5},9,{"$nulls":6},9,{"$nulls":6},9]
[10,{"$nulls":6},10,{"$nulls":6},10,{"$nulls":5},10,{"$nulls":6},10,{"$nulls":6},10]
[11,{"$nulls":6},11,{"$nulls":6},11,{"$nulls":5},11,{"$nulls":6},11,{"$nulls":6},11]
[12,{"$nulls":6},12,{"$nulls":6},12,{"$nulls":5},12,{"$nulls":6},12,{"$nulls":6},12]
[13,{"$nulls":6},13,{"$nulls":6},13,{"$nulls":5},13,{"$nulls":6},13,{"$nulls":6},13]
[14,{"$nulls":6},14,{"$nulls":6},14,{"$nulls":5},14,{"$nulls":6},14,{"$nulls":6},14]
[15,{"$nulls":6},15,{"$nulls":6},15,{"$nulls":5},15,{"$nulls":6},15,{"$nulls":6},15]
[16,{"$nulls":6},16,{"$nulls":6},16,{"$nulls":5},16,{"$nulls":6},16,{"$nulls":6},16]
[17,{"$nulls":6},17,{"$nulls":6},17,{"$nulls":5},17,{"$nulls":6},17,{"$nulls":6},17]
[18,{"$nulls":6},18,{"$nulls":6},18,{"$nulls":5},18,{"$nulls":6},18,{"$nulls":6},18]
["Total","Shots",null,null,"Shots",null,null,"Total","Shots",null,null,"Shots",null,null,"Total","Shots",null,null,"Shots",null,"Total","Shots",null,null,"Shots",null,null,"Total","Shots",null,null,"Shots",null,null,"Total","Shots",null,null,"Shots"]
[null,"Ends",null,null,"Ends",{"$nulls":3},"Ends",null,null,"Ends",{"$nulls":3},"Ends",null,null,"Ends",null,null,"Ends",null,null,"Ends",{"$nulls":3},"Ends",null,null,"Ends",{"$nulls":3},"Ends",null,null,"Ends"]
[]
[]
["1st Game ",{"$nulls":6},"2nd Game ",{"$nulls":6},"3rd Game ",{"$nulls":5},"4th Game",{"$nulls":6},"5th Game",{"$nulls":6},"6th Game"]
["Team No",null,null,"Rink No",{"$nulls":3},"Team No",null,null,"Rink No",{"$nulls":3},"Team No",null,null,"Rink No",null,null,"Team No",null,null,"Rink No",{"$nulls":3},"Team No",null,null,"Rink No",{"$nulls":3},"Team No",null,null,"Rink No"]
[]
[{"$f":"DRAW!$B$16","v":10},null,null,{"$f":"DRAW!$E$16","v":9},{"$nulls":3},{"$f":"DRAW!$B$16","v":10},null,null,{"$f":"DRAW!$G$16","v":16},{"$nulls":3},{"$f":"DRAW!$B$16","v":10},null,null,{"$f":"DRAW!$I$16","v":27},null,null,{"$f":"DRAW!$B$16","v":10},null,null,{"$f":"DRAW!$K$16","v":1},{"$nulls":3},{"$f":"DRAW!$B$16","v":10},null,null,{"$f":"DRAW!$M$16","v":10},{"$nulls":3},{"$f":"DRAW!$B$16","v":10},null,null,{"$f":"DRAW!$O$16","v":21}]
[null,"Team",{"$f":"DRAW!$B$16","v":10},"V","Team",{"$f":"DRAW!$D$16","v":47},null,null,"Team",{"$f":"DRAW!$B$16","v":10},"V","Team",{"$f":"DRAW!$F$16","v":49},null,null,"Team",{"$f":"DRAW!$B$16","v":10},"V","Team",{"$f":"DRAW!$H$16","v":53},null,"Team",{"$f":"DRAW!$B$16","v":10},"V","Team",{"$f":"DRAW!$J$16","v":51},null,null,"Team",{"$f":"DRAW!$B$16","v":10},"V","Team",{"$f":"DRAW!$L$16","v":2},null,null,"Team",{"$f":"DRAW!$B$16","v":10},"V","Team",{"$f":"DRAW!$N$16","v":4}]
["Ends","Shots","Total",null,"Shots","Total",null,"Ends","Shots","Total",null,"Shots","Total",null,"Ends","Shots","Total",null,"Shots","Total","Ends","Shots","Total",null,"Shots","Total",null,"Ends","Shots","Total",null,"Shots","Total",null,"Ends","Shots","Total",null,"Shots","Total"]
[1,{"$nulls":6},1,{"$nulls":6},1,{"$nulls":5},1,{"$nulls":6},1,{"$nulls":6},1]
[2,{"$nulls":6},2,{"$nulls":6},2,{"$nulls":5},2,{"$nulls":6},2,{"$nulls":6},2]
[3,{"$nulls":6},3,{"$nulls":6},3,{"$nulls":5},3,{"$nulls":6},3,{"$nulls":6},3]
[4,{"$nulls":6},4,{"$nulls":6},4,{"$nulls":5},4,{"$nulls":6},4,{"$nulls":6},4]
[5,{"$nulls":6},5,{"$nulls":6},5,{"$nulls":5},5,{"$nulls":6},5,{"$nulls":6},5]
[6,{"$nulls":6},6,{"$nulls":6},6,{"$nulls":5},6,{"$nulls":6},6,{"$nulls":6},6]
[7,{"$nulls":6},7,{"$nulls":6},7,{"$nulls":5},7,{"$nulls":6},7,{"$nulls":6},7]
[8,{"$nulls":6},8,{"$nulls":6},8,{"$nulls":5},8,{"$nulls":6},8,{"$nulls":6},8]
[9,{"$nulls":6},9,{"$nulls":6},9,{"$nulls":5},9,{"$nulls":6},9,{"$nulls":6},9]
[10,{"$nulls":6},10,{"$nulls":6},10,{"$nulls":5},10,{"$nulls":6},10,{"$nulls":6},10]
[11,{"$nulls":6},11,{"$nulls":6},11,{"$nulls":5},11,{"$nulls":6},11,{"$nulls":6},11]
[12,{"$nulls":6},12,{"$nulls":6},12,{"$nulls":5},12,{"$nulls":6},12,{"$nulls":6},12]
[13,{"$nulls":6},13,{"$nulls":6},13,{"$nulls":5},13,{"$nulls":6},13,{"$nulls":6},13]
[14,{"$nulls":6},14,{"$nulls":6},14,{"$nulls":5},14,{"$nulls":6},14,{"$nulls":6},14]
[15,{"$nulls":6},15,{"$nulls":6},15,{"$nulls":5},15,{"$nulls":6},15,{"$nulls":6},15]
[16,{"$nulls":6},16,{"$nulls":6},16,{"$nulls":5},16,{"$nulls":6},16,{"$nulls":6},16]
[17,{"$nulls":6},17,{"$nulls":6},17,{"$nulls":5},17,{"$nulls":6},17,{"$nulls":6},17]
[18,{"$nulls":6},18,{"$nulls":6},18,{"$nulls":5},18,{"$nulls":6},18,{"$nulls":6},18]
["Total","Shots",null,null,"Shots",null,null,"Total","Shots",null,null,"Shots",null,null,"Total","Shots",null,null,"Shots",null,"Total","Shots",null,null,"Shots",null,null,"Total","Shots",null,null,"Shots",null,null,"Total","Shots",null,null,"Shots"]
[null,"Ends",null,null,"Ends",{"$nulls":3},"Ends",null,null,"Ends",{"$nulls":3},"Ends",null,null,"Ends",null,null,"Ends",null,null,"Ends",{"$nulls":3},"Ends",null,null,"Ends",{"$nulls":3},"Ends",null,null,"Ends"]
["1st Game ",{"$nulls":6},"2nd Game ",{"$nulls":6},"3rd Game ",{"$nulls":5},"4th Game",{"$nulls":6},"5th Game",{"$nulls":6},"6th Game"]
["Team No",null,null,"Rink No",{"$nulls":3},"Team No",null,null,"Rink No",{"$nulls":3},"Team No",null,null,"Rink No",null,null,"Team No",null,null,"Rink No",{"$nulls":3},"Team No",null,null,"Rink No",{"$nulls":3},"Team No",null,null,"Rink No"]
[]
[{"$f":"DRAW!$B$17","v":11},null,null,{"$f":"DRAW!$E$17","v":10},{"$nulls":3},{"$f":"DRAW!$B$17","v":11},null,null,{"$f":"DRAW!$G$17","v":17},{"$nulls":3},{"$f":"DRAW!$B$17","v":11},null,null,{"$f":"DRAW!$I$17","v":21},null,null,{"$f":"DRAW!$B$17","v":11},null,null,{"$f":"DRAW!$K$17","v":4},{"$nulls":3},{"$f":"DRAW!$B$17","v":11},null,null,{"$f":"DRAW!$M$17","v":9},{"$nulls":3},{"$f":"DRAW!$B$17","v":11},null,null,{"$f":"DRAW!$O$17","v":18}]
[null,"Team",{"$f":"DRAW!$B$17","v":11},"V","Team",{"$f":"DRAW!$D$17","v":46},null,null,"Team",{"$f":"DRAW!$B$17","v":11},"V","Team",{"$f":"DRAW!$F$17","v":48},null,null,"Team",{"$f":"DRAW!$B$17","v":11},"V","Team",{"$f":"DRAW!$H$17","v":52},null,"Team",{"$f":"DRAW!$B$17","v":11},"V","Team",{"$f":"DRAW!$J$17","v":50},null,null,"Team",{"$f":"DRAW!$B$17","v":11},"V","Team",{"$f":"DRAW!$L$17","v":54},null,null,"Team",{"$f":"DRAW!$B$17","v":11},"V","Team",{"$f":"DRAW!$N$17","v":3}]
["Ends","Shots","Total",null,"Shots","Total",null,"Ends","Shots","Total",null,"Shots","Total",null,"Ends","Shots","Total",null,"Shots","Total","Ends","Shots","Total",null,"Shots","Total",null,"Ends","Shots","Total",null,"Shots","Total",null,"Ends","Shots","Total",null,"Shots","Total"]
[1,{"$nulls":6},1,{"$nulls":6},1,{"$nulls":5},1,{"$nulls":6},1,{"$nulls":6},1]
[2,{"$nulls":6},2,{"$nulls":6},2,{"$nulls":5},2,{"$nulls":6},2,{"$nulls":6},2]
[3,{"$nulls":6},3,{"$nulls":6},3,{"$nulls":5},3,{"$nulls":6},3,{"$nulls":6},3]
[4,{"$nulls":6},4,{"$nulls":6},4,{"$nulls":5},4,{"$nulls":6},4,{"$nulls":6},4]
[5,{"$nulls":6},5,{"$nulls":6},5,{"$nulls":5},5,{"$nulls":6},5,{"$nulls":6},5]
[6,{"$nulls":6},6,{"$nulls":6},6,{"$nulls":5},6,{"$nulls":6},6,{"$nulls":6},6]
[7,{"$nulls":6},7,{"$nulls":6},7,{"$nulls":5},7,{"$nulls":6},7,{"$nulls":6},7]
[8,{"$nulls":6},8,{"$nulls":6},8,{"$nulls":5},8,{"$nulls":6},8,{"$nulls":6},8]
[9,{"$nulls":6},9,{"$nulls":6},9,{"$nulls":5},9,{"$nulls":6},9,{"$nulls":6},9]
[10,{"$nulls":6},10,{"$nulls":6},10,{"$nulls":5},10,{"$nulls":6},10,{"$nulls":6},10]
[11,{"$nulls":6},11,{"$nulls":6},11,{"$nulls":5},11,{"$nulls":6},11,{"$nulls":6},11]
[12,{"$nulls":6},12,{"$nulls":6},12,{"$nulls":5},12,{"$nulls":6},12,{"$nulls":6},12]
[13,{"$nulls":6},13,{"$nulls":6},13,{"$nulls":5},13,{"$nulls":6},13,{"$nulls":6},13]
[14,{"$nulls":6},14,{"$nulls":6},14,{"$nulls":5},14,{"$nulls":6},14,{"$nulls":6},14]
[15,{"$nulls":6},15,{"$nulls":6},15,{"$nulls":5},15,{"$nulls":6},15,{"$nulls":6},15]
[16,{"$nulls":6},16,{"$nulls":6},16,{"$nulls":5},16,{"$nulls":6},16,{"$nulls":6},16]
[17,{"$nulls":6},17,{"$nulls":6},17,{"$nulls":5},17,{"$nulls":6},17,{"$nulls":6},17]
[18,{"$nulls":6},18,{"$nulls":6},18,{"$nulls":5},18,{"$nulls":6},18,{"$nulls":6},18]
["Total","Shots",null,null,"Shots",null,null,"Total","Shots",null,null,"Shots",null,null,"Total","Shots",null,null,"Shots",null,"Total","Shots",null,null,"Shots",null,null,"Total","Shots",null,null,"Shots",null,null,"Total","Shots",null,null,"Shots"]
[null,"Ends",null,null,"Ends",{"$nulls":3},"Ends",null,null,"Ends",{"$nulls":3},"Ends",null,null,"Ends",null,null,"Ends",null,null,"Ends",{"$nulls":3},"Ends",null,null,"Ends",{"$nulls":3},"Ends",null,null,"Ends"]
[]
[]
["1st Game ",{"$nulls":6},"2nd Game ",{"$nulls":6},"3rd Game ",{"$nulls":5},"4th Game",{"$nulls":6},"5th Game",{"$nulls":6},"6th Game"]
["Team No",null,null,"Rink No",{"$nulls":3},"Team No",null,null,"Rink No",{"$nulls":3},"Team No",null,null,"Rink No",null,null,"Team No",null,null,"Rink No",{"$nulls":3},"Team No",null,null,"Rink No",{"$nulls":3},"Team No",null,null,"Rink No"]
[]
[{"$f":"DRAW!$B$18","v":12},null,null,{"$f":"DRAW!$E$18","v":11},{"$nulls":3},{"$f":"DRAW!$B$18","v":12},null,null,{"$f":"DRAW!$G$18","v":15},{"$nulls":3},{"$f":"DRAW!$B$18","v":12},null,null,{"$f":"DRAW!$I$18","v":23},null,null,{"$f":"DRAW!$B$18","v":12},null,null,{"$f":"DRAW!$K$18","v":6},{"$nulls":3},{"$f":"DRAW!$B$18","v":12},null,null,{"$f":"DRAW!$M$18","v":8},{"$nulls":3},{"$f":"DRAW!$B$18","v":12},null,null,{"$f":"DRAW!$O$18","v":19}]
[null,"Team",{"$f":"DRAW!$B$18","v":12},"V","Team",{"$f":"DRAW!$D$18","v":45},null,null,"Team",{"$f":"DRAW!$B$18","v":12},"V","Team",{"$f":"DRAW!$F$18","v":47},null,null,"Team",{"$f":"DRAW!$B$18","v":12},"V","Team",{"$f":"DRAW!$H$18","v":51},null,"Team",{"$f":"DRAW!$B$18","v":12},"V","Team",{"$f":"DRAW!$J$18","v":49},null,null,"Team",{"$f":"DRAW!$B$18","v":12},"V","Team",{"$f":"DRAW!$L$18","v":53},null,null,"Team",{"$f":"DRAW!$B$18","v":12},"V","Team",{"$f":"DRAW!$N$18","v":2}]
["Ends","Shots","Total",null,"Shots","Total",null,"Ends","Shots","Total",null,"Shots","Total",null,"Ends","Shots","Total",null,"Shots","Total","Ends","Shots","Total",null,"Shots","Total",null,"Ends","Shots","Total",null,"Shots","Total",null,"Ends","Shots","Total",null,"Shots","Total"]
[1,{"$nulls":6},1,{"$nulls":6},1,{"$nulls":5},1,{"$nulls":6},1,{"$nulls":6},1]
[2,{"$nulls":6},2,{"$nulls":6},2,{"$nulls":5},2,{"$nulls":6},2,{"$nulls":6},2]
[3,{"$nulls":6},3,{"$nulls":6},3,{"$nulls":5},3,{"$nulls":6},3,{"$nulls":6},3]
[4,{"$nulls":6},4,{"$nulls":6},4,{"$nulls":5},4,{"$nulls":6},4,{"$nulls":6},4]
[5,{"$nulls":6},5,{"$nulls":6},5,{"$nulls":5},5,{"$nulls":6},5,{"$nulls":6},5]
[6,{"$nulls":6},6,{"$nulls":6},6,{"$nulls":5},6,{"$nulls":6},6,{"$nulls":6},6]
[7,{"$nulls":6},7,{"$nulls":6},7,{"$nulls":5},7,{"$nulls":6},7,{"$nulls":6},7]
[8,{"$nulls":6},8,{"$nulls":6},8,{"$nulls":5},8,{"$nulls":6},8,{"$nulls":6},8]
[9,{"$nulls":6},9,{"$nulls":6},9,{"$nulls":5},9,{"$nulls":6},9,{"$nulls":6},9]
[10,{"$nulls":6},10,{"$nulls":6},10,{"$nulls":5},10,{"$nulls":6},10,{"$nulls":6},10]
[11,{"$nulls":6},11,{"$nulls":6},11,{"$nulls":5},11,{"$nulls":6},11,{"$nulls":6},11]
[12,{"$nulls":6},12,{"$nulls":6},12,{"$nulls":5},12,{"$nulls":6},12,{"$nulls":6},12]
[13,{"$nulls":6},13,{"$nulls":6},13,{"$nulls":5},13,{"$nulls":6},13,{"$nulls":6},13]
[14,{"$nulls":6},14,{"$nulls":6},14,{"$nulls":5},14,{"$nulls":6},14,{"$nulls":6},14]
[15,{"$nulls":6},15,{"$nulls":6},15,{"$nulls":5},15,{"$nulls":6},15,{"$nulls":6},15]
[16,{"$nulls":6},16,{"$nulls":6},16,{"$nulls":5},16,{"$nulls":6},16,{"$nulls":6},16]
[17,{"$nulls":6},17,{"$nulls":6},17,{"$nulls":5},17,{"$nulls":6},17,{"$nulls":6},17]
[18,{"$nulls":6},18,{"$nulls":6},18,{"$nulls":5},18,{"$nulls":6},18,{"$nulls":6},18]
["Total","Shots",null,null,"Shots",null,null,"Total","Shots",null,null,"Shots",null,null,"Total","Shots",null,null,"Shots",null,"Total","Shots",null,null,"Shots",null,null,"Total","Shots",null,null,"Shots",null,null,"Total","Shots",null,null,"Shots"]
[null,"Ends",null,null,"Ends",{"$nulls":3},"Ends",null,null,"Ends",{"$nulls":3},"Ends",null,null,"Ends",null,null,"Ends",null,null,"Ends",{"$nulls":3},"Ends",null,null,"Ends",{"$nulls":3},"Ends",null,null,"Ends"]
["1st Game ",{"$nulls":6},"2nd Game ",{"$nulls":6},"3rd Game ",{"$nulls":5},"4th Game",{"$nulls":6},"5th Game",{"$nulls":6},"6th Game"]
["Team No",null,null,"Rink No",{"$nulls":3},"Team No",null,null,"Rink No",{"$nulls":3},"Team No",null,null,"Rink No",null,null,"Team No",null,null,"Rink No",{"$nulls":3},"Team No",null,null,"Rink No",{"$nulls":3},"Team No",null,null,"Rink No"]
[]
[{"$f":"DRAW!$B$19","v":13},null,null,{"$f":"DRAW!$E$19","v":12},{"$nulls":3},{"$f":"DRAW!$B$19","v":13},null,null,{"$f":"DRAW!$G$19","v":21},{"$nulls":3},{"$f":"DRAW!$B$19","v":13},null,null,{"$f":"DRAW!$I$19","v":24},null,null,{"$f":"DRAW!$B$19","v":13},null,null,{"$f":"DRAW!$K$19","v":9},{"$nulls":3},{"$f":"DRAW!$B$19","v":13},null,null,{"$f":"DRAW!$M$19","v":15},{"$nulls":3},{"$f":"DRAW!$B$19","v":13},null,null,{"$f":"DRAW!$O$19","v":23}]
[null,"Team",{"$f":"DRAW!$B$19","v":13},"V","Team",{"$f":"DRAW!$D$19","v":44},null,null,"Team",{"$f":"DRAW!$B$19","v":13},"V","Team",{"$f":"DRAW!$F$19","v":46},null,null,"Team",{"$f":"DRAW!$B$19","v":13},"V","Team",{"$f":"DRAW!$H$19","v":50},null,"Team",{"$f":"DRAW!$B$19","v":13},"V","Team",{"$f":"DRAW!$J$19","v":48},null,null,"Team",{"$f":"DRAW!$B$19","v":13},"V","Team",{"$f":"DRAW!$L$19","v":52},null,null,"Team",{"$f":"DRAW!$B$19","v":13},"V","Team",{"$f":"DRAW!$N$19","v":54}]
["Ends","Shots","Total",null,"Shots","Total",null,"Ends","Shots","Total",null,"Shots","Total",null,"Ends","Shots","Total",null,"Shots","Total","Ends","Shots","Total",null,"Shots","Total",null,"Ends","Shots","Total",null,"Shots","Total",null,"Ends","Shots","Total",null,"Shots","Total"]
[1,{"$nulls":6},1,{"$nulls":6},1,{"$nulls":5},1,{"$nulls":6},1,{"$nulls":6},1]
[2,{"$nulls":6},2,{"$nulls":6},2,{"$nulls":5},2,{"$nulls":6},2,{"$nulls":6},2]
[3,{"$nulls":6},3,{"$nulls":6},3,{"$nulls":5},3,{"$nulls":6},3,{"$nulls":6},3]
[4,{"$nulls":6},4,{"$nulls":6},4,{"$nulls":5},4,{"$nulls":6},4,{"$nulls":6},4]
[5,{"$nulls":6},5,{"$nulls":6},5,{"$nulls":5},5,{"$nulls":6},5,{"$nulls":6},5]
[6,{"$nulls":6},6,{"$nulls":6},6,{"$nulls":5},6,{"$nulls":6},6,{"$nulls":6},6]
[7,{"$nulls":6},7,{"$nulls":6},7,{"$nulls":5},7,{"$nulls":6},7,{"$nulls":6},7]
[8,{"$nulls":6},8,{"$nulls":6},8,{"$nulls":5},8,{"$nulls":6},8,{"$nulls":6},8]
[9,{"$nulls":6},9,{"$nulls":6},9,{"$nulls":5},9,{"$nulls":6},9,{"$nulls":6},9]
[10,{"$nulls":6},10,{"$nulls":6},10,{"$nulls":5},10,{"$nulls":6},10,{"$nulls":6},10]
[11,{"$nulls":6},11,{"$nulls":6},11,{"$nulls":5},11,{"$nulls":6},11,{"$nulls":6},11]
[12,{"$nulls":6},12,{"$nulls":6},12,{"$nulls":5},12,{"$nulls":6},12,{"$nulls":6},12]
[13,{"$nulls":6},13,{"$nulls":6},13,{"$nulls":5},13,{"$nulls":6},13,{"$nulls":6},13]
[14,{"$nulls":6},14,{"$nulls":6},14,{"$nulls":5},14,{"$nulls":6},14,{"$nulls":6},14]
[15,{"$nulls":6},15,{"$nulls":6},15,{"$nulls":5},15,{"$nulls":6},15,{"$nulls":6},15]
[16,{"$nulls":6},16,{"$nulls":6},16,{"$nulls":5},16,{"$nulls":6},16,{"$nulls":6},16]
[17,{"$nulls":6},17,{"$nulls":6},17,{"$nulls":5},17,{"$nulls":6},17,{"$nulls":6},17]
[18,{"$nulls":6},18,{"$nulls":6},18,{"$nulls":5},18,{"$nulls":6},18,{"$nulls":6},18]
["Total","Shots",null,null,"Shots",null,null,"Total","Shots",null,null,"Shots",null,null,"Total","Shots",null,null,"Shots",null,"Total","Shots",null,null,"Shots",null,null,"Total","Shots",null,null,"Shots",null,null,"Total","Shots",null,null,"Shots"]
[null,"Ends",null,null,"Ends",{"$nulls":3},"Ends",null,null,"Ends",{"$nulls":3},"Ends",null,null,"Ends",null,null,"Ends",null,null,"Ends",{"$nulls":3},"Ends",null,null,"Ends",{"$nulls":3},"Ends",null,null,"Ends"]
[]
[]
["1st Game ",{"$nulls":6},"2nd Game ",{"$nulls":6},"3rd Game ",{"$nulls":5},"4th Game",{"$nulls":6},"5th Game",{"$nulls":6},"6th Game"]
["Team No",null,null,"Rink No",{"$nulls":3},"Team No",null,null,"Rink No",{"$nulls":3},"Team No",null,null,"Rink No",null,null,"Team No",null,null,"Rink No",{"$nulls":3},"Team No",null,null,"Rink No",{"$nulls":3},"Team No",null,null,"Rink No"]
[]
[{"$f":"DRAW!$B$20","v":14},null,null,{"$f":"DRAW!$E$20","v":13},{"$nulls":3},{"$f":"DRAW!$B$20","v":14},null,null,{"$f":"DRAW!$G$20","v":18},{"$nulls":3},{"$f":"DRAW!$B$20","v":14},null,null,{"$f":"DRAW!$I$20","v":22},null,null,{"$f":"DRAW!$B$20","v":14},null,null,{"$f":"DRAW!$K$20","v":8},{"$nulls":3},{"$f":"DRAW!$B$20","v":14},null,null,{"$f":"DRAW!$M$20","v":20},{"$nulls":3},{"$f":"DRAW!$B$20","v":14},null,null,{"$f":"DRAW!$O$20","v":24}]
[null,"Team",{"$f":"DRAW!$B$20","v":14},"V","Team",{"$f":"DRAW!$D$20","v":43},null,null,"Team",{"$f":"DRAW!$B$20","v":14},"V","Team",{"$f":"DRAW!$F$20","v":45},null,null,"Team",{"$f":"DRAW!$B$20","v":14},"V","Team",{"$f":"DRAW!$H$20","v":49},null,"Team",{"$f":"DRAW!$B$20","v":14},"V","Team",{"$f":"DRAW!$J$20","v":47},null,null,"Team",{"$f":"DRAW!$B$20","v":14},"V","Team",{"$f":"DRAW!$L$20","v":51},null,null,"Team",{"$f":"DRAW!$B$20","v":14},"V","Team",{"$f":"DRAW!$N$20","v":53}]
["Ends","Shots","Total",null,"Shots","Total",null,"Ends","Shots","Total",null,"Shots","Total",null,"Ends","Shots","Total",null,"Shots","Total","Ends","Shots","Total",null,"Shots","Total",null,"Ends","Shots","Total",null,"Shots","Total",null,"Ends","Shots","Total",null,"Shots","Total"]
[1,{"$nulls":6},1,{"$nulls":6},1,{"$nulls":5},1,{"$nulls":6},1,{"$nulls":6},1]
[2,{"$nulls":6},2,{"$nulls":6},2,{"$nulls":5},2,{"$nulls":6},2,{"$nulls":6},2]
[3,{"$nulls":6},3,{"$nulls":6},3,{"$nulls":5},3,{"$nulls":6},3,{"$nulls":6},3]
[4,{"$nulls":6},4,{"$nulls":6},4,{"$nulls":5},4,{"$nulls":6},4,{"$nulls":6},4]
[5,{"$nulls":6},5,{"$nulls":6},5,{"$nulls":5},5,{"$nulls":6},5,{"$nulls":6},5]
[6,{"$nulls":6},6,{"$nulls":6},6,{"$nulls":5},6,{"$nulls":6},6,{"$nulls":6},6]
[7,{"$nulls":6},7,{"$nulls":6},7,{"$nulls":5},7,{"$nulls":6},7,{"$nulls":6},7]
[8,{"$nulls":6},8,{"$nulls":6},8,{"$nulls":5},8,{"$nulls":6},8,{"$nulls":6},8]
[9,{"$nulls":6},9,{"$nulls":6},9,{"$nulls":5},9,{"$nulls":6},9,{"$nulls":6},9]
[10,{"$nulls":6},10,{"$nulls":6},10,{"$nulls":5},10,{"$nulls":6},10,{"$nulls":6},10]
[11,{"$nulls":6},11,{"$nulls":6},11,{"$nulls":5},11,{"$nulls":6},11,{"$nulls":6},11]
[12,{"$nulls":6},12,{"$nulls":6},12,{"$nulls":5},12,{"$nulls":6},12,{"$nulls":6},12]
[13,{"$nulls":6},13,{"$nulls":6},13,{"$nulls":5},13,{"$nulls":6},13,{"$nulls":6},13]
[14,{"$nulls":6},14,{"$nulls":6},14,{"$nulls":5},14,{"$nulls":6},14,{"$nulls":6},14]
[15,{"$nulls":6},15,{"$nulls":6},15,{"$nulls":5},15,{"$nulls":6},15,{"$nulls":6},15]
[16,{"$nulls":6},16,{"$nulls":6},16,{"$nulls":5},16,{"$nulls":6},16,{"$nulls":6},16]
[17,{"$nulls":6},17,{"$nulls":6},17,{"$nulls":5},17,{"$nulls":6},17,{"$nulls":6},17]
[18,{"$nulls":6},18,{"$nulls":6},18,{"$nulls":5},18,{"$nulls":6},18,{"$nulls":6},18]
["Total","Shots",null,null,"Shots",null,null,"Total","Shots",null,null,"Shots",null,null,"Total","Shots",null,null,"Shots",null,"Total","Shots",null,null,"Shots",null,null,"Total","Shots",null,null,"Shots",null,null,"Total","Shots",null,null,"Shots"]
[null,"Ends",null,null,"Ends",{"$nulls":3},"Ends",null,null,"Ends",{"$nulls":3},"Ends",null,null,"Ends",null,null,"Ends",null,null,"Ends",{"$nulls":3},"Ends",null,null,"Ends",{"$nulls":3},"Ends",null,null,"Ends"]
["1st Game ",{"$nulls":6},"2nd Game ",{"$nulls":6},"3rd Game ",{"$nulls":5},"4th Game",{"$nulls":6},"5th Game",{"$nulls":6},"6th Game"]
["Team No",null,null,"Rink No",{"$nulls":3},"Team No",null,null,"Rink No",{"$nulls":3},"Team No",null,null,"Rink No",null,null,"Team No",null,null,"Rink No",{"$nulls":3},"Team No",null,null,"Rink No",{"$nulls":3},"Team No",null,null,"Rink No"]
[]
[{"$f":"DRAW!$B$21","v":15},null,null,{"$f":"DRAW!$E$21","v":14},{"$nulls":3},{"$f":"DRAW!$B$21","v":15},null,null,{"$f":"DRAW!$G$21","v":19},{"$nulls":3},{"$f":"DRAW!$B$21","v":15},null,null,{"$f":"DRAW!$I$21","v":25},null,null,{"$f":"DRAW!$B$21","v":15},null,null,{"$f":"DRAW!$K$21","v":11},{"$nulls":3},{"$f":"DRAW!$B$21","v":15},null,null,{"$f":"DRAW!$M$21","v":21},{"$nulls":3},{"$f":"DRAW!$B$21","v":15},null,null,{"$f":"DRAW!$O$21","v":25}]
[null,"Team",{"$f":"DRAW!$B$21","v":15},"V","Team",{"$f":"DRAW!$D$21","v":42},null,null,"Team",{"$f":"DRAW!$B$21","v":15},"V","Team",{"$f":"DRAW!$F$21","v":44},null,null,"Team",{"$f":"DRAW!$B$21","v":15},"V","Team",{"$f":"DRAW!$H$21","v":48},null,"Team",{"$f":"DRAW!$B$21","v":15},"V","Team",{"$f":"DRAW!$J$21","v":46},null,null,"Team",{"$f":"DRAW!$B$21","v":15},"V","Team",{"$f":"DRAW!$L$21","v":50},null,null,"Team",{"$f":"DRAW!$B$21","v":15},"V","Team",{"$f":"DRAW!$N$21","v":52}]
["Ends","Shots","Total",null,"Shots","Total",null,"Ends","Shots","Total",null,"Shots","Total",null,"Ends","Shots","Total",null,"Shots","Total","Ends","Shots","Total",null,"Shots","Total",null,"Ends","Shots","Total",null,"Shots","Total",null,"Ends","Shots","Total",null,"Shots","Total"]
[1,{"$nulls":6},1,{"$nulls":6},1,{"$nulls":5},1,{"$nulls":6},1,{"$nulls":6},1]
[2,{"$nulls":6},2,{"$nulls":6},2,{"$nulls":5},2,{"$nulls":6},2,{"$nulls":6},2]
[3,{"$nulls":6},3,{"$nulls":6},3,{"$nulls":5},3,{"$nulls":6},3,{"$nulls":6},3]
[4,{"$nulls":6},4,{"$nulls":6},4,{"$nulls":5},4,{"$nulls":6},4,{"$nulls":6},4]
[5,{"$nulls":6},5,{"$nulls":6},5,{"$nulls":5},5,{"$nulls":6},5,{"$nulls":6},5]
[6,{"$nulls":6},6,{"$nulls":6},6,{"$nulls":5},6,{"$nulls":6},6,{"$nulls":6},6]
[7,{"$nulls":6},7,{"$nulls":6},7,{"$nulls":5},7,{"$nulls":6},7,{"$nulls":6},7]
[8,{"$nulls":6},8,{"$nulls":6},8,{"$nulls":5},8,{"$nulls":6},8,{"$nulls":6},8]
[9,{"$nulls":6},9,{"$nulls":6},9,{"$nulls":5},9,{"$nulls":6},9,{"$nulls":6},9]
[10,{"$nulls":6},10,{"$nulls":6},10,{"$nulls":5},10,{"$nulls":6},10,{"$nulls":6},10]
[11,{"$nulls":6},11,{"$nulls":6},11,{"$nulls":5},11,{"$nulls":6},11,{"$nulls":6},11]
[12,{"$nulls":6},12,{"$nulls":6},12,{"$nulls":5},12,{"$nulls":6},12,{"$nulls":6},12]
[13,{"$nulls":6},13,{"$nulls":6},13,{"$nulls":5},13,{"$nulls":6},13,{"$nulls":6},13]
[14,{"$nulls":6},14,{"$nulls":6},14,{"$nulls":5},14,{"$nulls":6},14,{"$nulls":6},14]
[15,{"$nulls":6},15,{"$nulls":6},15,{"$nulls":5},15,{"$nulls":6},15,{"$nulls":6},15]
[16,{"$nulls":6},16,{"$nulls":6},16,{"$nulls":5},16,{"$nulls":6},16,{"$nulls":6},16]
[17,{"$nulls":6},17,{"$nulls":6},17,{"$nulls":5},17,{"$nulls":6},17,{"$nulls":6},17]
[18,{"$nulls":6},18,{"$nulls":6},18,{"$nulls":5},18,{"$nulls":6},18,{"$nulls":6},18]
["Total","Shots",null,null,"Shots",null,null,"Total","Shots",null,null,"Shots",null,null,"Total","Shots",null,null,"Shots",null,"Total","Shots",null,null,"Shots",null,null,"Total","Shots",null,null,"Shots",null,null,"Total","Shots",null,null,"Shots"]
[null,"Ends",null,null,"Ends",{"$nulls":3},"Ends",null,null,"Ends",{"$nulls":3},"Ends",null,null,"Ends",null,null,"Ends",null,null,"Ends",{"$nulls":3},"Ends",null,null,"Ends",{"$nulls":3},"Ends",null,null,"Ends"]
[]
[]
["1st Game ",{"$nulls":6},"2nd Game ",{"$nulls":6},"3rd Game ",{"$nulls":5},"4th Game",{"$nulls":6},"5th Game",{"$nulls":6},"6th Game"]
["Team No",null,null,"Rink No",{"$nulls":3},"Team No",null,null,"Rink No",{"$nulls":3},"Team No",null,null,"Rink No",null,null,"Team No",null,null,"Rink No",{"$nulls":3},"Team No",null,null,"Rink No",{"$nulls":3},"Team No",null,null,"Rink No"]
[]
[{"$f":"DRAW!$B$22","v":16},null,null,{"$f":"DRAW!$E$22","v":15},{"$nulls":3},{"$f":"DRAW!$B$22","v":16},null,null,{"$f":"DRAW!$G$22","v":27},{"$nulls":3},{"$f":"DRAW!$B$22","v":16},null,null,{"$f":"DRAW!$I$22","v":2},null,null,{"$f":"DRAW!$B$22","v":16},null,null,{"$f":"DRAW!$K$22","v":10},{"$nulls":3},{"$f":"DRAW!$B$22","v":16},null,null,{"$f":"DRAW!$M$22","v":19},{"$nulls":3},{"$f":"DRAW!$B$22","v":16},null,null,{"$f":"DRAW!$O$22","v":22}]
[null,"Team",{"$f":"DRAW!$B$22","v":16},"V","Team",{"$f":"DRAW!$D$22","v":41},null,null,"Team",{"$f":"DRAW!$B$22","v":16},"V","Team",{"$f":"DRAW!$F$22","v":43},null,null,"Team",{"$f":"DRAW!$B$22","v":16},"V","Team",{"$f":"DRAW!$H$22","v":47},null,"Team",{"$f":"DRAW!$B$22","v":16},"V","Team",{"$f":"DRAW!$J$22","v":45},null,null,"Team",{"$f":"DRAW!$B$22","v":16},"V","Team",{"$f":"DRAW!$L$22","v":49},null,null,"Team",{"$f":"DRAW!$B$22","v":16},"V","Team",{"$f":"DRAW!$N$22","v":51}]
["Ends","Shots","Total",null,"Shots","Total",null,"Ends","Shots","Total",null,"Shots","Total",null,"Ends","Shots","Total",null,"Shots","Total","Ends","Shots","Total",null,"Shots","Total",null,"Ends","Shots","Total",null,"Shots","Total",null,"Ends","Shots","Total",null,"Shots","Total"]
[1,{"$nulls":6},1,{"$nulls":6},1,{"$nulls":5},1,{"$nulls":6},1,{"$nulls":6},1]
[2,{"$nulls":6},2,{"$nulls":6},2,{"$nulls":5},2,{"$nulls":6},2,{"$nulls":6},2]
[3,{"$nulls":6},3,{"$nulls":6},3,{"$nulls":5},3,{"$nulls":6},3,{"$nulls":6},3]
[4,{"$nulls":6},4,{"$nulls":6},4,{"$nulls":5},4,{"$nulls":6},4,{"$nulls":6},4]
[5,{"$nulls":6},5,{"$nulls":6},5,{"$nulls":5},5,{"$nulls":6},5,{"$nulls":6},5]
[6,{"$nulls":6},6,{"$nulls":6},6,{"$nulls":5},6,{"$nulls":6},6,{"$nulls":6},6]
[7,{"$nulls":6},7,{"$nulls":6},7,{"$nulls":5},7,{"$nulls":6},7,{"$nulls":6},7]
[8,{"$nulls":6},8,{"$nulls":6},8,{"$nulls":5},8,{"$nulls":6},8,{"$nulls":6},8]
[9,{"$nulls":6},9,{"$nulls":6},9,{"$nulls":5},9,{"$nulls":6},9,{"$nulls":6},9]
[10,{"$nulls":6},10,{"$nulls":6},10,{"$nulls":5},10,{"$nulls":6},10,{"$nulls":6},10]
[11,{"$nulls":6},11,{"$nulls":6},11,{"$nulls":5},11,{"$nulls":6},11,{"$nulls":6},11]
[12,{"$nulls":6},12,{"$nulls":6},12,{"$nulls":5},12,{"$nulls":6},12,{"$nulls":6},12]
[13,{"$nulls":6},13,{"$nulls":6},13,{"$nulls":5},13,{"$nulls":6},13,{"$nulls":6},13]
[14,{"$nulls":6},14,{"$nulls":6},14,{"$nulls":5},14,{"$nulls":6},14,{"$nulls":6},14]
[15,{"$nulls":6},15,{"$nulls":6},15,{"$nulls":5},15,{"$nulls":6},15,{"$nulls":6},15]
[16,{"$nulls":6},16,{"$nulls":6},16,{"$nulls":5},16,{"$nulls":6},16,{"$nulls":6},16]
[17,{"$nulls":6},17,{"$nulls":6},17,{"$nulls":5},17,{"$nulls":6},17,{"$nulls":6},17]
[18,{"$nulls":6},18,{"$nulls":6},18,{"$nulls":5},18,{"$nulls":6},18,{"$nulls":6},18]
["Total","Shots",null,null,"Shots",null,null,"Total","Shots",null,null,"Shots",null,null,"Total","Shots",null,null,"Shots",null,"Total","Shots",null,null,"Shots",null,null,"Total","Shots",null,null,"Shots",null,null,"Total","Shots",null,null,"Shots"]
[null,"Ends",null,null,"Ends",{"$nulls":3},"Ends",null,null,"Ends",{"$nulls":3},"Ends",null,null,"Ends",null,null,"Ends",null,null,"Ends",{"$nulls":3},"Ends",null,null,"Ends",{"$nulls":3},"Ends",null,null,"Ends"]
["1st Game ",{"$nulls":6},"2nd Game ",{"$nulls":6},"3rd Game ",{"$nulls":5},"4th Game",{"$nulls":6},"5th Game",{"$nulls":6},"6th Game"]
["Team No",null,null,"Rink No",{"$nulls":3},"Team No",null,null,"Rink No",{"$nulls":3},"Team No",null,null,"Rink No",null,null,"Team No",null,null,"Rink No",{"$nulls":3},"Team No",null,null,"Rink No",{"$nulls":3},"Team No",null,null,"Rink No"]
[]
[{"$f":"DRAW!$B$23","v":17},null,null,{"$f":"DRAW!$E$23","v":16},{"$nulls":3},{"$f":"DRAW!$B$23","v":17},null,null,{"$f":"DRAW!$G$23","v":23},{"$nulls":3},{"$f":"DRAW!$B$23","v":17},null,null,{"$f":"DRAW!$I$23","v":3},null,null,{"$f":"DRAW!$B$23","v":17},null,null,{"$f":"DRAW!$K$23","v":20},{"$nulls":3},{"$f":"DRAW!$B$23","v":17},null,null,{"$f":"DRAW!$M$23","v":22},{"$nulls":3},{"$f":"DRAW!$B$23","v":17},null,null,{"$f":"DRAW!$O$23","v":2}]
[null,"Team",{"$f":"DRAW!$B$23","v":17},"V","Team",{"$f":"DRAW!$D$23","v":40},null,null,"Team",{"$f":"DRAW!$B$23","v":17},"V","Team",{"$f":"DRAW!$F$23","v":42},null,null,"Team",{"$f":"DRAW!$B$23","v":17},"V","Team",{"$f":"DRAW!$H$23","v":46},null,"Team",{"$f":"DRAW!$B$23","v":17},"V","Team",{"$f":"DRAW!$J$23","v":44},null,null,"Team",{"$f":"DRAW!$B$23","v":17},"V","Team",{"$f":"DRAW!$L$23","v":48},null,null,"Team",{"$f":"DRAW!$B$23","v":17},"V","Team",{"$f":"DRAW!$N$23","v":50}]
["Ends","Shots","Total",null,"Shots","Total",null,"Ends","Shots","Total",null,"Shots","Total",null,"Ends","Shots","Total",null,"Shots","Total","Ends","Shots","Total",null,"Shots","Total",null,"Ends","Shots","Total",null,"Shots","Total",null,"Ends","Shots","Total",null,"Shots","Total"]
[1,{"$nulls":6},1,{"$nulls":6},1,{"$nulls":5},1,{"$nulls":6},1,{"$nulls":6},1]
[2,{"$nulls":6},2,{"$nulls":6},2,{"$nulls":5},2,{"$nulls":6},2,{"$nulls":6},2]
[3,{"$nulls":6},3,{"$nulls":6},3,{"$nulls":5},3,{"$nulls":6},3,{"$nulls":6},3]
[4,{"$nulls":6},4,{"$nulls":6},4,{"$nulls":5},4,{"$nulls":6},4,{"$nulls":6},4]
[5,{"$nulls":6},5,{"$nulls":6},5,{"$nulls":5},5,{"$nulls":6},5,{"$nulls":6},5]
[6,{"$nulls":6},6,{"$nulls":6},6,{"$nulls":5},6,{"$nulls":6},6,{"$nulls":6},6]
[7,{"$nulls":6},7,{"$nulls":6},7,{"$nulls":5},7,{"$nulls":6},7,{"$nulls":6},7]
[8,{"$nulls":6},8,{"$nulls":6},8,{"$nulls":5},8,{"$nulls":6},8,{"$nulls":6},8]
[9,{"$nulls":6},9,{"$nulls":6},9,{"$nulls":5},9,{"$nulls":6},9,{"$nulls":6},9]
[10,{"$nulls":6},10,{"$nulls":6},10,{"$nulls":5},10,{"$nulls":6},10,{"$nulls":6},10]
[11,{"$nulls":6},11,{"$nulls":6},11,{"$nulls":5},11,{"$nulls":6},11,{"$nulls":6},11]
[12,{"$nulls":6},12,{"$nulls":6},12,{"$nulls":5},12,{"$nulls":6},12,{"$nulls":6},12]
[13,{"$nulls":6},13,{"$nulls":6},13,{"$nulls":5},13,{"$nulls":6},13,{"$nulls":6},13]
[14,{"$nulls":6},14,{"$nulls":6},14,{"$nulls":5},14,{"$nulls":6},14,{"$nulls":6},14]
[15,{"$nulls":6},15,{"$nulls":6},15,{"$nulls":5},15,{"$nulls":6},15,{"$nulls":6},15]
[16,{"$nulls":6},16,{"$nulls":6},16,{"$nulls":5},16,{"$nulls":6},16,{"$nulls":6},16]
[17,{"$nulls":6},17,{"$nulls":6},17,{"$nulls":5},17,{"$nulls":6},17,{"$nulls":6},17]
[18,{"$nulls":6},18,{"$nulls":6},18,{"$nulls":5},18,{"$nulls":6},18,{"$nulls":6},18]
["Total","Shots",null,null,"Shots",null,null,"Total","Shots",null,null,"Shots",null,null,"Total","Shots",null,null,"Shots",null,"Total","Shots",null,null,"Shots",null,null,"Total","Shots",null,null,"Shots",null,null,"Total","Shots",null,null,"Shots"]
[null,"Ends",null,null,"Ends",{"$nulls":3},"Ends",null,null,"Ends",{"$nulls":3},"Ends",null,null,"Ends",null,null,"Ends",null,null,"Ends",{"$nulls":3},"Ends",null,null,"Ends",{"$nulls":3},"Ends",null,null,"Ends"]
[]
[]
["1st Game ",{"$nulls":6},"2nd Game ",{"$nulls":6},"3rd Game ",{"$nulls":5},"4th Game",{"$nulls":6},"5th Game",{"$nulls":6},"6th Game"]
["Team No",null,null,"Rink No",{"$nulls":3},"Team No",null,null,"Rink No",{"$nulls":3},"Team No",null,null,"Rink No",null,null,"Team No",null,null,"Rink No",{"$nulls":3},"Team No",null,null,"Rink No",{"$nulls":3},"Team No",null,null,"Rink No"]
[]
[{"$f":"DRAW!$B$24","v":18},null,null,{"$f":"DRAW!$E$24","v":17},{"$nulls":3},{"$f":"DRAW!$B$24","v":18},null,null,{"$f":"DRAW!$G$24","v":24},{"$nulls":3},{"$f":"DRAW!$B$24","v":18},null,null,{"$f":"DRAW!$I$24","v":1},null,null,{"$f":"DRAW!$B$24","v":18},null,null,{"$f":"DRAW!$K$24","v":12},{"$nulls":3},{"$f":"DRAW!$B$24","v":18},null,null,{"$f":"DRAW!$M$24","v":18},{"$nulls":3},{"$f":"DRAW!$B$24","v":18},null,null,{"$f":"DRAW!$O$24","v":6}]
[null,"Team",{"$f":"DRAW!$B$24","v":18},"V","Team",{"$f":"DRAW!$D$24","v":39},null,null,"Team",{"$f":"DRAW!$B$24","v":18},"V","Team",{"$f":"DRAW!$F$24","v":41},null,null,"Team",{"$f":"DRAW!$B$24","v":18},"V","Team",{"$f":"DRAW!$H$24","v":45},null,"Team",{"$f":"DRAW!$B$24","v":18},"V","Team",{"$f":"DRAW!$J$24","v":43},null,null,"Team",{"$f":"DRAW!$B$24","v":18},"V","Team",{"$f":"DRAW!$L$24","v":47},null,null,"Team",{"$f":"DRAW!$B$24","v":18},"V","Team",{"$f":"DRAW!$N$24","v":49}]
["Ends","Shots","Total",null,"Shots","Total",null,"Ends","Shots","Total",null,"Shots","Total",null,"Ends","Shots","Total",null,"Shots","Total","Ends","Shots","Total",null,"Shots","Total",null,"Ends","Shots","Total",null,"Shots","Total",null,"Ends","Shots","Total",null,"Shots","Total"]
[1,{"$nulls":6},1,{"$nulls":6},1,{"$nulls":5},1,{"$nulls":6},1,{"$nulls":6},1]
[2,{"$nulls":6},2,{"$nulls":6},2,{"$nulls":5},2,{"$nulls":6},2,{"$nulls":6},2]
[3,{"$nulls":6},3,{"$nulls":6},3,{"$nulls":5},3,{"$nulls":6},3,{"$nulls":6},3]
[4,{"$nulls":6},4,{"$nulls":6},4,{"$nulls":5},4,{"$nulls":6},4,{"$nulls":6},4]
[5,{"$nulls":6},5,{"$nulls":6},5,{"$nulls":5},5,{"$nulls":6},5,{"$nulls":6},5]
[6,{"$nulls":6},6,{"$nulls":6},6,{"$nulls":5},6,{"$nulls":6},6,{"$nulls":6},6]
[7,{"$nulls":6},7,{"$nulls":6},7,{"$nulls":5},7,{"$nulls":6},7,{"$nulls":6},7]
[8,{"$nulls":6},8,{"$nulls":6},8,{"$nulls":5},8,{"$nulls":6},8,{"$nulls":6},8]
[9,{"$nulls":6},9,{"$nulls":6},9,{"$nulls":5},9,{"$nulls":6},9,{"$nulls":6},9]
[10,{"$nulls":6},10,{"$nulls":6},10,{"$nulls":5},10,{"$nulls":6},10,{"$nulls":6},10]
[11,{"$nulls":6},11,{"$nulls":6},11,{"$nulls":5},11,{"$nulls":6},11,{"$nulls":6},11]
[12,{"$nulls":6},12,{"$nulls":6},12,{"$nulls":5},12,{"$nulls":6},12,{"$nulls":6},12]
[13,{"$nulls":6},13,{"$nulls":6},13,{"$nulls":5},13,{"$nulls":6},13,{"$nulls":6},13]
[14,{"$nulls":6},14,{"$nulls":6},14,{"$nulls":5},14,{"$nulls":6},14,{"$nulls":6},14]
[15,{"$nulls":6},15,{"$nulls":6},15,{"$nulls":5},15,{"$nulls":6},15,{"$nulls":6},15]
[16,{"$nulls":6},16,{"$nulls":6},16,{"$nulls":5},16,{"$nulls":6},16,{"$nulls":6},16]
[17,{"$nulls":6},17,{"$nulls":6},17,{"$nulls":5},17,{"$nulls":6},17,{"$nulls":6},17]
[18,{"$nulls":6},18,{"$nulls":6},18,{"$nulls":5},18,{"$nulls":6},18,{"$nulls":6},18]
["Total","Shots",null,null,"Shots",null,null,"Total","Shots",null,null,"Shots",null,null,"Total","Shots",null,null,"Shots",null,"Total","Shots",null,null,"Shots",null,null,"Total","Shots",null,null,"Shots",null,null,"Total","Shots",null,null,"Shots"]
[null,"Ends",null,null,"Ends",{"$nulls":3},"Ends",null,null,"Ends",{"$nulls":3},"Ends",null,null,"Ends",null,null,"Ends",null,null,"Ends",{"$nulls":3},"Ends",null,null,"Ends",{"$nulls":3},"Ends",null,null,"Ends"]
["1st Game ",{"$nulls":6},"2nd Game ",{"$nulls":6},"3rd Game ",{"$nulls":5},"4th Game",{"$nulls":6},"5th Game",{"$nulls":6},"6th Game"]
["Team No",null,null,"Rink No",{"$nulls":3},"Team No",null,null,"Rink No",{"$nulls":3},"Team No",null,null,"Rink No",null,null,"Team No",null,null,"Rink No",{"$nulls":3},"Team No",null,null,"Rink No",{"$nulls":3},"Team No",null,null,"Rink No"]
[]
[{"$f":"DRAW!$B$25","v":19},null,null,{"$f":"DRAW!$E$25","v":18},{"$nulls":3},{"$f":"DRAW!$B$25","v":19},null,null,{"$f":"DRAW!$G$25","v":22},{"$nulls":3},{"$f":"DRAW!$B$25","v":19},null,null,{"$f":"DRAW!$I$25","v":4},null,null,{"$f":"DRAW!$B$25","v":19},null,null,{"$f":"DRAW!$K$25","v":13},{"$nulls":3},{"$f":"DRAW!$B$25","v":19},null,null,{"$f":"DRAW!$M$25","v":17},{"$nulls":3},{"$f":"DRAW!$B$25","v":19},null,null,{"$f":"DRAW!$O$25","v":3}]
[null,"Team",{"$f":"DRAW!$B$25","v":19},"V","Team",{"$f":"DRAW!$D$25","v":38},null,null,"Team",{"$f":"DRAW!$B$25","v":19},"V","Team",{"$f":"DRAW!$F$25","v":40},null,null,"Team",{"$f":"DRAW!$B$25","v":19},"V","Team",{"$f":"DRAW!$H$25","v":44},null,"Team",{"$f":"DRAW!$B$25","v":19},"V","Team",{"$f":"DRAW!$J$25","v":42},null,null,"Team",{"$f":"DRAW!$B$25","v":19},"V","Team",{"$f":"DRAW!$L$25","v":46},null,null,"Team",{"$f":"DRAW!$B$25","v":19},"V","Team",{"$f":"DRAW!$N$25","v":48}]
["Ends","Shots","Total",null,"Shots","Total",null,"Ends","Shots","Total",null,"Shots","Total",null,"Ends","Shots","Total",null,"Shots","Total","Ends","Shots","Total",null,"Shots","Total",null,"Ends","Shots","Total",null,"Shots","Total",null,"Ends","Shots","Total",null,"Shots","Total"]
[1,{"$nulls":6},1,{"$nulls":6},1,{"$nulls":5},1,{"$nulls":6},1,{"$nulls":6},1]
[2,{"$nulls":6},2,{"$nulls":6},2,{"$nulls":5},2,{"$nulls":6},2,{"$nulls":6},2]
[3,{"$nulls":6},3,{"$nulls":6},3,{"$nulls":5},3,{"$nulls":6},3,{"$nulls":6},3]
[4,{"$nulls":6},4,{"$nulls":6},4,{"$nulls":5},4,{"$nulls":6},4,{"$nulls":6},4]
[5,{"$nulls":6},5,{"$nulls":6},5,{"$nulls":5},5,{"$nulls":6},5,{"$nulls":6},5]
[6,{"$nulls":6},6,{"$nulls":6},6,{"$nulls":5},6,{"$nulls":6},6,{"$nulls":6},6]
[7,{"$nulls":6},7,{"$nulls":6},7,{"$nulls":5},7,{"$nulls":6},7,{"$nulls":6},7]
[8,{"$nulls":6},8,{"$nulls":6},8,{"$nulls":5},8,{"$nulls":6},8,{"$nulls":6},8]
[9,{"$nulls":6},9,{"$nulls":6},9,{"$nulls":5},9,{"$nulls":6},9,{"$nulls":6},9]
[10,{"$nulls":6},10,{"$nulls":6},10,{"$nulls":5},10,{"$nulls":6},10,{"$nulls":6},10]
[11,{"$nulls":6},11,{"$nulls":6},11,{"$nulls":5},11,{"$nulls":6},11,{"$nulls":6},11]
[12,{"$nulls":6},12,{"$nulls":6},12,{"$nulls":5},12,{"$nulls":6},12,{"$nulls":6},12]
[13,{"$nulls":6},13,{"$nulls":6},13,{"$nulls":5},13,{"$nulls":6},13,{"$nulls":6},13]
[14,{"$nulls":6},14,{"$nulls":6},14,{"$nulls":5},14,{"$nulls":6},14,{"$nulls":6},14]
[15,{"$nulls":6},15,{"$nulls":6},15,{"$nulls":5},15,{"$nulls":6},15,{"$nulls":6},15]
[16,{"$nulls":6},16,{"$nulls":6},16,{"$nulls":5},16,{"$nulls":6},16,{"$nulls":6},16]
[17,{"$nulls":6},17,{"$nulls":6},17,{"$nulls":5},17,{"$nulls":6},17,{"$nulls":6},17]
[18,{"$nulls":6},18,{"$nulls":6},18,{"$nulls":5},18,{"$nulls":6},18,{"$nulls":6},18]
["Total","Shots",null,null,"Shots",null,null,"Total","Shots",null,null,"Shots",null,null,"Total","Shots",null,null,"Shots",null,"Total","Shots",null,null,"Shots",null,null,"Total","Shots",null,null,"Shots",null,null,"Total","Shots",null,null,"Shots"]
[null,"Ends",null,null,"Ends",{"$nulls":3},"Ends",null,null,"Ends",{"$nulls":3},"Ends",null,null,"Ends",null,null,"Ends",null,null,"Ends",{"$nulls":3},"Ends",null,null,"Ends",{"$nulls":3},"Ends",null,null,"Ends"]
[]
[]
["1st Game ",{"$nulls":6},"2nd Game ",{"$nulls":6},"3rd Game ",{"$nulls":5},"4th Game",{"$nulls":6},"5th Game",{"$nulls":6},"6th Game"]
["Team No",null,null,"Rink No",{"$nulls":3},"Team No",null,null,"Rink No",{"$nulls":3},"Team No",null,null,"Rink No",null,null,"Team No",null,null,"Rink No",{"$nulls":3},"Team No",null,null,"Rink No",{"$nulls":3},"Team No",null,null,"Rink No"]
[]
[{"$f":"DRAW!$B$26","v":20},null,null,{"$f":"DRAW!$E$26","v":19},{"$nulls":3},{"$f":"DRAW!$B$26","v":20},null,null,{"$f":"DRAW!$G$26","v":25},{"$nulls":3},{"$f":"DRAW!$B$26","v":20},null,null,{"$f":"DRAW!$I$26","v":7},null,null,{"$f":"DRAW!$B$26","v":20},null,null,{"$f":"DRAW!$K$26","v":16},{"$nulls":3},{"$f":"DRAW!$B$26","v":20},null,null,{"$f":"DRAW!$M$26","v":23},{"$nulls":3},{"$f":"DRAW!$B$26","v":20},null,null,{"$f":"DRAW!$O$26","v":4}]
[null,"Team",{"$f":"DRAW!$B$26","v":20},"V","Team",{"$f":"DRAW!$D$26","v":37},null,null,"Team",{"$f":"DRAW!$B$26","v":20},"V","Team",{"$f":"DRAW!$F$26","v":39},null,null,"Team",{"$f":"DRAW!$B$26","v":20},"V","Team",{"$f":"DRAW!$H$26","v":43},null,"Team",{"$f":"DRAW!$B$26","v":20},"V","Team",{"$f":"DRAW!$J$26","v":41},null,null,"Team",{"$f":"DRAW!$B$26","v":20},"V","Team",{"$f":"DRAW!$L$26","v":45},null,null,"Team",{"$f":"DRAW!$B$26","v":20},"V","Team",{"$f":"DRAW!$N$26","v":47}]
["Ends","Shots","Total",null,"Shots","Total",null,"Ends","Shots","Total",null,"Shots","Total",null,"Ends","Shots","Total",null,"Shots","Total","Ends","Shots","Total",null,"Shots","Total",null,"Ends","Shots","Total",null,"Shots","Total",null,"Ends","Shots","Total",null,"Shots","Total"]
[1,{"$nulls":6},1,{"$nulls":6},1,{"$nulls":5},1,{"$nulls":6},1,{"$nulls":6},1]
[2,{"$nulls":6},2,{"$nulls":6},2,{"$nulls":5},2,{"$nulls":6},2,{"$nulls":6},2]
[3,{"$nulls":6},3,{"$nulls":6},3,{"$nulls":5},3,{"$nulls":6},3,{"$nulls":6},3]
[4,{"$nulls":6},4,{"$nulls":6},4,{"$nulls":5},4,{"$nulls":6},4,{"$nulls":6},4]
[5,{"$nulls":6},5,{"$nulls":6},5,{"$nulls":5},5,{"$nulls":6},5,{"$nulls":6},5]
[6,{"$nulls":6},6,{"$nulls":6},6,{"$nulls":5},6,{"$nulls":6},6,{"$nulls":6},6]
[7,{"$nulls":6},7,{"$nulls":6},7,{"$nulls":5},7,{"$nulls":6},7,{"$nulls":6},7]
[8,{"$nulls":6},8,{"$nulls":6},8,{"$nulls":5},8,{"$nulls":6},8,{"$nulls":6},8]
[9,{"$nulls":6},9,{"$nulls":6},9,{"$nulls":5},9,{"$nulls":6},9,{"$nulls":6},9]
[10,{"$nulls":6},10,{"$nulls":6},10,{"$nulls":5},10,{"$nulls":6},10,{"$nulls":6},10]
[11,{"$nulls":6},11,{"$nulls":6},11,{"$nulls":5},11,{"$nulls":6},11,{"$nulls":6},11]
[12,{"$nulls":6},12,{"$nulls":6},12,{"$nulls":5},12,{"$nulls":6},12,{"$nulls":6},12]
[13,{"$nulls":6},13,{"$nulls":6},13,{"$nulls":5},13,{"$nulls":6},13,{"$nulls":6},13]
[14,{"$nulls":6},14,{"$nulls":6},14,{"$nulls":5},14,{"$nulls":6},14,{"$nulls":6},14]
[15,{"$nulls":6},15,{"$nulls":6},15,{"$nulls":5},15,{"$nulls":6},15,{"$nulls":6},15]
[16,{"$nulls":6},16,{"$nulls":6},16,{"$nulls":5},16,{"$nulls":6},16,{"$nulls":6},16]
[17,{"$nulls":6},17,{"$nulls":6},17,{"$nulls":5},17,{"$nulls":6},17,{"$nulls":6},17]
[18,{"$nulls":6},18,{"$nulls":6},18,{"$nulls":5},18,{"$nulls":6},18,{"$nulls":6},18]
["Total","Shots",null,null,"Shots",null,null,"Total","Shots",null,null,"Shots",null,null,"Total","Shots",null,null,"Shots",null,"Total","Shots",null,null,"Shots",null,null,"Total","Shots",null,null,"Shots",null,null,"Total","Shots",null,null,"Shots"]
[null,"Ends",null,null,"Ends",{"$nulls":3},"Ends",null,null,"Ends",{"$nulls":3},"Ends",null,null,"Ends",null,null,"Ends",null,null,"Ends",{"$nulls":3},"Ends",null,null,"Ends",{"$nulls":3},"Ends",null,null,"Ends"]
["1st Game ",{"$nulls":6},"2nd Game ",{"$nulls":6},"3rd Game ",{"$nulls":5},"4th Game",{"$nulls":6},"5th Game",{"$nulls":6},"6th Game"]
["Team No",null,null,"Rink No",{"$nulls":3},"Team No",null,null,"Rink No",{"$nulls":3},"Team No",null,null,"Rink No",null,null,"Team No",null,null,"Rink No",{"$nulls":3},"Team No",null,null,"Rink No",{"$nulls":3},"Team No",null,null,"Rink No"]
[]
[{"$f":"DRAW!$B$27","v":21},null,null,{"$f":"DRAW!$E$27","v":20},{"$nulls":3},{"$f":"DRAW!$B$27","v":21},null,null,{"$f":"DRAW!$G$27","v":26},{"$nulls":3},{"$f":"DRAW!$B$27","v":21},null,null,{"$f":"DRAW!$I$27","v":6},null,null,{"$f":"DRAW!$B$27","v":21},null,null,{"$f":"DRAW!$K$27","v":14},{"$nulls":3},{"$f":"DRAW!$B$27","v":21},null,null,{"$f":"DRAW!$M$27","v":24},{"$nulls":3},{"$f":"DRAW!$B$27","v":21},null,null,{"$f":"DRAW!$O$27","v":1}]
[null,"Team",{"$f":"DRAW!$B$27","v":21},"V","Team",{"$f":"DRAW!$D$27","v":36},null,null,"Team",{"$f":"DRAW!$B$27","v":21},"V","Team",{"$f":"DRAW!$F$27","v":38},null,null,"Team",{"$f":"DRAW!$B$27","v":21},"V","Team",{"$f":"DRAW!$H$27","v":42},null,"Team",{"$f":"DRAW!$B$27","v":21},"V","Team",{"$f":"DRAW!$J$27","v":40},null,null,"Team",{"$f":"DRAW!$B$27","v":21},"V","Team",{"$f":"DRAW!$L$27","v":44},null,null,"Team",{"$f":"DRAW!$B$27","v":21},"V","Team",{"$f":"DRAW!$N$27","v":46}]
["Ends","Shots","Total",null,"Shots","Total",null,"Ends","Shots","Total",null,"Shots","Total",null,"Ends","Shots","Total",null,"Shots","Total","Ends","Shots","Total",null,"Shots","Total",null,"Ends","Shots","Total",null,"Shots","Total",null,"Ends","Shots","Total",null,"Shots","Total"]
[1,{"$nulls":6},1,{"$nulls":6},1,{"$nulls":5},1,{"$nulls":6},1,{"$nulls":6},1]
[2,{"$nulls":6},2,{"$nulls":6},2,{"$nulls":5},2,{"$nulls":6},2,{"$nulls":6},2]
[3,{"$nulls":6},3,{"$nulls":6},3,{"$nulls":5},3,{"$nulls":6},3,{"$nulls":6},3]
[4,{"$nulls":6},4,{"$nulls":6},4,{"$nulls":5},4,{"$nulls":6},4,{"$nulls":6},4]
[5,{"$nulls":6},5,{"$nulls":6},5,{"$nulls":5},5,{"$nulls":6},5,{"$nulls":6},5]
[6,{"$nulls":6},6,{"$nulls":6},6,{"$nulls":5},6,{"$nulls":6},6,{"$nulls":6},6]
[7,{"$nulls":6},7,{"$nulls":6},7,{"$nulls":5},7,{"$nulls":6},7,{"$nulls":6},7]
[8,{"$nulls":6},8,{"$nulls":6},8,{"$nulls":5},8,{"$nulls":6},8,{"$nulls":6},8]
[9,{"$nulls":6},9,{"$nulls":6},9,{"$nulls":5},9,{"$nulls":6},9,{"$nulls":6},9]
[10,{"$nulls":6},10,{"$nulls":6},10,{"$nulls":5},10,{"$nulls":6},10,{"$nulls":6},10]
[11,{"$nulls":6},11,{"$nulls":6},11,{"$nulls":5},11,{"$nulls":6},11,{"$nulls":6},11]
[12,{"$nulls":6},12,{"$nulls":6},12,{"$nulls":5},12,{"$nulls":6},12,{"$nulls":6},12]
[13,{"$nulls":6},13,{"$nulls":6},13,{"$nulls":5},13,{"$nulls":6},13,{"$nulls":6},13]
[14,{"$nulls":6},14,{"$nulls":6},14,{"$nulls":5},14,{"$nulls":6},14,{"$nulls":6},14]
[15,{"$nulls":6},15,{"$nulls":6},15,{"$nulls":5},15,{"$nulls":6},15,{"$nulls":6},15]
[16,{"$nulls":6},16,{"$nulls":6},16,{"$nulls":5},16,{"$nulls":6},16,{"$nulls":6},16]
[17,{"$nulls":6},17,{"$nulls":6},17,{"$nulls":5},17,{"$nulls":6},17,{"$nulls":6},17]
[18,{"$nulls":6},18,{"$nulls":6},18,{"$nulls":5},18,{"$nulls":6},18,{"$nulls":6},18]
["Total","Shots",null,null,"Shots",null,null,"Total","Shots",null,null,"Shots",null,null,"Total","Shots",null,null,"Shots",null,"Total","Shots",null,null,"Shots",null,null,"Total","Shots",null,null,"Shots",null,null,"Total","Shots",null,null,"Shots"]
[null,"Ends",null,null,"Ends",{"$nulls":3},"Ends",null,null,"Ends",{"$nulls":3},"Ends",null,null,"Ends",null,null,"Ends",null,null,"Ends",{"$nulls":3},"Ends",null,null,"Ends",{"$nulls":3},"Ends",null,null,"Ends"]
[]
[]
["1st Game ",{"$nulls":6},"2nd Game ",{"$nulls":6},"3rd Game ",{"$nulls":5},"4th Game",{"$nulls":6},"5th Game",{"$nulls":6},"6th Game"]
["Team No",null,null,"Rink No",{"$nulls":3},"Team No",null,null,"Rink No",{"$nulls":3},"Team No",null,null,"Rink No",null,null,"Team No",null,null,"Rink No",{"$nulls":3},"Team No",null,null,"Rink No",{"$nulls":3},"Team No",null,null,"Rink No"]
[]
[{"$f":"DRAW!$B$28","v":22},null,null,{"$f":"DRAW!$E$28","v":21},{"$nulls":3},{"$f":"DRAW!$B$28","v":22},null,null,{"$f":"DRAW!$G$28","v":9},{"$nulls":3},{"$f":"DRAW!$B$28","v":22},null,null,{"$f":"DRAW!$I$28","v":5},null,null,{"$f":"DRAW!$B$28","v":22},null,null,{"$f":"DRAW!$K$28","v":18},{"$nulls":3},{"$f":"DRAW!$B$28","v":22},null,null,{"$f":"DRAW!$M$28","v":25},{"$nulls":3},{"$f":"DRAW!$B$28","v":22},null,null,{"$f":"DRAW!$O$28","v":7}]
[null,"Team",{"$f":"DRAW!$B$28","v":22},"V","Team",{"$f":"DRAW!$D$28","v":35},null,null,"Team",{"$f":"DRAW!$B$28","v":22},"V","Team",{"$f":"DRAW!$F$28","v":37},null,null,"Team",{"$f":"DRAW!$B$28","v":22},"V","Team",{"$f":"DRAW!$H$28","v":41},null,"Team",{"$f":"DRAW!$B$28","v":22},"V","Team",{"$f":"DRAW!$J$28","v":39},null,null,"Team",{"$f":"DRAW!$B$28","v":22},"V","Team",{"$f":"DRAW!$L$28","v":43},null,null,"Team",{"$f":"DRAW!$B$28","v":22},"V","Team",{"$f":"DRAW!$N$28","v":45}]
["Ends","Shots","Total",null,"Shots","Total",null,"Ends","Shots","Total",null,"Shots","Total",null,"Ends","Shots","Total",null,"Shots","Total","Ends","Shots","Total",null,"Shots","Total",null,"Ends","Shots","Total",null,"Shots","Total",null,"Ends","Shots","Total",null,"Shots","Total"]
[1,{"$nulls":6},1,{"$nulls":6},1,{"$nulls":5},1,{"$nulls":6},1,{"$nulls":6},1]
[2,{"$nulls":6},2,{"$nulls":6},2,{"$nulls":5},2,{"$nulls":6},2,{"$nulls":6},2]
[3,{"$nulls":6},3,{"$nulls":6},3,{"$nulls":5},3,{"$nulls":6},3,{"$nulls":6},3]
[4,{"$nulls":6},4,{"$nulls":6},4,{"$nulls":5},4,{"$nulls":6},4,{"$nulls":6},4]
[5,{"$nulls":6},5,{"$nulls":6},5,{"$nulls":5},5,{"$nulls":6},5,{"$nulls":6},5]
[6,{"$nulls":6},6,{"$nulls":6},6,{"$nulls":5},6,{"$nulls":6},6,{"$nulls":6},6]
[7,{"$nulls":6},7,{"$nulls":6},7,{"$nulls":5},7,{"$nulls":6},7,{"$nulls":6},7]
[8,{"$nulls":6},8,{"$nulls":6},8,{"$nulls":5},8,{"$nulls":6},8,{"$nulls":6},8]
[9,{"$nulls":6},9,{"$nulls":6},9,{"$nulls":5},9,{"$nulls":6},9,{"$nulls":6},9]
[10,{"$nulls":6},10,{"$nulls":6},10,{"$nulls":5},10,{"$nulls":6},10,{"$nulls":6},10]
[11,{"$nulls":6},11,{"$nulls":6},11,{"$nulls":5},11,{"$nulls":6},11,{"$nulls":6},11]
[12,{"$nulls":6},12,{"$nulls":6},12,{"$nulls":5},12,{"$nulls":6},12,{"$nulls":6},12]
[13,{"$nulls":6},13,{"$nulls":6},13,{"$nulls":5},13,{"$nulls":6},13,{"$nulls":6},13]
[14,{"$nulls":6},14,{"$nulls":6},14,{"$nulls":5},14,{"$nulls":6},14,{"$nulls":6},14]
[15,{"$nulls":6},15,{"$nulls":6},15,{"$nulls":5},15,{"$nulls":6},15,{"$nulls":6},15]
[16,{"$nulls":6},16,{"$nulls":6},16,{"$nulls":5},16,{"$nulls":6},16,{"$nulls":6},16]
[17,{"$nulls":6},17,{"$nulls":6},17,{"$nulls":5},17,{"$nulls":6},17,{"$nulls":6},17]
[18,{"$nulls":6},18,{"$nulls":6},18,{"$nulls":5},18,{"$nulls":6},18,{"$nulls":6},18]
["Total","Shots",null,null,"Shots",null,null,"Total","Shots",null,null,"Shots",null,null,"Total","Shots",null,null,"Shots",null,"Total","Shots",null,null,"Shots",null,null,"Total","Shots",null,null,"Shots",null,null,"Total","Shots",null,null,"Shots"]
[null,"Ends",null,null,"Ends",{"$nulls":3},"Ends",null,null,"Ends",{"$nulls":3},"Ends",null,null,"Ends",null,null,"Ends",null,null,"Ends",{"$nulls":3},"Ends",null,null,"Ends",{"$nulls":3},"Ends",null,null,"Ends"]
["1st Game ",{"$nulls":6},"2nd Game ",{"$nulls":6},"3rd Game ",{"$nulls":5},"4th Game",{"$nulls":6},"5th Game",{"$nulls":6},"6th Game"]
["Team No",null,null,"Rink No",{"$nulls":3},"Team No",null,null,"Rink No",{"$nulls":3},"Team No",null,null,"Rink No",null,null,"Team No",null,null,"Rink No",{"$nulls":3},"Team No",null,null,"Rink No",{"$nulls":3},"Team No",null,null,"Rink No"]
[]
[{"$f":"DRAW!$B$29","v":23},null,null,{"$f":"DRAW!$E$29","v":22},{"$nulls":3},{"$f":"DRAW!$B$29","v":23},null,null,{"$f":"DRAW!$G$29","v":2},{"$nulls":3},{"$f":"DRAW!$B$29","v":23},null,null,{"$f":"DRAW!$I$29","v":17},null,null,{"$f":"DRAW!$B$29","v":23},null,null,{"$f":"DRAW!$K$29","v":25},{"$nulls":3},{"$f":"DRAW!$B$29","v":23},null,null,{"$f":"DRAW!$M$29","v":5},{"$nulls":3},{"$f":"DRAW!$B$29","v":23},null,null,{"$f":"DRAW!$O$29","v":14}]
[null,"Team",{"$f":"DRAW!$B$29","v":23},"V","Team",{"$f":"DRAW!$D$29","v":34},null,null,"Team",{"$f":"DRAW!$B$29","v":23},"V","Team",{"$f":"DRAW!$F$29","v":36},null,null,"Team",{"$f":"DRAW!$B$29","v":23},"V","Team",{"$f":"DRAW!$H$29","v":40},null,"Team",{"$f":"DRAW!$B$29","v":23},"V","Team",{"$f":"DRAW!$J$29","v":38},null,null,"Team",{"$f":"DRAW!$B$29","v":23},"V","Team",{"$f":"DRAW!$L$29","v":42},null,null,"Team",{"$f":"DRAW!$B$29","v":23},"V","Team",{"$f":"DRAW!$N$29","v":44}]
["Ends","Shots","Total",null,"Shots","Total",null,"Ends","Shots","Total",null,"Shots","Total",null,"Ends","Shots","Total",null,"Shots","Total","Ends","Shots","Total",null,"Shots","Total",null,"Ends","Shots","Total",null,"Shots","Total",null,"Ends","Shots","Total",null,"Shots","Total"]
[1,{"$nulls":6},1,{"$nulls":6},1,{"$nulls":5},1,{"$nulls":6},1,{"$nulls":6},1]
[2,{"$nulls":6},2,{"$nulls":6},2,{"$nulls":5},2,{"$nulls":6},2,{"$nulls":6},2]
[3,{"$nulls":6},3,{"$nulls":6},3,{"$nulls":5},3,{"$nulls":6},3,{"$nulls":6},3]
[4,{"$nulls":6},4,{"$nulls":6},4,{"$nulls":5},4,{"$nulls":6},4,{"$nulls":6},4]
[5,{"$nulls":6},5,{"$nulls":6},5,{"$nulls":5},5,{"$nulls":6},5,{"$nulls":6},5]
[6,{"$nulls":6},6,{"$nulls":6},6,{"$nulls":5},6,{"$nulls":6},6,{"$nulls":6},6]
[7,{"$nulls":6},7,{"$nulls":6},7,{"$nulls":5},7,{"$nulls":6},7,{"$nulls":6},7]
[8,{"$nulls":6},8,{"$nulls":6},8,{"$nulls":5},8,{"$nulls":6},8,{"$nulls":6},8]
[9,{"$nulls":6},9,{"$nulls":6},9,{"$nulls":5},9,{"$nulls":6},9,{"$nulls":6},9]
[10,{"$nulls":6},10,{"$nulls":6},10,{"$nulls":5},10,{"$nulls":6},10,{"$nulls":6},10]
[11,{"$nulls":6},11,{"$nulls":6},11,{"$nulls":5},11,{"$nulls":6},11,{"$nulls":6},11]
[12,{"$nulls":6},12,{"$nulls":6},12,{"$nulls":5},12,{"$nulls":6},12,{"$nulls":6},12]
[13,{"$nulls":6},13,{"$nulls":6},13,{"$nulls":5},13,{"$nulls":6},13,{"$nulls":6},13]
[14,{"$nulls":6},14,{"$nulls":6},14,{"$nulls":5},14,{"$nulls":6},14,{"$nulls":6},14]
[15,{"$nulls":6},15,{"$nulls":6},15,{"$nulls":5},15,{"$nulls":6},15,{"$nulls":6},15]
[16,{"$nulls":6},16,{"$nulls":6},16,{"$nulls":5},16,{"$nulls":6},16,{"$nulls":6},16]
[17,{"$nulls":6},17,{"$nulls":6},17,{"$nulls":5},17,{"$nulls":6},17,{"$nulls":6},17]
[18,{"$nulls":6},18,{"$nulls":6},18,{"$nulls":5},18,{"$nulls":6},18,{"$nulls":6},18]
["Total","Shots",null,null,"Shots",null,null,"Total","Shots",null,null,"Shots",null,null,"Total","Shots",null,null,"Shots",null,"Total","Shots",null,null,"Shots",null,null,"Total","Shots",null,null,"Shots",null,null,"Total","Shots",null,null,"Shots"]
[null,"Ends",null,null,"Ends",{"$nulls":3},"Ends",null,null,"Ends",{"$nulls":3},"Ends",null,null,"Ends",null,null,"Ends",null,null,"Ends",{"$nulls":3},"Ends",null,null,"Ends",{"$nulls":3},"Ends",null,null,"Ends"]
[]
[]
["1st Game ",{"$nulls":6},"2nd Game ",{"$nulls":6},"3rd Game ",{"$nulls":5},"4th Game",{"$nulls":6},"5th Game",{"$nulls":6},"6th Game"]
["Team No",null,null,"Rink No",{"$nulls":3},"Team No",null,null,"Rink No",{"$nulls":3},"Team No",null,null,"Rink No",null,null,"Team No",null,null,"Rink No",{"$nulls":3},"Team No",null,null,"Rink No",{"$nulls":3},"Team No",null,null,"Rink No"]
[]
[{"$f":"DRAW!$B$30","v":24},null,null,{"$f":"DRAW!$E$30","v":23},{"$nulls":3},{"$f":"DRAW!$B$30","v":24},null,null,{"$f":"DRAW!$G$30","v":3},{"$nulls":3},{"$f":"DRAW!$B$30","v":24},null,null,{"$f":"DRAW!$I$30","v":8},null,null,{"$f":"DRAW!$B$30","v":24},null,null,{"$f":"DRAW!$K$30","v":15},{"$nulls":3},{"$f":"DRAW!$B$30","v":24},null,null,{"$f":"DRAW!$M$30","v":26},{"$nulls":3},{"$f":"DRAW!$B$30","v":24},null,null,{"$f":"DRAW!$O$30","v":5}]
[null,"Team",{"$f":"DRAW!$B$30","v":24},"V","Team",{"$f":"DRAW!$D$30","v":33},null,null,"Team",{"$f":"DRAW!$B$30","v":24},"V","Team",{"$f":"DRAW!$F$30","v":35},null,null,"Team",{"$f":"DRAW!$B$30","v":24},"V","Team",{"$f":"DRAW!$H$30","v":39},null,"Team",{"$f":"DRAW!$B$30","v":24},"V","Team",{"$f":"DRAW!$J$30","v":37},null,null,"Team",{"$f":"DRAW!$B$30","v":24},"V","Team",{"$f":"DRAW!$L$30","v":41},null,null,"Team",{"$f":"DRAW!$B$30","v":24},"V","Team",{"$f":"DRAW!$N$30","v":43}]
["Ends","Shots","Total",null,"Shots","Total",null,"Ends","Shots","Total",null,"Shots","Total",null,"Ends","Shots","Total",null,"Shots","Total","Ends","Shots","Total",null,"Shots","Total",null,"Ends","Shots","Total",null,"Shots","Total",null,"Ends","Shots","Total",null,"Shots","Total"]
[1,{"$nulls":6},1,{"$nulls":6},1,{"$nulls":5},1,{"$nulls":6},1,{"$nulls":6},1]
[2,{"$nulls":6},2,{"$nulls":6},2,{"$nulls":5},2,{"$nulls":6},2,{"$nulls":6},2]
[3,{"$nulls":6},3,{"$nulls":6},3,{"$nulls":5},3,{"$nulls":6},3,{"$nulls":6},3]
[4,{"$nulls":6},4,{"$nulls":6},4,{"$nulls":5},4,{"$nulls":6},4,{"$nulls":6},4]
[5,{"$nulls":6},5,{"$nulls":6},5,{"$nulls":5},5,{"$nulls":6},5,{"$nulls":6},5]
[6,{"$nulls":6},6,{"$nulls":6},6,{"$nulls":5},6,{"$nulls":6},6,{"$nulls":6},6]
[7,{"$nulls":6},7,{"$nulls":6},7,{"$nulls":5},7,{"$nulls":6},7,{"$nulls":6},7]
[8,{"$nulls":6},8,{"$nulls":6},8,{"$nulls":5},8,{"$nulls":6},8,{"$nulls":6},8]
[9,{"$nulls":6},9,{"$nulls":6},9,{"$nulls":5},9,{"$nulls":6},9,{"$nulls":6},9]
[10,{"$nulls":6},10,{"$nulls":6},10,{"$nulls":5},10,{"$nulls":6},10,{"$nulls":6},10]
[11,{"$nulls":6},11,{"$nulls":6},11,{"$nulls":5},11,{"$nulls":6},11,{"$nulls":6},11]
[12,{"$nulls":6},12,{"$nulls":6},12,{"$nulls":5},12,{"$nulls":6},12,{"$nulls":6},12]
[13,{"$nulls":6},13,{"$nulls":6},13,{"$nulls":5},13,{"$nulls":6},13,{"$nulls":6},13]
[14,{"$nulls":6},14,{"$nulls":6},14,{"$nulls":5},14,{"$nulls":6},14,{"$nulls":6},14]
[15,{"$nulls":6},15,{"$nulls":6},15,{"$nulls":5},15,{"$nulls":6},15,{"$nulls":6},15]
[16,{"$nulls":6},16,{"$nulls":6},16,{"$nulls":5},16,{"$nulls":6},16,{"$nulls":6},16]
[17,{"$nulls":6},17,{"$nulls":6},17,{"$nulls":5},17,{"$nulls":6},17,{"$nulls":6},17]
[18,{"$nulls":6},18,{"$nulls":6},18,{"$nulls":5},18,{"$nulls":6},18,{"$nulls":6},18]
["Total","Shots",null,null,"Shots",null,null,"Total","Shots",null,null,"Shots",null,null,"Total","Shots",null,null,"Shots",null,"Total","Shots",null,null,"Shots",null,null,"Total","Shots",null,null,"Shots",null,null,"Total","Shots",null,null,"Shots"]
[null,"Ends",null,null,"Ends",{"$nulls":3},"Ends",null,null,"Ends",{"$nulls":3},"Ends",null,null,"Ends",null,null,"Ends",null,null,"Ends",{"$nulls":3},"Ends",null,null,"Ends",{"$nulls":3},"Ends",null,null,"Ends"]
["1st Game ",{"$nulls":6},"2nd Game ",{"$nulls":6},"3rd Game ",{"$nulls":5},"4th Game",{"$nulls":6},"5th Game",{"$nulls":6},"6th Game"]
["Team No",null,null,"Rink No",{"$nulls":3},"Team No",null,null,"Rink No",{"$nulls":3},"Team No",null,null,"Rink No",null,null,"Team No",null,null,"Rink No",{"$nulls":3},"Team No",null,null,"Rink No",{"$nulls":3},"Team No",null,null,"Rink No"]
[]
[{"$f":"DRAW!$B$31","v":25},null,null,{"$f":"DRAW!$E$31","v":24},{"$nulls":3},{"$f":"DRAW!$B$31","v":25},null,null,{"$f":"DRAW!$G$31","v":4},{"$nulls":3},{"$f":"DRAW!$B$31","v":25},null,null,{"$f":"DRAW!$I$31","v":14},null,null,{"$f":"DRAW!$B$31","v":25},null,null,{"$f":"DRAW!$K$31","v":17},{"$nulls":3},{"$f":"DRAW!$B$31","v":25},null,null,{"$f":"DRAW!$M$31","v":27},{"$nulls":3},{"$f":"DRAW!$B$31","v":25},null,null,{"$f":"DRAW!$O$31","v":20}]
[null,"Team",{"$f":"DRAW!$B$31","v":25},"V","Team",{"$f":"DRAW!$D$31","v":32},null,null,"Team",{"$f":"DRAW!$B$31","v":25},"V","Team",{"$f":"DRAW!$F$31","v":34},null,null,"Team",{"$f":"DRAW!$B$31","v":25},"V","Team",{"$f":"DRAW!$H$31","v":38},null,"Team",{"$f":"DRAW!$B$31","v":25},"V","Team",{"$f":"DRAW!$J$31","v":36},null,null,"Team",{"$f":"DRAW!$B$31","v":25},"V","Team",{"$f":"DRAW!$L$31","v":40},null,null,"Team",{"$f":"DRAW!$B$31","v":25},"V","Team",{"$f":"DRAW!$N$31","v":42}]
["Ends","Shots","Total",null,"Shots","Total",null,"Ends","Shots","Total",null,"Shots","Total",null,"Ends","Shots","Total",null,"Shots","Total","Ends","Shots","Total",null,"Shots","Total",null,"Ends","Shots","Total",null,"Shots","Total",null,"Ends","Shots","Total",null,"Shots","Total"]
[1,{"$nulls":6},1,{"$nulls":6},1,{"$nulls":5},1,{"$nulls":6},1,{"$nulls":6},1]
[2,{"$nulls":6},2,{"$nulls":6},2,{"$nulls":5},2,{"$nulls":6},2,{"$nulls":6},2]
[3,{"$nulls":6},3,{"$nulls":6},3,{"$nulls":5},3,{"$nulls":6},3,{"$nulls":6},3]
[4,{"$nulls":6},4,{"$nulls":6},4,{"$nulls":5},4,{"$nulls":6},4,{"$nulls":6},4]
[5,{"$nulls":6},5,{"$nulls":6},5,{"$nulls":5},5,{"$nulls":6},5,{"$nulls":6},5]
[6,{"$nulls":6},6,{"$nulls":6},6,{"$nulls":5},6,{"$nulls":6},6,{"$nulls":6},6]
[7,{"$nulls":6},7,{"$nulls":6},7,{"$nulls":5},7,{"$nulls":6},7,{"$nulls":6},7]
[8,{"$nulls":6},8,{"$nulls":6},8,{"$nulls":5},8,{"$nulls":6},8,{"$nulls":6},8]
[9,{"$nulls":6},9,{"$nulls":6},9,{"$nulls":5},9,{"$nulls":6},9,{"$nulls":6},9]
[10,{"$nulls":6},10,{"$nulls":6},10,{"$nulls":5},10,{"$nulls":6},10,{"$nulls":6},10]
[11,{"$nulls":6},11,{"$nulls":6},11,{"$nulls":5},11,{"$nulls":6},11,{"$nulls":6},11]
[12,{"$nulls":6},12,{"$nulls":6},12,{"$nulls":5},12,{"$nulls":6},12,{"$nulls":6},12]
[13,{"$nulls":6},13,{"$nulls":6},13,{"$nulls":5},13,{"$nulls":6},13,{"$nulls":6},13]
[14,{"$nulls":6},14,{"$nulls":6},14,{"$nulls":5},14,{"$nulls":6},14,{"$nulls":6},14]
[15,{"$nulls":6},15,{"$nulls":6},15,{"$nulls":5},15,{"$nulls":6},15,{"$nulls":6},15]
[16,{"$nulls":6},16,{"$nulls":6},16,{"$nulls":5},16,{"$nulls":6},16,{"$nulls":6},16]
[17,{"$nulls":6},17,{"$nulls":6},17,{"$nulls":5},17,{"$nulls":6},17,{"$nulls":6},17]
[18,{"$nulls":6},18,{"$nulls":6},18,{"$nulls":5},18,{"$nulls":6},18,{"$nulls":6},18]
["Total","Shots",null,null,"Shots",null,null,"Total","Shots",null,null,"Shots",null,null,"Total","Shots",null,null,"Shots",null,"Total","Shots",null,null,"Shots",null,null,"Total","Shots",null,null,"Shots",null,null,"Total","Shots",null,null,"Shots"]
[null,"Ends",null,null,"Ends",{"$nulls":3},"Ends",null,null,"Ends",{"$nulls":3},"Ends",null,null,"Ends",null,null,"Ends",null,null,"Ends",{"$nulls":3},"Ends",null,null,"Ends",{"$nulls":3},"Ends",null,null,"Ends"]
[]
[]
["1st Game ",{"$nulls":6},"2nd Game ",{"$nulls":6},"3rd Game ",{"$nulls":5},"4th Game",{"$nulls":6},"5th Game",{"$nulls":6},"6th Game"]
["Team No",null,null,"Rink No",{"$nulls":3},"Team No",null,null,"Rink No",{"$nulls":3},"Team No",null,null,"Rink No",null,null,"Team No",null,null,"Rink No",{"$nulls":3},"Team No",null,null,"Rink No",{"$nulls":3},"Team No",null,null,"Rink No"]
[]
[{"$f":"DRAW!$B$32","v":26},null,null,{"$f":"DRAW!$E$32","v":25},{"$nulls":3},{"$f":"DRAW!$B$32","v":26},null,null,{"$f":"DRAW!$G$32","v":1},{"$nulls":3},{"$f":"DRAW!$B$32","v":26},null,null,{"$f":"DRAW!$I$32","v":16},null,null,{"$f":"DRAW!$B$32","v":26},null,null,{"$f":"DRAW!$K$32","v":26},{"$nulls":3},{"$f":"DRAW!$B$32","v":26},null,null,{"$f":"DRAW!$M$32","v":7},{"$nulls":3},{"$f":"DRAW!$B$32","v":26},null,null,{"$f":"DRAW!$O$32","v":9}]
[null,"Team",{"$f":"DRAW!$B$32","v":26},"V","Team",{"$f":"DRAW!$D$32","v":31},null,null,"Team",{"$f":"DRAW!$B$32","v":26},"V","Team",{"$f":"DRAW!$F$32","v":33},null,null,"Team",{"$f":"DRAW!$B$32","v":26},"V","Team",{"$f":"DRAW!$H$32","v":37},null,"Team",{"$f":"DRAW!$B$32","v":26},"V","Team",{"$f":"DRAW!$J$32","v":35},null,null,"Team",{"$f":"DRAW!$B$32","v":26},"V","Team",{"$f":"DRAW!$L$32","v":39},null,null,"Team",{"$f":"DRAW!$B$32","v":26},"V","Team",{"$f":"DRAW!$N$32","v":41}]
["Ends","Shots","Total",null,"Shots","Total",null,"Ends","Shots","Total",null,"Shots","Total",null,"Ends","Shots","Total",null,"Shots","Total","Ends","Shots","Total",null,"Shots","Total",null,"Ends","Shots","Total",null,"Shots","Total",null,"Ends","Shots","Total",null,"Shots","Total"]
[1,{"$nulls":6},1,{"$nulls":6},1,{"$nulls":5},1,{"$nulls":6},1,{"$nulls":6},1]
[2,{"$nulls":6},2,{"$nulls":6},2,{"$nulls":5},2,{"$nulls":6},2,{"$nulls":6},2]
[3,{"$nulls":6},3,{"$nulls":6},3,{"$nulls":5},3,{"$nulls":6},3,{"$nulls":6},3]
[4,{"$nulls":6},4,{"$nulls":6},4,{"$nulls":5},4,{"$nulls":6},4,{"$nulls":6},4]
[5,{"$nulls":6},5,{"$nulls":6},5,{"$nulls":5},5,{"$nulls":6},5,{"$nulls":6},5]
[6,{"$nulls":6},6,{"$nulls":6},6,{"$nulls":5},6,{"$nulls":6},6,{"$nulls":6},6]
[7,{"$nulls":6},7,{"$nulls":6},7,{"$nulls":5},7,{"$nulls":6},7,{"$nulls":6},7]
[8,{"$nulls":6},8,{"$nulls":6},8,{"$nulls":5},8,{"$nulls":6},8,{"$nulls":6},8]
[9,{"$nulls":6},9,{"$nulls":6},9,{"$nulls":5},9,{"$nulls":6},9,{"$nulls":6},9]
[10,{"$nulls":6},10,{"$nulls":6},10,{"$nulls":5},10,{"$nulls":6},10,{"$nulls":6},10]
[11,{"$nulls":6},11,{"$nulls":6},11,{"$nulls":5},11,{"$nulls":6},11,{"$nulls":6},11]
[12,{"$nulls":6},12,{"$nulls":6},12,{"$nulls":5},12,{"$nulls":6},12,{"$nulls":6},12]
[13,{"$nulls":6},13,{"$nulls":6},13,{"$nulls":5},13,{"$nulls":6},13,{"$nulls":6},13]
[14,{"$nulls":6},14,{"$nulls":6},14,{"$nulls":5},14,{"$nulls":6},14,{"$nulls":6},14]
[15,{"$nulls":6},15,{"$nulls":6},15,{"$nulls":5},15,{"$nulls":6},15,{"$nulls":6},15]
[16,{"$nulls":6},16,{"$nulls":6},16,{"$nulls":5},16,{"$nulls":6},16,{"$nulls":6},16]
[17,{"$nulls":6},17,{"$nulls":6},17,{"$nulls":5},17,{"$nulls":6},17,{"$nulls":6},17]
[18,{"$nulls":6},18,{"$nulls":6},18,{"$nulls":5},18,{"$nulls":6},18,{"$nulls":6},18]
["Total","Shots",null,null,"Shots",null,null,"Total","Shots",null,null,"Shots",null,null,"Total","Shots",null,null,"Shots",null,"Total","Shots",null,null,"Shots",null,null,"Total","Shots",null,null,"Shots",null,null,"Total","Shots",null,null,"Shots"]
[null,"Ends",null,null,"Ends",{"$nulls":3},"Ends",null,null,"Ends",{"$nulls":3},"Ends",null,null,"Ends",null,null,"Ends",null,null,"Ends",{"$nulls":3},"Ends",null,null,"Ends",{"$nulls":3},"Ends",null,null,"Ends"]
["1st Game ",{"$nulls":6},"2nd Game ",{"$nulls":6},"3rd Game ",{"$nulls":5},"4th Game",{"$nulls":6},"5th Game",{"$nulls":6},"6th Game"]
["Team No",null,null,"Rink No",{"$nulls":3},"Team No",null,null,"Rink No",{"$nulls":3},"Team No",null,null,"Rink No",null,null,"Team No",null,null,"Rink No",{"$nulls":3},"Team No",null,null,"Rink No",{"$nulls":3},"Team No",null,null,"Rink No"]
[]
[{"$f":"DRAW!$B$33","v":27},null,null,{"$f":"DRAW!$E$33","v":26},{"$nulls":3},{"$f":"DRAW!$B$33","v":27},null,null,{"$f":"DRAW!$G$33","v":7},{"$nulls":3},{"$f":"DRAW!$B$33","v":27},null,null,{"$f":"DRAW!$I$33","v":9},null,null,{"$f":"DRAW!$B$33","v":27},null,null,{"$f":"DRAW!$K$33","v":27},{"$nulls":3},{"$f":"DRAW!$B$33","v":27},null,null,{"$f":"DRAW!$M$33","v":6},{"$nulls":3},{"$f":"DRAW!$B$33","v":27},null,null,{"$f":"DRAW!$O$33","v":10}]
[null,"Team",{"$f":"DRAW!$B$33","v":27},"V","Team",{"$f":"DRAW!$D$33","v":30},null,null,"Team",{"$f":"DRAW!$B$33","v":27},"V","Team",{"$f":"DRAW!$F$33","v":32},null,null,"Team",{"$f":"DRAW!$B$33","v":27},"V","Team",{"$f":"DRAW!$H$33","v":36},null,"Team",{"$f":"DRAW!$B$33","v":27},null,null,{"$f":"DRAW!$J$33","v":34},null,null,"Team",{"$f":"DRAW!$B$33","v":27},"V","Team",{"$f":"DRAW!$L$33","v":38},null,null,"Team",{"$f":"DRAW!$B$33","v":27},"V","Team",{"$f":"DRAW!$N$33","v":40}]
["Ends","Shots","Total",null,"Shots","Total",null,"Ends","Shots","Total",null,"Shots","Total",null,"Ends","Shots","Total",null,"Shots","Total","Ends","Shots","Total",null,"Shots","Total",null,"Ends","Shots","Total",null,"Shots","Total",null,"Ends","Shots","Total",null,"Shots","Total"]
[1,{"$nulls":6},1,{"$nulls":6},1,{"$nulls":5},1,{"$nulls":6},1,{"$nulls":6},1]
[2,{"$nulls":6},2,{"$nulls":6},2,{"$nulls":5},2,{"$nulls":6},2,{"$nulls":6},2]
[3,{"$nulls":6},3,{"$nulls":6},3,{"$nulls":5},3,{"$nulls":6},3,{"$nulls":6},3]
[4,{"$nulls":6},4,{"$nulls":6},4,{"$nulls":5},4,{"$nulls":6},4,{"$nulls":6},4]
[5,{"$nulls":6},5,{"$nulls":6},5,{"$nulls":5},5,{"$nulls":6},5,{"$nulls":6},5]
[6,{"$nulls":6},6,{"$nulls":6},6,{"$nulls":5},6,{"$nulls":6},6,{"$nulls":6},6]
[7,{"$nulls":6},7,{"$nulls":6},7,{"$nulls":5},7,{"$nulls":6},7,{"$nulls":6},7]
[8,{"$nulls":6},8,{"$nulls":6},8,{"$nulls":5},8,{"$nulls":6},8,{"$nulls":6},8]
[9,{"$nulls":6},9,{"$nulls":6},9,{"$nulls":5},9,{"$nulls":6},9,{"$nulls":6},9]
[10,{"$nulls":6},10,{"$nulls":6},10,{"$nulls":5},10,{"$nulls":6},10,{"$nulls":6},10]
[11,{"$nulls":6},11,{"$nulls":6},11,{"$nulls":5},11,{"$nulls":6},11,{"$nulls":6},11]
[12,{"$nulls":6},12,{"$nulls":6},12,{"$nulls":5},12,{"$nulls":6},12,{"$nulls":6},12]
[13,{"$nulls":6},13,{"$nulls":6},13,{"$nulls":5},13,{"$nulls":6},13,{"$nulls":6},13]
[14,{"$nulls":6},14,{"$nulls":6},14,{"$nulls":5},14,{"$nulls":6},14,{"$nulls":6},14]
[15,{"$nulls":6},15,{"$nulls":6},15,{"$nulls":5},15,{"$nulls":6},15,{"$nulls":6},15]
[16,{"$nulls":6},16,{"$nulls":6},16,{"$nulls":5},16,{"$nulls":6},16,{"$nulls":6},16]
[17,{"$nulls":6},17,{"$nulls":6},17,{"$nulls":5},17,{"$nulls":6},17,{"$nulls":6},17]
[18,{"$nulls":6},18,{"$nulls":6},18,{"$nulls":5},18,{"$nulls":6},18,{"$nulls":6},18]
["Total","Shots",null,null,"Shots",null,null,"Total","Shots",null,null,"Shots",null,null,"Total","Shots",null,null,"Shots",null,"Total","Shots",null,null,"Shots",null,null,"Total","Shots",null,null,"Shots",null,null,"Total","Shots",null,null,"Shots"]
[null,"Ends",null,null,"Ends",{"$nulls":3},"Ends",null,null,"Ends",{"$nulls":3},"Ends",null,null,"Ends",null,null,"Ends",null,null,"Ends",{"$nulls":3},"Ends",null,null,"Ends",{"$nulls":3},"Ends",null,null,"Ends"]
[]
[]
["1st Game ",{"$nulls":6},"2nd Game ",{"$nulls":6},"3rd Game ",{"$nulls":5},"4th Game",{"$nulls":6},"5th Game",{"$nulls":6},"6th Game"]
["Team No",null,null,"Rink No",{"$nulls":3},"Team No",null,null,"Rink No",{"$nulls":3},"Team No",null,null,"Rink No",null,null,"Team No",null,null,"Rink No",{"$nulls":3},"Team No",null,null,"Rink No",{"$nulls":3},"Team No",null,null,"Rink No"]
[]
[{"$f":"DRAW!$B$34","v":28},null,null,{"$f":"DRAW!$E$34","v":27},{"$nulls":3},{"$f":"DRAW!$B$34","v":28},null,null,{"$f":"DRAW!$G$34","v":5},{"$nulls":3},{"$f":"DRAW!$B$34","v":28},null,null,{"$f":"DRAW!$I$34","v":10},null,null,{"$f":"DRAW!$B$34","v":28},null,null,{"$f":"DRAW!$K$34","v":21},{"$nulls":3},{"$f":"DRAW!$B$34","v":28},null,null,{"$f":"DRAW!$M$34","v":4},{"$nulls":3},{"$f":"DRAW!$B$34","v":28},null,null,{"$f":"DRAW!$O$34","v":27}]
[null,"Team",{"$f":"DRAW!$B$34","v":28},"V","Team",{"$f":"DRAW!$D$34","v":29},null,null,"Team",{"$f":"DRAW!$B$34","v":28},"V","Team",{"$f":"DRAW!$F$34","v":31},null,null,"Team",{"$f":"DRAW!$B$34","v":28},"V","Team",{"$f":"DRAW!$H$34","v":35},null,"Team",{"$f":"DRAW!$B$34","v":28},"V","Team",{"$f":"DRAW!$J$34","v":33},null,null,"Team",{"$f":"DRAW!$B$34","v":28},"V","Team",{"$f":"DRAW!$L$34","v":37},null,null,"Team",{"$f":"DRAW!$B$34","v":28},"V","Team",{"$f":"DRAW!$N$34","v":39}]
["Ends","Shots","Total",null,"Shots","Total",null,"Ends","Shots","Total",null,"Shots","Total",null,"Ends","Shots","Total",null,"Shots","Total","Ends","Shots","Total",null,"Shots","Total",null,"Ends","Shots","Total",null,"Shots","Total",null,"Ends","Shots","Total",null,"Shots","Total"]
[1,{"$nulls":6},1,{"$nulls":6},1,{"$nulls":5},1,{"$nulls":6},1,{"$nulls":6},1]
[2,{"$nulls":6},2,{"$nulls":6},2,{"$nulls":5},2,{"$nulls":6},2,{"$nulls":6},2]
[3,{"$nulls":6},3,{"$nulls":6},3,{"$nulls":5},3,{"$nulls":6},3,{"$nulls":6},3]
[4,{"$nulls":6},4,{"$nulls":6},4,{"$nulls":5},4,{"$nulls":6},4,{"$nulls":6},4]
[5,{"$nulls":6},5,{"$nulls":6},5,{"$nulls":5},5,{"$nulls":6},5,{"$nulls":6},5]
[6,{"$nulls":6},6,{"$nulls":6},6,{"$nulls":5},6,{"$nulls":6},6,{"$nulls":6},6]
[7,{"$nulls":6},7,{"$nulls":6},7,{"$nulls":5},7,{"$nulls":6},7,{"$nulls":6},7]
[8,{"$nulls":6},8,{"$nulls":6},8,{"$nulls":5},8,{"$nulls":6},8,{"$nulls":6},8]
[9,{"$nulls":6},9,{"$nulls":6},9,{"$nulls":5},9,{"$nulls":6},9,{"$nulls":6},9]
[10,{"$nulls":6},10,{"$nulls":6},10,{"$nulls":5},10,{"$nulls":6},10,{"$nulls":6},10]
[11,{"$nulls":6},11,{"$nulls":6},11,{"$nulls":5},11,{"$nulls":6},11,{"$nulls":6},11]
[12,{"$nulls":6},12,{"$nulls":6},12,{"$nulls":5},12,{"$nulls":6},12,{"$nulls":6},12]
[13,{"$nulls":6},13,{"$nulls":6},13,{"$nulls":5},13,{"$nulls":6},13,{"$nulls":6},13]
[14,{"$nulls":6},14,{"$nulls":6},14,{"$nulls":5},14,{"$nulls":6},14,{"$nulls":6},14]
[15,{"$nulls":6},15,{"$nulls":6},15,{"$nulls":5},15,{"$nulls":6},15,{"$nulls":6},15]
[16,{"$nulls":6},16,{"$nulls":6},16,{"$nulls":5},16,{"$nulls":6},16,{"$nulls":6},16]
[17,{"$nulls":6},17,{"$nulls":6},17,{"$nulls":5},17,{"$nulls":6},17,{"$nulls":6},17]
[18,{"$nulls":6},18,{"$nulls":6},18,{"$nulls":5},18,{"$nulls":6},18,{"$nulls":6},18]
["Total","Shots",null,null,"Shots",null,null,"Total","Shots",null,null,"Shots",null,null,"Total","Shots",null,null,"Shots",null,"Total","Shots",null,null,"Shots",null,null,"Total","Shots",null,null,"Shots",null,null,"Total","Shots",null,null,"Shots"]
[null,"Ends",null,null,"Ends",{"$nulls":3},"Ends",null,null,"Ends",{"$nulls":3},"Ends",null,null,"Ends",null,null,"Ends",null,null,"Ends",{"$nulls":3},"Ends",null,null,"Ends",{"$nulls":3},"Ends",null,null,"Ends"]
["1st Game ",{"$nulls":6},"2nd Game ",{"$nulls":6},"3rd Game ",{"$nulls":5},"4th Game",{"$nulls":6},"5th Game",{"$nulls":6},"6th Game"]
["Team No",null,null,"Rink No",{"$nulls":3},"Team No",null,null,"Rink No",{"$nulls":3},"Team No",null,null,"Rink No",null,null,"Team No",null,null,"Rink No",{"$nulls":3},"Team No",null,null,"Rink No",{"$nulls":3},"Team No",null,null,"Rink No"]
[]
[{"$f":"DRAW!$B$35","v":29},null,null,{"$f":"DRAW!$E$35","v":27},{"$nulls":3},{"$f":"DRAW!$B$35","v":29},null,null,{"$f":"DRAW!$G$35","v":6},{"$nulls":3},{"$f":"DRAW!$B$35","v":29},null,null,{"$f":"DRAW!$I$35","v":11},null,null,{"$f":"DRAW!$B$35","v":29},null,null,{"$f":"DRAW!$K$35","v":19},{"$nulls":3},{"$f":"DRAW!$B$35","v":29},null,null,{"$f":"DRAW!$M$35","v":1},{"$nulls":3},{"$f":"DRAW!$B$35","v":29},null,null,{"$f":"DRAW!$O$35","v":8}]
[null,"Team",{"$f":"DRAW!$B$35","v":29},"V","Team",{"$f":"DRAW!$D$35","v":28},null,null,"Team",{"$f":"DRAW!$B$35","v":29},"V","Team",{"$f":"DRAW!$F$35","v":30},null,null,"Team",{"$f":"DRAW!$B$35","v":29},"V","Team",{"$f":"DRAW!$H$35","v":34},null,"Team",{"$f":"DRAW!$B$35","v":29},"V","Team",{"$f":"DRAW!$J$35","v":32},null,null,"Team",{"$f":"DRAW!$B$35","v":29},"V","Team",{"$f":"DRAW!$L$35","v":36},null,null,"Team",{"$f":"DRAW!$B$35","v":29},"V","Team",{"$f":"DRAW!$N$35","v":38}]
["Ends","Shots","Total",null,"Shots","Total",null,"Ends","Shots","Total",null,"Shots","Total",null,"Ends","Shots","Total",null,"Shots","Total","Ends","Shots","Total",null,"Shots","Total",null,"Ends","Shots","Total",null,"Shots","Total",null,"Ends","Shots","Total",null,"Shots","Total"]
[1,{"$nulls":6},1,{"$nulls":6},1,{"$nulls":5},1,{"$nulls":6},1,{"$nulls":6},1]
[2,{"$nulls":6},2,{"$nulls":6},2,{"$nulls":5},2,{"$nulls":6},2,{"$nulls":6},2]
[3,{"$nulls":6},3,{"$nulls":6},3,{"$nulls":5},3,{"$nulls":6},3,{"$nulls":6},3]
[4,{"$nulls":6},4,{"$nulls":6},4,{"$nulls":5},4,{"$nulls":6},4,{"$nulls":6},4]
[5,{"$nulls":6},5,{"$nulls":6},5,{"$nulls":5},5,{"$nulls":6},5,{"$nulls":6},5]
[6,{"$nulls":6},6,{"$nulls":6},6,{"$nulls":5},6,{"$nulls":6},6,{"$nulls":6},6]
[7,{"$nulls":6},7,{"$nulls":6},7,{"$nulls":5},7,{"$nulls":6},7,{"$nulls":6},7]
[8,{"$nulls":6},8,{"$nulls":6},8,{"$nulls":5},8,{"$nulls":6},8,{"$nulls":6},8]
[9,{"$nulls":6},9,{"$nulls":6},9,{"$nulls":5},9,{"$nulls":6},9,{"$nulls":6},9]
[10,{"$nulls":6},10,{"$nulls":6},10,{"$nulls":5},10,{"$nulls":6},10,{"$nulls":6},10]
[11,{"$nulls":6},11,{"$nulls":6},11,{"$nulls":5},11,{"$nulls":6},11,{"$nulls":6},11]
[12,{"$nulls":6},12,{"$nulls":6},12,{"$nulls":5},12,{"$nulls":6},12,{"$nulls":6},12]
[13,{"$nulls":6},13,{"$nulls":6},13,{"$nulls":5},13,{"$nulls":6},13,{"$nulls":6},13]
[14,{"$nulls":6},14,{"$nulls":6},14,{"$nulls":5},14,{"$nulls":6},14,{"$nulls":6},14]
[15,{"$nulls":6},15,{"$nulls":6},15,{"$nulls":5},15,{"$nulls":6},15,{"$nulls":6},15]
[16,{"$nulls":6},16,{"$nulls":6},16,{"$nulls":5},16,{"$nulls":6},16,{"$nulls":6},16]
[17,{"$nulls":6},17,{"$nulls":6},17,{"$nulls":5},17,{"$nulls":6},17,{"$nulls":6},17]
[18,{"$nulls":6},18,{"$nulls":6},18,{"$nulls":5},18,{"$nulls":6},18,{"$nulls":6},18]
["Total","Shots",null,null,"Shots",null,null,"Total","Shots",null,null,"Shots",null,null,"Total","Shots",null,null,"Shots",null,"Total","Shots",null,null,"Shots",null,null,"Total","Shots",null,null,"Shots",null,null,"Total","Shots",null,null,"Shots"]
[null,"Ends",null,null,"Ends",{"$nulls":3},"Ends",null,null,"Ends",{"$nulls":3},"Ends",null,null,"Ends",null,null,"Ends",null,null,"Ends",{"$nulls":3},"Ends",null,null,"Ends",{"$nulls":3},"Ends",null,null,"Ends"]
[]
[]
["1st Game ",{"$nulls":6},"2nd Game ",{"$nulls":6},"3rd Game ",{"$nulls":5},"4th Game",{"$nulls":6},"5th Game",{"$nulls":6},"6th Game"]
["Team No",null,null,"Rink No",{"$nulls":3},"Team No",null,null,"Rink No",{"$nulls":3},"Team No",null,null,"Rink No",null,null,"Team No",null,null,"Rink No",{"$nulls":3},"Team No",null,null,"Rink No",{"$nulls":3},"Team No",null,null,"Rink No"]
[]
[{"$f":"DRAW!$B$36","v":30},null,null,{"$f":"DRAW!$E$36","v":26},{"$nulls":3},{"$f":"DRAW!$B$36","v":30},null,null,{"$f":"DRAW!$G$36","v":6},{"$nulls":3},{"$f":"DRAW!$B$36","v":30},null,null,{"$f":"DRAW!$I$36","v":12},null,null,{"$f":"DRAW!$B$36","v":30},null,null,{"$f":"DRAW!$K$36","v":7},{"$nulls":3},{"$f":"DRAW!$B$36","v":30},null,null,{"$f":"DRAW!$M$36","v":16},{"$nulls":3},{"$f":"DRAW!$B$36","v":30},null,null,{"$f":"DRAW!$O$36","v":11}]
[null,"Team",{"$f":"DRAW!$B$36","v":30},"V","Team",{"$f":"DRAW!$D$36","v":27},null,null,"Team",{"$f":"DRAW!$B$36","v":30},"V","Team",{"$f":"DRAW!$F$36","v":29},null,null,"Team",{"$f":"DRAW!$B$36","v":30},"V","Team",{"$f":"DRAW!$H$36","v":33},null,"Team",{"$f":"DRAW!$B$36","v":30},"V","Team",{"$f":"DRAW!$J$36","v":31},null,null,"Team",{"$f":"DRAW!$B$36","v":30},"V","Team",{"$f":"DRAW!$L$36","v":35},null,null,"Team",{"$f":"DRAW!$B$36","v":30},"V","Team",{"$f":"DRAW!$N$36","v":37}]
["Ends","Shots","Total",null,"Shots","Total",null,"Ends","Shots","Total",null,"Shots","Total",null,"Ends","Shots","Total",null,"Shots","Total","Ends","Shots","Total",null,"Shots","Total",null,"Ends","Shots","Total",null,"Shots","Total",null,"Ends","Shots","Total",null,"Shots","Total"]
[1,{"$nulls":6},1,{"$nulls":6},1,{"$nulls":5},1,{"$nulls":6},1,{"$nulls":6},1]
[2,{"$nulls":6},2,{"$nulls":6},2,{"$nulls":5},2,{"$nulls":6},2,{"$nulls":6},2]
[3,{"$nulls":6},3,{"$nulls":6},3,{"$nulls":5},3,{"$nulls":6},3,{"$nulls":6},3]
[4,{"$nulls":6},4,{"$nulls":6},4,{"$nulls":5},4,{"$nulls":6},4,{"$nulls":6},4]
[5,{"$nulls":6},5,{"$nulls":6},5,{"$nulls":5},5,{"$nulls":6},5,{"$nulls":6},5]
[6,{"$nulls":6},6,{"$nulls":6},6,{"$nulls":5},6,{"$nulls":6},6,{"$nulls":6},6]
[7,{"$nulls":6},7,{"$nulls":6},7,{"$nulls":5},7,{"$nulls":6},7,{"$nulls":6},7]
[8,{"$nulls":6},8,{"$nulls":6},8,{"$nulls":5},8,{"$nulls":6},8,{"$nulls":6},8]
[9,{"$nulls":6},9,{"$nulls":6},9,{"$nulls":5},9,{"$nulls":6},9,{"$nulls":6},9]
[10,{"$nulls":6},10,{"$nulls":6},10,{"$nulls":5},10,{"$nulls":6},10,{"$nulls":6},10]
[11,{"$nulls":6},11,{"$nulls":6},11,{"$nulls":5},11,{"$nulls":6},11,{"$nulls":6},11]
[12,{"$nulls":6},12,{"$nulls":6},12,{"$nulls":5},12,{"$nulls":6},12,{"$nulls":6},12]
[13,{"$nulls":6},13,{"$nulls":6},13,{"$nulls":5},13,{"$nulls":6},13,{"$nulls":6},13]
[14,{"$nulls":6},14,{"$nulls":6},14,{"$nulls":5},14,{"$nulls":6},14,{"$nulls":6},14]
[15,{"$nulls":6},15,{"$nulls":6},15,{"$nulls":5},15,{"$nulls":6},15,{"$nulls":6},15]
[16,{"$nulls":6},16,{"$nulls":6},16,{"$nulls":5},16,{"$nulls":6},16,{"$nulls":6},16]
[17,{"$nulls":6},17,{"$nulls":6},17,{"$nulls":5},17,{"$nulls":6},17,{"$nulls":6},17]
[18,{"$nulls":6},18,{"$nulls":6},18,{"$nulls":5},18,{"$nulls":6},18,{"$nulls":6},18]
["Total","Shots",null,null,"Shots",null,null,"Total","Shots",null,null,"Shots",null,null,"Total","Shots",null,null,"Shots",null,"Total","Shots",null,null,"Shots",null,null,"Total","Shots",null,null,"Shots",null,null,"Total","Shots",null,null,"Shots"]
[null,"Ends",null,null,"Ends",{"$nulls":3},"Ends",null,null,"Ends",{"$nulls":3},"Ends",null,null,"Ends",null,null,"Ends",null,null,"Ends",{"$nulls":3},"Ends",null,null,"Ends",{"$nulls":3},"Ends",null,null,"Ends"]
["1st Game ",{"$nulls":6},"2nd Game ",{"$nulls":6},"3rd Game ",{"$nulls":5},"4th Game",{"$nulls":6},"5th Game",{"$nulls":6},"6th Game"]
["Team No",null,null,"Rink No",{"$nulls":3},"Team No",null,null,"Rink No",{"$nulls":3},"Team No",null,null,"Rink No",null,null,"Team No",null,null,"Rink No",{"$nulls":3},"Team No",null,null,"Rink No",{"$nulls":3},"Team No",null,null,"Rink No"]
[]
[{"$f":"DRAW!$B$37","v":31},null,null,{"$f":"DRAW!$E$37","v":25},{"$nulls":3},{"$f":"DRAW!$B$37","v":31},null,null,{"$f":"DRAW!$G$37","v":5},{"$nulls":3},{"$f":"DRAW!$B$37","v":31},null,null,{"$f":"DRAW!$I$37","v":13},null,null,{"$f":"DRAW!$B$37","v":31},null,null,{"$f":"DRAW!$K$37","v":7},{"$nulls":3},{"$f":"DRAW!$B$37","v":31},null,null,{"$f":"DRAW!$M$37","v":3},{"$nulls":3},{"$f":"DRAW!$B$37","v":31},null,null,{"$f":"DRAW!$O$37","v":12}]
[null,"Team",{"$f":"DRAW!$B$37","v":31},"V","Team",{"$f":"DRAW!$D$37","v":26},null,null,"Team",{"$f":"DRAW!$B$37","v":31},"V","Team",{"$f":"DRAW!$F$37","v":28},null,null,"Team",{"$f":"DRAW!$B$37","v":31},"V","Team",{"$f":"DRAW!$H$37","v":32},null,"Team",{"$f":"DRAW!$B$37","v":31},"V","Team",{"$f":"DRAW!$J$37","v":30},null,null,"Team",{"$f":"DRAW!$B$37","v":31},"V","Team",{"$f":"DRAW!$L$37","v":34},null,null,"Team",{"$f":"DRAW!$B$37","v":31},"V","Team",{"$f":"DRAW!$N$37","v":36}]
["Ends","Shots","Total",null,"Shots","Total",null,"Ends","Shots","Total",null,"Shots","Total",null,"Ends","Shots","Total",null,"Shots","Total","Ends","Shots","Total",null,"Shots","Total",null,"Ends","Shots","Total",null,"Shots","Total",null,"Ends","Shots","Total",null,"Shots","Total"]
[1,{"$nulls":6},1,{"$nulls":6},1,{"$nulls":5},1,{"$nulls":6},1,{"$nulls":6},1]
[2,{"$nulls":6},2,{"$nulls":6},2,{"$nulls":5},2,{"$nulls":6},2,{"$nulls":6},2]
[3,{"$nulls":6},3,{"$nulls":6},3,{"$nulls":5},3,{"$nulls":6},3,{"$nulls":6},3]
[4,{"$nulls":6},4,{"$nulls":6},4,{"$nulls":5},4,{"$nulls":6},4,{"$nulls":6},4]
[5,{"$nulls":6},5,{"$nulls":6},5,{"$nulls":5},5,{"$nulls":6},5,{"$nulls":6},5]
[6,{"$nulls":6},6,{"$nulls":6},6,{"$nulls":5},6,{"$nulls":6},6,{"$nulls":6},6]
[7,{"$nulls":6},7,{"$nulls":6},7,{"$nulls":5},7,{"$nulls":6},7,{"$nulls":6},7]
[8,{"$nulls":6},8,{"$nulls":6},8,{"$nulls":5},8,{"$nulls":6},8,{"$nulls":6},8]
[9,{"$nulls":6},9,{"$nulls":6},9,{"$nulls":5},9,{"$nulls":6},9,{"$nulls":6},9]
[10,{"$nulls":6},10,{"$nulls":6},10,{"$nulls":5},10,{"$nulls":6},10,{"$nulls":6},10]
[11,{"$nulls":6},11,{"$nulls":6},11,{"$nulls":5},11,{"$nulls":6},11,{"$nulls":6},11]
[12,{"$nulls":6},12,{"$nulls":6},12,{"$nulls":5},12,{"$nulls":6},12,{"$nulls":6},12]
[13,{"$nulls":6},13,{"$nulls":6},13,{"$nulls":5},13,{"$nulls":6},13,{"$nulls":6},13]
[14,{"$nulls":6},14,{"$nulls":6},14,{"$nulls":5},14,{"$nulls":6},14,{"$nulls":6},14]
[15,{"$nulls":6},15,{"$nulls":6},15,{"$nulls":5},15,{"$nulls":6},15,{"$nulls":6},15]
[16,{"$nulls":6},16,{"$nulls":6},16,{"$nulls":5},16,{"$nulls":6},16,{"$nulls":6},16]
[17,{"$nulls":6},17,{"$nulls":6},17,{"$nulls":5},17,{"$nulls":6},17,{"$nulls":6},17]
[18,{"$nulls":6},18,{"$nulls":6},18,{"$nulls":5},18,{"$nulls":6},18,{"$nulls":6},18]
["Total","Shots",null,null,"Shots",null,null,"Total","Shots",null,null,"Shots",null,null,"Total","Shots",null,null,"Shots",null,"Total","Shots",null,null,"Shots",null,null,"Total","Shots",null,null,"Shots",null,null,"Total","Shots",null,null,"Shots"]
[null,"Ends",null,null,"Ends",{"$nulls":3},"Ends",null,null,"Ends",{"$nulls":3},"Ends",null,null,"Ends",null,null,"Ends",null,null,"Ends",{"$nulls":3},"Ends",null,null,"Ends",{"$nulls":3},"Ends",null,null,"Ends"]
[]
[]
["1st Game ",{"$nulls":6},"2nd Game ",{"$nulls":6},"3rd Game ",{"$nulls":5},"4th Game",{"$nulls":6},"5th Game",{"$nulls":6},"6th Game"]
["Team No",null,null,"Rink No",{"$nulls":3},"Team No",null,null,"Rink No",{"$nulls":3},"Team No",null,null,"Rink No",null,null,"Team No",null,null,"Rink No",{"$nulls":3},"Team No",null,null,"Rink No",{"$nulls":3},"Team No",null,null,"Rink No"]
[]
[{"$f":"DRAW!$B$38","v":32},null,null,{"$f":"DRAW!$E$38","v":24},{"$nulls":3},{"$f":"DRAW!$B$38","v":32},null,null,{"$f":"DRAW!$G$38","v":7},{"$nulls":3},{"$f":"DRAW!$B$38","v":32},null,null,{"$f":"DRAW!$I$38","v":13},null,null,{"$f":"DRAW!$B$38","v":32},null,null,{"$f":"DRAW!$K$38","v":19},{"$nulls":3},{"$f":"DRAW!$B$38","v":32},null,null,{"$f":"DRAW!$M$38","v":2},{"$nulls":3},{"$f":"DRAW!$B$38","v":32},null,null,{"$f":"DRAW!$O$38","v":13}]
[null,"Team",{"$f":"DRAW!$B$38","v":32},"V","Team",{"$f":"DRAW!$D$38","v":25},null,null,"Team",{"$f":"DRAW!$B$38","v":32},"V","Team",{"$f":"DRAW!$F$38","v":27},null,null,"Team",{"$f":"DRAW!$B$38","v":32},"V","Team",{"$f":"DRAW!$H$38","v":31},null,"Team",{"$f":"DRAW!$B$38","v":32},"V","Team",{"$f":"DRAW!$J$38","v":29},null,null,"Team",{"$f":"DRAW!$B$38","v":32},"V","Team",{"$f":"DRAW!$L$38","v":33},null,null,"Team",{"$f":"DRAW!$B$38","v":32},"V","Team",{"$f":"DRAW!$N$38","v":35}]
["Ends","Shots","Total",null,"Shots","Total",null,"Ends","Shots","Total",null,"Shots","Total",null,"Ends","Shots","Total",null,"Shots","Total","Ends","Shots","Total",null,"Shots","Total",null,"Ends","Shots","Total",null,"Shots","Total",null,"Ends","Shots","Total",null,"Shots","Total"]
[1,{"$nulls":6},1,{"$nulls":6},1,{"$nulls":5},1,{"$nulls":6},1,{"$nulls":6},1]
[2,{"$nulls":6},2,{"$nulls":6},2,{"$nulls":5},2,{"$nulls":6},2,{"$nulls":6},2]
[3,{"$nulls":6},3,{"$nulls":6},3,{"$nulls":5},3,{"$nulls":6},3,{"$nulls":6},3]
[4,{"$nulls":6},4,{"$nulls":6},4,{"$nulls":5},4,{"$nulls":6},4,{"$nulls":6},4]
[5,{"$nulls":6},5,{"$nulls":6},5,{"$nulls":5},5,{"$nulls":6},5,{"$nulls":6},5]
[6,{"$nulls":6},6,{"$nulls":6},6,{"$nulls":5},6,{"$nulls":6},6,{"$nulls":6},6]
[7,{"$nulls":6},7,{"$nulls":6},7,{"$nulls":5},7,{"$nulls":6},7,{"$nulls":6},7]
[8,{"$nulls":6},8,{"$nulls":6},8,{"$nulls":5},8,{"$nulls":6},8,{"$nulls":6},8]
[9,{"$nulls":6},9,{"$nulls":6},9,{"$nulls":5},9,{"$nulls":6},9,{"$nulls":6},9]
[10,{"$nulls":6},10,{"$nulls":6},10,{"$nulls":5},10,{"$nulls":6},10,{"$nulls":6},10]
[11,{"$nulls":6},11,{"$nulls":6},11,{"$nulls":5},11,{"$nulls":6},11,{"$nulls":6},11]
[12,{"$nulls":6},12,{"$nulls":6},12,{"$nulls":5},12,{"$nulls":6},12,{"$nulls":6},12]
[13,{"$nulls":6},13,{"$nulls":6},13,{"$nulls":5},13,{"$nulls":6},13,{"$nulls":6},13]
[14,{"$nulls":6},14,{"$nulls":6},14,{"$nulls":5},14,{"$nulls":6},14,{"$nulls":6},14]
[15,{"$nulls":6},15,{"$nulls":6},15,{"$nulls":5},15,{"$nulls":6},15,{"$nulls":6},15]
[16,{"$nulls":6},16,{"$nulls":6},16,{"$nulls":5},16,{"$nulls":6},16,{"$nulls":6},16]
[17,{"$nulls":6},17,{"$nulls":6},17,{"$nulls":5},17,{"$nulls":6},17,{"$nulls":6},17]
[18,{"$nulls":6},18,{"$nulls":6},18,{"$nulls":5},18,{"$nulls":6},18,{"$nulls":6},18]
["Total","Shots",null,null,"Shots",null,null,"Total","Shots",null,null,"Shots",null,null,"Total","Shots",null,null,"Shots",null,"Total","Shots",null,null,"Shots",null,null,"Total","Shots",null,null,"Shots",null,null,"Total","Shots",null,null,"Shots"]
[null,"Ends",null,null,"Ends",{"$nulls":3},"Ends",null,null,"Ends",{"$nulls":3},"Ends",null,null,"Ends",null,null,"Ends",null,null,"Ends",{"$nulls":3},"Ends",null,null,"Ends",{"$nulls":3},"Ends",null,null,"Ends"]
["1st Game ",{"$nulls":6},"2nd Game ",{"$nulls":6},"3rd Game ",{"$nulls":5},"4th Game",{"$nulls":6},"5th Game",{"$nulls":6},"6th Game"]
["Team No",null,null,"Rink No",{"$nulls":3},"Team No",null,null,"Rink No",{"$nulls":3},"Team No",null,null,"Rink No",null,null,"Team No",null,null,"Rink No",{"$nulls":3},"Team No",null,null,"Rink No",{"$nulls":3},"Team No",null,null,"Rink No"]
[]
[{"$f":"DRAW!$B$39","v":33},null,null,{"$f":"DRAW!$E$39","v":23},{"$nulls":3},{"$f":"DRAW!$B$39","v":33},null,null,{"$f":"DRAW!$G$39","v":1},{"$nulls":3},{"$f":"DRAW!$B$39","v":33},null,null,{"$f":"DRAW!$I$39","v":12},null,null,{"$f":"DRAW!$B$39","v":33},null,null,{"$f":"DRAW!$K$39","v":21},{"$nulls":3},{"$f":"DRAW!$B$39","v":33},null,null,{"$f":"DRAW!$M$39","v":2},{"$nulls":3},{"$f":"DRAW!$B$39","v":33},null,null,{"$f":"DRAW!$O$39","v":26}]
[null,"Team",{"$f":"DRAW!$B$39","v":33},"V","Team",{"$f":"DRAW!$D$39","v":24},null,null,"Team",{"$f":"DRAW!$B$39","v":33},"V","Team",{"$f":"DRAW!$F$39","v":26},null,null,"Team",{"$f":"DRAW!$B$39","v":33},"V","Team",{"$f":"DRAW!$H$39","v":30},null,"Team",{"$f":"DRAW!$B$39","v":33},"V","Team",{"$f":"DRAW!$J$39","v":28},null,null,"Team",{"$f":"DRAW!$B$39","v":33},"V","Team",{"$f":"DRAW!$L$39","v":32},null,null,"Team",{"$f":"DRAW!$B$39","v":33},"V","Team",{"$f":"DRAW!$N$39","v":34}]
["Ends","Shots","Total",null,"Shots","Total",null,"Ends","Shots","Total",null,"Shots","Total",null,"Ends","Shots","Total",null,"Shots","Total","Ends","Shots","Total",null,"Shots","Total",null,"Ends","Shots","Total",null,"Shots","Total",null,"Ends","Shots","Total",null,"Shots","Total"]
[1,{"$nulls":6},1,{"$nulls":6},1,{"$nulls":5},1,{"$nulls":6},1,{"$nulls":6},1]
[2,{"$nulls":6},2,{"$nulls":6},2,{"$nulls":5},2,{"$nulls":6},2,{"$nulls":6},2]
[3,{"$nulls":6},3,{"$nulls":6},3,{"$nulls":5},3,{"$nulls":6},3,{"$nulls":6},3]
[4,{"$nulls":6},4,{"$nulls":6},4,{"$nulls":5},4,{"$nulls":6},4,{"$nulls":6},4]
[5,{"$nulls":6},5,{"$nulls":6},5,{"$nulls":5},5,{"$nulls":6},5,{"$nulls":6},5]
[6,{"$nulls":6},6,{"$nulls":6},6,{"$nulls":5},6,{"$nulls":6},6,{"$nulls":6},6]
[7,{"$nulls":6},7,{"$nulls":6},7,{"$nulls":5},7,{"$nulls":6},7,{"$nulls":6},7]
[8,{"$nulls":6},8,{"$nulls":6},8,{"$nulls":5},8,{"$nulls":6},8,{"$nulls":6},8]
[9,{"$nulls":6},9,{"$nulls":6},9,{"$nulls":5},9,{"$nulls":6},9,{"$nulls":6},9]
[10,{"$nulls":6},10,{"$nulls":6},10,{"$nulls":5},10,{"$nulls":6},10,{"$nulls":6},10]
[11,{"$nulls":6},11,{"$nulls":6},11,{"$nulls":5},11,{"$nulls":6},11,{"$nulls":6},11]
[12,{"$nulls":6},12,{"$nulls":6},12,{"$nulls":5},12,{"$nulls":6},12,{"$nulls":6},12]
[13,{"$nulls":6},13,{"$nulls":6},13,{"$nulls":5},13,{"$nulls":6},13,{"$nulls":6},13]
[14,{"$nulls":6},14,{"$nulls":6},14,{"$nulls":5},14,{"$nulls":6},14,{"$nulls":6},14]
[15,{"$nulls":6},15,{"$nulls":6},15,{"$nulls":5},15,{"$nulls":6},15,{"$nulls":6},15]
[16,{"$nulls":6},16,{"$nulls":6},16,{"$nulls":5},16,{"$nulls":6},16,{"$nulls":6},16]
[17,{"$nulls":6},17,{"$nulls":6},17,{"$nulls":5},17,{"$nulls":6},17,{"$nulls":6},17]
[18,{"$nulls":6},18,{"$nulls":6},18,{"$nulls":5},18,{"$nulls":6},18,{"$nulls":6},18]
["Total","Shots",null,null,"Shots",null,null,"Total","Shots",null,null,"Shots",null,null,"Total","Shots",null,null,"Shots",null,"Total","Shots",null,null,"Shots",null,null,"Total","Shots",null,null,"Shots",null,null,"Total","Shots",null,null,"Shots"]
[null,"Ends",null,null,"Ends",{"$nulls":3},"Ends",null,null,"Ends",{"$nulls":3},"Ends",null,null,"Ends",null,null,"Ends",null,null,"Ends",{"$nulls":3},"Ends",null,null,"Ends",{"$nulls":3},"Ends",null,null,"Ends"]
[]
[]
["1st Game ",{"$nulls":6},"2nd Game ",{"$nulls":6},"3rd Game ",{"$nulls":5},"4th Game",{"$nulls":6},"5th Game",{"$nulls":6},"6th Game"]
["Team No",null,null,"Rink No",{"$nulls":3},"Team No",null,null,"Rink No",{"$nulls":3},"Team No",null,null,"Rink No",null,null,"Team No",null,null,"Rink No",{"$nulls":3},"Team No",null,null,"Rink No",{"$nulls":3},"Team No",null,null,"Rink No"]
[]
[{"$f":"DRAW!$B$40","v":34},null,null,{"$f":"DRAW!$E$40","v":22},{"$nulls":3},{"$f":"DRAW!$B$40","v":34},null,null,{"$f":"DRAW!$G$40","v":4},{"$nulls":3},{"$f":"DRAW!$B$40","v":34},null,null,{"$f":"DRAW!$I$40","v":11},null,null,{"$f":"DRAW!$B$40","v":34},null,null,{"$f":"DRAW!$K$40","v":27},{"$nulls":3},{"$f":"DRAW!$B$40","v":34},null,null,{"$f":"DRAW!$M$40","v":3},{"$nulls":3},{"$f":"DRAW!$B$40","v":34},null,null,{"$f":"DRAW!$O$40","v":26}]
[null,"Team",{"$f":"DRAW!$B$40","v":34},"V","Team",{"$f":"DRAW!$D$40","v":23},null,null,"Team",{"$f":"DRAW!$B$40","v":34},"V","Team",{"$f":"DRAW!$F$40","v":25},null,null,"Team",{"$f":"DRAW!$B$40","v":34},"V","Team",{"$f":"DRAW!$H$40","v":29},null,"Team",{"$f":"DRAW!$B$40","v":34},"V","Team",{"$f":"DRAW!$J$40","v":27},null,null,"Team",{"$f":"DRAW!$B$40","v":34},"V","Team",{"$f":"DRAW!$L$40","v":31},null,null,"Team",{"$f":"DRAW!$B$40","v":34},"V","Team",{"$f":"DRAW!$N$40","v":33}]
["Ends","Shots","Total",null,"Shots","Total",null,"Ends","Shots","Total",null,"Shots","Total",null,"Ends","Shots","Total",null,"Shots","Total","Ends","Shots","Total",null,"Shots","Total",null,"Ends","Shots","Total",null,"Shots","Total",null,"Ends","Shots","Total",null,"Shots","Total"]
[1,{"$nulls":6},1,{"$nulls":6},1,{"$nulls":5},1,{"$nulls":6},1,{"$nulls":6},1]
[2,{"$nulls":6},2,{"$nulls":6},2,{"$nulls":5},2,{"$nulls":6},2,{"$nulls":6},2]
[3,{"$nulls":6},3,{"$nulls":6},3,{"$nulls":5},3,{"$nulls":6},3,{"$nulls":6},3]
[4,{"$nulls":6},4,{"$nulls":6},4,{"$nulls":5},4,{"$nulls":6},4,{"$nulls":6},4]
[5,{"$nulls":6},5,{"$nulls":6},5,{"$nulls":5},5,{"$nulls":6},5,{"$nulls":6},5]
[6,{"$nulls":6},6,{"$nulls":6},6,{"$nulls":5},6,{"$nulls":6},6,{"$nulls":6},6]
[7,{"$nulls":6},7,{"$nulls":6},7,{"$nulls":5},7,{"$nulls":6},7,{"$nulls":6},7]
[8,{"$nulls":6},8,{"$nulls":6},8,{"$nulls":5},8,{"$nulls":6},8,{"$nulls":6},8]
[9,{"$nulls":6},9,{"$nulls":6},9,{"$nulls":5},9,{"$nulls":6},9,{"$nulls":6},9]
[10,{"$nulls":6},10,{"$nulls":6},10,{"$nulls":5},10,{"$nulls":6},10,{"$nulls":6},10]
[11,{"$nulls":6},11,{"$nulls":6},11,{"$nulls":5},11,{"$nulls":6},11,{"$nulls":6},11]
[12,{"$nulls":6},12,{"$nulls":6},12,{"$nulls":5},12,{"$nulls":6},12,{"$nulls":6},12]
[13,{"$nulls":6},13,{"$nulls":6},13,{"$nulls":5},13,{"$nulls":6},13,{"$nulls":6},13]
[14,{"$nulls":6},14,{"$nulls":6},14,{"$nulls":5},14,{"$nulls":6},14,{"$nulls":6},14]
[15,{"$nulls":6},15,{"$nulls":6},15,{"$nulls":5},15,{"$nulls":6},15,{"$nulls":6},15]
[16,{"$nulls":6},16,{"$nulls":6},16,{"$nulls":5},16,{"$nulls":6},16,{"$nulls":6},16]
[17,{"$nulls":6},17,{"$nulls":6},17,{"$nulls":5},17,{"$nulls":6},17,{"$nulls":6},17]
[18,{"$nulls":6},18,{"$nulls":6},18,{"$nulls":5},18,{"$nulls":6},18,{"$nulls":6},18]
["Total","Shots",null,null,"Shots",null,null,"Total","Shots",null,null,"Shots",null,null,"Total","Shots",null,null,"Shots",null,"Total","Shots",null,null,"Shots",null,null,"Total","Shots",null,null,"Shots",null,null,"Total","Shots",null,null,"Shots"]
[null,"Ends",null,null,"Ends",{"$nulls":3},"Ends",null,null,"Ends",{"$nulls":3},"Ends",null,null,"Ends",null,null,"Ends",null,null,"Ends",{"$nulls":3},"Ends",null,null,"Ends",{"$nulls":3},"Ends",null,null,"Ends"]
["1st Game ",{"$nulls":6},"2nd Game ",{"$nulls":6},"3rd Game ",{"$nulls":5},"4th Game",{"$nulls":6},"5th Game",{"$nulls":6},"6th Game"]
["Team No",null,null,"Rink No",{"$nulls":3},"Team No",null,null,"Rink No",{"$nulls":3},"Team No",null,null,"Rink No",null,null,"Team No",null,null,"Rink No",{"$nulls":3},"Team No",null,null,"Rink No",{"$nulls":3},"Team No",null,null,"Rink No"]
[]
[{"$f":"DRAW!$B$41","v":35},null,null,{"$f":"DRAW!$E$41","v":21},{"$nulls":3},{"$f":"DRAW!$B$41","v":35},null,null,{"$f":"DRAW!$G$41","v":3},{"$nulls":3},{"$f":"DRAW!$B$41","v":35},null,null,{"$f":"DRAW!$I$41","v":10},null,null,{"$f":"DRAW!$B$41","v":35},null,null,{"$f":"DRAW!$K$41","v":26},{"$nulls":3},{"$f":"DRAW!$B$41","v":35},null,null,{"$f":"DRAW!$M$41","v":16},{"$nulls":3},{"$f":"DRAW!$B$41","v":35},null,null,{"$f":"DRAW!$O$41","v":13}]
[null,"Team",{"$f":"DRAW!$B$41","v":35},"V","Team",{"$f":"DRAW!$D$41","v":22},null,null,"Team",{"$f":"DRAW!$B$41","v":35},"V","Team",{"$f":"DRAW!$F$41","v":24},null,null,"Team",{"$f":"DRAW!$B$41","v":35},"V","Team",{"$f":"DRAW!$H$41","v":28},null,"Team",{"$f":"DRAW!$B$41","v":35},"V","Team",{"$f":"DRAW!$J$41","v":26},null,null,"Team",{"$f":"DRAW!$B$41","v":35},"V","Team",{"$f":"DRAW!$L$41","v":30},null,null,"Team",{"$f":"DRAW!$B$41","v":35},"V","Team",{"$f":"DRAW!$N$41","v":32}]
["Ends","Shots","Total",null,"Shots","Total",null,"Ends","Shots","Total",null,"Shots","Total",null,"Ends","Shots","Total",null,"Shots","Total","Ends","Shots","Total",null,"Shots","Total",null,"Ends","Shots","Total",null,"Shots","Total",null,"Ends","Shots","Total",null,"Shots","Total"]
[1,{"$nulls":6},1,{"$nulls":6},1,{"$nulls":5},1,{"$nulls":6},1,{"$nulls":6},1]
[2,{"$nulls":6},2,{"$nulls":6},2,{"$nulls":5},2,{"$nulls":6},2,{"$nulls":6},2]
[3,{"$nulls":6},3,{"$nulls":6},3,{"$nulls":5},3,{"$nulls":6},3,{"$nulls":6},3]
[4,{"$nulls":6},4,{"$nulls":6},4,{"$nulls":5},4,{"$nulls":6},4,{"$nulls":6},4]
[5,{"$nulls":6},5,{"$nulls":6},5,{"$nulls":5},5,{"$nulls":6},5,{"$nulls":6},5]
[6,{"$nulls":6},6,{"$nulls":6},6,{"$nulls":5},6,{"$nulls":6},6,{"$nulls":6},6]
[7,{"$nulls":6},7,{"$nulls":6},7,{"$nulls":5},7,{"$nulls":6},7,{"$nulls":6},7]
[8,{"$nulls":6},8,{"$nulls":6},8,{"$nulls":5},8,{"$nulls":6},8,{"$nulls":6},8]
[9,{"$nulls":6},9,{"$nulls":6},9,{"$nulls":5},9,{"$nulls":6},9,{"$nulls":6},9]
[10,{"$nulls":6},10,{"$nulls":6},10,{"$nulls":5},10,{"$nulls":6},10,{"$nulls":6},10]
[11,{"$nulls":6},11,{"$nulls":6},11,{"$nulls":5},11,{"$nulls":6},11,{"$nulls":6},11]
[12,{"$nulls":6},12,{"$nulls":6},12,{"$nulls":5},12,{"$nulls":6},12,{"$nulls":6},12]
[13,{"$nulls":6},13,{"$nulls":6},13,{"$nulls":5},13,{"$nulls":6},13,{"$nulls":6},13]
[14,{"$nulls":6},14,{"$nulls":6},14,{"$nulls":5},14,{"$nulls":6},14,{"$nulls":6},14]
[15,{"$nulls":6},15,{"$nulls":6},15,{"$nulls":5},15,{"$nulls":6},15,{"$nulls":6},15]
[16,{"$nulls":6},16,{"$nulls":6},16,{"$nulls":5},16,{"$nulls":6},16,{"$nulls":6},16]
[17,{"$nulls":6},17,{"$nulls":6},17,{"$nulls":5},17,{"$nulls":6},17,{"$nulls":6},17]
[18,{"$nulls":6},18,{"$nulls":6},18,{"$nulls":5},18,{"$nulls":6},18,{"$nulls":6},18]
["Total","Shots",null,null,"Shots",null,null,"Total","Shots",null,null,"Shots",null,null,"Total","Shots",null,null,"Shots",null,"Total","Shots",null,null,"Shots",null,null,"Total","Shots",null,null,"Shots",null,null,"Total","Shots",null,null,"Shots"]
[null,"Ends",null,null,"Ends",{"$nulls":3},"Ends",null,null,"Ends",{"$nulls":3},"Ends",null,null,"Ends",null,null,"Ends",null,null,"Ends",{"$nulls":3},"Ends",null,null,"Ends",{"$nulls":3},"Ends",null,null,"Ends"]
[]
[]
["1st Game ",{"$nulls":6},"2nd Game ",{"$nulls":6},"3rd Game ",{"$nulls":5},"4th Game",{"$nulls":6},"5th Game",{"$nulls":6},"6th Game"]
["Team No",null,null,"Rink No",{"$nulls":3},"Team No",null,null,"Rink No",{"$nulls":3},"Team No",null,null,"Rink No",null,null,"Team No",null,null,"Rink No",{"$nulls":3},"Team No",null,null,"Rink No",{"$nulls":3},"Team No",null,null,"Rink No"]
[]
[{"$f":"DRAW!$B$42","v":36},null,null,{"$f":"DRAW!$E$42","v":20},{"$nulls":3},{"$f":"DRAW!$B$42","v":36},null,null,{"$f":"DRAW!$G$42","v":2},{"$nulls":3},{"$f":"DRAW!$B$42","v":36},null,null,{"$f":"DRAW!$I$42","v":9},null,null,{"$f":"DRAW!$B$42","v":36},null,null,{"$f":"DRAW!$K$42","v":17},{"$nulls":3},{"$f":"DRAW!$B$42","v":36},null,null,{"$f":"DRAW!$M$42","v":1},{"$nulls":3},{"$f":"DRAW!$B$42","v":36},null,null,{"$f":"DRAW!$O$42","v":12}]
[null,"Team",{"$f":"DRAW!$B$42","v":36},"V","Team",{"$f":"DRAW!$D$42","v":21},null,null,"Team",{"$f":"DRAW!$B$42","v":36},"V","Team",{"$f":"DRAW!$F$42","v":23},null,null,"Team",{"$f":"DRAW!$B$42","v":36},"V","Team",{"$f":"DRAW!$H$42","v":27},null,"Team",{"$f":"DRAW!$B$42","v":36},"V","Team",{"$f":"DRAW!$J$42","v":25},null,null,"Team",{"$f":"DRAW!$B$42","v":36},"V","Team",{"$f":"DRAW!$L$42","v":29},null,null,"Team",{"$f":"DRAW!$B$42","v":36},"V","Team",{"$f":"DRAW!$N$42","v":31}]
["Ends","Shots","Total",null,"Shots","Total",null,"Ends","Shots","Total",null,"Shots","Total",null,"Ends","Shots","Total",null,"Shots","Total","Ends","Shots","Total",null,"Shots","Total",null,"Ends","Shots","Total",null,"Shots","Total",null,"Ends","Shots","Total",null,"Shots","Total"]
[1,{"$nulls":6},1,{"$nulls":6},1,{"$nulls":5},1,{"$nulls":6},1,{"$nulls":6},1]
[2,{"$nulls":6},2,{"$nulls":6},2,{"$nulls":5},2,{"$nulls":6},2,{"$nulls":6},2]
[3,{"$nulls":6},3,{"$nulls":6},3,{"$nulls":5},3,{"$nulls":6},3,{"$nulls":6},3]
[4,{"$nulls":6},4,{"$nulls":6},4,{"$nulls":5},4,{"$nulls":6},4,{"$nulls":6},4]
[5,{"$nulls":6},5,{"$nulls":6},5,{"$nulls":5},5,{"$nulls":6},5,{"$nulls":6},5]
[6,{"$nulls":6},6,{"$nulls":6},6,{"$nulls":5},6,{"$nulls":6},6,{"$nulls":6},6]
[7,{"$nulls":6},7,{"$nulls":6},7,{"$nulls":5},7,{"$nulls":6},7,{"$nulls":6},7]
[8,{"$nulls":6},8,{"$nulls":6},8,{"$nulls":5},8,{"$nulls":6},8,{"$nulls":6},8]
[9,{"$nulls":6},9,{"$nulls":6},9,{"$nulls":5},9,{"$nulls":6},9,{"$nulls":6},9]
[10,{"$nulls":6},10,{"$nulls":6},10,{"$nulls":5},10,{"$nulls":6},10,{"$nulls":6},10]
[11,{"$nulls":6},11,{"$nulls":6},11,{"$nulls":5},11,{"$nulls":6},11,{"$nulls":6},11]
[12,{"$nulls":6},12,{"$nulls":6},12,{"$nulls":5},12,{"$nulls":6},12,{"$nulls":6},12]
[13,{"$nulls":6},13,{"$nulls":6},13,{"$nulls":5},13,{"$nulls":6},13,{"$nulls":6},13]
[14,{"$nulls":6},14,{"$nulls":6},14,{"$nulls":5},14,{"$nulls":6},14,{"$nulls":6},14]
[15,{"$nulls":6},15,{"$nulls":6},15,{"$nulls":5},15,{"$nulls":6},15,{"$nulls":6},15]
[16,{"$nulls":6},16,{"$nulls":6},16,{"$nulls":5},16,{"$nulls":6},16,{"$nulls":6},16]
[17,{"$nulls":6},17,{"$nulls":6},17,{"$nulls":5},17,{"$nulls":6},17,{"$nulls":6},17]
[18,{"$nulls":6},18,{"$nulls":6},18,{"$nulls":5},18,{"$nulls":6},18,{"$nulls":6},18]
["Total","Shots",null,null,"Shots",null,null,"Total","Shots",null,null,"Shots",null,null,"Total","Shots",null,null,"Shots",null,"Total","Shots",null,null,"Shots",null,null,"Total","Shots",null,null,"Shots",null,null,"Total","Shots",null,null,"Shots"]
[null,"Ends",null,null,"Ends",{"$nulls":3},"Ends",null,null,"Ends",{"$nulls":3},"Ends",null,null,"Ends",null,null,"Ends",null,null,"Ends",{"$nulls":3},"Ends",null,null,"Ends",{"$nulls":3},"Ends",null,null,"Ends"]
["1st Game ",{"$nulls":6},"2nd Game ",{"$nulls":6},"3rd Game ",{"$nulls":5},"4th Game",{"$nulls":6},"5th Game",{"$nulls":6},"6th Game"]
["Team No",null,null,"Rink No",{"$nulls":3},"Team No",null,null,"Rink No",{"$nulls":3},"Team No",null,null,"Rink No",null,null,"Team No",null,null,"Rink No",{"$nulls":3},"Team No",null,null,"Rink No",{"$nulls":3},"Team No",null,null,"Rink No"]
[]
[{"$f":"DRAW!$B$43","v":37},null,null,{"$f":"DRAW!$E$43","v":19},{"$nulls":3},{"$f":"DRAW!$B$43","v":37},null,null,{"$f":"DRAW!$G$43","v":9},{"$nulls":3},{"$f":"DRAW!$B$43","v":37},null,null,{"$f":"DRAW!$I$43","v":16},null,null,{"$f":"DRAW!$B$43","v":37},null,null,{"$f":"DRAW!$K$43","v":15},{"$nulls":3},{"$f":"DRAW!$B$43","v":37},null,null,{"$f":"DRAW!$M$43","v":4},{"$nulls":3},{"$f":"DRAW!$B$43","v":37},null,null,{"$f":"DRAW!$O$43","v":11}]
[null,"Team",{"$f":"DRAW!$B$43","v":37},"V","Team",{"$f":"DRAW!$D$43","v":20},null,null,"Team",{"$f":"DRAW!$B$43","v":37},"V","Team",{"$f":"DRAW!$F$43","v":22},null,null,"Team",{"$f":"DRAW!$B$43","v":37},"V","Team",{"$f":"DRAW!$H$43","v":26},null,"Team",{"$f":"DRAW!$B$43","v":37},"V","Team",{"$f":"DRAW!$J$43","v":24},null,null,"Team",{"$f":"DRAW!$B$43","v":37},"V","Team",{"$f":"DRAW!$L$43","v":28},null,null,"Team",{"$f":"DRAW!$B$43","v":37},"V","Team",{"$f":"DRAW!$N$43","v":30}]
["Ends","Shots","Total",null,"Shots","Total",null,"Ends","Shots","Total",null,"Shots","Total",null,"Ends","Shots","Total",null,"Shots","Total","Ends","Shots","Total",null,"Shots","Total",null,"Ends","Shots","Total",null,"Shots","Total",null,"Ends","Shots","Total",null,"Shots","Total"]
[1,{"$nulls":6},1,{"$nulls":6},1,{"$nulls":5},1,{"$nulls":6},1,{"$nulls":6},1]
[2,{"$nulls":6},2,{"$nulls":6},2,{"$nulls":5},2,{"$nulls":6},2,{"$nulls":6},2]
[3,{"$nulls":6},3,{"$nulls":6},3,{"$nulls":5},3,{"$nulls":6},3,{"$nulls":6},3]
[4,{"$nulls":6},4,{"$nulls":6},4,{"$nulls":5},4,{"$nulls":6},4,{"$nulls":6},4]
[5,{"$nulls":6},5,{"$nulls":6},5,{"$nulls":5},5,{"$nulls":6},5,{"$nulls":6},5]
[6,{"$nulls":6},6,{"$nulls":6},6,{"$nulls":5},6,{"$nulls":6},6,{"$nulls":6},6]
[7,{"$nulls":6},7,{"$nulls":6},7,{"$nulls":5},7,{"$nulls":6},7,{"$nulls":6},7]
[8,{"$nulls":6},8,{"$nulls":6},8,{"$nulls":5},8,{"$nulls":6},8,{"$nulls":6},8]
[9,{"$nulls":6},9,{"$nulls":6},9,{"$nulls":5},9,{"$nulls":6},9,{"$nulls":6},9]
[10,{"$nulls":6},10,{"$nulls":6},10,{"$nulls":5},10,{"$nulls":6},10,{"$nulls":6},10]
[11,{"$nulls":6},11,{"$nulls":6},11,{"$nulls":5},11,{"$nulls":6},11,{"$nulls":6},11]
[12,{"$nulls":6},12,{"$nulls":6},12,{"$nulls":5},12,{"$nulls":6},12,{"$nulls":6},12]
[13,{"$nulls":6},13,{"$nulls":6},13,{"$nulls":5},13,{"$nulls":6},13,{"$nulls":6},13]
[14,{"$nulls":6},14,{"$nulls":6},14,{"$nulls":5},14,{"$nulls":6},14,{"$nulls":6},14]
[15,{"$nulls":6},15,{"$nulls":6},15,{"$nulls":5},15,{"$nulls":6},15,{"$nulls":6},15]
[16,{"$nulls":6},16,{"$nulls":6},16,{"$nulls":5},16,{"$nulls":6},16,{"$nulls":6},16]
[17,{"$nulls":6},17,{"$nulls":6},17,{"$nulls":5},17,{"$nulls":6},17,{"$nulls":6},17]
[18,{"$nulls":6},18,{"$nulls":6},18,{"$nulls":5},18,{"$nulls":6},18,{"$nulls":6},18]
["Total","Shots",null,null,"Shots",null,null,"Total","Shots",null,null,"Shots",null,null,"Total","Shots",null,null,"Shots",null,"Total","Shots",null,null,"Shots",null,null,"Total","Shots",null,null,"Shots",null,null,"Total","Shots",null,null,"Shots"]
[null,"Ends",null,null,"Ends",{"$nulls":3},"Ends",null,null,"Ends",{"$nulls":3},"Ends",null,null,"Ends",null,null,"Ends",null,null,"Ends",{"$nulls":3},"Ends",null,null,"Ends",{"$nulls":3},"Ends",null,null,"Ends"]
[]
[]
["1st Game ",{"$nulls":6},"2nd Game ",{"$nulls":6},"3rd Game ",{"$nulls":5},"4th Game",{"$nulls":6},"5th Game",{"$nulls":6},"6th Game"]
["Team No",null,null,"Rink No",{"$nulls":3},"Team No",null,null,"Rink No",{"$nulls":3},"Team No",null,null,"Rink No",null,null,"Team No",null,null,"Rink No",{"$nulls":3},"Team No",null,null,"Rink No",{"$nulls":3},"Team No",null,null,"Rink No"]
[]
[{"$f":"DRAW!$B$44","v":38},null,null,{"$f":"DRAW!$E$44","v":18},{"$nulls":3},{"$f":"DRAW!$B$44","v":38},null,null,{"$f":"DRAW!$G$44","v":26},{"$nulls":3},{"$f":"DRAW!$B$44","v":38},null,null,{"$f":"DRAW!$I$44","v":14},null,null,{"$f":"DRAW!$B$44","v":38},null,null,{"$f":"DRAW!$K$44","v":25},{"$nulls":3},{"$f":"DRAW!$B$44","v":38},null,null,{"$f":"DRAW!$M$44","v":6},{"$nulls":3},{"$f":"DRAW!$B$44","v":38},null,null,{"$f":"DRAW!$O$44","v":8}]
[null,"Team",{"$f":"DRAW!$B$44","v":38},"V","Team",{"$f":"DRAW!$D$44","v":19},null,null,"Team",{"$f":"DRAW!$B$44","v":38},"V","Team",{"$f":"DRAW!$F$44","v":21},null,null,"Team",{"$f":"DRAW!$B$44","v":38},"V","Team",{"$f":"DRAW!$H$44","v":25},null,"Team",{"$f":"DRAW!$B$44","v":38},"V","Team",{"$f":"DRAW!$J$44","v":23},null,null,"Team",{"$f":"DRAW!$B$44","v":38},"V","Team",{"$f":"DRAW!$L$44","v":27},null,null,"Team",{"$f":"DRAW!$B$44","v":38},"V","Team",{"$f":"DRAW!$N$44","v":29}]
["Ends","Shots","Total",null,"Shots","Total",null,"Ends","Shots","Total",null,"Shots","Total",null,"Ends","Shots","Total",null,"Shots","Total","Ends","Shots","Total",null,"Shots","Total",null,"Ends","Shots","Total",null,"Shots","Total",null,"Ends","Shots","Total",null,"Shots","Total"]
[1,{"$nulls":6},1,{"$nulls":6},1,{"$nulls":5},1,{"$nulls":6},1,{"$nulls":6},1]
[2,{"$nulls":6},2,{"$nulls":6},2,{"$nulls":5},2,{"$nulls":6},2,{"$nulls":6},2]
[3,{"$nulls":6},3,{"$nulls":6},3,{"$nulls":5},3,{"$nulls":6},3,{"$nulls":6},3]
[4,{"$nulls":6},4,{"$nulls":6},4,{"$nulls":5},4,{"$nulls":6},4,{"$nulls":6},4]
[5,{"$nulls":6},5,{"$nulls":6},5,{"$nulls":5},5,{"$nulls":6},5,{"$nulls":6},5]
[6,{"$nulls":6},6,{"$nulls":6},6,{"$nulls":5},6,{"$nulls":6},6,{"$nulls":6},6]
[7,{"$nulls":6},7,{"$nulls":6},7,{"$nulls":5},7,{"$nulls":6},7,{"$nulls":6},7]
[8,{"$nulls":6},8,{"$nulls":6},8,{"$nulls":5},8,{"$nulls":6},8,{"$nulls":6},8]
[9,{"$nulls":6},9,{"$nulls":6},9,{"$nulls":5},9,{"$nulls":6},9,{"$nulls":6},9]
[10,{"$nulls":6},10,{"$nulls":6},10,{"$nulls":5},10,{"$nulls":6},10,{"$nulls":6},10]
[11,{"$nulls":6},11,{"$nulls":6},11,{"$nulls":5},11,{"$nulls":6},11,{"$nulls":6},11]
[12,{"$nulls":6},12,{"$nulls":6},12,{"$nulls":5},12,{"$nulls":6},12,{"$nulls":6},12]
[13,{"$nulls":6},13,{"$nulls":6},13,{"$nulls":5},13,{"$nulls":6},13,{"$nulls":6},13]
[14,{"$nulls":6},14,{"$nulls":6},14,{"$nulls":5},14,{"$nulls":6},14,{"$nulls":6},14]
[15,{"$nulls":6},15,{"$nulls":6},15,{"$nulls":5},15,{"$nulls":6},15,{"$nulls":6},15]
[16,{"$nulls":6},16,{"$nulls":6},16,{"$nulls":5},16,{"$nulls":6},16,{"$nulls":6},16]
[17,{"$nulls":6},17,{"$nulls":6},17,{"$nulls":5},17,{"$nulls":6},17,{"$nulls":6},17]
[18,{"$nulls":6},18,{"$nulls":6},18,{"$nulls":5},18,{"$nulls":6},18,{"$nulls":6},18]
["Total","Shots",null,null,"Shots",null,null,"Total","Shots",null,null,"Shots",null,null,"Total","Shots",null,null,"Shots",null,"Total","Shots",null,null,"Shots",null,null,"Total","Shots",null,null,"Shots",null,null,"Total","Shots",null,null,"Shots"]
[null,"Ends",null,null,"Ends",{"$nulls":3},"Ends",null,null,"Ends",{"$nulls":3},"Ends",null,null,"Ends",null,null,"Ends",null,null,"Ends",{"$nulls":3},"Ends",null,null,"Ends",{"$nulls":3},"Ends",null,null,"Ends"]
["1st Game ",{"$nulls":6},"2nd Game ",{"$nulls":6},"3rd Game ",{"$nulls":5},"4th Game",{"$nulls":6},"5th Game",{"$nulls":6},"6th Game"]
["Team No",null,null,"Rink No",{"$nulls":3},"Team No",null,null,"Rink No",{"$nulls":3},"Team No",null,null,"Rink No",null,null,"Team No",null,null,"Rink No",{"$nulls":3},"Team No",null,null,"Rink No",{"$nulls":3},"Team No",null,null,"Rink No"]
[]
[{"$f":"DRAW!$B$45","v":39},null,null,{"$f":"DRAW!$E$45","v":17},{"$nulls":3},{"$f":"DRAW!$B$45","v":39},null,null,{"$f":"DRAW!$G$45","v":25},{"$nulls":3},{"$f":"DRAW!$B$45","v":39},null,null,{"$f":"DRAW!$I$45","v":8},null,null,{"$f":"DRAW!$B$45","v":39},null,null,{"$f":"DRAW!$K$45","v":18},{"$nulls":3},{"$f":"DRAW!$B$45","v":39},null,null,{"$f":"DRAW!$M$45","v":7},{"$nulls":3},{"$f":"DRAW!$B$45","v":39},null,null,{"$f":"DRAW!$O$45","v":27}]
[null,"Team",{"$f":"DRAW!$B$45","v":39},"V","Team",{"$f":"DRAW!$D$45","v":18},null,null,"Team",{"$f":"DRAW!$B$45","v":39},"V","Team",{"$f":"DRAW!$F$45","v":20},null,null,"Team",{"$f":"DRAW!$B$45","v":39},"V","Team",{"$f":"DRAW!$H$45","v":24},null,"Team",{"$f":"DRAW!$B$45","v":39},"V","Team",{"$f":"DRAW!$J$45","v":22},null,null,"Team",{"$f":"DRAW!$B$45","v":39},"V","Team",{"$f":"DRAW!$L$45","v":26},null,null,"Team",{"$f":"DRAW!$B$45","v":39},"V","Team",{"$f":"DRAW!$N$45","v":28}]
["Ends","Shots","Total",null,"Shots","Total",null,"Ends","Shots","Total",null,"Shots","Total",null,"Ends","Shots","Total",null,"Shots","Total","Ends","Shots","Total",null,"Shots","Total",null,"Ends","Shots","Total",null,"Shots","Total",null,"Ends","Shots","Total",null,"Shots","Total"]
[1,{"$nulls":6},1,{"$nulls":6},1,{"$nulls":5},1,{"$nulls":6},1,{"$nulls":6},1]
[2,{"$nulls":6},2,{"$nulls":6},2,{"$nulls":5},2,{"$nulls":6},2,{"$nulls":6},2]
[3,{"$nulls":6},3,{"$nulls":6},3,{"$nulls":5},3,{"$nulls":6},3,{"$nulls":6},3]
[4,{"$nulls":6},4,{"$nulls":6},4,{"$nulls":5},4,{"$nulls":6},4,{"$nulls":6},4]
[5,{"$nulls":6},5,{"$nulls":6},5,{"$nulls":5},5,{"$nulls":6},5,{"$nulls":6},5]
[6,{"$nulls":6},6,{"$nulls":6},6,{"$nulls":5},6,{"$nulls":6},6,{"$nulls":6},6]
[7,{"$nulls":6},7,{"$nulls":6},7,{"$nulls":5},7,{"$nulls":6},7,{"$nulls":6},7]
[8,{"$nulls":6},8,{"$nulls":6},8,{"$nulls":5},8,{"$nulls":6},8,{"$nulls":6},8]
[9,{"$nulls":6},9,{"$nulls":6},9,{"$nulls":5},9,{"$nulls":6},9,{"$nulls":6},9]
[10,{"$nulls":6},10,{"$nulls":6},10,{"$nulls":5},10,{"$nulls":6},10,{"$nulls":6},10]
[11,{"$nulls":6},11,{"$nulls":6},11,{"$nulls":5},11,{"$nulls":6},11,{"$nulls":6},11]
[12,{"$nulls":6},12,{"$nulls":6},12,{"$nulls":5},12,{"$nulls":6},12,{"$nulls":6},12]
[13,{"$nulls":6},13,{"$nulls":6},13,{"$nulls":5},13,{"$nulls":6},13,{"$nulls":6},13]
[14,{"$nulls":6},14,{"$nulls":6},14,{"$nulls":5},14,{"$nulls":6},14,{"$nulls":6},14]
[15,{"$nulls":6},15,{"$nulls":6},15,{"$nulls":5},15,{"$nulls":6},15,{"$nulls":6},15]
[16,{"$nulls":6},16,{"$nulls":6},16,{"$nulls":5},16,{"$nulls":6},16,{"$nulls":6},16]
[17,{"$nulls":6},17,{"$nulls":6},17,{"$nulls":5},17,{"$nulls":6},17,{"$nulls":6},17]
[18,{"$nulls":6},18,{"$nulls":6},18,{"$nulls":5},18,{"$nulls":6},18,{"$nulls":6},18]
["Total","Shots",null,null,"Shots",null,null,"Total","Shots",null,null,"Shots",null,null,"Total","Shots",null,null,"Shots",null,"Total","Shots",null,null,"Shots",null,null,"Total","Shots",null,null,"Shots",null,null,"Total","Shots",null,null,"Shots"]
[null,"Ends",null,null,"Ends",{"$nulls":3},"Ends",null,null,"Ends",{"$nulls":3},"Ends",null,null,"Ends",null,null,"Ends",null,null,"Ends",{"$nulls":3},"Ends",null,null,"Ends",{"$nulls":3},"Ends",null,null,"Ends"]
[]
[]
["1st Game ",{"$nulls":6},"2nd Game ",{"$nulls":6},"3rd Game ",{"$nulls":5},"4th Game",{"$nulls":6},"5th Game",{"$nulls":6},"6th Game"]
["Team No",null,null,"Rink No",{"$nulls":3},"Team No",null,null,"Rink No",{"$nulls":3},"Team No",null,null,"Rink No",null,null,"Team No",null,null,"Rink No",{"$nulls":3},"Team No",null,null,"Rink No",{"$nulls":3},"Team No",null,null,"Rink No"]
[]
[{"$f":"DRAW!$B$46","v":40},null,null,{"$f":"DRAW!$E$46","v":16},{"$nulls":3},{"$f":"DRAW!$B$46","v":40},null,null,{"$f":"DRAW!$G$46","v":22},{"$nulls":3},{"$f":"DRAW!$B$46","v":40},null,null,{"$f":"DRAW!$I$46","v":17},null,null,{"$f":"DRAW!$B$46","v":40},null,null,{"$f":"DRAW!$K$46","v":14},{"$nulls":3},{"$f":"DRAW!$B$46","v":40},null,null,{"$f":"DRAW!$M$46","v":27},{"$nulls":3},{"$f":"DRAW!$B$46","v":40},null,null,{"$f":"DRAW!$O$46","v":10}]
[null,"Team",{"$f":"DRAW!$B$46","v":40},"V","Team",{"$f":"DRAW!$D$46","v":17},null,null,"Team",{"$f":"DRAW!$B$46","v":40},"V","Team",{"$f":"DRAW!$F$46","v":19},null,null,"Team",{"$f":"DRAW!$B$46","v":40},"V","Team",{"$f":"DRAW!$H$46","v":23},null,"Team",{"$f":"DRAW!$B$46","v":40},"V","Team",{"$f":"DRAW!$J$46","v":21},null,null,"Team",{"$f":"DRAW!$B$46","v":40},"V","Team",{"$f":"DRAW!$L$46","v":25},null,null,"Team",{"$f":"DRAW!$B$46","v":40},"V","Team",{"$f":"DRAW!$N$46","v":27}]
["Ends","Shots","Total",null,"Shots","Total",null,"Ends","Shots","Total",null,"Shots","Total",null,"Ends","Shots","Total",null,"Shots","Total","Ends","Shots","Total",null,"Shots","Total",null,"Ends","Shots","Total",null,"Shots","Total",null,"Ends","Shots","Total",null,"Shots","Total"]
[1,{"$nulls":6},1,{"$nulls":6},1,{"$nulls":5},1,{"$nulls":6},1,{"$nulls":6},1]
[2,{"$nulls":6},2,{"$nulls":6},2,{"$nulls":5},2,{"$nulls":6},2,{"$nulls":6},2]
[3,{"$nulls":6},3,{"$nulls":6},3,{"$nulls":5},3,{"$nulls":6},3,{"$nulls":6},3]
[4,{"$nulls":6},4,{"$nulls":6},4,{"$nulls":5},4,{"$nulls":6},4,{"$nulls":6},4]
[5,{"$nulls":6},5,{"$nulls":6},5,{"$nulls":5},5,{"$nulls":6},5,{"$nulls":6},5]
[6,{"$nulls":6},6,{"$nulls":6},6,{"$nulls":5},6,{"$nulls":6},6,{"$nulls":6},6]
[7,{"$nulls":6},7,{"$nulls":6},7,{"$nulls":5},7,{"$nulls":6},7,{"$nulls":6},7]
[8,{"$nulls":6},8,{"$nulls":6},8,{"$nulls":5},8,{"$nulls":6},8,{"$nulls":6},8]
[9,{"$nulls":6},9,{"$nulls":6},9,{"$nulls":5},9,{"$nulls":6},9,{"$nulls":6},9]
[10,{"$nulls":6},10,{"$nulls":6},10,{"$nulls":5},10,{"$nulls":6},10,{"$nulls":6},10]
[11,{"$nulls":6},11,{"$nulls":6},11,{"$nulls":5},11,{"$nulls":6},11,{"$nulls":6},11]
[12,{"$nulls":6},12,{"$nulls":6},12,{"$nulls":5},12,{"$nulls":6},12,{"$nulls":6},12]
[13,{"$nulls":6},13,{"$nulls":6},13,{"$nulls":5},13,{"$nulls":6},13,{"$nulls":6},13]
[14,{"$nulls":6},14,{"$nulls":6},14,{"$nulls":5},14,{"$nulls":6},14,{"$nulls":6},14]
[15,{"$nulls":6},15,{"$nulls":6},15,{"$nulls":5},15,{"$nulls":6},15,{"$nulls":6},15]
[16,{"$nulls":6},16,{"$nulls":6},16,{"$nulls":5},16,{"$nulls":6},16,{"$nulls":6},16]
[17,{"$nulls":6},17,{"$nulls":6},17,{"$nulls":5},17,{"$nulls":6},17,{"$nulls":6},17]
[18,{"$nulls":6},18,{"$nulls":6},18,{"$nulls":5},18,{"$nulls":6},18,{"$nulls":6},18]
["Total","Shots",null,null,"Shots",null,null,"Total","Shots",null,null,"Shots",null,null,"Total","Shots",null,null,"Shots",null,"Total","Shots",null,null,"Shots",null,null,"Total","Shots",null,null,"Shots",null,null,"Total","Shots",null,null,"Shots"]
[null,"Ends",null,null,"Ends",{"$nulls":3},"Ends",null,null,"Ends",{"$nulls":3},"Ends",null,null,"Ends",null,null,"Ends",null,null,"Ends",{"$nulls":3},"Ends",null,null,"Ends",{"$nulls":3},"Ends",null,null,"Ends"]
["1st Game ",{"$nulls":6},"2nd Game ",{"$nulls":6},"3rd Game ",{"$nulls":5},"4th Game",{"$nulls":6},"5th Game",{"$nulls":6},"6th Game"]
["Team No",null,null,"Rink No",{"$nulls":3},"Team No",null,null,"Rink No",{"$nulls":3},"Team No",null,null,"Rink No",null,null,"Team No",null,null,"Rink No",{"$nulls":3},"Team No",null,null,"Rink No",{"$nulls":3},"Team No",null,null,"Rink No"]
[]
[{"$f":"DRAW!$B$47","v":41},null,null,{"$f":"DRAW!$E$47","v":15},{"$nulls":3},{"$f":"DRAW!$B$47","v":41},null,null,{"$f":"DRAW!$G$47","v":24},{"$nulls":3},{"$f":"DRAW!$B$47","v":41},null,null,{"$f":"DRAW!$I$47","v":5},null,null,{"$f":"DRAW!$B$47","v":41},null,null,{"$f":"DRAW!$K$47","v":16},{"$nulls":3},{"$f":"DRAW!$B$47","v":41},null,null,{"$f":"DRAW!$M$47","v":26},{"$nulls":3},{"$f":"DRAW!$B$47","v":41},null,null,{"$f":"DRAW!$O$47","v":9}]
[null,"Team",{"$f":"DRAW!$B$47","v":41},"V","Team",{"$f":"DRAW!$D$47","v":16},null,null,"Team",{"$f":"DRAW!$B$47","v":41},"V","Team",{"$f":"DRAW!$F$47","v":18},null,null,"Team",{"$f":"DRAW!$B$47","v":41},"V","Team",{"$f":"DRAW!$H$47","v":22},null,"Team",{"$f":"DRAW!$B$47","v":41},"V","Team",{"$f":"DRAW!$J$47","v":20},null,null,"Team",{"$f":"DRAW!$B$47","v":41},"V","Team",{"$f":"DRAW!$L$47","v":24},null,null,"Team",{"$f":"DRAW!$B$47","v":41},"V","Team",{"$f":"DRAW!$N$47","v":26}]
["Ends","Shots","Total",null,"Shots","Total",null,"Ends","Shots","Total",null,"Shots","Total",null,"Ends","Shots","Total",null,"Shots","Total","Ends","Shots","Total",null,"Shots","Total",null,"Ends","Shots","Total",null,"Shots","Total",null,"Ends","Shots","Total",null,"Shots","Total"]
[1,{"$nulls":6},1,{"$nulls":6},1,{"$nulls":5},1,{"$nulls":6},1,{"$nulls":6},1]
[2,{"$nulls":6},2,{"$nulls":6},2,{"$nulls":5},2,{"$nulls":6},2,{"$nulls":6},2]
[3,{"$nulls":6},3,{"$nulls":6},3,{"$nulls":5},3,{"$nulls":6},3,{"$nulls":6},3]
[4,{"$nulls":6},4,{"$nulls":6},4,{"$nulls":5},4,{"$nulls":6},4,{"$nulls":6},4]
[5,{"$nulls":6},5,{"$nulls":6},5,{"$nulls":5},5,{"$nulls":6},5,{"$nulls":6},5]
[6,{"$nulls":6},6,{"$nulls":6},6,{"$nulls":5},6,{"$nulls":6},6,{"$nulls":6},6]
[7,{"$nulls":6},7,{"$nulls":6},7,{"$nulls":5},7,{"$nulls":6},7,{"$nulls":6},7]
[8,{"$nulls":6},8,{"$nulls":6},8,{"$nulls":5},8,{"$nulls":6},8,{"$nulls":6},8]
[9,{"$nulls":6},9,{"$nulls":6},9,{"$nulls":5},9,{"$nulls":6},9,{"$nulls":6},9]
[10,{"$nulls":6},10,{"$nulls":6},10,{"$nulls":5},10,{"$nulls":6},10,{"$nulls":6},10]
[11,{"$nulls":6},11,{"$nulls":6},11,{"$nulls":5},11,{"$nulls":6},11,{"$nulls":6},11]
[12,{"$nulls":6},12,{"$nulls":6},12,{"$nulls":5},12,{"$nulls":6},12,{"$nulls":6},12]
[13,{"$nulls":6},13,{"$nulls":6},13,{"$nulls":5},13,{"$nulls":6},13,{"$nulls":6},13]
[14,{"$nulls":6},14,{"$nulls":6},14,{"$nulls":5},14,{"$nulls":6},14,{"$nulls":6},14]
[15,{"$nulls":6},15,{"$nulls":6},15,{"$nulls":5},15,{"$nulls":6},15,{"$nulls":6},15]
[16,{"$nulls":6},16,{"$nulls":6},16,{"$nulls":5},16,{"$nulls":6},16,{"$nulls":6},16]
[17,{"$nulls":6},17,{"$nulls":6},17,{"$nulls":5},17,{"$nulls":6},17,{"$nulls":6},17]
[18,{"$nulls":6},18,{"$nulls":6},18,{"$nulls":5},18,{"$nulls":6},18,{"$nulls":6},18]
["Total","Shots",null,null,"Shots",null,null,"Total","Shots",null,null,"Shots",null,null,"Total","Shots",null,null,"Shots",null,"Total","Shots",null,null,"Shots",null,null,"Total","Shots",null,null,"Shots",null,null,"Total","Shots",null,null,"Shots"]
[null,"Ends",null,null,"Ends",{"$nulls":3},"Ends",null,null,"Ends",{"$nulls":3},"Ends",null,null,"Ends",null,null,"Ends",null,null,"Ends",{"$nulls":3},"Ends",null,null,"Ends",{"$nulls":3},"Ends",null,null,"Ends"]
[]
[]
["1st Game ",{"$nulls":6},"2nd Game ",{"$nulls":6},"3rd Game ",{"$nulls":5},"4th Game",{"$nulls":6},"5th Game",{"$nulls":6},"6th Game"]
["Team No",null,null,"Rink No",{"$nulls":3},"Team No",null,null,"Rink No",{"$nulls":3},"Team No",null,null,"Rink No",null,null,"Team No",null,null,"Rink No",{"$nulls":3},"Team No",null,null,"Rink No",{"$nulls":3},"Team No",null,null,"Rink No"]
[]
[{"$f":"DRAW!$B$48","v":42},null,null,{"$f":"DRAW!$E$48","v":14},{"$nulls":3},{"$f":"DRAW!$B$48","v":42},null,null,{"$f":"DRAW!$G$48","v":23},{"$nulls":3},{"$f":"DRAW!$B$48","v":42},null,null,{"$f":"DRAW!$I$48","v":6},null,null,{"$f":"DRAW!$B$48","v":42},null,null,{"$f":"DRAW!$K$48","v":13},{"$nulls":3},{"$f":"DRAW!$B$48","v":42},null,null,{"$f":"DRAW!$M$48","v":5},{"$nulls":3},{"$f":"DRAW!$B$48","v":42},null,null,{"$f":"DRAW!$O$48","v":20}]
[null,"Team",{"$f":"DRAW!$B$48","v":42},"V","Team",{"$f":"DRAW!$D$48","v":15},null,null,"Team",{"$f":"DRAW!$B$48","v":42},"V","Team",{"$f":"DRAW!$F$48","v":17},null,null,"Team",{"$f":"DRAW!$B$48","v":42},"V","Team",{"$f":"DRAW!$H$48","v":21},null,"Team",{"$f":"DRAW!$B$48","v":42},"V","Team",{"$f":"DRAW!$J$48","v":19},null,null,"Team",{"$f":"DRAW!$B$48","v":42},"V","Team",{"$f":"DRAW!$L$48","v":23},null,null,"Team",{"$f":"DRAW!$B$48","v":42},"V","Team",{"$f":"DRAW!$N$48","v":25}]
["Ends","Shots","Total",null,"Shots","Total",null,"Ends","Shots","Total",null,"Shots","Total",null,"Ends","Shots","Total",null,"Shots","Total","Ends","Shots","Total",null,"Shots","Total",null,"Ends","Shots","Total",null,"Shots","Total",null,"Ends","Shots","Total",null,"Shots","Total"]
[1,{"$nulls":6},1,{"$nulls":6},1,{"$nulls":5},1,{"$nulls":6},1,{"$nulls":6},1]
[2,{"$nulls":6},2,{"$nulls":6},2,{"$nulls":5},2,{"$nulls":6},2,{"$nulls":6},2]
[3,{"$nulls":6},3,{"$nulls":6},3,{"$nulls":5},3,{"$nulls":6},3,{"$nulls":6},3]
[4,{"$nulls":6},4,{"$nulls":6},4,{"$nulls":5},4,{"$nulls":6},4,{"$nulls":6},4]
[5,{"$nulls":6},5,{"$nulls":6},5,{"$nulls":5},5,{"$nulls":6},5,{"$nulls":6},5]
[6,{"$nulls":6},6,{"$nulls":6},6,{"$nulls":5},6,{"$nulls":6},6,{"$nulls":6},6]
[7,{"$nulls":6},7,{"$nulls":6},7,{"$nulls":5},7,{"$nulls":6},7,{"$nulls":6},7]
[8,{"$nulls":6},8,{"$nulls":6},8,{"$nulls":5},8,{"$nulls":6},8,{"$nulls":6},8]
[9,{"$nulls":6},9,{"$nulls":6},9,{"$nulls":5},9,{"$nulls":6},9,{"$nulls":6},9]
[10,{"$nulls":6},10,{"$nulls":6},10,{"$nulls":5},10,{"$nulls":6},10,{"$nulls":6},10]
[11,{"$nulls":6},11,{"$nulls":6},11,{"$nulls":5},11,{"$nulls":6},11,{"$nulls":6},11]
[12,{"$nulls":6},12,{"$nulls":6},12,{"$nulls":5},12,{"$nulls":6},12,{"$nulls":6},12]
[13,{"$nulls":6},13,{"$nulls":6},13,{"$nulls":5},13,{"$nulls":6},13,{"$nulls":6},13]
[14,{"$nulls":6},14,{"$nulls":6},14,{"$nulls":5},14,{"$nulls":6},14,{"$nulls":6},14]
[15,{"$nulls":6},15,{"$nulls":6},15,{"$nulls":5},15,{"$nulls":6},15,{"$nulls":6},15]
[16,{"$nulls":6},16,{"$nulls":6},16,{"$nulls":5},16,{"$nulls":6},16,{"$nulls":6},16]
[17,{"$nulls":6},17,{"$nulls":6},17,{"$nulls":5},17,{"$nulls":6},17,{"$nulls":6},17]
[18,{"$nulls":6},18,{"$nulls":6},18,{"$nulls":5},18,{"$nulls":6},18,{"$nulls":6},18]
["Total","Shots",null,null,"Shots",null,null,"Total","Shots",null,null,"Shots",null,null,"Total","Shots",null,null,"Shots",null,"Total","Shots",null,null,"Shots",null,null,"Total","Shots",null,null,"Shots",null,null,"Total","Shots",null,null,"Shots"]
[null,"Ends",null,null,"Ends",{"$nulls":3},"Ends",null,null,"Ends",{"$nulls":3},"Ends",null,null,"Ends",null,null,"Ends",null,null,"Ends",{"$nulls":3},"Ends",null,null,"Ends",{"$nulls":3},"Ends",null,null,"Ends"]
["1st Game ",{"$nulls":6},"2nd Game ",{"$nulls":6},"3rd Game ",{"$nulls":5},"4th Game",{"$nulls":6},"5th Game",{"$nulls":6},"6th Game"]
["Team No",null,null,"Rink No",{"$nulls":3},"Team No",null,null,"Rink No",{"$nulls":3},"Team No",null,null,"Rink No",null,null,"Team No",null,null,"Rink No",{"$nulls":3},"Team No",null,null,"Rink No",{"$nulls":3},"Team No",null,null,"Rink No"]
[]
[{"$f":"DRAW!$B$49","v":43},null,null,{"$f":"DRAW!$E$49","v":13},{"$nulls":3},{"$f":"DRAW!$B$49","v":43},null,null,{"$f":"DRAW!$G$49","v":27},{"$nulls":3},{"$f":"DRAW!$B$49","v":43},null,null,{"$f":"DRAW!$I$49","v":7},null,null,{"$f":"DRAW!$B$49","v":43},null,null,{"$f":"DRAW!$K$49","v":12},{"$nulls":3},{"$f":"DRAW!$B$49","v":43},null,null,{"$f":"DRAW!$M$49","v":25},{"$nulls":3},{"$f":"DRAW!$B$49","v":43},null,null,{"$f":"DRAW!$O$49","v":5}]
[null,"Team",{"$f":"DRAW!$B$49","v":43},"V","Team",{"$f":"DRAW!$D$49","v":14},null,null,"Team",{"$f":"DRAW!$B$49","v":43},"V","Team",{"$f":"DRAW!$F$49","v":16},null,null,"Team",{"$f":"DRAW!$B$49","v":43},"V","Team",{"$f":"DRAW!$H$49","v":20},null,"Team",{"$f":"DRAW!$B$49","v":43},"V","Team",{"$f":"DRAW!$J$49","v":18},null,null,"Team",{"$f":"DRAW!$B$49","v":43},"V","Team",{"$f":"DRAW!$L$49","v":22},null,null,"Team",{"$f":"DRAW!$B$49","v":43},"V","Team",{"$f":"DRAW!$N$49","v":24}]
["Ends","Shots","Total",null,"Shots","Total",null,"Ends","Shots","Total",null,"Shots","Total",null,"Ends","Shots","Total",null,"Shots","Total","Ends","Shots","Total",null,"Shots","Total",null,"Ends","Shots","Total",null,"Shots","Total",null,"Ends","Shots","Total",null,"Shots","Total"]
[1,{"$nulls":6},1,{"$nulls":6},1,{"$nulls":5},1,{"$nulls":6},1,{"$nulls":6},1]
[2,{"$nulls":6},2,{"$nulls":6},2,{"$nulls":5},2,{"$nulls":6},2,{"$nulls":6},2]
[3,{"$nulls":6},3,{"$nulls":6},3,{"$nulls":5},3,{"$nulls":6},3,{"$nulls":6},3]
[4,{"$nulls":6},4,{"$nulls":6},4,{"$nulls":5},4,{"$nulls":6},4,{"$nulls":6},4]
[5,{"$nulls":6},5,{"$nulls":6},5,{"$nulls":5},5,{"$nulls":6},5,{"$nulls":6},5]
[6,{"$nulls":6},6,{"$nulls":6},6,{"$nulls":5},6,{"$nulls":6},6,{"$nulls":6},6]
[7,{"$nulls":6},7,{"$nulls":6},7,{"$nulls":5},7,{"$nulls":6},7,{"$nulls":6},7]
[8,{"$nulls":6},8,{"$nulls":6},8,{"$nulls":5},8,{"$nulls":6},8,{"$nulls":6},8]
[9,{"$nulls":6},9,{"$nulls":6},9,{"$nulls":5},9,{"$nulls":6},9,{"$nulls":6},9]
[10,{"$nulls":6},10,{"$nulls":6},10,{"$nulls":5},10,{"$nulls":6},10,{"$nulls":6},10]
[11,{"$nulls":6},11,{"$nulls":6},11,{"$nulls":5},11,{"$nulls":6},11,{"$nulls":6},11]
[12,{"$nulls":6},12,{"$nulls":6},12,{"$nulls":5},12,{"$nulls":6},12,{"$nulls":6},12]
[13,{"$nulls":6},13,{"$nulls":6},13,{"$nulls":5},13,{"$nulls":6},13,{"$nulls":6},13]
[14,{"$nulls":6},14,{"$nulls":6},14,{"$nulls":5},14,{"$nulls":6},14,{"$nulls":6},14]
[15,{"$nulls":6},15,{"$nulls":6},15,{"$nulls":5},15,{"$nulls":6},15,{"$nulls":6},15]
[16,{"$nulls":6},16,{"$nulls":6},16,{"$nulls":5},16,{"$nulls":6},16,{"$nulls":6},16]
[17,{"$nulls":6},17,{"$nulls":6},17,{"$nulls":5},17,{"$nulls":6},17,{"$nulls":6},17]
[18,{"$nulls":6},18,{"$nulls":6},18,{"$nulls":5},18,{"$nulls":6},18,{"$nulls":6},18]
["Total","Shots",null,null,"Shots",null,null,"Total","Shots",null,null,"Shots",null,null,"Total","Shots",null,null,"Shots",null,"Total","Shots",null,null,"Shots",null,null,"Total","Shots",null,null,"Shots",null,null,"Total","Shots",null,null,"Shots"]
[null,"Ends",null,null,"Ends",{"$nulls":3},"Ends",null,null,"Ends",{"$nulls":3},"Ends",null,null,"Ends",null,null,"Ends",null,null,"Ends",{"$nulls":3},"Ends",null,null,"Ends",{"$nulls":3},"Ends",null,null,"Ends"]
[]
[]
["1st Game ",{"$nulls":6},"2nd Game ",{"$nulls":6},"3rd Game ",{"$nulls":5},"4th Game",{"$nulls":6},"5th Game",{"$nulls":6},"6th Game"]
["Team No",null,null,"Rink No",{"$nulls":3},"Team No",null,null,"Rink No",{"$nulls":3},"Team No",null,null,"Rink No",null,null,"Team No",null,null,"Rink No",{"$nulls":3},"Team No",null,null,"Rink No",{"$nulls":3},"Team No",null,null,"Rink No"]
[]
[{"$f":"DRAW!$B$50","v":44},null,null,{"$f":"DRAW!$E$50","v":12},{"$nulls":3},{"$f":"DRAW!$B$50","v":44},null,null,{"$f":"DRAW!$G$50","v":19},{"$nulls":3},{"$f":"DRAW!$B$50","v":44},null,null,{"$f":"DRAW!$I$50","v":4},null,null,{"$f":"DRAW!$B$50","v":44},null,null,{"$f":"DRAW!$K$50","v":20},{"$nulls":3},{"$f":"DRAW!$B$50","v":44},null,null,{"$f":"DRAW!$M$50","v":24},{"$nulls":3},{"$f":"DRAW!$B$50","v":44},null,null,{"$f":"DRAW!$O$50","v":14}]
[null,"Team",{"$f":"DRAW!$B$50","v":44},"V","Team",{"$f":"DRAW!$D$50","v":13},null,null,"Team",{"$f":"DRAW!$B$50","v":44},"V","Team",{"$f":"DRAW!$F$50","v":15},null,null,"Team",{"$f":"DRAW!$B$50","v":44},"V","Team",{"$f":"DRAW!$H$50","v":19},null,"Team",{"$f":"DRAW!$B$50","v":44},"V","Team",{"$f":"DRAW!$J$50","v":17},null,null,"Team",{"$f":"DRAW!$B$50","v":44},"V","Team",{"$f":"DRAW!$L$50","v":21},null,null,"Team",{"$f":"DRAW!$B$50","v":44},"V","Team",{"$f":"DRAW!$N$50","v":23}]
["Ends","Shots","Total",null,"Shots","Total",null,"Ends","Shots","Total",null,"Shots","Total",null,"Ends","Shots","Total",null,"Shots","Total","Ends","Shots","Total",null,"Shots","Total",null,"Ends","Shots","Total",null,"Shots","Total",null,"Ends","Shots","Total",null,"Shots","Total"]
[1,{"$nulls":6},1,{"$nulls":6},1,{"$nulls":5},1,{"$nulls":6},1,{"$nulls":6},1]
[2,{"$nulls":6},2,{"$nulls":6},2,{"$nulls":5},2,{"$nulls":6},2,{"$nulls":6},2]
[3,{"$nulls":6},3,{"$nulls":6},3,{"$nulls":5},3,{"$nulls":6},3,{"$nulls":6},3]
[4,{"$nulls":6},4,{"$nulls":6},4,{"$nulls":5},4,{"$nulls":6},4,{"$nulls":6},4]
[5,{"$nulls":6},5,{"$nulls":6},5,{"$nulls":5},5,{"$nulls":6},5,{"$nulls":6},5]
[6,{"$nulls":6},6,{"$nulls":6},6,{"$nulls":5},6,{"$nulls":6},6,{"$nulls":6},6]
[7,{"$nulls":6},7,{"$nulls":6},7,{"$nulls":5},7,{"$nulls":6},7,{"$nulls":6},7]
[8,{"$nulls":6},8,{"$nulls":6},8,{"$nulls":5},8,{"$nulls":6},8,{"$nulls":6},8]
[9,{"$nulls":6},9,{"$nulls":6},9,{"$nulls":5},9,{"$nulls":6},9,{"$nulls":6},9]
[10,{"$nulls":6},10,{"$nulls":6},10,{"$nulls":5},10,{"$nulls":6},10,{"$nulls":6},10]
[11,{"$nulls":6},11,{"$nulls":6},11,{"$nulls":5},11,{"$nulls":6},11,{"$nulls":6},11]
[12,{"$nulls":6},12,{"$nulls":6},12,{"$nulls":5},12,{"$nulls":6},12,{"$nulls":6},12]
[13,{"$nulls":6},13,{"$nulls":6},13,{"$nulls":5},13,{"$nulls":6},13,{"$nulls":6},13]
[14,{"$nulls":6},14,{"$nulls":6},14,{"$nulls":5},14,{"$nulls":6},14,{"$nulls":6},14]
[15,{"$nulls":6},15,{"$nulls":6},15,{"$nulls":5},15,{"$nulls":6},15,{"$nulls":6},15]
[16,{"$nulls":6},16,{"$nulls":6},16,{"$nulls":5},16,{"$nulls":6},16,{"$nulls":6},16]
[17,{"$nulls":6},17,{"$nulls":6},17,{"$nulls":5},17,{"$nulls":6},17,{"$nulls":6},17]
[18,{"$nulls":6},18,{"$nulls":6},18,{"$nulls":5},18,{"$nulls":6},18,{"$nulls":6},18]
["Total","Shots",null,null,"Shots",null,null,"Total","Shots",null,null,"Shots",null,null,"Total","Shots",null,null,"Shots",null,"Total","Shots",null,null,"Shots",null,null,"Total","Shots",null,null,"Shots",null,null,"Total","Shots",null,null,"Shots"]
[null,"Ends",null,null,"Ends",{"$nulls":3},"Ends",null,null,"Ends",{"$nulls":3},"Ends",null,null,"Ends",null,null,"Ends",null,null,"Ends",{"$nulls":3},"Ends",null,null,"Ends",{"$nulls":3},"Ends",null,null,"Ends"]
["1st Game ",{"$nulls":6},"2nd Game ",{"$nulls":6},"3rd Game ",{"$nulls":5},"4th Game",{"$nulls":6},"5th Game",{"$nulls":6},"6th Game"]
["Team No",null,null,"Rink No",{"$nulls":3},"Team No",null,null,"Rink No",{"$nulls":3},"Team No",null,null,"Rink No",null,null,"Team No",null,null,"Rink No",{"$nulls":3},"Team No",null,null,"Rink No",{"$nulls":3},"Team No",null,null,"Rink No"]
[]
[{"$f":"DRAW!$B$51","v":45},null,null,{"$f":"DRAW!$E$51","v":11},{"$nulls":3},{"$f":"DRAW!$B$51","v":45},null,null,{"$f":"DRAW!$G$51","v":18},{"$nulls":3},{"$f":"DRAW!$B$51","v":45},null,null,{"$f":"DRAW!$I$51","v":1},null,null,{"$f":"DRAW!$B$51","v":45},null,null,{"$f":"DRAW!$K$51","v":10},{"$nulls":3},{"$f":"DRAW!$B$51","v":45},null,null,{"$f":"DRAW!$M$51","v":23},{"$nulls":3},{"$f":"DRAW!$B$51","v":45},null,null,{"$f":"DRAW!$O$51","v":7}]
[null,"Team",{"$f":"DRAW!$B$51","v":45},"V","Team",{"$f":"DRAW!$D$51","v":12},null,null,"Team",{"$f":"DRAW!$B$51","v":45},"V","Team",{"$f":"DRAW!$F$51","v":14},null,null,"Team",{"$f":"DRAW!$B$51","v":45},"V","Team",{"$f":"DRAW!$H$51","v":18},null,"Team",{"$f":"DRAW!$B$51","v":45},"V","Team",{"$f":"DRAW!$J$51","v":16},null,null,"Team",{"$f":"DRAW!$B$51","v":45},"V","Team",{"$f":"DRAW!$L$51","v":20},null,null,"Team",{"$f":"DRAW!$B$51","v":45},"V","Team",{"$f":"DRAW!$N$51","v":22}]
["Ends","Shots","Total",null,"Shots","Total",null,"Ends","Shots","Total",null,"Shots","Total",null,"Ends","Shots","Total",null,"Shots","Total","Ends","Shots","Total",null,"Shots","Total",null,"Ends","Shots","Total",null,"Shots","Total",null,"Ends","Shots","Total",null,"Shots","Total"]
[1,{"$nulls":6},1,{"$nulls":6},1,{"$nulls":5},1,{"$nulls":6},1,{"$nulls":6},1]
[2,{"$nulls":6},2,{"$nulls":6},2,{"$nulls":5},2,{"$nulls":6},2,{"$nulls":6},2]
[3,{"$nulls":6},3,{"$nulls":6},3,{"$nulls":5},3,{"$nulls":6},3,{"$nulls":6},3]
[4,{"$nulls":6},4,{"$nulls":6},4,{"$nulls":5},4,{"$nulls":6},4,{"$nulls":6},4]
[5,{"$nulls":6},5,{"$nulls":6},5,{"$nulls":5},5,{"$nulls":6},5,{"$nulls":6},5]
[6,{"$nulls":6},6,{"$nulls":6},6,{"$nulls":5},6,{"$nulls":6},6,{"$nulls":6},6]
[7,{"$nulls":6},7,{"$nulls":6},7,{"$nulls":5},7,{"$nulls":6},7,{"$nulls":6},7]
[8,{"$nulls":6},8,{"$nulls":6},8,{"$nulls":5},8,{"$nulls":6},8,{"$nulls":6},8]
[9,{"$nulls":6},9,{"$nulls":6},9,{"$nulls":5},9,{"$nulls":6},9,{"$nulls":6},9]
[10,{"$nulls":6},10,{"$nulls":6},10,{"$nulls":5},10,{"$nulls":6},10,{"$nulls":6},10]
[11,{"$nulls":6},11,{"$nulls":6},11,{"$nulls":5},11,{"$nulls":6},11,{"$nulls":6},11]
[12,{"$nulls":6},12,{"$nulls":6},12,{"$nulls":5},12,{"$nulls":6},12,{"$nulls":6},12]
[13,{"$nulls":6},13,{"$nulls":6},13,{"$nulls":5},13,{"$nulls":6},13,{"$nulls":6},13]
[14,{"$nulls":6},14,{"$nulls":6},14,{"$nulls":5},14,{"$nulls":6},14,{"$nulls":6},14]
[15,{"$nulls":6},15,{"$nulls":6},15,{"$nulls":5},15,{"$nulls":6},15,{"$nulls":6},15]
[16,{"$nulls":6},16,{"$nulls":6},16,{"$nulls":5},16,{"$nulls":6},16,{"$nulls":6},16]
[17,{"$nulls":6},17,{"$nulls":6},17,{"$nulls":5},17,{"$nulls":6},17,{"$nulls":6},17]
[18,{"$nulls":6},18,{"$nulls":6},18,{"$nulls":5},18,{"$nulls":6},18,{"$nulls":6},18]
["Total","Shots",null,null,"Shots",null,null,"Total","Shots",null,null,"Shots",null,null,"Total","Shots",null,null,"Shots",null,"Total","Shots",null,null,"Shots",null,null,"Total","Shots",null,null,"Shots",null,null,"Total","Shots",null,null,"Shots"]
[null,"Ends",null,null,"Ends",{"$nulls":3},"Ends",null,null,"Ends",{"$nulls":3},"Ends",null,null,"Ends",null,null,"Ends",null,null,"Ends",{"$nulls":3},"Ends",null,null,"Ends",{"$nulls":3},"Ends",null,null,"Ends"]
[]
[]
["1st Game ",{"$nulls":6},"2nd Game ",{"$nulls":6},"3rd Game ",{"$nulls":5},"4th Game",{"$nulls":6},"5th Game",{"$nulls":6},"6th Game"]
["Team No",null,null,"Rink No",{"$nulls":3},"Team No",null,null,"Rink No",{"$nulls":3},"Team No",null,null,"Rink No",null,null,"Team No",null,null,"Rink No",{"$nulls":3},"Team No",null,null,"Rink No",{"$nulls":3},"Team No",null,null,"Rink No"]
[]
[{"$f":"DRAW!$B$52","v":46},null,null,{"$f":"DRAW!$E$52","v":10},{"$nulls":3},{"$f":"DRAW!$B$52","v":46},null,null,{"$f":"DRAW!$G$52","v":21},{"$nulls":3},{"$f":"DRAW!$B$52","v":46},null,null,{"$f":"DRAW!$I$52","v":3},null,null,{"$f":"DRAW!$B$52","v":46},null,null,{"$f":"DRAW!$K$52","v":11},{"$nulls":3},{"$f":"DRAW!$B$52","v":46},null,null,{"$f":"DRAW!$M$52","v":17},{"$nulls":3},{"$f":"DRAW!$B$52","v":46},null,null,{"$f":"DRAW!$O$52","v":1}]
[null,"Team",{"$f":"DRAW!$B$52","v":46},"V","Team",{"$f":"DRAW!$D$52","v":11},null,null,"Team",{"$f":"DRAW!$B$52","v":46},"V","Team",{"$f":"DRAW!$F$52","v":13},null,null,"Team",{"$f":"DRAW!$B$52","v":46},"V","Team",{"$f":"DRAW!$H$52","v":17},null,"Team",{"$f":"DRAW!$B$52","v":46},"V","Team",{"$f":"DRAW!$J$52","v":15},null,null,"Team",{"$f":"DRAW!$B$52","v":46},"V","Team",{"$f":"DRAW!$L$52","v":19},null,null,"Team",{"$f":"DRAW!$B$52","v":46},"V","Team",{"$f":"DRAW!$N$52","v":21}]
["Ends","Shots","Total",null,"Shots","Total",null,"Ends","Shots","Total",null,"Shots","Total",null,"Ends","Shots","Total",null,"Shots","Total","Ends","Shots","Total",null,"Shots","Total",null,"Ends","Shots","Total",null,"Shots","Total",null,"Ends","Shots","Total",null,"Shots","Total"]
[1,{"$nulls":6},1,{"$nulls":6},1,{"$nulls":5},1,{"$nulls":6},1,{"$nulls":6},1]
[2,{"$nulls":6},2,{"$nulls":6},2,{"$nulls":5},2,{"$nulls":6},2,{"$nulls":6},2]
[3,{"$nulls":6},3,{"$nulls":6},3,{"$nulls":5},3,{"$nulls":6},3,{"$nulls":6},3]
[4,{"$nulls":6},4,{"$nulls":6},4,{"$nulls":5},4,{"$nulls":6},4,{"$nulls":6},4]
[5,{"$nulls":6},5,{"$nulls":6},5,{"$nulls":5},5,{"$nulls":6},5,{"$nulls":6},5]
[6,{"$nulls":6},6,{"$nulls":6},6,{"$nulls":5},6,{"$nulls":6},6,{"$nulls":6},6]
[7,{"$nulls":6},7,{"$nulls":6},7,{"$nulls":5},7,{"$nulls":6},7,{"$nulls":6},7]
[8,{"$nulls":6},8,{"$nulls":6},8,{"$nulls":5},8,{"$nulls":6},8,{"$nulls":6},8]
[9,{"$nulls":6},9,{"$nulls":6},9,{"$nulls":5},9,{"$nulls":6},9,{"$nulls":6},9]
[10,{"$nulls":6},10,{"$nulls":6},10,{"$nulls":5},10,{"$nulls":6},10,{"$nulls":6},10]
[11,{"$nulls":6},11,{"$nulls":6},11,{"$nulls":5},11,{"$nulls":6},11,{"$nulls":6},11]
[12,{"$nulls":6},12,{"$nulls":6},12,{"$nulls":5},12,{"$nulls":6},12,{"$nulls":6},12]
[13,{"$nulls":6},13,{"$nulls":6},13,{"$nulls":5},13,{"$nulls":6},13,{"$nulls":6},13]
[14,{"$nulls":6},14,{"$nulls":6},14,{"$nulls":5},14,{"$nulls":6},14,{"$nulls":6},14]
[15,{"$nulls":6},15,{"$nulls":6},15,{"$nulls":5},15,{"$nulls":6},15,{"$nulls":6},15]
[16,{"$nulls":6},16,{"$nulls":6},16,{"$nulls":5},16,{"$nulls":6},16,{"$nulls":6},16]
[17,{"$nulls":6},17,{"$nulls":6},17,{"$nulls":5},17,{"$nulls":6},17,{"$nulls":6},17]
[18,{"$nulls":6},18,{"$nulls":6},18,{"$nulls":5},18,{"$nulls":6},18,{"$nulls":6},18]
["Total","Shots",null,null,"Shots",null,null,"Total","Shots",null,null,"Shots",null,null,"Total","Shots",null,null,"Shots",null,"Total","Shots",null,null,"Shots",null,null,"Total","Shots",null,null,"Shots",null,null,"Total","Shots",null,null,"Shots"]
[null,"Ends",null,null,"Ends",{"$nulls":3},"Ends",null,null,"Ends",{"$nulls":3},"Ends",null,null,"Ends",null,null,"Ends",null,null,"Ends",{"$nulls":3},"Ends",null,null,"Ends",{"$nulls":3},"Ends",null,null,"Ends"]
["1st Game ",{"$nulls":6},"2nd Game ",{"$nulls":6},"3rd Game ",{"$nulls":5},"4th Game",{"$nulls":6},"5th Game",{"$nulls":6},"6th Game"]
["Team No",null,null,"Rink No",{"$nulls":3},"Team No",null,null,"Rink No",{"$nulls":3},"Team No",null,null,"Rink No",null,null,"Team No",null,null,"Rink No",{"$nulls":3},"Team No",null,null,"Rink No",{"$nulls":3},"Team No",null,null,"Rink No"]
[]
[{"$f":"DRAW!$B$53","v":47},null,null,{"$f":"DRAW!$E$53","v":9},{"$nulls":3},{"$f":"DRAW!$B$53","v":47},null,null,{"$f":"DRAW!$G$53","v":15},{"$nulls":3},{"$f":"DRAW!$B$53","v":47},null,null,{"$f":"DRAW!$I$53","v":2},null,null,{"$f":"DRAW!$B$53","v":47},null,null,{"$f":"DRAW!$K$53","v":8},{"$nulls":3},{"$f":"DRAW!$B$53","v":47},null,null,{"$f":"DRAW!$M$53","v":18},{"$nulls":3},{"$f":"DRAW!$B$53","v":47},null,null,{"$f":"DRAW!$O$53","v":4}]
[null,"Team",{"$f":"DRAW!$B$53","v":47},"V","Team",{"$f":"DRAW!$D$53","v":10},null,null,"Team",{"$f":"DRAW!$B$53","v":47},"V","Team",{"$f":"DRAW!$F$53","v":12},null,null,"Team",{"$f":"DRAW!$B$53","v":47},"V","Team",{"$f":"DRAW!$H$53","v":16},null,"Team",{"$f":"DRAW!$B$53","v":47},"V","Team",{"$f":"DRAW!$J$53","v":14},null,null,"Team",{"$f":"DRAW!$B$53","v":47},"V","Team",{"$f":"DRAW!$L$53","v":18},null,null,"Team",{"$f":"DRAW!$B$53","v":47},"V","Team",{"$f":"DRAW!$N$53","v":20}]
["Ends","Shots","Total",null,"Shots","Total",null,"Ends","Shots","Total",null,"Shots","Total",null,"Ends","Shots","Total",null,"Shots","Total","Ends","Shots","Total",null,"Shots","Total",null,"Ends","Shots","Total",null,"Shots","Total",null,"Ends","Shots","Total",null,"Shots","Total"]
[1,{"$nulls":6},1,{"$nulls":6},1,{"$nulls":5},1,{"$nulls":6},1,{"$nulls":6},1]
[2,{"$nulls":6},2,{"$nulls":6},2,{"$nulls":5},2,{"$nulls":6},2,{"$nulls":6},2]
[3,{"$nulls":6},3,{"$nulls":6},3,{"$nulls":5},3,{"$nulls":6},3,{"$nulls":6},3]
[4,{"$nulls":6},4,{"$nulls":6},4,{"$nulls":5},4,{"$nulls":6},4,{"$nulls":6},4]
[5,{"$nulls":6},5,{"$nulls":6},5,{"$nulls":5},5,{"$nulls":6},5,{"$nulls":6},5]
[6,{"$nulls":6},6,{"$nulls":6},6,{"$nulls":5},6,{"$nulls":6},6,{"$nulls":6},6]
[7,{"$nulls":6},7,{"$nulls":6},7,{"$nulls":5},7,{"$nulls":6},7,{"$nulls":6},7]
[8,{"$nulls":6},8,{"$nulls":6},8,{"$nulls":5},8,{"$nulls":6},8,{"$nulls":6},8]
[9,{"$nulls":6},9,{"$nulls":6},9,{"$nulls":5},9,{"$nulls":6},9,{"$nulls":6},9]
[10,{"$nulls":6},10,{"$nulls":6},10,{"$nulls":5},10,{"$nulls":6},10,{"$nulls":6},10]
[11,{"$nulls":6},11,{"$nulls":6},11,{"$nulls":5},11,{"$nulls":6},11,{"$nulls":6},11]
[12,{"$nulls":6},12,{"$nulls":6},12,{"$nulls":5},12,{"$nulls":6},12,{"$nulls":6},12]
[13,{"$nulls":6},13,{"$nulls":6},13,{"$nulls":5},13,{"$nulls":6},13,{"$nulls":6},13]
[14,{"$nulls":6},14,{"$nulls":6},14,{"$nulls":5},14,{"$nulls":6},14,{"$nulls":6},14]
[15,{"$nulls":6},15,{"$nulls":6},15,{"$nulls":5},15,{"$nulls":6},15,{"$nulls":6},15]
[16,{"$nulls":6},16,{"$nulls":6},16,{"$nulls":5},16,{"$nulls":6},16,{"$nulls":6},16]
[17,{"$nulls":6},17,{"$nulls":6},17,{"$nulls":5},17,{"$nulls":6},17,{"$nulls":6},17]
[18,{"$nulls":6},18,{"$nulls":6},18,{"$nulls":5},18,{"$nulls":6},18,{"$nulls":6},18]
["Total","Shots",null,null,"Shots",null,null,"Total","Shots",null,null,"Shots",null,null,"Total","Shots",null,null,"Shots",null,"Total","Shots",null,null,"Shots",null,null,"Total","Shots",null,null,"Shots",null,null,"Total","Shots",null,null,"Shots"]
[null,"Ends",null,null,"Ends",{"$nulls":3},"Ends",null,null,"Ends",{"$nulls":3},"Ends",null,null,"Ends",null,null,"Ends",null,null,"Ends",{"$nulls":3},"Ends",null,null,"Ends",{"$nulls":3},"Ends",null,null,"Ends"]
[]
[]
["1st Game ",{"$nulls":6},"2nd Game ",{"$nulls":6},"3rd Game ",{"$nulls":5},"4th Game",{"$nulls":6},"5th Game",{"$nulls":6},"6th Game"]
["Team No",null,null,"Rink No",{"$nulls":3},"Team No",null,null,"Rink No",{"$nulls":3},"Team No",null,null,"Rink No",null,null,"Team No",null,null,"Rink No",{"$nulls":3},"Team No",null,null,"Rink No",{"$nulls":3},"Team No",null,null,"Rink No"]
[]
[{"$f":"DRAW!$B$54","v":48},null,null,{"$f":"DRAW!$E$54","v":8},{"$nulls":3},{"$f":"DRAW!$B$54","v":48},null,null,{"$f":"DRAW!$G$54","v":17},{"$nulls":3},{"$f":"DRAW!$B$54","v":48},null,null,{"$f":"DRAW!$I$54","v":25},null,null,{"$f":"DRAW!$B$54","v":48},null,null,{"$f":"DRAW!$K$54","v":9},{"$nulls":3},{"$f":"DRAW!$B$54","v":48},null,null,{"$f":"DRAW!$M$54","v":22},{"$nulls":3},{"$f":"DRAW!$B$54","v":48},null,null,{"$f":"DRAW!$O$54","v":3}]
[null,"Team",{"$f":"DRAW!$B$54","v":48},"V","Team",{"$f":"DRAW!$D$54","v":9},null,null,"Team",{"$f":"DRAW!$B$54","v":48},"V","Team",{"$f":"DRAW!$F$54","v":11},null,null,"Team",{"$f":"DRAW!$B$54","v":48},"V","Team",{"$f":"DRAW!$H$54","v":15},null,"Team",{"$f":"DRAW!$B$54","v":48},"V","Team",{"$f":"DRAW!$J$54","v":13},null,null,"Team",{"$f":"DRAW!$B$54","v":48},"V","Team",{"$f":"DRAW!$L$54","v":17},null,null,"Team",{"$f":"DRAW!$B$54","v":48},"V","Team",{"$f":"DRAW!$N$54","v":19}]
["Ends","Shots","Total",null,"Shots","Total",null,"Ends","Shots","Total",null,"Shots","Total",null,"Ends","Shots","Total",null,"Shots","Total","Ends","Shots","Total",null,"Shots","Total",null,"Ends","Shots","Total",null,"Shots","Total",null,"Ends","Shots","Total",null,"Shots","Total"]
[1,{"$nulls":6},1,{"$nulls":6},1,{"$nulls":5},1,{"$nulls":6},1,{"$nulls":6},1]
[2,{"$nulls":6},2,{"$nulls":6},2,{"$nulls":5},2,{"$nulls":6},2,{"$nulls":6},2]
[3,{"$nulls":6},3,{"$nulls":6},3,{"$nulls":5},3,{"$nulls":6},3,{"$nulls":6},3]
[4,{"$nulls":6},4,{"$nulls":6},4,{"$nulls":5},4,{"$nulls":6},4,{"$nulls":6},4]
[5,{"$nulls":6},5,{"$nulls":6},5,{"$nulls":5},5,{"$nulls":6},5,{"$nulls":6},5]
[6,{"$nulls":6},6,{"$nulls":6},6,{"$nulls":5},6,{"$nulls":6},6,{"$nulls":6},6]
[7,{"$nulls":6},7,{"$nulls":6},7,{"$nulls":5},7,{"$nulls":6},7,{"$nulls":6},7]
[8,{"$nulls":6},8,{"$nulls":6},8,{"$nulls":5},8,{"$nulls":6},8,{"$nulls":6},8]
[9,{"$nulls":6},9,{"$nulls":6},9,{"$nulls":5},9,{"$nulls":6},9,{"$nulls":6},9]
[10,{"$nulls":6},10,{"$nulls":6},10,{"$nulls":5},10,{"$nulls":6},10,{"$nulls":6},10]
[11,{"$nulls":6},11,{"$nulls":6},11,{"$nulls":5},11,{"$nulls":6},11,{"$nulls":6},11]
[12,{"$nulls":6},12,{"$nulls":6},12,{"$nulls":5},12,{"$nulls":6},12,{"$nulls":6},12]
[13,{"$nulls":6},13,{"$nulls":6},13,{"$nulls":5},13,{"$nulls":6},13,{"$nulls":6},13]
[14,{"$nulls":6},14,{"$nulls":6},14,{"$nulls":5},14,{"$nulls":6},14,{"$nulls":6},14]
[15,{"$nulls":6},15,{"$nulls":6},15,{"$nulls":5},15,{"$nulls":6},15,{"$nulls":6},15]
[16,{"$nulls":6},16,{"$nulls":6},16,{"$nulls":5},16,{"$nulls":6},16,{"$nulls":6},16]
[17,{"$nulls":6},17,{"$nulls":6},17,{"$nulls":5},17,{"$nulls":6},17,{"$nulls":6},17]
[18,{"$nulls":6},18,{"$nulls":6},18,{"$nulls":5},18,{"$nulls":6},18,{"$nulls":6},18]
["Total","Shots",null,null,"Shots",null,null,"Total","Shots",null,null,"Shots",null,null,"Total","Shots",null,null,"Shots",null,"Total","Shots",null,null,"Shots",null,null,"Total","Shots",null,null,"Shots",null,null,"Total","Shots",null,null,"Shots"]
[null,"Ends",null,null,"Ends",{"$nulls":3},"Ends",null,null,"Ends",{"$nulls":3},"Ends",null,null,"Ends",null,null,"Ends",null,null,"Ends",{"$nulls":3},"Ends",null,null,"Ends",{"$nulls":3},"Ends",null,null,"Ends"]
["1st Game ",{"$nulls":6},"2nd Game ",{"$nulls":6},"3rd Game ",{"$nulls":5},"4th Game",{"$nulls":6},"5th Game",{"$nulls":6},"6th Game"]
["Team No",null,null,"Rink No",{"$nulls":3},"Team No",null,null,"Rink No",{"$nulls":3},"Team No",null,null,"Rink No",null,null,"Team No",null,null,"Rink No",{"$nulls":3},"Team No",null,null,"Rink No",{"$nulls":3},"Team No",null,null,"Rink No"]
[]
[{"$f":"DRAW!$B$55","v":49},null,null,{"$f":"DRAW!$E$55","v":7},{"$nulls":3},{"$f":"DRAW!$B$55","v":49},null,null,{"$f":"DRAW!$G$55","v":16},{"$nulls":3},{"$f":"DRAW!$B$55","v":49},null,null,{"$f":"DRAW!$I$55","v":22},null,null,{"$f":"DRAW!$B$55","v":49},null,null,{"$f":"DRAW!$K$55","v":6},{"$nulls":3},{"$f":"DRAW!$B$55","v":49},null,null,{"$f":"DRAW!$M$55","v":19},{"$nulls":3},{"$f":"DRAW!$B$55","v":49},null,null,{"$f":"DRAW!$O$55","v":6}]
[null,"Team",{"$f":"DRAW!$B$55","v":49},"V","Team",{"$f":"DRAW!$D$55","v":8},null,null,"Team",{"$f":"DRAW!$B$55","v":49},"V","Team",{"$f":"DRAW!$F$55","v":10},null,null,"Team",{"$f":"DRAW!$B$55","v":49},"V","Team",{"$f":"DRAW!$H$55","v":14},null,"Team",{"$f":"DRAW!$B$55","v":49},"V","Team",{"$f":"DRAW!$J$55","v":12},null,null,"Team",{"$f":"DRAW!$B$55","v":49},"V","Team",{"$f":"DRAW!$L$55","v":16},null,null,"Team",{"$f":"DRAW!$B$55","v":49},"V","Team",{"$f":"DRAW!$N$55","v":18}]
["Ends","Shots","Total",null,"Shots","Total",null,"Ends","Shots","Total",null,"Shots","Total",null,"Ends","Shots","Total",null,"Shots","Total","Ends","Shots","Total",null,"Shots","Total",null,"Ends","Shots","Total",null,"Shots","Total",null,"Ends","Shots","Total",null,"Shots","Total"]
[1,{"$nulls":6},1,{"$nulls":6},1,{"$nulls":5},1,{"$nulls":6},1,{"$nulls":6},1]
[2,{"$nulls":6},2,{"$nulls":6},2,{"$nulls":5},2,{"$nulls":6},2,{"$nulls":6},2]
[3,{"$nulls":6},3,{"$nulls":6},3,{"$nulls":5},3,{"$nulls":6},3,{"$nulls":6},3]
[4,{"$nulls":6},4,{"$nulls":6},4,{"$nulls":5},4,{"$nulls":6},4,{"$nulls":6},4]
[5,{"$nulls":6},5,{"$nulls":6},5,{"$nulls":5},5,{"$nulls":6},5,{"$nulls":6},5]
[6,{"$nulls":6},6,{"$nulls":6},6,{"$nulls":5},6,{"$nulls":6},6,{"$nulls":6},6]
[7,{"$nulls":6},7,{"$nulls":6},7,{"$nulls":5},7,{"$nulls":6},7,{"$nulls":6},7]
[8,{"$nulls":6},8,{"$nulls":6},8,{"$nulls":5},8,{"$nulls":6},8,{"$nulls":6},8]
[9,{"$nulls":6},9,{"$nulls":6},9,{"$nulls":5},9,{"$nulls":6},9,{"$nulls":6},9]
[10,{"$nulls":6},10,{"$nulls":6},10,{"$nulls":5},10,{"$nulls":6},10,{"$nulls":6},10]
[11,{"$nulls":6},11,{"$nulls":6},11,{"$nulls":5},11,{"$nulls":6},11,{"$nulls":6},11]
[12,{"$nulls":6},12,{"$nulls":6},12,{"$nulls":5},12,{"$nulls":6},12,{"$nulls":6},12]
[13,{"$nulls":6},13,{"$nulls":6},13,{"$nulls":5},13,{"$nulls":6},13,{"$nulls":6},13]
[14,{"$nulls":6},14,{"$nulls":6},14,{"$nulls":5},14,{"$nulls":6},14,{"$nulls":6},14]
[15,{"$nulls":6},15,{"$nulls":6},15,{"$nulls":5},15,{"$nulls":6},15,{"$nulls":6},15]
[16,{"$nulls":6},16,{"$nulls":6},16,{"$nulls":5},16,{"$nulls":6},16,{"$nulls":6},16]
[17,{"$nulls":6},17,{"$nulls":6},17,{"$nulls":5},17,{"$nulls":6},17,{"$nulls":6},17]
[18,{"$nulls":6},18,{"$nulls":6},18,{"$nulls":5},18,{"$nulls":6},18,{"$nulls":6},18]
["Total","Shots",null,null,"Shots",null,null,"Total","Shots",null,null,"Shots",null,null,"Total","Shots",null,null,"Shots",null,"Total","Shots",null,null,"Shots",null,null,"Total","Shots",null,null,"Shots",null,null,"Total","Shots",null,null,"Shots"]
[null,"Ends",null,null,"Ends",{"$nulls":3},"Ends",null,null,"Ends",{"$nulls":3},"Ends",null,null,"Ends",null,null,"Ends",null,null,"Ends",{"$nulls":3},"Ends",null,null,"Ends",{"$nulls":3},"Ends",null,null,"Ends"]
[]
[]
["1st Game ",{"$nulls":6},"2nd Game ",{"$nulls":6},"3rd Game ",{"$nulls":5},"4th Game",{"$nulls":6},"5th Game",{"$nulls":6},"6th Game"]
["Team No",null,null,"Rink No",{"$nulls":3},"Team No",null,null,"Rink No",{"$nulls":3},"Team No",null,null,"Rink No",null,null,"Team No",null,null,"Rink No",{"$nulls":3},"Team No",null,null,"Rink No",{"$nulls":3},"Team No",null,null,"Rink No"]
[]
[{"$f":"DRAW!$B$56","v":50},null,null,{"$f":"DRAW!$E$56","v":6},{"$nulls":3},{"$f":"DRAW!$B$56","v":50},null,null,{"$f":"DRAW!$G$56","v":20},{"$nulls":3},{"$f":"DRAW!$B$56","v":50},null,null,{"$f":"DRAW!$I$56","v":24},null,null,{"$f":"DRAW!$B$56","v":50},null,null,{"$f":"DRAW!$K$56","v":4},{"$nulls":3},{"$f":"DRAW!$B$56","v":50},null,null,{"$f":"DRAW!$M$56","v":21},{"$nulls":3},{"$f":"DRAW!$B$56","v":50},null,null,{"$f":"DRAW!$O$56","v":2}]
[null,"Team",{"$f":"DRAW!$B$56","v":50},"V","Team",{"$f":"DRAW!$D$56","v":7},null,null,"Team",{"$f":"DRAW!$B$56","v":50},"V","Team",{"$f":"DRAW!$F$56","v":9},null,null,"Team",{"$f":"DRAW!$B$56","v":50},"V","Team",{"$f":"DRAW!$H$56","v":13},null,"Team",{"$f":"DRAW!$B$56","v":50},"V","Team",{"$f":"DRAW!$J$56","v":11},null,null,"Team",{"$f":"DRAW!$B$56","v":50},"V","Team",{"$f":"DRAW!$L$56","v":15},null,null,"Team",{"$f":"DRAW!$B$56","v":50},"V","Team",{"$f":"DRAW!$N$56","v":17}]
["Ends","Shots","Total",null,"Shots","Total",null,"Ends","Shots","Total",null,"Shots","Total",null,"Ends","Shots","Total",null,"Shots","Total","Ends","Shots","Total",null,"Shots","Total",null,"Ends","Shots","Total",null,"Shots","Total",null,"Ends","Shots","Total",null,"Shots","Total"]
[1,{"$nulls":6},1,{"$nulls":6},1,{"$nulls":5},1,{"$nulls":6},1,{"$nulls":6},1]
[2,{"$nulls":6},2,{"$nulls":6},2,{"$nulls":5},2,{"$nulls":6},2,{"$nulls":6},2]
[3,{"$nulls":6},3,{"$nulls":6},3,{"$nulls":5},3,{"$nulls":6},3,{"$nulls":6},3]
[4,{"$nulls":6},4,{"$nulls":6},4,{"$nulls":5},4,{"$nulls":6},4,{"$nulls":6},4]
[5,{"$nulls":6},5,{"$nulls":6},5,{"$nulls":5},5,{"$nulls":6},5,{"$nulls":6},5]
[6,{"$nulls":6},6,{"$nulls":6},6,{"$nulls":5},6,{"$nulls":6},6,{"$nulls":6},6]
[7,{"$nulls":6},7,{"$nulls":6},7,{"$nulls":5},7,{"$nulls":6},7,{"$nulls":6},7]
[8,{"$nulls":6},8,{"$nulls":6},8,{"$nulls":5},8,{"$nulls":6},8,{"$nulls":6},8]
[9,{"$nulls":6},9,{"$nulls":6},9,{"$nulls":5},9,{"$nulls":6},9,{"$nulls":6},9]
[10,{"$nulls":6},10,{"$nulls":6},10,{"$nulls":5},10,{"$nulls":6},10,{"$nulls":6},10]
[11,{"$nulls":6},11,{"$nulls":6},11,{"$nulls":5},11,{"$nulls":6},11,{"$nulls":6},11]
[12,{"$nulls":6},12,{"$nulls":6},12,{"$nulls":5},12,{"$nulls":6},12,{"$nulls":6},12]
[13,{"$nulls":6},13,{"$nulls":6},13,{"$nulls":5},13,{"$nulls":6},13,{"$nulls":6},13]
[14,{"$nulls":6},14,{"$nulls":6},14,{"$nulls":5},14,{"$nulls":6},14,{"$nulls":6},14]
[15,{"$nulls":6},15,{"$nulls":6},15,{"$nulls":5},15,{"$nulls":6},15,{"$nulls":6},15]
[16,{"$nulls":6},16,{"$nulls":6},16,{"$nulls":5},16,{"$nulls":6},16,{"$nulls":6},16]
[17,{"$nulls":6},17,{"$nulls":6},17,{"$nulls":5},17,{"$nulls":6},17,{"$nulls":6},17]
[18,{"$nulls":6},18,{"$nulls":6},18,{"$nulls":5},18,{"$nulls":6},18,{"$nulls":6},18]
["Total","Shots",null,null,"Shots",null,null,"Total","Shots",null,null,"Shots",null,null,"Total","Shots",null,null,"Shots",null,"Total","Shots",null,null,"Shots",null,null,"Total","Shots",null,null,"Shots",null,null,"Total","Shots",null,null,"Shots"]
[null,"Ends",null,null,"Ends",{"$nulls":3},"Ends",null,null,"Ends",{"$nulls":3},"Ends",null,null,"Ends",null,null,"Ends",null,null,"Ends",{"$nulls":3},"Ends",null,null,"Ends",{"$nulls":3},"Ends",null,null,"Ends"]
["1st Game ",{"$nulls":6},"2nd Game ",{"$nulls":6},"3rd Game ",{"$nulls":5},"4th Game",{"$nulls":6},"5th Game",{"$nulls":6},"6th Game"]
["Team No",null,null,"Rink No",{"$nulls":3},"Team No",null,null,"Rink No",{"$nulls":3},"Team No",null,null,"Rink No",null,null,"Team No",null,null,"Rink No",{"$nulls":3},"Team No",null,null,"Rink No",{"$nulls":3},"Team No",null,null,"Rink No"]
[]
[{"$f":"DRAW!$B$57","v":51},null,null,{"$f":"DRAW!$E$57","v":5},{"$nulls":3},{"$f":"DRAW!$B$57","v":51},null,null,{"$f":"DRAW!$G$57","v":12},{"$nulls":3},{"$f":"DRAW!$B$57","v":51},null,null,{"$f":"DRAW!$I$57","v":23},null,null,{"$f":"DRAW!$B$57","v":51},null,null,{"$f":"DRAW!$K$57","v":1},{"$nulls":3},{"$f":"DRAW!$B$57","v":51},null,null,{"$f":"DRAW!$M$57","v":20},{"$nulls":3},{"$f":"DRAW!$B$57","v":51},null,null,{"$f":"DRAW!$O$57","v":22}]
[null,"Team",{"$f":"DRAW!$B$57","v":51},"V","Team",{"$f":"DRAW!$D$57","v":6},null,null,"Team",{"$f":"DRAW!$B$57","v":51},"V","Team",{"$f":"DRAW!$F$57","v":8},null,null,"Team",{"$f":"DRAW!$B$57","v":51},"V","Team",{"$f":"DRAW!$H$57","v":12},null,"Team",{"$f":"DRAW!$B$57","v":51},"V","Team",{"$f":"DRAW!$J$57","v":10},null,null,"Team",{"$f":"DRAW!$B$57","v":51},"V","Team",{"$f":"DRAW!$L$57","v":14},null,null,"Team",{"$f":"DRAW!$B$57","v":51},"V","Team",{"$f":"DRAW!$N$57","v":16}]
["Ends","Shots","Total",null,"Shots","Total",null,"Ends","Shots","Total",null,"Shots","Total",null,"Ends","Shots","Total",null,"Shots","Total","Ends","Shots","Total",null,"Shots","Total",null,"Ends","Shots","Total",null,"Shots","Total",null,"Ends","Shots","Total",null,"Shots","Total"]
[1,{"$nulls":6},1,{"$nulls":6},1,{"$nulls":5},1,{"$nulls":6},1,{"$nulls":6},1]
[2,{"$nulls":6},2,{"$nulls":6},2,{"$nulls":5},2,{"$nulls":6},2,{"$nulls":6},2]
[3,{"$nulls":6},3,{"$nulls":6},3,{"$nulls":5},3,{"$nulls":6},3,{"$nulls":6},3]
[4,{"$nulls":6},4,{"$nulls":6},4,{"$nulls":5},4,{"$nulls":6},4,{"$nulls":6},4]
[5,{"$nulls":6},5,{"$nulls":6},5,{"$nulls":5},5,{"$nulls":6},5,{"$nulls":6},5]
[6,{"$nulls":6},6,{"$nulls":6},6,{"$nulls":5},6,{"$nulls":6},6,{"$nulls":6},6]
[7,{"$nulls":6},7,{"$nulls":6},7,{"$nulls":5},7,{"$nulls":6},7,{"$nulls":6},7]
[8,{"$nulls":6},8,{"$nulls":6},8,{"$nulls":5},8,{"$nulls":6},8,{"$nulls":6},8]
[9,{"$nulls":6},9,{"$nulls":6},9,{"$nulls":5},9,{"$nulls":6},9,{"$nulls":6},9]
[10,{"$nulls":6},10,{"$nulls":6},10,{"$nulls":5},10,{"$nulls":6},10,{"$nulls":6},10]
[11,{"$nulls":6},11,{"$nulls":6},11,{"$nulls":5},11,{"$nulls":6},11,{"$nulls":6},11]
[12,{"$nulls":6},12,{"$nulls":6},12,{"$nulls":5},12,{"$nulls":6},12,{"$nulls":6},12]
[13,{"$nulls":6},13,{"$nulls":6},13,{"$nulls":5},13,{"$nulls":6},13,{"$nulls":6},13]
[14,{"$nulls":6},14,{"$nulls":6},14,{"$nulls":5},14,{"$nulls":6},14,{"$nulls":6},14]
[15,{"$nulls":6},15,{"$nulls":6},15,{"$nulls":5},15,{"$nulls":6},15,{"$nulls":6},15]
[16,{"$nulls":6},16,{"$nulls":6},16,{"$nulls":5},16,{"$nulls":6},16,{"$nulls":6},16]
[17,{"$nulls":6},17,{"$nulls":6},17,{"$nulls":5},17,{"$nulls":6},17,{"$nulls":6},17]
[18,{"$nulls":6},18,{"$nulls":6},18,{"$nulls":5},18,{"$nulls":6},18,{"$nulls":6},18]
["Total","Shots",null,null,"Shots",null,null,"Total","Shots",null,null,"Shots",null,null,"Total","Shots",null,null,"Shots",null,"Total","Shots",null,null,"Shots",null,null,"Total","Shots",null,null,"Shots",null,null,"Total","Shots",null,null,"Shots"]
[null,"Ends",null,null,"Ends",{"$nulls":3},"Ends",null,null,"Ends",{"$nulls":3},"Ends",null,null,"Ends",null,null,"Ends",null,null,"Ends",{"$nulls":3},"Ends",null,null,"Ends",{"$nulls":3},"Ends",null,null,"Ends"]
[]
[]
["1st Game ",{"$nulls":6},"2nd Game ",{"$nulls":6},"3rd Game ",{"$nulls":5},"4th Game",{"$nulls":6},"5th Game",{"$nulls":6},"6th Game"]
["Team No",null,null,"Rink No",{"$nulls":3},"Team No",null,null,"Rink No",{"$nulls":3},"Team No",null,null,"Rink No",null,null,"Team No",null,null,"Rink No",{"$nulls":3},"Team No",null,null,"Rink No",{"$nulls":3},"Team No",null,null,"Rink No"]
[]
[{"$f":"DRAW!$B$58","v":52},null,null,{"$f":"DRAW!$E$58","v":4},{"$nulls":3},{"$f":"DRAW!$B$58","v":52},null,null,{"$f":"DRAW!$G$58","v":13},{"$nulls":3},{"$f":"DRAW!$B$58","v":52},null,null,{"$f":"DRAW!$I$58","v":21},null,null,{"$f":"DRAW!$B$58","v":52},null,null,{"$f":"DRAW!$K$58","v":5},{"$nulls":3},{"$f":"DRAW!$B$58","v":52},null,null,{"$f":"DRAW!$M$58","v":15},{"$nulls":3},{"$f":"DRAW!$B$58","v":52},null,null,{"$f":"DRAW!$O$58","v":25}]
[null,"Team",{"$f":"DRAW!$B$58","v":52},"V","Team",{"$f":"DRAW!$D$58","v":5},null,null,"Team",{"$f":"DRAW!$B$58","v":52},"V","Team",{"$f":"DRAW!$F$58","v":7},null,null,"Team",{"$f":"DRAW!$B$58","v":52},"V","Team",{"$f":"DRAW!$H$58","v":11},null,"Team",{"$f":"DRAW!$B$58","v":52},"V","Team",{"$f":"DRAW!$J$58","v":9},null,null,"Team",{"$f":"DRAW!$B$58","v":52},"V","Team",{"$f":"DRAW!$L$58","v":13},null,null,"Team",{"$f":"DRAW!$B$58","v":52},"V","Team",{"$f":"DRAW!$N$58","v":15}]
["Ends","Shots","Total",null,"Shots","Total",null,"Ends","Shots","Total",null,"Shots","Total",null,"Ends","Shots","Total",null,"Shots","Total","Ends","Shots","Total",null,"Shots","Total",null,"Ends","Shots","Total",null,"Shots","Total",null,"Ends","Shots","Total",null,"Shots","Total"]
[1,{"$nulls":6},1,{"$nulls":6},1,{"$nulls":5},1,{"$nulls":6},1,{"$nulls":6},1]
[2,{"$nulls":6},2,{"$nulls":6},2,{"$nulls":5},2,{"$nulls":6},2,{"$nulls":6},2]
[3,{"$nulls":6},3,{"$nulls":6},3,{"$nulls":5},3,{"$nulls":6},3,{"$nulls":6},3]
[4,{"$nulls":6},4,{"$nulls":6},4,{"$nulls":5},4,{"$nulls":6},4,{"$nulls":6},4]
[5,{"$nulls":6},5,{"$nulls":6},5,{"$nulls":5},5,{"$nulls":6},5,{"$nulls":6},5]
[6,{"$nulls":6},6,{"$nulls":6},6,{"$nulls":5},6,{"$nulls":6},6,{"$nulls":6},6]
[7,{"$nulls":6},7,{"$nulls":6},7,{"$nulls":5},7,{"$nulls":6},7,{"$nulls":6},7]
[8,{"$nulls":6},8,{"$nulls":6},8,{"$nulls":5},8,{"$nulls":6},8,{"$nulls":6},8]
[9,{"$nulls":6},9,{"$nulls":6},9,{"$nulls":5},9,{"$nulls":6},9,{"$nulls":6},9]
[10,{"$nulls":6},10,{"$nulls":6},10,{"$nulls":5},10,{"$nulls":6},10,{"$nulls":6},10]
[11,{"$nulls":6},11,{"$nulls":6},11,{"$nulls":5},11,{"$nulls":6},11,{"$nulls":6},11]
[12,{"$nulls":6},12,{"$nulls":6},12,{"$nulls":5},12,{"$nulls":6},12,{"$nulls":6},12]
[13,{"$nulls":6},13,{"$nulls":6},13,{"$nulls":5},13,{"$nulls":6},13,{"$nulls":6},13]
[14,{"$nulls":6},14,{"$nulls":6},14,{"$nulls":5},14,{"$nulls":6},14,{"$nulls":6},14]
[15,{"$nulls":6},15,{"$nulls":6},15,{"$nulls":5},15,{"$nulls":6},15,{"$nulls":6},15]
[16,{"$nulls":6},16,{"$nulls":6},16,{"$nulls":5},16,{"$nulls":6},16,{"$nulls":6},16]
[17,{"$nulls":6},17,{"$nulls":6},17,{"$nulls":5},17,{"$nulls":6},17,{"$nulls":6},17]
[18,{"$nulls":6},18,{"$nulls":6},18,{"$nulls":5},18,{"$nulls":6},18,{"$nulls":6},18]
["Total","Shots",null,null,"Shots",null,null,"Total","Shots",null,null,"Shots",null,null,"Total","Shots",null,null,"Shots",null,"Total","Shots",null,null,"Shots",null,null,"Total","Shots",null,null,"Shots",null,null,"Total","Shots",null,null,"Shots"]
[null,"Ends",null,null,"Ends",{"$nulls":3},"Ends",null,null,"Ends",{"$nulls":3},"Ends",null,null,"Ends",null,null,"Ends",null,null,"Ends",{"$nulls":3},"Ends",null,null,"Ends",{"$nulls":3},"Ends",null,null,"Ends"]
["1st Game ",{"$nulls":6},"2nd Game ",{"$nulls":6},"3rd Game ",{"$nulls":5},"4th Game",{"$nulls":6},"5th Game",{"$nulls":6},"6th Game"]
["Team No",null,null,"Rink No",{"$nulls":3},"Team No",null,null,"Rink No",{"$nulls":3},"Team No",null,null,"Rink No",null,null,"Team No",null,null,"Rink No",{"$nulls":3},"Team No",null,null,"Rink No",{"$nulls":3},"Team No",null,null,"Rink No"]
[]
[{"$f":"DRAW!$B$59","v":53},null,null,{"$f":"DRAW!$E$59","v":3},{"$nulls":3},{"$f":"DRAW!$B$59","v":53},null,null,{"$f":"DRAW!$G$59","v":14},{"$nulls":3},{"$f":"DRAW!$B$59","v":53},null,null,{"$f":"DRAW!$I$59","v":27},null,null,{"$f":"DRAW!$B$59","v":53},null,null,{"$f":"DRAW!$K$59","v":2},{"$nulls":3},{"$f":"DRAW!$B$59","v":53},null,null,{"$f":"DRAW!$M$59","v":8},{"$nulls":3},{"$f":"DRAW!$B$59","v":53},null,null,{"$f":"DRAW!$O$59","v":24}]
[null,"Team",{"$f":"DRAW!$B$59","v":53},"V","Team",{"$f":"DRAW!$D$59","v":4},null,null,"Team",{"$f":"DRAW!$B$59","v":53},"V","Team",{"$f":"DRAW!$F$59","v":6},null,null,"Team",{"$f":"DRAW!$B$59","v":53},"V","Team",{"$f":"DRAW!$H$59","v":10},null,"Team",{"$f":"DRAW!$B$59","v":53},"V","Team",{"$f":"DRAW!$J$59","v":8},null,null,"Team",{"$f":"DRAW!$B$59","v":53},"V","Team",{"$f":"DRAW!$L$59","v":12},null,null,"Team",{"$f":"DRAW!$B$59","v":53},"V","Team",{"$f":"DRAW!$N$59","v":14}]
["Ends","Shots","Total",null,"Shots","Total",null,"Ends","Shots","Total",null,"Shots","Total",null,"Ends","Shots","Total",null,"Shots","Total","Ends","Shots","Total",null,"Shots","Total",null,"Ends","Shots","Total",null,"Shots","Total",null,"Ends","Shots","Total",null,"Shots","Total"]
[1,{"$nulls":6},1,{"$nulls":6},1,{"$nulls":5},1,{"$nulls":6},1,{"$nulls":6},1]
[2,{"$nulls":6},2,{"$nulls":6},2,{"$nulls":5},2,{"$nulls":6},2,{"$nulls":6},2]
[3,{"$nulls":6},3,{"$nulls":6},3,{"$nulls":5},3,{"$nulls":6},3,{"$nulls":6},3]
[4,{"$nulls":6},4,{"$nulls":6},4,{"$nulls":5},4,{"$nulls":6},4,{"$nulls":6},4]
[5,{"$nulls":6},5,{"$nulls":6},5,{"$nulls":5},5,{"$nulls":6},5,{"$nulls":6},5]
[6,{"$nulls":6},6,{"$nulls":6},6,{"$nulls":5},6,{"$nulls":6},6,{"$nulls":6},6]
[7,{"$nulls":6},7,{"$nulls":6},7,{"$nulls":5},7,{"$nulls":6},7,{"$nulls":6},7]
[8,{"$nulls":6},8,{"$nulls":6},8,{"$nulls":5},8,{"$nulls":6},8,{"$nulls":6},8]
[9,{"$nulls":6},9,{"$nulls":6},9,{"$nulls":5},9,{"$nulls":6},9,{"$nulls":6},9]
[10,{"$nulls":6},10,{"$nulls":6},10,{"$nulls":5},10,{"$nulls":6},10,{"$nulls":6},10]
[11,{"$nulls":6},11,{"$nulls":6},11,{"$nulls":5},11,{"$nulls":6},11,{"$nulls":6},11]
[12,{"$nulls":6},12,{"$nulls":6},12,{"$nulls":5},12,{"$nulls":6},12,{"$nulls":6},12]
[13,{"$nulls":6},13,{"$nulls":6},13,{"$nulls":5},13,{"$nulls":6},13,{"$nulls":6},13]
[14,{"$nulls":6},14,{"$nulls":6},14,{"$nulls":5},14,{"$nulls":6},14,{"$nulls":6},14]
[15,{"$nulls":6},15,{"$nulls":6},15,{"$nulls":5},15,{"$nulls":6},15,{"$nulls":6},15]
[16,{"$nulls":6},16,{"$nulls":6},16,{"$nulls":5},16,{"$nulls":6},16,{"$nulls":6},16]
[17,{"$nulls":6},17,{"$nulls":6},17,{"$nulls":5},17,{"$nulls":6},17,{"$nulls":6},17]
[18,{"$nulls":6},18,{"$nulls":6},18,{"$nulls":5},18,{"$nulls":6},18,{"$nulls":6},18]
["Total","Shots",null,null,"Shots",null,null,"Total","Shots",null,null,"Shots",null,null,"Total","Shots",null,null,"Shots",null,"Total","Shots",null,null,"Shots",null,null,"Total","Shots",null,null,"Shots",null,null,"Total","Shots",null,null,"Shots"]
[null,"Ends",null,null,"Ends",{"$nulls":3},"Ends",null,null,"Ends",{"$nulls":3},"Ends",null,null,"Ends",null,null,"Ends",null,null,"Ends",{"$nulls":3},"Ends",null,null,"Ends",{"$nulls":3},"Ends",null,null,"Ends"]
[]
[]
["1st Game ",{"$nulls":6},"2nd Game ",{"$nulls":6},"3rd Game ",{"$nulls":5},"4th Game",{"$nulls":6},"5th Game",{"$nulls":6},"6th Game"]
["Team No",null,null,"Rink No",{"$nulls":3},"Team No",null,null,"Rink No",{"$nulls":3},"Team No",null,null,"Rink No",null,null,"Team No",null,null,"Rink No",{"$nulls":3},"Team No",null,null,"Rink No",{"$nulls":3},"Team No",null,null,"Rink No"]
[]
[{"$f":"DRAW!$B$60","v":54},null,null,{"$f":"DRAW!$E$60","v":2},{"$nulls":3},{"$f":"DRAW!$B$60","v":54},null,null,{"$f":"DRAW!$G$60","v":8},{"$nulls":3},{"$f":"DRAW!$B$60","v":54},null,null,{"$f":"DRAW!$I$60","v":26},null,null,{"$f":"DRAW!$B$60","v":54},null,null,{"$f":"DRAW!$K$60","v":3},{"$nulls":3},{"$f":"DRAW!$B$60","v":54},null,null,{"$f":"DRAW!$M$60","v":9},{"$nulls":3},{"$f":"DRAW!$B$60","v":54},null,null,{"$f":"DRAW!$O$60","v":23}]
[null,"Team",{"$f":"DRAW!$B$60","v":54},"V","Team",{"$f":"DRAW!$D$60","v":3},null,null,"Team",{"$f":"DRAW!$B$60","v":54},"V","Team",{"$f":"DRAW!$F$60","v":5},null,null,"Team",{"$f":"DRAW!$B$60","v":54},"V","Team",{"$f":"DRAW!$H$60","v":9},null,"Team",{"$f":"DRAW!$B$60","v":54},"V","Team",{"$f":"DRAW!$J$60","v":7},null,null,"Team",{"$f":"DRAW!$B$60","v":54},"V","Team",{"$f":"DRAW!$L$60","v":11},null,null,"Team",{"$f":"DRAW!$B$60","v":54},"V","Team",{"$f":"DRAW!$N$60","v":13}]
["Ends","Shots","Total",null,"Shots","Total",null,"Ends","Shots","Total",null,"Shots","Total",null,"Ends","Shots","Total",null,"Shots","Total","Ends","Shots","Total",null,"Shots","Total",null,"Ends","Shots","Total",null,"Shots","Total",null,"Ends","Shots","Total",null,"Shots","Total"]
[1,{"$nulls":6},1,{"$nulls":6},1,{"$nulls":5},1,{"$nulls":6},1,{"$nulls":6},1]
[2,{"$nulls":6},2,{"$nulls":6},2,{"$nulls":5},2,{"$nulls":6},2,{"$nulls":6},2]
[3,{"$nulls":6},3,{"$nulls":6},3,{"$nulls":5},3,{"$nulls":6},3,{"$nulls":6},3]
[4,{"$nulls":6},4,{"$nulls":6},4,{"$nulls":5},4,{"$nulls":6},4,{"$nulls":6},4]
[5,{"$nulls":6},5,{"$nulls":6},5,{"$nulls":5},5,{"$nulls":6},5,{"$nulls":6},5]
[6,{"$nulls":6},6,{"$nulls":6},6,{"$nulls":5},6,{"$nulls":6},6,{"$nulls":6},6]
[7,{"$nulls":6},7,{"$nulls":6},7,{"$nulls":5},7,{"$nulls":6},7,{"$nulls":6},7]
[8,{"$nulls":6},8,{"$nulls":6},8,{"$nulls":5},8,{"$nulls":6},8,{"$nulls":6},8]
[9,{"$nulls":6},9,{"$nulls":6},9,{"$nulls":5},9,{"$nulls":6},9,{"$nulls":6},9]
[10,{"$nulls":6},10,{"$nulls":6},10,{"$nulls":5},10,{"$nulls":6},10,{"$nulls":6},10]
[11,{"$nulls":6},11,{"$nulls":6},11,{"$nulls":5},11,{"$nulls":6},11,{"$nulls":6},11]
[12,{"$nulls":6},12,{"$nulls":6},12,{"$nulls":5},12,{"$nulls":6},12,{"$nulls":6},12]
[13,{"$nulls":6},13,{"$nulls":6},13,{"$nulls":5},13,{"$nulls":6},13,{"$nulls":6},13]
[14,{"$nulls":6},14,{"$nulls":6},14,{"$nulls":5},14,{"$nulls":6},14,{"$nulls":6},14]
[15,{"$nulls":6},15,{"$nulls":6},15,{"$nulls":5},15,{"$nulls":6},15,{"$nulls":6},15]
[16,{"$nulls":6},16,{"$nulls":6},16,{"$nulls":5},16,{"$nulls":6},16,{"$nulls":6},16]
[17,{"$nulls":6},17,{"$nulls":6},17,{"$nulls":5},17,{"$nulls":6},17,{"$nulls":6},17]
[18,{"$nulls":6},18,{"$nulls":6},18,{"$nulls":5},18,{"$nulls":6},18,{"$nulls":6},18]
["Total","Shots",null,null,"Shots",null,null,"Total","Shots",null,null,"Shots",null,null,"Total","Shots",null,null,"Shots",null,"Total","Shots",null,null,"Shots",null,null,"Total","Shots",null,null,"Shots",null,null,"Total","Shots",null,null,"Shots"]
[null,"Ends",null,null,"Ends",{"$nulls":3},"Ends",null,null,"Ends",{"$nulls":3},"Ends",null,null,"Ends",null,null,"Ends",null,null,"Ends",{"$nulls":3},"Ends",null,null,"Ends",{"$nulls":3},"Ends",null,null,"Ends"]

{"sheet":"DRAW","index":4,"n_rows":60,"n_cols":102,"rows_kept":60,"merged":[[0,1,0,14],[1,1,1,14],[4,1,4,2],[4,3,4,4],[4,5,4,6],[4,7,4,8],[4,9,4,10],[4,11,4,12],[4,13,4,14],[4,15,4,16],[4,17,4,18]]}
[null,"Tournament Name etc. Here."]
[null,"Other heading info"]
[]
[]
[null,"RINK DRAW",null,"Round 1",null,"Round 2",null,"Round 3",null,"Round 4",null,"Round 5",null,"Round 6",null,"Round 7",null,"Round 8"]
[null,"Team","Skips Name","vs","Rink","vs","Rink","vs","Rink","vs","Rink","vs","Rink","vs","Rink","vs","Rink","vs","Rink"]
[null,1,null,2,1,3,10,5,20,4,22,6,13,7,16,13,5,8,8,null,null,1,2,1,3,10,5,20,4,22,6,13,7,16,{"$nulls":13},1,{"$f":"AV7+1","v":2},{"$f":"AW7+1","v":3},4,5,6,7,8,9,10,11,12,13,14,15,16,17,18,19,20,21,22,23,24,25,26,27,28,29,30,31,32,33,34,35,36,37,38,39,40,41,42,43,44,45,46,47,48,49,50,51,52,53,54]
[null,2,null,1,1,4,11,8,18,6,24,10,10,12,19,9,2,5,9,null,null,2,1,1,4,11,8,18,6,24,10,10,12,19,{"$nulls":13},1,1,2,3,4,5,6,7,8,9,10,11,12,13,14,15,16,17,18,19,20,21,22,23,24,25,26,27,27,26,25,24,23,22,21,20,19,18,17,16,15,14,13,12,11,10,9,8,7,6,5,4,3,2,{"$f":"SUM(AV8:CW8)","v":756}]
[null,3,null,54,2,1,10,7,15,5,23,9,11,11,18,10,1,4,11,null,null,3,54,2,1,10,7,15,5,23,9,11,11,18,{"$nulls":13},10,11,10,11,8,14,13,12,20,16,17,15,21,18,19,27,23,24,22,25,26,9,2,3,4,1,7,5,6,6,5,7,1,4,3,2,9,26,25,22,24,23,27,19,18,21,15,17,16,20,12,13,14,8,756]
[null,4,null,53,3,2,11,6,19,1,22,8,12,10,21,12,7,3,11,null,null,4,53,3,2,11,6,19,1,22,8,12,10,21,{"$nulls":13},20,18,15,19,20,19,15,18,26,27,21,23,24,22,25,2,3,1,4,7,6,5,17,8,14,16,9,10,11,12,13,13,12,11,10,9,16,14,8,17,5,6,7,4,1,3,2,25,22,24,23,21,27,26,756]
[null,5,null,52,4,54,8,1,20,3,23,7,14,9,17,8,6,2,9,null,null,5,52,4,54,8,1,20,3,23,7,14,9,17,{"$nulls":13},22,24,23,22,23,24,3,2,5,1,4,6,9,8,11,10,20,12,13,16,14,18,25,15,17,26,27,21,19,7,7,19,21,27,26,17,15,25,18,14,16,13,12,20,10,11,8,9,6,4,1,5,2,3,756]
[null,6,null,51,5,53,14,4,19,2,24,1,13,8,15,7,4,14,14,null,null,6,51,5,53,14,4,19,2,24,1,13,8,15,{"$nulls":13},13,10,11,12,14,13,14,12,11,10,9,8,15,20,21,19,22,18,17,23,24,25,5,26,27,7,6,4,1,16,3,2,2,3,16,1,4,6,7,27,26,5,25,24,23,17,18,22,19,21,20,15,8,9,756]
[null,7,null,50,6,52,13,3,15,54,3,5,14,1,16,6,4,13,10,null,null,7,50,6,52,13,3,15,54,3,5,14,1,16,{"$nulls":13},16,19,18,21,17,15,16,15,17,21,18,19,23,24,25,22,2,6,3,4,1,7,14,5,20,9,10,27,8,11,12,13,26,26,13,12,11,8,27,10,9,20,5,14,7,1,4,3,6,2,22,25,24,23,756]
[null,8,null,49,7,51,12,2,18,53,2,4,12,6,15,5,6,1,8,null,null,8,49,7,51,12,2,18,53,2,4,12,6,15]
[null,9,null,48,8,50,20,54,26,52,5,3,11,5,17,2,2,11,12,null,null,9,48,8,50,20,54,26,52,5,3,11,5,17]
[null,10,null,47,9,49,16,53,27,51,1,2,10,4,21,3,1,12,13,null,null,10,47,9,49,16,53,27,51,1,2,10,4,21]
[null,11,null,46,10,48,17,52,21,50,4,54,9,3,18,14,3,9,12,null,null,11,46,10,48,17,52,21,50,4,54,9,3,18]
[null,12,null,45,11,47,15,51,23,49,6,53,8,2,19,4,7,10,13,null,null,12,45,11,47,15,51,23,49,6,53,8,2,19]
[null,13,null,44,12,46,21,50,24,48,9,52,15,54,23,1,5,7,10,null,null,13,44,12,46,21,50,24,48,9,52,15,54,23]
[null,14,null,43,13,45,18,49,22,47,8,51,20,53,24,11,3,6,14,null,null,14,43,13,45,18,49,22,47,8,51,20,53,24]
[null,15,null,42,14,44,19,48,25,46,11,50,21,52,25,27,12,22,15,null,null,15,42,14,44,19,48,25,46,11,50,21,52,25]
[null,16,null,41,15,43,27,47,2,45,10,49,19,51,22,23,9,19,16,null,null,16,41,15,43,27,47,2,45,10,49,19,51,22]
[null,17,null,40,16,42,23,46,3,44,20,48,22,50,2,24,8,18,18,null,null,17,40,16,42,23,46,3,44,20,48,22,50,2]
[null,18,null,39,17,41,24,45,1,43,12,47,18,49,6,26,14,17,18,null,null,18,39,17,41,24,45,1,43,12,47,18,49,6]
[null,19,null,38,18,40,22,44,4,42,13,46,17,48,3,22,13,16,16,null,null,19,38,18,40,22,44,4,42,13,46,17,48,3]
[null,20,null,37,19,39,25,43,7,41,16,45,23,47,4,21,11,28,21,null,null,20,37,19,39,25,43,7,41,16,45,23,47,4]
[null,21,null,36,20,38,26,42,6,40,14,44,24,46,1,20,11,27,17,null,null,21,36,20,38,26,42,6,40,14,44,24,46,1]
[null,22,null,35,21,37,9,41,5,39,18,43,25,45,7,19,13,15,15,null,null,22,35,21,37,9,41,5,39,18,43,25,45,7]
[null,23,null,34,22,36,2,40,17,38,25,42,5,44,14,16,9,25,19,null,null,23,34,22,36,2,40,17,38,25,42,5,44,14]
[null,24,null,33,23,35,3,39,8,37,15,41,26,43,5,17,8,26,20,null,null,24,33,23,35,3,39,8,37,15,41,26,43,5]
[null,25,null,32,24,34,4,38,14,36,17,40,27,42,20,28,10,23,19,null,null,25,32,24,34,4,38,14,36,17,40,27,42,20]
[null,26,null,31,25,33,1,37,16,35,26,39,7,41,9,18,14,24,20,null,null,26,31,25,33,1,37,16,35,26,39,7,41,9]
[null,27,null,30,26,32,7,36,9,34,27,38,6,40,10,15,12,21,17,null,null,27,30,26,32,7,36,9,34,27,38,6,40,10]
[null,28,null,29,27,31,5,35,10,33,21,37,4,39,27,25,10,20,21,null,null,28,29,27,31,5,35,10,33,21,37,4,39,27,{"$f":"SUM(AI7:AI33)","v":0},0]
[null,29,null,28,27,30,6,34,11,32,19,36,1,38,8,41,19,36,1,null,null,29,28,27,30,6,34,11,32,19,36,1,38,8]
[null,30,null,27,26,29,6,33,12,31,7,35,16,37,11,37,16,33,2,null,null,30,27,26,29,6,33,12,31,7,35,16,37,11]
[null,31,null,26,25,28,5,32,13,30,7,34,3,36,12,38,15,32,4,null,null,31,26,25,28,5,32,13,30,7,34,3,36,12]
[null,32,null,25,24,27,7,31,13,29,19,33,2,35,13,40,21,31,4,null,null,32,25,24,27,7,31,13,29,19,33,2,35,13]
[null,33,null,24,23,26,1,30,12,28,21,32,2,34,26,36,20,30,2,null,null,33,24,23,26,1,30,12,28,21,32,2,34,26]
[null,34,null,23,22,25,4,29,11,27,27,31,3,33,26,35,18,42,7,null,null,34,23,22,25,4,29,11,27,27,31,3,33,26]
[null,35,null,22,21,24,3,28,10,26,26,30,16,32,13,34,18,41,3,null,null,35,22,21,24,3,28,10,26,26,30,16,32,13]
[null,36,null,21,20,23,2,27,9,25,17,29,1,31,12,33,20,29,1,null,null,36,21,20,23,2,27,9,25,17,29,1,31,12]
[null,37,null,20,19,22,9,26,16,24,15,28,4,30,11,30,16,39,5,null,null,37,20,19,22,9,26,16,24,15,28,4,30,11]
[null,38,null,19,18,21,26,25,14,23,25,27,6,29,8,31,15,40,6,null,null,38,19,18,21,26,25,14,23,25,27,6,29,8,{"$nulls":36},{"$f":"SUM(W44:BR44)","v":241}]
[null,39,null,18,17,20,25,24,8,22,18,26,7,28,27,42,17,37,5,null,null,39,18,17,20,25,24,8,22,18,26,7,28,27,{"$nulls":23},"here",null,"*",{"$nulls":10},240]
[null,40,null,17,16,19,22,23,17,21,14,25,27,27,10,32,21,38,6,null,null,40,17,16,19,22,23,17,21,14,25,27,27,10,{"$nulls":36},238]
[null,41,null,16,15,18,24,22,5,20,16,24,26,26,9,29,19,35,3,null,null,41,16,15,18,24,22,5,20,16,24,26,26,9,{"$nulls":36},221]
[null,42,null,15,14,17,23,21,6,19,13,23,5,25,20,39,17,34,7,null,null,42,15,14,17,23,21,6,19,13,23,5,25,20,{"$nulls":36},201]
[null,43,null,14,13,16,27,20,7,18,12,22,25,24,5,{"$nulls":6},43,14,13,16,27,20,7,18,12,22,25,24,5,{"$nulls":36},203]
[null,44,null,13,12,15,19,19,4,17,20,21,24,23,14,{"$nulls":6},44,13,12,15,19,19,4,17,20,21,24,23,14,{"$nulls":36},201]
[null,45,null,12,11,14,18,18,1,16,10,20,23,22,7,{"$nulls":6},45,12,11,14,18,18,1,16,10,20,23,22,7]
[null,46,null,11,10,13,21,17,3,15,11,19,17,21,1,{"$nulls":6},46,11,10,13,21,17,3,15,11,19,17,21,1]
[null,47,null,10,9,12,15,16,2,14,8,18,18,20,4,{"$nulls":6},47,10,9,12,15,16,2,14,8,18,18,20,4]
[null,48,null,9,8,11,17,15,25,13,9,17,22,19,3,{"$nulls":6},48,9,8,11,17,15,25,13,9,17,22,19,3]
[null,49,null,8,7,10,16,14,22,12,6,16,19,18,6,{"$nulls":6},49,8,7,10,16,14,22,12,6,16,19,18,6]
[null,50,null,7,6,9,20,13,24,11,4,15,21,17,2,{"$nulls":6},50,7,6,9,20,13,24,11,4,15,21,17,2]
[null,51,null,6,5,8,12,12,23,10,1,14,20,16,22,{"$nulls":6},51,6,5,8,12,12,23,10,1,14,20,16,22]
[null,52,null,5,4,7,13,11,21,9,5,13,15,15,25,{"$nulls":6},52,5,4,7,13,11,21,9,5,13,15,15,25]
[null,53,null,4,3,6,14,10,27,8,2,12,8,14,24,{"$nulls":6},53,4,3,6,14,10,27,8,2,12,8,14,24]
[null,54,null,3,2,5,8,9,26,7,3,11,9,13,23,{"$nulls":6},54,3,2,5,8,9,26,7,3,11,9,13,23]

{"sheet":"Half Sheet","index":5,"n_rows":28,"n_cols":14,"rows_kept":28,"hidden":true,"merged":[[0,0,0,5],[0,7,0,12],[0,14,0,19],[1,0,2,2],[1,3,2,5],[1,7,2,9],[1,10,2,12],[1,14,2,16],[1,17,2,19],[3,0,3,2],[3,3,3,5],[3,7,3,9],[3,10,3,12],[3,14,3,16],[3,17,3,19],[24,0,25,0],[24,7,25,7],[24,14,25,14]]}
["Half Sheet"]
{"$rows_empty":25}
[{"$nulls":6},".",{"$nulls":6},"."]
[{"$nulls":6},".",{"$nulls":6},"."]

{"sheet":"Sheet3","index":6,"n_rows":579,"n_cols":18,"rows_kept":579,"hidden":true,"merged":[[1,2,1,3],[2,2,2,3],[2,4,2,5],[2,6,2,7],[2,8,2,9],[2,10,2,11],[2,12,2,13],[2,14,2,15],[2,16,2,17],[51,2,51,3],[52,2,52,3],[52,4,52,5],[52,6,52,7],[52,8,52,9],[52,10,52,11],[52,12,52,13],[52,14,52,15],[52,16,52,17],[99,2,99,3],[100,2,100,3],[100,4,100,5],[100,6,100,7],[100,8,100,9],[100,10,100,11],[100,12,100,13],[100,14,100,15],[100,16,100,17],[145,2,145,3],[146,2,146,3],[146,4,146,5],[146,6,146,7],[146,8,146,9],[146,10,146,11],[146,12,146,13],[146,14,146,15],[146,16,146,17],[189,2,189,3],[190,2,190,3],[190,4,190,5],[190,6,190,7],[190,8,190,9],[190,10,190,11],[190,12,190,13],[190,14,190,15],[190,16,190,17],[231,2,231,3],[232,2,232,3],[232,4,232,5],[232,6,232,7],[232,8,232,9],[232,10,232,11],[232,12,232,13],[232,14,232,15],[232,16,232,17],[271,2,271,3],[272,2,272,3],[272,4,272,5],[272,6,272,7],[272,8,272,9],[272,10,272,11],[272,12,272,13],[272,14,272,15],[272,16,272,17],[310,2,310,3],[311,2,311,3],[311,4,311,5],[311,6,311,7],[311,8,311,9],[311,10,311,11],[311,12,311,13],[311,14,311,15],[311,16,311,17],[346,2,346,3],[347,2,347,3],[347,4,347,5],[347,6,347,7],[347,8,347,9],[347,10,347,11],[347,12,347,13],[347,14,347,15],[347,16,347,17],[380,2,380,3],[381,2,381,3],[381,4,381,5],[381,6,381,7],[381,8,381,9],[381,10,381,11],[381,12,381,13],[381,14,381,15],[381,16,381,17],[412,2,412,3],[413,2,413,3],[413,4,413,5],[413,6,413,7],[413,8,413,9],[413,10,413,11],[413,12,413,13],[413,14,413,15],[413,16,413,17],[442,2,442,3],[443,2,443,3],[443,4,443,5],[443,6,443,7],[443,8,443,9],[443,10,443,11],[443,12,443,13],[443,14,443,15],[443,16,443,17],[470,2,470,3],[471,2,471,3],[471,4,471,5],[471,6,471,7],[471,8,471,9],[471,10,471,11],[471,12,471,13],[471,14,471,15],[471,16,471,17],[496,2,496,3],[497,2,497,3],[497,4,497,5],[497,6,497,7],[497,8,497,9],[497,10,497,11],[497,12,497,13],[497,14,497,15],[497,16,497,17],[520,2,520,3],[521,2,521,3],[521,4,521,5],[521,6,521,7],[521,8,521,9],[521,10,521,11],[521,12,521,13],[521,14,521,15],[521,16,521,17],[542,2,542,3],[543,2,543,3],[543,4,543,5],[543,6,543,7],[543,8,543,9],[543,10,543,11],[543,12,543,13],[543,14,543,15],[543,16,543,17],[562,2,562,3],[563,2,563,3],[563,4,563,5],[563,6,563,7],[563,8,563,9],[563,10,563,11],[563,12,563,13],[563,14,563,15],[563,16,563,17]]}
[]
[null,"n","46 STARTERS"]
[null,null,"Round 1",null,"round 2",null,"round 3",null,"round 4",null,"round 5",null,"round 6",null,"round 7",null,"round 8"]
[null,null,"Vs","Rink","Vs","Rink","Vs","Rink","Vs","Rink","Vs","Rink","Vs","Rink","Vs","Rink","Vs","Rink"]
[null,1,29,22,31,2,43,9,30,15,3,4,12,16,32,14,21,26]
[null,2,11,15,41,24,39,11,15,2,8,23,16,1,13,12,26,21]
[null,3,17,12,27,15,11,5,42,28,1,4,26,10,43,20,16,23]
[null,4,32,6,26,28,19,15,25,12,42,19,10,27,11,8,46,2]
[null,5,13,3,39,21,8,24,26,14,25,16,23,7,12,25,22,13]
[null,6,42,14,23,5,34,23,31,18,39,15,22,24,9,4,14,8]
[null,7,19,23,20,14,29,3,36,16,13,28,44,6,37,9,31,17]
[null,8,34,20,33,7,5,24,13,10,2,23,38,8,45,15,35,3]
[null,9,12,13,24,17,21,28,19,1,44,27,18,18,6,4,10,9]
[null,10,45,4,13,20,15,14,16,25,11,21,4,27,27,2,9,9]
[null,11,2,15,16,9,3,5,14,24,10,21,32,23,4,8,45,6]
[null,12,9,13,17,18,13,22,39,3,37,7,1,16,5,25,18,12]
[null,13,5,3,10,20,12,22,8,10,7,28,24,4,2,12,37,15]
[null,14,46,11,34,1,20,17,11,24,29,25,28,15,18,3,6,8]
[null,15,26,17,46,26,10,14,2,2,36,9,17,21,25,6,34,24]
[null,16,41,21,11,9,22,4,10,25,28,13,2,1,33,17,3,23]
[null,17,3,12,12,18,46,7,23,23,40,3,15,21,26,24,39,14]
[null,18,38,2,19,10,25,21,45,27,23,22,9,18,14,3,12,12]
[null,19,7,23,18,10,4,15,9,1,26,6,43,11,24,28,32,16]
[null,20,27,5,7,14,14,17,24,22,46,10,34,3,44,21,38,25]
[null,21,24,10,45,16,9,28,44,7,22,17,42,9,41,1,1,26]
[null,22,44,16,38,22,16,4,34,8,21,17,6,24,39,5,5,13]
[null,23,37,8,6,5,42,16,17,23,18,22,5,7,35,18,44,11]
[null,24,21,10,9,17,35,1,20,22,34,11,13,4,19,28,30,18]
[null,25,36,1,43,27,18,21,4,12,5,16,35,28,15,6,41,10]
[null,26,15,17,4,28,41,2,5,14,19,6,3,10,17,24,2,21]
[null,27,20,5,3,15,33,25,35,9,45,14,46,17,10,2,43,22]
[null,28,31,28,29,12,30,6,40,17,16,13,14,15,42,23,36,7]
[null,29,1,22,28,12,7,3,32,20,14,25,40,14,36,19,42,1]
[null,30,39,27,32,8,28,6,1,15,43,2,33,12,46,22,24,18]
[null,31,28,28,1,2,36,10,6,18,35,8,45,26,38,7,7,17]
[null,32,4,6,30,8,37,27,29,20,33,1,11,23,1,14,19,16]
[null,33,35,19,8,7,27,25,41,11,32,1,30,12,16,17,40,28]
[null,34,8,20,14,1,6,23,22,8,24,11,20,3,40,16,15,24]
[null,35,33,19,44,23,24,1,27,9,31,8,25,28,23,18,8,3]
[null,36,25,1,40,25,31,10,7,16,15,9,41,22,29,19,28,7]
[null,37,23,8,42,3,32,27,38,19,12,7,39,25,7,9,13,15]
[null,38,18,2,22,22,40,13,37,19,41,20,8,8,31,7,20,25]
[null,39,30,27,5,21,2,11,12,3,6,15,37,25,22,5,17,14]
[null,40,43,7,36,25,38,13,28,17,17,3,29,14,34,16,33,28]
[null,41,16,21,2,24,26,2,33,11,38,20,36,22,21,1,25,10]
[null,42,6,14,37,3,23,16,3,28,4,19,21,9,28,23,29,1]
[null,43,40,7,25,27,1,9,46,21,30,2,19,11,3,20,27,22]
[null,44,22,16,35,23,45,8,21,7,9,27,7,6,20,21,23,11]
[null,45,10,4,21,16,44,8,18,27,27,14,31,26,8,15,11,6]
[null,46,14,11,15,26,17,7,43,21,20,10,27,17,30,22,4,2]
[]
[null,null,"44 STARTERS"]
[null,null,"Round 1",null,"round 2",null,"round 3",null,"round 4",null,"round 5",null,"round 6",null,"round 7",null,"round 8"]
[null,null,"Vs","Rink","Vs","Rink","Vs","Rink","Vs","Rink","Vs","Rink","Vs","Rink","Vs","Rink","Vs","Rink"]
[null,1,10,16,9,14,16,23,32,3,33,15,23,24,11,10,6,7]
[null,2,31,22,34,9,4,1,8,20,19,3,29,8,37,19,36,25]
[null,3,18,10,6,15,26,26,7,4,13,8,10,7,19,23,24,16]
[null,4,11,14,8,24,2,1,44,18,9,11,19,15,20,2,29,26]
[null,5,36,2,42,8,18,16,12,28,8,25,14,3,28,14,20,18]
[null,6,14,27,3,15,10,5,13,9,31,10,44,21,9,26,1,7]
[null,7,23,9,19,16,15,22,3,4,16,20,31,1,32,24,22,8]
[null,8,16,8,4,24,27,7,2,20,5,25,12,11,25,15,13,3]
[null,9,30,25,1,14,31,2,35,15,4,11,32,17,6,26,38,1]
[null,10,1,16,44,22,6,5,36,14,17,9,3,7,29,17,27,24]
[null,11,4,14,16,17,42,24,19,7,38,27,22,18,1,10,32,2]
[null,12,26,3,15,12,33,21,5,28,28,23,8,11,16,6,34,15]
[null,13,33,26,30,1,38,19,6,9,3,8,43,23,17,16,8,3]
[null,14,6,27,26,21,28,12,16,5,20,22,5,3,38,9,15,17]
[null,15,44,6,12,12,7,22,43,16,25,4,16,28,34,13,14,17]
[null,16,8,8,11,17,1,23,14,5,7,20,15,28,12,6,19,9]
[null,17,25,19,41,6,35,14,37,22,10,9,18,26,13,16,28,5]
[null,18,3,10,24,7,5,16,20,23,34,1,17,26,21,21,25,12]
[null,19,22,13,7,16,25,28,11,7,2,3,4,15,3,23,16,9]
[null,20,39,1,21,20,29,13,18,23,14,22,37,14,4,2,5,18]
[null,21,38,7,20,20,37,11,41,24,44,2,25,22,18,21,42,10]
[null,22,19,13,35,4,32,15,29,25,41,28,11,18,40,3,7,8]
[null,23,7,9,36,28,34,3,31,17,40,21,1,24,30,11,41,4]
[null,24,43,24,18,7,44,10,39,21,35,5,34,27,36,8,3,16]
[null,25,17,19,43,3,19,28,27,11,15,4,21,22,8,15,18,12]
[null,26,12,3,14,21,3,26,38,8,36,18,33,13,39,7,31,23]
[null,27,37,21,28,25,8,7,25,11,42,19,40,12,43,1,10,24]
[null,28,29,15,27,25,14,12,42,1,12,23,38,20,5,14,17,5]
[null,29,28,15,37,2,20,13,22,25,30,7,2,8,10,17,4,26]
[null,30,9,25,13,1,39,9,34,19,29,7,35,16,23,11,40,22]
[null,31,2,22,40,13,9,2,23,17,6,10,7,1,41,18,26,23]
[null,32,35,23,33,10,22,15,1,3,43,14,9,17,7,24,11,2]
[null,33,13,26,32,10,12,21,40,2,1,15,26,13,44,28,37,6]
[null,34,40,28,2,9,23,3,30,19,18,1,24,27,15,13,12,15]
[null,35,32,23,22,4,17,14,9,15,24,5,30,16,42,22,44,11]
[null,36,5,2,23,28,40,17,10,14,26,18,42,4,24,8,2,25]
[null,37,27,21,29,2,21,11,17,22,39,26,20,14,2,19,33,6]
[null,38,21,7,39,23,13,19,26,8,11,27,28,20,14,9,9,1]
[null,39,20,1,38,23,30,9,24,21,37,26,41,10,26,7,43,20]
[null,40,34,28,31,13,36,17,33,2,23,21,27,12,22,3,30,22]
[null,41,42,17,17,6,43,8,21,24,22,28,39,10,31,18,23,4]
[null,42,41,17,5,8,11,24,28,1,27,19,36,4,35,22,21,10]
[null,43,24,24,25,3,41,8,15,16,32,14,13,23,27,1,39,20]
[null,44,15,6,10,22,24,10,4,18,21,2,6,21,33,28,35,11]
[]
[null,null,"42 STARTERS"]
[null,null,"Round 1",null,"round 2",null,"round 3",null,"round 4",null,"round 5",null,"round 6",null,"round 7",null,"round 8"]
[null,null,"Vs","Rink","Vs","Rink","Vs","Rink","Vs","Rink","Vs","Rink","Vs","Rink","Vs","Rink","Vs","Rink"]
[null,1,2,1,3,13,5,19,7,2,14,14,12,17,13,5,8,8]
[null,2,1,1,4,12,8,16,12,5,13,8,14,18,9,2,5,9]
[null,3,14,2,1,13,7,15,11,4,12,10,13,16,10,1,4,11]
[null,4,13,3,2,12,6,18,10,7,11,9,8,20,12,7,3,11]
[null,5,12,4,14,8,1,19,9,3,10,12,11,15,8,6,2,9]
[null,6,11,5,13,14,4,18,8,1,9,13,10,19,7,4,14,14]
[null,7,10,6,12,9,3,15,1,2,8,11,9,21,6,4,13,10]
[null,8,9,7,11,10,2,16,6,1,7,11,4,20,5,6,1,8]
[null,9,8,7,10,11,14,17,5,3,6,13,7,21,2,2,11,12]
[null,10,7,6,9,11,13,20,4,7,5,12,6,19,3,1,12,13]
[null,11,6,5,8,10,12,21,3,4,4,9,5,15,14,3,9,12]
[null,12,5,4,7,9,11,21,2,5,3,10,1,17,4,7,10,13]
[null,13,4,3,6,14,10,20,14,6,2,8,3,16,1,5,7,10]
[null,14,3,2,5,8,9,17,13,6,1,14,2,18,11,3,6,14]
[null,15,16,8,17,20,19,5,21,9,28,21,26,3,27,12,22,15]
[null,16,15,8,18,19,22,2,26,12,27,15,28,4,23,9,19,16]
[null,17,28,9,15,20,21,1,25,11,26,17,27,2,24,8,18,18]
[null,18,27,10,16,19,20,4,24,14,25,16,22,6,26,14,17,18]
[null,19,26,11,28,15,15,5,23,10,24,19,25,1,22,13,16,16]
[null,20,25,12,27,21,18,4,22,8,23,20,24,5,21,11,28,21]
[null,21,24,13,26,16,17,1,15,9,22,18,23,7,20,11,27,17]
[null,22,23,14,25,17,16,2,20,8,21,18,18,6,19,13,15,15]
[null,23,22,14,24,18,28,3,19,10,20,20,21,7,16,9,25,19]
[null,24,21,13,23,18,27,6,18,14,19,19,20,5,17,8,26,20]
[null,25,20,12,22,17,26,7,17,11,18,16,19,1,28,10,23,19]
[null,26,19,11,21,16,25,7,16,12,17,17,15,3,18,14,24,20]
[null,27,18,10,20,21,24,6,28,13,16,15,17,2,15,12,21,17]
[null,28,17,9,19,15,23,3,27,13,15,21,16,4,25,10,20,21]
[null,29,30,15,31,6,33,12,35,16,42,7,40,10,41,19,36,1]
[null,30,29,15,32,5,36,9,40,19,41,1,42,11,37,16,33,2]
[null,31,42,16,29,6,35,8,39,18,40,3,41,9,38,15,32,4]
[null,32,41,17,30,5,34,11,38,21,39,2,36,13,40,21,31,4]
[null,33,40,18,42,1,29,12,37,17,38,5,39,8,36,20,30,2]
[null,34,39,19,41,7,32,11,36,15,37,6,38,12,35,18,42,7]
[null,35,38,20,40,2,31,8,29,16,36,4,37,14,34,18,41,3]
[null,36,37,21,39,3,30,9,34,15,35,4,32,13,33,20,29,1]
[null,37,36,21,38,4,42,10,33,17,34,6,35,14,30,16,39,5]
[null,38,35,20,37,4,41,13,32,21,33,5,34,12,31,15,40,6]
[null,39,34,19,36,3,40,14,31,18,32,2,33,8,42,17,37,5]
[null,40,33,18,35,2,39,14,30,19,31,3,29,10,32,21,38,6]
[null,41,32,17,34,7,38,13,42,20,30,1,31,9,29,19,35,3]
[null,42,31,16,33,1,37,10,41,20,29,7,30,11,39,17,34,7]
[]
[null,null,"40 STARTERS"]
[null,null,"Round 1",null,"round 2",null,"round 3",null,"round 4",null,"round 5",null,"round 6",null,"round 7",null,"round 8"]
[null,null,"Vs","Rink","Vs","Rink","Vs","Rink","Vs","Rink","Vs","Rink","Vs","Rink","Vs","Rink","Vs","Rink"]
[null,1,2,1,3,13,5,19,7,2,14,14,12,17,13,5,8,8]
[null,2,1,1,4,12,8,16,12,5,13,8,14,18,9,2,5,9]
[null,3,14,2,1,13,7,15,11,4,12,10,13,16,10,1,4,11]
[null,4,13,3,2,12,6,18,10,7,11,9,8,20,12,7,3,11]
[null,5,12,4,14,8,1,19,9,3,10,12,11,15,8,6,2,9]
[null,6,11,5,13,14,4,18,8,1,9,13,10,19,7,4,14,14]
[null,7,10,6,12,9,3,15,1,2,8,11,9,21,6,4,13,10]
[null,8,9,7,11,10,2,16,6,1,7,11,4,20,5,6,1,8]
[null,9,8,7,10,11,14,17,5,3,6,13,7,21,2,2,11,12]
[null,10,7,6,9,11,13,20,4,7,5,12,6,19,3,1,12,13]
[null,11,6,5,8,10,12,21,3,4,4,9,5,15,14,3,9,12]
[null,12,5,4,7,9,11,21,2,5,3,10,1,17,4,7,10,13]
[null,13,4,3,6,14,10,20,14,6,2,8,3,16,1,5,7,10]
[null,14,3,2,5,8,9,17,13,6,1,14,2,18,11,3,6,14]
[null,15,16,8,17,20,19,5,21,9,28,21,26,3,27,12,22,15]
[null,16,15,8,18,19,22,2,26,12,27,15,28,4,23,9,19,16]
[null,17,28,9,15,20,21,1,25,11,26,17,27,2,24,8,18,18]
[null,18,27,10,16,19,20,4,24,14,25,16,22,6,26,14,17,18]
[null,19,26,11,28,15,15,5,23,10,24,19,25,1,22,13,16,16]
[null,20,25,12,27,21,18,4,22,8,23,20,24,5,21,11,28,21]
[null,21,24,13,26,16,17,1,15,9,22,18,23,7,20,11,27,17]
[null,22,23,14,25,17,16,2,20,8,21,18,18,6,19,13,15,15]
[null,23,22,14,24,18,28,3,19,10,20,20,21,7,16,9,25,19]
[null,24,21,13,23,18,27,6,18,14,19,19,20,5,17,8,26,20]
[null,25,20,12,22,17,26,7,17,11,18,16,19,1,28,10,23,19]
[null,26,19,11,21,16,25,7,16,12,17,17,15,3,18,14,24,20]
[null,27,18,10,20,21,24,6,28,13,16,15,17,2,15,12,21,17]
[null,28,17,9,19,15,23,3,27,13,15,21,16,4,25,10,20,21]
[null,29,30,15,31,6,32,11,33,16,35,5,34,8,39,18,36,3]
[null,30,29,15,32,5,34,9,36,17,40,3,38,10,37,21,31,4]
[null,31,40,16,29,6,33,10,35,15,39,2,37,9,36,19,30,4]
[null,32,39,17,30,5,29,11,34,18,38,1,36,12,35,16,40,2]
[null,33,38,18,40,1,31,10,29,16,37,4,35,13,34,20,39,7]
[null,34,37,19,39,4,30,9,32,18,36,6,29,8,33,20,38,5]
[null,35,36,20,38,3,40,12,31,15,29,5,33,13,32,16,37,6]
[null,36,35,20,37,2,39,8,30,17,34,6,32,12,31,19,29,3]
[null,37,34,19,36,2,38,13,40,20,33,4,31,9,30,21,35,6]
[null,38,33,18,35,3,37,13,39,19,32,1,30,10,40,17,34,5]
[null,39,32,17,34,4,36,8,38,19,31,2,40,11,29,18,33,7]
[null,40,31,16,33,1,35,12,37,20,30,3,39,11,38,17,32,2]
[]
[null,null,"38 STARTERS"]
[null,null,"Round 1",null,"round 2",null,"round 3",null,"round 4",null,"round 5",null,"round 6",null,"round 7",null,"round 8"]
[null,null,"Vs","Rink","Vs","Rink","Vs","Rink","Vs","Rink","Vs","Rink","Vs","Rink","Vs","Rink","Vs","Rink"]
[null,1,2,1,3,13,5,19,7,2,14,14,12,17,13,5,8,8]
[null,2,1,1,4,12,8,16,12,5,13,8,14,18,9,2,5,9]
[null,3,14,2,1,13,7,15,11,4,12,10,13,16,10,1,4,11]
[null,4,13,3,2,12,6,18,10,7,11,9,8,20,12,7,3,11]
[null,5,12,4,14,8,1,19,9,3,10,12,11,15,8,6,2,9]
[null,6,11,5,13,14,4,18,8,1,9,13,10,19,7,4,14,14]
[null,7,10,6,12,9,3,15,1,2,8,11,9,21,6,4,13,10]
[null,8,9,7,11,10,2,16,6,1,7,11,4,20,5,6,1,8]
[null,9,8,7,10,11,14,17,5,3,6,13,7,21,2,2,11,12]
[null,10,7,6,9,11,13,20,4,7,5,12,6,19,3,1,12,13]
[null,11,6,5,8,10,12,21,3,4,4,9,5,15,14,3,9,12]
[null,12,5,4,7,9,11,21,2,5,3,10,1,17,4,7,10,13]
[null,13,4,3,6,14,10,20,14,6,2,8,3,16,1,5,7,10]
[null,14,3,2,5,8,9,17,13,6,1,14,2,18,11,3,6,14]
[null,15,16,8,17,20,18,4,19,9,21,19,20,1,25,11,22,17]
[null,16,15,8,18,19,20,2,22,10,26,17,24,3,23,14,17,18]
[null,17,26,9,15,20,19,3,21,8,25,16,23,2,22,12,16,18]
[null,18,25,10,16,19,15,4,20,11,24,15,22,5,21,9,26,16]
[null,19,24,11,26,15,17,3,15,9,23,18,21,6,20,13,25,21]
[null,20,23,12,25,18,16,2,18,11,22,20,15,1,19,13,24,19]
[null,21,22,13,24,17,26,5,17,8,15,19,19,6,18,9,23,20]
[null,22,21,13,23,16,25,1,16,10,20,20,18,5,17,12,15,17]
[null,23,20,12,22,16,24,6,26,13,19,18,17,2,16,14,21,20]
[null,24,19,11,21,17,23,6,25,12,18,15,16,3,26,10,20,19]
[null,25,18,10,20,18,22,1,24,12,17,16,26,4,15,11,19,21]
[null,26,17,9,19,15,21,5,23,13,16,17,25,4,24,10,18,16]
[null,27,28,15,29,6,30,11,31,16,33,5,32,8,37,18,34,3]
[null,28,27,15,30,5,32,9,34,17,38,3,36,10,35,21,29,4]
[null,29,38,16,27,6,31,10,33,15,37,2,35,9,34,19,28,4]
[null,30,37,17,28,5,27,11,32,18,36,1,34,12,33,16,38,2]
[null,31,36,18,38,1,29,10,27,16,35,4,33,13,32,20,37,7]
[null,32,35,19,37,4,28,9,30,18,34,6,27,8,31,20,36,5]
[null,33,34,20,36,3,38,12,29,15,27,5,31,13,30,16,35,6]
[null,34,33,20,35,2,37,8,28,17,32,6,30,12,29,19,27,3]
[null,35,32,19,34,2,36,13,38,20,31,4,29,9,28,21,33,6]
[null,36,31,18,33,3,35,13,37,19,30,1,28,10,38,17,32,5]
[null,37,30,17,32,4,34,8,36,19,29,2,38,11,27,18,31,7]
[null,38,29,16,31,1,33,12,35,20,28,3,37,11,36,17,30,2]
[]
[null,null,"36 STARTERS"]
[null,null,"Round 1",null,"round 2",null,"round 3",null,"round 4",null,"round 5",null,"round 6",null,"round 7",null,"round 8"]
[null,null,"Vs","Rink","Vs","Rink","Vs","Rink","Vs","Rink","Vs","Rink","Vs","Rink","Vs","Rink","Vs","Rink"]
[null,1,2,1,3,13,4,18,5,2,7,12,6,15,11,4,8,10]
[null,2,1,1,4,12,6,16,8,3,12,10,10,17,9,7,3,11]
[null,3,12,2,1,13,5,17,7,1,11,9,9,16,8,5,2,11]
[null,4,11,3,2,12,1,18,6,4,10,8,8,19,7,2,12,9]
[null,5,10,4,12,8,3,17,1,2,9,11,7,20,6,6,11,14]
[null,6,9,5,11,11,2,16,4,4,8,13,1,15,5,6,10,12]
[null,7,8,6,10,10,12,19,3,1,1,12,5,20,4,2,9,13]
[null,8,7,6,9,9,11,15,2,3,6,13,4,19,3,5,1,10]
[null,9,6,5,8,9,10,20,12,6,5,11,3,16,2,7,7,13]
[null,10,5,4,7,10,9,20,11,5,4,8,2,17,12,3,6,12]
[null,11,4,3,6,11,8,15,10,5,3,9,12,18,1,4,5,14]
[null,12,3,2,5,8,7,19,9,6,2,10,11,18,10,3,4,9]
[null,13,14,8,15,20,16,4,17,9,19,19,18,1,23,11,20,17]
[null,14,13,8,16,19,18,2,20,10,24,17,22,3,21,14,15,18]
[null,15,24,9,13,20,17,3,19,8,23,16,21,2,20,12,14,18]
[null,16,23,10,14,19,13,4,18,11,22,15,20,5,19,9,24,16]
[null,17,22,11,24,15,15,3,13,9,21,18,19,6,18,13,23,21]
[null,18,21,12,23,18,14,2,16,11,20,20,13,1,17,13,22,19]
[null,19,20,13,22,17,24,5,15,8,13,19,17,6,16,9,21,20]
[null,20,19,13,21,16,23,1,14,10,18,20,16,5,15,12,13,17]
[null,21,18,12,20,16,22,6,24,13,17,18,15,2,14,14,19,20]
[null,22,17,11,19,17,21,6,23,12,16,15,14,3,24,10,18,19]
[null,23,16,10,18,18,20,1,22,12,15,16,24,4,13,11,17,21]
[null,24,15,9,17,15,19,5,21,13,14,17,23,4,22,10,16,16]
[null,25,26,15,27,6,28,11,29,16,31,5,30,8,35,18,32,3]
[null,26,25,15,28,5,30,9,32,17,36,3,34,10,33,21,27,4]
[null,27,36,16,25,6,29,10,31,15,35,2,33,9,32,19,26,4]
[null,28,35,17,26,5,25,11,30,18,34,1,32,12,31,16,36,2]
[null,29,34,18,36,1,27,10,25,16,33,4,31,13,30,20,35,7]
[null,30,33,19,35,4,26,9,28,18,32,6,25,8,29,20,34,5]
[null,31,32,20,34,3,36,12,27,15,25,5,29,13,28,16,33,6]
[null,32,31,20,33,2,35,8,26,17,30,6,28,12,27,19,25,3]
[null,33,30,19,32,2,34,13,36,20,29,4,27,9,26,21,31,6]
[null,34,29,18,31,3,33,13,35,19,28,1,26,10,36,17,30,5]
[null,35,28,17,30,4,32,8,34,19,27,2,36,11,25,18,29,7]
[null,36,27,16,29,1,31,12,33,20,26,3,35,11,34,17,28,2]
[]
[null,null,"34 STARTERS"]
[null,null,"Round 1",null,"round 2",null,"round 3",null,"round 4",null,"round 5",null,"round 6",null,"round 7",null,"round 8"]
[null,null,"Vs","Rink","Vs","Rink","Vs","Rink","Vs","Rink","Vs","Rink","Vs","Rink","Vs","Rink","Vs","Rink"]
[null,1,2,1,3,13,4,18,5,2,7,12,6,15,11,4,8,10]
[null,2,1,1,4,12,6,16,8,3,12,10,10,17,9,7,3,11]
[null,3,12,2,1,13,5,17,7,1,11,9,9,16,8,5,2,11]
[null,4,11,3,2,12,1,18,6,4,10,8,8,19,7,2,12,9]
[null,5,10,4,12,8,3,17,1,2,9,11,7,20,6,6,11,14]
[null,6,9,5,11,11,2,16,4,4,8,13,1,15,5,6,10,12]
[null,7,8,6,10,10,12,19,3,1,1,12,5,20,4,2,9,13]
[null,8,7,6,9,9,11,15,2,3,6,13,4,19,3,5,1,10]
[null,9,6,5,8,9,10,20,12,6,5,11,3,16,2,7,7,13]
[null,10,5,4,7,10,9,20,11,5,4,8,2,17,12,3,6,12]
[null,11,4,3,6,11,8,15,10,5,3,9,12,18,1,4,5,14]
[null,12,3,2,5,8,7,19,9,6,2,10,11,18,10,3,4,9]
[null,13,14,8,15,20,16,4,17,9,19,19,18,1,23,11,20,17]
[null,14,13,8,16,19,18,2,20,10,24,17,22,3,21,14,15,18]
[null,15,24,9,13,20,17,3,19,8,23,16,21,2,20,12,14,18]
[null,16,23,10,14,19,13,4,18,11,22,15,20,5,19,9,24,16]
[null,17,22,11,24,15,15,3,13,9,21,18,19,6,18,13,23,21]
[null,18,21,12,23,18,14,2,16,11,20,20,13,1,17,13,22,19]
[null,19,20,13,22,17,24,5,15,8,13,19,17,6,16,9,21,20]
[null,20,19,13,21,16,23,1,14,10,18,20,16,5,15,12,13,17]
[null,21,18,12,20,16,22,6,24,13,17,18,15,2,14,14,19,20]
[null,22,17,11,19,17,21,6,23,12,16,15,14,3,24,10,18,19]
[null,23,16,10,18,18,20,1,22,12,15,16,24,4,13,11,17,21]
[null,24,15,9,17,15,19,5,21,13,14,17,23,4,22,10,16,16]
[null,25,26,16,27,6,28,11,29,17,30,2,31,9,32,18,33,4]
[null,26,25,16,28,5,30,9,32,20,34,6,27,13,29,19,31,5]
[null,27,34,17,25,6,29,12,31,18,33,5,26,13,28,20,30,6]
[null,28,33,18,26,5,25,11,30,16,32,4,34,12,27,20,29,2]
[null,29,32,19,34,4,27,12,25,17,31,3,33,11,26,19,28,2]
[null,30,31,20,33,3,26,9,28,16,25,2,32,10,34,17,27,6]
[null,31,30,20,32,2,34,10,27,18,29,3,25,9,33,16,26,5]
[null,32,29,19,31,2,33,13,26,20,28,4,30,10,25,18,34,3]
[null,33,28,18,30,3,32,13,34,19,27,5,29,11,31,16,25,4]
[null,34,27,17,29,4,31,10,33,19,26,6,28,12,30,17,32,3]
[]
[]
[null,null,"32 STARTERS"]
[null,null,"Round 1",null,"round 2",null,"round 3",null,"round 4",null,"round 5",null,"round 6",null,"round 7",null,"round 8"]
[null,null,"Vs","Rink","Vs","Rink","Vs","Rink","Vs","Rink","Vs","Rink","Vs","Rink","Vs","Rink","Vs","Rink"]
[null,1,2,1,3,13,4,18,5,2,7,12,6,15,11,4,8,10]
[null,2,1,1,4,12,6,16,8,3,12,10,10,17,9,7,3,11]
[null,3,12,2,1,13,5,17,7,1,11,9,9,16,8,5,2,11]
[null,4,11,3,2,12,1,18,6,4,10,8,8,19,7,2,12,9]
[null,5,10,4,12,8,3,17,1,2,9,11,7,20,6,6,11,14]
[null,6,9,5,11,11,2,16,4,4,8,13,1,15,5,6,10,12]
[null,7,8,6,10,10,12,19,3,1,1,12,5,20,4,2,9,13]
[null,8,7,6,9,9,11,15,2,3,6,13,4,19,3,5,1,10]
[null,9,6,5,8,9,10,20,12,6,5,11,3,16,2,7,7,13]
[null,10,5,4,7,10,9,20,11,5,4,8,2,17,12,3,6,12]
[null,11,4,3,6,11,8,15,10,5,3,9,12,18,1,4,5,14]
[null,12,3,2,5,8,7,19,9,6,2,10,11,18,10,3,4,9]
[null,13,14,9,15,20,16,4,17,10,18,16,19,2,20,11,21,18]
[null,14,13,9,16,19,18,2,20,13,22,20,15,6,17,12,19,19]
[null,15,22,10,13,20,17,5,19,11,21,19,14,6,16,13,18,20]
[null,16,21,11,14,19,13,4,18,9,20,18,22,5,15,13,17,16]
[null,17,20,12,22,18,15,5,13,10,19,17,21,4,14,12,16,16]
[null,18,19,13,21,17,14,2,16,9,13,16,20,3,22,10,15,20]
[null,19,18,13,20,16,22,3,15,11,17,17,13,2,21,9,14,19]
[null,20,17,12,19,16,21,6,14,13,16,18,18,3,13,11,22,17]
[null,21,16,11,18,17,20,6,22,12,15,19,17,4,19,9,13,18]
[null,22,15,10,17,18,19,3,21,12,14,20,16,5,18,10,20,17]
[null,23,24,16,25,6,26,11,27,17,28,2,29,9,30,18,31,4]
[null,24,23,16,26,5,28,9,30,20,32,6,25,13,27,19,29,5]
[null,25,32,17,23,6,27,12,29,18,31,5,24,13,26,20,28,6]
[null,26,31,18,24,5,23,11,28,16,30,4,32,12,25,20,27,2]
[null,27,30,19,32,4,25,12,23,17,29,3,31,11,24,19,26,2]
[null,28,29,20,31,3,24,9,26,16,23,2,30,10,32,17,25,6]
[null,29,28,20,30,2,32,10,25,18,27,3,23,9,31,16,24,5]
[null,30,27,19,29,2,31,13,24,20,26,4,28,10,23,18,32,3]
[null,31,26,18,28,3,30,13,32,19,25,5,27,11,29,16,23,4]
[null,32,25,17,27,4,29,10,31,19,24,6,26,12,28,17,30,3]
[]
[null,null,"30 STARTERS"]
[null,null,"Round 1",null,"round 2",null,"round 3",null,"round 4",null,"round 5",null,"round 6",null,"round 7",null,"round 8"]
[null,null,"Vs","Rink","Vs","Rink","Vs","Rink","Vs","Rink","Vs","Rink","Vs","Rink","Vs","Rink","Vs","Rink"]
[null,1,2,2,3,13,4,18,5,3,6,9,7,16,8,4,9,11]
[null,2,1,2,4,12,6,16,8,6,10,13,3,20,5,5,7,12]
[null,3,10,3,1,13,5,19,7,4,9,12,2,20,4,6,6,13]
[null,4,9,4,2,12,1,18,6,2,8,11,10,19,3,6,5,9]
[null,5,8,5,10,11,3,19,1,3,7,10,9,18,2,5,4,9]
[null,6,7,6,9,10,2,16,4,2,1,9,8,17,10,3,3,13]
[null,7,6,6,8,9,10,17,3,4,5,10,1,16,9,2,2,12]
[null,8,5,5,7,9,9,20,2,6,4,11,6,17,1,4,10,10]
[null,9,4,4,6,10,8,20,10,5,3,12,5,18,7,2,1,11]
[null,10,3,3,5,11,7,17,9,5,2,13,4,19,6,3,8,10]
[null,11,12,9,13,20,14,4,15,10,16,16,17,2,18,11,19,18]
[null,12,11,9,14,19,16,2,18,13,20,20,13,6,15,12,17,19]
[null,13,20,10,11,20,15,5,17,11,19,19,12,6,14,13,16,20]
[null,14,19,11,12,19,11,4,16,9,18,18,20,5,13,13,15,16]
[null,15,18,12,20,18,13,5,11,10,17,17,19,4,12,12,14,16]
[null,16,17,13,19,17,12,2,14,9,11,16,18,3,20,10,13,20]
[null,17,16,13,18,16,20,3,13,11,15,17,11,2,19,9,12,19]
[null,18,15,12,17,16,19,6,12,13,14,18,16,3,11,11,20,17]
[null,19,14,11,16,17,18,6,20,12,13,19,15,4,17,9,11,18]
[null,20,13,10,15,18,17,3,19,12,12,20,14,5,16,10,18,17]
[null,21,22,16,23,6,24,11,25,17,26,2,27,9,28,18,29,4]
[null,22,21,16,24,5,26,9,28,20,30,6,23,13,25,19,27,5]
[null,23,30,17,21,6,25,12,27,18,29,5,22,13,24,20,26,6]
[null,24,29,18,22,5,21,11,26,16,28,4,30,12,23,20,25,2]
[null,25,28,19,30,4,23,12,21,17,27,3,29,11,22,19,24,2]
[null,26,27,20,29,3,22,9,24,16,21,2,28,10,30,17,23,6]
[null,27,26,20,28,2,30,10,23,18,25,3,21,9,29,16,22,5]
[null,28,25,19,27,2,29,13,22,20,24,4,26,10,21,18,30,3]
[null,29,24,18,26,3,28,13,30,19,23,5,25,11,27,16,21,4]
[null,30,23,17,25,4,27,10,29,19,22,6,24,12,26,17,28,3]
[]
[null,null,"28 STARTERS"]
[null,null,"Round 1",null,"round 2",null,"round 3",null,"round 4",null,"round 5",null,"round 6",null,"round 7",null,"round 8"]
[null,null,"Vs","Rink","Vs","Rink","Vs","Rink","Vs","Rink","Vs","Rink","Vs","Rink","Vs","Rink","Vs","Rink"]
[null,1,2,1,3,13,5,6,6,8,11,3,7,9,14,5,8,12]
[null,2,1,1,4,12,8,3,10,10,7,5,12,13,13,1,14,9]
[null,3,14,2,1,13,7,1,9,11,6,4,11,12,12,3,13,14]
[null,4,13,3,2,12,6,2,8,9,5,7,10,8,11,4,12,10]
[null,5,12,4,14,8,1,6,7,13,4,7,9,14,10,2,11,11]
[null,6,11,5,13,14,4,2,1,8,3,4,8,11,9,6,10,13]
[null,7,10,6,12,11,3,1,5,13,2,5,1,9,8,7,9,8]
[null,8,9,7,11,10,2,3,4,9,14,6,6,11,7,7,1,12]
[null,9,8,7,10,9,14,4,3,11,13,2,5,14,6,6,7,8]
[null,10,7,6,9,9,13,5,2,10,12,1,4,8,5,2,6,13]
[null,11,6,5,8,10,12,7,14,14,1,3,3,12,4,4,5,11]
[null,12,5,4,7,11,11,7,13,12,10,1,2,13,3,3,4,10]
[null,13,4,3,6,14,10,5,12,12,9,2,14,10,2,1,3,14]
[null,14,3,2,5,8,9,4,11,14,8,6,13,10,1,5,2,9]
[null,15,16,8,17,6,19,13,20,1,25,10,21,2,28,12,22,5]
[null,16,15,8,18,5,22,10,24,3,21,12,26,6,27,8,28,2]
[null,17,28,9,15,6,21,8,23,4,20,11,25,5,26,10,27,7]
[null,18,27,10,16,5,20,9,22,2,19,14,24,1,25,11,26,3]
[null,19,26,11,28,1,15,13,21,6,18,14,23,7,24,9,25,4]
[null,20,25,12,27,7,18,9,15,1,17,11,22,4,23,13,24,6]
[null,21,24,13,26,4,17,8,19,6,16,12,15,2,22,14,23,1]
[null,22,23,14,25,3,16,10,18,2,28,13,20,4,21,14,15,5]
[null,23,22,14,24,2,28,11,17,4,27,9,19,7,20,13,21,1]
[null,24,21,13,23,2,27,12,16,3,26,8,18,1,19,9,20,6]
[null,25,20,12,22,3,26,14,28,7,15,10,17,5,18,11,19,4]
[null,26,19,11,21,4,25,14,27,5,24,8,16,6,17,10,18,3]
[null,27,18,10,20,7,24,12,26,5,23,9,28,3,16,8,17,7]
[null,28,17,9,19,1,23,11,25,7,22,13,27,3,15,12,16,2]
[]
[null,null,"26  STARTERS"]
[null,null,"Round 1",null,"round 2",null,"round 3",null,"round 4",null,"round 5",null,"round 6",null,"round 7",null,"round 8"]
[null,null,"Vs","Rink","Vs","Rink","Vs","Rink","Vs","Rink","Vs","Rink","Vs","Rink","Vs","Rink","Vs","Rink"]
[null,1,2,1,3,13,5,6,6,8,11,3,7,9,14,5,8,12]
[null,2,1,1,4,12,8,3,10,10,7,5,12,13,13,1,14,9]
[null,3,14,2,1,13,7,1,9,11,6,4,11,12,12,3,13,14]
[null,4,13,3,2,12,6,2,8,9,5,7,10,8,11,4,12,10]
[null,5,12,4,14,8,1,6,7,13,4,7,9,14,10,2,11,11]
[null,6,11,5,13,14,4,2,1,8,3,4,8,11,9,6,10,13]
[null,7,10,6,12,11,3,1,5,13,2,5,1,9,8,7,9,8]
[null,8,9,7,11,10,2,3,4,9,14,6,6,11,7,7,1,12]
[null,9,8,7,10,9,14,4,3,11,13,2,5,14,6,6,7,8]
[null,10,7,6,9,9,13,5,2,10,12,1,4,8,5,2,6,13]
[null,11,6,5,8,10,12,7,14,14,1,3,3,12,4,4,5,11]
[null,12,5,4,7,11,11,7,13,12,10,1,2,13,3,3,4,10]
[null,13,4,3,6,14,10,5,12,12,9,2,14,10,2,1,3,14]
[null,14,3,2,5,8,9,4,11,14,8,6,13,10,1,5,2,9]
[null,15,16,9,17,6,18,8,21,5,24,10,23,3,20,8,19,2]
[null,16,15,9,18,5,20,10,26,2,21,8,19,6,24,12,22,5]
[null,17,26,8,15,6,19,9,25,3,20,13,18,4,23,10,21,6]
[null,18,25,10,16,5,15,8,24,6,19,12,17,4,22,11,20,3]
[null,19,24,11,26,4,17,9,23,1,18,12,16,6,21,14,15,2]
[null,20,23,12,25,1,16,10,22,4,17,13,26,5,15,8,18,3]
[null,21,22,13,24,3,26,11,15,5,16,8,25,2,19,14,17,6]
[null,22,21,13,23,2,25,12,20,4,26,9,24,1,18,11,16,5]
[null,23,20,12,22,2,24,13,19,1,25,11,15,3,17,10,26,7]
[null,24,19,11,21,3,23,13,18,6,15,10,22,1,16,12,25,4]
[null,25,18,10,20,1,22,12,17,3,23,11,21,2,26,13,24,4]
[null,26,17,8,19,4,21,11,16,2,22,9,20,5,25,13,23,7]
[]
[null,null,"24 STARTERS"]
[null,null,"Round 1",null,"round 2",null,"round 3",null,"round 4",null,"round 5",null,"round 6",null,"round 7",null,"round 8"]
[null,null,"Vs","Rink","Vs","Rink","Vs","Rink","Vs","Rink","Vs","Rink","Vs","Rink","Vs","Rink","Vs","Rink"]
[null,1,2,2,3,13,4,1,7,12,10,3,9,10,6,1,5,9]
[null,2,1,2,4,12,6,3,12,9,7,1,5,13,10,5,8,12]
[null,3,12,1,1,13,5,2,11,10,6,6,4,11,9,3,7,13]
[null,4,11,3,2,12,1,1,10,13,5,5,3,11,8,4,6,10]
[null,5,10,4,12,11,3,2,9,8,4,5,2,13,7,7,1,9]
[null,6,9,5,11,8,2,3,8,11,3,6,12,12,1,1,4,10]
[null,7,8,6,10,10,12,4,1,12,2,1,11,9,5,7,3,13]
[null,8,7,6,9,9,11,5,6,11,12,2,10,8,4,4,2,12]
[null,9,6,5,8,9,10,6,5,8,11,4,1,10,3,3,12,14]
[null,10,5,4,7,10,9,6,4,13,1,3,8,8,2,5,11,11]
[null,11,4,3,6,8,8,5,3,10,9,4,7,9,12,6,10,11]
[null,12,3,1,5,11,7,4,2,9,8,2,6,12,11,6,9,14]
[null,13,14,9,15,6,16,8,19,5,22,10,21,3,18,8,17,2]
[null,14,13,9,16,5,18,10,24,2,19,8,17,6,22,12,20,5]
[null,15,24,8,13,6,17,9,23,3,18,13,16,4,21,10,19,6]
[null,16,23,10,14,5,13,8,22,6,17,12,15,4,20,11,18,3]
[null,17,22,11,24,4,15,9,21,1,16,12,14,6,19,14,13,2]
[null,18,21,12,23,1,14,10,20,4,15,13,24,5,13,8,16,3]
[null,19,20,13,22,3,24,11,13,5,14,8,23,2,17,14,15,6]
[null,20,19,13,21,2,23,12,18,4,24,9,22,1,16,11,14,5]
[null,21,18,12,20,2,22,13,17,1,23,11,13,3,15,10,24,7]
[null,22,17,11,19,3,21,13,16,6,13,10,20,1,14,12,23,4]
[null,23,16,10,18,1,20,12,15,3,21,11,19,2,24,13,22,4]
[null,24,15,8,17,4,19,11,14,2,20,9,18,5,23,13,21,7]
[]
[null,null,"22 STARTERS"]
[null,null,"Round 1",null,"round 2",null,"round 3",null,"round 4",null,"round 5",null,"round 6",null,"round 7",null,"round 8"]
[null,null,"Vs","Rink","Vs","Rink","Vs","Rink","Vs","Rink","Vs","Rink","Vs","Rink","Vs","Rink","Vs","Rink"]
[null,1,2,2,3,13,4,1,7,12,10,3,9,10,6,1,5,9]
[null,2,1,2,4,12,6,3,12,9,7,1,5,13,10,5,8,12]
[null,3,12,1,1,13,5,2,11,10,6,6,4,11,9,3,7,13]
[null,4,11,3,2,12,1,1,10,13,5,5,3,11,8,4,6,10]
[null,5,10,4,12,11,3,2,9,8,4,5,2,13,7,7,1,9]
[null,6,9,5,11,8,2,3,8,11,3,6,12,12,1,1,4,10]
[null,7,8,6,10,10,12,4,1,12,2,1,11,9,5,7,3,13]
[null,8,7,6,9,9,11,5,6,11,12,2,10,8,4,4,2,12]
[null,9,6,5,8,9,10,6,5,8,11,4,1,10,3,3,12,14]
[null,10,5,4,7,10,9,6,4,13,1,3,8,8,2,5,11,11]
[null,11,4,3,6,8,8,5,3,10,9,4,7,9,12,6,10,11]
[null,12,3,1,5,11,7,4,2,9,8,2,6,12,11,6,9,14]
[null,13,14,9,15,6,16,10,17,2,18,11,22,3,20,12,21,4]
[null,14,13,9,16,5,18,12,20,6,22,13,21,2,17,10,19,5]
[null,15,22,10,13,6,17,11,19,3,21,12,20,4,16,13,18,2]
[null,16,21,11,14,5,13,10,18,4,20,9,19,6,15,13,17,3]
[null,17,20,12,22,4,15,11,13,2,19,10,18,5,14,10,16,3]
[null,18,19,13,21,3,14,12,16,4,13,11,17,5,22,9,15,2]
[null,19,18,13,20,2,22,9,15,3,17,10,16,6,21,11,14,5]
[null,20,17,12,19,2,21,13,14,6,16,9,15,4,13,12,22,6]
[null,21,16,11,18,3,20,13,22,5,15,12,14,2,19,11,13,4]
[null,22,15,10,17,4,19,9,21,5,14,13,13,3,18,9,20,6]
[]
[null,null,"20 STARTERS"]
[null,null,"Round 1",null,"round 2",null,"round 3",null,"round 4",null,"round 5",null,"round 6",null,"round 7",null,"round 8"]
[null,null,"Vs","Rink","Vs","Rink","Vs","Rink","Vs","Rink","Vs","Rink","Vs","Rink","Vs","Rink","Vs","Rink"]
[null,1,2,2,3,13,4,3,5,9,6,4,10,10,8,5,9,11]
[null,2,1,2,4,12,6,5,8,13,10,6,9,9,5,3,7,12]
[null,3,10,3,1,13,5,4,7,10,9,5,8,11,4,6,6,9]
[null,4,9,4,2,12,1,3,6,11,8,2,7,13,3,6,5,10]
[null,5,8,5,10,11,3,4,1,9,7,3,6,12,2,3,4,10]
[null,6,7,6,9,10,2,5,4,11,1,4,5,12,10,2,3,9]
[null,7,6,6,8,9,10,2,3,10,5,3,4,13,9,4,2,12]
[null,8,5,5,7,9,9,6,2,13,4,2,3,11,1,5,10,13]
[null,9,4,4,6,10,8,6,10,12,3,5,2,9,7,4,1,11]
[null,10,3,3,5,11,7,2,9,12,2,6,1,10,6,2,8,13]
[null,11,12,9,13,6,14,10,15,2,16,11,20,3,18,12,19,4]
[null,12,11,9,14,5,16,12,18,6,20,13,19,2,15,10,17,5]
[null,13,20,10,11,6,15,11,17,3,19,12,18,4,14,13,16,2]
[null,14,19,11,12,5,11,10,16,4,18,9,17,6,13,13,15,3]
[null,15,18,12,20,4,13,11,11,2,17,10,16,5,12,10,14,3]
[null,16,17,13,19,3,12,12,14,4,11,11,15,5,20,9,13,2]
[null,17,16,13,18,2,20,9,13,3,15,10,14,6,19,11,12,5]
[null,18,15,12,17,2,19,13,12,6,14,9,13,4,11,12,20,6]
[null,19,14,11,16,3,18,13,20,5,13,12,12,2,17,11,11,4]
[null,20,13,10,15,4,17,9,19,5,12,13,11,3,16,9,18,6]
[]
[null,null,"18 STARTERS"]
[null,null,"Round 1",null,"round 2",null,"round 3",null,"round 4",null,"round 5",null,"round 6",null,"round 7",null,"round 8"]
[null,null,"Vs","Rink","Vs","Rink","Vs","Rink","Vs","Rink","Vs","Rink","Vs","Rink","Vs","Rink","Vs","Rink"]
[null,1,2,2,3,13,4,3,5,9,6,4,10,10,8,5,11,2]
[null,2,1,2,4,12,6,5,8,13,10,6,9,9,5,3,7,12]
[null,3,10,3,1,13,5,4,7,10,9,5,8,11,4,6,12,4]
[null,4,9,4,2,12,1,3,6,11,8,2,7,13,3,6,13,10]
[null,5,8,5,10,11,3,4,1,9,7,3,6,12,2,3,14,6]
[null,6,7,6,9,10,2,5,4,11,1,4,5,12,10,2,15,9]
[null,7,6,6,8,9,10,2,3,10,5,3,4,13,9,4,2,12]
[null,8,5,5,7,9,9,6,2,13,4,2,3,11,1,5,16,3]
[null,9,4,4,6,10,8,6,10,12,3,5,2,9,7,4,17,11]
[null,10,3,3,5,11,7,2,9,12,2,6,1,10,6,2,18,13]
[null,11,12,9,13,5,14,10,15,2,16,13,17,3,18,11,1,2]
[null,12,11,9,14,4,16,11,18,5,13,12,15,6,17,12,3,4]
[null,13,18,10,11,5,15,9,17,4,12,12,14,2,16,9,4,10]
[null,14,17,11,12,4,11,10,16,3,18,9,13,2,15,13,5,6]
[null,15,16,12,18,3,13,9,11,2,17,10,12,6,14,13,6,9]
[null,16,15,12,17,2,12,11,14,3,11,13,18,4,13,9,8,3]
[null,17,14,11,16,2,18,12,13,4,15,10,11,3,12,12,9,11]
[null,18,13,10,15,3,17,12,12,5,14,9,16,4,11,11,10,13]
[]
[null,null,"16 STARTERS"]
[null,null,"Round 1",null,"round 2",null,"round 3",null,"round 4",null,"round 5",null,"round 6",null,"round 7",null,"round 8"]
[null,null,"Vs","Rink","Vs","Rink","Vs","Rink","Vs","Rink","Vs","Rink","Vs","Rink","Vs","Rink","Vs","Rink"]
[null,1,2,2,3,12,4,3,5,9,6,6,7,10,8,4,9,12]
[null,2,1,2,4,11,6,4,8,12,3,5,5,13,7,6,10,5]
[null,3,8,3,1,12,5,2,7,11,2,5,4,9,6,2,11,13]
[null,4,7,4,2,11,1,3,6,10,8,2,3,9,5,5,12,9]
[null,5,6,5,8,10,3,2,1,9,7,3,2,13,4,5,13,10]
[null,6,5,5,7,9,2,4,4,10,1,6,8,11,3,2,14,3]
[null,7,4,4,6,9,8,5,3,11,5,3,1,10,2,6,15,2]
[null,8,3,3,5,10,7,5,2,12,4,2,6,11,1,4,16,6]
[null,9,10,9,11,5,12,10,13,2,14,13,15,3,16,11,1,12]
[null,10,9,9,12,4,14,11,16,5,11,12,13,6,15,12,2,5]
[null,11,16,10,9,5,13,9,15,4,10,12,12,2,14,9,3,13]
[null,12,15,11,10,4,9,10,14,3,16,9,11,2,13,13,4,9]
[null,13,14,12,16,3,11,9,9,2,15,10,10,6,12,13,5,10]
[null,14,13,12,15,2,10,11,12,3,9,13,16,4,11,9,6,3]
[null,15,12,11,14,2,16,12,11,4,13,10,9,3,10,12,7,2]
[null,16,11,10,13,3,15,12,10,5,12,9,14,4,9,11,8,6]
[]
[null,null,"14 STARTERS"]
[null,null,"Round 1",null,"round 2",null,"round 3",null,"round 4",null,"round 5",null,"round 6",null,"round 7",null,"round 8"]
[null,null,"Vs","Rink","Vs","Rink","Vs","Rink","Vs","Rink","Vs","Rink","Vs","Rink","Vs","Rink","Vs","Rink"]
[null,1,2,2,8,1,3,6,4,5,13,6,14,3,6,7,5,2]
[null,2,1,2,14,6,4,7,6,4,11,3,13,1,10,2,8,5]
[null,3,14,1,13,4,1,6,5,3,10,1,12,2,9,5,7,6]
[null,4,13,3,12,5,2,7,1,5,9,4,11,7,8,6,6,3]
[null,5,12,4,11,7,14,2,3,3,8,7,10,5,7,1,1,2]
[null,6,11,5,10,3,13,1,2,4,7,2,9,6,1,7,4,3]
[null,7,10,7,9,2,12,3,14,7,6,2,8,4,5,1,3,6]
[null,8,9,6,1,1,11,4,13,2,5,7,7,4,4,6,2,5]
[null,9,8,6,7,2,10,5,12,1,4,4,6,6,3,5,14,7]
[null,10,7,7,6,3,9,5,11,6,3,1,5,5,2,2,13,4]
[null,11,6,5,5,7,8,4,10,6,2,3,4,7,14,4,12,1]
[null,12,5,4,4,5,7,3,9,1,14,5,3,2,13,3,11,1]
[null,13,4,3,3,4,6,1,8,2,1,6,2,1,12,3,10,4]
[null,14,3,1,2,6,5,2,7,7,12,5,1,3,11,4,9,7]