{"text_format":"3","workbook":"xlsx","n_sheets":10,"sheets":["Notes","TEAMS","Sheet1","RINKS","CARDS","CARDS REAR","CARDS 2","CARDS 2 REAR","Rink allocation","Sheet2"],"not_rendered":{"images":1,"macros":1,"defined_names":16},"read":"whole","date_system":"1900"}

{"sheet":"Notes","index":0,"n_rows":4,"n_cols":4,"rows_kept":4}
[]
[]
[]
[{"$nulls":3},"s"]

{"sheet":"TEAMS","index":1,"n_rows":46,"n_cols":30,"rows_kept":46,"merged":[[0,2,1,2],[0,3,1,3],[0,4,1,4],[0,8,0,29],[2,9,3,9],[2,14,3,14],[2,21,3,21],[4,9,5,9],[4,14,5,14],[4,21,5,21],[6,9,7,9],[6,14,7,14],[6,21,7,21],[8,9,9,9],[8,14,9,14],[8,21,9,21],[10,9,11,9],[10,14,11,14],[10,21,11,21],[12,9,13,9],[12,14,13,14],[12,21,13,21],[14,9,15,9],[14,14,15,14],[14,21,15,21],[16,9,17,9],[16,14,17,14],[16,21,17,21],[18,9,19,9],[18,14,19,14],[18,21,19,21],[20,9,21,9],[20,14,21,14],[20,21,21,21],[22,9,23,9],[22,14,23,14],[22,21,23,21],[24,9,25,9],[24,14,25,14],[24,21,25,21],[26,9,27,9],[26,14,27,14],[26,21,27,21],[28,9,29,9],[28,14,29,14],[28,21,29,21],[30,9,31,9],[30,14,31,14],[30,21,31,21],[32,9,33,9],[32,14,33,14],[32,21,33,21],[34,9,35,9],[34,14,35,14],[34,21,35,21],[36,9,37,9],[36,14,37,14],[36,21,37,21],[38,9,39,9],[38,14,39,14],[38,21,39,21],[40,9,41,9],[40,14,41,14],[40,21,41,21],[42,9,43,9],[42,14,43,14],[42,21,43,21],[44,9,45,9],[44,14,45,14],[44,21,45,21]]}
[null,null,"L  2nd  3rd or Sk","E N T R Y","P  A    I   D",{"$nulls":3},"PLEASE DO NOT USE CUT AND PASTE ON THIS SHEET ---  YOU MAY USE COPY AND PASTE SPECIAL"]
[null,"Click inside any red box to sort that column",{"$nulls":11},"                 Players                                                            Entered","=",null,{"$f":"(COUNTIF(I5:I189,\"*\"))+(COUNTIF(X5:X224,\"*\"))+(COUNTIF(Z5:Z224,\"*\"))+(COUNTIF(AB5:AB224,\"*\"))+(COUNTIF(AD5:AD224,\"*\"))+(COUNTIF(L5:L187,\"*\"))+(COUNTIF(N5:N187,\"*\"))+(COUNTIF(Q5:Q224,\"*\"))+(COUNTIF(S5:S224,\"*\"))+(COUNTIF(U5:U224,\"*\"))","v":0}]
[{"$nulls":8},"SINGLES","Rinks",null,"                PAIRS",null,null,"Rinks",{"$nulls":3},"TRIPLES",null,null,"Rinks",{"$nulls":3},"               FOURS"]
[null,"Membership list","Tot=",{"$f":"COUNTIF(D5:D287,\"*\")","v":0},{"$f":"COUNTIF(E5:E287,\"*\")","v":0},{"$nulls":3},"PLAYERS",null,null,"LEADS",null,"SKIPS",null,null,"LEADS",null,"THIRDS",null,"SKIPS",null,null,"LEADS",null,"SECONDS",null,"THIRDS",null,"SKIPS"]
[{"$nulls":5},1,null,{"$f":"RAND()","v":0.9558167089146945},null,1,{"$f":"RAND()","v":0.7038391735625769},null,{"$f":"RAND()","v":0.03627643003474634},null,1,{"$f":"RAND()","v":0.4417107291354716},null,{"$f":"RAND()","v":0.6108105771836171},null,{"$f":"RAND()","v":0.13118376185281722},null,1,{"$f":"RAND()","v":0.3170420100043362},null,{"$f":"RAND()","v":0.03789944859114858},null,{"$f":"RAND()","v":0.28770977562503985},null,{"$f":"RAND()","v":0.2918712625837002}]
[{"$nulls":5},2,null,0.7069207524399858,null,null,0.4826693339925697,null,0.29915876618493886,null,null,0.22610102638773777,null,0.918460914184718,null,0.941355660435304,null,null,0.23850337604151517,null,0.5980345203269067,null,0.5716975510351101,null,0.2809225866055006]
[{"$nulls":5},3,null,0.3815579287085996,null,2,0.07889399849911038,null,0.7700222805886807,null,2,0.17347380573084004,null,0.8810986925700486,null,0.022089656112324052,null,2,0.7933788818132659,null,0.36317995039159245,null,0.29108351086961726,null,0.1386071871037461]
[{"$nulls":5},4,null,0.2759225058684879,null,null,0.5541931848184387,null,0.33632957306385547,null,null,0.8180296814485379,null,0.4380786790508723,null,0.6727636934746991,null,null,0.06823249725361336,null,0.3460224637774143,null,0.7110294377970425,null,0.8016941367986453]
[{"$nulls":5},5,null,0.9511828546928557,null,3,0.6191016501188561,null,0.5661386621075203,null,3,0.043703484196065734,null,0.7094212082990216,null,0.9203003892787771,null,3,0.27930885081777823,null,0.584650251620216,null,0.2342289005763445,null,0.8259651845760563]
[{"$nulls":5},6,null,0.4603098038231669,null,6,0.28626105488351805,null,0.8675094787175526,null,6,0.5626744250131723,null,0.286995612587962,null,0.7271614928599545,null,6,0.9130470957483675,null,0.5384780276167515,null,0.5023164884599451,null,0.09035532453620021]
[{"$nulls":5},7,null,0.4185568855281273,null,4,0.931927867080135,null,0.789453867946177,null,4,0.5859633033042636,null,0.4279045305278263,null,0.18211497918656638,null,4,0.03210187170978451,null,0.610247828350889,null,0.14244159456555017,null,0.44341386180545417]
[{"$nulls":5},8,null,0.03503726876630675,null,8,0.8468409237081818,null,0.03998168034689942,null,8,0.2185569512083415,null,0.8752792609821656,null,0.3075449322981939,null,8,0.978231649963673,null,0.08016862021273352,null,0.7397824396169826,null,0.15441555820355135]
[{"$nulls":5},9,null,0.19595929237554255,null,5,0.41067401621759203,null,0.830941947288032,null,5,0.07596471215851619,null,0.2871996715424603,null,0.5165893045015902,null,5,0.527921592539127,null,0.7394139562524408,null,0.6862880815657966,null,0.6335312096029602]
[{"$nulls":5},10,null,0.7628457459052342,null,10,0.6600548752899918,null,0.9728686095605648,null,10,0.4206913999758517,null,0.728929914294251,null,0.3407702730078931,null,10,0.3981820458234461,null,0.00912740098619469,null,0.7540461060050907,null,0.5026588966135968]
[{"$nulls":5},11,null,0.5557883641209477,null,6,0.14039673932621144,null,0.1984798736736254,null,6,0.535564842874737,null,0.422058831496973,null,0.7046911254218229,null,6,0.028803240821798526,null,0.9855834122857263,null,0.32763495951373,null,0.4807572246987376]
[{"$nulls":5},12,null,0.6882137995424981,null,12,0.9650589039612787,null,0.471364403142284,null,12,0.4829823747343449,null,0.3802180099828364,null,0.5668410001404389,null,12,0.410739617691799,null,0.9028760128514888,null,0.8040889909181991,null,0.7955492571697881]
[{"$nulls":5},13,null,0.5258836672490156,null,7,0.047845477469689146,null,0.2886937425360989,null,7,0.656036286770478,null,0.5809959086002979,null,0.07280959584719937,null,7,0.8597928821299026,null,0.6425153296033342,null,0.8148678879466734,null,0.21274109545512498]
[{"$nulls":5},14,null,0.39788202940255857,null,14,0.5310503030919361,null,0.06851183642003322,null,14,0.5745060043626643,null,0.9616833867072204,null,0.8800589921760896,null,14,0.4323134980114065,null,0.8758882380845893,null,0.4570422673287007,null,0.5944715982497956]
[{"$nulls":5},15,null,0.3235320979583882,null,8,0.8403206282521031,null,0.5441975996728262,null,8,0.5459155995717577,null,0.5424378273021147,null,0.9124708913096701,null,8,0.9763421908362903,null,0.5384991489565717,null,0.5569452629102469,null,0.4813557677830318]
[{"$nulls":5},16,null,0.1351350569968517,null,16,0.6477321681213857,null,0.06737528022789507,null,16,0.7656504272600363,null,0.5189098043188394,null,0.3432314118449833,null,16,0.29518325623089925,null,0.1616934108528807,null,0.12671958643600678,null,0.608351420943283]
[{"$nulls":5},17,null,0.09060381149423202,null,9,0.9994611122042409,null,0.48070823452366485,null,9,0.5012742955740231,null,0.5854361404128356,null,0.22576779075967013,null,9,0.9035432836665237,null,0.7760174134504927,null,0.19576389383657,null,0.7959075673869522]
[{"$nulls":5},18,null,0.11074828000707648,null,18,0.2337721318267696,null,0.6162945689702051,null,18,0.18218074413204732,null,0.8700170033960866,null,0.5815849804212433,null,18,0.4040326913439417,null,0.06774354821234863,null,0.21701395671510393,null,0.5484611820778451]
[{"$nulls":5},19,null,0.7878655190987692,null,10,0.25606084054594547,null,0.39049621852632577,null,10,0.9425189387908666,null,0.14150924820445598,null,0.6179905998384042,null,10,0.4275278565707894,null,0.3564338230894335,null,0.1941487347769557,null,0.07369562083190839]
[{"$nulls":5},20,null,0.8560262165143083,null,20,0.4526305661697394,null,0.6807363561798028,null,20,0.518073499830242,null,0.3173189905338971,null,0.5832577657678056,null,20,0.6348120390288603,null,0.9781979817148225,null,0.3576455979040283,null,0.9725819841958758]
[{"$nulls":5},21,null,0.44937128653861025,null,11,0.48123699265034503,null,0.6154894778102752,null,11,0.5332394481454773,null,0.34055804229850195,null,0.9294280064546425,null,11,0.7103437353001703,null,0.5098181634219064,null,0.3043769421168572,null,0.7025128427578075]
[{"$nulls":5},"sk",null,0.020301647418340174,null,22,0.6262982584519305,null,0.9287232338892148,null,22,0.9854486140095898,null,0.3257289197612717,null,0.49793777544110385,null,22,0.5061145701133272,null,0.29757609295871623,null,0.07195250299158085,null,0.3626876235182823]
[{"$nulls":5},"sk",null,0.3215591499992294,null,12,0.5297806566391738,null,0.20682070198666092,null,12,0.7716894077678005,null,0.2699952935150963,null,0.46454991748815455,null,12,0.6668573374959856,null,0.731022959279786,null,0.31038295137269833,null,0.6464235200328838]
[{"$nulls":5},"sk",null,0.8519125769896971,null,24,0.5017936613605946,null,0.06822586319502211,null,24,0.4922757825042712,null,0.7360548797795687,null,0.8598004048981404,null,24,0.2488901187754068,null,0.3926564727945596,null,0.054187638438638275,null,0.09400868819931318]
[{"$nulls":5},"sk",null,0.49039655895384204,null,13,0.6872027876891666,null,0.19924362498570447,null,13,0.19439693725899398,null,0.4962038339231739,null,0.34657760561160633,null,13,0.5513943853491377,null,0.7658718744050702,null,0.7585776655549621,null,0.05746981536079465]
[{"$nulls":5},"l",null,0.47019972688346945,null,26,0.5181932117089558,null,0.4454728826552583,null,26,0.312305711702655,null,0.6754436479168406,null,0.351588846064919,null,26,0.4747051146362402,null,0.2597237474430284,null,0.7634109888291272,null,0.9663459064513206]
[{"$nulls":5},"l",null,0.5724946890345964,null,14,0.8708202779409909,null,0.674834820924888,null,14,0.31228912245354523,null,0.32091264280652887,null,0.4032887302624345,null,14,0.1545350130216968,null,0.26336240218224316,null,0.3122457687006359,null,0.40206465747456777]
[{"$nulls":5},"l",null,0.44517850678160675,null,28,0.413834455186771,null,0.9066818727979057,null,28,0.18332320249997403,null,0.9540268073582776,null,0.4588085062788454,null,28,0.48922206870529084,null,0.7286053542695611,null,0.5730090961475273,null,0.9752023653028047]
[{"$nulls":5},"l",null,0.05707459088849909,null,15,0.2626913559591155,null,0.00469139078796188,null,15,0.5636601836852587,null,0.8264251016732589,null,0.8163785574105316,null,15,0.8343593469749196,null,0.7464231950035526,null,0.10033234264869573,null,0.9825758597538741]
[{"$nulls":5},"l",null,0.9231000851770709,null,30,0.572164484352426,null,0.633362916093904,null,30,0.37559482933642574,null,0.20814524771730902,null,0.770703557396521,null,30,0.19185057303380093,null,0.2033699316315003,null,0.05763541501949421,null,0.3145764810091942]
[{"$nulls":5},"P",null,0.5546799893874318,null,16,0.9289865161533325,null,0.9416122697919385,null,16,0.7947902363059545,null,0.163976790940903,null,0.12880446082234354,null,16,0.866846469317791,null,0.21085333903067227,null,0.8133913319307287,null,0.046371620924855694]
[{"$nulls":5},"P",null,0.6223734026664767,null,32,0.9114264757219673,null,0.6617743630050241,null,32,0.7804053310097743,null,0.3742589698482558,null,0.4106032326530723,null,32,0.7783538870184835,null,0.10100854543862947,null,0.6208396624391413,null,0.8463172724967132]
[{"$nulls":5},"P",null,0.1620850418563754,null,17,0.4859032827197768,null,0.19249549367128083,null,17,0.6263472305415115,null,0.9128824530292059,null,0.06803981725781949,null,17,0.4272787451982448,null,0.9952362523207762,null,0.9272551586257881,null,0.959641342564423]
[{"$nulls":5},"P",null,0.6423700704638665,null,34,0.4742127458641714,null,0.2553875864872682,null,34,0.662486422816847,null,0.46488937149318654,null,0.7321587412716373,null,34,0.7213716210509498,null,0.7373033193377995,null,0.5459101709585684,null,0.4437935720855355]
[{"$nulls":7},0.9731111782168453,null,18,0.6846649458457527,null,0.34177790310284695,null,18,0.5086063973452277,null,0.6781941707837693,null,0.4118856159471199,null,18,0.7616939973449729,null,0.6899121252398553,null,0.9644287240685468,null,0.18982855891107486]
[{"$nulls":7},0.962856107615976,null,36,0.5341451105024643,null,0.19365190993005654,null,36,0.11636212821089786,null,0.09974397044956229,null,0.21657034379175466,null,36,0.24631338421251292,null,0.9139900745944077,null,0.8966642057920493,null,0.18051459000679204]
[{"$nulls":7},0.456465592395385,null,19,0.9246882887120271,null,0.7002613089443667,null,19,0.9790380172533855,null,0.8728925953977831,null,0.7434693014740075,null,19,0.41311128906894545,null,0.813600281591457,null,0.33521440294046134,null,0.23556067810987058]
[{"$nulls":7},0.9597548021457148,null,38,0.7154597055806284,null,0.9156069698944377,null,38,0.3568602082024934,null,0.47871921222122193,null,0.42264971548346,null,38,0.6320562573548603,null,0.8427621302642614,null,0.9095530854665844,null,0.28604883064299735]
[{"$nulls":7},0.26007164223246315,null,20,0.49638326962703705,null,0.47016955723792564,null,20,0.2883318818631715,null,0.9662063182294334,null,0.2374362203795909,null,20,0.057256953320744985,null,0.8084541011161863,null,0.8515981219097627,null,0.9362378653746045]
[{"$nulls":7},0.7204263377637447,null,40,0.5466415159560644,null,0.3893679540836267,null,40,0.7762390406362911,null,0.22157156163702918,null,0.8270082414992042,null,40,0.238636162781809,null,0.9386863481098985,null,0.8918791392693626,null,0.9199657990564629]
[{"$nulls":7},0.43064112548603184,null,21,0.27680778371428705,null,0.32791739326198677,null,21,0.2497483146366981,null,0.8819911259774962,null,0.5888590122829559,null,21,0.2967346545239954,null,0.8019772602279537,null,0.4385558926054004,null,0.8498348718743269]
[{"$nulls":7},0.06970995768801436,null,42,0.9660465183761775,null,0.10552509842964675,null,42,0.9147173703270106,null,0.412983834590843,null,0.8766483693124755,null,42,0.019546997784765763,null,0.11647828555877726,null,0.13525068819419284,null,0.8931599659256287]

{"sheet":"Sheet1","index":2,"n_rows":46,"n_cols":30,"rows_kept":46,"hidden":true,"merged":[[2,11,2,13],[4,9,5,9],[4,14,5,14],[4,21,5,21],[6,9,7,9],[6,14,7,14],[6,21,7,21],[8,9,9,9],[8,14,9,14],[8,21,9,21],[10,9,11,9],[10,14,11,14],[10,21,11,21],[12,9,13,9],[12,14,13,14],[12,21,13,21],[14,9,15,9],[14,14,15,14],[14,21,15,21],[16,9,17,9],[16,14,17,14],[16,21,17,21],[18,9,19,9],[18,14,19,14],[18,21,19,21],[20,9,21,9],[20,14,21,14],[20,21,21,21],[22,9,23,9],[22,14,23,14],[22,21,23,21],[24,9,25,9],[24,14,25,14],[24,21,25,21],[26,9,27,9],[26,14,27,14],[26,21,27,21],[28,9,29,9],[28,14,29,14],[28,21,29,21],[30,9,31,9],[30,14,31,14],[30,21,31,21],[32,9,33,9],[32,14,33,14],[32,21,33,21],[34,9,35,9],[34,14,35,14],[34,21,35,21],[36,9,37,9],[36,14,37,14],[36,21,37,21],[38,9,39,9],[38,14,39,14],[38,21,39,21],[40,9,41,9],[40,14,41,14],[40,21,41,21],[42,9,43,9],[42,14,43,14],[42,21,43,21],[44,9,45,9],[44,14,45,14],[44,21,45,21]]}
[]
[]
[{"$nulls":8},"SINGLES",null,null,"PAIRS",{"$nulls":6},"TRIPLES",{"$nulls":6},"               FOURS"]
[{"$nulls":8},"PLAYERS",null,null,"LEADS",null,"SKIPS",null,null,"LEADS",null,"THIRDS",null,"SKIPS",null,null,"LEADS",null,"SECONDS",null,"THIRDS",null,"SKIPS"]
[{"$nulls":7},{"$f":"RAND()","v":0.2556856613218399},null,1,{"$f":"RAND()","v":0.282982260200878},null,{"$f":"RAND()","v":0.8726552673596681},null,1,{"$f":"RAND()","v":0.2709511795992542},null,{"$f":"RAND()","v":0.01817606380847525},null,{"$f":"RAND()","v":0.7873686501813805},null,1,{"$f":"RAND()","v":0.2236805342598326},null,{"$f":"RAND()","v":0.14192521565398364},null,{"$f":"RAND()","v":0.257836969474743},null,{"$f":"RAND()","v":0.7175137072585619}]
[{"$nulls":7},{"$f":"RAND()","v":0.003982161456343447},null,null,0.2900781476811386,null,0.6949764656694513,null,null,0.9869584074317678,null,0.07058891617344332,null,0.7164859286299984,null,null,0.2763988591985269,null,0.3153763523083194,null,0.4970608563664414,null,0.13828620459789465]
[{"$nulls":7},0.34524291755060676,null,2,0.11194148989097241,null,0.2342367742617062,null,2,0.22787115162621974,null,0.3988177378252137,null,0.3035854391421833,null,2,0.04035097665531229,null,0.5810598775283746,null,0.5879762790613293,null,0.11954940401547254]
[{"$nulls":7},0.6626596102296137,null,null,0.5563838583914297,null,0.09296005450097555,null,null,0.07592306706118401,null,0.45997447860990026,null,0.5622202904426666,null,null,0.549069044859463,null,0.03585273076927553,null,0.09566745128805632,null,0.46848849070434084]
[{"$nulls":7},0.9558085301740914,null,3,0.13186592147900023,null,0.6521645805041082,null,3,0.19761836437315505,null,0.12017648375370171,null,0.4558285579247826,null,3,0.44470889826305815,null,0.14194037559298,null,0.6562282595337325,null,0.08387371598977267]
[{"$nulls":7},0.2489804358162474,null,6,0.058152531815217956,null,0.14670675712355474,null,6,0.026661689846289582,null,0.11030467415496581,null,0.8535327283481644,null,6,0.393086095095308,null,0.10060955998175847,null,0.3627627615588458,null,0.924101941606445]
[{"$nulls":7},0.5155377434512959,null,4,0.8262195128235608,null,0.6850866702843148,null,4,0.6974446631659765,null,0.42295101414027414,null,0.4322722048477271,null,4,0.21828726320960978,null,0.8434994882418727,null,0.22931743518202274,null,0.5875298530079062]
[{"$nulls":7},0.6802219803908719,null,8,0.059397767372044386,null,0.42252584663259485,null,8,0.3420770047177969,null,0.3476959017434341,null,0.9544115813271863,null,8,0.6168383416736913,null,0.6271159100389305,null,0.8391074072407392,null,0.7614425061007496]
[{"$nulls":7},0.37617484362847675,null,5,0.9755096478731013,null,0.15343935050992796,null,5,0.3539704577969771,null,0.7227235890019467,null,0.618324659529674,null,5,0.901774258439079,null,0.09570005789310654,null,0.6054996815283028,null,0.050035310196185345]
[{"$nulls":7},0.3201178408444638,null,10,0.7168213996336068,null,0.9778092154383734,null,10,0.34749094220974774,null,0.3367762486507191,null,0.32864738102081237,null,10,0.22930517953137552,null,0.7324147268638319,null,0.996944047803331,null,0.36673952218351225]
[{"$nulls":7},0.18374541962248137,null,6,0.7246706907968594,null,0.3863606191780371,null,6,0.8351221945080073,null,0.3746836554984232,null,0.930872774482263,null,6,0.1773708277417787,null,0.33457728140533805,null,0.6131379692387927,null,0.8032688060678761]
[{"$nulls":7},0.6606584580475954,null,12,0.18713116119153428,null,0.0028794337406155,null,12,0.6301493637708643,null,0.6139505502535922,null,0.8696939326281952,null,12,0.6841969760607224,null,0.007576341382483309,null,0.4884011519210226,null,0.9383064096773281]
[{"$nulls":7},0.008064273993979243,null,7,0.6106491442730626,null,0.15782556331296005,null,7,0.3673009570666712,null,0.5755787190813683,null,0.5555180562117904,null,7,0.017065235853611416,null,0.9682864450564829,null,0.5173236492263891,null,0.8024139065365672]
[{"$nulls":7},0.458747220106018,null,14,0.723062467276022,null,0.23318610202431833,null,14,0.19624119980586074,null,0.9660820448731446,null,0.9598324509260604,null,14,0.11186241403518815,null,0.761586922926222,null,0.06606766492650462,null,0.2434131318284064]
[{"$nulls":7},0.5004386392726516,null,8,0.6254135026555611,null,0.5714410083640746,null,8,0.3705811993117819,null,0.7665763674325561,null,0.5776458628672596,null,8,0.2803220540573379,null,0.6964030497547731,null,0.737019838677813,null,0.11125408059544528]
[{"$nulls":7},0.7374110552159472,null,16,0.6377500240362545,null,0.4257763784516134,null,16,0.21502251086964874,null,0.508546772401392,null,0.2038873673609044,null,16,0.20456461796604897,null,0.43770452538305815,null,0.4054326251556061,null,0.8454662169850007]
[{"$nulls":7},0.28120665614415197,null,9,0.20670487423438755,null,0.5794397652195733,null,9,0.9253504362615498,null,0.2987304535884624,null,0.8391008529981462,null,9,0.10247176630423194,null,0.056270508891427595,null,0.7296203907407045,null,0.16360386456207354]
[{"$nulls":7},0.27456591004144515,null,18,0.31012213534052113,null,0.5071292373368596,null,18,0.7881726697525628,null,0.9653100220891754,null,0.7548319284122433,null,18,0.7362649411823993,null,0.40255113342300464,null,0.5890742799891956,null,0.43610433050212016]
[{"$nulls":7},0.6537756581009649,null,10,0.8200063886577194,null,0.1577155978640432,null,10,0.25564363681201774,null,0.9060878880740657,null,0.7479569851203215,null,10,0.7016234535250759,null,0.22058277613600485,null,0.8537801329455871,null,0.2652026566911564]
[{"$nulls":7},0.28635381736750676,null,20,0.3511394325884034,null,0.6943879095445813,null,20,0.2533889997961275,null,0.4816177037441275,null,5.9443829858224495E-3,null,20,0.9368706732396762,null,0.373983069553665,null,0.06282626147704784,null,0.8657190758261086]
[{"$nulls":7},0.687328427558117,null,11,0.8161310436266471,null,0.05373718089622348,null,11,0.6935596310761359,null,0.9277840479962833,null,0.07679584023972863,null,11,0.21740266253330331,null,0.9130574211697517,null,0.3922519625290889,null,0.6875716104362632]
[{"$nulls":7},0.1790970790637887,null,22,0.980548705146389,null,0.12291117707677235,null,22,0.27227095982348226,null,0.9986735546517705,null,0.8133531640805906,null,22,0.4070326705061952,null,0.4703783687141154,null,0.35174385988369816,null,0.00545049013922938]
[{"$nulls":7},0.04066410935744125,null,12,0.8930857400210617,null,0.8071870368841302,null,12,0.421928453241287,null,0.6278947080623364,null,0.867494676486864,null,12,0.7527227154717931,null,0.6295962527819328,null,0.2321858442029714,null,0.4391474105608659]
[{"$nulls":7},0.7757972769543547,null,24,0.9592474544769937,null,0.0673538376294861,null,24,0.5601095503931126,null,0.9218412283368606,null,0.9634328567883503,null,24,0.13555216466970832,null,0.31759135698607077,null,0.4356207168607342,null,0.19203762959747905]
[{"$nulls":7},0.6862227128579165,null,13,0.8707572446151545,null,0.883194292217006,null,13,0.865684303462148,null,0.8395234194096365,null,0.0697919155729767,null,13,0.071935497623968,null,0.8995347379208176,null,0.03951040971791564,null,0.1974143501470832]
[{"$nulls":7},0.36933079322746454,null,26,0.802576954650728,null,0.22999437152714441,null,26,0.7211589373593613,null,0.49066417767235615,null,0.8430628630730648,null,26,0.14691544629911302,null,0.7200608817474008,null,0.9490498626453383,null,0.21778214220828962]
[{"$nulls":7},0.21611256339492324,null,14,0.6706326435032625,null,1.5150202895419795E-4,null,14,0.9225263890369148,null,0.3508457195699848,null,0.13604856339359017,null,14,0.7611338725782724,null,0.9889949558025736,null,0.8469831988002202,null,0.26728449147801836]
[{"$nulls":7},0.31080138348430875,null,28,0.4725558143296662,null,0.10539866905011708,null,28,0.5362620664544777,null,0.9579827093001082,null,0.7462410634626935,null,28,0.9817655934511023,null,0.7790716591831995,null,0.757429626104593,null,0.5740905908941673]
[{"$nulls":7},0.9223797995302928,null,15,0.9403814913173943,null,0.13705592515918208,null,15,0.8033612498436749,null,0.5210038537184382,null,0.18157761696411567,null,15,0.10408423629330543,null,0.8830075719597731,null,0.873917720117144,null,0.611651585002153]
[{"$nulls":7},0.8890842065924943,null,30,0.8996386133746384,null,0.7834738869711954,null,30,0.5112930463415201,null,0.9885047621563731,null,0.24056890372978412,null,30,0.41231598397290004,null,0.9673058134964867,null,0.3271635414685834,null,0.7840271921583499]
[{"$nulls":7},0.2591648610832039,null,16,0.9551297315562313,null,0.2151406633328009,null,16,0.43847835337755214,null,0.9064957251498744,null,0.7374057145887852,null,16,0.3627554408443431,null,0.48168599306236626,null,0.5735034411761614,null,0.7492636585706585]
[{"$nulls":7},0.5018914395483662,null,32,0.6445606618675738,null,0.03389846743677771,null,32,0.5279164116927294,null,0.9924876178393501,null,0.444678817279487,null,32,0.2994116514569486,null,0.6517892236552626,null,0.5651615096637507,null,7.080760024142152E-3]
[{"$nulls":7},0.86568528784388,null,17,0.1443568539378134,null,0.1392301079959457,null,17,0.6956965964634909,null,0.9252506477436597,null,0.39399949798247835,null,17,0.45306619452578833,null,0.849425697773461,null,0.0159011118731881,null,0.2291032435002126]
[{"$nulls":7},0.057218584147840756,null,34,0.9900864657115714,null,0.019949934734248442,null,34,0.5203875079744099,null,0.9712069876437225,null,0.8427880743486337,null,34,0.5072378871586077,null,0.7347764833266472,null,0.6931448286826023,null,0.5811888163360748]
[{"$nulls":7},0.9957923942664312,null,18,0.5145014883151561,null,0.16617576500333242,null,18,0.2645911697811716,null,0.2718008017253769,null,0.004462345293781422,null,18,0.4149534744751855,null,0.24253634813173186,null,0.8781395868428354,null,0.7185642835432928]
[{"$nulls":7},0.16818196622978243,null,36,0.40776275578101573,null,0.4853989087502971,null,36,0.8239629035010049,null,0.4423869879492862,null,0.5743774907586184,null,36,0.7086060784798218,null,0.8729227271439934,null,0.024100693838015275,null,0.36373790065589007]
[{"$nulls":7},0.9283534393431988,null,19,0.886347998789319,null,0.533945867283372,null,19,0.0429918364131362,null,0.7557779399862464,null,0.013726098352789706,null,19,0.2524897600561994,null,0.2071242902931022,null,0.5447573246616834,null,0.12418074282612668]
[{"$nulls":7},0.9727941699127306,null,38,0.17691075740930173,null,0.7366689477374921,null,38,0.372075109392341,null,0.7454400863704687,null,0.9489930190968799,null,38,0.4717097545776724,null,0.3838379100186219,null,0.25055863652237176,null,0.5664998712815368]
[{"$nulls":7},0.8527611946575191,null,20,0.6501767647518658,null,0.30211189558915275,null,20,0.527561270770544,null,0.13886281421975522,null,0.24745656873186095,null,20,0.6457572996705518,null,0.15978287432839255,null,0.8710589452451464,null,0.014005722285750366]
[{"$nulls":7},0.6382366711057551,null,40,0.004630363612509902,null,0.3100849865774329,null,40,0.8410204291492102,null,0.21281629857394946,null,0.4286186551352589,null,40,0.06783039549109826,null,0.9123991143791141,null,0.9802280607813404,null,0.7145721376386279]
[{"$nulls":7},0.5767678132560559,null,21,0.6550367030614928,null,0.764938049665726,null,21,0.4596476525612734,null,0.3698341034342364,null,0.399520726921078,null,21,0.558203088468081,null,0.6384427814806249,null,0.10156431349262973,null,0.25644520810308546]
[{"$nulls":7},0.3694931629048388,null,42,0.4036745952076627,null,0.7985978094898514,null,42,0.11196468624873923,null,0.30506506094183816,null,0.15520671913389417,null,42,0.4034456533757327,null,0.19163933921582543,null,0.18624483072575138,null,0.19076218024832103]

{"sheet":"RINKS","index":3,"n_rows":38,"n_cols":14,"rows_kept":38,"merged":[[0,1,0,7]]}
[]
[null,"RINK",{"$nulls":3},"RINK",{"$nulls":3},"RINK",null,null,"CLUB -","Bateau Bay"]
[null,{"$f":"IF(TEAMS!$H$4=\"p\",TEAMS!AG5,IF(TEAMS!$H$4=\"t\",TEAMS!AI5,IF(TEAMS!$H$4=\"f\",TEAMS!AL5,\"\")))","v":""},"L",{"$f":"IF(TEAMS!$H$4=\"p\",TEAMS!AG6,IF(TEAMS!$H$4=\"t\",TEAMS!AI6,IF(TEAMS!$H$4=\"f\",TEAMS!AL6,\"\")))","v":""},null,{"$f":"IF(TEAMS!$H$4=\"p\",TEAMS!AG19,IF(TEAMS!$H$4=\"t\",TEAMS!AI19,IF(TEAMS!$H$4=\"f\",TEAMS!AL19,\"\")))","v":""},"L",{"$f":"IF(TEAMS!$H$4=\"p\",TEAMS!AG20,IF(TEAMS!$H$4=\"t\",TEAMS!AI20,IF(TEAMS!$H$4=\"f\",TEAMS!AL20,\"\")))","v":""},null,{"$f":"IF(TEAMS!$H$4=\"p\",TEAMS!AG33,IF(TEAMS!$H$4=\"t\",TEAMS!AI33,IF(TEAMS!$H$4=\"f\",TEAMS!AL33,\"\")))","v":""},"L",{"$f":"IF(TEAMS!$H$4=\"p\",TEAMS!AG34,IF(TEAMS!$H$4=\"t\",TEAMS!AI34,IF(TEAMS!$H$4=\"f\",TEAMS!AL34,\"\")))","v":""}]
[null,{"$f":"IF(TEAMS!$H$4=\"f\",TEAMS!AM5,\"\")","v":""},"S",{"$f":"IF(TEAMS!$H$4=\"f\",TEAMS!AM6,\"\")","v":""},null,{"$f":"IF(TEAMS!$H$4=\"f\",TEAMS!AM19,\"\")","v":""},"S",{"$f":"IF(TEAMS!$H$4=\"f\",TEAMS!AM20,\"\")","v":""},null,{"$f":"IF(TEAMS!$H$4=\"f\",TEAMS!AM33,\"\")","v":""},"S",{"$f":"IF(TEAMS!$H$4=\"f\",TEAMS!AM34,\"\")","v":""},"DATE -","2016-06-26"]
[null,{"$f":"IF(TEAMS!$H$4=\"t\",TEAMS!AJ5,IF(TEAMS!$H$4=\"f\",TEAMS!AN5,\"\"))","v":""},"T",{"$f":"IF(TEAMS!$H$4=\"t\",TEAMS!AJ6,IF(TEAMS!$H$4=\"f\",TEAMS!AN6,\"\"))","v":""},null,{"$f":"IF(TEAMS!$H$4=\"t\",TEAMS!AJ19,IF(TEAMS!$H$4=\"f\",TEAMS!AN19,\"\"))","v":""},"T",{"$f":"IF(TEAMS!$H$4=\"t\",TEAMS!AJ20,IF(TEAMS!$H$4=\"f\",TEAMS!AN20,\"\"))","v":""},null,{"$f":"IF(TEAMS!$H$4=\"t\",TEAMS!AJ33,IF(TEAMS!$H$4=\"f\",TEAMS!AN33,\"\"))","v":""},"T",{"$f":"IF(TEAMS!$H$4=\"t\",TEAMS!AJ34,IF(TEAMS!$H$4=\"f\",TEAMS!AN34,\"\"))","v":""}]
[null,{"$f":"IF(TEAMS!$H$4=\"s\",TEAMS!AF5,IF(TEAMS!$H$4=\"p\",TEAMS!AH5,IF(TEAMS!$H$4=\"t\",TEAMS!AK5,IF(TEAMS!$H$4=\"f\",TEAMS!AO5,\"\"))))","v":""},"Sk",{"$f":"IF(TEAMS!$H$4=\"s\",TEAMS!AF6,IF(TEAMS!$H$4=\"p\",TEAMS!AH6,IF(TEAMS!$H$4=\"t\",TEAMS!AK6,IF(TEAMS!$H$4=\"f\",TEAMS!AO6,\"\"))))","v":""},null,{"$f":"IF(TEAMS!$H$4=\"s\",TEAMS!AF19,IF(TEAMS!$H$4=\"p\",TEAMS!AH19,IF(TEAMS!$H$4=\"t\",TEAMS!AK19,IF(TEAMS!$H$4=\"f\",TEAMS!AO19,\"\"))))","v":""},"Sk",{"$f":"IF(TEAMS!$H$4=\"s\",TEAMS!AF20,IF(TEAMS!$H$4=\"p\",TEAMS!AH20,IF(TEAMS!$H$4=\"t\",TEAMS!AK20,IF(TEAMS!$H$4=\"f\",TEAMS!AO20,\"\"))))","v":""},null,{"$f":"IF(TEAMS!$H$4=\"s\",TEAMS!AF33,IF(TEAMS!$H$4=\"p\",TEAMS!AH33,IF(TEAMS!$H$4=\"t\",TEAMS!AK33,IF(TEAMS!$H$4=\"f\",TEAMS!AO33,\"\"))))","v":""},"Sk",{"$f":"IF(TEAMS!$H$4=\"s\",TEAMS!AF34,IF(TEAMS!$H$4=\"p\",TEAMS!AH34,IF(TEAMS!$H$4=\"t\",TEAMS!AK34,IF(TEAMS!$H$4=\"f\",TEAMS!AO34,\"\"))))","v":""},"EVENT -","Monday Mens Mufti."]
[null,"RINK",{"$nulls":3},"RINK",{"$nulls":3},"RINK"]
[null,{"$f":"IF(TEAMS!$H$4=\"p\",TEAMS!AG7,IF(TEAMS!$H$4=\"t\",TEAMS!AI7,IF(TEAMS!$H$4=\"f\",TEAMS!AL7,\"\")))","v":""},"L",{"$f":"IF(TEAMS!$H$4=\"p\",TEAMS!AG8,IF(TEAMS!$H$4=\"t\",TEAMS!AI8,IF(TEAMS!$H$4=\"f\",TEAMS!AL8,\"\")))","v":""},null,{"$f":"IF(TEAMS!$H$4=\"p\",TEAMS!AG21,IF(TEAMS!$H$4=\"t\",TEAMS!AI21,IF(TEAMS!$H$4=\"f\",TEAMS!AL21,\"\")))","v":""},"L",{"$f":"IF(TEAMS!$H$4=\"p\",TEAMS!AG22,IF(TEAMS!$H$4=\"t\",TEAMS!AI22,IF(TEAMS!$H$4=\"f\",TEAMS!AL22,\"\")))","v":""},null,{"$f":"IF(TEAMS!$H$4=\"p\",TEAMS!AG35,IF(TEAMS!$H$4=\"t\",TEAMS!AI35,IF(TEAMS!$H$4=\"f\",TEAMS!AL35,\"\")))","v":""},"L",{"$f":"IF(TEAMS!$H$4=\"p\",TEAMS!AG36,IF(TEAMS!$H$4=\"t\",TEAMS!AI36,IF(TEAMS!$H$4=\"f\",TEAMS!AL36,\"\")))","v":""}]
[null,{"$f":"IF(TEAMS!$H$4=\"f\",TEAMS!AM7,\"\")","v":""},"S",{"$f":"IF(TEAMS!$H$4=\"f\",TEAMS!AM8,\"\")","v":""},null,{"$f":"IF(TEAMS!$H$4=\"f\",TEAMS!AM21,\"\")","v":""},"S",{"$f":"IF(TEAMS!$H$4=\"f\",TEAMS!AM22,\"\")","v":""},null,{"$f":"IF(TEAMS!$H$4=\"f\",TEAMS!AM35,\"\")","v":""},"S",{"$f":"IF(TEAMS!$H$4=\"f\",TEAMS!AM36,\"\")","v":""}]
[null,{"$f":"IF(TEAMS!$H$4=\"t\",TEAMS!AJ7,IF(TEAMS!$H$4=\"f\",TEAMS!AN7,\"\"))","v":""},"T",{"$f":"IF(TEAMS!$H$4=\"t\",TEAMS!AJ8,IF(TEAMS!$H$4=\"f\",TEAMS!AN8,\"\"))","v":""},null,{"$f":"IF(TEAMS!$H$4=\"t\",TEAMS!AJ21,IF(TEAMS!$H$4=\"f\",TEAMS!AN21,\"\"))","v":""},"T",{"$f":"IF(TEAMS!$H$4=\"t\",TEAMS!AJ22,IF(TEAMS!$H$4=\"f\",TEAMS!AN22,\"\"))","v":""},null,{"$f":"IF(TEAMS!$H$4=\"t\",TEAMS!AJ35,IF(TEAMS!$H$4=\"f\",TEAMS!AN35,\"\"))","v":""},"T",{"$f":"IF(TEAMS!$H$4=\"t\",TEAMS!AJ36,IF(TEAMS!$H$4=\"f\",TEAMS!AN36,\"\"))","v":""}]
[null,{"$f":"IF(TEAMS!$H$4=\"s\",TEAMS!AF7,IF(TEAMS!$H$4=\"p\",TEAMS!AH7,IF(TEAMS!$H$4=\"t\",TEAMS!AK7,IF(TEAMS!$H$4=\"f\",TEAMS!AO7,\"\"))))","v":""},"Sk",{"$f":"IF(TEAMS!$H$4=\"s\",TEAMS!AF8,IF(TEAMS!$H$4=\"p\",TEAMS!AH8,IF(TEAMS!$H$4=\"t\",TEAMS!AK8,IF(TEAMS!$H$4=\"f\",TEAMS!AO8,\"\"))))","v":""},null,{"$f":"IF(TEAMS!$H$4=\"s\",TEAMS!AF21,IF(TEAMS!$H$4=\"p\",TEAMS!AH21,IF(TEAMS!$H$4=\"t\",TEAMS!AK21,IF(TEAMS!$H$4=\"f\",TEAMS!AO21,\"\"))))","v":""},"Sk",{"$f":"IF(TEAMS!$H$4=\"s\",TEAMS!AF22,IF(TEAMS!$H$4=\"p\",TEAMS!AH22,IF(TEAMS!$H$4=\"t\",TEAMS!AK22,IF(TEAMS!$H$4=\"f\",TEAMS!AO22,\"\"))))","v":""},null,{"$f":"IF(TEAMS!$H$4=\"s\",TEAMS!AF35,IF(TEAMS!$H$4=\"p\",TEAMS!AH35,IF(TEAMS!$H$4=\"t\",TEAMS!AK35,IF(TEAMS!$H$4=\"f\",TEAMS!AO35,\"\"))))","v":""},"Sk",{"$f":"IF(TEAMS!$H$4=\"s\",TEAMS!AF36,IF(TEAMS!$H$4=\"p\",TEAMS!AH36,IF(TEAMS!$H$4=\"t\",TEAMS!AK36,IF(TEAMS!$H$4=\"f\",TEAMS!AO36,\"\"))))","v":""}]
[null,"RINK",{"$nulls":3},"RINK",{"$nulls":3},"RINK"]
[null,{"$f":"IF(TEAMS!$H$4=\"p\",TEAMS!AG9,IF(TEAMS!$H$4=\"t\",TEAMS!AI9,IF(TEAMS!$H$4=\"f\",TEAMS!AL9,\"\")))","v":""},"L",{"$f":"IF(TEAMS!$H$4=\"p\",TEAMS!AG10,IF(TEAMS!$H$4=\"t\",TEAMS!AI10,IF(TEAMS!$H$4=\"f\",TEAMS!AL10,\"\")))","v":""},null,{"$f":"IF(TEAMS!$H$4=\"p\",TEAMS!AG23,IF(TEAMS!$H$4=\"t\",TEAMS!AI23,IF(TEAMS!$H$4=\"f\",TEAMS!AL23,\"\")))","v":""},"L",{"$f":"IF(TEAMS!$H$4=\"p\",TEAMS!AG24,IF(TEAMS!$H$4=\"t\",TEAMS!AI24,IF(TEAMS!$H$4=\"f\",TEAMS!AL24,\"\")))","v":""},null,{"$f":"IF(TEAMS!$H$4=\"p\",TEAMS!AG37,IF(TEAMS!$H$4=\"t\",TEAMS!AI37,IF(TEAMS!$H$4=\"f\",TEAMS!AL37,\"\")))","v":""},"L",{"$f":"IF(TEAMS!$H$4=\"p\",TEAMS!AG38,IF(TEAMS!$H$4=\"t\",TEAMS!AI38,IF(TEAMS!$H$4=\"f\",TEAMS!AL38,\"\")))","v":""}]
[null,{"$f":"IF(TEAMS!$H$4=\"f\",TEAMS!AM9,\"\")","v":""},"S",{"$f":"IF(TEAMS!$H$4=\"f\",TEAMS!AM10,\"\")","v":""},null,{"$f":"IF(TEAMS!$H$4=\"f\",TEAMS!AM23,\"\")","v":""},"S",{"$f":"IF(TEAMS!$H$4=\"f\",TEAMS!AM24,\"\")","v":""},null,{"$f":"IF(TEAMS!$H$4=\"f\",TEAMS!AM37,\"\")","v":""},"S",{"$f":"IF(TEAMS!$H$4=\"f\",TEAMS!AM38,\"\")","v":""}]
[null,{"$f":"IF(TEAMS!$H$4=\"t\",TEAMS!AJ9,IF(TEAMS!$H$4=\"f\",TEAMS!AN9,\"\"))","v":""},"T",{"$f":"IF(TEAMS!$H$4=\"t\",TEAMS!AJ10,IF(TEAMS!$H$4=\"f\",TEAMS!AN10,\"\"))","v":""},null,{"$f":"IF(TEAMS!$H$4=\"t\",TEAMS!AJ23,IF(TEAMS!$H$4=\"f\",TEAMS!AN23,\"\"))","v":""},"T",{"$f":"IF(TEAMS!$H$4=\"t\",TEAMS!AJ24,IF(TEAMS!$H$4=\"f\",TEAMS!AN24,\"\"))","v":""},null,{"$f":"IF(TEAMS!$H$4=\"t\",TEAMS!AJ37,IF(TEAMS!$H$4=\"f\",TEAMS!AN37,\"\"))","v":""},"T",{"$f":"IF(TEAMS!$H$4=\"t\",TEAMS!AJ38,IF(TEAMS!$H$4=\"f\",TEAMS!AN38,\"\"))","v":""}]
[null,{"$f":"IF(TEAMS!$H$4=\"s\",TEAMS!AF9,IF(TEAMS!$H$4=\"p\",TEAMS!AH9,IF(TEAMS!$H$4=\"t\",TEAMS!AK9,IF(TEAMS!$H$4=\"f\",TEAMS!AO9,\"\"))))","v":""},"Sk",{"$f":"IF(TEAMS!$H$4=\"s\",TEAMS!AF10,IF(TEAMS!$H$4=\"p\",TEAMS!AH10,IF(TEAMS!$H$4=\"t\",TEAMS!AK10,IF(TEAMS!$H$4=\"f\",TEAMS!AO10,\"\"))))","v":""},null,{"$f":"IF(TEAMS!$H$4=\"s\",TEAMS!AF23,IF(TEAMS!$H$4=\"p\",TEAMS!AH23,IF(TEAMS!$H$4=\"t\",TEAMS!AK23,IF(TEAMS!$H$4=\"f\",TEAMS!AO23,\"\"))))","v":""},"Sk",{"$f":"IF(TEAMS!$H$4=\"s\",TEAMS!AF24,IF(TEAMS!$H$4=\"p\",TEAMS!AH24,IF(TEAMS!$H$4=\"t\",TEAMS!AK24,IF(TEAMS!$H$4=\"f\",TEAMS!AO24,\"\"))))","v":""},null,{"$f":"IF(TEAMS!$H$4=\"s\",TEAMS!AF37,IF(TEAMS!$H$4=\"p\",TEAMS!AH37,IF(TEAMS!$H$4=\"t\",TEAMS!AK37,IF(TEAMS!$H$4=\"f\",TEAMS!AO37,\"\"))))","v":""},"Sk",{"$f":"IF(TEAMS!$H$4=\"s\",TEAMS!AF38,IF(TEAMS!$H$4=\"p\",TEAMS!AH38,IF(TEAMS!$H$4=\"t\",TEAMS!AK38,IF(TEAMS!$H$4=\"f\",TEAMS!AO38,\"\"))))","v":""}]
[null,"RINK",{"$nulls":3},"RINK",{"$nulls":3},"RINK"]
[null,{"$f":"IF(TEAMS!$H$4=\"p\",TEAMS!AG11,IF(TEAMS!$H$4=\"t\",TEAMS!AI11,IF(TEAMS!$H$4=\"f\",TEAMS!AL11,\"\")))","v":""},"L",{"$f":"IF(TEAMS!$H$4=\"p\",TEAMS!AG12,IF(TEAMS!$H$4=\"t\",TEAMS!AI12,IF(TEAMS!$H$4=\"f\",TEAMS!AL12,\"\")))","v":""},null,{"$f":"IF(TEAMS!$H$4=\"p\",TEAMS!AG25,IF(TEAMS!$H$4=\"t\",TEAMS!AI25,IF(TEAMS!$H$4=\"f\",TEAMS!AL25,\"\")))","v":""},"L",{"$f":"IF(TEAMS!$H$4=\"p\",TEAMS!AG26,IF(TEAMS!$H$4=\"t\",TEAMS!AI26,IF(TEAMS!$H$4=\"f\",TEAMS!AL26,\"\")))","v":""},null,{"$f":"IF(TEAMS!$H$4=\"p\",TEAMS!AG39,IF(TEAMS!$H$4=\"t\",TEAMS!AI39,IF(TEAMS!$H$4=\"f\",TEAMS!AL39,\"\")))","v":""},"L",{"$f":"IF(TEAMS!$H$4=\"p\",TEAMS!AG40,IF(TEAMS!$H$4=\"t\",TEAMS!AI40,IF(TEAMS!$H$4=\"f\",TEAMS!AL40,\"\")))","v":""}]
[null,{"$f":"IF(TEAMS!$H$4=\"f\",TEAMS!AM11,\"\")","v":""},"S",{"$f":"IF(TEAMS!$H$4=\"f\",TEAMS!AM12,\"\")","v":""},null,{"$f":"IF(TEAMS!$H$4=\"f\",TEAMS!AM25,\"\")","v":""},"S",{"$f":"IF(TEAMS!$H$4=\"f\",TEAMS!AM26,\"\")","v":""},null,{"$f":"IF(TEAMS!$H$4=\"f\",TEAMS!AM39,\"\")","v":""},"S",{"$f":"IF(TEAMS!$H$4=\"f\",TEAMS!AM40,\"\")","v":""}]
[null,{"$f":"IF(TEAMS!$H$4=\"t\",TEAMS!AJ11,IF(TEAMS!$H$4=\"f\",TEAMS!AN11,\"\"))","v":""},"T",{"$f":"IF(TEAMS!$H$4=\"t\",TEAMS!AJ12,IF(TEAMS!$H$4=\"f\",TEAMS!AN12,\"\"))","v":""},null,{"$f":"IF(TEAMS!$H$4=\"t\",TEAMS!AJ25,IF(TEAMS!$H$4=\"f\",TEAMS!AN25,\"\"))","v":""},"T",{"$f":"IF(TEAMS!$H$4=\"t\",TEAMS!AJ26,IF(TEAMS!$H$4=\"f\",TEAMS!AN26,\"\"))","v":""},null,{"$f":"IF(TEAMS!$H$4=\"t\",TEAMS!AJ39,IF(TEAMS!$H$4=\"f\",TEAMS!AN39,\"\"))","v":""},"T",{"$f":"IF(TEAMS!$H$4=\"t\",TEAMS!AJ40,IF(TEAMS!$H$4=\"f\",TEAMS!AN40,\"\"))","v":""}]
[null,{"$f":"IF(TEAMS!$H$4=\"s\",TEAMS!AF11,IF(TEAMS!$H$4=\"p\",TEAMS!AH11,IF(TEAMS!$H$4=\"t\",TEAMS!AK11,IF(TEAMS!$H$4=\"f\",TEAMS!AO11,\"\"))))","v":""},"Sk",{"$f":"IF(TEAMS!$H$4=\"s\",TEAMS!AF12,IF(TEAMS!$H$4=\"p\",TEAMS!AH12,IF(TEAMS!$H$4=\"t\",TEAMS!AK12,IF(TEAMS!$H$4=\"f\",TEAMS!AO12,\"\"))))","v":""},null,{"$f":"IF(TEAMS!$H$4=\"s\",TEAMS!AF25,IF(TEAMS!$H$4=\"p\",TEAMS!AH25,IF(TEAMS!$H$4=\"t\",TEAMS!AK25,IF(TEAMS!$H$4=\"f\",TEAMS!AO25,\"\"))))","v":""},"Sk",{"$f":"IF(TEAMS!$H$4=\"s\",TEAMS!AF26,IF(TEAMS!$H$4=\"p\",TEAMS!AH26,IF(TEAMS!$H$4=\"t\",TEAMS!AK26,IF(TEAMS!$H$4=\"f\",TEAMS!AO26,\"\"))))","v":""},null,{"$f":"IF(TEAMS!$H$4=\"s\",TEAMS!AF39,IF(TEAMS!$H$4=\"p\",TEAMS!AH39,IF(TEAMS!$H$4=\"t\",TEAMS!AK39,IF(TEAMS!$H$4=\"f\",TEAMS!AO39,\"\"))))","v":""},"Sk",{"$f":"IF(TEAMS!$H$4=\"s\",TEAMS!AF40,IF(TEAMS!$H$4=\"p\",TEAMS!AH40,IF(TEAMS!$H$4=\"t\",TEAMS!AK40,IF(TEAMS!$H$4=\"f\",TEAMS!AO40,\"\"))))","v":""}]
[null,"RINK",{"$nulls":3},"RINK",{"$nulls":3},"RINK"]
[null,{"$f":"IF(TEAMS!$H$4=\"p\",TEAMS!AG13,IF(TEAMS!$H$4=\"t\",TEAMS!AI13,IF(TEAMS!$H$4=\"f\",TEAMS!AL13,\"\")))","v":""},"L",{"$f":"IF(TEAMS!$H$4=\"p\",TEAMS!AG14,IF(TEAMS!$H$4=\"t\",TEAMS!AI14,IF(TEAMS!$H$4=\"f\",TEAMS!AL14,\"\")))","v":""},null,{"$f":"IF(TEAMS!$H$4=\"p\",TEAMS!AG27,IF(TEAMS!$H$4=\"t\",TEAMS!AI27,IF(TEAMS!$H$4=\"f\",TEAMS!AL27,\"\")))","v":""},"L",{"$f":"IF(TEAMS!$H$4=\"p\",TEAMS!AG28,IF(TEAMS!$H$4=\"t\",TEAMS!AI28,IF(TEAMS!$H$4=\"f\",TEAMS!AL28,\"\")))","v":""},null,{"$f":"IF(TEAMS!$H$4=\"p\",TEAMS!AG41,IF(TEAMS!$H$4=\"t\",TEAMS!AI41,IF(TEAMS!$H$4=\"f\",TEAMS!AL41,\"\")))","v":""},"L",{"$f":"IF(TEAMS!$H$4=\"p\",TEAMS!AG42,IF(TEAMS!$H$4=\"t\",TEAMS!AI42,IF(TEAMS!$H$4=\"f\",TEAMS!AL42,\"\")))","v":""}]
[null,{"$f":"IF(TEAMS!$H$4=\"f\",TEAMS!AM13,\"\")","v":""},"S",{"$f":"IF(TEAMS!$H$4=\"f\",TEAMS!AM14,\"\")","v":""},null,{"$f":"IF(TEAMS!$H$4=\"f\",TEAMS!AM27,\"\")","v":""},"S",{"$f":"IF(TEAMS!$H$4=\"f\",TEAMS!AM28,\"\")","v":""},null,{"$f":"IF(TEAMS!$H$4=\"f\",TEAMS!AM41,\"\")","v":""},"S",{"$f":"IF(TEAMS!$H$4=\"f\",TEAMS!AM42,\"\")","v":""}]
[null,{"$f":"IF(TEAMS!$H$4=\"t\",TEAMS!AJ13,IF(TEAMS!$H$4=\"f\",TEAMS!AN13,\"\"))","v":""},"T",{"$f":"IF(TEAMS!$H$4=\"t\",TEAMS!AJ14,IF(TEAMS!$H$4=\"f\",TEAMS!AN14,\"\"))","v":""},null,{"$f":"IF(TEAMS!$H$4=\"t\",TEAMS!AJ27,IF(TEAMS!$H$4=\"f\",TEAMS!AN27,\"\"))","v":""},"T",{"$f":"IF(TEAMS!$H$4=\"t\",TEAMS!AJ28,IF(TEAMS!$H$4=\"f\",TEAMS!AN28,\"\"))","v":""},null,{"$f":"IF(TEAMS!$H$4=\"t\",TEAMS!AJ41,IF(TEAMS!$H$4=\"f\",TEAMS!AN41,\"\"))","v":""},"T",{"$f":"IF(TEAMS!$H$4=\"t\",TEAMS!AJ42,IF(TEAMS!$H$4=\"f\",TEAMS!AN42,\"\"))","v":""}]
[null,{"$f":"IF(TEAMS!$H$4=\"s\",TEAMS!AF13,IF(TEAMS!$H$4=\"p\",TEAMS!AH13,IF(TEAMS!$H$4=\"t\",TEAMS!AK13,IF(TEAMS!$H$4=\"f\",TEAMS!AO13,\"\"))))","v":""},"Sk",{"$f":"IF(TEAMS!$H$4=\"s\",TEAMS!AF14,IF(TEAMS!$H$4=\"p\",TEAMS!AH14,IF(TEAMS!$H$4=\"t\",TEAMS!AK14,IF(TEAMS!$H$4=\"f\",TEAMS!AO14,\"\"))))","v":""},null,{"$f":"IF(TEAMS!$H$4=\"s\",TEAMS!AF27,IF(TEAMS!$H$4=\"p\",TEAMS!AH27,IF(TEAMS!$H$4=\"t\",TEAMS!AK27,IF(TEAMS!$H$4=\"f\",TEAMS!AO27,\"\"))))","v":""},"Sk",{"$f":"IF(TEAMS!$H$4=\"s\",TEAMS!AF28,IF(TEAMS!$H$4=\"p\",TEAMS!AH28,IF(TEAMS!$H$4=\"t\",TEAMS!AK28,IF(TEAMS!$H$4=\"f\",TEAMS!AO28,\"\"))))","v":""},null,{"$f":"IF(TEAMS!$H$4=\"s\",TEAMS!AF41,IF(TEAMS!$H$4=\"p\",TEAMS!AH41,IF(TEAMS!$H$4=\"t\",TEAMS!AK41,IF(TEAMS!$H$4=\"f\",TEAMS!AO41,\"\"))))","v":""},"Sk",{"$f":"IF(TEAMS!$H$4=\"s\",TEAMS!AF42,IF(TEAMS!$H$4=\"p\",TEAMS!AH42,IF(TEAMS!$H$4=\"t\",TEAMS!AK42,IF(TEAMS!$H$4=\"f\",TEAMS!AO42,\"\"))))","v":""}]
[null,"RINK",{"$nulls":3},"RINK",{"$nulls":3},"RINK"]
[null,{"$f":"IF(TEAMS!$H$4=\"p\",TEAMS!AG15,IF(TEAMS!$H$4=\"t\",TEAMS!AI15,IF(TEAMS!$H$4=\"f\",TEAMS!AL15,\"\")))","v":""},"L",{"$f":"IF(TEAMS!$H$4=\"p\",TEAMS!AG16,IF(TEAMS!$H$4=\"t\",TEAMS!AI16,IF(TEAMS!$H$4=\"f\",TEAMS!AL16,\"\")))","v":""},null,{"$f":"IF(TEAMS!$H$4=\"p\",TEAMS!AG29,IF(TEAMS!$H$4=\"t\",TEAMS!AI29,IF(TEAMS!$H$4=\"f\",TEAMS!AL29,\"\")))","v":""},"L",{"$f":"IF(TEAMS!$H$4=\"p\",TEAMS!AG30,IF(TEAMS!$H$4=\"t\",TEAMS!AI30,IF(TEAMS!$H$4=\"f\",TEAMS!AL30,\"\")))","v":""},null,{"$f":"IF(TEAMS!$H$4=\"p\",TEAMS!AG43,IF(TEAMS!$H$4=\"t\",TEAMS!AI43,IF(TEAMS!$H$4=\"f\",TEAMS!AL43,\"\")))","v":""},"L",{"$f":"IF(TEAMS!$H$4=\"p\",TEAMS!AG44,IF(TEAMS!$H$4=\"t\",TEAMS!AI44,IF(TEAMS!$H$4=\"f\",TEAMS!AL44,\"\")))","v":""}]
[null,{"$f":"IF(TEAMS!$H$4=\"f\",TEAMS!AM15,\"\")","v":""},"S",{"$f":"IF(TEAMS!$H$4=\"f\",TEAMS!AM16,\"\")","v":""},null,{"$f":"IF(TEAMS!$H$4=\"f\",TEAMS!AM29,\"\")","v":""},"S",{"$f":"IF(TEAMS!$H$4=\"f\",TEAMS!AM30,\"\")","v":""},null,{"$f":"IF(TEAMS!$H$4=\"f\",TEAMS!AM43,\"\")","v":""},"S",{"$f":"IF(TEAMS!$H$4=\"f\",TEAMS!AM44,\"\")","v":""}]
[null,{"$f":"IF(TEAMS!$H$4=\"t\",TEAMS!AJ15,IF(TEAMS!$H$4=\"f\",TEAMS!AN15,\"\"))","v":""},"T",{"$f":"IF(TEAMS!$H$4=\"t\",TEAMS!AJ16,IF(TEAMS!$H$4=\"f\",TEAMS!AN16,\"\"))","v":""},null,{"$f":"IF(TEAMS!$H$4=\"t\",TEAMS!AJ29,IF(TEAMS!$H$4=\"f\",TEAMS!AN29,\"\"))","v":""},"T",{"$f":"IF(TEAMS!$H$4=\"t\",TEAMS!AJ30,IF(TEAMS!$H$4=\"f\",TEAMS!AN30,\"\"))","v":""},null,{"$f":"IF(TEAMS!$H$4=\"t\",TEAMS!AJ43,IF(TEAMS!$H$4=\"f\",TEAMS!AN43,\"\"))","v":""},"T",{"$f":"IF(TEAMS!$H$4=\"t\",TEAMS!AJ44,IF(TEAMS!$H$4=\"f\",TEAMS!AN44,\"\"))","v":""}]
[null,{"$f":"IF(TEAMS!$H$4=\"s\",TEAMS!AF15,IF(TEAMS!$H$4=\"p\",TEAMS!AH15,IF(TEAMS!$H$4=\"t\",TEAMS!AK15,IF(TEAMS!$H$4=\"f\",TEAMS!AO15,\"\"))))","v":""},"Sk",{"$f":"IF(TEAMS!$H$4=\"s\",TEAMS!AF16,IF(TEAMS!$H$4=\"p\",TEAMS!AH16,IF(TEAMS!$H$4=\"t\",TEAMS!AK16,IF(TEAMS!$H$4=\"f\",TEAMS!AO16,\"\"))))","v":""},null,{"$f":"IF(TEAMS!$H$4=\"s\",TEAMS!AF29,IF(TEAMS!$H$4=\"p\",TEAMS!AH29,IF(TEAMS!$H$4=\"t\",TEAMS!AK29,IF(TEAMS!$H$4=\"f\",TEAMS!AO29,\"\"))))","v":""},"Sk",{"$f":"IF(TEAMS!$H$4=\"s\",TEAMS!AF30,IF(TEAMS!$H$4=\"p\",TEAMS!AH30,IF(TEAMS!$H$4=\"t\",TEAMS!AK30,IF(TEAMS!$H$4=\"f\",TEAMS!AO30,\"\"))))","v":""},null,{"$f":"IF(TEAMS!$H$4=\"s\",TEAMS!AF43,IF(TEAMS!$H$4=\"p\",TEAMS!AH43,IF(TEAMS!$H$4=\"t\",TEAMS!AK43,IF(TEAMS!$H$4=\"f\",TEAMS!AO43,\"\"))))","v":""},"Sk",{"$f":"IF(TEAMS!$H$4=\"s\",TEAMS!AF44,IF(TEAMS!$H$4=\"p\",TEAMS!AH44,IF(TEAMS!$H$4=\"t\",TEAMS!AK44,IF(TEAMS!$H$4=\"f\",TEAMS!AO44,\"\"))))","v":""}]
[null,"RINK",{"$nulls":3},"RINK",{"$nulls":3},"RINK"]
[null,{"$f":"IF(TEAMS!$H$4=\"p\",TEAMS!AG17,IF(TEAMS!$H$4=\"t\",TEAMS!AI17,IF(TEAMS!$H$4=\"f\",TEAMS!AL17,\"\")))","v":""},"L",{"$f":"IF(TEAMS!$H$4=\"p\",TEAMS!AG18,IF(TEAMS!$H$4=\"t\",TEAMS!AI18,IF(TEAMS!$H$4=\"f\",TEAMS!AL18,\"\")))","v":""},null,{"$f":"IF(TEAMS!$H$4=\"p\",TEAMS!AG31,IF(TEAMS!$H$4=\"t\",TEAMS!AI31,IF(TEAMS!$H$4=\"f\",TEAMS!AL31,\"\")))","v":""},"L",{"$f":"IF(TEAMS!$H$4=\"p\",TEAMS!AG32,IF(TEAMS!$H$4=\"t\",TEAMS!AI32,IF(TEAMS!$H$4=\"f\",TEAMS!AL32,\"\")))","v":""},null,{"$f":"IF(TEAMS!$H$4=\"p\",TEAMS!AG45,IF(TEAMS!$H$4=\"t\",TEAMS!AI45,IF(TEAMS!$H$4=\"f\",TEAMS!AL45,\"\")))","v":""},"L",{"$f":"IF(TEAMS!$H$4=\"p\",TEAMS!AG46,IF(TEAMS!$H$4=\"t\",TEAMS!AI46,IF(TEAMS!$H$4=\"f\",TEAMS!AL46,\"\")))","v":""}]
[null,{"$f":"IF(TEAMS!$H$4=\"f\",TEAMS!AM17,\"\")","v":""},"S",{"$f":"IF(TEAMS!$H$4=\"f\",TEAMS!AM18,\"\")","v":""},null,{"$f":"IF(TEAMS!$H$4=\"f\",TEAMS!AM31,\"\")","v":""},"S",{"$f":"IF(TEAMS!$H$4=\"f\",TEAMS!AM32,\"\")","v":""},null,{"$f":"IF(TEAMS!$H$4=\"f\",TEAMS!AM45,\"\")","v":""},"S",{"$f":"IF(TEAMS!$H$4=\"f\",TEAMS!AM46,\"\")","v":""}]
[null,{"$f":"IF(TEAMS!$H$4=\"t\",TEAMS!AJ17,IF(TEAMS!$H$4=\"f\",TEAMS!AN17,\"\"))","v":""},"T",{"$f":"IF(TEAMS!$H$4=\"t\",TEAMS!AJ18,IF(TEAMS!$H$4=\"f\",TEAMS!AN18,\"\"))","v":""},null,{"$f":"IF(TEAMS!$H$4=\"t\",TEAMS!AJ31,IF(TEAMS!$H$4=\"f\",TEAMS!AN31,\"\"))","v":""},"T",{"$f":"IF(TEAMS!$H$4=\"t\",TEAMS!AJ32,IF(TEAMS!$H$4=\"f\",TEAMS!AN32,\"\"))","v":""},null,{"$f":"IF(TEAMS!$H$4=\"t\",TEAMS!AJ45,IF(TEAMS!$H$4=\"f\",TEAMS!AN45,\"\"))","v":""},"T",{"$f":"IF(TEAMS!$H$4=\"t\",TEAMS!AJ46,IF(TEAMS!$H$4=\"f\",TEAMS!AN46,\"\"))","v":""}]
[null,{"$f":"IF(TEAMS!$H$4=\"s\",TEAMS!AF17,IF(TEAMS!$H$4=\"p\",TEAMS!AH17,IF(TEAMS!$H$4=\"t\",TEAMS!AK17,IF(TEAMS!$H$4=\"f\",TEAMS!AO17,\"\"))))","v":""},"Sk",{"$f":"IF(TEAMS!$H$4=\"s\",TEAMS!AF18,IF(TEAMS!$H$4=\"p\",TEAMS!AH18,IF(TEAMS!$H$4=\"t\",TEAMS!AK18,IF(TEAMS!$H$4=\"f\",TEAMS!AO18,\"\"))))","v":""},null,{"$f":"IF(TEAMS!$H$4=\"s\",TEAMS!AF31,IF(TEAMS!$H$4=\"p\",TEAMS!AH31,IF(TEAMS!$H$4=\"t\",TEAMS!AK31,IF(TEAMS!$H$4=\"f\",TEAMS!AO31,\"\"))))","v":""},"Sk",{"$f":"IF(TEAMS!$H$4=\"s\",TEAMS!AF32,IF(TEAMS!$H$4=\"p\",TEAMS!AH32,IF(TEAMS!$H$4=\"t\",TEAMS!AK32,IF(TEAMS!$H$4=\"f\",TEAMS!AO32,\"\"))))","v":""},null,{"$f":"IF(TEAMS!$H$4=\"s\",TEAMS!AF45,IF(TEAMS!$H$4=\"p\",TEAMS!AH45,IF(TEAMS!$H$4=\"t\",TEAMS!AK45,IF(TEAMS!$H$4=\"f\",TEAMS!AO45,\"\"))))","v":""},"Sk",{"$f":"IF(TEAMS!$H$4=\"s\",TEAMS!AF46,IF(TEAMS!$H$4=\"p\",TEAMS!AH46,IF(TEAMS!$H$4=\"t\",TEAMS!AK46,IF(TEAMS!$H$4=\"f\",TEAMS!AO46,\"\"))))","v":""}]
[]
[null,{"$f":"(COUNTIF(B2:B35,\"*\")-7)","v":27},null,{"$f":"COUNTIF(D3:D36,\"*\")","v":28},null,{"$f":"(COUNTIF(F2:F36,\"*\")-7)","v":28},null,{"$f":"COUNTIF(H3:H36,\"*\")","v":28}]

{"sheet":"CARDS","index":4,"n_rows":667,"n_cols":16,"rows_kept":667,"merged":[[0,0,0,23],[2,0,2,23],[4,2,4,6],[4,8,4,23],[6,2,6,6],[6,8,6,23],[8,0,8,10],[8,11,8,12],[8,13,8,23],[10,0,10,10],[10,11,10,12],[10,13,10,23],[12,0,12,10],[12,11,12,12],[12,13,12,23],[14,0,14,10],[14,11,14,12],[14,13,14,23],[16,2,16,8],[16,15,16,21],[17,2,17,8],[17,15,17,21],[18,0,18,10],[18,13,18,23],[20,0,20,10],[20,11,20,12],[20,13,20,23],[22,0,22,11],[22,12,22,23],[23,0,23,23],[25,0,25,23],[27,2,27,6],[27,8,27,23],[29,2,29,6],[29,8,29,23],[31,0,31,10],[31,11,31,12],[31,13,31,23],[33,0,33,10],[33,11,33,12],[33,13,33,23],[35,0,35,10],[35,11,35,12],[35,13,35,23],[37,0,37,10],[37,11,37,12],[37,13,37,23],[39,2,39,8],[39,15,39,21],[40,2,40,8],[40,15,40,21],[41,0,41,10],[41,13,41,23],[43,0,43,10],[43,11,43,12],[43,13,43,23],[45,0,45,11],[45,12,45,23],[46,0,46,23],[48,0,48,23],[50,2,50,6],[50,8,50,23],[52,2,52,6],[52,8,52,23],[54,0,54,10],[54,11,54,12],[54,13,54,23],[56,0,56,10],[56,11,56,12],[56,13,56,23],[58,0,58,10],[58,11,58,12],[58,13,58,23],[60,0,60,10],[60,11,60,12],[60,13,60,23],[62,2,62,8],[62,15,62,21],[63,2,63,8],[63,15,63,21],[64,0,64,10],[64,13,64,23],[66,0,66,10],[66,11,66,12],[66,13,66,23],[68,0,68,11],[68,12,68,23],[69,0,69,23],[71,0,71,23],[73,2,73,6],[73,8,73,23],[75,2,75,6],[75,8,75,23],[77,0,77,10],[77,11,77,12],[77,13,77,23],[79,0,79,10],[79,11,79,12],[79,13,79,23],[81,0,81,10],[81,11,81,12],[81,13,81,23],[83,0,83,10],[83,11,83,12],[83,13,83,23],[85,2,85,8],[85,15,85,21],[86,2,86,8],[86,15,86,21],[87,0,87,10],[87,13,87,23],[89,0,89,10],[89,11,89,12],[89,13,89,23],[91,0,91,11],[91,12,91,23],[92,0,92,23],[94,0,94,23],[96,2,96,6],[96,8,96,23],[98,2,98,6],[98,8,98,23],[100,0,100,10],[100,11,100,12],[100,13,100,23],[102,0,102,10],[102,11,102,12],[102,13,102,23],[104,0,104,10],[104,11,104,12],[104,13,104,23],[106,0,106,10],[106,11,106,12],[106,13,106,23],[108,2,108,8],[108,15,108,21],[109,2,109,8],[109,15,109,21],[110,0,110,10],[110,13,110,23],[112,0,112,10],[112,11,112,12],[112,13,112,23],[114,0,114,11],[114,12,114,23],[115,0,115,23],[117,0,117,23],[119,2,119,6],[119,8,119,23],[121,2,121,6],[121,8,121,23],[123,0,123,10],[123,11,123,12],[123,13,123,23],[125,0,125,10],[125,11,125,12],[125,13,125,23],[127,0,127,10],[127,11,127,12],[127,13,127,23],[129,0,129,10],[129,11,129,12],[129,13,129,23],[131,2,131,8],[131,15,131,21],[132,2,132,8],[132,15,132,21],[133,0,133,10],[133,13,133,23],[135,0,135,10],[135,11,135,12],[135,13,135,23],[137,0,137,11],[137,12,137,23],[138,0,138,23],[140,0,140,23],[142,2,142,6],[142,8,142,23],[144,2,144,6],[144,8,144,23],[146,0,146,10],[146,11,146,12],[146,13,146,23],[148,0,148,10],[148,11,148,12],[148,13,148,23],[150,0,150,10],[150,11,150,12],[150,13,150,23],[152,0,152,10],[152,11,152,12],[152,13,152,23],[154,2,154,8],[154,15,154,21],[155,2,155,8],[155,15,155,21],[156,0,156,10],[156,13,156,23],[158,0,158,10],[158,11,158,12],[158,13,158,23],[160,0,160,11],[160,12,160,23],[161,0,161,23],[163,0,163,23],[165,2,165,6],[165,8,165,23],[167,2,167,6],[167,8,167,23],[169,0,169,10],[169,11,169,12],[169,13,169,23],[171,0,171,10],[171,11,171,12],[171,13,171,23],[173,0,173,10],[173,11,173,12],[173,13,173,23],[175,0,175,10],[175,11,175,12],[175,13,175,23],[177,2,177,8],[177,15,177,21],[178,2,178,8],[178,15,178,21],[179,0,179,10],[179,13,179,23],[181,0,181,10],[181,11,181,12],[181,13,181,23],[183,0,183,11],[183,12,183,23],[184,0,184,23],[186,0,186,23],[188,2,188,6],[188,8,188,23],[190,2,190,6],[190,8,190,23],[192,0,192,10],[192,11,192,12],[192,13,192,23],[194,0,194,10],[194,11,194,12],[194,13,194,23],[196,0,196,10],[196,11,196,12],[196,13,196,23],[198,0,198,10],[198,11,198,12],[198,13,198,23],[200,2,200,8],[200,15,200,21],[201,2,201,8],[201,15,201,21],[202,0,202,10],[202,13,202,23],[204,0,204,10],[204,11,204,12],[204,13,204,23],[206,0,206,11],[206,12,206,23],[207,0,207,23],[209,0,209,23],[211,2,211,6],[211,8,211,23],[213,2,213,6],[213,8,213,23],[215,0,215,10],[215,11,215,12],[215,13,215,23],[217,0,217,10],[217,11,217,12],[217,13,217,23],[219,0,219,10],[219,11,219,12],[219,13,219,23],[221,0,221,10],[221,11,221,12],[221,13,221,23],[223,2,223,8],[223,15,223,21],[224,2,224,8],[224,15,224,21],[225,0,225,10],[225,13,225,23],[227,0,227,10],[227,11,227,12],[227,13,227,23],[229,0,229,11],[229,12,229,23],[230,0,230,23],[232,0,232,23],[234,2,234,6],[234,8,234,23],[236,2,236,6],[236,8,236,23],[238,0,238,10],[238,11,238,12],[238,13,238,23],[240,0,240,10],[240,11,240,12],[240,13,240,23],[242,0,242,10],[242,11,242,12],[242,13,242,23],[244,0,244,10],[244,11,244,12],[244,13,244,23],[246,2,246,8],[246,15,246,21],[247,2,247,8],[247,15,247,21],[248,0,248,10],[248,13,248,23],[250,0,250,10],[250,11,250,12],[250,13,250,23],[252,0,252,11],[252,12,252,23],[253,0,253,23],[255,0,255,23],[257,2,257,6],[257,8,257,23],[259,2,259,6],[259,8,259,23],[261,0,261,10],[261,11,261,12],[261,13,261,23],[263,0,263,10],[263,11,263,12],[263,13,263,23],[265,0,265,10],[265,11,265,12],[265,13,265,23],[267,0,267,10],[267,11,267,12],[267,13,267,23],[269,2,269,8],[269,15,269,21],[270,2,270,8],[270,15,270,21],[271,0,271,10],[271,13,271,23],[273,0,273,10],[273,11,273,12],[273,13,273,23],[275,0,275,11],[275,12,275,23],[276,0,276,23],[278,0,278,23],[280,2,280,6],[280,8,280,23],[282,2,282,6],[282,8,282,23],[284,0,284,10],[284,11,284,12],[284,13,284,23],[286,0,286,10],[286,11,286,12],[286,13,286,23],[288,0,288,10],[288,11,288,12],[288,13,288,23],[290,0,290,10],[290,11,290,12],[290,13,290,23],[292,2,292,8],[292,15,292,21],[293,2,293,8],[293,15,293,21],[294,0,294,10],[294,13,294,23],[296,0,296,10],[296,11,296,12],[296,13,296,23],[298,0,298,11],[298,12,298,23],[299,0,299,23],[301,0,301,23],[303,2,303,6],[303,8,303,23],[305,2,305,6],[305,8,305,23],[307,0,307,10],[307,11,307,12],[307,13,307,23],[309,0,309,10],[309,11,309,12],[309,13,309,23],[311,0,311,10],[311,11,311,12],[311,13,311,23],[313,0,313,10],[313,11,313,12],[313,13,313,23],[315,2,315,8],[315,15,315,21],[316,2,316,8],[316,15,316,21],[317,0,317,10],[317,13,317,23],[319,0,319,10],[319,11,319,12],[319,13,319,23],[321,0,321,11],[321,12,321,23],[322,0,322,23],[324,0,324,23],[326,2,326,6],[326,8,326,23],[328,2,328,6],[328,8,328,23],[330,0,330,10],[330,11,330,12],[330,13,330,23],[332,0,332,10],[332,11,332,12],[332,13,332,23],[334,0,334,10],[334,11,334,12],[334,13,334,23],[336,0,336,10],[336,11,336,12],[336,13,336,23],[338,2,338,8],[338,15,338,21],[339,2,339,8],[339,15,339,21],[340,0,340,10],[340,13,340,23],[342,0,342,10],[342,11,342,12],[342,13,342,23],[344,0,344,11],[344,12,344,23],[345,0,345,23],[347,0,347,23],[349,2,349,6],[349,8,349,23],[351,2,351,6],[351,8,351,23],[353,0,353,10],[353,11,353,12],[353,13,353,23],[355,0,355,10],[355,11,355,12],[355,13,355,23],[357,0,357,10],[357,11,357,12],[357,13,357,23],[359,0,359,10],[359,11,359,12],[359,13,359,23],[361,2,361,8],[361,15,361,21],[362,2,362,8],[362,15,362,21],[363,0,363,10],[363,13,363,23],[365,0,365,10],[365,11,365,12],[365,13,365,23],[367,0,367,11],[367,12,367,23],[368,0,368,23],[370,0,370,23],[372,2,372,6],[372,8,372,23],[374,2,374,6],[374,8,374,23],[376,0,376,10],[376,11,376,12],[376,13,376,23],[378,0,378,10],[378,11,378,12],[378,13,378,23],[380,0,380,10],[380,11,380,12],[380,13,380,23],[382,0,382,10],[382,11,382,12],[382,13,382,23],[384,2,384,8],[384,15,384,21],[385,2,385,8],[385,15,385,21],[386,0,386,10],[386,13,386,23],[388,0,388,10],[388,11,388,12],[388,13,388,23],[390,0,390,11],[390,12,390,23],[391,0,391,23],[393,0,393,23],[395,2,395,6],[395,8,395,23],[397,2,397,6],[397,8,397,23],[399,0,399,10],[399,11,399,12],[399,13,399,23],[401,0,401,10],[401,11,401,12],[401,13,401,23],[403,0,403,10],[403,11,403,12],[403,13,403,23],[405,0,405,10],[405,11,405,12],[405,13,405,23],[407,2,407,8],[407,15,407,21],[408,2,408,8],[408,15,408,21],[409,0,409,10],[409,13,409,23],[411,0,411,10],[411,11,411,12],[411,13,411,23],[413,0,413,11],[413,12,413,23],[414,0,414,23],[416,0,416,23],[418,2,418,6],[418,8,418,23],[420,2,420,6],[420,8,420,23],[422,0,422,10],[422,11,422,12],[422,13,422,23],[424,0,424,10],[424,11,424,12],[424,13,424,23],[426,0,426,10],[426,11,426,12],[426,13,426,23],[428,0,428,10],[428,11,428,12],[428,13,428,23],[430,2,430,8],[430,15,430,21],[431,2,431,8],[431,15,431,21],[432,0,432,10],[432,13,432,23],[434,0,434,10],[434,11,434,12],[434,13,434,23],[436,0,436,11],[436,12,436,23],[437,0,437,23],[439,0,439,23],[441,2,441,6],[441,8,441,23],[443,2,443,6],[443,8,443,23],[445,0,445,10],[445,11,445,12],[445,13,445,23],[447,0,447,10],[447,11,447,12],[447,13,447,23],[449,0,449,10],[449,11,449,12],[449,13,449,23],[451,0,451,10],[451,11,451,12],[451,13,451,23],[453,2,453,8],[453,15,453,21],[454,2,454,8],[454,15,454,21],[455,0,455,10],[455,13,455,23],[457,0,457,10],[457,11,457,12],[457,13,457,23],[459,0,459,11],[459,12,459,23],[460,0,460,23],[462,0,462,23],[464,2,464,6],[464,8,464,23],[466,2,466,6],[466,8,466,23],[468,0,468,10],[468,11,468,12],[468,13,468,23],[470,0,470,10],[470,11,470,12],[470,13,470,23],[472,0,472,10],[472,11,472,12],[472,13,472,23],[474,0,474,10],[474,11,474,12],[474,13,474,23],[476,2,476,8],[476,15,476,21],[477,2,477,8],[477,15,477,21],[478,0,478,10],[478,13,478,23],[480,0,480,10],[480,11,480,12],[480,13,480,23],[482,0,482,11],[482,12,482,23],[483,0,483,23],[485,0,485,23],[487,2,487,6],[487,8,487,23],[489,2,489,6],[489,8,489,23],[491,0,491,10],[491,11,491,12],[491,13,491,23],[493,0,493,10],[493,11,493,12],[493,13,493,23],[495,0,495,10],[495,11,495,12],[495,13,495,23],[497,0,497,10],[497,11,497,12],[497,13,497,23],[499,2,499,8],[499,15,499,21],[500,2,500,8],[500,15,500,21],[501,0,501,10],[501,13,501,23],[503,0,503,10],[503,11,503,12],[503,13,503,23],[505,0,505,11],[505,12,505,23],[506,0,506,23],[508,0,508,23],[510,2,510,6],[510,8,510,23],[512,2,512,6],[512,8,512,23],[514,0,514,10],[514,11,514,12],[514,13,514,23],[516,0,516,10],[516,11,516,12],[516,13,516,23],[518,0,518,10],[518,11,518,12],[518,13,518,23],[520,0,520,10],[520,11,520,12],[520,13,520,23],[522,2,522,8],[522,15,522,21],[523,2,523,8],[523,15,523,21],[524,0,524,10],[524,13,524,23],[526,0,526,10],[526,11,526,12],[526,13,526,23],[528,0,528,11],[528,12,528,23],[529,0,529,23],[531,0,531,23],[533,2,533,6],[533,8,533,23],[535,2,535,6],[535,8,535,23],[537,0,537,10],[537,11,537,12],[537,13,537,23],[539,0,539,10],[539,11,539,12],[539,13,539,23],[541,0,541,10],[541,11,541,12],[541,13,541,23],[543,0,543,10],[543,11,543,12],[543,13,543,23],[545,2,545,8],[545,15,545,21],[546,2,546,8],[546,15,546,21],[547,0,547,10],[547,13,547,23],[549,0,549,10],[549,11,549,12],[549,13,549,23],[551,0,551,11],[551,12,551,23],[552,0,552,23],[554,0,554,23],[556,2,556,6],[556,8,556,23],[558,2,558,6],[558,8,558,23],[560,0,560,10],[560,11,560,12],[560,13,560,23],[562,0,562,10],[562,11,562,12],[562,13,562,23],[564,0,564,10],[564,11,564,12],[564,13,564,23],[566,0,566,10],[566,11,566,12],[566,13,566,23],[568,2,568,8],[568,15,568,21],[569,2,569,8],[569,15,569,21],[570,0,570,10],[570,13,570,23],[572,0,572,10],[572,11,572,12],[572,13,572,23],[574,0,574,11],[574,12,574,23],[575,0,575,23],[577,0,577,23],[579,2,579,6],[579,8,579,23],[581,2,581,6],[581,8,581,23],[583,0,583,10],[583,11,583,12],[583,13,583,23],[585,0,585,10],[585,11,585,12],[585,13,585,23],[587,0,587,10],[587,11,587,12],[587,13,587,23],[589,0,589,10],[589,11,589,12],[589,13,589,23],[591,2,591,8],[591,15,591,21],[592,2,592,8],[592,15,592,21],[593,0,593,10],[593,13,593,23],[595,0,595,10],[595,11,595,12],[595,13,595,23],[597,0,597,11],[597,12,597,23],[598,0,598,23],[600,0,600,23],[602,2,602,6],[602,8,602,23],[604,2,604,6],[604,8,604,23],[606,0,606,10],[606,11,606,12],[606,13,606,23],[608,0,608,10],[608,11,608,12],[608,13,608,23],[610,0,610,10],[610,11,610,12],[610,13,610,23],[612,0,612,10],[612,11,612,12],[612,13,612,23],[614,2,614,8],[614,15,614,21],[615,2,615,8],[615,15,615,21],[616,0,616,10],[616,13,616,23],[618,0,618,10],[618,11,618,12],[618,13,618,23],[620,0,620,11],[620,12,620,23],[621,0,621,23],[623,0,623,23],[625,2,625,6],[625,8,625,23],[627,2,627,6],[627,8,627,23],[629,0,629,10],[629,11,629,12],[629,13,629,23],[631,0,631,10],[631,11,631,12],[631,13,631,23],[633,0,633,10],[633,11,633,12],[633,13,633,23],[635,0,635,10],[635,11,635,12],[635,13,635,23],[637,2,637,8],[637,15,637,21],[638,2,638,8],[638,15,638,21],[639,0,639,10],[639,13,639,23],[641,0,641,10],[641,11,641,12],[641,13,641,23],[643,0,643,11],[643,12,643,23],[644,0,644,23],[646,0,646,23],[648,2,648,6],[648,8,648,23],[650,2,650,6],[650,8,650,23],[652,0,652,10],[652,11,652,12],[652,13,652,23],[654,0,654,10],[654,11,654,12],[654,13,654,23],[656,0,656,10],[656,11,656,12],[656,13,656,23],[658,0,658,10],[658,11,658,12],[658,13,658,23],[660,2,660,8],[660,15,660,21],[661,2,661,8],[661,15,661,21],[662,0,662,10],[662,13,662,23],[664,0,664,10],[664,11,664,12],[664,13,664,23],[666,0,666,11],[666,12,666,23]]}
[{"$f":"RINKS!$N$2","v":"Bateau Bay"}]
[]
[{"$f":"RINKS!$N$6","v":"Monday Mens Mufti."}]
[]
[null,null,"RINK",{"$nulls":5},"DATE"]
[]
[null,null,{"$f":"RINKS!$C$2","v":0},{"$nulls":5},{"$f":"RINKS!$N$4","v":"2016-06-26"}]
[]
[{"$f":"RINKS!$B$3","v":""},{"$nulls":10},"L",null,{"$f":"RINKS!$D$3","v":""}]
[]
[{"$f":"RINKS!$B$4","v":""},{"$nulls":10},"S",null,{"$f":"RINKS!$D$4","v":""}]
[]
[{"$f":"RINKS!$B$5","v":""},{"$nulls":10},"T",null,{"$f":"RINKS!$D$5","v":""}]
[]
[{"$f":"RINKS!$B$6","v":""},{"$nulls":10},"Sk",null,{"$f":"RINKS!$D$6","v":""}]
[]
[1,null,"TOTAL SCORE",{"$nulls":12},"TOTAL SCORE"]
[]
["Signature",{"$nulls":12},"Signature"]
[]
[{"$nulls":11},1]
[]
["Time Match Completed:-"]
[{"$f":"RINKS!$N$2","v":"Bateau Bay"}]
[]
[{"$f":"RINKS!$N$6","v":"Monday Mens Mufti."}]
[]
[null,null,"RINK",{"$nulls":5},"DATE"]
[]
[null,null,{"$f":"RINKS!$C$7","v":0},{"$nulls":5},{"$f":"RINKS!$N$4","v":"2016-06-26"}]
[]
[{"$f":"RINKS!$B$8","v":""},{"$nulls":10},"L",null,{"$f":"RINKS!$D$8","v":""}]
[]
[{"$f":"RINKS!$B$9","v":""},{"$nulls":10},"S",null,{"$f":"RINKS!$D$9","v":""}]
[]
[{"$f":"RINKS!$B$10","v":""},{"$nulls":10},"T",null,{"$f":"RINKS!$D$10","v":""}]
[]
[{"$f":"RINKS!$B$11","v":""},{"$nulls":10},"Sk",null,{"$f":"RINKS!$D$11","v":""}]
[]
[1,null,"TOTAL SCORE",{"$nulls":12},"TOTAL SCORE"]
[]
["Signature",{"$nulls":12},"Signature"]
[]
[{"$nulls":11},2]
[]
["Time Match Completed:-"]
[{"$f":"RINKS!$N$2","v":"Bateau Bay"}]
[]
[{"$f":"RINKS!$N$6","v":"Monday Mens Mufti."}]
[]
[null,null,"RINK",{"$nulls":5},"DATE"]
[]
[null,null,{"$f":"RINKS!$C$12","v":0},{"$nulls":5},{"$f":"RINKS!$N$4","v":"2016-06-26"}]
[]
[{"$f":"RINKS!$B$13","v":""},{"$nulls":10},"L",null,{"$f":"RINKS!$D$13","v":""}]
[]
[{"$f":"RINKS!$B$14","v":""},{"$nulls":10},"S",null,{"$f":"RINKS!$D$14","v":""}]
[]
[{"$f":"RINKS!$B$15","v":""},{"$nulls":10},"T",null,{"$f":"RINKS!$D$15","v":""}]
[]
[{"$f":"RINKS!$B$16","v":""},{"$nulls":10},"Sk",null,{"$f":"RINKS!$D$16","v":""}]
[]
[1,null,"TOTAL SCORE",{"$nulls":12},"TOTAL SCORE"]
[]
["Signature",{"$nulls":12},"Signature"]
[]
[{"$nulls":11},3]
[]
["Time Match Completed:-"]
[{"$f":"RINKS!$N$2","v":"Bateau Bay"}]
[]
[{"$f":"RINKS!$N$6","v":"Monday Mens Mufti."}]
[]
[null,null,"RINK",{"$nulls":5},"DATE"]
[]
[null,null,{"$f":"RINKS!$C$17","v":0},{"$nulls":5},{"$f":"RINKS!$N$4","v":"2016-06-26"}]
[]
[{"$f":"RINKS!$B$18","v":""},{"$nulls":10},"L",null,{"$f":"RINKS!$D$18","v":""}]
[]
[{"$f":"RINKS!$B$19","v":""},{"$nulls":10},"S",null,{"$f":"RINKS!$D$19","v":""}]
[]
[{"$f":"RINKS!$B$20","v":""},{"$nulls":10},"T",null,{"$f":"RINKS!$D$20","v":""}]
[]
[{"$f":"RINKS!$B$21","v":""},{"$nulls":10},"Sk",null,{"$f":"RINKS!$D$21","v":""}]
[]
[1,null,"TOTAL SCORE",{"$nulls":12},"TOTAL SCORE"]
[]
["Signature",{"$nulls":12},"Signature"]
[]
[{"$nulls":11},4]
[]
["Time Match Completed:-"]
[{"$f":"RINKS!$N$2","v":"Bateau Bay"}]
[]
[{"$f":"RINKS!$N$6","v":"Monday Mens Mufti."}]
[]
[null,null,"RINK",{"$nulls":5},"DATE"]
[]
[null,null,{"$f":"RINKS!$C$22","v":0},{"$nulls":5},{"$f":"RINKS!$N$4","v":"2016-06-26"}]
[]
[{"$f":"RINKS!$B$23","v":""},{"$nulls":10},"L",null,{"$f":"RINKS!$D$23","v":""}]
[]
[{"$f":"RINKS!$B$24","v":""},{"$nulls":10},"S",null,{"$f":"RINKS!$D$24","v":""}]
[]
[{"$f":"RINKS!$B$25","v":""},{"$nulls":10},"T",null,{"$f":"RINKS!$D$25","v":""}]
[]
[{"$f":"RINKS!$B$26","v":""},{"$nulls":10},"Sk",null,{"$f":"RINKS!$D$26","v":""}]
[]
[1,null,"TOTAL SCORE",{"$nulls":12},"TOTAL SCORE"]
[]
["Signature",{"$nulls":12},"Signature"]
[]
[{"$nulls":11},5]
[]
["Time Match Completed:-"]
[{"$f":"RINKS!$N$2","v":"Bateau Bay"}]
[]
[{"$f":"RINKS!$N$6","v":"Monday Mens Mufti."}]
[]
[null,null,"RINK",{"$nulls":5},"DATE"]
[]
[null,null,{"$f":"RINKS!$C$27","v":0},{"$nulls":5},{"$f":"RINKS!$N$4","v":"2016-06-26"}]
[]
[{"$f":"RINKS!$B$28","v":""},{"$nulls":10},"L",null,{"$f":"RINKS!$D$28","v":""}]
[]
[{"$f":"RINKS!$B$29","v":""},{"$nulls":10},"S",null,{"$f":"RINKS!$D$29","v":""}]
[]
[{"$f":"RINKS!$B$30","v":""},{"$nulls":10},"T",null,{"$f":"RINKS!$D$30","v":""}]
[]
[{"$f":"RINKS!$B$31","v":""},{"$nulls":10},"Sk",null,{"$f":"RINKS!$D$31","v":""}]
[]
[1,null,"TOTAL SCORE",{"$nulls":12},"TOTAL SCORE"]
[]
["Signature",{"$nulls":12},"Signature"]
[]
[{"$nulls":11},6]
[]
["Time Match Completed:-"]
[{"$f":"RINKS!$N$2","v":"Bateau Bay"}]
[]
[{"$f":"RINKS!$N$6","v":"Monday Mens Mufti."}]
[]
[null,null,"RINK",{"$nulls":5},"DATE"]
[]
[null,null,{"$f":"RINKS!$C$32","v":0},{"$nulls":5},{"$f":"RINKS!$N$4","v":"2016-06-26"}]
[]
[{"$f":"RINKS!$B$33","v":""},{"$nulls":10},"L",null,{"$f":"RINKS!$D$33","v":""}]
[]
[{"$f":"RINKS!$B$34","v":""},{"$nulls":10},"S",null,{"$f":"RINKS!$D$34","v":""}]
[]
[{"$f":"RINKS!$B$35","v":""},{"$nulls":10},"T",null,{"$f":"RINKS!$D$35","v":""}]
[]
[{"$f":"RINKS!$B$36","v":""},{"$nulls":10},"Sk",null,{"$f":"RINKS!$D$36","v":""}]
[]
[1,null,"TOTAL SCORE",{"$nulls":12},"TOTAL SCORE"]
[]
["Signature",{"$nulls":12},"Signature"]
[]
[{"$nulls":11},7]
[]
["Time Match Completed:-"]
[{"$f":"RINKS!$N$2","v":"Bateau Bay"}]
[]
[{"$f":"RINKS!$N$6","v":"Monday Mens Mufti."}]
[]
[null,null,"RINK",{"$nulls":5},"DATE"]
[]
[null,null,{"$f":"RINKS!$G$2","v":0},{"$nulls":5},{"$f":"RINKS!$N$4","v":"2016-06-26"}]
[]
[{"$f":"RINKS!$F$3","v":""},{"$nulls":10},"L",null,{"$f":"RINKS!$H$3","v":""}]
[]
[{"$f":"RINKS!$F$4","v":""},{"$nulls":10},"S",null,{"$f":"RINKS!$H$4","v":""}]
[]
[{"$f":"RINKS!$F$5","v":""},{"$nulls":10},"T",null,{"$f":"RINKS!$H$5","v":""}]
[]
[{"$f":"RINKS!$F$6","v":""},{"$nulls":10},"Sk",null,{"$f":"RINKS!$H$6","v":""}]
[]
[1,null,"TOTAL SCORE",{"$nulls":12},"TOTAL SCORE"]
[]
["Signature",{"$nulls":12},"Signature"]
[]
[{"$nulls":11},8]
[]
["Time Match Completed:-"]
[{"$f":"RINKS!$N$2","v":"Bateau Bay"}]
[]
[{"$f":"RINKS!$N$6","v":"Monday Mens Mufti."}]
[]
[null,null,"RINK",{"$nulls":5},"DATE"]
[]
[null,null,{"$f":"RINKS!$G$7","v":0},{"$nulls":5},{"$f":"RINKS!$N$4","v":"2016-06-26"}]
[]
[{"$f":"RINKS!$F$8","v":""},{"$nulls":10},"L",null,{"$f":"RINKS!$H$8","v":""}]
[]
[{"$f":"RINKS!$F$9","v":""},{"$nulls":10},"S",null,{"$f":"RINKS!$H$9","v":""}]
[]
[{"$f":"RINKS!$F$10","v":""},{"$nulls":10},"T",null,{"$f":"RINKS!$H$10","v":""}]
[]
[{"$f":"RINKS!$F$11","v":""},{"$nulls":10},"Sk",null,{"$f":"RINKS!$H$11","v":""}]
[]
[1,null,"TOTAL SCORE",{"$nulls":12},"TOTAL SCORE"]
[]
["Signature",{"$nulls":12},"Signature"]
[]
[{"$nulls":11},9]
[]
["Time Match Completed:-"]
[{"$f":"RINKS!$N$2","v":"Bateau Bay"}]
[]
[{"$f":"RINKS!$N$6","v":"Monday Mens Mufti."}]
[]
[null,null,"RINK",{"$nulls":5},"DATE"]
[]
[null,null,{"$f":"RINKS!$G$12","v":0},{"$nulls":5},{"$f":"RINKS!$N$4","v":"2016-06-26"}]
[]
[{"$f":"RINKS!$F$13","v":""},{"$nulls":10},"L",null,{"$f":"RINKS!$H$13","v":""}]
[]
[{"$f":"RINKS!$F$14","v":""},{"$nulls":10},"S",null,{"$f":"RINKS!$H$14","v":""}]
[]
[{"$f":"RINKS!$F$15","v":""},{"$nulls":10},"T",null,{"$f":"RINKS!$H$15","v":""}]
[]
[{"$f":"RINKS!$F$16","v":""},{"$nulls":10},"Sk",null,{"$f":"RINKS!$H$16","v":""}]
[]
[1,null,"TOTAL SCORE",{"$nulls":12},"TOTAL SCORE"]
[]
["Signature",{"$nulls":12},"Signature"]
[]
[{"$nulls":11},10]
[]
["Time Match Completed:-"]
[{"$f":"RINKS!$N$2","v":"Bateau Bay"}]
[]
[{"$f":"RINKS!$N$6","v":"Monday Mens Mufti."}]
[]
[null,null,"RINK",{"$nulls":5},"DATE"]
[]
[null,null,{"$f":"RINKS!$G$17","v":0},{"$nulls":5},{"$f":"RINKS!$N$4","v":"2016-06-26"}]
[]
[{"$f":"RINKS!$F$18","v":""},{"$nulls":10},"L",null,{"$f":"RINKS!$H$18","v":""}]
[]
[{"$f":"RINKS!$F$19","v":""},{"$nulls":10},"S",null,{"$f":"RINKS!$H$19","v":""}]
[]
[{"$f":"RINKS!$F$20","v":""},{"$nulls":10},"T",null,{"$f":"RINKS!$H$20","v":""}]
[]
[{"$f":"RINKS!$F$21","v":""},{"$nulls":10},"Sk",null,{"$f":"RINKS!$H$21","v":""}]
[]
[1,null,"TOTAL SCORE",{"$nulls":12},"TOTAL SCORE"]
[]
["Signature",{"$nulls":12},"Signature"]
[]
[{"$nulls":11},11]
[]
["Time Match Completed:-"]
[{"$f":"RINKS!$N$2","v":"Bateau Bay"}]
[]
[{"$f":"RINKS!$N$6","v":"Monday Mens Mufti."}]
[]
[null,null,"RINK",{"$nulls":5},"DATE"]
[]
[null,null,{"$f":"RINKS!$G$22","v":0},{"$nulls":5},{"$f":"RINKS!$N$4","v":"2016-06-26"}]
[]
[{"$f":"RINKS!$F$23","v":""},{"$nulls":10},"L",null,{"$f":"RINKS!$H$23","v":""}]
[]
[{"$f":"RINKS!$F$24","v":""},{"$nulls":10},"S",null,{"$f":"RINKS!$H$24","v":""}]
[]
[{"$f":"RINKS!$F$25","v":""},{"$nulls":10},"T",null,{"$f":"RINKS!$H$25","v":""}]
[]
[{"$f":"RINKS!$F$26","v":""},{"$nulls":10},"Sk",null,{"$f":"RINKS!$H$26","v":""}]
[]
[1,null,"TOTAL SCORE",{"$nulls":12},"TOTAL SCORE"]
[]
["Signature",{"$nulls":12},"Signature"]
[]
[{"$nulls":11},12]
[]
["Time Match Completed:-"]
[{"$f":"RINKS!$N$2","v":"Bateau Bay"}]
[]
[{"$f":"RINKS!$N$6","v":"Monday Mens Mufti."}]
[]
[null,null,"RINK",{"$nulls":5},"DATE"]
[]
[null,null,{"$f":"RINKS!$G$27","v":0},{"$nulls":5},{"$f":"RINKS!$N$4","v":"2016-06-26"}]
[]
[{"$f":"RINKS!$F$28","v":""},{"$nulls":10},"L",null,{"$f":"RINKS!$H$28","v":""}]
[]
[{"$f":"RINKS!$F$29","v":""},{"$nulls":10},"S",null,{"$f":"RINKS!$H$29","v":""}]
[]
[{"$f":"RINKS!$F$30","v":""},{"$nulls":10},"T",null,{"$f":"RINKS!$H$30","v":""}]
[]
[{"$f":"RINKS!$F$31","v":""},{"$nulls":10},"Sk",null,{"$f":"RINKS!$H$31","v":""}]
[]
[1,null,"TOTAL SCORE",{"$nulls":12},"TOTAL SCORE"]
[]
["Signature",{"$nulls":12},"Signature"]
[]
[{"$nulls":11},13]
[]
["Time Match Completed:-"]
[{"$f":"RINKS!$N$2","v":"Bateau Bay"}]
[]
[{"$f":"RINKS!$N$6","v":"Monday Mens Mufti."}]
[]
[null,null,"RINK",{"$nulls":5},"DATE"]
[]
[null,null,{"$f":"RINKS!$G$32","v":0},{"$nulls":5},{"$f":"RINKS!$N$4","v":"2016-06-26"}]
[]
[{"$f":"RINKS!$F$33","v":""},{"$nulls":10},"L",null,{"$f":"RINKS!$H$33","v":""}]
[]
[{"$f":"RINKS!$F$34","v":""},{"$nulls":10},"S",null,{"$f":"RINKS!$H$34","v":""}]
[]
[{"$f":"RINKS!$F$35","v":""},{"$nulls":10},"T",null,{"$f":"RINKS!$H$35","v":""}]
[]
[{"$f":"RINKS!$F$36","v":""},{"$nulls":10},"Sk",null,{"$f":"RINKS!$H$36","v":""}]
[]
[1,null,"TOTAL SCORE",{"$nulls":12},"TOTAL SCORE"]
[]
["Signature",{"$nulls":12},"Signature"]
[]
[{"$nulls":11},14]
[]
["Time Match Completed:-"]
[{"$f":"RINKS!$N$2","v":"Bateau Bay"}]
[]
[{"$f":"RINKS!$N$6","v":"Monday Mens Mufti."}]
[]
[null,null,"RINK",{"$nulls":5},"DATE"]
[]
[null,null,{"$f":"RINKS!$K$2","v":0},{"$nulls":5},{"$f":"RINKS!$N$4","v":"2016-06-26"}]
[]
[{"$f":"RINKS!$J$3","v":""},{"$nulls":10},"L",null,{"$f":"RINKS!$L$3","v":""}]
[]
[{"$f":"RINKS!$J$4","v":""},{"$nulls":10},"S",null,{"$f":"RINKS!$L$4","v":""}]
[]
[{"$f":"RINKS!$J$5","v":""},{"$nulls":10},"T",null,{"$f":"RINKS!$L$5","v":""}]
[]
[{"$f":"RINKS!$J$6","v":""},{"$nulls":10},"Sk",null,{"$f":"RINKS!$L$6","v":""}]
[]
[1,null,"TOTAL SCORE",{"$nulls":12},"TOTAL SCORE"]
[]
["Signature",{"$nulls":12},"Signature"]
[]
[{"$nulls":11},8]
[]
["Time Match Completed:-"]
[{"$f":"RINKS!$N$2","v":"Bateau Bay"}]
[]
[{"$f":"RINKS!$N$6","v":"Monday Mens Mufti."}]
[]
[null,null,"RINK",{"$nulls":5},"DATE"]
[]
[null,null,{"$f":"RINKS!$K$7","v":0},{"$nulls":5},{"$f":"RINKS!$N$4","v":"2016-06-26"}]
[]
[{"$f":"RINKS!$J$8","v":""},{"$nulls":10},"L",null,{"$f":"RINKS!$L$8","v":""}]
[]
[{"$f":"RINKS!$J$9","v":""},{"$nulls":10},"S",null,{"$f":"RINKS!$L$9","v":""}]
[]
[{"$f":"RINKS!$J$10","v":""},{"$nulls":10},"T",null,{"$f":"RINKS!$L$10","v":""}]
[]
[{"$f":"RINKS!$J$11","v":""},{"$nulls":10},"Sk",null,{"$f":"RINKS!$L$11","v":""}]
[]
[1,null,"TOTAL SCORE",{"$nulls":12},"TOTAL SCORE"]
[]
["Signature",{"$nulls":12},"Signature"]
[]
[{"$nulls":11},9]
[]
["Time Match Completed:-"]
[{"$f":"RINKS!$N$2","v":"Bateau Bay"}]
[]
[{"$f":"RINKS!$N$6","v":"Monday Mens Mufti."}]
[]
[null,null,"RINK",{"$nulls":5},"DATE"]
[]
[null,null,{"$f":"RINKS!$K$12","v":0},{"$nulls":5},{"$f":"RINKS!$N$4","v":"2016-06-26"}]
[]
[{"$f":"RINKS!$J$13","v":""},{"$nulls":10},"L",null,{"$f":"RINKS!$L$13","v":""}]
[]
[{"$f":"RINKS!$J$14","v":""},{"$nulls":10},"S",null,{"$f":"RINKS!$L$14","v":""}]
[]
[{"$f":"RINKS!$J$15","v":""},{"$nulls":10},"T",null,{"$f":"RINKS!$L$15","v":""}]
[]
[{"$f":"RINKS!$J$16","v":""},{"$nulls":10},"Sk",null,{"$f":"RINKS!$L$16","v":""}]
[]
[1,null,"TOTAL SCORE",{"$nulls":12},"TOTAL SCORE"]
[]
["Signature",{"$nulls":12},"Signature"]
[]
[{"$nulls":11},10]
[]
["Time Match Completed:-"]
[{"$f":"RINKS!$N$2","v":"Bateau Bay"}]
[]
[{"$f":"RINKS!$N$6","v":"Monday Mens Mufti."}]
[]
[null,null,"RINK",{"$nulls":5},"DATE"]
[]
[null,null,{"$f":"RINKS!$K$17","v":0},{"$nulls":5},{"$f":"RINKS!$N$4","v":"2016-06-26"}]
[]
[{"$f":"RINKS!$J$18","v":""},{"$nulls":10},"L",null,{"$f":"RINKS!$L$18","v":""}]
[]
[{"$f":"RINKS!$J$19","v":""},{"$nulls":10},"S",null,{"$f":"RINKS!$L$19","v":""}]
[]
[{"$f":"RINKS!$J$20","v":""},{"$nulls":10},"T",null,{"$f":"RINKS!$L$20","v":""}]
[]
[{"$f":"RINKS!$J$21","v":""},{"$nulls":10},"Sk",null,{"$f":"RINKS!$L$21","v":""}]
[]
[1,null,"TOTAL SCORE",{"$nulls":12},"TOTAL SCORE"]
[]
["Signature",{"$nulls":12},"Signature"]
[]
[{"$nulls":11},11]
[]
["Time Match Completed:-"]
[{"$f":"RINKS!$N$2","v":"Bateau Bay"}]
[]
[{"$f":"RINKS!$N$6","v":"Monday Mens Mufti."}]
[]
[null,null,"RINK",{"$nulls":5},"DATE"]
[]
[null,null,{"$f":"RINKS!$K$22","v":0},{"$nulls":5},{"$f":"RINKS!$N$4","v":"2016-06-26"}]
[]
[{"$f":"RINKS!$J$23","v":""},{"$nulls":10},"L",null,{"$f":"RINKS!$L$23","v":""}]
[]
[{"$f":"RINKS!$J$24","v":""},{"$nulls":10},"S",null,{"$f":"RINKS!$L$24","v":""}]
[]
[{"$f":"RINKS!$J$25","v":""},{"$nulls":10},"T",null,{"$f":"RINKS!$L$25","v":""}]
[]
[{"$f":"RINKS!$J$26","v":""},{"$nulls":10},"Sk",null,{"$f":"RINKS!$L$26","v":""}]
[]
[1,null,"TOTAL SCORE",{"$nulls":12},"TOTAL SCORE"]
[]
["Signature",{"$nulls":12},"Signature"]
[]
[{"$nulls":11},12]
[]
["Time Match Completed:-"]
[{"$f":"RINKS!$N$2","v":"Bateau Bay"}]
[]
[{"$f":"RINKS!$N$6","v":"Monday Mens Mufti."}]
[]
[null,null,"RINK",{"$nulls":5},"DATE"]
[]
[null,null,{"$f":"RINKS!$K$27","v":0},{"$nulls":5},{"$f":"RINKS!$N$4","v":"2016-06-26"}]
[]
[{"$f":"RINKS!$J$28","v":""},{"$nulls":10},"L",null,{"$f":"RINKS!$L$28","v":""}]
[]
[{"$f":"RINKS!$J$29","v":""},{"$nulls":10},"S",null,{"$f":"RINKS!$L$29","v":""}]
[]
[{"$f":"RINKS!$J$30","v":""},{"$nulls":10},"T",null,{"$f":"RINKS!$L$30","v":""}]
[]
[{"$f":"RINKS!$J$31","v":""},{"$nulls":10},"Sk",null,{"$f":"RINKS!$L$31","v":""}]
[]
[1,null,"TOTAL SCORE",{"$nulls":12},"TOTAL SCORE"]
[]
["Signature",{"$nulls":12},"Signature"]
[]
[{"$nulls":11},13]
[]
["Time Match Completed:-"]
[{"$f":"RINKS!$N$2","v":"Bateau Bay"}]
[]
[{"$f":"RINKS!$N$6","v":"Monday Mens Mufti."}]
[]
[null,null,"RINK",{"$nulls":5},"DATE"]
[]
[null,null,{"$f":"RINKS!$K$32","v":0},{"$nulls":5},{"$f":"RINKS!$N$4","v":"2016-06-26"}]
[]
[{"$f":"RINKS!$J$33","v":""},{"$nulls":10},"L",null,{"$f":"RINKS!$L$33","v":""}]
[]
[{"$f":"RINKS!$J$34","v":""},{"$nulls":10},"S",null,{"$f":"RINKS!$L$34","v":""}]
[]
[{"$f":"RINKS!$J$35","v":""},{"$nulls":10},"T",null,{"$f":"RINKS!$L$35","v":""}]
[]
[{"$f":"RINKS!$J$36","v":""},{"$nulls":10},"Sk",null,{"$f":"RINKS!$L$36","v":""}]
[]
[1,null,"TOTAL SCORE",{"$nulls":12},"TOTAL SCORE"]
[]
["Signature",{"$nulls":12},"Signature"]
[]
[{"$nulls":11},14]
[]
["Time Match Completed:-"]
[{"$f":"RINKS!$N$2","v":"Bateau Bay"}]
[]
[{"$f":"RINKS!$N$6","v":"Monday Mens Mufti."}]
[]
[null,null,"RINK",{"$nulls":5},"DATE"]
[]
[null,null,{"$f":"RINKS!#REF!","v":{"$error":"#REF!"}},{"$nulls":5},{"$f":"RINKS!$N$4","v":"2016-06-26"}]
[]
[{"$f":"RINKS!#REF!","v":{"$error":"#REF!"}},{"$nulls":10},"L",null,{"$f":"RINKS!#REF!","v":{"$error":"#REF!"}}]
[]
[{"$f":"RINKS!#REF!","v":{"$error":"#REF!"}},{"$nulls":10},"S",null,{"$f":"RINKS!#REF!","v":{"$error":"#REF!"}}]
[]
[{"$f":"RINKS!#REF!","v":{"$error":"#REF!"}},{"$nulls":10},"T",null,{"$f":"RINKS!#REF!","v":{"$error":"#REF!"}}]
[]
[{"$f":"RINKS!#REF!","v":{"$error":"#REF!"}},{"$nulls":10},"Sk",null,{"$f":"RINKS!#REF!","v":{"$error":"#REF!"}}]
[]
[1,null,"TOTAL SCORE",{"$nulls":12},"TOTAL SCORE"]
[]
["Signature",{"$nulls":12},"Signature"]
[]
[{"$nulls":11},22]
[]
["Time Match Completed:-"]
[{"$f":"RINKS!$N$2","v":"Bateau Bay"}]
[]
[{"$f":"RINKS!$N$6","v":"Monday Mens Mufti."}]
[]
[null,null,"RINK",{"$nulls":5},"DATE"]
[]
[null,null,{"$f":"RINKS!#REF!","v":{"$error":"#REF!"}},{"$nulls":5},{"$f":"RINKS!$N$4","v":"2016-06-26"}]
[]
[{"$f":"RINKS!#REF!","v":{"$error":"#REF!"}},{"$nulls":10},"L",null,{"$f":"RINKS!#REF!","v":{"$error":"#REF!"}}]
[]
[{"$f":"RINKS!#REF!","v":{"$error":"#REF!"}},{"$nulls":10},"S",null,{"$f":"RINKS!#REF!","v":{"$error":"#REF!"}}]
[]
[{"$f":"RINKS!#REF!","v":{"$error":"#REF!"}},{"$nulls":10},"T",null,{"$f":"RINKS!#REF!","v":{"$error":"#REF!"}}]
[]
[{"$f":"RINKS!#REF!","v":{"$error":"#REF!"}},{"$nulls":10},"Sk",null,{"$f":"RINKS!#REF!","v":{"$error":"#REF!"}}]
[]
[1,null,"TOTAL SCORE",{"$nulls":12},"TOTAL SCORE"]
[]
["Signature",{"$nulls":12},"Signature"]
[]
[{"$nulls":11},23]
[]
["Time Match Completed:-"]
[{"$f":"RINKS!$N$2","v":"Bateau Bay"}]
[]
[{"$f":"RINKS!$N$6","v":"Monday Mens Mufti."}]
[]
[null,null,"RINK",{"$nulls":5},"DATE"]
[]
[null,null,{"$f":"RINKS!#REF!","v":{"$error":"#REF!"}},{"$nulls":5},{"$f":"RINKS!$N$4","v":"2016-06-26"}]
[]
[{"$f":"RINKS!#REF!","v":{"$error":"#REF!"}},{"$nulls":10},"L",null,{"$f":"RINKS!#REF!","v":{"$error":"#REF!"}}]
[]
[{"$f":"RINKS!#REF!","v":{"$error":"#REF!"}},{"$nulls":10},"S",null,{"$f":"RINKS!#REF!","v":{"$error":"#REF!"}}]
[]
[{"$f":"RINKS!#REF!","v":{"$error":"#REF!"}},{"$nulls":10},"T",null,{"$f":"RINKS!#REF!","v":{"$error":"#REF!"}}]
[]
[{"$f":"RINKS!#REF!","v":{"$error":"#REF!"}},{"$nulls":10},"Sk",null,{"$f":"RINKS!#REF!","v":{"$error":"#REF!"}}]
[]
[1,null,"TOTAL SCORE",{"$nulls":12},"TOTAL SCORE"]
[]
["Signature",{"$nulls":12},"Signature"]
[]
[{"$nulls":11},24]
[]
["Time Match Completed:-"]
[{"$f":"RINKS!$N$2","v":"Bateau Bay"}]
[]
[{"$f":"RINKS!$N$6","v":"Monday Mens Mufti."}]
[]
[null,null,"RINK",{"$nulls":5},"DATE"]
[]
[null,null,{"$f":"RINKS!#REF!","v":{"$error":"#REF!"}},{"$nulls":5},{"$f":"RINKS!$N$4","v":"2016-06-26"}]
[]
[{"$f":"RINKS!#REF!","v":{"$error":"#REF!"}},{"$nulls":10},"L",null,{"$f":"RINKS!#REF!","v":{"$error":"#REF!"}}]
[]
[{"$f":"RINKS!#REF!","v":{"$error":"#REF!"}},{"$nulls":10},"S",null,{"$f":"RINKS!#REF!","v":{"$error":"#REF!"}}]
[]
[{"$f":"RINKS!#REF!","v":{"$error":"#REF!"}},{"$nulls":10},"T",null,{"$f":"RINKS!#REF!","v":{"$error":"#REF!"}}]
[]
[{"$f":"RINKS!#REF!","v":{"$error":"#REF!"}},{"$nulls":10},"Sk",null,{"$f":"RINKS!#REF!","v":{"$error":"#REF!"}}]
[]
[1,null,"TOTAL SCORE",{"$nulls":12},"TOTAL SCORE"]
[]
["Signature",{"$nulls":12},"Signature"]
[]
[{"$nulls":11},25]
[]
["Time Match Completed:-"]
[{"$f":"RINKS!$N$2","v":"Bateau Bay"}]
[]
[{"$f":"RINKS!$N$6","v":"Monday Mens Mufti."}]
[]
[null,null,"RINK",{"$nulls":5},"DATE"]
[]
[null,null,{"$f":"RINKS!#REF!","v":{"$error":"#REF!"}},{"$nulls":5},{"$f":"RINKS!$N$4","v":"2016-06-26"}]
[]
[{"$f":"RINKS!#REF!","v":{"$error":"#REF!"}},{"$nulls":10},"L",null,{"$f":"RINKS!#REF!","v":{"$error":"#REF!"}}]
[]
[{"$f":"RINKS!#REF!","v":{"$error":"#REF!"}},{"$nulls":10},"S",null,{"$f":"RINKS!#REF!","v":{"$error":"#REF!"}}]
[]
[{"$f":"RINKS!#REF!","v":{"$error":"#REF!"}},{"$nulls":10},"T",null,{"$f":"RINKS!#REF!","v":{"$error":"#REF!"}}]
[]
[{"$f":"RINKS!#REF!","v":{"$error":"#REF!"}},{"$nulls":10},"Sk",null,{"$f":"RINKS!#REF!","v":{"$error":"#REF!"}}]
[]
[1,null,"TOTAL SCORE",{"$nulls":12},"TOTAL SCORE"]
[]
["Signature",{"$nulls":12},"Signature"]
[]
[{"$nulls":11},26]
[]
["Time Match Completed:-"]
[{"$f":"RINKS!$N$2","v":"Bateau Bay"}]
[]
[{"$f":"RINKS!$N$6","v":"Monday Mens Mufti."}]
[]
[null,null,"RINK",{"$nulls":5},"DATE"]
[]
[null,null,{"$f":"RINKS!#REF!","v":{"$error":"#REF!"}},{"$nulls":5},{"$f":"RINKS!$N$4","v":"2016-06-26"}]
[]
[{"$f":"RINKS!#REF!","v":{"$error":"#REF!"}},{"$nulls":10},"L",null,{"$f":"RINKS!#REF!","v":{"$error":"#REF!"}}]
[]
[{"$f":"RINKS!#REF!","v":{"$error":"#REF!"}},{"$nulls":10},"S",null,{"$f":"RINKS!#REF!","v":{"$error":"#REF!"}}]
[]
[{"$f":"RINKS!#REF!","v":{"$error":"#REF!"}},{"$nulls":10},"T",null,{"$f":"RINKS!#REF!","v":{"$error":"#REF!"}}]
[]
[{"$f":"RINKS!#REF!","v":{"$error":"#REF!"}},{"$nulls":10},"Sk",null,{"$f":"RINKS!#REF!","v":{"$error":"#REF!"}}]
[]
[1,null,"TOTAL SCORE",{"$nulls":12},"TOTAL SCORE"]
[]
["Signature",{"$nulls":12},"Signature"]
[]
[{"$nulls":11},27]
[]
["Time Match Completed:-"]
[{"$f":"RINKS!$N$2","v":"Bateau Bay"}]
[]
[{"$f":"RINKS!$N$6","v":"Monday Mens Mufti."}]
[]
[null,null,"RINK",{"$nulls":5},"DATE"]
[]
[null,null,{"$f":"RINKS!#REF!","v":{"$error":"#REF!"}},{"$nulls":5},{"$f":"RINKS!$N$4","v":"2016-06-26"}]
[]
[{"$f":"RINKS!#REF!","v":{"$error":"#REF!"}},{"$nulls":10},"L",null,{"$f":"RINKS!#REF!","v":{"$error":"#REF!"}}]
[]
[{"$f":"RINKS!#REF!","v":{"$error":"#REF!"}},{"$nulls":10},"S",null,{"$f":"RINKS!#REF!","v":{"$error":"#REF!"}}]
[]
[{"$f":"RINKS!#REF!","v":{"$error":"#REF!"}},{"$nulls":10},"T",null,{"$f":"RINKS!#REF!","v":{"$error":"#REF!"}}]
[]
[{"$f":"RINKS!#REF!","v":{"$error":"#REF!"}},{"$nulls":10},"Sk",null,{"$f":"RINKS!#REF!","v":{"$error":"#REF!"}}]
[]
[1,null,"TOTAL SCORE",{"$nulls":12},"TOTAL SCORE"]
[]
["Signature",{"$nulls":12},"Signature"]
[]
[{"$nulls":11},28]
[]
["Time Match Completed:-"]
[{"$f":"RINKS!$N$2","v":"Bateau Bay"}]
[]
[" "]
[]
[null,null,"RINK",{"$nulls":5},"DATE"]
[]
[null,null," ",{"$nulls":5}," "]
[]
[" ",{"$nulls":10},"L",null," "]
[]
[" ",{"$nulls":10},"S",null," "]
[]
[" ",{"$nulls":10},"T",null," "]
[]
[" ",{"$nulls":10},"Sk",null,{"$f":"RINKS!#REF!","v":{"$error":"#REF!"}}]
[]
[1,null,"TOTAL SCORE",{"$nulls":12},"TOTAL SCORE"]
[]
["Signature",{"$nulls":12},"Signature"]
[]
[{"$nulls":11},29]
[]
["Time Match Completed:-"]

{"sheet":"CARDS REAR","index":5,"n_rows":493,"n_cols":10,"rows_kept":493,"merged":[[0,0,0,1],[0,5,0,9],[2,1,2,2],[2,3,2,4],[2,6,2,7],[2,8,2,9],[17,0,17,1],[17,5,17,9],[19,1,19,2],[19,3,19,4],[19,6,19,7],[19,8,19,9],[34,0,34,1],[34,5,34,9],[36,1,36,2],[36,3,36,4],[36,6,36,7],[36,8,36,9],[51,0,51,1],[51,5,51,9],[53,1,53,2],[53,3,53,4],[53,6,53,7],[53,8,53,9],[68,0,68,1],[68,5,68,9],[70,1,70,2],[70,3,70,4],[70,6,70,7],[70,8,70,9],[85,0,85,1],[85,5,85,9],[87,1,87,2],[87,3,87,4],[87,6,87,7],[87,8,87,9],[102,0,102,1],[102,5,102,9],[104,1,104,2],[104,3,104,4],[104,6,104,7],[104,8,104,9],[119,0,119,1],[119,5,119,9],[121,1,121,2],[121,3,121,4],[121,6,121,7],[121,8,121,9],[136,0,136,1],[136,5,136,9],[138,1,138,2],[138,3,138,4],[138,6,138,7],[138,8,138,9],[153,0,153,1],[153,5,153,9],[155,1,155,2],[155,3,155,4],[155,6,155,7],[155,8,155,9],[170,0,170,1],[170,5,170,9],[172,1,172,2],[172,3,172,4],[172,6,172,7],[172,8,172,9],[187,0,187,1],[187,5,187,9],[189,1,189,2],[189,3,189,4],[189,6,189,7],[189,8,189,9],[204,0,204,1],[204,5,204,9],[206,1,206,2],[206,3,206,4],[206,6,206,7],[206,8,206,9],[221,0,221,1],[221,5,221,9],[223,1,223,2],[223,3,223,4],[223,6,223,7],[223,8,223,9],[238,0,238,1],[238,5,238,9],[240,1,240,2],[240,3,240,4],[240,6,240,7],[240,8,240,9],[255,0,255,1],[255,5,255,9],[257,1,257,2],[257,3,257,4],[257,6,257,7],[257,8,257,9],[272,0,272,1],[272,5,272,9],[274,1,274,2],[274,3,274,4],[274,6,274,7],[274,8,274,9],[289,0,289,1],[289,5,289,9],[291,1,291,2],[291,3,291,4],[291,6,291,7],[291,8,291,9],[306,0,306,1],[306,5,306,9],[308,1,308,2],[308,3,308,4],[308,6,308,7],[308,8,308,9],[323,0,323,1],[323,5,323,9],[325,1,325,2],[325,3,325,4],[325,6,325,7],[325,8,325,9],[340,0,340,1],[340,5,340,9],[342,1,342,2],[342,3,342,4],[342,6,342,7],[342,8,342,9],[357,0,357,1],[357,5,357,9],[359,1,359,2],[359,3,359,4],[359,6,359,7],[359,8,359,9],[374,0,374,1],[374,5,374,9],[376,1,376,2],[376,3,376,4],[376,6,376,7],[376,8,376,9],[391,0,391,1],[391,5,391,9],[393,1,393,2],[393,3,393,4],[393,6,393,7],[393,8,393,9],[408,0,408,1],[408,5,408,9],[410,1,410,2],[410,3,410,4],[410,6,410,7],[410,8,410,9],[425,0,425,1],[425,5,425,9],[427,1,427,2],[427,3,427,4],[427,6,427,7],[427,8,427,9],[442,0,442,1],[442,5,442,9],[444,1,444,2],[444,3,444,4],[444,6,444,7],[444,8,444,9],[459,0,459,1],[459,5,459,9],[461,1,461,2],[461,3,461,4],[461,6,461,7],[461,8,461,9],[476,0,476,1],[476,5,476,9],[478,1,478,2],[478,3,478,4],[478,6,478,7],[478,8,478,9]]}
["RINK",null,{"$f":"CARDS!$C$7","v":0},null,"SKIP",{"$f":"CARDS!$A$15","v":""}]
[1]
[null,{"$f":"CARDS!$A$15","v":""},null,{"$f":"CARDS!$N$15","v":""},null,null,{"$f":"CARDS!$A$15","v":""},null,{"$f":"CARDS!$N$15","v":""}]
["End","Shots","Total","Shots","Total","End","Shots","Total","Shots","Total"]
[1,{"$nulls":4},14]
[2,{"$nulls":4},15]
[3,{"$nulls":4},16]
[4,{"$nulls":4},17]
[5,{"$nulls":4},18]
[6,{"$nulls":4},19]
[7,{"$nulls":4},20]
[8,{"$nulls":4},21]
[9,{"$nulls":4},22]
[10,{"$nulls":4},23]
[11,{"$nulls":4},24]
[12,{"$nulls":4},25]
[13,{"$nulls":4},"T"]
["RINK",null,{"$f":"CARDS!$C$30","v":0},null,"SKIP",{"$f":"CARDS!$A$38","v":""}]
[1]
[null,{"$f":"CARDS!$A$38","v":""},null,{"$f":"CARDS!$N$38","v":""},null,null,{"$f":"CARDS!$A$38","v":""},null,{"$f":"CARDS!$N$38","v":""}]
["End","Shots","Total","Shots","Total","End","Shots","Total","Shots","Total"]
[1,{"$nulls":4},14]
[2,{"$nulls":4},15]
[3,{"$nulls":4},16]
[4,{"$nulls":4},17]
[5,{"$nulls":4},18]
[6,{"$nulls":4},19]
[7,{"$nulls":4},20]
[8,{"$nulls":4},21]
[9,{"$nulls":4},22]
[10,{"$nulls":4},23]
[11,{"$nulls":4},24]
[12,{"$nulls":4},25]
[13,{"$nulls":4},"T"]
["RINK",null,{"$f":"CARDS!$C$53","v":0},null,"SKIP",{"$f":"CARDS!$A$61","v":""}]
[1]
[null,{"$f":"CARDS!$A$61","v":""},null,{"$f":"CARDS!$N$61","v":""},null,null,{"$f":"CARDS!$A$61","v":""},null,{"$f":"CARDS!$N$61","v":""}]
["End","Shots","Total","Shots","Total","End","Shots","Total","Shots","Total"]
[1,{"$nulls":4},14]
[2,{"$nulls":4},15]
[3,{"$nulls":4},16]
[4,{"$nulls":4},17]
[5,{"$nulls":4},18]
[6,{"$nulls":4},19]
[7,{"$nulls":4},20]
[8,{"$nulls":4},21]
[9,{"$nulls":4},22]
[10,{"$nulls":4},23]
[11,{"$nulls":4},24]
[12,{"$nulls":4},25]
[13,{"$nulls":4},"T"]
["RINK",null,{"$f":"CARDS!$C$76","v":0},null,"SKIP",{"$f":"CARDS!$A$84","v":""}]
[1]
[null,{"$f":"CARDS!$A$84","v":""},null,{"$f":"CARDS!$N$84","v":""},null,null,{"$f":"CARDS!$A$84","v":""},null,{"$f":"CARDS!$N$84","v":""}]
["End","Shots","Total","Shots","Total","End","Shots","Total","Shots","Total"]
[1,{"$nulls":4},14]
[2,{"$nulls":4},15]
[3,{"$nulls":4},16]
[4,{"$nulls":4},17]
[5,{"$nulls":4},18]
[6,{"$nulls":4},19]
[7,{"$nulls":4},20]
[8,{"$nulls":4},21]
[9,{"$nulls":4},22]
[10,{"$nulls":4},23]
[11,{"$nulls":4},24]
[12,{"$nulls":4},25]
[13,{"$nulls":4},"T"]
["RINK",null,{"$f":"CARDS!$C$99","v":0},null,"SKIP",{"$f":"CARDS!$A$107","v":""}]
[1]
[null,{"$f":"CARDS!$A$107","v":""},null,{"$f":"CARDS!$N$107","v":""},null,null,{"$f":"CARDS!$A$107","v":""},null,{"$f":"CARDS!$N$107","v":""}]
["End","Shots","Total","Shots","Total","End","Shots","Total","Shots","Total"]
[1,{"$nulls":4},14]
[2,{"$nulls":4},15]
[3,{"$nulls":4},16]
[4,{"$nulls":4},17]
[5,{"$nulls":4},18]
[6,{"$nulls":4},19]
[7,{"$nulls":4},20]
[8,{"$nulls":4},21]
[9,{"$nulls":4},22]
[10,{"$nulls":4},23]
[11,{"$nulls":4},24]
[12,{"$nulls":4},25]
[13,{"$nulls":4},"T"]
["RINK",null,{"$f":"CARDS!$C$122","v":0},null,"SKIP",{"$f":"CARDS!$A$130","v":""}]
[1]
[null,{"$f":"CARDS!$A$130","v":""},null,{"$f":"CARDS!$N$130","v":""},null,null,{"$f":"CARDS!$A$130","v":""},null,{"$f":"CARDS!$N$130","v":""}]
["End","Shots","Total","Shots","Total","End","Shots","Total","Shots","Total"]
[1,{"$nulls":4},14]
[2,{"$nulls":4},15]
[3,{"$nulls":4},16]
[4,{"$nulls":4},17]
[5,{"$nulls":4},18]
[6,{"$nulls":4},19]
[7,{"$nulls":4},20]
[8,{"$nulls":4},21]
[9,{"$nulls":4},22]
[10,{"$nulls":4},23]
[11,{"$nulls":4},24]
[12,{"$nulls":4},25]
[13,{"$nulls":4},"T"]
["RINK",null,{"$f":"CARDS!$C$145","v":0},null,"SKIP",{"$f":"CARDS!$A$153","v":""}]
[1]
[null,{"$f":"CARDS!$A$153","v":""},null,{"$f":"CARDS!$N$153","v":""},null,null,{"$f":"CARDS!$A$153","v":""},null,{"$f":"CARDS!$N$153","v":""}]
["End","Shots","Total","Shots","Total","End","Shots","Total","Shots","Total"]
[1,{"$nulls":4},14]
[2,{"$nulls":4},15]
[3,{"$nulls":4},16]
[4,{"$nulls":4},17]
[5,{"$nulls":4},18]
[6,{"$nulls":4},19]
[7,{"$nulls":4},20]
[8,{"$nulls":4},21]
[9,{"$nulls":4},22]
[10,{"$nulls":4},23]
[11,{"$nulls":4},24]
[12,{"$nulls":4},25]
[13,{"$nulls":4},"T"]
["RINK",null,{"$f":"CARDS!$C$168","v":0},null,"SKIP",{"$f":"CARDS!$A$176","v":""}]
[1]
[null,{"$f":"CARDS!$A$176","v":""},null,{"$f":"CARDS!$N$176","v":""},null,null,{"$f":"CARDS!$A$176","v":""},null,{"$f":"CARDS!$N$176","v":""}]
["End","Shots","Total","Shots","Total","End","Shots","Total","Shots","Total"]
[1,{"$nulls":4},14]
[2,{"$nulls":4},15]
[3,{"$nulls":4},16]
[4,{"$nulls":4},17]
[5,{"$nulls":4},18]
[6,{"$nulls":4},19]
[7,{"$nulls":4},20]
[8,{"$nulls":4},21]
[9,{"$nulls":4},22]
[10,{"$nulls":4},23]
[11,{"$nulls":4},24]
[12,{"$nulls":4},25]
[13,{"$nulls":4},"T"]
["RINK",null,{"$f":"CARDS!$C$191","v":0},null,"SKIP",{"$f":"CARDS!$A$199","v":""}]
[1]
[null,{"$f":"CARDS!$A$199","v":""},null,{"$f":"CARDS!$N$199","v":""},null,null,{"$f":"CARDS!$A$199","v":""},null,{"$f":"CARDS!$N$199","v":""}]
["End","Shots","Total","Shots","Total","End","Shots","Total","Shots","Total"]
[1,{"$nulls":4},14]
[2,{"$nulls":4},15]
[3,{"$nulls":4},16]
[4,{"$nulls":4},17]
[5,{"$nulls":4},18]
[6,{"$nulls":4},19]
[7,{"$nulls":4},20]
[8,{"$nulls":4},21]
[9,{"$nulls":4},22]
[10,{"$nulls":4},23]
[11,{"$nulls":4},24]
[12,{"$nulls":4},25]
[13,{"$nulls":4},"T"]
["RINK",null,{"$f":"CARDS!$C$214","v":0},null,"SKIP",{"$f":"CARDS!$A$222","v":""}]
[1]
[null,{"$f":"CARDS!$A$222","v":""},null,{"$f":"CARDS!$N$222","v":""},null,null,{"$f":"CARDS!$A$222","v":""},null,{"$f":"CARDS!$N$222","v":""}]
["End","Shots","Total","Shots","Total","End","Shots","Total","Shots","Total"]
[1,{"$nulls":4},14]
[2,{"$nulls":4},15]
[3,{"$nulls":4},16]
[4,{"$nulls":4},17]
[5,{"$nulls":4},18]
[6,{"$nulls":4},19]
[7,{"$nulls":4},20]
[8,{"$nulls":4},21]
[9,{"$nulls":4},22]
[10,{"$nulls":4},23]
[11,{"$nulls":4},24]
[12,{"$nulls":4},25]
[13,{"$nulls":4},"T"]
["RINK",null,{"$f":"CARDS!$C$237","v":0},null,"SKIP",{"$f":"CARDS!$A$245","v":""}]
[1]
[null,{"$f":"CARDS!$A$245","v":""},null,{"$f":"CARDS!$N$245","v":""},null,null,{"$f":"CARDS!$A$245","v":""},null,{"$f":"CARDS!$N$245","v":""}]
["End","Shots","Total","Shots","Total","End","Shots","Total","Shots","Total"]
[1,{"$nulls":4},14]
[2,{"$nulls":4},15]
[3,{"$nulls":4},16]
[4,{"$nulls":4},17]
[5,{"$nulls":4},18]
[6,{"$nulls":4},19]
[7,{"$nulls":4},20]
[8,{"$nulls":4},21]
[9,{"$nulls":4},22]
[10,{"$nulls":4},23]
[11,{"$nulls":4},24]
[12,{"$nulls":4},25]
[13,{"$nulls":4},"T"]
["RINK",null,{"$f":"CARDS!$C$260","v":0},null,"SKIP",{"$f":"CARDS!$A$268","v":""}]
[1]
[null,{"$f":"CARDS!$A$268","v":""},null,{"$f":"CARDS!$N$268","v":""},null,null,{"$f":"CARDS!$A$268","v":""},null,{"$f":"CARDS!$N$268","v":""}]
["End","Shots","Total","Shots","Total","End","Shots","Total","Shots","Total"]
[1,{"$nulls":4},14]
[2,{"$nulls":4},15]
[3,{"$nulls":4},16]
[4,{"$nulls":4},17]
[5,{"$nulls":4},18]
[6,{"$nulls":4},19]
[7,{"$nulls":4},20]
[8,{"$nulls":4},21]
[9,{"$nulls":4},22]
[10,{"$nulls":4},23]
[11,{"$nulls":4},24]
[12,{"$nulls":4},25]
[13,{"$nulls":4},"T"]
["RINK",null,{"$f":"CARDS!$C$283","v":0},null,"SKIP",{"$f":"CARDS!$A$291","v":""}]
[1]
[null,{"$f":"CARDS!$A$291","v":""},null,{"$f":"CARDS!$N$291","v":""},null,null,{"$f":"CARDS!$A$291","v":""},null,{"$f":"CARDS!$N$291","v":""}]
["End","Shots","Total","Shots","Total","End","Shots","Total","Shots","Total"]
[1,{"$nulls":4},14]
[2,{"$nulls":4},15]
[3,{"$nulls":4},16]
[4,{"$nulls":4},17]
[5,{"$nulls":4},18]
[6,{"$nulls":4},19]
[7,{"$nulls":4},20]
[8,{"$nulls":4},21]
[9,{"$nulls":4},22]
[10,{"$nulls":4},23]
[11,{"$nulls":4},24]
[12,{"$nulls":4},25]
[13,{"$nulls":4},"T"]
["RINK",null,{"$f":"CARDS!$C$306","v":0},null,"SKIP",{"$f":"CARDS!$A$314","v":""}]
[1]
[null,{"$f":"CARDS!$A$314","v":""},null,{"$f":"CARDS!$N$314","v":""},null,null,{"$f":"CARDS!$A$314","v":""},null,{"$f":"CARDS!$N$314","v":""}]
["End","Shots","Total","Shots","Total","End","Shots","Total","Shots","Total"]
[1,{"$nulls":4},14]
[2,{"$nulls":4},15]
[3,{"$nulls":4},16]
[4,{"$nulls":4},17]
[5,{"$nulls":4},18]
[6,{"$nulls":4},19]
[7,{"$nulls":4},20]
[8,{"$nulls":4},21]
[9,{"$nulls":4},22]
[10,{"$nulls":4},23]
[11,{"$nulls":4},24]
[12,{"$nulls":4},25]
[13,{"$nulls":4},"T"]
["RINK",null,{"$f":"CARDS!$C$329","v":0},null,"SKIP",{"$f":"CARDS!$A$337","v":""}]
[1]
[null,{"$f":"CARDS!$A$337","v":""},null,{"$f":"CARDS!$N$337","v":""},null,null,{"$f":"CARDS!$A$337","v":""},null,{"$f":"CARDS!$N$337","v":""}]
["End","Shots","Total","Shots","Total","End","Shots","Total","Shots","Total"]
[1,{"$nulls":4},14]
[2,{"$nulls":4},15]
[3,{"$nulls":4},16]
[4,{"$nulls":4},17]
[5,{"$nulls":4},18]
[6,{"$nulls":4},19]
[7,{"$nulls":4},20]
[8,{"$nulls":4},21]
[9,{"$nulls":4},22]
[10,{"$nulls":4},23]
[11,{"$nulls":4},24]
[12,{"$nulls":4},25]
[13,{"$nulls":4},"T"]
["RINK",null,{"$f":"CARDS!$C$352","v":0},null,"SKIP",{"$f":"CARDS!$A$360","v":""}]
[1]
[null,{"$f":"CARDS!$A$360","v":""},null,{"$f":"CARDS!$N$360","v":""},null,null,{"$f":"CARDS!$A$360","v":""},null,{"$f":"CARDS!$N$360","v":""}]
["End","Shots","Total","Shots","Total","End","Shots","Total","Shots","Total"]
[1,{"$nulls":4},14]
[2,{"$nulls":4},15]
[3,{"$nulls":4},16]
[4,{"$nulls":4},17]
[5,{"$nulls":4},18]
[6,{"$nulls":4},19]
[7,{"$nulls":4},20]
[8,{"$nulls":4},21]
[9,{"$nulls":4},22]
[10,{"$nulls":4},23]
[11,{"$nulls":4},24]
[12,{"$nulls":4},25]
[13,{"$nulls":4},"T"]
["RINK",null,{"$f":"CARDS!$C$375","v":0},null,"SKIP",{"$f":"CARDS!$A$383","v":""}]
[1]
[null,{"$f":"CARDS!$A$383","v":""},null,{"$f":"CARDS!$N$383","v":""},null,null,{"$f":"CARDS!$A$383","v":""},null,{"$f":"CARDS!$N$383","v":""}]
["End","Shots","Total","Shots","Total","End","Shots","Total","Shots","Total"]
[1,{"$nulls":4},14]
[2,{"$nulls":4},15]
[3,{"$nulls":4},16]
[4,{"$nulls":4},17]
[5,{"$nulls":4},18]
[6,{"$nulls":4},19]
[7,{"$nulls":4},20]
[8,{"$nulls":4},21]
[9,{"$nulls":4},22]
[10,{"$nulls":4},23]
[11,{"$nulls":4},24]
[12,{"$nulls":4},25]
[13,{"$nulls":4},"T"]
["RINK",null,{"$f":"CARDS!$C$398","v":0},null,"SKIP",{"$f":"CARDS!$A$406","v":""}]
[1]
[null,{"$f":"CARDS!$A$406","v":""},null,{"$f":"CARDS!$N$406","v":""},null,null,{"$f":"CARDS!$A$406","v":""},null,{"$f":"CARDS!$N$406","v":""}]
["End","Shots","Total","Shots","Total","End","Shots","Total","Shots","Total"]
[1,{"$nulls":4},14]
[2,{"$nulls":4},15]
[3,{"$nulls":4},16]
[4,{"$nulls":4},17]
[5,{"$nulls":4},18]
[6,{"$nulls":4},19]
[7,{"$nulls":4},20]
[8,{"$nulls":4},21]
[9,{"$nulls":4},22]
[10,{"$nulls":4},23]
[11,{"$nulls":4},24]
[12,{"$nulls":4},25]
[13,{"$nulls":4},"T"]
["RINK",null,{"$f":"CARDS!$C$421","v":0},null,"SKIP",{"$f":"CARDS!$A$429","v":""}]
[1]
[null,{"$f":"CARDS!$A$429","v":""},null,{"$f":"CARDS!$N$429","v":""},null,null,{"$f":"CARDS!$A$429","v":""},null,{"$f":"CARDS!$N$429","v":""}]
["End","Shots","Total","Shots","Total","End","Shots","Total","Shots","Total"]
[1,{"$nulls":4},14]
[2,{"$nulls":4},15]
[3,{"$nulls":4},16]
[4,{"$nulls":4},17]
[5,{"$nulls":4},18]
[6,{"$nulls":4},19]
[7,{"$nulls":4},20]
[8,{"$nulls":4},21]
[9,{"$nulls":4},22]
[10,{"$nulls":4},23]
[11,{"$nulls":4},24]
[12,{"$nulls":4},25]
[13,{"$nulls":4},"T"]
["RINK",null,{"$f":"CARDS!$C$444","v":0},null,"SKIP",{"$f":"CARDS!$A$452","v":""}]
[1]
[null,{"$f":"CARDS!$A$452","v":""},null,{"$f":"CARDS!$N$452","v":""},null,null,{"$f":"CARDS!$A$452","v":""},null,{"$f":"CARDS!$N$452","v":""}]
["End","Shots","Total","Shots","Total","End","Shots","Total","Shots","Total"]
[1,{"$nulls":4},14]
[2,{"$nulls":4},15]
[3,{"$nulls":4},16]
[4,{"$nulls":4},17]
[5,{"$nulls":4},18]
[6,{"$nulls":4},19]
[7,{"$nulls":4},20]
[8,{"$nulls":4},21]
[9,{"$nulls":4},22]
[10,{"$nulls":4},23]
[11,{"$nulls":4},24]
[12,{"$nulls":4},25]
[13,{"$nulls":4},"T"]
["RINK",null,{"$f":"CARDS!$C$467","v":0},null,"SKIP",{"$f":"CARDS!$A$475","v":""}]
[1]
[null,{"$f":"CARDS!$A$475","v":""},null,{"$f":"CARDS!$N$475","v":""},null,null,{"$f":"CARDS!$A$475","v":""},null,{"$f":"CARDS!$N$475","v":""}]
["End","Shots","Total","Shots","Total","End","Shots","Total","Shots","Total"]
[1,{"$nulls":4},14]
[2,{"$nulls":4},15]
[3,{"$nulls":4},16]
[4,{"$nulls":4},17]
[5,{"$nulls":4},18]
[6,{"$nulls":4},19]
[7,{"$nulls":4},20]
[8,{"$nulls":4},21]
[9,{"$nulls":4},22]
[10,{"$nulls":4},23]
[11,{"$nulls":4},24]
[12,{"$nulls":4},25]
[13,{"$nulls":4},"T"]
["RINK",null,{"$f":"CARDS!$C$490","v":{"$error":"#REF!"}},null,"SKIP",{"$f":"CARDS!$A$498","v":{"$error":"#REF!"}}]
[1]
[null,{"$f":"CARDS!$A$498","v":{"$error":"#REF!"}},null,{"$f":"CARDS!$N$498","v":{"$error":"#REF!"}},null,null,{"$f":"CARDS!$A$498","v":{"$error":"#REF!"}},null,{"$f":"CARDS!$N$498","v":{"$error":"#REF!"}}]
["End","Shots","Total","Shots","Total","End","Shots","Total","Shots","Total"]
[1,{"$nulls":4},14]
[2,{"$nulls":4},15]
[3,{"$nulls":4},16]
[4,{"$nulls":4},17]
[5,{"$nulls":4},18]
[6,{"$nulls":4},19]
[7,{"$nulls":4},20]
[8,{"$nulls":4},21]
[9,{"$nulls":4},22]
[10,{"$nulls":4},23]
[11,{"$nulls":4},24]
[12,{"$nulls":4},25]
[13,{"$nulls":4},"T"]
["RINK",null,{"$f":"CARDS!$C$513","v":{"$error":"#REF!"}},null,"SKIP",{"$f":"CARDS!$A$521","v":{"$error":"#REF!"}}]
[1]
[null,{"$f":"CARDS!$A$521","v":{"$error":"#REF!"}},null,{"$f":"CARDS!$N$521","v":{"$error":"#REF!"}},null,null,{"$f":"CARDS!$A$521","v":{"$error":"#REF!"}},null,{"$f":"CARDS!$N$521","v":{"$error":"#REF!"}}]
["End","Shots","Total","Shots","Total","End","Shots","Total","Shots","Total"]
[1,{"$nulls":4},14]
[2,{"$nulls":4},15]
[3,{"$nulls":4},16]
[4,{"$nulls":4},17]
[5,{"$nulls":4},18]
[6,{"$nulls":4},19]
[7,{"$nulls":4},20]
[8,{"$nulls":4},21]
[9,{"$nulls":4},22]
[10,{"$nulls":4},23]
[11,{"$nulls":4},24]
[12,{"$nulls":4},25]
[13,{"$nulls":4},"T"]
["RINK",null,{"$f":"CARDS!$C$536","v":{"$error":"#REF!"}},null,"SKIP",{"$f":"CARDS!$A$544","v":{"$error":"#REF!"}}]
[1]
[null,{"$f":"CARDS!$A$544","v":{"$error":"#REF!"}},null,{"$f":"CARDS!$N$544","v":{"$error":"#REF!"}},null,null,{"$f":"CARDS!$A$544","v":{"$error":"#REF!"}},null,{"$f":"CARDS!$N$544","v":{"$error":"#REF!"}}]
["End","Shots","Total","Shots","Total","End","Shots","Total","Shots","Total"]
[1,{"$nulls":4},14]
[2,{"$nulls":4},15]
[3,{"$nulls":4},16]
[4,{"$nulls":4},17]
[5,{"$nulls":4},18]
[6,{"$nulls":4},19]
[7,{"$nulls":4},20]
[8,{"$nulls":4},21]
[9,{"$nulls":4},22]
[10,{"$nulls":4},23]
[11,{"$nulls":4},24]
[12,{"$nulls":4},25]
[13,{"$nulls":4},"T"]
["RINK",null,{"$f":"CARDS!$C$559","v":{"$error":"#REF!"}},null,"SKIP",{"$f":"CARDS!$A$567","v":{"$error":"#REF!"}}]
[1]
[null,{"$f":"CARDS!$A$567","v":{"$error":"#REF!"}},null,{"$f":"CARDS!$N$567","v":{"$error":"#REF!"}},null,null,{"$f":"CARDS!$A$567","v":{"$error":"#REF!"}},null,{"$f":"CARDS!$N$567","v":{"$error":"#REF!"}}]
["End","Shots","Total","Shots","Total","End","Shots","Total","Shots","Total"]
[1,{"$nulls":4},14]
[2,{"$nulls":4},15]
[3,{"$nulls":4},16]
[4,{"$nulls":4},17]
[5,{"$nulls":4},18]
[6,{"$nulls":4},19]
[7,{"$nulls":4},20]
[8,{"$nulls":4},21]
[9,{"$nulls":4},22]
[10,{"$nulls":4},23]
[11,{"$nulls":4},24]
[12,{"$nulls":4},25]
[13,{"$nulls":4},"T"]
["RINK",null,{"$f":"CARDS!$C$582","v":{"$error":"#REF!"}},null,"SKIP",{"$f":"CARDS!$A$590","v":{"$error":"#REF!"}}]
[1]
[null,{"$f":"CARDS!$A$590","v":{"$error":"#REF!"}},null,{"$f":"CARDS!$N$590","v":{"$error":"#REF!"}},null,null,{"$f":"CARDS!$A$590","v":{"$error":"#REF!"}},null,{"$f":"CARDS!$N$590","v":{"$error":"#REF!"}}]
["End","Shots","Total","Shots","Total","End","Shots","Total","Shots","Total"]
[1,{"$nulls":4},14]
[2,{"$nulls":4},15]
[3,{"$nulls":4},16]
[4,{"$nulls":4},17]
[5,{"$nulls":4},18]
[6,{"$nulls":4},19]
[7,{"$nulls":4},20]
[8,{"$nulls":4},21]
[9,{"$nulls":4},22]
[10,{"$nulls":4},23]
[11,{"$nulls":4},24]
[12,{"$nulls":4},25]
[13,{"$nulls":4},"T"]
["RINK",null,{"$f":"CARDS!$C$605","v":{"$error":"#REF!"}},null,"SKIP",{"$f":"CARDS!$A$613","v":{"$error":"#REF!"}}]
[1]
[null,{"$f":"CARDS!$A$613","v":{"$error":"#REF!"}},null,{"$f":"CARDS!$N$613","v":{"$error":"#REF!"}},null,null,{"$f":"CARDS!$A$613","v":{"$error":"#REF!"}},null,{"$f":"CARDS!$N$613","v":{"$error":"#REF!"}}]
["End","Shots","Total","Shots","Total","End","Shots","Total","Shots","Total"]
[1,{"$nulls":4},14]
[2,{"$nulls":4},15]
[3,{"$nulls":4},16]
[4,{"$nulls":4},17]
[5,{"$nulls":4},18]
[6,{"$nulls":4},19]
[7,{"$nulls":4},20]
[8,{"$nulls":4},21]
[9,{"$nulls":4},22]
[10,{"$nulls":4},23]
[11,{"$nulls":4},24]
[12,{"$nulls":4},25]
[13,{"$nulls":4},"T"]
["RINK",null,{"$f":"CARDS!$C$628","v":{"$error":"#REF!"}},null,"SKIP",{"$f":"CARDS!$A$636","v":{"$error":"#REF!"}}]
[1]
[null,{"$f":"CARDS!$A$636","v":{"$error":"#REF!"}},null,{"$f":"CARDS!$N$636","v":{"$error":"#REF!"}},null,null,{"$f":"CARDS!$A$636","v":{"$error":"#REF!"}},null,{"$f":"CARDS!$N$636","v":{"$error":"#REF!"}}]
["End","Shots","Total","Shots","Total","End","Shots","Total","Shots","Total"]
[1,{"$nulls":4},14]
[2,{"$nulls":4},15]
[3,{"$nulls":4},16]
[4,{"$nulls":4},17]
[5,{"$nulls":4},18]
[6,{"$nulls":4},19]
[7,{"$nulls":4},20]
[8,{"$nulls":4},21]
[9,{"$nulls":4},22]
[10,{"$nulls":4},23]
[11,{"$nulls":4},24]
[12,{"$nulls":4},25]
[13,{"$nulls":4},"T"]
["RINK",{"$nulls":3},"SKIP"]
[1]
[]
["End","Shots","Total","Shots","Total","End","Shots","Total","Shots","Total"]
[1,{"$nulls":4},14]
[2,{"$nulls":4},15]
[3,{"$nulls":4},16]
[4,{"$nulls":4},17]
[5,{"$nulls":4},18]
[6,{"$nulls":4},19]
[7,{"$nulls":4},20]
[8,{"$nulls":4},21]
[9,{"$nulls":4},22]
[10,{"$nulls":4},23]
[11,{"$nulls":4},24]
[12,{"$nulls":4},25]
[13,{"$nulls":4},"T"]

{"sheet":"CARDS 2","index":6,"n_rows":644,"n_cols":16,"rows_kept":644,"merged":[[0,0,0,23],[2,0,2,23],[4,2,4,6],[4,8,4,23],[6,2,6,6],[6,8,6,23],[8,0,8,10],[8,11,8,12],[8,13,8,23],[10,0,10,10],[10,11,10,12],[10,13,10,23],[12,0,12,10],[12,11,12,12],[12,13,12,23],[14,0,14,10],[14,11,14,12],[14,13,14,23],[16,2,16,8],[16,15,16,21],[17,2,17,8],[17,15,17,21],[18,0,18,10],[18,13,18,23],[20,0,20,10],[20,11,20,12],[20,13,20,23],[22,0,22,11],[22,12,22,23],[23,0,23,23],[25,0,25,23],[27,2,27,6],[27,8,27,23],[29,2,29,6],[29,8,29,23],[31,0,31,10],[31,11,31,12],[31,13,31,23],[33,0,33,10],[33,11,33,12],[33,13,33,23],[35,0,35,10],[35,11,35,12],[35,13,35,23],[37,0,37,10],[37,11,37,12],[37,13,37,23],[39,2,39,8],[39,15,39,21],[40,2,40,8],[40,15,40,21],[41,0,41,10],[41,13,41,23],[43,0,43,10],[43,11,43,12],[43,13,43,23],[45,0,45,11],[45,12,45,23],[46,0,46,23],[48,0,48,23],[50,2,50,6],[50,8,50,23],[52,2,52,6],[52,8,52,23],[54,0,54,10],[54,11,54,12],[54,13,54,23],[56,0,56,10],[56,11,56,12],[56,13,56,23],[58,0,58,10],[58,11,58,12],[58,13,58,23],[60,0,60,10],[60,11,60,12],[60,13,60,23],[62,2,62,8],[62,15,62,21],[63,2,63,8],[63,15,63,21],[64,0,64,10],[64,13,64,23],[66,0,66,10],[66,11,66,12],[66,13,66,23],[68,0,68,11],[68,12,68,23],[69,0,69,23],[71,0,71,23],[73,2,73,6],[73,8,73,23],[75,2,75,6],[75,8,75,23],[77,0,77,10],[77,11,77,12],[77,13,77,23],[79,0,79,10],[79,11,79,12],[79,13,79,23],[81,0,81,10],[81,11,81,12],[81,13,81,23],[83,0,83,10],[83,11,83,12],[83,13,83,23],[85,2,85,8],[85,15,85,21],[86,2,86,8],[86,15,86,21],[87,0,87,10],[87,13,87,23],[89,0,89,10],[89,11,89,12],[89,13,89,23],[91,0,91,11],[91,12,91,23],[92,0,92,23],[94,0,94,23],[96,2,96,6],[96,8,96,23],[98,2,98,6],[98,8,98,23],[100,0,100,10],[100,11,100,12],[100,13,100,23],[102,0,102,10],[102,11,102,12],[102,13,102,23],[104,0,104,10],[104,11,104,12],[104,13,104,23],[106,0,106,10],[106,11,106,12],[106,13,106,23],[108,2,108,8],[108,15,108,21],[109,2,109,8],[109,15,109,21],[110,0,110,10],[110,13,110,23],[112,0,112,10],[112,11,112,12],[112,13,112,23],[114,0,114,11],[114,12,114,23],[115,0,115,23],[117,0,117,23],[119,2,119,6],[119,8,119,23],[121,2,121,6],[121,8,121,23],[123,0,123,10],[123,11,123,12],[123,13,123,23],[125,0,125,10],[125,11,125,12],[125,13,125,23],[127,0,127,10],[127,11,127,12],[127,13,127,23],[129,0,129,10],[129,11,129,12],[129,13,129,23],[131,2,131,8],[131,15,131,21],[132,2,132,8],[132,15,132,21],[133,0,133,10],[133,13,133,23],[135,0,135,10],[135,11,135,12],[135,13,135,23],[137,0,137,11],[137,12,137,23],[138,0,138,23],[140,0,140,23],[142,2,142,6],[142,8,142,23],[144,2,144,6],[144,8,144,23],[146,0,146,10],[146,11,146,12],[146,13,146,23],[148,0,148,10],[148,11,148,12],[148,13,148,23],[150,0,150,10],[150,11,150,12],[150,13,150,23],[152,0,152,10],[152,11,152,12],[152,13,152,23],[154,2,154,8],[154,15,154,21],[155,2,155,8],[155,15,155,21],[156,0,156,10],[156,13,156,23],[158,0,158,10],[158,11,158,12],[158,13,158,23],[160,0,160,11],[160,12,160,23],[161,0,161,23],[163,0,163,23],[165,2,165,6],[165,8,165,23],[167,2,167,6],[167,8,167,23],[169,0,169,10],[169,11,169,12],[169,13,169,23],[171,0,171,10],[171,11,171,12],[171,13,171,23],[173,0,173,10],[173,11,173,12],[173,13,173,23],[175,0,175,10],[175,11,175,12],[175,13,175,23],[177,2,177,8],[177,15,177,21],[178,2,178,8],[178,15,178,21],[179,0,179,10],[179,13,179,23],[181,0,181,10],[181,11,181,12],[181,13,181,23],[183,0,183,11],[183,12,183,23],[184,0,184,23],[186,0,186,23],[188,2,188,6],[188,8,188,23],[190,2,190,6],[190,8,190,23],[192,0,192,10],[192,11,192,12],[192,13,192,23],[194,0,194,10],[194,11,194,12],[194,13,194,23],[196,0,196,10],[196,11,196,12],[196,13,196,23],[198,0,198,10],[198,11,198,12],[198,13,198,23],[200,2,200,8],[200,15,200,21],[201,2,201,8],[201,15,201,21],[202,0,202,10],[202,13,202,23],[204,0,204,10],[204,11,204,12],[204,13,204,23],[206,0,206,11],[206,12,206,23],[207,0,207,23],[209,0,209,23],[211,2,211,6],[211,8,211,23],[213,2,213,6],[213,8,213,23],[215,0,215,10],[215,11,215,12],[215,13,215,23],[217,0,217,10],[217,11,217,12],[217,13,217,23],[219,0,219,10],[219,11,219,12],[219,13,219,23],[221,0,221,10],[221,11,221,12],[221,13,221,23],[223,2,223,8],[223,15,223,21],[224,2,224,8],[224,15,224,21],[225,0,225,10],[225,13,225,23],[227,0,227,10],[227,11,227,12],[227,13,227,23],[229,0,229,11],[229,12,229,23],[230,0,230,23],[232,0,232,23],[234,2,234,6],[234,8,234,23],[236,2,236,6],[236,8,236,23],[238,0,238,10],[238,11,238,12],[238,13,238,23],[240,0,240,10],[240,11,240,12],[240,13,240,23],[242,0,242,10],[242,11,242,12],[242,13,242,23],[244,0,244,10],[244,11,244,12],[244,13,244,23],[246,2,246,8],[246,15,246,21],[247,2,247,8],[247,15,247,21],[248,0,248,10],[248,13,248,23],[250,0,250,10],[250,11,250,12],[250,13,250,23],[252,0,252,11],[252,12,252,23],[253,0,253,23],[255,0,255,23],[257,2,257,6],[257,8,257,23],[259,2,259,6],[259,8,259,23],[261,0,261,10],[261,11,261,12],[261,13,261,23],[263,0,263,10],[263,11,263,12],[263,13,263,23],[265,0,265,10],[265,11,265,12],[265,13,265,23],[267,0,267,10],[267,11,267,12],[267,13,267,23],[269,2,269,8],[269,15,269,21],[270,2,270,8],[270,15,270,21],[271,0,271,10],[271,13,271,23],[273,0,273,10],[273,11,273,12],[273,13,273,23],[275,0,275,11],[275,12,275,23],[276,0,276,23],[278,0,278,23],[280,2,280,6],[280,8,280,23],[282,2,282,6],[282,8,282,23],[284,0,284,10],[284,11,284,12],[284,13,284,23],[286,0,286,10],[286,11,286,12],[286,13,286,23],[288,0,288,10],[288,11,288,12],[288,13,288,23],[290,0,290,10],[290,11,290,12],[290,13,290,23],[292,2,292,8],[292,15,292,21],[293,2,293,8],[293,15,293,21],[294,0,294,10],[294,13,294,23],[296,0,296,10],[296,11,296,12],[296,13,296,23],[298,0,298,11],[298,12,298,23],[299,0,299,23],[301,0,301,23],[303,2,303,6],[303,8,303,23],[305,2,305,6],[305,8,305,23],[307,0,307,10],[307,11,307,12],[307,13,307,23],[309,0,309,10],[309,11,309,12],[309,13,309,23],[311,0,311,10],[311,11,311,12],[311,13,311,23],[313,0,313,10],[313,11,313,12],[313,13,313,23],[315,2,315,8],[315,15,315,21],[316,2,316,8],[316,15,316,21],[317,0,317,10],[317,13,317,23],[319,0,319,10],[319,11,319,12],[319,13,319,23],[321,0,321,11],[321,12,321,23],[322,0,322,23],[324,0,324,23],[326,2,326,6],[326,8,326,23],[328,2,328,6],[328,8,328,23],[330,0,330,10],[330,11,330,12],[330,13,330,23],[332,0,332,10],[332,11,332,12],[332,13,332,23],[334,0,334,10],[334,11,334,12],[334,13,334,23],[336,0,336,10],[336,11,336,12],[336,13,336,23],[338,2,338,8],[338,15,338,21],[339,2,339,8],[339,15,339,21],[340,0,340,10],[340,13,340,23],[342,0,342,10],[342,11,342,12],[342,13,342,23],[344,0,344,11],[344,12,344,23],[345,0,345,23],[347,0,347,23],[349,2,349,6],[349,8,349,23],[351,2,351,6],[351,8,351,23],[353,0,353,10],[353,11,353,12],[353,13,353,23],[355,0,355,10],[355,11,355,12],[355,13,355,23],[357,0,357,10],[357,11,357,12],[357,13,357,23],[359,0,359,10],[359,11,359,12],[359,13,359,23],[361,2,361,8],[361,15,361,21],[362,2,362,8],[362,15,362,21],[363,0,363,10],[363,13,363,23],[365,0,365,10],[365,11,365,12],[365,13,365,23],[367,0,367,11],[367,12,367,23],[368,0,368,23],[370,0,370,23],[372,2,372,6],[372,8,372,23],[374,2,374,6],[374,8,374,23],[376,0,376,10],[376,11,376,12],[376,13,376,23],[378,0,378,10],[378,11,378,12],[378,13,378,23],[380,0,380,10],[380,11,380,12],[380,13,380,23],[382,0,382,10],[382,11,382,12],[382,13,382,23],[384,2,384,8],[384,15,384,21],[385,2,385,8],[385,15,385,21],[386,0,386,10],[386,13,386,23],[388,0,388,10],[388,11,388,12],[388,13,388,23],[390,0,390,11],[390,12,390,23],[391,0,391,23],[393,0,393,23],[395,2,395,6],[395,8,395,23],[397,2,397,6],[397,8,397,23],[399,0,399,10],[399,11,399,12],[399,13,399,23],[401,0,401,10],[401,11,401,12],[401,13,401,23],[403,0,403,10],[403,11,403,12],[403,13,403,23],[405,0,405,10],[405,11,405,12],[405,13,405,23],[407,2,407,8],[407,15,407,21],[408,2,408,8],[408,15,408,21],[409,0,409,10],[409,13,409,23],[411,0,411,10],[411,11,411,12],[411,13,411,23],[413,0,413,11],[413,12,413,23],[414,0,414,23],[416,0,416,23],[418,2,418,6],[418,8,418,23],[420,2,420,6],[420,8,420,23],[422,0,422,10],[422,11,422,12],[422,13,422,23],[424,0,424,10],[424,11,424,12],[424,13,424,23],[426,0,426,10],[426,11,426,12],[426,13,426,23],[428,0,428,10],[428,11,428,12],[428,13,428,23],[430,2,430,8],[430,15,430,21],[431,2,431,8],[431,15,431,21],[432,0,432,10],[432,13,432,23],[434,0,434,10],[434,11,434,12],[434,13,434,23],[436,0,436,11],[436,12,436,23],[437,0,437,23],[439,0,439,23],[441,2,441,6],[441,8,441,23],[443,2,443,6],[443,8,443,23],[445,0,445,10],[445,11,445,12],[445,13,445,23],[447,0,447,10],[447,11,447,12],[447,13,447,23],[449,0,449,10],[449,11,449,12],[449,13,449,23],[451,0,451,10],[451,11,451,12],[451,13,451,23],[453,2,453,8],[453,15,453,21],[454,2,454,8],[454,15,454,21],[455,0,455,10],[455,13,455,23],[457,0,457,10],[457,11,457,12],[457,13,457,23],[459,0,459,11],[459,12,459,23],[460,0,460,23],[462,0,462,23],[464,2,464,6],[464,8,464,23],[466,2,466,6],[466,8,466,23],[468,0,468,10],[468,11,468,12],[468,13,468,23],[470,0,470,10],[470,11,470,12],[470,13,470,23],[472,0,472,10],[472,11,472,12],[472,13,472,23],[474,0,474,10],[474,11,474,12],[474,13,474,23],[476,2,476,8],[476,15,476,21],[477,2,477,8],[477,15,477,21],[478,0,478,10],[478,13,478,23],[480,0,480,10],[480,11,480,12],[480,13,480,23],[482,0,482,11],[482,12,482,23],[483,0,483,23],[485,0,485,23],[487,2,487,6],[487,8,487,23],[489,2,489,6],[489,8,489,23],[491,0,491,10],[491,11,491,12],[491,13,491,23],[493,0,493,10],[493,11,493,12],[493,13,493,23],[495,0,495,10],[495,11,495,12],[495,13,495,23],[497,0,497,10],[497,11,497,12],[497,13,497,23],[499,2,499,8],[499,15,499,21],[500,2,500,8],[500,15,500,21],[501,0,501,10],[501,13,501,23],[503,0,503,10],[503,11,503,12],[503,13,503,23],[505,0,505,11],[505,12,505,23],[506,0,506,23],[508,0,508,23],[510,2,510,6],[510,8,510,23],[512,2,512,6],[512,8,512,23],[514,0,514,10],[514,11,514,12],[514,13,514,23],[516,0,516,10],[516,11,516,12],[516,13,516,23],[518,0,518,10],[518,11,518,12],[518,13,518,23],[520,0,520,10],[520,11,520,12],[520,13,520,23],[522,2,522,8],[522,15,522,21],[523,2,523,8],[523,15,523,21],[524,0,524,10],[524,13,524,23],[526,0,526,10],[526,11,526,12],[526,13,526,23],[528,0,528,11],[528,12,528,23],[529,0,529,23],[531,0,531,23],[533,2,533,6],[533,8,533,23],[535,2,535,6],[535,8,535,23],[537,0,537,10],[537,11,537,12],[537,13,537,23],[539,0,539,10],[539,11,539,12],[539,13,539,23],[541,0,541,10],[541,11,541,12],[541,13,541,23],[543,0,543,10],[543,11,543,12],[543,13,543,23],[545,2,545,8],[545,15,545,21],[546,2,546,8],[546,15,546,21],[547,0,547,10],[547,13,547,23],[549,0,549,10],[549,11,549,12],[549,13,549,23],[551,0,551,11],[551,12,551,23],[552,0,552,23],[554,0,554,23],[556,2,556,6],[556,8,556,23],[558,2,558,6],[558,8,558,23],[560,0,560,10],[560,11,560,12],[560,13,560,23],[562,0,562,10],[562,11,562,12],[562,13,562,23],[564,0,564,10],[564,11,564,12],[564,13,564,23],[566,0,566,10],[566,11,566,12],[566,13,566,23],[568,2,568,8],[568,15,568,21],[569,2,569,8],[569,15,569,21],[570,0,570,10],[570,13,570,23],[572,0,572,10],[572,11,572,12],[572,13,572,23],[574,0,574,11],[574,12,574,23],[575,0,575,23],[577,0,577,23],[579,2,579,6],[579,8,579,23],[581,2,581,6],[581,8,581,23],[583,0,583,10],[583,11,583,12],[583,13,583,23],[585,0,585,10],[585,11,585,12],[585,13,585,23],[587,0,587,10],[587,11,587,12],[587,13,587,23],[589,0,589,10],[589,11,589,12],[589,13,589,23],[591,2,591,8],[591,15,591,21],[592,2,592,8],[592,15,592,21],[593,0,593,10],[593,13,593,23],[595,0,595,10],[595,11,595,12],[595,13,595,23],[597,0,597,11],[597,12,597,23],[598,0,598,23],[600,0,600,23],[602,2,602,6],[602,8,602,23],[604,2,604,6],[604,8,604,23],[606,0,606,10],[606,11,606,12],[606,13,606,23],[608,0,608,10],[608,11,608,12],[608,13,608,23],[610,0,610,10],[610,11,610,12],[610,13,610,23],[612,0,612,10],[612,11,612,12],[612,13,612,23],[614,2,614,8],[614,15,614,21],[615,2,615,8],[615,15,615,21],[616,0,616,10],[616,13,616,23],[618,0,618,10],[618,11,618,12],[618,13,618,23],[620,0,620,11],[620,12,620,23],[621,0,621,23],[623,0,623,23],[625,2,625,6],[625,8,625,23],[627,2,627,6],[627,8,627,23],[629,0,629,10],[629,11,629,12],[629,13,629,23],[631,0,631,10],[631,11,631,12],[631,13,631,23],[633,0,633,10],[633,11,633,12],[633,13,633,23],[635,0,635,10],[635,11,635,12],[635,13,635,23],[637,2,637,8],[637,15,637,21],[638,2,638,8],[638,15,638,21],[639,0,639,10],[639,13,639,23],[641,0,641,10],[641,11,641,12],[641,13,641,23],[643,0,643,11],[643,12,643,23]]}
[{"$f":"RINKS!$N$2","v":"Bateau Bay"}]
[]
[{"$f":"RINKS!$N$6","v":"Monday Mens Mufti."}]
[]
[null,null,"RINK",{"$nulls":5},"DATE"]
[]
[null,null,{"$f":"RINKS!$C$2","v":0},{"$nulls":5},{"$f":"RINKS!$N$4","v":"2016-06-26"}]
[]
[{"$f":"RINKS!$D$3","v":""},{"$nulls":10},"L",null,{"$f":"RINKS!$B$3","v":""}]
[]
[{"$f":"RINKS!$D$4","v":""},{"$nulls":10},"S",null,{"$f":"RINKS!$B$4","v":""}]
[]
[{"$f":"RINKS!$D$5","v":""},{"$nulls":10},"T",null,{"$f":"RINKS!$B$5","v":""}]
[]
[{"$f":"RINKS!$D$6","v":""},{"$nulls":10},"Sk",null,{"$f":"RINKS!$B$6","v":""}]
[]
[2,null,"TOTAL SCORE",{"$nulls":12},"TOTAL SCORE"]
[]
["Signature",{"$nulls":12},"Signature"]
[]
[{"$nulls":11},1]
[]
["Time Match Completed:-"]
[{"$f":"RINKS!$N$2","v":"Bateau Bay"}]
[]
[{"$f":"RINKS!$N$6","v":"Monday Mens Mufti."}]
[]
[null,null,"RINK",{"$nulls":5},"DATE"]
[]
[null,null,{"$f":"RINKS!$C$7","v":0},{"$nulls":5},{"$f":"RINKS!$N$4","v":"2016-06-26"}]
[]
[{"$f":"RINKS!$D$8","v":""},{"$nulls":10},"L",null,{"$f":"RINKS!$B$8","v":""}]
[]
[{"$f":"RINKS!$D$9","v":""},{"$nulls":10},"S",null,{"$f":"RINKS!$B$9","v":""}]
[]
[{"$f":"RINKS!$D$10","v":""},{"$nulls":10},"T",null,{"$f":"RINKS!$B$10","v":""}]
[]
[{"$f":"RINKS!$D$11","v":""},{"$nulls":10},"Sk",null,{"$f":"RINKS!$B$11","v":""}]
[]
[2,null,"TOTAL SCORE",{"$nulls":12},"TOTAL SCORE"]
[]
["Signature",{"$nulls":12},"Signature"]
[]
[{"$nulls":11},2]
[]
["Time Match Completed:-"]
[{"$f":"RINKS!$N$2","v":"Bateau Bay"}]
[]
[{"$f":"RINKS!$N$6","v":"Monday Mens Mufti."}]
[]
[null,null,"RINK",{"$nulls":5},"DATE"]
[]
[null,null,{"$f":"RINKS!$C$12","v":0},{"$nulls":5},{"$f":"RINKS!$N$4","v":"2016-06-26"}]
[]
[{"$f":"RINKS!$D$13","v":""},{"$nulls":10},"L",null,{"$f":"RINKS!$B$13","v":""}]
[]
[{"$f":"RINKS!$D$14","v":""},{"$nulls":10},"S",null,{"$f":"RINKS!$B$14","v":""}]
[]
[{"$f":"RINKS!$D$15","v":""},{"$nulls":10},"T",null,{"$f":"RINKS!$B$15","v":""}]
[]
[{"$f":"RINKS!$D$16","v":""},{"$nulls":10},"Sk",null,{"$f":"RINKS!$B$16","v":""}]
[]
[2,null,"TOTAL SCORE",{"$nulls":12},"TOTAL SCORE"]
[]
["Signature",{"$nulls":12},"Signature"]
[]
[{"$nulls":11},3]
[]
["Time Match Completed:-"]
[{"$f":"RINKS!$N$2","v":"Bateau Bay"}]
[]
[{"$f":"RINKS!$N$6","v":"Monday Mens Mufti."}]
[]
[null,null,"RINK",{"$nulls":5},"DATE"]
[]
[null,null,{"$f":"RINKS!$C$17","v":0},{"$nulls":5},{"$f":"RINKS!$N$4","v":"2016-06-26"}]
[]
[{"$f":"RINKS!$D$18","v":""},{"$nulls":10},"L",null,{"$f":"RINKS!$B$18","v":""}]
[]
[{"$f":"RINKS!$D$19","v":""},{"$nulls":10},"S",null,{"$f":"RINKS!$B$19","v":""}]
[]
[{"$f":"RINKS!$D$20","v":""},{"$nulls":10},"T",null,{"$f":"RINKS!$B$20","v":""}]
[]
[{"$f":"RINKS!$D$21","v":""},{"$nulls":10},"Sk",null,{"$f":"RINKS!$B$21","v":""}]
[]
[2,null,"TOTAL SCORE",{"$nulls":12},"TOTAL SCORE"]
[]
["Signature",{"$nulls":12},"Signature"]
[]
[{"$nulls":11},4]
[]
["Time Match Completed:-"]
[{"$f":"RINKS!$N$2","v":"Bateau Bay"}]
[]
[{"$f":"RINKS!$N$6","v":"Monday Mens Mufti."}]
[]
[null,null,"RINK",{"$nulls":5},"DATE"]
[]
[null,null,{"$f":"RINKS!$C$22","v":0},{"$nulls":5},{"$f":"RINKS!$N$4","v":"2016-06-26"}]
[]
[{"$f":"RINKS!$D$23","v":""},{"$nulls":10},"L",null,{"$f":"RINKS!$B$23","v":""}]
[]
[{"$f":"RINKS!$D$24","v":""},{"$nulls":10},"S",null,{"$f":"RINKS!$B$24","v":""}]
[]
[{"$f":"RINKS!$D$25","v":""},{"$nulls":10},"T",null,{"$f":"RINKS!$B$25","v":""}]
[]
[{"$f":"RINKS!$D$26","v":""},{"$nulls":10},"Sk",null,{"$f":"RINKS!$B$26","v":""}]
[]
[2,null,"TOTAL SCORE",{"$nulls":12},"TOTAL SCORE"]
[]
["Signature",{"$nulls":12},"Signature"]
[]
[{"$nulls":11},5]
[]
["Time Match Completed:-"]
[{"$f":"RINKS!$N$2","v":"Bateau Bay"}]
[]
[{"$f":"RINKS!$N$6","v":"Monday Mens Mufti."}]
[]
[null,null,"RINK",{"$nulls":5},"DATE"]
[]
[null,null,{"$f":"RINKS!$C$27","v":0},{"$nulls":5},{"$f":"RINKS!$N$4","v":"2016-06-26"}]
[]
[{"$f":"RINKS!$D$28","v":""},{"$nulls":10},"L",null,{"$f":"RINKS!$B$28","v":""}]
[]
[{"$f":"RINKS!$D$29","v":""},{"$nulls":10},"S",null,{"$f":"RINKS!$B$29","v":""}]
[]
[{"$f":"RINKS!$D$30","v":""},{"$nulls":10},"T",null,{"$f":"RINKS!$B$30","v":""}]
[]
[{"$f":"RINKS!$D$31","v":""},{"$nulls":10},"Sk",null,{"$f":"RINKS!$B$31","v":""}]
[]
[2,null,"TOTAL SCORE",{"$nulls":12},"TOTAL SCORE"]
[]
["Signature",{"$nulls":12},"Signature"]
[]
[{"$nulls":11},6]
[]
["Time Match Completed:-"]
[{"$f":"RINKS!$N$2","v":"Bateau Bay"}]
[]
[{"$f":"RINKS!$N$6","v":"Monday Mens Mufti."}]
[]
[null,null,"RINK",{"$nulls":5},"DATE"]
[]
[null,null,{"$f":"RINKS!$C$32","v":0},{"$nulls":5},{"$f":"RINKS!$N$4","v":"2016-06-26"}]
[]
[{"$f":"RINKS!$D$33","v":""},{"$nulls":10},"L",null,{"$f":"RINKS!$B$33","v":""}]
[]
[{"$f":"RINKS!$D$34","v":""},{"$nulls":10},"S",null,{"$f":"RINKS!$B$34","v":""}]
[]
[{"$f":"RINKS!$D$35","v":""},{"$nulls":10},"T",null,{"$f":"RINKS!$B$35","v":""}]
[]
[{"$f":"RINKS!$D$36","v":""},{"$nulls":10},"Sk",null,{"$f":"RINKS!$B$36","v":""}]
[]
[2,null,"TOTAL SCORE",{"$nulls":12},"TOTAL SCORE"]
[]
["Signature",{"$nulls":12},"Signature"]
[]
[{"$nulls":11},7]
[]
["Time Match Completed:-"]
[{"$f":"RINKS!$N$2","v":"Bateau Bay"}]
[]
[{"$f":"RINKS!$N$6","v":"Monday Mens Mufti."}]
[]
[null,null,"RINK",{"$nulls":5},"DATE"]
[]
[null,null,{"$f":"RINKS!$G$2","v":0},{"$nulls":5},{"$f":"RINKS!$N$4","v":"2016-06-26"}]
[]
[{"$f":"RINKS!$H$3","v":""},{"$nulls":10},"L",null,{"$f":"RINKS!$F$3","v":""}]
[]
[{"$f":"RINKS!$H$4","v":""},{"$nulls":10},"S",null,{"$f":"RINKS!$F$4","v":""}]
[]
[{"$f":"RINKS!$H$5","v":""},{"$nulls":10},"T",null,{"$f":"RINKS!$F$5","v":""}]
[]
[{"$f":"RINKS!$H$6","v":""},{"$nulls":10},"Sk",null,{"$f":"RINKS!$F$6","v":""}]
[]
[2,null,"TOTAL SCORE",{"$nulls":12},"TOTAL SCORE"]
[]
["Signature",{"$nulls":12},"Signature"]
[]
[{"$nulls":11},8]
[]
["Time Match Completed:-"]
[{"$f":"RINKS!$N$2","v":"Bateau Bay"}]
[]
[{"$f":"RINKS!$N$6","v":"Monday Mens Mufti."}]
[]
[null,null,"RINK",{"$nulls":5},"DATE"]
[]
[null,null,{"$f":"RINKS!$G$7","v":0},{"$nulls":5},{"$f":"RINKS!$N$4","v":"2016-06-26"}]
[]
[{"$f":"RINKS!$H$8","v":""},{"$nulls":10},"L",null,{"$f":"RINKS!$F$8","v":""}]
[]
[{"$f":"RINKS!$H$9","v":""},{"$nulls":10},"S",null,{"$f":"RINKS!$F$9","v":""}]
[]
[{"$f":"RINKS!$H$10","v":""},{"$nulls":10},"T",null,{"$f":"RINKS!$F$10","v":""}]
[]
[{"$f":"RINKS!$H$11","v":""},{"$nulls":10},"Sk",null,{"$f":"RINKS!$F$11","v":""}]
[]
[2,null,"TOTAL SCORE",{"$nulls":12},"TOTAL SCORE"]
[]
["Signature",{"$nulls":12},"Signature"]
[]
[{"$nulls":11},9]
[]
["Time Match Completed:-"]
[{"$f":"RINKS!$N$2","v":"Bateau Bay"}]
[]
[{"$f":"RINKS!$N$6","v":"Monday Mens Mufti."}]
[]
[null,null,"RINK",{"$nulls":5},"DATE"]
[]
[null,null,{"$f":"RINKS!$G$12","v":0},{"$nulls":5},{"$f":"RINKS!$N$4","v":"2016-06-26"}]
[]
[{"$f":"RINKS!$H$13","v":""},{"$nulls":10},"L",null,{"$f":"RINKS!$F$13","v":""}]
[]
[{"$f":"RINKS!$H$14","v":""},{"$nulls":10},"S",null,{"$f":"RINKS!$F$14","v":""}]
[]
[{"$f":"RINKS!$H$15","v":""},{"$nulls":10},"T",null,{"$f":"RINKS!$F$15","v":""}]
[]
[{"$f":"RINKS!$H$16","v":""},{"$nulls":10},"Sk",null,{"$f":"RINKS!$F$16","v":""}]
[]
[2,null,"TOTAL SCORE",{"$nulls":12},"TOTAL SCORE"]
[]
["Signature",{"$nulls":12},"Signature"]
[]
[{"$nulls":11},10]
[]
["Time Match Completed:-"]
[{"$f":"RINKS!$N$2","v":"Bateau Bay"}]
[]
[{"$f":"RINKS!$N$6","v":"Monday Mens Mufti."}]
[]
[null,null,"RINK",{"$nulls":5},"DATE"]
[]
[null,null,{"$f":"RINKS!$G$17","v":0},{"$nulls":5},{"$f":"RINKS!$N$4","v":"2016-06-26"}]
[]
[{"$f":"RINKS!$H$18","v":""},{"$nulls":10},"L",null,{"$f":"RINKS!$F$18","v":""}]
[]
[{"$f":"RINKS!$H$19","v":""},{"$nulls":10},"S",null,{"$f":"RINKS!$F$19","v":""}]
[]
[{"$f":"RINKS!$H$20","v":""},{"$nulls":10},"T",null,{"$f":"RINKS!$F$20","v":""}]
[]
[{"$f":"RINKS!$H$21","v":""},{"$nulls":10},"Sk",null,{"$f":"RINKS!$F$21","v":""}]
[]
[2,null,"TOTAL SCORE",{"$nulls":12},"TOTAL SCORE"]
[]
["Signature",{"$nulls":12},"Signature"]
[]
[{"$nulls":11},11]
[]
["Time Match Completed:-"]
[{"$f":"RINKS!$N$2","v":"Bateau Bay"}]
[]
[{"$f":"RINKS!$N$6","v":"Monday Mens Mufti."}]
[]
[null,null,"RINK",{"$nulls":5},"DATE"]
[]
[null,null,{"$f":"RINKS!$G$22","v":0},{"$nulls":5},{"$f":"RINKS!$N$4","v":"2016-06-26"}]
[]
[{"$f":"RINKS!$H$23","v":""},{"$nulls":10},"L",null,{"$f":"RINKS!$F$23","v":""}]
[]
[{"$f":"RINKS!$H$24","v":""},{"$nulls":10},"S",null,{"$f":"RINKS!$F$24","v":""}]
[]
[{"$f":"RINKS!$H$25","v":""},{"$nulls":10},"T",null,{"$f":"RINKS!$F$25","v":""}]
[]
[{"$f":"RINKS!$H$26","v":""},{"$nulls":10},"Sk",null,{"$f":"RINKS!$F$26","v":""}]
[]
[2,null,"TOTAL SCORE",{"$nulls":12},"TOTAL SCORE"]
[]
["Signature",{"$nulls":12},"Signature"]
[]
[{"$nulls":11},12]
[]
["Time Match Completed:-"]
[{"$f":"RINKS!$N$2","v":"Bateau Bay"}]
[]
[{"$f":"RINKS!$N$6","v":"Monday Mens Mufti."}]
[]
[null,null,"RINK",{"$nulls":5},"DATE"]
[]
[null,null,{"$f":"RINKS!$G$27","v":0},{"$nulls":5},{"$f":"RINKS!$N$4","v":"2016-06-26"}]
[]
[{"$f":"RINKS!$H$28","v":""},{"$nulls":10},"L",null,{"$f":"RINKS!$F$28","v":""}]
[]
[{"$f":"RINKS!$H$29","v":""},{"$nulls":10},"S",null,{"$f":"RINKS!$F$29","v":""}]
[]
[{"$f":"RINKS!$H$30","v":""},{"$nulls":10},"T",null,{"$f":"RINKS!$F$30","v":""}]
[]
[{"$f":"RINKS!$H$31","v":""},{"$nulls":10},"Sk",null,{"$f":"RINKS!$F$31","v":""}]
[]
[2,null,"TOTAL SCORE",{"$nulls":12},"TOTAL SCORE"]
[]
["Signature",{"$nulls":12},"Signature"]
[]
[{"$nulls":11},13]
[]
["Time Match Completed:-"]
[{"$f":"RINKS!$N$2","v":"Bateau Bay"}]
[]
[{"$f":"RINKS!$N$6","v":"Monday Mens Mufti."}]
[]
[null,null,"RINK",{"$nulls":5},"DATE"]
[]
[null,null,{"$f":"RINKS!$G$32","v":0},{"$nulls":5},{"$f":"RINKS!$N$4","v":"2016-06-26"}]
[]
[{"$f":"RINKS!$H$33","v":""},{"$nulls":10},"L",null,{"$f":"RINKS!$F$33","v":""}]
[]
[{"$f":"RINKS!$H$34","v":""},{"$nulls":10},"S",null,{"$f":"RINKS!$F$34","v":""}]
[]
[{"$f":"RINKS!$H$35","v":""},{"$nulls":10},"T",null,{"$f":"RINKS!$F$35","v":""}]
[]
[{"$f":"RINKS!$H$36","v":""},{"$nulls":10},"Sk",null,{"$f":"RINKS!$F$36","v":""}]
[]
[2,null,"TOTAL SCORE",{"$nulls":12},"TOTAL SCORE"]
[]
["Signature",{"$nulls":12},"Signature"]
[]
[{"$nulls":11},14]
[]
["Time Match Completed:-"]
[{"$f":"RINKS!$N$2","v":"Bateau Bay"}]
[]
[{"$f":"RINKS!$N$6","v":"Monday Mens Mufti."}]
[]
[null,null,"RINK",{"$nulls":5},"DATE"]
[]
[null,null,{"$f":"RINKS!$K$2","v":0},{"$nulls":5},{"$f":"RINKS!$N$4","v":"2016-06-26"}]
[]
[{"$f":"RINKS!$L$3","v":""},{"$nulls":10},"L",null,{"$f":"RINKS!$J$3","v":""}]
[]
[{"$f":"RINKS!$L$4","v":""},{"$nulls":10},"S",null,{"$f":"RINKS!$J$4","v":""}]
[]
[{"$f":"RINKS!$L$5","v":""},{"$nulls":10},"T",null,{"$f":"RINKS!$J$5","v":""}]
[]
[{"$f":"RINKS!$L$6","v":""},{"$nulls":10},"Sk",null,{"$f":"RINKS!$J$6","v":""}]
[]
[2,null,"TOTAL SCORE",{"$nulls":12},"TOTAL SCORE"]
[]
["Signature",{"$nulls":12},"Signature"]
[]
[{"$nulls":11},8]
[]
["Time Match Completed:-"]
[{"$f":"RINKS!$N$2","v":"Bateau Bay"}]
[]
[{"$f":"RINKS!$N$6","v":"Monday Mens Mufti."}]
[]
[null,null,"RINK",{"$nulls":5},"DATE"]
[]
[null,null,{"$f":"RINKS!$K$7","v":0},{"$nulls":5},{"$f":"RINKS!$N$4","v":"2016-06-26"}]
[]
[{"$f":"RINKS!$L$8","v":""},{"$nulls":10},"L",null,{"$f":"RINKS!$J$8","v":""}]
[]
[{"$f":"RINKS!$L$9","v":""},{"$nulls":10},"S",null,{"$f":"RINKS!$J$9","v":""}]
[]
[{"$f":"RINKS!$L$10","v":""},{"$nulls":10},"T",null,{"$f":"RINKS!$J$10","v":""}]
[]
[{"$f":"RINKS!$L$11","v":""},{"$nulls":10},"Sk",null,{"$f":"RINKS!$J$11","v":""}]
[]
[2,null,"TOTAL SCORE",{"$nulls":12},"TOTAL SCORE"]
[]
["Signature",{"$nulls":12},"Signature"]
[]
[{"$nulls":11},9]
[]
["Time Match Completed:-"]
[{"$f":"RINKS!$N$2","v":"Bateau Bay"}]
[]
[{"$f":"RINKS!$N$6","v":"Monday Mens Mufti."}]
[]
[null,null,"RINK",{"$nulls":5},"DATE"]
[]
[null,null,{"$f":"RINKS!$K$12","v":0},{"$nulls":5},{"$f":"RINKS!$N$4","v":"2016-06-26"}]
[]
[{"$f":"RINKS!$L$13","v":""},{"$nulls":10},"L",null,{"$f":"RINKS!$J$13","v":""}]
[]
[{"$f":"RINKS!$L$14","v":""},{"$nulls":10},"S",null,{"$f":"RINKS!$J$14","v":""}]
[]
[{"$f":"RINKS!$L$15","v":""},{"$nulls":10},"T",null,{"$f":"RINKS!$J$15","v":""}]
[]
[{"$f":"RINKS!$L$16","v":""},{"$nulls":10},"Sk",null,{"$f":"RINKS!$J$16","v":""}]
[]
[2,null,"TOTAL SCORE",{"$nulls":12},"TOTAL SCORE"]
[]
["Signature",{"$nulls":12},"Signature"]
[]
[{"$nulls":11},10]
[]
["Time Match Completed:-"]
[{"$f":"RINKS!$N$2","v":"Bateau Bay"}]
[]
[{"$f":"RINKS!$N$6","v":"Monday Mens Mufti."}]
[]
[null,null,"RINK",{"$nulls":5},"DATE"]
[]
[null,null,{"$f":"RINKS!$K$17","v":0},{"$nulls":5},{"$f":"RINKS!$N$4","v":"2016-06-26"}]
[]
[{"$f":"RINKS!$L$18","v":""},{"$nulls":10},"L",null,{"$f":"RINKS!$J$18","v":""}]
[]
[{"$f":"RINKS!$L$19","v":""},{"$nulls":10},"S",null,{"$f":"RINKS!$J$19","v":""}]
[]
[{"$f":"RINKS!$L$20","v":""},{"$nulls":10},"T",null,{"$f":"RINKS!$J$20","v":""}]
[]
[{"$f":"RINKS!$L$21","v":""},{"$nulls":10},"Sk",null,{"$f":"RINKS!$J$21","v":""}]
[]
[2,null,"TOTAL SCORE",{"$nulls":12},"TOTAL SCORE"]
[]
["Signature",{"$nulls":12},"Signature"]
[]
[{"$nulls":11},11]
[]
["Time Match Completed:-"]
[{"$f":"RINKS!$N$2","v":"Bateau Bay"}]
[]
[{"$f":"RINKS!$N$6","v":"Monday Mens Mufti."}]
[]
[null,null,"RINK",{"$nulls":5},"DATE"]
[]
[null,null,{"$f":"RINKS!$K$22","v":0},{"$nulls":5},{"$f":"RINKS!$N$4","v":"2016-06-26"}]
[]
[{"$f":"RINKS!$L$23","v":""},{"$nulls":10},"L",null,{"$f":"RINKS!$J$23","v":""}]
[]
[{"$f":"RINKS!$L$24","v":""},{"$nulls":10},"S",null,{"$f":"RINKS!$J$24","v":""}]
[]
[{"$f":"RINKS!$L$25","v":""},{"$nulls":10},"T",null,{"$f":"RINKS!$J$25","v":""}]
[]
[{"$f":"RINKS!$L$26","v":""},{"$nulls":10},"Sk",null,{"$f":"RINKS!$J$26","v":""}]
[]
[2,null,"TOTAL SCORE",{"$nulls":12},"TOTAL SCORE"]
[]
["Signature",{"$nulls":12},"Signature"]
[]
[{"$nulls":11},12]
[]
["Time Match Completed:-"]
[{"$f":"RINKS!$N$2","v":"Bateau Bay"}]
[]
[{"$f":"RINKS!$N$6","v":"Monday Mens Mufti."}]
[]
[null,null,"RINK",{"$nulls":5},"DATE"]
[]
[null,null,{"$f":"RINKS!$K$27","v":0},{"$nulls":5},{"$f":"RINKS!$N$4","v":"2016-06-26"}]
[]
[{"$f":"RINKS!$L$28","v":""},{"$nulls":10},"L",null,{"$f":"RINKS!$J$28","v":""}]
[]
[{"$f":"RINKS!$L$29","v":""},{"$nulls":10},"S",null,{"$f":"RINKS!$J$29","v":""}]
[]
[{"$f":"RINKS!$L$30","v":""},{"$nulls":10},"T",null,{"$f":"RINKS!$J$30","v":""}]
[]
[{"$f":"RINKS!$L$31","v":""},{"$nulls":10},"Sk",null,{"$f":"RINKS!$J$31","v":""}]
[]
[2,null,"TOTAL SCORE",{"$nulls":12},"TOTAL SCORE"]
[]
["Signature",{"$nulls":12},"Signature"]
[]
[{"$nulls":11},13]
[]
["Time Match Completed:-"]
[{"$f":"RINKS!$N$2","v":"Bateau Bay"}]
[]
[{"$f":"RINKS!$N$6","v":"Monday Mens Mufti."}]
[]
[null,null,"RINK",{"$nulls":5},"DATE"]
[]
[null,null,{"$f":"RINKS!$K$32","v":0},{"$nulls":5},{"$f":"RINKS!$N$4","v":"2016-06-26"}]
[]
[{"$f":"RINKS!$L$33","v":""},{"$nulls":10},"L",null,{"$f":"RINKS!$J$33","v":""}]
[]
[{"$f":"RINKS!$L$34","v":""},{"$nulls":10},"S",null,{"$f":"RINKS!$J$34","v":""}]
[]
[{"$f":"RINKS!$L$35","v":""},{"$nulls":10},"T",null,{"$f":"RINKS!$J$35","v":""}]
[]
[{"$f":"RINKS!$L$36","v":""},{"$nulls":10},"Sk",null,{"$f":"RINKS!$J$36","v":""}]
[]
[2,null,"TOTAL SCORE",{"$nulls":12},"TOTAL SCORE"]
[]
["Signature",{"$nulls":12},"Signature"]
[]
[{"$nulls":11},14]
[]
["Time Match Completed:-"]
[{"$f":"RINKS!$N$2","v":"Bateau Bay"}]
[]
[{"$f":"RINKS!$N$6","v":"Monday Mens Mufti."}]
[]
[null,null,"RINK",{"$nulls":5},"DATE"]
[]
[null,null,{"$f":"RINKS!#REF!","v":{"$error":"#REF!"}},{"$nulls":5},{"$f":"RINKS!$N$4","v":"2016-06-26"}]
[]
[{"$f":"RINKS!#REF!","v":{"$error":"#REF!"}},{"$nulls":10},"L",null,{"$f":"RINKS!#REF!","v":{"$error":"#REF!"}}]
[]
[{"$f":"RINKS!#REF!","v":{"$error":"#REF!"}},{"$nulls":10},"S",null,{"$f":"RINKS!#REF!","v":{"$error":"#REF!"}}]
[]
[{"$f":"RINKS!#REF!","v":{"$error":"#REF!"}},{"$nulls":10},"T",null,{"$f":"RINKS!#REF!","v":{"$error":"#REF!"}}]
[]
[{"$f":"RINKS!#REF!","v":{"$error":"#REF!"}},{"$nulls":10},"Sk",null,{"$f":"RINKS!#REF!","v":{"$error":"#REF!"}}]
[]
[2,null,"TOTAL SCORE",{"$nulls":12},"TOTAL SCORE"]
[]
["Signature",{"$nulls":12},"Signature"]
[]
[{"$nulls":11},22]
[]
["Time Match Completed:-"]
[{"$f":"RINKS!$N$2","v":"Bateau Bay"}]
[]
[{"$f":"RINKS!$N$6","v":"Monday Mens Mufti."}]
[]
[null,null,"RINK",{"$nulls":5},"DATE"]
[]
[null,null,{"$f":"RINKS!#REF!","v":{"$error":"#REF!"}},{"$nulls":5},{"$f":"RINKS!$N$4","v":"2016-06-26"}]
[]
[{"$f":"RINKS!#REF!","v":{"$error":"#REF!"}},{"$nulls":10},"L",null,{"$f":"RINKS!#REF!","v":{"$error":"#REF!"}}]
[]
[{"$f":"RINKS!#REF!","v":{"$error":"#REF!"}},{"$nulls":10},"S",null,{"$f":"RINKS!#REF!","v":{"$error":"#REF!"}}]
[]
[{"$f":"RINKS!#REF!","v":{"$error":"#REF!"}},{"$nulls":10},"T",null,{"$f":"RINKS!#REF!","v":{"$error":"#REF!"}}]
[]
[{"$f":"RINKS!#REF!","v":{"$error":"#REF!"}},{"$nulls":10},"Sk",null,{"$f":"RINKS!#REF!","v":{"$error":"#REF!"}}]
[]
[2,null,"TOTAL SCORE",{"$nulls":12},"TOTAL SCORE"]
[]
["Signature",{"$nulls":12},"Signature"]
[]
[{"$nulls":11},23]
[]
["Time Match Completed:-"]
[{"$f":"RINKS!$N$2","v":"Bateau Bay"}]
[]
[{"$f":"RINKS!$N$6","v":"Monday Mens Mufti."}]
[]
[null,null,"RINK",{"$nulls":5},"DATE"]
[]
[null,null,{"$f":"RINKS!#REF!","v":{"$error":"#REF!"}},{"$nulls":5},{"$f":"RINKS!$N$4","v":"2016-06-26"}]
[]
[{"$f":"RINKS!#REF!","v":{"$error":"#REF!"}},{"$nulls":10},"L",null,{"$f":"RINKS!#REF!","v":{"$error":"#REF!"}}]
[]
[{"$f":"RINKS!#REF!","v":{"$error":"#REF!"}},{"$nulls":10},"S",null,{"$f":"RINKS!#REF!","v":{"$error":"#REF!"}}]
[]
[{"$f":"RINKS!#REF!","v":{"$error":"#REF!"}},{"$nulls":10},"T",null,{"$f":"RINKS!#REF!","v":{"$error":"#REF!"}}]
[]
[{"$f":"RINKS!#REF!","v":{"$error":"#REF!"}},{"$nulls":10},"Sk",null,{"$f":"RINKS!#REF!","v":{"$error":"#REF!"}}]
[]
[2,null,"TOTAL SCORE",{"$nulls":12},"TOTAL SCORE"]
[]
["Signature",{"$nulls":12},"Signature"]
[]
[{"$nulls":11},24]
[]
["Time Match Completed:-"]
[{"$f":"RINKS!$N$2","v":"Bateau Bay"}]
[]
[{"$f":"RINKS!$N$6","v":"Monday Mens Mufti."}]
[]
[null,null,"RINK",{"$nulls":5},"DATE"]
[]
[null,null,{"$f":"RINKS!#REF!","v":{"$error":"#REF!"}},{"$nulls":5},{"$f":"RINKS!$N$4","v":"2016-06-26"}]
[]
[{"$f":"RINKS!#REF!","v":{"$error":"#REF!"}},{"$nulls":10},"L",null,{"$f":"RINKS!#REF!","v":{"$error":"#REF!"}}]
[]
[{"$f":"RINKS!#REF!","v":{"$error":"#REF!"}},{"$nulls":10},"S",null,{"$f":"RINKS!#REF!","v":{"$error":"#REF!"}}]
[]
[{"$f":"RINKS!#REF!","v":{"$error":"#REF!"}},{"$nulls":10},"T",null,{"$f":"RINKS!#REF!","v":{"$error":"#REF!"}}]
[]
[{"$f":"RINKS!#REF!","v":{"$error":"#REF!"}},{"$nulls":10},"Sk",null,{"$f":"RINKS!#REF!","v":{"$error":"#REF!"}}]
[]
[2,null,"TOTAL SCORE",{"$nulls":12},"TOTAL SCORE"]
[]
["Signature",{"$nulls":12},"Signature"]
[]
[{"$nulls":11},25]
[]
["Time Match Completed:-"]
[{"$f":"RINKS!$N$2","v":"Bateau Bay"}]
[]
[{"$f":"RINKS!$N$6","v":"Monday Mens Mufti."}]
[]
[null,null,"RINK",{"$nulls":5},"DATE"]
[]
[null,null,{"$f":"RINKS!#REF!","v":{"$error":"#REF!"}},{"$nulls":5},{"$f":"RINKS!$N$4","v":"2016-06-26"}]
[]
[{"$f":"RINKS!#REF!","v":{"$error":"#REF!"}},{"$nulls":10},"L",null,{"$f":"RINKS!#REF!","v":{"$error":"#REF!"}}]
[]
[{"$f":"RINKS!#REF!","v":{"$error":"#REF!"}},{"$nulls":10},"S",null,{"$f":"RINKS!#REF!","v":{"$error":"#REF!"}}]
[]
[{"$f":"RINKS!#REF!","v":{"$error":"#REF!"}},{"$nulls":10},"T",null,{"$f":"RINKS!#REF!","v":{"$error":"#REF!"}}]
[]
[{"$f":"RINKS!#REF!","v":{"$error":"#REF!"}},{"$nulls":10},"Sk",null,{"$f":"RINKS!#REF!","v":{"$error":"#REF!"}}]
[]
[2,null,"TOTAL SCORE",{"$nulls":12},"TOTAL SCORE"]
[]
["Signature",{"$nulls":12},"Signature"]
[]
[{"$nulls":11},26]
[]
["Time Match Completed:-"]
[{"$f":"RINKS!$N$2","v":"Bateau Bay"}]
[]
[{"$f":"RINKS!$N$6","v":"Monday Mens Mufti."}]
[]
[null,null,"RINK",{"$nulls":5},"DATE"]
[]
[null,null,{"$f":"RINKS!#REF!","v":{"$error":"#REF!"}},{"$nulls":5},{"$f":"RINKS!$N$4","v":"2016-06-26"}]
[]
[{"$f":"RINKS!#REF!","v":{"$error":"#REF!"}},{"$nulls":10},"L",null,{"$f":"RINKS!#REF!","v":{"$error":"#REF!"}}]
[]
[{"$f":"RINKS!#REF!","v":{"$error":"#REF!"}},{"$nulls":10},"S",null,{"$f":"RINKS!#REF!","v":{"$error":"#REF!"}}]
[]
[{"$f":"RINKS!#REF!","v":{"$error":"#REF!"}},{"$nulls":10},"T",null,{"$f":"RINKS!#REF!","v":{"$error":"#REF!"}}]
[]
[{"$f":"RINKS!#REF!","v":{"$error":"#REF!"}},{"$nulls":10},"Sk",null,{"$f":"RINKS!#REF!","v":{"$error":"#REF!"}}]
[]
[2,null,"TOTAL SCORE",{"$nulls":12},"TOTAL SCORE"]
[]
["Signature",{"$nulls":12},"Signature"]
[]
[{"$nulls":11},27]
[]
["Time Match Completed:-"]
[{"$f":"RINKS!$N$2","v":"Bateau Bay"}]
[]
[{"$f":"RINKS!$N$6","v":"Monday Mens Mufti."}]
[]
[null,null,"RINK",{"$nulls":5},"DATE"]
[]
[null,null,{"$f":"RINKS!#REF!","v":{"$error":"#REF!"}},{"$nulls":5},{"$f":"RINKS!$N$4","v":"2016-06-26"}]
[]
[{"$f":"RINKS!#REF!","v":{"$error":"#REF!"}},{"$nulls":10},"L",null,{"$f":"RINKS!#REF!","v":{"$error":"#REF!"}}]
[]
[{"$f":"RINKS!#REF!","v":{"$error":"#REF!"}},{"$nulls":10},"S",null,{"$f":"RINKS!#REF!","v":{"$error":"#REF!"}}]
[]
[{"$f":"RINKS!#REF!","v":{"$error":"#REF!"}},{"$nulls":10},"T",null,{"$f":"RINKS!#REF!","v":{"$error":"#REF!"}}]
[]
[{"$f":"RINKS!#REF!","v":{"$error":"#REF!"}},{"$nulls":10},"Sk",null,{"$f":"RINKS!#REF!","v":{"$error":"#REF!"}}]
[]
[2,null,"TOTAL SCORE",{"$nulls":12},"TOTAL SCORE"]
[]
["Signature",{"$nulls":12},"Signature"]
[]
[{"$nulls":11},28]
[]
["Time Match Completed:-"]

{"sheet":"CARDS 2 REAR","index":7,"n_rows":493,"n_cols":10,"rows_kept":493,"merged":[[0,0,0,1],[0,5,0,9],[2,1,2,2],[2,3,2,4],[2,6,2,7],[2,8,2,9],[17,0,17,1],[17,5,17,9],[19,1,19,2],[19,3,19,4],[19,6,19,7],[19,8,19,9],[34,0,34,1],[34,5,34,9],[36,1,36,2],[36,3,36,4],[36,6,36,7],[36,8,36,9],[51,0,51,1],[51,5,51,9],[53,1,53,2],[53,3,53,4],[53,6,53,7],[53,8,53,9],[68,0,68,1],[68,5,68,9],[70,1,70,2],[70,3,70,4],[70,6,70,7],[70,8,70,9],[85,0,85,1],[85,5,85,9],[87,1,87,2],[87,3,87,4],[87,6,87,7],[87,8,87,9],[102,0,102,1],[102,5,102,9],[104,1,104,2],[104,3,104,4],[104,6,104,7],[104,8,104,9],[119,0,119,1],[119,5,119,9],[121,1,121,2],[121,3,121,4],[121,6,121,7],[121,8,121,9],[136,0,136,1],[136,5,136,9],[138,1,138,2],[138,3,138,4],[138,6,138,7],[138,8,138,9],[153,0,153,1],[153,5,153,9],[155,1,155,2],[155,3,155,4],[155,6,155,7],[155,8,155,9],[170,0,170,1],[170,5,170,9],[172,1,172,2],[172,3,172,4],[172,6,172,7],[172,8,172,9],[187,0,187,1],[187,5,187,9],[189,1,189,2],[189,3,189,4],[189,6,189,7],[189,8,189,9],[204,0,204,1],[204,5,204,9],[206,1,206,2],[206,3,206,4],[206,6,206,7],[206,8,206,9],[221,0,221,1],[221,5,221,9],[223,1,223,2],[223,3,223,4],[223,6,223,7],[223,8,223,9],[238,0,238,1],[238,5,238,9],[240,1,240,2],[240,3,240,4],[240,6,240,7],[240,8,240,9],[255,0,255,1],[255,5,255,9],[257,1,257,2],[257,3,257,4],[257,6,257,7],[257,8,257,9],[272,0,272,1],[272,5,272,9],[274,1,274,2],[274,3,274,4],[274,6,274,7],[274,8,274,9],[289,0,289,1],[289,5,289,9],[291,1,291,2],[291,3,291,4],[291,6,291,7],[291,8,291,9],[306,0,306,1],[306,5,306,9],[308,1,308,2],[308,3,308,4],[308,6,308,7],[308,8,308,9],[323,0,323,1],[323,5,323,9],[325,1,325,2],[325,3,325,4],[325,6,325,7],[325,8,325,9],[340,0,340,1],[340,5,340,9],[342,1,342,2],[342,3,342,4],[342,6,342,7],[342,8,342,9],[357,0,357,1],[357,5,357,9],[359,1,359,2],[359,3,359,4],[359,6,359,7],[359,8,359,9],[374,0,374,1],[374,5,374,9],[376,1,376,2],[376,3,376,4],[376,6,376,7],[376,8,376,9],[391,0,391,1],[391,5,391,9],[393,1,393,2],[393,3,393,4],[393,6,393,7],[393,8,393,9],[408,0,408,1],[408,5,408,9],[410,1,410,2],[410,3,410,4],[410,6,410,7],[410,8,410,9],[425,0,425,1],[425,5,425,9],[427,1,427,2],[427,3,427,4],[427,6,427,7],[427,8,427,9],[442,0,442,1],[442,5,442,9],[444,1,444,2],[444,3,444,4],[444,6,444,7],[444,8,444,9],[459,0,459,1],[459,5,459,9],[461,1,461,2],[461,3,461,4],[461,6,461,7],[461,8,461,9],[476,0,476,1],[476,5,476,9],[478,1,478,2],[478,3,478,4],[478,6,478,7],[478,8,478,9]]}
["RINK",null,{"$f":"'CARDS 2'!$C$7","v":0},null,"SKIP",{"$f":"'CARDS 2'!$A$15","v":""}]
[2]
[null,{"$f":"'CARDS 2'!$A$15","v":""},null,{"$f":"'CARDS 2'!$N$15","v":""},null,null,{"$f":"'CARDS 2'!$A$15","v":""},null,{"$f":"'CARDS 2'!$N$15","v":""}]
["End","Shots","Total","Shots","Total","End","Shots","Total","Shots","Total"]
[1,{"$nulls":4},14]
[2,{"$nulls":4},15]
[3,{"$nulls":4},16]
[4,{"$nulls":4},17]
[5,{"$nulls":4},18]
[6,{"$nulls":4},19]
[7,{"$nulls":4},20]
[8,{"$nulls":4},21]
[9,{"$nulls":4},22]
[10,{"$nulls":4},23]
[11,{"$nulls":4},24]
[12,{"$nulls":4},25]
[13,{"$nulls":4},"T"]
["RINK",null,{"$f":"'CARDS 2'!$C$30","v":0},null,"SKIP",{"$f":"'CARDS 2'!$A$38","v":""}]
[2]
[null,{"$f":"'CARDS 2'!$A$38","v":""},null,{"$f":"'CARDS 2'!$N$38","v":""},null,null,{"$f":"'CARDS 2'!$A$38","v":""},null,{"$f":"'CARDS 2'!$N$38","v":""}]
["End","Shots","Total","Shots","Total","End","Shots","Total","Shots","Total"]
[1,{"$nulls":4},14]
[2,{"$nulls":4},15]
[3,{"$nulls":4},16]
[4,{"$nulls":4},17]
[5,{"$nulls":4},18]
[6,{"$nulls":4},19]
[7,{"$nulls":4},20]
[8,{"$nulls":4},21]
[9,{"$nulls":4},22]
[10,{"$nulls":4},23]
[11,{"$nulls":4},24]
[12,{"$nulls":4},25]
[13,{"$nulls":4},"T"]
["RINK",null,{"$f":"'CARDS 2'!$C$53","v":0},null,"SKIP",{"$f":"'CARDS 2'!$A$61","v":""}]
[2]
[null,{"$f":"'CARDS 2'!$A$61","v":""},null,{"$f":"'CARDS 2'!$N$61","v":""},null,null,{"$f":"'CARDS 2'!$A$61","v":""},null,{"$f":"'CARDS 2'!$N$61","v":""}]
["End","Shots","Total","Shots","Total","End","Shots","Total","Shots","Total"]
[1,{"$nulls":4},14]
[2,{"$nulls":4},15]
[3,{"$nulls":4},16]
[4,{"$nulls":4},17]
[5,{"$nulls":4},18]
[6,{"$nulls":4},19]
[7,{"$nulls":4},20]
[8,{"$nulls":4},21]
[9,{"$nulls":4},22]
[10,{"$nulls":4},23]
[11,{"$nulls":4},24]
[12,{"$nulls":4},25]
[13,{"$nulls":4},"T"]
["RINK",null,{"$f":"'CARDS 2'!$C$76","v":0},null,"SKIP",{"$f":"'CARDS 2'!$A$84","v":""}]
[2]
[null,{"$f":"'CARDS 2'!$A$84","v":""},null,{"$f":"'CARDS 2'!$N$84","v":""},null,null,{"$f":"'CARDS 2'!$A$84","v":""},null,{"$f":"'CARDS 2'!$N$84","v":""}]
["End","Shots","Total","Shots","Total","End","Shots","Total","Shots","Total"]
[1,{"$nulls":4},14]
[2,{"$nulls":4},15]
[3,{"$nulls":4},16]
[4,{"$nulls":4},17]
[5,{"$nulls":4},18]
[6,{"$nulls":4},19]
[7,{"$nulls":4},20]
[8,{"$nulls":4},21]
[9,{"$nulls":4},22]
[10,{"$nulls":4},23]
[11,{"$nulls":4},24]
[12,{"$nulls":4},25]
[13,{"$nulls":4},"T"]
["RINK",null,{"$f":"'CARDS 2'!$C$99","v":0},null,"SKIP",{"$f":"'CARDS 2'!$A$107","v":""}]
[2]
[null,{"$f":"'CARDS 2'!$A$107","v":""},null,{"$f":"'CARDS 2'!$N$107","v":""},null,null,{"$f":"'CARDS 2'!$A$107","v":""},null,{"$f":"'CARDS 2'!$N$107","v":""}]
["End","Shots","Total","Shots","Total","End","Shots","Total","Shots","Total"]
[1,{"$nulls":4},14]
[2,{"$nulls":4},15]
[3,{"$nulls":4},16]
[4,{"$nulls":4},17]
[5,{"$nulls":4},18]
[6,{"$nulls":4},19]
[7,{"$nulls":4},20]
[8,{"$nulls":4},21]
[9,{"$nulls":4},22]
[10,{"$nulls":4},23]
[11,{"$nulls":4},24]
[12,{"$nulls":4},25]
[13,{"$nulls":4},"T"]
["RINK",null,{"$f":"'CARDS 2'!$C$122","v":0},null,"SKIP",{"$f":"'CARDS 2'!$A$130","v":""}]
[2]
[null,{"$f":"'CARDS 2'!$A$130","v":""},null,{"$f":"'CARDS 2'!$N$130","v":""},null,null,{"$f":"'CARDS 2'!$A$130","v":""},null,{"$f":"'CARDS 2'!$N$130","v":""}]
["End","Shots","Total","Shots","Total","End","Shots","Total","Shots","Total"]
[1,{"$nulls":4},14]
[2,{"$nulls":4},15]
[3,{"$nulls":4},16]
[4,{"$nulls":4},17]
[5,{"$nulls":4},18]
[6,{"$nulls":4},19]
[7,{"$nulls":4},20]
[8,{"$nulls":4},21]
[9,{"$nulls":4},22]
[10,{"$nulls":4},23]
[11,{"$nulls":4},24]
[12,{"$nulls":4},25]
[13,{"$nulls":4},"T"]
["RINK",null,{"$f":"'CARDS 2'!$C$145","v":0},null,"SKIP",{"$f":"'CARDS 2'!$A$153","v":""}]
[2]
[null,{"$f":"'CARDS 2'!$A$153","v":""},null,{"$f":"'CARDS 2'!$N$153","v":""},null,null,{"$f":"'CARDS 2'!$A$153","v":""},null,{"$f":"'CARDS 2'!$N$153","v":""}]
["End","Shots","Total","Shots","Total","End","Shots","Total","Shots","Total"]
[1,{"$nulls":4},14]
[2,{"$nulls":4},15]
[3,{"$nulls":4},16]
[4,{"$nulls":4},17]
[5,{"$nulls":4},18]
[6,{"$nulls":4},19]
[7,{"$nulls":4},20]
[8,{"$nulls":4},21]
[9,{"$nulls":4},22]
[10,{"$nulls":4},23]
[11,{"$nulls":4},24]
[12,{"$nulls":4},25]
[13,{"$nulls":4},"T"]
["RINK",null,{"$f":"'CARDS 2'!$C$168","v":0},null,"SKIP",{"$f":"'CARDS 2'!$A$176","v":""}]
[2]
[null,{"$f":"'CARDS 2'!$A$176","v":""},null,{"$f":"'CARDS 2'!$N$176","v":""},null,null,{"$f":"'CARDS 2'!$A$176","v":""},null,{"$f":"'CARDS 2'!$N$176","v":""}]
["End","Shots","Total","Shots","Total","End","Shots","Total","Shots","Total"]
[1,{"$nulls":4},14]
[2,{"$nulls":4},15]
[3,{"$nulls":4},16]
[4,{"$nulls":4},17]
[5,{"$nulls":4},18]
[6,{"$nulls":4},19]
[7,{"$nulls":4},20]
[8,{"$nulls":4},21]
[9,{"$nulls":4},22]
[10,{"$nulls":4},23]
[11,{"$nulls":4},24]
[12,{"$nulls":4},25]
[13,{"$nulls":4},"T"]
["RINK",null,{"$f":"'CARDS 2'!$C$191","v":0},null,"SKIP",{"$f":"'CARDS 2'!$A$199","v":""}]
[2]
[null,{"$f":"'CARDS 2'!$A$199","v":""},null,{"$f":"'CARDS 2'!$N$199","v":""},null,null,{"$f":"'CARDS 2'!$A$199","v":""},null,{"$f":"'CARDS 2'!$N$199","v":""}]
["End","Shots","Total","Shots","Total","End","Shots","Total","Shots","Total"]
[1,{"$nulls":4},14]
[2,{"$nulls":4},15]
[3,{"$nulls":4},16]
[4,{"$nulls":4},17]
[5,{"$nulls":4},18]
[6,{"$nulls":4},19]
[7,{"$nulls":4},20]
[8,{"$nulls":4},21]
[9,{"$nulls":4},22]
[10,{"$nulls":4},23]
[11,{"$nulls":4},24]
[12,{"$nulls":4},25]
[13,{"$nulls":4},"T"]
["RINK",null,{"$f":"'CARDS 2'!$C$214","v":0},null,"SKIP",{"$f":"'CARDS 2'!$A$222","v":""}]
[2]
[null,{"$f":"'CARDS 2'!$A$222","v":""},null,{"$f":"'CARDS 2'!$N$222","v":""},null,null,{"$f":"'CARDS 2'!$A$222","v":""},null,{"$f":"'CARDS 2'!$N$222","v":""}]
["End","Shots","Total","Shots","Total","End","Shots","Total","Shots","Total"]
[1,{"$nulls":4},14]
[2,{"$nulls":4},15]
[3,{"$nulls":4},16]
[4,{"$nulls":4},17]
[5,{"$nulls":4},18]
[6,{"$nulls":4},19]
[7,{"$nulls":4},20]
[8,{"$nulls":4},21]
[9,{"$nulls":4},22]
[10,{"$nulls":4},23]
[11,{"$nulls":4},24]
[12,{"$nulls":4},25]
[13,{"$nulls":4},"T"]
["RINK",null,{"$f":"'CARDS 2'!$C$237","v":0},null,"SKIP",{"$f":"'CARDS 2'!$A$245","v":""}]
[2]
[null,{"$f":"'CARDS 2'!$A$245","v":""},null,{"$f":"'CARDS 2'!$N$245","v":""},null,null,{"$f":"'CARDS 2'!$A$245","v":""},null,{"$f":"'CARDS 2'!$N$245","v":""}]
["End","Shots","Total","Shots","Total","End","Shots","Total","Shots","Total"]
[1,{"$nulls":4},14]
[2,{"$nulls":4},15]
[3,{"$nulls":4},16]
[4,{"$nulls":4},17]
[5,{"$nulls":4},18]
[6,{"$nulls":4},19]
[7,{"$nulls":4},20]
[8,{"$nulls":4},21]
[9,{"$nulls":4},22]
[10,{"$nulls":4},23]
[11,{"$nulls":4},24]
[12,{"$nulls":4},25]
[13,{"$nulls":4},"T"]
["RINK",null,{"$f":"'CARDS 2'!$C$260","v":0},null,"SKIP",{"$f":"'CARDS 2'!$A$268","v":""}]
[2]
[null,{"$f":"'CARDS 2'!$A$268","v":""},null,{"$f":"'CARDS 2'!$N$268","v":""},null,null,{"$f":"'CARDS 2'!$A$268","v":""},null,{"$f":"'CARDS 2'!$N$268","v":""}]
["End","Shots","Total","Shots","Total","End","Shots","Total","Shots","Total"]
[1,{"$nulls":4},14]
[2,{"$nulls":4},15]
[3,{"$nulls":4},16]
[4,{"$nulls":4},17]
[5,{"$nulls":4},18]
[6,{"$nulls":4},19]
[7,{"$nulls":4},20]
[8,{"$nulls":4},21]
[9,{"$nulls":4},22]
[10,{"$nulls":4},23]
[11,{"$nulls":4},24]
[12,{"$nulls":4},25]
[13,{"$nulls":4},"T"]
["RINK",null,{"$f":"'CARDS 2'!$C$283","v":0},null,"SKIP",{"$f":"'CARDS 2'!$A$291","v":""}]
[2]
[null,{"$f":"'CARDS 2'!$A$291","v":""},null,{"$f":"'CARDS 2'!$N$291","v":""},null,null,{"$f":"'CARDS 2'!$A$291","v":""},null,{"$f":"'CARDS 2'!$N$291","v":""}]
["End","Shots","Total","Shots","Total","End","Shots","Total","Shots","Total"]
[1,{"$nulls":4},14]
[2,{"$nulls":4},15]
[3,{"$nulls":4},16]
[4,{"$nulls":4},17]
[5,{"$nulls":4},18]
[6,{"$nulls":4},19]
[7,{"$nulls":4},20]
[8,{"$nulls":4},21]
[9,{"$nulls":4},22]
[10,{"$nulls":4},23]
[11,{"$nulls":4},24]
[12,{"$nulls":4},25]
[13,{"$nulls":4},"T"]
["RINK",null,{"$f":"'CARDS 2'!$C$306","v":0},null,"SKIP",{"$f":"'CARDS 2'!$A$314","v":""}]
[2]
[null,{"$f":"'CARDS 2'!$A$314","v":""},null,{"$f":"'CARDS 2'!$N$314","v":""},null,null,{"$f":"'CARDS 2'!$A$314","v":""},null,{"$f":"'CARDS 2'!$N$314","v":""}]
["End","Shots","Total","Shots","Total","End","Shots","Total","Shots","Total"]
[1,{"$nulls":4},14]
[2,{"$nulls":4},15]
[3,{"$nulls":4},16]
[4,{"$nulls":4},17]
[5,{"$nulls":4},18]
[6,{"$nulls":4},19]
[7,{"$nulls":4},20]
[8,{"$nulls":4},21]
[9,{"$nulls":4},22]
[10,{"$nulls":4},23]
[11,{"$nulls":4},24]
[12,{"$nulls":4},25]
[13,{"$nulls":4},"T"]
["RINK",null,{"$f":"'CARDS 2'!$C$329","v":0},null,"SKIP",{"$f":"'CARDS 2'!$A$337","v":""}]
[2]
[null,{"$f":"'CARDS 2'!$A$337","v":""},null,{"$f":"'CARDS 2'!$N$337","v":""},null,null,{"$f":"'CARDS 2'!$A$337","v":""},null,{"$f":"'CARDS 2'!$N$337","v":""}]
["End","Shots","Total","Shots","Total","End","Shots","Total","Shots","Total"]
[1,{"$nulls":4},14]
[2,{"$nulls":4},15]
[3,{"$nulls":4},16]
[4,{"$nulls":4},17]
[5,{"$nulls":4},18]
[6,{"$nulls":4},19]
[7,{"$nulls":4},20]
[8,{"$nulls":4},21]
[9,{"$nulls":4},22]
[10,{"$nulls":4},23]
[11,{"$nulls":4},24]
[12,{"$nulls":4},25]
[13,{"$nulls":4},"T"]
["RINK",null,{"$f":"'CARDS 2'!$C$352","v":0},null,"SKIP",{"$f":"'CARDS 2'!$A$360","v":""}]
[2]
[null,{"$f":"'CARDS 2'!$A$360","v":""},null,{"$f":"'CARDS 2'!$N$360","v":""},null,null,{"$f":"'CARDS 2'!$A$360","v":""},null,{"$f":"'CARDS 2'!$N$360","v":""}]
["End","Shots","Total","Shots","Total","End","Shots","Total","Shots","Total"]
[1,{"$nulls":4},14]
[2,{"$nulls":4},15]
[3,{"$nulls":4},16]
[4,{"$nulls":4},17]
[5,{"$nulls":4},18]
[6,{"$nulls":4},19]
[7,{"$nulls":4},20]
[8,{"$nulls":4},21]
[9,{"$nulls":4},22]
[10,{"$nulls":4},23]
[11,{"$nulls":4},24]
[12,{"$nulls":4},25]
[13,{"$nulls":4},"T"]
["RINK",null,{"$f":"'CARDS 2'!$C$375","v":0},null,"SKIP",{"$f":"'CARDS 2'!$A$383","v":""}]
[2]
[null,{"$f":"'CARDS 2'!$A$383","v":""},null,{"$f":"'CARDS 2'!$N$383","v":""},null,null,{"$f":"'CARDS 2'!$A$383","v":""},null,{"$f":"'CARDS 2'!$N$383","v":""}]
["End","Shots","Total","Shots","Total","End","Shots","Total","Shots","Total"]
[1,{"$nulls":4},14]
[2,{"$nulls":4},15]
[3,{"$nulls":4},16]
[4,{"$nulls":4},17]
[5,{"$nulls":4},18]
[6,{"$nulls":4},19]
[7,{"$nulls":4},20]
[8,{"$nulls":4},21]
[9,{"$nulls":4},22]
[10,{"$nulls":4},23]
[11,{"$nulls":4},24]
[12,{"$nulls":4},25]
[13,{"$nulls":4},"T"]
["RINK",null,{"$f":"'CARDS 2'!$C$398","v":0},null,"SKIP",{"$f":"'CARDS 2'!$A$406","v":""}]
[2]
[null,{"$f":"'CARDS 2'!$A$406","v":""},null,{"$f":"'CARDS 2'!$N$406","v":""},null,null,{"$f":"'CARDS 2'!$A$406","v":""},null,{"$f":"'CARDS 2'!$N$406","v":""}]
["End","Shots","Total","Shots","Total","End","Shots","Total","Shots","Total"]
[1,{"$nulls":4},14]
[2,{"$nulls":4},15]
[3,{"$nulls":4},16]
[4,{"$nulls":4},17]
[5,{"$nulls":4},18]
[6,{"$nulls":4},19]
[7,{"$nulls":4},20]
[8,{"$nulls":4},21]
[9,{"$nulls":4},22]
[10,{"$nulls":4},23]
[11,{"$nulls":4},24]
[12,{"$nulls":4},25]
[13,{"$nulls":4},"T"]
["RINK",null,{"$f":"'CARDS 2'!$C$421","v":0},null,"SKIP",{"$f":"'CARDS 2'!$A$429","v":""}]
[2]
[null,{"$f":"'CARDS 2'!$A$429","v":""},null,{"$f":"'CARDS 2'!$N$429","v":""},null,null,{"$f":"'CARDS 2'!$A$429","v":""},null,{"$f":"'CARDS 2'!$N$429","v":""}]
["End","Shots","Total","Shots","Total","End","Shots","Total","Shots","Total"]
[1,{"$nulls":4},14]
[2,{"$nulls":4},15]
[3,{"$nulls":4},16]
[4,{"$nulls":4},17]
[5,{"$nulls":4},18]
[6,{"$nulls":4},19]
[7,{"$nulls":4},20]
[8,{"$nulls":4},21]
[9,{"$nulls":4},22]
[10,{"$nulls":4},23]
[11,{"$nulls":4},24]
[12,{"$nulls":4},25]
[13,{"$nulls":4},"T"]
["RINK",null,{"$f":"'CARDS 2'!$C$444","v":0},null,"SKIP",{"$f":"'CARDS 2'!$A$452","v":""}]
[2]
[null,{"$f":"'CARDS 2'!$A$452","v":""},null,{"$f":"'CARDS 2'!$N$452","v":""},null,null,{"$f":"'CARDS 2'!$A$452","v":""},null,{"$f":"'CARDS 2'!$N$452","v":""}]
["End","Shots","Total","Shots","Total","End","Shots","Total","Shots","Total"]
[1,{"$nulls":4},14]
[2,{"$nulls":4},15]
[3,{"$nulls":4},16]
[4,{"$nulls":4},17]
[5,{"$nulls":4},18]
[6,{"$nulls":4},19]
[7,{"$nulls":4},20]
[8,{"$nulls":4},21]
[9,{"$nulls":4},22]
[10,{"$nulls":4},23]
[11,{"$nulls":4},24]
[12,{"$nulls":4},25]
[13,{"$nulls":4},"T"]
["RINK",null,{"$f":"'CARDS 2'!$C$467","v":0},null,"SKIP",{"$f":"'CARDS 2'!$A$475","v":""}]
[2]
[null,{"$f":"'CARDS 2'!$A$475","v":""},null,{"$f":"'CARDS 2'!$N$475","v":""},null,null,{"$f":"'CARDS 2'!$A$475","v":""},null,{"$f":"'CARDS 2'!$N$475","v":""}]
["End","Shots","Total","Shots","Total","End","Shots","Total","Shots","Total"]
[1,{"$nulls":4},14]
[2,{"$nulls":4},15]
[3,{"$nulls":4},16]
[4,{"$nulls":4},17]
[5,{"$nulls":4},18]
[6,{"$nulls":4},19]
[7,{"$nulls":4},20]
[8,{"$nulls":4},21]
[9,{"$nulls":4},22]
[10,{"$nulls":4},23]
[11,{"$nulls":4},24]
[12,{"$nulls":4},25]
[13,{"$nulls":4},"T"]
["RINK",null,{"$f":"'CARDS 2'!$C$490","v":{"$error":"#REF!"}},null,"SKIP",{"$f":"'CARDS 2'!$A$498","v":{"$error":"#REF!"}}]
[2]
[null,{"$f":"'CARDS 2'!$A$498","v":{"$error":"#REF!"}},null,{"$f":"'CARDS 2'!$N$498","v":{"$error":"#REF!"}},null,null,{"$f":"'CARDS 2'!$A$498","v":{"$error":"#REF!"}},null,{"$f":"'CARDS 2'!$N$498","v":{"$error":"#REF!"}}]
["End","Shots","Total","Shots","Total","End","Shots","Total","Shots","Total"]
[1,{"$nulls":4},14]
[2,{"$nulls":4},15]
[3,{"$nulls":4},16]
[4,{"$nulls":4},17]
[5,{"$nulls":4},18]
[6,{"$nulls":4},19]
[7,{"$nulls":4},20]
[8,{"$nulls":4},21]
[9,{"$nulls":4},22]
[10,{"$nulls":4},23]
[11,{"$nulls":4},24]
[12,{"$nulls":4},25]
[13,{"$nulls":4},"T"]
["RINK",null,{"$f":"'CARDS 2'!$C$513","v":{"$error":"#REF!"}},null,"SKIP",{"$f":"'CARDS 2'!$A$521","v":{"$error":"#REF!"}}]
[2]
[null,{"$f":"'CARDS 2'!$A$521","v":{"$error":"#REF!"}},null,{"$f":"'CARDS 2'!$N$521","v":{"$error":"#REF!"}},null,null,{"$f":"'CARDS 2'!$A$521","v":{"$error":"#REF!"}},null,{"$f":"'CARDS 2'!$N$521","v":{"$error":"#REF!"}}]
["End","Shots","Total","Shots","Total","End","Shots","Total","Shots","Total"]
[1,{"$nulls":4},14]
[2,{"$nulls":4},15]
[3,{"$nulls":4},16]
[4,{"$nulls":4},17]
[5,{"$nulls":4},18]
[6,{"$nulls":4},19]
[7,{"$nulls":4},20]
[8,{"$nulls":4},21]
[9,{"$nulls":4},22]
[10,{"$nulls":4},23]
[11,{"$nulls":4},24]
[12,{"$nulls":4},25]
[13,{"$nulls":4},"T"]
["RINK",null,{"$f":"'CARDS 2'!$C$536","v":{"$error":"#REF!"}},null,"SKIP",{"$f":"'CARDS 2'!$A$544","v":{"$error":"#REF!"}}]
[2]
[null,{"$f":"'CARDS 2'!$A$544","v":{"$error":"#REF!"}},null,{"$f":"'CARDS 2'!$N$544","v":{"$error":"#REF!"}},null,null,{"$f":"'CARDS 2'!$A$544","v":{"$error":"#REF!"}},null,{"$f":"'CARDS 2'!$N$544","v":{"$error":"#REF!"}}]
["End","Shots","Total","Shots","Total","End","Shots","Total","Shots","Total"]
[1,{"$nulls":4},14]
[2,{"$nulls":4},15]
[3,{"$nulls":4},16]
[4,{"$nulls":4},17]
[5,{"$nulls":4},18]
[6,{"$nulls":4},19]
[7,{"$nulls":4},20]
[8,{"$nulls":4},21]
[9,{"$nulls":4},22]
[10,{"$nulls":4},23]
[11,{"$nulls":4},24]
[12,{"$nulls":4},25]
[13,{"$nulls":4},"T"]
["RINK",null,{"$f":"'CARDS 2'!$C$559","v":{"$error":"#REF!"}},null,"SKIP",{"$f":"'CARDS 2'!$A$567","v":{"$error":"#REF!"}}]
[2]
[null,{"$f":"'CARDS 2'!$A$567","v":{"$error":"#REF!"}},null,{"$f":"'CARDS 2'!$N$567","v":{"$error":"#REF!"}},null,null,{"$f":"'CARDS 2'!$A$567","v":{"$error":"#REF!"}},null,{"$f":"'CARDS 2'!$N$567","v":{"$error":"#REF!"}}]
["End","Shots","Total","Shots","Total","End","Shots","Total","Shots","Total"]
[1,{"$nulls":4},14]
[2,{"$nulls":4},15]
[3,{"$nulls":4},16]
[4,{"$nulls":4},17]
[5,{"$nulls":4},18]
[6,{"$nulls":4},19]
[7,{"$nulls":4},20]
[8,{"$nulls":4},21]
[9,{"$nulls":4},22]
[10,{"$nulls":4},23]
[11,{"$nulls":4},24]
[12,{"$nulls":4},25]
[13,{"$nulls":4},"T"]
["RINK",null,{"$f":"'CARDS 2'!$C$582","v":{"$error":"#REF!"}},null,"SKIP",{"$f":"'CARDS 2'!$A$590","v":{"$error":"#REF!"}}]
[2]
[null,{"$f":"'CARDS 2'!$A$590","v":{"$error":"#REF!"}},null,{"$f":"'CARDS 2'!$N$590","v":{"$error":"#REF!"}},null,null,{"$f":"'CARDS 2'!$A$590","v":{"$error":"#REF!"}},null,{"$f":"'CARDS 2'!$N$590","v":{"$error":"#REF!"}}]
["End","Shots","Total","Shots","Total","End","Shots","Total","Shots","Total"]
[1,{"$nulls":4},14]
[2,{"$nulls":4},15]
[3,{"$nulls":4},16]
[4,{"$nulls":4},17]
[5,{"$nulls":4},18]
[6,{"$nulls":4},19]
[7,{"$nulls":4},20]
[8,{"$nulls":4},21]
[9,{"$nulls":4},22]
[10,{"$nulls":4},23]
[11,{"$nulls":4},24]
[12,{"$nulls":4},25]
[13,{"$nulls":4},"T"]
["RINK",null,{"$f":"'CARDS 2'!$C$605","v":{"$error":"#REF!"}},null,"SKIP",{"$f":"'CARDS 2'!$A$613","v":{"$error":"#REF!"}}]
[2]
[null,{"$f":"'CARDS 2'!$A$613","v":{"$error":"#REF!"}},null,{"$f":"'CARDS 2'!$N$613","v":{"$error":"#REF!"}},null,null,{"$f":"'CARDS 2'!$A$613","v":{"$error":"#REF!"}},null,{"$f":"'CARDS 2'!$N$613","v":{"$error":"#REF!"}}]
["End","Shots","Total","Shots","Total","End","Shots","Total","Shots","Total"]
[1,{"$nulls":4},14]
[2,{"$nulls":4},15]
[3,{"$nulls":4},16]
[4,{"$nulls":4},17]
[5,{"$nulls":4},18]
[6,{"$nulls":4},19]
[7,{"$nulls":4},20]
[8,{"$nulls":4},21]
[9,{"$nulls":4},22]
[10,{"$nulls":4},23]
[11,{"$nulls":4},24]
[12,{"$nulls":4},25]
[13,{"$nulls":4},"T"]
["RINK",null,{"$f":"'CARDS 2'!$C$628","v":{"$error":"#REF!"}},null,"SKIP",{"$f":"'CARDS 2'!$A$636","v":{"$error":"#REF!"}}]
[2]
[null,{"$f":"'CARDS 2'!$A$636","v":{"$error":"#REF!"}},null,{"$f":"'CARDS 2'!$N$636","v":{"$error":"#REF!"}},null,null,{"$f":"'CARDS 2'!$A$636","v":{"$error":"#REF!"}},null,{"$f":"'CARDS 2'!$N$636","v":{"$error":"#REF!"}}]
["End","Shots","Total","Shots","Total","End","Shots","Total","Shots","Total"]
[1,{"$nulls":4},14]
[2,{"$nulls":4},15]
[3,{"$nulls":4},16]
[4,{"$nulls":4},17]
[5,{"$nulls":4},18]
[6,{"$nulls":4},19]
[7,{"$nulls":4},20]
[8,{"$nulls":4},21]
[9,{"$nulls":4},22]
[10,{"$nulls":4},23]
[11,{"$nulls":4},24]
[12,{"$nulls":4},25]
[13,{"$nulls":4},"T"]
["RINK",{"$nulls":3},"SKIP"]
[2]
[]
["End","Shots","Total","Shots","Total","End","Shots","Total","Shots","Total"]
[1,{"$nulls":4},14]
[2,{"$nulls":4},15]
[3,{"$nulls":4},16]
[4,{"$nulls":4},17]
[5,{"$nulls":4},18]
[6,{"$nulls":4},19]
[7,{"$nulls":4},20]
[8,{"$nulls":4},21]
[9,{"$nulls":4},22]
[10,{"$nulls":4},23]
[11,{"$nulls":4},24]
[12,{"$nulls":4},25]
[13,{"$nulls":4},"T"]

{"sheet":"Rink allocation","index":8,"n_rows":37,"n_cols":12,"rows_kept":37,"merged":[[2,1,2,5],[2,7,2,11]]}
[]
[]
[null,"14 Rinks available",{"$nulls":5},"7 Rinks Available"]
[null,"Number Bowlers","Pairs Games","Triples Games","Fours Games","Rinks used",null,"Number Bowlers","Pairs Games","Triples Games","Fours Games","Rinks used"]
[null,20,5,null,null,5,null,20,5,null,null,5]
[null,22,4,1,null,5,null,22,4,1,null,5]
[null,24,6,null,null,6,null,24,6,null,null,6]
[null,26,5,1,null,6,null,26,5,1,null,6]
[null,28,7,null,null,7,null,28,7,null,null,7]
[null,30,6,1,null,7,null,30,6,1,null,7]
[null,32,8,null,null,8,null,32,5,2,null,7]
[null,34,7,1,null,8,null,34,4,3,null,7]
[null,36,9,null,null,9,null,36,3,4,null,7]
[null,38,8,1,null,9,null,38,2,5,null,7]
[null,40,10,null,null,10,null,40,1,6,null,7]
[null,42,9,1,null,10,null,42,null,7,null,7]
[null,44,11,null,null,11,null,44,null,6,1,7]
[null,46,10,1,null,11,null,46,null,5,2,7]
[null,48,12,null,null,12,null,48,null,4,3,7]
[null,50,11,1,null,12,null,50,null,3,4,7]
[null,52,13,null,null,13,null,52,null,2,5,7]
[null,54,12,1,null,13,null,54,null,1,6,7]
[null,56,14,null,null,14,null,56,null,null,7,7]
[null,58,13,1,null,14]
[null,60,12,2,null,14]
[null,62,11,3,null,14]
[null,64,10,4,null,14]
[null,66,9,5,null,14]
[null,68,8,6,null,14]
[null,70,7,7,null,14]
[null,72,6,8,null,14]
[null,74,5,9,null,14]
[null,76,4,10,null,14]
[null,78,3,11,null,14]
[null,80,2,12,null,14]
[null,82,1,13,null,14]
[null,84,null,14,null,14]

{"sheet":"Sheet2","index":9,"n_rows":165,"n_cols":4,"rows_kept":165,"hidden":true}
["ADAMS GREGORY",2,"Y","P"]
["ADAMS LEIGH","Sk"]
["ALCHIN RONALD","Sk"]
["ALFORD  JOHN","Sk"]
["ALLAN JOHN",3]
["ANDERSON JAMES","L","Y"]
["ARTHUR CLINTON",3]
["BAILEY LINDSAY","L"]
["BALFE WAYNE",3]
["BARBER  ALAN","Sk"]
["BELLETTE ELWIN","Sk"]
["BENNETTS IAN",2,"Y","P"]
["BERRY COLIN","Sk"]
["BINNS BRAD",3]
["BINNS BRUCE",2]
["BINNS GRANT",3]
["BOSTOCK WALTER","Sk"]
["BOYD HARLEY",2,"Y"]
["BRAHM SCOTT",2]
["BRAIN REGINALD","L"]
["BRESSINGTON MARK","Sk"]
["BRIDEKIRK BRIAN",2]
["BROWN BERNARD",2]
["BROWN IAN","L","Y"]
["BROWN REX",3]
["BROWN RUSSELL","L"]
["BRYAN TERENCE",2]
["BURNS JOHN",2]
["BURT  MARK","Sk"]
["BURTON RAYMOND","L","Y","P"]
["CAINES ABBEY","Sk"]
["CALLAGHAN GRAHAM",3]
["CARUANA GUY",2]
["CASWELL ROY",3]
["CHADWICK THEO","L"]
["CHALLIS PAUL",2,"Y"]
["CHAPMAN ALAN",2]
["CLARK GEORGE","L"]
["CLARKE ROBERT",2]
["COLEMAN KENNETH","Sk"]
["COUDIS GEORGE","Sk","Y"]
["COX MAURICE",3]
["CRAFT EDWARD","Sk"]
["CRAGG ALLAN",2]
["CRISPIN DALE","Sk","Y","P"]
["CROMACK ROBERT",2]
["CROUCHER JAMES","L","Y"]
["CURWEN DAVID","L"]
["DAVIES  NEIL","L"]
["DEASEY JOHN","Sk","Y"]
["DENT WILLIAM",2]
["DREW LAURENCE",2,"Y"]
["EATHER ROLAND","L"]
["EDWARDS JOHN",3]
["ELLIS JOHN",3]
["EVANS IAN","Sk","Y"]
["FARRELL TERENCE","L"]
["FATHERS NORMAN",3,"Y"]
["FRANKLIN RICHARD","Sk"]
["FRASER ROBIN","L","Y"]
["GIFFORD ALLAN","L"]
["GILLETT DEAN",2]
["GOLSBY ROGER","L"]
["GOW ROBERT",3]
["GRIFFITHS ROBERT",2,"Y"]
["HARDING RONALD",2]
["HARRIS ERIC","L","Y"]
["HARRIS JOHN","Sk"]
["HARTLEY GARY",2]
["HASSAN ROBERT",3]
["HAWKINS DOUGLAS",3]
["HEATON JOHN",3,"Y"]
["HEXTALL ARTHUR","L"]
["HINCKS GAVIN",3]
["HOFFMAN BRIAN","L"]
["HOLMES MARK","L","Y"]
["HOWELLS MAXWELL","L"]
["HUNTER BRUCE","Sk","Y"]
["INGHAM ANDREW",2]
["ISAAC DAVID",3]
["JOHNSON EDWARD",3]
["JOHNSON STEPHEN","L","Y"]
["JOPSON BERNARD",2]
["JOSS ALAN",3,"Y"]
["KOSTAL ERNST","Sk"]
["LADICS STEPHEN","Sk"]
["LAMONT ALEXANDER","L","Y"]
["LASSCOCK WESLEY",2]
["LAUGWITZ  KARL",2]
["LEE THOMAS",3,"Y"]
["LEET JACK",3]
["LEPORE SANTE",3,"Y"]
["LERWAY JOHN","L"]
["LYONS WARWICK","L","Y"]
["MANSFIELD NEVILLE",2]
["MARTIN SHANE","L"]
["MATHIESON  GLEN","Sk"]
["MAY LAURIE",2,"Y"]
["MCCLURE GEORGE","Sk","Y"]
["MCCULLOUGH CECIL","Sk"]
["MCDEVITT DENIS",2]
["MCDONALD KENNETH","L"]
["MCELHONE JOSEPH","L"]
["MCEVOY PAUL","Sk"]
["MCLEOD  ALLAN","L","Y"]
["MCMILLAN ROBERT","Sk"]
["MIHALIC JOHN","Sk","Y"]
["MURPHY PHILLIP","L"]
["MURPHY WILLIAM",3]
["NEEDHAM GREGORY","L"]
["NIHILL STEPHEN","L"]
["NIXON PAUL",3]
["NOLAN  PETER",2]
["NORRIS GRAHAM",3]
["OLSEN PETER",3]
["O'NEILL KEVIN",3]
["PARKHILL ROBERT","Sk"]
["PARRY ROBERT",3]
["PARSONS EDWIN",3]
["PARSONS JOHN","L"]
["PARTRIDGE JOHN",2]
["PAYNE ANTHONY",3]
["PETERSON BARRY","Sk"]
["PIKE TERRY",2]
["PINI CHRISTOPHER",2]
["PINK SIDNEY","Sk"]
["PITTS IAN",3]
["PLUMB STEPHEN",3]
["POLLOCK ALAN","L"]
["POND WILLIAM",2]
["POWE RICHARD","Sk"]
["PRESDEE RAYMOND",2]
["PRICE KELVIN","Sk"]
["RADMANOVIC BOB","Sk"]
["RING DAVID",3]
["ROBINS GUY","Sk"]
["RUSSELL IAN",3]
["RYAN CHARLES","Sk"]
["SAUNDERS PETER",2]
["SCHERER ROLF","L"]
["SCUTTS REGINALD",3]
["SHARP EDWARD",2]
["SHEARWOOD BARRY",3]
["SINCLAIR PAUL","L"]
["SISTROM JOHN","L"]
["SKINNER JOHN",3]
["SMITH STEPHEN",3]
["STARR TREVOR","L"]
["STEPHAN GARY","Sk"]
["STEPHEN CRAIG","L"]
["STREETER CLIFFORD",2]
["STUART ROBERT",2]
["SUTTON JOHN","L"]
["SYNNOTT PETER",2]
["TAYLOR  STAN",2]
["TAYLOR RONALD","L"]
["TAYLOR SCOTT",3]
["TRINKS JOHN","Sk"]
["TYLER MARK",2]
["VOYSEY REG",2]
["WESTRUP GREG","Sk"]
["WHALEN MICK","L"]
["WHITTINGHAM COLIN","Sk"]
["WILKINSON HALL","Sk"]
["WILLMETTE ALLAN","Sk"]