{"text_format":"3","workbook":"xlsx","n_sheets":7,"sheets":["Notes","Players","Sheet1","Score Cards","DRAW","Half Sheet","Sheet3"],"not_rendered":{"images":1,"macros":1,"defined_names":4},"read":"whole","date_system":"1900"}

{"sheet":"Notes","index":0,"n_rows":0,"n_cols":0,"rows_kept":0,"hidden":true}

{"sheet":"Players","index":1,"n_rows":44,"n_cols":5,"rows_kept":44,"hidden":true}
["Team No.","Lead","Second","Third","Skip"]
[]
[9,{"$nulls":3},"SURNAME Christian"]
[10]
[7]
[11]
[3]
[4]
[14]
[8]
[18]
[6]
[16]
[17]
[13]
[2]
[12]
[15]
[1]
[5]
[19]
[20]
[21]
[22]
[23]
[24]
[25]
[26]
[27]
[28]
[29]
[30]
[31]
[32]
[33]
[34]
[35]
[36]
[37]
[38]
[39]
[40]
[41]
[42]

{"sheet":"Sheet1","index":2,"n_rows":18,"n_cols":354,"rows_kept":18,"merged":[[0,1,0,8],[1,1,1,8],[2,10,2,13],[2,19,2,22],[2,26,2,31],[2,205,2,207],[2,213,2,216],[2,220,2,225],[3,1,3,2],[3,3,4,6],[3,9,3,14],[3,18,3,23],[3,27,3,32],[3,36,3,41],[3,45,3,50],[3,54,3,59],[3,63,3,68],[3,72,3,77],[3,88,3,93],[3,97,3,102],[3,106,3,111],[3,115,3,120],[3,124,3,129],[3,133,3,138],[3,142,3,147],[3,151,3,156],[3,160,3,165],[3,169,3,174],[3,185,3,190],[3,194,3,199],[3,203,3,208],[3,212,3,217],[3,221,3,226],[3,230,3,235],[3,239,3,244],[3,248,3,253],[3,257,3,262],[3,266,3,271],[3,282,3,287],[3,291,3,296],[3,300,3,305],[3,309,3,314],[3,318,3,323],[3,327,3,332],[3,336,3,341],[3,345,3,350],[4,1,4,2],[4,81,4,87],[4,178,4,184],[4,275,4,281]]}
[null,"HEADING INFO."]
[null,"OTHER INFO."]
[{"$nulls":10},"No. of ends =",{"$nulls":3},8,{"$nulls":4},"Points for a Win=",{"$nulls":3},1,null,null,"Points for a Draw",{"$nulls":5},0.5,{"$nulls":172},"No. of ends =",null,null," ",{"$nulls":4},"Points for a Win=",{"$nulls":3},2,null,null,"Points for a Draw",{"$nulls":5},1]
[{"$nulls":3},"TOTALS",{"$nulls":5},"Round 1",{"$nulls":8},"Round 2",{"$nulls":8},"Round 3",{"$nulls":8},"Round 4",{"$nulls":8},"Round 5",{"$nulls":8},"Round 6",{"$nulls":8},"Round 7",{"$nulls":8},"Round 8",{"$nulls":8},{"$f":"SUM(CD7:CD18)-SUM(CE7:CE18)","v":0},{"$f":"SUM(CE7:CE18)-SUM(CD7:CD18)","v":0},{"$f":"IF(MOD(SUM(CF7:CF18),$O$3)=0,0,MOD(SUM(CF7:CF18),$O$3))","v":0},{"$f":"SUM(CG7:CG18)","v":0},{"$nulls":3},"Round 9",{"$nulls":8},"Round 10",{"$nulls":8},"Round 11",{"$nulls":8},"Round 12",{"$nulls":8},"Round 13",{"$nulls":8},"Round 14",{"$nulls":8},"Round 15",{"$nulls":8},"Round 16",{"$nulls":8},"Round 17",{"$nulls":8},"Round 18",{"$nulls":8},{"$f":"SUM(FW7:FW18)-SUM(FX7:FX18)","v":0},{"$f":"SUM(FX7:FX18)-SUM(FW7:FW18)","v":0},{"$f":"IF(MOD(SUM(FY7:FY18),$O$3)=0,0,MOD(SUM(FY7:FY18),$O$3))","v":0},{"$f":"SUM(FZ7:FZ18)","v":0},{"$nulls":3},"Round 19",{"$nulls":8},"Round 20",{"$nulls":8},"Round 21",{"$nulls":8},"Round 22",{"$nulls":8},"Round 23",{"$nulls":8},"Round 24",{"$nulls":8},"Round 25",{"$nulls":8},"Round 26",{"$nulls":8},"Round 27",{"$nulls":8},"Round 28",{"$nulls":8},{"$f":"SUM(JP7:JP18)-SUM(JQ7:JQ18)","v":0},{"$f":"SUM(JQ7:JQ18)-SUM(JP7:JP18)","v":0},{"$f":"IF(MOD(SUM(JR7:JR18),$O$3)=0,0,MOD(SUM(JR7:JR18),$O$3))","v":0},{"$f":"SUM(JS7:JS18)","v":0},{"$nulls":3},"Round 29",{"$nulls":8},"Round 30",{"$nulls":8},"Round 31",{"$nulls":8},"Round 32",{"$nulls":8},"Round 33",{"$nulls":8},"Round 34",{"$nulls":8},"Round 35",{"$nulls":8},"Round 36"]
[{"$nulls":11},{"$f":"SUM(L7:L18)-SUM(M7:M18)","v":0},{"$f":"SUM(M7:M18)-SUM(L7:L18)","v":0},{"$f":"IF(MOD(SUM(N7:N18),$O$3)=0,0,MOD(SUM(N7:N18),$O$3))","v":0},{"$nulls":6},{"$f":"SUM(U7:U18)-SUM(V7:V18)","v":0},{"$f":"SUM(V7:V18)-SUM(U7:U18)","v":0},{"$f":"IF(MOD(SUM(W7:W18),$O$3)=0,0,MOD(SUM(W7:W18),$O$3))","v":0},{"$nulls":6},{"$f":"SUM(AD7:AD18)-SUM(AE7:AE18)","v":0},{"$f":"SUM(AE7:AE18)-SUM(AD7:AD18)","v":0},{"$f":"IF(MOD(SUM(AF7:AF18),$O$3)=0,0,MOD(SUM(AF7:AF18),$O$3))","v":0},{"$nulls":6},{"$f":"SUM(AM7:AM18)-SUM(AN7:AN18)","v":0},{"$f":"SUM(AN7:AN18)-SUM(AM7:AM18)","v":0},{"$f":"IF(MOD(SUM(AO7:AO18),$O$3)=0,0,MOD(SUM(AO7:AO18),$O$3))","v":0},{"$nulls":6},{"$f":"SUM(AV7:AV18)-SUM(AW7:AW18)","v":0},{"$f":"SUM(AW7:AW18)-SUM(AV7:AV18)","v":0},{"$f":"IF(MOD(SUM(AX7:AX18),$O$3)=0,0,MOD(SUM(AX7:AX18),$O$3))","v":0},{"$nulls":6},{"$f":"SUM(BE7:BE18)-SUM(BF7:BF18)","v":0},{"$f":"SUM(BF7:BF18)-SUM(BE7:BE18)","v":0},{"$f":"IF(MOD(SUM(BG7:BG18),$O$3)=0,0,MOD(SUM(BG7:BG18),$O$3))","v":0},{"$nulls":6},{"$f":"SUM(BN7:BN18)-SUM(BO7:BO18)","v":0},{"$f":"SUM(BO7:BO18)-SUM(BN7:BN18)","v":0},{"$f":"IF(MOD(SUM(BP7:BP18),$O$3)=0,0,MOD(SUM(BP7:BP18),$O$3))","v":0},{"$nulls":6},{"$f":"SUM(BW7:BW18)-SUM(BX7:BX18)","v":0},{"$f":"SUM(BX7:BX18)-SUM(BW7:BW18)","v":0},{"$f":"IF(MOD(SUM(BY7:BY18),$O$3)=0,0,MOD(SUM(BY7:BY18),$O$3))","v":0},{"$nulls":4},"ROUND 9",{"$nulls":8},{"$f":"SUM(CM7:CM18)-SUM(CN7:CN18)","v":0},{"$f":"SUM(CN7:CN18)-SUM(CM7:CM18)","v":0},{"$f":"IF(MOD(SUM(CO7:CO18),$O$3)=0,0,MOD(SUM(CO7:CO18),$O$3))","v":0},{"$nulls":6},{"$f":"SUM(CV7:CV18)-SUM(CW7:CW18)","v":0},{"$f":"SUM(CW7:CW18)-SUM(CV7:CV18)","v":0},{"$f":"IF(MOD(SUM(CX7:CX18),$O$3)=0,0,MOD(SUM(CX7:CX18),$O$3))","v":0},{"$nulls":6},{"$f":"SUM(DE7:DE18)-SUM(DF7:DF18)","v":0},{"$f":"SUM(DF7:DF18)-SUM(DE7:DE18)","v":0},{"$f":"IF(MOD(SUM(DG7:DG18),$O$3)=0,0,MOD(SUM(DG7:DG18),$O$3))","v":0},{"$nulls":6},{"$f":"SUM(DN7:DN18)-SUM(DO7:DO18)","v":0},{"$f":"SUM(DO7:DO18)-SUM(DN7:DN18)","v":0},{"$f":"IF(MOD(SUM(DP7:DP18),$O$3)=0,0,MOD(SUM(DP7:DP18),$O$3))","v":0},{"$nulls":6},{"$f":"SUM(DW7:DW18)-SUM(DX7:DX18)","v":0},{"$f":"SUM(DX7:DX18)-SUM(DW7:DW18)","v":0},{"$f":"IF(MOD(SUM(DY7:DY18),$O$3)=0,0,MOD(SUM(DY7:DY18),$O$3))","v":0},{"$nulls":6},{"$f":"SUM(EF7:EF18)-SUM(EG7:EG18)","v":0},{"$f":"SUM(EG7:EG18)-SUM(EF7:EF18)","v":0},{"$f":"IF(MOD(SUM(EH7:EH18),$O$3)=0,0,MOD(SUM(EH7:EH18),$O$3))","v":0},{"$nulls":6},{"$f":"SUM(EO7:EO18)-SUM(EP7:EP18)","v":0},{"$f":"SUM(EP7:EP18)-SUM(EO7:EO18)","v":0},{"$f":"IF(MOD(SUM(EQ7:EQ18),$O$3)=0,0,MOD(SUM(EQ7:EQ18),$O$3))","v":0},{"$nulls":6},{"$f":"SUM(EX7:EX18)-SUM(EY7:EY18)","v":0},{"$f":"SUM(EY7:EY18)-SUM(EX7:EX18)","v":0},{"$f":"IF(MOD(SUM(EZ7:EZ18),$O$3)=0,0,MOD(SUM(EZ7:EZ18),$O$3))","v":0},{"$nulls":6},{"$f":"SUM(FG7:FG18)-SUM(FH7:FH18)","v":0},{"$f":"SUM(FH7:FH18)-SUM(FG7:FG18)","v":0},{"$f":"IF(MOD(SUM(FI7:FI18),$O$3)=0,0,MOD(SUM(FI7:FI18),$O$3))","v":0},{"$nulls":6},{"$f":"SUM(FP7:FP18)-SUM(FQ7:FQ18)","v":0},{"$f":"SUM(FQ7:FQ18)-SUM(FP7:FP18)","v":0},{"$f":"IF(MOD(SUM(FR7:FR18),$O$3)=0,0,MOD(SUM(FR7:FR18),$O$3))","v":0},{"$nulls":4},"ROUND 9",{"$nulls":8},{"$f":"SUM(GF7:GF18)-SUM(GG7:GG18)","v":0},{"$f":"SUM(GG7:GG18)-SUM(GF7:GF18)","v":0},{"$f":"IF(MOD(SUM(GH7:GH18),$O$3)=0,0,MOD(SUM(GH7:GH18),$O$3))","v":0},{"$nulls":6},{"$f":"SUM(GO7:GO18)-SUM(GP7:GP18)","v":0},{"$f":"SUM(GP7:GP18)-SUM(GO7:GO18)","v":0},{"$f":"IF(MOD(SUM(GQ7:GQ18),$O$3)=0,0,MOD(SUM(GQ7:GQ18),$O$3))","v":0},{"$nulls":6},{"$f":"SUM(GX7:GX18)-SUM(GY7:GY18)","v":0},{"$f":"SUM(GY7:GY18)-SUM(GX7:GX18)","v":0},{"$f":"IF(MOD(SUM(GZ7:GZ18),$O$3)=0,0,MOD(SUM(GZ7:GZ18),$O$3))","v":0},{"$nulls":6},{"$f":"SUM(HG7:HG18)-SUM(HH7:HH18)","v":0},{"$f":"SUM(HH7:HH18)-SUM(HG7:HG18)","v":0},{"$f":"IF(MOD(SUM(HI7:HI18),$O$3)=0,0,MOD(SUM(HI7:HI18),$O$3))","v":0},{"$nulls":6},{"$f":"SUM(HP7:HP18)-SUM(HQ7:HQ18)","v":0},{"$f":"SUM(HQ7:HQ18)-SUM(HP7:HP18)","v":0},{"$f":"IF(MOD(SUM(HR7:HR18),$O$3)=0,0,MOD(SUM(HR7:HR18),$O$3))","v":0},{"$nulls":6},{"$f":"SUM(HY7:HY18)-SUM(HZ7:HZ18)","v":0},{"$f":"SUM(HZ7:HZ18)-SUM(HY7:HY18)","v":0},{"$f":"IF(MOD(SUM(IA7:IA18),$O$3)=0,0,MOD(SUM(IA7:IA18),$O$3))","v":0},{"$nulls":6},{"$f":"SUM(IH7:IH18)-SUM(II7:II18)","v":0},{"$f":"SUM(II7:II18)-SUM(IH7:IH18)","v":0},{"$f":"IF(MOD(SUM(IJ7:IJ18),$O$3)=0,0,MOD(SUM(IJ7:IJ18),$O$3))","v":0},{"$nulls":6},{"$f":"SUM(IQ7:IQ18)-SUM(IR7:IR18)","v":0},{"$f":"SUM(IR7:IR18)-SUM(IQ7:IQ18)","v":0},{"$f":"IF(MOD(SUM(IS7:IS18),$O$3)=0,0,MOD(SUM(IS7:IS18),$O$3))","v":0},{"$nulls":6},{"$f":"SUM(IZ7:IZ18)-SUM(JA7:JA18)","v":0},{"$f":"SUM(JA7:JA18)-SUM(IZ7:IZ18)","v":0},{"$f":"IF(MOD(SUM(JB7:JB18),$O$3)=0,0,MOD(SUM(JB7:JB18),$O$3))","v":0},{"$nulls":6},{"$f":"SUM(JI7:JI18)-SUM(JJ7:JJ18)","v":0},{"$f":"SUM(JJ7:JJ18)-SUM(JI7:JI18)","v":0},{"$f":"IF(MOD(SUM(JK7:JK18),$O$3)=0,0,MOD(SUM(JK7:JK18),$O$3))","v":0},{"$nulls":4},"ROUND 9",{"$nulls":8},{"$f":"SUM(JY7:JY18)-SUM(JZ7:JZ18)","v":0},{"$f":"SUM(JZ7:JZ18)-SUM(JY7:JY18)","v":0},{"$f":"IF(MOD(SUM(KA7:KA18),$O$3)=0,0,MOD(SUM(KA7:KA18),$O$3))","v":0},{"$nulls":6},{"$f":"SUM(KH7:KH18)-SUM(KI7:KI18)","v":0},{"$f":"SUM(KI7:KI18)-SUM(KH7:KH18)","v":0},{"$f":"IF(MOD(SUM(KJ7:KJ18),$O$3)=0,0,MOD(SUM(KJ7:KJ18),$O$3))","v":0},{"$nulls":6},{"$f":"SUM(KQ7:KQ18)-SUM(KR7:KR18)","v":0},{"$f":"SUM(KR7:KR18)-SUM(KQ7:KQ18)","v":0},{"$f":"IF(MOD(SUM(KS7:KS18),$O$3)=0,0,MOD(SUM(KS7:KS18),$O$3))","v":0},{"$nulls":6},{"$f":"SUM(KZ7:KZ18)-SUM(LA7:LA18)","v":0},{"$f":"SUM(LA7:LA18)-SUM(KZ7:KZ18)","v":0},{"$f":"IF(MOD(SUM(LB7:LB18),$O$3)=0,0,MOD(SUM(LB7:LB18),$O$3))","v":0},{"$nulls":6},{"$f":"SUM(LI7:LI18)-SUM(LJ7:LJ18)","v":0},{"$f":"SUM(LJ7:LJ18)-SUM(LI7:LI18)","v":0},{"$f":"IF(MOD(SUM(LK7:LK18),$O$3)=0,0,MOD(SUM(LK7:LK18),$O$3))","v":0},{"$nulls":6},{"$f":"SUM(LR7:LR18)-SUM(LS7:LS18)","v":0},{"$f":"SUM(LS7:LS18)-SUM(LR7:LR18)","v":0},{"$f":"IF(MOD(SUM(LT7:LT18),$O$3)=0,0,MOD(SUM(LT7:LT18),$O$3))","v":0},{"$nulls":6},{"$f":"SUM(MA7:MA18)-SUM(MB7:MB18)","v":0},{"$f":"SUM(MB7:MB18)-SUM(MA7:MA18)","v":0},{"$f":"IF(MOD(SUM(MC7:MC18),$O$3)=0,0,MOD(SUM(MC7:MC18),$O$3))","v":0},{"$nulls":6},{"$f":"SUM(MJ7:MJ18)-SUM(MK7:MK18)","v":0},{"$f":"SUM(MK7:MK18)-SUM(MJ7:MJ18)","v":0},{"$f":"IF(MOD(SUM(ML7:ML18),$O$3)=0,0,MOD(SUM(ML7:ML18),$O$3))","v":0}]
[null,"Team","Skips Name","Win Points","Ends",null,"M'gin",null,"Rank","V's","Rink","F","A","Ends","M'gin",null,null,"W/D/L","V's","Rink","F","A","Ends","M'gin",null,null,"W/D/L","V's","Rink","F","A","Ends","M'gin",null,null,"W/D/L","V's","Rink","F","A","Ends","M'gin",null,null,"W/D/L","V's","Rink","F","A","Ends","M'gin",null,null,"W/D/L","V's","Rink","F","A","Ends","M'gin",null,null,"W/D/L","V's","Rink","F","A","Ends","M'gin",null,null,"W/D/L","V's","Rink","F","A","Ends","M'gin",null,null,"W/D/L","F","A","Ends","M'gin",null,null,"W/D/L","V's","Rink","F","A","Ends","M'gin",null,null,"W/D/L","V's","Rink","F","A","Ends","M'gin",null,null,"W/D/L","V's","Rink","F","A","Ends","M'gin",null,null,"W/D/L","V's","Rink","F","A","Ends","M'gin",null,null,"W/D/L","V's","Rink","F","A","Ends","M'gin",null,null,"W/D/L","V's","Rink","F","A","Ends","M'gin",null,null,"W/D/L","V's","Rink","F","A","Ends","M'gin",null,null,"W/D/L","V's","Rink","F","A","Ends","M'gin",null,null,"W/D/L","V's","Rink","F","A","Ends","M'gin",null,null,"W/D/L","V's","Rink","F","A","Ends","M'gin",null,null,"W/D/L","F","A","Ends","M'gin",null,null,"W/D/L","V's","Rink","F","A","Ends","M'gin",null,null,"W/D/L","V's","Rink","F","A","Ends","M'gin",null,null,"W/D/L","V's","Rink","F","A","Ends","M'gin",null,null,"W/D/L","V's","Rink","F","A","Ends","M'gin",null,null,"W/D/L","V's","Rink","F","A","Ends","M'gin",null,null,"W/D/L","V's","Rink","F","A","Ends","M'gin",null,null,"W/D/L","V's","Rink","F","A","Ends","M'gin",null,null,"W/D/L","V's","Rink","F","A","Ends","M'gin",null,null,"W/D/L","V's","Rink","F","A","Ends","M'gin",null,null,"W/D/L","V's","Rink","F","A","Ends","M'gin",null,null,"W/D/L","F","A","Ends","M'gin",null,null,"W/D/L","V's","Rink","F","A","Ends","M'gin",null,null,"W/D/L","V's","Rink","F","A","Ends","M'gin",null,null,"W/D/L","V's","Rink","F","A","Ends","M'gin",null,null,"W/D/L","V's","Rink","F","A","Ends","M'gin",null,null,"W/D/L","V's","Rink","F","A","Ends","M'gin",null,null,"W/D/L","V's","Rink","F","A","Ends","M'gin",null,null,"W/D/L","V's","Rink","F","A","Ends","M'gin",null,null,"W/D/L","V's","Rink","F","A","Ends","M'gin",null,null,"W/D/L"]
[null,1,null,{"$f":"Q7+Z7+AI7+AR7+BA7+BJ7+BS7+CB7+CR7+DA7+DJ7+DS7+EB7+EK7+ET7+FC7+FL7+FU7+GK7+GT7+HC7+HL7+HU7+ID7+IM7+IV7+JE7+JN7+JU7+KD7+KM7+KV7+LE7+LN7+LW7+MF7+MO7","v":{"v":0,"d":"0.0"}},{"$f":"N7+W7+AF7+AO7+AX7+BG7+BP7+BY7+CF7+CO7+CX7+DG7+DP7+DY7+EH7+EQ7+EZ7+FI7+FR7+GH7+GQ7+GZ7+HI7+HR7+IA7+IJ7+IS7+JB7+JK7+KA7+KJ7+KS7+LB7+LK7+LT7+MC7+ML7","v":0},{"$f":"D7+E7","v":0},{"$f":"P7+Y7+AH7+AQ7+AZ7+BI7+BR7+CA7+CQ7+CZ7+DI7+DR7+EA7+EJ7+ES7+FB7+FK7+FT7+GJ7+GS7+HB7+HK7+HT7+IC7+IL7+IU7+JD7+JM7+KC7+KL7+KU7+LD7+LM7+LV7+ME7+MN7","v":0},{"$f":"(D7*1000000)+G7","v":0},{"$f":"IF($H$7:$H$18=0,\"\",RANK(H7,$H$7:$H$18))","v":""},2,1,{"$nulls":3},{"$f":"IF(R7=\"D\",\"D\",IF(R7=\"W\",P7,IF(R7=\"L\",P7,0)))","v":0},{"$f":"IF(L7+M7=0,0,IF(L7+M7>0.1,L7-M7,0))","v":0},{"$f":"IF(R7=\"W\",$X$3,IF(R7=\"D\",$AG$3,0))","v":{"v":0,"d":"0.0"}},{"$f":"IF(L7>M7,\"W\",IF(L7<M7,\"L\",IF(L7=0,\"\",IF(L7=M7,\"D\",0))))","v":""},3,3,{"$nulls":3},{"$f":"IF(AA7=\"D\",\"D\",IF(AA7=\"W\",Y7,IF(AA7=\"L\",Y7,0)))","v":0},{"$f":"IF(U7+V7=0,0,IF(U7+V7>0.1,U7-V7,0))","v":0},{"$f":"IF(AA7=\"W\",$X$3,IF(AA7=\"D\",$AG$3,0))","v":{"v":0,"d":"0.0"}},{"$f":"IF(U7>V7,\"W\",IF(U7<V7,\"L\",IF(U7=0,\"\",IF(U7=V7,\"D\",0))))","v":""},4,2,{"$nulls":3},{"$f":"IF(AJ7=\"D\",\"D\",IF(AJ7=\"W\",AH7,IF(AJ7=\"L\",AH7,0)))","v":0},{"$f":"IF(AD7+AE7=0,0,IF(AD7+AE7>0.1,AD7-AE7,0))","v":0},{"$f":"IF(AJ7=\"W\",$X$3,IF(AJ7=\"D\",$AG$3,0))","v":{"v":0,"d":"0.0"}},{"$f":"IF(AD7>AE7,\"W\",IF(AD7<AE7,\"L\",IF(AD7=0,\"\",IF(AD7=AE7,\"D\",0))))","v":""},5,6,{"$nulls":3},{"$f":"IF(AS7=\"D\",\"D\",IF(AS7=\"W\",AQ7,IF(AS7=\"L\",AQ7,0)))","v":0},{"$f":"IF(AM7+AN7=0,0,IF(AM7+AN7>0.1,AM7-AN7,0))","v":0},{"$f":"IF(AS7=\"W\",$X$3,IF(AS7=\"D\",$AG$3,0))","v":{"v":0,"d":"0.0"}},{"$f":"IF(AM7>AN7,\"W\",IF(AM7<AN7,\"L\",IF(AM7=0,\"\",IF(AM7=AN7,\"D\",0))))","v":""},6,4,{"$nulls":3},{"$f":"IF(BB7=\"D\",\"D\",IF(BB7=\"W\",AZ7,IF(BB7=\"L\",AZ7,0)))","v":0},{"$f":"IF(AV7+AW7=0,0,IF(AV7+AW7>0.1,AV7-AW7,0))","v":0},{"$f":"IF(BB7=\"W\",$X$3,IF(BB7=\"D\",$AG$3,0))","v":{"v":0,"d":"0.0"}},{"$f":"IF(AV7>AW7,\"W\",IF(AV7<AW7,\"L\",IF(AV7=0,\"\",IF(AV7=AW7,\"D\",0))))","v":""},7,5,{"$nulls":3},{"$f":"IF(BK7=\"D\",\"D\",IF(BK7=\"W\",BI7,IF(BK7=\"L\",BI7,0)))","v":0},{"$f":"IF(BE7+BF7=0,0,IF(BE7+BF7>0.1,BE7-BF7,0))","v":0},{"$f":"IF(BK7=\"W\",$X$3,IF(BK7=\"D\",$AG$3,0))","v":{"v":0,"d":"0.0"}},{"$f":"IF(BE7>BF7,\"W\",IF(BE7<BF7,\"L\",IF(BE7=0,\"\",IF(BE7=BF7,\"D\",0))))","v":""},8,4,{"$nulls":3},{"$f":"IF(BT7=\"D\",\"D\",IF(BT7=\"W\",BR7,IF(BT7=\"L\",BR7,0)))","v":0},{"$f":"IF(BN7+BO7=0,0,IF(BN7+BO7>0.1,BN7-BO7,0))","v":0},{"$f":"IF(BT7=\"W\",$X$3,IF(BT7=\"D\",$AG$3,0))","v":{"v":0,"d":"0.0"}},{"$f":"IF(BN7>BO7,\"W\",IF(BN7<BO7,\"L\",IF(BN7=0,\"\",IF(BN7=BO7,\"D\",0))))","v":""},9,6,{"$nulls":3},{"$f":"IF(CC7=\"D\",\"D\",IF(CC7=\"W\",CA7,IF(CC7=\"L\",CA7,0)))","v":0},{"$f":"IF(BW7+BX7=0,0,IF(BW7+BX7>0.1,BW7-BX7,0))","v":0},{"$f":"IF(CC7=\"W\",$X$3,IF(CC7=\"D\",$AG$3,0))","v":{"v":0,"d":"0.0"}},{"$f":"IF(BW7>BX7,\"W\",IF(BW7<BX7,\"L\",IF(BW7=0,\"\",IF(BW7=BX7,\"D\",0))))","v":""},{"$nulls":3},{"$f":"IF(CJ7=\"D\",\"D\",IF(CJ7=\"W\",CH7,IF(CJ7=\"L\",CH7,0)))","v":0},{"$f":"IF(CD7+CE7=0,0,IF(CD7+CE7>0.1,CD7-CE7,0))","v":0},{"$f":"IF(CJ7=\"W\",1,IF(CJ7=\"D\",0.5,0))","v":{"v":0,"d":"0.0"}},{"$f":"IF(CD7>CE7,\"W\",IF(CD7<CE7,\"L\",IF(CD7=0,\"\",IF(CD7=CE7,\"D\",0))))","v":""},10,5,{"$nulls":3},{"$f":"IF(CS7=\"D\",\"D\",IF(CS7=\"W\",CQ7,IF(CS7=\"L\",CQ7,0)))","v":0},{"$f":"IF(CM7+CN7=0,0,IF(CM7+CN7>0.1,CM7-CN7,0))","v":0},{"$f":"IF(CS7=\"W\",$X$3,IF(CS7=\"D\",$AG$3,0))","v":{"v":0,"d":"0.0"}},{"$f":"IF(CM7>CN7,\"W\",IF(CM7<CN7,\"L\",IF(CM7=0,\"\",IF(CM7=CN7,\"D\",0))))","v":""},11,1,{"$nulls":3},{"$f":"IF(DB7=\"D\",\"D\",IF(DB7=\"W\",CZ7,IF(DB7=\"L\",CZ7,0)))","v":0},{"$f":"IF(CV7+CW7=0,0,IF(CV7+CW7>0.1,CV7-CW7,0))","v":0},{"$f":"IF(DB7=\"W\",$X$3,IF(DB7=\"D\",$AG$3,0))","v":{"v":0,"d":"0.0"}},{"$f":"IF(CV7>CW7,\"W\",IF(CV7<CW7,\"L\",IF(CV7=0,\"\",IF(CV7=CW7,\"D\",0))))","v":""},12,6,{"$nulls":3},{"$f":"IF(DK7=\"D\",\"D\",IF(DK7=\"W\",DI7,IF(DK7=\"L\",DI7,0)))","v":0},{"$f":"IF(DE7+DF7=0,0,IF(DE7+DF7>0.1,DE7-DF7,0))","v":0},{"$f":"IF(DK7=\"W\",$X$3,IF(DK7=\"D\",$AG$3,0))","v":{"v":0,"d":"0.0"}},{"$f":"IF(DE7>DF7,\"W\",IF(DE7<DF7,\"L\",IF(DE7=0,\"\",IF(DE7=DF7,\"D\",0))))","v":""},13,3,{"$nulls":3},{"$f":"IF(DT7=\"D\",\"D\",IF(DT7=\"W\",DR7,IF(DT7=\"L\",DR7,0)))","v":0},{"$f":"IF(DN7+DO7=0,0,IF(DN7+DO7>0.1,DN7-DO7,0))","v":0},{"$f":"IF(DT7=\"W\",$X$3,IF(DT7=\"D\",$AG$3,0))","v":{"v":0,"d":"0.0"}},{"$f":"IF(DN7>DO7,\"W\",IF(DN7<DO7,\"L\",IF(DN7=0,\"\",IF(DN7=DO7,\"D\",0))))","v":""},14,4,{"$nulls":3},{"$f":"IF(EC7=\"D\",\"D\",IF(EC7=\"W\",EA7,IF(EC7=\"L\",EA7,0)))","v":0},{"$f":"IF(DW7+DX7=0,0,IF(DW7+DX7>0.1,DW7-DX7,0))","v":0},{"$f":"IF(EC7=\"W\",$X$3,IF(EC7=\"D\",$AG$3,0))","v":{"v":0,"d":"0.0"}},{"$f":"IF(DW7>DX7,\"W\",IF(DW7<DX7,\"L\",IF(DW7=0,\"\",IF(DW7=DX7,\"D\",0))))","v":""},15,7,{"$nulls":3},{"$f":"IF(EL7=\"D\",\"D\",IF(EL7=\"W\",EJ7,IF(EL7=\"L\",EJ7,0)))","v":0},{"$f":"IF(EF7+EG7=0,0,IF(EF7+EG7>0.1,EF7-EG7,0))","v":0},{"$f":"IF(EL7=\"W\",$X$3,IF(EL7=\"D\",$AG$3,0))","v":{"v":0,"d":"0.0"}},{"$f":"IF(EF7>EG7,\"W\",IF(EF7<EG7,\"L\",IF(EF7=0,\"\",IF(EF7=EG7,\"D\",0))))","v":""},16,3,{"$nulls":3},{"$f":"IF(EU7=\"D\",\"D\",IF(EU7=\"W\",ES7,IF(EU7=\"L\",ES7,0)))","v":0},{"$f":"IF(EO7+EP7=0,0,IF(EO7+EP7>0.1,EO7-EP7,0))","v":0},{"$f":"IF(EU7=\"W\",$X$3,IF(EU7=\"D\",$AG$3,0))","v":{"v":0,"d":"0.0"}},{"$f":"IF(EO7>EP7,\"W\",IF(EO7<EP7,\"L\",IF(EO7=0,\"\",IF(EO7=EP7,\"D\",0))))","v":""},2,1,{"$nulls":3},{"$f":"IF(FD7=\"D\",\"D\",IF(FD7=\"W\",FB7,IF(FD7=\"L\",FB7,0)))","v":0},{"$f":"IF(EX7+EY7=0,0,IF(EX7+EY7>0.1,EX7-EY7,0))","v":0},{"$f":"IF(FD7=\"W\",$X$3,IF(FD7=\"D\",$AG$3,0))","v":{"v":0,"d":"0.0"}},{"$f":"IF(EX7>EY7,\"W\",IF(EX7<EY7,\"L\",IF(EX7=0,\"\",IF(EX7=EY7,\"D\",0))))","v":""},3,6,{"$nulls":3},{"$f":"IF(FM7=\"D\",\"D\",IF(FM7=\"W\",FK7,IF(FM7=\"L\",FK7,0)))","v":0},{"$f":"IF(FG7+FH7=0,0,IF(FG7+FH7>0.1,FG7-FH7,0))","v":0},{"$f":"IF(FM7=\"W\",$X$3,IF(FM7=\"D\",$AG$3,0))","v":{"v":0,"d":"0.0"}},{"$f":"IF(FG7>FH7,\"W\",IF(FG7<FH7,\"L\",IF(FG7=0,\"\",IF(FG7=FH7,\"D\",0))))","v":""},4,4,{"$nulls":3},{"$f":"IF(FV7=\"D\",\"D\",IF(FV7=\"W\",FT7,IF(FV7=\"L\",FT7,0)))","v":0},{"$f":"IF(FP7+FQ7=0,0,IF(FP7+FQ7>0.1,FP7-FQ7,0))","v":0},{"$f":"IF(FV7=\"W\",$X$3,IF(FV7=\"D\",$AG$3,0))","v":{"v":0,"d":"0.0"}},{"$f":"IF(FP7>FQ7,\"W\",IF(FP7<FQ7,\"L\",IF(FP7=0,\"\",IF(FP7=FQ7,\"D\",0))))","v":""},{"$nulls":3},{"$f":"IF(GC7=\"D\",\"D\",IF(GC7=\"W\",GA7,IF(GC7=\"L\",GA7,0)))","v":0},{"$f":"IF(FW7+FX7=0,0,IF(FW7+FX7>0.1,FW7-FX7,0))","v":0},{"$f":"IF(GC7=\"W\",1,IF(GC7=\"D\",0.5,0))","v":{"v":0,"d":"0.0"}},{"$f":"IF(FW7>FX7,\"W\",IF(FW7<FX7,\"L\",IF(FW7=0,\"\",IF(FW7=FX7,\"D\",0))))","v":""},5,7,{"$nulls":3},{"$f":"IF(GL7=\"D\",\"D\",IF(GL7=\"W\",GJ7,IF(GL7=\"L\",GJ7,0)))","v":0},{"$f":"IF(GF7+GG7=0,0,IF(GF7+GG7>0.1,GF7-GG7,0))","v":0},{"$f":"IF(GL7=\"W\",$X$3,IF(GL7=\"D\",$AG$3,0))","v":{"v":0,"d":"0.0"}},{"$f":"IF(GF7>GG7,\"W\",IF(GF7<GG7,\"L\",IF(GF7=0,\"\",IF(GF7=GG7,\"D\",0))))","v":""},6,3,{"$nulls":3},{"$f":"IF(GU7=\"D\",\"D\",IF(GU7=\"W\",GS7,IF(GU7=\"L\",GS7,0)))","v":0},{"$f":"IF(GO7+GP7=0,0,IF(GO7+GP7>0.1,GO7-GP7,0))","v":0},{"$f":"IF(GU7=\"W\",$X$3,IF(GU7=\"D\",$AG$3,0))","v":{"v":0,"d":"0.0"}},{"$f":"IF(GO7>GP7,\"W\",IF(GO7<GP7,\"L\",IF(GO7=0,\"\",IF(GO7=GP7,\"D\",0))))","v":""},6,7,{"$nulls":3},{"$f":"IF(HD7=\"D\",\"D\",IF(HD7=\"W\",HB7,IF(HD7=\"L\",HB7,0)))","v":0},{"$f":"IF(GX7+GY7=0,0,IF(GX7+GY7>0.1,GX7-GY7,0))","v":0},{"$f":"IF(HD7=\"W\",$X$3,IF(HD7=\"D\",$AG$3,0))","v":{"v":0,"d":"0.0"}},{"$f":"IF(GX7>GY7,\"W\",IF(GX7<GY7,\"L\",IF(GX7=0,\"\",IF(GX7=GY7,\"D\",0))))","v":""},1,5,{"$nulls":3},{"$f":"IF(HM7=\"D\",\"D\",IF(HM7=\"W\",HK7,IF(HM7=\"L\",HK7,0)))","v":0},{"$f":"IF(HG7+HH7=0,0,IF(HG7+HH7>0.1,HG7-HH7,0))","v":0},{"$f":"IF(HM7=\"W\",$X$3,IF(HM7=\"D\",$AG$3,0))","v":{"v":0,"d":"0.0"}},{"$f":"IF(HG7>HH7,\"W\",IF(HG7<HH7,\"L\",IF(HG7=0,\"\",IF(HG7=HH7,\"D\",0))))","v":""},10,1,{"$nulls":3},{"$f":"IF(HV7=\"D\",\"D\",IF(HV7=\"W\",HT7,IF(HV7=\"L\",HT7,0)))","v":0},{"$f":"IF(HP7+HQ7=0,0,IF(HP7+HQ7>0.1,HP7-HQ7,0))","v":0},{"$f":"IF(HV7=\"W\",$X$3,IF(HV7=\"D\",$AG$3,0))","v":{"v":0,"d":"0.0"}},{"$f":"IF(HP7>HQ7,\"W\",IF(HP7<HQ7,\"L\",IF(HP7=0,\"\",IF(HP7=HQ7,\"D\",0))))","v":""},12,3,{"$nulls":3},{"$f":"IF(IE7=\"D\",\"D\",IF(IE7=\"W\",IC7,IF(IE7=\"L\",IC7,0)))","v":0},{"$f":"IF(HY7+HZ7=0,0,IF(HY7+HZ7>0.1,HY7-HZ7,0))","v":0},{"$f":"IF(IE7=\"W\",$X$3,IF(IE7=\"D\",$AG$3,0))","v":{"v":0,"d":"0.0"}},{"$f":"IF(HY7>HZ7,\"W\",IF(HY7<HZ7,\"L\",IF(HY7=0,\"\",IF(HY7=HZ7,\"D\",0))))","v":""},14,6,{"$nulls":3},{"$f":"IF(IN7=\"D\",\"D\",IF(IN7=\"W\",IL7,IF(IN7=\"L\",IL7,0)))","v":0},{"$f":"IF(IH7+II7=0,0,IF(IH7+II7>0.1,IH7-II7,0))","v":0},{"$f":"IF(IN7=\"W\",$X$3,IF(IN7=\"D\",$AG$3,0))","v":{"v":0,"d":"0.0"}},{"$f":"IF(IH7>II7,\"W\",IF(IH7<II7,\"L\",IF(IH7=0,\"\",IF(IH7=II7,\"D\",0))))","v":""},16,2,{"$nulls":3},{"$f":"IF(IW7=\"D\",\"D\",IF(IW7=\"W\",IU7,IF(IW7=\"L\",IU7,0)))","v":0},{"$f":"IF(IQ7+IR7=0,0,IF(IQ7+IR7>0.1,IQ7-IR7,0))","v":0},{"$f":"IF(IW7=\"W\",$X$3,IF(IW7=\"D\",$AG$3,0))","v":{"v":0,"d":"0.0"}},{"$f":"IF(IQ7>IR7,\"W\",IF(IQ7<IR7,\"L\",IF(IQ7=0,\"\",IF(IQ7=IR7,\"D\",0))))","v":""},3,7,{"$nulls":3},{"$f":"IF(JF7=\"D\",\"D\",IF(JF7=\"W\",JD7,IF(JF7=\"L\",JD7,0)))","v":0},{"$f":"IF(IZ7+JA7=0,0,IF(IZ7+JA7>0.1,IZ7-JA7,0))","v":0},{"$f":"IF(JF7=\"W\",$X$3,IF(JF7=\"D\",$AG$3,0))","v":{"v":0,"d":"0.0"}},{"$f":"IF(IZ7>JA7,\"W\",IF(IZ7<JA7,\"L\",IF(IZ7=0,\"\",IF(IZ7=JA7,\"D\",0))))","v":""},5,6,{"$nulls":3},{"$f":"IF(JO7=\"D\",\"D\",IF(JO7=\"W\",JM7,IF(JO7=\"L\",JM7,0)))","v":0},{"$f":"IF(JI7+JJ7=0,0,IF(JI7+JJ7>0.1,JI7-JJ7,0))","v":0},{"$f":"IF(JO7=\"W\",$X$3,IF(JO7=\"D\",$AG$3,0))","v":{"v":0,"d":"0.0"}},{"$f":"IF(JI7>JJ7,\"W\",IF(JI7<JJ7,\"L\",IF(JI7=0,\"\",IF(JI7=JJ7,\"D\",0))))","v":""},{"$nulls":3},{"$f":"IF(JV7=\"D\",\"D\",IF(JV7=\"W\",JT7,IF(JV7=\"L\",JT7,0)))","v":0},{"$f":"IF(JP7+JQ7=0,0,IF(JP7+JQ7>0.1,JP7-JQ7,0))","v":0},{"$f":"IF(JV7=\"W\",1,IF(JV7=\"D\",0.5,0))","v":{"v":0,"d":"0.0"}},{"$f":"IF(JP7>JQ7,\"W\",IF(JP7<JQ7,\"L\",IF(JP7=0,\"\",IF(JP7=JQ7,\"D\",0))))","v":""},7,1,{"$nulls":3},{"$f":"IF(KE7=\"D\",\"D\",IF(KE7=\"W\",KC7,IF(KE7=\"L\",KC7,0)))","v":0},{"$f":"IF(JY7+JZ7=0,0,IF(JY7+JZ7>0.1,JY7-JZ7,0))","v":0},{"$f":"IF(KE7=\"W\",$X$3,IF(KE7=\"D\",$AG$3,0))","v":{"v":0,"d":"0.0"}},{"$f":"IF(JY7>JZ7,\"W\",IF(JY7<JZ7,\"L\",IF(JY7=0,\"\",IF(JY7=JZ7,\"D\",0))))","v":""},9,5,{"$nulls":3},{"$f":"IF(KN7=\"D\",\"D\",IF(KN7=\"W\",KL7,IF(KN7=\"L\",KL7,0)))","v":0},{"$f":"IF(KH7+KI7=0,0,IF(KH7+KI7>0.1,KH7-KI7,0))","v":0},{"$f":"IF(KN7=\"W\",$X$3,IF(KN7=\"D\",$AG$3,0))","v":{"v":0,"d":"0.0"}},{"$f":"IF(KH7>KI7,\"W\",IF(KH7<KI7,\"L\",IF(KH7=0,\"\",IF(KH7=KI7,\"D\",0))))","v":""},11,7,{"$nulls":3},{"$f":"IF(KW7=\"D\",\"D\",IF(KW7=\"W\",KU7,IF(KW7=\"L\",KU7,0)))","v":0},{"$f":"IF(KQ7+KR7=0,0,IF(KQ7+KR7>0.1,KQ7-KR7,0))","v":0},{"$f":"IF(KW7=\"W\",$X$3,IF(KW7=\"D\",$AG$3,0))","v":{"v":0,"d":"0.0"}},{"$f":"IF(KQ7>KR7,\"W\",IF(KQ7<KR7,\"L\",IF(KQ7=0,\"\",IF(KQ7=KR7,\"D\",0))))","v":""},13,6,{"$nulls":3},{"$f":"IF(LF7=\"D\",\"D\",IF(LF7=\"W\",LD7,IF(LF7=\"L\",LD7,0)))","v":0},{"$f":"IF(KZ7+LA7=0,0,IF(KZ7+LA7>0.1,KZ7-LA7,0))","v":0},{"$f":"IF(LF7=\"W\",$X$3,IF(LF7=\"D\",$AG$3,0))","v":{"v":0,"d":"0.0"}},{"$f":"IF(KZ7>LA7,\"W\",IF(KZ7<LA7,\"L\",IF(KZ7=0,\"\",IF(KZ7=LA7,\"D\",0))))","v":""},15,6,{"$nulls":3},{"$f":"IF(LO7=\"D\",\"D\",IF(LO7=\"W\",LM7,IF(LO7=\"L\",LM7,0)))","v":0},{"$f":"IF(LI7+LJ7=0,0,IF(LI7+LJ7>0.1,LI7-LJ7,0))","v":0},{"$f":"IF(LO7=\"W\",$X$3,IF(LO7=\"D\",$AG$3,0))","v":{"v":0,"d":"0.0"}},{"$f":"IF(LI7>LJ7,\"W\",IF(LI7<LJ7,\"L\",IF(LI7=0,\"\",IF(LI7=LJ7,\"D\",0))))","v":""},2,8,{"$nulls":3},{"$f":"IF(LX7=\"D\",\"D\",IF(LX7=\"W\",LV7,IF(LX7=\"L\",LV7,0)))","v":0},{"$f":"IF(LR7+LS7=0,0,IF(LR7+LS7>0.1,LR7-LS7,0))","v":0},{"$f":"IF(LX7=\"W\",$X$3,IF(LX7=\"D\",$AG$3,0))","v":{"v":0,"d":"0.0"}},{"$f":"IF(LR7>LS7,\"W\",IF(LR7<LS7,\"L\",IF(LR7=0,\"\",IF(LR7=LS7,\"D\",0))))","v":""},4,2,{"$nulls":3},{"$f":"IF(MG7=\"D\",\"D\",IF(MG7=\"W\",ME7,IF(MG7=\"L\",ME7,0)))","v":0},{"$f":"IF(MA7+MB7=0,0,IF(MA7+MB7>0.1,MA7-MB7,0))","v":0},{"$f":"IF(MG7=\"W\",$X$3,IF(MG7=\"D\",$AG$3,0))","v":{"v":0,"d":"0.0"}},{"$f":"IF(MA7>MB7,\"W\",IF(MA7<MB7,\"L\",IF(MA7=0,\"\",IF(MA7=MB7,\"D\",0))))","v":""},6,7,{"$nulls":3},{"$f":"IF(MP7=\"D\",\"D\",IF(MP7=\"W\",MN7,IF(MP7=\"L\",MN7,0)))","v":0},{"$f":"IF(MJ7+MK7=0,0,IF(MJ7+MK7>0.1,MJ7-MK7,0))","v":0},{"$f":"IF(MP7=\"W\",$X$3,IF(MP7=\"D\",$AG$3,0))","v":{"v":0,"d":"0.0"}},{"$f":"IF(MJ7>MK7,\"W\",IF(MJ7<MK7,\"L\",IF(MJ7=0,\"\",IF(MJ7=MK7,\"D\",0))))","v":""}]
[null,2,null,{"$f":"Q8+Z8+AI8+AR8+BA8+BJ8+BS8+CB8+CR8+DA8+DJ8+DS8+EB8+EK8+ET8+FC8+FL8+FU8+GK8+GT8+HC8+HL8+HU8+ID8+IM8+IV8+JE8+JN8+JU8+KD8+KM8+KV8+LE8+LN8+LW8+MF8+MO8","v":0},{"$f":"N8+W8+AF8+AO8+AX8+BG8+BP8+BY8+CF8+CO8+CX8+DG8+DP8+DY8+EH8+EQ8+EZ8+FI8+FR8+GH8+GQ8+GZ8+HI8+HR8+IA8+IJ8+IS8+JB8+JK8+KA8+KJ8+KS8+LB8+LK8+LT8+MC8+ML8","v":0},{"$f":"D8+E8","v":0},{"$f":"P8+Y8+AH8+AQ8+AZ8+BI8+BR8+CA8+CQ8+CZ8+DI8+DR8+EA8+EJ8+ES8+FB8+FK8+FT8+GJ8+GS8+HB8+HK8+HT8+IC8+IL8+IU8+JD8+JM8+KC8+KL8+KU8+LD8+LM8+LV8+ME8+MN8","v":0},{"$f":"(D8*1000000)+G8","v":0},{"$f":"IF($H$7:$H$18=0,\"\",RANK(H8,$H$7:$H$18))","v":""},1,1,{"$nulls":3},{"$f":"IF(R8=\"D\",\"D\",IF(R8=\"W\",P8,IF(R8=\"L\",P8,0)))","v":0},{"$f":"IF(L8+M8=0,0,IF(L8+M8>0.1,L8-M8,0))","v":0},{"$f":"IF(R8=\"W\",$X$3,IF(R8=\"D\",$AG$3,0))","v":{"v":0,"d":"0.0"}},{"$f":"IF(L8>M8,\"W\",IF(L8<M8,\"L\",IF(L8=0,\"\",IF(L8=M8,\"D\",0))))","v":""},4,4,{"$nulls":3},{"$f":"IF(AA8=\"D\",\"D\",IF(AA8=\"W\",Y8,IF(AA8=\"L\",Y8,0)))","v":0},{"$f":"IF(U8+V8=0,0,IF(U8+V8>0.1,U8-V8,0))","v":0},{"$f":"IF(AA8=\"W\",$X$3,IF(AA8=\"D\",$AG$3,0))","v":{"v":0,"d":"0.0"}},{"$f":"IF(U8>V8,\"W\",IF(U8<V8,\"L\",IF(U8=0,\"\",IF(U8=V8,\"D\",0))))","v":""},6,3,{"$nulls":3},{"$f":"IF(AJ8=\"D\",\"D\",IF(AJ8=\"W\",AH8,IF(AJ8=\"L\",AH8,0)))","v":0},{"$f":"IF(AD8+AE8=0,0,IF(AD8+AE8>0.1,AD8-AE8,0))","v":0},{"$f":"IF(AJ8=\"W\",$X$3,IF(AJ8=\"D\",$AG$3,0))","v":{"v":0,"d":"0.0"}},{"$f":"IF(AD8>AE8,\"W\",IF(AD8<AE8,\"L\",IF(AD8=0,\"\",IF(AD8=AE8,\"D\",0))))","v":""},8,5,{"$nulls":3},{"$f":"IF(AS8=\"D\",\"D\",IF(AS8=\"W\",AQ8,IF(AS8=\"L\",AQ8,0)))","v":0},{"$f":"IF(AM8+AN8=0,0,IF(AM8+AN8>0.1,AM8-AN8,0))","v":0},{"$f":"IF(AS8=\"W\",$X$3,IF(AS8=\"D\",$AG$3,0))","v":{"v":0,"d":"0.0"}},{"$f":"IF(AM8>AN8,\"W\",IF(AM8<AN8,\"L\",IF(AM8=0,\"\",IF(AM8=AN8,\"D\",0))))","v":""},10,2,{"$nulls":3},{"$f":"IF(BB8=\"D\",\"D\",IF(BB8=\"W\",AZ8,IF(BB8=\"L\",AZ8,0)))","v":0},{"$f":"IF(AV8+AW8=0,0,IF(AV8+AW8>0.1,AV8-AW8,0))","v":0},{"$f":"IF(BB8=\"W\",$X$3,IF(BB8=\"D\",$AG$3,0))","v":{"v":0,"d":"0.0"}},{"$f":"IF(AV8>AW8,\"W\",IF(AV8<AW8,\"L\",IF(AV8=0,\"\",IF(AV8=AW8,\"D\",0))))","v":""},12,6,{"$nulls":3},{"$f":"IF(BK8=\"D\",\"D\",IF(BK8=\"W\",BI8,IF(BK8=\"L\",BI8,0)))","v":0},{"$f":"IF(BE8+BF8=0,0,IF(BE8+BF8>0.1,BE8-BF8,0))","v":0},{"$f":"IF(BK8=\"W\",$X$3,IF(BK8=\"D\",$AG$3,0))","v":{"v":0,"d":"0.0"}},{"$f":"IF(BE8>BF8,\"W\",IF(BE8<BF8,\"L\",IF(BE8=0,\"\",IF(BE8=BF8,\"D\",0))))","v":""},3,3,{"$nulls":3},{"$f":"IF(BT8=\"D\",\"D\",IF(BT8=\"W\",BR8,IF(BT8=\"L\",BR8,0)))","v":0},{"$f":"IF(BN8+BO8=0,0,IF(BN8+BO8>0.1,BN8-BO8,0))","v":0},{"$f":"IF(BT8=\"W\",$X$3,IF(BT8=\"D\",$AG$3,0))","v":{"v":0,"d":"0.0"}},{"$f":"IF(BN8>BO8,\"W\",IF(BN8<BO8,\"L\",IF(BN8=0,\"\",IF(BN8=BO8,\"D\",0))))","v":""},5,5,{"$nulls":3},{"$f":"IF(CC8=\"D\",\"D\",IF(CC8=\"W\",CA8,IF(CC8=\"L\",CA8,0)))","v":0},{"$f":"IF(BW8+BX8=0,0,IF(BW8+BX8>0.1,BW8-BX8,0))","v":0},{"$f":"IF(CC8=\"W\",$X$3,IF(CC8=\"D\",$AG$3,0))","v":{"v":0,"d":"0.0"}},{"$f":"IF(BW8>BX8,\"W\",IF(BW8<BX8,\"L\",IF(BW8=0,\"\",IF(BW8=BX8,\"D\",0))))","v":""},{"$nulls":3},{"$f":"IF(CJ8=\"D\",\"D\",IF(CJ8=\"W\",CH8,IF(CJ8=\"L\",CH8,0)))","v":0},{"$f":"IF(CD8+CE8=0,0,IF(CD8+CE8>0.1,CD8-CE8,0))","v":0},{"$f":"IF(CJ8=\"W\",1,IF(CJ8=\"D\",0.5,0))","v":{"v":0,"d":"0.0"}},{"$f":"IF(CD8>CE8,\"W\",IF(CD8<CE8,\"L\",IF(CD8=0,\"\",IF(CD8=CE8,\"D\",0))))","v":""},7,1,{"$nulls":3},{"$f":"IF(CS8=\"D\",\"D\",IF(CS8=\"W\",CQ8,IF(CS8=\"L\",CQ8,0)))","v":0},{"$f":"IF(CM8+CN8=0,0,IF(CM8+CN8>0.1,CM8-CN8,0))","v":0},{"$f":"IF(CS8=\"W\",$X$3,IF(CS8=\"D\",$AG$3,0))","v":{"v":0,"d":"0.0"}},{"$f":"IF(CM8>CN8,\"W\",IF(CM8<CN8,\"L\",IF(CM8=0,\"\",IF(CM8=CN8,\"D\",0))))","v":""},9,3,{"$nulls":3},{"$f":"IF(DB8=\"D\",\"D\",IF(DB8=\"W\",CZ8,IF(DB8=\"L\",CZ8,0)))","v":0},{"$f":"IF(CV8+CW8=0,0,IF(CV8+CW8>0.1,CV8-CW8,0))","v":0},{"$f":"IF(DB8=\"W\",$X$3,IF(DB8=\"D\",$AG$3,0))","v":{"v":0,"d":"0.0"}},{"$f":"IF(CV8>CW8,\"W\",IF(CV8<CW8,\"L\",IF(CV8=0,\"\",IF(CV8=CW8,\"D\",0))))","v":""},7,1,{"$nulls":3},{"$f":"IF(DK8=\"D\",\"D\",IF(DK8=\"W\",DI8,IF(DK8=\"L\",DI8,0)))","v":0},{"$f":"IF(DE8+DF8=0,0,IF(DE8+DF8>0.1,DE8-DF8,0))","v":0},{"$f":"IF(DK8=\"W\",$X$3,IF(DK8=\"D\",$AG$3,0))","v":{"v":0,"d":"0.0"}},{"$f":"IF(DE8>DF8,\"W\",IF(DE8<DF8,\"L\",IF(DE8=0,\"\",IF(DE8=DF8,\"D\",0))))","v":""},9,2,{"$nulls":3},{"$f":"IF(DT8=\"D\",\"D\",IF(DT8=\"W\",DR8,IF(DT8=\"L\",DR8,0)))","v":0},{"$f":"IF(DN8+DO8=0,0,IF(DN8+DO8>0.1,DN8-DO8,0))","v":0},{"$f":"IF(DT8=\"W\",$X$3,IF(DT8=\"D\",$AG$3,0))","v":{"v":0,"d":"0.0"}},{"$f":"IF(DN8>DO8,\"W\",IF(DN8<DO8,\"L\",IF(DN8=0,\"\",IF(DN8=DO8,\"D\",0))))","v":""},11,5,{"$nulls":3},{"$f":"IF(EC8=\"D\",\"D\",IF(EC8=\"W\",EA8,IF(EC8=\"L\",EA8,0)))","v":0},{"$f":"IF(DW8+DX8=0,0,IF(DW8+DX8>0.1,DW8-DX8,0))","v":0},{"$f":"IF(EC8=\"W\",$X$3,IF(EC8=\"D\",$AG$3,0))","v":{"v":0,"d":"0.0"}},{"$f":"IF(DW8>DX8,\"W\",IF(DW8<DX8,\"L\",IF(DW8=0,\"\",IF(DW8=DX8,\"D\",0))))","v":""},13,8,{"$nulls":3},{"$f":"IF(EL8=\"D\",\"D\",IF(EL8=\"W\",EJ8,IF(EL8=\"L\",EJ8,0)))","v":0},{"$f":"IF(EF8+EG8=0,0,IF(EF8+EG8>0.1,EF8-EG8,0))","v":0},{"$f":"IF(EL8=\"W\",$X$3,IF(EL8=\"D\",$AG$3,0))","v":{"v":0,"d":"0.0"}},{"$f":"IF(EF8>EG8,\"W\",IF(EF8<EG8,\"L\",IF(EF8=0,\"\",IF(EF8=EG8,\"D\",0))))","v":""},15,1,{"$nulls":3},{"$f":"IF(EU8=\"D\",\"D\",IF(EU8=\"W\",ES8,IF(EU8=\"L\",ES8,0)))","v":0},{"$f":"IF(EO8+EP8=0,0,IF(EO8+EP8>0.1,EO8-EP8,0))","v":0},{"$f":"IF(EU8=\"W\",$X$3,IF(EU8=\"D\",$AG$3,0))","v":{"v":0,"d":"0.0"}},{"$f":"IF(EO8>EP8,\"W\",IF(EO8<EP8,\"L\",IF(EO8=0,\"\",IF(EO8=EP8,\"D\",0))))","v":""},1,1,{"$nulls":3},{"$f":"IF(FD8=\"D\",\"D\",IF(FD8=\"W\",FB8,IF(FD8=\"L\",FB8,0)))","v":0},{"$f":"IF(EX8+EY8=0,0,IF(EX8+EY8>0.1,EX8-EY8,0))","v":0},{"$f":"IF(FD8=\"W\",$X$3,IF(FD8=\"D\",$AG$3,0))","v":{"v":0,"d":"0.0"}},{"$f":"IF(EX8>EY8,\"W\",IF(EX8<EY8,\"L\",IF(EX8=0,\"\",IF(EX8=EY8,\"D\",0))))","v":""},4,5,{"$nulls":3},{"$f":"IF(FM8=\"D\",\"D\",IF(FM8=\"W\",FK8,IF(FM8=\"L\",FK8,0)))","v":0},{"$f":"IF(FG8+FH8=0,0,IF(FG8+FH8>0.1,FG8-FH8,0))","v":0},{"$f":"IF(FM8=\"W\",$X$3,IF(FM8=\"D\",$AG$3,0))","v":{"v":0,"d":"0.0"}},{"$f":"IF(FG8>FH8,\"W\",IF(FG8<FH8,\"L\",IF(FG8=0,\"\",IF(FG8=FH8,\"D\",0))))","v":""},6,2,{"$nulls":3},{"$f":"IF(FV8=\"D\",\"D\",IF(FV8=\"W\",FT8,IF(FV8=\"L\",FT8,0)))","v":0},{"$f":"IF(FP8+FQ8=0,0,IF(FP8+FQ8>0.1,FP8-FQ8,0))","v":0},{"$f":"IF(FV8=\"W\",$X$3,IF(FV8=\"D\",$AG$3,0))","v":{"v":0,"d":"0.0"}},{"$f":"IF(FP8>FQ8,\"W\",IF(FP8<FQ8,\"L\",IF(FP8=0,\"\",IF(FP8=FQ8,\"D\",0))))","v":""},{"$nulls":3},{"$f":"IF(GC8=\"D\",\"D\",IF(GC8=\"W\",GA8,IF(GC8=\"L\",GA8,0)))","v":0},{"$f":"IF(FW8+FX8=0,0,IF(FW8+FX8>0.1,FW8-FX8,0))","v":0},{"$f":"IF(GC8=\"W\",1,IF(GC8=\"D\",0.5,0))","v":{"v":0,"d":"0.0"}},{"$f":"IF(FW8>FX8,\"W\",IF(FW8<FX8,\"L\",IF(FW8=0,\"\",IF(FW8=FX8,\"D\",0))))","v":""},8,8,{"$nulls":3},{"$f":"IF(GL8=\"D\",\"D\",IF(GL8=\"W\",GJ8,IF(GL8=\"L\",GJ8,0)))","v":0},{"$f":"IF(GF8+GG8=0,0,IF(GF8+GG8>0.1,GF8-GG8,0))","v":0},{"$f":"IF(GL8=\"W\",$X$3,IF(GL8=\"D\",$AG$3,0))","v":{"v":0,"d":"0.0"}},{"$f":"IF(GF8>GG8,\"W\",IF(GF8<GG8,\"L\",IF(GF8=0,\"\",IF(GF8=GG8,\"D\",0))))","v":""},10,4,{"$nulls":3},{"$f":"IF(GU8=\"D\",\"D\",IF(GU8=\"W\",GS8,IF(GU8=\"L\",GS8,0)))","v":0},{"$f":"IF(GO8+GP8=0,0,IF(GO8+GP8>0.1,GO8-GP8,0))","v":0},{"$f":"IF(GU8=\"W\",$X$3,IF(GU8=\"D\",$AG$3,0))","v":{"v":0,"d":"0.0"}},{"$f":"IF(GO8>GP8,\"W\",IF(GO8<GP8,\"L\",IF(GO8=0,\"\",IF(GO8=GP8,\"D\",0))))","v":""},4,6,{"$nulls":3},{"$f":"IF(HD8=\"D\",\"D\",IF(HD8=\"W\",HB8,IF(HD8=\"L\",HB8,0)))","v":0},{"$f":"IF(GX8+GY8=0,0,IF(GX8+GY8>0.1,GX8-GY8,0))","v":0},{"$f":"IF(HD8=\"W\",$X$3,IF(HD8=\"D\",$AG$3,0))","v":{"v":0,"d":"0.0"}},{"$f":"IF(GX8>GY8,\"W\",IF(GX8<GY8,\"L\",IF(GX8=0,\"\",IF(GX8=GY8,\"D\",0))))","v":""},6,8,{"$nulls":3},{"$f":"IF(HM8=\"D\",\"D\",IF(HM8=\"W\",HK8,IF(HM8=\"L\",HK8,0)))","v":0},{"$f":"IF(HG8+HH8=0,0,IF(HG8+HH8>0.1,HG8-HH8,0))","v":0},{"$f":"IF(HM8=\"W\",$X$3,IF(HM8=\"D\",$AG$3,0))","v":{"v":0,"d":"0.0"}},{"$f":"IF(HG8>HH8,\"W\",IF(HG8<HH8,\"L\",IF(HG8=0,\"\",IF(HG8=HH8,\"D\",0))))","v":""},8,1,{"$nulls":3},{"$f":"IF(HV8=\"D\",\"D\",IF(HV8=\"W\",HT8,IF(HV8=\"L\",HT8,0)))","v":0},{"$f":"IF(HP8+HQ8=0,0,IF(HP8+HQ8>0.1,HP8-HQ8,0))","v":0},{"$f":"IF(HV8=\"W\",$X$3,IF(HV8=\"D\",$AG$3,0))","v":{"v":0,"d":"0.0"}},{"$f":"IF(HP8>HQ8,\"W\",IF(HP8<HQ8,\"L\",IF(HP8=0,\"\",IF(HP8=HQ8,\"D\",0))))","v":""},1,7,{"$nulls":3},{"$f":"IF(IE8=\"D\",\"D\",IF(IE8=\"W\",IC8,IF(IE8=\"L\",IC8,0)))","v":0},{"$f":"IF(HY8+HZ8=0,0,IF(HY8+HZ8>0.1,HY8-HZ8,0))","v":0},{"$f":"IF(IE8=\"W\",$X$3,IF(IE8=\"D\",$AG$3,0))","v":{"v":0,"d":"0.0"}},{"$f":"IF(HY8>HZ8,\"W\",IF(HY8<HZ8,\"L\",IF(HY8=0,\"\",IF(HY8=HZ8,\"D\",0))))","v":""},12,2,{"$nulls":3},{"$f":"IF(IN8=\"D\",\"D\",IF(IN8=\"W\",IL8,IF(IN8=\"L\",IL8,0)))","v":0},{"$f":"IF(IH8+II8=0,0,IF(IH8+II8>0.1,IH8-II8,0))","v":0},{"$f":"IF(IN8=\"W\",$X$3,IF(IN8=\"D\",$AG$3,0))","v":{"v":0,"d":"0.0"}},{"$f":"IF(IH8>II8,\"W\",IF(IH8<II8,\"L\",IF(IH8=0,\"\",IF(IH8=II8,\"D\",0))))","v":""},14,8,{"$nulls":3},{"$f":"IF(IW8=\"D\",\"D\",IF(IW8=\"W\",IU8,IF(IW8=\"L\",IU8,0)))","v":0},{"$f":"IF(IQ8+IR8=0,0,IF(IQ8+IR8>0.1,IQ8-IR8,0))","v":0},{"$f":"IF(IW8=\"W\",$X$3,IF(IW8=\"D\",$AG$3,0))","v":{"v":0,"d":"0.0"}},{"$f":"IF(IQ8>IR8,\"W\",IF(IQ8<IR8,\"L\",IF(IQ8=0,\"\",IF(IQ8=IR8,\"D\",0))))","v":""},16,5,{"$nulls":3},{"$f":"IF(JF8=\"D\",\"D\",IF(JF8=\"W\",JD8,IF(JF8=\"L\",JD8,0)))","v":0},{"$f":"IF(IZ8+JA8=0,0,IF(IZ8+JA8>0.1,IZ8-JA8,0))","v":0},{"$f":"IF(JF8=\"W\",$X$3,IF(JF8=\"D\",$AG$3,0))","v":{"v":0,"d":"0.0"}},{"$f":"IF(IZ8>JA8,\"W\",IF(IZ8<JA8,\"L\",IF(IZ8=0,\"\",IF(IZ8=JA8,\"D\",0))))","v":""},3,3,{"$nulls":3},{"$f":"IF(JO8=\"D\",\"D\",IF(JO8=\"W\",JM8,IF(JO8=\"L\",JM8,0)))","v":0},{"$f":"IF(JI8+JJ8=0,0,IF(JI8+JJ8>0.1,JI8-JJ8,0))","v":0},{"$f":"IF(JO8=\"W\",$X$3,IF(JO8=\"D\",$AG$3,0))","v":{"v":0,"d":"0.0"}},{"$f":"IF(JI8>JJ8,\"W\",IF(JI8<JJ8,\"L\",IF(JI8=0,\"\",IF(JI8=JJ8,\"D\",0))))","v":""},{"$nulls":3},{"$f":"IF(JV8=\"D\",\"D\",IF(JV8=\"W\",JT8,IF(JV8=\"L\",JT8,0)))","v":0},{"$f":"IF(JP8+JQ8=0,0,IF(JP8+JQ8>0.1,JP8-JQ8,0))","v":0},{"$f":"IF(JV8=\"W\",1,IF(JV8=\"D\",0.5,0))","v":{"v":0,"d":"0.0"}},{"$f":"IF(JP8>JQ8,\"W\",IF(JP8<JQ8,\"L\",IF(JP8=0,\"\",IF(JP8=JQ8,\"D\",0))))","v":""},5,4,{"$nulls":3},{"$f":"IF(KE8=\"D\",\"D\",IF(KE8=\"W\",KC8,IF(KE8=\"L\",KC8,0)))","v":0},{"$f":"IF(JY8+JZ8=0,0,IF(JY8+JZ8>0.1,JY8-JZ8,0))","v":0},{"$f":"IF(KE8=\"W\",$X$3,IF(KE8=\"D\",$AG$3,0))","v":{"v":0,"d":"0.0"}},{"$f":"IF(JY8>JZ8,\"W\",IF(JY8<JZ8,\"L\",IF(JY8=0,\"\",IF(JY8=JZ8,\"D\",0))))","v":""},7,8,{"$nulls":3},{"$f":"IF(KN8=\"D\",\"D\",IF(KN8=\"W\",KL8,IF(KN8=\"L\",KL8,0)))","v":0},{"$f":"IF(KH8+KI8=0,0,IF(KH8+KI8>0.1,KH8-KI8,0))","v":0},{"$f":"IF(KN8=\"W\",$X$3,IF(KN8=\"D\",$AG$3,0))","v":{"v":0,"d":"0.0"}},{"$f":"IF(KH8>KI8,\"W\",IF(KH8<KI8,\"L\",IF(KH8=0,\"\",IF(KH8=KI8,\"D\",0))))","v":""},9,8,{"$nulls":3},{"$f":"IF(KW8=\"D\",\"D\",IF(KW8=\"W\",KU8,IF(KW8=\"L\",KU8,0)))","v":0},{"$f":"IF(KQ8+KR8=0,0,IF(KQ8+KR8>0.1,KQ8-KR8,0))","v":0},{"$f":"IF(KW8=\"W\",$X$3,IF(KW8=\"D\",$AG$3,0))","v":{"v":0,"d":"0.0"}},{"$f":"IF(KQ8>KR8,\"W\",IF(KQ8<KR8,\"L\",IF(KQ8=0,\"\",IF(KQ8=KR8,\"D\",0))))","v":""},11,3,{"$nulls":3},{"$f":"IF(LF8=\"D\",\"D\",IF(LF8=\"W\",LD8,IF(LF8=\"L\",LD8,0)))","v":0},{"$f":"IF(KZ8+LA8=0,0,IF(KZ8+LA8>0.1,KZ8-LA8,0))","v":0},{"$f":"IF(LF8=\"W\",$X$3,IF(LF8=\"D\",$AG$3,0))","v":{"v":0,"d":"0.0"}},{"$f":"IF(KZ8>LA8,\"W\",IF(KZ8<LA8,\"L\",IF(KZ8=0,\"\",IF(KZ8=LA8,\"D\",0))))","v":""},13,7,{"$nulls":3},{"$f":"IF(LO8=\"D\",\"D\",IF(LO8=\"W\",LM8,IF(LO8=\"L\",LM8,0)))","v":0},{"$f":"IF(LI8+LJ8=0,0,IF(LI8+LJ8>0.1,LI8-LJ8,0))","v":0},{"$f":"IF(LO8=\"W\",$X$3,IF(LO8=\"D\",$AG$3,0))","v":{"v":0,"d":"0.0"}},{"$f":"IF(LI8>LJ8,\"W\",IF(LI8<LJ8,\"L\",IF(LI8=0,\"\",IF(LI8=LJ8,\"D\",0))))","v":""},15,5,{"$nulls":3},{"$f":"IF(LX8=\"D\",\"D\",IF(LX8=\"W\",LV8,IF(LX8=\"L\",LV8,0)))","v":0},{"$f":"IF(LR8+LS8=0,0,IF(LR8+LS8>0.1,LR8-LS8,0))","v":0},{"$f":"IF(LX8=\"W\",$X$3,IF(LX8=\"D\",$AG$3,0))","v":{"v":0,"d":"0.0"}},{"$f":"IF(LR8>LS8,\"W\",IF(LR8<LS8,\"L\",IF(LR8=0,\"\",IF(LR8=LS8,\"D\",0))))","v":""},2,4,{"$nulls":3},{"$f":"IF(MG8=\"D\",\"D\",IF(MG8=\"W\",ME8,IF(MG8=\"L\",ME8,0)))","v":0},{"$f":"IF(MA8+MB8=0,0,IF(MA8+MB8>0.1,MA8-MB8,0))","v":0},{"$f":"IF(MG8=\"W\",$X$3,IF(MG8=\"D\",$AG$3,0))","v":{"v":0,"d":"0.0"}},{"$f":"IF(MA8>MB8,\"W\",IF(MA8<MB8,\"L\",IF(MA8=0,\"\",IF(MA8=MB8,\"D\",0))))","v":""},4,6,{"$nulls":3},{"$f":"IF(MP8=\"D\",\"D\",IF(MP8=\"W\",MN8,IF(MP8=\"L\",MN8,0)))","v":0},{"$f":"IF(MJ8+MK8=0,0,IF(MJ8+MK8>0.1,MJ8-MK8,0))","v":0},{"$f":"IF(MP8=\"W\",$X$3,IF(MP8=\"D\",$AG$3,0))","v":{"v":0,"d":"0.0"}},{"$f":"IF(MJ8>MK8,\"W\",IF(MJ8<MK8,\"L\",IF(MJ8=0,\"\",IF(MJ8=MK8,\"D\",0))))","v":""}]
[null,3,null,{"$f":"Q9+Z9+AI9+AR9+BA9+BJ9+BS9+CB9+CR9+DA9+DJ9+DS9+EB9+EK9+ET9+FC9+FL9+FU9+GK9+GT9+HC9+HL9+HU9+ID9+IM9+IV9+JE9+JN9+JU9+KD9+KM9+KV9+LE9+LN9+LW9+MF9+MO9","v":0},{"$f":"N9+W9+AF9+AO9+AX9+BG9+BP9+BY9+CF9+CO9+CX9+DG9+DP9+DY9+EH9+EQ9+EZ9+FI9+FR9+GH9+GQ9+GZ9+HI9+HR9+IA9+IJ9+IS9+JB9+JK9+KA9+KJ9+KS9+LB9+LK9+LT9+MC9+ML9","v":0},{"$f":"D9+E9","v":0},{"$f":"P9+Y9+AH9+AQ9+AZ9+BI9+BR9+CA9+CQ9+CZ9+DI9+DR9+EA9+EJ9+ES9+FB9+FK9+FT9+GJ9+GS9+HB9+HK9+HT9+IC9+IL9+IU9+JD9+JM9+KC9+KL9+KU9+LD9+LM9+LV9+ME9+MN9","v":0},{"$f":"(D9*1000000)+G9","v":0},{"$f":"IF($H$7:$H$18=0,\"\",RANK(H9,$H$7:$H$18))","v":""},12,2,{"$nulls":3},{"$f":"IF(R9=\"D\",\"D\",IF(R9=\"W\",P9,IF(R9=\"L\",P9,0)))","v":0},{"$f":"IF(L9+M9=0,0,IF(L9+M9>0.1,L9-M9,0))","v":0},{"$f":"IF(R9=\"W\",$X$3,IF(R9=\"D\",$AG$3,0))","v":{"v":0,"d":"0.0"}},{"$f":"IF(L9>M9,\"W\",IF(L9<M9,\"L\",IF(L9=0,\"\",IF(L9=M9,\"D\",0))))","v":""},1,3,{"$nulls":3},{"$f":"IF(AA9=\"D\",\"D\",IF(AA9=\"W\",Y9,IF(AA9=\"L\",Y9,0)))","v":0},{"$f":"IF(U9+V9=0,0,IF(U9+V9>0.1,U9-V9,0))","v":0},{"$f":"IF(AA9=\"W\",$X$3,IF(AA9=\"D\",$AG$3,0))","v":{"v":0,"d":"0.0"}},{"$f":"IF(U9>V9,\"W\",IF(U9<V9,\"L\",IF(U9=0,\"\",IF(U9=V9,\"D\",0))))","v":""},5,5,{"$nulls":3},{"$f":"IF(AJ9=\"D\",\"D\",IF(AJ9=\"W\",AH9,IF(AJ9=\"L\",AH9,0)))","v":0},{"$f":"IF(AD9+AE9=0,0,IF(AD9+AE9>0.1,AD9-AE9,0))","v":0},{"$f":"IF(AJ9=\"W\",$X$3,IF(AJ9=\"D\",$AG$3,0))","v":{"v":0,"d":"0.0"}},{"$f":"IF(AD9>AE9,\"W\",IF(AD9<AE9,\"L\",IF(AD9=0,\"\",IF(AD9=AE9,\"D\",0))))","v":""},7,2,{"$nulls":3},{"$f":"IF(AS9=\"D\",\"D\",IF(AS9=\"W\",AQ9,IF(AS9=\"L\",AQ9,0)))","v":0},{"$f":"IF(AM9+AN9=0,0,IF(AM9+AN9>0.1,AM9-AN9,0))","v":0},{"$f":"IF(AS9=\"W\",$X$3,IF(AS9=\"D\",$AG$3,0))","v":{"v":0,"d":"0.0"}},{"$f":"IF(AM9>AN9,\"W\",IF(AM9<AN9,\"L\",IF(AM9=0,\"\",IF(AM9=AN9,\"D\",0))))","v":""},9,1,{"$nulls":3},{"$f":"IF(BB9=\"D\",\"D\",IF(BB9=\"W\",AZ9,IF(BB9=\"L\",AZ9,0)))","v":0},{"$f":"IF(AV9+AW9=0,0,IF(AV9+AW9>0.1,AV9-AW9,0))","v":0},{"$f":"IF(BB9=\"W\",$X$3,IF(BB9=\"D\",$AG$3,0))","v":{"v":0,"d":"0.0"}},{"$f":"IF(AV9>AW9,\"W\",IF(AV9<AW9,\"L\",IF(AV9=0,\"\",IF(AV9=AW9,\"D\",0))))","v":""},11,4,{"$nulls":3},{"$f":"IF(BK9=\"D\",\"D\",IF(BK9=\"W\",BI9,IF(BK9=\"L\",BI9,0)))","v":0},{"$f":"IF(BE9+BF9=0,0,IF(BE9+BF9>0.1,BE9-BF9,0))","v":0},{"$f":"IF(BK9=\"W\",$X$3,IF(BK9=\"D\",$AG$3,0))","v":{"v":0,"d":"0.0"}},{"$f":"IF(BE9>BF9,\"W\",IF(BE9<BF9,\"L\",IF(BE9=0,\"\",IF(BE9=BF9,\"D\",0))))","v":""},2,3,{"$nulls":3},{"$f":"IF(BT9=\"D\",\"D\",IF(BT9=\"W\",BR9,IF(BT9=\"L\",BR9,0)))","v":0},{"$f":"IF(BN9+BO9=0,0,IF(BN9+BO9>0.1,BN9-BO9,0))","v":0},{"$f":"IF(BT9=\"W\",$X$3,IF(BT9=\"D\",$AG$3,0))","v":{"v":0,"d":"0.0"}},{"$f":"IF(BN9>BO9,\"W\",IF(BN9<BO9,\"L\",IF(BN9=0,\"\",IF(BN9=BO9,\"D\",0))))","v":""},4,4,{"$nulls":3},{"$f":"IF(CC9=\"D\",\"D\",IF(CC9=\"W\",CA9,IF(CC9=\"L\",CA9,0)))","v":0},{"$f":"IF(BW9+BX9=0,0,IF(BW9+BX9>0.1,BW9-BX9,0))","v":0},{"$f":"IF(CC9=\"W\",$X$3,IF(CC9=\"D\",$AG$3,0))","v":{"v":0,"d":"0.0"}},{"$f":"IF(BW9>BX9,\"W\",IF(BW9<BX9,\"L\",IF(BW9=0,\"\",IF(BW9=BX9,\"D\",0))))","v":""},{"$nulls":3},{"$f":"IF(CJ9=\"D\",\"D\",IF(CJ9=\"W\",CH9,IF(CJ9=\"L\",CH9,0)))","v":0},{"$f":"IF(CD9+CE9=0,0,IF(CD9+CE9>0.1,CD9-CE9,0))","v":0},{"$f":"IF(CJ9=\"W\",1,IF(CJ9=\"D\",0.5,0))","v":{"v":0,"d":"0.0"}},{"$f":"IF(CD9>CE9,\"W\",IF(CD9<CE9,\"L\",IF(CD9=0,\"\",IF(CD9=CE9,\"D\",0))))","v":""},6,6,{"$nulls":3},{"$f":"IF(CS9=\"D\",\"D\",IF(CS9=\"W\",CQ9,IF(CS9=\"L\",CQ9,0)))","v":0},{"$f":"IF(CM9+CN9=0,0,IF(CM9+CN9>0.1,CM9-CN9,0))","v":0},{"$f":"IF(CS9=\"W\",$X$3,IF(CS9=\"D\",$AG$3,0))","v":{"v":0,"d":"0.0"}},{"$f":"IF(CM9>CN9,\"W\",IF(CM9<CN9,\"L\",IF(CM9=0,\"\",IF(CM9=CN9,\"D\",0))))","v":""},8,5,{"$nulls":3},{"$f":"IF(DB9=\"D\",\"D\",IF(DB9=\"W\",CZ9,IF(DB9=\"L\",CZ9,0)))","v":0},{"$f":"IF(CV9+CW9=0,0,IF(CV9+CW9>0.1,CV9-CW9,0))","v":0},{"$f":"IF(DB9=\"W\",$X$3,IF(DB9=\"D\",$AG$3,0))","v":{"v":0,"d":"0.0"}},{"$f":"IF(CV9>CW9,\"W\",IF(CV9<CW9,\"L\",IF(CV9=0,\"\",IF(CV9=CW9,\"D\",0))))","v":""},6,4,{"$nulls":3},{"$f":"IF(DK9=\"D\",\"D\",IF(DK9=\"W\",DI9,IF(DK9=\"L\",DI9,0)))","v":0},{"$f":"IF(DE9+DF9=0,0,IF(DE9+DF9>0.1,DE9-DF9,0))","v":0},{"$f":"IF(DK9=\"W\",$X$3,IF(DK9=\"D\",$AG$3,0))","v":{"v":0,"d":"0.0"}},{"$f":"IF(DE9>DF9,\"W\",IF(DE9<DF9,\"L\",IF(DE9=0,\"\",IF(DE9=DF9,\"D\",0))))","v":""},8,7,{"$nulls":3},{"$f":"IF(DT9=\"D\",\"D\",IF(DT9=\"W\",DR9,IF(DT9=\"L\",DR9,0)))","v":0},{"$f":"IF(DN9+DO9=0,0,IF(DN9+DO9>0.1,DN9-DO9,0))","v":0},{"$f":"IF(DT9=\"W\",$X$3,IF(DT9=\"D\",$AG$3,0))","v":{"v":0,"d":"0.0"}},{"$f":"IF(DN9>DO9,\"W\",IF(DN9<DO9,\"L\",IF(DN9=0,\"\",IF(DN9=DO9,\"D\",0))))","v":""},10,3,{"$nulls":3},{"$f":"IF(EC9=\"D\",\"D\",IF(EC9=\"W\",EA9,IF(EC9=\"L\",EA9,0)))","v":0},{"$f":"IF(DW9+DX9=0,0,IF(DW9+DX9>0.1,DW9-DX9,0))","v":0},{"$f":"IF(EC9=\"W\",$X$3,IF(EC9=\"D\",$AG$3,0))","v":{"v":0,"d":"0.0"}},{"$f":"IF(DW9>DX9,\"W\",IF(DW9<DX9,\"L\",IF(DW9=0,\"\",IF(DW9=DX9,\"D\",0))))","v":""},12,5,{"$nulls":3},{"$f":"IF(EL9=\"D\",\"D\",IF(EL9=\"W\",EJ9,IF(EL9=\"L\",EJ9,0)))","v":0},{"$f":"IF(EF9+EG9=0,0,IF(EF9+EG9>0.1,EF9-EG9,0))","v":0},{"$f":"IF(EL9=\"W\",$X$3,IF(EL9=\"D\",$AG$3,0))","v":{"v":0,"d":"0.0"}},{"$f":"IF(EF9>EG9,\"W\",IF(EF9<EG9,\"L\",IF(EF9=0,\"\",IF(EF9=EG9,\"D\",0))))","v":""},14,2,{"$nulls":3},{"$f":"IF(EU9=\"D\",\"D\",IF(EU9=\"W\",ES9,IF(EU9=\"L\",ES9,0)))","v":0},{"$f":"IF(EO9+EP9=0,0,IF(EO9+EP9>0.1,EO9-EP9,0))","v":0},{"$f":"IF(EU9=\"W\",$X$3,IF(EU9=\"D\",$AG$3,0))","v":{"v":0,"d":"0.0"}},{"$f":"IF(EO9>EP9,\"W\",IF(EO9<EP9,\"L\",IF(EO9=0,\"\",IF(EO9=EP9,\"D\",0))))","v":""},16,2,{"$nulls":3},{"$f":"IF(FD9=\"D\",\"D\",IF(FD9=\"W\",FB9,IF(FD9=\"L\",FB9,0)))","v":0},{"$f":"IF(EX9+EY9=0,0,IF(EX9+EY9>0.1,EX9-EY9,0))","v":0},{"$f":"IF(FD9=\"W\",$X$3,IF(FD9=\"D\",$AG$3,0))","v":{"v":0,"d":"0.0"}},{"$f":"IF(EX9>EY9,\"W\",IF(EX9<EY9,\"L\",IF(EX9=0,\"\",IF(EX9=EY9,\"D\",0))))","v":""},1,6,{"$nulls":3},{"$f":"IF(FM9=\"D\",\"D\",IF(FM9=\"W\",FK9,IF(FM9=\"L\",FK9,0)))","v":0},{"$f":"IF(FG9+FH9=0,0,IF(FG9+FH9>0.1,FG9-FH9,0))","v":0},{"$f":"IF(FM9=\"W\",$X$3,IF(FM9=\"D\",$AG$3,0))","v":{"v":0,"d":"0.0"}},{"$f":"IF(FG9>FH9,\"W\",IF(FG9<FH9,\"L\",IF(FG9=0,\"\",IF(FG9=FH9,\"D\",0))))","v":""},5,3,{"$nulls":3},{"$f":"IF(FV9=\"D\",\"D\",IF(FV9=\"W\",FT9,IF(FV9=\"L\",FT9,0)))","v":0},{"$f":"IF(FP9+FQ9=0,0,IF(FP9+FQ9>0.1,FP9-FQ9,0))","v":0},{"$f":"IF(FV9=\"W\",$X$3,IF(FV9=\"D\",$AG$3,0))","v":{"v":0,"d":"0.0"}},{"$f":"IF(FP9>FQ9,\"W\",IF(FP9<FQ9,\"L\",IF(FP9=0,\"\",IF(FP9=FQ9,\"D\",0))))","v":""},{"$nulls":3},{"$f":"IF(GC9=\"D\",\"D\",IF(GC9=\"W\",GA9,IF(GC9=\"L\",GA9,0)))","v":0},{"$f":"IF(FW9+FX9=0,0,IF(FW9+FX9>0.1,FW9-FX9,0))","v":0},{"$f":"IF(GC9=\"W\",1,IF(GC9=\"D\",0.5,0))","v":{"v":0,"d":"0.0"}},{"$f":"IF(FW9>FX9,\"W\",IF(FW9<FX9,\"L\",IF(FW9=0,\"\",IF(FW9=FX9,\"D\",0))))","v":""},7,4,{"$nulls":3},{"$f":"IF(GL9=\"D\",\"D\",IF(GL9=\"W\",GJ9,IF(GL9=\"L\",GJ9,0)))","v":0},{"$f":"IF(GF9+GG9=0,0,IF(GF9+GG9>0.1,GF9-GG9,0))","v":0},{"$f":"IF(GL9=\"W\",$X$3,IF(GL9=\"D\",$AG$3,0))","v":{"v":0,"d":"0.0"}},{"$f":"IF(GF9>GG9,\"W\",IF(GF9<GG9,\"L\",IF(GF9=0,\"\",IF(GF9=GG9,\"D\",0))))","v":""},9,5,{"$nulls":3},{"$f":"IF(GU9=\"D\",\"D\",IF(GU9=\"W\",GS9,IF(GU9=\"L\",GS9,0)))","v":0},{"$f":"IF(GO9+GP9=0,0,IF(GO9+GP9>0.1,GO9-GP9,0))","v":0},{"$f":"IF(GU9=\"W\",$X$3,IF(GU9=\"D\",$AG$3,0))","v":{"v":0,"d":"0.0"}},{"$f":"IF(GO9>GP9,\"W\",IF(GO9<GP9,\"L\",IF(GO9=0,\"\",IF(GO9=GP9,\"D\",0))))","v":""},1,2,{"$nulls":3},{"$f":"IF(HD9=\"D\",\"D\",IF(HD9=\"W\",HB9,IF(HD9=\"L\",HB9,0)))","v":0},{"$f":"IF(GX9+GY9=0,0,IF(GX9+GY9>0.1,GX9-GY9,0))","v":0},{"$f":"IF(HD9=\"W\",$X$3,IF(HD9=\"D\",$AG$3,0))","v":{"v":0,"d":"0.0"}},{"$f":"IF(GX9>GY9,\"W\",IF(GX9<GY9,\"L\",IF(GX9=0,\"\",IF(GX9=GY9,\"D\",0))))","v":""},9,1,{"$nulls":3},{"$f":"IF(HM9=\"D\",\"D\",IF(HM9=\"W\",HK9,IF(HM9=\"L\",HK9,0)))","v":0},{"$f":"IF(HG9+HH9=0,0,IF(HG9+HH9>0.1,HG9-HH9,0))","v":0},{"$f":"IF(HM9=\"W\",$X$3,IF(HM9=\"D\",$AG$3,0))","v":{"v":0,"d":"0.0"}},{"$f":"IF(HG9>HH9,\"W\",IF(HG9<HH9,\"L\",IF(HG9=0,\"\",IF(HG9=HH9,\"D\",0))))","v":""},11,6,{"$nulls":3},{"$f":"IF(HV9=\"D\",\"D\",IF(HV9=\"W\",HT9,IF(HV9=\"L\",HT9,0)))","v":0},{"$f":"IF(HP9+HQ9=0,0,IF(HP9+HQ9>0.1,HP9-HQ9,0))","v":0},{"$f":"IF(HV9=\"W\",$X$3,IF(HV9=\"D\",$AG$3,0))","v":{"v":0,"d":"0.0"}},{"$f":"IF(HP9>HQ9,\"W\",IF(HP9<HQ9,\"L\",IF(HP9=0,\"\",IF(HP9=HQ9,\"D\",0))))","v":""},13,4,{"$nulls":3},{"$f":"IF(IE9=\"D\",\"D\",IF(IE9=\"W\",IC9,IF(IE9=\"L\",IC9,0)))","v":0},{"$f":"IF(HY9+HZ9=0,0,IF(HY9+HZ9>0.1,HY9-HZ9,0))","v":0},{"$f":"IF(IE9=\"W\",$X$3,IF(IE9=\"D\",$AG$3,0))","v":{"v":0,"d":"0.0"}},{"$f":"IF(HY9>HZ9,\"W\",IF(HY9<HZ9,\"L\",IF(HY9=0,\"\",IF(HY9=HZ9,\"D\",0))))","v":""},15,8,{"$nulls":3},{"$f":"IF(IN9=\"D\",\"D\",IF(IN9=\"W\",IL9,IF(IN9=\"L\",IL9,0)))","v":0},{"$f":"IF(IH9+II9=0,0,IF(IH9+II9>0.1,IH9-II9,0))","v":0},{"$f":"IF(IN9=\"W\",$X$3,IF(IN9=\"D\",$AG$3,0))","v":{"v":0,"d":"0.0"}},{"$f":"IF(IH9>II9,\"W\",IF(IH9<II9,\"L\",IF(IH9=0,\"\",IF(IH9=II9,\"D\",0))))","v":""},2,1,{"$nulls":3},{"$f":"IF(IW9=\"D\",\"D\",IF(IW9=\"W\",IU9,IF(IW9=\"L\",IU9,0)))","v":0},{"$f":"IF(IQ9+IR9=0,0,IF(IQ9+IR9>0.1,IQ9-IR9,0))","v":0},{"$f":"IF(IW9=\"W\",$X$3,IF(IW9=\"D\",$AG$3,0))","v":{"v":0,"d":"0.0"}},{"$f":"IF(IQ9>IR9,\"W\",IF(IQ9<IR9,\"L\",IF(IQ9=0,\"\",IF(IQ9=IR9,\"D\",0))))","v":""},4,4,{"$nulls":3},{"$f":"IF(JF9=\"D\",\"D\",IF(JF9=\"W\",JD9,IF(JF9=\"L\",JD9,0)))","v":0},{"$f":"IF(IZ9+JA9=0,0,IF(IZ9+JA9>0.1,IZ9-JA9,0))","v":0},{"$f":"IF(JF9=\"W\",$X$3,IF(JF9=\"D\",$AG$3,0))","v":{"v":0,"d":"0.0"}},{"$f":"IF(IZ9>JA9,\"W\",IF(IZ9<JA9,\"L\",IF(IZ9=0,\"\",IF(IZ9=JA9,\"D\",0))))","v":""},6,7,{"$nulls":3},{"$f":"IF(JO9=\"D\",\"D\",IF(JO9=\"W\",JM9,IF(JO9=\"L\",JM9,0)))","v":0},{"$f":"IF(JI9+JJ9=0,0,IF(JI9+JJ9>0.1,JI9-JJ9,0))","v":0},{"$f":"IF(JO9=\"W\",$X$3,IF(JO9=\"D\",$AG$3,0))","v":{"v":0,"d":"0.0"}},{"$f":"IF(JI9>JJ9,\"W\",IF(JI9<JJ9,\"L\",IF(JI9=0,\"\",IF(JI9=JJ9,\"D\",0))))","v":""},{"$nulls":3},{"$f":"IF(JV9=\"D\",\"D\",IF(JV9=\"W\",JT9,IF(JV9=\"L\",JT9,0)))","v":0},{"$f":"IF(JP9+JQ9=0,0,IF(JP9+JQ9>0.1,JP9-JQ9,0))","v":0},{"$f":"IF(JV9=\"W\",1,IF(JV9=\"D\",0.5,0))","v":{"v":0,"d":"0.0"}},{"$f":"IF(JP9>JQ9,\"W\",IF(JP9<JQ9,\"L\",IF(JP9=0,\"\",IF(JP9=JQ9,\"D\",0))))","v":""},8,1,{"$nulls":3},{"$f":"IF(KE9=\"D\",\"D\",IF(KE9=\"W\",KC9,IF(KE9=\"L\",KC9,0)))","v":0},{"$f":"IF(JY9+JZ9=0,0,IF(JY9+JZ9>0.1,JY9-JZ9,0))","v":0},{"$f":"IF(KE9=\"W\",$X$3,IF(KE9=\"D\",$AG$3,0))","v":{"v":0,"d":"0.0"}},{"$f":"IF(JY9>JZ9,\"W\",IF(JY9<JZ9,\"L\",IF(JY9=0,\"\",IF(JY9=JZ9,\"D\",0))))","v":""},10,8,{"$nulls":3},{"$f":"IF(KN9=\"D\",\"D\",IF(KN9=\"W\",KL9,IF(KN9=\"L\",KL9,0)))","v":0},{"$f":"IF(KH9+KI9=0,0,IF(KH9+KI9>0.1,KH9-KI9,0))","v":0},{"$f":"IF(KN9=\"W\",$X$3,IF(KN9=\"D\",$AG$3,0))","v":{"v":0,"d":"0.0"}},{"$f":"IF(KH9>KI9,\"W\",IF(KH9<KI9,\"L\",IF(KH9=0,\"\",IF(KH9=KI9,\"D\",0))))","v":""},12,6,{"$nulls":3},{"$f":"IF(KW9=\"D\",\"D\",IF(KW9=\"W\",KU9,IF(KW9=\"L\",KU9,0)))","v":0},{"$f":"IF(KQ9+KR9=0,0,IF(KQ9+KR9>0.1,KQ9-KR9,0))","v":0},{"$f":"IF(KW9=\"W\",$X$3,IF(KW9=\"D\",$AG$3,0))","v":{"v":0,"d":"0.0"}},{"$f":"IF(KQ9>KR9,\"W\",IF(KQ9<KR9,\"L\",IF(KQ9=0,\"\",IF(KQ9=KR9,\"D\",0))))","v":""},14,7,{"$nulls":3},{"$f":"IF(LF9=\"D\",\"D\",IF(LF9=\"W\",LD9,IF(LF9=\"L\",LD9,0)))","v":0},{"$f":"IF(KZ9+LA9=0,0,IF(KZ9+LA9>0.1,KZ9-LA9,0))","v":0},{"$f":"IF(LF9=\"W\",$X$3,IF(LF9=\"D\",$AG$3,0))","v":{"v":0,"d":"0.0"}},{"$f":"IF(KZ9>LA9,\"W\",IF(KZ9<LA9,\"L\",IF(KZ9=0,\"\",IF(KZ9=LA9,\"D\",0))))","v":""},16,5,{"$nulls":3},{"$f":"IF(LO9=\"D\",\"D\",IF(LO9=\"W\",LM9,IF(LO9=\"L\",LM9,0)))","v":0},{"$f":"IF(LI9+LJ9=0,0,IF(LI9+LJ9>0.1,LI9-LJ9,0))","v":0},{"$f":"IF(LO9=\"W\",$X$3,IF(LO9=\"D\",$AG$3,0))","v":{"v":0,"d":"0.0"}},{"$f":"IF(LI9>LJ9,\"W\",IF(LI9<LJ9,\"L\",IF(LI9=0,\"\",IF(LI9=LJ9,\"D\",0))))","v":""},3,4,{"$nulls":3},{"$f":"IF(LX9=\"D\",\"D\",IF(LX9=\"W\",LV9,IF(LX9=\"L\",LV9,0)))","v":0},{"$f":"IF(LR9+LS9=0,0,IF(LR9+LS9>0.1,LR9-LS9,0))","v":0},{"$f":"IF(LX9=\"W\",$X$3,IF(LX9=\"D\",$AG$3,0))","v":{"v":0,"d":"0.0"}},{"$f":"IF(LR9>LS9,\"W\",IF(LR9<LS9,\"L\",IF(LR9=0,\"\",IF(LR9=LS9,\"D\",0))))","v":""},5,8,{"$nulls":3},{"$f":"IF(MG9=\"D\",\"D\",IF(MG9=\"W\",ME9,IF(MG9=\"L\",ME9,0)))","v":0},{"$f":"IF(MA9+MB9=0,0,IF(MA9+MB9>0.1,MA9-MB9,0))","v":0},{"$f":"IF(MG9=\"W\",$X$3,IF(MG9=\"D\",$AG$3,0))","v":{"v":0,"d":"0.0"}},{"$f":"IF(MA9>MB9,\"W\",IF(MA9<MB9,\"L\",IF(MA9=0,\"\",IF(MA9=MB9,\"D\",0))))","v":""},1,2,{"$nulls":3},{"$f":"IF(MP9=\"D\",\"D\",IF(MP9=\"W\",MN9,IF(MP9=\"L\",MN9,0)))","v":0},{"$f":"IF(MJ9+MK9=0,0,IF(MJ9+MK9>0.1,MJ9-MK9,0))","v":0},{"$f":"IF(MP9=\"W\",$X$3,IF(MP9=\"D\",$AG$3,0))","v":{"v":0,"d":"0.0"}},{"$f":"IF(MJ9>MK9,\"W\",IF(MJ9<MK9,\"L\",IF(MJ9=0,\"\",IF(MJ9=MK9,\"D\",0))))","v":""}]
[null,4,null,{"$f":"Q10+Z10+AI10+AR10+BA10+BJ10+BS10+CB10+CR10+DA10+DJ10+DS10+EB10+EK10+ET10+FC10+FL10+FU10+GK10+GT10+HC10+HL10+HU10+ID10+IM10+IV10+JE10+JN10+JU10+KD10+KM10+KV10+LE10+LN10+LW10+MF10+MO10","v":0},{"$f":"N10+W10+AF10+AO10+AX10+BG10+BP10+BY10+CF10+CO10+CX10+DG10+DP10+DY10+EH10+EQ10+EZ10+FI10+FR10+GH10+GQ10+GZ10+HI10+HR10+IA10+IJ10+IS10+JB10+JK10+KA10+KJ10+KS10+LB10+LK10+LT10+MC10+ML10","v":0},{"$f":"D10+E10","v":0},{"$f":"P10+Y10+AH10+AQ10+AZ10+BI10+BR10+CA10+CQ10+CZ10+DI10+DR10+EA10+EJ10+ES10+FB10+FK10+FT10+GJ10+GS10+HB10+HK10+HT10+IC10+IL10+IU10+JD10+JM10+KC10+KL10+KU10+LD10+LM10+LV10+ME10+MN10","v":0},{"$f":"(D10*1000000)+G10","v":0},{"$f":"IF($H$7:$H$18=0,\"\",RANK(H10,$H$7:$H$18))","v":""},11,3,{"$nulls":3},{"$f":"IF(R10=\"D\",\"D\",IF(R10=\"W\",P10,IF(R10=\"L\",P10,0)))","v":0},{"$f":"IF(L10+M10=0,0,IF(L10+M10>0.1,L10-M10,0))","v":0},{"$f":"IF(R10=\"W\",$X$3,IF(R10=\"D\",$AG$3,0))","v":{"v":0,"d":"0.0"}},{"$f":"IF(L10>M10,\"W\",IF(L10<M10,\"L\",IF(L10=0,\"\",IF(L10=M10,\"D\",0))))","v":""},2,4,{"$nulls":3},{"$f":"IF(AA10=\"D\",\"D\",IF(AA10=\"W\",Y10,IF(AA10=\"L\",Y10,0)))","v":0},{"$f":"IF(U10+V10=0,0,IF(U10+V10>0.1,U10-V10,0))","v":0},{"$f":"IF(AA10=\"W\",$X$3,IF(AA10=\"D\",$AG$3,0))","v":{"v":0,"d":"0.0"}},{"$f":"IF(U10>V10,\"W\",IF(U10<V10,\"L\",IF(U10=0,\"\",IF(U10=V10,\"D\",0))))","v":""},1,2,{"$nulls":3},{"$f":"IF(AJ10=\"D\",\"D\",IF(AJ10=\"W\",AH10,IF(AJ10=\"L\",AH10,0)))","v":0},{"$f":"IF(AD10+AE10=0,0,IF(AD10+AE10>0.1,AD10-AE10,0))","v":0},{"$f":"IF(AJ10=\"W\",$X$3,IF(AJ10=\"D\",$AG$3,0))","v":{"v":0,"d":"0.0"}},{"$f":"IF(AD10>AE10,\"W\",IF(AD10<AE10,\"L\",IF(AD10=0,\"\",IF(AD10=AE10,\"D\",0))))","v":""},6,1,{"$nulls":3},{"$f":"IF(AS10=\"D\",\"D\",IF(AS10=\"W\",AQ10,IF(AS10=\"L\",AQ10,0)))","v":0},{"$f":"IF(AM10+AN10=0,0,IF(AM10+AN10>0.1,AM10-AN10,0))","v":0},{"$f":"IF(AS10=\"W\",$X$3,IF(AS10=\"D\",$AG$3,0))","v":{"v":0,"d":"0.0"}},{"$f":"IF(AM10>AN10,\"W\",IF(AM10<AN10,\"L\",IF(AM10=0,\"\",IF(AM10=AN10,\"D\",0))))","v":""},8,6,{"$nulls":3},{"$f":"IF(BB10=\"D\",\"D\",IF(BB10=\"W\",AZ10,IF(BB10=\"L\",AZ10,0)))","v":0},{"$f":"IF(AV10+AW10=0,0,IF(AV10+AW10>0.1,AV10-AW10,0))","v":0},{"$f":"IF(BB10=\"W\",$X$3,IF(BB10=\"D\",$AG$3,0))","v":{"v":0,"d":"0.0"}},{"$f":"IF(AV10>AW10,\"W\",IF(AV10<AW10,\"L\",IF(AV10=0,\"\",IF(AV10=AW10,\"D\",0))))","v":""},10,1,{"$nulls":3},{"$f":"IF(BK10=\"D\",\"D\",IF(BK10=\"W\",BI10,IF(BK10=\"L\",BI10,0)))","v":0},{"$f":"IF(BE10+BF10=0,0,IF(BE10+BF10>0.1,BE10-BF10,0))","v":0},{"$f":"IF(BK10=\"W\",$X$3,IF(BK10=\"D\",$AG$3,0))","v":{"v":0,"d":"0.0"}},{"$f":"IF(BE10>BF10,\"W\",IF(BE10<BF10,\"L\",IF(BE10=0,\"\",IF(BE10=BF10,\"D\",0))))","v":""},12,5,{"$nulls":3},{"$f":"IF(BT10=\"D\",\"D\",IF(BT10=\"W\",BR10,IF(BT10=\"L\",BR10,0)))","v":0},{"$f":"IF(BN10+BO10=0,0,IF(BN10+BO10>0.1,BN10-BO10,0))","v":0},{"$f":"IF(BT10=\"W\",$X$3,IF(BT10=\"D\",$AG$3,0))","v":{"v":0,"d":"0.0"}},{"$f":"IF(BN10>BO10,\"W\",IF(BN10<BO10,\"L\",IF(BN10=0,\"\",IF(BN10=BO10,\"D\",0))))","v":""},3,4,{"$nulls":3},{"$f":"IF(CC10=\"D\",\"D\",IF(CC10=\"W\",CA10,IF(CC10=\"L\",CA10,0)))","v":0},{"$f":"IF(BW10+BX10=0,0,IF(BW10+BX10>0.1,BW10-BX10,0))","v":0},{"$f":"IF(CC10=\"W\",$X$3,IF(CC10=\"D\",$AG$3,0))","v":{"v":0,"d":"0.0"}},{"$f":"IF(BW10>BX10,\"W\",IF(BW10<BX10,\"L\",IF(BW10=0,\"\",IF(BW10=BX10,\"D\",0))))","v":""},{"$nulls":3},{"$f":"IF(CJ10=\"D\",\"D\",IF(CJ10=\"W\",CH10,IF(CJ10=\"L\",CH10,0)))","v":0},{"$f":"IF(CD10+CE10=0,0,IF(CD10+CE10>0.1,CD10-CE10,0))","v":0},{"$f":"IF(CJ10=\"W\",1,IF(CJ10=\"D\",0.5,0))","v":{"v":0,"d":"0.0"}},{"$f":"IF(CD10>CE10,\"W\",IF(CD10<CE10,\"L\",IF(CD10=0,\"\",IF(CD10=CE10,\"D\",0))))","v":""},5,3,{"$nulls":3},{"$f":"IF(CS10=\"D\",\"D\",IF(CS10=\"W\",CQ10,IF(CS10=\"L\",CQ10,0)))","v":0},{"$f":"IF(CM10+CN10=0,0,IF(CM10+CN10>0.1,CM10-CN10,0))","v":0},{"$f":"IF(CS10=\"W\",$X$3,IF(CS10=\"D\",$AG$3,0))","v":{"v":0,"d":"0.0"}},{"$f":"IF(CM10>CN10,\"W\",IF(CM10<CN10,\"L\",IF(CM10=0,\"\",IF(CM10=CN10,\"D\",0))))","v":""},7,6,{"$nulls":3},{"$f":"IF(DB10=\"D\",\"D\",IF(DB10=\"W\",CZ10,IF(DB10=\"L\",CZ10,0)))","v":0},{"$f":"IF(CV10+CW10=0,0,IF(CV10+CW10>0.1,CV10-CW10,0))","v":0},{"$f":"IF(DB10=\"W\",$X$3,IF(DB10=\"D\",$AG$3,0))","v":{"v":0,"d":"0.0"}},{"$f":"IF(CV10>CW10,\"W\",IF(CV10<CW10,\"L\",IF(CV10=0,\"\",IF(CV10=CW10,\"D\",0))))","v":""},5,3,{"$nulls":3},{"$f":"IF(DK10=\"D\",\"D\",IF(DK10=\"W\",DI10,IF(DK10=\"L\",DI10,0)))","v":0},{"$f":"IF(DE10+DF10=0,0,IF(DE10+DF10>0.1,DE10-DF10,0))","v":0},{"$f":"IF(DK10=\"W\",$X$3,IF(DK10=\"D\",$AG$3,0))","v":{"v":0,"d":"0.0"}},{"$f":"IF(DE10>DF10,\"W\",IF(DE10<DF10,\"L\",IF(DE10=0,\"\",IF(DE10=DF10,\"D\",0))))","v":""},7,4,{"$nulls":3},{"$f":"IF(DT10=\"D\",\"D\",IF(DT10=\"W\",DR10,IF(DT10=\"L\",DR10,0)))","v":0},{"$f":"IF(DN10+DO10=0,0,IF(DN10+DO10>0.1,DN10-DO10,0))","v":0},{"$f":"IF(DT10=\"W\",$X$3,IF(DT10=\"D\",$AG$3,0))","v":{"v":0,"d":"0.0"}},{"$f":"IF(DN10>DO10,\"W\",IF(DN10<DO10,\"L\",IF(DN10=0,\"\",IF(DN10=DO10,\"D\",0))))","v":""},9,1,{"$nulls":3},{"$f":"IF(EC10=\"D\",\"D\",IF(EC10=\"W\",EA10,IF(EC10=\"L\",EA10,0)))","v":0},{"$f":"IF(DW10+DX10=0,0,IF(DW10+DX10>0.1,DW10-DX10,0))","v":0},{"$f":"IF(EC10=\"W\",$X$3,IF(EC10=\"D\",$AG$3,0))","v":{"v":0,"d":"0.0"}},{"$f":"IF(DW10>DX10,\"W\",IF(DW10<DX10,\"L\",IF(DW10=0,\"\",IF(DW10=DX10,\"D\",0))))","v":""},11,2,{"$nulls":3},{"$f":"IF(EL10=\"D\",\"D\",IF(EL10=\"W\",EJ10,IF(EL10=\"L\",EJ10,0)))","v":0},{"$f":"IF(EF10+EG10=0,0,IF(EF10+EG10>0.1,EF10-EG10,0))","v":0},{"$f":"IF(EL10=\"W\",$X$3,IF(EL10=\"D\",$AG$3,0))","v":{"v":0,"d":"0.0"}},{"$f":"IF(EF10>EG10,\"W\",IF(EF10<EG10,\"L\",IF(EF10=0,\"\",IF(EF10=EG10,\"D\",0))))","v":""},13,6,{"$nulls":3},{"$f":"IF(EU10=\"D\",\"D\",IF(EU10=\"W\",ES10,IF(EU10=\"L\",ES10,0)))","v":0},{"$f":"IF(EO10+EP10=0,0,IF(EO10+EP10>0.1,EO10-EP10,0))","v":0},{"$f":"IF(EU10=\"W\",$X$3,IF(EU10=\"D\",$AG$3,0))","v":{"v":0,"d":"0.0"}},{"$f":"IF(EO10>EP10,\"W\",IF(EO10<EP10,\"L\",IF(EO10=0,\"\",IF(EO10=EP10,\"D\",0))))","v":""},15,3,{"$nulls":3},{"$f":"IF(FD10=\"D\",\"D\",IF(FD10=\"W\",FB10,IF(FD10=\"L\",FB10,0)))","v":0},{"$f":"IF(EX10+EY10=0,0,IF(EX10+EY10>0.1,EX10-EY10,0))","v":0},{"$f":"IF(FD10=\"W\",$X$3,IF(FD10=\"D\",$AG$3,0))","v":{"v":0,"d":"0.0"}},{"$f":"IF(EX10>EY10,\"W\",IF(EX10<EY10,\"L\",IF(EX10=0,\"\",IF(EX10=EY10,\"D\",0))))","v":""},2,5,{"$nulls":3},{"$f":"IF(FM10=\"D\",\"D\",IF(FM10=\"W\",FK10,IF(FM10=\"L\",FK10,0)))","v":0},{"$f":"IF(FG10+FH10=0,0,IF(FG10+FH10>0.1,FG10-FH10,0))","v":0},{"$f":"IF(FM10=\"W\",$X$3,IF(FM10=\"D\",$AG$3,0))","v":{"v":0,"d":"0.0"}},{"$f":"IF(FG10>FH10,\"W\",IF(FG10<FH10,\"L\",IF(FG10=0,\"\",IF(FG10=FH10,\"D\",0))))","v":""},1,4,{"$nulls":3},{"$f":"IF(FV10=\"D\",\"D\",IF(FV10=\"W\",FT10,IF(FV10=\"L\",FT10,0)))","v":0},{"$f":"IF(FP10+FQ10=0,0,IF(FP10+FQ10>0.1,FP10-FQ10,0))","v":0},{"$f":"IF(FV10=\"W\",$X$3,IF(FV10=\"D\",$AG$3,0))","v":{"v":0,"d":"0.0"}},{"$f":"IF(FP10>FQ10,\"W\",IF(FP10<FQ10,\"L\",IF(FP10=0,\"\",IF(FP10=FQ10,\"D\",0))))","v":""},{"$nulls":3},{"$f":"IF(GC10=\"D\",\"D\",IF(GC10=\"W\",GA10,IF(GC10=\"L\",GA10,0)))","v":0},{"$f":"IF(FW10+FX10=0,0,IF(FW10+FX10>0.1,FW10-FX10,0))","v":0},{"$f":"IF(GC10=\"W\",1,IF(GC10=\"D\",0.5,0))","v":{"v":0,"d":"0.0"}},{"$f":"IF(FW10>FX10,\"W\",IF(FW10<FX10,\"L\",IF(FW10=0,\"\",IF(FW10=FX10,\"D\",0))))","v":""},6,1,{"$nulls":3},{"$f":"IF(GL10=\"D\",\"D\",IF(GL10=\"W\",GJ10,IF(GL10=\"L\",GJ10,0)))","v":0},{"$f":"IF(GF10+GG10=0,0,IF(GF10+GG10>0.1,GF10-GG10,0))","v":0},{"$f":"IF(GL10=\"W\",$X$3,IF(GL10=\"D\",$AG$3,0))","v":{"v":0,"d":"0.0"}},{"$f":"IF(GF10>GG10,\"W\",IF(GF10<GG10,\"L\",IF(GF10=0,\"\",IF(GF10=GG10,\"D\",0))))","v":""},8,2,{"$nulls":3},{"$f":"IF(GU10=\"D\",\"D\",IF(GU10=\"W\",GS10,IF(GU10=\"L\",GS10,0)))","v":0},{"$f":"IF(GO10+GP10=0,0,IF(GO10+GP10>0.1,GO10-GP10,0))","v":0},{"$f":"IF(GU10=\"W\",$X$3,IF(GU10=\"D\",$AG$3,0))","v":{"v":0,"d":"0.0"}},{"$f":"IF(GO10>GP10,\"W\",IF(GO10<GP10,\"L\",IF(GO10=0,\"\",IF(GO10=GP10,\"D\",0))))","v":""},5,4,{"$nulls":3},{"$f":"IF(HD10=\"D\",\"D\",IF(HD10=\"W\",HB10,IF(HD10=\"L\",HB10,0)))","v":0},{"$f":"IF(GX10+GY10=0,0,IF(GX10+GY10>0.1,GX10-GY10,0))","v":0},{"$f":"IF(HD10=\"W\",$X$3,IF(HD10=\"D\",$AG$3,0))","v":{"v":0,"d":"0.0"}},{"$f":"IF(GX10>GY10,\"W\",IF(GX10<GY10,\"L\",IF(GX10=0,\"\",IF(GX10=GY10,\"D\",0))))","v":""},7,1,{"$nulls":3},{"$f":"IF(HM10=\"D\",\"D\",IF(HM10=\"W\",HK10,IF(HM10=\"L\",HK10,0)))","v":0},{"$f":"IF(HG10+HH10=0,0,IF(HG10+HH10>0.1,HG10-HH10,0))","v":0},{"$f":"IF(HM10=\"W\",$X$3,IF(HM10=\"D\",$AG$3,0))","v":{"v":0,"d":"0.0"}},{"$f":"IF(HG10>HH10,\"W\",IF(HG10<HH10,\"L\",IF(HG10=0,\"\",IF(HG10=HH10,\"D\",0))))","v":""},1,8,{"$nulls":3},{"$f":"IF(HV10=\"D\",\"D\",IF(HV10=\"W\",HT10,IF(HV10=\"L\",HT10,0)))","v":0},{"$f":"IF(HP10+HQ10=0,0,IF(HP10+HQ10>0.1,HP10-HQ10,0))","v":0},{"$f":"IF(HV10=\"W\",$X$3,IF(HV10=\"D\",$AG$3,0))","v":{"v":0,"d":"0.0"}},{"$f":"IF(HP10>HQ10,\"W\",IF(HP10<HQ10,\"L\",IF(HP10=0,\"\",IF(HP10=HQ10,\"D\",0))))","v":""},11,2,{"$nulls":3},{"$f":"IF(IE10=\"D\",\"D\",IF(IE10=\"W\",IC10,IF(IE10=\"L\",IC10,0)))","v":0},{"$f":"IF(HY10+HZ10=0,0,IF(HY10+HZ10>0.1,HY10-HZ10,0))","v":0},{"$f":"IF(IE10=\"W\",$X$3,IF(IE10=\"D\",$AG$3,0))","v":{"v":0,"d":"0.0"}},{"$f":"IF(HY10>HZ10,\"W\",IF(HY10<HZ10,\"L\",IF(HY10=0,\"\",IF(HY10=HZ10,\"D\",0))))","v":""},13,3,{"$nulls":3},{"$f":"IF(IN10=\"D\",\"D\",IF(IN10=\"W\",IL10,IF(IN10=\"L\",IL10,0)))","v":0},{"$f":"IF(IH10+II10=0,0,IF(IH10+II10>0.1,IH10-II10,0))","v":0},{"$f":"IF(IN10=\"W\",$X$3,IF(IN10=\"D\",$AG$3,0))","v":{"v":0,"d":"0.0"}},{"$f":"IF(IH10>II10,\"W\",IF(IH10<II10,\"L\",IF(IH10=0,\"\",IF(IH10=II10,\"D\",0))))","v":""},15,5,{"$nulls":3},{"$f":"IF(IW10=\"D\",\"D\",IF(IW10=\"W\",IU10,IF(IW10=\"L\",IU10,0)))","v":0},{"$f":"IF(IQ10+IR10=0,0,IF(IQ10+IR10>0.1,IQ10-IR10,0))","v":0},{"$f":"IF(IW10=\"W\",$X$3,IF(IW10=\"D\",$AG$3,0))","v":{"v":0,"d":"0.0"}},{"$f":"IF(IQ10>IR10,\"W\",IF(IQ10<IR10,\"L\",IF(IQ10=0,\"\",IF(IQ10=IR10,\"D\",0))))","v":""},2,2,{"$nulls":3},{"$f":"IF(JF10=\"D\",\"D\",IF(JF10=\"W\",JD10,IF(JF10=\"L\",JD10,0)))","v":0},{"$f":"IF(IZ10+JA10=0,0,IF(IZ10+JA10>0.1,IZ10-JA10,0))","v":0},{"$f":"IF(JF10=\"W\",$X$3,IF(JF10=\"D\",$AG$3,0))","v":{"v":0,"d":"0.0"}},{"$f":"IF(IZ10>JA10,\"W\",IF(IZ10<JA10,\"L\",IF(IZ10=0,\"\",IF(IZ10=JA10,\"D\",0))))","v":""},4,1,{"$nulls":3},{"$f":"IF(JO10=\"D\",\"D\",IF(JO10=\"W\",JM10,IF(JO10=\"L\",JM10,0)))","v":0},{"$f":"IF(JI10+JJ10=0,0,IF(JI10+JJ10>0.1,JI10-JJ10,0))","v":0},{"$f":"IF(JO10=\"W\",$X$3,IF(JO10=\"D\",$AG$3,0))","v":{"v":0,"d":"0.0"}},{"$f":"IF(JI10>JJ10,\"W\",IF(JI10<JJ10,\"L\",IF(JI10=0,\"\",IF(JI10=JJ10,\"D\",0))))","v":""},{"$nulls":3},{"$f":"IF(JV10=\"D\",\"D\",IF(JV10=\"W\",JT10,IF(JV10=\"L\",JT10,0)))","v":0},{"$f":"IF(JP10+JQ10=0,0,IF(JP10+JQ10>0.1,JP10-JQ10,0))","v":0},{"$f":"IF(JV10=\"W\",1,IF(JV10=\"D\",0.5,0))","v":{"v":0,"d":"0.0"}},{"$f":"IF(JP10>JQ10,\"W\",IF(JP10<JQ10,\"L\",IF(JP10=0,\"\",IF(JP10=JQ10,\"D\",0))))","v":""},6,6,{"$nulls":3},{"$f":"IF(KE10=\"D\",\"D\",IF(KE10=\"W\",KC10,IF(KE10=\"L\",KC10,0)))","v":0},{"$f":"IF(JY10+JZ10=0,0,IF(JY10+JZ10>0.1,JY10-JZ10,0))","v":0},{"$f":"IF(KE10=\"W\",$X$3,IF(KE10=\"D\",$AG$3,0))","v":{"v":0,"d":"0.0"}},{"$f":"IF(JY10>JZ10,\"W\",IF(JY10<JZ10,\"L\",IF(JY10=0,\"\",IF(JY10=JZ10,\"D\",0))))","v":""},8,5,{"$nulls":3},{"$f":"IF(KN10=\"D\",\"D\",IF(KN10=\"W\",KL10,IF(KN10=\"L\",KL10,0)))","v":0},{"$f":"IF(KH10+KI10=0,0,IF(KH10+KI10>0.1,KH10-KI10,0))","v":0},{"$f":"IF(KN10=\"W\",$X$3,IF(KN10=\"D\",$AG$3,0))","v":{"v":0,"d":"0.0"}},{"$f":"IF(KH10>KI10,\"W\",IF(KH10<KI10,\"L\",IF(KH10=0,\"\",IF(KH10=KI10,\"D\",0))))","v":""},10,8,{"$nulls":3},{"$f":"IF(KW10=\"D\",\"D\",IF(KW10=\"W\",KU10,IF(KW10=\"L\",KU10,0)))","v":0},{"$f":"IF(KQ10+KR10=0,0,IF(KQ10+KR10>0.1,KQ10-KR10,0))","v":0},{"$f":"IF(KW10=\"W\",$X$3,IF(KW10=\"D\",$AG$3,0))","v":{"v":0,"d":"0.0"}},{"$f":"IF(KQ10>KR10,\"W\",IF(KQ10<KR10,\"L\",IF(KQ10=0,\"\",IF(KQ10=KR10,\"D\",0))))","v":""},12,2,{"$nulls":3},{"$f":"IF(LF10=\"D\",\"D\",IF(LF10=\"W\",LD10,IF(LF10=\"L\",LD10,0)))","v":0},{"$f":"IF(KZ10+LA10=0,0,IF(KZ10+LA10>0.1,KZ10-LA10,0))","v":0},{"$f":"IF(LF10=\"W\",$X$3,IF(LF10=\"D\",$AG$3,0))","v":{"v":0,"d":"0.0"}},{"$f":"IF(KZ10>LA10,\"W\",IF(KZ10<LA10,\"L\",IF(KZ10=0,\"\",IF(KZ10=LA10,\"D\",0))))","v":""},14,1,{"$nulls":3},{"$f":"IF(LO10=\"D\",\"D\",IF(LO10=\"W\",LM10,IF(LO10=\"L\",LM10,0)))","v":0},{"$f":"IF(LI10+LJ10=0,0,IF(LI10+LJ10>0.1,LI10-LJ10,0))","v":0},{"$f":"IF(LO10=\"W\",$X$3,IF(LO10=\"D\",$AG$3,0))","v":{"v":0,"d":"0.0"}},{"$f":"IF(LI10>LJ10,\"W\",IF(LI10<LJ10,\"L\",IF(LI10=0,\"\",IF(LI10=LJ10,\"D\",0))))","v":""},16,6,{"$nulls":3},{"$f":"IF(LX10=\"D\",\"D\",IF(LX10=\"W\",LV10,IF(LX10=\"L\",LV10,0)))","v":0},{"$f":"IF(LR10+LS10=0,0,IF(LR10+LS10>0.1,LR10-LS10,0))","v":0},{"$f":"IF(LX10=\"W\",$X$3,IF(LX10=\"D\",$AG$3,0))","v":{"v":0,"d":"0.0"}},{"$f":"IF(LR10>LS10,\"W\",IF(LR10<LS10,\"L\",IF(LR10=0,\"\",IF(LR10=LS10,\"D\",0))))","v":""},3,5,{"$nulls":3},{"$f":"IF(MG10=\"D\",\"D\",IF(MG10=\"W\",ME10,IF(MG10=\"L\",ME10,0)))","v":0},{"$f":"IF(MA10+MB10=0,0,IF(MA10+MB10>0.1,MA10-MB10,0))","v":0},{"$f":"IF(MG10=\"W\",$X$3,IF(MG10=\"D\",$AG$3,0))","v":{"v":0,"d":"0.0"}},{"$f":"IF(MA10>MB10,\"W\",IF(MA10<MB10,\"L\",IF(MA10=0,\"\",IF(MA10=MB10,\"D\",0))))","v":""},5,4,{"$nulls":3},{"$f":"IF(MP10=\"D\",\"D\",IF(MP10=\"W\",MN10,IF(MP10=\"L\",MN10,0)))","v":0},{"$f":"IF(MJ10+MK10=0,0,IF(MJ10+MK10>0.1,MJ10-MK10,0))","v":0},{"$f":"IF(MP10=\"W\",$X$3,IF(MP10=\"D\",$AG$3,0))","v":{"v":0,"d":"0.0"}},{"$f":"IF(MJ10>MK10,\"W\",IF(MJ10<MK10,\"L\",IF(MJ10=0,\"\",IF(MJ10=MK10,\"D\",0))))","v":""}]
[null,5,null,{"$f":"Q11+Z11+AI11+AR11+BA11+BJ11+BS11+CB11+CR11+DA11+DJ11+DS11+EB11+EK11+ET11+FC11+FL11+FU11+GK11+GT11+HC11+HL11+HU11+ID11+IM11+IV11+JE11+JN11+JU11+KD11+KM11+KV11+LE11+LN11+LW11+MF11+MO11","v":0},{"$f":"N11+W11+AF11+AO11+AX11+BG11+BP11+BY11+CF11+CO11+CX11+DG11+DP11+DY11+EH11+EQ11+EZ11+FI11+FR11+GH11+GQ11+GZ11+HI11+HR11+IA11+IJ11+IS11+JB11+JK11+KA11+KJ11+KS11+LB11+LK11+LT11+MC11+ML11","v":0},{"$f":"D11+E11","v":0},{"$f":"P11+Y11+AH11+AQ11+AZ11+BI11+BR11+CA11+CQ11+CZ11+DI11+DR11+EA11+EJ11+ES11+FB11+FK11+FT11+GJ11+GS11+HB11+HK11+HT11+IC11+IL11+IU11+JD11+JM11+KC11+KL11+KU11+LD11+LM11+LV11+ME11+MN11","v":0},{"$f":"(D11*1000000)+G11","v":0},{"$f":"IF($H$7:$H$18=0,\"\",RANK(H11,$H$7:$H$18))","v":""},10,4,{"$nulls":3},{"$f":"IF(R11=\"D\",\"D\",IF(R11=\"W\",P11,IF(R11=\"L\",P11,0)))","v":0},{"$f":"IF(L11+M11=0,0,IF(L11+M11>0.1,L11-M11,0))","v":0},{"$f":"IF(R11=\"W\",$X$3,IF(R11=\"D\",$AG$3,0))","v":{"v":0,"d":"0.0"}},{"$f":"IF(L11>M11,\"W\",IF(L11<M11,\"L\",IF(L11=0,\"\",IF(L11=M11,\"D\",0))))","v":""},12,1,{"$nulls":3},{"$f":"IF(AA11=\"D\",\"D\",IF(AA11=\"W\",Y11,IF(AA11=\"L\",Y11,0)))","v":0},{"$f":"IF(U11+V11=0,0,IF(U11+V11>0.1,U11-V11,0))","v":0},{"$f":"IF(AA11=\"W\",$X$3,IF(AA11=\"D\",$AG$3,0))","v":{"v":0,"d":"0.0"}},{"$f":"IF(U11>V11,\"W\",IF(U11<V11,\"L\",IF(U11=0,\"\",IF(U11=V11,\"D\",0))))","v":""},3,5,{"$nulls":3},{"$f":"IF(AJ11=\"D\",\"D\",IF(AJ11=\"W\",AH11,IF(AJ11=\"L\",AH11,0)))","v":0},{"$f":"IF(AD11+AE11=0,0,IF(AD11+AE11>0.1,AD11-AE11,0))","v":0},{"$f":"IF(AJ11=\"W\",$X$3,IF(AJ11=\"D\",$AG$3,0))","v":{"v":0,"d":"0.0"}},{"$f":"IF(AD11>AE11,\"W\",IF(AD11<AE11,\"L\",IF(AD11=0,\"\",IF(AD11=AE11,\"D\",0))))","v":""},1,6,{"$nulls":3},{"$f":"IF(AS11=\"D\",\"D\",IF(AS11=\"W\",AQ11,IF(AS11=\"L\",AQ11,0)))","v":0},{"$f":"IF(AM11+AN11=0,0,IF(AM11+AN11>0.1,AM11-AN11,0))","v":0},{"$f":"IF(AS11=\"W\",$X$3,IF(AS11=\"D\",$AG$3,0))","v":{"v":0,"d":"0.0"}},{"$f":"IF(AM11>AN11,\"W\",IF(AM11<AN11,\"L\",IF(AM11=0,\"\",IF(AM11=AN11,\"D\",0))))","v":""},7,3,{"$nulls":3},{"$f":"IF(BB11=\"D\",\"D\",IF(BB11=\"W\",AZ11,IF(BB11=\"L\",AZ11,0)))","v":0},{"$f":"IF(AV11+AW11=0,0,IF(AV11+AW11>0.1,AV11-AW11,0))","v":0},{"$f":"IF(BB11=\"W\",$X$3,IF(BB11=\"D\",$AG$3,0))","v":{"v":0,"d":"0.0"}},{"$f":"IF(AV11>AW11,\"W\",IF(AV11<AW11,\"L\",IF(AV11=0,\"\",IF(AV11=AW11,\"D\",0))))","v":""},9,2,{"$nulls":3},{"$f":"IF(BK11=\"D\",\"D\",IF(BK11=\"W\",BI11,IF(BK11=\"L\",BI11,0)))","v":0},{"$f":"IF(BE11+BF11=0,0,IF(BE11+BF11>0.1,BE11-BF11,0))","v":0},{"$f":"IF(BK11=\"W\",$X$3,IF(BK11=\"D\",$AG$3,0))","v":{"v":0,"d":"0.0"}},{"$f":"IF(BE11>BF11,\"W\",IF(BE11<BF11,\"L\",IF(BE11=0,\"\",IF(BE11=BF11,\"D\",0))))","v":""},11,6,{"$nulls":3},{"$f":"IF(BT11=\"D\",\"D\",IF(BT11=\"W\",BR11,IF(BT11=\"L\",BR11,0)))","v":0},{"$f":"IF(BN11+BO11=0,0,IF(BN11+BO11>0.1,BN11-BO11,0))","v":0},{"$f":"IF(BT11=\"W\",$X$3,IF(BT11=\"D\",$AG$3,0))","v":{"v":0,"d":"0.0"}},{"$f":"IF(BN11>BO11,\"W\",IF(BN11<BO11,\"L\",IF(BN11=0,\"\",IF(BN11=BO11,\"D\",0))))","v":""},2,5,{"$nulls":3},{"$f":"IF(CC11=\"D\",\"D\",IF(CC11=\"W\",CA11,IF(CC11=\"L\",CA11,0)))","v":0},{"$f":"IF(BW11+BX11=0,0,IF(BW11+BX11>0.1,BW11-BX11,0))","v":0},{"$f":"IF(CC11=\"W\",$X$3,IF(CC11=\"D\",$AG$3,0))","v":{"v":0,"d":"0.0"}},{"$f":"IF(BW11>BX11,\"W\",IF(BW11<BX11,\"L\",IF(BW11=0,\"\",IF(BW11=BX11,\"D\",0))))","v":""},{"$nulls":3},{"$f":"IF(CJ11=\"D\",\"D\",IF(CJ11=\"W\",CH11,IF(CJ11=\"L\",CH11,0)))","v":0},{"$f":"IF(CD11+CE11=0,0,IF(CD11+CE11>0.1,CD11-CE11,0))","v":0},{"$f":"IF(CJ11=\"W\",1,IF(CJ11=\"D\",0.5,0))","v":{"v":0,"d":"0.0"}},{"$f":"IF(CD11>CE11,\"W\",IF(CD11<CE11,\"L\",IF(CD11=0,\"\",IF(CD11=CE11,\"D\",0))))","v":""},4,3,{"$nulls":3},{"$f":"IF(CS11=\"D\",\"D\",IF(CS11=\"W\",CQ11,IF(CS11=\"L\",CQ11,0)))","v":0},{"$f":"IF(CM11+CN11=0,0,IF(CM11+CN11>0.1,CM11-CN11,0))","v":0},{"$f":"IF(CS11=\"W\",$X$3,IF(CS11=\"D\",$AG$3,0))","v":{"v":0,"d":"0.0"}},{"$f":"IF(CM11>CN11,\"W\",IF(CM11<CN11,\"L\",IF(CM11=0,\"\",IF(CM11=CN11,\"D\",0))))","v":""},6,2,{"$nulls":3},{"$f":"IF(DB11=\"D\",\"D\",IF(DB11=\"W\",CZ11,IF(DB11=\"L\",CZ11,0)))","v":0},{"$f":"IF(CV11+CW11=0,0,IF(CV11+CW11>0.1,CV11-CW11,0))","v":0},{"$f":"IF(DB11=\"W\",$X$3,IF(DB11=\"D\",$AG$3,0))","v":{"v":0,"d":"0.0"}},{"$f":"IF(CV11>CW11,\"W\",IF(CV11<CW11,\"L\",IF(CV11=0,\"\",IF(CV11=CW11,\"D\",0))))","v":""},4,3,{"$nulls":3},{"$f":"IF(DK11=\"D\",\"D\",IF(DK11=\"W\",DI11,IF(DK11=\"L\",DI11,0)))","v":0},{"$f":"IF(DE11+DF11=0,0,IF(DE11+DF11>0.1,DE11-DF11,0))","v":0},{"$f":"IF(DK11=\"W\",$X$3,IF(DK11=\"D\",$AG$3,0))","v":{"v":0,"d":"0.0"}},{"$f":"IF(DE11>DF11,\"W\",IF(DE11<DF11,\"L\",IF(DE11=0,\"\",IF(DE11=DF11,\"D\",0))))","v":""},6,8,{"$nulls":3},{"$f":"IF(DT11=\"D\",\"D\",IF(DT11=\"W\",DR11,IF(DT11=\"L\",DR11,0)))","v":0},{"$f":"IF(DN11+DO11=0,0,IF(DN11+DO11>0.1,DN11-DO11,0))","v":0},{"$f":"IF(DT11=\"W\",$X$3,IF(DT11=\"D\",$AG$3,0))","v":{"v":0,"d":"0.0"}},{"$f":"IF(DN11>DO11,\"W\",IF(DN11<DO11,\"L\",IF(DN11=0,\"\",IF(DN11=DO11,\"D\",0))))","v":""},8,6,{"$nulls":3},{"$f":"IF(EC11=\"D\",\"D\",IF(EC11=\"W\",EA11,IF(EC11=\"L\",EA11,0)))","v":0},{"$f":"IF(DW11+DX11=0,0,IF(DW11+DX11>0.1,DW11-DX11,0))","v":0},{"$f":"IF(EC11=\"W\",$X$3,IF(EC11=\"D\",$AG$3,0))","v":{"v":0,"d":"0.0"}},{"$f":"IF(DW11>DX11,\"W\",IF(DW11<DX11,\"L\",IF(DW11=0,\"\",IF(DW11=DX11,\"D\",0))))","v":""},10,4,{"$nulls":3},{"$f":"IF(EL11=\"D\",\"D\",IF(EL11=\"W\",EJ11,IF(EL11=\"L\",EJ11,0)))","v":0},{"$f":"IF(EF11+EG11=0,0,IF(EF11+EG11>0.1,EF11-EG11,0))","v":0},{"$f":"IF(EL11=\"W\",$X$3,IF(EL11=\"D\",$AG$3,0))","v":{"v":0,"d":"0.0"}},{"$f":"IF(EF11>EG11,\"W\",IF(EF11<EG11,\"L\",IF(EF11=0,\"\",IF(EF11=EG11,\"D\",0))))","v":""},12,7,{"$nulls":3},{"$f":"IF(EU11=\"D\",\"D\",IF(EU11=\"W\",ES11,IF(EU11=\"L\",ES11,0)))","v":0},{"$f":"IF(EO11+EP11=0,0,IF(EO11+EP11>0.1,EO11-EP11,0))","v":0},{"$f":"IF(EU11=\"W\",$X$3,IF(EU11=\"D\",$AG$3,0))","v":{"v":0,"d":"0.0"}},{"$f":"IF(EO11>EP11,\"W\",IF(EO11<EP11,\"L\",IF(EO11=0,\"\",IF(EO11=EP11,\"D\",0))))","v":""},14,4,{"$nulls":3},{"$f":"IF(FD11=\"D\",\"D\",IF(FD11=\"W\",FB11,IF(FD11=\"L\",FB11,0)))","v":0},{"$f":"IF(EX11+EY11=0,0,IF(EX11+EY11>0.1,EX11-EY11,0))","v":0},{"$f":"IF(FD11=\"W\",$X$3,IF(FD11=\"D\",$AG$3,0))","v":{"v":0,"d":"0.0"}},{"$f":"IF(EX11>EY11,\"W\",IF(EX11<EY11,\"L\",IF(EX11=0,\"\",IF(EX11=EY11,\"D\",0))))","v":""},16,1,{"$nulls":3},{"$f":"IF(FM11=\"D\",\"D\",IF(FM11=\"W\",FK11,IF(FM11=\"L\",FK11,0)))","v":0},{"$f":"IF(FG11+FH11=0,0,IF(FG11+FH11>0.1,FG11-FH11,0))","v":0},{"$f":"IF(FM11=\"W\",$X$3,IF(FM11=\"D\",$AG$3,0))","v":{"v":0,"d":"0.0"}},{"$f":"IF(FG11>FH11,\"W\",IF(FG11<FH11,\"L\",IF(FG11=0,\"\",IF(FG11=FH11,\"D\",0))))","v":""},3,3,{"$nulls":3},{"$f":"IF(FV11=\"D\",\"D\",IF(FV11=\"W\",FT11,IF(FV11=\"L\",FT11,0)))","v":0},{"$f":"IF(FP11+FQ11=0,0,IF(FP11+FQ11>0.1,FP11-FQ11,0))","v":0},{"$f":"IF(FV11=\"W\",$X$3,IF(FV11=\"D\",$AG$3,0))","v":{"v":0,"d":"0.0"}},{"$f":"IF(FP11>FQ11,\"W\",IF(FP11<FQ11,\"L\",IF(FP11=0,\"\",IF(FP11=FQ11,\"D\",0))))","v":""},{"$nulls":3},{"$f":"IF(GC11=\"D\",\"D\",IF(GC11=\"W\",GA11,IF(GC11=\"L\",GA11,0)))","v":0},{"$f":"IF(FW11+FX11=0,0,IF(FW11+FX11>0.1,FW11-FX11,0))","v":0},{"$f":"IF(GC11=\"W\",1,IF(GC11=\"D\",0.5,0))","v":{"v":0,"d":"0.0"}},{"$f":"IF(FW11>FX11,\"W\",IF(FW11<FX11,\"L\",IF(FW11=0,\"\",IF(FW11=FX11,\"D\",0))))","v":""},1,7,{"$nulls":3},{"$f":"IF(GL11=\"D\",\"D\",IF(GL11=\"W\",GJ11,IF(GL11=\"L\",GJ11,0)))","v":0},{"$f":"IF(GF11+GG11=0,0,IF(GF11+GG11>0.1,GF11-GG11,0))","v":0},{"$f":"IF(GL11=\"W\",$X$3,IF(GL11=\"D\",$AG$3,0))","v":{"v":0,"d":"0.0"}},{"$f":"IF(GF11>GG11,\"W\",IF(GF11<GG11,\"L\",IF(GF11=0,\"\",IF(GF11=GG11,\"D\",0))))","v":""},7,8,{"$nulls":3},{"$f":"IF(GU11=\"D\",\"D\",IF(GU11=\"W\",GS11,IF(GU11=\"L\",GS11,0)))","v":0},{"$f":"IF(GO11+GP11=0,0,IF(GO11+GP11>0.1,GO11-GP11,0))","v":0},{"$f":"IF(GU11=\"W\",$X$3,IF(GU11=\"D\",$AG$3,0))","v":{"v":0,"d":"0.0"}},{"$f":"IF(GO11>GP11,\"W\",IF(GO11<GP11,\"L\",IF(GO11=0,\"\",IF(GO11=GP11,\"D\",0))))","v":""},13,8,{"$nulls":3},{"$f":"IF(HD11=\"D\",\"D\",IF(HD11=\"W\",HB11,IF(HD11=\"L\",HB11,0)))","v":0},{"$f":"IF(GX11+GY11=0,0,IF(GX11+GY11>0.1,GX11-GY11,0))","v":0},{"$f":"IF(HD11=\"W\",$X$3,IF(HD11=\"D\",$AG$3,0))","v":{"v":0,"d":"0.0"}},{"$f":"IF(GX11>GY11,\"W\",IF(GX11<GY11,\"L\",IF(GX11=0,\"\",IF(GX11=GY11,\"D\",0))))","v":""},15,6,{"$nulls":3},{"$f":"IF(HM11=\"D\",\"D\",IF(HM11=\"W\",HK11,IF(HM11=\"L\",HK11,0)))","v":0},{"$f":"IF(HG11+HH11=0,0,IF(HG11+HH11>0.1,HG11-HH11,0))","v":0},{"$f":"IF(HM11=\"W\",$X$3,IF(HM11=\"D\",$AG$3,0))","v":{"v":0,"d":"0.0"}},{"$f":"IF(HG11>HH11,\"W\",IF(HG11<HH11,\"L\",IF(HG11=0,\"\",IF(HG11=HH11,\"D\",0))))","v":""},2,3,{"$nulls":3},{"$f":"IF(HV11=\"D\",\"D\",IF(HV11=\"W\",HT11,IF(HV11=\"L\",HT11,0)))","v":0},{"$f":"IF(HP11+HQ11=0,0,IF(HP11+HQ11>0.1,HP11-HQ11,0))","v":0},{"$f":"IF(HV11=\"W\",$X$3,IF(HV11=\"D\",$AG$3,0))","v":{"v":0,"d":"0.0"}},{"$f":"IF(HP11>HQ11,\"W\",IF(HP11<HQ11,\"L\",IF(HP11=0,\"\",IF(HP11=HQ11,\"D\",0))))","v":""},4,8,{"$nulls":3},{"$f":"IF(IE11=\"D\",\"D\",IF(IE11=\"W\",IC11,IF(IE11=\"L\",IC11,0)))","v":0},{"$f":"IF(HY11+HZ11=0,0,IF(HY11+HZ11>0.1,HY11-HZ11,0))","v":0},{"$f":"IF(IE11=\"W\",$X$3,IF(IE11=\"D\",$AG$3,0))","v":{"v":0,"d":"0.0"}},{"$f":"IF(HY11>HZ11,\"W\",IF(HY11<HZ11,\"L\",IF(HY11=0,\"\",IF(HY11=HZ11,\"D\",0))))","v":""},6,7,{"$nulls":3},{"$f":"IF(IN11=\"D\",\"D\",IF(IN11=\"W\",IL11,IF(IN11=\"L\",IL11,0)))","v":0},{"$f":"IF(IH11+II11=0,0,IF(IH11+II11>0.1,IH11-II11,0))","v":0},{"$f":"IF(IN11=\"W\",$X$3,IF(IN11=\"D\",$AG$3,0))","v":{"v":0,"d":"0.0"}},{"$f":"IF(IH11>II11,\"W\",IF(IH11<II11,\"L\",IF(IH11=0,\"\",IF(IH11=II11,\"D\",0))))","v":""},8,2,{"$nulls":3},{"$f":"IF(IW11=\"D\",\"D\",IF(IW11=\"W\",IU11,IF(IW11=\"L\",IU11,0)))","v":0},{"$f":"IF(IQ11+IR11=0,0,IF(IQ11+IR11>0.1,IQ11-IR11,0))","v":0},{"$f":"IF(IW11=\"W\",$X$3,IF(IW11=\"D\",$AG$3,0))","v":{"v":0,"d":"0.0"}},{"$f":"IF(IQ11>IR11,\"W\",IF(IQ11<IR11,\"L\",IF(IQ11=0,\"\",IF(IQ11=IR11,\"D\",0))))","v":""},10,5,{"$nulls":3},{"$f":"IF(JF11=\"D\",\"D\",IF(JF11=\"W\",JD11,IF(JF11=\"L\",JD11,0)))","v":0},{"$f":"IF(IZ11+JA11=0,0,IF(IZ11+JA11>0.1,IZ11-JA11,0))","v":0},{"$f":"IF(JF11=\"W\",$X$3,IF(JF11=\"D\",$AG$3,0))","v":{"v":0,"d":"0.0"}},{"$f":"IF(IZ11>JA11,\"W\",IF(IZ11<JA11,\"L\",IF(IZ11=0,\"\",IF(IZ11=JA11,\"D\",0))))","v":""},12,8,{"$nulls":3},{"$f":"IF(JO11=\"D\",\"D\",IF(JO11=\"W\",JM11,IF(JO11=\"L\",JM11,0)))","v":0},{"$f":"IF(JI11+JJ11=0,0,IF(JI11+JJ11>0.1,JI11-JJ11,0))","v":0},{"$f":"IF(JO11=\"W\",$X$3,IF(JO11=\"D\",$AG$3,0))","v":{"v":0,"d":"0.0"}},{"$f":"IF(JI11>JJ11,\"W\",IF(JI11<JJ11,\"L\",IF(JI11=0,\"\",IF(JI11=JJ11,\"D\",0))))","v":""},{"$nulls":3},{"$f":"IF(JV11=\"D\",\"D\",IF(JV11=\"W\",JT11,IF(JV11=\"L\",JT11,0)))","v":0},{"$f":"IF(JP11+JQ11=0,0,IF(JP11+JQ11>0.1,JP11-JQ11,0))","v":0},{"$f":"IF(JV11=\"W\",1,IF(JV11=\"D\",0.5,0))","v":{"v":0,"d":"0.0"}},{"$f":"IF(JP11>JQ11,\"W\",IF(JP11<JQ11,\"L\",IF(JP11=0,\"\",IF(JP11=JQ11,\"D\",0))))","v":""},14,3,{"$nulls":3},{"$f":"IF(KE11=\"D\",\"D\",IF(KE11=\"W\",KC11,IF(KE11=\"L\",KC11,0)))","v":0},{"$f":"IF(JY11+JZ11=0,0,IF(JY11+JZ11>0.1,JY11-JZ11,0))","v":0},{"$f":"IF(KE11=\"W\",$X$3,IF(KE11=\"D\",$AG$3,0))","v":{"v":0,"d":"0.0"}},{"$f":"IF(JY11>JZ11,\"W\",IF(JY11<JZ11,\"L\",IF(JY11=0,\"\",IF(JY11=JZ11,\"D\",0))))","v":""},1,3,{"$nulls":3},{"$f":"IF(KN11=\"D\",\"D\",IF(KN11=\"W\",KL11,IF(KN11=\"L\",KL11,0)))","v":0},{"$f":"IF(KH11+KI11=0,0,IF(KH11+KI11>0.1,KH11-KI11,0))","v":0},{"$f":"IF(KN11=\"W\",$X$3,IF(KN11=\"D\",$AG$3,0))","v":{"v":0,"d":"0.0"}},{"$f":"IF(KH11>KI11,\"W\",IF(KH11<KI11,\"L\",IF(KH11=0,\"\",IF(KH11=KI11,\"D\",0))))","v":""},3,2,{"$nulls":3},{"$f":"IF(KW11=\"D\",\"D\",IF(KW11=\"W\",KU11,IF(KW11=\"L\",KU11,0)))","v":0},{"$f":"IF(KQ11+KR11=0,0,IF(KQ11+KR11>0.1,KQ11-KR11,0))","v":0},{"$f":"IF(KW11=\"W\",$X$3,IF(KW11=\"D\",$AG$3,0))","v":{"v":0,"d":"0.0"}},{"$f":"IF(KQ11>KR11,\"W\",IF(KQ11<KR11,\"L\",IF(KQ11=0,\"\",IF(KQ11=KR11,\"D\",0))))","v":""},5,1,{"$nulls":3},{"$f":"IF(LF11=\"D\",\"D\",IF(LF11=\"W\",LD11,IF(LF11=\"L\",LD11,0)))","v":0},{"$f":"IF(KZ11+LA11=0,0,IF(KZ11+LA11>0.1,KZ11-LA11,0))","v":0},{"$f":"IF(LF11=\"W\",$X$3,IF(LF11=\"D\",$AG$3,0))","v":{"v":0,"d":"0.0"}},{"$f":"IF(KZ11>LA11,\"W\",IF(KZ11<LA11,\"L\",IF(KZ11=0,\"\",IF(KZ11=LA11,\"D\",0))))","v":""},7,5,{"$nulls":3},{"$f":"IF(LO11=\"D\",\"D\",IF(LO11=\"W\",LM11,IF(LO11=\"L\",LM11,0)))","v":0},{"$f":"IF(LI11+LJ11=0,0,IF(LI11+LJ11>0.1,LI11-LJ11,0))","v":0},{"$f":"IF(LO11=\"W\",$X$3,IF(LO11=\"D\",$AG$3,0))","v":{"v":0,"d":"0.0"}},{"$f":"IF(LI11>LJ11,\"W\",IF(LI11<LJ11,\"L\",IF(LI11=0,\"\",IF(LI11=LJ11,\"D\",0))))","v":""},9,6,{"$nulls":3},{"$f":"IF(LX11=\"D\",\"D\",IF(LX11=\"W\",LV11,IF(LX11=\"L\",LV11,0)))","v":0},{"$f":"IF(LR11+LS11=0,0,IF(LR11+LS11>0.1,LR11-LS11,0))","v":0},{"$f":"IF(LX11=\"W\",$X$3,IF(LX11=\"D\",$AG$3,0))","v":{"v":0,"d":"0.0"}},{"$f":"IF(LR11>LS11,\"W\",IF(LR11<LS11,\"L\",IF(LR11=0,\"\",IF(LR11=LS11,\"D\",0))))","v":""},11,7,{"$nulls":3},{"$f":"IF(MG11=\"D\",\"D\",IF(MG11=\"W\",ME11,IF(MG11=\"L\",ME11,0)))","v":0},{"$f":"IF(MA11+MB11=0,0,IF(MA11+MB11>0.1,MA11-MB11,0))","v":0},{"$f":"IF(MG11=\"W\",$X$3,IF(MG11=\"D\",$AG$3,0))","v":{"v":0,"d":"0.0"}},{"$f":"IF(MA11>MB11,\"W\",IF(MA11<MB11,\"L\",IF(MA11=0,\"\",IF(MA11=MB11,\"D\",0))))","v":""},13,8,{"$nulls":3},{"$f":"IF(MP11=\"D\",\"D\",IF(MP11=\"W\",MN11,IF(MP11=\"L\",MN11,0)))","v":0},{"$f":"IF(MJ11+MK11=0,0,IF(MJ11+MK11>0.1,MJ11-MK11,0))","v":0},{"$f":"IF(MP11=\"W\",$X$3,IF(MP11=\"D\",$AG$3,0))","v":{"v":0,"d":"0.0"}},{"$f":"IF(MJ11>MK11,\"W\",IF(MJ11<MK11,\"L\",IF(MJ11=0,\"\",IF(MJ11=MK11,\"D\",0))))","v":""}]
[null,6,null,{"$f":"Q12+Z12+AI12+AR12+BA12+BJ12+BS12+CB12+CR12+DA12+DJ12+DS12+EB12+EK12+ET12+FC12+FL12+FU12+GK12+GT12+HC12+HL12+HU12+ID12+IM12+IV12+JE12+JN12+JU12+KD12+KM12+KV12+LE12+LN12+LW12+MF12+MO12","v":0},{"$f":"N12+W12+AF12+AO12+AX12+BG12+BP12+BY12+CF12+CO12+CX12+DG12+DP12+DY12+EH12+EQ12+EZ12+FI12+FR12+GH12+GQ12+GZ12+HI12+HR12+IA12+IJ12+IS12+JB12+JK12+KA12+KJ12+KS12+LB12+LK12+LT12+MC12+ML12","v":0},{"$f":"D12+E12","v":0},{"$f":"P12+Y12+AH12+AQ12+AZ12+BI12+BR12+CA12+CQ12+CZ12+DI12+DR12+EA12+EJ12+ES12+FB12+FK12+FT12+GJ12+GS12+HB12+HK12+HT12+IC12+IL12+IU12+JD12+JM12+KC12+KL12+KU12+LD12+LM12+LV12+ME12+MN12","v":0},{"$f":"(D12*1000000)+G12","v":0},{"$f":"IF($H$7:$H$18=0,\"\",RANK(H12,$H$7:$H$18))","v":""},9,5,{"$nulls":3},{"$f":"IF(R12=\"D\",\"D\",IF(R12=\"W\",P12,IF(R12=\"L\",P12,0)))","v":0},{"$f":"IF(L12+M12=0,0,IF(L12+M12>0.1,L12-M12,0))","v":0},{"$f":"IF(R12=\"W\",$X$3,IF(R12=\"D\",$AG$3,0))","v":{"v":0,"d":"0.0"}},{"$f":"IF(L12>M12,\"W\",IF(L12<M12,\"L\",IF(L12=0,\"\",IF(L12=M12,\"D\",0))))","v":""},11,6,{"$nulls":3},{"$f":"IF(AA12=\"D\",\"D\",IF(AA12=\"W\",Y12,IF(AA12=\"L\",Y12,0)))","v":0},{"$f":"IF(U12+V12=0,0,IF(U12+V12>0.1,U12-V12,0))","v":0},{"$f":"IF(AA12=\"W\",$X$3,IF(AA12=\"D\",$AG$3,0))","v":{"v":0,"d":"0.0"}},{"$f":"IF(U12>V12,\"W\",IF(U12<V12,\"L\",IF(U12=0,\"\",IF(U12=V12,\"D\",0))))","v":""},2,3,{"$nulls":3},{"$f":"IF(AJ12=\"D\",\"D\",IF(AJ12=\"W\",AH12,IF(AJ12=\"L\",AH12,0)))","v":0},{"$f":"IF(AD12+AE12=0,0,IF(AD12+AE12>0.1,AD12-AE12,0))","v":0},{"$f":"IF(AJ12=\"W\",$X$3,IF(AJ12=\"D\",$AG$3,0))","v":{"v":0,"d":"0.0"}},{"$f":"IF(AD12>AE12,\"W\",IF(AD12<AE12,\"L\",IF(AD12=0,\"\",IF(AD12=AE12,\"D\",0))))","v":""},4,1,{"$nulls":3},{"$f":"IF(AS12=\"D\",\"D\",IF(AS12=\"W\",AQ12,IF(AS12=\"L\",AQ12,0)))","v":0},{"$f":"IF(AM12+AN12=0,0,IF(AM12+AN12>0.1,AM12-AN12,0))","v":0},{"$f":"IF(AS12=\"W\",$X$3,IF(AS12=\"D\",$AG$3,0))","v":{"v":0,"d":"0.0"}},{"$f":"IF(AM12>AN12,\"W\",IF(AM12<AN12,\"L\",IF(AM12=0,\"\",IF(AM12=AN12,\"D\",0))))","v":""},1,4,{"$nulls":3},{"$f":"IF(BB12=\"D\",\"D\",IF(BB12=\"W\",AZ12,IF(BB12=\"L\",AZ12,0)))","v":0},{"$f":"IF(AV12+AW12=0,0,IF(AV12+AW12>0.1,AV12-AW12,0))","v":0},{"$f":"IF(BB12=\"W\",$X$3,IF(BB12=\"D\",$AG$3,0))","v":{"v":0,"d":"0.0"}},{"$f":"IF(AV12>AW12,\"W\",IF(AV12<AW12,\"L\",IF(AV12=0,\"\",IF(AV12=AW12,\"D\",0))))","v":""},8,3,{"$nulls":3},{"$f":"IF(BK12=\"D\",\"D\",IF(BK12=\"W\",BI12,IF(BK12=\"L\",BI12,0)))","v":0},{"$f":"IF(BE12+BF12=0,0,IF(BE12+BF12>0.1,BE12-BF12,0))","v":0},{"$f":"IF(BK12=\"W\",$X$3,IF(BK12=\"D\",$AG$3,0))","v":{"v":0,"d":"0.0"}},{"$f":"IF(BE12>BF12,\"W\",IF(BE12<BF12,\"L\",IF(BE12=0,\"\",IF(BE12=BF12,\"D\",0))))","v":""},10,2,{"$nulls":3},{"$f":"IF(BT12=\"D\",\"D\",IF(BT12=\"W\",BR12,IF(BT12=\"L\",BR12,0)))","v":0},{"$f":"IF(BN12+BO12=0,0,IF(BN12+BO12>0.1,BN12-BO12,0))","v":0},{"$f":"IF(BT12=\"W\",$X$3,IF(BT12=\"D\",$AG$3,0))","v":{"v":0,"d":"0.0"}},{"$f":"IF(BN12>BO12,\"W\",IF(BN12<BO12,\"L\",IF(BN12=0,\"\",IF(BN12=BO12,\"D\",0))))","v":""},12,1,{"$nulls":3},{"$f":"IF(CC12=\"D\",\"D\",IF(CC12=\"W\",CA12,IF(CC12=\"L\",CA12,0)))","v":0},{"$f":"IF(BW12+BX12=0,0,IF(BW12+BX12>0.1,BW12-BX12,0))","v":0},{"$f":"IF(CC12=\"W\",$X$3,IF(CC12=\"D\",$AG$3,0))","v":{"v":0,"d":"0.0"}},{"$f":"IF(BW12>BX12,\"W\",IF(BW12<BX12,\"L\",IF(BW12=0,\"\",IF(BW12=BX12,\"D\",0))))","v":""},{"$nulls":3},{"$f":"IF(CJ12=\"D\",\"D\",IF(CJ12=\"W\",CH12,IF(CJ12=\"L\",CH12,0)))","v":0},{"$f":"IF(CD12+CE12=0,0,IF(CD12+CE12>0.1,CD12-CE12,0))","v":0},{"$f":"IF(CJ12=\"W\",1,IF(CJ12=\"D\",0.5,0))","v":{"v":0,"d":"0.0"}},{"$f":"IF(CD12>CE12,\"W\",IF(CD12<CE12,\"L\",IF(CD12=0,\"\",IF(CD12=CE12,\"D\",0))))","v":""},3,6,{"$nulls":3},{"$f":"IF(CS12=\"D\",\"D\",IF(CS12=\"W\",CQ12,IF(CS12=\"L\",CQ12,0)))","v":0},{"$f":"IF(CM12+CN12=0,0,IF(CM12+CN12>0.1,CM12-CN12,0))","v":0},{"$f":"IF(CS12=\"W\",$X$3,IF(CS12=\"D\",$AG$3,0))","v":{"v":0,"d":"0.0"}},{"$f":"IF(CM12>CN12,\"W\",IF(CM12<CN12,\"L\",IF(CM12=0,\"\",IF(CM12=CN12,\"D\",0))))","v":""},5,2,{"$nulls":3},{"$f":"IF(DB12=\"D\",\"D\",IF(DB12=\"W\",CZ12,IF(DB12=\"L\",CZ12,0)))","v":0},{"$f":"IF(CV12+CW12=0,0,IF(CV12+CW12>0.1,CV12-CW12,0))","v":0},{"$f":"IF(DB12=\"W\",$X$3,IF(DB12=\"D\",$AG$3,0))","v":{"v":0,"d":"0.0"}},{"$f":"IF(CV12>CW12,\"W\",IF(CV12<CW12,\"L\",IF(CV12=0,\"\",IF(CV12=CW12,\"D\",0))))","v":""},3,4,{"$nulls":3},{"$f":"IF(DK12=\"D\",\"D\",IF(DK12=\"W\",DI12,IF(DK12=\"L\",DI12,0)))","v":0},{"$f":"IF(DE12+DF12=0,0,IF(DE12+DF12>0.1,DE12-DF12,0))","v":0},{"$f":"IF(DK12=\"W\",$X$3,IF(DK12=\"D\",$AG$3,0))","v":{"v":0,"d":"0.0"}},{"$f":"IF(DE12>DF12,\"W\",IF(DE12<DF12,\"L\",IF(DE12=0,\"\",IF(DE12=DF12,\"D\",0))))","v":""},5,8,{"$nulls":3},{"$f":"IF(DT12=\"D\",\"D\",IF(DT12=\"W\",DR12,IF(DT12=\"L\",DR12,0)))","v":0},{"$f":"IF(DN12+DO12=0,0,IF(DN12+DO12>0.1,DN12-DO12,0))","v":0},{"$f":"IF(DT12=\"W\",$X$3,IF(DT12=\"D\",$AG$3,0))","v":{"v":0,"d":"0.0"}},{"$f":"IF(DN12>DO12,\"W\",IF(DN12<DO12,\"L\",IF(DN12=0,\"\",IF(DN12=DO12,\"D\",0))))","v":""},7,7,{"$nulls":3},{"$f":"IF(EC12=\"D\",\"D\",IF(EC12=\"W\",EA12,IF(EC12=\"L\",EA12,0)))","v":0},{"$f":"IF(DW12+DX12=0,0,IF(DW12+DX12>0.1,DW12-DX12,0))","v":0},{"$f":"IF(EC12=\"W\",$X$3,IF(EC12=\"D\",$AG$3,0))","v":{"v":0,"d":"0.0"}},{"$f":"IF(DW12>DX12,\"W\",IF(DW12<DX12,\"L\",IF(DW12=0,\"\",IF(DW12=DX12,\"D\",0))))","v":""},9,6,{"$nulls":3},{"$f":"IF(EL12=\"D\",\"D\",IF(EL12=\"W\",EJ12,IF(EL12=\"L\",EJ12,0)))","v":0},{"$f":"IF(EF12+EG12=0,0,IF(EF12+EG12>0.1,EF12-EG12,0))","v":0},{"$f":"IF(EL12=\"W\",$X$3,IF(EL12=\"D\",$AG$3,0))","v":{"v":0,"d":"0.0"}},{"$f":"IF(EF12>EG12,\"W\",IF(EF12<EG12,\"L\",IF(EF12=0,\"\",IF(EF12=EG12,\"D\",0))))","v":""},11,4,{"$nulls":3},{"$f":"IF(EU12=\"D\",\"D\",IF(EU12=\"W\",ES12,IF(EU12=\"L\",ES12,0)))","v":0},{"$f":"IF(EO12+EP12=0,0,IF(EO12+EP12>0.1,EO12-EP12,0))","v":0},{"$f":"IF(EU12=\"W\",$X$3,IF(EU12=\"D\",$AG$3,0))","v":{"v":0,"d":"0.0"}},{"$f":"IF(EO12>EP12,\"W\",IF(EO12<EP12,\"L\",IF(EO12=0,\"\",IF(EO12=EP12,\"D\",0))))","v":""},13,5,{"$nulls":3},{"$f":"IF(FD12=\"D\",\"D\",IF(FD12=\"W\",FB12,IF(FD12=\"L\",FB12,0)))","v":0},{"$f":"IF(EX12+EY12=0,0,IF(EX12+EY12>0.1,EX12-EY12,0))","v":0},{"$f":"IF(FD12=\"W\",$X$3,IF(FD12=\"D\",$AG$3,0))","v":{"v":0,"d":"0.0"}},{"$f":"IF(EX12>EY12,\"W\",IF(EX12<EY12,\"L\",IF(EX12=0,\"\",IF(EX12=EY12,\"D\",0))))","v":""},15,8,{"$nulls":3},{"$f":"IF(FM12=\"D\",\"D\",IF(FM12=\"W\",FK12,IF(FM12=\"L\",FK12,0)))","v":0},{"$f":"IF(FG12+FH12=0,0,IF(FG12+FH12>0.1,FG12-FH12,0))","v":0},{"$f":"IF(FM12=\"W\",$X$3,IF(FM12=\"D\",$AG$3,0))","v":{"v":0,"d":"0.0"}},{"$f":"IF(FG12>FH12,\"W\",IF(FG12<FH12,\"L\",IF(FG12=0,\"\",IF(FG12=FH12,\"D\",0))))","v":""},2,2,{"$nulls":3},{"$f":"IF(FV12=\"D\",\"D\",IF(FV12=\"W\",FT12,IF(FV12=\"L\",FT12,0)))","v":0},{"$f":"IF(FP12+FQ12=0,0,IF(FP12+FQ12>0.1,FP12-FQ12,0))","v":0},{"$f":"IF(FV12=\"W\",$X$3,IF(FV12=\"D\",$AG$3,0))","v":{"v":0,"d":"0.0"}},{"$f":"IF(FP12>FQ12,\"W\",IF(FP12<FQ12,\"L\",IF(FP12=0,\"\",IF(FP12=FQ12,\"D\",0))))","v":""},{"$nulls":3},{"$f":"IF(GC12=\"D\",\"D\",IF(GC12=\"W\",GA12,IF(GC12=\"L\",GA12,0)))","v":0},{"$f":"IF(FW12+FX12=0,0,IF(FW12+FX12>0.1,FW12-FX12,0))","v":0},{"$f":"IF(GC12=\"W\",1,IF(GC12=\"D\",0.5,0))","v":{"v":0,"d":"0.0"}},{"$f":"IF(FW12>FX12,\"W\",IF(FW12<FX12,\"L\",IF(FW12=0,\"\",IF(FW12=FX12,\"D\",0))))","v":""},4,1,{"$nulls":3},{"$f":"IF(GL12=\"D\",\"D\",IF(GL12=\"W\",GJ12,IF(GL12=\"L\",GJ12,0)))","v":0},{"$f":"IF(GF12+GG12=0,0,IF(GF12+GG12>0.1,GF12-GG12,0))","v":0},{"$f":"IF(GL12=\"W\",$X$3,IF(GL12=\"D\",$AG$3,0))","v":{"v":0,"d":"0.0"}},{"$f":"IF(GF12>GG12,\"W\",IF(GF12<GG12,\"L\",IF(GF12=0,\"\",IF(GF12=GG12,\"D\",0))))","v":""},1,3,{"$nulls":3},{"$f":"IF(GU12=\"D\",\"D\",IF(GU12=\"W\",GS12,IF(GU12=\"L\",GS12,0)))","v":0},{"$f":"IF(GO12+GP12=0,0,IF(GO12+GP12>0.1,GO12-GP12,0))","v":0},{"$f":"IF(GU12=\"W\",$X$3,IF(GU12=\"D\",$AG$3,0))","v":{"v":0,"d":"0.0"}},{"$f":"IF(GO12>GP12,\"W\",IF(GO12<GP12,\"L\",IF(GO12=0,\"\",IF(GO12=GP12,\"D\",0))))","v":""},7,2,{"$nulls":3},{"$f":"IF(HD12=\"D\",\"D\",IF(HD12=\"W\",HB12,IF(HD12=\"L\",HB12,0)))","v":0},{"$f":"IF(GX12+GY12=0,0,IF(GX12+GY12>0.1,GX12-GY12,0))","v":0},{"$f":"IF(HD12=\"W\",$X$3,IF(HD12=\"D\",$AG$3,0))","v":{"v":0,"d":"0.0"}},{"$f":"IF(GX12>GY12,\"W\",IF(GX12<GY12,\"L\",IF(GX12=0,\"\",IF(GX12=GY12,\"D\",0))))","v":""},8,5,{"$nulls":3},{"$f":"IF(HM12=\"D\",\"D\",IF(HM12=\"W\",HK12,IF(HM12=\"L\",HK12,0)))","v":0},{"$f":"IF(HG12+HH12=0,0,IF(HG12+HH12>0.1,HG12-HH12,0))","v":0},{"$f":"IF(HM12=\"W\",$X$3,IF(HM12=\"D\",$AG$3,0))","v":{"v":0,"d":"0.0"}},{"$f":"IF(HG12>HH12,\"W\",IF(HG12<HH12,\"L\",IF(HG12=0,\"\",IF(HG12=HH12,\"D\",0))))","v":""},9,8,{"$nulls":3},{"$f":"IF(HV12=\"D\",\"D\",IF(HV12=\"W\",HT12,IF(HV12=\"L\",HT12,0)))","v":0},{"$f":"IF(HP12+HQ12=0,0,IF(HP12+HQ12>0.1,HP12-HQ12,0))","v":0},{"$f":"IF(HV12=\"W\",$X$3,IF(HV12=\"D\",$AG$3,0))","v":{"v":0,"d":"0.0"}},{"$f":"IF(HP12>HQ12,\"W\",IF(HP12<HQ12,\"L\",IF(HP12=0,\"\",IF(HP12=HQ12,\"D\",0))))","v":""},10,7,{"$nulls":3},{"$f":"IF(IE12=\"D\",\"D\",IF(IE12=\"W\",IC12,IF(IE12=\"L\",IC12,0)))","v":0},{"$f":"IF(HY12+HZ12=0,0,IF(HY12+HZ12>0.1,HY12-HZ12,0))","v":0},{"$f":"IF(IE12=\"W\",$X$3,IF(IE12=\"D\",$AG$3,0))","v":{"v":0,"d":"0.0"}},{"$f":"IF(HY12>HZ12,\"W\",IF(HY12<HZ12,\"L\",IF(HY12=0,\"\",IF(HY12=HZ12,\"D\",0))))","v":""},11,1,{"$nulls":3},{"$f":"IF(IN12=\"D\",\"D\",IF(IN12=\"W\",IL12,IF(IN12=\"L\",IL12,0)))","v":0},{"$f":"IF(IH12+II12=0,0,IF(IH12+II12>0.1,IH12-II12,0))","v":0},{"$f":"IF(IN12=\"W\",$X$3,IF(IN12=\"D\",$AG$3,0))","v":{"v":0,"d":"0.0"}},{"$f":"IF(IH12>II12,\"W\",IF(IH12<II12,\"L\",IF(IH12=0,\"\",IF(IH12=II12,\"D\",0))))","v":""},12,6,{"$nulls":3},{"$f":"IF(IW12=\"D\",\"D\",IF(IW12=\"W\",IU12,IF(IW12=\"L\",IU12,0)))","v":0},{"$f":"IF(IQ12+IR12=0,0,IF(IQ12+IR12>0.1,IQ12-IR12,0))","v":0},{"$f":"IF(IW12=\"W\",$X$3,IF(IW12=\"D\",$AG$3,0))","v":{"v":0,"d":"0.0"}},{"$f":"IF(IQ12>IR12,\"W\",IF(IQ12<IR12,\"L\",IF(IQ12=0,\"\",IF(IQ12=IR12,\"D\",0))))","v":""},13,3,{"$nulls":3},{"$f":"IF(JF12=\"D\",\"D\",IF(JF12=\"W\",JD12,IF(JF12=\"L\",JD12,0)))","v":0},{"$f":"IF(IZ12+JA12=0,0,IF(IZ12+JA12>0.1,IZ12-JA12,0))","v":0},{"$f":"IF(JF12=\"W\",$X$3,IF(JF12=\"D\",$AG$3,0))","v":{"v":0,"d":"0.0"}},{"$f":"IF(IZ12>JA12,\"W\",IF(IZ12<JA12,\"L\",IF(IZ12=0,\"\",IF(IZ12=JA12,\"D\",0))))","v":""},14,4,{"$nulls":3},{"$f":"IF(JO12=\"D\",\"D\",IF(JO12=\"W\",JM12,IF(JO12=\"L\",JM12,0)))","v":0},{"$f":"IF(JI12+JJ12=0,0,IF(JI12+JJ12>0.1,JI12-JJ12,0))","v":0},{"$f":"IF(JO12=\"W\",$X$3,IF(JO12=\"D\",$AG$3,0))","v":{"v":0,"d":"0.0"}},{"$f":"IF(JI12>JJ12,\"W\",IF(JI12<JJ12,\"L\",IF(JI12=0,\"\",IF(JI12=JJ12,\"D\",0))))","v":""},{"$nulls":3},{"$f":"IF(JV12=\"D\",\"D\",IF(JV12=\"W\",JT12,IF(JV12=\"L\",JT12,0)))","v":0},{"$f":"IF(JP12+JQ12=0,0,IF(JP12+JQ12>0.1,JP12-JQ12,0))","v":0},{"$f":"IF(JV12=\"W\",1,IF(JV12=\"D\",0.5,0))","v":{"v":0,"d":"0.0"}},{"$f":"IF(JP12>JQ12,\"W\",IF(JP12<JQ12,\"L\",IF(JP12=0,\"\",IF(JP12=JQ12,\"D\",0))))","v":""},15,7,{"$nulls":3},{"$f":"IF(KE12=\"D\",\"D\",IF(KE12=\"W\",KC12,IF(KE12=\"L\",KC12,0)))","v":0},{"$f":"IF(JY12+JZ12=0,0,IF(JY12+JZ12>0.1,JY12-JZ12,0))","v":0},{"$f":"IF(KE12=\"W\",$X$3,IF(KE12=\"D\",$AG$3,0))","v":{"v":0,"d":"0.0"}},{"$f":"IF(JY12>JZ12,\"W\",IF(JY12<JZ12,\"L\",IF(JY12=0,\"\",IF(JY12=JZ12,\"D\",0))))","v":""},16,3,{"$nulls":3},{"$f":"IF(KN12=\"D\",\"D\",IF(KN12=\"W\",KL12,IF(KN12=\"L\",KL12,0)))","v":0},{"$f":"IF(KH12+KI12=0,0,IF(KH12+KI12>0.1,KH12-KI12,0))","v":0},{"$f":"IF(KN12=\"W\",$X$3,IF(KN12=\"D\",$AG$3,0))","v":{"v":0,"d":"0.0"}},{"$f":"IF(KH12>KI12,\"W\",IF(KH12<KI12,\"L\",IF(KH12=0,\"\",IF(KH12=KI12,\"D\",0))))","v":""},2,1,{"$nulls":3},{"$f":"IF(KW12=\"D\",\"D\",IF(KW12=\"W\",KU12,IF(KW12=\"L\",KU12,0)))","v":0},{"$f":"IF(KQ12+KR12=0,0,IF(KQ12+KR12>0.1,KQ12-KR12,0))","v":0},{"$f":"IF(KW12=\"W\",$X$3,IF(KW12=\"D\",$AG$3,0))","v":{"v":0,"d":"0.0"}},{"$f":"IF(KQ12>KR12,\"W\",IF(KQ12<KR12,\"L\",IF(KQ12=0,\"\",IF(KQ12=KR12,\"D\",0))))","v":""},3,6,{"$nulls":3},{"$f":"IF(LF12=\"D\",\"D\",IF(LF12=\"W\",LD12,IF(LF12=\"L\",LD12,0)))","v":0},{"$f":"IF(KZ12+LA12=0,0,IF(KZ12+LA12>0.1,KZ12-LA12,0))","v":0},{"$f":"IF(LF12=\"W\",$X$3,IF(LF12=\"D\",$AG$3,0))","v":{"v":0,"d":"0.0"}},{"$f":"IF(KZ12>LA12,\"W\",IF(KZ12<LA12,\"L\",IF(KZ12=0,\"\",IF(KZ12=LA12,\"D\",0))))","v":""},4,4,{"$nulls":3},{"$f":"IF(LO12=\"D\",\"D\",IF(LO12=\"W\",LM12,IF(LO12=\"L\",LM12,0)))","v":0},{"$f":"IF(LI12+LJ12=0,0,IF(LI12+LJ12>0.1,LI12-LJ12,0))","v":0},{"$f":"IF(LO12=\"W\",$X$3,IF(LO12=\"D\",$AG$3,0))","v":{"v":0,"d":"0.0"}},{"$f":"IF(LI12>LJ12,\"W\",IF(LI12<LJ12,\"L\",IF(LI12=0,\"\",IF(LI12=LJ12,\"D\",0))))","v":""},5,7,{"$nulls":3},{"$f":"IF(LX12=\"D\",\"D\",IF(LX12=\"W\",LV12,IF(LX12=\"L\",LV12,0)))","v":0},{"$f":"IF(LR12+LS12=0,0,IF(LR12+LS12>0.1,LR12-LS12,0))","v":0},{"$f":"IF(LX12=\"W\",$X$3,IF(LX12=\"D\",$AG$3,0))","v":{"v":0,"d":"0.0"}},{"$f":"IF(LR12>LS12,\"W\",IF(LR12<LS12,\"L\",IF(LR12=0,\"\",IF(LR12=LS12,\"D\",0))))","v":""},6,3,{"$nulls":3},{"$f":"IF(MG12=\"D\",\"D\",IF(MG12=\"W\",ME12,IF(MG12=\"L\",ME12,0)))","v":0},{"$f":"IF(MA12+MB12=0,0,IF(MA12+MB12>0.1,MA12-MB12,0))","v":0},{"$f":"IF(MG12=\"W\",$X$3,IF(MG12=\"D\",$AG$3,0))","v":{"v":0,"d":"0.0"}},{"$f":"IF(MA12>MB12,\"W\",IF(MA12<MB12,\"L\",IF(MA12=0,\"\",IF(MA12=MB12,\"D\",0))))","v":""},7,2,{"$nulls":3},{"$f":"IF(MP12=\"D\",\"D\",IF(MP12=\"W\",MN12,IF(MP12=\"L\",MN12,0)))","v":0},{"$f":"IF(MJ12+MK12=0,0,IF(MJ12+MK12>0.1,MJ12-MK12,0))","v":0},{"$f":"IF(MP12=\"W\",$X$3,IF(MP12=\"D\",$AG$3,0))","v":{"v":0,"d":"0.0"}},{"$f":"IF(MJ12>MK12,\"W\",IF(MJ12<MK12,\"L\",IF(MJ12=0,\"\",IF(MJ12=MK12,\"D\",0))))","v":""}]
[null,7,null,{"$f":"Q13+Z13+AI13+AR13+BA13+BJ13+BS13+CB13+CR13+DA13+DJ13+DS13+EB13+EK13+ET13+FC13+FL13+FU13+GK13+GT13+HC13+HL13+HU13+ID13+IM13+IV13+JE13+JN13+JU13+KD13+KM13+KV13+LE13+LN13+LW13+MF13+MO13","v":0},{"$f":"N13+W13+AF13+AO13+AX13+BG13+BP13+BY13+CF13+CO13+CX13+DG13+DP13+DY13+EH13+EQ13+EZ13+FI13+FR13+GH13+GQ13+GZ13+HI13+HR13+IA13+IJ13+IS13+JB13+JK13+KA13+KJ13+KS13+LB13+LK13+LT13+MC13+ML13","v":0},{"$f":"D13+E13","v":0},{"$f":"P13+Y13+AH13+AQ13+AZ13+BI13+BR13+CA13+CQ13+CZ13+DI13+DR13+EA13+EJ13+ES13+FB13+FK13+FT13+GJ13+GS13+HB13+HK13+HT13+IC13+IL13+IU13+JD13+JM13+KC13+KL13+KU13+LD13+LM13+LV13+ME13+MN13","v":0},{"$f":"(D13*1000000)+G13","v":0},{"$f":"IF($H$7:$H$18=0,\"\",RANK(H13,$H$7:$H$18))","v":""},8,6,{"$nulls":3},{"$f":"IF(R13=\"D\",\"D\",IF(R13=\"W\",P13,IF(R13=\"L\",P13,0)))","v":0},{"$f":"IF(L13+M13=0,0,IF(L13+M13>0.1,L13-M13,0))","v":0},{"$f":"IF(R13=\"W\",$X$3,IF(R13=\"D\",$AG$3,0))","v":{"v":0,"d":"0.0"}},{"$f":"IF(L13>M13,\"W\",IF(L13<M13,\"L\",IF(L13=0,\"\",IF(L13=M13,\"D\",0))))","v":""},10,5,{"$nulls":3},{"$f":"IF(AA13=\"D\",\"D\",IF(AA13=\"W\",Y13,IF(AA13=\"L\",Y13,0)))","v":0},{"$f":"IF(U13+V13=0,0,IF(U13+V13>0.1,U13-V13,0))","v":0},{"$f":"IF(AA13=\"W\",$X$3,IF(AA13=\"D\",$AG$3,0))","v":{"v":0,"d":"0.0"}},{"$f":"IF(U13>V13,\"W\",IF(U13<V13,\"L\",IF(U13=0,\"\",IF(U13=V13,\"D\",0))))","v":""},12,4,{"$nulls":3},{"$f":"IF(AJ13=\"D\",\"D\",IF(AJ13=\"W\",AH13,IF(AJ13=\"L\",AH13,0)))","v":0},{"$f":"IF(AD13+AE13=0,0,IF(AD13+AE13>0.1,AD13-AE13,0))","v":0},{"$f":"IF(AJ13=\"W\",$X$3,IF(AJ13=\"D\",$AG$3,0))","v":{"v":0,"d":"0.0"}},{"$f":"IF(AD13>AE13,\"W\",IF(AD13<AE13,\"L\",IF(AD13=0,\"\",IF(AD13=AE13,\"D\",0))))","v":""},3,2,{"$nulls":3},{"$f":"IF(AS13=\"D\",\"D\",IF(AS13=\"W\",AQ13,IF(AS13=\"L\",AQ13,0)))","v":0},{"$f":"IF(AM13+AN13=0,0,IF(AM13+AN13>0.1,AM13-AN13,0))","v":0},{"$f":"IF(AS13=\"W\",$X$3,IF(AS13=\"D\",$AG$3,0))","v":{"v":0,"d":"0.0"}},{"$f":"IF(AM13>AN13,\"W\",IF(AM13<AN13,\"L\",IF(AM13=0,\"\",IF(AM13=AN13,\"D\",0))))","v":""},5,3,{"$nulls":3},{"$f":"IF(BB13=\"D\",\"D\",IF(BB13=\"W\",AZ13,IF(BB13=\"L\",AZ13,0)))","v":0},{"$f":"IF(AV13+AW13=0,0,IF(AV13+AW13>0.1,AV13-AW13,0))","v":0},{"$f":"IF(BB13=\"W\",$X$3,IF(BB13=\"D\",$AG$3,0))","v":{"v":0,"d":"0.0"}},{"$f":"IF(AV13>AW13,\"W\",IF(AV13<AW13,\"L\",IF(AV13=0,\"\",IF(AV13=AW13,\"D\",0))))","v":""},1,5,{"$nulls":3},{"$f":"IF(BK13=\"D\",\"D\",IF(BK13=\"W\",BI13,IF(BK13=\"L\",BI13,0)))","v":0},{"$f":"IF(BE13+BF13=0,0,IF(BE13+BF13>0.1,BE13-BF13,0))","v":0},{"$f":"IF(BK13=\"W\",$X$3,IF(BK13=\"D\",$AG$3,0))","v":{"v":0,"d":"0.0"}},{"$f":"IF(BE13>BF13,\"W\",IF(BE13<BF13,\"L\",IF(BE13=0,\"\",IF(BE13=BF13,\"D\",0))))","v":""},9,1,{"$nulls":3},{"$f":"IF(BT13=\"D\",\"D\",IF(BT13=\"W\",BR13,IF(BT13=\"L\",BR13,0)))","v":0},{"$f":"IF(BN13+BO13=0,0,IF(BN13+BO13>0.1,BN13-BO13,0))","v":0},{"$f":"IF(BT13=\"W\",$X$3,IF(BT13=\"D\",$AG$3,0))","v":{"v":0,"d":"0.0"}},{"$f":"IF(BN13>BO13,\"W\",IF(BN13<BO13,\"L\",IF(BN13=0,\"\",IF(BN13=BO13,\"D\",0))))","v":""},11,2,{"$nulls":3},{"$f":"IF(CC13=\"D\",\"D\",IF(CC13=\"W\",CA13,IF(CC13=\"L\",CA13,0)))","v":0},{"$f":"IF(BW13+BX13=0,0,IF(BW13+BX13>0.1,BW13-BX13,0))","v":0},{"$f":"IF(CC13=\"W\",$X$3,IF(CC13=\"D\",$AG$3,0))","v":{"v":0,"d":"0.0"}},{"$f":"IF(BW13>BX13,\"W\",IF(BW13<BX13,\"L\",IF(BW13=0,\"\",IF(BW13=BX13,\"D\",0))))","v":""},{"$nulls":3},{"$f":"IF(CJ13=\"D\",\"D\",IF(CJ13=\"W\",CH13,IF(CJ13=\"L\",CH13,0)))","v":0},{"$f":"IF(CD13+CE13=0,0,IF(CD13+CE13>0.1,CD13-CE13,0))","v":0},{"$f":"IF(CJ13=\"W\",1,IF(CJ13=\"D\",0.5,0))","v":{"v":0,"d":"0.0"}},{"$f":"IF(CD13>CE13,\"W\",IF(CD13<CE13,\"L\",IF(CD13=0,\"\",IF(CD13=CE13,\"D\",0))))","v":""},2,1,{"$nulls":3},{"$f":"IF(CS13=\"D\",\"D\",IF(CS13=\"W\",CQ13,IF(CS13=\"L\",CQ13,0)))","v":0},{"$f":"IF(CM13+CN13=0,0,IF(CM13+CN13>0.1,CM13-CN13,0))","v":0},{"$f":"IF(CS13=\"W\",$X$3,IF(CS13=\"D\",$AG$3,0))","v":{"v":0,"d":"0.0"}},{"$f":"IF(CM13>CN13,\"W\",IF(CM13<CN13,\"L\",IF(CM13=0,\"\",IF(CM13=CN13,\"D\",0))))","v":""},4,6,{"$nulls":3},{"$f":"IF(DB13=\"D\",\"D\",IF(DB13=\"W\",CZ13,IF(DB13=\"L\",CZ13,0)))","v":0},{"$f":"IF(CV13+CW13=0,0,IF(CV13+CW13>0.1,CV13-CW13,0))","v":0},{"$f":"IF(DB13=\"W\",$X$3,IF(DB13=\"D\",$AG$3,0))","v":{"v":0,"d":"0.0"}},{"$f":"IF(CV13>CW13,\"W\",IF(CV13<CW13,\"L\",IF(CV13=0,\"\",IF(CV13=CW13,\"D\",0))))","v":""},2,1,{"$nulls":3},{"$f":"IF(DK13=\"D\",\"D\",IF(DK13=\"W\",DI13,IF(DK13=\"L\",DI13,0)))","v":0},{"$f":"IF(DE13+DF13=0,0,IF(DE13+DF13>0.1,DE13-DF13,0))","v":0},{"$f":"IF(DK13=\"W\",$X$3,IF(DK13=\"D\",$AG$3,0))","v":{"v":0,"d":"0.0"}},{"$f":"IF(DE13>DF13,\"W\",IF(DE13<DF13,\"L\",IF(DE13=0,\"\",IF(DE13=DF13,\"D\",0))))","v":""},4,4,{"$nulls":3},{"$f":"IF(DT13=\"D\",\"D\",IF(DT13=\"W\",DR13,IF(DT13=\"L\",DR13,0)))","v":0},{"$f":"IF(DN13+DO13=0,0,IF(DN13+DO13>0.1,DN13-DO13,0))","v":0},{"$f":"IF(DT13=\"W\",$X$3,IF(DT13=\"D\",$AG$3,0))","v":{"v":0,"d":"0.0"}},{"$f":"IF(DN13>DO13,\"W\",IF(DN13<DO13,\"L\",IF(DN13=0,\"\",IF(DN13=DO13,\"D\",0))))","v":""},6,7,{"$nulls":3},{"$f":"IF(EC13=\"D\",\"D\",IF(EC13=\"W\",EA13,IF(EC13=\"L\",EA13,0)))","v":0},{"$f":"IF(DW13+DX13=0,0,IF(DW13+DX13>0.1,DW13-DX13,0))","v":0},{"$f":"IF(EC13=\"W\",$X$3,IF(EC13=\"D\",$AG$3,0))","v":{"v":0,"d":"0.0"}},{"$f":"IF(DW13>DX13,\"W\",IF(DW13<DX13,\"L\",IF(DW13=0,\"\",IF(DW13=DX13,\"D\",0))))","v":""},8,1,{"$nulls":3},{"$f":"IF(EL13=\"D\",\"D\",IF(EL13=\"W\",EJ13,IF(EL13=\"L\",EJ13,0)))","v":0},{"$f":"IF(EF13+EG13=0,0,IF(EF13+EG13>0.1,EF13-EG13,0))","v":0},{"$f":"IF(EL13=\"W\",$X$3,IF(EL13=\"D\",$AG$3,0))","v":{"v":0,"d":"0.0"}},{"$f":"IF(EF13>EG13,\"W\",IF(EF13<EG13,\"L\",IF(EF13=0,\"\",IF(EF13=EG13,\"D\",0))))","v":""},10,8,{"$nulls":3},{"$f":"IF(EU13=\"D\",\"D\",IF(EU13=\"W\",ES13,IF(EU13=\"L\",ES13,0)))","v":0},{"$f":"IF(EO13+EP13=0,0,IF(EO13+EP13>0.1,EO13-EP13,0))","v":0},{"$f":"IF(EU13=\"W\",$X$3,IF(EU13=\"D\",$AG$3,0))","v":{"v":0,"d":"0.0"}},{"$f":"IF(EO13>EP13,\"W\",IF(EO13<EP13,\"L\",IF(EO13=0,\"\",IF(EO13=EP13,\"D\",0))))","v":""},12,6,{"$nulls":3},{"$f":"IF(FD13=\"D\",\"D\",IF(FD13=\"W\",FB13,IF(FD13=\"L\",FB13,0)))","v":0},{"$f":"IF(EX13+EY13=0,0,IF(EX13+EY13>0.1,EX13-EY13,0))","v":0},{"$f":"IF(FD13=\"W\",$X$3,IF(FD13=\"D\",$AG$3,0))","v":{"v":0,"d":"0.0"}},{"$f":"IF(EX13>EY13,\"W\",IF(EX13<EY13,\"L\",IF(EX13=0,\"\",IF(EX13=EY13,\"D\",0))))","v":""},14,7,{"$nulls":3},{"$f":"IF(FM13=\"D\",\"D\",IF(FM13=\"W\",FK13,IF(FM13=\"L\",FK13,0)))","v":0},{"$f":"IF(FG13+FH13=0,0,IF(FG13+FH13>0.1,FG13-FH13,0))","v":0},{"$f":"IF(FM13=\"W\",$X$3,IF(FM13=\"D\",$AG$3,0))","v":{"v":0,"d":"0.0"}},{"$f":"IF(FG13>FH13,\"W\",IF(FG13<FH13,\"L\",IF(FG13=0,\"\",IF(FG13=FH13,\"D\",0))))","v":""},16,5,{"$nulls":3},{"$f":"IF(FV13=\"D\",\"D\",IF(FV13=\"W\",FT13,IF(FV13=\"L\",FT13,0)))","v":0},{"$f":"IF(FP13+FQ13=0,0,IF(FP13+FQ13>0.1,FP13-FQ13,0))","v":0},{"$f":"IF(FV13=\"W\",$X$3,IF(FV13=\"D\",$AG$3,0))","v":{"v":0,"d":"0.0"}},{"$f":"IF(FP13>FQ13,\"W\",IF(FP13<FQ13,\"L\",IF(FP13=0,\"\",IF(FP13=FQ13,\"D\",0))))","v":""},{"$nulls":3},{"$f":"IF(GC13=\"D\",\"D\",IF(GC13=\"W\",GA13,IF(GC13=\"L\",GA13,0)))","v":0},{"$f":"IF(FW13+FX13=0,0,IF(FW13+FX13>0.1,FW13-FX13,0))","v":0},{"$f":"IF(GC13=\"W\",1,IF(GC13=\"D\",0.5,0))","v":{"v":0,"d":"0.0"}},{"$f":"IF(FW13>FX13,\"W\",IF(FW13<FX13,\"L\",IF(FW13=0,\"\",IF(FW13=FX13,\"D\",0))))","v":""},3,4,{"$nulls":3},{"$f":"IF(GL13=\"D\",\"D\",IF(GL13=\"W\",GJ13,IF(GL13=\"L\",GJ13,0)))","v":0},{"$f":"IF(GF13+GG13=0,0,IF(GF13+GG13>0.1,GF13-GG13,0))","v":0},{"$f":"IF(GL13=\"W\",$X$3,IF(GL13=\"D\",$AG$3,0))","v":{"v":0,"d":"0.0"}},{"$f":"IF(GF13>GG13,\"W\",IF(GF13<GG13,\"L\",IF(GF13=0,\"\",IF(GF13=GG13,\"D\",0))))","v":""},5,8,{"$nulls":3},{"$f":"IF(GU13=\"D\",\"D\",IF(GU13=\"W\",GS13,IF(GU13=\"L\",GS13,0)))","v":0},{"$f":"IF(GO13+GP13=0,0,IF(GO13+GP13>0.1,GO13-GP13,0))","v":0},{"$f":"IF(GU13=\"W\",$X$3,IF(GU13=\"D\",$AG$3,0))","v":{"v":0,"d":"0.0"}},{"$f":"IF(GO13>GP13,\"W\",IF(GO13<GP13,\"L\",IF(GO13=0,\"\",IF(GO13=GP13,\"D\",0))))","v":""},10,6,{"$nulls":3},{"$f":"IF(HD13=\"D\",\"D\",IF(HD13=\"W\",HB13,IF(HD13=\"L\",HB13,0)))","v":0},{"$f":"IF(GX13+GY13=0,0,IF(GX13+GY13>0.1,GX13-GY13,0))","v":0},{"$f":"IF(HD13=\"W\",$X$3,IF(HD13=\"D\",$AG$3,0))","v":{"v":0,"d":"0.0"}},{"$f":"IF(GX13>GY13,\"W\",IF(GX13<GY13,\"L\",IF(GX13=0,\"\",IF(GX13=GY13,\"D\",0))))","v":""},12,7,{"$nulls":3},{"$f":"IF(HM13=\"D\",\"D\",IF(HM13=\"W\",HK13,IF(HM13=\"L\",HK13,0)))","v":0},{"$f":"IF(HG13+HH13=0,0,IF(HG13+HH13>0.1,HG13-HH13,0))","v":0},{"$f":"IF(HM13=\"W\",$X$3,IF(HM13=\"D\",$AG$3,0))","v":{"v":0,"d":"0.0"}},{"$f":"IF(HG13>HH13,\"W\",IF(HG13<HH13,\"L\",IF(HG13=0,\"\",IF(HG13=HH13,\"D\",0))))","v":""},14,2,{"$nulls":3},{"$f":"IF(HV13=\"D\",\"D\",IF(HV13=\"W\",HT13,IF(HV13=\"L\",HT13,0)))","v":0},{"$f":"IF(HP13+HQ13=0,0,IF(HP13+HQ13>0.1,HP13-HQ13,0))","v":0},{"$f":"IF(HV13=\"W\",$X$3,IF(HV13=\"D\",$AG$3,0))","v":{"v":0,"d":"0.0"}},{"$f":"IF(HP13>HQ13,\"W\",IF(HP13<HQ13,\"L\",IF(HP13=0,\"\",IF(HP13=HQ13,\"D\",0))))","v":""},16,8,{"$nulls":3},{"$f":"IF(IE13=\"D\",\"D\",IF(IE13=\"W\",IC13,IF(IE13=\"L\",IC13,0)))","v":0},{"$f":"IF(HY13+HZ13=0,0,IF(HY13+HZ13>0.1,HY13-HZ13,0))","v":0},{"$f":"IF(IE13=\"W\",$X$3,IF(IE13=\"D\",$AG$3,0))","v":{"v":0,"d":"0.0"}},{"$f":"IF(HY13>HZ13,\"W\",IF(HY13<HZ13,\"L\",IF(HY13=0,\"\",IF(HY13=HZ13,\"D\",0))))","v":""},3,5,{"$nulls":3},{"$f":"IF(IN13=\"D\",\"D\",IF(IN13=\"W\",IL13,IF(IN13=\"L\",IL13,0)))","v":0},{"$f":"IF(IH13+II13=0,0,IF(IH13+II13>0.1,IH13-II13,0))","v":0},{"$f":"IF(IN13=\"W\",$X$3,IF(IN13=\"D\",$AG$3,0))","v":{"v":0,"d":"0.0"}},{"$f":"IF(IH13>II13,\"W\",IF(IH13<II13,\"L\",IF(IH13=0,\"\",IF(IH13=II13,\"D\",0))))","v":""},5,3,{"$nulls":3},{"$f":"IF(IW13=\"D\",\"D\",IF(IW13=\"W\",IU13,IF(IW13=\"L\",IU13,0)))","v":0},{"$f":"IF(IQ13+IR13=0,0,IF(IQ13+IR13>0.1,IQ13-IR13,0))","v":0},{"$f":"IF(IW13=\"W\",$X$3,IF(IW13=\"D\",$AG$3,0))","v":{"v":0,"d":"0.0"}},{"$f":"IF(IQ13>IR13,\"W\",IF(IQ13<IR13,\"L\",IF(IQ13=0,\"\",IF(IQ13=IR13,\"D\",0))))","v":""},7,4,{"$nulls":3},{"$f":"IF(JF13=\"D\",\"D\",IF(JF13=\"W\",JD13,IF(JF13=\"L\",JD13,0)))","v":0},{"$f":"IF(IZ13+JA13=0,0,IF(IZ13+JA13>0.1,IZ13-JA13,0))","v":0},{"$f":"IF(JF13=\"W\",$X$3,IF(JF13=\"D\",$AG$3,0))","v":{"v":0,"d":"0.0"}},{"$f":"IF(IZ13>JA13,\"W\",IF(IZ13<JA13,\"L\",IF(IZ13=0,\"\",IF(IZ13=JA13,\"D\",0))))","v":""},9,1,{"$nulls":3},{"$f":"IF(JO13=\"D\",\"D\",IF(JO13=\"W\",JM13,IF(JO13=\"L\",JM13,0)))","v":0},{"$f":"IF(JI13+JJ13=0,0,IF(JI13+JJ13>0.1,JI13-JJ13,0))","v":0},{"$f":"IF(JO13=\"W\",$X$3,IF(JO13=\"D\",$AG$3,0))","v":{"v":0,"d":"0.0"}},{"$f":"IF(JI13>JJ13,\"W\",IF(JI13<JJ13,\"L\",IF(JI13=0,\"\",IF(JI13=JJ13,\"D\",0))))","v":""},{"$nulls":3},{"$f":"IF(JV13=\"D\",\"D\",IF(JV13=\"W\",JT13,IF(JV13=\"L\",JT13,0)))","v":0},{"$f":"IF(JP13+JQ13=0,0,IF(JP13+JQ13>0.1,JP13-JQ13,0))","v":0},{"$f":"IF(JV13=\"W\",1,IF(JV13=\"D\",0.5,0))","v":{"v":0,"d":"0.0"}},{"$f":"IF(JP13>JQ13,\"W\",IF(JP13<JQ13,\"L\",IF(JP13=0,\"\",IF(JP13=JQ13,\"D\",0))))","v":""},11,2,{"$nulls":3},{"$f":"IF(KE13=\"D\",\"D\",IF(KE13=\"W\",KC13,IF(KE13=\"L\",KC13,0)))","v":0},{"$f":"IF(JY13+JZ13=0,0,IF(JY13+JZ13>0.1,JY13-JZ13,0))","v":0},{"$f":"IF(KE13=\"W\",$X$3,IF(KE13=\"D\",$AG$3,0))","v":{"v":0,"d":"0.0"}},{"$f":"IF(JY13>JZ13,\"W\",IF(JY13<JZ13,\"L\",IF(JY13=0,\"\",IF(JY13=JZ13,\"D\",0))))","v":""},13,6,{"$nulls":3},{"$f":"IF(KN13=\"D\",\"D\",IF(KN13=\"W\",KL13,IF(KN13=\"L\",KL13,0)))","v":0},{"$f":"IF(KH13+KI13=0,0,IF(KH13+KI13>0.1,KH13-KI13,0))","v":0},{"$f":"IF(KN13=\"W\",$X$3,IF(KN13=\"D\",$AG$3,0))","v":{"v":0,"d":"0.0"}},{"$f":"IF(KH13>KI13,\"W\",IF(KH13<KI13,\"L\",IF(KH13=0,\"\",IF(KH13=KI13,\"D\",0))))","v":""},15,3,{"$nulls":3},{"$f":"IF(KW13=\"D\",\"D\",IF(KW13=\"W\",KU13,IF(KW13=\"L\",KU13,0)))","v":0},{"$f":"IF(KQ13+KR13=0,0,IF(KQ13+KR13>0.1,KQ13-KR13,0))","v":0},{"$f":"IF(KW13=\"W\",$X$3,IF(KW13=\"D\",$AG$3,0))","v":{"v":0,"d":"0.0"}},{"$f":"IF(KQ13>KR13,\"W\",IF(KQ13<KR13,\"L\",IF(KQ13=0,\"\",IF(KQ13=KR13,\"D\",0))))","v":""},2,5,{"$nulls":3},{"$f":"IF(LF13=\"D\",\"D\",IF(LF13=\"W\",LD13,IF(LF13=\"L\",LD13,0)))","v":0},{"$f":"IF(KZ13+LA13=0,0,IF(KZ13+LA13>0.1,KZ13-LA13,0))","v":0},{"$f":"IF(LF13=\"W\",$X$3,IF(LF13=\"D\",$AG$3,0))","v":{"v":0,"d":"0.0"}},{"$f":"IF(KZ13>LA13,\"W\",IF(KZ13<LA13,\"L\",IF(KZ13=0,\"\",IF(KZ13=LA13,\"D\",0))))","v":""},1,4,{"$nulls":3},{"$f":"IF(LO13=\"D\",\"D\",IF(LO13=\"W\",LM13,IF(LO13=\"L\",LM13,0)))","v":0},{"$f":"IF(LI13+LJ13=0,0,IF(LI13+LJ13>0.1,LI13-LJ13,0))","v":0},{"$f":"IF(LO13=\"W\",$X$3,IF(LO13=\"D\",$AG$3,0))","v":{"v":0,"d":"0.0"}},{"$f":"IF(LI13>LJ13,\"W\",IF(LI13<LJ13,\"L\",IF(LI13=0,\"\",IF(LI13=LJ13,\"D\",0))))","v":""},6,1,{"$nulls":3},{"$f":"IF(LX13=\"D\",\"D\",IF(LX13=\"W\",LV13,IF(LX13=\"L\",LV13,0)))","v":0},{"$f":"IF(LR13+LS13=0,0,IF(LR13+LS13>0.1,LR13-LS13,0))","v":0},{"$f":"IF(LX13=\"W\",$X$3,IF(LX13=\"D\",$AG$3,0))","v":{"v":0,"d":"0.0"}},{"$f":"IF(LR13>LS13,\"W\",IF(LR13<LS13,\"L\",IF(LR13=0,\"\",IF(LR13=LS13,\"D\",0))))","v":""},8,2,{"$nulls":3},{"$f":"IF(MG13=\"D\",\"D\",IF(MG13=\"W\",ME13,IF(MG13=\"L\",ME13,0)))","v":0},{"$f":"IF(MA13+MB13=0,0,IF(MA13+MB13>0.1,MA13-MB13,0))","v":0},{"$f":"IF(MG13=\"W\",$X$3,IF(MG13=\"D\",$AG$3,0))","v":{"v":0,"d":"0.0"}},{"$f":"IF(MA13>MB13,\"W\",IF(MA13<MB13,\"L\",IF(MA13=0,\"\",IF(MA13=MB13,\"D\",0))))","v":""},10,6,{"$nulls":3},{"$f":"IF(MP13=\"D\",\"D\",IF(MP13=\"W\",MN13,IF(MP13=\"L\",MN13,0)))","v":0},{"$f":"IF(MJ13+MK13=0,0,IF(MJ13+MK13>0.1,MJ13-MK13,0))","v":0},{"$f":"IF(MP13=\"W\",$X$3,IF(MP13=\"D\",$AG$3,0))","v":{"v":0,"d":"0.0"}},{"$f":"IF(MJ13>MK13,\"W\",IF(MJ13<MK13,\"L\",IF(MJ13=0,\"\",IF(MJ13=MK13,\"D\",0))))","v":""}]
[null,8,null,{"$f":"Q14+Z14+AI14+AR14+BA14+BJ14+BS14+CB14+CR14+DA14+DJ14+DS14+EB14+EK14+ET14+FC14+FL14+FU14+GK14+GT14+HC14+HL14+HU14+ID14+IM14+IV14+JE14+JN14+JU14+KD14+KM14+KV14+LE14+LN14+LW14+MF14+MO14","v":0},{"$f":"N14+W14+AF14+AO14+AX14+BG14+BP14+BY14+CF14+CO14+CX14+DG14+DP14+DY14+EH14+EQ14+EZ14+FI14+FR14+GH14+GQ14+GZ14+HI14+HR14+IA14+IJ14+IS14+JB14+JK14+KA14+KJ14+KS14+LB14+LK14+LT14+MC14+ML14","v":0},{"$f":"D14+E14","v":0},{"$f":"P14+Y14+AH14+AQ14+AZ14+BI14+BR14+CA14+CQ14+CZ14+DI14+DR14+EA14+EJ14+ES14+FB14+FK14+FT14+GJ14+GS14+HB14+HK14+HT14+IC14+IL14+IU14+JD14+JM14+KC14+KL14+KU14+LD14+LM14+LV14+ME14+MN14","v":0},{"$f":"(D14*1000000)+G14","v":0},{"$f":"IF($H$7:$H$18=0,\"\",RANK(H14,$H$7:$H$18))","v":""},7,6,{"$nulls":3},{"$f":"IF(R14=\"D\",\"D\",IF(R14=\"W\",P14,IF(R14=\"L\",P14,0)))","v":0},{"$f":"IF(L14+M14=0,0,IF(L14+M14>0.1,L14-M14,0))","v":0},{"$f":"IF(R14=\"W\",$X$3,IF(R14=\"D\",$AG$3,0))","v":{"v":0,"d":"0.0"}},{"$f":"IF(L14>M14,\"W\",IF(L14<M14,\"L\",IF(L14=0,\"\",IF(L14=M14,\"D\",0))))","v":""},9,2,{"$nulls":3},{"$f":"IF(AA14=\"D\",\"D\",IF(AA14=\"W\",Y14,IF(AA14=\"L\",Y14,0)))","v":0},{"$f":"IF(U14+V14=0,0,IF(U14+V14>0.1,U14-V14,0))","v":0},{"$f":"IF(AA14=\"W\",$X$3,IF(AA14=\"D\",$AG$3,0))","v":{"v":0,"d":"0.0"}},{"$f":"IF(U14>V14,\"W\",IF(U14<V14,\"L\",IF(U14=0,\"\",IF(U14=V14,\"D\",0))))","v":""},11,1,{"$nulls":3},{"$f":"IF(AJ14=\"D\",\"D\",IF(AJ14=\"W\",AH14,IF(AJ14=\"L\",AH14,0)))","v":0},{"$f":"IF(AD14+AE14=0,0,IF(AD14+AE14>0.1,AD14-AE14,0))","v":0},{"$f":"IF(AJ14=\"W\",$X$3,IF(AJ14=\"D\",$AG$3,0))","v":{"v":0,"d":"0.0"}},{"$f":"IF(AD14>AE14,\"W\",IF(AD14<AE14,\"L\",IF(AD14=0,\"\",IF(AD14=AE14,\"D\",0))))","v":""},2,5,{"$nulls":3},{"$f":"IF(AS14=\"D\",\"D\",IF(AS14=\"W\",AQ14,IF(AS14=\"L\",AQ14,0)))","v":0},{"$f":"IF(AM14+AN14=0,0,IF(AM14+AN14>0.1,AM14-AN14,0))","v":0},{"$f":"IF(AS14=\"W\",$X$3,IF(AS14=\"D\",$AG$3,0))","v":{"v":0,"d":"0.0"}},{"$f":"IF(AM14>AN14,\"W\",IF(AM14<AN14,\"L\",IF(AM14=0,\"\",IF(AM14=AN14,\"D\",0))))","v":""},4,6,{"$nulls":3},{"$f":"IF(BB14=\"D\",\"D\",IF(BB14=\"W\",AZ14,IF(BB14=\"L\",AZ14,0)))","v":0},{"$f":"IF(AV14+AW14=0,0,IF(AV14+AW14>0.1,AV14-AW14,0))","v":0},{"$f":"IF(BB14=\"W\",$X$3,IF(BB14=\"D\",$AG$3,0))","v":{"v":0,"d":"0.0"}},{"$f":"IF(AV14>AW14,\"W\",IF(AV14<AW14,\"L\",IF(AV14=0,\"\",IF(AV14=AW14,\"D\",0))))","v":""},6,3,{"$nulls":3},{"$f":"IF(BK14=\"D\",\"D\",IF(BK14=\"W\",BI14,IF(BK14=\"L\",BI14,0)))","v":0},{"$f":"IF(BE14+BF14=0,0,IF(BE14+BF14>0.1,BE14-BF14,0))","v":0},{"$f":"IF(BK14=\"W\",$X$3,IF(BK14=\"D\",$AG$3,0))","v":{"v":0,"d":"0.0"}},{"$f":"IF(BE14>BF14,\"W\",IF(BE14<BF14,\"L\",IF(BE14=0,\"\",IF(BE14=BF14,\"D\",0))))","v":""},1,4,{"$nulls":3},{"$f":"IF(BT14=\"D\",\"D\",IF(BT14=\"W\",BR14,IF(BT14=\"L\",BR14,0)))","v":0},{"$f":"IF(BN14+BO14=0,0,IF(BN14+BO14>0.1,BN14-BO14,0))","v":0},{"$f":"IF(BT14=\"W\",$X$3,IF(BT14=\"D\",$AG$3,0))","v":{"v":0,"d":"0.0"}},{"$f":"IF(BN14>BO14,\"W\",IF(BN14<BO14,\"L\",IF(BN14=0,\"\",IF(BN14=BO14,\"D\",0))))","v":""},10,3,{"$nulls":3},{"$f":"IF(CC14=\"D\",\"D\",IF(CC14=\"W\",CA14,IF(CC14=\"L\",CA14,0)))","v":0},{"$f":"IF(BW14+BX14=0,0,IF(BW14+BX14>0.1,BW14-BX14,0))","v":0},{"$f":"IF(CC14=\"W\",$X$3,IF(CC14=\"D\",$AG$3,0))","v":{"v":0,"d":"0.0"}},{"$f":"IF(BW14>BX14,\"W\",IF(BW14<BX14,\"L\",IF(BW14=0,\"\",IF(BW14=BX14,\"D\",0))))","v":""},{"$nulls":3},{"$f":"IF(CJ14=\"D\",\"D\",IF(CJ14=\"W\",CH14,IF(CJ14=\"L\",CH14,0)))","v":0},{"$f":"IF(CD14+CE14=0,0,IF(CD14+CE14>0.1,CD14-CE14,0))","v":0},{"$f":"IF(CJ14=\"W\",1,IF(CJ14=\"D\",0.5,0))","v":{"v":0,"d":"0.0"}},{"$f":"IF(CD14>CE14,\"W\",IF(CD14<CE14,\"L\",IF(CD14=0,\"\",IF(CD14=CE14,\"D\",0))))","v":""},12,2,{"$nulls":3},{"$f":"IF(CS14=\"D\",\"D\",IF(CS14=\"W\",CQ14,IF(CS14=\"L\",CQ14,0)))","v":0},{"$f":"IF(CM14+CN14=0,0,IF(CM14+CN14>0.1,CM14-CN14,0))","v":0},{"$f":"IF(CS14=\"W\",$X$3,IF(CS14=\"D\",$AG$3,0))","v":{"v":0,"d":"0.0"}},{"$f":"IF(CM14>CN14,\"W\",IF(CM14<CN14,\"L\",IF(CM14=0,\"\",IF(CM14=CN14,\"D\",0))))","v":""},3,5,{"$nulls":3},{"$f":"IF(DB14=\"D\",\"D\",IF(DB14=\"W\",CZ14,IF(DB14=\"L\",CZ14,0)))","v":0},{"$f":"IF(CV14+CW14=0,0,IF(CV14+CW14>0.1,CV14-CW14,0))","v":0},{"$f":"IF(DB14=\"W\",$X$3,IF(DB14=\"D\",$AG$3,0))","v":{"v":0,"d":"0.0"}},{"$f":"IF(CV14>CW14,\"W\",IF(CV14<CW14,\"L\",IF(CV14=0,\"\",IF(CV14=CW14,\"D\",0))))","v":""},16,2,{"$nulls":3},{"$f":"IF(DK14=\"D\",\"D\",IF(DK14=\"W\",DI14,IF(DK14=\"L\",DI14,0)))","v":0},{"$f":"IF(DE14+DF14=0,0,IF(DE14+DF14>0.1,DE14-DF14,0))","v":0},{"$f":"IF(DK14=\"W\",$X$3,IF(DK14=\"D\",$AG$3,0))","v":{"v":0,"d":"0.0"}},{"$f":"IF(DE14>DF14,\"W\",IF(DE14<DF14,\"L\",IF(DE14=0,\"\",IF(DE14=DF14,\"D\",0))))","v":""},3,7,{"$nulls":3},{"$f":"IF(DT14=\"D\",\"D\",IF(DT14=\"W\",DR14,IF(DT14=\"L\",DR14,0)))","v":0},{"$f":"IF(DN14+DO14=0,0,IF(DN14+DO14>0.1,DN14-DO14,0))","v":0},{"$f":"IF(DT14=\"W\",$X$3,IF(DT14=\"D\",$AG$3,0))","v":{"v":0,"d":"0.0"}},{"$f":"IF(DN14>DO14,\"W\",IF(DN14<DO14,\"L\",IF(DN14=0,\"\",IF(DN14=DO14,\"D\",0))))","v":""},5,6,{"$nulls":3},{"$f":"IF(EC14=\"D\",\"D\",IF(EC14=\"W\",EA14,IF(EC14=\"L\",EA14,0)))","v":0},{"$f":"IF(DW14+DX14=0,0,IF(DW14+DX14>0.1,DW14-DX14,0))","v":0},{"$f":"IF(EC14=\"W\",$X$3,IF(EC14=\"D\",$AG$3,0))","v":{"v":0,"d":"0.0"}},{"$f":"IF(DW14>DX14,\"W\",IF(DW14<DX14,\"L\",IF(DW14=0,\"\",IF(DW14=DX14,\"D\",0))))","v":""},7,1,{"$nulls":3},{"$f":"IF(EL14=\"D\",\"D\",IF(EL14=\"W\",EJ14,IF(EL14=\"L\",EJ14,0)))","v":0},{"$f":"IF(EF14+EG14=0,0,IF(EF14+EG14>0.1,EF14-EG14,0))","v":0},{"$f":"IF(EL14=\"W\",$X$3,IF(EL14=\"D\",$AG$3,0))","v":{"v":0,"d":"0.0"}},{"$f":"IF(EF14>EG14,\"W\",IF(EF14<EG14,\"L\",IF(EF14=0,\"\",IF(EF14=EG14,\"D\",0))))","v":""},9,5,{"$nulls":3},{"$f":"IF(EU14=\"D\",\"D\",IF(EU14=\"W\",ES14,IF(EU14=\"L\",ES14,0)))","v":0},{"$f":"IF(EO14+EP14=0,0,IF(EO14+EP14>0.1,EO14-EP14,0))","v":0},{"$f":"IF(EU14=\"W\",$X$3,IF(EU14=\"D\",$AG$3,0))","v":{"v":0,"d":"0.0"}},{"$f":"IF(EO14>EP14,\"W\",IF(EO14<EP14,\"L\",IF(EO14=0,\"\",IF(EO14=EP14,\"D\",0))))","v":""},11,7,{"$nulls":3},{"$f":"IF(FD14=\"D\",\"D\",IF(FD14=\"W\",FB14,IF(FD14=\"L\",FB14,0)))","v":0},{"$f":"IF(EX14+EY14=0,0,IF(EX14+EY14>0.1,EX14-EY14,0))","v":0},{"$f":"IF(FD14=\"W\",$X$3,IF(FD14=\"D\",$AG$3,0))","v":{"v":0,"d":"0.0"}},{"$f":"IF(EX14>EY14,\"W\",IF(EX14<EY14,\"L\",IF(EX14=0,\"\",IF(EX14=EY14,\"D\",0))))","v":""},13,6,{"$nulls":3},{"$f":"IF(FM14=\"D\",\"D\",IF(FM14=\"W\",FK14,IF(FM14=\"L\",FK14,0)))","v":0},{"$f":"IF(FG14+FH14=0,0,IF(FG14+FH14>0.1,FG14-FH14,0))","v":0},{"$f":"IF(FM14=\"W\",$X$3,IF(FM14=\"D\",$AG$3,0))","v":{"v":0,"d":"0.0"}},{"$f":"IF(FG14>FH14,\"W\",IF(FG14<FH14,\"L\",IF(FG14=0,\"\",IF(FG14=FH14,\"D\",0))))","v":""},15,6,{"$nulls":3},{"$f":"IF(FV14=\"D\",\"D\",IF(FV14=\"W\",FT14,IF(FV14=\"L\",FT14,0)))","v":0},{"$f":"IF(FP14+FQ14=0,0,IF(FP14+FQ14>0.1,FP14-FQ14,0))","v":0},{"$f":"IF(FV14=\"W\",$X$3,IF(FV14=\"D\",$AG$3,0))","v":{"v":0,"d":"0.0"}},{"$f":"IF(FP14>FQ14,\"W\",IF(FP14<FQ14,\"L\",IF(FP14=0,\"\",IF(FP14=FQ14,\"D\",0))))","v":""},{"$nulls":3},{"$f":"IF(GC14=\"D\",\"D\",IF(GC14=\"W\",GA14,IF(GC14=\"L\",GA14,0)))","v":0},{"$f":"IF(FW14+FX14=0,0,IF(FW14+FX14>0.1,FW14-FX14,0))","v":0},{"$f":"IF(GC14=\"W\",1,IF(GC14=\"D\",0.5,0))","v":{"v":0,"d":"0.0"}},{"$f":"IF(FW14>FX14,\"W\",IF(FW14<FX14,\"L\",IF(FW14=0,\"\",IF(FW14=FX14,\"D\",0))))","v":""},2,8,{"$nulls":3},{"$f":"IF(GL14=\"D\",\"D\",IF(GL14=\"W\",GJ14,IF(GL14=\"L\",GJ14,0)))","v":0},{"$f":"IF(GF14+GG14=0,0,IF(GF14+GG14>0.1,GF14-GG14,0))","v":0},{"$f":"IF(GL14=\"W\",$X$3,IF(GL14=\"D\",$AG$3,0))","v":{"v":0,"d":"0.0"}},{"$f":"IF(GF14>GG14,\"W\",IF(GF14<GG14,\"L\",IF(GF14=0,\"\",IF(GF14=GG14,\"D\",0))))","v":""},4,2,{"$nulls":3},{"$f":"IF(GU14=\"D\",\"D\",IF(GU14=\"W\",GS14,IF(GU14=\"L\",GS14,0)))","v":0},{"$f":"IF(GO14+GP14=0,0,IF(GO14+GP14>0.1,GO14-GP14,0))","v":0},{"$f":"IF(GU14=\"W\",$X$3,IF(GU14=\"D\",$AG$3,0))","v":{"v":0,"d":"0.0"}},{"$f":"IF(GO14>GP14,\"W\",IF(GO14<GP14,\"L\",IF(GO14=0,\"\",IF(GO14=GP14,\"D\",0))))","v":""},9,4,{"$nulls":3},{"$f":"IF(HD14=\"D\",\"D\",IF(HD14=\"W\",HB14,IF(HD14=\"L\",HB14,0)))","v":0},{"$f":"IF(GX14+GY14=0,0,IF(GX14+GY14>0.1,GX14-GY14,0))","v":0},{"$f":"IF(HD14=\"W\",$X$3,IF(HD14=\"D\",$AG$3,0))","v":{"v":0,"d":"0.0"}},{"$f":"IF(GX14>GY14,\"W\",IF(GX14<GY14,\"L\",IF(GX14=0,\"\",IF(GX14=GY14,\"D\",0))))","v":""},11,3,{"$nulls":3},{"$f":"IF(HM14=\"D\",\"D\",IF(HM14=\"W\",HK14,IF(HM14=\"L\",HK14,0)))","v":0},{"$f":"IF(HG14+HH14=0,0,IF(HG14+HH14>0.1,HG14-HH14,0))","v":0},{"$f":"IF(HM14=\"W\",$X$3,IF(HM14=\"D\",$AG$3,0))","v":{"v":0,"d":"0.0"}},{"$f":"IF(HG14>HH14,\"W\",IF(HG14<HH14,\"L\",IF(HG14=0,\"\",IF(HG14=HH14,\"D\",0))))","v":""},13,5,{"$nulls":3},{"$f":"IF(HV14=\"D\",\"D\",IF(HV14=\"W\",HT14,IF(HV14=\"L\",HT14,0)))","v":0},{"$f":"IF(HP14+HQ14=0,0,IF(HP14+HQ14>0.1,HP14-HQ14,0))","v":0},{"$f":"IF(HV14=\"W\",$X$3,IF(HV14=\"D\",$AG$3,0))","v":{"v":0,"d":"0.0"}},{"$f":"IF(HP14>HQ14,\"W\",IF(HP14<HQ14,\"L\",IF(HP14=0,\"\",IF(HP14=HQ14,\"D\",0))))","v":""},15,1,{"$nulls":3},{"$f":"IF(IE14=\"D\",\"D\",IF(IE14=\"W\",IC14,IF(IE14=\"L\",IC14,0)))","v":0},{"$f":"IF(HY14+HZ14=0,0,IF(HY14+HZ14>0.1,HY14-HZ14,0))","v":0},{"$f":"IF(IE14=\"W\",$X$3,IF(IE14=\"D\",$AG$3,0))","v":{"v":0,"d":"0.0"}},{"$f":"IF(HY14>HZ14,\"W\",IF(HY14<HZ14,\"L\",IF(HY14=0,\"\",IF(HY14=HZ14,\"D\",0))))","v":""},2,4,{"$nulls":3},{"$f":"IF(IN14=\"D\",\"D\",IF(IN14=\"W\",IL14,IF(IN14=\"L\",IL14,0)))","v":0},{"$f":"IF(IH14+II14=0,0,IF(IH14+II14>0.1,IH14-II14,0))","v":0},{"$f":"IF(IN14=\"W\",$X$3,IF(IN14=\"D\",$AG$3,0))","v":{"v":0,"d":"0.0"}},{"$f":"IF(IH14>II14,\"W\",IF(IH14<II14,\"L\",IF(IH14=0,\"\",IF(IH14=II14,\"D\",0))))","v":""},4,3,{"$nulls":3},{"$f":"IF(IW14=\"D\",\"D\",IF(IW14=\"W\",IU14,IF(IW14=\"L\",IU14,0)))","v":0},{"$f":"IF(IQ14+IR14=0,0,IF(IQ14+IR14>0.1,IQ14-IR14,0))","v":0},{"$f":"IF(IW14=\"W\",$X$3,IF(IW14=\"D\",$AG$3,0))","v":{"v":0,"d":"0.0"}},{"$f":"IF(IQ14>IR14,\"W\",IF(IQ14<IR14,\"L\",IF(IQ14=0,\"\",IF(IQ14=IR14,\"D\",0))))","v":""},6,8,{"$nulls":3},{"$f":"IF(JF14=\"D\",\"D\",IF(JF14=\"W\",JD14,IF(JF14=\"L\",JD14,0)))","v":0},{"$f":"IF(IZ14+JA14=0,0,IF(IZ14+JA14>0.1,IZ14-JA14,0))","v":0},{"$f":"IF(JF14=\"W\",$X$3,IF(JF14=\"D\",$AG$3,0))","v":{"v":0,"d":"0.0"}},{"$f":"IF(IZ14>JA14,\"W\",IF(IZ14<JA14,\"L\",IF(IZ14=0,\"\",IF(IZ14=JA14,\"D\",0))))","v":""},8,6,{"$nulls":3},{"$f":"IF(JO14=\"D\",\"D\",IF(JO14=\"W\",JM14,IF(JO14=\"L\",JM14,0)))","v":0},{"$f":"IF(JI14+JJ14=0,0,IF(JI14+JJ14>0.1,JI14-JJ14,0))","v":0},{"$f":"IF(JO14=\"W\",$X$3,IF(JO14=\"D\",$AG$3,0))","v":{"v":0,"d":"0.0"}},{"$f":"IF(JI14>JJ14,\"W\",IF(JI14<JJ14,\"L\",IF(JI14=0,\"\",IF(JI14=JJ14,\"D\",0))))","v":""},{"$nulls":3},{"$f":"IF(JV14=\"D\",\"D\",IF(JV14=\"W\",JT14,IF(JV14=\"L\",JT14,0)))","v":0},{"$f":"IF(JP14+JQ14=0,0,IF(JP14+JQ14>0.1,JP14-JQ14,0))","v":0},{"$f":"IF(JV14=\"W\",1,IF(JV14=\"D\",0.5,0))","v":{"v":0,"d":"0.0"}},{"$f":"IF(JP14>JQ14,\"W\",IF(JP14<JQ14,\"L\",IF(JP14=0,\"\",IF(JP14=JQ14,\"D\",0))))","v":""},10,4,{"$nulls":3},{"$f":"IF(KE14=\"D\",\"D\",IF(KE14=\"W\",KC14,IF(KE14=\"L\",KC14,0)))","v":0},{"$f":"IF(JY14+JZ14=0,0,IF(JY14+JZ14>0.1,JY14-JZ14,0))","v":0},{"$f":"IF(KE14=\"W\",$X$3,IF(KE14=\"D\",$AG$3,0))","v":{"v":0,"d":"0.0"}},{"$f":"IF(JY14>JZ14,\"W\",IF(JY14<JZ14,\"L\",IF(JY14=0,\"\",IF(JY14=JZ14,\"D\",0))))","v":""},12,7,{"$nulls":3},{"$f":"IF(KN14=\"D\",\"D\",IF(KN14=\"W\",KL14,IF(KN14=\"L\",KL14,0)))","v":0},{"$f":"IF(KH14+KI14=0,0,IF(KH14+KI14>0.1,KH14-KI14,0))","v":0},{"$f":"IF(KN14=\"W\",$X$3,IF(KN14=\"D\",$AG$3,0))","v":{"v":0,"d":"0.0"}},{"$f":"IF(KH14>KI14,\"W\",IF(KH14<KI14,\"L\",IF(KH14=0,\"\",IF(KH14=KI14,\"D\",0))))","v":""},14,4,{"$nulls":3},{"$f":"IF(KW14=\"D\",\"D\",IF(KW14=\"W\",KU14,IF(KW14=\"L\",KU14,0)))","v":0},{"$f":"IF(KQ14+KR14=0,0,IF(KQ14+KR14>0.1,KQ14-KR14,0))","v":0},{"$f":"IF(KW14=\"W\",$X$3,IF(KW14=\"D\",$AG$3,0))","v":{"v":0,"d":"0.0"}},{"$f":"IF(KQ14>KR14,\"W\",IF(KQ14<KR14,\"L\",IF(KQ14=0,\"\",IF(KQ14=KR14,\"D\",0))))","v":""},16,1,{"$nulls":3},{"$f":"IF(LF14=\"D\",\"D\",IF(LF14=\"W\",LD14,IF(LF14=\"L\",LD14,0)))","v":0},{"$f":"IF(KZ14+LA14=0,0,IF(KZ14+LA14>0.1,KZ14-LA14,0))","v":0},{"$f":"IF(LF14=\"W\",$X$3,IF(LF14=\"D\",$AG$3,0))","v":{"v":0,"d":"0.0"}},{"$f":"IF(KZ14>LA14,\"W\",IF(KZ14<LA14,\"L\",IF(KZ14=0,\"\",IF(KZ14=LA14,\"D\",0))))","v":""},3,3,{"$nulls":3},{"$f":"IF(LO14=\"D\",\"D\",IF(LO14=\"W\",LM14,IF(LO14=\"L\",LM14,0)))","v":0},{"$f":"IF(LI14+LJ14=0,0,IF(LI14+LJ14>0.1,LI14-LJ14,0))","v":0},{"$f":"IF(LO14=\"W\",$X$3,IF(LO14=\"D\",$AG$3,0))","v":{"v":0,"d":"0.0"}},{"$f":"IF(LI14>LJ14,\"W\",IF(LI14<LJ14,\"L\",IF(LI14=0,\"\",IF(LI14=LJ14,\"D\",0))))","v":""},1,7,{"$nulls":3},{"$f":"IF(LX14=\"D\",\"D\",IF(LX14=\"W\",LV14,IF(LX14=\"L\",LV14,0)))","v":0},{"$f":"IF(LR14+LS14=0,0,IF(LR14+LS14>0.1,LR14-LS14,0))","v":0},{"$f":"IF(LX14=\"W\",$X$3,IF(LX14=\"D\",$AG$3,0))","v":{"v":0,"d":"0.0"}},{"$f":"IF(LR14>LS14,\"W\",IF(LR14<LS14,\"L\",IF(LR14=0,\"\",IF(LR14=LS14,\"D\",0))))","v":""},7,8,{"$nulls":3},{"$f":"IF(MG14=\"D\",\"D\",IF(MG14=\"W\",ME14,IF(MG14=\"L\",ME14,0)))","v":0},{"$f":"IF(MA14+MB14=0,0,IF(MA14+MB14>0.1,MA14-MB14,0))","v":0},{"$f":"IF(MG14=\"W\",$X$3,IF(MG14=\"D\",$AG$3,0))","v":{"v":0,"d":"0.0"}},{"$f":"IF(MA14>MB14,\"W\",IF(MA14<MB14,\"L\",IF(MA14=0,\"\",IF(MA14=MB14,\"D\",0))))","v":""},9,4,{"$nulls":3},{"$f":"IF(MP14=\"D\",\"D\",IF(MP14=\"W\",MN14,IF(MP14=\"L\",MN14,0)))","v":0},{"$f":"IF(MJ14+MK14=0,0,IF(MJ14+MK14>0.1,MJ14-MK14,0))","v":0},{"$f":"IF(MP14=\"W\",$X$3,IF(MP14=\"D\",$AG$3,0))","v":{"v":0,"d":"0.0"}},{"$f":"IF(MJ14>MK14,\"W\",IF(MJ14<MK14,\"L\",IF(MJ14=0,\"\",IF(MJ14=MK14,\"D\",0))))","v":""}]
[null,9,null,{"$f":"Q15+Z15+AI15+AR15+BA15+BJ15+BS15+CB15+CR15+DA15+DJ15+DS15+EB15+EK15+ET15+FC15+FL15+FU15+GK15+GT15+HC15+HL15+HU15+ID15+IM15+IV15+JE15+JN15+JU15+KD15+KM15+KV15+LE15+LN15+LW15+MF15+MO15","v":0},{"$f":"N15+W15+AF15+AO15+AX15+BG15+BP15+BY15+CF15+CO15+CX15+DG15+DP15+DY15+EH15+EQ15+EZ15+FI15+FR15+GH15+GQ15+GZ15+HI15+HR15+IA15+IJ15+IS15+JB15+JK15+KA15+KJ15+KS15+LB15+LK15+LT15+MC15+ML15","v":0},{"$f":"D15+E15","v":0},{"$f":"P15+Y15+AH15+AQ15+AZ15+BI15+BR15+CA15+CQ15+CZ15+DI15+DR15+EA15+EJ15+ES15+FB15+FK15+FT15+GJ15+GS15+HB15+HK15+HT15+IC15+IL15+IU15+JD15+JM15+KC15+KL15+KU15+LD15+LM15+LV15+ME15+MN15","v":0},{"$f":"(D15*1000000)+G15","v":0},{"$f":"IF($H$7:$H$18=0,\"\",RANK(H15,$H$7:$H$18))","v":""},6,5,{"$nulls":3},{"$f":"IF(R15=\"D\",\"D\",IF(R15=\"W\",P15,IF(R15=\"L\",P15,0)))","v":0},{"$f":"IF(L15+M15=0,0,IF(L15+M15>0.1,L15-M15,0))","v":0},{"$f":"IF(R15=\"W\",$X$3,IF(R15=\"D\",$AG$3,0))","v":{"v":0,"d":"0.0"}},{"$f":"IF(L15>M15,\"W\",IF(L15<M15,\"L\",IF(L15=0,\"\",IF(L15=M15,\"D\",0))))","v":""},8,2,{"$nulls":3},{"$f":"IF(AA15=\"D\",\"D\",IF(AA15=\"W\",Y15,IF(AA15=\"L\",Y15,0)))","v":0},{"$f":"IF(U15+V15=0,0,IF(U15+V15>0.1,U15-V15,0))","v":0},{"$f":"IF(AA15=\"W\",$X$3,IF(AA15=\"D\",$AG$3,0))","v":{"v":0,"d":"0.0"}},{"$f":"IF(U15>V15,\"W\",IF(U15<V15,\"L\",IF(U15=0,\"\",IF(U15=V15,\"D\",0))))","v":""},10,6,{"$nulls":3},{"$f":"IF(AJ15=\"D\",\"D\",IF(AJ15=\"W\",AH15,IF(AJ15=\"L\",AH15,0)))","v":0},{"$f":"IF(AD15+AE15=0,0,IF(AD15+AE15>0.1,AD15-AE15,0))","v":0},{"$f":"IF(AJ15=\"W\",$X$3,IF(AJ15=\"D\",$AG$3,0))","v":{"v":0,"d":"0.0"}},{"$f":"IF(AD15>AE15,\"W\",IF(AD15<AE15,\"L\",IF(AD15=0,\"\",IF(AD15=AE15,\"D\",0))))","v":""},12,3,{"$nulls":3},{"$f":"IF(AS15=\"D\",\"D\",IF(AS15=\"W\",AQ15,IF(AS15=\"L\",AQ15,0)))","v":0},{"$f":"IF(AM15+AN15=0,0,IF(AM15+AN15>0.1,AM15-AN15,0))","v":0},{"$f":"IF(AS15=\"W\",$X$3,IF(AS15=\"D\",$AG$3,0))","v":{"v":0,"d":"0.0"}},{"$f":"IF(AM15>AN15,\"W\",IF(AM15<AN15,\"L\",IF(AM15=0,\"\",IF(AM15=AN15,\"D\",0))))","v":""},3,1,{"$nulls":3},{"$f":"IF(BB15=\"D\",\"D\",IF(BB15=\"W\",AZ15,IF(BB15=\"L\",AZ15,0)))","v":0},{"$f":"IF(AV15+AW15=0,0,IF(AV15+AW15>0.1,AV15-AW15,0))","v":0},{"$f":"IF(BB15=\"W\",$X$3,IF(BB15=\"D\",$AG$3,0))","v":{"v":0,"d":"0.0"}},{"$f":"IF(AV15>AW15,\"W\",IF(AV15<AW15,\"L\",IF(AV15=0,\"\",IF(AV15=AW15,\"D\",0))))","v":""},5,2,{"$nulls":3},{"$f":"IF(BK15=\"D\",\"D\",IF(BK15=\"W\",BI15,IF(BK15=\"L\",BI15,0)))","v":0},{"$f":"IF(BE15+BF15=0,0,IF(BE15+BF15>0.1,BE15-BF15,0))","v":0},{"$f":"IF(BK15=\"W\",$X$3,IF(BK15=\"D\",$AG$3,0))","v":{"v":0,"d":"0.0"}},{"$f":"IF(BE15>BF15,\"W\",IF(BE15<BF15,\"L\",IF(BE15=0,\"\",IF(BE15=BF15,\"D\",0))))","v":""},7,1,{"$nulls":3},{"$f":"IF(BT15=\"D\",\"D\",IF(BT15=\"W\",BR15,IF(BT15=\"L\",BR15,0)))","v":0},{"$f":"IF(BN15+BO15=0,0,IF(BN15+BO15>0.1,BN15-BO15,0))","v":0},{"$f":"IF(BT15=\"W\",$X$3,IF(BT15=\"D\",$AG$3,0))","v":{"v":0,"d":"0.0"}},{"$f":"IF(BN15>BO15,\"W\",IF(BN15<BO15,\"L\",IF(BN15=0,\"\",IF(BN15=BO15,\"D\",0))))","v":""},1,6,{"$nulls":3},{"$f":"IF(CC15=\"D\",\"D\",IF(CC15=\"W\",CA15,IF(CC15=\"L\",CA15,0)))","v":0},{"$f":"IF(BW15+BX15=0,0,IF(BW15+BX15>0.1,BW15-BX15,0))","v":0},{"$f":"IF(CC15=\"W\",$X$3,IF(CC15=\"D\",$AG$3,0))","v":{"v":0,"d":"0.0"}},{"$f":"IF(BW15>BX15,\"W\",IF(BW15<BX15,\"L\",IF(BW15=0,\"\",IF(BW15=BX15,\"D\",0))))","v":""},{"$nulls":3},{"$f":"IF(CJ15=\"D\",\"D\",IF(CJ15=\"W\",CH15,IF(CJ15=\"L\",CH15,0)))","v":0},{"$f":"IF(CD15+CE15=0,0,IF(CD15+CE15>0.1,CD15-CE15,0))","v":0},{"$f":"IF(CJ15=\"W\",1,IF(CJ15=\"D\",0.5,0))","v":{"v":0,"d":"0.0"}},{"$f":"IF(CD15>CE15,\"W\",IF(CD15<CE15,\"L\",IF(CD15=0,\"\",IF(CD15=CE15,\"D\",0))))","v":""},11,4,{"$nulls":3},{"$f":"IF(CS15=\"D\",\"D\",IF(CS15=\"W\",CQ15,IF(CS15=\"L\",CQ15,0)))","v":0},{"$f":"IF(CM15+CN15=0,0,IF(CM15+CN15>0.1,CM15-CN15,0))","v":0},{"$f":"IF(CS15=\"W\",$X$3,IF(CS15=\"D\",$AG$3,0))","v":{"v":0,"d":"0.0"}},{"$f":"IF(CM15>CN15,\"W\",IF(CM15<CN15,\"L\",IF(CM15=0,\"\",IF(CM15=CN15,\"D\",0))))","v":""},2,3,{"$nulls":3},{"$f":"IF(DB15=\"D\",\"D\",IF(DB15=\"W\",CZ15,IF(DB15=\"L\",CZ15,0)))","v":0},{"$f":"IF(CV15+CW15=0,0,IF(CV15+CW15>0.1,CV15-CW15,0))","v":0},{"$f":"IF(DB15=\"W\",$X$3,IF(DB15=\"D\",$AG$3,0))","v":{"v":0,"d":"0.0"}},{"$f":"IF(CV15>CW15,\"W\",IF(CV15<CW15,\"L\",IF(CV15=0,\"\",IF(CV15=CW15,\"D\",0))))","v":""},15,5,{"$nulls":3},{"$f":"IF(DK15=\"D\",\"D\",IF(DK15=\"W\",DI15,IF(DK15=\"L\",DI15,0)))","v":0},{"$f":"IF(DE15+DF15=0,0,IF(DE15+DF15>0.1,DE15-DF15,0))","v":0},{"$f":"IF(DK15=\"W\",$X$3,IF(DK15=\"D\",$AG$3,0))","v":{"v":0,"d":"0.0"}},{"$f":"IF(DE15>DF15,\"W\",IF(DE15<DF15,\"L\",IF(DE15=0,\"\",IF(DE15=DF15,\"D\",0))))","v":""},2,2,{"$nulls":3},{"$f":"IF(DT15=\"D\",\"D\",IF(DT15=\"W\",DR15,IF(DT15=\"L\",DR15,0)))","v":0},{"$f":"IF(DN15+DO15=0,0,IF(DN15+DO15>0.1,DN15-DO15,0))","v":0},{"$f":"IF(DT15=\"W\",$X$3,IF(DT15=\"D\",$AG$3,0))","v":{"v":0,"d":"0.0"}},{"$f":"IF(DN15>DO15,\"W\",IF(DN15<DO15,\"L\",IF(DN15=0,\"\",IF(DN15=DO15,\"D\",0))))","v":""},4,1,{"$nulls":3},{"$f":"IF(EC15=\"D\",\"D\",IF(EC15=\"W\",EA15,IF(EC15=\"L\",EA15,0)))","v":0},{"$f":"IF(DW15+DX15=0,0,IF(DW15+DX15>0.1,DW15-DX15,0))","v":0},{"$f":"IF(EC15=\"W\",$X$3,IF(EC15=\"D\",$AG$3,0))","v":{"v":0,"d":"0.0"}},{"$f":"IF(DW15>DX15,\"W\",IF(DW15<DX15,\"L\",IF(DW15=0,\"\",IF(DW15=DX15,\"D\",0))))","v":""},6,6,{"$nulls":3},{"$f":"IF(EL15=\"D\",\"D\",IF(EL15=\"W\",EJ15,IF(EL15=\"L\",EJ15,0)))","v":0},{"$f":"IF(EF15+EG15=0,0,IF(EF15+EG15>0.1,EF15-EG15,0))","v":0},{"$f":"IF(EL15=\"W\",$X$3,IF(EL15=\"D\",$AG$3,0))","v":{"v":0,"d":"0.0"}},{"$f":"IF(EF15>EG15,\"W\",IF(EF15<EG15,\"L\",IF(EF15=0,\"\",IF(EF15=EG15,\"D\",0))))","v":""},8,5,{"$nulls":3},{"$f":"IF(EU15=\"D\",\"D\",IF(EU15=\"W\",ES15,IF(EU15=\"L\",ES15,0)))","v":0},{"$f":"IF(EO15+EP15=0,0,IF(EO15+EP15>0.1,EO15-EP15,0))","v":0},{"$f":"IF(EU15=\"W\",$X$3,IF(EU15=\"D\",$AG$3,0))","v":{"v":0,"d":"0.0"}},{"$f":"IF(EO15>EP15,\"W\",IF(EO15<EP15,\"L\",IF(EO15=0,\"\",IF(EO15=EP15,\"D\",0))))","v":""},10,8,{"$nulls":3},{"$f":"IF(FD15=\"D\",\"D\",IF(FD15=\"W\",FB15,IF(FD15=\"L\",FB15,0)))","v":0},{"$f":"IF(EX15+EY15=0,0,IF(EX15+EY15>0.1,EX15-EY15,0))","v":0},{"$f":"IF(FD15=\"W\",$X$3,IF(FD15=\"D\",$AG$3,0))","v":{"v":0,"d":"0.0"}},{"$f":"IF(EX15>EY15,\"W\",IF(EX15<EY15,\"L\",IF(EX15=0,\"\",IF(EX15=EY15,\"D\",0))))","v":""},12,2,{"$nulls":3},{"$f":"IF(FM15=\"D\",\"D\",IF(FM15=\"W\",FK15,IF(FM15=\"L\",FK15,0)))","v":0},{"$f":"IF(FG15+FH15=0,0,IF(FG15+FH15>0.1,FG15-FH15,0))","v":0},{"$f":"IF(FM15=\"W\",$X$3,IF(FM15=\"D\",$AG$3,0))","v":{"v":0,"d":"0.0"}},{"$f":"IF(FG15>FH15,\"W\",IF(FG15<FH15,\"L\",IF(FG15=0,\"\",IF(FG15=FH15,\"D\",0))))","v":""},14,1,{"$nulls":3},{"$f":"IF(FV15=\"D\",\"D\",IF(FV15=\"W\",FT15,IF(FV15=\"L\",FT15,0)))","v":0},{"$f":"IF(FP15+FQ15=0,0,IF(FP15+FQ15>0.1,FP15-FQ15,0))","v":0},{"$f":"IF(FV15=\"W\",$X$3,IF(FV15=\"D\",$AG$3,0))","v":{"v":0,"d":"0.0"}},{"$f":"IF(FP15>FQ15,\"W\",IF(FP15<FQ15,\"L\",IF(FP15=0,\"\",IF(FP15=FQ15,\"D\",0))))","v":""},{"$nulls":3},{"$f":"IF(GC15=\"D\",\"D\",IF(GC15=\"W\",GA15,IF(GC15=\"L\",GA15,0)))","v":0},{"$f":"IF(FW15+FX15=0,0,IF(FW15+FX15>0.1,FW15-FX15,0))","v":0},{"$f":"IF(GC15=\"W\",1,IF(GC15=\"D\",0.5,0))","v":{"v":0,"d":"0.0"}},{"$f":"IF(FW15>FX15,\"W\",IF(FW15<FX15,\"L\",IF(FW15=0,\"\",IF(FW15=FX15,\"D\",0))))","v":""},16,6,{"$nulls":3},{"$f":"IF(GL15=\"D\",\"D\",IF(GL15=\"W\",GJ15,IF(GL15=\"L\",GJ15,0)))","v":0},{"$f":"IF(GF15+GG15=0,0,IF(GF15+GG15>0.1,GF15-GG15,0))","v":0},{"$f":"IF(GL15=\"W\",$X$3,IF(GL15=\"D\",$AG$3,0))","v":{"v":0,"d":"0.0"}},{"$f":"IF(GF15>GG15,\"W\",IF(GF15<GG15,\"L\",IF(GF15=0,\"\",IF(GF15=GG15,\"D\",0))))","v":""},3,5,{"$nulls":3},{"$f":"IF(GU15=\"D\",\"D\",IF(GU15=\"W\",GS15,IF(GU15=\"L\",GS15,0)))","v":0},{"$f":"IF(GO15+GP15=0,0,IF(GO15+GP15>0.1,GO15-GP15,0))","v":0},{"$f":"IF(GU15=\"W\",$X$3,IF(GU15=\"D\",$AG$3,0))","v":{"v":0,"d":"0.0"}},{"$f":"IF(GO15>GP15,\"W\",IF(GO15<GP15,\"L\",IF(GO15=0,\"\",IF(GO15=GP15,\"D\",0))))","v":""},15,3,{"$nulls":3},{"$f":"IF(HD15=\"D\",\"D\",IF(HD15=\"W\",HB15,IF(HD15=\"L\",HB15,0)))","v":0},{"$f":"IF(GX15+GY15=0,0,IF(GX15+GY15>0.1,GX15-GY15,0))","v":0},{"$f":"IF(HD15=\"W\",$X$3,IF(HD15=\"D\",$AG$3,0))","v":{"v":0,"d":"0.0"}},{"$f":"IF(GX15>GY15,\"W\",IF(GX15<GY15,\"L\",IF(GX15=0,\"\",IF(GX15=GY15,\"D\",0))))","v":""},2,4,{"$nulls":3},{"$f":"IF(HM15=\"D\",\"D\",IF(HM15=\"W\",HK15,IF(HM15=\"L\",HK15,0)))","v":0},{"$f":"IF(HG15+HH15=0,0,IF(HG15+HH15>0.1,HG15-HH15,0))","v":0},{"$f":"IF(HM15=\"W\",$X$3,IF(HM15=\"D\",$AG$3,0))","v":{"v":0,"d":"0.0"}},{"$f":"IF(HG15>HH15,\"W\",IF(HG15<HH15,\"L\",IF(HG15=0,\"\",IF(HG15=HH15,\"D\",0))))","v":""},4,2,{"$nulls":3},{"$f":"IF(HV15=\"D\",\"D\",IF(HV15=\"W\",HT15,IF(HV15=\"L\",HT15,0)))","v":0},{"$f":"IF(HP15+HQ15=0,0,IF(HP15+HQ15>0.1,HP15-HQ15,0))","v":0},{"$f":"IF(HV15=\"W\",$X$3,IF(HV15=\"D\",$AG$3,0))","v":{"v":0,"d":"0.0"}},{"$f":"IF(HP15>HQ15,\"W\",IF(HP15<HQ15,\"L\",IF(HP15=0,\"\",IF(HP15=HQ15,\"D\",0))))","v":""},6,5,{"$nulls":3},{"$f":"IF(IE15=\"D\",\"D\",IF(IE15=\"W\",IC15,IF(IE15=\"L\",IC15,0)))","v":0},{"$f":"IF(HY15+HZ15=0,0,IF(HY15+HZ15>0.1,HY15-HZ15,0))","v":0},{"$f":"IF(IE15=\"W\",$X$3,IF(IE15=\"D\",$AG$3,0))","v":{"v":0,"d":"0.0"}},{"$f":"IF(HY15>HZ15,\"W\",IF(HY15<HZ15,\"L\",IF(HY15=0,\"\",IF(HY15=HZ15,\"D\",0))))","v":""},8,6,{"$nulls":3},{"$f":"IF(IN15=\"D\",\"D\",IF(IN15=\"W\",IL15,IF(IN15=\"L\",IL15,0)))","v":0},{"$f":"IF(IH15+II15=0,0,IF(IH15+II15>0.1,IH15-II15,0))","v":0},{"$f":"IF(IN15=\"W\",$X$3,IF(IN15=\"D\",$AG$3,0))","v":{"v":0,"d":"0.0"}},{"$f":"IF(IH15>II15,\"W\",IF(IH15<II15,\"L\",IF(IH15=0,\"\",IF(IH15=II15,\"D\",0))))","v":""},10,8,{"$nulls":3},{"$f":"IF(IW15=\"D\",\"D\",IF(IW15=\"W\",IU15,IF(IW15=\"L\",IU15,0)))","v":0},{"$f":"IF(IQ15+IR15=0,0,IF(IQ15+IR15>0.1,IQ15-IR15,0))","v":0},{"$f":"IF(IW15=\"W\",$X$3,IF(IW15=\"D\",$AG$3,0))","v":{"v":0,"d":"0.0"}},{"$f":"IF(IQ15>IR15,\"W\",IF(IQ15<IR15,\"L\",IF(IQ15=0,\"\",IF(IQ15=IR15,\"D\",0))))","v":""},12,1,{"$nulls":3},{"$f":"IF(JF15=\"D\",\"D\",IF(JF15=\"W\",JD15,IF(JF15=\"L\",JD15,0)))","v":0},{"$f":"IF(IZ15+JA15=0,0,IF(IZ15+JA15>0.1,IZ15-JA15,0))","v":0},{"$f":"IF(JF15=\"W\",$X$3,IF(JF15=\"D\",$AG$3,0))","v":{"v":0,"d":"0.0"}},{"$f":"IF(IZ15>JA15,\"W\",IF(IZ15<JA15,\"L\",IF(IZ15=0,\"\",IF(IZ15=JA15,\"D\",0))))","v":""},1,4,{"$nulls":3},{"$f":"IF(JO15=\"D\",\"D\",IF(JO15=\"W\",JM15,IF(JO15=\"L\",JM15,0)))","v":0},{"$f":"IF(JI15+JJ15=0,0,IF(JI15+JJ15>0.1,JI15-JJ15,0))","v":0},{"$f":"IF(JO15=\"W\",$X$3,IF(JO15=\"D\",$AG$3,0))","v":{"v":0,"d":"0.0"}},{"$f":"IF(JI15>JJ15,\"W\",IF(JI15<JJ15,\"L\",IF(JI15=0,\"\",IF(JI15=JJ15,\"D\",0))))","v":""},{"$nulls":3},{"$f":"IF(JV15=\"D\",\"D\",IF(JV15=\"W\",JT15,IF(JV15=\"L\",JT15,0)))","v":0},{"$f":"IF(JP15+JQ15=0,0,IF(JP15+JQ15>0.1,JP15-JQ15,0))","v":0},{"$f":"IF(JV15=\"W\",1,IF(JV15=\"D\",0.5,0))","v":{"v":0,"d":"0.0"}},{"$f":"IF(JP15>JQ15,\"W\",IF(JP15<JQ15,\"L\",IF(JP15=0,\"\",IF(JP15=JQ15,\"D\",0))))","v":""},16,3,{"$nulls":3},{"$f":"IF(KE15=\"D\",\"D\",IF(KE15=\"W\",KC15,IF(KE15=\"L\",KC15,0)))","v":0},{"$f":"IF(JY15+JZ15=0,0,IF(JY15+JZ15>0.1,JY15-JZ15,0))","v":0},{"$f":"IF(KE15=\"W\",$X$3,IF(KE15=\"D\",$AG$3,0))","v":{"v":0,"d":"0.0"}},{"$f":"IF(JY15>JZ15,\"W\",IF(JY15<JZ15,\"L\",IF(JY15=0,\"\",IF(JY15=JZ15,\"D\",0))))","v":""},3,2,{"$nulls":3},{"$f":"IF(KN15=\"D\",\"D\",IF(KN15=\"W\",KL15,IF(KN15=\"L\",KL15,0)))","v":0},{"$f":"IF(KH15+KI15=0,0,IF(KH15+KI15>0.1,KH15-KI15,0))","v":0},{"$f":"IF(KN15=\"W\",$X$3,IF(KN15=\"D\",$AG$3,0))","v":{"v":0,"d":"0.0"}},{"$f":"IF(KH15>KI15,\"W\",IF(KH15<KI15,\"L\",IF(KH15=0,\"\",IF(KH15=KI15,\"D\",0))))","v":""},5,4,{"$nulls":3},{"$f":"IF(KW15=\"D\",\"D\",IF(KW15=\"W\",KU15,IF(KW15=\"L\",KU15,0)))","v":0},{"$f":"IF(KQ15+KR15=0,0,IF(KQ15+KR15>0.1,KQ15-KR15,0))","v":0},{"$f":"IF(KW15=\"W\",$X$3,IF(KW15=\"D\",$AG$3,0))","v":{"v":0,"d":"0.0"}},{"$f":"IF(KQ15>KR15,\"W\",IF(KQ15<KR15,\"L\",IF(KQ15=0,\"\",IF(KQ15=KR15,\"D\",0))))","v":""},7,7,{"$nulls":3},{"$f":"IF(LF15=\"D\",\"D\",IF(LF15=\"W\",LD15,IF(LF15=\"L\",LD15,0)))","v":0},{"$f":"IF(KZ15+LA15=0,0,IF(KZ15+LA15>0.1,KZ15-LA15,0))","v":0},{"$f":"IF(LF15=\"W\",$X$3,IF(LF15=\"D\",$AG$3,0))","v":{"v":0,"d":"0.0"}},{"$f":"IF(KZ15>LA15,\"W\",IF(KZ15<LA15,\"L\",IF(KZ15=0,\"\",IF(KZ15=LA15,\"D\",0))))","v":""},9,1,{"$nulls":3},{"$f":"IF(LO15=\"D\",\"D\",IF(LO15=\"W\",LM15,IF(LO15=\"L\",LM15,0)))","v":0},{"$f":"IF(LI15+LJ15=0,0,IF(LI15+LJ15>0.1,LI15-LJ15,0))","v":0},{"$f":"IF(LO15=\"W\",$X$3,IF(LO15=\"D\",$AG$3,0))","v":{"v":0,"d":"0.0"}},{"$f":"IF(LI15>LJ15,\"W\",IF(LI15<LJ15,\"L\",IF(LI15=0,\"\",IF(LI15=LJ15,\"D\",0))))","v":""},11,2,{"$nulls":3},{"$f":"IF(LX15=\"D\",\"D\",IF(LX15=\"W\",LV15,IF(LX15=\"L\",LV15,0)))","v":0},{"$f":"IF(LR15+LS15=0,0,IF(LR15+LS15>0.1,LR15-LS15,0))","v":0},{"$f":"IF(LX15=\"W\",$X$3,IF(LX15=\"D\",$AG$3,0))","v":{"v":0,"d":"0.0"}},{"$f":"IF(LR15>LS15,\"W\",IF(LR15<LS15,\"L\",IF(LR15=0,\"\",IF(LR15=LS15,\"D\",0))))","v":""},13,6,{"$nulls":3},{"$f":"IF(MG15=\"D\",\"D\",IF(MG15=\"W\",ME15,IF(MG15=\"L\",ME15,0)))","v":0},{"$f":"IF(MA15+MB15=0,0,IF(MA15+MB15>0.1,MA15-MB15,0))","v":0},{"$f":"IF(MG15=\"W\",$X$3,IF(MG15=\"D\",$AG$3,0))","v":{"v":0,"d":"0.0"}},{"$f":"IF(MA15>MB15,\"W\",IF(MA15<MB15,\"L\",IF(MA15=0,\"\",IF(MA15=MB15,\"D\",0))))","v":""},15,3,{"$nulls":3},{"$f":"IF(MP15=\"D\",\"D\",IF(MP15=\"W\",MN15,IF(MP15=\"L\",MN15,0)))","v":0},{"$f":"IF(MJ15+MK15=0,0,IF(MJ15+MK15>0.1,MJ15-MK15,0))","v":0},{"$f":"IF(MP15=\"W\",$X$3,IF(MP15=\"D\",$AG$3,0))","v":{"v":0,"d":"0.0"}},{"$f":"IF(MJ15>MK15,\"W\",IF(MJ15<MK15,\"L\",IF(MJ15=0,\"\",IF(MJ15=MK15,\"D\",0))))","v":""}]
[null,10,null,{"$f":"Q16+Z16+AI16+AR16+BA16+BJ16+BS16+CB16+CR16+DA16+DJ16+DS16+EB16+EK16+ET16+FC16+FL16+FU16+GK16+GT16+HC16+HL16+HU16+ID16+IM16+IV16+JE16+JN16+JU16+KD16+KM16+KV16+LE16+LN16+LW16+MF16+MO16","v":0},{"$f":"N16+W16+AF16+AO16+AX16+BG16+BP16+BY16+CF16+CO16+CX16+DG16+DP16+DY16+EH16+EQ16+EZ16+FI16+FR16+GH16+GQ16+GZ16+HI16+HR16+IA16+IJ16+IS16+JB16+JK16+KA16+KJ16+KS16+LB16+LK16+LT16+MC16+ML16","v":0},{"$f":"D16+E16","v":0},{"$f":"P16+Y16+AH16+AQ16+AZ16+BI16+BR16+CA16+CQ16+CZ16+DI16+DR16+EA16+EJ16+ES16+FB16+FK16+FT16+GJ16+GS16+HB16+HK16+HT16+IC16+IL16+IU16+JD16+JM16+KC16+KL16+KU16+LD16+LM16+LV16+ME16+MN16","v":0},{"$f":"(D16*1000000)+G16","v":0},{"$f":"IF($H$7:$H$18=0,\"\",RANK(H16,$H$7:$H$18))","v":""},5,4,{"$nulls":3},{"$f":"IF(R16=\"D\",\"D\",IF(R16=\"W\",P16,IF(R16=\"L\",P16,0)))","v":0},{"$f":"IF(L16+M16=0,0,IF(L16+M16>0.1,L16-M16,0))","v":0},{"$f":"IF(R16=\"W\",$X$3,IF(R16=\"D\",$AG$3,0))","v":{"v":0,"d":"0.0"}},{"$f":"IF(L16>M16,\"W\",IF(L16<M16,\"L\",IF(L16=0,\"\",IF(L16=M16,\"D\",0))))","v":""},7,5,{"$nulls":3},{"$f":"IF(AA16=\"D\",\"D\",IF(AA16=\"W\",Y16,IF(AA16=\"L\",Y16,0)))","v":0},{"$f":"IF(U16+V16=0,0,IF(U16+V16>0.1,U16-V16,0))","v":0},{"$f":"IF(AA16=\"W\",$X$3,IF(AA16=\"D\",$AG$3,0))","v":{"v":0,"d":"0.0"}},{"$f":"IF(U16>V16,\"W\",IF(U16<V16,\"L\",IF(U16=0,\"\",IF(U16=V16,\"D\",0))))","v":""},9,6,{"$nulls":3},{"$f":"IF(AJ16=\"D\",\"D\",IF(AJ16=\"W\",AH16,IF(AJ16=\"L\",AH16,0)))","v":0},{"$f":"IF(AD16+AE16=0,0,IF(AD16+AE16>0.1,AD16-AE16,0))","v":0},{"$f":"IF(AJ16=\"W\",$X$3,IF(AJ16=\"D\",$AG$3,0))","v":{"v":0,"d":"0.0"}},{"$f":"IF(AD16>AE16,\"W\",IF(AD16<AE16,\"L\",IF(AD16=0,\"\",IF(AD16=AE16,\"D\",0))))","v":""},11,4,{"$nulls":3},{"$f":"IF(AS16=\"D\",\"D\",IF(AS16=\"W\",AQ16,IF(AS16=\"L\",AQ16,0)))","v":0},{"$f":"IF(AM16+AN16=0,0,IF(AM16+AN16>0.1,AM16-AN16,0))","v":0},{"$f":"IF(AS16=\"W\",$X$3,IF(AS16=\"D\",$AG$3,0))","v":{"v":0,"d":"0.0"}},{"$f":"IF(AM16>AN16,\"W\",IF(AM16<AN16,\"L\",IF(AM16=0,\"\",IF(AM16=AN16,\"D\",0))))","v":""},2,2,{"$nulls":3},{"$f":"IF(BB16=\"D\",\"D\",IF(BB16=\"W\",AZ16,IF(BB16=\"L\",AZ16,0)))","v":0},{"$f":"IF(AV16+AW16=0,0,IF(AV16+AW16>0.1,AV16-AW16,0))","v":0},{"$f":"IF(BB16=\"W\",$X$3,IF(BB16=\"D\",$AG$3,0))","v":{"v":0,"d":"0.0"}},{"$f":"IF(AV16>AW16,\"W\",IF(AV16<AW16,\"L\",IF(AV16=0,\"\",IF(AV16=AW16,\"D\",0))))","v":""},4,1,{"$nulls":3},{"$f":"IF(BK16=\"D\",\"D\",IF(BK16=\"W\",BI16,IF(BK16=\"L\",BI16,0)))","v":0},{"$f":"IF(BE16+BF16=0,0,IF(BE16+BF16>0.1,BE16-BF16,0))","v":0},{"$f":"IF(BK16=\"W\",$X$3,IF(BK16=\"D\",$AG$3,0))","v":{"v":0,"d":"0.0"}},{"$f":"IF(BE16>BF16,\"W\",IF(BE16<BF16,\"L\",IF(BE16=0,\"\",IF(BE16=BF16,\"D\",0))))","v":""},6,2,{"$nulls":3},{"$f":"IF(BT16=\"D\",\"D\",IF(BT16=\"W\",BR16,IF(BT16=\"L\",BR16,0)))","v":0},{"$f":"IF(BN16+BO16=0,0,IF(BN16+BO16>0.1,BN16-BO16,0))","v":0},{"$f":"IF(BT16=\"W\",$X$3,IF(BT16=\"D\",$AG$3,0))","v":{"v":0,"d":"0.0"}},{"$f":"IF(BN16>BO16,\"W\",IF(BN16<BO16,\"L\",IF(BN16=0,\"\",IF(BN16=BO16,\"D\",0))))","v":""},8,3,{"$nulls":3},{"$f":"IF(CC16=\"D\",\"D\",IF(CC16=\"W\",CA16,IF(CC16=\"L\",CA16,0)))","v":0},{"$f":"IF(BW16+BX16=0,0,IF(BW16+BX16>0.1,BW16-BX16,0))","v":0},{"$f":"IF(CC16=\"W\",$X$3,IF(CC16=\"D\",$AG$3,0))","v":{"v":0,"d":"0.0"}},{"$f":"IF(BW16>BX16,\"W\",IF(BW16<BX16,\"L\",IF(BW16=0,\"\",IF(BW16=BX16,\"D\",0))))","v":""},{"$nulls":3},{"$f":"IF(CJ16=\"D\",\"D\",IF(CJ16=\"W\",CH16,IF(CJ16=\"L\",CH16,0)))","v":0},{"$f":"IF(CD16+CE16=0,0,IF(CD16+CE16>0.1,CD16-CE16,0))","v":0},{"$f":"IF(CJ16=\"W\",1,IF(CJ16=\"D\",0.5,0))","v":{"v":0,"d":"0.0"}},{"$f":"IF(CD16>CE16,\"W\",IF(CD16<CE16,\"L\",IF(CD16=0,\"\",IF(CD16=CE16,\"D\",0))))","v":""},1,5,{"$nulls":3},{"$f":"IF(CS16=\"D\",\"D\",IF(CS16=\"W\",CQ16,IF(CS16=\"L\",CQ16,0)))","v":0},{"$f":"IF(CM16+CN16=0,0,IF(CM16+CN16>0.1,CM16-CN16,0))","v":0},{"$f":"IF(CS16=\"W\",$X$3,IF(CS16=\"D\",$AG$3,0))","v":{"v":0,"d":"0.0"}},{"$f":"IF(CM16>CN16,\"W\",IF(CM16<CN16,\"L\",IF(CM16=0,\"\",IF(CM16=CN16,\"D\",0))))","v":""},12,4,{"$nulls":3},{"$f":"IF(DB16=\"D\",\"D\",IF(DB16=\"W\",CZ16,IF(DB16=\"L\",CZ16,0)))","v":0},{"$f":"IF(CV16+CW16=0,0,IF(CV16+CW16>0.1,CV16-CW16,0))","v":0},{"$f":"IF(DB16=\"W\",$X$3,IF(DB16=\"D\",$AG$3,0))","v":{"v":0,"d":"0.0"}},{"$f":"IF(CV16>CW16,\"W\",IF(CV16<CW16,\"L\",IF(CV16=0,\"\",IF(CV16=CW16,\"D\",0))))","v":""},14,8,{"$nulls":3},{"$f":"IF(DK16=\"D\",\"D\",IF(DK16=\"W\",DI16,IF(DK16=\"L\",DI16,0)))","v":0},{"$f":"IF(DE16+DF16=0,0,IF(DE16+DF16>0.1,DE16-DF16,0))","v":0},{"$f":"IF(DK16=\"W\",$X$3,IF(DK16=\"D\",$AG$3,0))","v":{"v":0,"d":"0.0"}},{"$f":"IF(DE16>DF16,\"W\",IF(DE16<DF16,\"L\",IF(DE16=0,\"\",IF(DE16=DF16,\"D\",0))))","v":""},16,5,{"$nulls":3},{"$f":"IF(DT16=\"D\",\"D\",IF(DT16=\"W\",DR16,IF(DT16=\"L\",DR16,0)))","v":0},{"$f":"IF(DN16+DO16=0,0,IF(DN16+DO16>0.1,DN16-DO16,0))","v":0},{"$f":"IF(DT16=\"W\",$X$3,IF(DT16=\"D\",$AG$3,0))","v":{"v":0,"d":"0.0"}},{"$f":"IF(DN16>DO16,\"W\",IF(DN16<DO16,\"L\",IF(DN16=0,\"\",IF(DN16=DO16,\"D\",0))))","v":""},3,3,{"$nulls":3},{"$f":"IF(EC16=\"D\",\"D\",IF(EC16=\"W\",EA16,IF(EC16=\"L\",EA16,0)))","v":0},{"$f":"IF(DW16+DX16=0,0,IF(DW16+DX16>0.1,DW16-DX16,0))","v":0},{"$f":"IF(EC16=\"W\",$X$3,IF(EC16=\"D\",$AG$3,0))","v":{"v":0,"d":"0.0"}},{"$f":"IF(DW16>DX16,\"W\",IF(DW16<DX16,\"L\",IF(DW16=0,\"\",IF(DW16=DX16,\"D\",0))))","v":""},5,4,{"$nulls":3},{"$f":"IF(EL16=\"D\",\"D\",IF(EL16=\"W\",EJ16,IF(EL16=\"L\",EJ16,0)))","v":0},{"$f":"IF(EF16+EG16=0,0,IF(EF16+EG16>0.1,EF16-EG16,0))","v":0},{"$f":"IF(EL16=\"W\",$X$3,IF(EL16=\"D\",$AG$3,0))","v":{"v":0,"d":"0.0"}},{"$f":"IF(EF16>EG16,\"W\",IF(EF16<EG16,\"L\",IF(EF16=0,\"\",IF(EF16=EG16,\"D\",0))))","v":""},7,8,{"$nulls":3},{"$f":"IF(EU16=\"D\",\"D\",IF(EU16=\"W\",ES16,IF(EU16=\"L\",ES16,0)))","v":0},{"$f":"IF(EO16+EP16=0,0,IF(EO16+EP16>0.1,EO16-EP16,0))","v":0},{"$f":"IF(EU16=\"W\",$X$3,IF(EU16=\"D\",$AG$3,0))","v":{"v":0,"d":"0.0"}},{"$f":"IF(EO16>EP16,\"W\",IF(EO16<EP16,\"L\",IF(EO16=0,\"\",IF(EO16=EP16,\"D\",0))))","v":""},9,8,{"$nulls":3},{"$f":"IF(FD16=\"D\",\"D\",IF(FD16=\"W\",FB16,IF(FD16=\"L\",FB16,0)))","v":0},{"$f":"IF(EX16+EY16=0,0,IF(EX16+EY16>0.1,EX16-EY16,0))","v":0},{"$f":"IF(FD16=\"W\",$X$3,IF(FD16=\"D\",$AG$3,0))","v":{"v":0,"d":"0.0"}},{"$f":"IF(EX16>EY16,\"W\",IF(EX16<EY16,\"L\",IF(EX16=0,\"\",IF(EX16=EY16,\"D\",0))))","v":""},11,3,{"$nulls":3},{"$f":"IF(FM16=\"D\",\"D\",IF(FM16=\"W\",FK16,IF(FM16=\"L\",FK16,0)))","v":0},{"$f":"IF(FG16+FH16=0,0,IF(FG16+FH16>0.1,FG16-FH16,0))","v":0},{"$f":"IF(FM16=\"W\",$X$3,IF(FM16=\"D\",$AG$3,0))","v":{"v":0,"d":"0.0"}},{"$f":"IF(FG16>FH16,\"W\",IF(FG16<FH16,\"L\",IF(FG16=0,\"\",IF(FG16=FH16,\"D\",0))))","v":""},13,7,{"$nulls":3},{"$f":"IF(FV16=\"D\",\"D\",IF(FV16=\"W\",FT16,IF(FV16=\"L\",FT16,0)))","v":0},{"$f":"IF(FP16+FQ16=0,0,IF(FP16+FQ16>0.1,FP16-FQ16,0))","v":0},{"$f":"IF(FV16=\"W\",$X$3,IF(FV16=\"D\",$AG$3,0))","v":{"v":0,"d":"0.0"}},{"$f":"IF(FP16>FQ16,\"W\",IF(FP16<FQ16,\"L\",IF(FP16=0,\"\",IF(FP16=FQ16,\"D\",0))))","v":""},{"$nulls":3},{"$f":"IF(GC16=\"D\",\"D\",IF(GC16=\"W\",GA16,IF(GC16=\"L\",GA16,0)))","v":0},{"$f":"IF(FW16+FX16=0,0,IF(FW16+FX16>0.1,FW16-FX16,0))","v":0},{"$f":"IF(GC16=\"W\",1,IF(GC16=\"D\",0.5,0))","v":{"v":0,"d":"0.0"}},{"$f":"IF(FW16>FX16,\"W\",IF(FW16<FX16,\"L\",IF(FW16=0,\"\",IF(FW16=FX16,\"D\",0))))","v":""},15,5,{"$nulls":3},{"$f":"IF(GL16=\"D\",\"D\",IF(GL16=\"W\",GJ16,IF(GL16=\"L\",GJ16,0)))","v":0},{"$f":"IF(GF16+GG16=0,0,IF(GF16+GG16>0.1,GF16-GG16,0))","v":0},{"$f":"IF(GL16=\"W\",$X$3,IF(GL16=\"D\",$AG$3,0))","v":{"v":0,"d":"0.0"}},{"$f":"IF(GF16>GG16,\"W\",IF(GF16<GG16,\"L\",IF(GF16=0,\"\",IF(GF16=GG16,\"D\",0))))","v":""},2,4,{"$nulls":3},{"$f":"IF(GU16=\"D\",\"D\",IF(GU16=\"W\",GS16,IF(GU16=\"L\",GS16,0)))","v":0},{"$f":"IF(GO16+GP16=0,0,IF(GO16+GP16>0.1,GO16-GP16,0))","v":0},{"$f":"IF(GU16=\"W\",$X$3,IF(GU16=\"D\",$AG$3,0))","v":{"v":0,"d":"0.0"}},{"$f":"IF(GO16>GP16,\"W\",IF(GO16<GP16,\"L\",IF(GO16=0,\"\",IF(GO16=GP16,\"D\",0))))","v":""},3,1,{"$nulls":3},{"$f":"IF(HD16=\"D\",\"D\",IF(HD16=\"W\",HB16,IF(HD16=\"L\",HB16,0)))","v":0},{"$f":"IF(GX16+GY16=0,0,IF(GX16+GY16>0.1,GX16-GY16,0))","v":0},{"$f":"IF(HD16=\"W\",$X$3,IF(HD16=\"D\",$AG$3,0))","v":{"v":0,"d":"0.0"}},{"$f":"IF(GX16>GY16,\"W\",IF(GX16<GY16,\"L\",IF(GX16=0,\"\",IF(GX16=GY16,\"D\",0))))","v":""},5,3,{"$nulls":3},{"$f":"IF(HM16=\"D\",\"D\",IF(HM16=\"W\",HK16,IF(HM16=\"L\",HK16,0)))","v":0},{"$f":"IF(HG16+HH16=0,0,IF(HG16+HH16>0.1,HG16-HH16,0))","v":0},{"$f":"IF(HM16=\"W\",$X$3,IF(HM16=\"D\",$AG$3,0))","v":{"v":0,"d":"0.0"}},{"$f":"IF(HG16>HH16,\"W\",IF(HG16<HH16,\"L\",IF(HG16=0,\"\",IF(HG16=HH16,\"D\",0))))","v":""},7,6,{"$nulls":3},{"$f":"IF(HV16=\"D\",\"D\",IF(HV16=\"W\",HT16,IF(HV16=\"L\",HT16,0)))","v":0},{"$f":"IF(HP16+HQ16=0,0,IF(HP16+HQ16>0.1,HP16-HQ16,0))","v":0},{"$f":"IF(HV16=\"W\",$X$3,IF(HV16=\"D\",$AG$3,0))","v":{"v":0,"d":"0.0"}},{"$f":"IF(HP16>HQ16,\"W\",IF(HP16<HQ16,\"L\",IF(HP16=0,\"\",IF(HP16=HQ16,\"D\",0))))","v":""},9,2,{"$nulls":3},{"$f":"IF(IE16=\"D\",\"D\",IF(IE16=\"W\",IC16,IF(IE16=\"L\",IC16,0)))","v":0},{"$f":"IF(HY16+HZ16=0,0,IF(HY16+HZ16>0.1,HY16-HZ16,0))","v":0},{"$f":"IF(IE16=\"W\",$X$3,IF(IE16=\"D\",$AG$3,0))","v":{"v":0,"d":"0.0"}},{"$f":"IF(HY16>HZ16,\"W\",IF(HY16<HZ16,\"L\",IF(HY16=0,\"\",IF(HY16=HZ16,\"D\",0))))","v":""},1,1,{"$nulls":3},{"$f":"IF(IN16=\"D\",\"D\",IF(IN16=\"W\",IL16,IF(IN16=\"L\",IL16,0)))","v":0},{"$f":"IF(IH16+II16=0,0,IF(IH16+II16>0.1,IH16-II16,0))","v":0},{"$f":"IF(IN16=\"W\",$X$3,IF(IN16=\"D\",$AG$3,0))","v":{"v":0,"d":"0.0"}},{"$f":"IF(IH16>II16,\"W\",IF(IH16<II16,\"L\",IF(IH16=0,\"\",IF(IH16=II16,\"D\",0))))","v":""},13,7,{"$nulls":3},{"$f":"IF(IW16=\"D\",\"D\",IF(IW16=\"W\",IU16,IF(IW16=\"L\",IU16,0)))","v":0},{"$f":"IF(IQ16+IR16=0,0,IF(IQ16+IR16>0.1,IQ16-IR16,0))","v":0},{"$f":"IF(IW16=\"W\",$X$3,IF(IW16=\"D\",$AG$3,0))","v":{"v":0,"d":"0.0"}},{"$f":"IF(IQ16>IR16,\"W\",IF(IQ16<IR16,\"L\",IF(IQ16=0,\"\",IF(IQ16=IR16,\"D\",0))))","v":""},15,6,{"$nulls":3},{"$f":"IF(JF16=\"D\",\"D\",IF(JF16=\"W\",JD16,IF(JF16=\"L\",JD16,0)))","v":0},{"$f":"IF(IZ16+JA16=0,0,IF(IZ16+JA16>0.1,IZ16-JA16,0))","v":0},{"$f":"IF(JF16=\"W\",$X$3,IF(JF16=\"D\",$AG$3,0))","v":{"v":0,"d":"0.0"}},{"$f":"IF(IZ16>JA16,\"W\",IF(IZ16<JA16,\"L\",IF(IZ16=0,\"\",IF(IZ16=JA16,\"D\",0))))","v":""},2,5,{"$nulls":3},{"$f":"IF(JO16=\"D\",\"D\",IF(JO16=\"W\",JM16,IF(JO16=\"L\",JM16,0)))","v":0},{"$f":"IF(JI16+JJ16=0,0,IF(JI16+JJ16>0.1,JI16-JJ16,0))","v":0},{"$f":"IF(JO16=\"W\",$X$3,IF(JO16=\"D\",$AG$3,0))","v":{"v":0,"d":"0.0"}},{"$f":"IF(JI16>JJ16,\"W\",IF(JI16<JJ16,\"L\",IF(JI16=0,\"\",IF(JI16=JJ16,\"D\",0))))","v":""},{"$nulls":3},{"$f":"IF(JV16=\"D\",\"D\",IF(JV16=\"W\",JT16,IF(JV16=\"L\",JT16,0)))","v":0},{"$f":"IF(JP16+JQ16=0,0,IF(JP16+JQ16>0.1,JP16-JQ16,0))","v":0},{"$f":"IF(JV16=\"W\",1,IF(JV16=\"D\",0.5,0))","v":{"v":0,"d":"0.0"}},{"$f":"IF(JP16>JQ16,\"W\",IF(JP16<JQ16,\"L\",IF(JP16=0,\"\",IF(JP16=JQ16,\"D\",0))))","v":""},4,2,{"$nulls":3},{"$f":"IF(KE16=\"D\",\"D\",IF(KE16=\"W\",KC16,IF(KE16=\"L\",KC16,0)))","v":0},{"$f":"IF(JY16+JZ16=0,0,IF(JY16+JZ16>0.1,JY16-JZ16,0))","v":0},{"$f":"IF(KE16=\"W\",$X$3,IF(KE16=\"D\",$AG$3,0))","v":{"v":0,"d":"0.0"}},{"$f":"IF(JY16>JZ16,\"W\",IF(JY16<JZ16,\"L\",IF(JY16=0,\"\",IF(JY16=JZ16,\"D\",0))))","v":""},6,4,{"$nulls":3},{"$f":"IF(KN16=\"D\",\"D\",IF(KN16=\"W\",KL16,IF(KN16=\"L\",KL16,0)))","v":0},{"$f":"IF(KH16+KI16=0,0,IF(KH16+KI16>0.1,KH16-KI16,0))","v":0},{"$f":"IF(KN16=\"W\",$X$3,IF(KN16=\"D\",$AG$3,0))","v":{"v":0,"d":"0.0"}},{"$f":"IF(KH16>KI16,\"W\",IF(KH16<KI16,\"L\",IF(KH16=0,\"\",IF(KH16=KI16,\"D\",0))))","v":""},8,7,{"$nulls":3},{"$f":"IF(KW16=\"D\",\"D\",IF(KW16=\"W\",KU16,IF(KW16=\"L\",KU16,0)))","v":0},{"$f":"IF(KQ16+KR16=0,0,IF(KQ16+KR16>0.1,KQ16-KR16,0))","v":0},{"$f":"IF(KW16=\"W\",$X$3,IF(KW16=\"D\",$AG$3,0))","v":{"v":0,"d":"0.0"}},{"$f":"IF(KQ16>KR16,\"W\",IF(KQ16<KR16,\"L\",IF(KQ16=0,\"\",IF(KQ16=KR16,\"D\",0))))","v":""},10,3,{"$nulls":3},{"$f":"IF(LF16=\"D\",\"D\",IF(LF16=\"W\",LD16,IF(LF16=\"L\",LD16,0)))","v":0},{"$f":"IF(KZ16+LA16=0,0,IF(KZ16+LA16>0.1,KZ16-LA16,0))","v":0},{"$f":"IF(LF16=\"W\",$X$3,IF(LF16=\"D\",$AG$3,0))","v":{"v":0,"d":"0.0"}},{"$f":"IF(KZ16>LA16,\"W\",IF(KZ16<LA16,\"L\",IF(KZ16=0,\"\",IF(KZ16=LA16,\"D\",0))))","v":""},12,8,{"$nulls":3},{"$f":"IF(LO16=\"D\",\"D\",IF(LO16=\"W\",LM16,IF(LO16=\"L\",LM16,0)))","v":0},{"$f":"IF(LI16+LJ16=0,0,IF(LI16+LJ16>0.1,LI16-LJ16,0))","v":0},{"$f":"IF(LO16=\"W\",$X$3,IF(LO16=\"D\",$AG$3,0))","v":{"v":0,"d":"0.0"}},{"$f":"IF(LI16>LJ16,\"W\",IF(LI16<LJ16,\"L\",IF(LI16=0,\"\",IF(LI16=LJ16,\"D\",0))))","v":""},14,2,{"$nulls":3},{"$f":"IF(LX16=\"D\",\"D\",IF(LX16=\"W\",LV16,IF(LX16=\"L\",LV16,0)))","v":0},{"$f":"IF(LR16+LS16=0,0,IF(LR16+LS16>0.1,LR16-LS16,0))","v":0},{"$f":"IF(LX16=\"W\",$X$3,IF(LX16=\"D\",$AG$3,0))","v":{"v":0,"d":"0.0"}},{"$f":"IF(LR16>LS16,\"W\",IF(LR16<LS16,\"L\",IF(LR16=0,\"\",IF(LR16=LS16,\"D\",0))))","v":""},16,7,{"$nulls":3},{"$f":"IF(MG16=\"D\",\"D\",IF(MG16=\"W\",ME16,IF(MG16=\"L\",ME16,0)))","v":0},{"$f":"IF(MA16+MB16=0,0,IF(MA16+MB16>0.1,MA16-MB16,0))","v":0},{"$f":"IF(MG16=\"W\",$X$3,IF(MG16=\"D\",$AG$3,0))","v":{"v":0,"d":"0.0"}},{"$f":"IF(MA16>MB16,\"W\",IF(MA16<MB16,\"L\",IF(MA16=0,\"\",IF(MA16=MB16,\"D\",0))))","v":""},3,1,{"$nulls":3},{"$f":"IF(MP16=\"D\",\"D\",IF(MP16=\"W\",MN16,IF(MP16=\"L\",MN16,0)))","v":0},{"$f":"IF(MJ16+MK16=0,0,IF(MJ16+MK16>0.1,MJ16-MK16,0))","v":0},{"$f":"IF(MP16=\"W\",$X$3,IF(MP16=\"D\",$AG$3,0))","v":{"v":0,"d":"0.0"}},{"$f":"IF(MJ16>MK16,\"W\",IF(MJ16<MK16,\"L\",IF(MJ16=0,\"\",IF(MJ16=MK16,\"D\",0))))","v":""}]
[null,11,null,{"$f":"Q17+Z17+AI17+AR17+BA17+BJ17+BS17+CB17+CR17+DA17+DJ17+DS17+EB17+EK17+ET17+FC17+FL17+FU17+GK17+GT17+HC17+HL17+HU17+ID17+IM17+IV17+JE17+JN17+JU17+KD17+KM17+KV17+LE17+LN17+LW17+MF17+MO17","v":0},{"$f":"N17+W17+AF17+AO17+AX17+BG17+BP17+BY17+CF17+CO17+CX17+DG17+DP17+DY17+EH17+EQ17+EZ17+FI17+FR17+GH17+GQ17+GZ17+HI17+HR17+IA17+IJ17+IS17+JB17+JK17+KA17+KJ17+KS17+LB17+LK17+LT17+MC17+ML17","v":0},{"$f":"D17+E17","v":0},{"$f":"P17+Y17+AH17+AQ17+AZ17+BI17+BR17+CA17+CQ17+CZ17+DI17+DR17+EA17+EJ17+ES17+FB17+FK17+FT17+GJ17+GS17+HB17+HK17+HT17+IC17+IL17+IU17+JD17+JM17+KC17+KL17+KU17+LD17+LM17+LV17+ME17+MN17","v":0},{"$f":"(D17*1000000)+G17","v":0},{"$f":"IF($H$7:$H$18=0,\"\",RANK(H17,$H$7:$H$18))","v":""},4,3,{"$nulls":3},{"$f":"IF(R17=\"D\",\"D\",IF(R17=\"W\",P17,IF(R17=\"L\",P17,0)))","v":0},{"$f":"IF(L17+M17=0,0,IF(L17+M17>0.1,L17-M17,0))","v":0},{"$f":"IF(R17=\"W\",$X$3,IF(R17=\"D\",$AG$3,0))","v":{"v":0,"d":"0.0"}},{"$f":"IF(L17>M17,\"W\",IF(L17<M17,\"L\",IF(L17=0,\"\",IF(L17=M17,\"D\",0))))","v":""},6,6,{"$nulls":3},{"$f":"IF(AA17=\"D\",\"D\",IF(AA17=\"W\",Y17,IF(AA17=\"L\",Y17,0)))","v":0},{"$f":"IF(U17+V17=0,0,IF(U17+V17>0.1,U17-V17,0))","v":0},{"$f":"IF(AA17=\"W\",$X$3,IF(AA17=\"D\",$AG$3,0))","v":{"v":0,"d":"0.0"}},{"$f":"IF(U17>V17,\"W\",IF(U17<V17,\"L\",IF(U17=0,\"\",IF(U17=V17,\"D\",0))))","v":""},8,1,{"$nulls":3},{"$f":"IF(AJ17=\"D\",\"D\",IF(AJ17=\"W\",AH17,IF(AJ17=\"L\",AH17,0)))","v":0},{"$f":"IF(AD17+AE17=0,0,IF(AD17+AE17>0.1,AD17-AE17,0))","v":0},{"$f":"IF(AJ17=\"W\",$X$3,IF(AJ17=\"D\",$AG$3,0))","v":{"v":0,"d":"0.0"}},{"$f":"IF(AD17>AE17,\"W\",IF(AD17<AE17,\"L\",IF(AD17=0,\"\",IF(AD17=AE17,\"D\",0))))","v":""},10,4,{"$nulls":3},{"$f":"IF(AS17=\"D\",\"D\",IF(AS17=\"W\",AQ17,IF(AS17=\"L\",AQ17,0)))","v":0},{"$f":"IF(AM17+AN17=0,0,IF(AM17+AN17>0.1,AM17-AN17,0))","v":0},{"$f":"IF(AS17=\"W\",$X$3,IF(AS17=\"D\",$AG$3,0))","v":{"v":0,"d":"0.0"}},{"$f":"IF(AM17>AN17,\"W\",IF(AM17<AN17,\"L\",IF(AM17=0,\"\",IF(AM17=AN17,\"D\",0))))","v":""},12,5,{"$nulls":3},{"$f":"IF(BB17=\"D\",\"D\",IF(BB17=\"W\",AZ17,IF(BB17=\"L\",AZ17,0)))","v":0},{"$f":"IF(AV17+AW17=0,0,IF(AV17+AW17>0.1,AV17-AW17,0))","v":0},{"$f":"IF(BB17=\"W\",$X$3,IF(BB17=\"D\",$AG$3,0))","v":{"v":0,"d":"0.0"}},{"$f":"IF(AV17>AW17,\"W\",IF(AV17<AW17,\"L\",IF(AV17=0,\"\",IF(AV17=AW17,\"D\",0))))","v":""},3,4,{"$nulls":3},{"$f":"IF(BK17=\"D\",\"D\",IF(BK17=\"W\",BI17,IF(BK17=\"L\",BI17,0)))","v":0},{"$f":"IF(BE17+BF17=0,0,IF(BE17+BF17>0.1,BE17-BF17,0))","v":0},{"$f":"IF(BK17=\"W\",$X$3,IF(BK17=\"D\",$AG$3,0))","v":{"v":0,"d":"0.0"}},{"$f":"IF(BE17>BF17,\"W\",IF(BE17<BF17,\"L\",IF(BE17=0,\"\",IF(BE17=BF17,\"D\",0))))","v":""},5,6,{"$nulls":3},{"$f":"IF(BT17=\"D\",\"D\",IF(BT17=\"W\",BR17,IF(BT17=\"L\",BR17,0)))","v":0},{"$f":"IF(BN17+BO17=0,0,IF(BN17+BO17>0.1,BN17-BO17,0))","v":0},{"$f":"IF(BT17=\"W\",$X$3,IF(BT17=\"D\",$AG$3,0))","v":{"v":0,"d":"0.0"}},{"$f":"IF(BN17>BO17,\"W\",IF(BN17<BO17,\"L\",IF(BN17=0,\"\",IF(BN17=BO17,\"D\",0))))","v":""},7,2,{"$nulls":3},{"$f":"IF(CC17=\"D\",\"D\",IF(CC17=\"W\",CA17,IF(CC17=\"L\",CA17,0)))","v":0},{"$f":"IF(BW17+BX17=0,0,IF(BW17+BX17>0.1,BW17-BX17,0))","v":0},{"$f":"IF(CC17=\"W\",$X$3,IF(CC17=\"D\",$AG$3,0))","v":{"v":0,"d":"0.0"}},{"$f":"IF(BW17>BX17,\"W\",IF(BW17<BX17,\"L\",IF(BW17=0,\"\",IF(BW17=BX17,\"D\",0))))","v":""},{"$nulls":3},{"$f":"IF(CJ17=\"D\",\"D\",IF(CJ17=\"W\",CH17,IF(CJ17=\"L\",CH17,0)))","v":0},{"$f":"IF(CD17+CE17=0,0,IF(CD17+CE17>0.1,CD17-CE17,0))","v":0},{"$f":"IF(CJ17=\"W\",1,IF(CJ17=\"D\",0.5,0))","v":{"v":0,"d":"0.0"}},{"$f":"IF(CD17>CE17,\"W\",IF(CD17<CE17,\"L\",IF(CD17=0,\"\",IF(CD17=CE17,\"D\",0))))","v":""},9,4,{"$nulls":3},{"$f":"IF(CS17=\"D\",\"D\",IF(CS17=\"W\",CQ17,IF(CS17=\"L\",CQ17,0)))","v":0},{"$f":"IF(CM17+CN17=0,0,IF(CM17+CN17>0.1,CM17-CN17,0))","v":0},{"$f":"IF(CS17=\"W\",$X$3,IF(CS17=\"D\",$AG$3,0))","v":{"v":0,"d":"0.0"}},{"$f":"IF(CM17>CN17,\"W\",IF(CM17<CN17,\"L\",IF(CM17=0,\"\",IF(CM17=CN17,\"D\",0))))","v":""},1,1,{"$nulls":3},{"$f":"IF(DB17=\"D\",\"D\",IF(DB17=\"W\",CZ17,IF(DB17=\"L\",CZ17,0)))","v":0},{"$f":"IF(CV17+CW17=0,0,IF(CV17+CW17>0.1,CV17-CW17,0))","v":0},{"$f":"IF(DB17=\"W\",$X$3,IF(DB17=\"D\",$AG$3,0))","v":{"v":0,"d":"0.0"}},{"$f":"IF(CV17>CW17,\"W\",IF(CV17<CW17,\"L\",IF(CV17=0,\"\",IF(CV17=CW17,\"D\",0))))","v":""},13,7,{"$nulls":3},{"$f":"IF(DK17=\"D\",\"D\",IF(DK17=\"W\",DI17,IF(DK17=\"L\",DI17,0)))","v":0},{"$f":"IF(DE17+DF17=0,0,IF(DE17+DF17>0.1,DE17-DF17,0))","v":0},{"$f":"IF(DK17=\"W\",$X$3,IF(DK17=\"D\",$AG$3,0))","v":{"v":0,"d":"0.0"}},{"$f":"IF(DE17>DF17,\"W\",IF(DE17<DF17,\"L\",IF(DE17=0,\"\",IF(DE17=DF17,\"D\",0))))","v":""},15,6,{"$nulls":3},{"$f":"IF(DT17=\"D\",\"D\",IF(DT17=\"W\",DR17,IF(DT17=\"L\",DR17,0)))","v":0},{"$f":"IF(DN17+DO17=0,0,IF(DN17+DO17>0.1,DN17-DO17,0))","v":0},{"$f":"IF(DT17=\"W\",$X$3,IF(DT17=\"D\",$AG$3,0))","v":{"v":0,"d":"0.0"}},{"$f":"IF(DN17>DO17,\"W\",IF(DN17<DO17,\"L\",IF(DN17=0,\"\",IF(DN17=DO17,\"D\",0))))","v":""},2,5,{"$nulls":3},{"$f":"IF(EC17=\"D\",\"D\",IF(EC17=\"W\",EA17,IF(EC17=\"L\",EA17,0)))","v":0},{"$f":"IF(DW17+DX17=0,0,IF(DW17+DX17>0.1,DW17-DX17,0))","v":0},{"$f":"IF(EC17=\"W\",$X$3,IF(EC17=\"D\",$AG$3,0))","v":{"v":0,"d":"0.0"}},{"$f":"IF(DW17>DX17,\"W\",IF(DW17<DX17,\"L\",IF(DW17=0,\"\",IF(DW17=DX17,\"D\",0))))","v":""},4,2,{"$nulls":3},{"$f":"IF(EL17=\"D\",\"D\",IF(EL17=\"W\",EJ17,IF(EL17=\"L\",EJ17,0)))","v":0},{"$f":"IF(EF17+EG17=0,0,IF(EF17+EG17>0.1,EF17-EG17,0))","v":0},{"$f":"IF(EL17=\"W\",$X$3,IF(EL17=\"D\",$AG$3,0))","v":{"v":0,"d":"0.0"}},{"$f":"IF(EF17>EG17,\"W\",IF(EF17<EG17,\"L\",IF(EF17=0,\"\",IF(EF17=EG17,\"D\",0))))","v":""},6,4,{"$nulls":3},{"$f":"IF(EU17=\"D\",\"D\",IF(EU17=\"W\",ES17,IF(EU17=\"L\",ES17,0)))","v":0},{"$f":"IF(EO17+EP17=0,0,IF(EO17+EP17>0.1,EO17-EP17,0))","v":0},{"$f":"IF(EU17=\"W\",$X$3,IF(EU17=\"D\",$AG$3,0))","v":{"v":0,"d":"0.0"}},{"$f":"IF(EO17>EP17,\"W\",IF(EO17<EP17,\"L\",IF(EO17=0,\"\",IF(EO17=EP17,\"D\",0))))","v":""},8,7,{"$nulls":3},{"$f":"IF(FD17=\"D\",\"D\",IF(FD17=\"W\",FB17,IF(FD17=\"L\",FB17,0)))","v":0},{"$f":"IF(EX17+EY17=0,0,IF(EX17+EY17>0.1,EX17-EY17,0))","v":0},{"$f":"IF(FD17=\"W\",$X$3,IF(FD17=\"D\",$AG$3,0))","v":{"v":0,"d":"0.0"}},{"$f":"IF(EX17>EY17,\"W\",IF(EX17<EY17,\"L\",IF(EX17=0,\"\",IF(EX17=EY17,\"D\",0))))","v":""},10,3,{"$nulls":3},{"$f":"IF(FM17=\"D\",\"D\",IF(FM17=\"W\",FK17,IF(FM17=\"L\",FK17,0)))","v":0},{"$f":"IF(FG17+FH17=0,0,IF(FG17+FH17>0.1,FG17-FH17,0))","v":0},{"$f":"IF(FM17=\"W\",$X$3,IF(FM17=\"D\",$AG$3,0))","v":{"v":0,"d":"0.0"}},{"$f":"IF(FG17>FH17,\"W\",IF(FG17<FH17,\"L\",IF(FG17=0,\"\",IF(FG17=FH17,\"D\",0))))","v":""},12,8,{"$nulls":3},{"$f":"IF(FV17=\"D\",\"D\",IF(FV17=\"W\",FT17,IF(FV17=\"L\",FT17,0)))","v":0},{"$f":"IF(FP17+FQ17=0,0,IF(FP17+FQ17>0.1,FP17-FQ17,0))","v":0},{"$f":"IF(FV17=\"W\",$X$3,IF(FV17=\"D\",$AG$3,0))","v":{"v":0,"d":"0.0"}},{"$f":"IF(FP17>FQ17,\"W\",IF(FP17<FQ17,\"L\",IF(FP17=0,\"\",IF(FP17=FQ17,\"D\",0))))","v":""},{"$nulls":3},{"$f":"IF(GC17=\"D\",\"D\",IF(GC17=\"W\",GA17,IF(GC17=\"L\",GA17,0)))","v":0},{"$f":"IF(FW17+FX17=0,0,IF(FW17+FX17>0.1,FW17-FX17,0))","v":0},{"$f":"IF(GC17=\"W\",1,IF(GC17=\"D\",0.5,0))","v":{"v":0,"d":"0.0"}},{"$f":"IF(FW17>FX17,\"W\",IF(FW17<FX17,\"L\",IF(FW17=0,\"\",IF(FW17=FX17,\"D\",0))))","v":""},14,2,{"$nulls":3},{"$f":"IF(GL17=\"D\",\"D\",IF(GL17=\"W\",GJ17,IF(GL17=\"L\",GJ17,0)))","v":0},{"$f":"IF(GF17+GG17=0,0,IF(GF17+GG17>0.1,GF17-GG17,0))","v":0},{"$f":"IF(GL17=\"W\",$X$3,IF(GL17=\"D\",$AG$3,0))","v":{"v":0,"d":"0.0"}},{"$f":"IF(GF17>GG17,\"W\",IF(GF17<GG17,\"L\",IF(GF17=0,\"\",IF(GF17=GG17,\"D\",0))))","v":""},16,7,{"$nulls":3},{"$f":"IF(GU17=\"D\",\"D\",IF(GU17=\"W\",GS17,IF(GU17=\"L\",GS17,0)))","v":0},{"$f":"IF(GO17+GP17=0,0,IF(GO17+GP17>0.1,GO17-GP17,0))","v":0},{"$f":"IF(GU17=\"W\",$X$3,IF(GU17=\"D\",$AG$3,0))","v":{"v":0,"d":"0.0"}},{"$f":"IF(GO17>GP17,\"W\",IF(GO17<GP17,\"L\",IF(GO17=0,\"\",IF(GO17=GP17,\"D\",0))))","v":""},2,5,{"$nulls":3},{"$f":"IF(HD17=\"D\",\"D\",IF(HD17=\"W\",HB17,IF(HD17=\"L\",HB17,0)))","v":0},{"$f":"IF(GX17+GY17=0,0,IF(GX17+GY17>0.1,GX17-GY17,0))","v":0},{"$f":"IF(HD17=\"W\",$X$3,IF(HD17=\"D\",$AG$3,0))","v":{"v":0,"d":"0.0"}},{"$f":"IF(GX17>GY17,\"W\",IF(GX17<GY17,\"L\",IF(GX17=0,\"\",IF(GX17=GY17,\"D\",0))))","v":""},4,7,{"$nulls":3},{"$f":"IF(HM17=\"D\",\"D\",IF(HM17=\"W\",HK17,IF(HM17=\"L\",HK17,0)))","v":0},{"$f":"IF(HG17+HH17=0,0,IF(HG17+HH17>0.1,HG17-HH17,0))","v":0},{"$f":"IF(HM17=\"W\",$X$3,IF(HM17=\"D\",$AG$3,0))","v":{"v":0,"d":"0.0"}},{"$f":"IF(HG17>HH17,\"W\",IF(HG17<HH17,\"L\",IF(HG17=0,\"\",IF(HG17=HH17,\"D\",0))))","v":""},6,4,{"$nulls":3},{"$f":"IF(HV17=\"D\",\"D\",IF(HV17=\"W\",HT17,IF(HV17=\"L\",HT17,0)))","v":0},{"$f":"IF(HP17+HQ17=0,0,IF(HP17+HQ17>0.1,HP17-HQ17,0))","v":0},{"$f":"IF(HV17=\"W\",$X$3,IF(HV17=\"D\",$AG$3,0))","v":{"v":0,"d":"0.0"}},{"$f":"IF(HP17>HQ17,\"W\",IF(HP17<HQ17,\"L\",IF(HP17=0,\"\",IF(HP17=HQ17,\"D\",0))))","v":""},8,3,{"$nulls":3},{"$f":"IF(IE17=\"D\",\"D\",IF(IE17=\"W\",IC17,IF(IE17=\"L\",IC17,0)))","v":0},{"$f":"IF(HY17+HZ17=0,0,IF(HY17+HZ17>0.1,HY17-HZ17,0))","v":0},{"$f":"IF(IE17=\"W\",$X$3,IF(IE17=\"D\",$AG$3,0))","v":{"v":0,"d":"0.0"}},{"$f":"IF(HY17>HZ17,\"W\",IF(HY17<HZ17,\"L\",IF(HY17=0,\"\",IF(HY17=HZ17,\"D\",0))))","v":""},10,2,{"$nulls":3},{"$f":"IF(IN17=\"D\",\"D\",IF(IN17=\"W\",IL17,IF(IN17=\"L\",IL17,0)))","v":0},{"$f":"IF(IH17+II17=0,0,IF(IH17+II17>0.1,IH17-II17,0))","v":0},{"$f":"IF(IN17=\"W\",$X$3,IF(IN17=\"D\",$AG$3,0))","v":{"v":0,"d":"0.0"}},{"$f":"IF(IH17>II17,\"W\",IF(IH17<II17,\"L\",IF(IH17=0,\"\",IF(IH17=II17,\"D\",0))))","v":""},1,6,{"$nulls":3},{"$f":"IF(IW17=\"D\",\"D\",IF(IW17=\"W\",IU17,IF(IW17=\"L\",IU17,0)))","v":0},{"$f":"IF(IQ17+IR17=0,0,IF(IQ17+IR17>0.1,IQ17-IR17,0))","v":0},{"$f":"IF(IW17=\"W\",$X$3,IF(IW17=\"D\",$AG$3,0))","v":{"v":0,"d":"0.0"}},{"$f":"IF(IQ17>IR17,\"W\",IF(IQ17<IR17,\"L\",IF(IQ17=0,\"\",IF(IQ17=IR17,\"D\",0))))","v":""},14,1,{"$nulls":3},{"$f":"IF(JF17=\"D\",\"D\",IF(JF17=\"W\",JD17,IF(JF17=\"L\",JD17,0)))","v":0},{"$f":"IF(IZ17+JA17=0,0,IF(IZ17+JA17>0.1,IZ17-JA17,0))","v":0},{"$f":"IF(JF17=\"W\",$X$3,IF(JF17=\"D\",$AG$3,0))","v":{"v":0,"d":"0.0"}},{"$f":"IF(IZ17>JA17,\"W\",IF(IZ17<JA17,\"L\",IF(IZ17=0,\"\",IF(IZ17=JA17,\"D\",0))))","v":""},16,8,{"$nulls":3},{"$f":"IF(JO17=\"D\",\"D\",IF(JO17=\"W\",JM17,IF(JO17=\"L\",JM17,0)))","v":0},{"$f":"IF(JI17+JJ17=0,0,IF(JI17+JJ17>0.1,JI17-JJ17,0))","v":0},{"$f":"IF(JO17=\"W\",$X$3,IF(JO17=\"D\",$AG$3,0))","v":{"v":0,"d":"0.0"}},{"$f":"IF(JI17>JJ17,\"W\",IF(JI17<JJ17,\"L\",IF(JI17=0,\"\",IF(JI17=JJ17,\"D\",0))))","v":""},{"$nulls":3},{"$f":"IF(JV17=\"D\",\"D\",IF(JV17=\"W\",JT17,IF(JV17=\"L\",JT17,0)))","v":0},{"$f":"IF(JP17+JQ17=0,0,IF(JP17+JQ17>0.1,JP17-JQ17,0))","v":0},{"$f":"IF(JV17=\"W\",1,IF(JV17=\"D\",0.5,0))","v":{"v":0,"d":"0.0"}},{"$f":"IF(JP17>JQ17,\"W\",IF(JP17<JQ17,\"L\",IF(JP17=0,\"\",IF(JP17=JQ17,\"D\",0))))","v":""},3,5,{"$nulls":3},{"$f":"IF(KE17=\"D\",\"D\",IF(KE17=\"W\",KC17,IF(KE17=\"L\",KC17,0)))","v":0},{"$f":"IF(JY17+JZ17=0,0,IF(JY17+JZ17>0.1,JY17-JZ17,0))","v":0},{"$f":"IF(KE17=\"W\",$X$3,IF(KE17=\"D\",$AG$3,0))","v":{"v":0,"d":"0.0"}},{"$f":"IF(JY17>JZ17,\"W\",IF(JY17<JZ17,\"L\",IF(JY17=0,\"\",IF(JY17=JZ17,\"D\",0))))","v":""},5,7,{"$nulls":3},{"$f":"IF(KN17=\"D\",\"D\",IF(KN17=\"W\",KL17,IF(KN17=\"L\",KL17,0)))","v":0},{"$f":"IF(KH17+KI17=0,0,IF(KH17+KI17>0.1,KH17-KI17,0))","v":0},{"$f":"IF(KN17=\"W\",$X$3,IF(KN17=\"D\",$AG$3,0))","v":{"v":0,"d":"0.0"}},{"$f":"IF(KH17>KI17,\"W\",IF(KH17<KI17,\"L\",IF(KH17=0,\"\",IF(KH17=KI17,\"D\",0))))","v":""},7,6,{"$nulls":3},{"$f":"IF(KW17=\"D\",\"D\",IF(KW17=\"W\",KU17,IF(KW17=\"L\",KU17,0)))","v":0},{"$f":"IF(KQ17+KR17=0,0,IF(KQ17+KR17>0.1,KQ17-KR17,0))","v":0},{"$f":"IF(KW17=\"W\",$X$3,IF(KW17=\"D\",$AG$3,0))","v":{"v":0,"d":"0.0"}},{"$f":"IF(KQ17>KR17,\"W\",IF(KQ17<KR17,\"L\",IF(KQ17=0,\"\",IF(KQ17=KR17,\"D\",0))))","v":""},9,2,{"$nulls":3},{"$f":"IF(LF17=\"D\",\"D\",IF(LF17=\"W\",LD17,IF(LF17=\"L\",LD17,0)))","v":0},{"$f":"IF(KZ17+LA17=0,0,IF(KZ17+LA17>0.1,KZ17-LA17,0))","v":0},{"$f":"IF(LF17=\"W\",$X$3,IF(LF17=\"D\",$AG$3,0))","v":{"v":0,"d":"0.0"}},{"$f":"IF(KZ17>LA17,\"W\",IF(KZ17<LA17,\"L\",IF(KZ17=0,\"\",IF(KZ17=LA17,\"D\",0))))","v":""},11,8,{"$nulls":3},{"$f":"IF(LO17=\"D\",\"D\",IF(LO17=\"W\",LM17,IF(LO17=\"L\",LM17,0)))","v":0},{"$f":"IF(LI17+LJ17=0,0,IF(LI17+LJ17>0.1,LI17-LJ17,0))","v":0},{"$f":"IF(LO17=\"W\",$X$3,IF(LO17=\"D\",$AG$3,0))","v":{"v":0,"d":"0.0"}},{"$f":"IF(LI17>LJ17,\"W\",IF(LI17<LJ17,\"L\",IF(LI17=0,\"\",IF(LI17=LJ17,\"D\",0))))","v":""},13,3,{"$nulls":3},{"$f":"IF(LX17=\"D\",\"D\",IF(LX17=\"W\",LV17,IF(LX17=\"L\",LV17,0)))","v":0},{"$f":"IF(LR17+LS17=0,0,IF(LR17+LS17>0.1,LR17-LS17,0))","v":0},{"$f":"IF(LX17=\"W\",$X$3,IF(LX17=\"D\",$AG$3,0))","v":{"v":0,"d":"0.0"}},{"$f":"IF(LR17>LS17,\"W\",IF(LR17<LS17,\"L\",IF(LR17=0,\"\",IF(LR17=LS17,\"D\",0))))","v":""},15,1,{"$nulls":3},{"$f":"IF(MG17=\"D\",\"D\",IF(MG17=\"W\",ME17,IF(MG17=\"L\",ME17,0)))","v":0},{"$f":"IF(MA17+MB17=0,0,IF(MA17+MB17>0.1,MA17-MB17,0))","v":0},{"$f":"IF(MG17=\"W\",$X$3,IF(MG17=\"D\",$AG$3,0))","v":{"v":0,"d":"0.0"}},{"$f":"IF(MA17>MB17,\"W\",IF(MA17<MB17,\"L\",IF(MA17=0,\"\",IF(MA17=MB17,\"D\",0))))","v":""},2,5,{"$nulls":3},{"$f":"IF(MP17=\"D\",\"D\",IF(MP17=\"W\",MN17,IF(MP17=\"L\",MN17,0)))","v":0},{"$f":"IF(MJ17+MK17=0,0,IF(MJ17+MK17>0.1,MJ17-MK17,0))","v":0},{"$f":"IF(MP17=\"W\",$X$3,IF(MP17=\"D\",$AG$3,0))","v":{"v":0,"d":"0.0"}},{"$f":"IF(MJ17>MK17,\"W\",IF(MJ17<MK17,\"L\",IF(MJ17=0,\"\",IF(MJ17=MK17,\"D\",0))))","v":""}]
[null,12,null,{"$f":"Q18+Z18+AI18+AR18+BA18+BJ18+BS18+CB18+CR18+DA18+DJ18+DS18+EB18+EK18+ET18+FC18+FL18+FU18+GK18+GT18+HC18+HL18+HU18+ID18+IM18+IV18+JE18+JN18+JU18+KD18+KM18+KV18+LE18+LN18+LW18+MF18+MO18","v":0},{"$f":"N18+W18+AF18+AO18+AX18+BG18+BP18+BY18+CF18+CO18+CX18+DG18+DP18+DY18+EH18+EQ18+EZ18+FI18+FR18+GH18+GQ18+GZ18+HI18+HR18+IA18+IJ18+IS18+JB18+JK18+KA18+KJ18+KS18+LB18+LK18+LT18+MC18+ML18","v":0},{"$f":"D18+E18","v":0},{"$f":"P18+Y18+AH18+AQ18+AZ18+BI18+BR18+CA18+CQ18+CZ18+DI18+DR18+EA18+EJ18+ES18+FB18+FK18+FT18+GJ18+GS18+HB18+HK18+HT18+IC18+IL18+IU18+JD18+JM18+KC18+KL18+KU18+LD18+LM18+LV18+ME18+MN18","v":0},{"$f":"(D18*1000000)+G18","v":0},{"$f":"IF($H$7:$H$18=0,\"\",RANK(H18,$H$7:$H$18))","v":""},3,2,{"$nulls":3},{"$f":"IF(R18=\"D\",\"D\",IF(R18=\"W\",P18,IF(R18=\"L\",P18,0)))","v":0},{"$f":"IF(L18+M18=0,0,IF(L18+M18>0.1,L18-M18,0))","v":0},{"$f":"IF(R18=\"W\",$X$3,IF(R18=\"D\",$AG$3,0))","v":{"v":0,"d":"0.0"}},{"$f":"IF(L18>M18,\"W\",IF(L18<M18,\"L\",IF(L18=0,\"\",IF(L18=M18,\"D\",0))))","v":""},5,1,{"$nulls":3},{"$f":"IF(AA18=\"D\",\"D\",IF(AA18=\"W\",Y18,IF(AA18=\"L\",Y18,0)))","v":0},{"$f":"IF(U18+V18=0,0,IF(U18+V18>0.1,U18-V18,0))","v":0},{"$f":"IF(AA18=\"W\",$X$3,IF(AA18=\"D\",$AG$3,0))","v":{"v":0,"d":"0.0"}},{"$f":"IF(U18>V18,\"W\",IF(U18<V18,\"L\",IF(U18=0,\"\",IF(U18=V18,\"D\",0))))","v":""},7,4,{"$nulls":3},{"$f":"IF(AJ18=\"D\",\"D\",IF(AJ18=\"W\",AH18,IF(AJ18=\"L\",AH18,0)))","v":0},{"$f":"IF(AD18+AE18=0,0,IF(AD18+AE18>0.1,AD18-AE18,0))","v":0},{"$f":"IF(AJ18=\"W\",$X$3,IF(AJ18=\"D\",$AG$3,0))","v":{"v":0,"d":"0.0"}},{"$f":"IF(AD18>AE18,\"W\",IF(AD18<AE18,\"L\",IF(AD18=0,\"\",IF(AD18=AE18,\"D\",0))))","v":""},9,3,{"$nulls":3},{"$f":"IF(AS18=\"D\",\"D\",IF(AS18=\"W\",AQ18,IF(AS18=\"L\",AQ18,0)))","v":0},{"$f":"IF(AM18+AN18=0,0,IF(AM18+AN18>0.1,AM18-AN18,0))","v":0},{"$f":"IF(AS18=\"W\",$X$3,IF(AS18=\"D\",$AG$3,0))","v":{"v":0,"d":"0.0"}},{"$f":"IF(AM18>AN18,\"W\",IF(AM18<AN18,\"L\",IF(AM18=0,\"\",IF(AM18=AN18,\"D\",0))))","v":""},11,5,{"$nulls":3},{"$f":"IF(BB18=\"D\",\"D\",IF(BB18=\"W\",AZ18,IF(BB18=\"L\",AZ18,0)))","v":0},{"$f":"IF(AV18+AW18=0,0,IF(AV18+AW18>0.1,AV18-AW18,0))","v":0},{"$f":"IF(BB18=\"W\",$X$3,IF(BB18=\"D\",$AG$3,0))","v":{"v":0,"d":"0.0"}},{"$f":"IF(AV18>AW18,\"W\",IF(AV18<AW18,\"L\",IF(AV18=0,\"\",IF(AV18=AW18,\"D\",0))))","v":""},2,6,{"$nulls":3},{"$f":"IF(BK18=\"D\",\"D\",IF(BK18=\"W\",BI18,IF(BK18=\"L\",BI18,0)))","v":0},{"$f":"IF(BE18+BF18=0,0,IF(BE18+BF18>0.1,BE18-BF18,0))","v":0},{"$f":"IF(BK18=\"W\",$X$3,IF(BK18=\"D\",$AG$3,0))","v":{"v":0,"d":"0.0"}},{"$f":"IF(BE18>BF18,\"W\",IF(BE18<BF18,\"L\",IF(BE18=0,\"\",IF(BE18=BF18,\"D\",0))))","v":""},4,5,{"$nulls":3},{"$f":"IF(BT18=\"D\",\"D\",IF(BT18=\"W\",BR18,IF(BT18=\"L\",BR18,0)))","v":0},{"$f":"IF(BN18+BO18=0,0,IF(BN18+BO18>0.1,BN18-BO18,0))","v":0},{"$f":"IF(BT18=\"W\",$X$3,IF(BT18=\"D\",$AG$3,0))","v":{"v":0,"d":"0.0"}},{"$f":"IF(BN18>BO18,\"W\",IF(BN18<BO18,\"L\",IF(BN18=0,\"\",IF(BN18=BO18,\"D\",0))))","v":""},6,1,{"$nulls":3},{"$f":"IF(CC18=\"D\",\"D\",IF(CC18=\"W\",CA18,IF(CC18=\"L\",CA18,0)))","v":0},{"$f":"IF(BW18+BX18=0,0,IF(BW18+BX18>0.1,BW18-BX18,0))","v":0},{"$f":"IF(CC18=\"W\",$X$3,IF(CC18=\"D\",$AG$3,0))","v":{"v":0,"d":"0.0"}},{"$f":"IF(BW18>BX18,\"W\",IF(BW18<BX18,\"L\",IF(BW18=0,\"\",IF(BW18=BX18,\"D\",0))))","v":""},{"$nulls":3},{"$f":"IF(CJ18=\"D\",\"D\",IF(CJ18=\"W\",CH18,IF(CJ18=\"L\",CH18,0)))","v":0},{"$f":"IF(CD18+CE18=0,0,IF(CD18+CE18>0.1,CD18-CE18,0))","v":0},{"$f":"IF(CJ18=\"W\",1,IF(CJ18=\"D\",0.5,0))","v":{"v":0,"d":"0.0"}},{"$f":"IF(CD18>CE18,\"W\",IF(CD18<CE18,\"L\",IF(CD18=0,\"\",IF(CD18=CE18,\"D\",0))))","v":""},8,2,{"$nulls":3},{"$f":"IF(CS18=\"D\",\"D\",IF(CS18=\"W\",CQ18,IF(CS18=\"L\",CQ18,0)))","v":0},{"$f":"IF(CM18+CN18=0,0,IF(CM18+CN18>0.1,CM18-CN18,0))","v":0},{"$f":"IF(CS18=\"W\",$X$3,IF(CS18=\"D\",$AG$3,0))","v":{"v":0,"d":"0.0"}},{"$f":"IF(CM18>CN18,\"W\",IF(CM18<CN18,\"L\",IF(CM18=0,\"\",IF(CM18=CN18,\"D\",0))))","v":""},10,4,{"$nulls":3},{"$f":"IF(DB18=\"D\",\"D\",IF(DB18=\"W\",CZ18,IF(DB18=\"L\",CZ18,0)))","v":0},{"$f":"IF(CV18+CW18=0,0,IF(CV18+CW18>0.1,CV18-CW18,0))","v":0},{"$f":"IF(DB18=\"W\",$X$3,IF(DB18=\"D\",$AG$3,0))","v":{"v":0,"d":"0.0"}},{"$f":"IF(CV18>CW18,\"W\",IF(CV18<CW18,\"L\",IF(CV18=0,\"\",IF(CV18=CW18,\"D\",0))))","v":""},1,6,{"$nulls":3},{"$f":"IF(DK18=\"D\",\"D\",IF(DK18=\"W\",DI18,IF(DK18=\"L\",DI18,0)))","v":0},{"$f":"IF(DE18+DF18=0,0,IF(DE18+DF18>0.1,DE18-DF18,0))","v":0},{"$f":"IF(DK18=\"W\",$X$3,IF(DK18=\"D\",$AG$3,0))","v":{"v":0,"d":"0.0"}},{"$f":"IF(DE18>DF18,\"W\",IF(DE18<DF18,\"L\",IF(DE18=0,\"\",IF(DE18=DF18,\"D\",0))))","v":""},14,1,{"$nulls":3},{"$f":"IF(DT18=\"D\",\"D\",IF(DT18=\"W\",DR18,IF(DT18=\"L\",DR18,0)))","v":0},{"$f":"IF(DN18+DO18=0,0,IF(DN18+DO18>0.1,DN18-DO18,0))","v":0},{"$f":"IF(DT18=\"W\",$X$3,IF(DT18=\"D\",$AG$3,0))","v":{"v":0,"d":"0.0"}},{"$f":"IF(DN18>DO18,\"W\",IF(DN18<DO18,\"L\",IF(DN18=0,\"\",IF(DN18=DO18,\"D\",0))))","v":""},16,8,{"$nulls":3},{"$f":"IF(EC18=\"D\",\"D\",IF(EC18=\"W\",EA18,IF(EC18=\"L\",EA18,0)))","v":0},{"$f":"IF(DW18+DX18=0,0,IF(DW18+DX18>0.1,DW18-DX18,0))","v":0},{"$f":"IF(EC18=\"W\",$X$3,IF(EC18=\"D\",$AG$3,0))","v":{"v":0,"d":"0.0"}},{"$f":"IF(DW18>DX18,\"W\",IF(DW18<DX18,\"L\",IF(DW18=0,\"\",IF(DW18=DX18,\"D\",0))))","v":""},3,5,{"$nulls":3},{"$f":"IF(EL18=\"D\",\"D\",IF(EL18=\"W\",EJ18,IF(EL18=\"L\",EJ18,0)))","v":0},{"$f":"IF(EF18+EG18=0,0,IF(EF18+EG18>0.1,EF18-EG18,0))","v":0},{"$f":"IF(EL18=\"W\",$X$3,IF(EL18=\"D\",$AG$3,0))","v":{"v":0,"d":"0.0"}},{"$f":"IF(EF18>EG18,\"W\",IF(EF18<EG18,\"L\",IF(EF18=0,\"\",IF(EF18=EG18,\"D\",0))))","v":""},5,7,{"$nulls":3},{"$f":"IF(EU18=\"D\",\"D\",IF(EU18=\"W\",ES18,IF(EU18=\"L\",ES18,0)))","v":0},{"$f":"IF(EO18+EP18=0,0,IF(EO18+EP18>0.1,EO18-EP18,0))","v":0},{"$f":"IF(EU18=\"W\",$X$3,IF(EU18=\"D\",$AG$3,0))","v":{"v":0,"d":"0.0"}},{"$f":"IF(EO18>EP18,\"W\",IF(EO18<EP18,\"L\",IF(EO18=0,\"\",IF(EO18=EP18,\"D\",0))))","v":""},7,6,{"$nulls":3},{"$f":"IF(FD18=\"D\",\"D\",IF(FD18=\"W\",FB18,IF(FD18=\"L\",FB18,0)))","v":0},{"$f":"IF(EX18+EY18=0,0,IF(EX18+EY18>0.1,EX18-EY18,0))","v":0},{"$f":"IF(FD18=\"W\",$X$3,IF(FD18=\"D\",$AG$3,0))","v":{"v":0,"d":"0.0"}},{"$f":"IF(EX18>EY18,\"W\",IF(EX18<EY18,\"L\",IF(EX18=0,\"\",IF(EX18=EY18,\"D\",0))))","v":""},9,2,{"$nulls":3},{"$f":"IF(FM18=\"D\",\"D\",IF(FM18=\"W\",FK18,IF(FM18=\"L\",FK18,0)))","v":0},{"$f":"IF(FG18+FH18=0,0,IF(FG18+FH18>0.1,FG18-FH18,0))","v":0},{"$f":"IF(FM18=\"W\",$X$3,IF(FM18=\"D\",$AG$3,0))","v":{"v":0,"d":"0.0"}},{"$f":"IF(FG18>FH18,\"W\",IF(FG18<FH18,\"L\",IF(FG18=0,\"\",IF(FG18=FH18,\"D\",0))))","v":""},11,8,{"$nulls":3},{"$f":"IF(FV18=\"D\",\"D\",IF(FV18=\"W\",FT18,IF(FV18=\"L\",FT18,0)))","v":0},{"$f":"IF(FP18+FQ18=0,0,IF(FP18+FQ18>0.1,FP18-FQ18,0))","v":0},{"$f":"IF(FV18=\"W\",$X$3,IF(FV18=\"D\",$AG$3,0))","v":{"v":0,"d":"0.0"}},{"$f":"IF(FP18>FQ18,\"W\",IF(FP18<FQ18,\"L\",IF(FP18=0,\"\",IF(FP18=FQ18,\"D\",0))))","v":""},{"$nulls":3},{"$f":"IF(GC18=\"D\",\"D\",IF(GC18=\"W\",GA18,IF(GC18=\"L\",GA18,0)))","v":0},{"$f":"IF(FW18+FX18=0,0,IF(FW18+FX18>0.1,FW18-FX18,0))","v":0},{"$f":"IF(GC18=\"W\",1,IF(GC18=\"D\",0.5,0))","v":{"v":0,"d":"0.0"}},{"$f":"IF(FW18>FX18,\"W\",IF(FW18<FX18,\"L\",IF(FW18=0,\"\",IF(FW18=FX18,\"D\",0))))","v":""},13,3,{"$nulls":3},{"$f":"IF(GL18=\"D\",\"D\",IF(GL18=\"W\",GJ18,IF(GL18=\"L\",GJ18,0)))","v":0},{"$f":"IF(GF18+GG18=0,0,IF(GF18+GG18>0.1,GF18-GG18,0))","v":0},{"$f":"IF(GL18=\"W\",$X$3,IF(GL18=\"D\",$AG$3,0))","v":{"v":0,"d":"0.0"}},{"$f":"IF(GF18>GG18,\"W\",IF(GF18<GG18,\"L\",IF(GF18=0,\"\",IF(GF18=GG18,\"D\",0))))","v":""},15,1,{"$nulls":3},{"$f":"IF(GU18=\"D\",\"D\",IF(GU18=\"W\",GS18,IF(GU18=\"L\",GS18,0)))","v":0},{"$f":"IF(GO18+GP18=0,0,IF(GO18+GP18>0.1,GO18-GP18,0))","v":0},{"$f":"IF(GU18=\"W\",$X$3,IF(GU18=\"D\",$AG$3,0))","v":{"v":0,"d":"0.0"}},{"$f":"IF(GO18>GP18,\"W\",IF(GO18<GP18,\"L\",IF(GO18=0,\"\",IF(GO18=GP18,\"D\",0))))","v":""},16,8,{"$nulls":3},{"$f":"IF(HD18=\"D\",\"D\",IF(HD18=\"W\",HB18,IF(HD18=\"L\",HB18,0)))","v":0},{"$f":"IF(GX18+GY18=0,0,IF(GX18+GY18>0.1,GX18-GY18,0))","v":0},{"$f":"IF(HD18=\"W\",$X$3,IF(HD18=\"D\",$AG$3,0))","v":{"v":0,"d":"0.0"}},{"$f":"IF(GX18>GY18,\"W\",IF(GX18<GY18,\"L\",IF(GX18=0,\"\",IF(GX18=GY18,\"D\",0))))","v":""},3,2,{"$nulls":3},{"$f":"IF(HM18=\"D\",\"D\",IF(HM18=\"W\",HK18,IF(HM18=\"L\",HK18,0)))","v":0},{"$f":"IF(HG18+HH18=0,0,IF(HG18+HH18>0.1,HG18-HH18,0))","v":0},{"$f":"IF(HM18=\"W\",$X$3,IF(HM18=\"D\",$AG$3,0))","v":{"v":0,"d":"0.0"}},{"$f":"IF(HG18>HH18,\"W\",IF(HG18<HH18,\"L\",IF(HG18=0,\"\",IF(HG18=HH18,\"D\",0))))","v":""},5,5,{"$nulls":3},{"$f":"IF(HV18=\"D\",\"D\",IF(HV18=\"W\",HT18,IF(HV18=\"L\",HT18,0)))","v":0},{"$f":"IF(HP18+HQ18=0,0,IF(HP18+HQ18>0.1,HP18-HQ18,0))","v":0},{"$f":"IF(HV18=\"W\",$X$3,IF(HV18=\"D\",$AG$3,0))","v":{"v":0,"d":"0.0"}},{"$f":"IF(HP18>HQ18,\"W\",IF(HP18<HQ18,\"L\",IF(HP18=0,\"\",IF(HP18=HQ18,\"D\",0))))","v":""},7,4,{"$nulls":3},{"$f":"IF(IE18=\"D\",\"D\",IF(IE18=\"W\",IC18,IF(IE18=\"L\",IC18,0)))","v":0},{"$f":"IF(HY18+HZ18=0,0,IF(HY18+HZ18>0.1,HY18-HZ18,0))","v":0},{"$f":"IF(IE18=\"W\",$X$3,IF(IE18=\"D\",$AG$3,0))","v":{"v":0,"d":"0.0"}},{"$f":"IF(HY18>HZ18,\"W\",IF(HY18<HZ18,\"L\",IF(HY18=0,\"\",IF(HY18=HZ18,\"D\",0))))","v":""},9,3,{"$nulls":3},{"$f":"IF(IN18=\"D\",\"D\",IF(IN18=\"W\",IL18,IF(IN18=\"L\",IL18,0)))","v":0},{"$f":"IF(IH18+II18=0,0,IF(IH18+II18>0.1,IH18-II18,0))","v":0},{"$f":"IF(IN18=\"W\",$X$3,IF(IN18=\"D\",$AG$3,0))","v":{"v":0,"d":"0.0"}},{"$f":"IF(IH18>II18,\"W\",IF(IH18<II18,\"L\",IF(IH18=0,\"\",IF(IH18=II18,\"D\",0))))","v":""},11,7,{"$nulls":3},{"$f":"IF(IW18=\"D\",\"D\",IF(IW18=\"W\",IU18,IF(IW18=\"L\",IU18,0)))","v":0},{"$f":"IF(IQ18+IR18=0,0,IF(IQ18+IR18>0.1,IQ18-IR18,0))","v":0},{"$f":"IF(IW18=\"W\",$X$3,IF(IW18=\"D\",$AG$3,0))","v":{"v":0,"d":"0.0"}},{"$f":"IF(IQ18>IR18,\"W\",IF(IQ18<IR18,\"L\",IF(IQ18=0,\"\",IF(IQ18=IR18,\"D\",0))))","v":""},1,3,{"$nulls":3},{"$f":"IF(JF18=\"D\",\"D\",IF(JF18=\"W\",JD18,IF(JF18=\"L\",JD18,0)))","v":0},{"$f":"IF(IZ18+JA18=0,0,IF(IZ18+JA18>0.1,IZ18-JA18,0))","v":0},{"$f":"IF(JF18=\"W\",$X$3,IF(JF18=\"D\",$AG$3,0))","v":{"v":0,"d":"0.0"}},{"$f":"IF(IZ18>JA18,\"W\",IF(IZ18<JA18,\"L\",IF(IZ18=0,\"\",IF(IZ18=JA18,\"D\",0))))","v":""},15,2,{"$nulls":3},{"$f":"IF(JO18=\"D\",\"D\",IF(JO18=\"W\",JM18,IF(JO18=\"L\",JM18,0)))","v":0},{"$f":"IF(JI18+JJ18=0,0,IF(JI18+JJ18>0.1,JI18-JJ18,0))","v":0},{"$f":"IF(JO18=\"W\",$X$3,IF(JO18=\"D\",$AG$3,0))","v":{"v":0,"d":"0.0"}},{"$f":"IF(JI18>JJ18,\"W\",IF(JI18<JJ18,\"L\",IF(JI18=0,\"\",IF(JI18=JJ18,\"D\",0))))","v":""},{"$nulls":3},{"$f":"IF(JV18=\"D\",\"D\",IF(JV18=\"W\",JT18,IF(JV18=\"L\",JT18,0)))","v":0},{"$f":"IF(JP18+JQ18=0,0,IF(JP18+JQ18>0.1,JP18-JQ18,0))","v":0},{"$f":"IF(JV18=\"W\",1,IF(JV18=\"D\",0.5,0))","v":{"v":0,"d":"0.0"}},{"$f":"IF(JP18>JQ18,\"W\",IF(JP18<JQ18,\"L\",IF(JP18=0,\"\",IF(JP18=JQ18,\"D\",0))))","v":""},2,8,{"$nulls":3},{"$f":"IF(KE18=\"D\",\"D\",IF(KE18=\"W\",KC18,IF(KE18=\"L\",KC18,0)))","v":0},{"$f":"IF(JY18+JZ18=0,0,IF(JY18+JZ18>0.1,JY18-JZ18,0))","v":0},{"$f":"IF(KE18=\"W\",$X$3,IF(KE18=\"D\",$AG$3,0))","v":{"v":0,"d":"0.0"}},{"$f":"IF(JY18>JZ18,\"W\",IF(JY18<JZ18,\"L\",IF(JY18=0,\"\",IF(JY18=JZ18,\"D\",0))))","v":""},4,6,{"$nulls":3},{"$f":"IF(KN18=\"D\",\"D\",IF(KN18=\"W\",KL18,IF(KN18=\"L\",KL18,0)))","v":0},{"$f":"IF(KH18+KI18=0,0,IF(KH18+KI18>0.1,KH18-KI18,0))","v":0},{"$f":"IF(KN18=\"W\",$X$3,IF(KN18=\"D\",$AG$3,0))","v":{"v":0,"d":"0.0"}},{"$f":"IF(KH18>KI18,\"W\",IF(KH18<KI18,\"L\",IF(KH18=0,\"\",IF(KH18=KI18,\"D\",0))))","v":""},6,5,{"$nulls":3},{"$f":"IF(KW18=\"D\",\"D\",IF(KW18=\"W\",KU18,IF(KW18=\"L\",KU18,0)))","v":0},{"$f":"IF(KQ18+KR18=0,0,IF(KQ18+KR18>0.1,KQ18-KR18,0))","v":0},{"$f":"IF(KW18=\"W\",$X$3,IF(KW18=\"D\",$AG$3,0))","v":{"v":0,"d":"0.0"}},{"$f":"IF(KQ18>KR18,\"W\",IF(KQ18<KR18,\"L\",IF(KQ18=0,\"\",IF(KQ18=KR18,\"D\",0))))","v":""},8,6,{"$nulls":3},{"$f":"IF(LF18=\"D\",\"D\",IF(LF18=\"W\",LD18,IF(LF18=\"L\",LD18,0)))","v":0},{"$f":"IF(KZ18+LA18=0,0,IF(KZ18+LA18>0.1,KZ18-LA18,0))","v":0},{"$f":"IF(LF18=\"W\",$X$3,IF(LF18=\"D\",$AG$3,0))","v":{"v":0,"d":"0.0"}},{"$f":"IF(KZ18>LA18,\"W\",IF(KZ18<LA18,\"L\",IF(KZ18=0,\"\",IF(KZ18=LA18,\"D\",0))))","v":""},10,7,{"$nulls":3},{"$f":"IF(LO18=\"D\",\"D\",IF(LO18=\"W\",LM18,IF(LO18=\"L\",LM18,0)))","v":0},{"$f":"IF(LI18+LJ18=0,0,IF(LI18+LJ18>0.1,LI18-LJ18,0))","v":0},{"$f":"IF(LO18=\"W\",$X$3,IF(LO18=\"D\",$AG$3,0))","v":{"v":0,"d":"0.0"}},{"$f":"IF(LI18>LJ18,\"W\",IF(LI18<LJ18,\"L\",IF(LI18=0,\"\",IF(LI18=LJ18,\"D\",0))))","v":""},12,3,{"$nulls":3},{"$f":"IF(LX18=\"D\",\"D\",IF(LX18=\"W\",LV18,IF(LX18=\"L\",LV18,0)))","v":0},{"$f":"IF(LR18+LS18=0,0,IF(LR18+LS18>0.1,LR18-LS18,0))","v":0},{"$f":"IF(LX18=\"W\",$X$3,IF(LX18=\"D\",$AG$3,0))","v":{"v":0,"d":"0.0"}},{"$f":"IF(LR18>LS18,\"W\",IF(LR18<LS18,\"L\",IF(LR18=0,\"\",IF(LR18=LS18,\"D\",0))))","v":""},14,6,{"$nulls":3},{"$f":"IF(MG18=\"D\",\"D\",IF(MG18=\"W\",ME18,IF(MG18=\"L\",ME18,0)))","v":0},{"$f":"IF(MA18+MB18=0,0,IF(MA18+MB18>0.1,MA18-MB18,0))","v":0},{"$f":"IF(MG18=\"W\",$X$3,IF(MG18=\"D\",$AG$3,0))","v":{"v":0,"d":"0.0"}},{"$f":"IF(MA18>MB18,\"W\",IF(MA18<MB18,\"L\",IF(MA18=0,\"\",IF(MA18=MB18,\"D\",0))))","v":""},16,8,{"$nulls":3},{"$f":"IF(MP18=\"D\",\"D\",IF(MP18=\"W\",MN18,IF(MP18=\"L\",MN18,0)))","v":0},{"$f":"IF(MJ18+MK18=0,0,IF(MJ18+MK18>0.1,MJ18-MK18,0))","v":0},{"$f":"IF(MP18=\"W\",$X$3,IF(MP18=\"D\",$AG$3,0))","v":{"v":0,"d":"0.0"}},{"$f":"IF(MJ18>MK18,\"W\",IF(MJ18<MK18,\"L\",IF(MJ18=0,\"\",IF(MJ18=MK18,\"D\",0))))","v":""}]

{"sheet":"Score Cards","index":3,"n_rows":646,"n_cols":140,"rows_kept":646,"hidden":true,"merged":[[0,0,0,5],[0,7,0,12],[0,14,0,19],[0,20,0,25],[0,27,0,32],[0,34,0,39],[0,40,0,45],[0,47,0,52],[0,54,0,59],[0,67,0,72],[0,74,0,79],[1,0,2,2],[1,3,2,5],[1,7,2,9],[1,10,2,12],[1,14,2,16],[1,17,2,19],[1,20,2,22],[1,23,2,25],[1,27,2,29],[1,30,2,32],[1,34,2,36],[1,37,2,39],[1,40,2,42],[1,43,2,45],[1,47,2,49],[1,50,2,52],[1,54,2,56],[1,57,2,59],[1,67,2,69],[1,70,2,72],[1,74,2,76],[1,77,2,79],[3,0,3,2],[3,3,3,5],[3,7,3,9],[3,10,3,12],[3,14,3,16],[3,17,3,19],[3,20,3,22],[3,23,3,25],[3,27,3,29],[3,30,3,32],[3,34,3,36],[3,37,3,39],[3,40,3,42],[3,43,3,45],[3,47,3,49],[3,50,3,52],[3,54,3,56],[3,57,3,59],[3,67,3,69],[3,70,3,72],[3,74,3,76],[3,77,3,79],[24,0,25,0],[24,7,25,7],[24,14,25,14],[24,20,25,20],[24,27,25,27],[24,34,25,34],[24,40,25,40],[24,47,25,47],[24,54,25,54],[24,67,25,67],[24,74,25,74],[28,0,28,5],[28,7,28,12],[28,14,28,19],[28,20,28,25],[28,27,28,32],[28,34,28,39],[28,40,28,45],[28,47,28,52],[28,54,28,59],[28,60,28,65],[28,67,28,72],[28,74,28,79],[29,0,30,2],[29,3,30,5],[29,7,30,9],[29,10,30,12],[29,14,30,16],[29,17,30,19],[29,20,30,22],[29,23,30,25],[29,27,30,29],[29,30,30,32],[29,34,30,36],[29,37,30,39],[29,40,30,42],[29,43,30,45],[29,47,30,49],[29,50,30,52],[29,54,30,56],[29,57,30,59],[29,60,30,62],[29,63,30,65],[29,67,30,69],[29,70,30,72],[29,74,30,76],[29,77,30,79],[31,0,31,2],[31,3,31,5],[31,7,31,9],[31,10,31,12],[31,14,31,16],[31,17,31,19],[31,20,31,22],[31,23,31,25],[31,27,31,29],[31,30,31,32],[31,34,31,36],[31,37,31,39],[31,40,31,42],[31,43,31,45],[31,47,31,49],[31,50,31,52],[31,54,31,56],[31,57,31,59],[52,0,53,0],[52,7,53,7],[52,14,53,14],[52,20,53,20],[52,27,53,27],[52,34,53,34],[52,40,53,40],[52,47,53,47],[52,54,53,54],[52,60,53,60],[54,0,54,5],[54,7,54,12],[54,14,54,19],[54,20,54,25],[54,27,54,32],[54,34,54,39],[54,40,54,45],[54,47,54,52],[54,54,54,59],[55,0,56,2],[55,3,56,5],[55,7,56,9],[55,10,56,12],[55,14,56,16],[55,17,56,19],[55,20,56,22],[55,23,56,25],[55,27,56,29],[55,30,56,32],[55,34,56,36],[55,37,56,39],[55,40,56,42],[55,43,56,45],[55,47,56,49],[55,50,56,52],[55,54,56,56],[55,57,56,59],[55,60,56,62],[55,63,56,65],[55,67,56,69],[55,70,56,72],[55,74,56,76],[55,77,56,79],[57,0,57,2],[57,3,57,5],[57,7,57,9],[57,10,57,12],[57,14,57,16],[57,17,57,19],[57,20,57,22],[57,23,57,25],[57,27,57,29],[57,30,57,32],[57,34,57,36],[57,37,57,39],[57,40,57,42],[57,43,57,45],[57,47,57,49],[57,50,57,52],[57,54,57,56],[57,57,57,59],[78,0,79,0],[78,7,79,7],[78,14,79,14],[78,20,79,20],[78,27,79,27],[78,34,79,34],[78,40,79,40],[78,47,79,47],[78,54,79,54],[82,0,82,5],[82,7,82,12],[82,14,82,19],[82,20,82,25],[82,27,82,32],[82,34,82,39],[82,40,82,45],[82,47,82,52],[82,54,82,59],[83,0,84,2],[83,3,84,5],[83,7,84,9],[83,10,84,12],[83,14,84,16],[83,17,84,19],[83,20,84,22],[83,23,84,25],[83,27,84,29],[83,30,84,32],[83,34,84,36],[83,37,84,39],[83,40,84,42],[83,43,84,45],[83,47,84,49],[83,50,84,52],[83,54,84,56],[83,57,84,59],[85,0,85,2],[85,3,85,5],[85,7,85,9],[85,10,85,12],[85,14,85,16],[85,17,85,19],[85,20,85,22],[85,23,85,25],[85,27,85,29],[85,30,85,32],[85,34,85,36],[85,37,85,39],[85,40,85,42],[85,43,85,45],[85,47,85,49],[85,50,85,52],[85,54,85,56],[85,57,85,59],[106,0,107,0],[106,7,107,7],[106,14,107,14],[106,20,107,20],[106,27,107,27],[106,34,107,34],[106,40,107,40],[106,47,107,47],[106,54,107,54],[108,0,108,5],[108,7,108,12],[108,14,108,19],[108,20,108,25],[108,27,108,32],[108,34,108,39],[108,40,108,45],[108,47,108,52],[108,54,108,59],[109,0,110,2],[109,3,110,5],[109,7,110,9],[109,10,110,12],[109,14,110,16],[109,17,110,19],[109,20,110,22],[109,23,110,25],[109,27,110,29],[109,30,110,32],[109,34,110,36],[109,37,110,39],[109,40,110,42],[109,43,110,45],[109,47,110,49],[109,50,110,52],[109,54,110,56],[109,57,110,59],[111,0,111,2],[111,3,111,5],[111,7,111,9],[111,10,111,12],[111,14,111,16],[111,17,111,19],[111,20,111,22],[111,23,111,25],[111,27,111,29],[111,30,111,32],[111,34,111,36],[111,37,111,39],[111,40,111,42],[111,43,111,45],[111,47,111,49],[111,50,111,52],[111,54,111,56],[111,57,111,59],[132,0,133,0],[132,7,133,7],[132,14,133,14],[132,20,133,20],[132,27,133,27],[132,34,133,34],[132,40,133,40],[132,47,133,47],[132,54,133,54],[136,0,136,5],[136,7,136,12],[136,14,136,19],[136,20,136,25],[136,27,136,32],[136,34,136,39],[136,40,136,45],[136,47,136,52],[136,54,136,59],[137,0,138,2],[137,3,138,5],[137,7,138,9],[137,10,138,12],[137,14,138,16],[137,17,138,19],[137,20,138,22],[137,23,138,25],[137,27,138,29],[137,30,138,32],[137,34,138,36],[137,37,138,39],[137,40,138,42],[137,43,138,45],[137,47,138,49],[137,50,138,52],[137,54,138,56],[137,57,138,59],[139,0,139,2],[139,3,139,5],[139,7,139,9],[139,10,139,12],[139,14,139,16],[139,17,139,19],[139,20,139,22],[139,23,139,25],[139,27,139,29],[139,30,139,32],[139,34,139,36],[139,37,139,39],[139,40,139,42],[139,43,139,45],[139,47,139,49],[139,50,139,52],[139,54,139,56],[139,57,139,59],[160,0,161,0],[160,7,161,7],[160,14,161,14],[160,20,161,20],[160,27,161,27],[160,34,161,34],[160,40,161,40],[160,47,161,47],[160,54,161,54],[162,0,162,5],[162,7,162,12],[162,14,162,19],[162,20,162,25],[162,27,162,32],[162,34,162,39],[162,40,162,45],[162,47,162,52],[162,54,162,59],[163,0,164,2],[163,3,164,5],[163,7,164,9],[163,10,164,12],[163,14,164,16],[163,17,164,19],[163,20,164,22],[163,23,164,25],[163,27,164,29],[163,30,164,32],[163,34,164,36],[163,37,164,39],[163,40,164,42],[163,43,164,45],[163,47,164,49],[163,50,164,52],[163,54,164,56],[163,57,164,59],[165,0,165,2],[165,3,165,5],[165,7,165,9],[165,10,165,12],[165,14,165,16],[165,17,165,19],[165,20,165,22],[165,23,165,25],[165,27,165,29],[165,30,165,32],[165,34,165,36],[165,37,165,39],[165,40,165,42],[165,43,165,45],[165,47,165,49],[165,50,165,52],[165,54,165,56],[165,57,165,59],[186,0,187,0],[186,7,187,7],[186,14,187,14],[186,20,187,20],[186,27,187,27],[186,34,187,34],[186,40,187,40],[186,47,187,47],[186,54,187,54],[190,0,190,5],[190,7,190,12],[190,14,190,19],[190,20,190,25],[190,27,190,32],[190,34,190,39],[190,40,190,45],[190,47,190,52],[190,54,190,59],[191,0,192,2],[191,3,192,5],[191,7,192,9],[191,10,192,12],[191,14,192,16],[191,17,192,19],[191,20,192,22],[191,23,192,25],[191,27,192,29],[191,30,192,32],[191,34,192,36],[191,37,192,39],[191,40,192,42],[191,43,192,45],[191,47,192,49],[191,50,192,52],[191,54,192,56],[191,57,192,59],[193,0,193,2],[193,3,193,5],[193,7,193,9],[193,10,193,12],[193,14,193,16],[193,17,193,19],[193,20,193,22],[193,23,193,25],[193,27,193,29],[193,30,193,32],[193,34,193,36],[193,37,193,39],[193,40,193,42],[193,43,193,45],[193,47,193,49],[193,50,193,52],[193,54,193,56],[193,57,193,59],[214,0,215,0],[214,7,215,7],[214,14,215,14],[214,20,215,20],[214,27,215,27],[214,34,215,34],[214,40,215,40],[214,47,215,47],[214,54,215,54],[216,0,216,5],[216,7,216,12],[216,14,216,19],[216,20,216,25],[216,27,216,32],[216,34,216,39],[216,40,216,45],[216,47,216,52],[216,54,216,59],[217,0,218,2],[217,3,218,5],[217,7,218,9],[217,10,218,12],[217,14,218,16],[217,17,218,19],[217,20,218,22],[217,23,218,25],[217,27,218,29],[217,30,218,32],[217,34,218,36],[217,37,218,39],[217,40,218,42],[217,43,218,45],[217,47,218,49],[217,50,218,52],[217,54,218,56],[217,57,218,59],[219,0,219,2],[219,3,219,5],[219,7,219,9],[219,10,219,12],[219,14,219,16],[219,17,219,19],[219,20,219,22],[219,23,219,25],[219,27,219,29],[219,30,219,32],[219,34,219,36],[219,37,219,39],[219,40,219,42],[219,43,219,45],[219,47,219,49],[219,50,219,52],[219,54,219,56],[219,57,219,59],[240,0,241,0],[240,7,241,7],[240,14,241,14],[240,20,241,20],[240,27,241,27],[240,34,241,34],[240,40,241,40],[240,47,241,47],[240,54,241,54],[244,0,244,5],[244,7,244,12],[244,14,244,19],[244,20,244,25],[244,27,244,32],[244,34,244,39],[244,40,244,45],[244,47,244,52],[244,54,244,59],[245,0,246,2],[245,3,246,5],[245,7,246,9],[245,10,246,12],[245,14,246,16],[245,17,246,19],[245,20,246,22],[245,23,246,25],[245,27,246,29],[245,30,246,32],[245,34,246,36],[245,37,246,39],[245,40,246,42],[245,43,246,45],[245,47,246,49],[245,50,246,52],[245,54,246,56],[245,57,246,59],[247,0,247,2],[247,3,247,5],[247,7,247,9],[247,10,247,12],[247,14,247,16],[247,17,247,19],[247,20,247,22],[247,23,247,25],[247,27,247,29],[247,30,247,32],[247,34,247,36],[247,37,247,39],[247,40,247,42],[247,43,247,45],[247,47,247,49],[247,50,247,52],[247,54,247,56],[247,57,247,59],[268,0,269,0],[268,7,269,7],[268,14,269,14],[268,20,269,20],[268,27,269,27],[268,34,269,34],[268,40,269,40],[268,47,269,47],[268,54,269,54],[270,0,270,5],[270,7,270,12],[270,14,270,19],[270,20,270,25],[270,27,270,32],[270,34,270,39],[270,40,270,45],[270,47,270,52],[270,54,270,59],[271,0,272,2],[271,3,272,5],[271,7,272,9],[271,10,272,12],[271,14,272,16],[271,17,272,19],[271,20,272,22],[271,23,272,25],[271,27,272,29],[271,30,272,32],[271,34,272,36],[271,37,272,39],[271,40,272,42],[271,43,272,45],[271,47,272,49],[271,50,272,52],[271,54,272,56],[271,57,272,59],[273,0,273,2],[273,3,273,5],[273,7,273,9],[273,10,273,12],[273,14,273,16],[273,17,273,19],[273,20,273,22],[273,23,273,25],[273,27,273,29],[273,30,273,32],[273,34,273,36],[273,37,273,39],[273,40,273,42],[273,43,273,45],[273,47,273,49],[273,50,273,52],[273,54,273,56],[273,57,273,59],[294,0,295,0],[294,7,295,7],[294,14,295,14],[294,20,295,20],[294,27,295,27],[294,34,295,34],[294,40,295,40],[294,47,295,47],[294,54,295,54],[298,0,298,5],[298,7,298,12],[298,14,298,19],[298,20,298,25],[298,27,298,32],[298,34,298,39],[298,40,298,45],[298,47,298,52],[298,54,298,59],[299,0,300,2],[299,3,300,5],[299,7,300,9],[299,10,300,12],[299,14,300,16],[299,17,300,19],[299,20,300,22],[299,23,300,25],[299,27,300,29],[299,30,300,32],[299,34,300,36],[299,37,300,39],[299,40,300,42],[299,43,300,45],[299,47,300,49],[299,50,300,52],[299,54,300,56],[299,57,300,59],[301,0,301,2],[301,3,301,5],[301,7,301,9],[301,10,301,12],[301,14,301,16],[301,17,301,19],[301,20,301,22],[301,23,301,25],[301,27,301,29],[301,30,301,32],[301,34,301,36],[301,37,301,39],[301,40,301,42],[301,43,301,45],[301,47,301,49],[301,50,301,52],[301,54,301,56],[301,57,301,59],[322,0,323,0],[322,7,323,7],[322,14,323,14],[322,20,323,20],[322,27,323,27],[322,34,323,34],[322,40,323,40],[322,47,323,47],[322,54,323,54],[324,0,324,5],[324,7,324,12],[324,14,324,19],[324,20,324,25],[324,27,324,32],[324,34,324,39],[324,40,324,45],[324,47,324,52],[324,54,324,59],[325,0,326,2],[325,3,326,5],[325,7,326,9],[325,10,326,12],[325,14,326,16],[325,17,326,19],[325,20,326,22],[325,23,326,25],[325,27,326,29],[325,30,326,32],[325,34,326,36],[325,37,326,39],[325,40,326,42],[325,43,326,45],[325,47,326,49],[325,50,326,52],[325,54,326,56],[325,57,326,59],[327,0,327,2],[327,3,327,5],[327,7,327,9],[327,10,327,12],[327,14,327,16],[327,17,327,19],[327,20,327,22],[327,23,327,25],[327,27,327,29],[327,30,327,32],[327,34,327,36],[327,37,327,39],[327,40,327,42],[327,43,327,45],[327,47,327,49],[327,50,327,52],[327,54,327,56],[327,57,327,59],[348,0,349,0],[348,7,349,7],[348,14,349,14],[348,20,349,20],[348,27,349,27],[348,34,349,34],[348,40,349,40],[348,47,349,47],[348,54,349,54],[352,0,352,5],[352,7,352,12],[352,14,352,19],[352,20,352,25],[352,27,352,32],[352,34,352,39],[352,40,352,45],[352,47,352,52],[352,54,352,59],[353,0,354,2],[353,3,354,5],[353,7,354,9],[353,10,354,12],[353,14,354,16],[353,17,354,19],[353,20,354,22],[353,23,354,25],[353,27,354,29],[353,30,354,32],[353,34,354,36],[353,37,354,39],[353,40,354,42],[353,43,354,45],[353,47,354,49],[353,50,354,52],[353,54,354,56],[353,57,354,59],[355,0,355,2],[355,3,355,5],[355,7,355,9],[355,10,355,12],[355,14,355,16],[355,17,355,19],[355,20,355,22],[355,23,355,25],[355,27,355,29],[355,30,355,32],[355,34,355,36],[355,37,355,39],[355,40,355,42],[355,43,355,45],[355,47,355,49],[355,50,355,52],[355,54,355,56],[355,57,355,59],[376,0,377,0],[376,7,377,7],[376,14,377,14],[376,20,377,20],[376,27,377,27],[376,34,377,34],[376,40,377,40],[376,47,377,47],[376,54,377,54],[378,0,378,5],[378,7,378,12],[378,14,378,19],[378,20,378,25],[378,27,378,32],[378,34,378,39],[378,40,378,45],[378,47,378,52],[378,54,378,59],[379,0,380,2],[379,3,380,5],[379,7,380,9],[379,10,380,12],[379,14,380,16],[379,17,380,19],[379,20,380,22],[379,23,380,25],[379,27,380,29],[379,30,380,32],[379,34,380,36],[379,37,380,39],[379,40,380,42],[379,43,380,45],[379,47,380,49],[379,50,380,52],[379,54,380,56],[379,57,380,59],[381,0,381,2],[381,3,381,5],[381,7,381,9],[381,10,381,12],[381,14,381,16],[381,17,381,19],[381,20,381,22],[381,23,381,25],[381,27,381,29],[381,30,381,32],[381,34,381,36],[381,37,381,39],[381,40,381,42],[381,43,381,45],[381,47,381,49],[381,50,381,52],[381,54,381,56],[381,57,381,59],[402,0,403,0],[402,7,403,7],[402,14,403,14],[402,20,403,20],[402,27,403,27],[402,34,403,34],[402,40,403,40],[402,47,403,47],[402,54,403,54],[406,0,406,5],[406,7,406,12],[406,14,406,19],[406,20,406,25],[406,27,406,32],[406,34,406,39],[406,40,406,45],[406,47,406,52],[406,54,406,59],[407,0,408,2],[407,3,408,5],[407,7,408,9],[407,10,408,12],[407,14,408,16],[407,17,408,19],[407,20,408,22],[407,23,408,25],[407,27,408,29],[407,30,408,32],[407,34,408,36],[407,37,408,39],[407,40,408,42],[407,43,408,45],[407,47,408,49],[407,50,408,52],[407,54,408,56],[407,57,408,59],[409,0,409,2],[409,3,409,5],[409,7,409,9],[409,10,409,12],[409,14,409,16],[409,17,409,19],[409,20,409,22],[409,23,409,25],[409,27,409,29],[409,30,409,32],[409,34,409,36],[409,37,409,39],[409,40,409,42],[409,43,409,45],[409,47,409,49],[409,50,409,52],[409,54,409,56],[409,57,409,59],[430,0,431,0],[430,7,431,7],[430,14,431,14],[430,20,431,20],[430,27,431,27],[430,34,431,34],[430,40,431,40],[430,47,431,47],[430,54,431,54],[432,0,432,5],[432,7,432,12],[432,14,432,19],[432,20,432,25],[432,27,432,32],[432,34,432,39],[432,40,432,45],[432,47,432,52],[432,54,432,59],[433,0,434,2],[433,3,434,5],[433,7,434,9],[433,10,434,12],[433,14,434,16],[433,17,434,19],[433,20,434,22],[433,23,434,25],[433,27,434,29],[433,30,434,32],[433,34,434,36],[433,37,434,39],[433,40,434,42],[433,43,434,45],[433,47,434,49],[433,50,434,52],[433,54,434,56],[433,57,434,59],[435,0,435,2],[435,3,435,5],[435,7,435,9],[435,10,435,12],[435,14,435,16],[435,17,435,19],[435,20,435,22],[435,23,435,25],[435,27,435,29],[435,30,435,32],[435,34,435,36],[435,37,435,39],[435,40,435,42],[435,43,435,45],[435,47,435,49],[435,50,435,52],[435,54,435,56],[435,57,435,59],[456,0,457,0],[456,7,457,7],[456,14,457,14],[456,20,457,20],[456,27,457,27],[456,34,457,34],[456,40,457,40],[456,47,457,47],[456,54,457,54],[460,0,460,5],[460,7,460,12],[460,14,460,19],[460,20,460,25],[460,27,460,32],[460,34,460,39],[460,40,460,45],[460,47,460,52],[460,54,460,59],[461,0,462,2],[461,3,462,5],[461,7,462,9],[461,10,462,12],[461,14,462,16],[461,17,462,19],[461,20,462,22],[461,23,462,25],[461,27,462,29],[461,30,462,32],[461,34,462,36],[461,37,462,39],[461,40,462,42],[461,43,462,45],[461,47,462,49],[461,50,462,52],[461,54,462,56],[461,57,462,59],[463,0,463,2],[463,3,463,5],[463,7,463,9],[463,10,463,12],[463,14,463,16],[463,17,463,19],[463,20,463,22],[463,23,463,25],[463,27,463,29],[463,30,463,32],[463,34,463,36],[463,37,463,39],[463,40,463,42],[463,43,463,45],[463,47,463,49],[463,50,463,52],[463,54,463,56],[463,57,463,59],[484,0,485,0],[484,7,485,7],[484,14,485,14],[484,20,485,20],[484,27,485,27],[484,34,485,34],[484,40,485,40],[484,47,485,47],[484,54,485,54]],"merged_total":3024,"flags":["merged_cut"]}
["1st Game ",{"$nulls":5},".","2nd Game ",{"$nulls":5},".","3nd Game",{"$nulls":5},"4th Game",{"$nulls":5},".","5th Game",{"$nulls":5},".","6th Game",{"$nulls":5},"7th Game",{"$nulls":5},".","8th Game",{"$nulls":5},".","9th Game",{"$nulls":5},"10th Game",{"$nulls":5},".","11th Game",{"$nulls":5},".","12th Game ",{"$nulls":5},"13th Game",{"$nulls":5},".","14th Game",{"$nulls":5},".","15th Game",{"$nulls":5},"16th Game",{"$nulls":5},".","17th Game",{"$nulls":5},".","18th Game",{"$nulls":5},"19th Game",{"$nulls":5},".","20th Game",{"$nulls":5},".","12th Game "]
["Team No",null,null,"Rink No",{"$nulls":3},"Team No",null,null,"Rink No",{"$nulls":3},"Team No",null,null,"Rink No",null,null,"Team No",null,null,"Rink No",{"$nulls":3},"Team No",null,null,"Rink No",{"$nulls":3},"Team No",null,null,"Rink No",null,null,"Team No",null,null,"Rink No",{"$nulls":3},"Team No",null,null,"Rink No",{"$nulls":3},"Team No",null,null,"Rink No",null,null,"Team No",null,null,"Rink No",{"$nulls":3},"Team No",null,null,"Rink No",{"$nulls":3},"Team No",null,null,"Rink No",null,null,"Team No",null,null,"Rink No",{"$nulls":3},"Team No",null,null,"Rink No",{"$nulls":3},"Team No",null,null,"Rink No",null,null,"Team No",null,null,"Rink No",{"$nulls":3},"Team No",null,null,"Rink No",{"$nulls":3},"Team No",null,null,"Rink No",null,null,"Team No",null,null,"Rink No",{"$nulls":3},"Team No",null,null,"Rink No",{"$nulls":3},"Team No",null,null,"Rink No"]
[]
[{"$f":"DRAW!$B$7","v":1},null,null,{"$f":"DRAW!$E$7","v":1},null,null,".",{"$f":"DRAW!$B$7","v":1},null,null,{"$f":"DRAW!$G$7","v":3},null,null,".",{"$f":"DRAW!$B$7","v":1},null,null,{"$f":"DRAW!$I$7","v":2},null,null,{"$f":"DRAW!$B$7","v":1},null,null,{"$f":"DRAW!$K$7","v":6},null,null,".",{"$f":"DRAW!$B$7","v":1},null,null,{"$f":"DRAW!$M$7","v":4},null,null,".",{"$f":"DRAW!$B$7","v":1},null,null,{"$f":"DRAW!$O$7","v":5},null,null,{"$f":"DRAW!$B$7","v":1},null,null,{"$f":"DRAW!$Q$7","v":4},null,null,".",{"$f":"DRAW!$B$7","v":1},null,null,{"$f":"DRAW!$S$7","v":6},null,null,".",{"$f":"DRAW!$B$7","v":1},null,null,{"$f":"DRAW!U7","v":5},null,null,{"$f":"DRAW!$B$7","v":1},null,null,{"$f":"DRAW!W7","v":1},null,null,".",{"$f":"DRAW!$B$7","v":1},null,null,{"$f":"DRAW!#REF!","v":{"$error":"#REF!"}},null,null,".",{"$f":"DRAW!$B$7","v":1},null,null,{"$f":"DRAW!#REF!","v":{"$error":"#REF!"}},null,null,{"$f":"DRAW!$B$7","v":1},null,null,{"$f":"DRAW!#REF!","v":{"$error":"#REF!"}},null,null,".",{"$f":"DRAW!$B$7","v":1},null,null,{"$f":"DRAW!#REF!","v":{"$error":"#REF!"}},null,null,".",{"$f":"DRAW!$B$7","v":1},null,null,{"$f":"DRAW!#REF!","v":{"$error":"#REF!"}},null,null,{"$f":"DRAW!$B$7","v":1},null,null,{"$f":"DRAW!#REF!","v":{"$error":"#REF!"}},null,null,".",{"$f":"DRAW!$B$7","v":1},null,null,{"$f":"DRAW!#REF!","v":{"$error":"#REF!"}},null,null,".",{"$f":"DRAW!$B$7","v":1},null,null,{"$f":"DRAW!#REF!","v":{"$error":"#REF!"}},null,null,{"$f":"DRAW!$B$7","v":1},null,null,{"$f":"DRAW!#REF!","v":{"$error":"#REF!"}},null,null,".",{"$f":"DRAW!$B$7","v":1},null,null,{"$f":"DRAW!#REF!","v":{"$error":"#REF!"}},null,null,".",{"$f":"DRAW!$B$7","v":1},null,null,{"$f":"DRAW!#REF!","v":{"$error":"#REF!"}}]
[null,"Team",{"$f":"DRAW!$B$7","v":1},"V","Team",{"$f":"DRAW!$D$7","v":2},null,null,"Team",{"$f":"DRAW!$B$7","v":1},"V","Team",{"$f":"DRAW!$F$7","v":3},null,null,"Team",{"$f":"DRAW!$B$7","v":1},"V","Team",{"$f":"DRAW!$H$7","v":4},null,"Team",{"$f":"DRAW!$B$7","v":1},"V","Team",{"$f":"DRAW!$J$7","v":5},null,null,"Team",{"$f":"DRAW!$B$7","v":1},"V","Team",{"$f":"DRAW!$L$7","v":6},null,null,"Team",{"$f":"DRAW!$B$7","v":1},"V","Team",{"$f":"DRAW!$N$7","v":7},null,"Team",{"$f":"DRAW!$B$7","v":1},"V","Team",{"$f":"DRAW!$P$7","v":8},null,null,"Team",{"$f":"DRAW!$B$7","v":1},"V","Team",{"$f":"DRAW!$R$7","v":9},null,null,"Team",{"$f":"DRAW!$B$7","v":1},"V","Team",{"$f":"DRAW!T7","v":10},null,"Team",{"$f":"DRAW!$B$7","v":1},"V","Team",{"$f":"DRAW!V7","v":11},null,null,"Team",{"$f":"DRAW!$B$7","v":1},"V","Team",{"$f":"DRAW!#REF!","v":{"$error":"#REF!"}},null,null,"Team",{"$f":"DRAW!$B$7","v":1},"V","Team",{"$f":"DRAW!#REF!","v":{"$error":"#REF!"}},null,"Team",{"$f":"DRAW!$B$7","v":1},"V","Team",{"$f":"DRAW!#REF!","v":{"$error":"#REF!"}},null,null,"Team",{"$f":"DRAW!$B$7","v":1},"V","Team",{"$f":"DRAW!#REF!","v":{"$error":"#REF!"}},null,null,"Team",{"$f":"DRAW!$B$7","v":1},"V","Team",{"$f":"DRAW!#REF!","v":{"$error":"#REF!"}},null,"Team",{"$f":"DRAW!$B$7","v":1},"V","Team",{"$f":"DRAW!#REF!","v":{"$error":"#REF!"}},null,null,"Team",{"$f":"DRAW!$B$7","v":1},"V","Team",{"$f":"DRAW!#REF!","v":{"$error":"#REF!"}},null,null,"Team",{"$f":"DRAW!$B$7","v":1},"V","Team",{"$f":"DRAW!#REF!","v":{"$error":"#REF!"}},null,"Team",{"$f":"DRAW!$B$7","v":1},"V","Team",{"$f":"DRAW!#REF!","v":{"$error":"#REF!"}},null,null,"Team",{"$f":"DRAW!$B$7","v":1},"V","Team",{"$f":"DRAW!#REF!","v":{"$error":"#REF!"}},null,null,"Team",{"$f":"DRAW!$B$7","v":1},"V","Team",{"$f":"DRAW!#REF!","v":{"$error":"#REF!"}}]
["Ends","Shots","Total",null,"Shots","Total",null,"Ends","Shots","Total",null,"Shots","Total",null,"Ends","Shots","Total",null,"Shots","Total","Ends","Shots","Total",null,"Shots","Total",null,"Ends","Shots","Total",null,"Shots","Total",null,"Ends","Shots","Total",null,"Shots","Total","Ends","Shots","Total",null,"Shots","Total",null,"Ends","Shots","Total",null,"Shots","Total",null,"Ends","Shots","Total",null,"Shots","Total","Ends","Shots","Total",null,"Shots","Total",null,"Ends","Shots","Total",null,"Shots","Total",null,"Ends","Shots","Total",null,"Shots","Total","Ends","Shots","Total",null,"Shots","Total",null,"Ends","Shots","Total",null,"Shots","Total",null,"Ends","Shots","Total",null,"Shots","Total","Ends","Shots","Total",null,"Shots","Total",null,"Ends","Shots","Total",null,"Shots","Total",null,"Ends","Shots","Total",null,"Shots","Total","Ends","Shots","Total",null,"Shots","Total",null,"Ends","Shots","Total",null,"Shots","Total",null,"Ends","Shots","Total",null,"Shots","Total"]
[1,{"$nulls":5},".",1,{"$nulls":5},".",1,{"$nulls":5},1,{"$nulls":5},".",1,{"$nulls":5},".",1,{"$nulls":5},1,{"$nulls":5},".",1,{"$nulls":5},".",1,{"$nulls":5},1,{"$nulls":5},".",1,{"$nulls":5},".",1,{"$nulls":5},1,{"$nulls":5},".",1,{"$nulls":5},".",1,{"$nulls":5},1,{"$nulls":5},".",1,{"$nulls":5},".",1,{"$nulls":5},1,{"$nulls":5},".",1,{"$nulls":5},".",1]
[2,{"$nulls":6},2,{"$nulls":6},2,{"$nulls":5},2,{"$nulls":6},2,{"$nulls":6},2,{"$nulls":5},2,{"$nulls":6},2,{"$nulls":6},2,{"$nulls":5},2,{"$nulls":6},2,{"$nulls":6},2,{"$nulls":5},2,{"$nulls":6},2,{"$nulls":6},2,{"$nulls":5},2,{"$nulls":6},2,{"$nulls":6},2,{"$nulls":5},2,{"$nulls":6},2,{"$nulls":6},2]
[3,{"$nulls":6},3,{"$nulls":6},3,{"$nulls":5},3,{"$nulls":6},3,{"$nulls":6},3,{"$nulls":5},3,{"$nulls":6},3,{"$nulls":6},3,{"$nulls":5},3,{"$nulls":6},3,{"$nulls":6},3,{"$nulls":5},3,{"$nulls":6},3,{"$nulls":6},3,{"$nulls":5},3,{"$nulls":6},3,{"$nulls":6},3,{"$nulls":5},3,{"$nulls":6},3,{"$nulls":6},3]
[4,{"$nulls":6},4,{"$nulls":6},4,{"$nulls":5},4,{"$nulls":6},4,{"$nulls":6},4,{"$nulls":5},4,{"$nulls":6},4,{"$nulls":6},4,{"$nulls":5},4,{"$nulls":6},4,{"$nulls":6},4,{"$nulls":5},4,{"$nulls":6},4,{"$nulls":6},4,{"$nulls":5},4,{"$nulls":6},4,{"$nulls":6},4,{"$nulls":5},4,{"$nulls":6},4,{"$nulls":6},4]
[5,{"$nulls":5},".",5,{"$nulls":5},".",5,{"$nulls":5},5,{"$nulls":5},".",5,{"$nulls":5},".",5,{"$nulls":5},5,{"$nulls":5},".",5,{"$nulls":5},".",5,{"$nulls":5},5,{"$nulls":5},".",5,{"$nulls":5},".",5,{"$nulls":5},5,{"$nulls":5},".",5,{"$nulls":5},".",5,{"$nulls":5},5,{"$nulls":5},".",5,{"$nulls":5},".",5,{"$nulls":5},5,{"$nulls":5},".",5,{"$nulls":5},".",5]
[6,{"$nulls":6},6,{"$nulls":6},6,{"$nulls":5},6,{"$nulls":6},6,{"$nulls":6},6,{"$nulls":5},6,{"$nulls":6},6,{"$nulls":6},6,{"$nulls":5},6,{"$nulls":6},6,{"$nulls":6},6,{"$nulls":5},6,{"$nulls":6},6,{"$nulls":6},6,{"$nulls":5},6,{"$nulls":6},6,{"$nulls":6},6,{"$nulls":5},6,{"$nulls":6},6,{"$nulls":6},6]
[7,{"$nulls":6},7,{"$nulls":6},7,{"$nulls":5},7,{"$nulls":6},7,{"$nulls":6},7,{"$nulls":5},7,{"$nulls":6},7,{"$nulls":6},7,{"$nulls":5},7,{"$nulls":6},7,{"$nulls":6},7,{"$nulls":5},7,{"$nulls":6},7,{"$nulls":6},7,{"$nulls":5},7,{"$nulls":6},7,{"$nulls":6},7,{"$nulls":5},7,{"$nulls":6},7,{"$nulls":6},7]
[8,{"$nulls":6},8,{"$nulls":6},8,{"$nulls":5},8,{"$nulls":6},8,{"$nulls":6},8,{"$nulls":5},8,{"$nulls":6},8,{"$nulls":6},8,{"$nulls":5},8,{"$nulls":6},8,{"$nulls":6},8,{"$nulls":5},8,{"$nulls":6},8,{"$nulls":6},8,{"$nulls":5},8,{"$nulls":6},8,{"$nulls":6},8,{"$nulls":5},8,{"$nulls":6},8,{"$nulls":6},8]
[9,{"$nulls":5},".",9,{"$nulls":5},".",9,{"$nulls":5},9,{"$nulls":5},".",9,{"$nulls":5},".",9,{"$nulls":5},9,{"$nulls":5},".",9,{"$nulls":5},".",9,{"$nulls":5},9,{"$nulls":5},".",9,{"$nulls":5},".",9,{"$nulls":5},9,{"$nulls":5},".",9,{"$nulls":5},".",9,{"$nulls":5},9,{"$nulls":5},".",9,{"$nulls":5},".",9,{"$nulls":5},9,{"$nulls":5},".",9,{"$nulls":5},".",9]
[10,{"$nulls":6},10,{"$nulls":6},10,{"$nulls":5},10,{"$nulls":6},10,{"$nulls":6},10,{"$nulls":5},10,{"$nulls":6},10,{"$nulls":6},10,{"$nulls":5},10,{"$nulls":6},10,{"$nulls":6},10,{"$nulls":5},10,{"$nulls":6},10,{"$nulls":6},10,{"$nulls":5},10,{"$nulls":6},10,{"$nulls":6},10,{"$nulls":5},10,{"$nulls":6},10,{"$nulls":6},10]
[11,{"$nulls":6},11,{"$nulls":6},11,{"$nulls":5},11,{"$nulls":6},11,{"$nulls":6},11,{"$nulls":5},11,{"$nulls":6},11,{"$nulls":6},11,{"$nulls":5},11,{"$nulls":6},11,{"$nulls":6},11,{"$nulls":5},11,{"$nulls":6},11,{"$nulls":6},11,{"$nulls":5},11,{"$nulls":6},11,{"$nulls":6},11,{"$nulls":5},11,{"$nulls":6},11,{"$nulls":6},11]
[12,{"$nulls":6},12,{"$nulls":6},12,{"$nulls":5},12,{"$nulls":6},12,{"$nulls":6},12,{"$nulls":5},12,{"$nulls":6},12,{"$nulls":6},12,{"$nulls":5},12,{"$nulls":6},12,{"$nulls":6},12,{"$nulls":5},12,{"$nulls":6},12,{"$nulls":6},12,{"$nulls":5},12,{"$nulls":6},12,{"$nulls":6},12,{"$nulls":5},12,{"$nulls":6},12,{"$nulls":6},12]
[13,{"$nulls":5},".",13,{"$nulls":5},".",13,{"$nulls":5},13,{"$nulls":5},".",13,{"$nulls":5},".",13,{"$nulls":5},13,{"$nulls":5},".",13,{"$nulls":5},".",13,{"$nulls":5},13,{"$nulls":5},".",13,{"$nulls":5},".",13,{"$nulls":5},13,{"$nulls":5},".",13,{"$nulls":5},".",13,{"$nulls":5},13,{"$nulls":5},".",13,{"$nulls":5},".",13,{"$nulls":5},13,{"$nulls":5},".",13,{"$nulls":5},".",13]
[14,{"$nulls":6},14,{"$nulls":6},14,{"$nulls":5},14,{"$nulls":6},14,{"$nulls":6},14,{"$nulls":5},14,{"$nulls":6},14,{"$nulls":6},14,{"$nulls":5},14,{"$nulls":6},14,{"$nulls":6},14,{"$nulls":5},14,{"$nulls":6},14,{"$nulls":6},14,{"$nulls":5},14,{"$nulls":6},14,{"$nulls":6},14,{"$nulls":5},14,{"$nulls":6},14,{"$nulls":6},14]
[15,{"$nulls":6},15,{"$nulls":6},15,{"$nulls":5},15,{"$nulls":6},15,{"$nulls":6},15,{"$nulls":5},15,{"$nulls":6},15,{"$nulls":6},15,{"$nulls":5},15,{"$nulls":6},15,{"$nulls":6},15,{"$nulls":5},15,{"$nulls":6},15,{"$nulls":6},15,{"$nulls":5},15,{"$nulls":6},15,{"$nulls":6},15,{"$nulls":5},15,{"$nulls":6},15,{"$nulls":6},15]
[16,{"$nulls":6},16,{"$nulls":6},16,{"$nulls":5},16,{"$nulls":6},16,{"$nulls":6},16,{"$nulls":5},16,{"$nulls":6},16,{"$nulls":6},16,{"$nulls":5},16,{"$nulls":6},16,{"$nulls":6},16,{"$nulls":5},16,{"$nulls":6},16,{"$nulls":6},16,{"$nulls":5},16,{"$nulls":6},16,{"$nulls":6},16,{"$nulls":5},16,{"$nulls":6},16,{"$nulls":6},16]
[17,{"$nulls":5},".",17,{"$nulls":5},".",17,{"$nulls":5},17,{"$nulls":5},".",17,{"$nulls":5},".",17,{"$nulls":5},17,{"$nulls":5},".",17,{"$nulls":5},".",17,{"$nulls":5},17,{"$nulls":5},".",17,{"$nulls":5},".",17,{"$nulls":5},17,{"$nulls":5},".",17,{"$nulls":5},".",17,{"$nulls":5},17,{"$nulls":5},".",17,{"$nulls":5},".",17,{"$nulls":5},17,{"$nulls":5},".",17,{"$nulls":5},".",17]
[18,{"$nulls":6},18,{"$nulls":6},18,{"$nulls":5},18,{"$nulls":6},18,{"$nulls":6},18,{"$nulls":5},18,{"$nulls":6},18,{"$nulls":6},18,{"$nulls":5},18,{"$nulls":6},18,{"$nulls":6},18,{"$nulls":5},18,{"$nulls":6},18,{"$nulls":6},18,{"$nulls":5},18,{"$nulls":6},18,{"$nulls":6},18,{"$nulls":5},18,{"$nulls":6},18,{"$nulls":6},18]
["Total","Shots",null,null,"Shots",null,null,"Total","Shots",null,null,"Shots",null,null,"Total","Shots",null,null,"Shots",null,"Total","Shots",null,null,"Shots",null,null,"Total","Shots",null,null,"Shots",null,null,"Total","Shots",null,null,"Shots",null,"Total","Shots",null,null,"Shots",null,null,"Total","Shots",null,null,"shots",null,null,"Total","Shots",null,null,"shots",null,"Total","Shots",null,null,"shots",null,null,"Total","Shots",null,null,"Shots",null,null,"Total","Shots",null,null,"Shots",null,"Total","Shots",null,null,"Shots",null,null,"Total","Shots",null,null,"Shots",null,null,"Total","Shots",null,null,"Shots",null,"Total","Shots",null,null,"Shots",null,null,"Total","Shots",null,null,"shots",null,null,"Total","Shots",null,null,"shots",null,"Total","Shots",null,null,"shots",null,null,"Total","Shots",null,null,"shots",null,null,"Total","Shots",null,null,"Shots"]
[null,"Ends",null,null,"Ends",null,".",null,"Ends",null,null,"Ends",null,".",null,"Ends",null,null,"Ends",null,null,"Ends",null,null,"Ends",null,".",null,"Ends",null,null,"Ends",null,".",null,"Ends",null,null,"Ends",null,null,"Ends",null,null,"Ends",null,".",null,"Ends",null,null,"Ends",null,".",null,"Ends",null,null,"Ends",null,null,"Ends",null,null,"Ends",null,".",null,"Ends",null,null,"Ends",null,".",null,"Ends",null,null,"Ends",null,null,"Ends",null,null,"Ends",null,".",null,"Ends",null,null,"Ends",null,".",null,"Ends",null,null,"Ends",null,null,"Ends",null,null,"Ends",null,".",null,"Ends",null,null,"Ends",null,".",null,"Ends",null,null,"Ends",null,null,"Ends",null,null,"Ends",null,".",null,"Ends",null,null,"Ends",null,".",null,"Ends",null,null,"Ends"]
[]
[]
["1st Game ",{"$nulls":5},".","2nd Game ",{"$nulls":5},".","3nd Game",{"$nulls":5},"4th Game",{"$nulls":5},".","5th Game",{"$nulls":5},".","6th Game",{"$nulls":5},"7th Game",{"$nulls":5},".","8th Game",{"$nulls":5},".","9th Game",{"$nulls":5},"10th Game",{"$nulls":5},".","11th Game",{"$nulls":5},".","12th Game ",{"$nulls":5},"13th Game",{"$nulls":5},".","14th Game",{"$nulls":5},".","15th Game",{"$nulls":5},"16th Game",{"$nulls":5},".","17th Game",{"$nulls":5},".","18th Game",{"$nulls":5},"19th Game",{"$nulls":5},".","20th Game",{"$nulls":5},".","9th Game "]
["Team No",null,null,"Rink No",{"$nulls":3},"Team No",null,null,"Rink No",{"$nulls":3},"Team No",null,null,"Rink No",null,null,"Team No",null,null,"Rink No",{"$nulls":3},"Team No",null,null,"Rink No",{"$nulls":3},"Team No",null,null,"Rink No",null,null,"Team No",null,null,"Rink No",{"$nulls":3},"Team No",null,null,"Rink No",{"$nulls":3},"Team No",null,null,"Rink No",null,null,"Team No",null,null,"Rink No",{"$nulls":3},"Team No",null,null,"Rink No",{"$nulls":3},"Team No",null,null,"Rink No",null,null,"Team No",null,null,"Rink No",{"$nulls":3},"Team No",null,null,"Rink No",{"$nulls":3},"Team No",null,null,"Rink No",null,null,"Team No",null,null,"Rink No",{"$nulls":3},"Team No",null,null,"Rink No",{"$nulls":3},"Team No",null,null,"Rink No",null,null,"Team No",null,null,"Rink No",{"$nulls":3},"Team No",null,null,"Rink No",{"$nulls":3},"Team No",null,null,"Rink No"]
[]
[{"$f":"DRAW!$B$8","v":2},null,null,{"$f":"DRAW!$E$8","v":1},null,null,".",{"$f":"DRAW!$B$8","v":2},null,null,{"$f":"DRAW!$G$8","v":4},null,null,".",{"$f":"DRAW!$B$8","v":2},null,null,{"$f":"DRAW!$I$8","v":3},null,null,{"$f":"DRAW!$B$8","v":2},null,null,{"$f":"DRAW!$K$8","v":5},null,null,".",{"$f":"DRAW!$B$8","v":2},null,null,{"$f":"DRAW!$M$8","v":2},null,null,".",{"$f":"DRAW!$B$8","v":2},null,null,{"$f":"DRAW!$O$8","v":6},null,null,{"$f":"DRAW!$B$8","v":2},null,null,{"$f":"DRAW!$Q$8","v":3},null,null,".",{"$f":"DRAW!$B$8","v":2},null,null,{"$f":"DRAW!$S$8","v":5},null,null,".",{"$f":"DRAW!$B$8","v":2},null,null,{"$f":"DRAW!$U$8","v":1},null,null,{"$f":"DRAW!$B$8","v":2},null,null,{"$f":"DRAW!$W$8","v":3},null,null,".",{"$f":"DRAW!$B$8","v":2},null,null,{"$f":"DRAW!#REF!","v":{"$error":"#REF!"}},null,null,".",{"$f":"DRAW!$B$8","v":2},null,null,{"$f":"DRAW!#REF!","v":{"$error":"#REF!"}},null,null,{"$f":"DRAW!$B$8","v":2},null,null,{"$f":"DRAW!#REF!","v":{"$error":"#REF!"}},null,null,".",{"$f":"DRAW!$B$8","v":2},null,null,{"$f":"DRAW!#REF!","v":{"$error":"#REF!"}},null,null,".",{"$f":"DRAW!$B$8","v":2},null,null,{"$f":"DRAW!#REF!","v":{"$error":"#REF!"}},null,null,{"$f":"DRAW!$B$8","v":2},null,null,{"$f":"DRAW!#REF!","v":{"$error":"#REF!"}},null,null,".",{"$f":"DRAW!$B$8","v":2},null,null,{"$f":"DRAW!#REF!","v":{"$error":"#REF!"}},null,null,".",{"$f":"DRAW!$B$8","v":2},null,null,{"$f":"DRAW!#REF!","v":{"$error":"#REF!"}},null,null,{"$f":"DRAW!$B$8","v":2},null,null,{"$f":"DRAW!#REF!","v":{"$error":"#REF!"}},null,null,".",{"$f":"DRAW!$B$8","v":2},null,null,{"$f":"DRAW!#REF!","v":{"$error":"#REF!"}},null,null,".",{"$f":"DRAW!$B$8","v":2},null,null,{"$f":"DRAW!#REF!","v":{"$error":"#REF!"}}]
[null,"Team",{"$f":"DRAW!$B$8","v":2},"V","Team",{"$f":"DRAW!$D$8","v":1},null,null,"Team",{"$f":"DRAW!$B$8","v":2},"V","Team",{"$f":"DRAW!$F$8","v":4},null,null,"Team",{"$f":"DRAW!$B$8","v":2},"V","Team",{"$f":"DRAW!$H$8","v":6},null,"Team",{"$f":"DRAW!$B$8","v":2},"V","Team",{"$f":"DRAW!$J$8","v":8},null,null,"Team",{"$f":"DRAW!$B$8","v":2},"V","Team",{"$f":"DRAW!$L$8","v":10},null,null,"Team",{"$f":"DRAW!$B$8","v":2},"V","Team",{"$f":"DRAW!$N$8","v":12},null,"Team",{"$f":"DRAW!$B$8","v":2},"V","Team",{"$f":"DRAW!$P$8","v":3},null,null,"Team",{"$f":"DRAW!$B$8","v":2},"V","Team",{"$f":"DRAW!$R$8","v":5},null,null,"Team",{"$f":"DRAW!$B$8","v":2},"V","Team",{"$f":"DRAW!$T$8","v":7},null,"Team",{"$f":"DRAW!$B$8","v":2},"V","Team",{"$f":"DRAW!$V$8","v":9},null,null,"Team",{"$f":"DRAW!$B$8","v":2},"V","Team",{"$f":"DRAW!#REF!","v":{"$error":"#REF!"}},null,null,"Team",{"$f":"DRAW!$B$8","v":2},"V","Team",{"$f":"DRAW!#REF!","v":{"$error":"#REF!"}},null,"Team",{"$f":"DRAW!$B$8","v":2},"V","Team",{"$f":"DRAW!#REF!","v":{"$error":"#REF!"}},null,null,"Team",{"$f":"DRAW!$B$8","v":2},"V","Team",{"$f":"DRAW!#REF!","v":{"$error":"#REF!"}},null,null,"Team",{"$f":"DRAW!$B$8","v":2},"V","Team",{"$f":"DRAW!#REF!","v":{"$error":"#REF!"}},null,"Team",{"$f":"DRAW!$B$8","v":2},"V","Team",{"$f":"DRAW!#REF!","v":{"$error":"#REF!"}},null,null,"Team",{"$f":"DRAW!$B$8","v":2},"V","Team",{"$f":"DRAW!#REF!","v":{"$error":"#REF!"}},null,null,"Team",{"$f":"DRAW!$B$8","v":2},"V","Team",{"$f":"DRAW!#REF!","v":{"$error":"#REF!"}},null,"Team",{"$f":"DRAW!$B$8","v":2},"V","Team",{"$f":"DRAW!#REF!","v":{"$error":"#REF!"}},null,null,"Team",{"$f":"DRAW!$B$8","v":2},"V","Team",{"$f":"DRAW!#REF!","v":{"$error":"#REF!"}},null,null,"Team",{"$f":"DRAW!$B$8","v":2},"V","Team",{"$f":"DRAW!#REF!","v":{"$error":"#REF!"}}]
["Ends","Shots","Total",null,"Shots","Total",null,"Ends","Shots","Total",null,"Shots","Total",null,"Ends","Shots","Total",null,"Shots","Total","Ends","Shots","Total",null,"Shots","Total",null,"Ends","Shots","Total",null,"Shots","Total",null,"Ends","Shots","Total",null,"Shots","Total","Ends","Shots","Total",null,"Shots","Total",null,"Ends","Shots","Total",null,"Shots","Total",null,"Ends","Shots","Total",null,"Shots","Total","Ends","Shots","Total",null,"Shots","Total",null,"Ends","Shots","Total",null,"Shots","Total",null,"Ends","Shots","Total",null,"Shots","Total","Ends","Shots","Total",null,"Shots","Total",null,"Ends","Shots","Total",null,"Shots","Total",null,"Ends","Shots","Total",null,"Shots","Total","Ends","Shots","Total",null,"Shots","Total",null,"Ends","Shots","Total",null,"Shots","Total",null,"Ends","Shots","Total",null,"Shots","Total","Ends","Shots","Total",null,"Shots","Total",null,"Ends","Shots","Total",null,"Shots","Total",null,"Ends","Shots","Total",null,"Shots","Total"]
[1,{"$nulls":5},".",1,{"$nulls":5},".",1,{"$nulls":5},1,{"$nulls":5},".",1,{"$nulls":5},".",1,{"$nulls":5},1,{"$nulls":5},".",1,{"$nulls":5},".",1,{"$nulls":5},1,{"$nulls":5},".",1,{"$nulls":5},".",1,{"$nulls":5},1,{"$nulls":5},".",1,{"$nulls":5},".",1,{"$nulls":5},1,{"$nulls":5},".",1,{"$nulls":5},".",1,{"$nulls":5},1,{"$nulls":5},".",1,{"$nulls":5},".",1]
[2,{"$nulls":6},2,{"$nulls":6},2,{"$nulls":5},2,{"$nulls":6},2,{"$nulls":6},2,{"$nulls":5},2,{"$nulls":6},2,{"$nulls":6},2,{"$nulls":5},2,{"$nulls":6},2,{"$nulls":6},2,{"$nulls":5},2,{"$nulls":6},2,{"$nulls":6},2,{"$nulls":5},2,{"$nulls":6},2,{"$nulls":6},2,{"$nulls":5},2,{"$nulls":6},2,{"$nulls":6},2]
[3,{"$nulls":6},3,{"$nulls":6},3,{"$nulls":5},3,{"$nulls":6},3,{"$nulls":6},3,{"$nulls":5},3,{"$nulls":6},3,{"$nulls":6},3,{"$nulls":5},3,{"$nulls":6},3,{"$nulls":6},3,{"$nulls":5},3,{"$nulls":6},3,{"$nulls":6},3,{"$nulls":5},3,{"$nulls":6},3,{"$nulls":6},3,{"$nulls":5},3,{"$nulls":6},3,{"$nulls":6},3]
[4,{"$nulls":6},4,{"$nulls":6},4,{"$nulls":5},4,{"$nulls":6},4,{"$nulls":6},4,{"$nulls":5},4,{"$nulls":6},4,{"$nulls":6},4,{"$nulls":5},4,{"$nulls":6},4,{"$nulls":6},4,{"$nulls":5},4,{"$nulls":6},4,{"$nulls":6},4,{"$nulls":5},4,{"$nulls":6},4,{"$nulls":6},4,{"$nulls":5},4,{"$nulls":6},4,{"$nulls":6},4]
[5,{"$nulls":5},".",5,{"$nulls":5},".",5,{"$nulls":5},5,{"$nulls":5},".",5,{"$nulls":5},".",5,{"$nulls":5},5,{"$nulls":5},".",5,{"$nulls":5},".",5,{"$nulls":5},5,{"$nulls":5},".",5,{"$nulls":5},".",5,{"$nulls":5},5,{"$nulls":5},".",5,{"$nulls":5},".",5,{"$nulls":5},5,{"$nulls":5},".",5,{"$nulls":5},".",5,{"$nulls":5},5,{"$nulls":5},".",5,{"$nulls":5},".",5]
[6,{"$nulls":6},6,{"$nulls":6},6,{"$nulls":5},6,{"$nulls":6},6,{"$nulls":6},6,{"$nulls":5},6,{"$nulls":6},6,{"$nulls":6},6,{"$nulls":5},6,{"$nulls":6},6,{"$nulls":6},6,{"$nulls":5},6,{"$nulls":6},6,{"$nulls":6},6,{"$nulls":5},6,{"$nulls":6},6,{"$nulls":6},6,{"$nulls":5},6,{"$nulls":6},6,{"$nulls":6},6]
[7,{"$nulls":6},7,{"$nulls":6},7,{"$nulls":5},7,{"$nulls":6},7,{"$nulls":6},7,{"$nulls":5},7,{"$nulls":6},7,{"$nulls":6},7,{"$nulls":5},7,{"$nulls":6},7,{"$nulls":6},7,{"$nulls":5},7,{"$nulls":6},7,{"$nulls":6},7,{"$nulls":5},7,{"$nulls":6},7,{"$nulls":6},7,{"$nulls":5},7,{"$nulls":6},7,{"$nulls":6},7]
[8,{"$nulls":6},8,{"$nulls":6},8,{"$nulls":5},8,{"$nulls":6},8,{"$nulls":6},8,{"$nulls":5},8,{"$nulls":6},8,{"$nulls":6},8,{"$nulls":5},8,{"$nulls":6},8,{"$nulls":6},8,{"$nulls":5},8,{"$nulls":6},8,{"$nulls":6},8,{"$nulls":5},8,{"$nulls":6},8,{"$nulls":6},8,{"$nulls":5},8,{"$nulls":6},8,{"$nulls":6},8]
[9,{"$nulls":5},".",9,{"$nulls":5},".",9,{"$nulls":5},9,{"$nulls":5},".",9,{"$nulls":5},".",9,{"$nulls":5},9,{"$nulls":5},".",9,{"$nulls":5},".",9,{"$nulls":5},9,{"$nulls":5},".",9,{"$nulls":5},".",9,{"$nulls":5},9,{"$nulls":5},".",9,{"$nulls":5},".",9,{"$nulls":5},9,{"$nulls":5},".",9,{"$nulls":5},".",9,{"$nulls":5},9,{"$nulls":5},".",9,{"$nulls":5},".",9]
[10,{"$nulls":6},10,{"$nulls":6},10,{"$nulls":5},10,{"$nulls":6},10,{"$nulls":6},10,{"$nulls":5},10,{"$nulls":6},10,{"$nulls":6},10,{"$nulls":5},10,{"$nulls":6},10,{"$nulls":6},10,{"$nulls":5},10,{"$nulls":6},10,{"$nulls":6},10,{"$nulls":5},10,{"$nulls":6},10,{"$nulls":6},10,{"$nulls":5},10,{"$nulls":6},10,{"$nulls":6},10]
[11,{"$nulls":6},11,{"$nulls":6},11,{"$nulls":5},11,{"$nulls":6},11,{"$nulls":6},11,{"$nulls":5},11,{"$nulls":6},11,{"$nulls":6},11,{"$nulls":5},11,{"$nulls":6},11,{"$nulls":6},11,{"$nulls":5},11,{"$nulls":6},11,{"$nulls":6},11,{"$nulls":5},11,{"$nulls":6},11,{"$nulls":6},11,{"$nulls":5},11,{"$nulls":6},11,{"$nulls":6},11]
[12,{"$nulls":6},12,{"$nulls":6},12,{"$nulls":5},12,{"$nulls":6},12,{"$nulls":6},12,{"$nulls":5},12,{"$nulls":6},12,{"$nulls":6},12,{"$nulls":5},12,{"$nulls":6},12,{"$nulls":6},12,{"$nulls":5},12,{"$nulls":6},12,{"$nulls":6},12,{"$nulls":5},12,{"$nulls":6},12,{"$nulls":6},12,{"$nulls":5},12,{"$nulls":6},12,{"$nulls":6},12]
[13,{"$nulls":5},".",13,{"$nulls":5},".",13,{"$nulls":5},13,{"$nulls":5},".",13,{"$nulls":5},".",13,{"$nulls":5},13,{"$nulls":5},".",13,{"$nulls":5},".",13,{"$nulls":5},13,{"$nulls":5},".",13,{"$nulls":5},".",13,{"$nulls":5},13,{"$nulls":5},".",13,{"$nulls":5},".",13,{"$nulls":5},13,{"$nulls":5},".",13,{"$nulls":5},".",13,{"$nulls":5},13,{"$nulls":5},".",13,{"$nulls":5},".",13]
[14,{"$nulls":6},14,{"$nulls":6},14,{"$nulls":5},14,{"$nulls":6},14,{"$nulls":6},14,{"$nulls":5},14,{"$nulls":6},14,{"$nulls":6},14,{"$nulls":5},14,{"$nulls":6},14,{"$nulls":6},14,{"$nulls":5},14,{"$nulls":6},14,{"$nulls":6},14,{"$nulls":5},14,{"$nulls":6},14,{"$nulls":6},14,{"$nulls":5},14,{"$nulls":6},14,{"$nulls":6},14]
[15,{"$nulls":6},15,{"$nulls":6},15,{"$nulls":5},15,{"$nulls":6},15,{"$nulls":6},15,{"$nulls":5},15,{"$nulls":6},15,{"$nulls":6},15,{"$nulls":5},15,{"$nulls":6},15,{"$nulls":6},15,{"$nulls":5},15,{"$nulls":6},15,{"$nulls":6},15,{"$nulls":5},15,{"$nulls":6},15,{"$nulls":6},15,{"$nulls":5},15,{"$nulls":6},15,{"$nulls":6},15]
[16,{"$nulls":6},16,{"$nulls":6},16,{"$nulls":5},16,{"$nulls":6},16,{"$nulls":6},16,{"$nulls":5},16,{"$nulls":6},16,{"$nulls":6},16,{"$nulls":5},16,{"$nulls":6},16,{"$nulls":6},16,{"$nulls":5},16,{"$nulls":6},16,{"$nulls":6},16,{"$nulls":5},16,{"$nulls":6},16,{"$nulls":6},16,{"$nulls":5},16,{"$nulls":6},16,{"$nulls":6},16]
[17,{"$nulls":5},".",17,{"$nulls":5},".",17,{"$nulls":5},17,{"$nulls":5},".",17,{"$nulls":5},".",17,{"$nulls":5},17,{"$nulls":5},".",17,{"$nulls":5},".",17,{"$nulls":5},17,{"$nulls":5},".",17,{"$nulls":5},".",17,{"$nulls":5},17,{"$nulls":5},".",17,{"$nulls":5},".",17,{"$nulls":5},17,{"$nulls":5},".",17,{"$nulls":5},".",17,{"$nulls":5},17,{"$nulls":5},".",17,{"$nulls":5},".",17]
[18,{"$nulls":6},18,{"$nulls":6},18,{"$nulls":5},18,{"$nulls":6},18,{"$nulls":6},18,{"$nulls":5},18,{"$nulls":6},18,{"$nulls":6},18,{"$nulls":5},18,{"$nulls":6},18,{"$nulls":6},18,{"$nulls":5},18,{"$nulls":6},18,{"$nulls":6},18,{"$nulls":5},18,{"$nulls":6},18,{"$nulls":6},18,{"$nulls":5},18,{"$nulls":6},18,{"$nulls":6},18]
["Total","Shots",null,null,"Shots",null,null,"Total","Shots",null,null,"Shots",null,null,"Total","Shots",null,null,"Shots",null,"Total","Shots",null,null,"Shots",null,null,"Total","Shots",null,null,"Shots",null,null,"Total","Shots",null,null,"Shots",null,"Total","Shots",null,null,"Shots",null,null,"Total","Shots",null,null,"shots",null,null,"Total","Shots",null,null,"shots",null,"Total","Shots",null,null,"Shots",null,null,"Total","Shots",null,null,"shots",null,null,"Total","Shots",null,null,"shots",null,"Total","Shots",null,null,"Shots",null,null,"Total","Shots",null,null,"Shots",null,null,"Total","Shots",null,null,"Shots",null,"Total","Shots",null,null,"Shots",null,null,"Total","Shots",null,null,"shots",null,null,"Total","Shots",null,null,"shots",null,"Total","Shots",null,null,"shots",null,null,"Total","Shots",null,null,"shots",null,null,"Total","Shots",null,null,"shots"]
[null,"Ends",null,null,"Ends",null,".",null,"Ends",null,null,"Ends",null,".",null,"Ends",null,null,"Ends",null,null,"Ends",null,null,"Ends",null,".",null,"Ends",null,null,"Ends",null,".",null,"Ends",null,null,"Ends",null,null,"Ends",null,null,"Ends",null,".",null,"Ends",null,null,"Ends",null,".",null,"Ends",null,null,"Ends",null,null,"Ends",null,null,"Ends",null,".",null,"Ends",null,null,"Ends",null,".",null,"Ends",null,null,"Ends",null,null,"Ends",null,null,"Ends",null,".",null,"Ends",null,null,"Ends",null,".",null,"Ends",null,null,"Ends",null,null,"Ends",null,null,"Ends",null,".",null,"Ends",null,null,"Ends",null,".",null,"Ends",null,null,"Ends",null,null,"Ends",null,null,"Ends",null,".",null,"Ends",null,null,"Ends",null,".",null,"Ends",null,null,"Ends"]
["1st Game ",{"$nulls":5},".","2nd Game ",{"$nulls":5},".","3nd Game",{"$nulls":5},"4th Game",{"$nulls":5},".","5th Game",{"$nulls":5},".","6th Game",{"$nulls":5},"7th Game",{"$nulls":5},".","8th Game",{"$nulls":5},".","9th Game",{"$nulls":5},"10th Game",{"$nulls":5},".","11th Game",{"$nulls":5},".","12th Game ",{"$nulls":5},"13th Game",{"$nulls":5},".","14th Game",{"$nulls":5},".","15th Game",{"$nulls":5},"16th Game",{"$nulls":5},".","17th Game",{"$nulls":5},".","18th Game",{"$nulls":5},"19th Game",{"$nulls":5},".","20th Game",{"$nulls":5},".","9th Game "]
["Team No",null,null,"Rink No",{"$nulls":3},"Team No",null,null,"Rink No",{"$nulls":3},"Team No",null,null,"Rink No",null,null,"Team No",null,null,"Rink No",{"$nulls":3},"Team No",null,null,"Rink No",{"$nulls":3},"Team No",null,null,"Rink No",null,null,"Team No",null,null,"Rink No",{"$nulls":3},"Team No",null,null,"Rink No",{"$nulls":3},"Team No",null,null,"Rink No",null,null,"Team No",null,null,"Rink No",{"$nulls":3},"Team No",null,null,"Rink No",{"$nulls":3},"Team No",null,null,"Rink No",null,null,"Team No",null,null,"Rink No",{"$nulls":3},"Team No",null,null,"Rink No",{"$nulls":3},"Team No",null,null,"Rink No",null,null,"Team No",null,null,"Rink No",{"$nulls":3},"Team No",null,null,"Rink No",{"$nulls":3},"Team No",null,null,"Rink No",null,null,"Team No",null,null,"Rink No",{"$nulls":3},"Team No",null,null,"Rink No",{"$nulls":3},"Team No",null,null,"Rink No"]
[]
[{"$f":"DRAW!$B$9","v":3},null,null,{"$f":"DRAW!$E$9","v":2},null,null,".",{"$f":"DRAW!$B$9","v":3},null,null,{"$f":"DRAW!$G$9","v":3},null,null,".",{"$f":"DRAW!$B$9","v":3},null,null,{"$f":"DRAW!$I$9","v":5},null,null,{"$f":"DRAW!$B$9","v":3},null,null,{"$f":"DRAW!$K$9","v":2},null,null,".",{"$f":"DRAW!$B$9","v":3},null,null,{"$f":"DRAW!$M$9","v":1},null,null,".",{"$f":"DRAW!$B$9","v":3},null,null,{"$f":"DRAW!$O$9","v":4},null,null,{"$f":"DRAW!$B$9","v":3},null,null,{"$f":"DRAW!$Q$9","v":3},null,null,".",{"$f":"DRAW!$B$9","v":3},null,null,{"$f":"DRAW!$S$9","v":4},null,null,".",{"$f":"DRAW!$B$9","v":3},null,null,{"$f":"DRAW!$U$9","v":6},null,null,{"$f":"DRAW!$B$9","v":3},null,null,{"$f":"DRAW!$W$9","v":5},null,null,".",{"$f":"DRAW!$B$9","v":3},null,null,{"$f":"DRAW!#REF!","v":{"$error":"#REF!"}},null,null,".",{"$f":"DRAW!$B$9","v":3},null,null,{"$f":"DRAW!#REF!","v":{"$error":"#REF!"}},null,null,{"$f":"DRAW!$B$9","v":3},null,null,{"$f":"DRAW!#REF!","v":{"$error":"#REF!"}},null,null,".",{"$f":"DRAW!$B$9","v":3},null,null,{"$f":"DRAW!#REF!","v":{"$error":"#REF!"}},null,null,".",{"$f":"DRAW!$B$9","v":3},null,null,{"$f":"DRAW!#REF!","v":{"$error":"#REF!"}},null,null,{"$f":"DRAW!$B$9","v":3},null,null,{"$f":"DRAW!#REF!","v":{"$error":"#REF!"}},null,null,".",{"$f":"DRAW!$B$9","v":3},null,null,{"$f":"DRAW!#REF!","v":{"$error":"#REF!"}},null,null,".",{"$f":"DRAW!$B$9","v":3},null,null,{"$f":"DRAW!#REF!","v":{"$error":"#REF!"}},null,null,{"$f":"DRAW!$B$9","v":3},null,null,{"$f":"DRAW!#REF!","v":{"$error":"#REF!"}},null,null,".",{"$f":"DRAW!$B$9","v":3},null,null,{"$f":"DRAW!#REF!","v":{"$error":"#REF!"}},null,null,".",{"$f":"DRAW!$B$9","v":3},null,null,{"$f":"DRAW!#REF!","v":{"$error":"#REF!"}}]
[null,"Team",{"$f":"DRAW!$B$9","v":3},"V","Team",{"$f":"DRAW!$D$9","v":12},null,null,"Team",{"$f":"DRAW!$B$9","v":3},"V","Team",{"$f":"DRAW!$F$9","v":1},null,null,"Team",{"$f":"DRAW!$B$9","v":3},"V","Team",{"$f":"DRAW!$H$9","v":5},null,"Team",{"$f":"DRAW!$B$9","v":3},"V","Team",{"$f":"DRAW!$J$9","v":7},null,null,"Team",{"$f":"DRAW!$B$9","v":3},"V","Team",{"$f":"DRAW!$L$9","v":9},null,null,"Team",{"$f":"DRAW!$B$9","v":3},"V","Team",{"$f":"DRAW!$N$9","v":11},null,"Team",{"$f":"DRAW!$B$9","v":3},"V","Team",{"$f":"DRAW!$P$9","v":2},null,null,"Team",{"$f":"DRAW!$B$9","v":3},"V","Team",{"$f":"DRAW!$R$9","v":4},null,null,"Team",{"$f":"DRAW!$B$9","v":3},"V","Team",{"$f":"DRAW!$T$9","v":6},null,"Team",{"$f":"DRAW!$B$9","v":3},"V","Team",{"$f":"DRAW!$V$9","v":8},null,null,"Team",{"$f":"DRAW!$B$9","v":3},"V","Team",{"$f":"DRAW!#REF!","v":{"$error":"#REF!"}},null,null,"Team",{"$f":"DRAW!$B$9","v":3},"V","Team",{"$f":"DRAW!#REF!","v":{"$error":"#REF!"}},null,"Team",{"$f":"DRAW!$B$9","v":3},"V","Team",{"$f":"DRAW!#REF!","v":{"$error":"#REF!"}},null,null,"Team",{"$f":"DRAW!$B$9","v":3},"V","Team",{"$f":"DRAW!#REF!","v":{"$error":"#REF!"}},null,null,"Team",{"$f":"DRAW!$B$9","v":3},"V","Team",{"$f":"DRAW!#REF!","v":{"$error":"#REF!"}},null,"Team",{"$f":"DRAW!$B$9","v":3},"V","Team",{"$f":"DRAW!#REF!","v":{"$error":"#REF!"}},null,null,"Team",{"$f":"DRAW!$B$9","v":3},"V","Team",{"$f":"DRAW!#REF!","v":{"$error":"#REF!"}},null,null,"Team",{"$f":"DRAW!$B$9","v":3},"V","Team",{"$f":"DRAW!#REF!","v":{"$error":"#REF!"}},null,"Team",{"$f":"DRAW!$B$9","v":3},"V","Team",{"$f":"DRAW!#REF!","v":{"$error":"#REF!"}},null,null,"Team",{"$f":"DRAW!$B$9","v":3},"V","Team",{"$f":"DRAW!#REF!","v":{"$error":"#REF!"}},null,null,"Team",{"$f":"DRAW!$B$9","v":3},"V","Team",{"$f":"DRAW!#REF!","v":{"$error":"#REF!"}}]
["Ends","Shots","Total",null,"Shots","Total",null,"Ends","Shots","Total",null,"Shots","Total",null,"Ends","Shots","Total",null,"Shots","Total","Ends","Shots","Total",null,"Shots","Total",null,"Ends","Shots","Total",null,"Shots","Total",null,"Ends","Shots","Total",null,"Shots","Total","Ends","Shots","Total",null,"Shots","Total",null,"Ends","Shots","Total",null,"Shots","Total",null,"Ends","Shots","Total",null,"Shots","Total","Ends","Shots","Total",null,"Shots","Total",null,"Ends","Shots","Total",null,"Shots","Total",null,"Ends","Shots","Total",null,"Shots","Total","Ends","Shots","Total",null,"Shots","Total",null,"Ends","Shots","Total",null,"Shots","Total",null,"Ends","Shots","Total",null,"Shots","Total","Ends","Shots","Total",null,"Shots","Total",null,"Ends","Shots","Total",null,"Shots","Total",null,"Ends","Shots","Total",null,"Shots","Total","Ends","Shots","Total",null,"Shots","Total",null,"Ends","Shots","Total",null,"Shots","Total",null,"Ends","Shots","Total",null,"Shots","Total"]
[1,{"$nulls":5},".",1,{"$nulls":5},".",1,{"$nulls":5},1,{"$nulls":5},".",1,{"$nulls":5},".",1,{"$nulls":5},1,{"$nulls":5},".",1,{"$nulls":5},".",1,{"$nulls":5},1,{"$nulls":5},".",1,{"$nulls":5},".",1,{"$nulls":5},1,{"$nulls":5},".",1,{"$nulls":5},".",1,{"$nulls":5},1,{"$nulls":5},".",1,{"$nulls":5},".",1,{"$nulls":5},1,{"$nulls":5},".",1,{"$nulls":5},".",1]
[2,{"$nulls":6},2,{"$nulls":6},2,{"$nulls":5},2,{"$nulls":6},2,{"$nulls":6},2,{"$nulls":5},2,{"$nulls":6},2,{"$nulls":6},2,{"$nulls":5},2,{"$nulls":6},2,{"$nulls":6},2,{"$nulls":5},2,{"$nulls":6},2,{"$nulls":6},2,{"$nulls":5},2,{"$nulls":6},2,{"$nulls":6},2,{"$nulls":5},2,{"$nulls":6},2,{"$nulls":6},2]
[3,{"$nulls":6},3,{"$nulls":6},3,{"$nulls":5},3,{"$nulls":6},3,{"$nulls":6},3,{"$nulls":5},3,{"$nulls":6},3,{"$nulls":6},3,{"$nulls":5},3,{"$nulls":6},3,{"$nulls":6},3,{"$nulls":5},3,{"$nulls":6},3,{"$nulls":6},3,{"$nulls":5},3,{"$nulls":6},3,{"$nulls":6},3,{"$nulls":5},3,{"$nulls":6},3,{"$nulls":6},3]
[4,{"$nulls":6},4,{"$nulls":6},4,{"$nulls":5},4,{"$nulls":6},4,{"$nulls":6},4,{"$nulls":5},4,{"$nulls":6},4,{"$nulls":6},4,{"$nulls":5},4,{"$nulls":6},4,{"$nulls":6},4,{"$nulls":5},4,{"$nulls":6},4,{"$nulls":6},4,{"$nulls":5},4,{"$nulls":6},4,{"$nulls":6},4,{"$nulls":5},4,{"$nulls":6},4,{"$nulls":6},4]
[5,{"$nulls":5},".",5,{"$nulls":5},".",5,{"$nulls":5},5,{"$nulls":5},".",5,{"$nulls":5},".",5,{"$nulls":5},5,{"$nulls":5},".",5,{"$nulls":5},".",5,{"$nulls":5},5,{"$nulls":5},".",5,{"$nulls":5},".",5,{"$nulls":5},5,{"$nulls":5},".",5,{"$nulls":5},".",5,{"$nulls":5},5,{"$nulls":5},".",5,{"$nulls":5},".",5,{"$nulls":5},5,{"$nulls":5},".",5,{"$nulls":5},".",5]
[6,{"$nulls":6},6,{"$nulls":6},6,{"$nulls":5},6,{"$nulls":6},6,{"$nulls":6},6,{"$nulls":5},6,{"$nulls":6},6,{"$nulls":6},6,{"$nulls":5},6,{"$nulls":6},6,{"$nulls":6},6,{"$nulls":5},6,{"$nulls":6},6,{"$nulls":6},6,{"$nulls":5},6,{"$nulls":6},6,{"$nulls":6},6,{"$nulls":5},6,{"$nulls":6},6,{"$nulls":6},6]
[7,{"$nulls":6},7,{"$nulls":6},7,{"$nulls":5},7,{"$nulls":6},7,{"$nulls":6},7,{"$nulls":5},7,{"$nulls":6},7,{"$nulls":6},7,{"$nulls":5},7,{"$nulls":6},7,{"$nulls":6},7,{"$nulls":5},7,{"$nulls":6},7,{"$nulls":6},7,{"$nulls":5},7,{"$nulls":6},7,{"$nulls":6},7,{"$nulls":5},7,{"$nulls":6},7,{"$nulls":6},7]
[8,{"$nulls":6},8,{"$nulls":6},8,{"$nulls":5},8,{"$nulls":6},8,{"$nulls":6},8,{"$nulls":5},8,{"$nulls":6},8,{"$nulls":6},8,{"$nulls":5},8,{"$nulls":6},8,{"$nulls":6},8,{"$nulls":5},8,{"$nulls":6},8,{"$nulls":6},8,{"$nulls":5},8,{"$nulls":6},8,{"$nulls":6},8,{"$nulls":5},8,{"$nulls":6},8,{"$nulls":6},8]
[9,{"$nulls":5},".",9,{"$nulls":5},".",9,{"$nulls":5},9,{"$nulls":5},".",9,{"$nulls":5},".",9,{"$nulls":5},9,{"$nulls":5},".",9,{"$nulls":5},".",9,{"$nulls":5},9,{"$nulls":5},".",9,{"$nulls":5},".",9,{"$nulls":5},9,{"$nulls":5},".",9,{"$nulls":5},".",9,{"$nulls":5},9,{"$nulls":5},".",9,{"$nulls":5},".",9,{"$nulls":5},9,{"$nulls":5},".",9,{"$nulls":5},".",9]
[10,{"$nulls":6},10,{"$nulls":6},10,{"$nulls":5},10,{"$nulls":6},10,{"$nulls":6},10,{"$nulls":5},10,{"$nulls":6},10,{"$nulls":6},10,{"$nulls":5},10,{"$nulls":6},10,{"$nulls":6},10,{"$nulls":5},10,{"$nulls":6},10,{"$nulls":6},10,{"$nulls":5},10,{"$nulls":6},10,{"$nulls":6},10,{"$nulls":5},10,{"$nulls":6},10,{"$nulls":6},10]
[11,{"$nulls":6},11,{"$nulls":6},11,{"$nulls":5},11,{"$nulls":6},11,{"$nulls":6},11,{"$nulls":5},11,{"$nulls":6},11,{"$nulls":6},11,{"$nulls":5},11,{"$nulls":6},11,{"$nulls":6},11,{"$nulls":5},11,{"$nulls":6},11,{"$nulls":6},11,{"$nulls":5},11,{"$nulls":6},11,{"$nulls":6},11,{"$nulls":5},11,{"$nulls":6},11,{"$nulls":6},11]
[12,{"$nulls":6},12,{"$nulls":6},12,{"$nulls":5},12,{"$nulls":6},12,{"$nulls":6},12,{"$nulls":5},12,{"$nulls":6},12,{"$nulls":6},12,{"$nulls":5},12,{"$nulls":6},12,{"$nulls":6},12,{"$nulls":5},12,{"$nulls":6},12,{"$nulls":6},12,{"$nulls":5},12,{"$nulls":6},12,{"$nulls":6},12,{"$nulls":5},12,{"$nulls":6},12,{"$nulls":6},12]
[13,{"$nulls":5},".",13,{"$nulls":5},".",13,{"$nulls":5},13,{"$nulls":5},".",13,{"$nulls":5},".",13,{"$nulls":5},13,{"$nulls":5},".",13,{"$nulls":5},".",13,{"$nulls":5},13,{"$nulls":5},".",13,{"$nulls":5},".",13,{"$nulls":5},13,{"$nulls":5},".",13,{"$nulls":5},".",13,{"$nulls":5},13,{"$nulls":5},".",13,{"$nulls":5},".",13,{"$nulls":5},13,{"$nulls":5},".",13,{"$nulls":5},".",13]
[14,{"$nulls":6},14,{"$nulls":6},14,{"$nulls":5},14,{"$nulls":6},14,{"$nulls":6},14,{"$nulls":5},14,{"$nulls":6},14,{"$nulls":6},14,{"$nulls":5},14,{"$nulls":6},14,{"$nulls":6},14,{"$nulls":5},14,{"$nulls":6},14,{"$nulls":6},14,{"$nulls":5},14,{"$nulls":6},14,{"$nulls":6},14,{"$nulls":5},14,{"$nulls":6},14,{"$nulls":6},14]
[15,{"$nulls":6},15,{"$nulls":6},15,{"$nulls":5},15,{"$nulls":6},15,{"$nulls":6},15,{"$nulls":5},15,{"$nulls":6},15,{"$nulls":6},15,{"$nulls":5},15,{"$nulls":6},15,{"$nulls":6},15,{"$nulls":5},15,{"$nulls":6},15,{"$nulls":6},15,{"$nulls":5},15,{"$nulls":6},15,{"$nulls":6},15,{"$nulls":5},15,{"$nulls":6},15,{"$nulls":6},15]
[16,{"$nulls":6},16,{"$nulls":6},16,{"$nulls":5},16,{"$nulls":6},16,{"$nulls":6},16,{"$nulls":5},16,{"$nulls":6},16,{"$nulls":6},16,{"$nulls":5},16,{"$nulls":6},16,{"$nulls":6},16,{"$nulls":5},16,{"$nulls":6},16,{"$nulls":6},16,{"$nulls":5},16,{"$nulls":6},16,{"$nulls":6},16,{"$nulls":5},16,{"$nulls":6},16,{"$nulls":6},16]
[17,{"$nulls":5},".",17,{"$nulls":5},".",17,{"$nulls":5},17,{"$nulls":5},".",17,{"$nulls":5},".",17,{"$nulls":5},17,{"$nulls":5},".",17,{"$nulls":5},".",17,{"$nulls":5},17,{"$nulls":5},".",17,{"$nulls":5},".",17,{"$nulls":5},17,{"$nulls":5},".",17,{"$nulls":5},".",17,{"$nulls":5},17,{"$nulls":5},".",17,{"$nulls":5},".",17,{"$nulls":5},17,{"$nulls":5},".",17,{"$nulls":5},".",17]
[18,{"$nulls":6},18,{"$nulls":6},18,{"$nulls":5},18,{"$nulls":6},18,{"$nulls":6},18,{"$nulls":5},18,{"$nulls":6},18,{"$nulls":6},18,{"$nulls":5},18,{"$nulls":6},18,{"$nulls":6},18,{"$nulls":5},18,{"$nulls":6},18,{"$nulls":6},18,{"$nulls":5},18,{"$nulls":6},18,{"$nulls":6},18,{"$nulls":5},18,{"$nulls":6},18,{"$nulls":6},18]
["Total","Shots",null,null,"Shots",null,null,"Total","Shots",null,null,"Shots",null,null,"Total","Shots",null,null,"Shots",null,"Total","Shots",null,null,"Shots",null,null,"Total","Shots",null,null,"Shots",null,null,"Total","Shots",null,null,"Shots",null,"Total","Shots",null,null,"Shots",null,null,"Total","Shots",null,null,"shots",null,null,"Total","Shots",null,null,"shots",null,"Total","Shots",null,null,"Shots",null,null,"Total","Shots",null,null,"shots",null,null,"Total","Shots",null,null,"shots",null,"Total","Shots",null,null,"Shots",null,null,"Total","Shots",null,null,"Shots",null,null,"Total","Shots",null,null,"Shots",null,"Total","Shots",null,null,"Shots",null,null,"Total","Shots",null,null,"shots",null,null,"Total","Shots",null,null,"shots",null,"Total","Shots",null,null,"shots",null,null,"Total","Shots",null,null,"shots",null,null,"Total","Shots",null,null,"shots"]
[null,"Ends",null,null,"Ends",null,".",null,"Ends",null,null,"Ends",null,".",null,"Ends",null,null,"Ends",null,null,"Ends",null,null,"Ends",null,".",null,"Ends",null,null,"Ends",null,".",null,"Ends",null,null,"Ends",null,null,"Ends",null,null,"Ends",null,".",null,"Ends",null,null,"Ends",null,".",null,"Ends",null,null,"Ends",null,null,"Ends",null,null,"Ends",null,".",null,"Ends",null,null,"Ends",null,".",null,"Ends",null,null,"Ends",null,null,"Ends",null,null,"Ends",null,".",null,"Ends",null,null,"Ends",null,".",null,"Ends",null,null,"Ends",null,null,"Ends",null,null,"Ends",null,".",null,"Ends",null,null,"Ends",null,".",null,"Ends",null,null,"Ends",null,null,"Ends",null,null,"Ends",null,".",null,"Ends",null,null,"Ends",null,".",null,"Ends",null,null,"Ends"]
[]
[]
["1st Game ",{"$nulls":5},".","2nd Game ",{"$nulls":5},".","3nd Game",{"$nulls":5},"4th Game",{"$nulls":5},".","5th Game",{"$nulls":5},".","6th Game",{"$nulls":5},"7th Game",{"$nulls":5},".","8th Game",{"$nulls":5},".","9th Game",{"$nulls":5},"10th Game",{"$nulls":5},".","11th Game",{"$nulls":5},".","12th Game ",{"$nulls":5},"13th Game",{"$nulls":5},".","14th Game",{"$nulls":5},".","15th Game",{"$nulls":5},"16th Game",{"$nulls":5},".","17th Game",{"$nulls":5},".","18th Game",{"$nulls":5},"19th Game",{"$nulls":5},".","20th Game",{"$nulls":5},".","9th Game "]
["Team No",null,null,"Rink No",{"$nulls":3},"Team No",null,null,"Rink No",{"$nulls":3},"Team No",null,null,"Rink No",null,null,"Team No",null,null,"Rink No",{"$nulls":3},"Team No",null,null,"Rink No",{"$nulls":3},"Team No",null,null,"Rink No",null,null,"Team No",null,null,"Rink No",{"$nulls":3},"Team No",null,null,"Rink No",{"$nulls":3},"Team No",null,null,"Rink No",null,null,"Team No",null,null,"Rink No",{"$nulls":3},"Team No",null,null,"Rink No",{"$nulls":3},"Team No",null,null,"Rink No",null,null,"Team No",null,null,"Rink No",{"$nulls":3},"Team No",null,null,"Rink No",{"$nulls":3},"Team No",null,null,"Rink No",null,null,"Team No",null,null,"Rink No",{"$nulls":3},"Team No",null,null,"Rink No",{"$nulls":3},"Team No",null,null,"Rink No",null,null,"Team No",null,null,"Rink No",{"$nulls":3},"Team No",null,null,"Rink No",{"$nulls":3},"Team No",null,null,"Rink No"]
[]
[{"$f":"DRAW!$B$10","v":4},null,null,{"$f":"DRAW!$E$10","v":3},null,null,".",{"$f":"DRAW!$B$10","v":4},null,null,{"$f":"DRAW!$G$10","v":4},null,null,".",{"$f":"DRAW!$B$10","v":4},null,null,{"$f":"DRAW!$I$10","v":2},null,null,{"$f":"DRAW!$B$10","v":4},null,null,{"$f":"DRAW!$K$10","v":1},null,null,".",{"$f":"DRAW!$B$10","v":4},null,null,{"$f":"DRAW!$M$10","v":6},null,null,".",{"$f":"DRAW!$B$10","v":4},null,null,{"$f":"DRAW!$O$10","v":1},null,null,{"$f":"DRAW!$B$10","v":4},null,null,{"$f":"DRAW!$Q$10","v":5},null,null,".",{"$f":"DRAW!$B$10","v":4},null,null,{"$f":"DRAW!$S$10","v":4},null,null,".",{"$f":"DRAW!$B$10","v":4},null,null,{"$f":"DRAW!$U$10","v":3},null,null,{"$f":"DRAW!$B$10","v":4},null,null,{"$f":"DRAW!$W$10","v":6},null,null,".",{"$f":"DRAW!$B$10","v":4},null,null,{"$f":"DRAW!#REF!","v":{"$error":"#REF!"}},null,null,".",{"$f":"DRAW!$B$10","v":4},null,null,{"$f":"DRAW!#REF!","v":{"$error":"#REF!"}},null,null,{"$f":"DRAW!$B$10","v":4},null,null,{"$f":"DRAW!#REF!","v":{"$error":"#REF!"}},null,null,".",{"$f":"DRAW!$B$10","v":4},null,null,{"$f":"DRAW!#REF!","v":{"$error":"#REF!"}},null,null,".",{"$f":"DRAW!$B$10","v":4},null,null,{"$f":"DRAW!#REF!","v":{"$error":"#REF!"}},null,null,{"$f":"DRAW!$B$10","v":4},null,null,{"$f":"DRAW!#REF!","v":{"$error":"#REF!"}},null,null,".",{"$f":"DRAW!$B$10","v":4},null,null,{"$f":"DRAW!#REF!","v":{"$error":"#REF!"}},null,null,".",{"$f":"DRAW!$B$10","v":4},null,null,{"$f":"DRAW!#REF!","v":{"$error":"#REF!"}},null,null,{"$f":"DRAW!$B$10","v":4},null,null,{"$f":"DRAW!#REF!","v":{"$error":"#REF!"}},null,null,".",{"$f":"DRAW!$B$10","v":4},null,null,{"$f":"DRAW!#REF!","v":{"$error":"#REF!"}},null,null,".",{"$f":"DRAW!$B$10","v":4},null,null,{"$f":"DRAW!#REF!","v":{"$error":"#REF!"}}]
[null,"Team",{"$f":"DRAW!$B$10","v":4},"V","Team",{"$f":"DRAW!$D$10","v":11},null,null,"Team",{"$f":"DRAW!$B$10","v":4},"V","Team",{"$f":"DRAW!$F$10","v":2},null,null,"Team",{"$f":"DRAW!$B$10","v":4},"V","Team",{"$f":"DRAW!$H$10","v":1},null,"Team",{"$f":"DRAW!$B$10","v":4},"V","Team",{"$f":"DRAW!$J$10","v":6},null,null,"Team",{"$f":"DRAW!$B$10","v":4},"V","Team",{"$f":"DRAW!$L$10","v":8},null,null,"Team",{"$f":"DRAW!$B$10","v":4},"V","Team",{"$f":"DRAW!$N$10","v":10},null,"Team",{"$f":"DRAW!$B$10","v":4},"V","Team",{"$f":"DRAW!$P$10","v":12},null,null,"Team",{"$f":"DRAW!$B$10","v":4},"V","Team",{"$f":"DRAW!$R$10","v":3},null,null,"Team",{"$f":"DRAW!$B$10","v":4},"V","Team",{"$f":"DRAW!$T$10","v":5},null,"Team",{"$f":"DRAW!$B$10","v":4},"V","Team",{"$f":"DRAW!$V$10","v":7},null,null,"Team",{"$f":"DRAW!$B$10","v":4},"V","Team",{"$f":"DRAW!#REF!","v":{"$error":"#REF!"}},null,null,"Team",{"$f":"DRAW!$B$10","v":4},"V","Team",{"$f":"DRAW!#REF!","v":{"$error":"#REF!"}},null,"Team",{"$f":"DRAW!$B$10","v":4},"V","Team",{"$f":"DRAW!#REF!","v":{"$error":"#REF!"}},null,null,"Team",{"$f":"DRAW!$B$10","v":4},"V","Team",{"$f":"DRAW!#REF!","v":{"$error":"#REF!"}},null,null,"Team",{"$f":"DRAW!$B$10","v":4},"V","Team",{"$f":"DRAW!#REF!","v":{"$error":"#REF!"}},null,"Team",{"$f":"DRAW!$B$10","v":4},"V","Team",{"$f":"DRAW!#REF!","v":{"$error":"#REF!"}},null,null,"Team",{"$f":"DRAW!$B$10","v":4},"V","Team",{"$f":"DRAW!#REF!","v":{"$error":"#REF!"}},null,null,"Team",{"$f":"DRAW!$B$10","v":4},"V","Team",{"$f":"DRAW!#REF!","v":{"$error":"#REF!"}},null,"Team",{"$f":"DRAW!$B$10","v":4},"V","Team",{"$f":"DRAW!#REF!","v":{"$error":"#REF!"}},null,null,"Team",{"$f":"DRAW!$B$10","v":4},"V","Team",{"$f":"DRAW!#REF!","v":{"$error":"#REF!"}},null,null,"Team",{"$f":"DRAW!$B$10","v":4},"V","Team",{"$f":"DRAW!#REF!","v":{"$error":"#REF!"}}]
["Ends","Shots","Total",null,"Shots","Total",null,"Ends","Shots","Total",null,"Shots","Total",null,"Ends","Shots","Total",null,"Shots","Total","Ends","Shots","Total",null,"Shots","Total",null,"Ends","Shots","Total",null,"Shots","Total",null,"Ends","Shots","Total",null,"Shots","Total","Ends","Shots","Total",null,"Shots","Total",null,"Ends","Shots","Total",null,"Shots","Total",null,"Ends","Shots","Total",null,"Shots","Total","Ends","Shots","Total",null,"Shots","Total",null,"Ends","Shots","Total",null,"Shots","Total",null,"Ends","Shots","Total",null,"Shots","Total","Ends","Shots","Total",null,"Shots","Total",null,"Ends","Shots","Total",null,"Shots","Total",null,"Ends","Shots","Total",null,"Shots","Total","Ends","Shots","Total",null,"Shots","Total",null,"Ends","Shots","Total",null,"Shots","Total",null,"Ends","Shots","Total",null,"Shots","Total","Ends","Shots","Total",null,"Shots","Total",null,"Ends","Shots","Total",null,"Shots","Total",null,"Ends","Shots","Total",null,"Shots","Total"]
[1,{"$nulls":5},".",1,{"$nulls":5},".",1,{"$nulls":5},1,{"$nulls":5},".",1,{"$nulls":5},".",1,{"$nulls":5},1,{"$nulls":5},".",1,{"$nulls":5},".",1,{"$nulls":5},1,{"$nulls":5},".",1,{"$nulls":5},".",1,{"$nulls":5},1,{"$nulls":5},".",1,{"$nulls":5},".",1,{"$nulls":5},1,{"$nulls":5},".",1,{"$nulls":5},".",1,{"$nulls":5},1,{"$nulls":5},".",1,{"$nulls":5},".",1]
[2,{"$nulls":6},2,{"$nulls":6},2,{"$nulls":5},2,{"$nulls":6},2,{"$nulls":6},2,{"$nulls":5},2,{"$nulls":6},2,{"$nulls":6},2,{"$nulls":5},2,{"$nulls":6},2,{"$nulls":6},2,{"$nulls":5},2,{"$nulls":6},2,{"$nulls":6},2,{"$nulls":5},2,{"$nulls":6},2,{"$nulls":6},2,{"$nulls":5},2,{"$nulls":6},2,{"$nulls":6},2]
[3,{"$nulls":6},3,{"$nulls":6},3,{"$nulls":5},3,{"$nulls":6},3,{"$nulls":6},3,{"$nulls":5},3,{"$nulls":6},3,{"$nulls":6},3,{"$nulls":5},3,{"$nulls":6},3,{"$nulls":6},3,{"$nulls":5},3,{"$nulls":6},3,{"$nulls":6},3,{"$nulls":5},3,{"$nulls":6},3,{"$nulls":6},3,{"$nulls":5},3,{"$nulls":6},3,{"$nulls":6},3]
[4,{"$nulls":6},4,{"$nulls":6},4,{"$nulls":5},4,{"$nulls":6},4,{"$nulls":6},4,{"$nulls":5},4,{"$nulls":6},4,{"$nulls":6},4,{"$nulls":5},4,{"$nulls":6},4,{"$nulls":6},4,{"$nulls":5},4,{"$nulls":6},4,{"$nulls":6},4,{"$nulls":5},4,{"$nulls":6},4,{"$nulls":6},4,{"$nulls":5},4,{"$nulls":6},4,{"$nulls":6},4]
[5,{"$nulls":5},".",5,{"$nulls":5},".",5,{"$nulls":5},5,{"$nulls":5},".",5,{"$nulls":5},".",5,{"$nulls":5},5,{"$nulls":5},".",5,{"$nulls":5},".",5,{"$nulls":5},5,{"$nulls":5},".",5,{"$nulls":5},".",5,{"$nulls":5},5,{"$nulls":5},".",5,{"$nulls":5},".",5,{"$nulls":5},5,{"$nulls":5},".",5,{"$nulls":5},".",5,{"$nulls":5},5,{"$nulls":5},".",5,{"$nulls":5},".",5]
[6,{"$nulls":6},6,{"$nulls":6},6,{"$nulls":5},6,{"$nulls":6},6,{"$nulls":6},6,{"$nulls":5},6,{"$nulls":6},6,{"$nulls":6},6,{"$nulls":5},6,{"$nulls":6},6,{"$nulls":6},6,{"$nulls":5},6,{"$nulls":6},6,{"$nulls":6},6,{"$nulls":5},6,{"$nulls":6},6,{"$nulls":6},6,{"$nulls":5},6,{"$nulls":6},6,{"$nulls":6},6]
[7,{"$nulls":6},7,{"$nulls":6},7,{"$nulls":5},7,{"$nulls":6},7,{"$nulls":6},7,{"$nulls":5},7,{"$nulls":6},7,{"$nulls":6},7,{"$nulls":5},7,{"$nulls":6},7,{"$nulls":6},7,{"$nulls":5},7,{"$nulls":6},7,{"$nulls":6},7,{"$nulls":5},7,{"$nulls":6},7,{"$nulls":6},7,{"$nulls":5},7,{"$nulls":6},7,{"$nulls":6},7]
[8,{"$nulls":6},8,{"$nulls":6},8,{"$nulls":5},8,{"$nulls":6},8,{"$nulls":6},8,{"$nulls":5},8,{"$nulls":6},8,{"$nulls":6},8,{"$nulls":5},8,{"$nulls":6},8,{"$nulls":6},8,{"$nulls":5},8,{"$nulls":6},8,{"$nulls":6},8,{"$nulls":5},8,{"$nulls":6},8,{"$nulls":6},8,{"$nulls":5},8,{"$nulls":6},8,{"$nulls":6},8]
[9,{"$nulls":5},".",9,{"$nulls":5},".",9,{"$nulls":5},9,{"$nulls":5},".",9,{"$nulls":5},".",9,{"$nulls":5},9,{"$nulls":5},".",9,{"$nulls":5},".",9,{"$nulls":5},9,{"$nulls":5},".",9,{"$nulls":5},".",9,{"$nulls":5},9,{"$nulls":5},".",9,{"$nulls":5},".",9,{"$nulls":5},9,{"$nulls":5},".",9,{"$nulls":5},".",9,{"$nulls":5},9,{"$nulls":5},".",9,{"$nulls":5},".",9]
[10,{"$nulls":6},10,{"$nulls":6},10,{"$nulls":5},10,{"$nulls":6},10,{"$nulls":6},10,{"$nulls":5},10,{"$nulls":6},10,{"$nulls":6},10,{"$nulls":5},10,{"$nulls":6},10,{"$nulls":6},10,{"$nulls":5},10,{"$nulls":6},10,{"$nulls":6},10,{"$nulls":5},10,{"$nulls":6},10,{"$nulls":6},10,{"$nulls":5},10,{"$nulls":6},10,{"$nulls":6},10]
[11,{"$nulls":6},11,{"$nulls":6},11,{"$nulls":5},11,{"$nulls":6},11,{"$nulls":6},11,{"$nulls":5},11,{"$nulls":6},11,{"$nulls":6},11,{"$nulls":5},11,{"$nulls":6},11,{"$nulls":6},11,{"$nulls":5},11,{"$nulls":6},11,{"$nulls":6},11,{"$nulls":5},11,{"$nulls":6},11,{"$nulls":6},11,{"$nulls":5},11,{"$nulls":6},11,{"$nulls":6},11]
[12,{"$nulls":6},12,{"$nulls":6},12,{"$nulls":5},12,{"$nulls":6},12,{"$nulls":6},12,{"$nulls":5},12,{"$nulls":6},12,{"$nulls":6},12,{"$nulls":5},12,{"$nulls":6},12,{"$nulls":6},12,{"$nulls":5},12,{"$nulls":6},12,{"$nulls":6},12,{"$nulls":5},12,{"$nulls":6},12,{"$nulls":6},12,{"$nulls":5},12,{"$nulls":6},12,{"$nulls":6},12]
[13,{"$nulls":5},".",13,{"$nulls":5},".",13,{"$nulls":5},13,{"$nulls":5},".",13,{"$nulls":5},".",13,{"$nulls":5},13,{"$nulls":5},".",13,{"$nulls":5},".",13,{"$nulls":5},13,{"$nulls":5},".",13,{"$nulls":5},".",13,{"$nulls":5},13,{"$nulls":5},".",13,{"$nulls":5},".",13,{"$nulls":5},13,{"$nulls":5},".",13,{"$nulls":5},".",13,{"$nulls":5},13,{"$nulls":5},".",13,{"$nulls":5},".",13]
[14,{"$nulls":6},14,{"$nulls":6},14,{"$nulls":5},14,{"$nulls":6},14,{"$nulls":6},14,{"$nulls":5},14,{"$nulls":6},14,{"$nulls":6},14,{"$nulls":5},14,{"$nulls":6},14,{"$nulls":6},14,{"$nulls":5},14,{"$nulls":6},14,{"$nulls":6},14,{"$nulls":5},14,{"$nulls":6},14,{"$nulls":6},14,{"$nulls":5},14,{"$nulls":6},14,{"$nulls":6},14]
[15,{"$nulls":6},15,{"$nulls":6},15,{"$nulls":5},15,{"$nulls":6},15,{"$nulls":6},15,{"$nulls":5},15,{"$nulls":6},15,{"$nulls":6},15,{"$nulls":5},15,{"$nulls":6},15,{"$nulls":6},15,{"$nulls":5},15,{"$nulls":6},15,{"$nulls":6},15,{"$nulls":5},15,{"$nulls":6},15,{"$nulls":6},15,{"$nulls":5},15,{"$nulls":6},15,{"$nulls":6},15]
[16,{"$nulls":6},16,{"$nulls":6},16,{"$nulls":5},16,{"$nulls":6},16,{"$nulls":6},16,{"$nulls":5},16,{"$nulls":6},16,{"$nulls":6},16,{"$nulls":5},16,{"$nulls":6},16,{"$nulls":6},16,{"$nulls":5},16,{"$nulls":6},16,{"$nulls":6},16,{"$nulls":5},16,{"$nulls":6},16,{"$nulls":6},16,{"$nulls":5},16,{"$nulls":6},16,{"$nulls":6},16]
[17,{"$nulls":5},".",17,{"$nulls":5},".",17,{"$nulls":5},17,{"$nulls":5},".",17,{"$nulls":5},".",17,{"$nulls":5},17,{"$nulls":5},".",17,{"$nulls":5},".",17,{"$nulls":5},17,{"$nulls":5},".",17,{"$nulls":5},".",17,{"$nulls":5},17,{"$nulls":5},".",17,{"$nulls":5},".",17,{"$nulls":5},17,{"$nulls":5},".",17,{"$nulls":5},".",17,{"$nulls":5},17,{"$nulls":5},".",17,{"$nulls":5},".",17]
[18,{"$nulls":6},18,{"$nulls":6},18,{"$nulls":5},18,{"$nulls":6},18,{"$nulls":6},18,{"$nulls":5},18,{"$nulls":6},18,{"$nulls":6},18,{"$nulls":5},18,{"$nulls":6},18,{"$nulls":6},18,{"$nulls":5},18,{"$nulls":6},18,{"$nulls":6},18,{"$nulls":5},18,{"$nulls":6},18,{"$nulls":6},18,{"$nulls":5},18,{"$nulls":6},18,{"$nulls":6},18]
["Total","Shots",null,null,"Shots",null,null,"Total","Shots",null,null,"Shots",null,null,"Total","Shots",null,null,"Shots",null,"Total","Shots",null,null,"Shots",null,null,"Total","Shots",null,null,"Shots",null,null,"Total","Shots",null,null,"Shots",null,"Total","Shots",null,null,"Shots",null,null,"Total","Shots",null,null,"shots",null,null,"Total","Shots",null,null,"shots",null,"Total","Shots",null,null,"Shots",null,null,"Total","Shots",null,null,"shots",null,null,"Total","Shots",null,null,"shots",null,"Total","Shots",null,null,"Shots",null,null,"Total","Shots",null,null,"Shots",null,null,"Total","Shots",null,null,"Shots",null,"Total","Shots",null,null,"Shots",null,null,"Total","Shots",null,null,"shots",null,null,"Total","Shots",null,null,"shots",null,"Total","Shots",null,null,"shots",null,null,"Total","Shots",null,null,"shots",null,null,"Total","Shots",null,null,"shots"]
[null,"Ends",null,null,"Ends",null,".",null,"Ends",null,null,"Ends",null,".",null,"Ends",null,null,"Ends",null,null,"Ends",null,null,"Ends",null,".",null,"Ends",null,null,"Ends",null,".",null,"Ends",null,null,"Ends",null,null,"Ends",null,null,"Ends",null,".",null,"Ends",null,null,"Ends",null,".",null,"Ends",null,null,"Ends",null,null,"Ends",null,null,"Ends",null,".",null,"Ends",null,null,"Ends",null,".",null,"Ends",null,null,"Ends",null,null,"Ends",null,null,"Ends",null,".",null,"Ends",null,null,"Ends",null,".",null,"Ends",null,null,"Ends",null,null,"Ends",null,null,"Ends",null,".",null,"Ends",null,null,"Ends",null,".",null,"Ends",null,null,"Ends",null,null,"Ends",null,null,"Ends",null,".",null,"Ends",null,null,"Ends",null,".",null,"Ends",null,null,"Ends"]
["1st Game ",{"$nulls":5},".","2nd Game ",{"$nulls":5},".","3nd Game",{"$nulls":5},"4th Game",{"$nulls":5},".","5th Game",{"$nulls":5},".","6th Game",{"$nulls":5},"7th Game",{"$nulls":5},".","8th Game",{"$nulls":5},".","9th Game",{"$nulls":5},"10th Game",{"$nulls":5},".","11th Game",{"$nulls":5},".","12th Game ",{"$nulls":5},"13th Game",{"$nulls":5},".","14th Game",{"$nulls":5},".","15th Game",{"$nulls":5},"16th Game",{"$nulls":5},".","17th Game",{"$nulls":5},".","18th Game",{"$nulls":5},"19th Game",{"$nulls":5},".","20th Game",{"$nulls":5},".","9th Game "]
["Team No",null,null,"Rink No",{"$nulls":3},"Team No",null,null,"Rink No",{"$nulls":3},"Team No",null,null,"Rink No",null,null,"Team No",null,null,"Rink No",{"$nulls":3},"Team No",null,null,"Rink No",{"$nulls":3},"Team No",null,null,"Rink No",null,null,"Team No",null,null,"Rink No",{"$nulls":3},"Team No",null,null,"Rink No",{"$nulls":3},"Team No",null,null,"Rink No",null,null,"Team No",null,null,"Rink No",{"$nulls":3},"Team No",null,null,"Rink No",{"$nulls":3},"Team No",null,null,"Rink No",null,null,"Team No",null,null,"Rink No",{"$nulls":3},"Team No",null,null,"Rink No",{"$nulls":3},"Team No",null,null,"Rink No",null,null,"Team No",null,null,"Rink No",{"$nulls":3},"Team No",null,null,"Rink No",{"$nulls":3},"Team No",null,null,"Rink No",null,null,"Team No",null,null,"Rink No",{"$nulls":3},"Team No",null,null,"Rink No",{"$nulls":3},"Team No",null,null,"Rink No"]
[]
[{"$f":"DRAW!$B$11","v":5},null,null,{"$f":"DRAW!$E$11","v":4},null,null,".",{"$f":"DRAW!$B$11","v":5},null,null,{"$f":"DRAW!$G$11","v":1},null,null,".",{"$f":"DRAW!$B$11","v":5},null,null,{"$f":"DRAW!$I$11","v":5},null,null,{"$f":"DRAW!$B$11","v":5},null,null,{"$f":"DRAW!$K$11","v":6},null,null,".",{"$f":"DRAW!$B$11","v":5},null,null,{"$f":"DRAW!$M$11","v":3},null,null,".",{"$f":"DRAW!$B$11","v":5},null,null,{"$f":"DRAW!$O$11","v":2},null,null,{"$f":"DRAW!$B$11","v":5},null,null,{"$f":"DRAW!$Q$11","v":6},null,null,".",{"$f":"DRAW!$B$11","v":5},null,null,{"$f":"DRAW!$S$11","v":5},null,null,".",{"$f":"DRAW!$B$11","v":5},null,null,{"$f":"DRAW!$U$11","v":3},null,null,{"$f":"DRAW!$B$11","v":5},null,null,{"$f":"DRAW!$W$11","v":2},null,null,".",{"$f":"DRAW!$B$11","v":5},null,null,{"$f":"DRAW!#REF!","v":{"$error":"#REF!"}},null,null,".",{"$f":"DRAW!$B$11","v":5},null,null,{"$f":"DRAW!#REF!","v":{"$error":"#REF!"}},null,null,{"$f":"DRAW!$B$11","v":5},null,null,{"$f":"DRAW!#REF!","v":{"$error":"#REF!"}},null,null,".",{"$f":"DRAW!$B$11","v":5},null,null,{"$f":"DRAW!#REF!","v":{"$error":"#REF!"}},null,null,".",{"$f":"DRAW!$B$11","v":5},null,null,{"$f":"DRAW!#REF!","v":{"$error":"#REF!"}},null,null,{"$f":"DRAW!$B$11","v":5},null,null,{"$f":"DRAW!#REF!","v":{"$error":"#REF!"}},null,null,".",{"$f":"DRAW!$B$11","v":5},null,null,{"$f":"DRAW!#REF!","v":{"$error":"#REF!"}},null,null,".",{"$f":"DRAW!$B$11","v":5},null,null,{"$f":"DRAW!#REF!","v":{"$error":"#REF!"}},null,null,{"$f":"DRAW!$B$11","v":5},null,null,{"$f":"DRAW!#REF!","v":{"$error":"#REF!"}},null,null,".",{"$f":"DRAW!$B$11","v":5},null,null,{"$f":"DRAW!#REF!","v":{"$error":"#REF!"}},null,null,".",{"$f":"DRAW!$B$11","v":5},null,null,{"$f":"DRAW!#REF!","v":{"$error":"#REF!"}}]
[null,"Team",{"$f":"DRAW!$B$11","v":5},"V","Team",{"$f":"DRAW!$D$11","v":10},null,null,"Team",{"$f":"DRAW!$B$11","v":5},"V","Team",{"$f":"DRAW!$F$11","v":12},null,null,"Team",{"$f":"DRAW!$B$11","v":5},"V","Team",{"$f":"DRAW!$H$11","v":3},null,"Team",{"$f":"DRAW!$B$11","v":5},"V","Team",{"$f":"DRAW!$J$11","v":1},null,null,"Team",{"$f":"DRAW!$B$11","v":5},"V","Team",{"$f":"DRAW!$L$11","v":7},null,null,"Team",{"$f":"DRAW!$B$11","v":5},"V","Team",{"$f":"DRAW!$N$11","v":9},null,"Team",{"$f":"DRAW!$B$11","v":5},"V","Team",{"$f":"DRAW!$P$11","v":11},null,null,"Team",{"$f":"DRAW!$B$11","v":5},"V","Team",{"$f":"DRAW!$R$11","v":2},null,null,"Team",{"$f":"DRAW!$B$11","v":5},"V","Team",{"$f":"DRAW!$T$11","v":4},null,"Team",{"$f":"DRAW!$B$11","v":5},"V","Team",{"$f":"DRAW!$V$11","v":6},null,null,"Team",{"$f":"DRAW!$B$11","v":5},"V","Team",{"$f":"DRAW!#REF!","v":{"$error":"#REF!"}},null,null,"Team",{"$f":"DRAW!$B$11","v":5},"V","Team",{"$f":"DRAW!#REF!","v":{"$error":"#REF!"}},null,"Team",{"$f":"DRAW!$B$11","v":5},"V","Team",{"$f":"DRAW!#REF!","v":{"$error":"#REF!"}},null,null,"Team",{"$f":"DRAW!$B$11","v":5},"V","Team",{"$f":"DRAW!#REF!","v":{"$error":"#REF!"}},null,null,"Team",{"$f":"DRAW!$B$11","v":5},"V","Team",{"$f":"DRAW!#REF!","v":{"$error":"#REF!"}},null,"Team",{"$f":"DRAW!$B$11","v":5},"V","Team",{"$f":"DRAW!#REF!","v":{"$error":"#REF!"}},null,null,"Team",{"$f":"DRAW!$B$11","v":5},"V","Team",{"$f":"DRAW!#REF!","v":{"$error":"#REF!"}},null,null,"Team",{"$f":"DRAW!$B$11","v":5},"V","Team",{"$f":"DRAW!#REF!","v":{"$error":"#REF!"}},null,"Team",{"$f":"DRAW!$B$11","v":5},"V","Team",{"$f":"DRAW!#REF!","v":{"$error":"#REF!"}},null,null,"Team",{"$f":"DRAW!$B$11","v":5},"V","Team",{"$f":"DRAW!#REF!","v":{"$error":"#REF!"}},null,null,"Team",{"$f":"DRAW!$B$11","v":5},"V","Team",{"$f":"DRAW!#REF!","v":{"$error":"#REF!"}}]
["Ends","Shots","Total",null,"Shots","Total",null,"Ends","Shots","Total",null,"Shots","Total",null,"Ends","Shots","Total",null,"Shots","Total","Ends","Shots","Total",null,"Shots","Total",null,"Ends","Shots","Total",null,"Shots","Total",null,"Ends","Shots","Total",null,"Shots","Total","Ends","Shots","Total",null,"Shots","Total",null,"Ends","Shots","Total",null,"Shots","Total",null,"Ends","Shots","Total",null,"Shots","Total","Ends","Shots","Total",null,"Shots","Total",null,"Ends","Shots","Total",null,"Shots","Total",null,"Ends","Shots","Total",null,"Shots","Total","Ends","Shots","Total",null,"Shots","Total",null,"Ends","Shots","Total",null,"Shots","Total",null,"Ends","Shots","Total",null,"Shots","Total","Ends","Shots","Total",null,"Shots","Total",null,"Ends","Shots","Total",null,"Shots","Total",null,"Ends","Shots","Total",null,"Shots","Total","Ends","Shots","Total",null,"Shots","Total",null,"Ends","Shots","Total",null,"Shots","Total",null,"Ends","Shots","Total",null,"Shots","Total"]
[1,{"$nulls":5},".",1,{"$nulls":5},".",1,{"$nulls":5},1,{"$nulls":5},".",1,{"$nulls":5},".",1,{"$nulls":5},1,{"$nulls":5},".",1,{"$nulls":5},".",1,{"$nulls":5},1,{"$nulls":5},".",1,{"$nulls":5},".",1,{"$nulls":5},1,{"$nulls":5},".",1,{"$nulls":5},".",1,{"$nulls":5},1,{"$nulls":5},".",1,{"$nulls":5},".",1,{"$nulls":5},1,{"$nulls":5},".",1,{"$nulls":5},".",1]
[2,{"$nulls":6},2,{"$nulls":6},2,{"$nulls":5},2,{"$nulls":6},2,{"$nulls":6},2,{"$nulls":5},2,{"$nulls":6},2,{"$nulls":6},2,{"$nulls":5},2,{"$nulls":6},2,{"$nulls":6},2,{"$nulls":5},2,{"$nulls":6},2,{"$nulls":6},2,{"$nulls":5},2,{"$nulls":6},2,{"$nulls":6},2,{"$nulls":5},2,{"$nulls":6},2,{"$nulls":6},2]
[3,{"$nulls":6},3,{"$nulls":6},3,{"$nulls":5},3,{"$nulls":6},3,{"$nulls":6},3,{"$nulls":5},3,{"$nulls":6},3,{"$nulls":6},3,{"$nulls":5},3,{"$nulls":6},3,{"$nulls":6},3,{"$nulls":5},3,{"$nulls":6},3,{"$nulls":6},3,{"$nulls":5},3,{"$nulls":6},3,{"$nulls":6},3,{"$nulls":5},3,{"$nulls":6},3,{"$nulls":6},3]
[4,{"$nulls":6},4,{"$nulls":6},4,{"$nulls":5},4,{"$nulls":6},4,{"$nulls":6},4,{"$nulls":5},4,{"$nulls":6},4,{"$nulls":6},4,{"$nulls":5},4,{"$nulls":6},4,{"$nulls":6},4,{"$nulls":5},4,{"$nulls":6},4,{"$nulls":6},4,{"$nulls":5},4,{"$nulls":6},4,{"$nulls":6},4,{"$nulls":5},4,{"$nulls":6},4,{"$nulls":6},4]
[5,{"$nulls":5},".",5,{"$nulls":5},".",5,{"$nulls":5},5,{"$nulls":5},".",5,{"$nulls":5},".",5,{"$nulls":5},5,{"$nulls":5},".",5,{"$nulls":5},".",5,{"$nulls":5},5,{"$nulls":5},".",5,{"$nulls":5},".",5,{"$nulls":5},5,{"$nulls":5},".",5,{"$nulls":5},".",5,{"$nulls":5},5,{"$nulls":5},".",5,{"$nulls":5},".",5,{"$nulls":5},5,{"$nulls":5},".",5,{"$nulls":5},".",5]
[6,{"$nulls":6},6,{"$nulls":6},6,{"$nulls":5},6,{"$nulls":6},6,{"$nulls":6},6,{"$nulls":5},6,{"$nulls":6},6,{"$nulls":6},6,{"$nulls":5},6,{"$nulls":6},6,{"$nulls":6},6,{"$nulls":5},6,{"$nulls":6},6,{"$nulls":6},6,{"$nulls":5},6,{"$nulls":6},6,{"$nulls":6},6,{"$nulls":5},6,{"$nulls":6},6,{"$nulls":6},6]
[7,{"$nulls":6},7,{"$nulls":6},7,{"$nulls":5},7,{"$nulls":6},7,{"$nulls":6},7,{"$nulls":5},7,{"$nulls":6},7,{"$nulls":6},7,{"$nulls":5},7,{"$nulls":6},7,{"$nulls":6},7,{"$nulls":5},7,{"$nulls":6},7,{"$nulls":6},7,{"$nulls":5},7,{"$nulls":6},7,{"$nulls":6},7,{"$nulls":5},7,{"$nulls":6},7,{"$nulls":6},7]
[8,{"$nulls":6},8,{"$nulls":6},8,{"$nulls":5},8,{"$nulls":6},8,{"$nulls":6},8,{"$nulls":5},8,{"$nulls":6},8,{"$nulls":6},8,{"$nulls":5},8,{"$nulls":6},8,{"$nulls":6},8,{"$nulls":5},8,{"$nulls":6},8,{"$nulls":6},8,{"$nulls":5},8,{"$nulls":6},8,{"$nulls":6},8,{"$nulls":5},8,{"$nulls":6},8,{"$nulls":6},8]
[9,{"$nulls":5},".",9,{"$nulls":5},".",9,{"$nulls":5},9,{"$nulls":5},".",9,{"$nulls":5},".",9,{"$nulls":5},9,{"$nulls":5},".",9,{"$nulls":5},".",9,{"$nulls":5},9,{"$nulls":5},".",9,{"$nulls":5},".",9,{"$nulls":5},9,{"$nulls":5},".",9,{"$nulls":5},".",9,{"$nulls":5},9,{"$nulls":5},".",9,{"$nulls":5},".",9,{"$nulls":5},9,{"$nulls":5},".",9,{"$nulls":5},".",9]
[10,{"$nulls":6},10,{"$nulls":6},10,{"$nulls":5},10,{"$nulls":6},10,{"$nulls":6},10,{"$nulls":5},10,{"$nulls":6},10,{"$nulls":6},10,{"$nulls":5},10,{"$nulls":6},10,{"$nulls":6},10,{"$nulls":5},10,{"$nulls":6},10,{"$nulls":6},10,{"$nulls":5},10,{"$nulls":6},10,{"$nulls":6},10,{"$nulls":5},10,{"$nulls":6},10,{"$nulls":6},10]
[11,{"$nulls":6},11,{"$nulls":6},11,{"$nulls":5},11,{"$nulls":6},11,{"$nulls":6},11,{"$nulls":5},11,{"$nulls":6},11,{"$nulls":6},11,{"$nulls":5},11,{"$nulls":6},11,{"$nulls":6},11,{"$nulls":5},11,{"$nulls":6},11,{"$nulls":6},11,{"$nulls":5},11,{"$nulls":6},11,{"$nulls":6},11,{"$nulls":5},11,{"$nulls":6},11,{"$nulls":6},11]
[12,{"$nulls":6},12,{"$nulls":6},12,{"$nulls":5},12,{"$nulls":6},12,{"$nulls":6},12,{"$nulls":5},12,{"$nulls":6},12,{"$nulls":6},12,{"$nulls":5},12,{"$nulls":6},12,{"$nulls":6},12,{"$nulls":5},12,{"$nulls":6},12,{"$nulls":6},12,{"$nulls":5},12,{"$nulls":6},12,{"$nulls":6},12,{"$nulls":5},12,{"$nulls":6},12,{"$nulls":6},12]
[13,{"$nulls":5},".",13,{"$nulls":5},".",13,{"$nulls":5},13,{"$nulls":5},".",13,{"$nulls":5},".",13,{"$nulls":5},13,{"$nulls":5},".",13,{"$nulls":5},".",13,{"$nulls":5},13,{"$nulls":5},".",13,{"$nulls":5},".",13,{"$nulls":5},13,{"$nulls":5},".",13,{"$nulls":5},".",13,{"$nulls":5},13,{"$nulls":5},".",13,{"$nulls":5},".",13,{"$nulls":5},13,{"$nulls":5},".",13,{"$nulls":5},".",13]
[14,{"$nulls":6},14,{"$nulls":6},14,{"$nulls":5},14,{"$nulls":6},14,{"$nulls":6},14,{"$nulls":5},14,{"$nulls":6},14,{"$nulls":6},14,{"$nulls":5},14,{"$nulls":6},14,{"$nulls":6},14,{"$nulls":5},14,{"$nulls":6},14,{"$nulls":6},14,{"$nulls":5},14,{"$nulls":6},14,{"$nulls":6},14,{"$nulls":5},14,{"$nulls":6},14,{"$nulls":6},14]
[15,{"$nulls":6},15,{"$nulls":6},15,{"$nulls":5},15,{"$nulls":6},15,{"$nulls":6},15,{"$nulls":5},15,{"$nulls":6},15,{"$nulls":6},15,{"$nulls":5},15,{"$nulls":6},15,{"$nulls":6},15,{"$nulls":5},15,{"$nulls":6},15,{"$nulls":6},15,{"$nulls":5},15,{"$nulls":6},15,{"$nulls":6},15,{"$nulls":5},15,{"$nulls":6},15,{"$nulls":6},15]
[16,{"$nulls":6},16,{"$nulls":6},16,{"$nulls":5},16,{"$nulls":6},16,{"$nulls":6},16,{"$nulls":5},16,{"$nulls":6},16,{"$nulls":6},16,{"$nulls":5},16,{"$nulls":6},16,{"$nulls":6},16,{"$nulls":5},16,{"$nulls":6},16,{"$nulls":6},16,{"$nulls":5},16,{"$nulls":6},16,{"$nulls":6},16,{"$nulls":5},16,{"$nulls":6},16,{"$nulls":6},16]
[17,{"$nulls":5},".",17,{"$nulls":5},".",17,{"$nulls":5},17,{"$nulls":5},".",17,{"$nulls":5},".",17,{"$nulls":5},17,{"$nulls":5},".",17,{"$nulls":5},".",17,{"$nulls":5},17,{"$nulls":5},".",17,{"$nulls":5},".",17,{"$nulls":5},17,{"$nulls":5},".",17,{"$nulls":5},".",17,{"$nulls":5},17,{"$nulls":5},".",17,{"$nulls":5},".",17,{"$nulls":5},17,{"$nulls":5},".",17,{"$nulls":5},".",17]
[18,{"$nulls":6},18,{"$nulls":6},18,{"$nulls":5},18,{"$nulls":6},18,{"$nulls":6},18,{"$nulls":5},18,{"$nulls":6},18,{"$nulls":6},18,{"$nulls":5},18,{"$nulls":6},18,{"$nulls":6},18,{"$nulls":5},18,{"$nulls":6},18,{"$nulls":6},18,{"$nulls":5},18,{"$nulls":6},18,{"$nulls":6},18,{"$nulls":5},18,{"$nulls":6},18,{"$nulls":6},18]
["Total","Shots",null,null,"Shots",null,null,"Total","Shots",null,null,"Shots",null,null,"Total","Shots",null,null,"Shots",null,"Total","Shots",null,null,"Shots",null,null,"Total","Shots",null,null,"Shots",null,null,"Total","Shots",null,null,"Shots",null,"Total","Shots",null,null,"Shots",null,null,"Total","Shots",null,null,"shots",null,null,"Total","Shots",null,null,"shots",null,"Total","Shots",null,null,"Shots",null,null,"Total","Shots",null,null,"shots",null,null,"Total","Shots",null,null,"shots",null,"Total","Shots",null,null,"Shots",null,null,"Total","Shots",null,null,"Shots",null,null,"Total","Shots",null,null,"Shots",null,"Total","Shots",null,null,"Shots",null,null,"Total","Shots",null,null,"shots",null,null,"Total","Shots",null,null,"shots",null,"Total","Shots",null,null,"shots",null,null,"Total","Shots",null,null,"shots",null,null,"Total","Shots",null,null,"shots"]
[null,"Ends",null,null,"Ends",null,".",null,"Ends",null,null,"Ends",null,".",null,"Ends",null,null,"Ends",null,null,"Ends",null,null,"Ends",null,".",null,"Ends",null,null,"Ends",null,".",null,"Ends",null,null,"Ends",null,null,"Ends",null,null,"Ends",null,".",null,"Ends",null,null,"Ends",null,".",null,"Ends",null,null,"Ends",null,null,"Ends",null,null,"Ends",null,".",null,"Ends",null,null,"Ends",null,".",null,"Ends",null,null,"Ends",null,null,"Ends",null,null,"Ends",null,".",null,"Ends",null,null,"Ends",null,".",null,"Ends",null,null,"Ends",null,null,"Ends",null,null,"Ends",null,".",null,"Ends",null,null,"Ends",null,".",null,"Ends",null,null,"Ends",null,null,"Ends",null,null,"Ends",null,".",null,"Ends",null,null,"Ends",null,".",null,"Ends",null,null,"Ends"]
[]
[]
["1st Game ",{"$nulls":5},".","2nd Game ",{"$nulls":5},".","3nd Game",{"$nulls":5},"4th Game",{"$nulls":5},".","5th Game",{"$nulls":5},".","6th Game",{"$nulls":5},"7th Game",{"$nulls":5},".","8th Game",{"$nulls":5},".","9th Game",{"$nulls":5},"10th Game",{"$nulls":5},".","11th Game",{"$nulls":5},".","12th Game ",{"$nulls":5},"13th Game",{"$nulls":5},".","14th Game",{"$nulls":5},".","15th Game",{"$nulls":5},"16th Game",{"$nulls":5},".","17th Game",{"$nulls":5},".","18th Game",{"$nulls":5},"19th Game",{"$nulls":5},".","20th Game",{"$nulls":5},".","9th Game "]
["Team No",null,null,"Rink No",{"$nulls":3},"Team No",null,null,"Rink No",{"$nulls":3},"Team No",null,null,"Rink No",null,null,"Team No",null,null,"Rink No",{"$nulls":3},"Team No",null,null,"Rink No",{"$nulls":3},"Team No",null,null,"Rink No",null,null,"Team No",null,null,"Rink No",{"$nulls":3},"Team No",null,null,"Rink No",{"$nulls":3},"Team No",null,null,"Rink No",null,null,"Team No",null,null,"Rink No",{"$nulls":3},"Team No",null,null,"Rink No",{"$nulls":3},"Team No",null,null,"Rink No",null,null,"Team No",null,null,"Rink No",{"$nulls":3},"Team No",null,null,"Rink No",{"$nulls":3},"Team No",null,null,"Rink No",null,null,"Team No",null,null,"Rink No",{"$nulls":3},"Team No",null,null,"Rink No",{"$nulls":3},"Team No",null,null,"Rink No",null,null,"Team No",null,null,"Rink No",{"$nulls":3},"Team No",null,null,"Rink No",{"$nulls":3},"Team No",null,null,"Rink No"]
[]
[{"$f":"DRAW!$B$12","v":6},null,null,{"$f":"DRAW!$E$12","v":5},null,null,".",{"$f":"DRAW!$B$12","v":6},null,null,{"$f":"DRAW!$G$12","v":6},null,null,".",{"$f":"DRAW!$B$12","v":6},null,null,{"$f":"DRAW!$I$12","v":3},null,null,{"$f":"DRAW!$B$12","v":6},null,null,{"$f":"DRAW!$K$12","v":1},null,null,".",{"$f":"DRAW!$B$12","v":6},null,null,{"$f":"DRAW!$M$12","v":4},null,null,".",{"$f":"DRAW!$B$12","v":6},null,null,{"$f":"DRAW!$O$12","v":3},null,null,{"$f":"DRAW!$B$12","v":6},null,null,{"$f":"DRAW!$Q$12","v":2},null,null,".",{"$f":"DRAW!$B$12","v":6},null,null,{"$f":"DRAW!$S$12","v":1},null,null,".",{"$f":"DRAW!$B$12","v":6},null,null,{"$f":"DRAW!$U$12","v":6},null,null,{"$f":"DRAW!$B$12","v":6},null,null,{"$f":"DRAW!$W$12","v":2},null,null,".",{"$f":"DRAW!$B$12","v":6},null,null,{"$f":"DRAW!#REF!","v":{"$error":"#REF!"}},null,null,".",{"$f":"DRAW!$B$12","v":6},null,null,{"$f":"DRAW!#REF!","v":{"$error":"#REF!"}},null,null,{"$f":"DRAW!$B$12","v":6},null,null,{"$f":"DRAW!#REF!","v":{"$error":"#REF!"}},null,null,".",{"$f":"DRAW!$B$12","v":6},null,null,{"$f":"DRAW!#REF!","v":{"$error":"#REF!"}},null,null,".",{"$f":"DRAW!$B$12","v":6},null,null,{"$f":"DRAW!#REF!","v":{"$error":"#REF!"}},null,null,{"$f":"DRAW!$B$12","v":6},null,null,{"$f":"DRAW!#REF!","v":{"$error":"#REF!"}},null,null,".",{"$f":"DRAW!$B$12","v":6},null,null,{"$f":"DRAW!#REF!","v":{"$error":"#REF!"}},null,null,".",{"$f":"DRAW!$B$12","v":6},null,null,{"$f":"DRAW!#REF!","v":{"$error":"#REF!"}},null,null,{"$f":"DRAW!$B$12","v":6},null,null,{"$f":"DRAW!#REF!","v":{"$error":"#REF!"}},null,null,".",{"$f":"DRAW!$B$12","v":6},null,null,{"$f":"DRAW!#REF!","v":{"$error":"#REF!"}},null,null,".",{"$f":"DRAW!$B$12","v":6},null,null,{"$f":"DRAW!#REF!","v":{"$error":"#REF!"}}]
[null,"Team",{"$f":"DRAW!$B$12","v":6},"V","Team",{"$f":"DRAW!$D$12","v":9},null,null,"Team",{"$f":"DRAW!$B$12","v":6},"V","Team",{"$f":"DRAW!$F$12","v":11},null,null,"Team",{"$f":"DRAW!$B$12","v":6},"V","Team",{"$f":"DRAW!$H$12","v":2},null,"Team",{"$f":"DRAW!$B$12","v":6},"V","Team",{"$f":"DRAW!$J$12","v":4},null,null,"Team",{"$f":"DRAW!$B$12","v":6},"V","Team",{"$f":"DRAW!$L$12","v":1},null,null,"Team",{"$f":"DRAW!$B$12","v":6},"V","Team",{"$f":"DRAW!$N$12","v":8},null,"Team",{"$f":"DRAW!$B$12","v":6},"V","Team",{"$f":"DRAW!$P$12","v":10},null,null,"Team",{"$f":"DRAW!$B$12","v":6},"V","Team",{"$f":"DRAW!$R$12","v":12},null,null,"Team",{"$f":"DRAW!$B$12","v":6},"V","Team",{"$f":"DRAW!$T$12","v":3},null,"Team",{"$f":"DRAW!$B$12","v":6},"V","Team",{"$f":"DRAW!$V$12","v":5},null,null,"Team",{"$f":"DRAW!$B$12","v":6},"V","Team",{"$f":"DRAW!#REF!","v":{"$error":"#REF!"}},null,null,"Team",{"$f":"DRAW!$B$12","v":6},"V","Team",{"$f":"DRAW!#REF!","v":{"$error":"#REF!"}},null,"Team",{"$f":"DRAW!$B$12","v":6},"V","Team",{"$f":"DRAW!#REF!","v":{"$error":"#REF!"}},null,null,"Team",{"$f":"DRAW!$B$12","v":6},"V","Team",{"$f":"DRAW!#REF!","v":{"$error":"#REF!"}},null,null,"Team",{"$f":"DRAW!$B$12","v":6},"V","Team",{"$f":"DRAW!#REF!","v":{"$error":"#REF!"}},null,"Team",{"$f":"DRAW!$B$12","v":6},"V","Team",{"$f":"DRAW!#REF!","v":{"$error":"#REF!"}},null,null,"Team",{"$f":"DRAW!$B$12","v":6},"V","Team",{"$f":"DRAW!#REF!","v":{"$error":"#REF!"}},null,null,"Team",{"$f":"DRAW!$B$12","v":6},"V","Team",{"$f":"DRAW!#REF!","v":{"$error":"#REF!"}},null,"Team",{"$f":"DRAW!$B$12","v":6},"V","Team",{"$f":"DRAW!#REF!","v":{"$error":"#REF!"}},null,null,"Team",{"$f":"DRAW!$B$12","v":6},"V","Team",{"$f":"DRAW!#REF!","v":{"$error":"#REF!"}},null,null,"Team",{"$f":"DRAW!$B$12","v":6},"V","Team",{"$f":"DRAW!#REF!","v":{"$error":"#REF!"}}]
["Ends","Shots","Total",null,"Shots","Total",null,"Ends","Shots","Total",null,"Shots","Total",null,"Ends","Shots","Total",null,"Shots","Total","Ends","Shots","Total",null,"Shots","Total",null,"Ends","Shots","Total",null,"Shots","Total",null,"Ends","Shots","Total",null,"Shots","Total","Ends","Shots","Total",null,"Shots","Total",null,"Ends","Shots","Total",null,"Shots","Total",null,"Ends","Shots","Total",null,"Shots","Total","Ends","Shots","Total",null,"Shots","Total",null,"Ends","Shots","Total",null,"Shots","Total",null,"Ends","Shots","Total",null,"Shots","Total","Ends","Shots","Total",null,"Shots","Total",null,"Ends","Shots","Total",null,"Shots","Total",null,"Ends","Shots","Total",null,"Shots","Total","Ends","Shots","Total",null,"Shots","Total",null,"Ends","Shots","Total",null,"Shots","Total",null,"Ends","Shots","Total",null,"Shots","Total","Ends","Shots","Total",null,"Shots","Total",null,"Ends","Shots","Total",null,"Shots","Total",null,"Ends","Shots","Total",null,"Shots","Total"]
[1,{"$nulls":5},".",1,{"$nulls":5},".",1,{"$nulls":5},1,{"$nulls":5},".",1,{"$nulls":5},".",1,{"$nulls":5},1,{"$nulls":5},".",1,{"$nulls":5},".",1,{"$nulls":5},1,{"$nulls":5},".",1,{"$nulls":5},".",1,{"$nulls":5},1,{"$nulls":5},".",1,{"$nulls":5},".",1,{"$nulls":5},1,{"$nulls":5},".",1,{"$nulls":5},".",1,{"$nulls":5},1,{"$nulls":5},".",1,{"$nulls":5},".",1]
[2,{"$nulls":6},2,{"$nulls":6},2,{"$nulls":5},2,{"$nulls":6},2,{"$nulls":6},2,{"$nulls":5},2,{"$nulls":6},2,{"$nulls":6},2,{"$nulls":5},2,{"$nulls":6},2,{"$nulls":6},2,{"$nulls":5},2,{"$nulls":6},2,{"$nulls":6},2,{"$nulls":5},2,{"$nulls":6},2,{"$nulls":6},2,{"$nulls":5},2,{"$nulls":6},2,{"$nulls":6},2]
[3,{"$nulls":6},3,{"$nulls":6},3,{"$nulls":5},3,{"$nulls":6},3,{"$nulls":6},3,{"$nulls":5},3,{"$nulls":6},3,{"$nulls":6},3,{"$nulls":5},3,{"$nulls":6},3,{"$nulls":6},3,{"$nulls":5},3,{"$nulls":6},3,{"$nulls":6},3,{"$nulls":5},3,{"$nulls":6},3,{"$nulls":6},3,{"$nulls":5},3,{"$nulls":6},3,{"$nulls":6},3]
[4,{"$nulls":6},4,{"$nulls":6},4,{"$nulls":5},4,{"$nulls":6},4,{"$nulls":6},4,{"$nulls":5},4,{"$nulls":6},4,{"$nulls":6},4,{"$nulls":5},4,{"$nulls":6},4,{"$nulls":6},4,{"$nulls":5},4,{"$nulls":6},4,{"$nulls":6},4,{"$nulls":5},4,{"$nulls":6},4,{"$nulls":6},4,{"$nulls":5},4,{"$nulls":6},4,{"$nulls":6},4]
[5,{"$nulls":5},".",5,{"$nulls":5},".",5,{"$nulls":5},5,{"$nulls":5},".",5,{"$nulls":5},".",5,{"$nulls":5},5,{"$nulls":5},".",5,{"$nulls":5},".",5,{"$nulls":5},5,{"$nulls":5},".",5,{"$nulls":5},".",5,{"$nulls":5},5,{"$nulls":5},".",5,{"$nulls":5},".",5,{"$nulls":5},5,{"$nulls":5},".",5,{"$nulls":5},".",5,{"$nulls":5},5,{"$nulls":5},".",5,{"$nulls":5},".",5]
[6,{"$nulls":6},6,{"$nulls":6},6,{"$nulls":5},6,{"$nulls":6},6,{"$nulls":6},6,{"$nulls":5},6,{"$nulls":6},6,{"$nulls":6},6,{"$nulls":5},6,{"$nulls":6},6,{"$nulls":6},6,{"$nulls":5},6,{"$nulls":6},6,{"$nulls":6},6,{"$nulls":5},6,{"$nulls":6},6,{"$nulls":6},6,{"$nulls":5},6,{"$nulls":6},6,{"$nulls":6},6]
[7,{"$nulls":6},7,{"$nulls":6},7,{"$nulls":5},7,{"$nulls":6},7,{"$nulls":6},7,{"$nulls":5},7,{"$nulls":6},7,{"$nulls":6},7,{"$nulls":5},7,{"$nulls":6},7,{"$nulls":6},7,{"$nulls":5},7,{"$nulls":6},7,{"$nulls":6},7,{"$nulls":5},7,{"$nulls":6},7,{"$nulls":6},7,{"$nulls":5},7,{"$nulls":6},7,{"$nulls":6},7]
[8,{"$nulls":6},8,{"$nulls":6},8,{"$nulls":5},8,{"$nulls":6},8,{"$nulls":6},8,{"$nulls":5},8,{"$nulls":6},8,{"$nulls":6},8,{"$nulls":5},8,{"$nulls":6},8,{"$nulls":6},8,{"$nulls":5},8,{"$nulls":6},8,{"$nulls":6},8,{"$nulls":5},8,{"$nulls":6},8,{"$nulls":6},8,{"$nulls":5},8,{"$nulls":6},8,{"$nulls":6},8]
[9,{"$nulls":5},".",9,{"$nulls":5},".",9,{"$nulls":5},9,{"$nulls":5},".",9,{"$nulls":5},".",9,{"$nulls":5},9,{"$nulls":5},".",9,{"$nulls":5},".",9,{"$nulls":5},9,{"$nulls":5},".",9,{"$nulls":5},".",9,{"$nulls":5},9,{"$nulls":5},".",9,{"$nulls":5},".",9,{"$nulls":5},9,{"$nulls":5},".",9,{"$nulls":5},".",9,{"$nulls":5},9,{"$nulls":5},".",9,{"$nulls":5},".",9]
[10,{"$nulls":6},10,{"$nulls":6},10,{"$nulls":5},10,{"$nulls":6},10,{"$nulls":6},10,{"$nulls":5},10,{"$nulls":6},10,{"$nulls":6},10,{"$nulls":5},10,{"$nulls":6},10,{"$nulls":6},10,{"$nulls":5},10,{"$nulls":6},10,{"$nulls":6},10,{"$nulls":5},10,{"$nulls":6},10,{"$nulls":6},10,{"$nulls":5},10,{"$nulls":6},10,{"$nulls":6},10]
[11,{"$nulls":6},11,{"$nulls":6},11,{"$nulls":5},11,{"$nulls":6},11,{"$nulls":6},11,{"$nulls":5},11,{"$nulls":6},11,{"$nulls":6},11,{"$nulls":5},11,{"$nulls":6},11,{"$nulls":6},11,{"$nulls":5},11,{"$nulls":6},11,{"$nulls":6},11,{"$nulls":5},11,{"$nulls":6},11,{"$nulls":6},11,{"$nulls":5},11,{"$nulls":6},11,{"$nulls":6},11]
[12,{"$nulls":6},12,{"$nulls":6},12,{"$nulls":5},12,{"$nulls":6},12,{"$nulls":6},12,{"$nulls":5},12,{"$nulls":6},12,{"$nulls":6},12,{"$nulls":5},12,{"$nulls":6},12,{"$nulls":6},12,{"$nulls":5},12,{"$nulls":6},12,{"$nulls":6},12,{"$nulls":5},12,{"$nulls":6},12,{"$nulls":6},12,{"$nulls":5},12,{"$nulls":6},12,{"$nulls":6},12]
[13,{"$nulls":5},".",13,{"$nulls":5},".",13,{"$nulls":5},13,{"$nulls":5},".",13,{"$nulls":5},".",13,{"$nulls":5},13,{"$nulls":5},".",13,{"$nulls":5},".",13,{"$nulls":5},13,{"$nulls":5},".",13,{"$nulls":5},".",13,{"$nulls":5},13,{"$nulls":5},".",13,{"$nulls":5},".",13,{"$nulls":5},13,{"$nulls":5},".",13,{"$nulls":5},".",13,{"$nulls":5},13,{"$nulls":5},".",13,{"$nulls":5},".",13]
[14,{"$nulls":6},14,{"$nulls":6},14,{"$nulls":5},14,{"$nulls":6},14,{"$nulls":6},14,{"$nulls":5},14,{"$nulls":6},14,{"$nulls":6},14,{"$nulls":5},14,{"$nulls":6},14,{"$nulls":6},14,{"$nulls":5},14,{"$nulls":6},14,{"$nulls":6},14,{"$nulls":5},14,{"$nulls":6},14,{"$nulls":6},14,{"$nulls":5},14,{"$nulls":6},14,{"$nulls":6},14]
[15,{"$nulls":6},15,{"$nulls":6},15,{"$nulls":5},15,{"$nulls":6},15,{"$nulls":6},15,{"$nulls":5},15,{"$nulls":6},15,{"$nulls":6},15,{"$nulls":5},15,{"$nulls":6},15,{"$nulls":6},15,{"$nulls":5},15,{"$nulls":6},15,{"$nulls":6},15,{"$nulls":5},15,{"$nulls":6},15,{"$nulls":6},15,{"$nulls":5},15,{"$nulls":6},15,{"$nulls":6},15]
[16,{"$nulls":6},16,{"$nulls":6},16,{"$nulls":5},16,{"$nulls":6},16,{"$nulls":6},16,{"$nulls":5},16,{"$nulls":6},16,{"$nulls":6},16,{"$nulls":5},16,{"$nulls":6},16,{"$nulls":6},16,{"$nulls":5},16,{"$nulls":6},16,{"$nulls":6},16,{"$nulls":5},16,{"$nulls":6},16,{"$nulls":6},16,{"$nulls":5},16,{"$nulls":6},16,{"$nulls":6},16]
[17,{"$nulls":5},".",17,{"$nulls":5},".",17,{"$nulls":5},17,{"$nulls":5},".",17,{"$nulls":5},".",17,{"$nulls":5},17,{"$nulls":5},".",17,{"$nulls":5},".",17,{"$nulls":5},17,{"$nulls":5},".",17,{"$nulls":5},".",17,{"$nulls":5},17,{"$nulls":5},".",17,{"$nulls":5},".",17,{"$nulls":5},17,{"$nulls":5},".",17,{"$nulls":5},".",17,{"$nulls":5},17,{"$nulls":5},".",17,{"$nulls":5},".",17]
[18,{"$nulls":6},18,{"$nulls":6},18,{"$nulls":5},18,{"$nulls":6},18,{"$nulls":6},18,{"$nulls":5},18,{"$nulls":6},18,{"$nulls":6},18,{"$nulls":5},18,{"$nulls":6},18,{"$nulls":6},18,{"$nulls":5},18,{"$nulls":6},18,{"$nulls":6},18,{"$nulls":5},18,{"$nulls":6},18,{"$nulls":6},18,{"$nulls":5},18,{"$nulls":6},18,{"$nulls":6},18]
["Total","Shots",null,null,"Shots",null,null,"Total","Shots",null,null,"Shots",null,null,"Total","Shots",null,null,"Shots",null,"Total","Shots",null,null,"Shots",null,null,"Total","Shots",null,null,"Shots",null,null,"Total","Shots",null,null,"Shots",null,"Total","Shots",null,null,"Shots",null,null,"Total","Shots",null,null,"shots",null,null,"Total","Shots",null,null,"shots",null,"Total","Shots",null,null,"Shots",null,null,"Total","Shots",null,null,"shots",null,null,"Total","Shots",null,null,"shots",null,"Total","Shots",null,null,"Shots",null,null,"Total","Shots",null,null,"Shots",null,null,"Total","Shots",null,null,"Shots",null,"Total","Shots",null,null,"Shots",null,null,"Total","Shots",null,null,"shots",null,null,"Total","Shots",null,null,"shots",null,"Total","Shots",null,null,"shots",null,null,"Total","Shots",null,null,"shots",null,null,"Total","Shots",null,null,"shots"]
[null,"Ends",null,null,"Ends",null,".",null,"Ends",null,null,"Ends",null,".",null,"Ends",null,null,"Ends",null,null,"Ends",null,null,"Ends",null,".",null,"Ends",null,null,"Ends",null,".",null,"Ends",null,null,"Ends",null,null,"Ends",null,null,"Ends",null,".",null,"Ends",null,null,"Ends",null,".",null,"Ends",null,null,"Ends",null,null,"Ends",null,null,"Ends",null,".",null,"Ends",null,null,"Ends",null,".",null,"Ends",null,null,"Ends",null,null,"Ends",null,null,"Ends",null,".",null,"Ends",null,null,"Ends",null,".",null,"Ends",null,null,"Ends",null,null,"Ends",null,null,"Ends",null,".",null,"Ends",null,null,"Ends",null,".",null,"Ends",null,null,"Ends",null,null,"Ends",null,null,"Ends",null,".",null,"Ends",null,null,"Ends",null,".",null,"Ends",null,null,"Ends"]
["1st Game ",{"$nulls":5},".","2nd Game ",{"$nulls":5},".","3nd Game",{"$nulls":5},"4th Game",{"$nulls":5},".","5th Game",{"$nulls":5},".","6th Game",{"$nulls":5},"7th Game",{"$nulls":5},".","8th Game",{"$nulls":5},".","9th Game",{"$nulls":5},"10th Game",{"$nulls":5},".","11th Game",{"$nulls":5},".","12th Game ",{"$nulls":5},"13th Game",{"$nulls":5},".","14th Game",{"$nulls":5},".","15th Game",{"$nulls":5},"16th Game",{"$nulls":5},".","17th Game",{"$nulls":5},".","18th Game",{"$nulls":5},"19th Game",{"$nulls":5},".","20th Game",{"$nulls":5},".","9th Game "]
["Team No",null,null,"Rink No",{"$nulls":3},"Team No",null,null,"Rink No",{"$nulls":3},"Team No",null,null,"Rink No",null,null,"Team No",null,null,"Rink No",{"$nulls":3},"Team No",null,null,"Rink No",{"$nulls":3},"Team No",null,null,"Rink No",null,null,"Team No",null,null,"Rink No",{"$nulls":3},"Team No",null,null,"Rink No",{"$nulls":3},"Team No",null,null,"Rink No",null,null,"Team No",null,null,"Rink No",{"$nulls":3},"Team No",null,null,"Rink No",{"$nulls":3},"Team No",null,null,"Rink No",null,null,"Team No",null,null,"Rink No",{"$nulls":3},"Team No",null,null,"Rink No",{"$nulls":3},"Team No",null,null,"Rink No",null,null,"Team No",null,null,"Rink No",{"$nulls":3},"Team No",null,null,"Rink No",{"$nulls":3},"Team No",null,null,"Rink No",null,null,"Team No",null,null,"Rink No",{"$nulls":3},"Team No",null,null,"Rink No",{"$nulls":3},"Team No",null,null,"Rink No"]
[]
[{"$f":"DRAW!$B$13","v":7},null,null,{"$f":"DRAW!$E$13","v":6},null,null,".",{"$f":"DRAW!$B$13","v":7},null,null,{"$f":"DRAW!$G$13","v":5},null,null,".",{"$f":"DRAW!$B$13","v":7},null,null,{"$f":"DRAW!$I$13","v":4},null,null,{"$f":"DRAW!$B$13","v":7},null,null,{"$f":"DRAW!$K$13","v":2},null,null,".",{"$f":"DRAW!$B$13","v":7},null,null,{"$f":"DRAW!$M$13","v":3},null,null,".",{"$f":"DRAW!$B$13","v":7},null,null,{"$f":"DRAW!$O$13","v":5},null,null,{"$f":"DRAW!$B$13","v":7},null,null,{"$f":"DRAW!$Q$13","v":1},null,null,".",{"$f":"DRAW!$B$13","v":7},null,null,{"$f":"DRAW!$S$13","v":2},null,null,".",{"$f":"DRAW!$B$13","v":7},null,null,{"$f":"DRAW!$U$13","v":1},null,null,{"$f":"DRAW!$B$13","v":7},null,null,{"$f":"DRAW!$W$13","v":6},null,null,".",{"$f":"DRAW!$B$13","v":7},null,null,{"$f":"DRAW!#REF!","v":{"$error":"#REF!"}},null,null,".",{"$f":"DRAW!$B$13","v":7},null,null,{"$f":"DRAW!#REF!","v":{"$error":"#REF!"}},null,null,{"$f":"DRAW!$B$13","v":7},null,null,{"$f":"DRAW!#REF!","v":{"$error":"#REF!"}},null,null,".",{"$f":"DRAW!$B$13","v":7},null,null,{"$f":"DRAW!#REF!","v":{"$error":"#REF!"}},null,null,".",{"$f":"DRAW!$B$13","v":7},null,null,{"$f":"DRAW!#REF!","v":{"$error":"#REF!"}},null,null,{"$f":"DRAW!$B$13","v":7},null,null,{"$f":"DRAW!#REF!","v":{"$error":"#REF!"}},null,null,".",{"$f":"DRAW!$B$13","v":7},null,null,{"$f":"DRAW!#REF!","v":{"$error":"#REF!"}},null,null,".",{"$f":"DRAW!$B$13","v":7},null,null,{"$f":"DRAW!#REF!","v":{"$error":"#REF!"}},null,null,{"$f":"DRAW!$B$13","v":7},null,null,{"$f":"DRAW!#REF!","v":{"$error":"#REF!"}},null,null,".",{"$f":"DRAW!$B$13","v":7},null,null,{"$f":"DRAW!#REF!","v":{"$error":"#REF!"}},null,null,".",{"$f":"DRAW!$B$13","v":7},null,null,{"$f":"DRAW!#REF!","v":{"$error":"#REF!"}}]
[null,"Team",{"$f":"DRAW!$B$13","v":7},"V","Team",{"$f":"DRAW!$D$13","v":8},null,null,"Team",{"$f":"DRAW!$B$13","v":7},"V","Team",{"$f":"DRAW!$F$13","v":10},null,null,"Team",{"$f":"DRAW!$B$13","v":7},"V","Team",{"$f":"DRAW!$H$13","v":12},null,"Team",{"$f":"DRAW!$B$13","v":7},"V","Team",{"$f":"DRAW!$J$13","v":3},null,null,"Team",{"$f":"DRAW!$B$13","v":7},"V","Team",{"$f":"DRAW!$L$13","v":5},null,null,"Team",{"$f":"DRAW!$B$13","v":7},"V","Team",{"$f":"DRAW!$N$13","v":1},null,"Team",{"$f":"DRAW!$B$13","v":7},"V","Team",{"$f":"DRAW!$P$13","v":9},null,null,"Team",{"$f":"DRAW!$B$13","v":7},"V","Team",{"$f":"DRAW!$R$13","v":11},null,null,"Team",{"$f":"DRAW!$B$13","v":7},"V","Team",{"$f":"DRAW!$T$13","v":2},null,"Team",{"$f":"DRAW!$B$13","v":7},"V","Team",{"$f":"DRAW!$V$13","v":4},null,null,"Team",{"$f":"DRAW!$B$13","v":7},"V","Team",{"$f":"DRAW!#REF!","v":{"$error":"#REF!"}},null,null,"Team",{"$f":"DRAW!$B$13","v":7},"V","Team",{"$f":"DRAW!#REF!","v":{"$error":"#REF!"}},null,"Team",{"$f":"DRAW!$B$13","v":7},"V","Team",{"$f":"DRAW!#REF!","v":{"$error":"#REF!"}},null,null,"Team",{"$f":"DRAW!$B$13","v":7},"V","Team",{"$f":"DRAW!#REF!","v":{"$error":"#REF!"}},null,null,"Team",{"$f":"DRAW!$B$13","v":7},"V","Team",{"$f":"DRAW!#REF!","v":{"$error":"#REF!"}},null,"Team",{"$f":"DRAW!$B$13","v":7},"V","Team",{"$f":"DRAW!#REF!","v":{"$error":"#REF!"}},null,null,"Team",{"$f":"DRAW!$B$13","v":7},"V","Team",{"$f":"DRAW!#REF!","v":{"$error":"#REF!"}},null,null,"Team",{"$f":"DRAW!$B$13","v":7},"V","Team",{"$f":"DRAW!#REF!","v":{"$error":"#REF!"}},null,"Team",{"$f":"DRAW!$B$13","v":7},"V","Team",{"$f":"DRAW!#REF!","v":{"$error":"#REF!"}},null,null,"Team",{"$f":"DRAW!$B$13","v":7},"V","Team",{"$f":"DRAW!#REF!","v":{"$error":"#REF!"}},null,null,"Team",{"$f":"DRAW!$B$13","v":7},"V","Team",{"$f":"DRAW!#REF!","v":{"$error":"#REF!"}}]
["Ends","Shots","Total",null,"Shots","Total",null,"Ends","Shots","Total",null,"Shots","Total",null,"Ends","Shots","Total",null,"Shots","Total","Ends","Shots","Total",null,"Shots","Total",null,"Ends","Shots","Total",null,"Shots","Total",null,"Ends","Shots","Total",null,"Shots","Total","Ends","Shots","Total",null,"Shots","Total",null,"Ends","Shots","Total",null,"Shots","Total",null,"Ends","Shots","Total",null,"Shots","Total","Ends","Shots","Total",null,"Shots","Total",null,"Ends","Shots","Total",null,"Shots","Total",null,"Ends","Shots","Total",null,"Shots","Total","Ends","Shots","Total",null,"Shots","Total",null,"Ends","Shots","Total",null,"Shots","Total",null,"Ends","Shots","Total",null,"Shots","Total","Ends","Shots","Total",null,"Shots","Total",null,"Ends","Shots","Total",null,"Shots","Total",null,"Ends","Shots","Total",null,"Shots","Total","Ends","Shots","Total",null,"Shots","Total",null,"Ends","Shots","Total",null,"Shots","Total",null,"Ends","Shots","Total",null,"Shots","Total"]
[1,{"$nulls":5},".",1,{"$nulls":5},".",1,{"$nulls":5},1,{"$nulls":5},".",1,{"$nulls":5},".",1,{"$nulls":5},1,{"$nulls":5},".",1,{"$nulls":5},".",1,{"$nulls":5},1,{"$nulls":5},".",1,{"$nulls":5},".",1,{"$nulls":5},1,{"$nulls":5},".",1,{"$nulls":5},".",1,{"$nulls":5},1,{"$nulls":5},".",1,{"$nulls":5},".",1,{"$nulls":5},1,{"$nulls":5},".",1,{"$nulls":5},".",1]
[2,{"$nulls":6},2,{"$nulls":6},2,{"$nulls":5},2,{"$nulls":6},2,{"$nulls":6},2,{"$nulls":5},2,{"$nulls":6},2,{"$nulls":6},2,{"$nulls":5},2,{"$nulls":6},2,{"$nulls":6},2,{"$nulls":5},2,{"$nulls":6},2,{"$nulls":6},2,{"$nulls":5},2,{"$nulls":6},2,{"$nulls":6},2,{"$nulls":5},2,{"$nulls":6},2,{"$nulls":6},2]
[3,{"$nulls":6},3,{"$nulls":6},3,{"$nulls":5},3,{"$nulls":6},3,{"$nulls":6},3,{"$nulls":5},3,{"$nulls":6},3,{"$nulls":6},3,{"$nulls":5},3,{"$nulls":6},3,{"$nulls":6},3,{"$nulls":5},3,{"$nulls":6},3,{"$nulls":6},3,{"$nulls":5},3,{"$nulls":6},3,{"$nulls":6},3,{"$nulls":5},3,{"$nulls":6},3,{"$nulls":6},3]
[4,{"$nulls":6},4,{"$nulls":6},4,{"$nulls":5},4,{"$nulls":6},4,{"$nulls":6},4,{"$nulls":5},4,{"$nulls":6},4,{"$nulls":6},4,{"$nulls":5},4,{"$nulls":6},4,{"$nulls":6},4,{"$nulls":5},4,{"$nulls":6},4,{"$nulls":6},4,{"$nulls":5},4,{"$nulls":6},4,{"$nulls":6},4,{"$nulls":5},4,{"$nulls":6},4,{"$nulls":6},4]
[5,{"$nulls":5},".",5,{"$nulls":5},".",5,{"$nulls":5},5,{"$nulls":5},".",5,{"$nulls":5},".",5,{"$nulls":5},5,{"$nulls":5},".",5,{"$nulls":5},".",5,{"$nulls":5},5,{"$nulls":5},".",5,{"$nulls":5},".",5,{"$nulls":5},5,{"$nulls":5},".",5,{"$nulls":5},".",5,{"$nulls":5},5,{"$nulls":5},".",5,{"$nulls":5},".",5,{"$nulls":5},5,{"$nulls":5},".",5,{"$nulls":5},".",5]
[6,{"$nulls":6},6,{"$nulls":6},6,{"$nulls":5},6,{"$nulls":6},6,{"$nulls":6},6,{"$nulls":5},6,{"$nulls":6},6,{"$nulls":6},6,{"$nulls":5},6,{"$nulls":6},6,{"$nulls":6},6,{"$nulls":5},6,{"$nulls":6},6,{"$nulls":6},6,{"$nulls":5},6,{"$nulls":6},6,{"$nulls":6},6,{"$nulls":5},6,{"$nulls":6},6,{"$nulls":6},6]
[7,{"$nulls":6},7,{"$nulls":6},7,{"$nulls":5},7,{"$nulls":6},7,{"$nulls":6},7,{"$nulls":5},7,{"$nulls":6},7,{"$nulls":6},7,{"$nulls":5},7,{"$nulls":6},7,{"$nulls":6},7,{"$nulls":5},7,{"$nulls":6},7,{"$nulls":6},7,{"$nulls":5},7,{"$nulls":6},7,{"$nulls":6},7,{"$nulls":5},7,{"$nulls":6},7,{"$nulls":6},7]
[8,{"$nulls":6},8,{"$nulls":6},8,{"$nulls":5},8,{"$nulls":6},8,{"$nulls":6},8,{"$nulls":5},8,{"$nulls":6},8,{"$nulls":6},8,{"$nulls":5},8,{"$nulls":6},8,{"$nulls":6},8,{"$nulls":5},8,{"$nulls":6},8,{"$nulls":6},8,{"$nulls":5},8,{"$nulls":6},8,{"$nulls":6},8,{"$nulls":5},8,{"$nulls":6},8,{"$nulls":6},8]
[9,{"$nulls":5},".",9,{"$nulls":5},".",9,{"$nulls":5},9,{"$nulls":5},".",9,{"$nulls":5},".",9,{"$nulls":5},9,{"$nulls":5},".",9,{"$nulls":5},".",9,{"$nulls":5},9,{"$nulls":5},".",9,{"$nulls":5},".",9,{"$nulls":5},9,{"$nulls":5},".",9,{"$nulls":5},".",9,{"$nulls":5},9,{"$nulls":5},".",9,{"$nulls":5},".",9,{"$nulls":5},9,{"$nulls":5},".",9,{"$nulls":5},".",9]
[10,{"$nulls":6},10,{"$nulls":6},10,{"$nulls":5},10,{"$nulls":6},10,{"$nulls":6},10,{"$nulls":5},10,{"$nulls":6},10,{"$nulls":6},10,{"$nulls":5},10,{"$nulls":6},10,{"$nulls":6},10,{"$nulls":5},10,{"$nulls":6},10,{"$nulls":6},10,{"$nulls":5},10,{"$nulls":6},10,{"$nulls":6},10,{"$nulls":5},10,{"$nulls":6},10,{"$nulls":6},10]
[11,{"$nulls":6},11,{"$nulls":6},11,{"$nulls":5},11,{"$nulls":6},11,{"$nulls":6},11,{"$nulls":5},11,{"$nulls":6},11,{"$nulls":6},11,{"$nulls":5},11,{"$nulls":6},11,{"$nulls":6},11,{"$nulls":5},11,{"$nulls":6},11,{"$nulls":6},11,{"$nulls":5},11,{"$nulls":6},11,{"$nulls":6},11,{"$nulls":5},11,{"$nulls":6},11,{"$nulls":6},11]
[12,{"$nulls":6},12,{"$nulls":6},12,{"$nulls":5},12,{"$nulls":6},12,{"$nulls":6},12,{"$nulls":5},12,{"$nulls":6},12,{"$nulls":6},12,{"$nulls":5},12,{"$nulls":6},12,{"$nulls":6},12,{"$nulls":5},12,{"$nulls":6},12,{"$nulls":6},12,{"$nulls":5},12,{"$nulls":6},12,{"$nulls":6},12,{"$nulls":5},12,{"$nulls":6},12,{"$nulls":6},12]
[13,{"$nulls":5},".",13,{"$nulls":5},".",13,{"$nulls":5},13,{"$nulls":5},".",13,{"$nulls":5},".",13,{"$nulls":5},13,{"$nulls":5},".",13,{"$nulls":5},".",13,{"$nulls":5},13,{"$nulls":5},".",13,{"$nulls":5},".",13,{"$nulls":5},13,{"$nulls":5},".",13,{"$nulls":5},".",13,{"$nulls":5},13,{"$nulls":5},".",13,{"$nulls":5},".",13,{"$nulls":5},13,{"$nulls":5},".",13,{"$nulls":5},".",13]
[14,{"$nulls":6},14,{"$nulls":6},14,{"$nulls":5},14,{"$nulls":6},14,{"$nulls":6},14,{"$nulls":5},14,{"$nulls":6},14,{"$nulls":6},14,{"$nulls":5},14,{"$nulls":6},14,{"$nulls":6},14,{"$nulls":5},14,{"$nulls":6},14,{"$nulls":6},14,{"$nulls":5},14,{"$nulls":6},14,{"$nulls":6},14,{"$nulls":5},14,{"$nulls":6},14,{"$nulls":6},14]
[15,{"$nulls":6},15,{"$nulls":6},15,{"$nulls":5},15,{"$nulls":6},15,{"$nulls":6},15,{"$nulls":5},15,{"$nulls":6},15,{"$nulls":6},15,{"$nulls":5},15,{"$nulls":6},15,{"$nulls":6},15,{"$nulls":5},15,{"$nulls":6},15,{"$nulls":6},15,{"$nulls":5},15,{"$nulls":6},15,{"$nulls":6},15,{"$nulls":5},15,{"$nulls":6},15,{"$nulls":6},15]
[16,{"$nulls":6},16,{"$nulls":6},16,{"$nulls":5},16,{"$nulls":6},16,{"$nulls":6},16,{"$nulls":5},16,{"$nulls":6},16,{"$nulls":6},16,{"$nulls":5},16,{"$nulls":6},16,{"$nulls":6},16,{"$nulls":5},16,{"$nulls":6},16,{"$nulls":6},16,{"$nulls":5},16,{"$nulls":6},16,{"$nulls":6},16,{"$nulls":5},16,{"$nulls":6},16,{"$nulls":6},16]
[17,{"$nulls":5},".",17,{"$nulls":5},".",17,{"$nulls":5},17,{"$nulls":5},".",17,{"$nulls":5},".",17,{"$nulls":5},17,{"$nulls":5},".",17,{"$nulls":5},".",17,{"$nulls":5},17,{"$nulls":5},".",17,{"$nulls":5},".",17,{"$nulls":5},17,{"$nulls":5},".",17,{"$nulls":5},".",17,{"$nulls":5},17,{"$nulls":5},".",17,{"$nulls":5},".",17,{"$nulls":5},17,{"$nulls":5},".",17,{"$nulls":5},".",17]
[18,{"$nulls":6},18,{"$nulls":6},18,{"$nulls":5},18,{"$nulls":6},18,{"$nulls":6},18,{"$nulls":5},18,{"$nulls":6},18,{"$nulls":6},18,{"$nulls":5},18,{"$nulls":6},18,{"$nulls":6},18,{"$nulls":5},18,{"$nulls":6},18,{"$nulls":6},18,{"$nulls":5},18,{"$nulls":6},18,{"$nulls":6},18,{"$nulls":5},18,{"$nulls":6},18,{"$nulls":6},18]
["Total","Shots",null,null,"Shots",null,null,"Total","Shots",null,null,"Shots",null,null,"Total","Shots",null,null,"Shots",null,"Total","Shots",null,null,"Shots",null,null,"Total","Shots",null,null,"Shots",null,null,"Total","Shots",null,null,"Shots",null,"Total","Shots",null,null,"Shots",null,null,"Total","Shots",null,null,"shots",null,null,"Total","Shots",null,null,"shots",null,"Total","Shots",null,null,"Shots",null,null,"Total","Shots",null,null,"shots",null,null,"Total","Shots",null,null,"shots",null,"Total","Shots",null,null,"Shots",null,null,"Total","Shots",null,null,"Shots",null,null,"Total","Shots",null,null,"Shots",null,"Total","Shots",null,null,"Shots",null,null,"Total","Shots",null,null,"shots",null,null,"Total","Shots",null,null,"shots",null,"Total","Shots",null,null,"shots",null,null,"Total","Shots",null,null,"shots",null,null,"Total","Shots",null,null,"shots"]
[null,"Ends",null,null,"Ends",null,".",null,"Ends",null,null,"Ends",null,".",null,"Ends",null,null,"Ends",null,null,"Ends",null,null,"Ends",null,".",null,"Ends",null,null,"Ends",null,".",null,"Ends",null,null,"Ends",null,null,"Ends",null,null,"Ends",null,".",null,"Ends",null,null,"Ends",null,".",null,"Ends",null,null,"Ends",null,null,"Ends",null,null,"Ends",null,".",null,"Ends",null,null,"Ends",null,".",null,"Ends",null,null,"Ends",null,null,"Ends",null,null,"Ends",null,".",null,"Ends",null,null,"Ends",null,".",null,"Ends",null,null,"Ends",null,null,"Ends",null,null,"Ends",null,".",null,"Ends",null,null,"Ends",null,".",null,"Ends",null,null,"Ends",null,null,"Ends",null,null,"Ends",null,".",null,"Ends",null,null,"Ends",null,".",null,"Ends",null,null,"Ends"]
[]
[]
["1st Game ",{"$nulls":5},".","2nd Game ",{"$nulls":5},".","3nd Game",{"$nulls":5},"4th Game",{"$nulls":5},".","5th Game",{"$nulls":5},".","6th Game",{"$nulls":5},"7th Game",{"$nulls":5},".","8th Game",{"$nulls":5},".","9th Game",{"$nulls":5},"10th Game",{"$nulls":5},".","11th Game",{"$nulls":5},".","12th Game ",{"$nulls":5},"13th Game",{"$nulls":5},".","14th Game",{"$nulls":5},".","15th Game",{"$nulls":5},"16th Game",{"$nulls":5},".","17th Game",{"$nulls":5},".","18th Game",{"$nulls":5},"19th Game",{"$nulls":5},".","20th Game",{"$nulls":5},".","9th Game "]
["Team No",null,null,"Rink No",{"$nulls":3},"Team No",null,null,"Rink No",{"$nulls":3},"Team No",null,null,"Rink No",null,null,"Team No",null,null,"Rink No",{"$nulls":3},"Team No",null,null,"Rink No",{"$nulls":3},"Team No",null,null,"Rink No",null,null,"Team No",null,null,"Rink No",{"$nulls":3},"Team No",null,null,"Rink No",{"$nulls":3},"Team No",null,null,"Rink No",null,null,"Team No",null,null,"Rink No",{"$nulls":3},"Team No",null,null,"Rink No",{"$nulls":3},"Team No",null,null,"Rink No",null,null,"Team No",null,null,"Rink No",{"$nulls":3},"Team No",null,null,"Rink No",{"$nulls":3},"Team No",null,null,"Rink No",null,null,"Team No",null,null,"Rink No",{"$nulls":3},"Team No",null,null,"Rink No",{"$nulls":3},"Team No",null,null,"Rink No",null,null,"Team No",null,null,"Rink No",{"$nulls":3},"Team No",null,null,"Rink No",{"$nulls":3},"Team No",null,null,"Rink No"]
[]
[{"$f":"DRAW!$B$14","v":8},null,null,{"$f":"DRAW!$E$14","v":6},null,null,".",{"$f":"DRAW!$B$14","v":8},null,null,{"$f":"DRAW!$G$14","v":2},null,null,".",{"$f":"DRAW!$B$14","v":8},null,null,{"$f":"DRAW!$I$14","v":1},null,null,{"$f":"DRAW!$B$14","v":8},null,null,{"$f":"DRAW!$K$14","v":5},null,null,".",{"$f":"DRAW!$B$14","v":8},null,null,{"$f":"DRAW!$M$14","v":6},null,null,".",{"$f":"DRAW!$B$14","v":8},null,null,{"$f":"DRAW!$O$14","v":3},null,null,{"$f":"DRAW!$B$14","v":8},null,null,{"$f":"DRAW!$Q$14","v":4},null,null,".",{"$f":"DRAW!$B$14","v":8},null,null,{"$f":"DRAW!$S$14","v":3},null,null,".",{"$f":"DRAW!$B$14","v":8},null,null,{"$f":"DRAW!$U$14","v":2},null,null,{"$f":"DRAW!$B$14","v":8},null,null,{"$f":"DRAW!$W$14","v":5},null,null,".",{"$f":"DRAW!$B$14","v":8},null,null,{"$f":"DRAW!#REF!","v":{"$error":"#REF!"}},null,null,".",{"$f":"DRAW!$B$14","v":8},null,null,{"$f":"DRAW!#REF!","v":{"$error":"#REF!"}},null,null,{"$f":"DRAW!$B$14","v":8},null,null,{"$f":"DRAW!#REF!","v":{"$error":"#REF!"}},null,null,".",{"$f":"DRAW!$B$14","v":8},null,null,{"$f":"DRAW!#REF!","v":{"$error":"#REF!"}},null,null,".",{"$f":"DRAW!$B$14","v":8},null,null,{"$f":"DRAW!#REF!","v":{"$error":"#REF!"}},null,null,{"$f":"DRAW!$B$14","v":8},null,null,{"$f":"DRAW!#REF!","v":{"$error":"#REF!"}},null,null,".",{"$f":"DRAW!$B$14","v":8},null,null,{"$f":"DRAW!#REF!","v":{"$error":"#REF!"}},null,null,".",{"$f":"DRAW!$B$14","v":8},null,null,{"$f":"DRAW!#REF!","v":{"$error":"#REF!"}},null,null,{"$f":"DRAW!$B$14","v":8},null,null,{"$f":"DRAW!#REF!","v":{"$error":"#REF!"}},null,null,".",{"$f":"DRAW!$B$14","v":8},null,null,{"$f":"DRAW!#REF!","v":{"$error":"#REF!"}},null,null,".",{"$f":"DRAW!$B$14","v":8},null,null,{"$f":"DRAW!#REF!","v":{"$error":"#REF!"}}]
[null,"Team",{"$f":"DRAW!$B$14","v":8},"V","Team",{"$f":"DRAW!$D$14","v":7},null,null,"Team",{"$f":"DRAW!$B$14","v":8},"V","Team",{"$f":"DRAW!$F$14","v":9},null,null,"Team",{"$f":"DRAW!$B$14","v":8},"V","Team",{"$f":"DRAW!$H$14","v":11},null,"Team",{"$f":"DRAW!$B$14","v":8},"V","Team",{"$f":"DRAW!$J$14","v":2},null,null,"Team",{"$f":"DRAW!$B$14","v":8},"V","Team",{"$f":"DRAW!$L$14","v":4},null,null,"Team",{"$f":"DRAW!$B$14","v":8},"V","Team",{"$f":"DRAW!$N$14","v":6},null,"Team",{"$f":"DRAW!$B$14","v":8},"V","Team",{"$f":"DRAW!$P$14","v":1},null,null,"Team",{"$f":"DRAW!$B$14","v":8},"V","Team",{"$f":"DRAW!$R$14","v":10},null,null,"Team",{"$f":"DRAW!$B$14","v":8},"V","Team",{"$f":"DRAW!$T$14","v":12},null,"Team",{"$f":"DRAW!$B$14","v":8},"V","Team",{"$f":"DRAW!$V$14","v":3},null,null,"Team",{"$f":"DRAW!$B$14","v":8},"V","Team",{"$f":"DRAW!#REF!","v":{"$error":"#REF!"}},null,null,"Team",{"$f":"DRAW!$B$14","v":8},"V","Team",{"$f":"DRAW!#REF!","v":{"$error":"#REF!"}},null,"Team",{"$f":"DRAW!$B$14","v":8},"V","Team",{"$f":"DRAW!#REF!","v":{"$error":"#REF!"}},null,null,"Team",{"$f":"DRAW!$B$14","v":8},"V","Team",{"$f":"DRAW!#REF!","v":{"$error":"#REF!"}},null,null,"Team",{"$f":"DRAW!$B$14","v":8},"V","Team",{"$f":"DRAW!#REF!","v":{"$error":"#REF!"}},null,"Team",{"$f":"DRAW!$B$14","v":8},"V","Team",{"$f":"DRAW!#REF!","v":{"$error":"#REF!"}},null,null,"Team",{"$f":"DRAW!$B$14","v":8},"V","Team",{"$f":"DRAW!#REF!","v":{"$error":"#REF!"}},null,null,"Team",{"$f":"DRAW!$B$14","v":8},"V","Team",{"$f":"DRAW!#REF!","v":{"$error":"#REF!"}},null,"Team",{"$f":"DRAW!$B$14","v":8},"V","Team",{"$f":"DRAW!#REF!","v":{"$error":"#REF!"}},null,null,"Team",{"$f":"DRAW!$B$14","v":8},"V","Team",{"$f":"DRAW!#REF!","v":{"$error":"#REF!"}},null,null,"Team",{"$f":"DRAW!$B$14","v":8},"V","Team",{"$f":"DRAW!#REF!","v":{"$error":"#REF!"}}]
["Ends","Shots","Total",null,"Shots","Total",null,"Ends","Shots","Total",null,"Shots","Total",null,"Ends","Shots","Total",null,"Shots","Total","Ends","Shots","Total",null,"Shots","Total",null,"Ends","Shots","Total",null,"Shots","Total",null,"Ends","Shots","Total",null,"Shots","Total","Ends","Shots","Total",null,"Shots","Total",null,"Ends","Shots","Total",null,"Shots","Total",null,"Ends","Shots","Total",null,"Shots","Total","Ends","Shots","Total",null,"Shots","Total",null,"Ends","Shots","Total",null,"Shots","Total",null,"Ends","Shots","Total",null,"Shots","Total","Ends","Shots","Total",null,"Shots","Total",null,"Ends","Shots","Total",null,"Shots","Total",null,"Ends","Shots","Total",null,"Shots","Total","Ends","Shots","Total",null,"Shots","Total",null,"Ends","Shots","Total",null,"Shots","Total",null,"Ends","Shots","Total",null,"Shots","Total","Ends","Shots","Total",null,"Shots","Total",null,"Ends","Shots","Total",null,"Shots","Total",null,"Ends","Shots","Total",null,"Shots","Total"]
[1,{"$nulls":5},".",1,{"$nulls":5},".",1,{"$nulls":5},1,{"$nulls":5},".",1,{"$nulls":5},".",1,{"$nulls":5},1,{"$nulls":5},".",1,{"$nulls":5},".",1,{"$nulls":5},1,{"$nulls":5},".",1,{"$nulls":5},".",1,{"$nulls":5},1,{"$nulls":5},".",1,{"$nulls":5},".",1,{"$nulls":5},1,{"$nulls":5},".",1,{"$nulls":5},".",1,{"$nulls":5},1,{"$nulls":5},".",1,{"$nulls":5},".",1]
[2,{"$nulls":6},2,{"$nulls":6},2,{"$nulls":5},2,{"$nulls":6},2,{"$nulls":6},2,{"$nulls":5},2,{"$nulls":6},2,{"$nulls":6},2,{"$nulls":5},2,{"$nulls":6},2,{"$nulls":6},2,{"$nulls":5},2,{"$nulls":6},2,{"$nulls":6},2,{"$nulls":5},2,{"$nulls":6},2,{"$nulls":6},2,{"$nulls":5},2,{"$nulls":6},2,{"$nulls":6},2]
[3,{"$nulls":6},3,{"$nulls":6},3,{"$nulls":5},3,{"$nulls":6},3,{"$nulls":6},3,{"$nulls":5},3,{"$nulls":6},3,{"$nulls":6},3,{"$nulls":5},3,{"$nulls":6},3,{"$nulls":6},3,{"$nulls":5},3,{"$nulls":6},3,{"$nulls":6},3,{"$nulls":5},3,{"$nulls":6},3,{"$nulls":6},3,{"$nulls":5},3,{"$nulls":6},3,{"$nulls":6},3]
[4,{"$nulls":6},4,{"$nulls":6},4,{"$nulls":5},4,{"$nulls":6},4,{"$nulls":6},4,{"$nulls":5},4,{"$nulls":6},4,{"$nulls":6},4,{"$nulls":5},4,{"$nulls":6},4,{"$nulls":6},4,{"$nulls":5},4,{"$nulls":6},4,{"$nulls":6},4,{"$nulls":5},4,{"$nulls":6},4,{"$nulls":6},4,{"$nulls":5},4,{"$nulls":6},4,{"$nulls":6},4]
[5,{"$nulls":5},".",5,{"$nulls":5},".",5,{"$nulls":5},5,{"$nulls":5},".",5,{"$nulls":5},".",5,{"$nulls":5},5,{"$nulls":5},".",5,{"$nulls":5},".",5,{"$nulls":5},5,{"$nulls":5},".",5,{"$nulls":5},".",5,{"$nulls":5},5,{"$nulls":5},".",5,{"$nulls":5},".",5,{"$nulls":5},5,{"$nulls":5},".",5,{"$nulls":5},".",5,{"$nulls":5},5,{"$nulls":5},".",5,{"$nulls":5},".",5]
[6,{"$nulls":6},6,{"$nulls":6},6,{"$nulls":5},6,{"$nulls":6},6,{"$nulls":6},6,{"$nulls":5},6,{"$nulls":6},6,{"$nulls":6},6,{"$nulls":5},6,{"$nulls":6},6,{"$nulls":6},6,{"$nulls":5},6,{"$nulls":6},6,{"$nulls":6},6,{"$nulls":5},6,{"$nulls":6},6,{"$nulls":6},6,{"$nulls":5},6,{"$nulls":6},6,{"$nulls":6},6]
[7,{"$nulls":6},7,{"$nulls":6},7,{"$nulls":5},7,{"$nulls":6},7,{"$nulls":6},7,{"$nulls":5},7,{"$nulls":6},7,{"$nulls":6},7,{"$nulls":5},7,{"$nulls":6},7,{"$nulls":6},7,{"$nulls":5},7,{"$nulls":6},7,{"$nulls":6},7,{"$nulls":5},7,{"$nulls":6},7,{"$nulls":6},7,{"$nulls":5},7,{"$nulls":6},7,{"$nulls":6},7]
[8,{"$nulls":6},8,{"$nulls":6},8,{"$nulls":5},8,{"$nulls":6},8,{"$nulls":6},8,{"$nulls":5},8,{"$nulls":6},8,{"$nulls":6},8,{"$nulls":5},8,{"$nulls":6},8,{"$nulls":6},8,{"$nulls":5},8,{"$nulls":6},8,{"$nulls":6},8,{"$nulls":5},8,{"$nulls":6},8,{"$nulls":6},8,{"$nulls":5},8,{"$nulls":6},8,{"$nulls":6},8]
[9,{"$nulls":5},".",9,{"$nulls":5},".",9,{"$nulls":5},9,{"$nulls":5},".",9,{"$nulls":5},".",9,{"$nulls":5},9,{"$nulls":5},".",9,{"$nulls":5},".",9,{"$nulls":5},9,{"$nulls":5},".",9,{"$nulls":5},".",9,{"$nulls":5},9,{"$nulls":5},".",9,{"$nulls":5},".",9,{"$nulls":5},9,{"$nulls":5},".",9,{"$nulls":5},".",9,{"$nulls":5},9,{"$nulls":5},".",9,{"$nulls":5},".",9]
[10,{"$nulls":6},10,{"$nulls":6},10,{"$nulls":5},10,{"$nulls":6},10,{"$nulls":6},10,{"$nulls":5},10,{"$nulls":6},10,{"$nulls":6},10,{"$nulls":5},10,{"$nulls":6},10,{"$nulls":6},10,{"$nulls":5},10,{"$nulls":6},10,{"$nulls":6},10,{"$nulls":5},10,{"$nulls":6},10,{"$nulls":6},10,{"$nulls":5},10,{"$nulls":6},10,{"$nulls":6},10]
[11,{"$nulls":6},11,{"$nulls":6},11,{"$nulls":5},11,{"$nulls":6},11,{"$nulls":6},11,{"$nulls":5},11,{"$nulls":6},11,{"$nulls":6},11,{"$nulls":5},11,{"$nulls":6},11,{"$nulls":6},11,{"$nulls":5},11,{"$nulls":6},11,{"$nulls":6},11,{"$nulls":5},11,{"$nulls":6},11,{"$nulls":6},11,{"$nulls":5},11,{"$nulls":6},11,{"$nulls":6},11]
[12,{"$nulls":6},12,{"$nulls":6},12,{"$nulls":5},12,{"$nulls":6},12,{"$nulls":6},12,{"$nulls":5},12,{"$nulls":6},12,{"$nulls":6},12,{"$nulls":5},12,{"$nulls":6},12,{"$nulls":6},12,{"$nulls":5},12,{"$nulls":6},12,{"$nulls":6},12,{"$nulls":5},12,{"$nulls":6},12,{"$nulls":6},12,{"$nulls":5},12,{"$nulls":6},12,{"$nulls":6},12]
[13,{"$nulls":5},".",13,{"$nulls":5},".",13,{"$nulls":5},13,{"$nulls":5},".",13,{"$nulls":5},".",13,{"$nulls":5},13,{"$nulls":5},".",13,{"$nulls":5},".",13,{"$nulls":5},13,{"$nulls":5},".",13,{"$nulls":5},".",13,{"$nulls":5},13,{"$nulls":5},".",13,{"$nulls":5},".",13,{"$nulls":5},13,{"$nulls":5},".",13,{"$nulls":5},".",13,{"$nulls":5},13,{"$nulls":5},".",13,{"$nulls":5},".",13]
[14,{"$nulls":6},14,{"$nulls":6},14,{"$nulls":5},14,{"$nulls":6},14,{"$nulls":6},14,{"$nulls":5},14,{"$nulls":6},14,{"$nulls":6},14,{"$nulls":5},14,{"$nulls":6},14,{"$nulls":6},14,{"$nulls":5},14,{"$nulls":6},14,{"$nulls":6},14,{"$nulls":5},14,{"$nulls":6},14,{"$nulls":6},14,{"$nulls":5},14,{"$nulls":6},14,{"$nulls":6},14]
[15,{"$nulls":6},15,{"$nulls":6},15,{"$nulls":5},15,{"$nulls":6},15,{"$nulls":6},15,{"$nulls":5},15,{"$nulls":6},15,{"$nulls":6},15,{"$nulls":5},15,{"$nulls":6},15,{"$nulls":6},15,{"$nulls":5},15,{"$nulls":6},15,{"$nulls":6},15,{"$nulls":5},15,{"$nulls":6},15,{"$nulls":6},15,{"$nulls":5},15,{"$nulls":6},15,{"$nulls":6},15]
[16,{"$nulls":6},16,{"$nulls":6},16,{"$nulls":5},16,{"$nulls":6},16,{"$nulls":6},16,{"$nulls":5},16,{"$nulls":6},16,{"$nulls":6},16,{"$nulls":5},16,{"$nulls":6},16,{"$nulls":6},16,{"$nulls":5},16,{"$nulls":6},16,{"$nulls":6},16,{"$nulls":5},16,{"$nulls":6},16,{"$nulls":6},16,{"$nulls":5},16,{"$nulls":6},16,{"$nulls":6},16]
[17,{"$nulls":5},".",17,{"$nulls":5},".",17,{"$nulls":5},17,{"$nulls":5},".",17,{"$nulls":5},".",17,{"$nulls":5},17,{"$nulls":5},".",17,{"$nulls":5},".",17,{"$nulls":5},17,{"$nulls":5},".",17,{"$nulls":5},".",17,{"$nulls":5},17,{"$nulls":5},".",17,{"$nulls":5},".",17,{"$nulls":5},17,{"$nulls":5},".",17,{"$nulls":5},".",17,{"$nulls":5},17,{"$nulls":5},".",17,{"$nulls":5},".",17]
[18,{"$nulls":6},18,{"$nulls":6},18,{"$nulls":5},18,{"$nulls":6},18,{"$nulls":6},18,{"$nulls":5},18,{"$nulls":6},18,{"$nulls":6},18,{"$nulls":5},18,{"$nulls":6},18,{"$nulls":6},18,{"$nulls":5},18,{"$nulls":6},18,{"$nulls":6},18,{"$nulls":5},18,{"$nulls":6},18,{"$nulls":6},18,{"$nulls":5},18,{"$nulls":6},18,{"$nulls":6},18]
["Total","Shots",null,null,"Shots",null,null,"Total","Shots",null,null,"Shots",null,null,"Total","Shots",null,null,"Shots",null,"Total","Shots",null,null,"Shots",null,null,"Total","Shots",null,null,"Shots",null,null,"Total","Shots",null,null,"Shots",null,"Total","Shots",null,null,"Shots",null,null,"Total","Shots",null,null,"shots",null,null,"Total","Shots",null,null,"shots",null,"Total","Shots",null,null,"Shots",null,null,"Total","Shots",null,null,"shots",null,null,"Total","Shots",null,null,"shots",null,"Total","Shots",null,null,"Shots",null,null,"Total","Shots",null,null,"Shots",null,null,"Total","Shots",null,null,"Shots",null,"Total","Shots",null,null,"Shots",null,null,"Total","Shots",null,null,"shots",null,null,"Total","Shots",null,null,"shots",null,"Total","Shots",null,null,"shots",null,null,"Total","Shots",null,null,"shots",null,null,"Total","Shots",null,null,"shots"]
[null,"Ends",null,null,"Ends",null,".",null,"Ends",null,null,"Ends",null,".",null,"Ends",null,null,"Ends",null,null,"Ends",null,null,"Ends",null,".",null,"Ends",null,null,"Ends",null,".",null,"Ends",null,null,"Ends",null,null,"Ends",null,null,"Ends",null,".",null,"Ends",null,null,"Ends",null,".",null,"Ends",null,null,"Ends",null,null,"Ends",null,null,"Ends",null,".",null,"Ends",null,null,"Ends",null,".",null,"Ends",null,null,"Ends",null,null,"Ends",null,null,"Ends",null,".",null,"Ends",null,null,"Ends",null,".",null,"Ends",null,null,"Ends",null,null,"Ends",null,null,"Ends",null,".",null,"Ends",null,null,"Ends",null,".",null,"Ends",null,null,"Ends",null,null,"Ends",null,null,"Ends",null,".",null,"Ends",null,null,"Ends",null,".",null,"Ends",null,null,"Ends"]
["1st Game ",{"$nulls":5},".","2nd Game ",{"$nulls":5},".","3nd Game",{"$nulls":5},"4th Game",{"$nulls":5},".","5th Game",{"$nulls":5},".","6th Game",{"$nulls":5},"7th Game",{"$nulls":5},".","8th Game",{"$nulls":5},".","9th Game",{"$nulls":5},"10th Game",{"$nulls":5},".","11th Game",{"$nulls":5},".","12th Game ",{"$nulls":5},"13th Game",{"$nulls":5},".","14th Game",{"$nulls":5},".","15th Game",{"$nulls":5},"16th Game",{"$nulls":5},".","17th Game",{"$nulls":5},".","18th Game",{"$nulls":5},"19th Game",{"$nulls":5},".","20th Game",{"$nulls":5},".","9th Game "]
["Team No",null,null,"Rink No",{"$nulls":3},"Team No",null,null,"Rink No",{"$nulls":3},"Team No",null,null,"Rink No",null,null,"Team No",null,null,"Rink No",{"$nulls":3},"Team No",null,null,"Rink No",{"$nulls":3},"Team No",null,null,"Rink No",null,null,"Team No",null,null,"Rink No",{"$nulls":3},"Team No",null,null,"Rink No",{"$nulls":3},"Team No",null,null,"Rink No",null,null,"Team No",null,null,"Rink No",{"$nulls":3},"Team No",null,null,"Rink No",{"$nulls":3},"Team No",null,null,"Rink No",null,null,"Team No",null,null,"Rink No",{"$nulls":3},"Team No",null,null,"Rink No",{"$nulls":3},"Team No",null,null,"Rink No",null,null,"Team No",null,null,"Rink No",{"$nulls":3},"Team No",null,null,"Rink No",{"$nulls":3},"Team No",null,null,"Rink No",null,null,"Team No",null,null,"Rink No",{"$nulls":3},"Team No",null,null,"Rink No",{"$nulls":3},"Team No",null,null,"Rink No"]
[]
[{"$f":"DRAW!$B$15","v":9},null,null,{"$f":"DRAW!$E$15","v":5},null,null,".",{"$f":"DRAW!$B$15","v":9},null,null,{"$f":"DRAW!$G$15","v":2},null,null,".",{"$f":"DRAW!$B$15","v":9},null,null,{"$f":"DRAW!$I$15","v":6},null,null,{"$f":"DRAW!$B$15","v":9},null,null,{"$f":"DRAW!$K$15","v":3},null,null,".",{"$f":"DRAW!$B$15","v":9},null,null,{"$f":"DRAW!$M$15","v":1},null,null,".",{"$f":"DRAW!$B$15","v":9},null,null,{"$f":"DRAW!$O$15","v":2},null,null,{"$f":"DRAW!$B$15","v":9},null,null,{"$f":"DRAW!$Q$15","v":1},null,null,".",{"$f":"DRAW!$B$15","v":9},null,null,{"$f":"DRAW!$S$15","v":6},null,null,".",{"$f":"DRAW!$B$15","v":9},null,null,{"$f":"DRAW!$U$15","v":4},null,null,{"$f":"DRAW!$B$15","v":9},null,null,{"$f":"DRAW!$W$15","v":3},null,null,".",{"$f":"DRAW!$B$15","v":9},null,null,{"$f":"DRAW!#REF!","v":{"$error":"#REF!"}},null,null,".",{"$f":"DRAW!$B$15","v":9},null,null,{"$f":"DRAW!#REF!","v":{"$error":"#REF!"}},null,null,{"$f":"DRAW!$B$15","v":9},null,null,{"$f":"DRAW!#REF!","v":{"$error":"#REF!"}},null,null,".",{"$f":"DRAW!$B$15","v":9},null,null,{"$f":"DRAW!#REF!","v":{"$error":"#REF!"}},null,null,".",{"$f":"DRAW!$B$15","v":9},null,null,{"$f":"DRAW!#REF!","v":{"$error":"#REF!"}},null,null,{"$f":"DRAW!$B$15","v":9},null,null,{"$f":"DRAW!#REF!","v":{"$error":"#REF!"}},null,null,".",{"$f":"DRAW!$B$15","v":9},null,null,{"$f":"DRAW!#REF!","v":{"$error":"#REF!"}},null,null,".",{"$f":"DRAW!$B$15","v":9},null,null,{"$f":"DRAW!#REF!","v":{"$error":"#REF!"}},null,null,{"$f":"DRAW!$B$15","v":9},null,null,{"$f":"DRAW!#REF!","v":{"$error":"#REF!"}},null,null,".",{"$f":"DRAW!$B$15","v":9},null,null,{"$f":"DRAW!#REF!","v":{"$error":"#REF!"}},null,null,".",{"$f":"DRAW!$B$15","v":9},null,null,{"$f":"DRAW!#REF!","v":{"$error":"#REF!"}}]
[null,"Team",{"$f":"DRAW!$B$15","v":9},"V","Team",{"$f":"DRAW!$D$15","v":6},null,null,"Team",{"$f":"DRAW!$B$15","v":9},"V","Team",{"$f":"DRAW!$F$15","v":8},null,null,"Team",{"$f":"DRAW!$B$15","v":9},"V","Team",{"$f":"DRAW!$H$15","v":10},null,"Team",{"$f":"DRAW!$B$15","v":9},"V","Team",{"$f":"DRAW!$J$15","v":12},null,null,"Team",{"$f":"DRAW!$B$15","v":9},"V","Team",{"$f":"DRAW!$L$15","v":3},null,null,"Team",{"$f":"DRAW!$B$15","v":9},"V","Team",{"$f":"DRAW!$N$15","v":5},null,"Team",{"$f":"DRAW!$B$15","v":9},"V","Team",{"$f":"DRAW!$P$15","v":7},null,null,"Team",{"$f":"DRAW!$B$15","v":9},"V","Team",{"$f":"DRAW!$R$15","v":1},null,null,"Team",{"$f":"DRAW!$B$15","v":9},"V","Team",{"$f":"DRAW!$T$15","v":11},null,"Team",{"$f":"DRAW!$B$15","v":9},"V","Team",{"$f":"DRAW!$V$15","v":2},null,null,"Team",{"$f":"DRAW!$B$15","v":9},"V","Team",{"$f":"DRAW!#REF!","v":{"$error":"#REF!"}},null,null,"Team",{"$f":"DRAW!$B$15","v":9},"V","Team",{"$f":"DRAW!#REF!","v":{"$error":"#REF!"}},null,"Team",{"$f":"DRAW!$B$15","v":9},"V","Team",{"$f":"DRAW!#REF!","v":{"$error":"#REF!"}},null,null,"Team",{"$f":"DRAW!$B$15","v":9},"V","Team",{"$f":"DRAW!#REF!","v":{"$error":"#REF!"}},null,null,"Team",{"$f":"DRAW!$B$15","v":9},"V","Team",{"$f":"DRAW!#REF!","v":{"$error":"#REF!"}},null,"Team",{"$f":"DRAW!$B$15","v":9},"V","Team",{"$f":"DRAW!#REF!","v":{"$error":"#REF!"}},null,null,"Team",{"$f":"DRAW!$B$15","v":9},"V","Team",{"$f":"DRAW!#REF!","v":{"$error":"#REF!"}},null,null,"Team",{"$f":"DRAW!$B$15","v":9},"V","Team",{"$f":"DRAW!#REF!","v":{"$error":"#REF!"}},null,"Team",{"$f":"DRAW!$B$15","v":9},"V","Team",{"$f":"DRAW!#REF!","v":{"$error":"#REF!"}},null,null,"Team",{"$f":"DRAW!$B$15","v":9},"V","Team",{"$f":"DRAW!#REF!","v":{"$error":"#REF!"}},null,null,"Team",{"$f":"DRAW!$B$15","v":9},"V","Team",{"$f":"DRAW!#REF!","v":{"$error":"#REF!"}}]
["Ends","Shots","Total",null,"Shots","Total",null,"Ends","Shots","Total",null,"Shots","Total",null,"Ends","Shots","Total",null,"Shots","Total","Ends","Shots","Total",null,"Shots","Total",null,"Ends","Shots","Total",null,"Shots","Total",null,"Ends","Shots","Total",null,"Shots","Total","Ends","Shots","Total",null,"Shots","Total",null,"Ends","Shots","Total",null,"Shots","Total",null,"Ends","Shots","Total",null,"Shots","Total","Ends","Shots","Total",null,"Shots","Total",null,"Ends","Shots","Total",null,"Shots","Total",null,"Ends","Shots","Total",null,"Shots","Total","Ends","Shots","Total",null,"Shots","Total",null,"Ends","Shots","Total",null,"Shots","Total",null,"Ends","Shots","Total",null,"Shots","Total","Ends","Shots","Total",null,"Shots","Total",null,"Ends","Shots","Total",null,"Shots","Total",null,"Ends","Shots","Total",null,"Shots","Total","Ends","Shots","Total",null,"Shots","Total",null,"Ends","Shots","Total",null,"Shots","Total",null,"Ends","Shots","Total",null,"Shots","Total"]
[1,{"$nulls":5},".",1,{"$nulls":5},".",1,{"$nulls":5},1,{"$nulls":5},".",1,{"$nulls":5},".",1,{"$nulls":5},1,{"$nulls":5},".",1,{"$nulls":5},".",1,{"$nulls":5},1,{"$nulls":5},".",1,{"$nulls":5},".",1,{"$nulls":5},1,{"$nulls":5},".",1,{"$nulls":5},".",1,{"$nulls":5},1,{"$nulls":5},".",1,{"$nulls":5},".",1,{"$nulls":5},1,{"$nulls":5},".",1,{"$nulls":5},".",1]
[2,{"$nulls":6},2,{"$nulls":6},2,{"$nulls":5},2,{"$nulls":6},2,{"$nulls":6},2,{"$nulls":5},2,{"$nulls":6},2,{"$nulls":6},2,{"$nulls":5},2,{"$nulls":6},2,{"$nulls":6},2,{"$nulls":5},2,{"$nulls":6},2,{"$nulls":6},2,{"$nulls":5},2,{"$nulls":6},2,{"$nulls":6},2,{"$nulls":5},2,{"$nulls":6},2,{"$nulls":6},2]
[3,{"$nulls":6},3,{"$nulls":6},3,{"$nulls":5},3,{"$nulls":6},3,{"$nulls":6},3,{"$nulls":5},3,{"$nulls":6},3,{"$nulls":6},3,{"$nulls":5},3,{"$nulls":6},3,{"$nulls":6},3,{"$nulls":5},3,{"$nulls":6},3,{"$nulls":6},3,{"$nulls":5},3,{"$nulls":6},3,{"$nulls":6},3,{"$nulls":5},3,{"$nulls":6},3,{"$nulls":6},3]
[4,{"$nulls":6},4,{"$nulls":6},4,{"$nulls":5},4,{"$nulls":6},4,{"$nulls":6},4,{"$nulls":5},4,{"$nulls":6},4,{"$nulls":6},4,{"$nulls":5},4,{"$nulls":6},4,{"$nulls":6},4,{"$nulls":5},4,{"$nulls":6},4,{"$nulls":6},4,{"$nulls":5},4,{"$nulls":6},4,{"$nulls":6},4,{"$nulls":5},4,{"$nulls":6},4,{"$nulls":6},4]
[5,{"$nulls":5},".",5,{"$nulls":5},".",5,{"$nulls":5},5,{"$nulls":5},".",5,{"$nulls":5},".",5,{"$nulls":5},5,{"$nulls":5},".",5,{"$nulls":5},".",5,{"$nulls":5},5,{"$nulls":5},".",5,{"$nulls":5},".",5,{"$nulls":5},5,{"$nulls":5},".",5,{"$nulls":5},".",5,{"$nulls":5},5,{"$nulls":5},".",5,{"$nulls":5},".",5,{"$nulls":5},5,{"$nulls":5},".",5,{"$nulls":5},".",5]
[6,{"$nulls":6},6,{"$nulls":6},6,{"$nulls":5},6,{"$nulls":6},6,{"$nulls":6},6,{"$nulls":5},6,{"$nulls":6},6,{"$nulls":6},6,{"$nulls":5},6,{"$nulls":6},6,{"$nulls":6},6,{"$nulls":5},6,{"$nulls":6},6,{"$nulls":6},6,{"$nulls":5},6,{"$nulls":6},6,{"$nulls":6},6,{"$nulls":5},6,{"$nulls":6},6,{"$nulls":6},6]
[7,{"$nulls":6},7,{"$nulls":6},7,{"$nulls":5},7,{"$nulls":6},7,{"$nulls":6},7,{"$nulls":5},7,{"$nulls":6},7,{"$nulls":6},7,{"$nulls":5},7,{"$nulls":6},7,{"$nulls":6},7,{"$nulls":5},7,{"$nulls":6},7,{"$nulls":6},7,{"$nulls":5},7,{"$nulls":6},7,{"$nulls":6},7,{"$nulls":5},7,{"$nulls":6},7,{"$nulls":6},7]
[8,{"$nulls":6},8,{"$nulls":6},8,{"$nulls":5},8,{"$nulls":6},8,{"$nulls":6},8,{"$nulls":5},8,{"$nulls":6},8,{"$nulls":6},8,{"$nulls":5},8,{"$nulls":6},8,{"$nulls":6},8,{"$nulls":5},8,{"$nulls":6},8,{"$nulls":6},8,{"$nulls":5},8,{"$nulls":6},8,{"$nulls":6},8,{"$nulls":5},8,{"$nulls":6},8,{"$nulls":6},8]
[9,{"$nulls":5},".",9,{"$nulls":5},".",9,{"$nulls":5},9,{"$nulls":5},".",9,{"$nulls":5},".",9,{"$nulls":5},9,{"$nulls":5},".",9,{"$nulls":5},".",9,{"$nulls":5},9,{"$nulls":5},".",9,{"$nulls":5},".",9,{"$nulls":5},9,{"$nulls":5},".",9,{"$nulls":5},".",9,{"$nulls":5},9,{"$nulls":5},".",9,{"$nulls":5},".",9,{"$nulls":5},9,{"$nulls":5},".",9,{"$nulls":5},".",9]
[10,{"$nulls":6},10,{"$nulls":6},10,{"$nulls":5},10,{"$nulls":6},10,{"$nulls":6},10,{"$nulls":5},10,{"$nulls":6},10,{"$nulls":6},10,{"$nulls":5},10,{"$nulls":6},10,{"$nulls":6},10,{"$nulls":5},10,{"$nulls":6},10,{"$nulls":6},10,{"$nulls":5},10,{"$nulls":6},10,{"$nulls":6},10,{"$nulls":5},10,{"$nulls":6},10,{"$nulls":6},10]
[11,{"$nulls":6},11,{"$nulls":6},11,{"$nulls":5},11,{"$nulls":6},11,{"$nulls":6},11,{"$nulls":5},11,{"$nulls":6},11,{"$nulls":6},11,{"$nulls":5},11,{"$nulls":6},11,{"$nulls":6},11,{"$nulls":5},11,{"$nulls":6},11,{"$nulls":6},11,{"$nulls":5},11,{"$nulls":6},11,{"$nulls":6},11,{"$nulls":5},11,{"$nulls":6},11,{"$nulls":6},11]
[12,{"$nulls":6},12,{"$nulls":6},12,{"$nulls":5},12,{"$nulls":6},12,{"$nulls":6},12,{"$nulls":5},12,{"$nulls":6},12,{"$nulls":6},12,{"$nulls":5},12,{"$nulls":6},12,{"$nulls":6},12,{"$nulls":5},12,{"$nulls":6},12,{"$nulls":6},12,{"$nulls":5},12,{"$nulls":6},12,{"$nulls":6},12,{"$nulls":5},12,{"$nulls":6},12,{"$nulls":6},12]
[13,{"$nulls":5},".",13,{"$nulls":5},".",13,{"$nulls":5},13,{"$nulls":5},".",13,{"$nulls":5},".",13,{"$nulls":5},13,{"$nulls":5},".",13,{"$nulls":5},".",13,{"$nulls":5},13,{"$nulls":5},".",13,{"$nulls":5},".",13,{"$nulls":5},13,{"$nulls":5},".",13,{"$nulls":5},".",13,{"$nulls":5},13,{"$nulls":5},".",13,{"$nulls":5},".",13,{"$nulls":5},13,{"$nulls":5},".",13,{"$nulls":5},".",13]
[14,{"$nulls":6},14,{"$nulls":6},14,{"$nulls":5},14,{"$nulls":6},14,{"$nulls":6},14,{"$nulls":5},14,{"$nulls":6},14,{"$nulls":6},14,{"$nulls":5},14,{"$nulls":6},14,{"$nulls":6},14,{"$nulls":5},14,{"$nulls":6},14,{"$nulls":6},14,{"$nulls":5},14,{"$nulls":6},14,{"$nulls":6},14,{"$nulls":5},14,{"$nulls":6},14,{"$nulls":6},14]
[15,{"$nulls":6},15,{"$nulls":6},15,{"$nulls":5},15,{"$nulls":6},15,{"$nulls":6},15,{"$nulls":5},15,{"$nulls":6},15,{"$nulls":6},15,{"$nulls":5},15,{"$nulls":6},15,{"$nulls":6},15,{"$nulls":5},15,{"$nulls":6},15,{"$nulls":6},15,{"$nulls":5},15,{"$nulls":6},15,{"$nulls":6},15,{"$nulls":5},15,{"$nulls":6},15,{"$nulls":6},15]
[16,{"$nulls":6},16,{"$nulls":6},16,{"$nulls":5},16,{"$nulls":6},16,{"$nulls":6},16,{"$nulls":5},16,{"$nulls":6},16,{"$nulls":6},16,{"$nulls":5},16,{"$nulls":6},16,{"$nulls":6},16,{"$nulls":5},16,{"$nulls":6},16,{"$nulls":6},16,{"$nulls":5},16,{"$nulls":6},16,{"$nulls":6},16,{"$nulls":5},16,{"$nulls":6},16,{"$nulls":6},16]
[17,{"$nulls":5},".",17,{"$nulls":5},".",17,{"$nulls":5},17,{"$nulls":5},".",17,{"$nulls":5},".",17,{"$nulls":5},17,{"$nulls":5},".",17,{"$nulls":5},".",17,{"$nulls":5},17,{"$nulls":5},".",17,{"$nulls":5},".",17,{"$nulls":5},17,{"$nulls":5},".",17,{"$nulls":5},".",17,{"$nulls":5},17,{"$nulls":5},".",17,{"$nulls":5},".",17,{"$nulls":5},17,{"$nulls":5},".",17,{"$nulls":5},".",17]
[18,{"$nulls":6},18,{"$nulls":6},18,{"$nulls":5},18,{"$nulls":6},18,{"$nulls":6},18,{"$nulls":5},18,{"$nulls":6},18,{"$nulls":6},18,{"$nulls":5},18,{"$nulls":6},18,{"$nulls":6},18,{"$nulls":5},18,{"$nulls":6},18,{"$nulls":6},18,{"$nulls":5},18,{"$nulls":6},18,{"$nulls":6},18,{"$nulls":5},18,{"$nulls":6},18,{"$nulls":6},18]
["Total","Shots",null,null,"Shots",null,null,"Total","Shots",null,null,"Shots",null,null,"Total","Shots",null,null,"Shots",null,"Total","Shots",null,null,"Shots",null,null,"Total","Shots",null,null,"Shots",null,null,"Total","Shots",null,null,"Shots",null,"Total","Shots",null,null,"Shots",null,null,"Total","Shots",null,null,"shots",null,null,"Total","Shots",null,null,"shots",null,"Total","Shots",null,null,"Shots",null,null,"Total","Shots",null,null,"shots",null,null,"Total","Shots",null,null,"shots",null,"Total","Shots",null,null,"Shots",null,null,"Total","Shots",null,null,"Shots",null,null,"Total","Shots",null,null,"Shots",null,"Total","Shots",null,null,"Shots",null,null,"Total","Shots",null,null,"shots",null,null,"Total","Shots",null,null,"shots",null,"Total","Shots",null,null,"shots",null,null,"Total","Shots",null,null,"shots",null,null,"Total","Shots",null,null,"shots"]
[null,"Ends",null,null,"Ends",null,".",null,"Ends",null,null,"Ends",null,".",null,"Ends",null,null,"Ends",null,null,"Ends",null,null,"Ends",null,".",null,"Ends",null,null,"Ends",null,".",null,"Ends",null,null,"Ends",null,null,"Ends",null,null,"Ends",null,".",null,"Ends",null,null,"Ends",null,".",null,"Ends",null,null,"Ends",null,null,"Ends",null,null,"Ends",null,".",null,"Ends",null,null,"Ends",null,".",null,"Ends",null,null,"Ends",null,null,"Ends",null,null,"Ends",null,".",null,"Ends",null,null,"Ends",null,".",null,"Ends",null,null,"Ends",null,null,"Ends",null,null,"Ends",null,".",null,"Ends",null,null,"Ends",null,".",null,"Ends",null,null,"Ends",null,null,"Ends",null,null,"Ends",null,".",null,"Ends",null,null,"Ends",null,".",null,"Ends",null,null,"Ends"]
[]
[]
["1st Game ",{"$nulls":5},".","2nd Game ",{"$nulls":5},".","3nd Game",{"$nulls":5},"4th Game",{"$nulls":5},".","5th Game",{"$nulls":5},".","6th Game",{"$nulls":5},"7th Game",{"$nulls":5},".","8th Game",{"$nulls":5},".","9th Game",{"$nulls":5},"10th Game",{"$nulls":5},".","11th Game",{"$nulls":5},".","12th Game ",{"$nulls":5},"13th Game",{"$nulls":5},".","14th Game",{"$nulls":5},".","15th Game",{"$nulls":5},"16th Game",{"$nulls":5},".","17th Game",{"$nulls":5},".","18th Game",{"$nulls":5},"19th Game",{"$nulls":5},".","20th Game",{"$nulls":5},".","9th Game "]
["Team No",null,null,"Rink No",{"$nulls":3},"Team No",null,null,"Rink No",{"$nulls":3},"Team No",null,null,"Rink No",null,null,"Team No",null,null,"Rink No",{"$nulls":3},"Team No",null,null,"Rink No",{"$nulls":3},"Team No",null,null,"Rink No",null,null,"Team No",null,null,"Rink No",{"$nulls":3},"Team No",null,null,"Rink No",{"$nulls":3},"Team No",null,null,"Rink No",null,null,"Team No",null,null,"Rink No",{"$nulls":3},"Team No",null,null,"Rink No",{"$nulls":3},"Team No",null,null,"Rink No",null,null,"Team No",null,null,"Rink No",{"$nulls":3},"Team No",null,null,"Rink No",{"$nulls":3},"Team No",null,null,"Rink No",null,null,"Team No",null,null,"Rink No",{"$nulls":3},"Team No",null,null,"Rink No",{"$nulls":3},"Team No",null,null,"Rink No",null,null,"Team No",null,null,"Rink No",{"$nulls":3},"Team No",null,null,"Rink No",{"$nulls":3},"Team No",null,null,"Rink No"]
[]
[{"$f":"DRAW!$B$16","v":10},null,null,{"$f":"DRAW!$E$16","v":4},null,null,".",{"$f":"DRAW!$B$16","v":10},null,null,{"$f":"DRAW!$G$16","v":5},null,null,".",{"$f":"DRAW!$B$16","v":10},null,null,{"$f":"DRAW!$I$16","v":6},null,null,{"$f":"DRAW!$B$16","v":10},null,null,{"$f":"DRAW!$K$16","v":4},null,null,".",{"$f":"DRAW!$B$16","v":10},null,null,{"$f":"DRAW!$M$16","v":2},null,null,".",{"$f":"DRAW!$B$16","v":10},null,null,{"$f":"DRAW!$O$16","v":1},null,null,{"$f":"DRAW!$B$16","v":10},null,null,{"$f":"DRAW!$Q$16","v":2},null,null,".",{"$f":"DRAW!$B$16","v":10},null,null,{"$f":"DRAW!$S$16","v":3},null,null,".",{"$f":"DRAW!$B$16","v":10},null,null,{"$f":"DRAW!$U$16","v":5},null,null,{"$f":"DRAW!$B$16","v":10},null,null,{"$f":"DRAW!$W$16","v":4},null,null,".",{"$f":"DRAW!$B$16","v":10},null,null,{"$f":"DRAW!#REF!","v":{"$error":"#REF!"}},null,null,".",{"$f":"DRAW!$B$16","v":10},null,null,{"$f":"DRAW!#REF!","v":{"$error":"#REF!"}},null,null,{"$f":"DRAW!$B$16","v":10},null,null,{"$f":"DRAW!#REF!","v":{"$error":"#REF!"}},null,null,".",{"$f":"DRAW!$B$16","v":10},null,null,{"$f":"DRAW!#REF!","v":{"$error":"#REF!"}},null,null,".",{"$f":"DRAW!$B$16","v":10},null,null,{"$f":"DRAW!#REF!","v":{"$error":"#REF!"}},null,null,{"$f":"DRAW!$B$16","v":10},null,null,{"$f":"DRAW!#REF!","v":{"$error":"#REF!"}},null,null,".",{"$f":"DRAW!$B$16","v":10},null,null,{"$f":"DRAW!#REF!","v":{"$error":"#REF!"}},null,null,".",{"$f":"DRAW!$B$16","v":10},null,null,{"$f":"DRAW!#REF!","v":{"$error":"#REF!"}},null,null,{"$f":"DRAW!$B$16","v":10},null,null,{"$f":"DRAW!#REF!","v":{"$error":"#REF!"}},null,null,".",{"$f":"DRAW!$B$16","v":10},null,null,{"$f":"DRAW!#REF!","v":{"$error":"#REF!"}},null,null,".",{"$f":"DRAW!$B$16","v":10},null,null,{"$f":"DRAW!#REF!","v":{"$error":"#REF!"}}]
[null,"Team",{"$f":"DRAW!$B$16","v":10},"V","Team",{"$f":"DRAW!$D$16","v":5},null,null,"Team",{"$f":"DRAW!$B$16","v":10},"V","Team",{"$f":"DRAW!$F$16","v":7},null,null,"Team",{"$f":"DRAW!$B$16","v":10},"V","Team",{"$f":"DRAW!$H$16","v":9},null,"Team",{"$f":"DRAW!$B$16","v":10},"V","Team",{"$f":"DRAW!$J$16","v":11},null,null,"Team",{"$f":"DRAW!$B$16","v":10},"V","Team",{"$f":"DRAW!$L$16","v":2},null,null,"Team",{"$f":"DRAW!$B$16","v":10},"V","Team",{"$f":"DRAW!$N$16","v":4},null,"Team",{"$f":"DRAW!$B$16","v":10},"V","Team",{"$f":"DRAW!$P$16","v":6},null,null,"Team",{"$f":"DRAW!$B$16","v":10},"V","Team",{"$f":"DRAW!$R$16","v":8},null,null,"Team",{"$f":"DRAW!$B$16","v":10},"V","Team",{"$f":"DRAW!$T$16","v":1},null,"Team",{"$f":"DRAW!$B$16","v":10},"V","Team",{"$f":"DRAW!$V$16","v":12},null,null,"Team",{"$f":"DRAW!$B$16","v":10},"V","Team",{"$f":"DRAW!#REF!","v":{"$error":"#REF!"}},null,null,"Team",{"$f":"DRAW!$B$16","v":10},"V","Team",{"$f":"DRAW!#REF!","v":{"$error":"#REF!"}},null,"Team",{"$f":"DRAW!$B$16","v":10},"V","Team",{"$f":"DRAW!#REF!","v":{"$error":"#REF!"}},null,null,"Team",{"$f":"DRAW!$B$16","v":10},"V","Team",{"$f":"DRAW!#REF!","v":{"$error":"#REF!"}},null,null,"Team",{"$f":"DRAW!$B$16","v":10},"V","Team",{"$f":"DRAW!#REF!","v":{"$error":"#REF!"}},null,"Team",{"$f":"DRAW!$B$16","v":10},"V","Team",{"$f":"DRAW!#REF!","v":{"$error":"#REF!"}},null,null,"Team",{"$f":"DRAW!$B$16","v":10},"V","Team",{"$f":"DRAW!#REF!","v":{"$error":"#REF!"}},null,null,"Team",{"$f":"DRAW!$B$16","v":10},"V","Team",{"$f":"DRAW!#REF!","v":{"$error":"#REF!"}},null,"Team",{"$f":"DRAW!$B$16","v":10},"V","Team",{"$f":"DRAW!#REF!","v":{"$error":"#REF!"}},null,null,"Team",{"$f":"DRAW!$B$16","v":10},"V","Team",{"$f":"DRAW!#REF!","v":{"$error":"#REF!"}},null,null,"Team",{"$f":"DRAW!$B$16","v":10},"V","Team",{"$f":"DRAW!#REF!","v":{"$error":"#REF!"}}]
["Ends","Shots","Total",null,"Shots","Total",null,"Ends","Shots","Total",null,"Shots","Total",null,"Ends","Shots","Total",null,"Shots","Total","Ends","Shots","Total",null,"Shots","Total",null,"Ends","Shots","Total",null,"Shots","Total",null,"Ends","Shots","Total",null,"Shots","Total","Ends","Shots","Total",null,"Shots","Total",null,"Ends","Shots","Total",null,"Shots","Total",null,"Ends","Shots","Total",null,"Shots","Total","Ends","Shots","Total",null,"Shots","Total",null,"Ends","Shots","Total",null,"Shots","Total",null,"Ends","Shots","Total",null,"Shots","Total","Ends","Shots","Total",null,"Shots","Total",null,"Ends","Shots","Total",null,"Shots","Total",null,"Ends","Shots","Total",null,"Shots","Total","Ends","Shots","Total",null,"Shots","Total",null,"Ends","Shots","Total",null,"Shots","Total",null,"Ends","Shots","Total",null,"Shots","Total","Ends","Shots","Total",null,"Shots","Total",null,"Ends","Shots","Total",null,"Shots","Total",null,"Ends","Shots","Total",null,"Shots","Total"]
[1,{"$nulls":5},".",1,{"$nulls":5},".",1,{"$nulls":5},1,{"$nulls":5},".",1,{"$nulls":5},".",1,{"$nulls":5},1,{"$nulls":5},".",1,{"$nulls":5},".",1,{"$nulls":5},1,{"$nulls":5},".",1,{"$nulls":5},".",1,{"$nulls":5},1,{"$nulls":5},".",1,{"$nulls":5},".",1,{"$nulls":5},1,{"$nulls":5},".",1,{"$nulls":5},".",1,{"$nulls":5},1,{"$nulls":5},".",1,{"$nulls":5},".",1]
[2,{"$nulls":6},2,{"$nulls":6},2,{"$nulls":5},2,{"$nulls":6},2,{"$nulls":6},2,{"$nulls":5},2,{"$nulls":6},2,{"$nulls":6},2,{"$nulls":5},2,{"$nulls":6},2,{"$nulls":6},2,{"$nulls":5},2,{"$nulls":6},2,{"$nulls":6},2,{"$nulls":5},2,{"$nulls":6},2,{"$nulls":6},2,{"$nulls":5},2,{"$nulls":6},2,{"$nulls":6},2]
[3,{"$nulls":6},3,{"$nulls":6},3,{"$nulls":5},3,{"$nulls":6},3,{"$nulls":6},3,{"$nulls":5},3,{"$nulls":6},3,{"$nulls":6},3,{"$nulls":5},3,{"$nulls":6},3,{"$nulls":6},3,{"$nulls":5},3,{"$nulls":6},3,{"$nulls":6},3,{"$nulls":5},3,{"$nulls":6},3,{"$nulls":6},3,{"$nulls":5},3,{"$nulls":6},3,{"$nulls":6},3]
[4,{"$nulls":6},4,{"$nulls":6},4,{"$nulls":5},4,{"$nulls":6},4,{"$nulls":6},4,{"$nulls":5},4,{"$nulls":6},4,{"$nulls":6},4,{"$nulls":5},4,{"$nulls":6},4,{"$nulls":6},4,{"$nulls":5},4,{"$nulls":6},4,{"$nulls":6},4,{"$nulls":5},4,{"$nulls":6},4,{"$nulls":6},4,{"$nulls":5},4,{"$nulls":6},4,{"$nulls":6},4]
[5,{"$nulls":5},".",5,{"$nulls":5},".",5,{"$nulls":5},5,{"$nulls":5},".",5,{"$nulls":5},".",5,{"$nulls":5},5,{"$nulls":5},".",5,{"$nulls":5},".",5,{"$nulls":5},5,{"$nulls":5},".",5,{"$nulls":5},".",5,{"$nulls":5},5,{"$nulls":5},".",5,{"$nulls":5},".",5,{"$nulls":5},5,{"$nulls":5},".",5,{"$nulls":5},".",5,{"$nulls":5},5,{"$nulls":5},".",5,{"$nulls":5},".",5]
[6,{"$nulls":6},6,{"$nulls":6},6,{"$nulls":5},6,{"$nulls":6},6,{"$nulls":6},6,{"$nulls":5},6,{"$nulls":6},6,{"$nulls":6},6,{"$nulls":5},6,{"$nulls":6},6,{"$nulls":6},6,{"$nulls":5},6,{"$nulls":6},6,{"$nulls":6},6,{"$nulls":5},6,{"$nulls":6},6,{"$nulls":6},6,{"$nulls":5},6,{"$nulls":6},6,{"$nulls":6},6]
[7,{"$nulls":6},7,{"$nulls":6},7,{"$nulls":5},7,{"$nulls":6},7,{"$nulls":6},7,{"$nulls":5},7,{"$nulls":6},7,{"$nulls":6},7,{"$nulls":5},7,{"$nulls":6},7,{"$nulls":6},7,{"$nulls":5},7,{"$nulls":6},7,{"$nulls":6},7,{"$nulls":5},7,{"$nulls":6},7,{"$nulls":6},7,{"$nulls":5},7,{"$nulls":6},7,{"$nulls":6},7]
[8,{"$nulls":6},8,{"$nulls":6},8,{"$nulls":5},8,{"$nulls":6},8,{"$nulls":6},8,{"$nulls":5},8,{"$nulls":6},8,{"$nulls":6},8,{"$nulls":5},8,{"$nulls":6},8,{"$nulls":6},8,{"$nulls":5},8,{"$nulls":6},8,{"$nulls":6},8,{"$nulls":5},8,{"$nulls":6},8,{"$nulls":6},8,{"$nulls":5},8,{"$nulls":6},8,{"$nulls":6},8]
[9,{"$nulls":5},".",9,{"$nulls":5},".",9,{"$nulls":5},9,{"$nulls":5},".",9,{"$nulls":5},".",9,{"$nulls":5},9,{"$nulls":5},".",9,{"$nulls":5},".",9,{"$nulls":5},9,{"$nulls":5},".",9,{"$nulls":5},".",9,{"$nulls":5},9,{"$nulls":5},".",9,{"$nulls":5},".",9,{"$nulls":5},9,{"$nulls":5},".",9,{"$nulls":5},".",9,{"$nulls":5},9,{"$nulls":5},".",9,{"$nulls":5},".",9]
[10,{"$nulls":6},10,{"$nulls":6},10,{"$nulls":5},10,{"$nulls":6},10,{"$nulls":6},10,{"$nulls":5},10,{"$nulls":6},10,{"$nulls":6},10,{"$nulls":5},10,{"$nulls":6},10,{"$nulls":6},10,{"$nulls":5},10,{"$nulls":6},10,{"$nulls":6},10,{"$nulls":5},10,{"$nulls":6},10,{"$nulls":6},10,{"$nulls":5},10,{"$nulls":6},10,{"$nulls":6},10]
[11,{"$nulls":6},11,{"$nulls":6},11,{"$nulls":5},11,{"$nulls":6},11,{"$nulls":6},11,{"$nulls":5},11,{"$nulls":6},11,{"$nulls":6},11,{"$nulls":5},11,{"$nulls":6},11,{"$nulls":6},11,{"$nulls":5},11,{"$nulls":6},11,{"$nulls":6},11,{"$nulls":5},11,{"$nulls":6},11,{"$nulls":6},11,{"$nulls":5},11,{"$nulls":6},11,{"$nulls":6},11]
[12,{"$nulls":6},12,{"$nulls":6},12,{"$nulls":5},12,{"$nulls":6},12,{"$nulls":6},12,{"$nulls":5},12,{"$nulls":6},12,{"$nulls":6},12,{"$nulls":5},12,{"$nulls":6},12,{"$nulls":6},12,{"$nulls":5},12,{"$nulls":6},12,{"$nulls":6},12,{"$nulls":5},12,{"$nulls":6},12,{"$nulls":6},12,{"$nulls":5},12,{"$nulls":6},12,{"$nulls":6},12]
[13,{"$nulls":5},".",13,{"$nulls":5},".",13,{"$nulls":5},13,{"$nulls":5},".",13,{"$nulls":5},".",13,{"$nulls":5},13,{"$nulls":5},".",13,{"$nulls":5},".",13,{"$nulls":5},13,{"$nulls":5},".",13,{"$nulls":5},".",13,{"$nulls":5},13,{"$nulls":5},".",13,{"$nulls":5},".",13,{"$nulls":5},13,{"$nulls":5},".",13,{"$nulls":5},".",13,{"$nulls":5},13,{"$nulls":5},".",13,{"$nulls":5},".",13]
[14,{"$nulls":6},14,{"$nulls":6},14,{"$nulls":5},14,{"$nulls":6},14,{"$nulls":6},14,{"$nulls":5},14,{"$nulls":6},14,{"$nulls":6},14,{"$nulls":5},14,{"$nulls":6},14,{"$nulls":6},14,{"$nulls":5},14,{"$nulls":6},14,{"$nulls":6},14,{"$nulls":5},14,{"$nulls":6},14,{"$nulls":6},14,{"$nulls":5},14,{"$nulls":6},14,{"$nulls":6},14]
[15,{"$nulls":6},15,{"$nulls":6},15,{"$nulls":5},15,{"$nulls":6},15,{"$nulls":6},15,{"$nulls":5},15,{"$nulls":6},15,{"$nulls":6},15,{"$nulls":5},15,{"$nulls":6},15,{"$nulls":6},15,{"$nulls":5},15,{"$nulls":6},15,{"$nulls":6},15,{"$nulls":5},15,{"$nulls":6},15,{"$nulls":6},15,{"$nulls":5},15,{"$nulls":6},15,{"$nulls":6},15]
[16,{"$nulls":6},16,{"$nulls":6},16,{"$nulls":5},16,{"$nulls":6},16,{"$nulls":6},16,{"$nulls":5},16,{"$nulls":6},16,{"$nulls":6},16,{"$nulls":5},16,{"$nulls":6},16,{"$nulls":6},16,{"$nulls":5},16,{"$nulls":6},16,{"$nulls":6},16,{"$nulls":5},16,{"$nulls":6},16,{"$nulls":6},16,{"$nulls":5},16,{"$nulls":6},16,{"$nulls":6},16]
[17,{"$nulls":5},".",17,{"$nulls":5},".",17,{"$nulls":5},17,{"$nulls":5},".",17,{"$nulls":5},".",17,{"$nulls":5},17,{"$nulls":5},".",17,{"$nulls":5},".",17,{"$nulls":5},17,{"$nulls":5},".",17,{"$nulls":5},".",17,{"$nulls":5},17,{"$nulls":5},".",17,{"$nulls":5},".",17,{"$nulls":5},17,{"$nulls":5},".",17,{"$nulls":5},".",17,{"$nulls":5},17,{"$nulls":5},".",17,{"$nulls":5},".",17]
[18,{"$nulls":6},18,{"$nulls":6},18,{"$nulls":5},18,{"$nulls":6},18,{"$nulls":6},18,{"$nulls":5},18,{"$nulls":6},18,{"$nulls":6},18,{"$nulls":5},18,{"$nulls":6},18,{"$nulls":6},18,{"$nulls":5},18,{"$nulls":6},18,{"$nulls":6},18,{"$nulls":5},18,{"$nulls":6},18,{"$nulls":6},18,{"$nulls":5},18,{"$nulls":6},18,{"$nulls":6},18]
["Total","Shots",null,null,"Shots",null,null,"Total","Shots",null,null,"Shots",null,null,"Total","Shots",null,null,"Shots",null,"Total","Shots",null,null,"Shots",null,null,"Total","Shots",null,null,"Shots",null,null,"Total","Shots",null,null,"Shots",null,"Total","Shots",null,null,"Shots",null,null,"Total","Shots",null,null,"shots",null,null,"Total","Shots",null,null,"shots",null,"Total","Shots",null,null,"Shots",null,null,"Total","Shots",null,null,"shots",null,null,"Total","Shots",null,null,"shots",null,"Total","Shots",null,null,"Shots",null,null,"Total","Shots",null,null,"Shots",null,null,"Total","Shots",null,null,"Shots",null,"Total","Shots",null,null,"Shots",null,null,"Total","Shots",null,null,"shots",null,null,"Total","Shots",null,null,"shots",null,"Total","Shots",null,null,"shots",null,null,"Total","Shots",null,null,"shots",null,null,"Total","Shots",null,null,"shots"]
[null,"Ends",null,null,"Ends",null,".",null,"Ends",null,null,"Ends",null,".",null,"Ends",null,null,"Ends",null,null,"Ends",null,null,"Ends",null,".",null,"Ends",null,null,"Ends",null,".",null,"Ends",null,null,"Ends",null,null,"Ends",null,null,"Ends",null,".",null,"Ends",null,null,"Ends",null,".",null,"Ends",null,null,"Ends",null,null,"Ends",null,null,"Ends",null,".",null,"Ends",null,null,"Ends",null,".",null,"Ends",null,null,"Ends",null,null,"Ends",null,null,"Ends",null,".",null,"Ends",null,null,"Ends",null,".",null,"Ends",null,null,"Ends",null,null,"Ends",null,null,"Ends",null,".",null,"Ends",null,null,"Ends",null,".",null,"Ends",null,null,"Ends",null,null,"Ends",null,null,"Ends",null,".",null,"Ends",null,null,"Ends",null,".",null,"Ends",null,null,"Ends"]
["1st Game ",{"$nulls":5},".","2nd Game ",{"$nulls":5},".","3nd Game",{"$nulls":5},"4th Game",{"$nulls":5},".","5th Game",{"$nulls":5},".","6th Game",{"$nulls":5},"7th Game",{"$nulls":5},".","8th Game",{"$nulls":5},".","9th Game",{"$nulls":5},"10th Game",{"$nulls":5},".","11th Game",{"$nulls":5},".","12th Game ",{"$nulls":5},"13th Game",{"$nulls":5},".","14th Game",{"$nulls":5},".","15th Game",{"$nulls":5},"16th Game",{"$nulls":5},".","17th Game",{"$nulls":5},".","18th Game",{"$nulls":5},"19th Game",{"$nulls":5},".","20th Game",{"$nulls":5},".","9th Game "]
["Team No",null,null,"Rink No",{"$nulls":3},"Team No",null,null,"Rink No",{"$nulls":3},"Team No",null,null,"Rink No",null,null,"Team No",null,null,"Rink No",{"$nulls":3},"Team No",null,null,"Rink No",{"$nulls":3},"Team No",null,null,"Rink No",null,null,"Team No",null,null,"Rink No",{"$nulls":3},"Team No",null,null,"Rink No",{"$nulls":3},"Team No",null,null,"Rink No",null,null,"Team No",null,null,"Rink No",{"$nulls":3},"Team No",null,null,"Rink No",{"$nulls":3},"Team No",null,null,"Rink No",null,null,"Team No",null,null,"Rink No",{"$nulls":3},"Team No",null,null,"Rink No",{"$nulls":3},"Team No",null,null,"Rink No",null,null,"Team No",null,null,"Rink No",{"$nulls":3},"Team No",null,null,"Rink No",{"$nulls":3},"Team No",null,null,"Rink No",null,null,"Team No",null,null,"Rink No",{"$nulls":3},"Team No",null,null,"Rink No",{"$nulls":3},"Team No",null,null,"Rink No"]
[]
[{"$f":"DRAW!$B$17","v":11},null,null,{"$f":"DRAW!$E$17","v":3},null,null,".",{"$f":"DRAW!$B$17","v":11},null,null,{"$f":"DRAW!$G$17","v":6},null,null,".",{"$f":"DRAW!$B$17","v":11},null,null,{"$f":"DRAW!$I$17","v":1},null,null,{"$f":"DRAW!$B$17","v":11},null,null,{"$f":"DRAW!$K$17","v":4},null,null,".",{"$f":"DRAW!$B$17","v":11},null,null,{"$f":"DRAW!$M$17","v":5},null,null,".",{"$f":"DRAW!$B$17","v":11},null,null,{"$f":"DRAW!$O$17","v":4},null,null,{"$f":"DRAW!$B$17","v":11},null,null,{"$f":"DRAW!$Q$17","v":6},null,null,".",{"$f":"DRAW!$B$17","v":11},null,null,{"$f":"DRAW!$S$17","v":2},null,null,".",{"$f":"DRAW!$B$17","v":11},null,null,{"$f":"DRAW!$U$17","v":4},null,null,{"$f":"DRAW!$B$17","v":11},null,null,{"$f":"DRAW!$W$17","v":1},null,null,".",{"$f":"DRAW!$B$17","v":11},null,null,{"$f":"DRAW!#REF!","v":{"$error":"#REF!"}},null,null,".",{"$f":"DRAW!$B$17","v":11},null,null,{"$f":"DRAW!#REF!","v":{"$error":"#REF!"}},null,null,{"$f":"DRAW!$B$17","v":11},null,null,{"$f":"DRAW!#REF!","v":{"$error":"#REF!"}},null,null,".",{"$f":"DRAW!$B$17","v":11},null,null,{"$f":"DRAW!#REF!","v":{"$error":"#REF!"}},null,null,".",{"$f":"DRAW!$B$17","v":11},null,null,{"$f":"DRAW!#REF!","v":{"$error":"#REF!"}},null,null,{"$f":"DRAW!$B$17","v":11},null,null,{"$f":"DRAW!#REF!","v":{"$error":"#REF!"}},null,null,".",{"$f":"DRAW!$B$17","v":11},null,null,{"$f":"DRAW!#REF!","v":{"$error":"#REF!"}},null,null,".",{"$f":"DRAW!$B$17","v":11},null,null,{"$f":"DRAW!#REF!","v":{"$error":"#REF!"}},null,null,{"$f":"DRAW!$B$17","v":11},null,null,{"$f":"DRAW!#REF!","v":{"$error":"#REF!"}},null,null,".",{"$f":"DRAW!$B$17","v":11},null,null,{"$f":"DRAW!#REF!","v":{"$error":"#REF!"}},null,null,".",{"$f":"DRAW!$B$17","v":11},null,null,{"$f":"DRAW!#REF!","v":{"$error":"#REF!"}}]
[null,"Team",{"$f":"DRAW!$B$17","v":11},"V","Team",{"$f":"DRAW!$D$17","v":4},null,null,"Team",{"$f":"DRAW!$B$17","v":11},"V","Team",{"$f":"DRAW!$F$17","v":6},null,null,"Team",{"$f":"DRAW!$B$17","v":11},"V","Team",{"$f":"DRAW!$H$17","v":8},null,"Team",{"$f":"DRAW!$B$17","v":11},"V","Team",{"$f":"DRAW!$J$17","v":10},null,null,"Team",{"$f":"DRAW!$B$17","v":11},"V","Team",{"$f":"DRAW!$L$17","v":12},null,null,"Team",{"$f":"DRAW!$B$17","v":11},"V","Team",{"$f":"DRAW!$N$17","v":3},null,"Team",{"$f":"DRAW!$B$17","v":11},"V","Team",{"$f":"DRAW!$P$17","v":5},null,null,"Team",{"$f":"DRAW!$B$17","v":11},"V","Team",{"$f":"DRAW!$R$17","v":7},null,null,"Team",{"$f":"DRAW!$B$17","v":11},"V","Team",{"$f":"DRAW!$T$17","v":9},null,"Team",{"$f":"DRAW!$B$17","v":11},"V","Team",{"$f":"DRAW!$V$17","v":1},null,null,"Team",{"$f":"DRAW!$B$17","v":11},"V","Team",{"$f":"DRAW!#REF!","v":{"$error":"#REF!"}},null,null,"Team",{"$f":"DRAW!$B$17","v":11},"V","Team",{"$f":"DRAW!#REF!","v":{"$error":"#REF!"}},null,"Team",{"$f":"DRAW!$B$17","v":11},"V","Team",{"$f":"DRAW!#REF!","v":{"$error":"#REF!"}},null,null,"Team",{"$f":"DRAW!$B$17","v":11},"V","Team",{"$f":"DRAW!#REF!","v":{"$error":"#REF!"}},null,null,"Team",{"$f":"DRAW!$B$17","v":11},"V","Team",{"$f":"DRAW!#REF!","v":{"$error":"#REF!"}},null,"Team",{"$f":"DRAW!$B$17","v":11},"V","Team",{"$f":"DRAW!#REF!","v":{"$error":"#REF!"}},null,null,"Team",{"$f":"DRAW!$B$17","v":11},"V","Team",{"$f":"DRAW!#REF!","v":{"$error":"#REF!"}},null,null,"Team",{"$f":"DRAW!$B$17","v":11},"V","Team",{"$f":"DRAW!#REF!","v":{"$error":"#REF!"}},null,"Team",{"$f":"DRAW!$B$17","v":11},"V","Team",{"$f":"DRAW!#REF!","v":{"$error":"#REF!"}},null,null,"Team",{"$f":"DRAW!$B$17","v":11},"V","Team",{"$f":"DRAW!#REF!","v":{"$error":"#REF!"}},null,null,"Team",{"$f":"DRAW!$B$17","v":11},"V","Team",{"$f":"DRAW!#REF!","v":{"$error":"#REF!"}}]
["Ends","Shots","Total",null,"Shots","Total",null,"Ends","Shots","Total",null,"Shots","Total",null,"Ends","Shots","Total",null,"Shots","Total","Ends","Shots","Total",null,"Shots","Total",null,"Ends","Shots","Total",null,"Shots","Total",null,"Ends","Shots","Total",null,"Shots","Total","Ends","Shots","Total",null,"Shots","Total",null,"Ends","Shots","Total",null,"Shots","Total",null,"Ends","Shots","Total",null,"Shots","Total","Ends","Shots","Total",null,"Shots","Total",null,"Ends","Shots","Total",null,"Shots","Total",null,"Ends","Shots","Total",null,"Shots","Total","Ends","Shots","Total",null,"Shots","Total",null,"Ends","Shots","Total",null,"Shots","Total",null,"Ends","Shots","Total",null,"Shots","Total","Ends","Shots","Total",null,"Shots","Total",null,"Ends","Shots","Total",null,"Shots","Total",null,"Ends","Shots","Total",null,"Shots","Total","Ends","Shots","Total",null,"Shots","Total",null,"Ends","Shots","Total",null,"Shots","Total",null,"Ends","Shots","Total",null,"Shots","Total"]
[1,{"$nulls":5},".",1,{"$nulls":5},".",1,{"$nulls":5},1,{"$nulls":5},".",1,{"$nulls":5},".",1,{"$nulls":5},1,{"$nulls":5},".",1,{"$nulls":5},".",1,{"$nulls":5},1,{"$nulls":5},".",1,{"$nulls":5},".",1,{"$nulls":5},1,{"$nulls":5},".",1,{"$nulls":5},".",1,{"$nulls":5},1,{"$nulls":5},".",1,{"$nulls":5},".",1,{"$nulls":5},1,{"$nulls":5},".",1,{"$nulls":5},".",1]
[2,{"$nulls":6},2,{"$nulls":6},2,{"$nulls":5},2,{"$nulls":6},2,{"$nulls":6},2,{"$nulls":5},2,{"$nulls":6},2,{"$nulls":6},2,{"$nulls":5},2,{"$nulls":6},2,{"$nulls":6},2,{"$nulls":5},2,{"$nulls":6},2,{"$nulls":6},2,{"$nulls":5},2,{"$nulls":6},2,{"$nulls":6},2,{"$nulls":5},2,{"$nulls":6},2,{"$nulls":6},2]
[3,{"$nulls":6},3,{"$nulls":6},3,{"$nulls":5},3,{"$nulls":6},3,{"$nulls":6},3,{"$nulls":5},3,{"$nulls":6},3,{"$nulls":6},3,{"$nulls":5},3,{"$nulls":6},3,{"$nulls":6},3,{"$nulls":5},3,{"$nulls":6},3,{"$nulls":6},3,{"$nulls":5},3,{"$nulls":6},3,{"$nulls":6},3,{"$nulls":5},3,{"$nulls":6},3,{"$nulls":6},3]
[4,{"$nulls":6},4,{"$nulls":6},4,{"$nulls":5},4,{"$nulls":6},4,{"$nulls":6},4,{"$nulls":5},4,{"$nulls":6},4,{"$nulls":6},4,{"$nulls":5},4,{"$nulls":6},4,{"$nulls":6},4,{"$nulls":5},4,{"$nulls":6},4,{"$nulls":6},4,{"$nulls":5},4,{"$nulls":6},4,{"$nulls":6},4,{"$nulls":5},4,{"$nulls":6},4,{"$nulls":6},4]
[5,{"$nulls":5},".",5,{"$nulls":5},".",5,{"$nulls":5},5,{"$nulls":5},".",5,{"$nulls":5},".",5,{"$nulls":5},5,{"$nulls":5},".",5,{"$nulls":5},".",5,{"$nulls":5},5,{"$nulls":5},".",5,{"$nulls":5},".",5,{"$nulls":5},5,{"$nulls":5},".",5,{"$nulls":5},".",5,{"$nulls":5},5,{"$nulls":5},".",5,{"$nulls":5},".",5,{"$nulls":5},5,{"$nulls":5},".",5,{"$nulls":5},".",5]
[6,{"$nulls":6},6,{"$nulls":6},6,{"$nulls":5},6,{"$nulls":6},6,{"$nulls":6},6,{"$nulls":5},6,{"$nulls":6},6,{"$nulls":6},6,{"$nulls":5},6,{"$nulls":6},6,{"$nulls":6},6,{"$nulls":5},6,{"$nulls":6},6,{"$nulls":6},6,{"$nulls":5},6,{"$nulls":6},6,{"$nulls":6},6,{"$nulls":5},6,{"$nulls":6},6,{"$nulls":6},6]
[7,{"$nulls":6},7,{"$nulls":6},7,{"$nulls":5},7,{"$nulls":6},7,{"$nulls":6},7,{"$nulls":5},7,{"$nulls":6},7,{"$nulls":6},7,{"$nulls":5},7,{"$nulls":6},7,{"$nulls":6},7,{"$nulls":5},7,{"$nulls":6},7,{"$nulls":6},7,{"$nulls":5},7,{"$nulls":6},7,{"$nulls":6},7,{"$nulls":5},7,{"$nulls":6},7,{"$nulls":6},7]
[8,{"$nulls":6},8,{"$nulls":6},8,{"$nulls":5},8,{"$nulls":6},8,{"$nulls":6},8,{"$nulls":5},8,{"$nulls":6},8,{"$nulls":6},8,{"$nulls":5},8,{"$nulls":6},8,{"$nulls":6},8,{"$nulls":5},8,{"$nulls":6},8,{"$nulls":6},8,{"$nulls":5},8,{"$nulls":6},8,{"$nulls":6},8,{"$nulls":5},8,{"$nulls":6},8,{"$nulls":6},8]
[9,{"$nulls":5},".",9,{"$nulls":5},".",9,{"$nulls":5},9,{"$nulls":5},".",9,{"$nulls":5},".",9,{"$nulls":5},9,{"$nulls":5},".",9,{"$nulls":5},".",9,{"$nulls":5},9,{"$nulls":5},".",9,{"$nulls":5},".",9,{"$nulls":5},9,{"$nulls":5},".",9,{"$nulls":5},".",9,{"$nulls":5},9,{"$nulls":5},".",9,{"$nulls":5},".",9,{"$nulls":5},9,{"$nulls":5},".",9,{"$nulls":5},".",9]
[10,{"$nulls":6},10,{"$nulls":6},10,{"$nulls":5},10,{"$nulls":6},10,{"$nulls":6},10,{"$nulls":5},10,{"$nulls":6},10,{"$nulls":6},10,{"$nulls":5},10,{"$nulls":6},10,{"$nulls":6},10,{"$nulls":5},10,{"$nulls":6},10,{"$nulls":6},10,{"$nulls":5},10,{"$nulls":6},10,{"$nulls":6},10,{"$nulls":5},10,{"$nulls":6},10,{"$nulls":6},10]
[11,{"$nulls":6},11,{"$nulls":6},11,{"$nulls":5},11,{"$nulls":6},11,{"$nulls":6},11,{"$nulls":5},11,{"$nulls":6},11,{"$nulls":6},11,{"$nulls":5},11,{"$nulls":6},11,{"$nulls":6},11,{"$nulls":5},11,{"$nulls":6},11,{"$nulls":6},11,{"$nulls":5},11,{"$nulls":6},11,{"$nulls":6},11,{"$nulls":5},11,{"$nulls":6},11,{"$nulls":6},11]
[12,{"$nulls":6},12,{"$nulls":6},12,{"$nulls":5},12,{"$nulls":6},12,{"$nulls":6},12,{"$nulls":5},12,{"$nulls":6},12,{"$nulls":6},12,{"$nulls":5},12,{"$nulls":6},12,{"$nulls":6},12,{"$nulls":5},12,{"$nulls":6},12,{"$nulls":6},12,{"$nulls":5},12,{"$nulls":6},12,{"$nulls":6},12,{"$nulls":5},12,{"$nulls":6},12,{"$nulls":6},12]
[13,{"$nulls":5},".",13,{"$nulls":5},".",13,{"$nulls":5},13,{"$nulls":5},".",13,{"$nulls":5},".",13,{"$nulls":5},13,{"$nulls":5},".",13,{"$nulls":5},".",13,{"$nulls":5},13,{"$nulls":5},".",13,{"$nulls":5},".",13,{"$nulls":5},13,{"$nulls":5},".",13,{"$nulls":5},".",13,{"$nulls":5},13,{"$nulls":5},".",13,{"$nulls":5},".",13,{"$nulls":5},13,{"$nulls":5},".",13,{"$nulls":5},".",13]
[14,{"$nulls":6},14,{"$nulls":6},14,{"$nulls":5},14,{"$nulls":6},14,{"$nulls":6},14,{"$nulls":5},14,{"$nulls":6},14,{"$nulls":6},14,{"$nulls":5},14,{"$nulls":6},14,{"$nulls":6},14,{"$nulls":5},14,{"$nulls":6},14,{"$nulls":6},14,{"$nulls":5},14,{"$nulls":6},14,{"$nulls":6},14,{"$nulls":5},14,{"$nulls":6},14,{"$nulls":6},14]
[15,{"$nulls":6},15,{"$nulls":6},15,{"$nulls":5},15,{"$nulls":6},15,{"$nulls":6},15,{"$nulls":5},15,{"$nulls":6},15,{"$nulls":6},15,{"$nulls":5},15,{"$nulls":6},15,{"$nulls":6},15,{"$nulls":5},15,{"$nulls":6},15,{"$nulls":6},15,{"$nulls":5},15,{"$nulls":6},15,{"$nulls":6},15,{"$nulls":5},15,{"$nulls":6},15,{"$nulls":6},15]
[16,{"$nulls":6},16,{"$nulls":6},16,{"$nulls":5},16,{"$nulls":6},16,{"$nulls":6},16,{"$nulls":5},16,{"$nulls":6},16,{"$nulls":6},16,{"$nulls":5},16,{"$nulls":6},16,{"$nulls":6},16,{"$nulls":5},16,{"$nulls":6},16,{"$nulls":6},16,{"$nulls":5},16,{"$nulls":6},16,{"$nulls":6},16,{"$nulls":5},16,{"$nulls":6},16,{"$nulls":6},16]
[17,{"$nulls":5},".",17,{"$nulls":5},".",17,{"$nulls":5},17,{"$nulls":5},".",17,{"$nulls":5},".",17,{"$nulls":5},17,{"$nulls":5},".",17,{"$nulls":5},".",17,{"$nulls":5},17,{"$nulls":5},".",17,{"$nulls":5},".",17,{"$nulls":5},17,{"$nulls":5},".",17,{"$nulls":5},".",17,{"$nulls":5},17,{"$nulls":5},".",17,{"$nulls":5},".",17,{"$nulls":5},17,{"$nulls":5},".",17,{"$nulls":5},".",17]
[18,{"$nulls":6},18,{"$nulls":6},18,{"$nulls":5},18,{"$nulls":6},18,{"$nulls":6},18,{"$nulls":5},18,{"$nulls":6},18,{"$nulls":6},18,{"$nulls":5},18,{"$nulls":6},18,{"$nulls":6},18,{"$nulls":5},18,{"$nulls":6},18,{"$nulls":6},18,{"$nulls":5},18,{"$nulls":6},18,{"$nulls":6},18,{"$nulls":5},18,{"$nulls":6},18,{"$nulls":6},18]
["Total","Shots",null,null,"Shots",null,null,"Total","Shots",null,null,"Shots",null,null,"Total","Shots",null,null,"Shots",null,"Total","Shots",null,null,"Shots",null,null,"Total","Shots",null,null,"Shots",null,null,"Total","Shots",null,null,"Shots",null,"Total","Shots",null,null,"Shots",null,null,"Total","Shots",null,null,"shots",null,null,"Total","Shots",null,null,"shots",null,"Total","Shots",null,null,"Shots",null,null,"Total","Shots",null,null,"shots",null,null,"Total","Shots",null,null,"shots",null,"Total","Shots",null,null,"Shots",null,null,"Total","Shots",null,null,"Shots",null,null,"Total","Shots",null,null,"Shots",null,"Total","Shots",null,null,"Shots",null,null,"Total","Shots",null,null,"shots",null,null,"Total","Shots",null,null,"shots",null,"Total","Shots",null,null,"shots",null,null,"Total","Shots",null,null,"shots",null,null,"Total","Shots",null,null,"shots"]
[null,"Ends",null,null,"Ends",null,".",null,"Ends",null,null,"Ends",null,".",null,"Ends",null,null,"Ends",null,null,"Ends",null,null,"Ends",null,".",null,"Ends",null,null,"Ends",null,".",null,"Ends",null,null,"Ends",null,null,"Ends",null,null,"Ends",null,".",null,"Ends",null,null,"Ends",null,".",null,"Ends",null,null,"Ends",null,null,"Ends",null,null,"Ends",null,".",null,"Ends",null,null,"Ends",null,".",null,"Ends",null,null,"Ends",null,null,"Ends",null,null,"Ends",null,".",null,"Ends",null,null,"Ends",null,".",null,"Ends",null,null,"Ends",null,null,"Ends",null,null,"Ends",null,".",null,"Ends",null,null,"Ends",null,".",null,"Ends",null,null,"Ends",null,null,"Ends",null,null,"Ends",null,".",null,"Ends",null,null,"Ends",null,".",null,"Ends",null,null,"Ends"]
[]
[]
["1st Game ",{"$nulls":5},".","2nd Game ",{"$nulls":5},".","3nd Game",{"$nulls":5},"4th Game",{"$nulls":5},".","5th Game",{"$nulls":5},".","6th Game",{"$nulls":5},"7th Game",{"$nulls":5},".","8th Game",{"$nulls":5},".","9th Game",{"$nulls":5},"10th Game",{"$nulls":5},".","11th Game",{"$nulls":5},".","12th Game ",{"$nulls":5},"13th Game",{"$nulls":5},".","14th Game",{"$nulls":5},".","15th Game",{"$nulls":5},"16th Game",{"$nulls":5},".","17th Game",{"$nulls":5},".","18th Game",{"$nulls":5},"19th Game",{"$nulls":5},".","20th Game",{"$nulls":5},".","9th Game "]
["Team No",null,null,"Rink No",{"$nulls":3},"Team No",null,null,"Rink No",{"$nulls":3},"Team No",null,null,"Rink No",null,null,"Team No",null,null,"Rink No",{"$nulls":3},"Team No",null,null,"Rink No",{"$nulls":3},"Team No",null,null,"Rink No",null,null,"Team No",null,null,"Rink No",{"$nulls":3},"Team No",null,null,"Rink No",{"$nulls":3},"Team No",null,null,"Rink No",null,null,"Team No",null,null,"Rink No",{"$nulls":3},"Team No",null,null,"Rink No",{"$nulls":3},"Team No",null,null,"Rink No",null,null,"Team No",null,null,"Rink No",{"$nulls":3},"Team No",null,null,"Rink No",{"$nulls":3},"Team No",null,null,"Rink No",null,null,"Team No",null,null,"Rink No",{"$nulls":3},"Team No",null,null,"Rink No",{"$nulls":3},"Team No",null,null,"Rink No",null,null,"Team No",null,null,"Rink No",{"$nulls":3},"Team No",null,null,"Rink No",{"$nulls":3},"Team No",null,null,"Rink No"]
[]
[{"$f":"DRAW!$B$18","v":12},null,null,{"$f":"DRAW!$E$18","v":2},null,null,".",{"$f":"DRAW!$B$18","v":12},null,null,{"$f":"DRAW!$G$18","v":1},null,null,".",{"$f":"DRAW!$B$18","v":12},null,null,{"$f":"DRAW!$I$18","v":4},null,null,{"$f":"DRAW!$B$18","v":12},null,null,{"$f":"DRAW!$K$18","v":3},null,null,".",{"$f":"DRAW!$B$18","v":12},null,null,{"$f":"DRAW!$M$18","v":5},null,null,".",{"$f":"DRAW!$B$18","v":12},null,null,{"$f":"DRAW!$O$18","v":6},null,null,{"$f":"DRAW!$B$18","v":12},null,null,{"$f":"DRAW!$Q$18","v":5},null,null,".",{"$f":"DRAW!$B$18","v":12},null,null,{"$f":"DRAW!$S$18","v":1},null,null,".",{"$f":"DRAW!$B$18","v":12},null,null,{"$f":"DRAW!$U$18","v":2},null,null,{"$f":"DRAW!$B$18","v":12},null,null,{"$f":"DRAW!$W$18","v":4},null,null,".",{"$f":"DRAW!$B$18","v":12},null,null,{"$f":"DRAW!#REF!","v":{"$error":"#REF!"}},null,null,".",{"$f":"DRAW!$B$18","v":12},null,null,{"$f":"DRAW!#REF!","v":{"$error":"#REF!"}},null,null,{"$f":"DRAW!$B$18","v":12},null,null,{"$f":"DRAW!#REF!","v":{"$error":"#REF!"}},null,null,".",{"$f":"DRAW!$B$18","v":12},null,null,{"$f":"DRAW!#REF!","v":{"$error":"#REF!"}},null,null,".",{"$f":"DRAW!$B$18","v":12},null,null,{"$f":"DRAW!#REF!","v":{"$error":"#REF!"}},null,null,{"$f":"DRAW!$B$18","v":12},null,null,{"$f":"DRAW!#REF!","v":{"$error":"#REF!"}},null,null,".",{"$f":"DRAW!$B$18","v":12},null,null,{"$f":"DRAW!#REF!","v":{"$error":"#REF!"}},null,null,".",{"$f":"DRAW!$B$18","v":12},null,null,{"$f":"DRAW!#REF!","v":{"$error":"#REF!"}},null,null,{"$f":"DRAW!$B$18","v":12},null,null,{"$f":"DRAW!#REF!","v":{"$error":"#REF!"}},null,null,".",{"$f":"DRAW!$B$18","v":12},null,null,{"$f":"DRAW!#REF!","v":{"$error":"#REF!"}},null,null,".",{"$f":"DRAW!$B$18","v":12},null,null,{"$f":"DRAW!#REF!","v":{"$error":"#REF!"}}]
[null,"Team",{"$f":"DRAW!$B$18","v":12},"V","Team",{"$f":"DRAW!$D$18","v":3},null,null,"Team",{"$f":"DRAW!$B$18","v":12},"V","Team",{"$f":"DRAW!$F$18","v":5},null,null,"Team",{"$f":"DRAW!$B$18","v":12},"V","Team",{"$f":"DRAW!$H$18","v":7},null,"Team",{"$f":"DRAW!$B$18","v":12},"V","Team",{"$f":"DRAW!$J$18","v":9},null,null,"Team",{"$f":"DRAW!$B$18","v":12},"V","Team",{"$f":"DRAW!$L$18","v":11},null,null,"Team",{"$f":"DRAW!$B$18","v":12},"V","Team",{"$f":"DRAW!$N$18","v":2},null,"Team",{"$f":"DRAW!$B$18","v":12},"V","Team",{"$f":"DRAW!$P$18","v":4},null,null,"Team",{"$f":"DRAW!$B$18","v":12},"V","Team",{"$f":"DRAW!$R$18","v":6},null,null,"Team",{"$f":"DRAW!$B$18","v":12},"V","Team",{"$f":"DRAW!$T$18","v":8},null,"Team",{"$f":"DRAW!$B$18","v":12},"V","Team",{"$f":"DRAW!$V$18","v":10},null,null,"Team",{"$f":"DRAW!$B$18","v":12},"V","Team",{"$f":"DRAW!#REF!","v":{"$error":"#REF!"}},null,null,"Team",{"$f":"DRAW!$B$18","v":12},"V","Team",{"$f":"DRAW!#REF!","v":{"$error":"#REF!"}},null,"Team",{"$f":"DRAW!$B$18","v":12},"V","Team",{"$f":"DRAW!#REF!","v":{"$error":"#REF!"}},null,null,"Team",{"$f":"DRAW!$B$18","v":12},"V","Team",{"$f":"DRAW!#REF!","v":{"$error":"#REF!"}},null,null,"Team",{"$f":"DRAW!$B$18","v":12},"V","Team",{"$f":"DRAW!#REF!","v":{"$error":"#REF!"}},null,"Team",{"$f":"DRAW!$B$18","v":12},"V","Team",{"$f":"DRAW!#REF!","v":{"$error":"#REF!"}},null,null,"Team",{"$f":"DRAW!$B$18","v":12},"V","Team",{"$f":"DRAW!#REF!","v":{"$error":"#REF!"}},null,null,"Team",{"$f":"DRAW!$B$18","v":12},"V","Team",{"$f":"DRAW!#REF!","v":{"$error":"#REF!"}},null,"Team",{"$f":"DRAW!$B$18","v":12},"V","Team",{"$f":"DRAW!#REF!","v":{"$error":"#REF!"}},null,null,"Team",{"$f":"DRAW!$B$18","v":12},"V","Team",{"$f":"DRAW!#REF!","v":{"$error":"#REF!"}},null,null,"Team",{"$f":"DRAW!$B$18","v":12},"V","Team",{"$f":"DRAW!#REF!","v":{"$error":"#REF!"}}]
["Ends","Shots","Total",null,"Shots","Total",null,"Ends","Shots","Total",null,"Shots","Total",null,"Ends","Shots","Total",null,"Shots","Total","Ends","Shots","Total",null,"Shots","Total",null,"Ends","Shots","Total",null,"Shots","Total",null,"Ends","Shots","Total",null,"Shots","Total","Ends","Shots","Total",null,"Shots","Total",null,"Ends","Shots","Total",null,"Shots","Total",null,"Ends","Shots","Total",null,"Shots","Total","Ends","Shots","Total",null,"Shots","Total",null,"Ends","Shots","Total",null,"Shots","Total",null,"Ends","Shots","Total",null,"Shots","Total","Ends","Shots","Total",null,"Shots","Total",null,"Ends","Shots","Total",null,"Shots","Total",null,"Ends","Shots","Total",null,"Shots","Total","Ends","Shots","Total",null,"Shots","Total",null,"Ends","Shots","Total",null,"Shots","Total",null,"Ends","Shots","Total",null,"Shots","Total","Ends","Shots","Total",null,"Shots","Total",null,"Ends","Shots","Total",null,"Shots","Total",null,"Ends","Shots","Total",null,"Shots","Total"]
[1,{"$nulls":5},".",1,{"$nulls":5},".",1,{"$nulls":5},1,{"$nulls":5},".",1,{"$nulls":5},".",1,{"$nulls":5},1,{"$nulls":5},".",1,{"$nulls":5},".",1,{"$nulls":5},1,{"$nulls":5},".",1,{"$nulls":5},".",1,{"$nulls":5},1,{"$nulls":5},".",1,{"$nulls":5},".",1,{"$nulls":5},1,{"$nulls":5},".",1,{"$nulls":5},".",1,{"$nulls":5},1,{"$nulls":5},".",1,{"$nulls":5},".",1]
[2,{"$nulls":6},2,{"$nulls":6},2,{"$nulls":5},2,{"$nulls":6},2,{"$nulls":6},2,{"$nulls":5},2,{"$nulls":6},2,{"$nulls":6},2,{"$nulls":5},2,{"$nulls":6},2,{"$nulls":6},2,{"$nulls":5},2,{"$nulls":6},2,{"$nulls":6},2,{"$nulls":5},2,{"$nulls":6},2,{"$nulls":6},2,{"$nulls":5},2,{"$nulls":6},2,{"$nulls":6},2]
[3,{"$nulls":6},3,{"$nulls":6},3,{"$nulls":5},3,{"$nulls":6},3,{"$nulls":6},3,{"$nulls":5},3,{"$nulls":6},3,{"$nulls":6},3,{"$nulls":5},3,{"$nulls":6},3,{"$nulls":6},3,{"$nulls":5},3,{"$nulls":6},3,{"$nulls":6},3,{"$nulls":5},3,{"$nulls":6},3,{"$nulls":6},3,{"$nulls":5},3,{"$nulls":6},3,{"$nulls":6},3]
[4,{"$nulls":6},4,{"$nulls":6},4,{"$nulls":5},4,{"$nulls":6},4,{"$nulls":6},4,{"$nulls":5},4,{"$nulls":6},4,{"$nulls":6},4,{"$nulls":5},4,{"$nulls":6},4,{"$nulls":6},4,{"$nulls":5},4,{"$nulls":6},4,{"$nulls":6},4,{"$nulls":5},4,{"$nulls":6},4,{"$nulls":6},4,{"$nulls":5},4,{"$nulls":6},4,{"$nulls":6},4]
[5,{"$nulls":5},".",5,{"$nulls":5},".",5,{"$nulls":5},5,{"$nulls":5},".",5,{"$nulls":5},".",5,{"$nulls":5},5,{"$nulls":5},".",5,{"$nulls":5},".",5,{"$nulls":5},5,{"$nulls":5},".",5,{"$nulls":5},".",5,{"$nulls":5},5,{"$nulls":5},".",5,{"$nulls":5},".",5,{"$nulls":5},5,{"$nulls":5},".",5,{"$nulls":5},".",5,{"$nulls":5},5,{"$nulls":5},".",5,{"$nulls":5},".",5]
[6,{"$nulls":6},6,{"$nulls":6},6,{"$nulls":5},6,{"$nulls":6},6,{"$nulls":6},6,{"$nulls":5},6,{"$nulls":6},6,{"$nulls":6},6,{"$nulls":5},6,{"$nulls":6},6,{"$nulls":6},6,{"$nulls":5},6,{"$nulls":6},6,{"$nulls":6},6,{"$nulls":5},6,{"$nulls":6},6,{"$nulls":6},6,{"$nulls":5},6,{"$nulls":6},6,{"$nulls":6},6]
[7,{"$nulls":6},7,{"$nulls":6},7,{"$nulls":5},7,{"$nulls":6},7,{"$nulls":6},7,{"$nulls":5},7,{"$nulls":6},7,{"$nulls":6},7,{"$nulls":5},7,{"$nulls":6},7,{"$nulls":6},7,{"$nulls":5},7,{"$nulls":6},7,{"$nulls":6},7,{"$nulls":5},7,{"$nulls":6},7,{"$nulls":6},7,{"$nulls":5},7,{"$nulls":6},7,{"$nulls":6},7]
[8,{"$nulls":6},8,{"$nulls":6},8,{"$nulls":5},8,{"$nulls":6},8,{"$nulls":6},8,{"$nulls":5},8,{"$nulls":6},8,{"$nulls":6},8,{"$nulls":5},8,{"$nulls":6},8,{"$nulls":6},8,{"$nulls":5},8,{"$nulls":6},8,{"$nulls":6},8,{"$nulls":5},8,{"$nulls":6},8,{"$nulls":6},8,{"$nulls":5},8,{"$nulls":6},8,{"$nulls":6},8]
[9,{"$nulls":5},".",9,{"$nulls":5},".",9,{"$nulls":5},9,{"$nulls":5},".",9,{"$nulls":5},".",9,{"$nulls":5},9,{"$nulls":5},".",9,{"$nulls":5},".",9,{"$nulls":5},9,{"$nulls":5},".",9,{"$nulls":5},".",9,{"$nulls":5},9,{"$nulls":5},".",9,{"$nulls":5},".",9,{"$nulls":5},9,{"$nulls":5},".",9,{"$nulls":5},".",9,{"$nulls":5},9,{"$nulls":5},".",9,{"$nulls":5},".",9]
[10,{"$nulls":6},10,{"$nulls":6},10,{"$nulls":5},10,{"$nulls":6},10,{"$nulls":6},10,{"$nulls":5},10,{"$nulls":6},10,{"$nulls":6},10,{"$nulls":5},10,{"$nulls":6},10,{"$nulls":6},10,{"$nulls":5},10,{"$nulls":6},10,{"$nulls":6},10,{"$nulls":5},10,{"$nulls":6},10,{"$nulls":6},10,{"$nulls":5},10,{"$nulls":6},10,{"$nulls":6},10]
[11,{"$nulls":6},11,{"$nulls":6},11,{"$nulls":5},11,{"$nulls":6},11,{"$nulls":6},11,{"$nulls":5},11,{"$nulls":6},11,{"$nulls":6},11,{"$nulls":5},11,{"$nulls":6},11,{"$nulls":6},11,{"$nulls":5},11,{"$nulls":6},11,{"$nulls":6},11,{"$nulls":5},11,{"$nulls":6},11,{"$nulls":6},11,{"$nulls":5},11,{"$nulls":6},11,{"$nulls":6},11]
[12,{"$nulls":6},12,{"$nulls":6},12,{"$nulls":5},12,{"$nulls":6},12,{"$nulls":6},12,{"$nulls":5},12,{"$nulls":6},12,{"$nulls":6},12,{"$nulls":5},12,{"$nulls":6},12,{"$nulls":6},12,{"$nulls":5},12,{"$nulls":6},12,{"$nulls":6},12,{"$nulls":5},12,{"$nulls":6},12,{"$nulls":6},12,{"$nulls":5},12,{"$nulls":6},12,{"$nulls":6},12]
[13,{"$nulls":5},".",13,{"$nulls":5},".",13,{"$nulls":5},13,{"$nulls":5},".",13,{"$nulls":5},".",13,{"$nulls":5},13,{"$nulls":5},".",13,{"$nulls":5},".",13,{"$nulls":5},13,{"$nulls":5},".",13,{"$nulls":5},".",13,{"$nulls":5},13,{"$nulls":5},".",13,{"$nulls":5},".",13,{"$nulls":5},13,{"$nulls":5},".",13,{"$nulls":5},".",13,{"$nulls":5},13,{"$nulls":5},".",13,{"$nulls":5},".",13]
[14,{"$nulls":6},14,{"$nulls":6},14,{"$nulls":5},14,{"$nulls":6},14,{"$nulls":6},14,{"$nulls":5},14,{"$nulls":6},14,{"$nulls":6},14,{"$nulls":5},14,{"$nulls":6},14,{"$nulls":6},14,{"$nulls":5},14,{"$nulls":6},14,{"$nulls":6},14,{"$nulls":5},14,{"$nulls":6},14,{"$nulls":6},14,{"$nulls":5},14,{"$nulls":6},14,{"$nulls":6},14]
[15,{"$nulls":6},15,{"$nulls":6},15,{"$nulls":5},15,{"$nulls":6},15,{"$nulls":6},15,{"$nulls":5},15,{"$nulls":6},15,{"$nulls":6},15,{"$nulls":5},15,{"$nulls":6},15,{"$nulls":6},15,{"$nulls":5},15,{"$nulls":6},15,{"$nulls":6},15,{"$nulls":5},15,{"$nulls":6},15,{"$nulls":6},15,{"$nulls":5},15,{"$nulls":6},15,{"$nulls":6},15]
[16,{"$nulls":6},16,{"$nulls":6},16,{"$nulls":5},16,{"$nulls":6},16,{"$nulls":6},16,{"$nulls":5},16,{"$nulls":6},16,{"$nulls":6},16,{"$nulls":5},16,{"$nulls":6},16,{"$nulls":6},16,{"$nulls":5},16,{"$nulls":6},16,{"$nulls":6},16,{"$nulls":5},16,{"$nulls":6},16,{"$nulls":6},16,{"$nulls":5},16,{"$nulls":6},16,{"$nulls":6},16]
[17,{"$nulls":5},".",17,{"$nulls":5},".",17,{"$nulls":5},17,{"$nulls":5},".",17,{"$nulls":5},".",17,{"$nulls":5},17,{"$nulls":5},".",17,{"$nulls":5},".",17,{"$nulls":5},17,{"$nulls":5},".",17,{"$nulls":5},".",17,{"$nulls":5},17,{"$nulls":5},".",17,{"$nulls":5},".",17,{"$nulls":5},17,{"$nulls":5},".",17,{"$nulls":5},".",17,{"$nulls":5},17,{"$nulls":5},".",17,{"$nulls":5},".",17]
[18,{"$nulls":6},18,{"$nulls":6},18,{"$nulls":5},18,{"$nulls":6},18,{"$nulls":6},18,{"$nulls":5},18,{"$nulls":6},18,{"$nulls":6},18,{"$nulls":5},18,{"$nulls":6},18,{"$nulls":6},18,{"$nulls":5},18,{"$nulls":6},18,{"$nulls":6},18,{"$nulls":5},18,{"$nulls":6},18,{"$nulls":6},18,{"$nulls":5},18,{"$nulls":6},18,{"$nulls":6},18]
["Total","Shots",null,null,"Shots",null,null,"Total","Shots",null,null,"Shots",null,null,"Total","Shots",null,null,"Shots",null,"Total","Shots",null,null,"Shots",null,null,"Total","Shots",null,null,"Shots",null,null,"Total","Shots",null,null,"Shots",null,"Total","Shots",null,null,"Shots",null,null,"Total","Shots",null,null,"shots",null,null,"Total","Shots",null,null,"shots",null,"Total","Shots",null,null,"Shots",null,null,"Total","Shots",null,null,"shots",null,null,"Total","Shots",null,null,"shots",null,"Total","Shots",null,null,"Shots",null,null,"Total","Shots",null,null,"Shots",null,null,"Total","Shots",null,null,"Shots",null,"Total","Shots",null,null,"Shots",null,null,"Total","Shots",null,null,"shots",null,null,"Total","Shots",null,null,"shots",null,"Total","Shots",null,null,"shots",null,null,"Total","Shots",null,null,"shots",null,null,"Total","Shots",null,null,"shots"]
[null,"Ends",null,null,"Ends",null,".",null,"Ends",null,null,"Ends",null,".",null,"Ends",null,null,"Ends",null,null,"Ends",null,null,"Ends",null,".",null,"Ends",null,null,"Ends",null,".",null,"Ends",null,null,"Ends",null,null,"Ends",null,null,"Ends",null,".",null,"Ends",null,null,"Ends",null,".",null,"Ends",null,null,"Ends",null,null,"Ends",null,null,"Ends",null,".",null,"Ends",null,null,"Ends",null,".",null,"Ends",null,null,"Ends",null,null,"Ends",null,null,"Ends",null,".",null,"Ends",null,null,"Ends",null,".",null,"Ends",null,null,"Ends",null,null,"Ends",null,null,"Ends",null,".",null,"Ends",null,null,"Ends",null,".",null,"Ends",null,null,"Ends",null,null,"Ends",null,null,"Ends",null,".",null,"Ends",null,null,"Ends",null,".",null,"Ends",null,null,"Ends"]
["1st Game ",{"$nulls":5},".","2nd Game ",{"$nulls":5},".","3nd Game",{"$nulls":5},"4th Game",{"$nulls":5},".","5th Game",{"$nulls":5},".","6th Game",{"$nulls":5},"7th Game",{"$nulls":5},".","8th Game",{"$nulls":5},".","9th Game",{"$nulls":5},"10th Game",{"$nulls":5},".","11th Game",{"$nulls":5},".","12th Game ",{"$nulls":5},"13th Game",{"$nulls":5},".","14th Game",{"$nulls":5},".","15th Game",{"$nulls":5},"16th Game",{"$nulls":5},".","17th Game",{"$nulls":5},".","18th Game",{"$nulls":5},"19th Game",{"$nulls":5},".","20th Game",{"$nulls":5},".","9th Game "]
["Team No",null,null,"Rink No",{"$nulls":3},"Team No",null,null,"Rink No",{"$nulls":3},"Team No",null,null,"Rink No",null,null,"Team No",null,null,"Rink No",{"$nulls":3},"Team No",null,null,"Rink No",{"$nulls":3},"Team No",null,null,"Rink No",null,null,"Team No",null,null,"Rink No",{"$nulls":3},"Team No",null,null,"Rink No",{"$nulls":3},"Team No",null,null,"Rink No",null,null,"Team No",null,null,"Rink No",{"$nulls":3},"Team No",null,null,"Rink No",{"$nulls":3},"Team No",null,null,"Rink No",null,null,"Team No",null,null,"Rink No",{"$nulls":3},"Team No",null,null,"Rink No",{"$nulls":3},"Team No",null,null,"Rink No",null,null,"Team No",null,null,"Rink No",{"$nulls":3},"Team No",null,null,"Rink No",{"$nulls":3},"Team No",null,null,"Rink No",null,null,"Team No",null,null,"Rink No",{"$nulls":3},"Team No",null,null,"Rink No",{"$nulls":3},"Team No",null,null,"Rink No"]
[]
[{"$f":"DRAW!#REF!","v":{"$error":"#REF!"}},null,null,{"$f":"DRAW!#REF!","v":{"$error":"#REF!"}},null,null,".",{"$f":"DRAW!#REF!","v":{"$error":"#REF!"}},null,null,{"$f":"DRAW!#REF!","v":{"$error":"#REF!"}},null,null,".",{"$f":"DRAW!#REF!","v":{"$error":"#REF!"}},null,null,{"$f":"DRAW!#REF!","v":{"$error":"#REF!"}},null,null,{"$f":"DRAW!#REF!","v":{"$error":"#REF!"}},null,null,{"$f":"DRAW!#REF!","v":{"$error":"#REF!"}},null,null,".",{"$f":"DRAW!#REF!","v":{"$error":"#REF!"}},null,null,{"$f":"DRAW!#REF!","v":{"$error":"#REF!"}},null,null,".",{"$f":"DRAW!#REF!","v":{"$error":"#REF!"}},null,null,{"$f":"DRAW!#REF!","v":{"$error":"#REF!"}},null,null,{"$f":"DRAW!#REF!","v":{"$error":"#REF!"}},null,null,{"$f":"DRAW!#REF!","v":{"$error":"#REF!"}},null,null,".",{"$f":"DRAW!#REF!","v":{"$error":"#REF!"}},null,null,{"$f":"DRAW!#REF!","v":{"$error":"#REF!"}},null,null,".",{"$f":"DRAW!#REF!","v":{"$error":"#REF!"}},null,null,{"$f":"DRAW!#REF!","v":{"$error":"#REF!"}},null,null,{"$f":"DRAW!#REF!","v":{"$error":"#REF!"}},null,null,{"$f":"DRAW!#REF!","v":{"$error":"#REF!"}},null,null,".",{"$f":"DRAW!#REF!","v":{"$error":"#REF!"}},null,null,{"$f":"DRAW!#REF!","v":{"$error":"#REF!"}},null,null,".",{"$f":"DRAW!#REF!","v":{"$error":"#REF!"}},null,null,{"$f":"DRAW!#REF!","v":{"$error":"#REF!"}},null,null,{"$f":"DRAW!#REF!","v":{"$error":"#REF!"}},null,null,{"$f":"DRAW!#REF!","v":{"$error":"#REF!"}},null,null,".",{"$f":"DRAW!#REF!","v":{"$error":"#REF!"}},null,null,{"$f":"DRAW!#REF!","v":{"$error":"#REF!"}},null,null,".",{"$f":"DRAW!#REF!","v":{"$error":"#REF!"}},null,null,{"$f":"DRAW!#REF!","v":{"$error":"#REF!"}},null,null,{"$f":"DRAW!#REF!","v":{"$error":"#REF!"}},null,null,{"$f":"DRAW!#REF!","v":{"$error":"#REF!"}},null,null,".",{"$f":"DRAW!#REF!","v":{"$error":"#REF!"}},null,null,{"$f":"DRAW!#REF!","v":{"$error":"#REF!"}},null,null,".",{"$f":"DRAW!#REF!","v":{"$error":"#REF!"}},null,null,{"$f":"DRAW!#REF!","v":{"$error":"#REF!"}},null,null,{"$f":"DRAW!#REF!","v":{"$error":"#REF!"}},null,null,{"$f":"DRAW!#REF!","v":{"$error":"#REF!"}},null,null,".",{"$f":"DRAW!#REF!","v":{"$error":"#REF!"}},null,null,{"$f":"DRAW!#REF!","v":{"$error":"#REF!"}},null,null,".",{"$f":"DRAW!#REF!","v":{"$error":"#REF!"}},null,null,{"$f":"DRAW!#REF!","v":{"$error":"#REF!"}}]
[null,"Team",{"$f":"DRAW!#REF!","v":{"$error":"#REF!"}},"V","Team",{"$f":"DRAW!#REF!","v":{"$error":"#REF!"}},null,null,"Team",{"$f":"DRAW!#REF!","v":{"$error":"#REF!"}},"V","Team",{"$f":"DRAW!#REF!","v":{"$error":"#REF!"}},null,null,"Team",{"$f":"DRAW!#REF!","v":{"$error":"#REF!"}},"V","Team",{"$f":"DRAW!#REF!","v":{"$error":"#REF!"}},null,"Team",{"$f":"DRAW!#REF!","v":{"$error":"#REF!"}},"V","Team",{"$f":"DRAW!#REF!","v":{"$error":"#REF!"}},null,null,"Team",{"$f":"DRAW!#REF!","v":{"$error":"#REF!"}},"V","Team",{"$f":"DRAW!#REF!","v":{"$error":"#REF!"}},null,null,"Team",{"$f":"DRAW!#REF!","v":{"$error":"#REF!"}},"V","Team",{"$f":"DRAW!#REF!","v":{"$error":"#REF!"}},null,"Team",{"$f":"DRAW!#REF!","v":{"$error":"#REF!"}},"V","Team",{"$f":"DRAW!#REF!","v":{"$error":"#REF!"}},null,null,"Team",{"$f":"DRAW!#REF!","v":{"$error":"#REF!"}},"V","Team",{"$f":"DRAW!#REF!","v":{"$error":"#REF!"}},null,null,"Team",{"$f":"DRAW!#REF!","v":{"$error":"#REF!"}},"V","Team",{"$f":"DRAW!#REF!","v":{"$error":"#REF!"}},null,"Team",{"$f":"DRAW!#REF!","v":{"$error":"#REF!"}},"V","Team",{"$f":"DRAW!#REF!","v":{"$error":"#REF!"}},null,null,"Team",{"$f":"DRAW!#REF!","v":{"$error":"#REF!"}},"V","Team",{"$f":"DRAW!#REF!","v":{"$error":"#REF!"}},null,null,"Team",{"$f":"DRAW!#REF!","v":{"$error":"#REF!"}},"V","Team",{"$f":"DRAW!#REF!","v":{"$error":"#REF!"}},null,"Team",{"$f":"DRAW!#REF!","v":{"$error":"#REF!"}},"V","Team",{"$f":"DRAW!#REF!","v":{"$error":"#REF!"}},null,null,"Team",{"$f":"DRAW!#REF!","v":{"$error":"#REF!"}},"V","Team",{"$f":"DRAW!#REF!","v":{"$error":"#REF!"}},null,null,"Team",{"$f":"DRAW!#REF!","v":{"$error":"#REF!"}},"V","Team",{"$f":"DRAW!#REF!","v":{"$error":"#REF!"}},null,"Team",{"$f":"DRAW!#REF!","v":{"$error":"#REF!"}},"V","Team",{"$f":"DRAW!#REF!","v":{"$error":"#REF!"}},null,null,"Team",{"$f":"DRAW!#REF!","v":{"$error":"#REF!"}},"V","Team",{"$f":"DRAW!#REF!","v":{"$error":"#REF!"}},null,null,"Team",{"$f":"DRAW!#REF!","v":{"$error":"#REF!"}},"V","Team",{"$f":"DRAW!#REF!","v":{"$error":"#REF!"}},null,"Team",{"$f":"DRAW!#REF!","v":{"$error":"#REF!"}},"V","Team",{"$f":"DRAW!#REF!","v":{"$error":"#REF!"}},null,null,"Team",{"$f":"DRAW!#REF!","v":{"$error":"#REF!"}},"V","Team",{"$f":"DRAW!#REF!","v":{"$error":"#REF!"}},null,null,"Team",{"$f":"DRAW!#REF!","v":{"$error":"#REF!"}},"V","Team",{"$f":"DRAW!#REF!","v":{"$error":"#REF!"}}]
["Ends","Shots","Total",null,"Shots","Total",null,"Ends","Shots","Total",null,"Shots","Total",null,"Ends","Shots","Total",null,"Shots","Total","Ends","Shots","Total",null,"Shots","Total",null,"Ends","Shots","Total",null,"Shots","Total",null,"Ends","Shots","Total",null,"Shots","Total","Ends","Shots","Total",null,"Shots","Total",null,"Ends","Shots","Total",null,"Shots","Total",null,"Ends","Shots","Total",null,"Shots","Total","Ends","Shots","Total",null,"Shots","Total",null,"Ends","Shots","Total",null,"Shots","Total",null,"Ends","Shots","Total",null,"Shots","Total","Ends","Shots","Total",null,"Shots","Total",null,"Ends","Shots","Total",null,"Shots","Total",null,"Ends","Shots","Total",null,"Shots","Total","Ends","Shots","Total",null,"Shots","Total",null,"Ends","Shots","Total",null,"Shots","Total",null,"Ends","Shots","Total",null,"Shots","Total","Ends","Shots","Total",null,"Shots","Total",null,"Ends","Shots","Total",null,"Shots","Total",null,"Ends","Shots","Total",null,"Shots","Total"]
[1,{"$nulls":5},".",1,{"$nulls":5},".",1,{"$nulls":5},1,{"$nulls":5},".",1,{"$nulls":5},".",1,{"$nulls":5},1,{"$nulls":5},".",1,{"$nulls":5},".",1,{"$nulls":5},1,{"$nulls":5},".",1,{"$nulls":5},".",1,{"$nulls":5},1,{"$nulls":5},".",1,{"$nulls":5},".",1,{"$nulls":5},1,{"$nulls":5},".",1,{"$nulls":5},".",1,{"$nulls":5},1,{"$nulls":5},".",1,{"$nulls":5},".",1]
[2,{"$nulls":6},2,{"$nulls":6},2,{"$nulls":5},2,{"$nulls":6},2,{"$nulls":6},2,{"$nulls":5},2,{"$nulls":6},2,{"$nulls":6},2,{"$nulls":5},2,{"$nulls":6},2,{"$nulls":6},2,{"$nulls":5},2,{"$nulls":6},2,{"$nulls":6},2,{"$nulls":5},2,{"$nulls":6},2,{"$nulls":6},2,{"$nulls":5},2,{"$nulls":6},2,{"$nulls":6},2]
[3,{"$nulls":6},3,{"$nulls":6},3,{"$nulls":5},3,{"$nulls":6},3,{"$nulls":6},3,{"$nulls":5},3,{"$nulls":6},3,{"$nulls":6},3,{"$nulls":5},3,{"$nulls":6},3,{"$nulls":6},3,{"$nulls":5},3,{"$nulls":6},3,{"$nulls":6},3,{"$nulls":5},3,{"$nulls":6},3,{"$nulls":6},3,{"$nulls":5},3,{"$nulls":6},3,{"$nulls":6},3]
[4,{"$nulls":6},4,{"$nulls":6},4,{"$nulls":5},4,{"$nulls":6},4,{"$nulls":6},4,{"$nulls":5},4,{"$nulls":6},4,{"$nulls":6},4,{"$nulls":5},4,{"$nulls":6},4,{"$nulls":6},4,{"$nulls":5},4,{"$nulls":6},4,{"$nulls":6},4,{"$nulls":5},4,{"$nulls":6},4,{"$nulls":6},4,{"$nulls":5},4,{"$nulls":6},4,{"$nulls":6},4]
[5,{"$nulls":5},".",5,{"$nulls":5},".",5,{"$nulls":5},5,{"$nulls":5},".",5,{"$nulls":5},".",5,{"$nulls":5},5,{"$nulls":5},".",5,{"$nulls":5},".",5,{"$nulls":5},5,{"$nulls":5},".",5,{"$nulls":5},".",5,{"$nulls":5},5,{"$nulls":5},".",5,{"$nulls":5},".",5,{"$nulls":5},5,{"$nulls":5},".",5,{"$nulls":5},".",5,{"$nulls":5},5,{"$nulls":5},".",5,{"$nulls":5},".",5]
[6,{"$nulls":6},6,{"$nulls":6},6,{"$nulls":5},6,{"$nulls":6},6,{"$nulls":6},6,{"$nulls":5},6,{"$nulls":6},6,{"$nulls":6},6,{"$nulls":5},6,{"$nulls":6},6,{"$nulls":6},6,{"$nulls":5},6,{"$nulls":6},6,{"$nulls":6},6,{"$nulls":5},6,{"$nulls":6},6,{"$nulls":6},6,{"$nulls":5},6,{"$nulls":6},6,{"$nulls":6},6]
[7,{"$nulls":6},7,{"$nulls":6},7,{"$nulls":5},7,{"$nulls":6},7,{"$nulls":6},7,{"$nulls":5},7,{"$nulls":6},7,{"$nulls":6},7,{"$nulls":5},7,{"$nulls":6},7,{"$nulls":6},7,{"$nulls":5},7,{"$nulls":6},7,{"$nulls":6},7,{"$nulls":5},7,{"$nulls":6},7,{"$nulls":6},7,{"$nulls":5},7,{"$nulls":6},7,{"$nulls":6},7]
[8,{"$nulls":6},8,{"$nulls":6},8,{"$nulls":5},8,{"$nulls":6},8,{"$nulls":6},8,{"$nulls":5},8,{"$nulls":6},8,{"$nulls":6},8,{"$nulls":5},8,{"$nulls":6},8,{"$nulls":6},8,{"$nulls":5},8,{"$nulls":6},8,{"$nulls":6},8,{"$nulls":5},8,{"$nulls":6},8,{"$nulls":6},8,{"$nulls":5},8,{"$nulls":6},8,{"$nulls":6},8]
[9,{"$nulls":5},".",9,{"$nulls":5},".",9,{"$nulls":5},9,{"$nulls":5},".",9,{"$nulls":5},".",9,{"$nulls":5},9,{"$nulls":5},".",9,{"$nulls":5},".",9,{"$nulls":5},9,{"$nulls":5},".",9,{"$nulls":5},".",9,{"$nulls":5},9,{"$nulls":5},".",9,{"$nulls":5},".",9,{"$nulls":5},9,{"$nulls":5},".",9,{"$nulls":5},".",9,{"$nulls":5},9,{"$nulls":5},".",9,{"$nulls":5},".",9]
[10,{"$nulls":6},10,{"$nulls":6},10,{"$nulls":5},10,{"$nulls":6},10,{"$nulls":6},10,{"$nulls":5},10,{"$nulls":6},10,{"$nulls":6},10,{"$nulls":5},10,{"$nulls":6},10,{"$nulls":6},10,{"$nulls":5},10,{"$nulls":6},10,{"$nulls":6},10,{"$nulls":5},10,{"$nulls":6},10,{"$nulls":6},10,{"$nulls":5},10,{"$nulls":6},10,{"$nulls":6},10]
[11,{"$nulls":6},11,{"$nulls":6},11,{"$nulls":5},11,{"$nulls":6},11,{"$nulls":6},11,{"$nulls":5},11,{"$nulls":6},11,{"$nulls":6},11,{"$nulls":5},11,{"$nulls":6},11,{"$nulls":6},11,{"$nulls":5},11,{"$nulls":6},11,{"$nulls":6},11,{"$nulls":5},11,{"$nulls":6},11,{"$nulls":6},11,{"$nulls":5},11,{"$nulls":6},11,{"$nulls":6},11]
[12,{"$nulls":6},12,{"$nulls":6},12,{"$nulls":5},12,{"$nulls":6},12,{"$nulls":6},12,{"$nulls":5},12,{"$nulls":6},12,{"$nulls":6},12,{"$nulls":5},12,{"$nulls":6},12,{"$nulls":6},12,{"$nulls":5},12,{"$nulls":6},12,{"$nulls":6},12,{"$nulls":5},12,{"$nulls":6},12,{"$nulls":6},12,{"$nulls":5},12,{"$nulls":6},12,{"$nulls":6},12]
[13,{"$nulls":5},".",13,{"$nulls":5},".",13,{"$nulls":5},13,{"$nulls":5},".",13,{"$nulls":5},".",13,{"$nulls":5},13,{"$nulls":5},".",13,{"$nulls":5},".",13,{"$nulls":5},13,{"$nulls":5},".",13,{"$nulls":5},".",13,{"$nulls":5},13,{"$nulls":5},".",13,{"$nulls":5},".",13,{"$nulls":5},13,{"$nulls":5},".",13,{"$nulls":5},".",13,{"$nulls":5},13,{"$nulls":5},".",13,{"$nulls":5},".",13]
[14,{"$nulls":6},14,{"$nulls":6},14,{"$nulls":5},14,{"$nulls":6},14,{"$nulls":6},14,{"$nulls":5},14,{"$nulls":6},14,{"$nulls":6},14,{"$nulls":5},14,{"$nulls":6},14,{"$nulls":6},14,{"$nulls":5},14,{"$nulls":6},14,{"$nulls":6},14,{"$nulls":5},14,{"$nulls":6},14,{"$nulls":6},14,{"$nulls":5},14,{"$nulls":6},14,{"$nulls":6},14]
[15,{"$nulls":6},15,{"$nulls":6},15,{"$nulls":5},15,{"$nulls":6},15,{"$nulls":6},15,{"$nulls":5},15,{"$nulls":6},15,{"$nulls":6},15,{"$nulls":5},15,{"$nulls":6},15,{"$nulls":6},15,{"$nulls":5},15,{"$nulls":6},15,{"$nulls":6},15,{"$nulls":5},15,{"$nulls":6},15,{"$nulls":6},15,{"$nulls":5},15,{"$nulls":6},15,{"$nulls":6},15]
[16,{"$nulls":6},16,{"$nulls":6},16,{"$nulls":5},16,{"$nulls":6},16,{"$nulls":6},16,{"$nulls":5},16,{"$nulls":6},16,{"$nulls":6},16,{"$nulls":5},16,{"$nulls":6},16,{"$nulls":6},16,{"$nulls":5},16,{"$nulls":6},16,{"$nulls":6},16,{"$nulls":5},16,{"$nulls":6},16,{"$nulls":6},16,{"$nulls":5},16,{"$nulls":6},16,{"$nulls":6},16]
[17,{"$nulls":5},".",17,{"$nulls":5},".",17,{"$nulls":5},17,{"$nulls":5},".",17,{"$nulls":5},".",17,{"$nulls":5},17,{"$nulls":5},".",17,{"$nulls":5},".",17,{"$nulls":5},17,{"$nulls":5},".",17,{"$nulls":5},".",17,{"$nulls":5},17,{"$nulls":5},".",17,{"$nulls":5},".",17,{"$nulls":5},17,{"$nulls":5},".",17,{"$nulls":5},".",17,{"$nulls":5},17,{"$nulls":5},".",17,{"$nulls":5},".",17]
[18,{"$nulls":6},18,{"$nulls":6},18,{"$nulls":5},18,{"$nulls":6},18,{"$nulls":6},18,{"$nulls":5},18,{"$nulls":6},18,{"$nulls":6},18,{"$nulls":5},18,{"$nulls":6},18,{"$nulls":6},18,{"$nulls":5},18,{"$nulls":6},18,{"$nulls":6},18,{"$nulls":5},18,{"$nulls":6},18,{"$nulls":6},18,{"$nulls":5},18,{"$nulls":6},18,{"$nulls":6},18]
["Total","Shots",null,null,"Shots",null,null,"Total","Shots",null,null,"Shots",null,null,"Total","Shots",null,null,"Shots",null,"Total","Shots",null,null,"Shots",null,null,"Total","Shots",null,null,"Shots",null,null,"Total","Shots",null,null,"Shots",null,"Total","Shots",null,null,"Shots",null,null,"Total","Shots",null,null,"shots",null,null,"Total","Shots",null,null,"shots",null,"Total","Shots",null,null,"Shots",null,null,"Total","Shots",null,null,"shots",null,null,"Total","Shots",null,null,"shots",null,"Total","Shots",null,null,"Shots",null,null,"Total","Shots",null,null,"Shots",null,null,"Total","Shots",null,null,"Shots",null,"Total","Shots",null,null,"Shots",null,null,"Total","Shots",null,null,"shots",null,null,"Total","Shots",null,null,"shots",null,"Total","Shots",null,null,"shots",null,null,"Total","Shots",null,null,"shots",null,null,"Total","Shots",null,null,"shots"]
[null,"Ends",null,null,"Ends",null,".",null,"Ends",null,null,"Ends",null,".",null,"Ends",null,null,"Ends",null,null,"Ends",null,null,"Ends",null,".",null,"Ends",null,null,"Ends",null,".",null,"Ends",null,null,"Ends",null,null,"Ends",null,null,"Ends",null,".",null,"Ends",null,null,"Ends",null,".",null,"Ends",null,null,"Ends",null,null,"Ends",null,null,"Ends",null,".",null,"Ends",null,null,"Ends",null,".",null,"Ends",null,null,"Ends",null,null,"Ends",null,null,"Ends",null,".",null,"Ends",null,null,"Ends",null,".",null,"Ends",null,null,"Ends",null,null,"Ends",null,null,"Ends",null,".",null,"Ends",null,null,"Ends",null,".",null,"Ends",null,null,"Ends",null,null,"Ends",null,null,"Ends",null,".",null,"Ends",null,null,"Ends",null,".",null,"Ends",null,null,"Ends"]
[]
[]
["1st Game ",{"$nulls":5},".","2nd Game ",{"$nulls":5},".","3nd Game",{"$nulls":5},"4th Game",{"$nulls":5},".","5th Game",{"$nulls":5},".","6th Game",{"$nulls":5},"7th Game",{"$nulls":5},".","8th Game",{"$nulls":5},".","9th Game",{"$nulls":5},"10th Game",{"$nulls":5},".","11th Game",{"$nulls":5},".","12th Game ",{"$nulls":5},"13th Game",{"$nulls":5},".","14th Game",{"$nulls":5},".","15th Game",{"$nulls":5},"16th Game",{"$nulls":5},".","17th Game",{"$nulls":5},".","18th Game",{"$nulls":5},"19th Game",{"$nulls":5},".","20th Game",{"$nulls":5},".","9th Game "]
["Team No",null,null,"Rink No",{"$nulls":3},"Team No",null,null,"Rink No",{"$nulls":3},"Team No",null,null,"Rink No",null,null,"Team No",null,null,"Rink No",{"$nulls":3},"Team No",null,null,"Rink No",{"$nulls":3},"Team No",null,null,"Rink No",null,null,"Team No",null,null,"Rink No",{"$nulls":3},"Team No",null,null,"Rink No",{"$nulls":3},"Team No",null,null,"Rink No",null,null,"Team No",null,null,"Rink No",{"$nulls":3},"Team No",null,null,"Rink No",{"$nulls":3},"Team No",null,null,"Rink No",null,null,"Team No",null,null,"Rink No",{"$nulls":3},"Team No",null,null,"Rink No",{"$nulls":3},"Team No",null,null,"Rink No",null,null,"Team No",null,null,"Rink No",{"$nulls":3},"Team No",null,null,"Rink No",{"$nulls":3},"Team No",null,null,"Rink No",null,null,"Team No",null,null,"Rink No",{"$nulls":3},"Team No",null,null,"Rink No",{"$nulls":3},"Team No",null,null,"Rink No"]
[]
[{"$f":"DRAW!#REF!","v":{"$error":"#REF!"}},null,null,{"$f":"DRAW!#REF!","v":{"$error":"#REF!"}},null,null,".",{"$f":"DRAW!#REF!","v":{"$error":"#REF!"}},null,null,{"$f":"DRAW!#REF!","v":{"$error":"#REF!"}},null,null,".",{"$f":"DRAW!#REF!","v":{"$error":"#REF!"}},null,null,{"$f":"DRAW!#REF!","v":{"$error":"#REF!"}},null,null,{"$f":"DRAW!#REF!","v":{"$error":"#REF!"}},null,null,{"$f":"DRAW!#REF!","v":{"$error":"#REF!"}},null,null,".",{"$f":"DRAW!#REF!","v":{"$error":"#REF!"}},null,null,{"$f":"DRAW!#REF!","v":{"$error":"#REF!"}},null,null,".",{"$f":"DRAW!#REF!","v":{"$error":"#REF!"}},null,null,{"$f":"DRAW!#REF!","v":{"$error":"#REF!"}},null,null,{"$f":"DRAW!#REF!","v":{"$error":"#REF!"}},null,null,{"$f":"DRAW!#REF!","v":{"$error":"#REF!"}},null,null,".",{"$f":"DRAW!#REF!","v":{"$error":"#REF!"}},null,null,{"$f":"DRAW!#REF!","v":{"$error":"#REF!"}},null,null,".",{"$f":"DRAW!#REF!","v":{"$error":"#REF!"}},null,null,{"$f":"DRAW!#REF!","v":{"$error":"#REF!"}},null,null,{"$f":"DRAW!#REF!","v":{"$error":"#REF!"}},null,null,{"$f":"DRAW!#REF!","v":{"$error":"#REF!"}},null,null,".",{"$f":"DRAW!#REF!","v":{"$error":"#REF!"}},null,null,{"$f":"DRAW!#REF!","v":{"$error":"#REF!"}},null,null,".",{"$f":"DRAW!#REF!","v":{"$error":"#REF!"}},null,null,{"$f":"DRAW!#REF!","v":{"$error":"#REF!"}},null,null,{"$f":"DRAW!#REF!","v":{"$error":"#REF!"}},null,null,{"$f":"DRAW!#REF!","v":{"$error":"#REF!"}},null,null,".",{"$f":"DRAW!#REF!","v":{"$error":"#REF!"}},null,null,{"$f":"DRAW!#REF!","v":{"$error":"#REF!"}},null,null,".",{"$f":"DRAW!#REF!","v":{"$error":"#REF!"}},null,null,{"$f":"DRAW!#REF!","v":{"$error":"#REF!"}},null,null,{"$f":"DRAW!#REF!","v":{"$error":"#REF!"}},null,null,{"$f":"DRAW!#REF!","v":{"$error":"#REF!"}},null,null,".",{"$f":"DRAW!#REF!","v":{"$error":"#REF!"}},null,null,{"$f":"DRAW!#REF!","v":{"$error":"#REF!"}},null,null,".",{"$f":"DRAW!#REF!","v":{"$error":"#REF!"}},null,null,{"$f":"DRAW!#REF!","v":{"$error":"#REF!"}},null,null,{"$f":"DRAW!#REF!","v":{"$error":"#REF!"}},null,null,{"$f":"DRAW!#REF!","v":{"$error":"#REF!"}},null,null,".",{"$f":"DRAW!#REF!","v":{"$error":"#REF!"}},null,null,{"$f":"DRAW!#REF!","v":{"$error":"#REF!"}},null,null,".",{"$f":"DRAW!#REF!","v":{"$error":"#REF!"}},null,null,{"$f":"DRAW!#REF!","v":{"$error":"#REF!"}}]
[null,"Team",{"$f":"DRAW!#REF!","v":{"$error":"#REF!"}},"V","Team",{"$f":"DRAW!#REF!","v":{"$error":"#REF!"}},null,null,"Team",{"$f":"DRAW!#REF!","v":{"$error":"#REF!"}},"V","Team",{"$f":"DRAW!#REF!","v":{"$error":"#REF!"}},null,null,"Team",{"$f":"DRAW!#REF!","v":{"$error":"#REF!"}},"V","Team",{"$f":"DRAW!#REF!","v":{"$error":"#REF!"}},null,"Team",{"$f":"DRAW!#REF!","v":{"$error":"#REF!"}},"V","Team",{"$f":"DRAW!#REF!","v":{"$error":"#REF!"}},null,null,"Team",{"$f":"DRAW!#REF!","v":{"$error":"#REF!"}},"V","Team",{"$f":"DRAW!#REF!","v":{"$error":"#REF!"}},null,null,"Team",{"$f":"DRAW!#REF!","v":{"$error":"#REF!"}},"V","Team",{"$f":"DRAW!#REF!","v":{"$error":"#REF!"}},null,"Team",{"$f":"DRAW!#REF!","v":{"$error":"#REF!"}},"V","Team",{"$f":"DRAW!#REF!","v":{"$error":"#REF!"}},null,null,"Team",{"$f":"DRAW!#REF!","v":{"$error":"#REF!"}},"V","Team",{"$f":"DRAW!#REF!","v":{"$error":"#REF!"}},null,null,"Team",{"$f":"DRAW!#REF!","v":{"$error":"#REF!"}},"V","Team",{"$f":"DRAW!#REF!","v":{"$error":"#REF!"}},null,"Team",{"$f":"DRAW!#REF!","v":{"$error":"#REF!"}},"V","Team",{"$f":"DRAW!#REF!","v":{"$error":"#REF!"}},null,null,"Team",{"$f":"DRAW!#REF!","v":{"$error":"#REF!"}},"V","Team",{"$f":"DRAW!#REF!","v":{"$error":"#REF!"}},null,null,"Team",{"$f":"DRAW!#REF!","v":{"$error":"#REF!"}},"V","Team",{"$f":"DRAW!#REF!","v":{"$error":"#REF!"}},null,"Team",{"$f":"DRAW!#REF!","v":{"$error":"#REF!"}},"V","Team",{"$f":"DRAW!#REF!","v":{"$error":"#REF!"}},null,null,"Team",{"$f":"DRAW!#REF!","v":{"$error":"#REF!"}},"V","Team",{"$f":"DRAW!#REF!","v":{"$error":"#REF!"}},null,null,"Team",{"$f":"DRAW!#REF!","v":{"$error":"#REF!"}},"V","Team",{"$f":"DRAW!#REF!","v":{"$error":"#REF!"}},null,"Team",{"$f":"DRAW!#REF!","v":{"$error":"#REF!"}},"V","Team",{"$f":"DRAW!#REF!","v":{"$error":"#REF!"}},null,null,"Team",{"$f":"DRAW!#REF!","v":{"$error":"#REF!"}},"V","Team",{"$f":"DRAW!#REF!","v":{"$error":"#REF!"}},null,null,"Team",{"$f":"DRAW!#REF!","v":{"$error":"#REF!"}},"V","Team",{"$f":"DRAW!#REF!","v":{"$error":"#REF!"}},null,"Team",{"$f":"DRAW!#REF!","v":{"$error":"#REF!"}},"V","Team",{"$f":"DRAW!#REF!","v":{"$error":"#REF!"}},null,null,"Team",{"$f":"DRAW!#REF!","v":{"$error":"#REF!"}},"V","Team",{"$f":"DRAW!#REF!","v":{"$error":"#REF!"}},null,null,"Team",{"$f":"DRAW!#REF!","v":{"$error":"#REF!"}},"V","Team",{"$f":"DRAW!#REF!","v":{"$error":"#REF!"}}]
["Ends","Shots","Total",null,"Shots","Total",null,"Ends","Shots","Total",null,"Shots","Total",null,"Ends","Shots","Total",null,"Shots","Total","Ends","Shots","Total",null,"Shots","Total",null,"Ends","Shots","Total",null,"Shots","Total",null,"Ends","Shots","Total",null,"Shots","Total","Ends","Shots","Total",null,"Shots","Total",null,"Ends","Shots","Total",null,"Shots","Total",null,"Ends","Shots","Total",null,"Shots","Total","Ends","Shots","Total",null,"Shots","Total",null,"Ends","Shots","Total",null,"Shots","Total",null,"Ends","Shots","Total",null,"Shots","Total","Ends","Shots","Total",null,"Shots","Total",null,"Ends","Shots","Total",null,"Shots","Total",null,"Ends","Shots","Total",null,"Shots","Total","Ends","Shots","Total",null,"Shots","Total",null,"Ends","Shots","Total",null,"Shots","Total",null,"Ends","Shots","Total",null,"Shots","Total","Ends","Shots","Total",null,"Shots","Total",null,"Ends","Shots","Total",null,"Shots","Total",null,"Ends","Shots","Total",null,"Shots","Total"]
[1,{"$nulls":5},".",1,{"$nulls":5},".",1,{"$nulls":5},1,{"$nulls":5},".",1,{"$nulls":5},".",1,{"$nulls":5},1,{"$nulls":5},".",1,{"$nulls":5},".",1,{"$nulls":5},1,{"$nulls":5},".",1,{"$nulls":5},".",1,{"$nulls":5},1,{"$nulls":5},".",1,{"$nulls":5},".",1,{"$nulls":5},1,{"$nulls":5},".",1,{"$nulls":5},".",1,{"$nulls":5},1,{"$nulls":5},".",1,{"$nulls":5},".",1]
[2,{"$nulls":6},2,{"$nulls":6},2,{"$nulls":5},2,{"$nulls":6},2,{"$nulls":6},2,{"$nulls":5},2,{"$nulls":6},2,{"$nulls":6},2,{"$nulls":5},2,{"$nulls":6},2,{"$nulls":6},2,{"$nulls":5},2,{"$nulls":6},2,{"$nulls":6},2,{"$nulls":5},2,{"$nulls":6},2,{"$nulls":6},2,{"$nulls":5},2,{"$nulls":6},2,{"$nulls":6},2]
[3,{"$nulls":6},3,{"$nulls":6},3,{"$nulls":5},3,{"$nulls":6},3,{"$nulls":6},3,{"$nulls":5},3,{"$nulls":6},3,{"$nulls":6},3,{"$nulls":5},3,{"$nulls":6},3,{"$nulls":6},3,{"$nulls":5},3,{"$nulls":6},3,{"$nulls":6},3,{"$nulls":5},3,{"$nulls":6},3,{"$nulls":6},3,{"$nulls":5},3,{"$nulls":6},3,{"$nulls":6},3]
[4,{"$nulls":6},4,{"$nulls":6},4,{"$nulls":5},4,{"$nulls":6},4,{"$nulls":6},4,{"$nulls":5},4,{"$nulls":6},4,{"$nulls":6},4,{"$nulls":5},4,{"$nulls":6},4,{"$nulls":6},4,{"$nulls":5},4,{"$nulls":6},4,{"$nulls":6},4,{"$nulls":5},4,{"$nulls":6},4,{"$nulls":6},4,{"$nulls":5},4,{"$nulls":6},4,{"$nulls":6},4]
[5,{"$nulls":5},".",5,{"$nulls":5},".",5,{"$nulls":5},5,{"$nulls":5},".",5,{"$nulls":5},".",5,{"$nulls":5},5,{"$nulls":5},".",5,{"$nulls":5},".",5,{"$nulls":5},5,{"$nulls":5},".",5,{"$nulls":5},".",5,{"$nulls":5},5,{"$nulls":5},".",5,{"$nulls":5},".",5,{"$nulls":5},5,{"$nulls":5},".",5,{"$nulls":5},".",5,{"$nulls":5},5,{"$nulls":5},".",5,{"$nulls":5},".",5]
[6,{"$nulls":6},6,{"$nulls":6},6,{"$nulls":5},6,{"$nulls":6},6,{"$nulls":6},6,{"$nulls":5},6,{"$nulls":6},6,{"$nulls":6},6,{"$nulls":5},6,{"$nulls":6},6,{"$nulls":6},6,{"$nulls":5},6,{"$nulls":6},6,{"$nulls":6},6,{"$nulls":5},6,{"$nulls":6},6,{"$nulls":6},6,{"$nulls":5},6,{"$nulls":6},6,{"$nulls":6},6]
[7,{"$nulls":6},7,{"$nulls":6},7,{"$nulls":5},7,{"$nulls":6},7,{"$nulls":6},7,{"$nulls":5},7,{"$nulls":6},7,{"$nulls":6},7,{"$nulls":5},7,{"$nulls":6},7,{"$nulls":6},7,{"$nulls":5},7,{"$nulls":6},7,{"$nulls":6},7,{"$nulls":5},7,{"$nulls":6},7,{"$nulls":6},7,{"$nulls":5},7,{"$nulls":6},7,{"$nulls":6},7]
[8,{"$nulls":6},8,{"$nulls":6},8,{"$nulls":5},8,{"$nulls":6},8,{"$nulls":6},8,{"$nulls":5},8,{"$nulls":6},8,{"$nulls":6},8,{"$nulls":5},8,{"$nulls":6},8,{"$nulls":6},8,{"$nulls":5},8,{"$nulls":6},8,{"$nulls":6},8,{"$nulls":5},8,{"$nulls":6},8,{"$nulls":6},8,{"$nulls":5},8,{"$nulls":6},8,{"$nulls":6},8]
[9,{"$nulls":5},".",9,{"$nulls":5},".",9,{"$nulls":5},9,{"$nulls":5},".",9,{"$nulls":5},".",9,{"$nulls":5},9,{"$nulls":5},".",9,{"$nulls":5},".",9,{"$nulls":5},9,{"$nulls":5},".",9,{"$nulls":5},".",9,{"$nulls":5},9,{"$nulls":5},".",9,{"$nulls":5},".",9,{"$nulls":5},9,{"$nulls":5},".",9,{"$nulls":5},".",9,{"$nulls":5},9,{"$nulls":5},".",9,{"$nulls":5},".",9]
[10,{"$nulls":6},10,{"$nulls":6},10,{"$nulls":5},10,{"$nulls":6},10,{"$nulls":6},10,{"$nulls":5},10,{"$nulls":6},10,{"$nulls":6},10,{"$nulls":5},10,{"$nulls":6},10,{"$nulls":6},10,{"$nulls":5},10,{"$nulls":6},10,{"$nulls":6},10,{"$nulls":5},10,{"$nulls":6},10,{"$nulls":6},10,{"$nulls":5},10,{"$nulls":6},10,{"$nulls":6},10]
[11,{"$nulls":6},11,{"$nulls":6},11,{"$nulls":5},11,{"$nulls":6},11,{"$nulls":6},11,{"$nulls":5},11,{"$nulls":6},11,{"$nulls":6},11,{"$nulls":5},11,{"$nulls":6},11,{"$nulls":6},11,{"$nulls":5},11,{"$nulls":6},11,{"$nulls":6},11,{"$nulls":5},11,{"$nulls":6},11,{"$nulls":6},11,{"$nulls":5},11,{"$nulls":6},11,{"$nulls":6},11]
[12,{"$nulls":6},12,{"$nulls":6},12,{"$nulls":5},12,{"$nulls":6},12,{"$nulls":6},12,{"$nulls":5},12,{"$nulls":6},12,{"$nulls":6},12,{"$nulls":5},12,{"$nulls":6},12,{"$nulls":6},12,{"$nulls":5},12,{"$nulls":6},12,{"$nulls":6},12,{"$nulls":5},12,{"$nulls":6},12,{"$nulls":6},12,{"$nulls":5},12,{"$nulls":6},12,{"$nulls":6},12]
[13,{"$nulls":5},".",13,{"$nulls":5},".",13,{"$nulls":5},13,{"$nulls":5},".",13,{"$nulls":5},".",13,{"$nulls":5},13,{"$nulls":5},".",13,{"$nulls":5},".",13,{"$nulls":5},13,{"$nulls":5},".",13,{"$nulls":5},".",13,{"$nulls":5},13,{"$nulls":5},".",13,{"$nulls":5},".",13,{"$nulls":5},13,{"$nulls":5},".",13,{"$nulls":5},".",13,{"$nulls":5},13,{"$nulls":5},".",13,{"$nulls":5},".",13]
[14,{"$nulls":6},14,{"$nulls":6},14,{"$nulls":5},14,{"$nulls":6},14,{"$nulls":6},14,{"$nulls":5},14,{"$nulls":6},14,{"$nulls":6},14,{"$nulls":5},14,{"$nulls":6},14,{"$nulls":6},14,{"$nulls":5},14,{"$nulls":6},14,{"$nulls":6},14,{"$nulls":5},14,{"$nulls":6},14,{"$nulls":6},14,{"$nulls":5},14,{"$nulls":6},14,{"$nulls":6},14]
[15,{"$nulls":6},15,{"$nulls":6},15,{"$nulls":5},15,{"$nulls":6},15,{"$nulls":6},15,{"$nulls":5},15,{"$nulls":6},15,{"$nulls":6},15,{"$nulls":5},15,{"$nulls":6},15,{"$nulls":6},15,{"$nulls":5},15,{"$nulls":6},15,{"$nulls":6},15,{"$nulls":5},15,{"$nulls":6},15,{"$nulls":6},15,{"$nulls":5},15,{"$nulls":6},15,{"$nulls":6},15]
[16,{"$nulls":6},16,{"$nulls":6},16,{"$nulls":5},16,{"$nulls":6},16,{"$nulls":6},16,{"$nulls":5},16,{"$nulls":6},16,{"$nulls":6},16,{"$nulls":5},16,{"$nulls":6},16,{"$nulls":6},16,{"$nulls":5},16,{"$nulls":6},16,{"$nulls":6},16,{"$nulls":5},16,{"$nulls":6},16,{"$nulls":6},16,{"$nulls":5},16,{"$nulls":6},16,{"$nulls":6},16]
[17,{"$nulls":5},".",17,{"$nulls":5},".",17,{"$nulls":5},17,{"$nulls":5},".",17,{"$nulls":5},".",17,{"$nulls":5},17,{"$nulls":5},".",17,{"$nulls":5},".",17,{"$nulls":5},17,{"$nulls":5},".",17,{"$nulls":5},".",17,{"$nulls":5},17,{"$nulls":5},".",17,{"$nulls":5},".",17,{"$nulls":5},17,{"$nulls":5},".",17,{"$nulls":5},".",17,{"$nulls":5},17,{"$nulls":5},".",17,{"$nulls":5},".",17]
[18,{"$nulls":6},18,{"$nulls":6},18,{"$nulls":5},18,{"$nulls":6},18,{"$nulls":6},18,{"$nulls":5},18,{"$nulls":6},18,{"$nulls":6},18,{"$nulls":5},18,{"$nulls":6},18,{"$nulls":6},18,{"$nulls":5},18,{"$nulls":6},18,{"$nulls":6},18,{"$nulls":5},18,{"$nulls":6},18,{"$nulls":6},18,{"$nulls":5},18,{"$nulls":6},18,{"$nulls":6},18]
["Total","Shots",null,null,"Shots",null,null,"Total","Shots",null,null,"Shots",null,null,"Total","Shots",null,null,"Shots",null,"Total","Shots",null,null,"Shots",null,null,"Total","Shots",null,null,"Shots",null,null,"Total","Shots",null,null,"Shots",null,"Total","Shots",null,null,"Shots",null,null,"Total","Shots",null,null,"shots",null,null,"Total","Shots",null,null,"shots",null,"Total","Shots",null,null,"Shots",null,null,"Total","Shots",null,null,"shots",null,null,"Total","Shots",null,null,"shots",null,"Total","Shots",null,null,"Shots",null,null,"Total","Shots",null,null,"Shots",null,null,"Total","Shots",null,null,"Shots",null,"Total","Shots",null,null,"Shots",null,null,"Total","Shots",null,null,"shots",null,null,"Total","Shots",null,null,"shots",null,"Total","Shots",null,null,"shots",null,null,"Total","Shots",null,null,"shots",null,null,"Total","Shots",null,null,"shots"]
[null,"Ends",null,null,"Ends",null,".",null,"Ends",null,null,"Ends",null,".",null,"Ends",null,null,"Ends",null,null,"Ends",null,null,"Ends",null,".",null,"Ends",null,null,"Ends",null,".",null,"Ends",null,null,"Ends",null,null,"Ends",null,null,"Ends",null,".",null,"Ends",null,null,"Ends",null,".",null,"Ends",null,null,"Ends",null,null,"Ends",null,null,"Ends",null,".",null,"Ends",null,null,"Ends",null,".",null,"Ends",null,null,"Ends",null,null,"Ends",null,null,"Ends",null,".",null,"Ends",null,null,"Ends",null,".",null,"Ends",null,null,"Ends",null,null,"Ends",null,null,"Ends",null,".",null,"Ends",null,null,"Ends",null,".",null,"Ends",null,null,"Ends",null,null,"Ends",null,null,"Ends",null,".",null,"Ends",null,null,"Ends",null,".",null,"Ends",null,null,"Ends"]
["1st Game ",{"$nulls":5},".","2nd Game ",{"$nulls":5},".","3nd Game",{"$nulls":5},"4th Game",{"$nulls":5},".","5th Game",{"$nulls":5},".","6th Game",{"$nulls":5},"7th Game",{"$nulls":5},".","8th Game",{"$nulls":5},".","9th Game",{"$nulls":5},"10th Game",{"$nulls":5},".","11th Game",{"$nulls":5},".","12th Game ",{"$nulls":5},"13th Game",{"$nulls":5},".","14th Game",{"$nulls":5},".","15th Game",{"$nulls":5},"16th Game",{"$nulls":5},".","17th Game",{"$nulls":5},".","18th Game",{"$nulls":5},"19th Game",{"$nulls":5},".","20th Game",{"$nulls":5},".","9th Game "]
["Team No",null,null,"Rink No",{"$nulls":3},"Team No",null,null,"Rink No",{"$nulls":3},"Team No",null,null,"Rink No",null,null,"Team No",null,null,"Rink No",{"$nulls":3},"Team No",null,null,"Rink No",{"$nulls":3},"Team No",null,null,"Rink No",null,null,"Team No",null,null,"Rink No",{"$nulls":3},"Team No",null,null,"Rink No",{"$nulls":3},"Team No",null,null,"Rink No",null,null,"Team No",null,null,"Rink No",{"$nulls":3},"Team No",null,null,"Rink No",{"$nulls":3},"Team No",null,null,"Rink No",null,null,"Team No",null,null,"Rink No",{"$nulls":3},"Team No",null,null,"Rink No",{"$nulls":3},"Team No",null,null,"Rink No",null,null,"Team No",null,null,"Rink No",{"$nulls":3},"Team No",null,null,"Rink No",{"$nulls":3},"Team No",null,null,"Rink No",null,null,"Team No",null,null,"Rink No",{"$nulls":3},"Team No",null,null,"Rink No",{"$nulls":3},"Team No",null,null,"Rink No"]
[]
[{"$f":"DRAW!#REF!","v":{"$error":"#REF!"}},null,null,{"$f":"DRAW!#REF!","v":{"$error":"#REF!"}},null,null,".",{"$f":"DRAW!#REF!","v":{"$error":"#REF!"}},null,null,{"$f":"DRAW!#REF!","v":{"$error":"#REF!"}},null,null,".",{"$f":"DRAW!#REF!","v":{"$error":"#REF!"}},null,null,{"$f":"DRAW!#REF!","v":{"$error":"#REF!"}},null,null,{"$f":"DRAW!#REF!","v":{"$error":"#REF!"}},null,null,{"$f":"DRAW!#REF!","v":{"$error":"#REF!"}},null,null,".",{"$f":"DRAW!#REF!","v":{"$error":"#REF!"}},null,null,{"$f":"DRAW!#REF!","v":{"$error":"#REF!"}},null,null,".",{"$f":"DRAW!#REF!","v":{"$error":"#REF!"}},null,null,{"$f":"DRAW!#REF!","v":{"$error":"#REF!"}},null,null,{"$f":"DRAW!#REF!","v":{"$error":"#REF!"}},null,null,{"$f":"DRAW!#REF!","v":{"$error":"#REF!"}},null,null,".",{"$f":"DRAW!#REF!","v":{"$error":"#REF!"}},null,null,{"$f":"DRAW!#REF!","v":{"$error":"#REF!"}},null,null,".",{"$f":"DRAW!#REF!","v":{"$error":"#REF!"}},null,null,{"$f":"DRAW!#REF!","v":{"$error":"#REF!"}},null,null,{"$f":"DRAW!#REF!","v":{"$error":"#REF!"}},null,null,{"$f":"DRAW!#REF!","v":{"$error":"#REF!"}},null,null,".",{"$f":"DRAW!#REF!","v":{"$error":"#REF!"}},null,null,{"$f":"DRAW!#REF!","v":{"$error":"#REF!"}},null,null,".",{"$f":"DRAW!#REF!","v":{"$error":"#REF!"}},null,null,{"$f":"DRAW!#REF!","v":{"$error":"#REF!"}},null,null,{"$f":"DRAW!#REF!","v":{"$error":"#REF!"}},null,null,{"$f":"DRAW!#REF!","v":{"$error":"#REF!"}},null,null,".",{"$f":"DRAW!#REF!","v":{"$error":"#REF!"}},null,null,{"$f":"DRAW!#REF!","v":{"$error":"#REF!"}},null,null,".",{"$f":"DRAW!#REF!","v":{"$error":"#REF!"}},null,null,{"$f":"DRAW!#REF!","v":{"$error":"#REF!"}},null,null,{"$f":"DRAW!#REF!","v":{"$error":"#REF!"}},null,null,{"$f":"DRAW!#REF!","v":{"$error":"#REF!"}},null,null,".",{"$f":"DRAW!#REF!","v":{"$error":"#REF!"}},null,null,{"$f":"DRAW!#REF!","v":{"$error":"#REF!"}},null,null,".",{"$f":"DRAW!#REF!","v":{"$error":"#REF!"}},null,null,{"$f":"DRAW!#REF!","v":{"$error":"#REF!"}},null,null,{"$f":"DRAW!#REF!","v":{"$error":"#REF!"}},null,null,{"$f":"DRAW!#REF!","v":{"$error":"#REF!"}},null,null,".",{"$f":"DRAW!#REF!","v":{"$error":"#REF!"}},null,null,{"$f":"DRAW!#REF!","v":{"$error":"#REF!"}},null,null,".",{"$f":"DRAW!#REF!","v":{"$error":"#REF!"}},null,null,{"$f":"DRAW!#REF!","v":{"$error":"#REF!"}}]
[null,"Team",{"$f":"DRAW!#REF!","v":{"$error":"#REF!"}},"V","Team",{"$f":"DRAW!#REF!","v":{"$error":"#REF!"}},null,null,"Team",{"$f":"DRAW!#REF!","v":{"$error":"#REF!"}},"V","Team",{"$f":"DRAW!#REF!","v":{"$error":"#REF!"}},null,null,"Team",{"$f":"DRAW!#REF!","v":{"$error":"#REF!"}},"V","Team",{"$f":"DRAW!#REF!","v":{"$error":"#REF!"}},null,"Team",{"$f":"DRAW!#REF!","v":{"$error":"#REF!"}},"V","Team",{"$f":"DRAW!#REF!","v":{"$error":"#REF!"}},null,null,"Team",{"$f":"DRAW!#REF!","v":{"$error":"#REF!"}},"V","Team",{"$f":"DRAW!#REF!","v":{"$error":"#REF!"}},null,null,"Team",{"$f":"DRAW!#REF!","v":{"$error":"#REF!"}},"V","Team",{"$f":"DRAW!#REF!","v":{"$error":"#REF!"}},null,"Team",{"$f":"DRAW!#REF!","v":{"$error":"#REF!"}},"V","Team",{"$f":"DRAW!#REF!","v":{"$error":"#REF!"}},null,null,"Team",{"$f":"DRAW!#REF!","v":{"$error":"#REF!"}},"V","Team",{"$f":"DRAW!#REF!","v":{"$error":"#REF!"}},null,null,"Team",{"$f":"DRAW!#REF!","v":{"$error":"#REF!"}},"V","Team",{"$f":"DRAW!#REF!","v":{"$error":"#REF!"}},null,"Team",{"$f":"DRAW!#REF!","v":{"$error":"#REF!"}},"V","Team",{"$f":"DRAW!#REF!","v":{"$error":"#REF!"}},null,null,"Team",{"$f":"DRAW!#REF!","v":{"$error":"#REF!"}},"V","Team",{"$f":"DRAW!#REF!","v":{"$error":"#REF!"}},null,null,"Team",{"$f":"DRAW!#REF!","v":{"$error":"#REF!"}},"V","Team",{"$f":"DRAW!#REF!","v":{"$error":"#REF!"}},null,"Team",{"$f":"DRAW!#REF!","v":{"$error":"#REF!"}},"V","Team",{"$f":"DRAW!#REF!","v":{"$error":"#REF!"}},null,null,"Team",{"$f":"DRAW!#REF!","v":{"$error":"#REF!"}},"V","Team",{"$f":"DRAW!#REF!","v":{"$error":"#REF!"}},null,null,"Team",{"$f":"DRAW!#REF!","v":{"$error":"#REF!"}},"V","Team",{"$f":"DRAW!#REF!","v":{"$error":"#REF!"}},null,"Team",{"$f":"DRAW!#REF!","v":{"$error":"#REF!"}},"V","Team",{"$f":"DRAW!#REF!","v":{"$error":"#REF!"}},null,null,"Team",{"$f":"DRAW!#REF!","v":{"$error":"#REF!"}},"V","Team",{"$f":"DRAW!#REF!","v":{"$error":"#REF!"}},null,null,"Team",{"$f":"DRAW!#REF!","v":{"$error":"#REF!"}},"V","Team",{"$f":"DRAW!#REF!","v":{"$error":"#REF!"}},null,"Team",{"$f":"DRAW!#REF!","v":{"$error":"#REF!"}},"V","Team",{"$f":"DRAW!#REF!","v":{"$error":"#REF!"}},null,null,"Team",{"$f":"DRAW!#REF!","v":{"$error":"#REF!"}},"V","Team",{"$f":"DRAW!#REF!","v":{"$error":"#REF!"}},null,null,"Team",{"$f":"DRAW!#REF!","v":{"$error":"#REF!"}},"V","Team",{"$f":"DRAW!#REF!","v":{"$error":"#REF!"}}]
["Ends","Shots","Total",null,"Shots","Total",null,"Ends","Shots","Total",null,"Shots","Total",null,"Ends","Shots","Total",null,"Shots","Total","Ends","Shots","Total",null,"Shots","Total",null,"Ends","Shots","Total",null,"Shots","Total",null,"Ends","Shots","Total",null,"Shots","Total","Ends","Shots","Total",null,"Shots","Total",null,"Ends","Shots","Total",null,"Shots","Total",null,"Ends","Shots","Total",null,"Shots","Total","Ends","Shots","Total",null,"Shots","Total",null,"Ends","Shots","Total",null,"Shots","Total",null,"Ends","Shots","Total",null,"Shots","Total","Ends","Shots","Total",null,"Shots","Total",null,"Ends","Shots","Total",null,"Shots","Total",null,"Ends","Shots","Total",null,"Shots","Total","Ends","Shots","Total",null,"Shots","Total",null,"Ends","Shots","Total",null,"Shots","Total",null,"Ends","Shots","Total",null,"Shots","Total","Ends","Shots","Total",null,"Shots","Total",null,"Ends","Shots","Total",null,"Shots","Total",null,"Ends","Shots","Total",null,"Shots","Total"]
[1,{"$nulls":5},".",1,{"$nulls":5},".",1,{"$nulls":5},1,{"$nulls":5},".",1,{"$nulls":5},".",1,{"$nulls":5},1,{"$nulls":5},".",1,{"$nulls":5},".",1,{"$nulls":5},1,{"$nulls":5},".",1,{"$nulls":5},".",1,{"$nulls":5},1,{"$nulls":5},".",1,{"$nulls":5},".",1,{"$nulls":5},1,{"$nulls":5},".",1,{"$nulls":5},".",1,{"$nulls":5},1,{"$nulls":5},".",1,{"$nulls":5},".",1]
[2,{"$nulls":6},2,{"$nulls":6},2,{"$nulls":5},2,{"$nulls":6},2,{"$nulls":6},2,{"$nulls":5},2,{"$nulls":6},2,{"$nulls":6},2,{"$nulls":5},2,{"$nulls":6},2,{"$nulls":6},2,{"$nulls":5},2,{"$nulls":6},2,{"$nulls":6},2,{"$nulls":5},2,{"$nulls":6},2,{"$nulls":6},2,{"$nulls":5},2,{"$nulls":6},2,{"$nulls":6},2]
[3,{"$nulls":6},3,{"$nulls":6},3,{"$nulls":5},3,{"$nulls":6},3,{"$nulls":6},3,{"$nulls":5},3,{"$nulls":6},3,{"$nulls":6},3,{"$nulls":5},3,{"$nulls":6},3,{"$nulls":6},3,{"$nulls":5},3,{"$nulls":6},3,{"$nulls":6},3,{"$nulls":5},3,{"$nulls":6},3,{"$nulls":6},3,{"$nulls":5},3,{"$nulls":6},3,{"$nulls":6},3]
[4,{"$nulls":6},4,{"$nulls":6},4,{"$nulls":5},4,{"$nulls":6},4,{"$nulls":6},4,{"$nulls":5},4,{"$nulls":6},4,{"$nulls":6},4,{"$nulls":5},4,{"$nulls":6},4,{"$nulls":6},4,{"$nulls":5},4,{"$nulls":6},4,{"$nulls":6},4,{"$nulls":5},4,{"$nulls":6},4,{"$nulls":6},4,{"$nulls":5},4,{"$nulls":6},4,{"$nulls":6},4]
[5,{"$nulls":5},".",5,{"$nulls":5},".",5,{"$nulls":5},5,{"$nulls":5},".",5,{"$nulls":5},".",5,{"$nulls":5},5,{"$nulls":5},".",5,{"$nulls":5},".",5,{"$nulls":5},5,{"$nulls":5},".",5,{"$nulls":5},".",5,{"$nulls":5},5,{"$nulls":5},".",5,{"$nulls":5},".",5,{"$nulls":5},5,{"$nulls":5},".",5,{"$nulls":5},".",5,{"$nulls":5},5,{"$nulls":5},".",5,{"$nulls":5},".",5]
[6,{"$nulls":6},6,{"$nulls":6},6,{"$nulls":5},6,{"$nulls":6},6,{"$nulls":6},6,{"$nulls":5},6,{"$nulls":6},6,{"$nulls":6},6,{"$nulls":5},6,{"$nulls":6},6,{"$nulls":6},6,{"$nulls":5},6,{"$nulls":6},6,{"$nulls":6},6,{"$nulls":5},6,{"$nulls":6},6,{"$nulls":6},6,{"$nulls":5},6,{"$nulls":6},6,{"$nulls":6},6]
[7,{"$nulls":6},7,{"$nulls":6},7,{"$nulls":5},7,{"$nulls":6},7,{"$nulls":6},7,{"$nulls":5},7,{"$nulls":6},7,{"$nulls":6},7,{"$nulls":5},7,{"$nulls":6},7,{"$nulls":6},7,{"$nulls":5},7,{"$nulls":6},7,{"$nulls":6},7,{"$nulls":5},7,{"$nulls":6},7,{"$nulls":6},7,{"$nulls":5},7,{"$nulls":6},7,{"$nulls":6},7]
[8,{"$nulls":6},8,{"$nulls":6},8,{"$nulls":5},8,{"$nulls":6},8,{"$nulls":6},8,{"$nulls":5},8,{"$nulls":6},8,{"$nulls":6},8,{"$nulls":5},8,{"$nulls":6},8,{"$nulls":6},8,{"$nulls":5},8,{"$nulls":6},8,{"$nulls":6},8,{"$nulls":5},8,{"$nulls":6},8,{"$nulls":6},8,{"$nulls":5},8,{"$nulls":6},8,{"$nulls":6},8]
[9,{"$nulls":5},".",9,{"$nulls":5},".",9,{"$nulls":5},9,{"$nulls":5},".",9,{"$nulls":5},".",9,{"$nulls":5},9,{"$nulls":5},".",9,{"$nulls":5},".",9,{"$nulls":5},9,{"$nulls":5},".",9,{"$nulls":5},".",9,{"$nulls":5},9,{"$nulls":5},".",9,{"$nulls":5},".",9,{"$nulls":5},9,{"$nulls":5},".",9,{"$nulls":5},".",9,{"$nulls":5},9,{"$nulls":5},".",9,{"$nulls":5},".",9]
[10,{"$nulls":6},10,{"$nulls":6},10,{"$nulls":5},10,{"$nulls":6},10,{"$nulls":6},10,{"$nulls":5},10,{"$nulls":6},10,{"$nulls":6},10,{"$nulls":5},10,{"$nulls":6},10,{"$nulls":6},10,{"$nulls":5},10,{"$nulls":6},10,{"$nulls":6},10,{"$nulls":5},10,{"$nulls":6},10,{"$nulls":6},10,{"$nulls":5},10,{"$nulls":6},10,{"$nulls":6},10]
[11,{"$nulls":6},11,{"$nulls":6},11,{"$nulls":5},11,{"$nulls":6},11,{"$nulls":6},11,{"$nulls":5},11,{"$nulls":6},11,{"$nulls":6},11,{"$nulls":5},11,{"$nulls":6},11,{"$nulls":6},11,{"$nulls":5},11,{"$nulls":6},11,{"$nulls":6},11,{"$nulls":5},11,{"$nulls":6},11,{"$nulls":6},11,{"$nulls":5},11,{"$nulls":6},11,{"$nulls":6},11]
[12,{"$nulls":6},12,{"$nulls":6},12,{"$nulls":5},12,{"$nulls":6},12,{"$nulls":6},12,{"$nulls":5},12,{"$nulls":6},12,{"$nulls":6},12,{"$nulls":5},12,{"$nulls":6},12,{"$nulls":6},12,{"$nulls":5},12,{"$nulls":6},12,{"$nulls":6},12,{"$nulls":5},12,{"$nulls":6},12,{"$nulls":6},12,{"$nulls":5},12,{"$nulls":6},12,{"$nulls":6},12]
[13,{"$nulls":5},".",13,{"$nulls":5},".",13,{"$nulls":5},13,{"$nulls":5},".",13,{"$nulls":5},".",13,{"$nulls":5},13,{"$nulls":5},".",13,{"$nulls":5},".",13,{"$nulls":5},13,{"$nulls":5},".",13,{"$nulls":5},".",13,{"$nulls":5},13,{"$nulls":5},".",13,{"$nulls":5},".",13,{"$nulls":5},13,{"$nulls":5},".",13,{"$nulls":5},".",13,{"$nulls":5},13,{"$nulls":5},".",13,{"$nulls":5},".",13]
[14,{"$nulls":6},14,{"$nulls":6},14,{"$nulls":5},14,{"$nulls":6},14,{"$nulls":6},14,{"$nulls":5},14,{"$nulls":6},14,{"$nulls":6},14,{"$nulls":5},14,{"$nulls":6},14,{"$nulls":6},14,{"$nulls":5},14,{"$nulls":6},14,{"$nulls":6},14,{"$nulls":5},14,{"$nulls":6},14,{"$nulls":6},14,{"$nulls":5},14,{"$nulls":6},14,{"$nulls":6},14]
[15,{"$nulls":6},15,{"$nulls":6},15,{"$nulls":5},15,{"$nulls":6},15,{"$nulls":6},15,{"$nulls":5},15,{"$nulls":6},15,{"$nulls":6},15,{"$nulls":5},15,{"$nulls":6},15,{"$nulls":6},15,{"$nulls":5},15,{"$nulls":6},15,{"$nulls":6},15,{"$nulls":5},15,{"$nulls":6},15,{"$nulls":6},15,{"$nulls":5},15,{"$nulls":6},15,{"$nulls":6},15]
[16,{"$nulls":6},16,{"$nulls":6},16,{"$nulls":5},16,{"$nulls":6},16,{"$nulls":6},16,{"$nulls":5},16,{"$nulls":6},16,{"$nulls":6},16,{"$nulls":5},16,{"$nulls":6},16,{"$nulls":6},16,{"$nulls":5},16,{"$nulls":6},16,{"$nulls":6},16,{"$nulls":5},16,{"$nulls":6},16,{"$nulls":6},16,{"$nulls":5},16,{"$nulls":6},16,{"$nulls":6},16]
[17,{"$nulls":5},".",17,{"$nulls":5},".",17,{"$nulls":5},17,{"$nulls":5},".",17,{"$nulls":5},".",17,{"$nulls":5},17,{"$nulls":5},".",17,{"$nulls":5},".",17,{"$nulls":5},17,{"$nulls":5},".",17,{"$nulls":5},".",17,{"$nulls":5},17,{"$nulls":5},".",17,{"$nulls":5},".",17,{"$nulls":5},17,{"$nulls":5},".",17,{"$nulls":5},".",17,{"$nulls":5},17,{"$nulls":5},".",17,{"$nulls":5},".",17]
[18,{"$nulls":6},18,{"$nulls":6},18,{"$nulls":5},18,{"$nulls":6},18,{"$nulls":6},18,{"$nulls":5},18,{"$nulls":6},18,{"$nulls":6},18,{"$nulls":5},18,{"$nulls":6},18,{"$nulls":6},18,{"$nulls":5},18,{"$nulls":6},18,{"$nulls":6},18,{"$nulls":5},18,{"$nulls":6},18,{"$nulls":6},18,{"$nulls":5},18,{"$nulls":6},18,{"$nulls":6},18]
["Total","Shots",null,null,"Shots",null,null,"Total","Shots",null,null,"Shots",null,null,"Total","Shots",null,null,"Shots",null,"Total","Shots",null,null,"Shots",null,null,"Total","Shots",null,null,"Shots",null,null,"Total","Shots",null,null,"Shots",null,"Total","Shots",null,null,"Shots",null,null,"Total","Shots",null,null,"shots",null,null,"Total","Shots",null,null,"shots",null,"Total","Shots",null,null,"Shots",null,null,"Total","Shots",null,null,"shots",null,null,"Total","Shots",null,null,"shots",null,"Total","Shots",null,null,"Shots",null,null,"Total","Shots",null,null,"Shots",null,null,"Total","Shots",null,null,"Shots",null,"Total","Shots",null,null,"Shots",null,null,"Total","Shots",null,null,"shots",null,null,"Total","Shots",null,null,"shots",null,"Total","Shots",null,null,"shots",null,null,"Total","Shots",null,null,"shots",null,null,"Total","Shots",null,null,"shots"]
[null,"Ends",null,null,"Ends",null,".",null,"Ends",null,null,"Ends",null,".",null,"Ends",null,null,"Ends",null,null,"Ends",null,null,"Ends",null,".",null,"Ends",null,null,"Ends",null,".",null,"Ends",null,null,"Ends",null,null,"Ends",null,null,"Ends",null,".",null,"Ends",null,null,"Ends",null,".",null,"Ends",null,null,"Ends",null,null,"Ends",null,null,"Ends",null,".",null,"Ends",null,null,"Ends",null,".",null,"Ends",null,null,"Ends",null,null,"Ends",null,null,"Ends",null,".",null,"Ends",null,null,"Ends",null,".",null,"Ends",null,null,"Ends",null,null,"Ends",null,null,"Ends",null,".",null,"Ends",null,null,"Ends",null,".",null,"Ends",null,null,"Ends",null,null,"Ends",null,null,"Ends",null,".",null,"Ends",null,null,"Ends",null,".",null,"Ends",null,null,"Ends"]
[]
[]
["1st Game ",{"$nulls":5},".","2nd Game ",{"$nulls":5},".","3nd Game",{"$nulls":5},"4th Game",{"$nulls":5},".","5th Game",{"$nulls":5},".","6th Game",{"$nulls":5},"7th Game",{"$nulls":5},".","8th Game",{"$nulls":5},".","9th Game",{"$nulls":5},"10th Game",{"$nulls":5},".","11th Game",{"$nulls":5},".","12th Game ",{"$nulls":5},"13th Game",{"$nulls":5},".","14th Game",{"$nulls":5},".","15th Game",{"$nulls":5},"16th Game",{"$nulls":5},".","17th Game",{"$nulls":5},".","18th Game",{"$nulls":5},"19th Game",{"$nulls":5},".","20th Game",{"$nulls":5},".","9th Game "]
["Team No",null,null,"Rink No",{"$nulls":3},"Team No",null,null,"Rink No",{"$nulls":3},"Team No",null,null,"Rink No",null,null,"Team No",null,null,"Rink No",{"$nulls":3},"Team No",null,null,"Rink No",{"$nulls":3},"Team No",null,null,"Rink No",null,null,"Team No",null,null,"Rink No",{"$nulls":3},"Team No",null,null,"Rink No",{"$nulls":3},"Team No",null,null,"Rink No",null,null,"Team No",null,null,"Rink No",{"$nulls":3},"Team No",null,null,"Rink No",{"$nulls":3},"Team No",null,null,"Rink No",null,null,"Team No",null,null,"Rink No",{"$nulls":3},"Team No",null,null,"Rink No",{"$nulls":3},"Team No",null,null,"Rink No",null,null,"Team No",null,null,"Rink No",{"$nulls":3},"Team No",null,null,"Rink No",{"$nulls":3},"Team No",null,null,"Rink No",null,null,"Team No",null,null,"Rink No",{"$nulls":3},"Team No",null,null,"Rink No",{"$nulls":3},"Team No",null,null,"Rink No"]
[]
[{"$f":"DRAW!#REF!","v":{"$error":"#REF!"}},null,null,{"$f":"DRAW!#REF!","v":{"$error":"#REF!"}},null,null,".",{"$f":"DRAW!#REF!","v":{"$error":"#REF!"}},null,null,{"$f":"DRAW!#REF!","v":{"$error":"#REF!"}},null,null,".",{"$f":"DRAW!#REF!","v":{"$error":"#REF!"}},null,null,{"$f":"DRAW!#REF!","v":{"$error":"#REF!"}},null,null,{"$f":"DRAW!#REF!","v":{"$error":"#REF!"}},null,null,{"$f":"DRAW!#REF!","v":{"$error":"#REF!"}},null,null,".",{"$f":"DRAW!#REF!","v":{"$error":"#REF!"}},null,null,{"$f":"DRAW!#REF!","v":{"$error":"#REF!"}},null,null,".",{"$f":"DRAW!#REF!","v":{"$error":"#REF!"}},null,null,{"$f":"DRAW!#REF!","v":{"$error":"#REF!"}},null,null,{"$f":"DRAW!#REF!","v":{"$error":"#REF!"}},null,null,{"$f":"DRAW!#REF!","v":{"$error":"#REF!"}},null,null,".",{"$f":"DRAW!#REF!","v":{"$error":"#REF!"}},null,null,{"$f":"DRAW!#REF!","v":{"$error":"#REF!"}},null,null,".",{"$f":"DRAW!#REF!","v":{"$error":"#REF!"}},null,null,{"$f":"DRAW!#REF!","v":{"$error":"#REF!"}},null,null,{"$f":"DRAW!#REF!","v":{"$error":"#REF!"}},null,null,{"$f":"DRAW!#REF!","v":{"$error":"#REF!"}},null,null,".",{"$f":"DRAW!#REF!","v":{"$error":"#REF!"}},null,null,{"$f":"DRAW!#REF!","v":{"$error":"#REF!"}},null,null,".",{"$f":"DRAW!#REF!","v":{"$error":"#REF!"}},null,null,{"$f":"DRAW!#REF!","v":{"$error":"#REF!"}},null,null,{"$f":"DRAW!#REF!","v":{"$error":"#REF!"}},null,null,{"$f":"DRAW!#REF!","v":{"$error":"#REF!"}},null,null,".",{"$f":"DRAW!#REF!","v":{"$error":"#REF!"}},null,null,{"$f":"DRAW!#REF!","v":{"$error":"#REF!"}},null,null,".",{"$f":"DRAW!#REF!","v":{"$error":"#REF!"}},null,null,{"$f":"DRAW!#REF!","v":{"$error":"#REF!"}},null,null,{"$f":"DRAW!#REF!","v":{"$error":"#REF!"}},null,null,{"$f":"DRAW!#REF!","v":{"$error":"#REF!"}},null,null,".",{"$f":"DRAW!#REF!","v":{"$error":"#REF!"}},null,null,{"$f":"DRAW!#REF!","v":{"$error":"#REF!"}},null,null,".",{"$f":"DRAW!#REF!","v":{"$error":"#REF!"}},null,null,{"$f":"DRAW!#REF!","v":{"$error":"#REF!"}},null,null,{"$f":"DRAW!#REF!","v":{"$error":"#REF!"}},null,null,{"$f":"DRAW!#REF!","v":{"$error":"#REF!"}},null,null,".",{"$f":"DRAW!#REF!","v":{"$error":"#REF!"}},null,null,{"$f":"DRAW!#REF!","v":{"$error":"#REF!"}},null,null,".",{"$f":"DRAW!#REF!","v":{"$error":"#REF!"}},null,null,{"$f":"DRAW!#REF!","v":{"$error":"#REF!"}}]
[null,"Team",{"$f":"DRAW!#REF!","v":{"$error":"#REF!"}},"V","Team",{"$f":"DRAW!#REF!","v":{"$error":"#REF!"}},null,null,"Team",{"$f":"DRAW!#REF!","v":{"$error":"#REF!"}},"V","Team",{"$f":"DRAW!#REF!","v":{"$error":"#REF!"}},null,null,"Team",{"$f":"DRAW!#REF!","v":{"$error":"#REF!"}},"V","Team",{"$f":"DRAW!#REF!","v":{"$error":"#REF!"}},null,"Team",{"$f":"DRAW!#REF!","v":{"$error":"#REF!"}},"V","Team",{"$f":"DRAW!#REF!","v":{"$error":"#REF!"}},null,null,"Team",{"$f":"DRAW!#REF!","v":{"$error":"#REF!"}},"V","Team",{"$f":"DRAW!#REF!","v":{"$error":"#REF!"}},null,null,"Team",{"$f":"DRAW!#REF!","v":{"$error":"#REF!"}},"V","Team",{"$f":"DRAW!#REF!","v":{"$error":"#REF!"}},null,"Team",{"$f":"DRAW!#REF!","v":{"$error":"#REF!"}},"V","Team",{"$f":"DRAW!#REF!","v":{"$error":"#REF!"}},null,null,"Team",{"$f":"DRAW!#REF!","v":{"$error":"#REF!"}},"V","Team",{"$f":"DRAW!#REF!","v":{"$error":"#REF!"}},null,null,"Team",{"$f":"DRAW!#REF!","v":{"$error":"#REF!"}},"V","Team",{"$f":"DRAW!#REF!","v":{"$error":"#REF!"}},null,"Team",{"$f":"DRAW!#REF!","v":{"$error":"#REF!"}},"V","Team",{"$f":"DRAW!#REF!","v":{"$error":"#REF!"}},null,null,"Team",{"$f":"DRAW!#REF!","v":{"$error":"#REF!"}},"V","Team",{"$f":"DRAW!#REF!","v":{"$error":"#REF!"}},null,null,"Team",{"$f":"DRAW!#REF!","v":{"$error":"#REF!"}},"V","Team",{"$f":"DRAW!#REF!","v":{"$error":"#REF!"}},null,"Team",{"$f":"DRAW!#REF!","v":{"$error":"#REF!"}},"V","Team",{"$f":"DRAW!#REF!","v":{"$error":"#REF!"}},null,null,"Team",{"$f":"DRAW!#REF!","v":{"$error":"#REF!"}},"V","Team",{"$f":"DRAW!#REF!","v":{"$error":"#REF!"}},null,null,"Team",{"$f":"DRAW!#REF!","v":{"$error":"#REF!"}},"V","Team",{"$f":"DRAW!#REF!","v":{"$error":"#REF!"}},null,"Team",{"$f":"DRAW!#REF!","v":{"$error":"#REF!"}},"V","Team",{"$f":"DRAW!#REF!","v":{"$error":"#REF!"}},null,null,"Team",{"$f":"DRAW!#REF!","v":{"$error":"#REF!"}},"V","Team",{"$f":"DRAW!#REF!","v":{"$error":"#REF!"}},null,null,"Team",{"$f":"DRAW!#REF!","v":{"$error":"#REF!"}},"V","Team",{"$f":"DRAW!#REF!","v":{"$error":"#REF!"}},null,"Team",{"$f":"DRAW!#REF!","v":{"$error":"#REF!"}},"V","Team",{"$f":"DRAW!#REF!","v":{"$error":"#REF!"}},null,null,"Team",{"$f":"DRAW!#REF!","v":{"$error":"#REF!"}},"V","Team",{"$f":"DRAW!#REF!","v":{"$error":"#REF!"}},null,null,"Team",{"$f":"DRAW!#REF!","v":{"$error":"#REF!"}},"V","Team",{"$f":"DRAW!#REF!","v":{"$error":"#REF!"}}]
["Ends","Shots","Total",null,"Shots","Total",null,"Ends","Shots","Total",null,"Shots","Total",null,"Ends","Shots","Total",null,"Shots","Total","Ends","Shots","Total",null,"Shots","Total",null,"Ends","Shots","Total",null,"Shots","Total",null,"Ends","Shots","Total",null,"Shots","Total","Ends","Shots","Total",null,"Shots","Total",null,"Ends","Shots","Total",null,"Shots","Total",null,"Ends","Shots","Total",null,"Shots","Total","Ends","Shots","Total",null,"Shots","Total",null,"Ends","Shots","Total",null,"Shots","Total",null,"Ends","Shots","Total",null,"Shots","Total","Ends","Shots","Total",null,"Shots","Total",null,"Ends","Shots","Total",null,"Shots","Total",null,"Ends","Shots","Total",null,"Shots","Total","Ends","Shots","Total",null,"Shots","Total",null,"Ends","Shots","Total",null,"Shots","Total",null,"Ends","Shots","Total",null,"Shots","Total","Ends","Shots","Total",null,"Shots","Total",null,"Ends","Shots","Total",null,"Shots","Total",null,"Ends","Shots","Total",null,"Shots","Total"]
[1,{"$nulls":5},".",1,{"$nulls":5},".",1,{"$nulls":5},1,{"$nulls":5},".",1,{"$nulls":5},".",1,{"$nulls":5},1,{"$nulls":5},".",1,{"$nulls":5},".",1,{"$nulls":5},1,{"$nulls":5},".",1,{"$nulls":5},".",1,{"$nulls":5},1,{"$nulls":5},".",1,{"$nulls":5},".",1,{"$nulls":5},1,{"$nulls":5},".",1,{"$nulls":5},".",1,{"$nulls":5},1,{"$nulls":5},".",1,{"$nulls":5},".",1]
[2,{"$nulls":6},2,{"$nulls":6},2,{"$nulls":5},2,{"$nulls":6},2,{"$nulls":6},2,{"$nulls":5},2,{"$nulls":6},2,{"$nulls":6},2,{"$nulls":5},2,{"$nulls":6},2,{"$nulls":6},2,{"$nulls":5},2,{"$nulls":6},2,{"$nulls":6},2,{"$nulls":5},2,{"$nulls":6},2,{"$nulls":6},2,{"$nulls":5},2,{"$nulls":6},2,{"$nulls":6},2]
[3,{"$nulls":6},3,{"$nulls":6},3,{"$nulls":5},3,{"$nulls":6},3,{"$nulls":6},3,{"$nulls":5},3,{"$nulls":6},3,{"$nulls":6},3,{"$nulls":5},3,{"$nulls":6},3,{"$nulls":6},3,{"$nulls":5},3,{"$nulls":6},3,{"$nulls":6},3,{"$nulls":5},3,{"$nulls":6},3,{"$nulls":6},3,{"$nulls":5},3,{"$nulls":6},3,{"$nulls":6},3]
[4,{"$nulls":6},4,{"$nulls":6},4,{"$nulls":5},4,{"$nulls":6},4,{"$nulls":6},4,{"$nulls":5},4,{"$nulls":6},4,{"$nulls":6},4,{"$nulls":5},4,{"$nulls":6},4,{"$nulls":6},4,{"$nulls":5},4,{"$nulls":6},4,{"$nulls":6},4,{"$nulls":5},4,{"$nulls":6},4,{"$nulls":6},4,{"$nulls":5},4,{"$nulls":6},4,{"$nulls":6},4]
[5,{"$nulls":5},".",5,{"$nulls":5},".",5,{"$nulls":5},5,{"$nulls":5},".",5,{"$nulls":5},".",5,{"$nulls":5},5,{"$nulls":5},".",5,{"$nulls":5},".",5,{"$nulls":5},5,{"$nulls":5},".",5,{"$nulls":5},".",5,{"$nulls":5},5,{"$nulls":5},".",5,{"$nulls":5},".",5,{"$nulls":5},5,{"$nulls":5},".",5,{"$nulls":5},".",5,{"$nulls":5},5,{"$nulls":5},".",5,{"$nulls":5},".",5]
[6,{"$nulls":6},6,{"$nulls":6},6,{"$nulls":5},6,{"$nulls":6},6,{"$nulls":6},6,{"$nulls":5},6,{"$nulls":6},6,{"$nulls":6},6,{"$nulls":5},6,{"$nulls":6},6,{"$nulls":6},6,{"$nulls":5},6,{"$nulls":6},6,{"$nulls":6},6,{"$nulls":5},6,{"$nulls":6},6,{"$nulls":6},6,{"$nulls":5},6,{"$nulls":6},6,{"$nulls":6},6]
[7,{"$nulls":6},7,{"$nulls":6},7,{"$nulls":5},7,{"$nulls":6},7,{"$nulls":6},7,{"$nulls":5},7,{"$nulls":6},7,{"$nulls":6},7,{"$nulls":5},7,{"$nulls":6},7,{"$nulls":6},7,{"$nulls":5},7,{"$nulls":6},7,{"$nulls":6},7,{"$nulls":5},7,{"$nulls":6},7,{"$nulls":6},7,{"$nulls":5},7,{"$nulls":6},7,{"$nulls":6},7]
[8,{"$nulls":6},8,{"$nulls":6},8,{"$nulls":5},8,{"$nulls":6},8,{"$nulls":6},8,{"$nulls":5},8,{"$nulls":6},8,{"$nulls":6},8,{"$nulls":5},8,{"$nulls":6},8,{"$nulls":6},8,{"$nulls":5},8,{"$nulls":6},8,{"$nulls":6},8,{"$nulls":5},8,{"$nulls":6},8,{"$nulls":6},8,{"$nulls":5},8,{"$nulls":6},8,{"$nulls":6},8]
[9,{"$nulls":5},".",9,{"$nulls":5},".",9,{"$nulls":5},9,{"$nulls":5},".",9,{"$nulls":5},".",9,{"$nulls":5},9,{"$nulls":5},".",9,{"$nulls":5},".",9,{"$nulls":5},9,{"$nulls":5},".",9,{"$nulls":5},".",9,{"$nulls":5},9,{"$nulls":5},".",9,{"$nulls":5},".",9,{"$nulls":5},9,{"$nulls":5},".",9,{"$nulls":5},".",9,{"$nulls":5},9,{"$nulls":5},".",9,{"$nulls":5},".",9]
[10,{"$nulls":6},10,{"$nulls":6},10,{"$nulls":5},10,{"$nulls":6},10,{"$nulls":6},10,{"$nulls":5},10,{"$nulls":6},10,{"$nulls":6},10,{"$nulls":5},10,{"$nulls":6},10,{"$nulls":6},10,{"$nulls":5},10,{"$nulls":6},10,{"$nulls":6},10,{"$nulls":5},10,{"$nulls":6},10,{"$nulls":6},10,{"$nulls":5},10,{"$nulls":6},10,{"$nulls":6},10]
[11,{"$nulls":6},11,{"$nulls":6},11,{"$nulls":5},11,{"$nulls":6},11,{"$nulls":6},11,{"$nulls":5},11,{"$nulls":6},11,{"$nulls":6},11,{"$nulls":5},11,{"$nulls":6},11,{"$nulls":6},11,{"$nulls":5},11,{"$nulls":6},11,{"$nulls":6},11,{"$nulls":5},11,{"$nulls":6},11,{"$nulls":6},11,{"$nulls":5},11,{"$nulls":6},11,{"$nulls":6},11]
[12,{"$nulls":6},12,{"$nulls":6},12,{"$nulls":5},12,{"$nulls":6},12,{"$nulls":6},12,{"$nulls":5},12,{"$nulls":6},12,{"$nulls":6},12,{"$nulls":5},12,{"$nulls":6},12,{"$nulls":6},12,{"$nulls":5},12,{"$nulls":6},12,{"$nulls":6},12,{"$nulls":5},12,{"$nulls":6},12,{"$nulls":6},12,{"$nulls":5},12,{"$nulls":6},12,{"$nulls":6},12]
[13,{"$nulls":5},".",13,{"$nulls":5},".",13,{"$nulls":5},13,{"$nulls":5},".",13,{"$nulls":5},".",13,{"$nulls":5},13,{"$nulls":5},".",13,{"$nulls":5},".",13,{"$nulls":5},13,{"$nulls":5},".",13,{"$nulls":5},".",13,{"$nulls":5},13,{"$nulls":5},".",13,{"$nulls":5},".",13,{"$nulls":5},13,{"$nulls":5},".",13,{"$nulls":5},".",13,{"$nulls":5},13,{"$nulls":5},".",13,{"$nulls":5},".",13]
[14,{"$nulls":6},14,{"$nulls":6},14,{"$nulls":5},14,{"$nulls":6},14,{"$nulls":6},14,{"$nulls":5},14,{"$nulls":6},14,{"$nulls":6},14,{"$nulls":5},14,{"$nulls":6},14,{"$nulls":6},14,{"$nulls":5},14,{"$nulls":6},14,{"$nulls":6},14,{"$nulls":5},14,{"$nulls":6},14,{"$nulls":6},14,{"$nulls":5},14,{"$nulls":6},14,{"$nulls":6},14]
[15,{"$nulls":6},15,{"$nulls":6},15,{"$nulls":5},15,{"$nulls":6},15,{"$nulls":6},15,{"$nulls":5},15,{"$nulls":6},15,{"$nulls":6},15,{"$nulls":5},15,{"$nulls":6},15,{"$nulls":6},15,{"$nulls":5},15,{"$nulls":6},15,{"$nulls":6},15,{"$nulls":5},15,{"$nulls":6},15,{"$nulls":6},15,{"$nulls":5},15,{"$nulls":6},15,{"$nulls":6},15]
[16,{"$nulls":6},16,{"$nulls":6},16,{"$nulls":5},16,{"$nulls":6},16,{"$nulls":6},16,{"$nulls":5},16,{"$nulls":6},16,{"$nulls":6},16,{"$nulls":5},16,{"$nulls":6},16,{"$nulls":6},16,{"$nulls":5},16,{"$nulls":6},16,{"$nulls":6},16,{"$nulls":5},16,{"$nulls":6},16,{"$nulls":6},16,{"$nulls":5},16,{"$nulls":6},16,{"$nulls":6},16]
[17,{"$nulls":5},".",17,{"$nulls":5},".",17,{"$nulls":5},17,{"$nulls":5},".",17,{"$nulls":5},".",17,{"$nulls":5},17,{"$nulls":5},".",17,{"$nulls":5},".",17,{"$nulls":5},17,{"$nulls":5},".",17,{"$nulls":5},".",17,{"$nulls":5},17,{"$nulls":5},".",17,{"$nulls":5},".",17,{"$nulls":5},17,{"$nulls":5},".",17,{"$nulls":5},".",17,{"$nulls":5},17,{"$nulls":5},".",17,{"$nulls":5},".",17]
[18,{"$nulls":6},18,{"$nulls":6},18,{"$nulls":5},18,{"$nulls":6},18,{"$nulls":6},18,{"$nulls":5},18,{"$nulls":6},18,{"$nulls":6},18,{"$nulls":5},18,{"$nulls":6},18,{"$nulls":6},18,{"$nulls":5},18,{"$nulls":6},18,{"$nulls":6},18,{"$nulls":5},18,{"$nulls":6},18,{"$nulls":6},18,{"$nulls":5},18,{"$nulls":6},18,{"$nulls":6},18]
["Total","Shots",null,null,"Shots",null,null,"Total","Shots",null,null,"Shots",null,null,"Total","Shots",null,null,"Shots",null,"Total","Shots",null,null,"Shots",null,null,"Total","Shots",null,null,"Shots",null,null,"Total","Shots",null,null,"Shots",null,"Total","Shots",null,null,"Shots",null,null,"Total","Shots",null,null,"shots",null,null,"Total","Shots",null,null,"shots",null,"Total","Shots",null,null,"Shots",null,null,"Total","Shots",null,null,"shots",null,null,"Total","Shots",null,null,"shots",null,"Total","Shots",null,null,"Shots",null,null,"Total","Shots",null,null,"Shots",null,null,"Total","Shots",null,null,"Shots",null,"Total","Shots",null,null,"Shots",null,null,"Total","Shots",null,null,"shots",null,null,"Total","Shots",null,null,"shots",null,"Total","Shots",null,null,"shots",null,null,"Total","Shots",null,null,"shots",null,null,"Total","Shots",null,null,"shots"]
[null,"Ends",null,null,"Ends",null,".",null,"Ends",null,null,"Ends",null,".",null,"Ends",null,null,"Ends",null,null,"Ends",null,null,"Ends",null,".",null,"Ends",null,null,"Ends",null,".",null,"Ends",null,null,"Ends",null,null,"Ends",null,null,"Ends",null,".",null,"Ends",null,null,"Ends",null,".",null,"Ends",null,null,"Ends",null,null,"Ends",null,null,"Ends",null,".",null,"Ends",null,null,"Ends",null,".",null,"Ends",null,null,"Ends",null,null,"Ends",null,null,"Ends",null,".",null,"Ends",null,null,"Ends",null,".",null,"Ends",null,null,"Ends",null,null,"Ends",null,null,"Ends",null,".",null,"Ends",null,null,"Ends",null,".",null,"Ends",null,null,"Ends",null,null,"Ends",null,null,"Ends",null,".",null,"Ends",null,null,"Ends",null,".",null,"Ends",null,null,"Ends"]
["1st Game ",{"$nulls":5},".","2nd Game ",{"$nulls":5},".","3nd Game",{"$nulls":5},"4th Game",{"$nulls":5},".","5th Game",{"$nulls":5},".","6th Game",{"$nulls":5},"7th Game",{"$nulls":5},".","8th Game",{"$nulls":5},".","9th Game",{"$nulls":5},"10th Game",{"$nulls":5},".","11th Game",{"$nulls":5},".","12th Game ",{"$nulls":5},"13th Game",{"$nulls":5},".","14th Game",{"$nulls":5},".","15th Game",{"$nulls":5},"16th Game",{"$nulls":5},".","17th Game",{"$nulls":5},".","18th Game",{"$nulls":5},"19th Game",{"$nulls":5},".","20th Game",{"$nulls":5},".","9th Game "]
["Team No",null,null,"Rink No",{"$nulls":3},"Team No",null,null,"Rink No",{"$nulls":3},"Team No",null,null,"Rink No",null,null,"Team No",null,null,"Rink No",{"$nulls":3},"Team No",null,null,"Rink No",{"$nulls":3},"Team No",null,null,"Rink No",null,null,"Team No",null,null,"Rink No",{"$nulls":3},"Team No",null,null,"Rink No",{"$nulls":3},"Team No",null,null,"Rink No",null,null,"Team No",null,null,"Rink No",{"$nulls":3},"Team No",null,null,"Rink No",{"$nulls":3},"Team No",null,null,"Rink No",null,null,"Team No",null,null,"Rink No",{"$nulls":3},"Team No",null,null,"Rink No",{"$nulls":3},"Team No",null,null,"Rink No",null,null,"Team No",null,null,"Rink No",{"$nulls":3},"Team No",null,null,"Rink No",{"$nulls":3},"Team No",null,null,"Rink No",null,null,"Team No",null,null,"Rink No",{"$nulls":3},"Team No",null,null,"Rink No",{"$nulls":3},"Team No",null,null,"Rink No"]
[]
[{"$f":"DRAW!#REF!","v":{"$error":"#REF!"}},null,null,{"$f":"DRAW!#REF!","v":{"$error":"#REF!"}},null,null,".",{"$f":"DRAW!#REF!","v":{"$error":"#REF!"}},null,null,{"$f":"DRAW!#REF!","v":{"$error":"#REF!"}},null,null,".",{"$f":"DRAW!#REF!","v":{"$error":"#REF!"}},null,null,{"$f":"DRAW!#REF!","v":{"$error":"#REF!"}},null,null,{"$f":"DRAW!#REF!","v":{"$error":"#REF!"}},null,null,{"$f":"DRAW!#REF!","v":{"$error":"#REF!"}},null,null,".",{"$f":"DRAW!#REF!","v":{"$error":"#REF!"}},null,null,{"$f":"DRAW!#REF!","v":{"$error":"#REF!"}},null,null,".",{"$f":"DRAW!#REF!","v":{"$error":"#REF!"}},null,null,{"$f":"DRAW!#REF!","v":{"$error":"#REF!"}},null,null,{"$f":"DRAW!#REF!","v":{"$error":"#REF!"}},null,null,{"$f":"DRAW!#REF!","v":{"$error":"#REF!"}},null,null,".",{"$f":"DRAW!#REF!","v":{"$error":"#REF!"}},null,null,{"$f":"DRAW!#REF!","v":{"$error":"#REF!"}},null,null,".",{"$f":"DRAW!#REF!","v":{"$error":"#REF!"}},null,null,{"$f":"DRAW!#REF!","v":{"$error":"#REF!"}},null,null,{"$f":"DRAW!#REF!","v":{"$error":"#REF!"}},null,null,{"$f":"DRAW!#REF!","v":{"$error":"#REF!"}},null,null,".",{"$f":"DRAW!#REF!","v":{"$error":"#REF!"}},null,null,{"$f":"DRAW!#REF!","v":{"$error":"#REF!"}},null,null,".",{"$f":"DRAW!#REF!","v":{"$error":"#REF!"}},null,null,{"$f":"DRAW!#REF!","v":{"$error":"#REF!"}},null,null,{"$f":"DRAW!#REF!","v":{"$error":"#REF!"}},null,null,{"$f":"DRAW!#REF!","v":{"$error":"#REF!"}},null,null,".",{"$f":"DRAW!#REF!","v":{"$error":"#REF!"}},null,null,{"$f":"DRAW!#REF!","v":{"$error":"#REF!"}},null,null,".",{"$f":"DRAW!#REF!","v":{"$error":"#REF!"}},null,null,{"$f":"DRAW!#REF!","v":{"$error":"#REF!"}},null,null,{"$f":"DRAW!#REF!","v":{"$error":"#REF!"}},null,null,{"$f":"DRAW!#REF!","v":{"$error":"#REF!"}},null,null,".",{"$f":"DRAW!#REF!","v":{"$error":"#REF!"}},null,null,{"$f":"DRAW!#REF!","v":{"$error":"#REF!"}},null,null,".",{"$f":"DRAW!#REF!","v":{"$error":"#REF!"}},null,null,{"$f":"DRAW!#REF!","v":{"$error":"#REF!"}},null,null,{"$f":"DRAW!#REF!","v":{"$error":"#REF!"}},null,null,{"$f":"DRAW!#REF!","v":{"$error":"#REF!"}},null,null,".",{"$f":"DRAW!#REF!","v":{"$error":"#REF!"}},null,null,{"$f":"DRAW!#REF!","v":{"$error":"#REF!"}},null,null,".",{"$f":"DRAW!#REF!","v":{"$error":"#REF!"}},null,null,{"$f":"DRAW!#REF!","v":{"$error":"#REF!"}}]
[null,"Team",{"$f":"DRAW!#REF!","v":{"$error":"#REF!"}},"V","Team",{"$f":"DRAW!#REF!","v":{"$error":"#REF!"}},null,null,"Team",{"$f":"DRAW!#REF!","v":{"$error":"#REF!"}},"V","Team",{"$f":"DRAW!#REF!","v":{"$error":"#REF!"}},null,null,"Team",{"$f":"DRAW!#REF!","v":{"$error":"#REF!"}},"V","Team",{"$f":"DRAW!#REF!","v":{"$error":"#REF!"}},null,"Team",{"$f":"DRAW!#REF!","v":{"$error":"#REF!"}},"V","Team",{"$f":"DRAW!#REF!","v":{"$error":"#REF!"}},null,null,"Team",{"$f":"DRAW!#REF!","v":{"$error":"#REF!"}},"V","Team",{"$f":"DRAW!#REF!","v":{"$error":"#REF!"}},null,null,"Team",{"$f":"DRAW!#REF!","v":{"$error":"#REF!"}},"V","Team",{"$f":"DRAW!#REF!","v":{"$error":"#REF!"}},null,"Team",{"$f":"DRAW!#REF!","v":{"$error":"#REF!"}},"V","Team",{"$f":"DRAW!#REF!","v":{"$error":"#REF!"}},null,null,"Team",{"$f":"DRAW!#REF!","v":{"$error":"#REF!"}},"V","Team",{"$f":"DRAW!#REF!","v":{"$error":"#REF!"}},null,null,"Team",{"$f":"DRAW!#REF!","v":{"$error":"#REF!"}},"V","Team",{"$f":"DRAW!#REF!","v":{"$error":"#REF!"}},null,"Team",{"$f":"DRAW!#REF!","v":{"$error":"#REF!"}},"V","Team",{"$f":"DRAW!#REF!","v":{"$error":"#REF!"}},null,null,"Team",{"$f":"DRAW!#REF!","v":{"$error":"#REF!"}},"V","Team",{"$f":"DRAW!#REF!","v":{"$error":"#REF!"}},null,null,"Team",{"$f":"DRAW!#REF!","v":{"$error":"#REF!"}},"V","Team",{"$f":"DRAW!#REF!","v":{"$error":"#REF!"}},null,"Team",{"$f":"DRAW!#REF!","v":{"$error":"#REF!"}},"V","Team",{"$f":"DRAW!#REF!","v":{"$error":"#REF!"}},null,null,"Team",{"$f":"DRAW!#REF!","v":{"$error":"#REF!"}},"V","Team",{"$f":"DRAW!#REF!","v":{"$error":"#REF!"}},null,null,"Team",{"$f":"DRAW!#REF!","v":{"$error":"#REF!"}},"V","Team",{"$f":"DRAW!#REF!","v":{"$error":"#REF!"}},null,"Team",{"$f":"DRAW!#REF!","v":{"$error":"#REF!"}},"V","Team",{"$f":"DRAW!#REF!","v":{"$error":"#REF!"}},null,null,"Team",{"$f":"DRAW!#REF!","v":{"$error":"#REF!"}},"V","Team",{"$f":"DRAW!#REF!","v":{"$error":"#REF!"}},null,null,"Team",{"$f":"DRAW!#REF!","v":{"$error":"#REF!"}},"V","Team",{"$f":"DRAW!#REF!","v":{"$error":"#REF!"}},null,"Team",{"$f":"DRAW!#REF!","v":{"$error":"#REF!"}},"V","Team",{"$f":"DRAW!#REF!","v":{"$error":"#REF!"}},null,null,"Team",{"$f":"DRAW!#REF!","v":{"$error":"#REF!"}},"V","Team",{"$f":"DRAW!#REF!","v":{"$error":"#REF!"}},null,null,"Team",{"$f":"DRAW!#REF!","v":{"$error":"#REF!"}},"V","Team",{"$f":"DRAW!#REF!","v":{"$error":"#REF!"}}]
["Ends","Shots","Total",null,"Shots","Total",null,"Ends","Shots","Total",null,"Shots","Total",null,"Ends","Shots","Total",null,"Shots","Total","Ends","Shots","Total",null,"Shots","Total",null,"Ends","Shots","Total",null,"Shots","Total",null,"Ends","Shots","Total",null,"Shots","Total","Ends","Shots","Total",null,"Shots","Total",null,"Ends","Shots","Total",null,"Shots","Total",null,"Ends","Shots","Total",null,"Shots","Total","Ends","Shots","Total",null,"Shots","Total",null,"Ends","Shots","Total",null,"Shots","Total",null,"Ends","Shots","Total",null,"Shots","Total","Ends","Shots","Total",null,"Shots","Total",null,"Ends","Shots","Total",null,"Shots","Total",null,"Ends","Shots","Total",null,"Shots","Total","Ends","Shots","Total",null,"Shots","Total",null,"Ends","Shots","Total",null,"Shots","Total",null,"Ends","Shots","Total",null,"Shots","Total","Ends","Shots","Total",null,"Shots","Total",null,"Ends","Shots","Total",null,"Shots","Total",null,"Ends","Shots","Total",null,"Shots","Total"]
[1,{"$nulls":5},".",1,{"$nulls":5},".",1,{"$nulls":5},1,{"$nulls":5},".",1,{"$nulls":5},".",1,{"$nulls":5},1,{"$nulls":5},".",1,{"$nulls":5},".",1,{"$nulls":5},1,{"$nulls":5},".",1,{"$nulls":5},".",1,{"$nulls":5},1,{"$nulls":5},".",1,{"$nulls":5},".",1,{"$nulls":5},1,{"$nulls":5},".",1,{"$nulls":5},".",1,{"$nulls":5},1,{"$nulls":5},".",1,{"$nulls":5},".",1]
[2,{"$nulls":6},2,{"$nulls":6},2,{"$nulls":5},2,{"$nulls":6},2,{"$nulls":6},2,{"$nulls":5},2,{"$nulls":6},2,{"$nulls":6},2,{"$nulls":5},2,{"$nulls":6},2,{"$nulls":6},2,{"$nulls":5},2,{"$nulls":6},2,{"$nulls":6},2,{"$nulls":5},2,{"$nulls":6},2,{"$nulls":6},2,{"$nulls":5},2,{"$nulls":6},2,{"$nulls":6},2]
[3,{"$nulls":6},3,{"$nulls":6},3,{"$nulls":5},3,{"$nulls":6},3,{"$nulls":6},3,{"$nulls":5},3,{"$nulls":6},3,{"$nulls":6},3,{"$nulls":5},3,{"$nulls":6},3,{"$nulls":6},3,{"$nulls":5},3,{"$nulls":6},3,{"$nulls":6},3,{"$nulls":5},3,{"$nulls":6},3,{"$nulls":6},3,{"$nulls":5},3,{"$nulls":6},3,{"$nulls":6},3]
[4,{"$nulls":6},4,{"$nulls":6},4,{"$nulls":5},4,{"$nulls":6},4,{"$nulls":6},4,{"$nulls":5},4,{"$nulls":6},4,{"$nulls":6},4,{"$nulls":5},4,{"$nulls":6},4,{"$nulls":6},4,{"$nulls":5},4,{"$nulls":6},4,{"$nulls":6},4,{"$nulls":5},4,{"$nulls":6},4,{"$nulls":6},4,{"$nulls":5},4,{"$nulls":6},4,{"$nulls":6},4]
[5,{"$nulls":5},".",5,{"$nulls":5},".",5,{"$nulls":5},5,{"$nulls":5},".",5,{"$nulls":5},".",5,{"$nulls":5},5,{"$nulls":5},".",5,{"$nulls":5},".",5,{"$nulls":5},5,{"$nulls":5},".",5,{"$nulls":5},".",5,{"$nulls":5},5,{"$nulls":5},".",5,{"$nulls":5},".",5,{"$nulls":5},5,{"$nulls":5},".",5,{"$nulls":5},".",5,{"$nulls":5},5,{"$nulls":5},".",5,{"$nulls":5},".",5]
[6,{"$nulls":6},6,{"$nulls":6},6,{"$nulls":5},6,{"$nulls":6},6,{"$nulls":6},6,{"$nulls":5},6,{"$nulls":6},6,{"$nulls":6},6,{"$nulls":5},6,{"$nulls":6},6,{"$nulls":6},6,{"$nulls":5},6,{"$nulls":6},6,{"$nulls":6},6,{"$nulls":5},6,{"$nulls":6},6,{"$nulls":6},6,{"$nulls":5},6,{"$nulls":6},6,{"$nulls":6},6]
[7,{"$nulls":6},7,{"$nulls":6},7,{"$nulls":5},7,{"$nulls":6},7,{"$nulls":6},7,{"$nulls":5},7,{"$nulls":6},7,{"$nulls":6},7,{"$nulls":5},7,{"$nulls":6},7,{"$nulls":6},7,{"$nulls":5},7,{"$nulls":6},7,{"$nulls":6},7,{"$nulls":5},7,{"$nulls":6},7,{"$nulls":6},7,{"$nulls":5},7,{"$nulls":6},7,{"$nulls":6},7]
[8,{"$nulls":6},8,{"$nulls":6},8,{"$nulls":5},8,{"$nulls":6},8,{"$nulls":6},8,{"$nulls":5},8,{"$nulls":6},8,{"$nulls":6},8,{"$nulls":5},8,{"$nulls":6},8,{"$nulls":6},8,{"$nulls":5},8,{"$nulls":6},8,{"$nulls":6},8,{"$nulls":5},8,{"$nulls":6},8,{"$nulls":6},8,{"$nulls":5},8,{"$nulls":6},8,{"$nulls":6},8]
[9,{"$nulls":5},".",9,{"$nulls":5},".",9,{"$nulls":5},9,{"$nulls":5},".",9,{"$nulls":5},".",9,{"$nulls":5},9,{"$nulls":5},".",9,{"$nulls":5},".",9,{"$nulls":5},9,{"$nulls":5},".",9,{"$nulls":5},".",9,{"$nulls":5},9,{"$nulls":5},".",9,{"$nulls":5},".",9,{"$nulls":5},9,{"$nulls":5},".",9,{"$nulls":5},".",9,{"$nulls":5},9,{"$nulls":5},".",9,{"$nulls":5},".",9]
[10,{"$nulls":6},10,{"$nulls":6},10,{"$nulls":5},10,{"$nulls":6},10,{"$nulls":6},10,{"$nulls":5},10,{"$nulls":6},10,{"$nulls":6},10,{"$nulls":5},10,{"$nulls":6},10,{"$nulls":6},10,{"$nulls":5},10,{"$nulls":6},10,{"$nulls":6},10,{"$nulls":5},10,{"$nulls":6},10,{"$nulls":6},10,{"$nulls":5},10,{"$nulls":6},10,{"$nulls":6},10]
[11,{"$nulls":6},11,{"$nulls":6},11,{"$nulls":5},11,{"$nulls":6},11,{"$nulls":6},11,{"$nulls":5},11,{"$nulls":6},11,{"$nulls":6},11,{"$nulls":5},11,{"$nulls":6},11,{"$nulls":6},11,{"$nulls":5},11,{"$nulls":6},11,{"$nulls":6},11,{"$nulls":5},11,{"$nulls":6},11,{"$nulls":6},11,{"$nulls":5},11,{"$nulls":6},11,{"$nulls":6},11]
[12,{"$nulls":6},12,{"$nulls":6},12,{"$nulls":5},12,{"$nulls":6},12,{"$nulls":6},12,{"$nulls":5},12,{"$nulls":6},12,{"$nulls":6},12,{"$nulls":5},12,{"$nulls":6},12,{"$nulls":6},12,{"$nulls":5},12,{"$nulls":6},12,{"$nulls":6},12,{"$nulls":5},12,{"$nulls":6},12,{"$nulls":6},12,{"$nulls":5},12,{"$nulls":6},12,{"$nulls":6},12]
[13,{"$nulls":5},".",13,{"$nulls":5},".",13,{"$nulls":5},13,{"$nulls":5},".",13,{"$nulls":5},".",13,{"$nulls":5},13,{"$nulls":5},".",13,{"$nulls":5},".",13,{"$nulls":5},13,{"$nulls":5},".",13,{"$nulls":5},".",13,{"$nulls":5},13,{"$nulls":5},".",13,{"$nulls":5},".",13,{"$nulls":5},13,{"$nulls":5},".",13,{"$nulls":5},".",13,{"$nulls":5},13,{"$nulls":5},".",13,{"$nulls":5},".",13]
[14,{"$nulls":6},14,{"$nulls":6},14,{"$nulls":5},14,{"$nulls":6},14,{"$nulls":6},14,{"$nulls":5},14,{"$nulls":6},14,{"$nulls":6},14,{"$nulls":5},14,{"$nulls":6},14,{"$nulls":6},14,{"$nulls":5},14,{"$nulls":6},14,{"$nulls":6},14,{"$nulls":5},14,{"$nulls":6},14,{"$nulls":6},14,{"$nulls":5},14,{"$nulls":6},14,{"$nulls":6},14]
[15,{"$nulls":6},15,{"$nulls":6},15,{"$nulls":5},15,{"$nulls":6},15,{"$nulls":6},15,{"$nulls":5},15,{"$nulls":6},15,{"$nulls":6},15,{"$nulls":5},15,{"$nulls":6},15,{"$nulls":6},15,{"$nulls":5},15,{"$nulls":6},15,{"$nulls":6},15,{"$nulls":5},15,{"$nulls":6},15,{"$nulls":6},15,{"$nulls":5},15,{"$nulls":6},15,{"$nulls":6},15]
[16,{"$nulls":6},16,{"$nulls":6},16,{"$nulls":5},16,{"$nulls":6},16,{"$nulls":6},16,{"$nulls":5},16,{"$nulls":6},16,{"$nulls":6},16,{"$nulls":5},16,{"$nulls":6},16,{"$nulls":6},16,{"$nulls":5},16,{"$nulls":6},16,{"$nulls":6},16,{"$nulls":5},16,{"$nulls":6},16,{"$nulls":6},16,{"$nulls":5},16,{"$nulls":6},16,{"$nulls":6},16]
[17,{"$nulls":5},".",17,{"$nulls":5},".",17,{"$nulls":5},17,{"$nulls":5},".",17,{"$nulls":5},".",17,{"$nulls":5},17,{"$nulls":5},".",17,{"$nulls":5},".",17,{"$nulls":5},17,{"$nulls":5},".",17,{"$nulls":5},".",17,{"$nulls":5},17,{"$nulls":5},".",17,{"$nulls":5},".",17,{"$nulls":5},17,{"$nulls":5},".",17,{"$nulls":5},".",17,{"$nulls":5},17,{"$nulls":5},".",17,{"$nulls":5},".",17]
[18,{"$nulls":6},18,{"$nulls":6},18,{"$nulls":5},18,{"$nulls":6},18,{"$nulls":6},18,{"$nulls":5},18,{"$nulls":6},18,{"$nulls":6},18,{"$nulls":5},18,{"$nulls":6},18,{"$nulls":6},18,{"$nulls":5},18,{"$nulls":6},18,{"$nulls":6},18,{"$nulls":5},18,{"$nulls":6},18,{"$nulls":6},18,{"$nulls":5},18,{"$nulls":6},18,{"$nulls":6},18]
["Total","Shots",null,null,"Shots",null,null,"Total","Shots",null,null,"Shots",null,null,"Total","Shots",null,null,"Shots",null,"Total","Shots",null,null,"Shots",null,null,"Total","Shots",null,null,"Shots",null,null,"Total","Shots",null,null,"Shots",null,"Total","Shots",null,null,"Shots",null,null,"Total","Shots",null,null,"shots",null,null,"Total","Shots",null,null,"shots",null,"Total","Shots",null,null,"Shots",null,null,"Total","Shots",null,null,"shots",null,null,"Total","Shots",null,null,"shots",null,"Total","Shots",null,null,"Shots",null,null,"Total","Shots",null,null,"Shots",null,null,"Total","Shots",null,null,"Shots",null,"Total","Shots",null,null,"Shots",null,null,"Total","Shots",null,null,"shots",null,null,"Total","Shots",null,null,"shots",null,"Total","Shots",null,null,"shots",null,null,"Total","Shots",null,null,"shots",null,null,"Total","Shots",null,null,"shots"]
[null,"Ends",null,null,"Ends",null,".",null,"Ends",null,null,"Ends",null,".",null,"Ends",null,null,"Ends",null,null,"Ends",null,null,"Ends",null,".",null,"Ends",null,null,"Ends",null,".",null,"Ends",null,null,"Ends",null,null,"Ends",null,null,"Ends",null,".",null,"Ends",null,null,"Ends",null,".",null,"Ends",null,null,"Ends",null,null,"Ends",null,null,"Ends",null,".",null,"Ends",null,null,"Ends",null,".",null,"Ends",null,null,"Ends",null,null,"Ends",null,null,"Ends",null,".",null,"Ends",null,null,"Ends",null,".",null,"Ends",null,null,"Ends",null,null,"Ends",null,null,"Ends",null,".",null,"Ends",null,null,"Ends",null,".",null,"Ends",null,null,"Ends",null,null,"Ends",null,null,"Ends",null,".",null,"Ends",null,null,"Ends",null,".",null,"Ends",null,null,"Ends"]
[]
[]
["1st Game ",{"$nulls":5},".","2nd Game ",{"$nulls":5},".","3nd Game",{"$nulls":5},"4th Game",{"$nulls":5},".","5th Game",{"$nulls":5},".","6th Game",{"$nulls":5},"7th Game",{"$nulls":5},".","8th Game",{"$nulls":5},".","9th Game",{"$nulls":5},"10th Game",{"$nulls":5},".","11th Game",{"$nulls":5},".","12th Game ",{"$nulls":5},"13th Game",{"$nulls":5},".","14th Game",{"$nulls":5},".","15th Game",{"$nulls":5},"16th Game",{"$nulls":5},".","17th Game",{"$nulls":5},".","18th Game",{"$nulls":5},"19th Game",{"$nulls":5},".","20th Game",{"$nulls":5},".","9th Game "]
["Team No",null,null,"Rink No",{"$nulls":3},"Team No",null,null,"Rink No",{"$nulls":3},"Team No",null,null,"Rink No",null,null,"Team No",null,null,"Rink No",{"$nulls":3},"Team No",null,null,"Rink No",{"$nulls":3},"Team No",null,null,"Rink No",null,null,"Team No",null,null,"Rink No",{"$nulls":3},"Team No",null,null,"Rink No",{"$nulls":3},"Team No",null,null,"Rink No",null,null,"Team No",null,null,"Rink No",{"$nulls":3},"Team No",null,null,"Rink No",{"$nulls":3},"Team No",null,null,"Rink No",null,null,"Team No",null,null,"Rink No",{"$nulls":3},"Team No",null,null,"Rink No",{"$nulls":3},"Team No",null,null,"Rink No",null,null,"Team No",null,null,"Rink No",{"$nulls":3},"Team No",null,null,"Rink No",{"$nulls":3},"Team No",null,null,"Rink No",null,null,"Team No",null,null,"Rink No",{"$nulls":3},"Team No",null,null,"Rink No",{"$nulls":3},"Team No",null,null,"Rink No"]
[]
[{"$f":"DRAW!#REF!","v":{"$error":"#REF!"}},null,null,{"$f":"DRAW!#REF!","v":{"$error":"#REF!"}},null,null,".",{"$f":"DRAW!#REF!","v":{"$error":"#REF!"}},null,null,{"$f":"DRAW!#REF!","v":{"$error":"#REF!"}},null,null,".",{"$f":"DRAW!#REF!","v":{"$error":"#REF!"}},null,null,{"$f":"DRAW!#REF!","v":{"$error":"#REF!"}},null,null,{"$f":"DRAW!#REF!","v":{"$error":"#REF!"}},null,null,{"$f":"DRAW!#REF!","v":{"$error":"#REF!"}},null,null,".",{"$f":"DRAW!#REF!","v":{"$error":"#REF!"}},null,null,{"$f":"DRAW!#REF!","v":{"$error":"#REF!"}},null,null,".",{"$f":"DRAW!#REF!","v":{"$error":"#REF!"}},null,null,{"$f":"DRAW!#REF!","v":{"$error":"#REF!"}},null,null,{"$f":"DRAW!#REF!","v":{"$error":"#REF!"}},null,null,{"$f":"DRAW!#REF!","v":{"$error":"#REF!"}},null,null,".",{"$f":"DRAW!#REF!","v":{"$error":"#REF!"}},null,null,{"$f":"DRAW!#REF!","v":{"$error":"#REF!"}},null,null,".",{"$f":"DRAW!#REF!","v":{"$error":"#REF!"}},null,null,{"$f":"DRAW!#REF!","v":{"$error":"#REF!"}},null,null,{"$f":"DRAW!#REF!","v":{"$error":"#REF!"}},null,null,{"$f":"DRAW!#REF!","v":{"$error":"#REF!"}},null,null,".",{"$f":"DRAW!#REF!","v":{"$error":"#REF!"}},null,null,{"$f":"DRAW!#REF!","v":{"$error":"#REF!"}},null,null,".",{"$f":"DRAW!#REF!","v":{"$error":"#REF!"}},null,null,{"$f":"DRAW!#REF!","v":{"$error":"#REF!"}},null,null,{"$f":"DRAW!#REF!","v":{"$error":"#REF!"}},null,null,{"$f":"DRAW!#REF!","v":{"$error":"#REF!"}},null,null,".",{"$f":"DRAW!#REF!","v":{"$error":"#REF!"}},null,null,{"$f":"DRAW!#REF!","v":{"$error":"#REF!"}},null,null,".",{"$f":"DRAW!#REF!","v":{"$error":"#REF!"}},null,null,{"$f":"DRAW!#REF!","v":{"$error":"#REF!"}},null,null,{"$f":"DRAW!#REF!","v":{"$error":"#REF!"}},null,null,{"$f":"DRAW!#REF!","v":{"$error":"#REF!"}},null,null,".",{"$f":"DRAW!#REF!","v":{"$error":"#REF!"}},null,null,{"$f":"DRAW!#REF!","v":{"$error":"#REF!"}},null,null,".",{"$f":"DRAW!#REF!","v":{"$error":"#REF!"}},null,null,{"$f":"DRAW!#REF!","v":{"$error":"#REF!"}},null,null,{"$f":"DRAW!#REF!","v":{"$error":"#REF!"}},null,null,{"$f":"DRAW!#REF!","v":{"$error":"#REF!"}},null,null,".",{"$f":"DRAW!#REF!","v":{"$error":"#REF!"}},null,null,{"$f":"DRAW!#REF!","v":{"$error":"#REF!"}},null,null,".",{"$f":"DRAW!#REF!","v":{"$error":"#REF!"}},null,null,{"$f":"DRAW!#REF!","v":{"$error":"#REF!"}}]
[null,"Team",{"$f":"DRAW!#REF!","v":{"$error":"#REF!"}},"V","Team",{"$f":"DRAW!#REF!","v":{"$error":"#REF!"}},null,null,"Team",{"$f":"DRAW!#REF!","v":{"$error":"#REF!"}},"V","Team",{"$f":"DRAW!#REF!","v":{"$error":"#REF!"}},null,null,"Team",{"$f":"DRAW!#REF!","v":{"$error":"#REF!"}},"V","Team",{"$f":"DRAW!#REF!","v":{"$error":"#REF!"}},null,"Team",{"$f":"DRAW!#REF!","v":{"$error":"#REF!"}},"V","Team",{"$f":"DRAW!#REF!","v":{"$error":"#REF!"}},null,null,"Team",{"$f":"DRAW!#REF!","v":{"$error":"#REF!"}},"V","Team",{"$f":"DRAW!#REF!","v":{"$error":"#REF!"}},null,null,"Team",{"$f":"DRAW!#REF!","v":{"$error":"#REF!"}},"V","Team",{"$f":"DRAW!#REF!","v":{"$error":"#REF!"}},null,"Team",{"$f":"DRAW!#REF!","v":{"$error":"#REF!"}},"V","Team",{"$f":"DRAW!#REF!","v":{"$error":"#REF!"}},null,null,"Team",{"$f":"DRAW!#REF!","v":{"$error":"#REF!"}},"V","Team",{"$f":"DRAW!#REF!","v":{"$error":"#REF!"}},null,null,"Team",{"$f":"DRAW!#REF!","v":{"$error":"#REF!"}},"V","Team",{"$f":"DRAW!#REF!","v":{"$error":"#REF!"}},null,"Team",{"$f":"DRAW!#REF!","v":{"$error":"#REF!"}},"V","Team",{"$f":"DRAW!#REF!","v":{"$error":"#REF!"}},null,null,"Team",{"$f":"DRAW!#REF!","v":{"$error":"#REF!"}},"V","Team",{"$f":"DRAW!#REF!","v":{"$error":"#REF!"}},null,null,"Team",{"$f":"DRAW!#REF!","v":{"$error":"#REF!"}},"V","Team",{"$f":"DRAW!#REF!","v":{"$error":"#REF!"}},null,"Team",{"$f":"DRAW!#REF!","v":{"$error":"#REF!"}},"V","Team",{"$f":"DRAW!#REF!","v":{"$error":"#REF!"}},null,null,"Team",{"$f":"DRAW!#REF!","v":{"$error":"#REF!"}},"V","Team",{"$f":"DRAW!#REF!","v":{"$error":"#REF!"}},null,null,"Team",{"$f":"DRAW!#REF!","v":{"$error":"#REF!"}},"V","Team",{"$f":"DRAW!#REF!","v":{"$error":"#REF!"}},null,"Team",{"$f":"DRAW!#REF!","v":{"$error":"#REF!"}},"V","Team",{"$f":"DRAW!#REF!","v":{"$error":"#REF!"}},null,null,"Team",{"$f":"DRAW!#REF!","v":{"$error":"#REF!"}},"V","Team",{"$f":"DRAW!#REF!","v":{"$error":"#REF!"}},null,null,"Team",{"$f":"DRAW!#REF!","v":{"$error":"#REF!"}},"V","Team",{"$f":"DRAW!#REF!","v":{"$error":"#REF!"}},null,"Team",{"$f":"DRAW!#REF!","v":{"$error":"#REF!"}},"V","Team",{"$f":"DRAW!#REF!","v":{"$error":"#REF!"}},null,null,"Team",{"$f":"DRAW!#REF!","v":{"$error":"#REF!"}},"V","Team",{"$f":"DRAW!#REF!","v":{"$error":"#REF!"}},null,null,"Team",{"$f":"DRAW!#REF!","v":{"$error":"#REF!"}},"V","Team",{"$f":"DRAW!#REF!","v":{"$error":"#REF!"}}]
["Ends","Shots","Total",null,"Shots","Total",null,"Ends","Shots","Total",null,"Shots","Total",null,"Ends","Shots","Total",null,"Shots","Total","Ends","Shots","Total",null,"Shots","Total",null,"Ends","Shots","Total",null,"Shots","Total",null,"Ends","Shots","Total",null,"Shots","Total","Ends","Shots","Total",null,"Shots","Total",null,"Ends","Shots","Total",null,"Shots","Total",null,"Ends","Shots","Total",null,"Shots","Total","Ends","Shots","Total",null,"Shots","Total",null,"Ends","Shots","Total",null,"Shots","Total",null,"Ends","Shots","Total",null,"Shots","Total","Ends","Shots","Total",null,"Shots","Total",null,"Ends","Shots","Total",null,"Shots","Total",null,"Ends","Shots","Total",null,"Shots","Total","Ends","Shots","Total",null,"Shots","Total",null,"Ends","Shots","Total",null,"Shots","Total",null,"Ends","Shots","Total",null,"Shots","Total","Ends","Shots","Total",null,"Shots","Total",null,"Ends","Shots","Total",null,"Shots","Total",null,"Ends","Shots","Total",null,"Shots","Total"]
[1,{"$nulls":5},".",1,{"$nulls":5},".",1,{"$nulls":5},1,{"$nulls":5},".",1,{"$nulls":5},".",1,{"$nulls":5},1,{"$nulls":5},".",1,{"$nulls":5},".",1,{"$nulls":5},1,{"$nulls":5},".",1,{"$nulls":5},".",1,{"$nulls":5},1,{"$nulls":5},".",1,{"$nulls":5},".",1,{"$nulls":5},1,{"$nulls":5},".",1,{"$nulls":5},".",1,{"$nulls":5},1,{"$nulls":5},".",1,{"$nulls":5},".",1]
[2,{"$nulls":6},2,{"$nulls":6},2,{"$nulls":5},2,{"$nulls":6},2,{"$nulls":6},2,{"$nulls":5},2,{"$nulls":6},2,{"$nulls":6},2,{"$nulls":5},2,{"$nulls":6},2,{"$nulls":6},2,{"$nulls":5},2,{"$nulls":6},2,{"$nulls":6},2,{"$nulls":5},2,{"$nulls":6},2,{"$nulls":6},2,{"$nulls":5},2,{"$nulls":6},2,{"$nulls":6},2]
[3,{"$nulls":6},3,{"$nulls":6},3,{"$nulls":5},3,{"$nulls":6},3,{"$nulls":6},3,{"$nulls":5},3,{"$nulls":6},3,{"$nulls":6},3,{"$nulls":5},3,{"$nulls":6},3,{"$nulls":6},3,{"$nulls":5},3,{"$nulls":6},3,{"$nulls":6},3,{"$nulls":5},3,{"$nulls":6},3,{"$nulls":6},3,{"$nulls":5},3,{"$nulls":6},3,{"$nulls":6},3]
[4,{"$nulls":6},4,{"$nulls":6},4,{"$nulls":5},4,{"$nulls":6},4,{"$nulls":6},4,{"$nulls":5},4,{"$nulls":6},4,{"$nulls":6},4,{"$nulls":5},4,{"$nulls":6},4,{"$nulls":6},4,{"$nulls":5},4,{"$nulls":6},4,{"$nulls":6},4,{"$nulls":5},4,{"$nulls":6},4,{"$nulls":6},4,{"$nulls":5},4,{"$nulls":6},4,{"$nulls":6},4]
[5,{"$nulls":5},".",5,{"$nulls":5},".",5,{"$nulls":5},5,{"$nulls":5},".",5,{"$nulls":5},".",5,{"$nulls":5},5,{"$nulls":5},".",5,{"$nulls":5},".",5,{"$nulls":5},5,{"$nulls":5},".",5,{"$nulls":5},".",5,{"$nulls":5},5,{"$nulls":5},".",5,{"$nulls":5},".",5,{"$nulls":5},5,{"$nulls":5},".",5,{"$nulls":5},".",5,{"$nulls":5},5,{"$nulls":5},".",5,{"$nulls":5},".",5]
[6,{"$nulls":6},6,{"$nulls":6},6,{"$nulls":5},6,{"$nulls":6},6,{"$nulls":6},6,{"$nulls":5},6,{"$nulls":6},6,{"$nulls":6},6,{"$nulls":5},6,{"$nulls":6},6,{"$nulls":6},6,{"$nulls":5},6,{"$nulls":6},6,{"$nulls":6},6,{"$nulls":5},6,{"$nulls":6},6,{"$nulls":6},6,{"$nulls":5},6,{"$nulls":6},6,{"$nulls":6},6]
[7,{"$nulls":6},7,{"$nulls":6},7,{"$nulls":5},7,{"$nulls":6},7,{"$nulls":6},7,{"$nulls":5},7,{"$nulls":6},7,{"$nulls":6},7,{"$nulls":5},7,{"$nulls":6},7,{"$nulls":6},7,{"$nulls":5},7,{"$nulls":6},7,{"$nulls":6},7,{"$nulls":5},7,{"$nulls":6},7,{"$nulls":6},7,{"$nulls":5},7,{"$nulls":6},7,{"$nulls":6},7]
[8,{"$nulls":6},8,{"$nulls":6},8,{"$nulls":5},8,{"$nulls":6},8,{"$nulls":6},8,{"$nulls":5},8,{"$nulls":6},8,{"$nulls":6},8,{"$nulls":5},8,{"$nulls":6},8,{"$nulls":6},8,{"$nulls":5},8,{"$nulls":6},8,{"$nulls":6},8,{"$nulls":5},8,{"$nulls":6},8,{"$nulls":6},8,{"$nulls":5},8,{"$nulls":6},8,{"$nulls":6},8]
[9,{"$nulls":5},".",9,{"$nulls":5},".",9,{"$nulls":5},9,{"$nulls":5},".",9,{"$nulls":5},".",9,{"$nulls":5},9,{"$nulls":5},".",9,{"$nulls":5},".",9,{"$nulls":5},9,{"$nulls":5},".",9,{"$nulls":5},".",9,{"$nulls":5},9,{"$nulls":5},".",9,{"$nulls":5},".",9,{"$nulls":5},9,{"$nulls":5},".",9,{"$nulls":5},".",9,{"$nulls":5},9,{"$nulls":5},".",9,{"$nulls":5},".",9]
[10,{"$nulls":6},10,{"$nulls":6},10,{"$nulls":5},10,{"$nulls":6},10,{"$nulls":6},10,{"$nulls":5},10,{"$nulls":6},10,{"$nulls":6},10,{"$nulls":5},10,{"$nulls":6},10,{"$nulls":6},10,{"$nulls":5},10,{"$nulls":6},10,{"$nulls":6},10,{"$nulls":5},10,{"$nulls":6},10,{"$nulls":6},10,{"$nulls":5},10,{"$nulls":6},10,{"$nulls":6},10]
[11,{"$nulls":6},11,{"$nulls":6},11,{"$nulls":5},11,{"$nulls":6},11,{"$nulls":6},11,{"$nulls":5},11,{"$nulls":6},11,{"$nulls":6},11,{"$nulls":5},11,{"$nulls":6},11,{"$nulls":6},11,{"$nulls":5},11,{"$nulls":6},11,{"$nulls":6},11,{"$nulls":5},11,{"$nulls":6},11,{"$nulls":6},11,{"$nulls":5},11,{"$nulls":6},11,{"$nulls":6},11]
[12,{"$nulls":6},12,{"$nulls":6},12,{"$nulls":5},12,{"$nulls":6},12,{"$nulls":6},12,{"$nulls":5},12,{"$nulls":6},12,{"$nulls":6},12,{"$nulls":5},12,{"$nulls":6},12,{"$nulls":6},12,{"$nulls":5},12,{"$nulls":6},12,{"$nulls":6},12,{"$nulls":5},12,{"$nulls":6},12,{"$nulls":6},12,{"$nulls":5},12,{"$nulls":6},12,{"$nulls":6},12]
[13,{"$nulls":5},".",13,{"$nulls":5},".",13,{"$nulls":5},13,{"$nulls":5},".",13,{"$nulls":5},".",13,{"$nulls":5},13,{"$nulls":5},".",13,{"$nulls":5},".",13,{"$nulls":5},13,{"$nulls":5},".",13,{"$nulls":5},".",13,{"$nulls":5},13,{"$nulls":5},".",13,{"$nulls":5},".",13,{"$nulls":5},13,{"$nulls":5},".",13,{"$nulls":5},".",13,{"$nulls":5},13,{"$nulls":5},".",13,{"$nulls":5},".",13]
[14,{"$nulls":6},14,{"$nulls":6},14,{"$nulls":5},14,{"$nulls":6},14,{"$nulls":6},14,{"$nulls":5},14,{"$nulls":6},14,{"$nulls":6},14,{"$nulls":5},14,{"$nulls":6},14,{"$nulls":6},14,{"$nulls":5},14,{"$nulls":6},14,{"$nulls":6},14,{"$nulls":5},14,{"$nulls":6},14,{"$nulls":6},14,{"$nulls":5},14,{"$nulls":6},14,{"$nulls":6},14]
[15,{"$nulls":6},15,{"$nulls":6},15,{"$nulls":5},15,{"$nulls":6},15,{"$nulls":6},15,{"$nulls":5},15,{"$nulls":6},15,{"$nulls":6},15,{"$nulls":5},15,{"$nulls":6},15,{"$nulls":6},15,{"$nulls":5},15,{"$nulls":6},15,{"$nulls":6},15,{"$nulls":5},15,{"$nulls":6},15,{"$nulls":6},15,{"$nulls":5},15,{"$nulls":6},15,{"$nulls":6},15]
[16,{"$nulls":6},16,{"$nulls":6},16,{"$nulls":5},16,{"$nulls":6},16,{"$nulls":6},16,{"$nulls":5},16,{"$nulls":6},16,{"$nulls":6},16,{"$nulls":5},16,{"$nulls":6},16,{"$nulls":6},16,{"$nulls":5},16,{"$nulls":6},16,{"$nulls":6},16,{"$nulls":5},16,{"$nulls":6},16,{"$nulls":6},16,{"$nulls":5},16,{"$nulls":6},16,{"$nulls":6},16]
[17,{"$nulls":5},".",17,{"$nulls":5},".",17,{"$nulls":5},17,{"$nulls":5},".",17,{"$nulls":5},".",17,{"$nulls":5},17,{"$nulls":5},".",17,{"$nulls":5},".",17,{"$nulls":5},17,{"$nulls":5},".",17,{"$nulls":5},".",17,{"$nulls":5},17,{"$nulls":5},".",17,{"$nulls":5},".",17,{"$nulls":5},17,{"$nulls":5},".",17,{"$nulls":5},".",17,{"$nulls":5},17,{"$nulls":5},".",17,{"$nulls":5},".",17]
[18,{"$nulls":6},18,{"$nulls":6},18,{"$nulls":5},18,{"$nulls":6},18,{"$nulls":6},18,{"$nulls":5},18,{"$nulls":6},18,{"$nulls":6},18,{"$nulls":5},18,{"$nulls":6},18,{"$nulls":6},18,{"$nulls":5},18,{"$nulls":6},18,{"$nulls":6},18,{"$nulls":5},18,{"$nulls":6},18,{"$nulls":6},18,{"$nulls":5},18,{"$nulls":6},18,{"$nulls":6},18]
["Total","Shots",null,null,"Shots",null,null,"Total","Shots",null,null,"Shots",null,null,"Total","Shots",null,null,"Shots",null,"Total","Shots",null,null,"Shots",null,null,"Total","Shots",null,null,"Shots",null,null,"Total","Shots",null,null,"Shots",null,"Total","Shots",null,null,"Shots",null,null,"Total","Shots",null,null,"shots",null,null,"Total","Shots",null,null,"shots",null,"Total","Shots",null,null,"Shots",null,null,"Total","Shots",null,null,"shots",null,null,"Total","Shots",null,null,"shots",null,"Total","Shots",null,null,"Shots",null,null,"Total","Shots",null,null,"Shots",null,null,"Total","Shots",null,null,"Shots",null,"Total","Shots",null,null,"Shots",null,null,"Total","Shots",null,null,"shots",null,null,"Total","Shots",null,null,"shots",null,"Total","Shots",null,null,"shots",null,null,"Total","Shots",null,null,"shots",null,null,"Total","Shots",null,null,"shots"]
[null,"Ends",null,null,"Ends",null,".",null,"Ends",null,null,"Ends",null,".",null,"Ends",null,null,"Ends",null,null,"Ends",null,null,"Ends",null,".",null,"Ends",null,null,"Ends",null,".",null,"Ends",null,null,"Ends",null,null,"Ends",null,null,"Ends",null,".",null,"Ends",null,null,"Ends",null,".",null,"Ends",null,null,"Ends",null,null,"Ends",null,null,"Ends",null,".",null,"Ends",null,null,"Ends",null,".",null,"Ends",null,null,"Ends",null,null,"Ends",null,null,"Ends",null,".",null,"Ends",null,null,"Ends",null,".",null,"Ends",null,null,"Ends",null,null,"Ends",null,null,"Ends",null,".",null,"Ends",null,null,"Ends",null,".",null,"Ends",null,null,"Ends",null,null,"Ends",null,null,"Ends",null,".",null,"Ends",null,null,"Ends",null,".",null,"Ends",null,null,"Ends"]
["1st Game ",{"$nulls":5},".","2nd Game ",{"$nulls":5},".","3nd Game",{"$nulls":5},"4th Game",{"$nulls":5},".","5th Game",{"$nulls":5},".","6th Game",{"$nulls":5},"7th Game",{"$nulls":5},".","8th Game",{"$nulls":5},".","9th Game",{"$nulls":5},"10th Game",{"$nulls":5},".","11th Game",{"$nulls":5},".","12th Game ",{"$nulls":5},"13th Game",{"$nulls":5},".","14th Game",{"$nulls":5},".","15th Game",{"$nulls":5},"16th Game",{"$nulls":5},".","17th Game",{"$nulls":5},".","18th Game",{"$nulls":5},"19th Game",{"$nulls":5},".","20th Game",{"$nulls":5},".","9th Game "]
["Team No",null,null,"Rink No",{"$nulls":3},"Team No",null,null,"Rink No",{"$nulls":3},"Team No",null,null,"Rink No",null,null,"Team No",null,null,"Rink No",{"$nulls":3},"Team No",null,null,"Rink No",{"$nulls":3},"Team No",null,null,"Rink No",null,null,"Team No",null,null,"Rink No",{"$nulls":3},"Team No",null,null,"Rink No",{"$nulls":3},"Team No",null,null,"Rink No",null,null,"Team No",null,null,"Rink No",{"$nulls":3},"Team No",null,null,"Rink No",{"$nulls":3},"Team No",null,null,"Rink No",null,null,"Team No",null,null,"Rink No",{"$nulls":3},"Team No",null,null,"Rink No",{"$nulls":3},"Team No",null,null,"Rink No",null,null,"Team No",null,null,"Rink No",{"$nulls":3},"Team No",null,null,"Rink No",{"$nulls":3},"Team No",null,null,"Rink No",null,null,"Team No",null,null,"Rink No",{"$nulls":3},"Team No",null,null,"Rink No",{"$nulls":3},"Team No",null,null,"Rink No"]
[]
[{"$f":"DRAW!#REF!","v":{"$error":"#REF!"}},null,null,{"$f":"DRAW!#REF!","v":{"$error":"#REF!"}},null,null,".",{"$f":"DRAW!#REF!","v":{"$error":"#REF!"}},null,null,{"$f":"DRAW!#REF!","v":{"$error":"#REF!"}},null,null,".",{"$f":"DRAW!#REF!","v":{"$error":"#REF!"}},null,null,{"$f":"DRAW!#REF!","v":{"$error":"#REF!"}},null,null,{"$f":"DRAW!#REF!","v":{"$error":"#REF!"}},null,null,{"$f":"DRAW!#REF!","v":{"$error":"#REF!"}},null,null,".",{"$f":"DRAW!#REF!","v":{"$error":"#REF!"}},null,null,{"$f":"DRAW!#REF!","v":{"$error":"#REF!"}},null,null,".",{"$f":"DRAW!#REF!","v":{"$error":"#REF!"}},null,null,{"$f":"DRAW!#REF!","v":{"$error":"#REF!"}},null,null,{"$f":"DRAW!#REF!","v":{"$error":"#REF!"}},null,null,{"$f":"DRAW!#REF!","v":{"$error":"#REF!"}},null,null,".",{"$f":"DRAW!#REF!","v":{"$error":"#REF!"}},null,null,{"$f":"DRAW!#REF!","v":{"$error":"#REF!"}},null,null,".",{"$f":"DRAW!#REF!","v":{"$error":"#REF!"}},null,null,{"$f":"DRAW!#REF!","v":{"$error":"#REF!"}},null,null,{"$f":"DRAW!#REF!","v":{"$error":"#REF!"}},null,null,{"$f":"DRAW!#REF!","v":{"$error":"#REF!"}},null,null,".",{"$f":"DRAW!#REF!","v":{"$error":"#REF!"}},null,null,{"$f":"DRAW!#REF!","v":{"$error":"#REF!"}},null,null,".",{"$f":"DRAW!#REF!","v":{"$error":"#REF!"}},null,null,{"$f":"DRAW!#REF!","v":{"$error":"#REF!"}},null,null,{"$f":"DRAW!#REF!","v":{"$error":"#REF!"}},null,null,{"$f":"DRAW!#REF!","v":{"$error":"#REF!"}},null,null,".",{"$f":"DRAW!#REF!","v":{"$error":"#REF!"}},null,null,{"$f":"DRAW!#REF!","v":{"$error":"#REF!"}},null,null,".",{"$f":"DRAW!#REF!","v":{"$error":"#REF!"}},null,null,{"$f":"DRAW!#REF!","v":{"$error":"#REF!"}},null,null,{"$f":"DRAW!#REF!","v":{"$error":"#REF!"}},null,null,{"$f":"DRAW!#REF!","v":{"$error":"#REF!"}},null,null,".",{"$f":"DRAW!#REF!","v":{"$error":"#REF!"}},null,null,{"$f":"DRAW!#REF!","v":{"$error":"#REF!"}},null,null,".",{"$f":"DRAW!#REF!","v":{"$error":"#REF!"}},null,null,{"$f":"DRAW!#REF!","v":{"$error":"#REF!"}},null,null,{"$f":"DRAW!#REF!","v":{"$error":"#REF!"}},null,null,{"$f":"DRAW!#REF!","v":{"$error":"#REF!"}},null,null,".",{"$f":"DRAW!#REF!","v":{"$error":"#REF!"}},null,null,{"$f":"DRAW!#REF!","v":{"$error":"#REF!"}},null,null,".",{"$f":"DRAW!#REF!","v":{"$error":"#REF!"}},null,null,{"$f":"DRAW!#REF!","v":{"$error":"#REF!"}}]
[null,"Team",{"$f":"DRAW!#REF!","v":{"$error":"#REF!"}},"V","Team",{"$f":"DRAW!#REF!","v":{"$error":"#REF!"}},null,null,"Team",{"$f":"DRAW!#REF!","v":{"$error":"#REF!"}},"V","Team",{"$f":"DRAW!#REF!","v":{"$error":"#REF!"}},null,null,"Team",{"$f":"DRAW!#REF!","v":{"$error":"#REF!"}},"V","Team",{"$f":"DRAW!#REF!","v":{"$error":"#REF!"}},null,"Team",{"$f":"DRAW!#REF!","v":{"$error":"#REF!"}},"V","Team",{"$f":"DRAW!#REF!","v":{"$error":"#REF!"}},null,null,"Team",{"$f":"DRAW!#REF!","v":{"$error":"#REF!"}},"V","Team",{"$f":"DRAW!#REF!","v":{"$error":"#REF!"}},null,null,"Team",{"$f":"DRAW!#REF!","v":{"$error":"#REF!"}},"V","Team",{"$f":"DRAW!#REF!","v":{"$error":"#REF!"}},null,"Team",{"$f":"DRAW!#REF!","v":{"$error":"#REF!"}},"V","Team",{"$f":"DRAW!#REF!","v":{"$error":"#REF!"}},null,null,"Team",{"$f":"DRAW!#REF!","v":{"$error":"#REF!"}},"V","Team",{"$f":"DRAW!#REF!","v":{"$error":"#REF!"}},null,null,"Team",{"$f":"DRAW!#REF!","v":{"$error":"#REF!"}},"V","Team",{"$f":"DRAW!#REF!","v":{"$error":"#REF!"}},null,"Team",{"$f":"DRAW!#REF!","v":{"$error":"#REF!"}},"V","Team",{"$f":"DRAW!#REF!","v":{"$error":"#REF!"}},null,null,"Team",{"$f":"DRAW!#REF!","v":{"$error":"#REF!"}},"V","Team",{"$f":"DRAW!#REF!","v":{"$error":"#REF!"}},null,null,"Team",{"$f":"DRAW!#REF!","v":{"$error":"#REF!"}},"V","Team",{"$f":"DRAW!#REF!","v":{"$error":"#REF!"}},null,"Team",{"$f":"DRAW!#REF!","v":{"$error":"#REF!"}},"V","Team",{"$f":"DRAW!#REF!","v":{"$error":"#REF!"}},null,null,"Team",{"$f":"DRAW!#REF!","v":{"$error":"#REF!"}},"V","Team",{"$f":"DRAW!#REF!","v":{"$error":"#REF!"}},null,null,"Team",{"$f":"DRAW!#REF!","v":{"$error":"#REF!"}},"V","Team",{"$f":"DRAW!#REF!","v":{"$error":"#REF!"}},null,"Team",{"$f":"DRAW!#REF!","v":{"$error":"#REF!"}},"V","Team",{"$f":"DRAW!#REF!","v":{"$error":"#REF!"}},null,null,"Team",{"$f":"DRAW!#REF!","v":{"$error":"#REF!"}},"V","Team",{"$f":"DRAW!#REF!","v":{"$error":"#REF!"}},null,null,"Team",{"$f":"DRAW!#REF!","v":{"$error":"#REF!"}},"V","Team",{"$f":"DRAW!#REF!","v":{"$error":"#REF!"}},null,"Team",{"$f":"DRAW!#REF!","v":{"$error":"#REF!"}},"V","Team",{"$f":"DRAW!#REF!","v":{"$error":"#REF!"}},null,null,"Team",{"$f":"DRAW!#REF!","v":{"$error":"#REF!"}},"V","Team",{"$f":"DRAW!#REF!","v":{"$error":"#REF!"}},null,null,"Team",{"$f":"DRAW!#REF!","v":{"$error":"#REF!"}},"V","Team",{"$f":"DRAW!#REF!","v":{"$error":"#REF!"}}]
["Ends","Shots","Total",null,"Shots","Total",null,"Ends","Shots","Total",null,"Shots","Total",null,"Ends","Shots","Total",null,"Shots","Total","Ends","Shots","Total",null,"Shots","Total",null,"Ends","Shots","Total",null,"Shots","Total",null,"Ends","Shots","Total",null,"Shots","Total","Ends","Shots","Total",null,"Shots","Total",null,"Ends","Shots","Total",null,"Shots","Total",null,"Ends","Shots","Total",null,"Shots","Total","Ends","Shots","Total",null,"Shots","Total",null,"Ends","Shots","Total",null,"Shots","Total",null,"Ends","Shots","Total",null,"Shots","Total","Ends","Shots","Total",null,"Shots","Total",null,"Ends","Shots","Total",null,"Shots","Total",null,"Ends","Shots","Total",null,"Shots","Total","Ends","Shots","Total",null,"Shots","Total",null,"Ends","Shots","Total",null,"Shots","Total",null,"Ends","Shots","Total",null,"Shots","Total","Ends","Shots","Total",null,"Shots","Total",null,"Ends","Shots","Total",null,"Shots","Total",null,"Ends","Shots","Total",null,"Shots","Total"]
[1,{"$nulls":5},".",1,{"$nulls":5},".",1,{"$nulls":5},1,{"$nulls":5},".",1,{"$nulls":5},".",1,{"$nulls":5},1,{"$nulls":5},".",1,{"$nulls":5},".",1,{"$nulls":5},1,{"$nulls":5},".",1,{"$nulls":5},".",1,{"$nulls":5},1,{"$nulls":5},".",1,{"$nulls":5},".",1,{"$nulls":5},1,{"$nulls":5},".",1,{"$nulls":5},".",1,{"$nulls":5},1,{"$nulls":5},".",1,{"$nulls":5},".",1]
[2,{"$nulls":6},2,{"$nulls":6},2,{"$nulls":5},2,{"$nulls":6},2,{"$nulls":6},2,{"$nulls":5},2,{"$nulls":6},2,{"$nulls":6},2,{"$nulls":5},2,{"$nulls":6},2,{"$nulls":6},2,{"$nulls":5},2,{"$nulls":6},2,{"$nulls":6},2,{"$nulls":5},2,{"$nulls":6},2,{"$nulls":6},2,{"$nulls":5},2,{"$nulls":6},2,{"$nulls":6},2]
[3,{"$nulls":6},3,{"$nulls":6},3,{"$nulls":5},3,{"$nulls":6},3,{"$nulls":6},3,{"$nulls":5},3,{"$nulls":6},3,{"$nulls":6},3,{"$nulls":5},3,{"$nulls":6},3,{"$nulls":6},3,{"$nulls":5},3,{"$nulls":6},3,{"$nulls":6},3,{"$nulls":5},3,{"$nulls":6},3,{"$nulls":6},3,{"$nulls":5},3,{"$nulls":6},3,{"$nulls":6},3]
[4,{"$nulls":6},4,{"$nulls":6},4,{"$nulls":5},4,{"$nulls":6},4,{"$nulls":6},4,{"$nulls":5},4,{"$nulls":6},4,{"$nulls":6},4,{"$nulls":5},4,{"$nulls":6},4,{"$nulls":6},4,{"$nulls":5},4,{"$nulls":6},4,{"$nulls":6},4,{"$nulls":5},4,{"$nulls":6},4,{"$nulls":6},4,{"$nulls":5},4,{"$nulls":6},4,{"$nulls":6},4]
[5,{"$nulls":5},".",5,{"$nulls":5},".",5,{"$nulls":5},5,{"$nulls":5},".",5,{"$nulls":5},".",5,{"$nulls":5},5,{"$nulls":5},".",5,{"$nulls":5},".",5,{"$nulls":5},5,{"$nulls":5},".",5,{"$nulls":5},".",5,{"$nulls":5},5,{"$nulls":5},".",5,{"$nulls":5},".",5,{"$nulls":5},5,{"$nulls":5},".",5,{"$nulls":5},".",5,{"$nulls":5},5,{"$nulls":5},".",5,{"$nulls":5},".",5]
[6,{"$nulls":6},6,{"$nulls":6},6,{"$nulls":5},6,{"$nulls":6},6,{"$nulls":6},6,{"$nulls":5},6,{"$nulls":6},6,{"$nulls":6},6,{"$nulls":5},6,{"$nulls":6},6,{"$nulls":6},6,{"$nulls":5},6,{"$nulls":6},6,{"$nulls":6},6,{"$nulls":5},6,{"$nulls":6},6,{"$nulls":6},6,{"$nulls":5},6,{"$nulls":6},6,{"$nulls":6},6]
[7,{"$nulls":6},7,{"$nulls":6},7,{"$nulls":5},7,{"$nulls":6},7,{"$nulls":6},7,{"$nulls":5},7,{"$nulls":6},7,{"$nulls":6},7,{"$nulls":5},7,{"$nulls":6},7,{"$nulls":6},7,{"$nulls":5},7,{"$nulls":6},7,{"$nulls":6},7,{"$nulls":5},7,{"$nulls":6},7,{"$nulls":6},7,{"$nulls":5},7,{"$nulls":6},7,{"$nulls":6},7]
[8,{"$nulls":6},8,{"$nulls":6},8,{"$nulls":5},8,{"$nulls":6},8,{"$nulls":6},8,{"$nulls":5},8,{"$nulls":6},8,{"$nulls":6},8,{"$nulls":5},8,{"$nulls":6},8,{"$nulls":6},8,{"$nulls":5},8,{"$nulls":6},8,{"$nulls":6},8,{"$nulls":5},8,{"$nulls":6},8,{"$nulls":6},8,{"$nulls":5},8,{"$nulls":6},8,{"$nulls":6},8]
[9,{"$nulls":5},".",9,{"$nulls":5},".",9,{"$nulls":5},9,{"$nulls":5},".",9,{"$nulls":5},".",9,{"$nulls":5},9,{"$nulls":5},".",9,{"$nulls":5},".",9,{"$nulls":5},9,{"$nulls":5},".",9,{"$nulls":5},".",9,{"$nulls":5},9,{"$nulls":5},".",9,{"$nulls":5},".",9,{"$nulls":5},9,{"$nulls":5},".",9,{"$nulls":5},".",9,{"$nulls":5},9,{"$nulls":5},".",9,{"$nulls":5},".",9]
[10,{"$nulls":6},10,{"$nulls":6},10,{"$nulls":5},10,{"$nulls":6},10,{"$nulls":6},10,{"$nulls":5},10,{"$nulls":6},10,{"$nulls":6},10,{"$nulls":5},10,{"$nulls":6},10,{"$nulls":6},10,{"$nulls":5},10,{"$nulls":6},10,{"$nulls":6},10,{"$nulls":5},10,{"$nulls":6},10,{"$nulls":6},10,{"$nulls":5},10,{"$nulls":6},10,{"$nulls":6},10]
[11,{"$nulls":6},11,{"$nulls":6},11,{"$nulls":5},11,{"$nulls":6},11,{"$nulls":6},11,{"$nulls":5},11,{"$nulls":6},11,{"$nulls":6},11,{"$nulls":5},11,{"$nulls":6},11,{"$nulls":6},11,{"$nulls":5},11,{"$nulls":6},11,{"$nulls":6},11,{"$nulls":5},11,{"$nulls":6},11,{"$nulls":6},11,{"$nulls":5},11,{"$nulls":6},11,{"$nulls":6},11]
[12,{"$nulls":6},12,{"$nulls":6},12,{"$nulls":5},12,{"$nulls":6},12,{"$nulls":6},12,{"$nulls":5},12,{"$nulls":6},12,{"$nulls":6},12,{"$nulls":5},12,{"$nulls":6},12,{"$nulls":6},12,{"$nulls":5},12,{"$nulls":6},12,{"$nulls":6},12,{"$nulls":5},12,{"$nulls":6},12,{"$nulls":6},12,{"$nulls":5},12,{"$nulls":6},12,{"$nulls":6},12]
[13,{"$nulls":5},".",13,{"$nulls":5},".",13,{"$nulls":5},13,{"$nulls":5},".",13,{"$nulls":5},".",13,{"$nulls":5},13,{"$nulls":5},".",13,{"$nulls":5},".",13,{"$nulls":5},13,{"$nulls":5},".",13,{"$nulls":5},".",13,{"$nulls":5},13,{"$nulls":5},".",13,{"$nulls":5},".",13,{"$nulls":5},13,{"$nulls":5},".",13,{"$nulls":5},".",13,{"$nulls":5},13,{"$nulls":5},".",13,{"$nulls":5},".",13]
[14,{"$nulls":6},14,{"$nulls":6},14,{"$nulls":5},14,{"$nulls":6},14,{"$nulls":6},14,{"$nulls":5},14,{"$nulls":6},14,{"$nulls":6},14,{"$nulls":5},14,{"$nulls":6},14,{"$nulls":6},14,{"$nulls":5},14,{"$nulls":6},14,{"$nulls":6},14,{"$nulls":5},14,{"$nulls":6},14,{"$nulls":6},14,{"$nulls":5},14,{"$nulls":6},14,{"$nulls":6},14]
[15,{"$nulls":6},15,{"$nulls":6},15,{"$nulls":5},15,{"$nulls":6},15,{"$nulls":6},15,{"$nulls":5},15,{"$nulls":6},15,{"$nulls":6},15,{"$nulls":5},15,{"$nulls":6},15,{"$nulls":6},15,{"$nulls":5},15,{"$nulls":6},15,{"$nulls":6},15,{"$nulls":5},15,{"$nulls":6},15,{"$nulls":6},15,{"$nulls":5},15,{"$nulls":6},15,{"$nulls":6},15]
[16,{"$nulls":6},16,{"$nulls":6},16,{"$nulls":5},16,{"$nulls":6},16,{"$nulls":6},16,{"$nulls":5},16,{"$nulls":6},16,{"$nulls":6},16,{"$nulls":5},16,{"$nulls":6},16,{"$nulls":6},16,{"$nulls":5},16,{"$nulls":6},16,{"$nulls":6},16,{"$nulls":5},16,{"$nulls":6},16,{"$nulls":6},16,{"$nulls":5},16,{"$nulls":6},16,{"$nulls":6},16]
[17,{"$nulls":5},".",17,{"$nulls":5},".",17,{"$nulls":5},17,{"$nulls":5},".",17,{"$nulls":5},".",17,{"$nulls":5},17,{"$nulls":5},".",17,{"$nulls":5},".",17,{"$nulls":5},17,{"$nulls":5},".",17,{"$nulls":5},".",17,{"$nulls":5},17,{"$nulls":5},".",17,{"$nulls":5},".",17,{"$nulls":5},17,{"$nulls":5},".",17,{"$nulls":5},".",17,{"$nulls":5},17,{"$nulls":5},".",17,{"$nulls":5},".",17]
[18,{"$nulls":6},18,{"$nulls":6},18,{"$nulls":5},18,{"$nulls":6},18,{"$nulls":6},18,{"$nulls":5},18,{"$nulls":6},18,{"$nulls":6},18,{"$nulls":5},18,{"$nulls":6},18,{"$nulls":6},18,{"$nulls":5},18,{"$nulls":6},18,{"$nulls":6},18,{"$nulls":5},18,{"$nulls":6},18,{"$nulls":6},18,{"$nulls":5},18,{"$nulls":6},18,{"$nulls":6},18]
["Total","Shots",null,null,"Shots",null,null,"Total","Shots",null,null,"Shots",null,null,"Total","Shots",null,null,"Shots",null,"Total","Shots",null,null,"Shots",null,null,"Total","Shots",null,null,"Shots",null,null,"Total","Shots",null,null,"Shots",null,"Total","Shots",null,null,"Shots",null,null,"Total","Shots",null,null,"shots",null,null,"Total","Shots",null,null,"shots",null,"Total","Shots",null,null,"Shots",null,null,"Total","Shots",null,null,"shots",null,null,"Total","Shots",null,null,"shots",null,"Total","Shots",null,null,"Shots",null,null,"Total","Shots",null,null,"Shots",null,null,"Total","Shots",null,null,"Shots",null,"Total","Shots",null,null,"Shots",null,null,"Total","Shots",null,null,"shots",null,null,"Total","Shots",null,null,"shots",null,"Total","Shots",null,null,"shots",null,null,"Total","Shots",null,null,"shots",null,null,"Total","Shots",null,null,"shots"]
[null,"Ends",null,null,"Ends",null,".",null,"Ends",null,null,"Ends",null,".",null,"Ends",null,null,"Ends",null,null,"Ends",null,null,"Ends",null,".",null,"Ends",null,null,"Ends",null,".",null,"Ends",null,null,"Ends",null,null,"Ends",null,null,"Ends",null,".",null,"Ends",null,null,"Ends",null,".",null,"Ends",null,null,"Ends",null,null,"Ends",null,null,"Ends",null,".",null,"Ends",null,null,"Ends",null,".",null,"Ends",null,null,"Ends",null,null,"Ends",null,null,"Ends",null,".",null,"Ends",null,null,"Ends",null,".",null,"Ends",null,null,"Ends",null,null,"Ends",null,null,"Ends",null,".",null,"Ends",null,null,"Ends",null,".",null,"Ends",null,null,"Ends",null,null,"Ends",null,null,"Ends",null,".",null,"Ends",null,null,"Ends",null,".",null,"Ends",null,null,"Ends"]
["1st Game ",{"$nulls":5},".","2nd Game ",{"$nulls":5},".","3nd Game",{"$nulls":5},"4th Game",{"$nulls":5},".","5th Game",{"$nulls":5},".","6th Game",{"$nulls":5},"7th Game",{"$nulls":5},".","8th Game",{"$nulls":5},".","9th Game",{"$nulls":5},"10th Game",{"$nulls":5},".","11th Game",{"$nulls":5},".","12th Game ",{"$nulls":5},"13th Game",{"$nulls":5},".","14th Game",{"$nulls":5},".","15th Game",{"$nulls":5},"16th Game",{"$nulls":5},".","17th Game",{"$nulls":5},".","18th Game",{"$nulls":5},"19th Game",{"$nulls":5},".","20th Game",{"$nulls":5},".","9th Game "]
["Team No",null,null,"Rink No",{"$nulls":3},"Team No",null,null,"Rink No",{"$nulls":3},"Team No",null,null,"Rink No",null,null,"Team No",null,null,"Rink No",{"$nulls":3},"Team No",null,null,"Rink No",{"$nulls":3},"Team No",null,null,"Rink No",null,null,"Team No",null,null,"Rink No",{"$nulls":3},"Team No",null,null,"Rink No",{"$nulls":3},"Team No",null,null,"Rink No",null,null,"Team No",null,null,"Rink No",{"$nulls":3},"Team No",null,null,"Rink No",{"$nulls":3},"Team No",null,null,"Rink No",null,null,"Team No",null,null,"Rink No",{"$nulls":3},"Team No",null,null,"Rink No",{"$nulls":3},"Team No",null,null,"Rink No",null,null,"Team No",null,null,"Rink No",{"$nulls":3},"Team No",null,null,"Rink No",{"$nulls":3},"Team No",null,null,"Rink No",null,null,"Team No",null,null,"Rink No",{"$nulls":3},"Team No",null,null,"Rink No",{"$nulls":3},"Team No",null,null,"Rink No"]
[]
[{"$f":"DRAW!#REF!","v":{"$error":"#REF!"}},null,null,{"$f":"DRAW!#REF!","v":{"$error":"#REF!"}},null,null,".",{"$f":"DRAW!#REF!","v":{"$error":"#REF!"}},null,null,{"$f":"DRAW!#REF!","v":{"$error":"#REF!"}},null,null,".",{"$f":"DRAW!#REF!","v":{"$error":"#REF!"}},null,null,{"$f":"DRAW!#REF!","v":{"$error":"#REF!"}},null,null,{"$f":"DRAW!#REF!","v":{"$error":"#REF!"}},null,null,{"$f":"DRAW!#REF!","v":{"$error":"#REF!"}},null,null,".",{"$f":"DRAW!#REF!","v":{"$error":"#REF!"}},null,null,{"$f":"DRAW!#REF!","v":{"$error":"#REF!"}},null,null,".",{"$f":"DRAW!#REF!","v":{"$error":"#REF!"}},null,null,{"$f":"DRAW!#REF!","v":{"$error":"#REF!"}},null,null,{"$f":"DRAW!#REF!","v":{"$error":"#REF!"}},null,null,{"$f":"DRAW!#REF!","v":{"$error":"#REF!"}},null,null,".",{"$f":"DRAW!#REF!","v":{"$error":"#REF!"}},null,null,{"$f":"DRAW!#REF!","v":{"$error":"#REF!"}},null,null,".",{"$f":"DRAW!#REF!","v":{"$error":"#REF!"}},null,null,{"$f":"DRAW!#REF!","v":{"$error":"#REF!"}},null,null,{"$f":"DRAW!#REF!","v":{"$error":"#REF!"}},null,null,{"$f":"DRAW!#REF!","v":{"$error":"#REF!"}},null,null,".",{"$f":"DRAW!#REF!","v":{"$error":"#REF!"}},null,null,{"$f":"DRAW!#REF!","v":{"$error":"#REF!"}},null,null,".",{"$f":"DRAW!#REF!","v":{"$error":"#REF!"}},null,null,{"$f":"DRAW!#REF!","v":{"$error":"#REF!"}},null,null,{"$f":"DRAW!#REF!","v":{"$error":"#REF!"}},null,null,{"$f":"DRAW!#REF!","v":{"$error":"#REF!"}},null,null,".",{"$f":"DRAW!#REF!","v":{"$error":"#REF!"}},null,null,{"$f":"DRAW!#REF!","v":{"$error":"#REF!"}},null,null,".",{"$f":"DRAW!#REF!","v":{"$error":"#REF!"}},null,null,{"$f":"DRAW!#REF!","v":{"$error":"#REF!"}},null,null,{"$f":"DRAW!#REF!","v":{"$error":"#REF!"}},null,null,{"$f":"DRAW!#REF!","v":{"$error":"#REF!"}},null,null,".",{"$f":"DRAW!#REF!","v":{"$error":"#REF!"}},null,null,{"$f":"DRAW!#REF!","v":{"$error":"#REF!"}},null,null,".",{"$f":"DRAW!#REF!","v":{"$error":"#REF!"}},null,null,{"$f":"DRAW!#REF!","v":{"$error":"#REF!"}},null,null,{"$f":"DRAW!#REF!","v":{"$error":"#REF!"}},null,null,{"$f":"DRAW!#REF!","v":{"$error":"#REF!"}},null,null,".",{"$f":"DRAW!#REF!","v":{"$error":"#REF!"}},null,null,{"$f":"DRAW!#REF!","v":{"$error":"#REF!"}},null,null,".",{"$f":"DRAW!#REF!","v":{"$error":"#REF!"}},null,null,{"$f":"DRAW!#REF!","v":{"$error":"#REF!"}}]
[null,"Team",{"$f":"DRAW!#REF!","v":{"$error":"#REF!"}},"V","Team",{"$f":"DRAW!#REF!","v":{"$error":"#REF!"}},null,null,"Team",{"$f":"DRAW!#REF!","v":{"$error":"#REF!"}},"V","Team",{"$f":"DRAW!#REF!","v":{"$error":"#REF!"}},null,null,"Team",{"$f":"DRAW!#REF!","v":{"$error":"#REF!"}},"V","Team",{"$f":"DRAW!#REF!","v":{"$error":"#REF!"}},null,"Team",{"$f":"DRAW!#REF!","v":{"$error":"#REF!"}},"V","Team",{"$f":"DRAW!#REF!","v":{"$error":"#REF!"}},null,null,"Team",{"$f":"DRAW!#REF!","v":{"$error":"#REF!"}},"V","Team",{"$f":"DRAW!#REF!","v":{"$error":"#REF!"}},null,null,"Team",{"$f":"DRAW!#REF!","v":{"$error":"#REF!"}},"V","Team",{"$f":"DRAW!#REF!","v":{"$error":"#REF!"}},null,"Team",{"$f":"DRAW!#REF!","v":{"$error":"#REF!"}},"V","Team",{"$f":"DRAW!#REF!","v":{"$error":"#REF!"}},null,null,"Team",{"$f":"DRAW!#REF!","v":{"$error":"#REF!"}},"V","Team",{"$f":"DRAW!#REF!","v":{"$error":"#REF!"}},null,null,"Team",{"$f":"DRAW!#REF!","v":{"$error":"#REF!"}},"V","Team",{"$f":"DRAW!#REF!","v":{"$error":"#REF!"}},null,"Team",{"$f":"DRAW!#REF!","v":{"$error":"#REF!"}},"V","Team",{"$f":"DRAW!#REF!","v":{"$error":"#REF!"}},null,null,"Team",{"$f":"DRAW!#REF!","v":{"$error":"#REF!"}},"V","Team",{"$f":"DRAW!#REF!","v":{"$error":"#REF!"}},null,null,"Team",{"$f":"DRAW!#REF!","v":{"$error":"#REF!"}},"V","Team",{"$f":"DRAW!#REF!","v":{"$error":"#REF!"}},null,"Team",{"$f":"DRAW!#REF!","v":{"$error":"#REF!"}},"V","Team",{"$f":"DRAW!#REF!","v":{"$error":"#REF!"}},null,null,"Team",{"$f":"DRAW!#REF!","v":{"$error":"#REF!"}},"V","Team",{"$f":"DRAW!#REF!","v":{"$error":"#REF!"}},null,null,"Team",{"$f":"DRAW!#REF!","v":{"$error":"#REF!"}},"V","Team",{"$f":"DRAW!#REF!","v":{"$error":"#REF!"}},null,"Team",{"$f":"DRAW!#REF!","v":{"$error":"#REF!"}},"V","Team",{"$f":"DRAW!#REF!","v":{"$error":"#REF!"}},null,null,"Team",{"$f":"DRAW!#REF!","v":{"$error":"#REF!"}},"V","Team",{"$f":"DRAW!#REF!","v":{"$error":"#REF!"}},null,null,"Team",{"$f":"DRAW!#REF!","v":{"$error":"#REF!"}},"V","Team",{"$f":"DRAW!#REF!","v":{"$error":"#REF!"}},null,"Team",{"$f":"DRAW!#REF!","v":{"$error":"#REF!"}},"V","Team",{"$f":"DRAW!#REF!","v":{"$error":"#REF!"}},null,null,"Team",{"$f":"DRAW!#REF!","v":{"$error":"#REF!"}},"V","Team",{"$f":"DRAW!#REF!","v":{"$error":"#REF!"}},null,null,"Team",{"$f":"DRAW!#REF!","v":{"$error":"#REF!"}},"V","Team",{"$f":"DRAW!#REF!","v":{"$error":"#REF!"}}]
["Ends","Shots","Total",null,"Shots","Total",null,"Ends","Shots","Total",null,"Shots","Total",null,"Ends","Shots","Total",null,"Shots","Total","Ends","Shots","Total",null,"Shots","Total",null,"Ends","Shots","Total",null,"Shots","Total",null,"Ends","Shots","Total",null,"Shots","Total","Ends","Shots","Total",null,"Shots","Total",null,"Ends","Shots","Total",null,"Shots","Total",null,"Ends","Shots","Total",null,"Shots","Total","Ends","Shots","Total",null,"Shots","Total",null,"Ends","Shots","Total",null,"Shots","Total",null,"Ends","Shots","Total",null,"Shots","Total","Ends","Shots","Total",null,"Shots","Total",null,"Ends","Shots","Total",null,"Shots","Total",null,"Ends","Shots","Total",null,"Shots","Total","Ends","Shots","Total",null,"Shots","Total",null,"Ends","Shots","Total",null,"Shots","Total",null,"Ends","Shots","Total",null,"Shots","Total","Ends","Shots","Total",null,"Shots","Total",null,"Ends","Shots","Total",null,"Shots","Total",null,"Ends","Shots","Total",null,"Shots","Total"]
[1,{"$nulls":5},".",1,{"$nulls":5},".",1,{"$nulls":5},1,{"$nulls":5},".",1,{"$nulls":5},".",1,{"$nulls":5},1,{"$nulls":5},".",1,{"$nulls":5},".",1,{"$nulls":5},1,{"$nulls":5},".",1,{"$nulls":5},".",1,{"$nulls":5},1,{"$nulls":5},".",1,{"$nulls":5},".",1,{"$nulls":5},1,{"$nulls":5},".",1,{"$nulls":5},".",1,{"$nulls":5},1,{"$nulls":5},".",1,{"$nulls":5},".",1]
[2,{"$nulls":6},2,{"$nulls":6},2,{"$nulls":5},2,{"$nulls":6},2,{"$nulls":6},2,{"$nulls":5},2,{"$nulls":6},2,{"$nulls":6},2,{"$nulls":5},2,{"$nulls":6},2,{"$nulls":6},2,{"$nulls":5},2,{"$nulls":6},2,{"$nulls":6},2,{"$nulls":5},2,{"$nulls":6},2,{"$nulls":6},2,{"$nulls":5},2,{"$nulls":6},2,{"$nulls":6},2]
[3,{"$nulls":6},3,{"$nulls":6},3,{"$nulls":5},3,{"$nulls":6},3,{"$nulls":6},3,{"$nulls":5},3,{"$nulls":6},3,{"$nulls":6},3,{"$nulls":5},3,{"$nulls":6},3,{"$nulls":6},3,{"$nulls":5},3,{"$nulls":6},3,{"$nulls":6},3,{"$nulls":5},3,{"$nulls":6},3,{"$nulls":6},3,{"$nulls":5},3,{"$nulls":6},3,{"$nulls":6},3]
[4,{"$nulls":6},4,{"$nulls":6},4,{"$nulls":5},4,{"$nulls":6},4,{"$nulls":6},4,{"$nulls":5},4,{"$nulls":6},4,{"$nulls":6},4,{"$nulls":5},4,{"$nulls":6},4,{"$nulls":6},4,{"$nulls":5},4,{"$nulls":6},4,{"$nulls":6},4,{"$nulls":5},4,{"$nulls":6},4,{"$nulls":6},4,{"$nulls":5},4,{"$nulls":6},4,{"$nulls":6},4]
[5,{"$nulls":5},".",5,{"$nulls":5},".",5,{"$nulls":5},5,{"$nulls":5},".",5,{"$nulls":5},".",5,{"$nulls":5},5,{"$nulls":5},".",5,{"$nulls":5},".",5,{"$nulls":5},5,{"$nulls":5},".",5,{"$nulls":5},".",5,{"$nulls":5},5,{"$nulls":5},".",5,{"$nulls":5},".",5,{"$nulls":5},5,{"$nulls":5},".",5,{"$nulls":5},".",5,{"$nulls":5},5,{"$nulls":5},".",5,{"$nulls":5},".",5]
[6,{"$nulls":6},6,{"$nulls":6},6,{"$nulls":5},6,{"$nulls":6},6,{"$nulls":6},6,{"$nulls":5},6,{"$nulls":6},6,{"$nulls":6},6,{"$nulls":5},6,{"$nulls":6},6,{"$nulls":6},6,{"$nulls":5},6,{"$nulls":6},6,{"$nulls":6},6,{"$nulls":5},6,{"$nulls":6},6,{"$nulls":6},6,{"$nulls":5},6,{"$nulls":6},6,{"$nulls":6},6]
[7,{"$nulls":6},7,{"$nulls":6},7,{"$nulls":5},7,{"$nulls":6},7,{"$nulls":6},7,{"$nulls":5},7,{"$nulls":6},7,{"$nulls":6},7,{"$nulls":5},7,{"$nulls":6},7,{"$nulls":6},7,{"$nulls":5},7,{"$nulls":6},7,{"$nulls":6},7,{"$nulls":5},7,{"$nulls":6},7,{"$nulls":6},7,{"$nulls":5},7,{"$nulls":6},7,{"$nulls":6},7]
[8,{"$nulls":6},8,{"$nulls":6},8,{"$nulls":5},8,{"$nulls":6},8,{"$nulls":6},8,{"$nulls":5},8,{"$nulls":6},8,{"$nulls":6},8,{"$nulls":5},8,{"$nulls":6},8,{"$nulls":6},8,{"$nulls":5},8,{"$nulls":6},8,{"$nulls":6},8,{"$nulls":5},8,{"$nulls":6},8,{"$nulls":6},8,{"$nulls":5},8,{"$nulls":6},8,{"$nulls":6},8]
[9,{"$nulls":5},".",9,{"$nulls":5},".",9,{"$nulls":5},9,{"$nulls":5},".",9,{"$nulls":5},".",9,{"$nulls":5},9,{"$nulls":5},".",9,{"$nulls":5},".",9,{"$nulls":5},9,{"$nulls":5},".",9,{"$nulls":5},".",9,{"$nulls":5},9,{"$nulls":5},".",9,{"$nulls":5},".",9,{"$nulls":5},9,{"$nulls":5},".",9,{"$nulls":5},".",9,{"$nulls":5},9,{"$nulls":5},".",9,{"$nulls":5},".",9]
[10,{"$nulls":6},10,{"$nulls":6},10,{"$nulls":5},10,{"$nulls":6},10,{"$nulls":6},10,{"$nulls":5},10,{"$nulls":6},10,{"$nulls":6},10,{"$nulls":5},10,{"$nulls":6},10,{"$nulls":6},10,{"$nulls":5},10,{"$nulls":6},10,{"$nulls":6},10,{"$nulls":5},10,{"$nulls":6},10,{"$nulls":6},10,{"$nulls":5},10,{"$nulls":6},10,{"$nulls":6},10]
[11,{"$nulls":6},11,{"$nulls":6},11,{"$nulls":5},11,{"$nulls":6},11,{"$nulls":6},11,{"$nulls":5},11,{"$nulls":6},11,{"$nulls":6},11,{"$nulls":5},11,{"$nulls":6},11,{"$nulls":6},11,{"$nulls":5},11,{"$nulls":6},11,{"$nulls":6},11,{"$nulls":5},11,{"$nulls":6},11,{"$nulls":6},11,{"$nulls":5},11,{"$nulls":6},11,{"$nulls":6},11]
[12,{"$nulls":6},12,{"$nulls":6},12,{"$nulls":5},12,{"$nulls":6},12,{"$nulls":6},12,{"$nulls":5},12,{"$nulls":6},12,{"$nulls":6},12,{"$nulls":5},12,{"$nulls":6},12,{"$nulls":6},12,{"$nulls":5},12,{"$nulls":6},12,{"$nulls":6},12,{"$nulls":5},12,{"$nulls":6},12,{"$nulls":6},12,{"$nulls":5},12,{"$nulls":6},12,{"$nulls":6},12]
[13,{"$nulls":5},".",13,{"$nulls":5},".",13,{"$nulls":5},13,{"$nulls":5},".",13,{"$nulls":5},".",13,{"$nulls":5},13,{"$nulls":5},".",13,{"$nulls":5},".",13,{"$nulls":5},13,{"$nulls":5},".",13,{"$nulls":5},".",13,{"$nulls":5},13,{"$nulls":5},".",13,{"$nulls":5},".",13,{"$nulls":5},13,{"$nulls":5},".",13,{"$nulls":5},".",13,{"$nulls":5},13,{"$nulls":5},".",13,{"$nulls":5},".",13]
[14,{"$nulls":6},14,{"$nulls":6},14,{"$nulls":5},14,{"$nulls":6},14,{"$nulls":6},14,{"$nulls":5},14,{"$nulls":6},14,{"$nulls":6},14,{"$nulls":5},14,{"$nulls":6},14,{"$nulls":6},14,{"$nulls":5},14,{"$nulls":6},14,{"$nulls":6},14,{"$nulls":5},14,{"$nulls":6},14,{"$nulls":6},14,{"$nulls":5},14,{"$nulls":6},14,{"$nulls":6},14]
[15,{"$nulls":6},15,{"$nulls":6},15,{"$nulls":5},15,{"$nulls":6},15,{"$nulls":6},15,{"$nulls":5},15,{"$nulls":6},15,{"$nulls":6},15,{"$nulls":5},15,{"$nulls":6},15,{"$nulls":6},15,{"$nulls":5},15,{"$nulls":6},15,{"$nulls":6},15,{"$nulls":5},15,{"$nulls":6},15,{"$nulls":6},15,{"$nulls":5},15,{"$nulls":6},15,{"$nulls":6},15]
[16,{"$nulls":6},16,{"$nulls":6},16,{"$nulls":5},16,{"$nulls":6},16,{"$nulls":6},16,{"$nulls":5},16,{"$nulls":6},16,{"$nulls":6},16,{"$nulls":5},16,{"$nulls":6},16,{"$nulls":6},16,{"$nulls":5},16,{"$nulls":6},16,{"$nulls":6},16,{"$nulls":5},16,{"$nulls":6},16,{"$nulls":6},16,{"$nulls":5},16,{"$nulls":6},16,{"$nulls":6},16]
[17,{"$nulls":5},".",17,{"$nulls":5},".",17,{"$nulls":5},17,{"$nulls":5},".",17,{"$nulls":5},".",17,{"$nulls":5},17,{"$nulls":5},".",17,{"$nulls":5},".",17,{"$nulls":5},17,{"$nulls":5},".",17,{"$nulls":5},".",17,{"$nulls":5},17,{"$nulls":5},".",17,{"$nulls":5},".",17,{"$nulls":5},17,{"$nulls":5},".",17,{"$nulls":5},".",17,{"$nulls":5},17,{"$nulls":5},".",17,{"$nulls":5},".",17]
[18,{"$nulls":6},18,{"$nulls":6},18,{"$nulls":5},18,{"$nulls":6},18,{"$nulls":6},18,{"$nulls":5},18,{"$nulls":6},18,{"$nulls":6},18,{"$nulls":5},18,{"$nulls":6},18,{"$nulls":6},18,{"$nulls":5},18,{"$nulls":6},18,{"$nulls":6},18,{"$nulls":5},18,{"$nulls":6},18,{"$nulls":6},18,{"$nulls":5},18,{"$nulls":6},18,{"$nulls":6},18]
["Total","Shots",null,null,"Shots",null,null,"Total","Shots",null,null,"Shots",null,null,"Total","Shots",null,null,"Shots",null,"Total","Shots",null,null,"Shots",null,null,"Total","Shots",null,null,"Shots",null,null,"Total","Shots",null,null,"Shots",null,"Total","Shots",null,null,"Shots",null,null,"Total","Shots",null,null,"shots",null,null,"Total","Shots",null,null,"shots",null,"Total","Shots",null,null,"Shots",null,null,"Total","Shots",null,null,"shots",null,null,"Total","Shots",null,null,"shots",null,"Total","Shots",null,null,"Shots",null,null,"Total","Shots",null,null,"Shots",null,null,"Total","Shots",null,null,"Shots",null,"Total","Shots",null,null,"Shots",null,null,"Total","Shots",null,null,"shots",null,null,"Total","Shots",null,null,"shots",null,"Total","Shots",null,null,"shots",null,null,"Total","Shots",null,null,"shots",null,null,"Total","Shots",null,null,"shots"]
[null,"Ends",null,null,"Ends",null,".",null,"Ends",null,null,"Ends",null,".",null,"Ends",null,null,"Ends",null,null,"Ends",null,null,"Ends",null,".",null,"Ends",null,null,"Ends",null,".",null,"Ends",null,null,"Ends",null,null,"Ends",null,null,"Ends",null,".",null,"Ends",null,null,"Ends",null,".",null,"Ends",null,null,"Ends",null,null,"Ends",null,null,"Ends",null,".",null,"Ends",null,null,"Ends",null,".",null,"Ends",null,null,"Ends",null,null,"Ends",null,null,"Ends",null,".",null,"Ends",null,null,"Ends",null,".",null,"Ends",null,null,"Ends",null,null,"Ends",null,null,"Ends",null,".",null,"Ends",null,null,"Ends",null,".",null,"Ends",null,null,"Ends",null,null,"Ends",null,null,"Ends",null,".",null,"Ends",null,null,"Ends",null,".",null,"Ends",null,null,"Ends"]
[]
[]
["1st Game ",{"$nulls":5},".","2nd Game ",{"$nulls":5},".","3nd Game",{"$nulls":5},"4th Game",{"$nulls":5},".","5th Game",{"$nulls":5},".","6th Game",{"$nulls":5},"7th Game",{"$nulls":5},".","8th Game",{"$nulls":5},".","9th Game",{"$nulls":5},"10th Game",{"$nulls":5},".","11th Game",{"$nulls":5},".","12th Game ",{"$nulls":5},"13th Game",{"$nulls":5},".","14th Game",{"$nulls":5},".","15th Game",{"$nulls":5},"16th Game",{"$nulls":5},".","17th Game",{"$nulls":5},".","18th Game",{"$nulls":5},"19th Game",{"$nulls":5},".","20th Game",{"$nulls":5},".","9th Game "]
["Team No",null,null,"Rink No",{"$nulls":3},"Team No",null,null,"Rink No",{"$nulls":3},"Team No",null,null,"Rink No",null,null,"Team No",null,null,"Rink No",{"$nulls":3},"Team No",null,null,"Rink No",{"$nulls":3},"Team No",null,null,"Rink No",null,null,"Team No",null,null,"Rink No",{"$nulls":3},"Team No",null,null,"Rink No",{"$nulls":3},"Team No",null,null,"Rink No",null,null,"Team No",null,null,"Rink No",{"$nulls":3},"Team No",null,null,"Rink No",{"$nulls":3},"Team No",null,null,"Rink No",null,null,"Team No",null,null,"Rink No",{"$nulls":3},"Team No",null,null,"Rink No",{"$nulls":3},"Team No",null,null,"Rink No",null,null,"Team No",null,null,"Rink No",{"$nulls":3},"Team No",null,null,"Rink No",{"$nulls":3},"Team No",null,null,"Rink No",null,null,"Team No",null,null,"Rink No",{"$nulls":3},"Team No",null,null,"Rink No",{"$nulls":3},"Team No",null,null,"Rink No"]
[]
[{"$f":"DRAW!#REF!","v":{"$error":"#REF!"}},null,null,{"$f":"DRAW!#REF!","v":{"$error":"#REF!"}},null,null,".",{"$f":"DRAW!#REF!","v":{"$error":"#REF!"}},null,null,{"$f":"DRAW!#REF!","v":{"$error":"#REF!"}},null,null,".",{"$f":"DRAW!#REF!","v":{"$error":"#REF!"}},null,null,{"$f":"DRAW!#REF!","v":{"$error":"#REF!"}},null,null,{"$f":"DRAW!#REF!","v":{"$error":"#REF!"}},null,null,{"$f":"DRAW!#REF!","v":{"$error":"#REF!"}},null,null,".",{"$f":"DRAW!#REF!","v":{"$error":"#REF!"}},null,null,{"$f":"DRAW!#REF!","v":{"$error":"#REF!"}},null,null,".",{"$f":"DRAW!#REF!","v":{"$error":"#REF!"}},null,null,{"$f":"DRAW!#REF!","v":{"$error":"#REF!"}},null,null,{"$f":"DRAW!#REF!","v":{"$error":"#REF!"}},null,null,{"$f":"DRAW!#REF!","v":{"$error":"#REF!"}},null,null,".",{"$f":"DRAW!#REF!","v":{"$error":"#REF!"}},null,null,{"$f":"DRAW!#REF!","v":{"$error":"#REF!"}},null,null,".",{"$f":"DRAW!#REF!","v":{"$error":"#REF!"}},null,null,{"$f":"DRAW!#REF!","v":{"$error":"#REF!"}},null,null,{"$f":"DRAW!#REF!","v":{"$error":"#REF!"}},null,null,{"$f":"DRAW!#REF!","v":{"$error":"#REF!"}},null,null,".",{"$f":"DRAW!#REF!","v":{"$error":"#REF!"}},null,null,{"$f":"DRAW!#REF!","v":{"$error":"#REF!"}},null,null,".",{"$f":"DRAW!#REF!","v":{"$error":"#REF!"}},null,null,{"$f":"DRAW!#REF!","v":{"$error":"#REF!"}},null,null,{"$f":"DRAW!#REF!","v":{"$error":"#REF!"}},null,null,{"$f":"DRAW!#REF!","v":{"$error":"#REF!"}},null,null,".",{"$f":"DRAW!#REF!","v":{"$error":"#REF!"}},null,null,{"$f":"DRAW!#REF!","v":{"$error":"#REF!"}},null,null,".",{"$f":"DRAW!#REF!","v":{"$error":"#REF!"}},null,null,{"$f":"DRAW!#REF!","v":{"$error":"#REF!"}},null,null,{"$f":"DRAW!#REF!","v":{"$error":"#REF!"}},null,null,{"$f":"DRAW!#REF!","v":{"$error":"#REF!"}},null,null,".",{"$f":"DRAW!#REF!","v":{"$error":"#REF!"}},null,null,{"$f":"DRAW!#REF!","v":{"$error":"#REF!"}},null,null,".",{"$f":"DRAW!#REF!","v":{"$error":"#REF!"}},null,null,{"$f":"DRAW!#REF!","v":{"$error":"#REF!"}},null,null,{"$f":"DRAW!#REF!","v":{"$error":"#REF!"}},null,null,{"$f":"DRAW!#REF!","v":{"$error":"#REF!"}},null,null,".",{"$f":"DRAW!#REF!","v":{"$error":"#REF!"}},null,null,{"$f":"DRAW!#REF!","v":{"$error":"#REF!"}},null,null,".",{"$f":"DRAW!#REF!","v":{"$error":"#REF!"}},null,null,{"$f":"DRAW!#REF!","v":{"$error":"#REF!"}}]
[null,"Team",{"$f":"DRAW!#REF!","v":{"$error":"#REF!"}},"V","Team",{"$f":"DRAW!#REF!","v":{"$error":"#REF!"}},null,null,"Team",{"$f":"DRAW!#REF!","v":{"$error":"#REF!"}},"V","Team",{"$f":"DRAW!#REF!","v":{"$error":"#REF!"}},null,null,"Team",{"$f":"DRAW!#REF!","v":{"$error":"#REF!"}},"V","Team",{"$f":"DRAW!#REF!","v":{"$error":"#REF!"}},null,"Team",{"$f":"DRAW!#REF!","v":{"$error":"#REF!"}},"V","Team",{"$f":"DRAW!#REF!","v":{"$error":"#REF!"}},null,null,"Team",{"$f":"DRAW!#REF!","v":{"$error":"#REF!"}},"V","Team",{"$f":"DRAW!#REF!","v":{"$error":"#REF!"}},null,null,"Team",{"$f":"DRAW!#REF!","v":{"$error":"#REF!"}},"V","Team",{"$f":"DRAW!#REF!","v":{"$error":"#REF!"}},null,"Team",{"$f":"DRAW!#REF!","v":{"$error":"#REF!"}},"V","Team",{"$f":"DRAW!#REF!","v":{"$error":"#REF!"}},null,null,"Team",{"$f":"DRAW!#REF!","v":{"$error":"#REF!"}},"V","Team",{"$f":"DRAW!#REF!","v":{"$error":"#REF!"}},null,null,"Team",{"$f":"DRAW!#REF!","v":{"$error":"#REF!"}},"V","Team",{"$f":"DRAW!#REF!","v":{"$error":"#REF!"}},null,"Team",{"$f":"DRAW!#REF!","v":{"$error":"#REF!"}},"V","Team",{"$f":"DRAW!#REF!","v":{"$error":"#REF!"}},null,null,"Team",{"$f":"DRAW!#REF!","v":{"$error":"#REF!"}},"V","Team",{"$f":"DRAW!#REF!","v":{"$error":"#REF!"}},null,null,"Team",{"$f":"DRAW!#REF!","v":{"$error":"#REF!"}},"V","Team",{"$f":"DRAW!#REF!","v":{"$error":"#REF!"}},null,"Team",{"$f":"DRAW!#REF!","v":{"$error":"#REF!"}},"V","Team",{"$f":"DRAW!#REF!","v":{"$error":"#REF!"}},null,null,"Team",{"$f":"DRAW!#REF!","v":{"$error":"#REF!"}},"V","Team",{"$f":"DRAW!#REF!","v":{"$error":"#REF!"}},null,null,"Team",{"$f":"DRAW!#REF!","v":{"$error":"#REF!"}},"V","Team",{"$f":"DRAW!#REF!","v":{"$error":"#REF!"}},null,"Team",{"$f":"DRAW!#REF!","v":{"$error":"#REF!"}},"V","Team",{"$f":"DRAW!#REF!","v":{"$error":"#REF!"}},null,null,"Team",{"$f":"DRAW!#REF!","v":{"$error":"#REF!"}},"V","Team",{"$f":"DRAW!#REF!","v":{"$error":"#REF!"}},null,null,"Team",{"$f":"DRAW!#REF!","v":{"$error":"#REF!"}},"V","Team",{"$f":"DRAW!#REF!","v":{"$error":"#REF!"}},null,"Team",{"$f":"DRAW!#REF!","v":{"$error":"#REF!"}},"V","Team",{"$f":"DRAW!#REF!","v":{"$error":"#REF!"}},null,null,"Team",{"$f":"DRAW!#REF!","v":{"$error":"#REF!"}},"V","Team",{"$f":"DRAW!#REF!","v":{"$error":"#REF!"}},null,null,"Team",{"$f":"DRAW!#REF!","v":{"$error":"#REF!"}},"V","Team",{"$f":"DRAW!#REF!","v":{"$error":"#REF!"}}]
["Ends","Shots","Total",null,"Shots","Total",null,"Ends","Shots","Total",null,"Shots","Total",null,"Ends","Shots","Total",null,"Shots","Total","Ends","Shots","Total",null,"Shots","Total",null,"Ends","Shots","Total",null,"Shots","Total",null,"Ends","Shots","Total",null,"Shots","Total","Ends","Shots","Total",null,"Shots","Total",null,"Ends","Shots","Total",null,"Shots","Total",null,"Ends","Shots","Total",null,"Shots","Total","Ends","Shots","Total",null,"Shots","Total",null,"Ends","Shots","Total",null,"Shots","Total",null,"Ends","Shots","Total",null,"Shots","Total","Ends","Shots","Total",null,"Shots","Total",null,"Ends","Shots","Total",null,"Shots","Total",null,"Ends","Shots","Total",null,"Shots","Total","Ends","Shots","Total",null,"Shots","Total",null,"Ends","Shots","Total",null,"Shots","Total",null,"Ends","Shots","Total",null,"Shots","Total","Ends","Shots","Total",null,"Shots","Total",null,"Ends","Shots","Total",null,"Shots","Total",null,"Ends","Shots","Total",null,"Shots","Total"]
[1,{"$nulls":5},".",1,{"$nulls":5},".",1,{"$nulls":5},1,{"$nulls":5},".",1,{"$nulls":5},".",1,{"$nulls":5},1,{"$nulls":5},".",1,{"$nulls":5},".",1,{"$nulls":5},1,{"$nulls":5},".",1,{"$nulls":5},".",1,{"$nulls":5},1,{"$nulls":5},".",1,{"$nulls":5},".",1,{"$nulls":5},1,{"$nulls":5},".",1,{"$nulls":5},".",1,{"$nulls":5},1,{"$nulls":5},".",1,{"$nulls":5},".",1]
[2,{"$nulls":6},2,{"$nulls":6},2,{"$nulls":5},2,{"$nulls":6},2,{"$nulls":6},2,{"$nulls":5},2,{"$nulls":6},2,{"$nulls":6},2,{"$nulls":5},2,{"$nulls":6},2,{"$nulls":6},2,{"$nulls":5},2,{"$nulls":6},2,{"$nulls":6},2,{"$nulls":5},2,{"$nulls":6},2,{"$nulls":6},2,{"$nulls":5},2,{"$nulls":6},2,{"$nulls":6},2]
[3,{"$nulls":6},3,{"$nulls":6},3,{"$nulls":5},3,{"$nulls":6},3,{"$nulls":6},3,{"$nulls":5},3,{"$nulls":6},3,{"$nulls":6},3,{"$nulls":5},3,{"$nulls":6},3,{"$nulls":6},3,{"$nulls":5},3,{"$nulls":6},3,{"$nulls":6},3,{"$nulls":5},3,{"$nulls":6},3,{"$nulls":6},3,{"$nulls":5},3,{"$nulls":6},3,{"$nulls":6},3]
[4,{"$nulls":6},4,{"$nulls":6},4,{"$nulls":5},4,{"$nulls":6},4,{"$nulls":6},4,{"$nulls":5},4,{"$nulls":6},4,{"$nulls":6},4,{"$nulls":5},4,{"$nulls":6},4,{"$nulls":6},4,{"$nulls":5},4,{"$nulls":6},4,{"$nulls":6},4,{"$nulls":5},4,{"$nulls":6},4,{"$nulls":6},4,{"$nulls":5},4,{"$nulls":6},4,{"$nulls":6},4]
[5,{"$nulls":5},".",5,{"$nulls":5},".",5,{"$nulls":5},5,{"$nulls":5},".",5,{"$nulls":5},".",5,{"$nulls":5},5,{"$nulls":5},".",5,{"$nulls":5},".",5,{"$nulls":5},5,{"$nulls":5},".",5,{"$nulls":5},".",5,{"$nulls":5},5,{"$nulls":5},".",5,{"$nulls":5},".",5,{"$nulls":5},5,{"$nulls":5},".",5,{"$nulls":5},".",5,{"$nulls":5},5,{"$nulls":5},".",5,{"$nulls":5},".",5]
[6,{"$nulls":6},6,{"$nulls":6},6,{"$nulls":5},6,{"$nulls":6},6,{"$nulls":6},6,{"$nulls":5},6,{"$nulls":6},6,{"$nulls":6},6,{"$nulls":5},6,{"$nulls":6},6,{"$nulls":6},6,{"$nulls":5},6,{"$nulls":6},6,{"$nulls":6},6,{"$nulls":5},6,{"$nulls":6},6,{"$nulls":6},6,{"$nulls":5},6,{"$nulls":6},6,{"$nulls":6},6]
[7,{"$nulls":6},7,{"$nulls":6},7,{"$nulls":5},7,{"$nulls":6},7,{"$nulls":6},7,{"$nulls":5},7,{"$nulls":6},7,{"$nulls":6},7,{"$nulls":5},7,{"$nulls":6},7,{"$nulls":6},7,{"$nulls":5},7,{"$nulls":6},7,{"$nulls":6},7,{"$nulls":5},7,{"$nulls":6},7,{"$nulls":6},7,{"$nulls":5},7,{"$nulls":6},7,{"$nulls":6},7]
[8,{"$nulls":6},8,{"$nulls":6},8,{"$nulls":5},8,{"$nulls":6},8,{"$nulls":6},8,{"$nulls":5},8,{"$nulls":6},8,{"$nulls":6},8,{"$nulls":5},8,{"$nulls":6},8,{"$nulls":6},8,{"$nulls":5},8,{"$nulls":6},8,{"$nulls":6},8,{"$nulls":5},8,{"$nulls":6},8,{"$nulls":6},8,{"$nulls":5},8,{"$nulls":6},8,{"$nulls":6},8]
[9,{"$nulls":5},".",9,{"$nulls":5},".",9,{"$nulls":5},9,{"$nulls":5},".",9,{"$nulls":5},".",9,{"$nulls":5},9,{"$nulls":5},".",9,{"$nulls":5},".",9,{"$nulls":5},9,{"$nulls":5},".",9,{"$nulls":5},".",9,{"$nulls":5},9,{"$nulls":5},".",9,{"$nulls":5},".",9,{"$nulls":5},9,{"$nulls":5},".",9,{"$nulls":5},".",9,{"$nulls":5},9,{"$nulls":5},".",9,{"$nulls":5},".",9]
[10,{"$nulls":6},10,{"$nulls":6},10,{"$nulls":5},10,{"$nulls":6},10,{"$nulls":6},10,{"$nulls":5},10,{"$nulls":6},10,{"$nulls":6},10,{"$nulls":5},10,{"$nulls":6},10,{"$nulls":6},10,{"$nulls":5},10,{"$nulls":6},10,{"$nulls":6},10,{"$nulls":5},10,{"$nulls":6},10,{"$nulls":6},10,{"$nulls":5},10,{"$nulls":6},10,{"$nulls":6},10]
[11,{"$nulls":6},11,{"$nulls":6},11,{"$nulls":5},11,{"$nulls":6},11,{"$nulls":6},11,{"$nulls":5},11,{"$nulls":6},11,{"$nulls":6},11,{"$nulls":5},11,{"$nulls":6},11,{"$nulls":6},11,{"$nulls":5},11,{"$nulls":6},11,{"$nulls":6},11,{"$nulls":5},11,{"$nulls":6},11,{"$nulls":6},11,{"$nulls":5},11,{"$nulls":6},11,{"$nulls":6},11]
[12,{"$nulls":6},12,{"$nulls":6},12,{"$nulls":5},12,{"$nulls":6},12,{"$nulls":6},12,{"$nulls":5},12,{"$nulls":6},12,{"$nulls":6},12,{"$nulls":5},12,{"$nulls":6},12,{"$nulls":6},12,{"$nulls":5},12,{"$nulls":6},12,{"$nulls":6},12,{"$nulls":5},12,{"$nulls":6},12,{"$nulls":6},12,{"$nulls":5},12,{"$nulls":6},12,{"$nulls":6},12]
[13,{"$nulls":5},".",13,{"$nulls":5},".",13,{"$nulls":5},13,{"$nulls":5},".",13,{"$nulls":5},".",13,{"$nulls":5},13,{"$nulls":5},".",13,{"$nulls":5},".",13,{"$nulls":5},13,{"$nulls":5},".",13,{"$nulls":5},".",13,{"$nulls":5},13,{"$nulls":5},".",13,{"$nulls":5},".",13,{"$nulls":5},13,{"$nulls":5},".",13,{"$nulls":5},".",13,{"$nulls":5},13,{"$nulls":5},".",13,{"$nulls":5},".",13]
[14,{"$nulls":6},14,{"$nulls":6},14,{"$nulls":5},14,{"$nulls":6},14,{"$nulls":6},14,{"$nulls":5},14,{"$nulls":6},14,{"$nulls":6},14,{"$nulls":5},14,{"$nulls":6},14,{"$nulls":6},14,{"$nulls":5},14,{"$nulls":6},14,{"$nulls":6},14,{"$nulls":5},14,{"$nulls":6},14,{"$nulls":6},14,{"$nulls":5},14,{"$nulls":6},14,{"$nulls":6},14]
[15,{"$nulls":6},15,{"$nulls":6},15,{"$nulls":5},15,{"$nulls":6},15,{"$nulls":6},15,{"$nulls":5},15,{"$nulls":6},15,{"$nulls":6},15,{"$nulls":5},15,{"$nulls":6},15,{"$nulls":6},15,{"$nulls":5},15,{"$nulls":6},15,{"$nulls":6},15,{"$nulls":5},15,{"$nulls":6},15,{"$nulls":6},15,{"$nulls":5},15,{"$nulls":6},15,{"$nulls":6},15]
[16,{"$nulls":6},16,{"$nulls":6},16,{"$nulls":5},16,{"$nulls":6},16,{"$nulls":6},16,{"$nulls":5},16,{"$nulls":6},16,{"$nulls":6},16,{"$nulls":5},16,{"$nulls":6},16,{"$nulls":6},16,{"$nulls":5},16,{"$nulls":6},16,{"$nulls":6},16,{"$nulls":5},16,{"$nulls":6},16,{"$nulls":6},16,{"$nulls":5},16,{"$nulls":6},16,{"$nulls":6},16]
[17,{"$nulls":5},".",17,{"$nulls":5},".",17,{"$nulls":5},17,{"$nulls":5},".",17,{"$nulls":5},".",17,{"$nulls":5},17,{"$nulls":5},".",17,{"$nulls":5},".",17,{"$nulls":5},17,{"$nulls":5},".",17,{"$nulls":5},".",17,{"$nulls":5},17,{"$nulls":5},".",17,{"$nulls":5},".",17,{"$nulls":5},17,{"$nulls":5},".",17,{"$nulls":5},".",17,{"$nulls":5},17,{"$nulls":5},".",17,{"$nulls":5},".",17]
[18,{"$nulls":6},18,{"$nulls":6},18,{"$nulls":5},18,{"$nulls":6},18,{"$nulls":6},18,{"$nulls":5},18,{"$nulls":6},18,{"$nulls":6},18,{"$nulls":5},18,{"$nulls":6},18,{"$nulls":6},18,{"$nulls":5},18,{"$nulls":6},18,{"$nulls":6},18,{"$nulls":5},18,{"$nulls":6},18,{"$nulls":6},18,{"$nulls":5},18,{"$nulls":6},18,{"$nulls":6},18]
["Total","Shots",null,null,"Shots",null,null,"Total","Shots",null,null,"Shots",null,null,"Total","Shots",null,null,"Shots",null,"Total","Shots",null,null,"Shots",null,null,"Total","Shots",null,null,"Shots",null,null,"Total","Shots",null,null,"Shots",null,"Total","Shots",null,null,"Shots",null,null,"Total","Shots",null,null,"shots",null,null,"Total","Shots",null,null,"shots",null,"Total","Shots",null,null,"Shots",null,null,"Total","Shots",null,null,"shots",null,null,"Total","Shots",null,null,"shots",null,"Total","Shots",null,null,"Shots",null,null,"Total","Shots",null,null,"Shots",null,null,"Total","Shots",null,null,"Shots",null,"Total","Shots",null,null,"Shots",null,null,"Total","Shots",null,null,"shots",null,null,"Total","Shots",null,null,"shots",null,"Total","Shots",null,null,"shots",null,null,"Total","Shots",null,null,"shots",null,null,"Total","Shots",null,null,"shots"]
[null,"Ends",null,null,"Ends",null,".",null,"Ends",null,null,"Ends",null,".",null,"Ends",null,null,"Ends",null,null,"Ends",null,null,"Ends",null,".",null,"Ends",null,null,"Ends",null,".",null,"Ends",null,null,"Ends",null,null,"Ends",null,null,"Ends",null,".",null,"Ends",null,null,"Ends",null,".",null,"Ends",null,null,"Ends",null,null,"Ends",null,null,"Ends",null,".",null,"Ends",null,null,"Ends",null,".",null,"Ends",null,null,"Ends",null,null,"Ends",null,null,"Ends",null,".",null,"Ends",null,null,"Ends",null,".",null,"Ends",null,null,"Ends",null,null,"Ends",null,null,"Ends",null,".",null,"Ends",null,null,"Ends",null,".",null,"Ends",null,null,"Ends",null,null,"Ends",null,null,"Ends",null,".",null,"Ends",null,null,"Ends",null,".",null,"Ends",null,null,"Ends"]
["1st Game ",{"$nulls":5},".","2nd Game ",{"$nulls":5},".","3nd Game",{"$nulls":5},"4th Game",{"$nulls":5},".","5th Game",{"$nulls":5},".","6th Game",{"$nulls":5},"7th Game",{"$nulls":5},".","8th Game",{"$nulls":5},".","9th Game",{"$nulls":5},"10th Game",{"$nulls":5},".","11th Game",{"$nulls":5},".","12th Game ",{"$nulls":5},"13th Game",{"$nulls":5},".","14th Game",{"$nulls":5},".","15th Game",{"$nulls":5},"16th Game",{"$nulls":5},".","17th Game",{"$nulls":5},".","18th Game",{"$nulls":5},"19th Game",{"$nulls":5},".","20th Game",{"$nulls":5},".","9th Game "]
["Team No",null,null,"Rink No",{"$nulls":3},"Team No",null,null,"Rink No",{"$nulls":3},"Team No",null,null,"Rink No",null,null,"Team No",null,null,"Rink No",{"$nulls":3},"Team No",null,null,"Rink No",{"$nulls":3},"Team No",null,null,"Rink No",null,null,"Team No",null,null,"Rink No",{"$nulls":3},"Team No",null,null,"Rink No",{"$nulls":3},"Team No",null,null,"Rink No",null,null,"Team No",null,null,"Rink No",{"$nulls":3},"Team No",null,null,"Rink No",{"$nulls":3},"Team No",null,null,"Rink No",null,null,"Team No",null,null,"Rink No",{"$nulls":3},"Team No",null,null,"Rink No",{"$nulls":3},"Team No",null,null,"Rink No",null,null,"Team No",null,null,"Rink No",{"$nulls":3},"Team No",null,null,"Rink No",{"$nulls":3},"Team No",null,null,"Rink No",null,null,"Team No",null,null,"Rink No",{"$nulls":3},"Team No",null,null,"Rink No",{"$nulls":3},"Team No",null,null,"Rink No"]
[]
[{"$f":"DRAW!#REF!","v":{"$error":"#REF!"}},null,null,{"$f":"DRAW!#REF!","v":{"$error":"#REF!"}},null,null,".",{"$f":"DRAW!#REF!","v":{"$error":"#REF!"}},null,null,{"$f":"DRAW!#REF!","v":{"$error":"#REF!"}},null,null,".",{"$f":"DRAW!#REF!","v":{"$error":"#REF!"}},null,null,{"$f":"DRAW!#REF!","v":{"$error":"#REF!"}},null,null,{"$f":"DRAW!#REF!","v":{"$error":"#REF!"}},null,null,{"$f":"DRAW!#REF!","v":{"$error":"#REF!"}},null,null,".",{"$f":"DRAW!#REF!","v":{"$error":"#REF!"}},null,null,{"$f":"DRAW!#REF!","v":{"$error":"#REF!"}},null,null,".",{"$f":"DRAW!#REF!","v":{"$error":"#REF!"}},null,null,{"$f":"DRAW!#REF!","v":{"$error":"#REF!"}},null,null,{"$f":"DRAW!#REF!","v":{"$error":"#REF!"}},null,null,{"$f":"DRAW!#REF!","v":{"$error":"#REF!"}},null,null,".",{"$f":"DRAW!#REF!","v":{"$error":"#REF!"}},null,null,{"$f":"DRAW!#REF!","v":{"$error":"#REF!"}},null,null,".",{"$f":"DRAW!#REF!","v":{"$error":"#REF!"}},null,null,{"$f":"DRAW!#REF!","v":{"$error":"#REF!"}},null,null,{"$f":"DRAW!#REF!","v":{"$error":"#REF!"}},null,null,{"$f":"DRAW!#REF!","v":{"$error":"#REF!"}},null,null,".",{"$f":"DRAW!#REF!","v":{"$error":"#REF!"}},null,null,{"$f":"DRAW!#REF!","v":{"$error":"#REF!"}},null,null,".",{"$f":"DRAW!#REF!","v":{"$error":"#REF!"}},null,null,{"$f":"DRAW!#REF!","v":{"$error":"#REF!"}},null,null,{"$f":"DRAW!#REF!","v":{"$error":"#REF!"}},null,null,{"$f":"DRAW!#REF!","v":{"$error":"#REF!"}},null,null,".",{"$f":"DRAW!#REF!","v":{"$error":"#REF!"}},null,null,{"$f":"DRAW!#REF!","v":{"$error":"#REF!"}},null,null,".",{"$f":"DRAW!#REF!","v":{"$error":"#REF!"}},null,null,{"$f":"DRAW!#REF!","v":{"$error":"#REF!"}},null,null,{"$f":"DRAW!#REF!","v":{"$error":"#REF!"}},null,null,{"$f":"DRAW!#REF!","v":{"$error":"#REF!"}},null,null,".",{"$f":"DRAW!#REF!","v":{"$error":"#REF!"}},null,null,{"$f":"DRAW!#REF!","v":{"$error":"#REF!"}},null,null,".",{"$f":"DRAW!#REF!","v":{"$error":"#REF!"}},null,null,{"$f":"DRAW!#REF!","v":{"$error":"#REF!"}},null,null,{"$f":"DRAW!#REF!","v":{"$error":"#REF!"}},null,null,{"$f":"DRAW!#REF!","v":{"$error":"#REF!"}},null,null,".",{"$f":"DRAW!#REF!","v":{"$error":"#REF!"}},null,null,{"$f":"DRAW!#REF!","v":{"$error":"#REF!"}},null,null,".",{"$f":"DRAW!#REF!","v":{"$error":"#REF!"}},null,null,{"$f":"DRAW!#REF!","v":{"$error":"#REF!"}}]
[null,"Team",{"$f":"DRAW!#REF!","v":{"$error":"#REF!"}},"V","Team",{"$f":"DRAW!#REF!","v":{"$error":"#REF!"}},null,null,"Team",{"$f":"DRAW!#REF!","v":{"$error":"#REF!"}},"V","Team",{"$f":"DRAW!#REF!","v":{"$error":"#REF!"}},null,null,"Team",{"$f":"DRAW!#REF!","v":{"$error":"#REF!"}},"V","Team",{"$f":"DRAW!#REF!","v":{"$error":"#REF!"}},null,"Team",{"$f":"DRAW!#REF!","v":{"$error":"#REF!"}},"V","Team",{"$f":"DRAW!#REF!","v":{"$error":"#REF!"}},null,null,"Team",{"$f":"DRAW!#REF!","v":{"$error":"#REF!"}},"V","Team",{"$f":"DRAW!#REF!","v":{"$error":"#REF!"}},null,null,"Team",{"$f":"DRAW!#REF!","v":{"$error":"#REF!"}},"V","Team",{"$f":"DRAW!#REF!","v":{"$error":"#REF!"}},null,"Team",{"$f":"DRAW!#REF!","v":{"$error":"#REF!"}},"V","Team",{"$f":"DRAW!#REF!","v":{"$error":"#REF!"}},null,null,"Team",{"$f":"DRAW!#REF!","v":{"$error":"#REF!"}},"V","Team",{"$f":"DRAW!#REF!","v":{"$error":"#REF!"}},null,null,"Team",{"$f":"DRAW!#REF!","v":{"$error":"#REF!"}},"V","Team",{"$f":"DRAW!#REF!","v":{"$error":"#REF!"}},null,"Team",{"$f":"DRAW!#REF!","v":{"$error":"#REF!"}},"V","Team",{"$f":"DRAW!#REF!","v":{"$error":"#REF!"}},null,null,"Team",{"$f":"DRAW!#REF!","v":{"$error":"#REF!"}},"V","Team",{"$f":"DRAW!#REF!","v":{"$error":"#REF!"}},null,null,"Team",{"$f":"DRAW!#REF!","v":{"$error":"#REF!"}},"V","Team",{"$f":"DRAW!#REF!","v":{"$error":"#REF!"}},null,"Team",{"$f":"DRAW!#REF!","v":{"$error":"#REF!"}},"V","Team",{"$f":"DRAW!#REF!","v":{"$error":"#REF!"}},null,null,"Team",{"$f":"DRAW!#REF!","v":{"$error":"#REF!"}},"V","Team",{"$f":"DRAW!#REF!","v":{"$error":"#REF!"}},null,null,"Team",{"$f":"DRAW!#REF!","v":{"$error":"#REF!"}},"V","Team",{"$f":"DRAW!#REF!","v":{"$error":"#REF!"}},null,"Team",{"$f":"DRAW!#REF!","v":{"$error":"#REF!"}},"V","Team",{"$f":"DRAW!#REF!","v":{"$error":"#REF!"}},null,null,"Team",{"$f":"DRAW!#REF!","v":{"$error":"#REF!"}},"V","Team",{"$f":"DRAW!#REF!","v":{"$error":"#REF!"}},null,null,"Team",{"$f":"DRAW!#REF!","v":{"$error":"#REF!"}},"V","Team",{"$f":"DRAW!#REF!","v":{"$error":"#REF!"}},null,"Team",{"$f":"DRAW!#REF!","v":{"$error":"#REF!"}},"V","Team",{"$f":"DRAW!#REF!","v":{"$error":"#REF!"}},null,null,"Team",{"$f":"DRAW!#REF!","v":{"$error":"#REF!"}},"V","Team",{"$f":"DRAW!#REF!","v":{"$error":"#REF!"}},null,null,"Team",{"$f":"DRAW!#REF!","v":{"$error":"#REF!"}},"V","Team",{"$f":"DRAW!#REF!","v":{"$error":"#REF!"}}]
["Ends","Shots","Total",null,"Shots","Total",null,"Ends","Shots","Total",null,"Shots","Total",null,"Ends","Shots","Total",null,"Shots","Total","Ends","Shots","Total",null,"Shots","Total",null,"Ends","Shots","Total",null,"Shots","Total",null,"Ends","Shots","Total",null,"Shots","Total","Ends","Shots","Total",null,"Shots","Total",null,"Ends","Shots","Total",null,"Shots","Total",null,"Ends","Shots","Total",null,"Shots","Total","Ends","Shots","Total",null,"Shots","Total",null,"Ends","Shots","Total",null,"Shots","Total",null,"Ends","Shots","Total",null,"Shots","Total","Ends","Shots","Total",null,"Shots","Total",null,"Ends","Shots","Total",null,"Shots","Total",null,"Ends","Shots","Total",null,"Shots","Total","Ends","Shots","Total",null,"Shots","Total",null,"Ends","Shots","Total",null,"Shots","Total",null,"Ends","Shots","Total",null,"Shots","Total","Ends","Shots","Total",null,"Shots","Total",null,"Ends","Shots","Total",null,"Shots","Total",null,"Ends","Shots","Total",null,"Shots","Total"]
[1,{"$nulls":5},".",1,{"$nulls":5},".",1,{"$nulls":5},1,{"$nulls":5},".",1,{"$nulls":5},".",1,{"$nulls":5},1,{"$nulls":5},".",1,{"$nulls":5},".",1,{"$nulls":5},1,{"$nulls":5},".",1,{"$nulls":5},".",1,{"$nulls":5},1,{"$nulls":5},".",1,{"$nulls":5},".",1,{"$nulls":5},1,{"$nulls":5},".",1,{"$nulls":5},".",1,{"$nulls":5},1,{"$nulls":5},".",1,{"$nulls":5},".",1]
[2,{"$nulls":6},2,{"$nulls":6},2,{"$nulls":5},2,{"$nulls":6},2,{"$nulls":6},2,{"$nulls":5},2,{"$nulls":6},2,{"$nulls":6},2,{"$nulls":5},2,{"$nulls":6},2,{"$nulls":6},2,{"$nulls":5},2,{"$nulls":6},2,{"$nulls":6},2,{"$nulls":5},2,{"$nulls":6},2,{"$nulls":6},2,{"$nulls":5},2,{"$nulls":6},2,{"$nulls":6},2]
[3,{"$nulls":6},3,{"$nulls":6},3,{"$nulls":5},3,{"$nulls":6},3,{"$nulls":6},3,{"$nulls":5},3,{"$nulls":6},3,{"$nulls":6},3,{"$nulls":5},3,{"$nulls":6},3,{"$nulls":6},3,{"$nulls":5},3,{"$nulls":6},3,{"$nulls":6},3,{"$nulls":5},3,{"$nulls":6},3,{"$nulls":6},3,{"$nulls":5},3,{"$nulls":6},3,{"$nulls":6},3]
[4,{"$nulls":6},4,{"$nulls":6},4,{"$nulls":5},4,{"$nulls":6},4,{"$nulls":6},4,{"$nulls":5},4,{"$nulls":6},4,{"$nulls":6},4,{"$nulls":5},4,{"$nulls":6},4,{"$nulls":6},4,{"$nulls":5},4,{"$nulls":6},4,{"$nulls":6},4,{"$nulls":5},4,{"$nulls":6},4,{"$nulls":6},4,{"$nulls":5},4,{"$nulls":6},4,{"$nulls":6},4]
[5,{"$nulls":5},".",5,{"$nulls":5},".",5,{"$nulls":5},5,{"$nulls":5},".",5,{"$nulls":5},".",5,{"$nulls":5},5,{"$nulls":5},".",5,{"$nulls":5},".",5,{"$nulls":5},5,{"$nulls":5},".",5,{"$nulls":5},".",5,{"$nulls":5},5,{"$nulls":5},".",5,{"$nulls":5},".",5,{"$nulls":5},5,{"$nulls":5},".",5,{"$nulls":5},".",5,{"$nulls":5},5,{"$nulls":5},".",5,{"$nulls":5},".",5]
[6,{"$nulls":6},6,{"$nulls":6},6,{"$nulls":5},6,{"$nulls":6},6,{"$nulls":6},6,{"$nulls":5},6,{"$nulls":6},6,{"$nulls":6},6,{"$nulls":5},6,{"$nulls":6},6,{"$nulls":6},6,{"$nulls":5},6,{"$nulls":6},6,{"$nulls":6},6,{"$nulls":5},6,{"$nulls":6},6,{"$nulls":6},6,{"$nulls":5},6,{"$nulls":6},6,{"$nulls":6},6]
[7,{"$nulls":6},7,{"$nulls":6},7,{"$nulls":5},7,{"$nulls":6},7,{"$nulls":6},7,{"$nulls":5},7,{"$nulls":6},7,{"$nulls":6},7,{"$nulls":5},7,{"$nulls":6},7,{"$nulls":6},7,{"$nulls":5},7,{"$nulls":6},7,{"$nulls":6},7,{"$nulls":5},7,{"$nulls":6},7,{"$nulls":6},7,{"$nulls":5},7,{"$nulls":6},7,{"$nulls":6},7]
[8,{"$nulls":6},8,{"$nulls":6},8,{"$nulls":5},8,{"$nulls":6},8,{"$nulls":6},8,{"$nulls":5},8,{"$nulls":6},8,{"$nulls":6},8,{"$nulls":5},8,{"$nulls":6},8,{"$nulls":6},8,{"$nulls":5},8,{"$nulls":6},8,{"$nulls":6},8,{"$nulls":5},8,{"$nulls":6},8,{"$nulls":6},8,{"$nulls":5},8,{"$nulls":6},8,{"$nulls":6},8]
[9,{"$nulls":5},".",9,{"$nulls":5},".",9,{"$nulls":5},9,{"$nulls":5},".",9,{"$nulls":5},".",9,{"$nulls":5},9,{"$nulls":5},".",9,{"$nulls":5},".",9,{"$nulls":5},9,{"$nulls":5},".",9,{"$nulls":5},".",9,{"$nulls":5},9,{"$nulls":5},".",9,{"$nulls":5},".",9,{"$nulls":5},9,{"$nulls":5},".",9,{"$nulls":5},".",9,{"$nulls":5},9,{"$nulls":5},".",9,{"$nulls":5},".",9]
[10,{"$nulls":6},10,{"$nulls":6},10,{"$nulls":5},10,{"$nulls":6},10,{"$nulls":6},10,{"$nulls":5},10,{"$nulls":6},10,{"$nulls":6},10,{"$nulls":5},10,{"$nulls":6},10,{"$nulls":6},10,{"$nulls":5},10,{"$nulls":6},10,{"$nulls":6},10,{"$nulls":5},10,{"$nulls":6},10,{"$nulls":6},10,{"$nulls":5},10,{"$nulls":6},10,{"$nulls":6},10]
[11,{"$nulls":6},11,{"$nulls":6},11,{"$nulls":5},11,{"$nulls":6},11,{"$nulls":6},11,{"$nulls":5},11,{"$nulls":6},11,{"$nulls":6},11,{"$nulls":5},11,{"$nulls":6},11,{"$nulls":6},11,{"$nulls":5},11,{"$nulls":6},11,{"$nulls":6},11,{"$nulls":5},11,{"$nulls":6},11,{"$nulls":6},11,{"$nulls":5},11,{"$nulls":6},11,{"$nulls":6},11]
[12,{"$nulls":6},12,{"$nulls":6},12,{"$nulls":5},12,{"$nulls":6},12,{"$nulls":6},12,{"$nulls":5},12,{"$nulls":6},12,{"$nulls":6},12,{"$nulls":5},12,{"$nulls":6},12,{"$nulls":6},12,{"$nulls":5},12,{"$nulls":6},12,{"$nulls":6},12,{"$nulls":5},12,{"$nulls":6},12,{"$nulls":6},12,{"$nulls":5},12,{"$nulls":6},12,{"$nulls":6},12]
[13,{"$nulls":5},".",13,{"$nulls":5},".",13,{"$nulls":5},13,{"$nulls":5},".",13,{"$nulls":5},".",13,{"$nulls":5},13,{"$nulls":5},".",13,{"$nulls":5},".",13,{"$nulls":5},13,{"$nulls":5},".",13,{"$nulls":5},".",13,{"$nulls":5},13,{"$nulls":5},".",13,{"$nulls":5},".",13,{"$nulls":5},13,{"$nulls":5},".",13,{"$nulls":5},".",13,{"$nulls":5},13,{"$nulls":5},".",13,{"$nulls":5},".",13]
[14,{"$nulls":6},14,{"$nulls":6},14,{"$nulls":5},14,{"$nulls":6},14,{"$nulls":6},14,{"$nulls":5},14,{"$nulls":6},14,{"$nulls":6},14,{"$nulls":5},14,{"$nulls":6},14,{"$nulls":6},14,{"$nulls":5},14,{"$nulls":6},14,{"$nulls":6},14,{"$nulls":5},14,{"$nulls":6},14,{"$nulls":6},14,{"$nulls":5},14,{"$nulls":6},14,{"$nulls":6},14]
[15,{"$nulls":6},15,{"$nulls":6},15,{"$nulls":5},15,{"$nulls":6},15,{"$nulls":6},15,{"$nulls":5},15,{"$nulls":6},15,{"$nulls":6},15,{"$nulls":5},15,{"$nulls":6},15,{"$nulls":6},15,{"$nulls":5},15,{"$nulls":6},15,{"$nulls":6},15,{"$nulls":5},15,{"$nulls":6},15,{"$nulls":6},15,{"$nulls":5},15,{"$nulls":6},15,{"$nulls":6},15]
[16,{"$nulls":6},16,{"$nulls":6},16,{"$nulls":5},16,{"$nulls":6},16,{"$nulls":6},16,{"$nulls":5},16,{"$nulls":6},16,{"$nulls":6},16,{"$nulls":5},16,{"$nulls":6},16,{"$nulls":6},16,{"$nulls":5},16,{"$nulls":6},16,{"$nulls":6},16,{"$nulls":5},16,{"$nulls":6},16,{"$nulls":6},16,{"$nulls":5},16,{"$nulls":6},16,{"$nulls":6},16]
[17,{"$nulls":5},".",17,{"$nulls":5},".",17,{"$nulls":5},17,{"$nulls":5},".",17,{"$nulls":5},".",17,{"$nulls":5},17,{"$nulls":5},".",17,{"$nulls":5},".",17,{"$nulls":5},17,{"$nulls":5},".",17,{"$nulls":5},".",17,{"$nulls":5},17,{"$nulls":5},".",17,{"$nulls":5},".",17,{"$nulls":5},17,{"$nulls":5},".",17,{"$nulls":5},".",17,{"$nulls":5},17,{"$nulls":5},".",17,{"$nulls":5},".",17]
[18,{"$nulls":6},18,{"$nulls":6},18,{"$nulls":5},18,{"$nulls":6},18,{"$nulls":6},18,{"$nulls":5},18,{"$nulls":6},18,{"$nulls":6},18,{"$nulls":5},18,{"$nulls":6},18,{"$nulls":6},18,{"$nulls":5},18,{"$nulls":6},18,{"$nulls":6},18,{"$nulls":5},18,{"$nulls":6},18,{"$nulls":6},18,{"$nulls":5},18,{"$nulls":6},18,{"$nulls":6},18]
["Total","Shots",null,null,"Shots",null,null,"Total","Shots",null,null,"Shots",null,null,"Total","Shots",null,null,"Shots",null,"Total","Shots",null,null,"Shots",null,null,"Total","Shots",null,null,"Shots",null,null,"Total","Shots",null,null,"Shots",null,"Total","Shots",null,null,"Shots",null,null,"Total","Shots",null,null,"shots",null,null,"Total","Shots",null,null,"shots",null,"Total","Shots",null,null,"Shots",null,null,"Total","Shots",null,null,"shots",null,null,"Total","Shots",null,null,"shots",null,"Total","Shots",null,null,"Shots",null,null,"Total","Shots",null,null,"Shots",null,null,"Total","Shots",null,null,"Shots",null,"Total","Shots",null,null,"Shots",null,null,"Total","Shots",null,null,"shots",null,null,"Total","Shots",null,null,"shots",null,"Total","Shots",null,null,"shots",null,null,"Total","Shots",null,null,"shots",null,null,"Total","Shots",null,null,"shots"]
[null,"Ends",null,null,"Ends",null,".",null,"Ends",null,null,"Ends",null,".",null,"Ends",null,null,"Ends",null,null,"Ends",null,null,"Ends",null,".",null,"Ends",null,null,"Ends",null,".",null,"Ends",null,null,"Ends",null,null,"Ends",null,null,"Ends",null,".",null,"Ends",null,null,"Ends",null,".",null,"Ends",null,null,"Ends",null,null,"Ends",null,null,"Ends",null,".",null,"Ends",null,null,"Ends",null,".",null,"Ends",null,null,"Ends",null,null,"Ends",null,null,"Ends",null,".",null,"Ends",null,null,"Ends",null,".",null,"Ends",null,null,"Ends",null,null,"Ends",null,null,"Ends",null,".",null,"Ends",null,null,"Ends",null,".",null,"Ends",null,null,"Ends",null,null,"Ends",null,null,"Ends",null,".",null,"Ends",null,null,"Ends",null,".",null,"Ends",null,null,"Ends"]
[]
[]
["1st Game ",{"$nulls":5},".","2nd Game ",{"$nulls":5},".","3nd Game",{"$nulls":5},"4th Game",{"$nulls":5},".","5th Game",{"$nulls":5},".","6th Game",{"$nulls":5},"7th Game",{"$nulls":5},".","8th Game",{"$nulls":5},".","9th Game",{"$nulls":5},"10th Game",{"$nulls":5},".","11th Game",{"$nulls":5},".","12th Game ",{"$nulls":5},"13th Game",{"$nulls":5},".","14th Game",{"$nulls":5},".","15th Game",{"$nulls":5},"16th Game",{"$nulls":5},".","17th Game",{"$nulls":5},".","18th Game",{"$nulls":5},"19th Game",{"$nulls":5},".","20th Game",{"$nulls":5},".","9th Game "]
["Team No",null,null,"Rink No",{"$nulls":3},"Team No",null,null,"Rink No",{"$nulls":3},"Team No",null,null,"Rink No",null,null,"Team No",null,null,"Rink No",{"$nulls":3},"Team No",null,null,"Rink No",{"$nulls":3},"Team No",null,null,"Rink No",null,null,"Team No",null,null,"Rink No",{"$nulls":3},"Team No",null,null,"Rink No",{"$nulls":3},"Team No",null,null,"Rink No",null,null,"Team No",null,null,"Rink No",{"$nulls":3},"Team No",null,null,"Rink No",{"$nulls":3},"Team No",null,null,"Rink No",null,null,"Team No",null,null,"Rink No",{"$nulls":3},"Team No",null,null,"Rink No",{"$nulls":3},"Team No",null,null,"Rink No",null,null,"Team No",null,null,"Rink No",{"$nulls":3},"Team No",null,null,"Rink No",{"$nulls":3},"Team No",null,null,"Rink No",null,null,"Team No",null,null,"Rink No",{"$nulls":3},"Team No",null,null,"Rink No",{"$nulls":3},"Team No",null,null,"Rink No"]
[]
[{"$f":"DRAW!#REF!","v":{"$error":"#REF!"}},null,null,{"$f":"DRAW!#REF!","v":{"$error":"#REF!"}},null,null,".",{"$f":"DRAW!#REF!","v":{"$error":"#REF!"}},null,null,{"$f":"DRAW!#REF!","v":{"$error":"#REF!"}},null,null,".",{"$f":"DRAW!#REF!","v":{"$error":"#REF!"}},null,null,{"$f":"DRAW!#REF!","v":{"$error":"#REF!"}},null,null,{"$f":"DRAW!#REF!","v":{"$error":"#REF!"}},null,null,{"$f":"DRAW!#REF!","v":{"$error":"#REF!"}},null,null,".",{"$f":"DRAW!#REF!","v":{"$error":"#REF!"}},null,null,{"$f":"DRAW!#REF!","v":{"$error":"#REF!"}},null,null,".",{"$f":"DRAW!#REF!","v":{"$error":"#REF!"}},null,null,{"$f":"DRAW!#REF!","v":{"$error":"#REF!"}},null,null,{"$f":"DRAW!#REF!","v":{"$error":"#REF!"}},null,null,{"$f":"DRAW!#REF!","v":{"$error":"#REF!"}},null,null,".",{"$f":"DRAW!#REF!","v":{"$error":"#REF!"}},null,null,{"$f":"DRAW!#REF!","v":{"$error":"#REF!"}},null,null,".",{"$f":"DRAW!#REF!","v":{"$error":"#REF!"}},null,null,{"$f":"DRAW!#REF!","v":{"$error":"#REF!"}},null,null,{"$f":"DRAW!#REF!","v":{"$error":"#REF!"}},null,null,{"$f":"DRAW!#REF!","v":{"$error":"#REF!"}},null,null,".",{"$f":"DRAW!#REF!","v":{"$error":"#REF!"}},null,null,{"$f":"DRAW!#REF!","v":{"$error":"#REF!"}},null,null,".",{"$f":"DRAW!#REF!","v":{"$error":"#REF!"}},null,null,{"$f":"DRAW!#REF!","v":{"$error":"#REF!"}},null,null,{"$f":"DRAW!#REF!","v":{"$error":"#REF!"}},null,null,{"$f":"DRAW!#REF!","v":{"$error":"#REF!"}},null,null,".",{"$f":"DRAW!#REF!","v":{"$error":"#REF!"}},null,null,{"$f":"DRAW!#REF!","v":{"$error":"#REF!"}},null,null,".",{"$f":"DRAW!#REF!","v":{"$error":"#REF!"}},null,null,{"$f":"DRAW!#REF!","v":{"$error":"#REF!"}},null,null,{"$f":"DRAW!#REF!","v":{"$error":"#REF!"}},null,null,{"$f":"DRAW!#REF!","v":{"$error":"#REF!"}},null,null,".",{"$f":"DRAW!#REF!","v":{"$error":"#REF!"}},null,null,{"$f":"DRAW!#REF!","v":{"$error":"#REF!"}},null,null,".",{"$f":"DRAW!#REF!","v":{"$error":"#REF!"}},null,null,{"$f":"DRAW!#REF!","v":{"$error":"#REF!"}},null,null,{"$f":"DRAW!#REF!","v":{"$error":"#REF!"}},null,null,{"$f":"DRAW!#REF!","v":{"$error":"#REF!"}},null,null,".",{"$f":"DRAW!#REF!","v":{"$error":"#REF!"}},null,null,{"$f":"DRAW!#REF!","v":{"$error":"#REF!"}},null,null,".",{"$f":"DRAW!#REF!","v":{"$error":"#REF!"}},null,null,{"$f":"DRAW!#REF!","v":{"$error":"#REF!"}}]
[null,"Team",{"$f":"DRAW!#REF!","v":{"$error":"#REF!"}},"V","Team",{"$f":"DRAW!#REF!","v":{"$error":"#REF!"}},null,null,"Team",{"$f":"DRAW!#REF!","v":{"$error":"#REF!"}},"V","Team",{"$f":"DRAW!#REF!","v":{"$error":"#REF!"}},null,null,"Team",{"$f":"DRAW!#REF!","v":{"$error":"#REF!"}},"V","Team",{"$f":"DRAW!#REF!","v":{"$error":"#REF!"}},null,"Team",{"$f":"DRAW!#REF!","v":{"$error":"#REF!"}},"V","Team",{"$f":"DRAW!#REF!","v":{"$error":"#REF!"}},null,null,"Team",{"$f":"DRAW!#REF!","v":{"$error":"#REF!"}},"V","Team",{"$f":"DRAW!#REF!","v":{"$error":"#REF!"}},null,null,"Team",{"$f":"DRAW!#REF!","v":{"$error":"#REF!"}},"V","Team",{"$f":"DRAW!#REF!","v":{"$error":"#REF!"}},null,"Team",{"$f":"DRAW!#REF!","v":{"$error":"#REF!"}},"V","Team",{"$f":"DRAW!#REF!","v":{"$error":"#REF!"}},null,null,"Team",{"$f":"DRAW!#REF!","v":{"$error":"#REF!"}},"V","Team",{"$f":"DRAW!#REF!","v":{"$error":"#REF!"}},null,null,"Team",{"$f":"DRAW!#REF!","v":{"$error":"#REF!"}},"V","Team",{"$f":"DRAW!#REF!","v":{"$error":"#REF!"}},null,"Team",{"$f":"DRAW!#REF!","v":{"$error":"#REF!"}},"V","Team",{"$f":"DRAW!#REF!","v":{"$error":"#REF!"}},null,null,"Team",{"$f":"DRAW!#REF!","v":{"$error":"#REF!"}},"V","Team",{"$f":"DRAW!#REF!","v":{"$error":"#REF!"}},null,null,"Team",{"$f":"DRAW!#REF!","v":{"$error":"#REF!"}},"V","Team",{"$f":"DRAW!#REF!","v":{"$error":"#REF!"}},null,"Team",{"$f":"DRAW!#REF!","v":{"$error":"#REF!"}},"V","Team",{"$f":"DRAW!#REF!","v":{"$error":"#REF!"}},null,null,"Team",{"$f":"DRAW!#REF!","v":{"$error":"#REF!"}},"V","Team",{"$f":"DRAW!#REF!","v":{"$error":"#REF!"}},null,null,"Team",{"$f":"DRAW!#REF!","v":{"$error":"#REF!"}},"V","Team",{"$f":"DRAW!#REF!","v":{"$error":"#REF!"}},null,"Team",{"$f":"DRAW!#REF!","v":{"$error":"#REF!"}},"V","Team",{"$f":"DRAW!#REF!","v":{"$error":"#REF!"}},null,null,"Team",{"$f":"DRAW!#REF!","v":{"$error":"#REF!"}},"V","Team",{"$f":"DRAW!#REF!","v":{"$error":"#REF!"}},null,null,"Team",{"$f":"DRAW!#REF!","v":{"$error":"#REF!"}},"V","Team",{"$f":"DRAW!#REF!","v":{"$error":"#REF!"}},null,"Team",{"$f":"DRAW!#REF!","v":{"$error":"#REF!"}},"V","Team",{"$f":"DRAW!#REF!","v":{"$error":"#REF!"}},null,null,"Team",{"$f":"DRAW!#REF!","v":{"$error":"#REF!"}},"V","Team",{"$f":"DRAW!#REF!","v":{"$error":"#REF!"}},null,null,"Team",{"$f":"DRAW!#REF!","v":{"$error":"#REF!"}},"V","Team",{"$f":"DRAW!#REF!","v":{"$error":"#REF!"}}]
["Ends","Shots","Total",null,"Shots","Total",null,"Ends","Shots","Total",null,"Shots","Total",null,"Ends","Shots","Total",null,"Shots","Total","Ends","Shots","Total",null,"Shots","Total",null,"Ends","Shots","Total",null,"Shots","Total",null,"Ends","Shots","Total",null,"Shots","Total","Ends","Shots","Total",null,"Shots","Total",null,"Ends","Shots","Total",null,"Shots","Total",null,"Ends","Shots","Total",null,"Shots","Total","Ends","Shots","Total",null,"Shots","Total",null,"Ends","Shots","Total",null,"Shots","Total",null,"Ends","Shots","Total",null,"Shots","Total","Ends","Shots","Total",null,"Shots","Total",null,"Ends","Shots","Total",null,"Shots","Total",null,"Ends","Shots","Total",null,"Shots","Total","Ends","Shots","Total",null,"Shots","Total",null,"Ends","Shots","Total",null,"Shots","Total",null,"Ends","Shots","Total",null,"Shots","Total","Ends","Shots","Total",null,"Shots","Total",null,"Ends","Shots","Total",null,"Shots","Total",null,"Ends","Shots","Total",null,"Shots","Total"]
[1,{"$nulls":5},".",1,{"$nulls":5},".",1,{"$nulls":5},1,{"$nulls":5},".",1,{"$nulls":5},".",1,{"$nulls":5},1,{"$nulls":5},".",1,{"$nulls":5},".",1,{"$nulls":5},1,{"$nulls":5},".",1,{"$nulls":5},".",1,{"$nulls":5},1,{"$nulls":5},".",1,{"$nulls":5},".",1,{"$nulls":5},1,{"$nulls":5},".",1,{"$nulls":5},".",1,{"$nulls":5},1,{"$nulls":5},".",1,{"$nulls":5},".",1]
[2,{"$nulls":6},2,{"$nulls":6},2,{"$nulls":5},2,{"$nulls":6},2,{"$nulls":6},2,{"$nulls":5},2,{"$nulls":6},2,{"$nulls":6},2,{"$nulls":5},2,{"$nulls":6},2,{"$nulls":6},2,{"$nulls":5},2,{"$nulls":6},2,{"$nulls":6},2,{"$nulls":5},2,{"$nulls":6},2,{"$nulls":6},2,{"$nulls":5},2,{"$nulls":6},2,{"$nulls":6},2]
[3,{"$nulls":6},3,{"$nulls":6},3,{"$nulls":5},3,{"$nulls":6},3,{"$nulls":6},3,{"$nulls":5},3,{"$nulls":6},3,{"$nulls":6},3,{"$nulls":5},3,{"$nulls":6},3,{"$nulls":6},3,{"$nulls":5},3,{"$nulls":6},3,{"$nulls":6},3,{"$nulls":5},3,{"$nulls":6},3,{"$nulls":6},3,{"$nulls":5},3,{"$nulls":6},3,{"$nulls":6},3]
[4,{"$nulls":6},4,{"$nulls":6},4,{"$nulls":5},4,{"$nulls":6},4,{"$nulls":6},4,{"$nulls":5},4,{"$nulls":6},4,{"$nulls":6},4,{"$nulls":5},4,{"$nulls":6},4,{"$nulls":6},4,{"$nulls":5},4,{"$nulls":6},4,{"$nulls":6},4,{"$nulls":5},4,{"$nulls":6},4,{"$nulls":6},4,{"$nulls":5},4,{"$nulls":6},4,{"$nulls":6},4]
[5,{"$nulls":5},".",5,{"$nulls":5},".",5,{"$nulls":5},5,{"$nulls":5},".",5,{"$nulls":5},".",5,{"$nulls":5},5,{"$nulls":5},".",5,{"$nulls":5},".",5,{"$nulls":5},5,{"$nulls":5},".",5,{"$nulls":5},".",5,{"$nulls":5},5,{"$nulls":5},".",5,{"$nulls":5},".",5,{"$nulls":5},5,{"$nulls":5},".",5,{"$nulls":5},".",5,{"$nulls":5},5,{"$nulls":5},".",5,{"$nulls":5},".",5]
[6,{"$nulls":6},6,{"$nulls":6},6,{"$nulls":5},6,{"$nulls":6},6,{"$nulls":6},6,{"$nulls":5},6,{"$nulls":6},6,{"$nulls":6},6,{"$nulls":5},6,{"$nulls":6},6,{"$nulls":6},6,{"$nulls":5},6,{"$nulls":6},6,{"$nulls":6},6,{"$nulls":5},6,{"$nulls":6},6,{"$nulls":6},6,{"$nulls":5},6,{"$nulls":6},6,{"$nulls":6},6]
[7,{"$nulls":6},7,{"$nulls":6},7,{"$nulls":5},7,{"$nulls":6},7,{"$nulls":6},7,{"$nulls":5},7,{"$nulls":6},7,{"$nulls":6},7,{"$nulls":5},7,{"$nulls":6},7,{"$nulls":6},7,{"$nulls":5},7,{"$nulls":6},7,{"$nulls":6},7,{"$nulls":5},7,{"$nulls":6},7,{"$nulls":6},7,{"$nulls":5},7,{"$nulls":6},7,{"$nulls":6},7]
[8,{"$nulls":6},8,{"$nulls":6},8,{"$nulls":5},8,{"$nulls":6},8,{"$nulls":6},8,{"$nulls":5},8,{"$nulls":6},8,{"$nulls":6},8,{"$nulls":5},8,{"$nulls":6},8,{"$nulls":6},8,{"$nulls":5},8,{"$nulls":6},8,{"$nulls":6},8,{"$nulls":5},8,{"$nulls":6},8,{"$nulls":6},8,{"$nulls":5},8,{"$nulls":6},8,{"$nulls":6},8]
[9,{"$nulls":5},".",9,{"$nulls":5},".",9,{"$nulls":5},9,{"$nulls":5},".",9,{"$nulls":5},".",9,{"$nulls":5},9,{"$nulls":5},".",9,{"$nulls":5},".",9,{"$nulls":5},9,{"$nulls":5},".",9,{"$nulls":5},".",9,{"$nulls":5},9,{"$nulls":5},".",9,{"$nulls":5},".",9,{"$nulls":5},9,{"$nulls":5},".",9,{"$nulls":5},".",9,{"$nulls":5},9,{"$nulls":5},".",9,{"$nulls":5},".",9]
[10,{"$nulls":6},10,{"$nulls":6},10,{"$nulls":5},10,{"$nulls":6},10,{"$nulls":6},10,{"$nulls":5},10,{"$nulls":6},10,{"$nulls":6},10,{"$nulls":5},10,{"$nulls":6},10,{"$nulls":6},10,{"$nulls":5},10,{"$nulls":6},10,{"$nulls":6},10,{"$nulls":5},10,{"$nulls":6},10,{"$nulls":6},10,{"$nulls":5},10,{"$nulls":6},10,{"$nulls":6},10]
[11,{"$nulls":6},11,{"$nulls":6},11,{"$nulls":5},11,{"$nulls":6},11,{"$nulls":6},11,{"$nulls":5},11,{"$nulls":6},11,{"$nulls":6},11,{"$nulls":5},11,{"$nulls":6},11,{"$nulls":6},11,{"$nulls":5},11,{"$nulls":6},11,{"$nulls":6},11,{"$nulls":5},11,{"$nulls":6},11,{"$nulls":6},11,{"$nulls":5},11,{"$nulls":6},11,{"$nulls":6},11]
[12,{"$nulls":6},12,{"$nulls":6},12,{"$nulls":5},12,{"$nulls":6},12,{"$nulls":6},12,{"$nulls":5},12,{"$nulls":6},12,{"$nulls":6},12,{"$nulls":5},12,{"$nulls":6},12,{"$nulls":6},12,{"$nulls":5},12,{"$nulls":6},12,{"$nulls":6},12,{"$nulls":5},12,{"$nulls":6},12,{"$nulls":6},12,{"$nulls":5},12,{"$nulls":6},12,{"$nulls":6},12]
[13,{"$nulls":5},".",13,{"$nulls":5},".",13,{"$nulls":5},13,{"$nulls":5},".",13,{"$nulls":5},".",13,{"$nulls":5},13,{"$nulls":5},".",13,{"$nulls":5},".",13,{"$nulls":5},13,{"$nulls":5},".",13,{"$nulls":5},".",13,{"$nulls":5},13,{"$nulls":5},".",13,{"$nulls":5},".",13,{"$nulls":5},13,{"$nulls":5},".",13,{"$nulls":5},".",13,{"$nulls":5},13,{"$nulls":5},".",13,{"$nulls":5},".",13]
[14,{"$nulls":6},14,{"$nulls":6},14,{"$nulls":5},14,{"$nulls":6},14,{"$nulls":6},14,{"$nulls":5},14,{"$nulls":6},14,{"$nulls":6},14,{"$nulls":5},14,{"$nulls":6},14,{"$nulls":6},14,{"$nulls":5},14,{"$nulls":6},14,{"$nulls":6},14,{"$nulls":5},14,{"$nulls":6},14,{"$nulls":6},14,{"$nulls":5},14,{"$nulls":6},14,{"$nulls":6},14]
[15,{"$nulls":6},15,{"$nulls":6},15,{"$nulls":5},15,{"$nulls":6},15,{"$nulls":6},15,{"$nulls":5},15,{"$nulls":6},15,{"$nulls":6},15,{"$nulls":5},15,{"$nulls":6},15,{"$nulls":6},15,{"$nulls":5},15,{"$nulls":6},15,{"$nulls":6},15,{"$nulls":5},15,{"$nulls":6},15,{"$nulls":6},15,{"$nulls":5},15,{"$nulls":6},15,{"$nulls":6},15]
[16,{"$nulls":6},16,{"$nulls":6},16,{"$nulls":5},16,{"$nulls":6},16,{"$nulls":6},16,{"$nulls":5},16,{"$nulls":6},16,{"$nulls":6},16,{"$nulls":5},16,{"$nulls":6},16,{"$nulls":6},16,{"$nulls":5},16,{"$nulls":6},16,{"$nulls":6},16,{"$nulls":5},16,{"$nulls":6},16,{"$nulls":6},16,{"$nulls":5},16,{"$nulls":6},16,{"$nulls":6},16]
[17,{"$nulls":5},".",17,{"$nulls":5},".",17,{"$nulls":5},17,{"$nulls":5},".",17,{"$nulls":5},".",17,{"$nulls":5},17,{"$nulls":5},".",17,{"$nulls":5},".",17,{"$nulls":5},17,{"$nulls":5},".",17,{"$nulls":5},".",17,{"$nulls":5},17,{"$nulls":5},".",17,{"$nulls":5},".",17,{"$nulls":5},17,{"$nulls":5},".",17,{"$nulls":5},".",17,{"$nulls":5},17,{"$nulls":5},".",17,{"$nulls":5},".",17]
[18,{"$nulls":6},18,{"$nulls":6},18,{"$nulls":5},18,{"$nulls":6},18,{"$nulls":6},18,{"$nulls":5},18,{"$nulls":6},18,{"$nulls":6},18,{"$nulls":5},18,{"$nulls":6},18,{"$nulls":6},18,{"$nulls":5},18,{"$nulls":6},18,{"$nulls":6},18,{"$nulls":5},18,{"$nulls":6},18,{"$nulls":6},18,{"$nulls":5},18,{"$nulls":6},18,{"$nulls":6},18]
["Total","Shots",null,null,"Shots",null,null,"Total","Shots",null,null,"Shots",null,null,"Total","Shots",null,null,"Shots",null,"Total","Shots",null,null,"Shots",null,null,"Total","Shots",null,null,"Shots",null,null,"Total","Shots",null,null,"Shots",null,"Total","Shots",null,null,"Shots",null,null,"Total","Shots",null,null,"shots",null,null,"Total","Shots",null,null,"shots",null,"Total","Shots",null,null,"Shots",null,null,"Total","Shots",null,null,"shots",null,null,"Total","Shots",null,null,"shots",null,"Total","Shots",null,null,"Shots",null,null,"Total","Shots",null,null,"Shots",null,null,"Total","Shots",null,null,"Shots",null,"Total","Shots",null,null,"Shots",null,null,"Total","Shots",null,null,"shots",null,null,"Total","Shots",null,null,"shots",null,"Total","Shots",null,null,"shots",null,null,"Total","Shots",null,null,"shots",null,null,"Total","Shots",null,null,"shots"]
[null,"Ends",null,null,"Ends",null,".",null,"Ends",null,null,"Ends",null,".",null,"Ends",null,null,"Ends",null,null,"Ends",null,null,"Ends",null,".",null,"Ends",null,null,"Ends",null,".",null,"Ends",null,null,"Ends",null,null,"Ends",null,null,"Ends",null,".",null,"Ends",null,null,"Ends",null,".",null,"Ends",null,null,"Ends",null,null,"Ends",null,null,"Ends",null,".",null,"Ends",null,null,"Ends",null,".",null,"Ends",null,null,"Ends",null,null,"Ends",null,null,"Ends",null,".",null,"Ends",null,null,"Ends",null,".",null,"Ends",null,null,"Ends",null,null,"Ends",null,null,"Ends",null,".",null,"Ends",null,null,"Ends",null,".",null,"Ends",null,null,"Ends",null,null,"Ends",null,null,"Ends",null,".",null,"Ends",null,null,"Ends",null,".",null,"Ends",null,null,"Ends"]
["1st Game ",{"$nulls":5},".","2nd Game ",{"$nulls":5},".","3nd Game",{"$nulls":5},"4th Game",{"$nulls":5},".","5th Game",{"$nulls":5},".","6th Game",{"$nulls":5},"7th Game",{"$nulls":5},".","8th Game",{"$nulls":5},".","9th Game",{"$nulls":5},"10th Game",{"$nulls":5},".","11th Game",{"$nulls":5},".","12th Game ",{"$nulls":5},"13th Game",{"$nulls":5},".","14th Game",{"$nulls":5},".","15th Game",{"$nulls":5},"16th Game",{"$nulls":5},".","17th Game",{"$nulls":5},".","18th Game",{"$nulls":5},"19th Game",{"$nulls":5},".","20th Game",{"$nulls":5},".","9th Game "]
["Team No",null,null,"Rink No",{"$nulls":3},"Team No",null,null,"Rink No",{"$nulls":3},"Team No",null,null,"Rink No",null,null,"Team No",null,null,"Rink No",{"$nulls":3},"Team No",null,null,"Rink No",{"$nulls":3},"Team No",null,null,"Rink No",null,null,"Team No",null,null,"Rink No",{"$nulls":3},"Team No",null,null,"Rink No",{"$nulls":3},"Team No",null,null,"Rink No",null,null,"Team No",null,null,"Rink No",{"$nulls":3},"Team No",null,null,"Rink No",{"$nulls":3},"Team No",null,null,"Rink No",null,null,"Team No",null,null,"Rink No",{"$nulls":3},"Team No",null,null,"Rink No",{"$nulls":3},"Team No",null,null,"Rink No",null,null,"Team No",null,null,"Rink No",{"$nulls":3},"Team No",null,null,"Rink No",{"$nulls":3},"Team No",null,null,"Rink No",null,null,"Team No",null,null,"Rink No",{"$nulls":3},"Team No",null,null,"Rink No",{"$nulls":3},"Team No",null,null,"Rink No"]
[]
[{"$f":"DRAW!#REF!","v":{"$error":"#REF!"}},null,null,{"$f":"DRAW!#REF!","v":{"$error":"#REF!"}},null,null,".",{"$f":"DRAW!#REF!","v":{"$error":"#REF!"}},null,null,{"$f":"DRAW!#REF!","v":{"$error":"#REF!"}},null,null,".",{"$f":"DRAW!#REF!","v":{"$error":"#REF!"}},null,null,{"$f":"DRAW!#REF!","v":{"$error":"#REF!"}},null,null,{"$f":"DRAW!#REF!","v":{"$error":"#REF!"}},null,null,{"$f":"DRAW!#REF!","v":{"$error":"#REF!"}},null,null,".",{"$f":"DRAW!#REF!","v":{"$error":"#REF!"}},null,null,{"$f":"DRAW!#REF!","v":{"$error":"#REF!"}},null,null,".",{"$f":"DRAW!#REF!","v":{"$error":"#REF!"}},null,null,{"$f":"DRAW!#REF!","v":{"$error":"#REF!"}},null,null,{"$f":"DRAW!#REF!","v":{"$error":"#REF!"}},null,null,{"$f":"DRAW!#REF!","v":{"$error":"#REF!"}},null,null,".",{"$f":"DRAW!#REF!","v":{"$error":"#REF!"}},null,null,{"$f":"DRAW!#REF!","v":{"$error":"#REF!"}},null,null,".",{"$f":"DRAW!#REF!","v":{"$error":"#REF!"}},null,null,{"$f":"DRAW!#REF!","v":{"$error":"#REF!"}},null,null,{"$f":"DRAW!#REF!","v":{"$error":"#REF!"}},null,null,{"$f":"DRAW!#REF!","v":{"$error":"#REF!"}},null,null,".",{"$f":"DRAW!#REF!","v":{"$error":"#REF!"}},null,null,{"$f":"DRAW!#REF!","v":{"$error":"#REF!"}},null,null,".",{"$f":"DRAW!#REF!","v":{"$error":"#REF!"}},null,null,{"$f":"DRAW!#REF!","v":{"$error":"#REF!"}},null,null,{"$f":"DRAW!#REF!","v":{"$error":"#REF!"}},null,null,{"$f":"DRAW!#REF!","v":{"$error":"#REF!"}},null,null,".",{"$f":"DRAW!#REF!","v":{"$error":"#REF!"}},null,null,{"$f":"DRAW!#REF!","v":{"$error":"#REF!"}},null,null,".",{"$f":"DRAW!#REF!","v":{"$error":"#REF!"}},null,null,{"$f":"DRAW!#REF!","v":{"$error":"#REF!"}},null,null,{"$f":"DRAW!#REF!","v":{"$error":"#REF!"}},null,null,{"$f":"DRAW!#REF!","v":{"$error":"#REF!"}},null,null,".",{"$f":"DRAW!#REF!","v":{"$error":"#REF!"}},null,null,{"$f":"DRAW!#REF!","v":{"$error":"#REF!"}},null,null,".",{"$f":"DRAW!#REF!","v":{"$error":"#REF!"}},null,null,{"$f":"DRAW!#REF!","v":{"$error":"#REF!"}},null,null,{"$f":"DRAW!#REF!","v":{"$error":"#REF!"}},null,null,{"$f":"DRAW!#REF!","v":{"$error":"#REF!"}},null,null,".",{"$f":"DRAW!#REF!","v":{"$error":"#REF!"}},null,null,{"$f":"DRAW!#REF!","v":{"$error":"#REF!"}},null,null,".",{"$f":"DRAW!#REF!","v":{"$error":"#REF!"}},null,null,{"$f":"DRAW!#REF!","v":{"$error":"#REF!"}}]
[null,"Team",{"$f":"DRAW!#REF!","v":{"$error":"#REF!"}},"V","Team",{"$f":"DRAW!#REF!","v":{"$error":"#REF!"}},null,null,"Team",{"$f":"DRAW!#REF!","v":{"$error":"#REF!"}},"V","Team",{"$f":"DRAW!#REF!","v":{"$error":"#REF!"}},null,null,"Team",{"$f":"DRAW!#REF!","v":{"$error":"#REF!"}},"V","Team",{"$f":"DRAW!#REF!","v":{"$error":"#REF!"}},null,"Team",{"$f":"DRAW!#REF!","v":{"$error":"#REF!"}},"V","Team",{"$f":"DRAW!#REF!","v":{"$error":"#REF!"}},null,null,"Team",{"$f":"DRAW!#REF!","v":{"$error":"#REF!"}},"V","Team",{"$f":"DRAW!#REF!","v":{"$error":"#REF!"}},null,null,"Team",{"$f":"DRAW!#REF!","v":{"$error":"#REF!"}},"V","Team",{"$f":"DRAW!#REF!","v":{"$error":"#REF!"}},null,"Team",{"$f":"DRAW!#REF!","v":{"$error":"#REF!"}},"V","Team",{"$f":"DRAW!#REF!","v":{"$error":"#REF!"}},null,null,"Team",{"$f":"DRAW!#REF!","v":{"$error":"#REF!"}},"V","Team",{"$f":"DRAW!#REF!","v":{"$error":"#REF!"}},null,null,"Team",{"$f":"DRAW!#REF!","v":{"$error":"#REF!"}},"V","Team",{"$f":"DRAW!#REF!","v":{"$error":"#REF!"}},null,"Team",{"$f":"DRAW!#REF!","v":{"$error":"#REF!"}},"V","Team",{"$f":"DRAW!#REF!","v":{"$error":"#REF!"}},null,null,"Team",{"$f":"DRAW!#REF!","v":{"$error":"#REF!"}},"V","Team",{"$f":"DRAW!#REF!","v":{"$error":"#REF!"}},null,null,"Team",{"$f":"DRAW!#REF!","v":{"$error":"#REF!"}},"V","Team",{"$f":"DRAW!#REF!","v":{"$error":"#REF!"}},null,"Team",{"$f":"DRAW!#REF!","v":{"$error":"#REF!"}},"V","Team",{"$f":"DRAW!#REF!","v":{"$error":"#REF!"}},null,null,"Team",{"$f":"DRAW!#REF!","v":{"$error":"#REF!"}},"V","Team",{"$f":"DRAW!#REF!","v":{"$error":"#REF!"}},null,null,"Team",{"$f":"DRAW!#REF!","v":{"$error":"#REF!"}},"V","Team",{"$f":"DRAW!#REF!","v":{"$error":"#REF!"}},null,"Team",{"$f":"DRAW!#REF!","v":{"$error":"#REF!"}},"V","Team",{"$f":"DRAW!#REF!","v":{"$error":"#REF!"}},null,null,"Team",{"$f":"DRAW!#REF!","v":{"$error":"#REF!"}},"V","Team",{"$f":"DRAW!#REF!","v":{"$error":"#REF!"}},null,null,"Team",{"$f":"DRAW!#REF!","v":{"$error":"#REF!"}},"V","Team",{"$f":"DRAW!#REF!","v":{"$error":"#REF!"}},null,"Team",{"$f":"DRAW!#REF!","v":{"$error":"#REF!"}},"V","Team",{"$f":"DRAW!#REF!","v":{"$error":"#REF!"}},null,null,"Team",{"$f":"DRAW!#REF!","v":{"$error":"#REF!"}},"V","Team",{"$f":"DRAW!#REF!","v":{"$error":"#REF!"}},null,null,"Team",{"$f":"DRAW!#REF!","v":{"$error":"#REF!"}},"V","Team",{"$f":"DRAW!#REF!","v":{"$error":"#REF!"}}]
["Ends","Shots","Total",null,"Shots","Total",null,"Ends","Shots","Total",null,"Shots","Total",null,"Ends","Shots","Total",null,"Shots","Total","Ends","Shots","Total",null,"Shots","Total",null,"Ends","Shots","Total",null,"Shots","Total",null,"Ends","Shots","Total",null,"Shots","Total","Ends","Shots","Total",null,"Shots","Total",null,"Ends","Shots","Total",null,"Shots","Total",null,"Ends","Shots","Total",null,"Shots","Total","Ends","Shots","Total",null,"Shots","Total",null,"Ends","Shots","Total",null,"Shots","Total",null,"Ends","Shots","Total",null,"Shots","Total","Ends","Shots","Total",null,"Shots","Total",null,"Ends","Shots","Total",null,"Shots","Total",null,"Ends","Shots","Total",null,"Shots","Total","Ends","Shots","Total",null,"Shots","Total",null,"Ends","Shots","Total",null,"Shots","Total",null,"Ends","Shots","Total",null,"Shots","Total","Ends","Shots","Total",null,"Shots","Total",null,"Ends","Shots","Total",null,"Shots","Total",null,"Ends","Shots","Total",null,"Shots","Total"]
[1,{"$nulls":5},".",1,{"$nulls":5},".",1,{"$nulls":5},1,{"$nulls":5},".",1,{"$nulls":5},".",1,{"$nulls":5},1,{"$nulls":5},".",1,{"$nulls":5},".",1,{"$nulls":5},1,{"$nulls":5},".",1,{"$nulls":5},".",1,{"$nulls":5},1,{"$nulls":5},".",1,{"$nulls":5},".",1,{"$nulls":5},1,{"$nulls":5},".",1,{"$nulls":5},".",1,{"$nulls":5},1,{"$nulls":5},".",1,{"$nulls":5},".",1]
[2,{"$nulls":6},2,{"$nulls":6},2,{"$nulls":5},2,{"$nulls":6},2,{"$nulls":6},2,{"$nulls":5},2,{"$nulls":6},2,{"$nulls":6},2,{"$nulls":5},2,{"$nulls":6},2,{"$nulls":6},2,{"$nulls":5},2,{"$nulls":6},2,{"$nulls":6},2,{"$nulls":5},2,{"$nulls":6},2,{"$nulls":6},2,{"$nulls":5},2,{"$nulls":6},2,{"$nulls":6},2]
[3,{"$nulls":6},3,{"$nulls":6},3,{"$nulls":5},3,{"$nulls":6},3,{"$nulls":6},3,{"$nulls":5},3,{"$nulls":6},3,{"$nulls":6},3,{"$nulls":5},3,{"$nulls":6},3,{"$nulls":6},3,{"$nulls":5},3,{"$nulls":6},3,{"$nulls":6},3,{"$nulls":5},3,{"$nulls":6},3,{"$nulls":6},3,{"$nulls":5},3,{"$nulls":6},3,{"$nulls":6},3]
[4,{"$nulls":6},4,{"$nulls":6},4,{"$nulls":5},4,{"$nulls":6},4,{"$nulls":6},4,{"$nulls":5},4,{"$nulls":6},4,{"$nulls":6},4,{"$nulls":5},4,{"$nulls":6},4,{"$nulls":6},4,{"$nulls":5},4,{"$nulls":6},4,{"$nulls":6},4,{"$nulls":5},4,{"$nulls":6},4,{"$nulls":6},4,{"$nulls":5},4,{"$nulls":6},4,{"$nulls":6},4]
[5,{"$nulls":5},".",5,{"$nulls":5},".",5,{"$nulls":5},5,{"$nulls":5},".",5,{"$nulls":5},".",5,{"$nulls":5},5,{"$nulls":5},".",5,{"$nulls":5},".",5,{"$nulls":5},5,{"$nulls":5},".",5,{"$nulls":5},".",5,{"$nulls":5},5,{"$nulls":5},".",5,{"$nulls":5},".",5,{"$nulls":5},5,{"$nulls":5},".",5,{"$nulls":5},".",5,{"$nulls":5},5,{"$nulls":5},".",5,{"$nulls":5},".",5]
[6,{"$nulls":6},6,{"$nulls":6},6,{"$nulls":5},6,{"$nulls":6},6,{"$nulls":6},6,{"$nulls":5},6,{"$nulls":6},6,{"$nulls":6},6,{"$nulls":5},6,{"$nulls":6},6,{"$nulls":6},6,{"$nulls":5},6,{"$nulls":6},6,{"$nulls":6},6,{"$nulls":5},6,{"$nulls":6},6,{"$nulls":6},6,{"$nulls":5},6,{"$nulls":6},6,{"$nulls":6},6]
[7,{"$nulls":6},7,{"$nulls":6},7,{"$nulls":5},7,{"$nulls":6},7,{"$nulls":6},7,{"$nulls":5},7,{"$nulls":6},7,{"$nulls":6},7,{"$nulls":5},7,{"$nulls":6},7,{"$nulls":6},7,{"$nulls":5},7,{"$nulls":6},7,{"$nulls":6},7,{"$nulls":5},7,{"$nulls":6},7,{"$nulls":6},7,{"$nulls":5},7,{"$nulls":6},7,{"$nulls":6},7]
[8,{"$nulls":6},8,{"$nulls":6},8,{"$nulls":5},8,{"$nulls":6},8,{"$nulls":6},8,{"$nulls":5},8,{"$nulls":6},8,{"$nulls":6},8,{"$nulls":5},8,{"$nulls":6},8,{"$nulls":6},8,{"$nulls":5},8,{"$nulls":6},8,{"$nulls":6},8,{"$nulls":5},8,{"$nulls":6},8,{"$nulls":6},8,{"$nulls":5},8,{"$nulls":6},8,{"$nulls":6},8]
[9,{"$nulls":5},".",9,{"$nulls":5},".",9,{"$nulls":5},9,{"$nulls":5},".",9,{"$nulls":5},".",9,{"$nulls":5},9,{"$nulls":5},".",9,{"$nulls":5},".",9,{"$nulls":5},9,{"$nulls":5},".",9,{"$nulls":5},".",9,{"$nulls":5},9,{"$nulls":5},".",9,{"$nulls":5},".",9,{"$nulls":5},9,{"$nulls":5},".",9,{"$nulls":5},".",9,{"$nulls":5},9,{"$nulls":5},".",9,{"$nulls":5},".",9]
[10,{"$nulls":6},10,{"$nulls":6},10,{"$nulls":5},10,{"$nulls":6},10,{"$nulls":6},10,{"$nulls":5},10,{"$nulls":6},10,{"$nulls":6},10,{"$nulls":5},10,{"$nulls":6},10,{"$nulls":6},10,{"$nulls":5},10,{"$nulls":6},10,{"$nulls":6},10,{"$nulls":5},10,{"$nulls":6},10,{"$nulls":6},10,{"$nulls":5},10,{"$nulls":6},10,{"$nulls":6},10]
[11,{"$nulls":6},11,{"$nulls":6},11,{"$nulls":5},11,{"$nulls":6},11,{"$nulls":6},11,{"$nulls":5},11,{"$nulls":6},11,{"$nulls":6},11,{"$nulls":5},11,{"$nulls":6},11,{"$nulls":6},11,{"$nulls":5},11,{"$nulls":6},11,{"$nulls":6},11,{"$nulls":5},11,{"$nulls":6},11,{"$nulls":6},11,{"$nulls":5},11,{"$nulls":6},11,{"$nulls":6},11]
[12,{"$nulls":6},12,{"$nulls":6},12,{"$nulls":5},12,{"$nulls":6},12,{"$nulls":6},12,{"$nulls":5},12,{"$nulls":6},12,{"$nulls":6},12,{"$nulls":5},12,{"$nulls":6},12,{"$nulls":6},12,{"$nulls":5},12,{"$nulls":6},12,{"$nulls":6},12,{"$nulls":5},12,{"$nulls":6},12,{"$nulls":6},12,{"$nulls":5},12,{"$nulls":6},12,{"$nulls":6},12]
[13,{"$nulls":5},".",13,{"$nulls":5},".",13,{"$nulls":5},13,{"$nulls":5},".",13,{"$nulls":5},".",13,{"$nulls":5},13,{"$nulls":5},".",13,{"$nulls":5},".",13,{"$nulls":5},13,{"$nulls":5},".",13,{"$nulls":5},".",13,{"$nulls":5},13,{"$nulls":5},".",13,{"$nulls":5},".",13,{"$nulls":5},13,{"$nulls":5},".",13,{"$nulls":5},".",13,{"$nulls":5},13,{"$nulls":5},".",13,{"$nulls":5},".",13]
[14,{"$nulls":6},14,{"$nulls":6},14,{"$nulls":5},14,{"$nulls":6},14,{"$nulls":6},14,{"$nulls":5},14,{"$nulls":6},14,{"$nulls":6},14,{"$nulls":5},14,{"$nulls":6},14,{"$nulls":6},14,{"$nulls":5},14,{"$nulls":6},14,{"$nulls":6},14,{"$nulls":5},14,{"$nulls":6},14,{"$nulls":6},14,{"$nulls":5},14,{"$nulls":6},14,{"$nulls":6},14]
[15,{"$nulls":6},15,{"$nulls":6},15,{"$nulls":5},15,{"$nulls":6},15,{"$nulls":6},15,{"$nulls":5},15,{"$nulls":6},15,{"$nulls":6},15,{"$nulls":5},15,{"$nulls":6},15,{"$nulls":6},15,{"$nulls":5},15,{"$nulls":6},15,{"$nulls":6},15,{"$nulls":5},15,{"$nulls":6},15,{"$nulls":6},15,{"$nulls":5},15,{"$nulls":6},15,{"$nulls":6},15]
[16,{"$nulls":6},16,{"$nulls":6},16,{"$nulls":5},16,{"$nulls":6},16,{"$nulls":6},16,{"$nulls":5},16,{"$nulls":6},16,{"$nulls":6},16,{"$nulls":5},16,{"$nulls":6},16,{"$nulls":6},16,{"$nulls":5},16,{"$nulls":6},16,{"$nulls":6},16,{"$nulls":5},16,{"$nulls":6},16,{"$nulls":6},16,{"$nulls":5},16,{"$nulls":6},16,{"$nulls":6},16]
[17,{"$nulls":5},".",17,{"$nulls":5},".",17,{"$nulls":5},17,{"$nulls":5},".",17,{"$nulls":5},".",17,{"$nulls":5},17,{"$nulls":5},".",17,{"$nulls":5},".",17,{"$nulls":5},17,{"$nulls":5},".",17,{"$nulls":5},".",17,{"$nulls":5},17,{"$nulls":5},".",17,{"$nulls":5},".",17,{"$nulls":5},17,{"$nulls":5},".",17,{"$nulls":5},".",17,{"$nulls":5},17,{"$nulls":5},".",17,{"$nulls":5},".",17]
[18,{"$nulls":6},18,{"$nulls":6},18,{"$nulls":5},18,{"$nulls":6},18,{"$nulls":6},18,{"$nulls":5},18,{"$nulls":6},18,{"$nulls":6},18,{"$nulls":5},18,{"$nulls":6},18,{"$nulls":6},18,{"$nulls":5},18,{"$nulls":6},18,{"$nulls":6},18,{"$nulls":5},18,{"$nulls":6},18,{"$nulls":6},18,{"$nulls":5},18,{"$nulls":6},18,{"$nulls":6},18]
["Total","Shots",null,null,"Shots",null,null,"Total","Shots",null,null,"Shots",null,null,"Total","Shots",null,null,"Shots",null,"Total","Shots",null,null,"Shots",null,null,"Total","Shots",null,null,"Shots",null,null,"Total","Shots",null,null,"Shots",null,"Total","Shots",null,null,"Shots",null,null,"Total","Shots",null,null,"shots",null,null,"Total","Shots",null,null,"shots",null,"Total","Shots",null,null,"Shots",null,null,"Total","Shots",null,null,"shots",null,null,"Total","Shots",null,null,"shots",null,"Total","Shots",null,null,"Shots",null,null,"Total","Shots",null,null,"Shots",null,null,"Total","Shots",null,null,"Shots",null,"Total","Shots",null,null,"Shots",null,null,"Total","Shots",null,null,"shots",null,null,"Total","Shots",null,null,"shots",null,"Total","Shots",null,null,"shots",null,null,"Total","Shots",null,null,"shots",null,null,"Total","Shots",null,null,"shots"]
[null,"Ends",null,null,"Ends",null,".",null,"Ends",null,null,"Ends",null,".",null,"Ends",null,null,"Ends",null,null,"Ends",null,null,"Ends",null,".",null,"Ends",null,null,"Ends",null,".",null,"Ends",null,null,"Ends",null,null,"Ends",null,null,"Ends",null,".",null,"Ends",null,null,"Ends",null,".",null,"Ends",null,null,"Ends",null,null,"Ends",null,null,"Ends",null,".",null,"Ends",null,null,"Ends",null,".",null,"Ends",null,null,"Ends",null,null,"Ends",null,null,"Ends",null,".",null,"Ends",null,null,"Ends",null,".",null,"Ends",null,null,"Ends",null,null,"Ends",null,null,"Ends",null,".",null,"Ends",null,null,"Ends",null,".",null,"Ends",null,null,"Ends",null,null,"Ends",null,null,"Ends",null,".",null,"Ends",null,null,"Ends",null,".",null,"Ends",null,null,"Ends"]

{"sheet":"DRAW","index":4,"n_rows":18,"n_cols":70,"rows_kept":18,"merged":[[0,1,0,22],[1,1,1,22],[3,3,3,4],[3,5,3,6],[3,7,3,8],[3,9,3,10],[3,11,3,12],[3,13,3,14],[3,15,3,16],[3,17,3,18],[3,19,3,20],[3,21,3,22],[4,1,4,2],[4,3,4,4],[4,5,4,6],[4,7,4,8],[4,9,4,10],[4,11,4,12],[4,13,4,14],[4,15,4,16],[4,17,4,18],[4,19,4,20],[4,21,4,22]]}
[null,"Tournament Name etc. Here."]
[null,"Other heading info"]
[]
[]
[null,"RINK DRAW",null,"Round 1",null,"Round 2",null,"Round 3",null,"Round 4",null,"Round 5",null,"Round 6",null,"Round 7",null,"Round 8",null,"Round 9",null,"Round 10"]
[null,"Team","Skips Name","vs","Rink","vs","Rink","vs","Rink","vs","Rink","vs","Rink","vs","Rink","vs","Rink","vs","Rink","vs","Rink","vs","Rink"]
[null,1,null,2,1,3,3,4,2,5,6,6,4,7,5,8,4,9,6,10,5,11,1,null,null,1,2,1,1,3,3,1,4,2,1,5,6,1,6,4,1,7,5,1,8,4,1,9,6,1,10,5,1,11,1,null,null," ",2,3,4,5,6,7,8,9,10,11,12]
[null,2,null,1,1,4,4,6,3,8,5,10,2,12,6,3,3,5,5,7,1,9,3,null,null,2,1,1,2,4,4,2,6,3,2,8,5,2,10,2,2,12,6,2,3,3,2,5,5,2,7,1,2,9,3,null,null,1,1,2,3,4,5,6,6,5,4,3,2,{"$f":"SUM(BF8:BQ8)","v":42}]
[null,3,null,12,2,1,3,5,5,7,2,9,1,11,4,2,3,4,4,6,6,8,5,null,null,3,12,2,3,1,3,3,5,5,3,7,2,3,9,1,3,11,4,3,2,3,3,4,4,3,6,6,3,8,5,null,null,3,4,3,4,1,6,5,2,2,5,6,1,{"$f":"SUM(BF9:BQ9)","v":42}]
[null,4,null,11,3,2,4,1,2,6,1,8,6,10,1,12,5,3,4,5,3,7,6,null,null,4,11,3,4,2,4,4,1,2,4,6,1,4,8,6,4,10,1,4,12,5,4,3,4,4,5,3,4,7,6,null,null,2,3,5,2,5,3,4,1,6,6,1,4,42]
[null,5,null,10,4,12,1,3,5,1,6,7,3,9,2,11,6,2,5,4,3,6,2,null,null,5,10,4,5,12,1,5,3,5,5,1,6,5,7,3,5,9,2,5,11,6,5,2,5,5,4,3,5,6,2,null,null,6,5,2,1,6,1,2,5,3,4,4,3,42]
[null,6,null,9,5,11,6,2,3,4,1,1,4,8,3,10,2,12,1,3,6,5,2,null,null,6,9,5,6,11,6,6,2,3,6,4,1,6,1,4,6,8,3,6,10,2,6,12,1,6,3,6,6,5,2,null,null,4,2,1,6,3,4,3,6,1,2,5,5,42]
[null,7,null,8,6,10,5,12,4,3,2,5,3,1,5,9,1,11,2,2,1,4,6,null,null,7,8,6,7,10,5,7,12,4,7,3,2,7,5,3,7,1,5,7,9,1,7,11,2,7,2,1,7,4,6,null,null,5,6,4,1,2,3,5,3,2,1,4,6,42]
[null,8,null,7,6,9,2,11,1,2,5,4,6,6,3,1,4,10,3,12,2,3,5,null,null,8,7,6,8,9,2,8,11,1,8,2,5,8,4,6,8,6,3,8,1,4,8,10,3,8,12,2,8,3,5,null,null,4,3,3,5,6,2,1,4,1,2,6,5,42]
[null,9,null,6,5,8,2,10,6,12,3,3,1,5,2,7,1,1,6,11,4,2,3,null,null,9,6,5,9,8,2,9,10,6,9,12,3,9,3,1,9,5,2,9,7,1,9,1,6,9,11,4,9,2,3,null,null,6,5,4,4,5,1,2,3,6,3,2,1,42]
[null,10,null,5,4,7,5,9,6,11,4,2,2,4,1,6,2,8,3,1,5,12,4,null,null,10,5,4,10,7,5,10,9,6,10,11,4,10,2,2,10,4,1,10,6,2,10,8,3,10,1,5,10,12,4,null,null,5,1,6,3,3,6,1,2,4,5,4,2,42]
[null,11,null,4,3,6,6,8,1,10,4,12,5,3,4,5,6,7,2,9,4,1,1,null,null,11,4,3,11,6,6,11,8,1,11,10,4,11,12,5,11,3,4,11,5,6,11,7,2,11,9,4,11,1,1,null,null,1,3,5,6,2,2,6,5,3,4,1,4,42]
[null,12,null,3,2,5,1,7,4,9,3,11,5,2,6,4,5,6,1,8,2,10,4,null,null,12,3,2,12,5,1,12,7,4,12,9,3,12,11,5,12,2,6,12,4,5,12,6,1,12,8,2,12,10,4]

{"sheet":"Half Sheet","index":5,"n_rows":28,"n_cols":14,"rows_kept":28,"hidden":true,"merged":[[0,0,0,5],[0,7,0,12],[0,14,0,19],[1,0,2,2],[1,3,2,5],[1,7,2,9],[1,10,2,12],[1,14,2,16],[1,17,2,19],[3,0,3,2],[3,3,3,5],[3,7,3,9],[3,10,3,12],[3,14,3,16],[3,17,3,19],[24,0,25,0],[24,7,25,7],[24,14,25,14]]}
{"$rows_empty":26}
[{"$nulls":6},".",{"$nulls":6},"."]
[{"$nulls":6},".",{"$nulls":6},"."]

{"sheet":"Sheet3","index":6,"n_rows":199,"n_cols":26,"rows_kept":199,"hidden":true,"merged":[[0,2,0,3],[1,2,1,3],[1,4,1,5],[1,6,1,7],[1,8,1,9],[1,10,1,11],[1,12,1,13],[1,14,1,15],[1,16,1,17],[1,18,1,19],[1,20,1,21],[1,22,1,23],[1,24,1,25],[32,2,32,3],[33,2,33,3],[33,4,33,5],[33,6,33,7],[33,8,33,9],[33,10,33,11],[33,12,33,13],[33,14,33,15],[33,16,33,17],[33,18,33,19],[33,20,33,21],[33,22,33,23],[33,24,33,25],[62,2,62,3],[63,2,63,3],[63,4,63,5],[63,6,63,7],[63,8,63,9],[63,10,63,11],[63,12,63,13],[63,14,63,15],[63,16,63,17],[63,18,63,19],[63,20,63,21],[63,22,63,23],[63,24,63,25],[90,2,90,3],[91,2,91,3],[91,4,91,5],[91,6,91,7],[91,8,91,9],[91,10,91,11],[91,12,91,13],[91,14,91,15],[91,16,91,17],[91,18,91,19],[91,20,91,21],[91,22,91,23],[91,24,91,25],[116,2,116,3],[117,2,117,3],[117,4,117,5],[117,6,117,7],[117,8,117,9],[117,10,117,11],[117,12,117,13],[117,14,117,15],[117,16,117,17],[117,18,117,19],[117,20,117,21],[117,22,117,23],[117,24,117,25],[140,2,140,3],[141,2,141,3],[141,4,141,5],[141,6,141,7],[141,8,141,9],[141,10,141,11],[141,12,141,13],[141,14,141,15],[141,16,141,17],[141,18,141,19],[141,20,141,21],[141,22,141,23],[141,24,141,25],[162,2,162,3],[163,2,163,3],[163,4,163,5],[163,6,163,7],[163,8,163,9],[163,10,163,11],[163,12,163,13],[163,14,163,15],[163,16,163,17],[163,18,163,19],[163,20,163,21],[163,22,163,23],[163,24,163,25],[182,2,182,3],[183,2,183,3],[183,4,183,5],[183,6,183,7],[183,8,183,9],[183,10,183,11],[183,12,183,13],[183,14,183,15],[183,16,183,17],[183,18,183,19],[183,20,183,21],[183,22,183,23],[183,24,183,25],[231,2,231,3],[232,2,232,3],[232,4,232,5],[232,6,232,7],[232,8,232,9],[232,10,232,11],[232,12,232,13],[232,14,232,15],[232,16,232,17],[232,18,232,19],[232,20,232,21],[232,22,232,23],[271,2,271,3],[272,2,272,3],[272,4,272,5],[272,6,272,7],[272,8,272,9],[272,10,272,11],[272,12,272,13],[272,14,272,15],[272,16,272,17],[272,18,272,19],[272,20,272,21],[272,22,272,23],[310,2,310,3],[311,2,311,3],[311,4,311,5],[311,6,311,7],[311,8,311,9],[311,10,311,11],[311,12,311,13],[311,14,311,15],[311,16,311,17],[311,18,311,19],[311,20,311,21],[311,22,311,23],[346,2,346,3],[347,2,347,3],[347,4,347,5],[347,6,347,7],[347,8,347,9],[347,10,347,11],[347,12,347,13],[347,14,347,15],[347,16,347,17],[347,18,347,19],[347,20,347,21],[347,22,347,23]]}
[null,null,"28 STARTERS"]
[null,null,"Round 1",null,"round 2A",null,"round 2B",null,"round 3",null,"round 4",null,"round 5A",null,"round 5B",null,"round 6",null,"round 7",null,"round 8A",null,"round 8B",null,"round 9"]
[null,null,"Vs","Rink","Vs","Rink","Vs","Rink","Vs","Rink","Vs","Rink","Vs","Rink","Vs","Rink","Vs","Rink","Vs","Rink","Vs","Rink","Vs","Rink","Vs","Rink"]
[null,1,2,1,3,13,3,13,5,6,6,8,11,3,11,3,7,9,14,5,8,12,8,12,13,13]
[null,2,1,1,4,12,4,12,8,3,10,10,7,5,7,5,12,13,13,1,14,9,14,9,5,10]
[null,3,14,2,1,13,1,13,7,1,9,11,6,4,6,4,11,12,12,3,13,14,13,14,10,12]
[null,4,13,3,2,12,2,12,6,2,8,9,5,7,5,7,10,8,11,4,12,10,12,10,9,9]
[null,5,12,4,14,8,14,8,1,6,7,13,4,7,4,7,9,14,10,2,11,11,11,11,2,10]
[null,6,11,5,13,14,13,14,4,2,1,8,3,4,3,4,8,11,9,6,10,13,10,13,14,8]
[null,7,10,6,12,11,12,11,3,1,5,13,2,5,2,5,1,9,8,7,9,8,9,8,11,14]
[null,8,9,7,11,10,11,10,2,3,4,9,14,6,14,6,6,11,7,7,1,12,1,12,12,11]
[null,9,8,7,10,9,10,9,14,4,3,11,13,2,13,2,5,14,6,6,7,8,7,8,4,9]
[null,10,7,6,9,9,9,9,13,5,2,10,12,1,12,1,4,8,5,2,6,13,6,13,3,12]
[null,11,6,5,8,10,8,10,12,7,14,14,1,3,1,3,3,12,4,4,5,11,5,11,7,14]
[null,12,5,4,7,11,7,11,11,7,13,12,10,1,10,1,2,13,3,3,4,10,4,10,8,11]
[null,13,4,3,6,14,6,14,10,5,12,12,9,2,9,2,14,10,2,1,3,14,3,14,1,13]
[null,14,3,2,5,8,5,8,9,4,11,14,8,6,8,6,13,10,1,5,2,9,2,9,6,8]
[null,15,16,8,17,6,17,6,19,13,20,1,25,10,25,10,21,2,28,12,22,5,22,5,28,3]
[null,16,15,8,18,5,18,5,22,10,24,3,21,12,21,12,26,6,27,8,28,2,28,2,17,4]
[null,17,28,9,15,6,15,6,21,8,23,4,20,11,20,11,25,5,26,10,27,7,27,7,16,4]
[null,18,27,10,16,5,16,5,20,9,22,2,19,14,19,14,24,1,25,11,26,3,26,3,21,2]
[null,19,26,11,28,1,28,1,15,13,21,6,18,14,18,14,23,7,24,9,25,4,25,4,27,6]
[null,20,25,12,27,7,27,7,18,9,15,1,17,11,17,11,22,4,23,13,24,6,24,6,26,5]
[null,21,24,13,26,4,26,4,17,8,19,6,16,12,16,12,15,2,22,14,23,1,23,1,18,2]
[null,22,23,14,25,3,25,3,16,10,18,2,28,13,28,13,20,4,21,14,15,5,15,5,24,1]
[null,23,22,14,24,2,24,2,28,11,17,4,27,9,27,9,19,7,20,13,21,1,21,1,25,7]
[null,24,21,13,23,2,23,2,27,12,16,3,26,8,26,8,18,1,19,9,20,6,20,6,22,1]
[null,25,20,12,22,3,22,3,26,14,28,7,15,10,15,10,17,5,18,11,19,4,19,4,23,7]
[null,26,19,11,21,4,21,4,25,14,27,5,24,8,24,8,16,6,17,10,18,3,18,3,20,5]
[null,27,18,10,20,7,20,7,24,12,26,5,23,9,23,9,28,3,16,8,17,7,17,7,19,6]
[null,28,17,9,19,1,19,1,23,11,25,7,22,13,22,13,27,3,15,12,16,2,16,2,15,3]
[]
[null,null,"26  STARTERS"]
[null,null,"Round 1",null,"round 2A",null,"round 2B",null,"round 3",null,"round 4",null,"round 5A",null,"round 5B",null,"round 6",null,"round 7",null,"round 8A",null,"round 8B",null,"round 9"]
[null,null,"Vs","Rink","Vs","Rink","Vs","Rink","Vs","Rink","Vs","Rink","Vs","Rink","Vs","Rink","Vs","Rink","Vs","Rink","Vs","Rink","Vs","Rink","Vs","Rink"]
[null,1,2,1,3,13,3,13,5,6,6,8,11,3,11,3,7,9,14,5,8,12,8,12,13,13]
[null,2,1,1,4,12,4,12,8,3,10,10,7,5,7,5,12,13,13,1,14,9,14,9,5,10]
[null,3,14,2,1,13,1,13,7,1,9,11,6,4,6,4,11,12,12,3,13,14,13,14,10,12]
[null,4,13,3,2,12,2,12,6,2,8,9,5,7,5,7,10,8,11,4,12,10,12,10,9,9]
[null,5,12,4,14,8,14,8,1,6,7,13,4,7,4,7,9,14,10,2,11,11,11,11,2,10]
[null,6,11,5,13,14,13,14,4,2,1,8,3,4,3,4,8,11,9,6,10,13,10,13,14,8]
[null,7,10,6,12,11,12,11,3,1,5,13,2,5,2,5,1,9,8,7,9,8,9,8,11,14]
[null,8,9,7,11,10,11,10,2,3,4,9,14,6,14,6,6,11,7,7,1,12,1,12,12,11]
[null,9,8,7,10,9,10,9,14,4,3,11,13,2,13,2,5,14,6,6,7,8,7,8,4,9]
[null,10,7,6,9,9,9,9,13,5,2,10,12,1,12,1,4,8,5,2,6,13,6,13,3,12]
[null,11,6,5,8,10,8,10,12,7,14,14,1,3,1,3,3,12,4,4,5,11,5,11,7,14]
[null,12,5,4,7,11,7,11,11,7,13,12,10,1,10,1,2,13,3,3,4,10,4,10,8,11]
[null,13,4,3,6,14,6,14,10,5,12,12,9,2,9,2,14,10,2,1,3,14,3,14,1,13]
[null,14,3,2,5,8,5,8,9,4,11,14,8,6,8,6,13,10,1,5,2,9,2,9,6,8]
[null,15,16,9,17,6,17,6,18,8,21,5,24,10,24,10,23,3,20,8,19,2,19,2,26,3]
[null,16,15,9,18,5,18,5,20,10,26,2,21,8,21,8,19,6,24,12,22,5,22,5,25,6]
[null,17,26,8,15,6,15,6,19,9,25,3,20,13,20,13,18,4,23,10,21,6,21,6,24,1]
[null,18,25,10,16,5,16,5,15,8,24,6,19,12,19,12,17,4,22,11,20,3,20,3,23,2]
[null,19,24,11,26,4,26,4,17,9,23,1,18,12,18,12,16,6,21,14,15,2,15,2,22,5]
[null,20,23,12,25,1,25,1,16,10,22,4,17,13,17,13,26,5,15,8,18,3,18,3,21,4]
[null,21,22,13,24,3,24,3,26,11,15,5,16,8,16,8,25,2,19,14,17,6,17,6,20,4]
[null,22,21,13,23,2,23,2,25,12,20,4,26,9,26,9,24,1,18,11,16,5,16,5,19,5]
[null,23,20,12,22,2,22,2,24,13,19,1,25,11,25,11,15,3,17,10,26,7,26,7,18,2]
[null,24,19,11,21,3,21,3,23,13,18,6,15,10,15,10,22,1,16,12,25,4,25,4,17,1]
[null,25,18,10,20,1,20,1,22,12,17,3,23,11,23,11,21,2,26,13,24,4,24,4,16,6]
[null,26,17,8,19,4,19,4,21,11,16,2,22,9,22,9,20,5,25,13,23,7,23,7,15,3]
[]
[null,null,"24 STARTERS"]
[null,null,"Round 1",null,"round 2A",null,"round 2B",null,"round 3",null,"round 4",null,"round 5A",null,"round 5B",null,"round 6",null,"round 7",null,"round 8A",null,"round 8B",null,"round 9"]
[null,null,"Vs","Rink","Vs","Rink","Vs","Rink","Vs","Rink","Vs","Rink","Vs","Rink","Vs","Rink","Vs","Rink","Vs","Rink","Vs","Rink","Vs","Rink","Vs","Rink"]
[null,1,2,2,3,13,3,13,4,1,7,12,10,3,10,3,9,10,6,1,5,9,5,9,12,10]
[null,2,1,2,4,12,4,12,6,3,12,9,7,1,7,1,5,13,10,5,8,12,8,12,11,9]
[null,3,12,1,1,13,1,13,5,2,11,10,6,6,6,6,4,11,9,3,7,13,7,13,10,12]
[null,4,11,3,2,12,2,12,1,1,10,13,5,5,5,5,3,11,8,4,6,10,6,10,9,9]
[null,5,10,4,12,11,12,11,3,2,9,8,4,5,4,5,2,13,7,7,1,9,1,9,8,13]
[null,6,9,5,11,8,11,8,2,3,8,11,3,6,3,6,12,12,1,1,4,10,4,10,7,11]
[null,7,8,6,10,10,10,10,12,4,1,12,2,1,2,1,11,9,5,7,3,13,3,13,6,11]
[null,8,7,6,9,9,9,9,11,5,6,11,12,2,12,2,10,8,4,4,2,12,2,12,5,13]
[null,9,6,5,8,9,8,9,10,6,5,8,11,4,11,4,1,10,3,3,12,14,12,14,4,9]
[null,10,5,4,7,10,7,10,9,6,4,13,1,3,1,3,8,8,2,5,11,11,11,11,3,12]
[null,11,4,3,6,8,6,8,8,5,3,10,9,4,9,4,7,9,12,6,10,11,10,11,2,9]
[null,12,3,1,5,11,5,11,7,4,2,9,8,2,8,2,6,12,11,6,9,14,9,14,1,10]
[null,13,14,9,15,6,15,6,16,8,19,5,22,10,22,10,21,3,18,8,17,2,17,2,24,3]
[null,14,13,9,16,5,16,5,18,10,24,2,19,8,19,8,17,6,22,12,20,5,20,5,23,6]
[null,15,24,8,13,6,13,6,17,9,23,3,18,13,18,13,16,4,21,10,19,6,19,6,22,5]
[null,16,23,10,14,5,14,5,13,8,22,6,17,12,17,12,15,4,20,11,18,3,18,3,21,4]
[null,17,22,11,24,4,24,4,15,9,21,1,16,12,16,12,14,6,19,14,13,2,13,2,20,7]
[null,18,21,12,23,1,23,1,14,10,20,4,15,13,15,13,24,5,13,8,16,3,16,3,19,1]
[null,19,20,13,22,3,22,3,24,11,13,5,14,8,14,8,23,2,17,14,15,6,15,6,18,1]
[null,20,19,13,21,2,21,2,23,12,18,4,24,9,24,9,22,1,16,11,14,5,14,5,17,7]
[null,21,18,12,20,2,20,2,22,13,17,1,23,11,23,11,13,3,15,10,24,7,24,7,16,4]
[null,22,17,11,19,3,19,3,21,13,16,6,13,10,13,10,20,1,14,12,23,4,23,4,15,5]
[null,23,16,10,18,1,18,1,20,12,15,3,21,11,21,11,19,2,24,13,22,4,22,4,14,6]
[null,24,15,8,17,4,17,4,19,11,14,2,20,9,20,9,18,5,23,13,21,7,21,7,13,3]
[]
[null,null,"22 STARTERS"]
[null,null,"Round 1",null,"round 2A",null,"round 2B",null,"round 3",null,"round 4",null,"round 5A",null,"round 5B",null,"round 6",null,"round 7",null,"round 8A",null,"round 8B",null,"round 9"]
[null,null,"Vs","Rink","Vs","Rink","Vs","Rink","Vs","Rink","Vs","Rink","Vs","Rink","Vs","Rink","Vs","Rink","Vs","Rink","Vs","Rink","Vs","Rink","Vs","Rink"]
[null,1,2,2,3,13,3,13,4,1,7,12,10,3,10,3,9,10,6,1,5,9,5,9,12,10]
[null,2,1,2,4,12,4,12,6,3,12,9,7,1,7,1,5,13,10,5,8,12,8,12,11,13]
[null,3,12,1,1,13,1,13,5,2,11,10,6,6,6,6,4,11,9,3,7,13,7,13,10,9]
[null,4,11,3,2,12,2,12,1,1,10,13,5,5,5,5,3,11,8,4,6,10,6,10,9,12]
[null,5,10,4,12,11,12,11,3,2,9,8,4,5,4,5,2,13,7,7,1,9,1,9,8,11]
[null,6,9,5,11,8,11,8,2,3,8,11,3,6,3,6,12,12,1,1,4,10,4,10,7,14]
[null,7,8,6,10,10,10,10,12,4,1,12,2,1,2,1,11,9,5,7,3,13,3,13,6,14]
[null,8,7,6,9,9,9,9,11,5,6,11,12,2,12,2,10,8,4,4,2,12,2,12,5,11]
[null,9,6,5,8,9,8,9,10,6,5,8,11,4,11,4,1,10,3,3,12,14,12,14,4,12]
[null,10,5,4,7,10,7,10,9,6,4,13,1,3,1,3,8,8,2,5,11,11,11,11,3,9]
[null,11,4,3,6,8,6,8,8,5,3,10,9,4,9,4,7,9,12,6,10,11,10,11,2,13]
[null,12,3,1,5,11,5,11,7,4,2,9,8,2,8,2,6,12,11,6,9,14,9,14,1,10]
[null,13,14,9,15,6,15,6,16,10,17,2,18,11,18,11,22,3,20,12,21,4,21,4,19,2]
[null,14,13,9,16,5,16,5,18,12,20,6,22,13,22,13,21,2,17,10,19,5,19,5,15,3]
[null,15,22,10,13,6,13,6,17,11,19,3,21,12,21,12,20,4,16,13,18,2,18,2,14,3]
[null,16,21,11,14,5,14,5,13,10,18,4,20,9,20,9,19,6,15,13,17,3,17,3,22,4]
[null,17,20,12,22,4,22,4,15,11,13,2,19,10,19,10,18,5,14,10,16,3,16,3,21,6]
[null,18,19,13,21,3,21,3,14,12,16,4,13,11,13,11,17,5,22,9,15,2,15,2,20,5]
[null,19,18,13,20,2,20,2,22,9,15,3,17,10,17,10,16,6,21,11,14,5,14,5,13,2]
[null,20,17,12,19,2,19,2,21,13,14,6,16,9,16,9,15,4,13,12,22,6,22,6,18,5]
[null,21,16,11,18,3,18,3,20,13,22,5,15,12,15,12,14,2,19,11,13,4,13,4,17,6]
[null,22,15,10,17,4,17,4,19,9,21,5,14,13,14,13,13,3,18,9,20,6,20,6,16,4]
[]
[null,null,"20 STARTERS"]
[null,null,"Round 1",null,"round 2A",null,"round 2B",null,"round 3",null,"round 4",null,"round 5A",null,"round 5B",null,"round 6",null,"round 7",null,"round 8A",null,"round 8B",null,"round 9"]
[null,null,"Vs","Rink","Vs","Rink","Vs","Rink","Vs","Rink","Vs","Rink","Vs","Rink","Vs","Rink","Vs","Rink","Vs","Rink","Vs","Rink","Vs","Rink","Vs","Rink"]
[null,1,2,2,3,13,3,13,4,3,5,9,6,4,6,4,10,10,8,5,9,11,9,11,7,13]
[null,2,1,2,4,12,4,12,6,5,8,13,10,6,10,6,9,9,5,3,7,12,7,12,3,11]
[null,3,10,3,1,13,1,13,5,4,7,10,9,5,9,5,8,11,4,6,6,9,6,9,2,11]
[null,4,9,4,2,12,2,12,1,3,6,11,8,2,8,2,7,13,3,6,5,10,5,10,10,12]
[null,5,8,5,10,11,10,11,3,4,1,9,7,3,7,3,6,12,2,3,4,10,4,10,9,9]
[null,6,7,6,9,10,9,10,2,5,4,11,1,4,1,4,5,12,10,2,3,9,3,9,8,10]
[null,7,6,6,8,9,8,9,10,2,3,10,5,3,5,3,4,13,9,4,2,12,2,12,1,13]
[null,8,5,5,7,9,7,9,9,6,2,13,4,2,4,2,3,11,1,5,10,13,10,13,6,10]
[null,9,4,4,6,10,6,10,8,6,10,12,3,5,3,5,2,9,7,4,1,11,1,11,5,9]
[null,10,3,3,5,11,5,11,7,2,9,12,2,6,2,6,1,10,6,2,8,13,8,13,4,12]
[null,11,12,9,13,6,13,6,14,10,15,2,16,11,16,11,20,3,18,12,19,4,19,4,17,3]
[null,12,11,9,14,5,14,5,16,12,18,6,20,13,20,13,19,2,15,10,17,5,17,5,13,6]
[null,13,20,10,11,6,11,6,15,11,17,3,19,12,19,12,18,4,14,13,16,2,16,2,12,6]
[null,14,19,11,12,5,12,5,11,10,16,4,18,9,18,9,17,6,13,13,15,3,15,3,20,2]
[null,15,18,12,20,4,20,4,13,11,11,2,17,10,17,10,16,5,12,10,14,3,14,3,19,5]
[null,16,17,13,19,3,19,3,12,12,14,4,11,11,11,11,15,5,20,9,13,2,13,2,18,4]
[null,17,16,13,18,2,18,2,20,9,13,3,15,10,15,10,14,6,19,11,12,5,12,5,11,3]
[null,18,15,12,17,2,17,2,19,13,12,6,14,9,14,9,13,4,11,12,20,6,20,6,16,4]
[null,19,14,11,16,3,16,3,18,13,20,5,13,12,13,12,12,2,17,11,11,4,11,4,15,5]
[null,20,13,10,15,4,15,4,17,9,19,5,12,13,12,13,11,3,16,9,18,6,18,6,14,2]
[]
[null,null,"18 STARTERS"]
[null,null,"Round 1",null,"round 2A",null,"round 2B",null,"round 3",null,"round 4",null,"round 5A",null,"round 5B",null,"round 6",null,"round 7",null,"round 8A",null,"round 8B",null,"round 9"]
[null,null,"Vs","Rink","Vs","Rink","Vs","Rink","Vs","Rink","Vs","Rink","Vs","Rink","Vs","Rink","Vs","Rink","Vs","Rink","Vs","Rink","Vs","Rink","Vs","Rink"]
[null,1,2,2,3,13,3,13,4,3,5,9,6,4,6,4,10,10,8,5,11,2,11,2,12,3]
[null,2,1,2,4,12,4,12,6,5,8,13,10,6,10,6,9,9,5,3,7,12,7,12,13,11]
[null,3,10,3,1,13,1,13,5,4,7,10,9,5,9,5,8,11,4,6,12,4,12,4,11,3]
[null,4,9,4,2,12,2,12,1,3,6,11,8,2,8,2,7,13,3,6,13,10,13,10,10,12]
[null,5,8,5,10,11,10,11,3,4,1,9,7,3,7,3,6,12,2,3,14,6,14,6,16,2]
[null,6,7,6,9,10,9,10,2,5,4,11,1,4,1,4,5,12,10,2,15,9,15,9,17,13]
[null,7,6,6,8,9,8,9,10,2,3,10,5,3,5,3,4,13,9,4,2,12,2,12,18,9]
[null,8,5,5,7,9,7,9,9,6,2,13,4,2,4,2,3,11,1,5,16,3,16,3,14,4]
[null,9,4,4,6,10,6,10,8,6,10,12,3,5,3,5,2,9,7,4,17,11,17,11,15,10]
[null,10,3,3,5,11,5,11,7,2,9,12,2,6,2,6,1,10,6,2,18,13,18,13,4,12]
[null,11,12,9,13,5,13,5,14,10,15,2,16,13,16,13,17,3,18,11,1,2,1,2,3,3]
[null,12,11,9,14,4,14,4,16,11,18,5,13,12,13,12,15,6,17,12,3,4,3,4,1,3]
[null,13,18,10,11,5,11,5,15,9,17,4,12,12,12,12,14,2,16,9,4,10,4,10,2,11]
[null,14,17,11,12,4,12,4,11,10,16,3,18,9,18,9,13,2,15,13,5,6,5,6,8,4]
[null,15,16,12,18,3,18,3,13,9,11,2,17,10,17,10,12,6,14,13,6,9,6,9,9,10]
[null,16,15,12,17,2,17,2,12,11,14,3,11,13,11,13,18,4,13,9,8,3,8,3,5,2]
[null,17,14,11,16,2,16,2,18,12,13,4,15,10,15,10,11,3,12,12,9,11,9,11,6,13]
[null,18,13,10,15,3,15,3,17,12,12,5,14,9,14,9,16,4,11,11,10,13,10,13,7,9]
[]
[null,null,"16 STARTERS"]
[null,null,"Round 1",null,"round 2A",null,"round 2B",null,"round 3",null,"round 4",null,"round 5A",null,"round 5B",null,"round 6",null,"round 7",null,"round 8A",null,"round 8B",null,"round 9"]
[null,null,"Vs","Rink","Vs","Rink","Vs","Rink","Vs","Rink","Vs","Rink","Vs","Rink","Vs","Rink","Vs","Rink","Vs","Rink","Vs","Rink","Vs","Rink","Vs","Rink"]
[null,1,2,2,3,12,3,12,4,3,5,9,6,6,6,6,7,10,8,4,9,12,9,12,11,10]
[null,2,1,2,4,11,4,11,6,4,8,12,3,5,3,5,5,13,7,6,10,5,10,5,16,2]
[null,3,8,3,1,12,1,12,5,2,7,11,2,5,2,5,4,9,6,2,11,13,11,13,13,9]
[null,4,7,4,2,11,2,11,1,3,6,10,8,2,8,2,3,9,5,5,12,9,12,9,9,13]
[null,5,6,5,8,10,8,10,3,2,1,9,7,3,7,3,2,13,4,5,13,10,13,10,12,11]
[null,6,5,5,7,9,7,9,2,4,4,10,1,6,1,6,8,11,3,2,14,3,14,3,10,4]
[null,7,4,4,6,9,6,9,8,5,3,11,5,3,5,3,1,10,2,6,15,2,15,2,14,5]
[null,8,3,3,5,10,5,10,7,5,2,12,4,2,4,2,6,11,1,4,16,6,16,6,15,3]
[null,9,10,9,11,5,11,5,12,10,13,2,14,13,14,13,15,3,16,11,1,12,1,12,4,13]
[null,10,9,9,12,4,12,4,14,11,16,5,11,12,11,12,13,6,15,12,2,5,2,5,6,4]
[null,11,16,10,9,5,9,5,13,9,15,4,10,12,10,12,12,2,14,9,3,13,3,13,1,10]
[null,12,15,11,10,4,10,4,9,10,14,3,16,9,16,9,11,2,13,13,4,9,4,9,5,11]
[null,13,14,12,16,3,16,3,11,9,9,2,15,10,15,10,10,6,12,13,5,10,5,10,3,9]
[null,14,13,12,15,2,15,2,10,11,12,3,9,13,9,13,16,4,11,9,6,3,6,3,7,5]
[null,15,12,11,14,2,14,2,16,12,11,4,13,10,13,10,9,3,10,12,7,2,7,2,8,3]
[null,16,11,10,13,3,13,3,15,12,10,5,12,9,12,9,14,4,9,11,8,6,8,6,2,2]
[]
[null,null,"14 STARTERS"]
[null,null,"Round 1",null,"round 2A",null,"round 2B",null,"round 3",null,"round 4",null,"round 5A",null,"round 5B",null,"round 6",null,"round 7",null,"round 8A",null,"round 8B",null,"round 9"]
[null,null,"Vs","Rink","Vs","Rink","Vs","Rink","Vs","Rink","Vs","Rink","Vs","Rink","Vs","Rink","Vs","Rink","Vs","Rink","Vs","Rink","Vs","Rink","Vs","Rink"]
[null,1,2,2,8,1,8,1,3,6,4,5,13,6,13,6,14,3,6,7,5,2,5,2,13,4]
[null,2,1,2,14,6,14,6,4,7,6,4,11,3,11,3,13,1,10,2,8,5,8,5,3,1]
[null,3,14,1,13,4,13,4,1,6,5,3,10,1,10,1,12,2,9,5,7,6,7,6,2,1]
[null,4,13,3,12,5,12,5,2,7,1,5,9,4,9,4,11,7,8,6,6,3,6,3,5,5]
[null,5,12,4,11,7,11,7,14,2,3,3,8,7,8,7,10,5,7,1,1,2,1,2,4,5]
[null,6,11,5,10,3,10,3,13,1,2,4,7,2,7,2,9,6,1,7,4,3,4,3,8,2]
[null,7,10,7,9,2,9,2,12,3,14,7,6,2,6,2,8,4,5,1,3,6,3,6,14,3]
[null,8,9,6,1,1,1,1,11,4,13,2,5,7,5,7,7,4,4,6,2,5,2,5,6,2]
[null,9,8,6,7,2,7,2,10,5,12,1,4,4,4,4,6,6,3,5,14,7,14,7,11,6]
[null,10,7,7,6,3,6,3,9,5,11,6,3,1,3,1,5,5,2,2,13,4,13,4,12,7]
[null,11,6,5,5,7,5,7,8,4,10,6,2,3,2,3,4,7,14,4,12,1,12,1,9,6]
[null,12,5,4,4,5,4,5,7,3,9,1,14,5,14,5,3,2,13,3,11,1,11,1,10,7]
[null,13,4,3,3,4,3,4,6,1,8,2,1,6,1,6,2,1,12,3,10,4,10,4,1,4]
[null,14,3,1,2,6,2,6,5,2,7,7,12,5,12,5,1,3,11,4,9,7,9,7,7,3]